Workbook
Name BES: [1]Dropdowns!$E$2:$E$137
Name ControlType: #REF!
Name EfficientLtg: #REF!
Name EfficientLtgSub: #REF!
Name ExistingLtg: #REF!
Name Federal: #REF!
Name Funding: [1]Dropdowns!$B$2:$B$4
Name Option2: #REF!
Name Primary_Building_Type: #REF!
Name Progress_Payment: #REF!
Name Project_Type: #REF!
Name Reportable: #REF!
Name Resource_Opp_Type: #REF!
Name Secondary_Building_Type: #REF!
Name Sectors: [2]Calculations!$A$8:$A$12
Name Space_Use_Type: #REF!
Name State: [1]Dropdowns!$D$2:$D$9
Name Utility_Name: #REF!

Sheet Instructions
A1: Option 2 Custom Project Instructions (FOR BEETS USE ONLY)
A3: Utility Name:
A4: Ensure your utility is selected from the dropdown on top of the Input tab.
A6: Email Address:
A7: Ensure your email address is entered in the purple area on top of the Input tab.
A9: Data arrangement:
A10: Group the measures together in adjacent rows if they have the same Utility-Assigned Project ID. Do not have blank rows in the data.
A12: Required data:
A13: o Ensure that all 16 required fields are filled out.
A14: o The most critical ones are Completion Date and Utility-Assigned Project ID. They must be both filled out; otherwise, the project cannot be created in BEETS.
A15: o The next critical one is the RefNo. If the RefNo is invalid or missing, then no payment can be calculated and the project will go to Revisions Requires status in BEETS.
A17: Actual Project Start Date:
... A109: Measure RefNo:
B110: Measure Reference Numbers (RefNos) are listed in Column A of the Measure List Tab. To find a RefNo,
B111: · First filter Column B: Resource Opportunity Type. New construction/ major renovation (L) or retrofit (R),
B112: · then filter Column C: Sector,
B113: · then filter Column D: End Use,
B114: · then filter Column E: Category,
B115: · then filter Column F: Technology/ Activity/ Practice.
B116: · Finally, select the appropriate RefNo in Column A, Copy and Paste Values into Column Q of the Input tab.
B117: For a multiple-measure project,
B118: · All RefNos must have the same Resource Opportunity Type and Sector.
B119: · All measure RefNos for each project must have the same first letter and the same first and second numbers.
B120: For example, all measure RefNos uploaded for a commercial retrofit project must be CXXXX92# ##.
C121: The bolded, underlined characters must match for all measures within a single project.
A123: Actual Annual O&M Change ($/Year):
B124: Enter the actual change in annual O&M cost, if any, resulting from the installation of this measure.
B125: · If the change in O&M cost is periodic (e.g. occurs once every three years), the value entered should be an average annual amount over the pre-assigned life of the measure.
B126: · A “savings” (reduction) in annual O&M cost should be reported as a negative (-) dollar amount and will be treated as a “benefit ” in the B/C ratio calculation.
B127: · An increase in annual O&M cost should be reported as a positive (+) dollar amount and will be treated as a “cost” in the B/C ratio calculation.

Sheet Input
A1: Version: | B1: 4.1
C2: Select Utility: | I2: Account Number: | J2: =IFERROR(VLOOKUP(D2,'Drop Downs'!C3:D9,2,FALSE),"")
C3: Email Address of Submitter: | I3: (Auto-Populated) | J3: zzIFERROR(VLOOKUP(D2,'Drop Downs'!C3:D9,2,FALSE),"")
A4: Enter your information in the white space below starting with row 11. Click on each column header in row 9 for definition.
A5: Required fields are indicated in row 6 in blue. Row 7 indicates whether the information is at the project level or measure level.
B6: Optional | C6: Required | D6: Required | E6: Required | F6: Required | G6: Required | H6: Required | I6: Required | J6: Required | K6: Required | L6: Required | M6: Required | N6: Optional | O6: Required | P6: Required | Q6: Required | R6: Optional | S6: Required | T6: Required | U6: Optional | V6: Optional | W6: Optional
A7: Measure Level | B7: Project Level | C7: Project Level | D7: Project Level | E7: Project Level | F7: Project Level | G7: Project Level | H7: Project Level | I7: Project Level | J7: Project Level | K7: Project Level | L7: Project Level | M7: Project Level | N7: Project Level | O7: Project Level | P7: Project Level | Q7: Measure Level | R7: Measure Level | S7: Measure Level | T7: Measure Level | U7: Measure Level | V7: Measure Level | W7: Measure Level
A8: Auto-Populated | C8: Site Information | K8: Project Information | Q8: Measure Inputs
A9: Row Number | B9: Utility Retail Rate ($/kWh) | C9: Unique Site ID | D9: Company Name | E9: Facility Street Address | F9: Facility City | G9: Facility State | H9: Facility ZIP | I9: Primary Building Use | J9: Federal? (Yes/No) | K9: Actual Project Start Date (MM/DD/YYYY) | L9: Completion Date of Project (MM/DD/YYYY) | M9: Project Name (50 characters or less) | N9: Project Description | O9: Utility-Assigned Project ID | P9: Percentage EEI Funding | Q9: Measure RefNo | R9: Utility Measure Name | S9: Actual Measure Cost ($) | T9: Actual Site Savings (kWh) | U9: Actual Annual Non-Energy Benefits ($/Year) | V9: Actual Annual O&M Change ($/Year) | W9: Wildcard
A10: 0 | B10: 0.055 | C10: 55555 | D10: Any Customer | E10: Any Street | F10: Any Town | G10: WA | H10: 98888 | I10: Health Care | J10: No | K10: 44326 | L10: 44075 | M10: Project A | N10: April 2022 Project | O10: 11111 | P10: 80% | Q10: CHVHI82031 | R10: VFD | S10: 120439 | T10: 68565 | U10: 1500 | V10: -750 | W10: Anything
A11: =IF(COUNTA(B11:W11)>0, ROW(A11)-10,"")
A12: =IF(COUNTA(B12:W12)>0, ROW(A12)-10,"")
A13: =IF(COUNTA(B13:W13)>0, ROW(A13)-10,"")
A14: =IF(COUNTA(B14:W14)>0, ROW(A14)-10,"")
A15: =IF(COUNTA(B15:W15)>0, ROW(A15)-10,"")
A16: =IF(COUNTA(B16:W16)>0, ROW(A16)-10,"")
A17: =IF(COUNTA(B17:W17)>0, ROW(A17)-10,"")
A18: =IF(COUNTA(B18:W18)>0, ROW(A18)-10,"")
A19: =IF(COUNTA(B19:W19)>0, ROW(A19)-10,"")
A20: =IF(COUNTA(B20:W20)>0, ROW(A20)-10,"")
A21: =IF(COUNTA(B21:W21)>0, ROW(A21)-10,"")
A22: =IF(COUNTA(B22:W22)>0, ROW(A22)-10,"")
... A510: =IF(COUNTA(B510:W510)>0, ROW(A510)-10,"")

Sheet Error Check before Upload
C2: Missing Data Count | D2: Skipped Row Count | E2: Invalid RefNo Count | F2: Invalid EEI % Check | G2: Within-Project EEI % Check | H2: Invalid Numeric Input Count | I2: Expired RefNo Count | J2: Multi-Sector Count | K2: Utility Selected? | L2: Last Row of Data | X2: Reference Cells
C3: =IF(X4>0,X4,"") | D3: =IF(Y4>0,Y4,"") | E3: =IF(Z4>0,Z4,"") | F3: =IF(AA4>0,AA4,"") | G3: =IF(AB4>0,AB4,"") | H3: =IF(AC4>0,AC4,"") | I3: =IF(AD4>0,AD4,"") | J3: =IF(AE4>0,AE4,"") | K3: =IF(Input!D2="","Please select utility at top of Input tab.","") -> Please select utility at top of Input tab. | L3: =IF(LOOKUP(2,1/(B:B<>""),B:B)="Input Sheet Row #","No data is entered yet.",LOOKUP(2,1/(B:B<>""),B:B)) -> No data is entered yet. | X3: Missing Data | Y3: Skipped Row | Z3: Invalid RefNo | AA3: Invalid EEI % Check | AB3: Within-Project EEI % Check | AC3: Invalid Numeric Input | AD3: Expired RefNo Check | AE3: Multi-Sector Check
C4: =IF(X4=0,X4,"") -> 0 | D4: =IF(Y4=0,Y4,"") -> 0 | E4: =IF(Z4=0,Z4,"") -> 0 | F4: =IF(AA4=0,AA4,"") -> 0 | G4: =IF(AB4=0,AB4,"") -> 0 | H4: =IF(AC4=0,AC4,"") -> 0 | I4: =IF(AD4=0,AD4,"") -> 0 | J4: =IF(AE4=0,AE4,"") -> 0 | K4: =IF(Input!D2<>"","Yes","") | X4: =IF(ISERROR(COUNTIF(C8:R507,"Data is missing.")),"",COUNTIF(C8:R507,"Data is missing.")) -> 0 | Y4: =IF(ISERROR(COUNTIF(C8:C507,"Row is skipped.")),"",COUNTIF(C8:C507,"Row is skipped.")) -> 0 | Z4: =COUNTIF(T8:T507,"Invalid RefNo") -> 0 | AA4: =COUNTIF(AF8:AF507,"Invalid EEI %") -> 0 | AB4: =COUNTIF(AH8:AH507,"EEI% Mismatch within Project") -> 0 | AC4: =COUNTIF(AJ8:AO507,"Needs to be a number.") -> 0 | AD4: =COUNTIF(AQ8:AQ507,"Project start date occurred after measure expiration date.") -> 0 | AE4: =COUNTIF(AS8:AS507,"Multiple sectors for this project") -> 0
C5: If errors indicated in table above, scroll down and to the right to view all ‘Input’ worksheet error details. Then, resolve errors by adjusting the data on the ‘Input’ worksheet. Do not upload template into BEETS until all errors have been corrected or revisions required errors may result.
B6: Check for Missing Required Data & Skipped Rows | G6: BLANK FIELDS BELOW INDICATE NO ERRORS | T6: RefNo Check | AF6: Invalid EEI % Check | AH6: Within-Project EEI % Check | AJ6: Numeric Input Check | AQ6: Expired RefNo Check | AS6: Multi-Sector Check
B7: (Input Tab Columns B-W) | T7: (Input Tab Column Q) | AF7: (Input Tab Column P) | AH7: (Input Tab Column P) | AJ7: (Input Tab Columns B, P, S, T, U, V) | AQ7: (Input Tab Column Q) | AS7: (Measure List Lookup)
B8: Input Sheet Row # | C8: Unique Site ID | D8: Company Name | E8: Facility Street Address | F8: Facility City | G8: Facility State | H8: Facility ZIP | I8: Primary Building Use | J8: Federal? | K8: Actual Project Start Date | L8: Completion Date of Project | M8: Project Name | N8: Utility-Assigned Project ID | O8: Percentage EEI Funding | P8: Measure RefNo | Q8: Actual Measure Cost | R8: Actual SITE Savings | T8: Measure RefNo | AF8: Percentage EEI Funding | AH8: Percentage EEI Funding | AJ8: Utility Retail Rate | AK8: Percentage EEI Funding | AL8: Actual Measure Cost | AM8: Actual Site Savings | AN8: Actual Annual Non-Energy Benefits | AO8: Actual Annual O&M Change | AQ8: Measure RefNo | AS8: Check if the project has multiple sectors
B9: =Input!A11 | C9: =IF(ISERROR(IF(AND(Input!$A11="",SUMPRODUCT(--(LEN(Input!$A12:'Input'!$A$510)>0))<>0),"Row is skipped.",IF(AND(Input!$A11="",Input!$A12=""),"", IF(Input!C11="","Data is missing.","")))),"",IF(AND(Input!$A11="",SUMPRODUCT(--(LEN(Input!$A12:'Input'!$A$510)>0))<>0),"Row is skipped.",IF(AND(Input!$A11="",Input!$A12=""),"", IF(Input!C11="","Data is missing.","")))) | D9: =IF(ISERROR(IF(AND(Input!$A11="",SUMPRODUCT(--(LEN(Input!$A12:'Input'!$A$510)>0))<>0),"Row is skipped.",IF(AND(Input!$A11="",Input!$A12=""),"", IF(Input!D11="","Data is missing.","")))),"",IF(AND(Input!$A11="",SUMPRODUCT(--(LEN(Input!$A12:'Input'!$A$510)>0))<>0),"Row is skipped.",IF(AND(Input!$A11="",Input!$A12=""),"", IF(Input!D11="","Data is missing.","")))) | E9: =IF(ISERROR(IF(AND(Input!$A11="",SUMPRODUCT(--(LEN(Input!$A12:'Input'!$A$510)>0))<>0),"Row is skipped.",IF(AND(Input!$A11="",Input!$A12=""),"", IF(Input!E11="","Data is missing.","")))),"",IF(AND(Input!$A11="",SUMPRODUCT(--(LEN(Input!$A12:'Input'!$A$510)>0))<>0),"Row is skipped.",IF(AND(Input!$A11="",Input!$A12=""),"", IF(Input!E11="","Data is missing.","")))) | F9: =IF(ISERROR(IF(AND(Input!$A11="",SUMPRODUCT(--(LEN(Input!$A12:'Input'!$A$510)>0))<>0),"Row is skipped.",IF(AND(Input!$A11="",Input!$A12=""),"", IF(Input!F11="","Data is missing.","")))),"",IF(AND(Input!$A11="",SUMPRODUCT(--(LEN(Input!$A12:'Input'!$A$510)>0))<>0),"Row is skipped.",IF(AND(Input!$A11="",Input!$A12=""),"", IF(Input!F11="","Data is missing.","")))) | G9: =IF(ISERROR(IF(AND(Input!$A11="",SUMPRODUCT(--(LEN(Input!$A12:'Input'!$A$510)>0))<>0),"Row is skipped.",IF(AND(Input!$A11="",Input!$A12=""),"", IF(Input!G11="","Data is missing.","")))),"",IF(AND(Input!$A11="",SUMPRODUCT(--(LEN(Input!$A12:'Input'!$A$510)>0))<>0),"Row is skipped.",IF(AND(Input!$A11="",Input!$A12=""),"", IF(Input!G11="","Data is missing.","")))) | H9: =IF(ISERROR(IF(AND(Input!$A11="",SUMPRODUCT(--(LEN(Input!$A12:'Input'!$A$510)>0))<>0),"Row is skipped.",IF(AND(Input!$A11="",Input!$A12=""),"", IF(Input!H11="","Data is missing.","")))),"",IF(AND(Input!$A11="",SUMPRODUCT(--(LEN(Input!$A12:'Input'!$A$510)>0))<>0),"Row is skipped.",IF(AND(Input!$A11="",Input!$A12=""),"", IF(Input!H11="","Data is missing.","")))) | I9: =IF(ISERROR(IF(AND(Input!$A11="",SUMPRODUCT(--(LEN(Input!$A12:'Input'!$A$510)>0))<>0),"Row is skipped.",IF(AND(Input!$A11="",Input!$A12=""),"", IF(Input!I11="","Data is missing.","")))),"",IF(AND(Input!$A11="",SUMPRODUCT(--(LEN(Input!$A12:'Input'!$A$510)>0))<>0),"Row is skipped.",IF(AND(Input!$A11="",Input!$A12=""),"", IF(Input!I11="","Data is missing.","")))) | J9: =IF(ISERROR(IF(AND(Input!$A11="",SUMPRODUCT(--(LEN(Input!$A12:'Input'!$A$510)>0))<>0),"Row is skipped.",IF(AND(Input!$A11="",Input!$A12=""),"", IF(Input!J11="","Data is missing.","")))),"",IF(AND(Input!$A11="",SUMPRODUCT(--(LEN(Input!$A12:'Input'!$A$510)>0))<>0),"Row is skipped.",IF(AND(Input!$A11="",Input!$A12=""),"", IF(Input!J11="","Data is missing.","")))) | ... M9: =IF(ISERROR(IF(AND(Input!$A11="",SUMPRODUCT(--(LEN(Input!$A12:'Input'!$A$510)>0))<>0),"Row is skipped.",IF(AND(Input!$A11="",Input!$A12=""),"", IF(Input!M11="","Data is missing.","")))),"",IF(AND(Input!$A11="",SUMPRODUCT(--(LEN(Input!$A12:'Input'!$A$510)>0))<>0),"Row is skipped.",IF(AND(Input!$A11="",Input!$A12=""),"", IF(Input!M11="","Data is missing.","")))) | N9: =IF(ISERROR(IF(AND(Input!$A11="",SUMPRODUCT(--(LEN(Input!$A12:'Input'!$A$510)>0))<>0),"Row is skipped.",IF(AND(Input!$A11="",Input!$A12=""),"", IF(Input!O11="","Data is missing.","")))),"",IF(AND(Input!$A11="",SUMPRODUCT(--(LEN(Input!$A12:'Input'!$A$510)>0))<>0),"Row is skipped.",IF(AND(Input!$A11="",Input!$A12=""),"", IF(Input!O11="","Data is missing.","")))) | O9: =IF(ISERROR(IF(AND(Input!$A11="",SUMPRODUCT(--(LEN(Input!$A12:'Input'!$A$510)>0))<>0),"Row is skipped.",IF(AND(Input!$A11="",Input!$A12=""),"", IF(Input!P11="","Data is missing.","")))),"",IF(AND(Input!$A11="",SUMPRODUCT(--(LEN(Input!$A12:'Input'!$A$510)>0))<>0),"Row is skipped.",IF(AND(Input!$A11="",Input!$A12=""),"", IF(Input!P11="","Data is missing.","")))) | P9: =IF(ISERROR(IF(AND(Input!$A11="",SUMPRODUCT(--(LEN(Input!$A12:'Input'!$A$510)>0))<>0),"Row is skipped.",IF(AND(Input!$A11="",Input!$A12=""),"", IF(Input!Q11="","Data is missing.","")))),"",IF(AND(Input!$A11="",SUMPRODUCT(--(LEN(Input!$A12:'Input'!$A$510)>0))<>0),"Row is skipped.",IF(AND(Input!$A11="",Input!$A12=""),"", IF(Input!Q11="","Data is missing.","")))) | Q9: =IF(ISERROR(IF(AND(Input!$A11="",SUMPRODUCT(--(LEN(Input!$A12:'Input'!$A$510)>0))<>0),"Row is skipped.",IF(AND(Input!$A11="",Input!$A12=""),"", IF(Input!S11="","Data is missing.","")))),"",IF(AND(Input!$A11="",SUMPRODUCT(--(LEN(Input!$A12:'Input'!$A$510)>0))<>0),"Row is skipped.",IF(AND(Input!$A11="",Input!$A12=""),"", IF(Input!S11="","Data is missing.","")))) | R9: =IF(ISERROR(IF(AND(Input!$A11="",SUMPRODUCT(--(LEN(Input!$A12:'Input'!$A$510)>0))<>0),"Row is skipped.",IF(AND(Input!$A11="",Input!$A12=""),"", IF(Input!T11="","Data is missing.","")))),"",IF(AND(Input!$A11="",SUMPRODUCT(--(LEN(Input!$A12:'Input'!$A$510)>0))<>0),"Row is skipped.",IF(AND(Input!$A11="",Input!$A12=""),"", IF(Input!T11="","Data is missing.","")))) | T9: =IF(ISERROR(IF(Input!Q11="","",IF(ISERROR(VLOOKUP(Input!Q11,'Measures List'!$A$3:$A$30000,1,0)),"Invalid RefNo",""))),"",IF(Input!Q11="","",IF(ISERROR(VLOOKUP(Input!Q11,'Measures List'!$A$3:$A$30000,1,0)),"Invalid RefNo",""))) | AF9: =IF(Input!P11="","",IF(OR(VALUE(Input!P11)<0,VALUE(Input!P11)>1), "Invalid EEI %","")) | AH9: ="" | AJ9: =IF(Input!B11="","",IF(ISNUMBER(VALUE(Input!B11)),"","Needs to be a number.")) | AK9: =IF(Input!P11="","",IF(ISNUMBER(VALUE(Input!P11)),"","Needs to be a number.")) | AL9: =IF(Input!S11="","",IF(ISNUMBER(VALUE(Input!S11)),"","Needs to be a number.")) | AM9: =IF(Input!T11="","",IF(ISNUMBER(VALUE(Input!T11)),"","Needs to be a number.")) | AN9: =IF(Input!U11="","",IF(ISNUMBER(VALUE(Input!U11)),"","Needs to be a number.")) | AO9: =IF(Input!V11="","",IF(ISNUMBER(VALUE(Input!V11)),"","Needs to be a number.")) | AQ9: =IF(Input!Q11="","",IF(OFFSET('Measures List'!$K$2,MATCH(Input!Q11,'Measures List'!$A$3:$A$5000,0),MATCH(Input!K11,'Measures List'!$K$2:$BA$2)-1)="NA","Project start date occurred after measure expiration date.","")) | AS9: =""
B10: =Input!A12 | C10: =IF(ISERROR(IF(AND(Input!$A12="",SUMPRODUCT(--(LEN(Input!$A13:'Input'!$A$510)>0))<>0),"Row is skipped.",IF(AND(Input!$A12="",Input!$A13=""),"", IF(Input!C12="","Data is missing.","")))),"",IF(AND(Input!$A12="",SUMPRODUCT(--(LEN(Input!$A13:'Input'!$A$510)>0))<>0),"Row is skipped.",IF(AND(Input!$A12="",Input!$A13=""),"", IF(Input!C12="","Data is missing.","")))) | D10: =IF(ISERROR(IF(AND(Input!$A12="",SUMPRODUCT(--(LEN(Input!$A13:'Input'!$A$510)>0))<>0),"Row is skipped.",IF(AND(Input!$A12="",Input!$A13=""),"", IF(Input!D12="","Data is missing.","")))),"",IF(AND(Input!$A12="",SUMPRODUCT(--(LEN(Input!$A13:'Input'!$A$510)>0))<>0),"Row is skipped.",IF(AND(Input!$A12="",Input!$A13=""),"", IF(Input!D12="","Data is missing.","")))) | E10: =IF(ISERROR(IF(AND(Input!$A12="",SUMPRODUCT(--(LEN(Input!$A13:'Input'!$A$510)>0))<>0),"Row is skipped.",IF(AND(Input!$A12="",Input!$A13=""),"", IF(Input!E12="","Data is missing.","")))),"",IF(AND(Input!$A12="",SUMPRODUCT(--(LEN(Input!$A13:'Input'!$A$510)>0))<>0),"Row is skipped.",IF(AND(Input!$A12="",Input!$A13=""),"", IF(Input!E12="","Data is missing.","")))) | F10: =IF(ISERROR(IF(AND(Input!$A12="",SUMPRODUCT(--(LEN(Input!$A13:'Input'!$A$510)>0))<>0),"Row is skipped.",IF(AND(Input!$A12="",Input!$A13=""),"", IF(Input!F12="","Data is missing.","")))),"",IF(AND(Input!$A12="",SUMPRODUCT(--(LEN(Input!$A13:'Input'!$A$510)>0))<>0),"Row is skipped.",IF(AND(Input!$A12="",Input!$A13=""),"", IF(Input!F12="","Data is missing.","")))) | G10: =IF(ISERROR(IF(AND(Input!$A12="",SUMPRODUCT(--(LEN(Input!$A13:'Input'!$A$510)>0))<>0),"Row is skipped.",IF(AND(Input!$A12="",Input!$A13=""),"", IF(Input!G12="","Data is missing.","")))),"",IF(AND(Input!$A12="",SUMPRODUCT(--(LEN(Input!$A13:'Input'!$A$510)>0))<>0),"Row is skipped.",IF(AND(Input!$A12="",Input!$A13=""),"", IF(Input!G12="","Data is missing.","")))) | H10: =IF(ISERROR(IF(AND(Input!$A12="",SUMPRODUCT(--(LEN(Input!$A13:'Input'!$A$510)>0))<>0),"Row is skipped.",IF(AND(Input!$A12="",Input!$A13=""),"", IF(Input!H12="","Data is missing.","")))),"",IF(AND(Input!$A12="",SUMPRODUCT(--(LEN(Input!$A13:'Input'!$A$510)>0))<>0),"Row is skipped.",IF(AND(Input!$A12="",Input!$A13=""),"", IF(Input!H12="","Data is missing.","")))) | I10: =IF(ISERROR(IF(AND(Input!$A12="",SUMPRODUCT(--(LEN(Input!$A13:'Input'!$A$510)>0))<>0),"Row is skipped.",IF(AND(Input!$A12="",Input!$A13=""),"", IF(Input!I12="","Data is missing.","")))),"",IF(AND(Input!$A12="",SUMPRODUCT(--(LEN(Input!$A13:'Input'!$A$510)>0))<>0),"Row is skipped.",IF(AND(Input!$A12="",Input!$A13=""),"", IF(Input!I12="","Data is missing.","")))) | J10: =IF(ISERROR(IF(AND(Input!$A12="",SUMPRODUCT(--(LEN(Input!$A13:'Input'!$A$510)>0))<>0),"Row is skipped.",IF(AND(Input!$A12="",Input!$A13=""),"", IF(Input!J12="","Data is missing.","")))),"",IF(AND(Input!$A12="",SUMPRODUCT(--(LEN(Input!$A13:'Input'!$A$510)>0))<>0),"Row is skipped.",IF(AND(Input!$A12="",Input!$A13=""),"", IF(Input!J12="","Data is missing.","")))) | ... M10: =IF(ISERROR(IF(AND(Input!$A12="",SUMPRODUCT(--(LEN(Input!$A13:'Input'!$A$510)>0))<>0),"Row is skipped.",IF(AND(Input!$A12="",Input!$A13=""),"", IF(Input!M12="","Data is missing.","")))),"",IF(AND(Input!$A12="",SUMPRODUCT(--(LEN(Input!$A13:'Input'!$A$510)>0))<>0),"Row is skipped.",IF(AND(Input!$A12="",Input!$A13=""),"", IF(Input!M12="","Data is missing.","")))) | N10: =IF(ISERROR(IF(AND(Input!$A12="",SUMPRODUCT(--(LEN(Input!$A13:'Input'!$A$510)>0))<>0),"Row is skipped.",IF(AND(Input!$A12="",Input!$A13=""),"", IF(Input!O12="","Data is missing.","")))),"",IF(AND(Input!$A12="",SUMPRODUCT(--(LEN(Input!$A13:'Input'!$A$510)>0))<>0),"Row is skipped.",IF(AND(Input!$A12="",Input!$A13=""),"", IF(Input!O12="","Data is missing.","")))) | O10: =IF(ISERROR(IF(AND(Input!$A12="",SUMPRODUCT(--(LEN(Input!$A13:'Input'!$A$510)>0))<>0),"Row is skipped.",IF(AND(Input!$A12="",Input!$A13=""),"", IF(Input!P12="","Data is missing.","")))),"",IF(AND(Input!$A12="",SUMPRODUCT(--(LEN(Input!$A13:'Input'!$A$510)>0))<>0),"Row is skipped.",IF(AND(Input!$A12="",Input!$A13=""),"", IF(Input!P12="","Data is missing.","")))) | P10: =IF(ISERROR(IF(AND(Input!$A12="",SUMPRODUCT(--(LEN(Input!$A13:'Input'!$A$510)>0))<>0),"Row is skipped.",IF(AND(Input!$A12="",Input!$A13=""),"", IF(Input!Q12="","Data is missing.","")))),"",IF(AND(Input!$A12="",SUMPRODUCT(--(LEN(Input!$A13:'Input'!$A$510)>0))<>0),"Row is skipped.",IF(AND(Input!$A12="",Input!$A13=""),"", IF(Input!Q12="","Data is missing.","")))) | Q10: =IF(ISERROR(IF(AND(Input!$A12="",SUMPRODUCT(--(LEN(Input!$A13:'Input'!$A$510)>0))<>0),"Row is skipped.",IF(AND(Input!$A12="",Input!$A13=""),"", IF(Input!S12="","Data is missing.","")))),"",IF(AND(Input!$A12="",SUMPRODUCT(--(LEN(Input!$A13:'Input'!$A$510)>0))<>0),"Row is skipped.",IF(AND(Input!$A12="",Input!$A13=""),"", IF(Input!S12="","Data is missing.","")))) | R10: =IF(ISERROR(IF(AND(Input!$A12="",SUMPRODUCT(--(LEN(Input!$A13:'Input'!$A$510)>0))<>0),"Row is skipped.",IF(AND(Input!$A12="",Input!$A13=""),"", IF(Input!T12="","Data is missing.","")))),"",IF(AND(Input!$A12="",SUMPRODUCT(--(LEN(Input!$A13:'Input'!$A$510)>0))<>0),"Row is skipped.",IF(AND(Input!$A12="",Input!$A13=""),"", IF(Input!T12="","Data is missing.","")))) | T10: =IF(ISERROR(IF(Input!Q12="","",IF(ISERROR(VLOOKUP(Input!Q12,'Measures List'!$A$3:$A$30000,1,0)),"Invalid RefNo",""))),"",IF(Input!Q12="","",IF(ISERROR(VLOOKUP(Input!Q12,'Measures List'!$A$3:$A$30000,1,0)),"Invalid RefNo",""))) | AF10: =IF(Input!P12="","",IF(OR(VALUE(Input!P12)<0,VALUE(Input!P12)>1), "Invalid EEI %","")) | AH10: =IF(B10="","",IF(AND(Input!O12=Input!O11,Input!P12<>Input!P11), "EEI% Mismatch within Project","")) | AJ10: =IF(Input!B12="","",IF(ISNUMBER(VALUE(Input!B12)),"","Needs to be a number.")) | AK10: =IF(Input!P12="","",IF(ISNUMBER(VALUE(Input!P12)),"","Needs to be a number.")) | AL10: =IF(Input!S12="","",IF(ISNUMBER(VALUE(Input!S12)),"","Needs to be a number.")) | AM10: =IF(Input!T12="","",IF(ISNUMBER(VALUE(Input!T12)),"","Needs to be a number.")) | AN10: =IF(Input!U12="","",IF(ISNUMBER(VALUE(Input!U12)),"","Needs to be a number.")) | AO10: =IF(Input!V12="","",IF(ISNUMBER(VALUE(Input!V12)),"","Needs to be a number.")) | AQ10: =IF(Input!Q12="","",IF(OFFSET('Measures List'!$K$2,MATCH(Input!Q12,'Measures List'!$A$3:$A$5000,0),MATCH(Input!K12,'Measures List'!$K$2:$BA$2)-1)="NA","Project start date occurred after measure expiration date.","")) | AS10: =IFERROR(IF(Input!O12<>Input!O11,"",IF( VLOOKUP(Input!Q12,'Measures List'!A3:C5000,3,FALSE)= VLOOKUP(Input!Q11,'Measures List'!A3:C5000,3,FALSE),"","Multiple sectors for this project")),"")
B11: =Input!A13 | C11: =IF(ISERROR(IF(AND(Input!$A13="",SUMPRODUCT(--(LEN(Input!$A14:'Input'!$A$510)>0))<>0),"Row is skipped.",IF(AND(Input!$A13="",Input!$A14=""),"", IF(Input!C13="","Data is missing.","")))),"",IF(AND(Input!$A13="",SUMPRODUCT(--(LEN(Input!$A14:'Input'!$A$510)>0))<>0),"Row is skipped.",IF(AND(Input!$A13="",Input!$A14=""),"", IF(Input!C13="","Data is missing.","")))) | D11: =IF(ISERROR(IF(AND(Input!$A13="",SUMPRODUCT(--(LEN(Input!$A14:'Input'!$A$510)>0))<>0),"Row is skipped.",IF(AND(Input!$A13="",Input!$A14=""),"", IF(Input!D13="","Data is missing.","")))),"",IF(AND(Input!$A13="",SUMPRODUCT(--(LEN(Input!$A14:'Input'!$A$510)>0))<>0),"Row is skipped.",IF(AND(Input!$A13="",Input!$A14=""),"", IF(Input!D13="","Data is missing.","")))) | E11: =IF(ISERROR(IF(AND(Input!$A13="",SUMPRODUCT(--(LEN(Input!$A14:'Input'!$A$510)>0))<>0),"Row is skipped.",IF(AND(Input!$A13="",Input!$A14=""),"", IF(Input!E13="","Data is missing.","")))),"",IF(AND(Input!$A13="",SUMPRODUCT(--(LEN(Input!$A14:'Input'!$A$510)>0))<>0),"Row is skipped.",IF(AND(Input!$A13="",Input!$A14=""),"", IF(Input!E13="","Data is missing.","")))) | F11: =IF(ISERROR(IF(AND(Input!$A13="",SUMPRODUCT(--(LEN(Input!$A14:'Input'!$A$510)>0))<>0),"Row is skipped.",IF(AND(Input!$A13="",Input!$A14=""),"", IF(Input!F13="","Data is missing.","")))),"",IF(AND(Input!$A13="",SUMPRODUCT(--(LEN(Input!$A14:'Input'!$A$510)>0))<>0),"Row is skipped.",IF(AND(Input!$A13="",Input!$A14=""),"", IF(Input!F13="","Data is missing.","")))) | G11: =IF(ISERROR(IF(AND(Input!$A13="",SUMPRODUCT(--(LEN(Input!$A14:'Input'!$A$510)>0))<>0),"Row is skipped.",IF(AND(Input!$A13="",Input!$A14=""),"", IF(Input!G13="","Data is missing.","")))),"",IF(AND(Input!$A13="",SUMPRODUCT(--(LEN(Input!$A14:'Input'!$A$510)>0))<>0),"Row is skipped.",IF(AND(Input!$A13="",Input!$A14=""),"", IF(Input!G13="","Data is missing.","")))) | H11: =IF(ISERROR(IF(AND(Input!$A13="",SUMPRODUCT(--(LEN(Input!$A14:'Input'!$A$510)>0))<>0),"Row is skipped.",IF(AND(Input!$A13="",Input!$A14=""),"", IF(Input!H13="","Data is missing.","")))),"",IF(AND(Input!$A13="",SUMPRODUCT(--(LEN(Input!$A14:'Input'!$A$510)>0))<>0),"Row is skipped.",IF(AND(Input!$A13="",Input!$A14=""),"", IF(Input!H13="","Data is missing.","")))) | I11: =IF(ISERROR(IF(AND(Input!$A13="",SUMPRODUCT(--(LEN(Input!$A14:'Input'!$A$510)>0))<>0),"Row is skipped.",IF(AND(Input!$A13="",Input!$A14=""),"", IF(Input!I13="","Data is missing.","")))),"",IF(AND(Input!$A13="",SUMPRODUCT(--(LEN(Input!$A14:'Input'!$A$510)>0))<>0),"Row is skipped.",IF(AND(Input!$A13="",Input!$A14=""),"", IF(Input!I13="","Data is missing.","")))) | J11: =IF(ISERROR(IF(AND(Input!$A13="",SUMPRODUCT(--(LEN(Input!$A14:'Input'!$A$510)>0))<>0),"Row is skipped.",IF(AND(Input!$A13="",Input!$A14=""),"", IF(Input!J13="","Data is missing.","")))),"",IF(AND(Input!$A13="",SUMPRODUCT(--(LEN(Input!$A14:'Input'!$A$510)>0))<>0),"Row is skipped.",IF(AND(Input!$A13="",Input!$A14=""),"", IF(Input!J13="","Data is missing.","")))) | ... M11: =IF(ISERROR(IF(AND(Input!$A13="",SUMPRODUCT(--(LEN(Input!$A14:'Input'!$A$510)>0))<>0),"Row is skipped.",IF(AND(Input!$A13="",Input!$A14=""),"", IF(Input!M13="","Data is missing.","")))),"",IF(AND(Input!$A13="",SUMPRODUCT(--(LEN(Input!$A14:'Input'!$A$510)>0))<>0),"Row is skipped.",IF(AND(Input!$A13="",Input!$A14=""),"", IF(Input!M13="","Data is missing.","")))) | N11: =IF(ISERROR(IF(AND(Input!$A13="",SUMPRODUCT(--(LEN(Input!$A14:'Input'!$A$510)>0))<>0),"Row is skipped.",IF(AND(Input!$A13="",Input!$A14=""),"", IF(Input!O13="","Data is missing.","")))),"",IF(AND(Input!$A13="",SUMPRODUCT(--(LEN(Input!$A14:'Input'!$A$510)>0))<>0),"Row is skipped.",IF(AND(Input!$A13="",Input!$A14=""),"", IF(Input!O13="","Data is missing.","")))) | O11: =IF(ISERROR(IF(AND(Input!$A13="",SUMPRODUCT(--(LEN(Input!$A14:'Input'!$A$510)>0))<>0),"Row is skipped.",IF(AND(Input!$A13="",Input!$A14=""),"", IF(Input!P13="","Data is missing.","")))),"",IF(AND(Input!$A13="",SUMPRODUCT(--(LEN(Input!$A14:'Input'!$A$510)>0))<>0),"Row is skipped.",IF(AND(Input!$A13="",Input!$A14=""),"", IF(Input!P13="","Data is missing.","")))) | P11: =IF(ISERROR(IF(AND(Input!$A13="",SUMPRODUCT(--(LEN(Input!$A14:'Input'!$A$510)>0))<>0),"Row is skipped.",IF(AND(Input!$A13="",Input!$A14=""),"", IF(Input!Q13="","Data is missing.","")))),"",IF(AND(Input!$A13="",SUMPRODUCT(--(LEN(Input!$A14:'Input'!$A$510)>0))<>0),"Row is skipped.",IF(AND(Input!$A13="",Input!$A14=""),"", IF(Input!Q13="","Data is missing.","")))) | Q11: =IF(ISERROR(IF(AND(Input!$A13="",SUMPRODUCT(--(LEN(Input!$A14:'Input'!$A$510)>0))<>0),"Row is skipped.",IF(AND(Input!$A13="",Input!$A14=""),"", IF(Input!S13="","Data is missing.","")))),"",IF(AND(Input!$A13="",SUMPRODUCT(--(LEN(Input!$A14:'Input'!$A$510)>0))<>0),"Row is skipped.",IF(AND(Input!$A13="",Input!$A14=""),"", IF(Input!S13="","Data is missing.","")))) | R11: =IF(ISERROR(IF(AND(Input!$A13="",SUMPRODUCT(--(LEN(Input!$A14:'Input'!$A$510)>0))<>0),"Row is skipped.",IF(AND(Input!$A13="",Input!$A14=""),"", IF(Input!T13="","Data is missing.","")))),"",IF(AND(Input!$A13="",SUMPRODUCT(--(LEN(Input!$A14:'Input'!$A$510)>0))<>0),"Row is skipped.",IF(AND(Input!$A13="",Input!$A14=""),"", IF(Input!T13="","Data is missing.","")))) | T11: =IF(ISERROR(IF(Input!Q13="","",IF(ISERROR(VLOOKUP(Input!Q13,'Measures List'!$A$3:$A$30000,1,0)),"Invalid RefNo",""))),"",IF(Input!Q13="","",IF(ISERROR(VLOOKUP(Input!Q13,'Measures List'!$A$3:$A$30000,1,0)),"Invalid RefNo",""))) | AF11: =IF(Input!P13="","",IF(OR(VALUE(Input!P13)<0,VALUE(Input!P13)>1), "Invalid EEI %","")) | AH11: =IF(B11="","",IF(AND(Input!O13=Input!O12,Input!P13<>Input!P12), "EEI% Mismatch within Project","")) | AJ11: =IF(Input!B13="","",IF(ISNUMBER(VALUE(Input!B13)),"","Needs to be a number.")) | AK11: =IF(Input!P13="","",IF(ISNUMBER(VALUE(Input!P13)),"","Needs to be a number.")) | AL11: =IF(Input!S13="","",IF(ISNUMBER(VALUE(Input!S13)),"","Needs to be a number.")) | AM11: =IF(Input!T13="","",IF(ISNUMBER(VALUE(Input!T13)),"","Needs to be a number.")) | AN11: =IF(Input!U13="","",IF(ISNUMBER(VALUE(Input!U13)),"","Needs to be a number.")) | AO11: =IF(Input!V13="","",IF(ISNUMBER(VALUE(Input!V13)),"","Needs to be a number.")) | AQ11: =IF(Input!Q13="","",IF(OFFSET('Measures List'!$K$2,MATCH(Input!Q13,'Measures List'!$A$3:$A$5000,0),MATCH(Input!K13,'Measures List'!$K$2:$BA$2)-1)="NA","Project start date occurred after measure expiration date.","")) | AS11: =IFERROR(IF(Input!O13<>Input!O12,"",IF( VLOOKUP(Input!Q13,'Measures List'!A4:C5001,3,FALSE)= VLOOKUP(Input!Q12,'Measures List'!A4:C5001,3,FALSE),"","Multiple sectors for this project")),"")
B12: =Input!A14 | C12: =IF(ISERROR(IF(AND(Input!$A14="",SUMPRODUCT(--(LEN(Input!$A15:'Input'!$A$510)>0))<>0),"Row is skipped.",IF(AND(Input!$A14="",Input!$A15=""),"", IF(Input!C14="","Data is missing.","")))),"",IF(AND(Input!$A14="",SUMPRODUCT(--(LEN(Input!$A15:'Input'!$A$510)>0))<>0),"Row is skipped.",IF(AND(Input!$A14="",Input!$A15=""),"", IF(Input!C14="","Data is missing.","")))) | D12: =IF(ISERROR(IF(AND(Input!$A14="",SUMPRODUCT(--(LEN(Input!$A15:'Input'!$A$510)>0))<>0),"Row is skipped.",IF(AND(Input!$A14="",Input!$A15=""),"", IF(Input!D14="","Data is missing.","")))),"",IF(AND(Input!$A14="",SUMPRODUCT(--(LEN(Input!$A15:'Input'!$A$510)>0))<>0),"Row is skipped.",IF(AND(Input!$A14="",Input!$A15=""),"", IF(Input!D14="","Data is missing.","")))) | E12: =IF(ISERROR(IF(AND(Input!$A14="",SUMPRODUCT(--(LEN(Input!$A15:'Input'!$A$510)>0))<>0),"Row is skipped.",IF(AND(Input!$A14="",Input!$A15=""),"", IF(Input!E14="","Data is missing.","")))),"",IF(AND(Input!$A14="",SUMPRODUCT(--(LEN(Input!$A15:'Input'!$A$510)>0))<>0),"Row is skipped.",IF(AND(Input!$A14="",Input!$A15=""),"", IF(Input!E14="","Data is missing.","")))) | F12: =IF(ISERROR(IF(AND(Input!$A14="",SUMPRODUCT(--(LEN(Input!$A15:'Input'!$A$510)>0))<>0),"Row is skipped.",IF(AND(Input!$A14="",Input!$A15=""),"", IF(Input!F14="","Data is missing.","")))),"",IF(AND(Input!$A14="",SUMPRODUCT(--(LEN(Input!$A15:'Input'!$A$510)>0))<>0),"Row is skipped.",IF(AND(Input!$A14="",Input!$A15=""),"", IF(Input!F14="","Data is missing.","")))) | G12: =IF(ISERROR(IF(AND(Input!$A14="",SUMPRODUCT(--(LEN(Input!$A15:'Input'!$A$510)>0))<>0),"Row is skipped.",IF(AND(Input!$A14="",Input!$A15=""),"", IF(Input!G14="","Data is missing.","")))),"",IF(AND(Input!$A14="",SUMPRODUCT(--(LEN(Input!$A15:'Input'!$A$510)>0))<>0),"Row is skipped.",IF(AND(Input!$A14="",Input!$A15=""),"", IF(Input!G14="","Data is missing.","")))) | H12: =IF(ISERROR(IF(AND(Input!$A14="",SUMPRODUCT(--(LEN(Input!$A15:'Input'!$A$510)>0))<>0),"Row is skipped.",IF(AND(Input!$A14="",Input!$A15=""),"", IF(Input!H14="","Data is missing.","")))),"",IF(AND(Input!$A14="",SUMPRODUCT(--(LEN(Input!$A15:'Input'!$A$510)>0))<>0),"Row is skipped.",IF(AND(Input!$A14="",Input!$A15=""),"", IF(Input!H14="","Data is missing.","")))) | I12: =IF(ISERROR(IF(AND(Input!$A14="",SUMPRODUCT(--(LEN(Input!$A15:'Input'!$A$510)>0))<>0),"Row is skipped.",IF(AND(Input!$A14="",Input!$A15=""),"", IF(Input!I14="","Data is missing.","")))),"",IF(AND(Input!$A14="",SUMPRODUCT(--(LEN(Input!$A15:'Input'!$A$510)>0))<>0),"Row is skipped.",IF(AND(Input!$A14="",Input!$A15=""),"", IF(Input!I14="","Data is missing.","")))) | J12: =IF(ISERROR(IF(AND(Input!$A14="",SUMPRODUCT(--(LEN(Input!$A15:'Input'!$A$510)>0))<>0),"Row is skipped.",IF(AND(Input!$A14="",Input!$A15=""),"", IF(Input!J14="","Data is missing.","")))),"",IF(AND(Input!$A14="",SUMPRODUCT(--(LEN(Input!$A15:'Input'!$A$510)>0))<>0),"Row is skipped.",IF(AND(Input!$A14="",Input!$A15=""),"", IF(Input!J14="","Data is missing.","")))) | ... M12: =IF(ISERROR(IF(AND(Input!$A14="",SUMPRODUCT(--(LEN(Input!$A15:'Input'!$A$510)>0))<>0),"Row is skipped.",IF(AND(Input!$A14="",Input!$A15=""),"", IF(Input!M14="","Data is missing.","")))),"",IF(AND(Input!$A14="",SUMPRODUCT(--(LEN(Input!$A15:'Input'!$A$510)>0))<>0),"Row is skipped.",IF(AND(Input!$A14="",Input!$A15=""),"", IF(Input!M14="","Data is missing.","")))) | N12: =IF(ISERROR(IF(AND(Input!$A14="",SUMPRODUCT(--(LEN(Input!$A15:'Input'!$A$510)>0))<>0),"Row is skipped.",IF(AND(Input!$A14="",Input!$A15=""),"", IF(Input!O14="","Data is missing.","")))),"",IF(AND(Input!$A14="",SUMPRODUCT(--(LEN(Input!$A15:'Input'!$A$510)>0))<>0),"Row is skipped.",IF(AND(Input!$A14="",Input!$A15=""),"", IF(Input!O14="","Data is missing.","")))) | O12: =IF(ISERROR(IF(AND(Input!$A14="",SUMPRODUCT(--(LEN(Input!$A15:'Input'!$A$510)>0))<>0),"Row is skipped.",IF(AND(Input!$A14="",Input!$A15=""),"", IF(Input!P14="","Data is missing.","")))),"",IF(AND(Input!$A14="",SUMPRODUCT(--(LEN(Input!$A15:'Input'!$A$510)>0))<>0),"Row is skipped.",IF(AND(Input!$A14="",Input!$A15=""),"", IF(Input!P14="","Data is missing.","")))) | P12: =IF(ISERROR(IF(AND(Input!$A14="",SUMPRODUCT(--(LEN(Input!$A15:'Input'!$A$510)>0))<>0),"Row is skipped.",IF(AND(Input!$A14="",Input!$A15=""),"", IF(Input!Q14="","Data is missing.","")))),"",IF(AND(Input!$A14="",SUMPRODUCT(--(LEN(Input!$A15:'Input'!$A$510)>0))<>0),"Row is skipped.",IF(AND(Input!$A14="",Input!$A15=""),"", IF(Input!Q14="","Data is missing.","")))) | Q12: =IF(ISERROR(IF(AND(Input!$A14="",SUMPRODUCT(--(LEN(Input!$A15:'Input'!$A$510)>0))<>0),"Row is skipped.",IF(AND(Input!$A14="",Input!$A15=""),"", IF(Input!S14="","Data is missing.","")))),"",IF(AND(Input!$A14="",SUMPRODUCT(--(LEN(Input!$A15:'Input'!$A$510)>0))<>0),"Row is skipped.",IF(AND(Input!$A14="",Input!$A15=""),"", IF(Input!S14="","Data is missing.","")))) | R12: =IF(ISERROR(IF(AND(Input!$A14="",SUMPRODUCT(--(LEN(Input!$A15:'Input'!$A$510)>0))<>0),"Row is skipped.",IF(AND(Input!$A14="",Input!$A15=""),"", IF(Input!T14="","Data is missing.","")))),"",IF(AND(Input!$A14="",SUMPRODUCT(--(LEN(Input!$A15:'Input'!$A$510)>0))<>0),"Row is skipped.",IF(AND(Input!$A14="",Input!$A15=""),"", IF(Input!T14="","Data is missing.","")))) | T12: =IF(ISERROR(IF(Input!Q14="","",IF(ISERROR(VLOOKUP(Input!Q14,'Measures List'!$A$3:$A$30000,1,0)),"Invalid RefNo",""))),"",IF(Input!Q14="","",IF(ISERROR(VLOOKUP(Input!Q14,'Measures List'!$A$3:$A$30000,1,0)),"Invalid RefNo",""))) | AF12: =IF(Input!P14="","",IF(OR(VALUE(Input!P14)<0,VALUE(Input!P14)>1), "Invalid EEI %","")) | AH12: =IF(B12="","",IF(AND(Input!O14=Input!O13,Input!P14<>Input!P13), "EEI% Mismatch within Project","")) | AJ12: =IF(Input!B14="","",IF(ISNUMBER(VALUE(Input!B14)),"","Needs to be a number.")) | AK12: =IF(Input!P14="","",IF(ISNUMBER(VALUE(Input!P14)),"","Needs to be a number.")) | AL12: =IF(Input!S14="","",IF(ISNUMBER(VALUE(Input!S14)),"","Needs to be a number.")) | AM12: =IF(Input!T14="","",IF(ISNUMBER(VALUE(Input!T14)),"","Needs to be a number.")) | AN12: =IF(Input!U14="","",IF(ISNUMBER(VALUE(Input!U14)),"","Needs to be a number.")) | AO12: =IF(Input!V14="","",IF(ISNUMBER(VALUE(Input!V14)),"","Needs to be a number.")) | AQ12: =IF(Input!Q14="","",IF(OFFSET('Measures List'!$K$2,MATCH(Input!Q14,'Measures List'!$A$3:$A$5000,0),MATCH(Input!K14,'Measures List'!$K$2:$BA$2)-1)="NA","Project start date occurred after measure expiration date.","")) | AS12: =IFERROR(IF(Input!O14<>Input!O13,"",IF( VLOOKUP(Input!Q14,'Measures List'!A5:C5002,3,FALSE)= VLOOKUP(Input!Q13,'Measures List'!A5:C5002,3,FALSE),"","Multiple sectors for this project")),"")
B13: =Input!A15 | C13: =IF(ISERROR(IF(AND(Input!$A15="",SUMPRODUCT(--(LEN(Input!$A16:'Input'!$A$510)>0))<>0),"Row is skipped.",IF(AND(Input!$A15="",Input!$A16=""),"", IF(Input!C15="","Data is missing.","")))),"",IF(AND(Input!$A15="",SUMPRODUCT(--(LEN(Input!$A16:'Input'!$A$510)>0))<>0),"Row is skipped.",IF(AND(Input!$A15="",Input!$A16=""),"", IF(Input!C15="","Data is missing.","")))) | D13: =IF(ISERROR(IF(AND(Input!$A15="",SUMPRODUCT(--(LEN(Input!$A16:'Input'!$A$510)>0))<>0),"Row is skipped.",IF(AND(Input!$A15="",Input!$A16=""),"", IF(Input!D15="","Data is missing.","")))),"",IF(AND(Input!$A15="",SUMPRODUCT(--(LEN(Input!$A16:'Input'!$A$510)>0))<>0),"Row is skipped.",IF(AND(Input!$A15="",Input!$A16=""),"", IF(Input!D15="","Data is missing.","")))) | E13: =IF(ISERROR(IF(AND(Input!$A15="",SUMPRODUCT(--(LEN(Input!$A16:'Input'!$A$510)>0))<>0),"Row is skipped.",IF(AND(Input!$A15="",Input!$A16=""),"", IF(Input!E15="","Data is missing.","")))),"",IF(AND(Input!$A15="",SUMPRODUCT(--(LEN(Input!$A16:'Input'!$A$510)>0))<>0),"Row is skipped.",IF(AND(Input!$A15="",Input!$A16=""),"", IF(Input!E15="","Data is missing.","")))) | F13: =IF(ISERROR(IF(AND(Input!$A15="",SUMPRODUCT(--(LEN(Input!$A16:'Input'!$A$510)>0))<>0),"Row is skipped.",IF(AND(Input!$A15="",Input!$A16=""),"", IF(Input!F15="","Data is missing.","")))),"",IF(AND(Input!$A15="",SUMPRODUCT(--(LEN(Input!$A16:'Input'!$A$510)>0))<>0),"Row is skipped.",IF(AND(Input!$A15="",Input!$A16=""),"", IF(Input!F15="","Data is missing.","")))) | G13: =IF(ISERROR(IF(AND(Input!$A15="",SUMPRODUCT(--(LEN(Input!$A16:'Input'!$A$510)>0))<>0),"Row is skipped.",IF(AND(Input!$A15="",Input!$A16=""),"", IF(Input!G15="","Data is missing.","")))),"",IF(AND(Input!$A15="",SUMPRODUCT(--(LEN(Input!$A16:'Input'!$A$510)>0))<>0),"Row is skipped.",IF(AND(Input!$A15="",Input!$A16=""),"", IF(Input!G15="","Data is missing.","")))) | H13: =IF(ISERROR(IF(AND(Input!$A15="",SUMPRODUCT(--(LEN(Input!$A16:'Input'!$A$510)>0))<>0),"Row is skipped.",IF(AND(Input!$A15="",Input!$A16=""),"", IF(Input!H15="","Data is missing.","")))),"",IF(AND(Input!$A15="",SUMPRODUCT(--(LEN(Input!$A16:'Input'!$A$510)>0))<>0),"Row is skipped.",IF(AND(Input!$A15="",Input!$A16=""),"", IF(Input!H15="","Data is missing.","")))) | I13: =IF(ISERROR(IF(AND(Input!$A15="",SUMPRODUCT(--(LEN(Input!$A16:'Input'!$A$510)>0))<>0),"Row is skipped.",IF(AND(Input!$A15="",Input!$A16=""),"", IF(Input!I15="","Data is missing.","")))),"",IF(AND(Input!$A15="",SUMPRODUCT(--(LEN(Input!$A16:'Input'!$A$510)>0))<>0),"Row is skipped.",IF(AND(Input!$A15="",Input!$A16=""),"", IF(Input!I15="","Data is missing.","")))) | J13: =IF(ISERROR(IF(AND(Input!$A15="",SUMPRODUCT(--(LEN(Input!$A16:'Input'!$A$510)>0))<>0),"Row is skipped.",IF(AND(Input!$A15="",Input!$A16=""),"", IF(Input!J15="","Data is missing.","")))),"",IF(AND(Input!$A15="",SUMPRODUCT(--(LEN(Input!$A16:'Input'!$A$510)>0))<>0),"Row is skipped.",IF(AND(Input!$A15="",Input!$A16=""),"", IF(Input!J15="","Data is missing.","")))) | ... M13: =IF(ISERROR(IF(AND(Input!$A15="",SUMPRODUCT(--(LEN(Input!$A16:'Input'!$A$510)>0))<>0),"Row is skipped.",IF(AND(Input!$A15="",Input!$A16=""),"", IF(Input!M15="","Data is missing.","")))),"",IF(AND(Input!$A15="",SUMPRODUCT(--(LEN(Input!$A16:'Input'!$A$510)>0))<>0),"Row is skipped.",IF(AND(Input!$A15="",Input!$A16=""),"", IF(Input!M15="","Data is missing.","")))) | N13: =IF(ISERROR(IF(AND(Input!$A15="",SUMPRODUCT(--(LEN(Input!$A16:'Input'!$A$510)>0))<>0),"Row is skipped.",IF(AND(Input!$A15="",Input!$A16=""),"", IF(Input!O15="","Data is missing.","")))),"",IF(AND(Input!$A15="",SUMPRODUCT(--(LEN(Input!$A16:'Input'!$A$510)>0))<>0),"Row is skipped.",IF(AND(Input!$A15="",Input!$A16=""),"", IF(Input!O15="","Data is missing.","")))) | O13: =IF(ISERROR(IF(AND(Input!$A15="",SUMPRODUCT(--(LEN(Input!$A16:'Input'!$A$510)>0))<>0),"Row is skipped.",IF(AND(Input!$A15="",Input!$A16=""),"", IF(Input!P15="","Data is missing.","")))),"",IF(AND(Input!$A15="",SUMPRODUCT(--(LEN(Input!$A16:'Input'!$A$510)>0))<>0),"Row is skipped.",IF(AND(Input!$A15="",Input!$A16=""),"", IF(Input!P15="","Data is missing.","")))) | P13: =IF(ISERROR(IF(AND(Input!$A15="",SUMPRODUCT(--(LEN(Input!$A16:'Input'!$A$510)>0))<>0),"Row is skipped.",IF(AND(Input!$A15="",Input!$A16=""),"", IF(Input!Q15="","Data is missing.","")))),"",IF(AND(Input!$A15="",SUMPRODUCT(--(LEN(Input!$A16:'Input'!$A$510)>0))<>0),"Row is skipped.",IF(AND(Input!$A15="",Input!$A16=""),"", IF(Input!Q15="","Data is missing.","")))) | Q13: =IF(ISERROR(IF(AND(Input!$A15="",SUMPRODUCT(--(LEN(Input!$A16:'Input'!$A$510)>0))<>0),"Row is skipped.",IF(AND(Input!$A15="",Input!$A16=""),"", IF(Input!S15="","Data is missing.","")))),"",IF(AND(Input!$A15="",SUMPRODUCT(--(LEN(Input!$A16:'Input'!$A$510)>0))<>0),"Row is skipped.",IF(AND(Input!$A15="",Input!$A16=""),"", IF(Input!S15="","Data is missing.","")))) | R13: =IF(ISERROR(IF(AND(Input!$A15="",SUMPRODUCT(--(LEN(Input!$A16:'Input'!$A$510)>0))<>0),"Row is skipped.",IF(AND(Input!$A15="",Input!$A16=""),"", IF(Input!T15="","Data is missing.","")))),"",IF(AND(Input!$A15="",SUMPRODUCT(--(LEN(Input!$A16:'Input'!$A$510)>0))<>0),"Row is skipped.",IF(AND(Input!$A15="",Input!$A16=""),"", IF(Input!T15="","Data is missing.","")))) | T13: =IF(ISERROR(IF(Input!Q15="","",IF(ISERROR(VLOOKUP(Input!Q15,'Measures List'!$A$3:$A$30000,1,0)),"Invalid RefNo",""))),"",IF(Input!Q15="","",IF(ISERROR(VLOOKUP(Input!Q15,'Measures List'!$A$3:$A$30000,1,0)),"Invalid RefNo",""))) | AF13: =IF(Input!P15="","",IF(OR(VALUE(Input!P15)<0,VALUE(Input!P15)>1), "Invalid EEI %","")) | AH13: =IF(B13="","",IF(AND(Input!O15=Input!O14,Input!P15<>Input!P14), "EEI% Mismatch within Project","")) | AJ13: =IF(Input!B15="","",IF(ISNUMBER(VALUE(Input!B15)),"","Needs to be a number.")) | AK13: =IF(Input!P15="","",IF(ISNUMBER(VALUE(Input!P15)),"","Needs to be a number.")) | AL13: =IF(Input!S15="","",IF(ISNUMBER(VALUE(Input!S15)),"","Needs to be a number.")) | AM13: =IF(Input!T15="","",IF(ISNUMBER(VALUE(Input!T15)),"","Needs to be a number.")) | AN13: =IF(Input!U15="","",IF(ISNUMBER(VALUE(Input!U15)),"","Needs to be a number.")) | AO13: =IF(Input!V15="","",IF(ISNUMBER(VALUE(Input!V15)),"","Needs to be a number.")) | AQ13: =IF(Input!Q15="","",IF(OFFSET('Measures List'!$K$2,MATCH(Input!Q15,'Measures List'!$A$3:$A$5000,0),MATCH(Input!K15,'Measures List'!$K$2:$BA$2)-1)="NA","Project start date occurred after measure expiration date.","")) | AS13: =IFERROR(IF(Input!O15<>Input!O14,"",IF( VLOOKUP(Input!Q15,'Measures List'!A6:C5003,3,FALSE)= VLOOKUP(Input!Q14,'Measures List'!A6:C5003,3,FALSE),"","Multiple sectors for this project")),"")
B14: =Input!A16 | C14: =IF(ISERROR(IF(AND(Input!$A16="",SUMPRODUCT(--(LEN(Input!$A17:'Input'!$A$510)>0))<>0),"Row is skipped.",IF(AND(Input!$A16="",Input!$A17=""),"", IF(Input!C16="","Data is missing.","")))),"",IF(AND(Input!$A16="",SUMPRODUCT(--(LEN(Input!$A17:'Input'!$A$510)>0))<>0),"Row is skipped.",IF(AND(Input!$A16="",Input!$A17=""),"", IF(Input!C16="","Data is missing.","")))) | D14: =IF(ISERROR(IF(AND(Input!$A16="",SUMPRODUCT(--(LEN(Input!$A17:'Input'!$A$510)>0))<>0),"Row is skipped.",IF(AND(Input!$A16="",Input!$A17=""),"", IF(Input!D16="","Data is missing.","")))),"",IF(AND(Input!$A16="",SUMPRODUCT(--(LEN(Input!$A17:'Input'!$A$510)>0))<>0),"Row is skipped.",IF(AND(Input!$A16="",Input!$A17=""),"", IF(Input!D16="","Data is missing.","")))) | E14: =IF(ISERROR(IF(AND(Input!$A16="",SUMPRODUCT(--(LEN(Input!$A17:'Input'!$A$510)>0))<>0),"Row is skipped.",IF(AND(Input!$A16="",Input!$A17=""),"", IF(Input!E16="","Data is missing.","")))),"",IF(AND(Input!$A16="",SUMPRODUCT(--(LEN(Input!$A17:'Input'!$A$510)>0))<>0),"Row is skipped.",IF(AND(Input!$A16="",Input!$A17=""),"", IF(Input!E16="","Data is missing.","")))) | F14: =IF(ISERROR(IF(AND(Input!$A16="",SUMPRODUCT(--(LEN(Input!$A17:'Input'!$A$510)>0))<>0),"Row is skipped.",IF(AND(Input!$A16="",Input!$A17=""),"", IF(Input!F16="","Data is missing.","")))),"",IF(AND(Input!$A16="",SUMPRODUCT(--(LEN(Input!$A17:'Input'!$A$510)>0))<>0),"Row is skipped.",IF(AND(Input!$A16="",Input!$A17=""),"", IF(Input!F16="","Data is missing.","")))) | G14: =IF(ISERROR(IF(AND(Input!$A16="",SUMPRODUCT(--(LEN(Input!$A17:'Input'!$A$510)>0))<>0),"Row is skipped.",IF(AND(Input!$A16="",Input!$A17=""),"", IF(Input!G16="","Data is missing.","")))),"",IF(AND(Input!$A16="",SUMPRODUCT(--(LEN(Input!$A17:'Input'!$A$510)>0))<>0),"Row is skipped.",IF(AND(Input!$A16="",Input!$A17=""),"", IF(Input!G16="","Data is missing.","")))) | H14: =IF(ISERROR(IF(AND(Input!$A16="",SUMPRODUCT(--(LEN(Input!$A17:'Input'!$A$510)>0))<>0),"Row is skipped.",IF(AND(Input!$A16="",Input!$A17=""),"", IF(Input!H16="","Data is missing.","")))),"",IF(AND(Input!$A16="",SUMPRODUCT(--(LEN(Input!$A17:'Input'!$A$510)>0))<>0),"Row is skipped.",IF(AND(Input!$A16="",Input!$A17=""),"", IF(Input!H16="","Data is missing.","")))) | I14: =IF(ISERROR(IF(AND(Input!$A16="",SUMPRODUCT(--(LEN(Input!$A17:'Input'!$A$510)>0))<>0),"Row is skipped.",IF(AND(Input!$A16="",Input!$A17=""),"", IF(Input!I16="","Data is missing.","")))),"",IF(AND(Input!$A16="",SUMPRODUCT(--(LEN(Input!$A17:'Input'!$A$510)>0))<>0),"Row is skipped.",IF(AND(Input!$A16="",Input!$A17=""),"", IF(Input!I16="","Data is missing.","")))) | J14: =IF(ISERROR(IF(AND(Input!$A16="",SUMPRODUCT(--(LEN(Input!$A17:'Input'!$A$510)>0))<>0),"Row is skipped.",IF(AND(Input!$A16="",Input!$A17=""),"", IF(Input!J16="","Data is missing.","")))),"",IF(AND(Input!$A16="",SUMPRODUCT(--(LEN(Input!$A17:'Input'!$A$510)>0))<>0),"Row is skipped.",IF(AND(Input!$A16="",Input!$A17=""),"", IF(Input!J16="","Data is missing.","")))) | ... M14: =IF(ISERROR(IF(AND(Input!$A16="",SUMPRODUCT(--(LEN(Input!$A17:'Input'!$A$510)>0))<>0),"Row is skipped.",IF(AND(Input!$A16="",Input!$A17=""),"", IF(Input!M16="","Data is missing.","")))),"",IF(AND(Input!$A16="",SUMPRODUCT(--(LEN(Input!$A17:'Input'!$A$510)>0))<>0),"Row is skipped.",IF(AND(Input!$A16="",Input!$A17=""),"", IF(Input!M16="","Data is missing.","")))) | N14: =IF(ISERROR(IF(AND(Input!$A16="",SUMPRODUCT(--(LEN(Input!$A17:'Input'!$A$510)>0))<>0),"Row is skipped.",IF(AND(Input!$A16="",Input!$A17=""),"", IF(Input!O16="","Data is missing.","")))),"",IF(AND(Input!$A16="",SUMPRODUCT(--(LEN(Input!$A17:'Input'!$A$510)>0))<>0),"Row is skipped.",IF(AND(Input!$A16="",Input!$A17=""),"", IF(Input!O16="","Data is missing.","")))) | O14: =IF(ISERROR(IF(AND(Input!$A16="",SUMPRODUCT(--(LEN(Input!$A17:'Input'!$A$510)>0))<>0),"Row is skipped.",IF(AND(Input!$A16="",Input!$A17=""),"", IF(Input!P16="","Data is missing.","")))),"",IF(AND(Input!$A16="",SUMPRODUCT(--(LEN(Input!$A17:'Input'!$A$510)>0))<>0),"Row is skipped.",IF(AND(Input!$A16="",Input!$A17=""),"", IF(Input!P16="","Data is missing.","")))) | P14: =IF(ISERROR(IF(AND(Input!$A16="",SUMPRODUCT(--(LEN(Input!$A17:'Input'!$A$510)>0))<>0),"Row is skipped.",IF(AND(Input!$A16="",Input!$A17=""),"", IF(Input!Q16="","Data is missing.","")))),"",IF(AND(Input!$A16="",SUMPRODUCT(--(LEN(Input!$A17:'Input'!$A$510)>0))<>0),"Row is skipped.",IF(AND(Input!$A16="",Input!$A17=""),"", IF(Input!Q16="","Data is missing.","")))) | Q14: =IF(ISERROR(IF(AND(Input!$A16="",SUMPRODUCT(--(LEN(Input!$A17:'Input'!$A$510)>0))<>0),"Row is skipped.",IF(AND(Input!$A16="",Input!$A17=""),"", IF(Input!S16="","Data is missing.","")))),"",IF(AND(Input!$A16="",SUMPRODUCT(--(LEN(Input!$A17:'Input'!$A$510)>0))<>0),"Row is skipped.",IF(AND(Input!$A16="",Input!$A17=""),"", IF(Input!S16="","Data is missing.","")))) | R14: =IF(ISERROR(IF(AND(Input!$A16="",SUMPRODUCT(--(LEN(Input!$A17:'Input'!$A$510)>0))<>0),"Row is skipped.",IF(AND(Input!$A16="",Input!$A17=""),"", IF(Input!T16="","Data is missing.","")))),"",IF(AND(Input!$A16="",SUMPRODUCT(--(LEN(Input!$A17:'Input'!$A$510)>0))<>0),"Row is skipped.",IF(AND(Input!$A16="",Input!$A17=""),"", IF(Input!T16="","Data is missing.","")))) | T14: =IF(ISERROR(IF(Input!Q16="","",IF(ISERROR(VLOOKUP(Input!Q16,'Measures List'!$A$3:$A$30000,1,0)),"Invalid RefNo",""))),"",IF(Input!Q16="","",IF(ISERROR(VLOOKUP(Input!Q16,'Measures List'!$A$3:$A$30000,1,0)),"Invalid RefNo",""))) | AF14: =IF(Input!P16="","",IF(OR(VALUE(Input!P16)<0,VALUE(Input!P16)>1), "Invalid EEI %","")) | AH14: =IF(B14="","",IF(AND(Input!O16=Input!O15,Input!P16<>Input!P15), "EEI% Mismatch within Project","")) | AJ14: =IF(Input!B16="","",IF(ISNUMBER(VALUE(Input!B16)),"","Needs to be a number.")) | AK14: =IF(Input!P16="","",IF(ISNUMBER(VALUE(Input!P16)),"","Needs to be a number.")) | AL14: =IF(Input!S16="","",IF(ISNUMBER(VALUE(Input!S16)),"","Needs to be a number.")) | AM14: =IF(Input!T16="","",IF(ISNUMBER(VALUE(Input!T16)),"","Needs to be a number.")) | AN14: =IF(Input!U16="","",IF(ISNUMBER(VALUE(Input!U16)),"","Needs to be a number.")) | AO14: =IF(Input!V16="","",IF(ISNUMBER(VALUE(Input!V16)),"","Needs to be a number.")) | AQ14: =IF(Input!Q16="","",IF(OFFSET('Measures List'!$K$2,MATCH(Input!Q16,'Measures List'!$A$3:$A$5000,0),MATCH(Input!K16,'Measures List'!$K$2:$BA$2)-1)="NA","Project start date occurred after measure expiration date.","")) | AS14: =IFERROR(IF(Input!O16<>Input!O15,"",IF( VLOOKUP(Input!Q16,'Measures List'!A7:C5004,3,FALSE)= VLOOKUP(Input!Q15,'Measures List'!A7:C5004,3,FALSE),"","Multiple sectors for this project")),"")
B15: =Input!A17 | C15: =IF(ISERROR(IF(AND(Input!$A17="",SUMPRODUCT(--(LEN(Input!$A18:'Input'!$A$510)>0))<>0),"Row is skipped.",IF(AND(Input!$A17="",Input!$A18=""),"", IF(Input!C17="","Data is missing.","")))),"",IF(AND(Input!$A17="",SUMPRODUCT(--(LEN(Input!$A18:'Input'!$A$510)>0))<>0),"Row is skipped.",IF(AND(Input!$A17="",Input!$A18=""),"", IF(Input!C17="","Data is missing.","")))) | D15: =IF(ISERROR(IF(AND(Input!$A17="",SUMPRODUCT(--(LEN(Input!$A18:'Input'!$A$510)>0))<>0),"Row is skipped.",IF(AND(Input!$A17="",Input!$A18=""),"", IF(Input!D17="","Data is missing.","")))),"",IF(AND(Input!$A17="",SUMPRODUCT(--(LEN(Input!$A18:'Input'!$A$510)>0))<>0),"Row is skipped.",IF(AND(Input!$A17="",Input!$A18=""),"", IF(Input!D17="","Data is missing.","")))) | E15: =IF(ISERROR(IF(AND(Input!$A17="",SUMPRODUCT(--(LEN(Input!$A18:'Input'!$A$510)>0))<>0),"Row is skipped.",IF(AND(Input!$A17="",Input!$A18=""),"", IF(Input!E17="","Data is missing.","")))),"",IF(AND(Input!$A17="",SUMPRODUCT(--(LEN(Input!$A18:'Input'!$A$510)>0))<>0),"Row is skipped.",IF(AND(Input!$A17="",Input!$A18=""),"", IF(Input!E17="","Data is missing.","")))) | F15: =IF(ISERROR(IF(AND(Input!$A17="",SUMPRODUCT(--(LEN(Input!$A18:'Input'!$A$510)>0))<>0),"Row is skipped.",IF(AND(Input!$A17="",Input!$A18=""),"", IF(Input!F17="","Data is missing.","")))),"",IF(AND(Input!$A17="",SUMPRODUCT(--(LEN(Input!$A18:'Input'!$A$510)>0))<>0),"Row is skipped.",IF(AND(Input!$A17="",Input!$A18=""),"", IF(Input!F17="","Data is missing.","")))) | G15: =IF(ISERROR(IF(AND(Input!$A17="",SUMPRODUCT(--(LEN(Input!$A18:'Input'!$A$510)>0))<>0),"Row is skipped.",IF(AND(Input!$A17="",Input!$A18=""),"", IF(Input!G17="","Data is missing.","")))),"",IF(AND(Input!$A17="",SUMPRODUCT(--(LEN(Input!$A18:'Input'!$A$510)>0))<>0),"Row is skipped.",IF(AND(Input!$A17="",Input!$A18=""),"", IF(Input!G17="","Data is missing.","")))) | H15: =IF(ISERROR(IF(AND(Input!$A17="",SUMPRODUCT(--(LEN(Input!$A18:'Input'!$A$510)>0))<>0),"Row is skipped.",IF(AND(Input!$A17="",Input!$A18=""),"", IF(Input!H17="","Data is missing.","")))),"",IF(AND(Input!$A17="",SUMPRODUCT(--(LEN(Input!$A18:'Input'!$A$510)>0))<>0),"Row is skipped.",IF(AND(Input!$A17="",Input!$A18=""),"", IF(Input!H17="","Data is missing.","")))) | I15: =IF(ISERROR(IF(AND(Input!$A17="",SUMPRODUCT(--(LEN(Input!$A18:'Input'!$A$510)>0))<>0),"Row is skipped.",IF(AND(Input!$A17="",Input!$A18=""),"", IF(Input!I17="","Data is missing.","")))),"",IF(AND(Input!$A17="",SUMPRODUCT(--(LEN(Input!$A18:'Input'!$A$510)>0))<>0),"Row is skipped.",IF(AND(Input!$A17="",Input!$A18=""),"", IF(Input!I17="","Data is missing.","")))) | J15: =IF(ISERROR(IF(AND(Input!$A17="",SUMPRODUCT(--(LEN(Input!$A18:'Input'!$A$510)>0))<>0),"Row is skipped.",IF(AND(Input!$A17="",Input!$A18=""),"", IF(Input!J17="","Data is missing.","")))),"",IF(AND(Input!$A17="",SUMPRODUCT(--(LEN(Input!$A18:'Input'!$A$510)>0))<>0),"Row is skipped.",IF(AND(Input!$A17="",Input!$A18=""),"", IF(Input!J17="","Data is missing.","")))) | ... M15: =IF(ISERROR(IF(AND(Input!$A17="",SUMPRODUCT(--(LEN(Input!$A18:'Input'!$A$510)>0))<>0),"Row is skipped.",IF(AND(Input!$A17="",Input!$A18=""),"", IF(Input!M17="","Data is missing.","")))),"",IF(AND(Input!$A17="",SUMPRODUCT(--(LEN(Input!$A18:'Input'!$A$510)>0))<>0),"Row is skipped.",IF(AND(Input!$A17="",Input!$A18=""),"", IF(Input!M17="","Data is missing.","")))) | N15: =IF(ISERROR(IF(AND(Input!$A17="",SUMPRODUCT(--(LEN(Input!$A18:'Input'!$A$510)>0))<>0),"Row is skipped.",IF(AND(Input!$A17="",Input!$A18=""),"", IF(Input!O17="","Data is missing.","")))),"",IF(AND(Input!$A17="",SUMPRODUCT(--(LEN(Input!$A18:'Input'!$A$510)>0))<>0),"Row is skipped.",IF(AND(Input!$A17="",Input!$A18=""),"", IF(Input!O17="","Data is missing.","")))) | O15: =IF(ISERROR(IF(AND(Input!$A17="",SUMPRODUCT(--(LEN(Input!$A18:'Input'!$A$510)>0))<>0),"Row is skipped.",IF(AND(Input!$A17="",Input!$A18=""),"", IF(Input!P17="","Data is missing.","")))),"",IF(AND(Input!$A17="",SUMPRODUCT(--(LEN(Input!$A18:'Input'!$A$510)>0))<>0),"Row is skipped.",IF(AND(Input!$A17="",Input!$A18=""),"", IF(Input!P17="","Data is missing.","")))) | P15: =IF(ISERROR(IF(AND(Input!$A17="",SUMPRODUCT(--(LEN(Input!$A18:'Input'!$A$510)>0))<>0),"Row is skipped.",IF(AND(Input!$A17="",Input!$A18=""),"", IF(Input!Q17="","Data is missing.","")))),"",IF(AND(Input!$A17="",SUMPRODUCT(--(LEN(Input!$A18:'Input'!$A$510)>0))<>0),"Row is skipped.",IF(AND(Input!$A17="",Input!$A18=""),"", IF(Input!Q17="","Data is missing.","")))) | Q15: =IF(ISERROR(IF(AND(Input!$A17="",SUMPRODUCT(--(LEN(Input!$A18:'Input'!$A$510)>0))<>0),"Row is skipped.",IF(AND(Input!$A17="",Input!$A18=""),"", IF(Input!S17="","Data is missing.","")))),"",IF(AND(Input!$A17="",SUMPRODUCT(--(LEN(Input!$A18:'Input'!$A$510)>0))<>0),"Row is skipped.",IF(AND(Input!$A17="",Input!$A18=""),"", IF(Input!S17="","Data is missing.","")))) | R15: =IF(ISERROR(IF(AND(Input!$A17="",SUMPRODUCT(--(LEN(Input!$A18:'Input'!$A$510)>0))<>0),"Row is skipped.",IF(AND(Input!$A17="",Input!$A18=""),"", IF(Input!T17="","Data is missing.","")))),"",IF(AND(Input!$A17="",SUMPRODUCT(--(LEN(Input!$A18:'Input'!$A$510)>0))<>0),"Row is skipped.",IF(AND(Input!$A17="",Input!$A18=""),"", IF(Input!T17="","Data is missing.","")))) | T15: =IF(ISERROR(IF(Input!Q17="","",IF(ISERROR(VLOOKUP(Input!Q17,'Measures List'!$A$3:$A$30000,1,0)),"Invalid RefNo",""))),"",IF(Input!Q17="","",IF(ISERROR(VLOOKUP(Input!Q17,'Measures List'!$A$3:$A$30000,1,0)),"Invalid RefNo",""))) | AF15: =IF(Input!P17="","",IF(OR(VALUE(Input!P17)<0,VALUE(Input!P17)>1), "Invalid EEI %","")) | AH15: =IF(B15="","",IF(AND(Input!O17=Input!O16,Input!P17<>Input!P16), "EEI% Mismatch within Project","")) | AJ15: =IF(Input!B17="","",IF(ISNUMBER(VALUE(Input!B17)),"","Needs to be a number.")) | AK15: =IF(Input!P17="","",IF(ISNUMBER(VALUE(Input!P17)),"","Needs to be a number.")) | AL15: =IF(Input!S17="","",IF(ISNUMBER(VALUE(Input!S17)),"","Needs to be a number.")) | AM15: =IF(Input!T17="","",IF(ISNUMBER(VALUE(Input!T17)),"","Needs to be a number.")) | AN15: =IF(Input!U17="","",IF(ISNUMBER(VALUE(Input!U17)),"","Needs to be a number.")) | AO15: =IF(Input!V17="","",IF(ISNUMBER(VALUE(Input!V17)),"","Needs to be a number.")) | AQ15: =IF(Input!Q17="","",IF(OFFSET('Measures List'!$K$2,MATCH(Input!Q17,'Measures List'!$A$3:$A$5000,0),MATCH(Input!K17,'Measures List'!$K$2:$BA$2)-1)="NA","Project start date occurred after measure expiration date.","")) | AS15: =IFERROR(IF(Input!O17<>Input!O16,"",IF( VLOOKUP(Input!Q17,'Measures List'!A8:C5005,3,FALSE)= VLOOKUP(Input!Q16,'Measures List'!A8:C5005,3,FALSE),"","Multiple sectors for this project")),"")
