Workbook
Name Baseline_Chars: #REF!
Name BES: #REF!
Name Category: #REF!
Name ControlType: #REF!
Name Cooling_Zone: #REF!
Name Cost_Effective: #REF!
Name Dlvry_Mech: #REF!
Name Eff_Case_Svngs_Chars: #REF!
Name EfficientLtg: #REF!
Name EfficientLtgSub: #REF!
Name End_Use: #REF!
Name ExistingLtg: #REF!
Name Federal: #REF!
Name Funding: #REF!
Name Heating_Zone: #REF!
Name Inst_Eff_Lvl_Rtng: #REF!
Name Inst_Loc: #REF!
Name Key_Chars: #REF!
Name Measures_Types: #REF!
Name Option2: #REF!
Name Primary_Building_Type: #REF!
Name Prm_Bldg_Typ: #REF!
Name Program: #REF!
Name Progress_Payment: #REF!
Name Project_Type: #REF!
Name PTCS: #REF!
Name Reportable: #REF!
Name Resource_Opp_Type: #REF!
Name RTF_UES_Meas_Sts: #REF!
Name Secondary_Building_Type: #REF!
Name Sector: #REF!
Name Sectors: #REF!
Name Space_Use_Type: #REF!
Name State: #REF!
Name TAP: #REF!
Name Tech_Review: #REF!
Name UIR_Unique_No: #REF!
Name Unit_Typ_Svngs_Pymnt: #REF!
Name Unit_Types: #REF!
Name Utility_Name: #REF!
Name Vintage: #REF!

Sheet Instructions - Start Here
A1: How to use the BEETS UES Measure Upload Template (FOR BEETS USE ONLY)
A3: Introduction: This template should be used to enter valid measures from the UES Measure List into the Bonneville Energy Efficiency Tracking System (BEETS). All UES Measures must be entered into BEETS using this template and should NOT be directly entered into the system. Additionally, this template should NOT be used for submittal of Non-Reportable, Non-Residential Lighting, or Custom Projects reporting.
A6: Step 1 | B6: On the 'Input' sheet of this workbook, enter your Email Address in cell C2. While this input is not loaded into BEETS, it will help the BPA Team contact you should there be an issue with your upload.
A9: Step 2 | B9: On the 'Input' sheet of this workbook, select the appropropriate Utility from the drop-down in cell C3. The Utility field is required by BEETS and if inaccurate or missing, the data may not load into the system properly.
A12: Step 3 | B12: Reference the 'UES Measure List' sheet of this workbook to locate the Reference Number of the measure you will be submitting.
A15: Step 4 | B15: On the 'Input' sheet of this workbook, enter the Reference Number in Column D.
A17: Step 5 | B17: Enter all required information for the measure you are reporting. TIP: To help guide your work, click on the headers in row 5 for measure specific requirement guidance and headers in row 6 for explanation of what type of data is needed.
B18: a. Columns B - G provide basic information, and inputs are required for all measures.
B19: b. Columns H - Y request information that is only required for specific measures as defined by the Implementation Manual, which can be found at the link below. Feel free to also reference column AA of the 'Input' sheet for details on measure specific required fields.
B21: Implementation Manual
B22: NOTE: If you choose to enter data by pasting into the template, be sure to paste values only by following the ‘How to paste data into the Input sheet’ instructions below so as not to overwrite validation rules.
A25: Step 6 | B25: Once all required data has been provided, save this spreadsheet using a file name that you will be able to reference in the future. While there are no system related requirements around the file name, we recommend that you use one that is specific to this file upload. These uploads files are helpful to have on hand should troubleshooting be needed in the future.
A30: Step 7 | B30: Review the 'Error Check before Upload' sheet for any potential errors. Refer to the Implementation Manual at the link below for more information on requirements. If a user uploads a template with missing required fields, the upload will trigger a 'Revisions Required' notification after the data have been loaded into BEETS, and the application will not proceed until corrected in BEETS.
B34: Implementation Manual
A36: Step 8 | B36: Lastly, before submitting, we recommend you do a quick scan of the data as it looks in the 'BEETS Upload' sheet; this sheet displays a copy of the data exactly as it will be imported into BEETS. If data looks off, or if there are reference errors (i.e. #REF!), you may need to edit your data in the 'Input' sheet (which is directly linked to the 'BEETS Upload' sheet), or potentially start over with a fresh template. Reference errors may indicate that there was a copy and paste error that invalidated the formulas. Do not upload your template without fixing these errors or the data will not load properly. If you need assistance, please reach out to your EER.
A44: Step 9 | B44: Once you are ready to submit, upload this spreadsheet into the bulk uploader widget in BEETS at the link below.
B45: BEETS
A47: Important Tips
A48: *Once template has been uploaded and received by the system, you will see the green confirmation notice on your screen. It is important to note that you will NOT immediately see your data in BEETS as data is updated in the system 3 - 4 times a day; do not re-upload if you receive this confirmation or else duplicate applications may result. After processed by the system, if all required fields have been provided, the application will proceed to appropriate BPA Review. If revisions are required, you will receive an email notification detailing which information is missing. Regardless, we recommend you check back the next day to ensure all measures have been loaded and are in process.
A59: *Once upload has been processed by the system, each line item will be split into a separate 'application' in BEETS and will proceed through the review independently; we recommend that you use the project name field to enter common naming conventions to help identify line items as part of the same upload.
A63: *If you want to view your application data in BEETS after upload, locate and open the application in BEETS, and then reference the Equipment Tab for measure related data and the 'Forms Tab > UES Import Fields' for all other information.
A65: *If you have any questions or issues, feel free to reach out to your EER for assistance.
A68: How to paste data into the Input sheet:
A69: Avoid using Ctrl + V for pasting as it may overwrite validation formulas. Instead, after copying, select the cell where you want to start pasting, and then use one of the following three methods:
A71: o Method 1
A72: Click on Paste in the upper left and choose the first option under Paste Values.
A86: o Method 2
A87: Right click the mouse and click on the 123 icon.
A107: o Method 3
A108: Right click the mouse, Paste Special, and then click on the first option under Paste Values.

Sheet Input
A1: BEETS UES Upload Template (FOR BEETS USE ONLY) | E1: Version: | F1: 4.3
B2: Email Address of Submitter:
B3: Select Utility: | C3: <SELECT UTILITY NAME>
A4: CLICK ON HEADERS (BOTH REQUIREMENT & NAMES) for field specific instructions. Enter your information in the white space below starting with row 8. | AA4: For Reference Only - No Entry Needed
A5: PROTECTED | B5: REQUIRED | C5: REQUIRED FOR ALL MEASURES | H5: REQUIRED FOR SOME MEASURES | N5: REQUIRED FOR INCOME QUALIFIED MEASURES | P5: REQUIRED FOR SOME MEASURES | R5: OPTIONAL | S5: REQUIRED FOR SOME MEASURES | T5: REQUIRED FOR PTCS | U5: OPTIONAL (For utility use) | V5: CALCULATOR RESULTS (Use ONLY for calculator outputs) | AA5: SUMMARY OF REQUIRED INPUTS FOR COLUMNS H-Y
A6: ROW NUMBER | B6: PROJECT NAME | C6: EEI PERCENTAGE | D6: REFERENCE NUMBER | E6: QUANTITY | F6: COMPLETION DATE | G6: FEDERAL FACILITY | H6: UNIQUE SITE ID | I6: SITE NAME (Leave it BLANK if Residential) | J6: STREET | K6: CITY | L6: STATE | M6: ZIP | N6: INCOME QUALIFIED MEASURE COSTS | O6: INCOME QUALIFIED REPAIR COSTS (if applicable) | P6: MANUFACTURER | Q6: MODEL | R6: INSTALLED COST | S6: PRIMARY HEATING SYSTEM TYPE | T6: PTCS REGISTRY MEASURE ID | U6: WILDCARD | V6: CALCULATOR SAVINGS PER UNIT | W6: CALCULATOR REIMBURSEMENT PER UNIT | X6: CALCULATOR PROJECT COST | Y6: CALCULATOR BC RATIO | AA6: The following fields are required based on the measure entered; if indicated below, please ensure data is provided before uploading.
A7: 000 | B7: May 2022 Upload | C7: 1 | D7: RWBHO11090 | E7: 1 | F7: 44653 | G7: No | H7: Ex: 554654654654 | I7: Example with all inputs | J7: Example Street | K7: Example City | L7: ID | M7: 55555 | N7: 150.5 | O7: 100.9 | P7: Ex: Mitsubishi | Q7: Ex: MP-2099 | R7: 5000 | S7: Select from drop down | T7: 586394 | U7: whatever you want | V7: 150 | W7: 20 | X7: 100 | Y7: 1.5 | AA7: Unique Site ID, Site Name, Street, City, State, Zip, Manufacturer, Model
A8: =IF(COUNTA(B8:G8)>0, ROW(A8)-7,"") | AA8: ='Error Check before Upload'!J9
A9: =IF(COUNTA(B9:G9)>0, ROW(A9)-7,"") | AA9: ='Error Check before Upload'!J10
A10: =IF(COUNTA(B10:G10)>0, ROW(A10)-7,"") | AA10: ='Error Check before Upload'!J11
A11: =IF(COUNTA(B11:G11)>0, ROW(A11)-7,"") | AA11: ='Error Check before Upload'!J12
A12: =IF(COUNTA(B12:G12)>0, ROW(A12)-7,"") | AA12: ='Error Check before Upload'!J13
A13: =IF(COUNTA(B13:G13)>0, ROW(A13)-7,"") | AA13: ='Error Check before Upload'!J14
A14: =IF(COUNTA(B14:G14)>0, ROW(A14)-7,"") | AA14: ='Error Check before Upload'!J15
A15: =IF(COUNTA(B15:G15)>0, ROW(A15)-7,"") | AA15: ='Error Check before Upload'!J16
A16: =IF(COUNTA(B16:G16)>0, ROW(A16)-7,"") | AA16: ='Error Check before Upload'!J17
A17: =IF(COUNTA(B17:G17)>0, ROW(A17)-7,"") | AA17: ='Error Check before Upload'!J18
A18: =IF(COUNTA(B18:G18)>0, ROW(A18)-7,"") | AA18: ='Error Check before Upload'!J19
A19: =IF(COUNTA(B19:G19)>0, ROW(A19)-7,"") | AA19: ='Error Check before Upload'!J20
... A1006: =IF(COUNTA(B1006:G1006)>0, ROW(A1006)-7,"") | AA1006: ='Error Check before Upload'!J1007
AA1007: ='Error Check before Upload'!J1008 -> 0

Sheet Error Check before Upload
B2: Missing Data Count | C2: Skipped Row Count | D2: Invalid RefNo Count | E2: Invalid Heating System Type Count | F2: Invalid Numeric Input Count | G2: Invalid EEI % Count | H2: Zero-Quantity Count | M2: Utility Selected? | N2: Last Row of Data | AD2: Reference Cells
B3: =IF(AD4>0,AD4,"") | C3: =IF(AE4>0,AE4,"") | D3: =IF(AF4>0,AF4,"") | E3: =IF(AG4>0,AG4,"") | F3: =IF(AH4>0,AH4,"") | G3: =IF(AI4>0,AI4,"") | H3: =IF(AJ4>0,AJ4,"") | M3: =IF(Input!C3="<SELECT UTILITY NAME>","Please select utility at top of Input sheet.","") -> Please select utility at top of Input sheet. | N3: =IF(LOOKUP(2,1/(B:B<>""),B:B)="Input Sheet Row #","No data is entered yet.",LOOKUP(2,1/(B:B<>""),B:B)) -> No data is entered yet. | AD3: Missing Data | AE3: Skipped Row | AF3: Invalid RefNo | AG3: Heating System Type | AH3: Invalid Numeric Input | AI3: Invalid EEI % | AJ3: Zero Quantity Check
B4: =IF(AD4=0,AD4,"") -> 0 | C4: =IF(AE4=0,AE4,"") -> 0 | D4: =IF(AF4=0,AF4,"") -> 0 | E4: =IF(AG4=0,AG4,"") -> 0 | F4: =IF(AH4=0,AH4,"") -> 0 | G4: =IF(AI4=0,AI4,"") -> 0 | H4: =IF(AJ4=0,AJ4,"") -> 0 | M4: =IF(Input!C3<>"<SELECT UTILITY NAME>","Yes","") | AD4: =IF(ISERROR(COUNTIF(C9:AA1007,"Data is missing.")),"",COUNTIF(C9:AA1007,"Data is missing.")) -> 0 | AE4: =IF(ISERROR(COUNTIF(C9:C1007,"Row is skipped.")),"",COUNTIF(C9:C1007,"Row is skipped.")) -> 0 | AF4: =COUNTIF(AC9:AC1007,"Invalid RefNo") -> 0 | AG4: =COUNTIF(AL9:AL1007,"Invalid Type") -> 0 | AH4: =COUNTIF(AN9:AU1007,"Needs to be a number.") -> 0 | AI4: =COUNTIF(AW9:AW1007,"Invalid EEI %") -> 0 | AJ4: =COUNTIF(AY9:AY1007,"Do not enter 0.") -> 0
B5: If errors indicated in table above, scroll down and to the right to view all ‘Input’ worksheet error details. Then, resolve errors by adjusting the data on the ‘Input’ worksheet. Do not upload template into BEETS until all errors have been corrected or revisions required errors may result. | N5: BLANK FIELDS BELOW INDICATE NO ERRORS
B6: Check for Missing Required Data & Skipped Rows | J6: Additional Required Data | K6: UIR Number | M6: Check for Additional Missing Required Data | AC6: Invalid RefNo Check | AL6: Invalid Primary Heating System Type Check | AN6: Numeric Input Check | AW6: Invalid EEI % Check | AY6: Zero-Quantity Check
B7: (Input Tab Columns B-G) | J7: (Input Tab Columns H-Y) | M7: (Input Tab Columns H-Y) | AC7: (Input Tab Column D) | AL7: (Input Tab Column S) | AN7: (Input Tab Columns C, E, N, O, V-Y) | AW7: (Input Tab Column C) | AY7: (Input Tab Column E)
B8: Input Sheet Row # | C8: Project Name | D8: EEI Percentage | E8: Reference Number | F8: Quantity | G8: Completion Date | H8: Federal Facility | J8: Summary of Additional Required Inputs | K8: UIR Number | M8: Unique Site ID | N8: Site Name | O8: Street | P8: City | Q8: State | R8: Zip | S8: Manufacturer | T8: Model | U8: Installed Cost | V8: Primary Heating Type | W8: Measure ID | X8: Savings Per Unit | Y8: Reimbursement Per Unit | Z8: Project Cost | AA8: BC Ratio | AC8: Reference Number | AL8: Primary Heating System Type | AN8: EEI Percentage | AO8: Quantity | AP8: Income Qualified Measure Costs | AQ8: Income Qualified Repair Costs | AR8: Calculator Savings Per Unit | AS8: Calculator Reimbursement Per Unit | AT8: Calculator Project Cost | AU8: Calculator BC Ratio | AW8: EEI Percentage | AY8: Quantity
B9: =Input!A8 | C9: =IF(ISERROR(IF(AND(Input!$A8="",SUMPRODUCT(--(LEN(Input!$A9:'Input'!$A$1006)>0))<>0),"Row is skipped.",IF(AND(Input!$A8="",Input!$A9=""),"", IF(Input!B8="","Data is missing.","")))),"",IF(AND(Input!$A8="",SUMPRODUCT(--(LEN(Input!$A9:'Input'!$A$1006)>0))<>0),"Row is skipped.",IF(AND(Input!$A8="",Input!$A9=""),"", IF(Input!B8="","Data is missing.","")))) | D9: =IF(ISERROR(IF(AND(Input!$A8="",SUMPRODUCT(--(LEN(Input!$A9:'Input'!$A$1006)>0))<>0),"Row is skipped.",IF(AND(Input!$A8="",Input!$A9=""),"", IF(Input!C8="","Data is missing.","")))),"",IF(AND(Input!$A8="",SUMPRODUCT(--(LEN(Input!$A9:'Input'!$A$1006)>0))<>0),"Row is skipped.",IF(AND(Input!$A8="",Input!$A9=""),"", IF(Input!C8="","Data is missing.","")))) | E9: =IF(ISERROR(IF(AND(Input!$A8="",SUMPRODUCT(--(LEN(Input!$A9:'Input'!$A$1006)>0))<>0),"Row is skipped.",IF(AND(Input!$A8="",Input!$A9=""),"", IF(Input!D8="","Data is missing.","")))),"",IF(AND(Input!$A8="",SUMPRODUCT(--(LEN(Input!$A9:'Input'!$A$1006)>0))<>0),"Row is skipped.",IF(AND(Input!$A8="",Input!$A9=""),"", IF(Input!D8="","Data is missing.","")))) | F9: =IF(ISERROR(IF(AND(Input!$A8="",SUMPRODUCT(--(LEN(Input!$A9:'Input'!$A$1006)>0))<>0),"Row is skipped.",IF(AND(Input!$A8="",Input!$A9=""),"", IF(Input!E8="","Data is missing.","")))),"",IF(AND(Input!$A8="",SUMPRODUCT(--(LEN(Input!$A9:'Input'!$A$1006)>0))<>0),"Row is skipped.",IF(AND(Input!$A8="",Input!$A9=""),"", IF(Input!E8="","Data is missing.","")))) | G9: =IF(ISERROR(IF(AND(Input!$A8="",SUMPRODUCT(--(LEN(Input!$A9:'Input'!$A$1006)>0))<>0),"Row is skipped.",IF(AND(Input!$A8="",Input!$A9=""),"", IF(Input!F8="","Data is missing.","")))),"",IF(AND(Input!$A8="",SUMPRODUCT(--(LEN(Input!$A9:'Input'!$A$1006)>0))<>0),"Row is skipped.",IF(AND(Input!$A8="",Input!$A9=""),"", IF(Input!F8="","Data is missing.","")))) | H9: =IF(ISERROR(IF(AND(Input!$A8="",SUMPRODUCT(--(LEN(Input!$A9:'Input'!$A$1006)>0))<>0),"Row is skipped.",IF(AND(Input!$A8="",Input!$A9=""),"", IF(Input!G8="","Data is missing.","")))),"",IF(AND(Input!$A8="",SUMPRODUCT(--(LEN(Input!$A9:'Input'!$A$1006)>0))<>0),"Row is skipped.",IF(AND(Input!$A8="",Input!$A9=""),"", IF(Input!G8="","Data is missing.","")))) | J9: =IFERROR(VLOOKUP(VLOOKUP(Input!$D8,'Measure List'!$A:$AN,40,FALSE),UIR!$A$1:$Q$27,17,FALSE),"") | K9: =IFERROR(VLOOKUP(Input!$D8,'Measure List'!$A:$AN,40,FALSE),"") | M9: =IF(B9="","",IF(AND(Input!H8="",IFERROR(VLOOKUP(K9,UIR!$A$2:$P$21,2,FALSE),"")<>""),"Data is Missing.","")) | N9: =IF(B9="","",IF(AND(Input!I8="",IFERROR(VLOOKUP(K9,UIR!$A$2:$P$21,3,FALSE),"")<>""),"Data is Missing.","")) | O9: =IF(B9="","",IF(AND(Input!J8="",IFERROR(VLOOKUP(K9,UIR!$A$2:$P$21,4,FALSE),"")<>""),"Data is Missing.","")) | P9: =IF(B9="","",IF(AND(Input!K8="",IFERROR(VLOOKUP(K9,UIR!$A$2:$P$21,5,FALSE),"")<>""),"Data is Missing.","")) | Q9: =IF(B9="","",IF(AND(Input!L8="",IFERROR(VLOOKUP(K9,UIR!$A$2:$P$21,6,FALSE),"")<>""),"Data is Missing.","")) | R9: =IF(B9="","",IF(AND(Input!M8="",IFERROR(VLOOKUP(K9,UIR!$A$2:$P$21,7,FALSE),"")<>""),"Data is Missing.","")) | S9: =IF(B9="","",IF(AND(Input!P8="",IFERROR(VLOOKUP(K9,UIR!$A$2:$P$21,8,FALSE),"")<>""),"Data is Missing.","")) | T9: =IF(B9="","",IF(AND(Input!Q8="",IFERROR(VLOOKUP(K9,UIR!$A$2:$P$21,9,FALSE),"")<>""),"Data is Missing.","")) | V9: =IF(B9="","",IF(AND(Input!S8="",IFERROR(VLOOKUP(K9,UIR!$A$2:$P$21,11,FALSE),"")<>""),"Data is Missing.","")) | W9: =IF(B9="","",IF(AND(Input!T8="",IFERROR(VLOOKUP(K9,UIR!$A$2:$P$21,12,FALSE),"")<>""),"Data is Missing.","")) | X9: =IF(B9="","",IF(AND(Input!V8="",IFERROR(VLOOKUP(K9,UIR!$A$2:$P$21,13,FALSE),"")<>""),"Data is Missing.","")) | Y9: =IF(B9="","",IF(AND(Input!W8="",IFERROR(VLOOKUP(K9,UIR!$A$2:$P$21,14,FALSE),"")<>""),"Data is Missing.","")) | Z9: =IF(B9="","",IF(AND(Input!X8="",IFERROR(VLOOKUP(K9,UIR!$A$2:$P$21,15,FALSE),"")<>""),"Data is Missing.","")) | AA9: =IF(B9="","",IF(AND(Input!Y8="",IFERROR(VLOOKUP(K9,UIR!$A$2:$P$21,16,FALSE),"")<>""),"Data is Missing.","")) | AC9: =IF(ISERROR(IF(Input!D8="","",IF(ISERROR(VLOOKUP(Input!D8,'Measure List'!$A$2:$A$30000,1,0)),"Invalid RefNo",""))),"",IF(Input!D8="","",IF(ISERROR(VLOOKUP(Input!D8,'Measure List'!$A$2:$A$30000,1,0)),"Invalid RefNo",""))) | AL9: =IF(COUNTIF(Dropdowns!$K$2:$K$7,Input!S8)>0,"",IF(Input!S8="","","Invalid Type")) | AN9: =IF(Input!C8="","",IF(ISNUMBER(VALUE(Input!C8)),"","Needs to be a number.")) | AO9: =IF(Input!E8="","",IF(ISNUMBER(VALUE(Input!E8)),"","Needs to be a number.")) | AP9: =IF(Input!N8="","",IF(ISNUMBER(VALUE(Input!N8)),"","Needs to be a number.")) | AQ9: =IF(Input!O8="","",IF(ISNUMBER(VALUE(Input!O8)),"","Needs to be a number.")) | AR9: =IF(Input!V8="","",IF(ISNUMBER(VALUE(Input!V8)),"","Needs to be a number.")) | AS9: =IF(Input!W8="","",IF(ISNUMBER(VALUE(Input!W8)),"","Needs to be a number.")) | AT9: =IF(Input!X8="","",IF(ISNUMBER(VALUE(Input!X8)),"","Needs to be a number.")) | AU9: =IF(Input!Y8="","",IF(ISNUMBER(VALUE(Input!Y8)),"","Needs to be a number.")) | AW9: =IF(OR(VALUE(Input!C8)<0,VALUE(Input!C8)>100), "Invalid EEI %","") | AY9: =IF(Input!E8="","",IF(VALUE(Input!E8)=0,"Do not enter 0.",""))
B10: =Input!A9 | C10: =IF(ISERROR(IF(AND(Input!$A9="",SUMPRODUCT(--(LEN(Input!$A10:'Input'!$A$1006)>0))<>0),"Row is skipped.",IF(AND(Input!$A9="",Input!$A10=""),"", IF(Input!B9="","Data is missing.","")))),"",IF(AND(Input!$A9="",SUMPRODUCT(--(LEN(Input!$A10:'Input'!$A$1006)>0))<>0),"Row is skipped.",IF(AND(Input!$A9="",Input!$A10=""),"", IF(Input!B9="","Data is missing.","")))) | D10: =IF(ISERROR(IF(AND(Input!$A9="",SUMPRODUCT(--(LEN(Input!$A10:'Input'!$A$1006)>0))<>0),"Row is skipped.",IF(AND(Input!$A9="",Input!$A10=""),"", IF(Input!C9="","Data is missing.","")))),"",IF(AND(Input!$A9="",SUMPRODUCT(--(LEN(Input!$A10:'Input'!$A$1006)>0))<>0),"Row is skipped.",IF(AND(Input!$A9="",Input!$A10=""),"", IF(Input!C9="","Data is missing.","")))) | E10: =IF(ISERROR(IF(AND(Input!$A9="",SUMPRODUCT(--(LEN(Input!$A10:'Input'!$A$1006)>0))<>0),"Row is skipped.",IF(AND(Input!$A9="",Input!$A10=""),"", IF(Input!D9="","Data is missing.","")))),"",IF(AND(Input!$A9="",SUMPRODUCT(--(LEN(Input!$A10:'Input'!$A$1006)>0))<>0),"Row is skipped.",IF(AND(Input!$A9="",Input!$A10=""),"", IF(Input!D9="","Data is missing.","")))) | F10: =IF(ISERROR(IF(AND(Input!$A9="",SUMPRODUCT(--(LEN(Input!$A10:'Input'!$A$1006)>0))<>0),"Row is skipped.",IF(AND(Input!$A9="",Input!$A10=""),"", IF(Input!E9="","Data is missing.","")))),"",IF(AND(Input!$A9="",SUMPRODUCT(--(LEN(Input!$A10:'Input'!$A$1006)>0))<>0),"Row is skipped.",IF(AND(Input!$A9="",Input!$A10=""),"", IF(Input!E9="","Data is missing.","")))) | G10: =IF(ISERROR(IF(AND(Input!$A9="",SUMPRODUCT(--(LEN(Input!$A10:'Input'!$A$1006)>0))<>0),"Row is skipped.",IF(AND(Input!$A9="",Input!$A10=""),"", IF(Input!F9="","Data is missing.","")))),"",IF(AND(Input!$A9="",SUMPRODUCT(--(LEN(Input!$A10:'Input'!$A$1006)>0))<>0),"Row is skipped.",IF(AND(Input!$A9="",Input!$A10=""),"", IF(Input!F9="","Data is missing.","")))) | H10: =IF(ISERROR(IF(AND(Input!$A9="",SUMPRODUCT(--(LEN(Input!$A10:'Input'!$A$1006)>0))<>0),"Row is skipped.",IF(AND(Input!$A9="",Input!$A10=""),"", IF(Input!G9="","Data is missing.","")))),"",IF(AND(Input!$A9="",SUMPRODUCT(--(LEN(Input!$A10:'Input'!$A$1006)>0))<>0),"Row is skipped.",IF(AND(Input!$A9="",Input!$A10=""),"", IF(Input!G9="","Data is missing.","")))) | J10: =IFERROR(VLOOKUP(VLOOKUP(Input!$D9,'Measure List'!$A:$AN,40,FALSE),UIR!$A$1:$Q$27,17,FALSE),"") | K10: =IFERROR(VLOOKUP(Input!$D9,'Measure List'!$A:$AN,40,FALSE),"") | M10: =IF(B10="","",IF(AND(Input!H9="",IFERROR(VLOOKUP(K10,UIR!$A$2:$P$21,2,FALSE),"")<>""),"Data is Missing.","")) | N10: =IF(B10="","",IF(AND(Input!I9="",IFERROR(VLOOKUP(K10,UIR!$A$2:$P$21,3,FALSE),"")<>""),"Data is Missing.","")) | O10: =IF(B10="","",IF(AND(Input!J9="",IFERROR(VLOOKUP(K10,UIR!$A$2:$P$21,4,FALSE),"")<>""),"Data is Missing.","")) | P10: =IF(B10="","",IF(AND(Input!K9="",IFERROR(VLOOKUP(K10,UIR!$A$2:$P$21,5,FALSE),"")<>""),"Data is Missing.","")) | Q10: =IF(B10="","",IF(AND(Input!L9="",IFERROR(VLOOKUP(K10,UIR!$A$2:$P$21,6,FALSE),"")<>""),"Data is Missing.","")) | R10: =IF(B10="","",IF(AND(Input!M9="",IFERROR(VLOOKUP(K10,UIR!$A$2:$P$21,7,FALSE),"")<>""),"Data is Missing.","")) | S10: =IF(B10="","",IF(AND(Input!P9="",IFERROR(VLOOKUP(K10,UIR!$A$2:$P$21,8,FALSE),"")<>""),"Data is Missing.","")) | T10: =IF(B10="","",IF(AND(Input!Q9="",IFERROR(VLOOKUP(K10,UIR!$A$2:$P$21,9,FALSE),"")<>""),"Data is Missing.","")) | V10: =IF(B10="","",IF(AND(Input!S9="",IFERROR(VLOOKUP(K10,UIR!$A$2:$P$21,11,FALSE),"")<>""),"Data is Missing.","")) | W10: =IF(B10="","",IF(AND(Input!T9="",IFERROR(VLOOKUP(K10,UIR!$A$2:$P$21,12,FALSE),"")<>""),"Data is Missing.","")) | X10: =IF(B10="","",IF(AND(Input!V9="",IFERROR(VLOOKUP(K10,UIR!$A$2:$P$21,13,FALSE),"")<>""),"Data is Missing.","")) | Y10: =IF(B10="","",IF(AND(Input!W9="",IFERROR(VLOOKUP(K10,UIR!$A$2:$P$21,14,FALSE),"")<>""),"Data is Missing.","")) | Z10: =IF(B10="","",IF(AND(Input!X9="",IFERROR(VLOOKUP(K10,UIR!$A$2:$P$21,15,FALSE),"")<>""),"Data is Missing.","")) | AA10: =IF(B10="","",IF(AND(Input!Y9="",IFERROR(VLOOKUP(K10,UIR!$A$2:$P$21,16,FALSE),"")<>""),"Data is Missing.","")) | AC10: =IF(ISERROR(IF(Input!D9="","",IF(ISERROR(VLOOKUP(Input!D9,'Measure List'!$A$2:$A$30000,1,0)),"Invalid RefNo",""))),"",IF(Input!D9="","",IF(ISERROR(VLOOKUP(Input!D9,'Measure List'!$A$2:$A$30000,1,0)),"Invalid RefNo",""))) | AL10: =IF(COUNTIF(Dropdowns!$K$2:$K$7,Input!S9)>0,"",IF(Input!S9="","","Invalid Type")) | AN10: =IF(Input!C9="","",IF(ISNUMBER(VALUE(Input!C9)),"","Needs to be a number.")) | AO10: =IF(Input!E9="","",IF(ISNUMBER(VALUE(Input!E9)),"","Needs to be a number.")) | AP10: =IF(Input!N9="","",IF(ISNUMBER(VALUE(Input!N9)),"","Needs to be a number.")) | AQ10: =IF(Input!O9="","",IF(ISNUMBER(VALUE(Input!O9)),"","Needs to be a number.")) | AR10: =IF(Input!V9="","",IF(ISNUMBER(VALUE(Input!V9)),"","Needs to be a number.")) | AS10: =IF(Input!W9="","",IF(ISNUMBER(VALUE(Input!W9)),"","Needs to be a number.")) | AT10: =IF(Input!X9="","",IF(ISNUMBER(VALUE(Input!X9)),"","Needs to be a number.")) | AU10: =IF(Input!Y9="","",IF(ISNUMBER(VALUE(Input!Y9)),"","Needs to be a number.")) | AW10: =IF(OR(VALUE(Input!C9)<0,VALUE(Input!C9)>100), "Invalid EEI %","") | AY10: =IF(Input!E9="","",IF(VALUE(Input!E9)=0,"Do not enter 0.",""))
B11: =Input!A10 | C11: =IF(ISERROR(IF(AND(Input!$A10="",SUMPRODUCT(--(LEN(Input!$A11:'Input'!$A$1006)>0))<>0),"Row is skipped.",IF(AND(Input!$A10="",Input!$A11=""),"", IF(Input!B10="","Data is missing.","")))),"",IF(AND(Input!$A10="",SUMPRODUCT(--(LEN(Input!$A11:'Input'!$A$1006)>0))<>0),"Row is skipped.",IF(AND(Input!$A10="",Input!$A11=""),"", IF(Input!B10="","Data is missing.","")))) | D11: =IF(ISERROR(IF(AND(Input!$A10="",SUMPRODUCT(--(LEN(Input!$A11:'Input'!$A$1006)>0))<>0),"Row is skipped.",IF(AND(Input!$A10="",Input!$A11=""),"", IF(Input!C10="","Data is missing.","")))),"",IF(AND(Input!$A10="",SUMPRODUCT(--(LEN(Input!$A11:'Input'!$A$1006)>0))<>0),"Row is skipped.",IF(AND(Input!$A10="",Input!$A11=""),"", IF(Input!C10="","Data is missing.","")))) | E11: =IF(ISERROR(IF(AND(Input!$A10="",SUMPRODUCT(--(LEN(Input!$A11:'Input'!$A$1006)>0))<>0),"Row is skipped.",IF(AND(Input!$A10="",Input!$A11=""),"", IF(Input!D10="","Data is missing.","")))),"",IF(AND(Input!$A10="",SUMPRODUCT(--(LEN(Input!$A11:'Input'!$A$1006)>0))<>0),"Row is skipped.",IF(AND(Input!$A10="",Input!$A11=""),"", IF(Input!D10="","Data is missing.","")))) | F11: =IF(ISERROR(IF(AND(Input!$A10="",SUMPRODUCT(--(LEN(Input!$A11:'Input'!$A$1006)>0))<>0),"Row is skipped.",IF(AND(Input!$A10="",Input!$A11=""),"", IF(Input!E10="","Data is missing.","")))),"",IF(AND(Input!$A10="",SUMPRODUCT(--(LEN(Input!$A11:'Input'!$A$1006)>0))<>0),"Row is skipped.",IF(AND(Input!$A10="",Input!$A11=""),"", IF(Input!E10="","Data is missing.","")))) | G11: =IF(ISERROR(IF(AND(Input!$A10="",SUMPRODUCT(--(LEN(Input!$A11:'Input'!$A$1006)>0))<>0),"Row is skipped.",IF(AND(Input!$A10="",Input!$A11=""),"", IF(Input!F10="","Data is missing.","")))),"",IF(AND(Input!$A10="",SUMPRODUCT(--(LEN(Input!$A11:'Input'!$A$1006)>0))<>0),"Row is skipped.",IF(AND(Input!$A10="",Input!$A11=""),"", IF(Input!F10="","Data is missing.","")))) | H11: =IF(ISERROR(IF(AND(Input!$A10="",SUMPRODUCT(--(LEN(Input!$A11:'Input'!$A$1006)>0))<>0),"Row is skipped.",IF(AND(Input!$A10="",Input!$A11=""),"", IF(Input!G10="","Data is missing.","")))),"",IF(AND(Input!$A10="",SUMPRODUCT(--(LEN(Input!$A11:'Input'!$A$1006)>0))<>0),"Row is skipped.",IF(AND(Input!$A10="",Input!$A11=""),"", IF(Input!G10="","Data is missing.","")))) | J11: =IFERROR(VLOOKUP(VLOOKUP(Input!$D10,'Measure List'!$A:$AN,40,FALSE),UIR!$A$1:$Q$27,17,FALSE),"") | K11: =IFERROR(VLOOKUP(Input!$D10,'Measure List'!$A:$AN,40,FALSE),"") | M11: =IF(B11="","",IF(AND(Input!H10="",IFERROR(VLOOKUP(K11,UIR!$A$2:$P$21,2,FALSE),"")<>""),"Data is Missing.","")) | N11: =IF(B11="","",IF(AND(Input!I10="",IFERROR(VLOOKUP(K11,UIR!$A$2:$P$21,3,FALSE),"")<>""),"Data is Missing.","")) | O11: =IF(B11="","",IF(AND(Input!J10="",IFERROR(VLOOKUP(K11,UIR!$A$2:$P$21,4,FALSE),"")<>""),"Data is Missing.","")) | P11: =IF(B11="","",IF(AND(Input!K10="",IFERROR(VLOOKUP(K11,UIR!$A$2:$P$21,5,FALSE),"")<>""),"Data is Missing.","")) | Q11: =IF(B11="","",IF(AND(Input!L10="",IFERROR(VLOOKUP(K11,UIR!$A$2:$P$21,6,FALSE),"")<>""),"Data is Missing.","")) | R11: =IF(B11="","",IF(AND(Input!M10="",IFERROR(VLOOKUP(K11,UIR!$A$2:$P$21,7,FALSE),"")<>""),"Data is Missing.","")) | S11: =IF(B11="","",IF(AND(Input!P10="",IFERROR(VLOOKUP(K11,UIR!$A$2:$P$21,8,FALSE),"")<>""),"Data is Missing.","")) | T11: =IF(B11="","",IF(AND(Input!Q10="",IFERROR(VLOOKUP(K11,UIR!$A$2:$P$21,9,FALSE),"")<>""),"Data is Missing.","")) | V11: =IF(B11="","",IF(AND(Input!S10="",IFERROR(VLOOKUP(K11,UIR!$A$2:$P$21,11,FALSE),"")<>""),"Data is Missing.","")) | W11: =IF(B11="","",IF(AND(Input!T10="",IFERROR(VLOOKUP(K11,UIR!$A$2:$P$21,12,FALSE),"")<>""),"Data is Missing.","")) | X11: =IF(B11="","",IF(AND(Input!V10="",IFERROR(VLOOKUP(K11,UIR!$A$2:$P$21,13,FALSE),"")<>""),"Data is Missing.","")) | Y11: =IF(B11="","",IF(AND(Input!W10="",IFERROR(VLOOKUP(K11,UIR!$A$2:$P$21,14,FALSE),"")<>""),"Data is Missing.","")) | Z11: =IF(B11="","",IF(AND(Input!X10="",IFERROR(VLOOKUP(K11,UIR!$A$2:$P$21,15,FALSE),"")<>""),"Data is Missing.","")) | AA11: =IF(B11="","",IF(AND(Input!Y10="",IFERROR(VLOOKUP(K11,UIR!$A$2:$P$21,16,FALSE),"")<>""),"Data is Missing.","")) | AC11: =IF(ISERROR(IF(Input!D10="","",IF(ISERROR(VLOOKUP(Input!D10,'Measure List'!$A$2:$A$30000,1,0)),"Invalid RefNo",""))),"",IF(Input!D10="","",IF(ISERROR(VLOOKUP(Input!D10,'Measure List'!$A$2:$A$30000,1,0)),"Invalid RefNo",""))) | AL11: =IF(COUNTIF(Dropdowns!$K$2:$K$7,Input!S10)>0,"",IF(Input!S10="","","Invalid Type")) | AN11: =IF(Input!C10="","",IF(ISNUMBER(VALUE(Input!C10)),"","Needs to be a number.")) | AO11: =IF(Input!E10="","",IF(ISNUMBER(VALUE(Input!E10)),"","Needs to be a number.")) | AP11: =IF(Input!N10="","",IF(ISNUMBER(VALUE(Input!N10)),"","Needs to be a number.")) | AQ11: =IF(Input!O10="","",IF(ISNUMBER(VALUE(Input!O10)),"","Needs to be a number.")) | AR11: =IF(Input!V10="","",IF(ISNUMBER(VALUE(Input!V10)),"","Needs to be a number.")) | AS11: =IF(Input!W10="","",IF(ISNUMBER(VALUE(Input!W10)),"","Needs to be a number.")) | AT11: =IF(Input!X10="","",IF(ISNUMBER(VALUE(Input!X10)),"","Needs to be a number.")) | AU11: =IF(Input!Y10="","",IF(ISNUMBER(VALUE(Input!Y10)),"","Needs to be a number.")) | AW11: =IF(OR(VALUE(Input!C10)<0,VALUE(Input!C10)>100), "Invalid EEI %","") | AY11: =IF(Input!E10="","",IF(VALUE(Input!E10)=0,"Do not enter 0.",""))
B12: =Input!A11 | C12: =IF(ISERROR(IF(AND(Input!$A11="",SUMPRODUCT(--(LEN(Input!$A12:'Input'!$A$1006)>0))<>0),"Row is skipped.",IF(AND(Input!$A11="",Input!$A12=""),"", IF(Input!B11="","Data is missing.","")))),"",IF(AND(Input!$A11="",SUMPRODUCT(--(LEN(Input!$A12:'Input'!$A$1006)>0))<>0),"Row is skipped.",IF(AND(Input!$A11="",Input!$A12=""),"", IF(Input!B11="","Data is missing.","")))) | D12: =IF(ISERROR(IF(AND(Input!$A11="",SUMPRODUCT(--(LEN(Input!$A12:'Input'!$A$1006)>0))<>0),"Row is skipped.",IF(AND(Input!$A11="",Input!$A12=""),"", IF(Input!C11="","Data is missing.","")))),"",IF(AND(Input!$A11="",SUMPRODUCT(--(LEN(Input!$A12:'Input'!$A$1006)>0))<>0),"Row is skipped.",IF(AND(Input!$A11="",Input!$A12=""),"", IF(Input!C11="","Data is missing.","")))) | E12: =IF(ISERROR(IF(AND(Input!$A11="",SUMPRODUCT(--(LEN(Input!$A12:'Input'!$A$1006)>0))<>0),"Row is skipped.",IF(AND(Input!$A11="",Input!$A12=""),"", IF(Input!D11="","Data is missing.","")))),"",IF(AND(Input!$A11="",SUMPRODUCT(--(LEN(Input!$A12:'Input'!$A$1006)>0))<>0),"Row is skipped.",IF(AND(Input!$A11="",Input!$A12=""),"", IF(Input!D11="","Data is missing.","")))) | F12: =IF(ISERROR(IF(AND(Input!$A11="",SUMPRODUCT(--(LEN(Input!$A12:'Input'!$A$1006)>0))<>0),"Row is skipped.",IF(AND(Input!$A11="",Input!$A12=""),"", IF(Input!E11="","Data is missing.","")))),"",IF(AND(Input!$A11="",SUMPRODUCT(--(LEN(Input!$A12:'Input'!$A$1006)>0))<>0),"Row is skipped.",IF(AND(Input!$A11="",Input!$A12=""),"", IF(Input!E11="","Data is missing.","")))) | G12: =IF(ISERROR(IF(AND(Input!$A11="",SUMPRODUCT(--(LEN(Input!$A12:'Input'!$A$1006)>0))<>0),"Row is skipped.",IF(AND(Input!$A11="",Input!$A12=""),"", IF(Input!F11="","Data is missing.","")))),"",IF(AND(Input!$A11="",SUMPRODUCT(--(LEN(Input!$A12:'Input'!$A$1006)>0))<>0),"Row is skipped.",IF(AND(Input!$A11="",Input!$A12=""),"", IF(Input!F11="","Data is missing.","")))) | H12: =IF(ISERROR(IF(AND(Input!$A11="",SUMPRODUCT(--(LEN(Input!$A12:'Input'!$A$1006)>0))<>0),"Row is skipped.",IF(AND(Input!$A11="",Input!$A12=""),"", IF(Input!G11="","Data is missing.","")))),"",IF(AND(Input!$A11="",SUMPRODUCT(--(LEN(Input!$A12:'Input'!$A$1006)>0))<>0),"Row is skipped.",IF(AND(Input!$A11="",Input!$A12=""),"", IF(Input!G11="","Data is missing.","")))) | J12: =IFERROR(VLOOKUP(VLOOKUP(Input!$D11,'Measure List'!$A:$AN,40,FALSE),UIR!$A$1:$Q$27,17,FALSE),"") | K12: =IFERROR(VLOOKUP(Input!$D11,'Measure List'!$A:$AN,40,FALSE),"") | M12: =IF(B12="","",IF(AND(Input!H11="",IFERROR(VLOOKUP(K12,UIR!$A$2:$P$21,2,FALSE),"")<>""),"Data is Missing.","")) | N12: =IF(B12="","",IF(AND(Input!I11="",IFERROR(VLOOKUP(K12,UIR!$A$2:$P$21,3,FALSE),"")<>""),"Data is Missing.","")) | O12: =IF(B12="","",IF(AND(Input!J11="",IFERROR(VLOOKUP(K12,UIR!$A$2:$P$21,4,FALSE),"")<>""),"Data is Missing.","")) | P12: =IF(B12="","",IF(AND(Input!K11="",IFERROR(VLOOKUP(K12,UIR!$A$2:$P$21,5,FALSE),"")<>""),"Data is Missing.","")) | Q12: =IF(B12="","",IF(AND(Input!L11="",IFERROR(VLOOKUP(K12,UIR!$A$2:$P$21,6,FALSE),"")<>""),"Data is Missing.","")) | R12: =IF(B12="","",IF(AND(Input!M11="",IFERROR(VLOOKUP(K12,UIR!$A$2:$P$21,7,FALSE),"")<>""),"Data is Missing.","")) | S12: =IF(B12="","",IF(AND(Input!P11="",IFERROR(VLOOKUP(K12,UIR!$A$2:$P$21,8,FALSE),"")<>""),"Data is Missing.","")) | T12: =IF(B12="","",IF(AND(Input!Q11="",IFERROR(VLOOKUP(K12,UIR!$A$2:$P$21,9,FALSE),"")<>""),"Data is Missing.","")) | V12: =IF(B12="","",IF(AND(Input!S11="",IFERROR(VLOOKUP(K12,UIR!$A$2:$P$21,11,FALSE),"")<>""),"Data is Missing.","")) | W12: =IF(B12="","",IF(AND(Input!T11="",IFERROR(VLOOKUP(K12,UIR!$A$2:$P$21,12,FALSE),"")<>""),"Data is Missing.","")) | X12: =IF(B12="","",IF(AND(Input!V11="",IFERROR(VLOOKUP(K12,UIR!$A$2:$P$21,13,FALSE),"")<>""),"Data is Missing.","")) | Y12: =IF(B12="","",IF(AND(Input!W11="",IFERROR(VLOOKUP(K12,UIR!$A$2:$P$21,14,FALSE),"")<>""),"Data is Missing.","")) | Z12: =IF(B12="","",IF(AND(Input!X11="",IFERROR(VLOOKUP(K12,UIR!$A$2:$P$21,15,FALSE),"")<>""),"Data is Missing.","")) | AA12: =IF(B12="","",IF(AND(Input!Y11="",IFERROR(VLOOKUP(K12,UIR!$A$2:$P$21,16,FALSE),"")<>""),"Data is Missing.","")) | AC12: =IF(ISERROR(IF(Input!D11="","",IF(ISERROR(VLOOKUP(Input!D11,'Measure List'!$A$2:$A$30000,1,0)),"Invalid RefNo",""))),"",IF(Input!D11="","",IF(ISERROR(VLOOKUP(Input!D11,'Measure List'!$A$2:$A$30000,1,0)),"Invalid RefNo",""))) | AL12: =IF(COUNTIF(Dropdowns!$K$2:$K$7,Input!S11)>0,"",IF(Input!S11="","","Invalid Type")) | AN12: =IF(Input!C11="","",IF(ISNUMBER(VALUE(Input!C11)),"","Needs to be a number.")) | AO12: =IF(Input!E11="","",IF(ISNUMBER(VALUE(Input!E11)),"","Needs to be a number.")) | AP12: =IF(Input!N11="","",IF(ISNUMBER(VALUE(Input!N11)),"","Needs to be a number.")) | AQ12: =IF(Input!O11="","",IF(ISNUMBER(VALUE(Input!O11)),"","Needs to be a number.")) | AR12: =IF(Input!V11="","",IF(ISNUMBER(VALUE(Input!V11)),"","Needs to be a number.")) | AS12: =IF(Input!W11="","",IF(ISNUMBER(VALUE(Input!W11)),"","Needs to be a number.")) | AT12: =IF(Input!X11="","",IF(ISNUMBER(VALUE(Input!X11)),"","Needs to be a number.")) | AU12: =IF(Input!Y11="","",IF(ISNUMBER(VALUE(Input!Y11)),"","Needs to be a number.")) | AW12: =IF(OR(VALUE(Input!C11)<0,VALUE(Input!C11)>100), "Invalid EEI %","") | AY12: =IF(Input!E11="","",IF(VALUE(Input!E11)=0,"Do not enter 0.",""))
B13: =Input!A12 | C13: =IF(ISERROR(IF(AND(Input!$A12="",SUMPRODUCT(--(LEN(Input!$A13:'Input'!$A$1006)>0))<>0),"Row is skipped.",IF(AND(Input!$A12="",Input!$A13=""),"", IF(Input!B12="","Data is missing.","")))),"",IF(AND(Input!$A12="",SUMPRODUCT(--(LEN(Input!$A13:'Input'!$A$1006)>0))<>0),"Row is skipped.",IF(AND(Input!$A12="",Input!$A13=""),"", IF(Input!B12="","Data is missing.","")))) | D13: =IF(ISERROR(IF(AND(Input!$A12="",SUMPRODUCT(--(LEN(Input!$A13:'Input'!$A$1006)>0))<>0),"Row is skipped.",IF(AND(Input!$A12="",Input!$A13=""),"", IF(Input!C12="","Data is missing.","")))),"",IF(AND(Input!$A12="",SUMPRODUCT(--(LEN(Input!$A13:'Input'!$A$1006)>0))<>0),"Row is skipped.",IF(AND(Input!$A12="",Input!$A13=""),"", IF(Input!C12="","Data is missing.","")))) | E13: =IF(ISERROR(IF(AND(Input!$A12="",SUMPRODUCT(--(LEN(Input!$A13:'Input'!$A$1006)>0))<>0),"Row is skipped.",IF(AND(Input!$A12="",Input!$A13=""),"", IF(Input!D12="","Data is missing.","")))),"",IF(AND(Input!$A12="",SUMPRODUCT(--(LEN(Input!$A13:'Input'!$A$1006)>0))<>0),"Row is skipped.",IF(AND(Input!$A12="",Input!$A13=""),"", IF(Input!D12="","Data is missing.","")))) | F13: =IF(ISERROR(IF(AND(Input!$A12="",SUMPRODUCT(--(LEN(Input!$A13:'Input'!$A$1006)>0))<>0),"Row is skipped.",IF(AND(Input!$A12="",Input!$A13=""),"", IF(Input!E12="","Data is missing.","")))),"",IF(AND(Input!$A12="",SUMPRODUCT(--(LEN(Input!$A13:'Input'!$A$1006)>0))<>0),"Row is skipped.",IF(AND(Input!$A12="",Input!$A13=""),"", IF(Input!E12="","Data is missing.","")))) | G13: =IF(ISERROR(IF(AND(Input!$A12="",SUMPRODUCT(--(LEN(Input!$A13:'Input'!$A$1006)>0))<>0),"Row is skipped.",IF(AND(Input!$A12="",Input!$A13=""),"", IF(Input!F12="","Data is missing.","")))),"",IF(AND(Input!$A12="",SUMPRODUCT(--(LEN(Input!$A13:'Input'!$A$1006)>0))<>0),"Row is skipped.",IF(AND(Input!$A12="",Input!$A13=""),"", IF(Input!F12="","Data is missing.","")))) | H13: =IF(ISERROR(IF(AND(Input!$A12="",SUMPRODUCT(--(LEN(Input!$A13:'Input'!$A$1006)>0))<>0),"Row is skipped.",IF(AND(Input!$A12="",Input!$A13=""),"", IF(Input!G12="","Data is missing.","")))),"",IF(AND(Input!$A12="",SUMPRODUCT(--(LEN(Input!$A13:'Input'!$A$1006)>0))<>0),"Row is skipped.",IF(AND(Input!$A12="",Input!$A13=""),"", IF(Input!G12="","Data is missing.","")))) | J13: =IFERROR(VLOOKUP(VLOOKUP(Input!$D12,'Measure List'!$A:$AN,40,FALSE),UIR!$A$1:$Q$27,17,FALSE),"") | K13: =IFERROR(VLOOKUP(Input!$D12,'Measure List'!$A:$AN,40,FALSE),"") | M13: =IF(B13="","",IF(AND(Input!H12="",IFERROR(VLOOKUP(K13,UIR!$A$2:$P$21,2,FALSE),"")<>""),"Data is Missing.","")) | N13: =IF(B13="","",IF(AND(Input!I12="",IFERROR(VLOOKUP(K13,UIR!$A$2:$P$21,3,FALSE),"")<>""),"Data is Missing.","")) | O13: =IF(B13="","",IF(AND(Input!J12="",IFERROR(VLOOKUP(K13,UIR!$A$2:$P$21,4,FALSE),"")<>""),"Data is Missing.","")) | P13: =IF(B13="","",IF(AND(Input!K12="",IFERROR(VLOOKUP(K13,UIR!$A$2:$P$21,5,FALSE),"")<>""),"Data is Missing.","")) | Q13: =IF(B13="","",IF(AND(Input!L12="",IFERROR(VLOOKUP(K13,UIR!$A$2:$P$21,6,FALSE),"")<>""),"Data is Missing.","")) | R13: =IF(B13="","",IF(AND(Input!M12="",IFERROR(VLOOKUP(K13,UIR!$A$2:$P$21,7,FALSE),"")<>""),"Data is Missing.","")) | S13: =IF(B13="","",IF(AND(Input!P12="",IFERROR(VLOOKUP(K13,UIR!$A$2:$P$21,8,FALSE),"")<>""),"Data is Missing.","")) | T13: =IF(B13="","",IF(AND(Input!Q12="",IFERROR(VLOOKUP(K13,UIR!$A$2:$P$21,9,FALSE),"")<>""),"Data is Missing.","")) | V13: =IF(B13="","",IF(AND(Input!S12="",IFERROR(VLOOKUP(K13,UIR!$A$2:$P$21,11,FALSE),"")<>""),"Data is Missing.","")) | W13: =IF(B13="","",IF(AND(Input!T12="",IFERROR(VLOOKUP(K13,UIR!$A$2:$P$21,12,FALSE),"")<>""),"Data is Missing.","")) | X13: =IF(B13="","",IF(AND(Input!V12="",IFERROR(VLOOKUP(K13,UIR!$A$2:$P$21,13,FALSE),"")<>""),"Data is Missing.","")) | Y13: =IF(B13="","",IF(AND(Input!W12="",IFERROR(VLOOKUP(K13,UIR!$A$2:$P$21,14,FALSE),"")<>""),"Data is Missing.","")) | Z13: =IF(B13="","",IF(AND(Input!X12="",IFERROR(VLOOKUP(K13,UIR!$A$2:$P$21,15,FALSE),"")<>""),"Data is Missing.","")) | AA13: =IF(B13="","",IF(AND(Input!Y12="",IFERROR(VLOOKUP(K13,UIR!$A$2:$P$21,16,FALSE),"")<>""),"Data is Missing.","")) | AC13: =IF(ISERROR(IF(Input!D12="","",IF(ISERROR(VLOOKUP(Input!D12,'Measure List'!$A$2:$A$30000,1,0)),"Invalid RefNo",""))),"",IF(Input!D12="","",IF(ISERROR(VLOOKUP(Input!D12,'Measure List'!$A$2:$A$30000,1,0)),"Invalid RefNo",""))) | AL13: =IF(COUNTIF(Dropdowns!$K$2:$K$7,Input!S12)>0,"",IF(Input!S12="","","Invalid Type")) | AN13: =IF(Input!C12="","",IF(ISNUMBER(VALUE(Input!C12)),"","Needs to be a number.")) | AO13: =IF(Input!E12="","",IF(ISNUMBER(VALUE(Input!E12)),"","Needs to be a number.")) | AP13: =IF(Input!N12="","",IF(ISNUMBER(VALUE(Input!N12)),"","Needs to be a number.")) | AQ13: =IF(Input!O12="","",IF(ISNUMBER(VALUE(Input!O12)),"","Needs to be a number.")) | AR13: =IF(Input!V12="","",IF(ISNUMBER(VALUE(Input!V12)),"","Needs to be a number.")) | AS13: =IF(Input!W12="","",IF(ISNUMBER(VALUE(Input!W12)),"","Needs to be a number.")) | AT13: =IF(Input!X12="","",IF(ISNUMBER(VALUE(Input!X12)),"","Needs to be a number.")) | AU13: =IF(Input!Y12="","",IF(ISNUMBER(VALUE(Input!Y12)),"","Needs to be a number.")) | AW13: =IF(OR(VALUE(Input!C12)<0,VALUE(Input!C12)>100), "Invalid EEI %","") | AY13: =IF(Input!E12="","",IF(VALUE(Input!E12)=0,"Do not enter 0.",""))
B14: =Input!A13 | C14: =IF(ISERROR(IF(AND(Input!$A13="",SUMPRODUCT(--(LEN(Input!$A14:'Input'!$A$1006)>0))<>0),"Row is skipped.",IF(AND(Input!$A13="",Input!$A14=""),"", IF(Input!B13="","Data is missing.","")))),"",IF(AND(Input!$A13="",SUMPRODUCT(--(LEN(Input!$A14:'Input'!$A$1006)>0))<>0),"Row is skipped.",IF(AND(Input!$A13="",Input!$A14=""),"", IF(Input!B13="","Data is missing.","")))) | D14: =IF(ISERROR(IF(AND(Input!$A13="",SUMPRODUCT(--(LEN(Input!$A14:'Input'!$A$1006)>0))<>0),"Row is skipped.",IF(AND(Input!$A13="",Input!$A14=""),"", IF(Input!C13="","Data is missing.","")))),"",IF(AND(Input!$A13="",SUMPRODUCT(--(LEN(Input!$A14:'Input'!$A$1006)>0))<>0),"Row is skipped.",IF(AND(Input!$A13="",Input!$A14=""),"", IF(Input!C13="","Data is missing.","")))) | E14: =IF(ISERROR(IF(AND(Input!$A13="",SUMPRODUCT(--(LEN(Input!$A14:'Input'!$A$1006)>0))<>0),"Row is skipped.",IF(AND(Input!$A13="",Input!$A14=""),"", IF(Input!D13="","Data is missing.","")))),"",IF(AND(Input!$A13="",SUMPRODUCT(--(LEN(Input!$A14:'Input'!$A$1006)>0))<>0),"Row is skipped.",IF(AND(Input!$A13="",Input!$A14=""),"", IF(Input!D13="","Data is missing.","")))) | F14: =IF(ISERROR(IF(AND(Input!$A13="",SUMPRODUCT(--(LEN(Input!$A14:'Input'!$A$1006)>0))<>0),"Row is skipped.",IF(AND(Input!$A13="",Input!$A14=""),"", IF(Input!E13="","Data is missing.","")))),"",IF(AND(Input!$A13="",SUMPRODUCT(--(LEN(Input!$A14:'Input'!$A$1006)>0))<>0),"Row is skipped.",IF(AND(Input!$A13="",Input!$A14=""),"", IF(Input!E13="","Data is missing.","")))) | G14: =IF(ISERROR(IF(AND(Input!$A13="",SUMPRODUCT(--(LEN(Input!$A14:'Input'!$A$1006)>0))<>0),"Row is skipped.",IF(AND(Input!$A13="",Input!$A14=""),"", IF(Input!F13="","Data is missing.","")))),"",IF(AND(Input!$A13="",SUMPRODUCT(--(LEN(Input!$A14:'Input'!$A$1006)>0))<>0),"Row is skipped.",IF(AND(Input!$A13="",Input!$A14=""),"", IF(Input!F13="","Data is missing.","")))) | H14: =IF(ISERROR(IF(AND(Input!$A13="",SUMPRODUCT(--(LEN(Input!$A14:'Input'!$A$1006)>0))<>0),"Row is skipped.",IF(AND(Input!$A13="",Input!$A14=""),"", IF(Input!G13="","Data is missing.","")))),"",IF(AND(Input!$A13="",SUMPRODUCT(--(LEN(Input!$A14:'Input'!$A$1006)>0))<>0),"Row is skipped.",IF(AND(Input!$A13="",Input!$A14=""),"", IF(Input!G13="","Data is missing.","")))) | J14: =IFERROR(VLOOKUP(VLOOKUP(Input!$D13,'Measure List'!$A:$AN,40,FALSE),UIR!$A$1:$Q$27,17,FALSE),"") | K14: =IFERROR(VLOOKUP(Input!$D13,'Measure List'!$A:$AN,40,FALSE),"") | M14: =IF(B14="","",IF(AND(Input!H13="",IFERROR(VLOOKUP(K14,UIR!$A$2:$P$21,2,FALSE),"")<>""),"Data is Missing.","")) | N14: =IF(B14="","",IF(AND(Input!I13="",IFERROR(VLOOKUP(K14,UIR!$A$2:$P$21,3,FALSE),"")<>""),"Data is Missing.","")) | O14: =IF(B14="","",IF(AND(Input!J13="",IFERROR(VLOOKUP(K14,UIR!$A$2:$P$21,4,FALSE),"")<>""),"Data is Missing.","")) | P14: =IF(B14="","",IF(AND(Input!K13="",IFERROR(VLOOKUP(K14,UIR!$A$2:$P$21,5,FALSE),"")<>""),"Data is Missing.","")) | Q14: =IF(B14="","",IF(AND(Input!L13="",IFERROR(VLOOKUP(K14,UIR!$A$2:$P$21,6,FALSE),"")<>""),"Data is Missing.","")) | R14: =IF(B14="","",IF(AND(Input!M13="",IFERROR(VLOOKUP(K14,UIR!$A$2:$P$21,7,FALSE),"")<>""),"Data is Missing.","")) | S14: =IF(B14="","",IF(AND(Input!P13="",IFERROR(VLOOKUP(K14,UIR!$A$2:$P$21,8,FALSE),"")<>""),"Data is Missing.","")) | T14: =IF(B14="","",IF(AND(Input!Q13="",IFERROR(VLOOKUP(K14,UIR!$A$2:$P$21,9,FALSE),"")<>""),"Data is Missing.","")) | V14: =IF(B14="","",IF(AND(Input!S13="",IFERROR(VLOOKUP(K14,UIR!$A$2:$P$21,11,FALSE),"")<>""),"Data is Missing.","")) | W14: =IF(B14="","",IF(AND(Input!T13="",IFERROR(VLOOKUP(K14,UIR!$A$2:$P$21,12,FALSE),"")<>""),"Data is Missing.","")) | X14: =IF(B14="","",IF(AND(Input!V13="",IFERROR(VLOOKUP(K14,UIR!$A$2:$P$21,13,FALSE),"")<>""),"Data is Missing.","")) | Y14: =IF(B14="","",IF(AND(Input!W13="",IFERROR(VLOOKUP(K14,UIR!$A$2:$P$21,14,FALSE),"")<>""),"Data is Missing.","")) | Z14: =IF(B14="","",IF(AND(Input!X13="",IFERROR(VLOOKUP(K14,UIR!$A$2:$P$21,15,FALSE),"")<>""),"Data is Missing.","")) | AA14: =IF(B14="","",IF(AND(Input!Y13="",IFERROR(VLOOKUP(K14,UIR!$A$2:$P$21,16,FALSE),"")<>""),"Data is Missing.","")) | AC14: =IF(ISERROR(IF(Input!D13="","",IF(ISERROR(VLOOKUP(Input!D13,'Measure List'!$A$2:$A$30000,1,0)),"Invalid RefNo",""))),"",IF(Input!D13="","",IF(ISERROR(VLOOKUP(Input!D13,'Measure List'!$A$2:$A$30000,1,0)),"Invalid RefNo",""))) | AL14: =IF(COUNTIF(Dropdowns!$K$2:$K$7,Input!S13)>0,"",IF(Input!S13="","","Invalid Type")) | AN14: =IF(Input!C13="","",IF(ISNUMBER(VALUE(Input!C13)),"","Needs to be a number.")) | AO14: =IF(Input!E13="","",IF(ISNUMBER(VALUE(Input!E13)),"","Needs to be a number.")) | AP14: =IF(Input!N13="","",IF(ISNUMBER(VALUE(Input!N13)),"","Needs to be a number.")) | AQ14: =IF(Input!O13="","",IF(ISNUMBER(VALUE(Input!O13)),"","Needs to be a number.")) | AR14: =IF(Input!V13="","",IF(ISNUMBER(VALUE(Input!V13)),"","Needs to be a number.")) | AS14: =IF(Input!W13="","",IF(ISNUMBER(VALUE(Input!W13)),"","Needs to be a number.")) | AT14: =IF(Input!X13="","",IF(ISNUMBER(VALUE(Input!X13)),"","Needs to be a number.")) | AU14: =IF(Input!Y13="","",IF(ISNUMBER(VALUE(Input!Y13)),"","Needs to be a number.")) | AW14: =IF(OR(VALUE(Input!C13)<0,VALUE(Input!C13)>100), "Invalid EEI %","") | AY14: =IF(Input!E13="","",IF(VALUE(Input!E13)=0,"Do not enter 0.",""))
B15: =Input!A14 | C15: =IF(ISERROR(IF(AND(Input!$A14="",SUMPRODUCT(--(LEN(Input!$A15:'Input'!$A$1006)>0))<>0),"Row is skipped.",IF(AND(Input!$A14="",Input!$A15=""),"", IF(Input!B14="","Data is missing.","")))),"",IF(AND(Input!$A14="",SUMPRODUCT(--(LEN(Input!$A15:'Input'!$A$1006)>0))<>0),"Row is skipped.",IF(AND(Input!$A14="",Input!$A15=""),"", IF(Input!B14="","Data is missing.","")))) | D15: =IF(ISERROR(IF(AND(Input!$A14="",SUMPRODUCT(--(LEN(Input!$A15:'Input'!$A$1006)>0))<>0),"Row is skipped.",IF(AND(Input!$A14="",Input!$A15=""),"", IF(Input!C14="","Data is missing.","")))),"",IF(AND(Input!$A14="",SUMPRODUCT(--(LEN(Input!$A15:'Input'!$A$1006)>0))<>0),"Row is skipped.",IF(AND(Input!$A14="",Input!$A15=""),"", IF(Input!C14="","Data is missing.","")))) | E15: =IF(ISERROR(IF(AND(Input!$A14="",SUMPRODUCT(--(LEN(Input!$A15:'Input'!$A$1006)>0))<>0),"Row is skipped.",IF(AND(Input!$A14="",Input!$A15=""),"", IF(Input!D14="","Data is missing.","")))),"",IF(AND(Input!$A14="",SUMPRODUCT(--(LEN(Input!$A15:'Input'!$A$1006)>0))<>0),"Row is skipped.",IF(AND(Input!$A14="",Input!$A15=""),"", IF(Input!D14="","Data is missing.","")))) | F15: =IF(ISERROR(IF(AND(Input!$A14="",SUMPRODUCT(--(LEN(Input!$A15:'Input'!$A$1006)>0))<>0),"Row is skipped.",IF(AND(Input!$A14="",Input!$A15=""),"", IF(Input!E14="","Data is missing.","")))),"",IF(AND(Input!$A14="",SUMPRODUCT(--(LEN(Input!$A15:'Input'!$A$1006)>0))<>0),"Row is skipped.",IF(AND(Input!$A14="",Input!$A15=""),"", IF(Input!E14="","Data is missing.","")))) | G15: =IF(ISERROR(IF(AND(Input!$A14="",SUMPRODUCT(--(LEN(Input!$A15:'Input'!$A$1006)>0))<>0),"Row is skipped.",IF(AND(Input!$A14="",Input!$A15=""),"", IF(Input!F14="","Data is missing.","")))),"",IF(AND(Input!$A14="",SUMPRODUCT(--(LEN(Input!$A15:'Input'!$A$1006)>0))<>0),"Row is skipped.",IF(AND(Input!$A14="",Input!$A15=""),"", IF(Input!F14="","Data is missing.","")))) | H15: =IF(ISERROR(IF(AND(Input!$A14="",SUMPRODUCT(--(LEN(Input!$A15:'Input'!$A$1006)>0))<>0),"Row is skipped.",IF(AND(Input!$A14="",Input!$A15=""),"", IF(Input!G14="","Data is missing.","")))),"",IF(AND(Input!$A14="",SUMPRODUCT(--(LEN(Input!$A15:'Input'!$A$1006)>0))<>0),"Row is skipped.",IF(AND(Input!$A14="",Input!$A15=""),"", IF(Input!G14="","Data is missing.","")))) | J15: =IFERROR(VLOOKUP(VLOOKUP(Input!$D14,'Measure List'!$A:$AN,40,FALSE),UIR!$A$1:$Q$27,17,FALSE),"") | K15: =IFERROR(VLOOKUP(Input!$D14,'Measure List'!$A:$AN,40,FALSE),"") | M15: =IF(B15="","",IF(AND(Input!H14="",IFERROR(VLOOKUP(K15,UIR!$A$2:$P$21,2,FALSE),"")<>""),"Data is Missing.","")) | N15: =IF(B15="","",IF(AND(Input!I14="",IFERROR(VLOOKUP(K15,UIR!$A$2:$P$21,3,FALSE),"")<>""),"Data is Missing.","")) | O15: =IF(B15="","",IF(AND(Input!J14="",IFERROR(VLOOKUP(K15,UIR!$A$2:$P$21,4,FALSE),"")<>""),"Data is Missing.","")) | P15: =IF(B15="","",IF(AND(Input!K14="",IFERROR(VLOOKUP(K15,UIR!$A$2:$P$21,5,FALSE),"")<>""),"Data is Missing.","")) | Q15: =IF(B15="","",IF(AND(Input!L14="",IFERROR(VLOOKUP(K15,UIR!$A$2:$P$21,6,FALSE),"")<>""),"Data is Missing.","")) | R15: =IF(B15="","",IF(AND(Input!M14="",IFERROR(VLOOKUP(K15,UIR!$A$2:$P$21,7,FALSE),"")<>""),"Data is Missing.","")) | S15: =IF(B15="","",IF(AND(Input!P14="",IFERROR(VLOOKUP(K15,UIR!$A$2:$P$21,8,FALSE),"")<>""),"Data is Missing.","")) | T15: =IF(B15="","",IF(AND(Input!Q14="",IFERROR(VLOOKUP(K15,UIR!$A$2:$P$21,9,FALSE),"")<>""),"Data is Missing.","")) | V15: =IF(B15="","",IF(AND(Input!S14="",IFERROR(VLOOKUP(K15,UIR!$A$2:$P$21,11,FALSE),"")<>""),"Data is Missing.","")) | W15: =IF(B15="","",IF(AND(Input!T14="",IFERROR(VLOOKUP(K15,UIR!$A$2:$P$21,12,FALSE),"")<>""),"Data is Missing.","")) | X15: =IF(B15="","",IF(AND(Input!V14="",IFERROR(VLOOKUP(K15,UIR!$A$2:$P$21,13,FALSE),"")<>""),"Data is Missing.","")) | Y15: =IF(B15="","",IF(AND(Input!W14="",IFERROR(VLOOKUP(K15,UIR!$A$2:$P$21,14,FALSE),"")<>""),"Data is Missing.","")) | Z15: =IF(B15="","",IF(AND(Input!X14="",IFERROR(VLOOKUP(K15,UIR!$A$2:$P$21,15,FALSE),"")<>""),"Data is Missing.","")) | AA15: =IF(B15="","",IF(AND(Input!Y14="",IFERROR(VLOOKUP(K15,UIR!$A$2:$P$21,16,FALSE),"")<>""),"Data is Missing.","")) | AC15: =IF(ISERROR(IF(Input!D14="","",IF(ISERROR(VLOOKUP(Input!D14,'Measure List'!$A$2:$A$30000,1,0)),"Invalid RefNo",""))),"",IF(Input!D14="","",IF(ISERROR(VLOOKUP(Input!D14,'Measure List'!$A$2:$A$30000,1,0)),"Invalid RefNo",""))) | AL15: =IF(COUNTIF(Dropdowns!$K$2:$K$7,Input!S14)>0,"",IF(Input!S14="","","Invalid Type")) | AN15: =IF(Input!C14="","",IF(ISNUMBER(VALUE(Input!C14)),"","Needs to be a number.")) | AO15: =IF(Input!E14="","",IF(ISNUMBER(VALUE(Input!E14)),"","Needs to be a number.")) | AP15: =IF(Input!N14="","",IF(ISNUMBER(VALUE(Input!N14)),"","Needs to be a number.")) | AQ15: =IF(Input!O14="","",IF(ISNUMBER(VALUE(Input!O14)),"","Needs to be a number.")) | AR15: =IF(Input!V14="","",IF(ISNUMBER(VALUE(Input!V14)),"","Needs to be a number.")) | AS15: =IF(Input!W14="","",IF(ISNUMBER(VALUE(Input!W14)),"","Needs to be a number.")) | AT15: =IF(Input!X14="","",IF(ISNUMBER(VALUE(Input!X14)),"","Needs to be a number.")) | AU15: =IF(Input!Y14="","",IF(ISNUMBER(VALUE(Input!Y14)),"","Needs to be a number.")) | AW15: =IF(OR(VALUE(Input!C14)<0,VALUE(Input!C14)>100), "Invalid EEI %","") | AY15: =IF(Input!E14="","",IF(VALUE(Input!E14)=0,"Do not enter 0.",""))
B16: =Input!A15 | C16: =IF(ISERROR(IF(AND(Input!$A15="",SUMPRODUCT(--(LEN(Input!$A16:'Input'!$A$1006)>0))<>0),"Row is skipped.",IF(AND(Input!$A15="",Input!$A16=""),"", IF(Input!B15="","Data is missing.","")))),"",IF(AND(Input!$A15="",SUMPRODUCT(--(LEN(Input!$A16:'Input'!$A$1006)>0))<>0),"Row is skipped.",IF(AND(Input!$A15="",Input!$A16=""),"", IF(Input!B15="","Data is missing.","")))) | D16: =IF(ISERROR(IF(AND(Input!$A15="",SUMPRODUCT(--(LEN(Input!$A16:'Input'!$A$1006)>0))<>0),"Row is skipped.",IF(AND(Input!$A15="",Input!$A16=""),"", IF(Input!C15="","Data is missing.","")))),"",IF(AND(Input!$A15="",SUMPRODUCT(--(LEN(Input!$A16:'Input'!$A$1006)>0))<>0),"Row is skipped.",IF(AND(Input!$A15="",Input!$A16=""),"", IF(Input!C15="","Data is missing.","")))) | E16: =IF(ISERROR(IF(AND(Input!$A15="",SUMPRODUCT(--(LEN(Input!$A16:'Input'!$A$1006)>0))<>0),"Row is skipped.",IF(AND(Input!$A15="",Input!$A16=""),"", IF(Input!D15="","Data is missing.","")))),"",IF(AND(Input!$A15="",SUMPRODUCT(--(LEN(Input!$A16:'Input'!$A$1006)>0))<>0),"Row is skipped.",IF(AND(Input!$A15="",Input!$A16=""),"", IF(Input!D15="","Data is missing.","")))) | F16: =IF(ISERROR(IF(AND(Input!$A15="",SUMPRODUCT(--(LEN(Input!$A16:'Input'!$A$1006)>0))<>0),"Row is skipped.",IF(AND(Input!$A15="",Input!$A16=""),"", IF(Input!E15="","Data is missing.","")))),"",IF(AND(Input!$A15="",SUMPRODUCT(--(LEN(Input!$A16:'Input'!$A$1006)>0))<>0),"Row is skipped.",IF(AND(Input!$A15="",Input!$A16=""),"", IF(Input!E15="","Data is missing.","")))) | G16: =IF(ISERROR(IF(AND(Input!$A15="",SUMPRODUCT(--(LEN(Input!$A16:'Input'!$A$1006)>0))<>0),"Row is skipped.",IF(AND(Input!$A15="",Input!$A16=""),"", IF(Input!F15="","Data is missing.","")))),"",IF(AND(Input!$A15="",SUMPRODUCT(--(LEN(Input!$A16:'Input'!$A$1006)>0))<>0),"Row is skipped.",IF(AND(Input!$A15="",Input!$A16=""),"", IF(Input!F15="","Data is missing.","")))) | H16: =IF(ISERROR(IF(AND(Input!$A15="",SUMPRODUCT(--(LEN(Input!$A16:'Input'!$A$1006)>0))<>0),"Row is skipped.",IF(AND(Input!$A15="",Input!$A16=""),"", IF(Input!G15="","Data is missing.","")))),"",IF(AND(Input!$A15="",SUMPRODUCT(--(LEN(Input!$A16:'Input'!$A$1006)>0))<>0),"Row is skipped.",IF(AND(Input!$A15="",Input!$A16=""),"", IF(Input!G15="","Data is missing.","")))) | J16: =IFERROR(VLOOKUP(VLOOKUP(Input!$D15,'Measure List'!$A:$AN,40,FALSE),UIR!$A$1:$Q$27,17,FALSE),"") | K16: =IFERROR(VLOOKUP(Input!$D15,'Measure List'!$A:$AN,40,FALSE),"") | M16: =IF(B16="","",IF(AND(Input!H15="",IFERROR(VLOOKUP(K16,UIR!$A$2:$P$21,2,FALSE),"")<>""),"Data is Missing.","")) | N16: =IF(B16="","",IF(AND(Input!I15="",IFERROR(VLOOKUP(K16,UIR!$A$2:$P$21,3,FALSE),"")<>""),"Data is Missing.","")) | O16: =IF(B16="","",IF(AND(Input!J15="",IFERROR(VLOOKUP(K16,UIR!$A$2:$P$21,4,FALSE),"")<>""),"Data is Missing.","")) | P16: =IF(B16="","",IF(AND(Input!K15="",IFERROR(VLOOKUP(K16,UIR!$A$2:$P$21,5,FALSE),"")<>""),"Data is Missing.","")) | Q16: =IF(B16="","",IF(AND(Input!L15="",IFERROR(VLOOKUP(K16,UIR!$A$2:$P$21,6,FALSE),"")<>""),"Data is Missing.","")) | R16: =IF(B16="","",IF(AND(Input!M15="",IFERROR(VLOOKUP(K16,UIR!$A$2:$P$21,7,FALSE),"")<>""),"Data is Missing.","")) | S16: =IF(B16="","",IF(AND(Input!P15="",IFERROR(VLOOKUP(K16,UIR!$A$2:$P$21,8,FALSE),"")<>""),"Data is Missing.","")) | T16: =IF(B16="","",IF(AND(Input!Q15="",IFERROR(VLOOKUP(K16,UIR!$A$2:$P$21,9,FALSE),"")<>""),"Data is Missing.","")) | V16: =IF(B16="","",IF(AND(Input!S15="",IFERROR(VLOOKUP(K16,UIR!$A$2:$P$21,11,FALSE),"")<>""),"Data is Missing.","")) | W16: =IF(B16="","",IF(AND(Input!T15="",IFERROR(VLOOKUP(K16,UIR!$A$2:$P$21,12,FALSE),"")<>""),"Data is Missing.","")) | X16: =IF(B16="","",IF(AND(Input!V15="",IFERROR(VLOOKUP(K16,UIR!$A$2:$P$21,13,FALSE),"")<>""),"Data is Missing.","")) | Y16: =IF(B16="","",IF(AND(Input!W15="",IFERROR(VLOOKUP(K16,UIR!$A$2:$P$21,14,FALSE),"")<>""),"Data is Missing.","")) | Z16: =IF(B16="","",IF(AND(Input!X15="",IFERROR(VLOOKUP(K16,UIR!$A$2:$P$21,15,FALSE),"")<>""),"Data is Missing.","")) | AA16: =IF(B16="","",IF(AND(Input!Y15="",IFERROR(VLOOKUP(K16,UIR!$A$2:$P$21,16,FALSE),"")<>""),"Data is Missing.","")) | AC16: =IF(ISERROR(IF(Input!D15="","",IF(ISERROR(VLOOKUP(Input!D15,'Measure List'!$A$2:$A$30000,1,0)),"Invalid RefNo",""))),"",IF(Input!D15="","",IF(ISERROR(VLOOKUP(Input!D15,'Measure List'!$A$2:$A$30000,1,0)),"Invalid RefNo",""))) | AL16: =IF(COUNTIF(Dropdowns!$K$2:$K$7,Input!S15)>0,"",IF(Input!S15="","","Invalid Type")) | AN16: =IF(Input!C15="","",IF(ISNUMBER(VALUE(Input!C15)),"","Needs to be a number.")) | AO16: =IF(Input!E15="","",IF(ISNUMBER(VALUE(Input!E15)),"","Needs to be a number.")) | AP16: =IF(Input!N15="","",IF(ISNUMBER(VALUE(Input!N15)),"","Needs to be a number.")) | AQ16: =IF(Input!O15="","",IF(ISNUMBER(VALUE(Input!O15)),"","Needs to be a number.")) | AR16: =IF(Input!V15="","",IF(ISNUMBER(VALUE(Input!V15)),"","Needs to be a number.")) | AS16: =IF(Input!W15="","",IF(ISNUMBER(VALUE(Input!W15)),"","Needs to be a number.")) | AT16: =IF(Input!X15="","",IF(ISNUMBER(VALUE(Input!X15)),"","Needs to be a number.")) | AU16: =IF(Input!Y15="","",IF(ISNUMBER(VALUE(Input!Y15)),"","Needs to be a number.")) | AW16: =IF(OR(VALUE(Input!C15)<0,VALUE(Input!C15)>100), "Invalid EEI %","") | AY16: =IF(Input!E15="","",IF(VALUE(Input!E15)=0,"Do not enter 0.",""))
