Workbook
Name Baseline_Chars: #REF!
Name Category: #REF!
Name Cooling_Zone: #REF!
Name Cost_Effective: #REF!
Name Dlvry_Mech: #REF!
Name Eff_Case_Svngs_Chars: #REF!
Name End_Use: #REF!
Name Heating_Zone: #REF!
Name Inflation_Adjustment: 'Inflation Adjustment'!$G$5
Name Inst_Eff_Lvl_Rtng: #REF!
Name Inst_Loc: #REF!
Name Key_Chars: #REF!
Name List_SavingsShapes: #REF!
Name Measures_Types: #REF!
Name Prm_Bldg_Typ: #REF!
Name Program: #REF!
Name PTCS: #REF!
Name RTF_UES_Meas_Sts: #REF!
Name Sector: #REF!
Name State: #REF!
Name TAP: #REF!
Name Tech_Review: #REF!
Name UIR_Unique_No: #REF!
Name Unit_Typ_Svngs_Pymnt: #REF!
Name Unit_Types: #REF!
Name Vintage: #REF!

Sheet 1.README

Sheet 2. DFD BC Sheet
B13: 1. Cell Color Key: | C13: Additional Explanation
B14: Automatically Calculated | C14: Do not modify these, they are automatically calculated.
B15: Required | C15: You have to enter a Refno (either UES or custom) and a Year for when the Measure will be Installed.
B16: Custom Project or Lighting Calculator Input Only | C16: You will need to enter values here if you are included a custom project measure, but you can ignore it if the measure is a UES.
B17: UES Measure Input Only | C17: You will need to enter values here if you are included a UES measure, but you can ignore it if it is a Custom measure.
B18: Optional Additional User Input | C18: You can add additional details, like Non-Energy Benefits or O&M Change if you have them, they may modify the B/C ratio for the measure.
B21: 2. Project Level results:
B22: Total Project Busbar Savings | C22: =SUM(K28:K214) -> 0
B23: Project Level TRC B/C Ratio: | C23: =SUM(U28:U214) -> 0
B24: any custom project B/C concerns? | C24: =IF(V26>0,"yes","no") -> no
B26: 3. Measure Level Inputs | V26: =COUNTIF(V28:V215,"yes") -> 0
B27: Refno (Copy and Paste from either the "Custom Measure List Oct 2026" or "UES Measure List Oct 2026" worksheet). LIGHTING NOTE: For lighting projects, use REFNO "CLILB82045" for Retrofits, and "CLILB92045" for New Construction. | C27: Project Completion Year (YYYY) | D27: TAP | E27: measure type | F27: UES Quantity | G27: Site Savings (kWh/year) for custom or lighting calc only | H27: Cost ($) Input for Custom Project or Lighting Calculator Only | I27: Non-Energy Benefits Value (Positive is Good) | J27: O&M Change (Negative is Good) | K27: Busbar Savings | L27: Cost Used in Calc | M27: Avoided Cost | N27: Present Value of Energy Savings | O27: Measure Life | P27: Present Value of Non-energy Benefits | Q27: Present Value of O&M Change | R27: Present Value of Benefits | S27: TRC B/C RATIO | T27: This measures savings as % of total project savings | U27: This mesaure's B/C ratio scaled by % savings for total project | V27: Custom Project B/C Concern?
D28: =IF(ISBLANK(B28),"",IFERROR(VLOOKUP(B28,'Reference ML'!$A$3:$M$2524,7,FALSE),"Error: Refno Not Found")) | E28: =_xlfn.LET( _xlpm.refno,B28, _xlpm.mid_digit,MID(_xlpm.refno,6,1), _xlpm.custom,IF(OR(_xlpm.mid_digit="8",_xlpm.mid_digit="9"),"yes","no"), _xlpm.display, IF(ISBLANK(_xlpm.refno),"", IF(_xlpm.custom="yes","custom","UES") ), _xlpm.out,_xlpm.display, _xlpm.out ) | F28: =IF(ISBLANK(B28),"",IF(OR(MID($B28,6,1)="9",MID($B28,6,1)="8"),"n/a","Enter Quantity")) | G28: =IFERROR(IF(ISBLANK(D28),"",IF(OR(MID($B28,6,1)="9",MID($B28,6,1)="8"),"Enter Site Savings","")),"") | H28: =IFERROR(IF(ISBLANK(D28),"",IF(OR(MID($B28,6,1)="9",MID($B28,6,1)="8"),"Enter Measure Cost","")),"") | K28: =IFERROR(IF(ISBLANK(F28),"",IF(OR(MID($B28,6,1)="9",MID($B28,6,1)="8"),G28*IF(MID($B28,2,2)="LI",'Inflation Adjustment'!$J$9,'Inflation Adjustment'!$J$10),$F28*VLOOKUP($B28,'Reference ML'!$A$3:$M$2524,9,FALSE))),"") | L28: =IFERROR(IF(ISBLANK(G28),"",IF(OR(MID($B28,6,1)="9",MID($B28,6,1)="8"),H28,$F28*VLOOKUP($B28,'Reference ML'!$A$3:$M$2524,10,FALSE))),"") | M28: =IFERROR(VLOOKUP($B28,'Reference ML'!$A$3:$M$2524,13,FALSE),"") | N28: =IF(K28>0,IFERROR(K28*M28,0),"") -> 0 | O28: =IFERROR(VLOOKUP($B28,'Reference ML'!$A$3:$M$2524,11,FALSE),"") | P28: =IFERROR(-1*PV(5%,I28,O28),0) -> 0 | Q28: =IFERROR(-1*PV(5%,J28,O28),0) -> 0 | R28: =IFERROR(N28+P28-Q28,"") -> 0 | S28: =_xlfn.LET( _xlpm.refno,B28, _xlpm.measure_type,E28, _xlpm.custom_cost,H28, _xlpm.custom_benefit,R28, _xlpm.custom_bc_ratio,(_xlpm.custom_benefit/_xlpm.custom_cost), _xlpm.measure_bc_ratio,IF(_xlpm.measure_type="custom",_xlpm.custom_bc_ratio,VLOOKUP(_xlpm.refno,'UES Measure List Oct 2026'!$A$3:$AI$2210,35,FALSE)), _xlpm.display,IF(ISBLANK(_xlpm.refno),"",_xlpm.measure_bc_ratio), _xlpm.display ) | T28: =IF(ISBLANK(B28),"",K28/$C$22) | U28: =IF(ISBLANK(B28),"",(T28*S28)) | V28: =IF(ISBLANK(B28),"",IF(E28="custom",IF(AND(K28>400000,S28<0.5),"yes","no"),"n/a")) | W28: x
D29: =IF(ISBLANK(B29),"",IFERROR(VLOOKUP(B29,'Reference ML'!$A$3:$M$2524,7,FALSE),"Error: Refno Not Found")) | E29: =_xlfn.LET( _xlpm.refno,B29, _xlpm.mid_digit,MID(_xlpm.refno,6,1), _xlpm.custom,IF(OR(_xlpm.mid_digit="8",_xlpm.mid_digit="9"),"yes","no"), _xlpm.display, IF(ISBLANK(_xlpm.refno),"", IF(_xlpm.custom="yes","custom","UES") ), _xlpm.out,_xlpm.display, _xlpm.out ) | F29: =IF(ISBLANK(B29),"",IF(OR(MID($B29,6,1)="9",MID($B29,6,1)="8"),"n/a","Enter Quantity")) | G29: =IFERROR(IF(ISBLANK(D29),"",IF(OR(MID($B29,6,1)="9",MID($B29,6,1)="8"),"Enter Site Savings","")),"") | H29: =IFERROR(IF(ISBLANK(D29),"",IF(OR(MID($B29,6,1)="9",MID($B29,6,1)="8"),"Enter Measure Cost","")),"") | K29: =IFERROR(IF(ISBLANK(F29),"",IF(OR(MID($B29,6,1)="9",MID($B29,6,1)="8"),G29*IF(MID($B29,2,2)="LI",'Inflation Adjustment'!$J$9,'Inflation Adjustment'!$J$10),$F29*VLOOKUP($B29,'Reference ML'!$A$3:$M$2524,9,FALSE))),"") | L29: =IFERROR(IF(ISBLANK(G29),"",IF(OR(MID($B29,6,1)="9",MID($B29,6,1)="8"),H29,$F29*VLOOKUP($B29,'Reference ML'!$A$3:$M$2524,10,FALSE))),"") | M29: =IFERROR(VLOOKUP($B29,'Reference ML'!$A$3:$M$2524,13,FALSE),"") | N29: =IF(K29>0,IFERROR(K29*M29,0),"") -> 0 | O29: =IFERROR(VLOOKUP($B29,'Reference ML'!$A$3:$M$2524,11,FALSE),"") | P29: =IFERROR(-1*PV(5%,I29,O29),0) -> 0 | Q29: =IFERROR(-1*PV(5%,J29,O29),0) -> 0 | R29: =IFERROR(N29+P29-Q29,"") -> 0 | S29: =_xlfn.LET( _xlpm.refno,B29, _xlpm.measure_type,E29, _xlpm.custom_cost,H29, _xlpm.custom_benefit,R29, _xlpm.custom_bc_ratio,(_xlpm.custom_benefit/_xlpm.custom_cost), _xlpm.measure_bc_ratio,IF(_xlpm.measure_type="custom",_xlpm.custom_bc_ratio,VLOOKUP(_xlpm.refno,'UES Measure List Oct 2026'!$A$3:$AI$2210,35,FALSE)), _xlpm.display,IF(ISBLANK(_xlpm.refno),"",_xlpm.measure_bc_ratio), _xlpm.display ) | T29: =IF(ISBLANK(B29),"",K29/$C$22) | U29: =IF(ISBLANK(B29),"",(T29*S29)) | V29: =IF(ISBLANK(B29),"",IF(E29="custom",IF(AND(K29>400000,S29<0.5),"yes","no"),"n/a")) | W29: x
D30: =IF(ISBLANK(B30),"",IFERROR(VLOOKUP(B30,'Reference ML'!$A$3:$M$2524,7,FALSE),"Error: Refno Not Found")) | E30: =_xlfn.LET( _xlpm.refno,B30, _xlpm.mid_digit,MID(_xlpm.refno,6,1), _xlpm.custom,IF(OR(_xlpm.mid_digit="8",_xlpm.mid_digit="9"),"yes","no"), _xlpm.display, IF(ISBLANK(_xlpm.refno),"", IF(_xlpm.custom="yes","custom","UES") ), _xlpm.out,_xlpm.display, _xlpm.out ) | F30: =IF(ISBLANK(B30),"",IF(OR(MID($B30,6,1)="9",MID($B30,6,1)="8"),"n/a","Enter Quantity")) | G30: =IFERROR(IF(ISBLANK(D30),"",IF(OR(MID($B30,6,1)="9",MID($B30,6,1)="8"),"Enter Site Savings","")),"") | H30: =IFERROR(IF(ISBLANK(D30),"",IF(OR(MID($B30,6,1)="9",MID($B30,6,1)="8"),"Enter Measure Cost","")),"") | K30: =IFERROR(IF(ISBLANK(F30),"",IF(OR(MID($B30,6,1)="9",MID($B30,6,1)="8"),G30*IF(MID($B30,2,2)="LI",'Inflation Adjustment'!$J$9,'Inflation Adjustment'!$J$10),$F30*VLOOKUP($B30,'Reference ML'!$A$3:$M$2524,9,FALSE))),"") | L30: =IFERROR(IF(ISBLANK(G30),"",IF(OR(MID($B30,6,1)="9",MID($B30,6,1)="8"),H30,$F30*VLOOKUP($B30,'Reference ML'!$A$3:$M$2524,10,FALSE))),"") | M30: =IFERROR(VLOOKUP($B30,'Reference ML'!$A$3:$M$2524,13,FALSE),"") | N30: =IF(K30>0,IFERROR(K30*M30,0),"") -> 0 | O30: =IFERROR(VLOOKUP($B30,'Reference ML'!$A$3:$M$2524,11,FALSE),"") | P30: =IFERROR(-1*PV(5%,I30,O30),0) -> 0 | Q30: =IFERROR(-1*PV(5%,J30,O30),0) -> 0 | R30: =IFERROR(N30+P30-Q30,"") -> 0 | S30: =_xlfn.LET( _xlpm.refno,B30, _xlpm.measure_type,E30, _xlpm.custom_cost,H30, _xlpm.custom_benefit,R30, _xlpm.custom_bc_ratio,(_xlpm.custom_benefit/_xlpm.custom_cost), _xlpm.measure_bc_ratio,IF(_xlpm.measure_type="custom",_xlpm.custom_bc_ratio,VLOOKUP(_xlpm.refno,'UES Measure List Oct 2026'!$A$3:$AI$2210,35,FALSE)), _xlpm.display,IF(ISBLANK(_xlpm.refno),"",_xlpm.measure_bc_ratio), _xlpm.display ) | T30: =IF(ISBLANK(B30),"",K30/$C$22) | U30: =IF(ISBLANK(B30),"",(T30*S30)) | V30: =IF(ISBLANK(B30),"",IF(E30="custom",IF(AND(K30>400000,S30<0.5),"yes","no"),"n/a")) | W30: x
D31: =IF(ISBLANK(B31),"",IFERROR(VLOOKUP(B31,'Reference ML'!$A$3:$M$2524,7,FALSE),"Error: Refno Not Found")) | E31: =_xlfn.LET( _xlpm.refno,B31, _xlpm.mid_digit,MID(_xlpm.refno,6,1), _xlpm.custom,IF(OR(_xlpm.mid_digit="8",_xlpm.mid_digit="9"),"yes","no"), _xlpm.display, IF(ISBLANK(_xlpm.refno),"", IF(_xlpm.custom="yes","custom","UES") ), _xlpm.out,_xlpm.display, _xlpm.out ) | F31: =IF(ISBLANK(B31),"",IF(OR(MID($B31,6,1)="9",MID($B31,6,1)="8"),"n/a","Enter Quantity")) | G31: =IFERROR(IF(ISBLANK(D31),"",IF(OR(MID($B31,6,1)="9",MID($B31,6,1)="8"),"Enter Site Savings","")),"") | H31: =IFERROR(IF(ISBLANK(D31),"",IF(OR(MID($B31,6,1)="9",MID($B31,6,1)="8"),"Enter Measure Cost","")),"") | K31: =IFERROR(IF(ISBLANK(F31),"",IF(OR(MID($B31,6,1)="9",MID($B31,6,1)="8"),G31*IF(MID($B31,2,2)="LI",'Inflation Adjustment'!$J$9,'Inflation Adjustment'!$J$10),$F31*VLOOKUP($B31,'Reference ML'!$A$3:$M$2524,9,FALSE))),"") | L31: =IFERROR(IF(ISBLANK(G31),"",IF(OR(MID($B31,6,1)="9",MID($B31,6,1)="8"),H31,$F31*VLOOKUP($B31,'Reference ML'!$A$3:$M$2524,10,FALSE))),"") | M31: =IFERROR(VLOOKUP($B31,'Reference ML'!$A$3:$M$2524,13,FALSE),"") | N31: =IF(K31>0,IFERROR(K31*M31,0),"") -> 0 | O31: =IFERROR(VLOOKUP($B31,'Reference ML'!$A$3:$M$2524,11,FALSE),"") | P31: =IFERROR(-1*PV(5%,I31,O31),0) -> 0 | Q31: =IFERROR(-1*PV(5%,J31,O31),0) -> 0 | R31: =IFERROR(N31+P31-Q31,"") -> 0 | S31: =_xlfn.LET( _xlpm.refno,B31, _xlpm.measure_type,E31, _xlpm.custom_cost,H31, _xlpm.custom_benefit,R31, _xlpm.custom_bc_ratio,(_xlpm.custom_benefit/_xlpm.custom_cost), _xlpm.measure_bc_ratio,IF(_xlpm.measure_type="custom",_xlpm.custom_bc_ratio,VLOOKUP(_xlpm.refno,'UES Measure List Oct 2026'!$A$3:$AI$2210,35,FALSE)), _xlpm.display,IF(ISBLANK(_xlpm.refno),"",_xlpm.measure_bc_ratio), _xlpm.display ) | T31: =IF(ISBLANK(B31),"",K31/$C$22) | U31: =IF(ISBLANK(B31),"",(T31*S31)) | V31: =IF(ISBLANK(B31),"",IF(E31="custom",IF(AND(K31>400000,S31<0.5),"yes","no"),"n/a")) | W31: x
D32: =IF(ISBLANK(B32),"",IFERROR(VLOOKUP(B32,'Reference ML'!$A$3:$M$2524,7,FALSE),"Error: Refno Not Found")) | E32: =_xlfn.LET( _xlpm.refno,B32, _xlpm.mid_digit,MID(_xlpm.refno,6,1), _xlpm.custom,IF(OR(_xlpm.mid_digit="8",_xlpm.mid_digit="9"),"yes","no"), _xlpm.display, IF(ISBLANK(_xlpm.refno),"", IF(_xlpm.custom="yes","custom","UES") ), _xlpm.out,_xlpm.display, _xlpm.out ) | F32: =IF(ISBLANK(B32),"",IF(OR(MID($B32,6,1)="9",MID($B32,6,1)="8"),"n/a","Enter Quantity")) | G32: =IFERROR(IF(ISBLANK(D32),"",IF(OR(MID($B32,6,1)="9",MID($B32,6,1)="8"),"Enter Site Savings","")),"") | H32: =IFERROR(IF(ISBLANK(D32),"",IF(OR(MID($B32,6,1)="9",MID($B32,6,1)="8"),"Enter Measure Cost","")),"") | K32: =IFERROR(IF(ISBLANK(F32),"",IF(OR(MID($B32,6,1)="9",MID($B32,6,1)="8"),G32*IF(MID($B32,2,2)="LI",'Inflation Adjustment'!$J$9,'Inflation Adjustment'!$J$10),$F32*VLOOKUP($B32,'Reference ML'!$A$3:$M$2524,9,FALSE))),"") | L32: =IFERROR(IF(ISBLANK(G32),"",IF(OR(MID($B32,6,1)="9",MID($B32,6,1)="8"),H32,$F32*VLOOKUP($B32,'Reference ML'!$A$3:$M$2524,10,FALSE))),"") | M32: =IFERROR(VLOOKUP($B32,'Reference ML'!$A$3:$M$2524,13,FALSE),"") | N32: =IF(K32>0,IFERROR(K32*M32,0),"") -> 0 | O32: =IFERROR(VLOOKUP($B32,'Reference ML'!$A$3:$M$2524,11,FALSE),"") | P32: =IFERROR(-1*PV(5%,I32,O32),0) -> 0 | Q32: =IFERROR(-1*PV(5%,J32,O32),0) -> 0 | R32: =IFERROR(N32+P32-Q32,"") -> 0 | S32: =_xlfn.LET( _xlpm.refno,B32, _xlpm.measure_type,E32, _xlpm.custom_cost,H32, _xlpm.custom_benefit,R32, _xlpm.custom_bc_ratio,(_xlpm.custom_benefit/_xlpm.custom_cost), _xlpm.measure_bc_ratio,IF(_xlpm.measure_type="custom",_xlpm.custom_bc_ratio,VLOOKUP(_xlpm.refno,'UES Measure List Oct 2026'!$A$3:$AI$2210,35,FALSE)), _xlpm.display,IF(ISBLANK(_xlpm.refno),"",_xlpm.measure_bc_ratio), _xlpm.display ) | T32: =IF(ISBLANK(B32),"",K32/$C$22) | U32: =IF(ISBLANK(B32),"",(T32*S32)) | V32: =IF(ISBLANK(B32),"",IF(E32="custom",IF(AND(K32>400000,S32<0.5),"yes","no"),"n/a")) | W32: x
D33: =IF(ISBLANK(B33),"",IFERROR(VLOOKUP(B33,'Reference ML'!$A$3:$M$2524,7,FALSE),"Error: Refno Not Found")) | E33: =_xlfn.LET( _xlpm.refno,B33, _xlpm.mid_digit,MID(_xlpm.refno,6,1), _xlpm.custom,IF(OR(_xlpm.mid_digit="8",_xlpm.mid_digit="9"),"yes","no"), _xlpm.display, IF(ISBLANK(_xlpm.refno),"", IF(_xlpm.custom="yes","custom","UES") ), _xlpm.out,_xlpm.display, _xlpm.out ) | F33: =IF(ISBLANK(B33),"",IF(OR(MID($B33,6,1)="9",MID($B33,6,1)="8"),"n/a","Enter Quantity")) | G33: =IFERROR(IF(ISBLANK(D33),"",IF(OR(MID($B33,6,1)="9",MID($B33,6,1)="8"),"Enter Site Savings","")),"") | H33: =IFERROR(IF(ISBLANK(D33),"",IF(OR(MID($B33,6,1)="9",MID($B33,6,1)="8"),"Enter Measure Cost","")),"") | K33: =IFERROR(IF(ISBLANK(F33),"",IF(OR(MID($B33,6,1)="9",MID($B33,6,1)="8"),G33*IF(MID($B33,2,2)="LI",'Inflation Adjustment'!$J$9,'Inflation Adjustment'!$J$10),$F33*VLOOKUP($B33,'Reference ML'!$A$3:$M$2524,9,FALSE))),"") | L33: =IFERROR(IF(ISBLANK(G33),"",IF(OR(MID($B33,6,1)="9",MID($B33,6,1)="8"),H33,$F33*VLOOKUP($B33,'Reference ML'!$A$3:$M$2524,10,FALSE))),"") | M33: =IFERROR(VLOOKUP($B33,'Reference ML'!$A$3:$M$2524,13,FALSE),"") | N33: =IF(K33>0,IFERROR(K33*M33,0),"") -> 0 | O33: =IFERROR(VLOOKUP($B33,'Reference ML'!$A$3:$M$2524,11,FALSE),"") | P33: =IFERROR(-1*PV(5%,I33,O33),0) -> 0 | Q33: =IFERROR(-1*PV(5%,J33,O33),0) -> 0 | R33: =IFERROR(N33+P33-Q33,"") -> 0 | S33: =_xlfn.LET( _xlpm.refno,B33, _xlpm.measure_type,E33, _xlpm.custom_cost,H33, _xlpm.custom_benefit,R33, _xlpm.custom_bc_ratio,(_xlpm.custom_benefit/_xlpm.custom_cost), _xlpm.measure_bc_ratio,IF(_xlpm.measure_type="custom",_xlpm.custom_bc_ratio,VLOOKUP(_xlpm.refno,'UES Measure List Oct 2026'!$A$3:$AI$2210,35,FALSE)), _xlpm.display,IF(ISBLANK(_xlpm.refno),"",_xlpm.measure_bc_ratio), _xlpm.display ) | T33: =IF(ISBLANK(B33),"",K33/$C$22) | U33: =IF(ISBLANK(B33),"",(T33*S33)) | V33: =IF(ISBLANK(B33),"",IF(E33="custom",IF(AND(K33>400000,S33<0.5),"yes","no"),"n/a")) | W33: x
D34: =IF(ISBLANK(B34),"",IFERROR(VLOOKUP(B34,'Reference ML'!$A$3:$M$2524,7,FALSE),"Error: Refno Not Found")) | E34: =_xlfn.LET( _xlpm.refno,B34, _xlpm.mid_digit,MID(_xlpm.refno,6,1), _xlpm.custom,IF(OR(_xlpm.mid_digit="8",_xlpm.mid_digit="9"),"yes","no"), _xlpm.display, IF(ISBLANK(_xlpm.refno),"", IF(_xlpm.custom="yes","custom","UES") ), _xlpm.out,_xlpm.display, _xlpm.out ) | F34: =IF(ISBLANK(B34),"",IF(OR(MID($B34,6,1)="9",MID($B34,6,1)="8"),"n/a","Enter Quantity")) | G34: =IFERROR(IF(ISBLANK(D34),"",IF(OR(MID($B34,6,1)="9",MID($B34,6,1)="8"),"Enter Site Savings","")),"") | H34: =IFERROR(IF(ISBLANK(D34),"",IF(OR(MID($B34,6,1)="9",MID($B34,6,1)="8"),"Enter Measure Cost","")),"") | K34: =IFERROR(IF(ISBLANK(F34),"",IF(OR(MID($B34,6,1)="9",MID($B34,6,1)="8"),G34*IF(MID($B34,2,2)="LI",'Inflation Adjustment'!$J$9,'Inflation Adjustment'!$J$10),$F34*VLOOKUP($B34,'Reference ML'!$A$3:$M$2524,9,FALSE))),"") | L34: =IFERROR(IF(ISBLANK(G34),"",IF(OR(MID($B34,6,1)="9",MID($B34,6,1)="8"),H34,$F34*VLOOKUP($B34,'Reference ML'!$A$3:$M$2524,10,FALSE))),"") | M34: =IFERROR(VLOOKUP($B34,'Reference ML'!$A$3:$M$2524,13,FALSE),"") | N34: =IF(K34>0,IFERROR(K34*M34,0),"") -> 0 | O34: =IFERROR(VLOOKUP($B34,'Reference ML'!$A$3:$M$2524,11,FALSE),"") | P34: =IFERROR(-1*PV(5%,I34,O34),0) -> 0 | Q34: =IFERROR(-1*PV(5%,J34,O34),0) -> 0 | R34: =IFERROR(N34+P34-Q34,"") -> 0 | S34: =_xlfn.LET( _xlpm.refno,B34, _xlpm.measure_type,E34, _xlpm.custom_cost,H34, _xlpm.custom_benefit,R34, _xlpm.custom_bc_ratio,(_xlpm.custom_benefit/_xlpm.custom_cost), _xlpm.measure_bc_ratio,IF(_xlpm.measure_type="custom",_xlpm.custom_bc_ratio,VLOOKUP(_xlpm.refno,'UES Measure List Oct 2026'!$A$3:$AI$2210,35,FALSE)), _xlpm.display,IF(ISBLANK(_xlpm.refno),"",_xlpm.measure_bc_ratio), _xlpm.display ) | T34: =IF(ISBLANK(B34),"",K34/$C$22) | U34: =IF(ISBLANK(B34),"",(T34*S34)) | V34: =IF(ISBLANK(B34),"",IF(E34="custom",IF(AND(K34>400000,S34<0.5),"yes","no"),"n/a")) | W34: x
D35: =IF(ISBLANK(B35),"",IFERROR(VLOOKUP(B35,'Reference ML'!$A$3:$M$2524,7,FALSE),"Error: Refno Not Found")) | E35: =_xlfn.LET( _xlpm.refno,B35, _xlpm.mid_digit,MID(_xlpm.refno,6,1), _xlpm.custom,IF(OR(_xlpm.mid_digit="8",_xlpm.mid_digit="9"),"yes","no"), _xlpm.display, IF(ISBLANK(_xlpm.refno),"", IF(_xlpm.custom="yes","custom","UES") ), _xlpm.out,_xlpm.display, _xlpm.out ) | F35: =IF(ISBLANK(B35),"",IF(OR(MID($B35,6,1)="9",MID($B35,6,1)="8"),"n/a","Enter Quantity")) | G35: =IFERROR(IF(ISBLANK(D35),"",IF(OR(MID($B35,6,1)="9",MID($B35,6,1)="8"),"Enter Site Savings","")),"") | H35: =IFERROR(IF(ISBLANK(D35),"",IF(OR(MID($B35,6,1)="9",MID($B35,6,1)="8"),"Enter Measure Cost","")),"") | K35: =IFERROR(IF(ISBLANK(F35),"",IF(OR(MID($B35,6,1)="9",MID($B35,6,1)="8"),G35*IF(MID($B35,2,2)="LI",'Inflation Adjustment'!$J$9,'Inflation Adjustment'!$J$10),$F35*VLOOKUP($B35,'Reference ML'!$A$3:$M$2524,9,FALSE))),"") | L35: =IFERROR(IF(ISBLANK(G35),"",IF(OR(MID($B35,6,1)="9",MID($B35,6,1)="8"),H35,$F35*VLOOKUP($B35,'Reference ML'!$A$3:$M$2524,10,FALSE))),"") | M35: =IFERROR(VLOOKUP($B35,'Reference ML'!$A$3:$M$2524,13,FALSE),"") | N35: =IF(K35>0,IFERROR(K35*M35,0),"") -> 0 | O35: =IFERROR(VLOOKUP($B35,'Reference ML'!$A$3:$M$2524,11,FALSE),"") | P35: =IFERROR(-1*PV(5%,I35,O35),0) -> 0 | Q35: =IFERROR(-1*PV(5%,J35,O35),0) -> 0 | R35: =IFERROR(N35+P35-Q35,"") -> 0 | S35: =_xlfn.LET( _xlpm.refno,B35, _xlpm.measure_type,E35, _xlpm.custom_cost,H35, _xlpm.custom_benefit,R35, _xlpm.custom_bc_ratio,(_xlpm.custom_benefit/_xlpm.custom_cost), _xlpm.measure_bc_ratio,IF(_xlpm.measure_type="custom",_xlpm.custom_bc_ratio,VLOOKUP(_xlpm.refno,'UES Measure List Oct 2026'!$A$3:$AI$2210,35,FALSE)), _xlpm.display,IF(ISBLANK(_xlpm.refno),"",_xlpm.measure_bc_ratio), _xlpm.display ) | T35: =IF(ISBLANK(B35),"",K35/$C$22) | U35: =IF(ISBLANK(B35),"",(T35*S35)) | V35: =IF(ISBLANK(B35),"",IF(E35="custom",IF(AND(K35>400000,S35<0.5),"yes","no"),"n/a")) | W35: x
D36: =IF(ISBLANK(B36),"",IFERROR(VLOOKUP(B36,'Reference ML'!$A$3:$M$2524,7,FALSE),"Error: Refno Not Found")) | E36: =_xlfn.LET( _xlpm.refno,B36, _xlpm.mid_digit,MID(_xlpm.refno,6,1), _xlpm.custom,IF(OR(_xlpm.mid_digit="8",_xlpm.mid_digit="9"),"yes","no"), _xlpm.display, IF(ISBLANK(_xlpm.refno),"", IF(_xlpm.custom="yes","custom","UES") ), _xlpm.out,_xlpm.display, _xlpm.out ) | F36: =IF(ISBLANK(B36),"",IF(OR(MID($B36,6,1)="9",MID($B36,6,1)="8"),"n/a","Enter Quantity")) | G36: =IFERROR(IF(ISBLANK(D36),"",IF(OR(MID($B36,6,1)="9",MID($B36,6,1)="8"),"Enter Site Savings","")),"") | H36: =IFERROR(IF(ISBLANK(D36),"",IF(OR(MID($B36,6,1)="9",MID($B36,6,1)="8"),"Enter Measure Cost","")),"") | K36: =IFERROR(IF(ISBLANK(F36),"",IF(OR(MID($B36,6,1)="9",MID($B36,6,1)="8"),G36*IF(MID($B36,2,2)="LI",'Inflation Adjustment'!$J$9,'Inflation Adjustment'!$J$10),$F36*VLOOKUP($B36,'Reference ML'!$A$3:$M$2524,9,FALSE))),"") | L36: =IFERROR(IF(ISBLANK(G36),"",IF(OR(MID($B36,6,1)="9",MID($B36,6,1)="8"),H36,$F36*VLOOKUP($B36,'Reference ML'!$A$3:$M$2524,10,FALSE))),"") | M36: =IFERROR(VLOOKUP($B36,'Reference ML'!$A$3:$M$2524,13,FALSE),"") | N36: =IF(K36>0,IFERROR(K36*M36,0),"") -> 0 | O36: =IFERROR(VLOOKUP($B36,'Reference ML'!$A$3:$M$2524,11,FALSE),"") | P36: =IFERROR(-1*PV(5%,I36,O36),0) -> 0 | Q36: =IFERROR(-1*PV(5%,J36,O36),0) -> 0 | R36: =IFERROR(N36+P36-Q36,"") -> 0 | S36: =_xlfn.LET( _xlpm.refno,B36, _xlpm.measure_type,E36, _xlpm.custom_cost,H36, _xlpm.custom_benefit,R36, _xlpm.custom_bc_ratio,(_xlpm.custom_benefit/_xlpm.custom_cost), _xlpm.measure_bc_ratio,IF(_xlpm.measure_type="custom",_xlpm.custom_bc_ratio,VLOOKUP(_xlpm.refno,'UES Measure List Oct 2026'!$A$3:$AI$2210,35,FALSE)), _xlpm.display,IF(ISBLANK(_xlpm.refno),"",_xlpm.measure_bc_ratio), _xlpm.display ) | T36: =IF(ISBLANK(B36),"",K36/$C$22) | U36: =IF(ISBLANK(B36),"",(T36*S36)) | V36: =IF(ISBLANK(B36),"",IF(E36="custom",IF(AND(K36>400000,S36<0.5),"yes","no"),"n/a")) | W36: x
D37: =IF(ISBLANK(B37),"",IFERROR(VLOOKUP(B37,'Reference ML'!$A$3:$M$2524,7,FALSE),"Error: Refno Not Found")) | E37: =_xlfn.LET( _xlpm.refno,B37, _xlpm.mid_digit,MID(_xlpm.refno,6,1), _xlpm.custom,IF(OR(_xlpm.mid_digit="8",_xlpm.mid_digit="9"),"yes","no"), _xlpm.display, IF(ISBLANK(_xlpm.refno),"", IF(_xlpm.custom="yes","custom","UES") ), _xlpm.out,_xlpm.display, _xlpm.out ) | F37: =IF(ISBLANK(B37),"",IF(OR(MID($B37,6,1)="9",MID($B37,6,1)="8"),"n/a","Enter Quantity")) | G37: =IFERROR(IF(ISBLANK(D37),"",IF(OR(MID($B37,6,1)="9",MID($B37,6,1)="8"),"Enter Site Savings","")),"") | H37: =IFERROR(IF(ISBLANK(D37),"",IF(OR(MID($B37,6,1)="9",MID($B37,6,1)="8"),"Enter Measure Cost","")),"") | K37: =IFERROR(IF(ISBLANK(F37),"",IF(OR(MID($B37,6,1)="9",MID($B37,6,1)="8"),G37*IF(MID($B37,2,2)="LI",'Inflation Adjustment'!$J$9,'Inflation Adjustment'!$J$10),$F37*VLOOKUP($B37,'Reference ML'!$A$3:$M$2524,9,FALSE))),"") | L37: =IFERROR(IF(ISBLANK(G37),"",IF(OR(MID($B37,6,1)="9",MID($B37,6,1)="8"),H37,$F37*VLOOKUP($B37,'Reference ML'!$A$3:$M$2524,10,FALSE))),"") | M37: =IFERROR(VLOOKUP($B37,'Reference ML'!$A$3:$M$2524,13,FALSE),"") | N37: =IF(K37>0,IFERROR(K37*M37,0),"") -> 0 | O37: =IFERROR(VLOOKUP($B37,'Reference ML'!$A$3:$M$2524,11,FALSE),"") | P37: =IFERROR(-1*PV(5%,I37,O37),0) -> 0 | Q37: =IFERROR(-1*PV(5%,J37,O37),0) -> 0 | R37: =IFERROR(N37+P37-Q37,"") -> 0 | S37: =_xlfn.LET( _xlpm.refno,B37, _xlpm.measure_type,E37, _xlpm.custom_cost,H37, _xlpm.custom_benefit,R37, _xlpm.custom_bc_ratio,(_xlpm.custom_benefit/_xlpm.custom_cost), _xlpm.measure_bc_ratio,IF(_xlpm.measure_type="custom",_xlpm.custom_bc_ratio,VLOOKUP(_xlpm.refno,'UES Measure List Oct 2026'!$A$3:$AI$2210,35,FALSE)), _xlpm.display,IF(ISBLANK(_xlpm.refno),"",_xlpm.measure_bc_ratio), _xlpm.display ) | T37: =IF(ISBLANK(B37),"",K37/$C$22) | U37: =IF(ISBLANK(B37),"",(T37*S37)) | V37: =IF(ISBLANK(B37),"",IF(E37="custom",IF(AND(K37>400000,S37<0.5),"yes","no"),"n/a")) | W37: x
D38: =IF(ISBLANK(B38),"",IFERROR(VLOOKUP(B38,'Reference ML'!$A$3:$M$2524,7,FALSE),"Error: Refno Not Found")) | E38: =_xlfn.LET( _xlpm.refno,B38, _xlpm.mid_digit,MID(_xlpm.refno,6,1), _xlpm.custom,IF(OR(_xlpm.mid_digit="8",_xlpm.mid_digit="9"),"yes","no"), _xlpm.display, IF(ISBLANK(_xlpm.refno),"", IF(_xlpm.custom="yes","custom","UES") ), _xlpm.out,_xlpm.display, _xlpm.out ) | F38: =IF(ISBLANK(B38),"",IF(OR(MID($B38,6,1)="9",MID($B38,6,1)="8"),"n/a","Enter Quantity")) | G38: =IFERROR(IF(ISBLANK(D38),"",IF(OR(MID($B38,6,1)="9",MID($B38,6,1)="8"),"Enter Site Savings","")),"") | H38: =IFERROR(IF(ISBLANK(D38),"",IF(OR(MID($B38,6,1)="9",MID($B38,6,1)="8"),"Enter Measure Cost","")),"") | K38: =IFERROR(IF(ISBLANK(F38),"",IF(OR(MID($B38,6,1)="9",MID($B38,6,1)="8"),G38*IF(MID($B38,2,2)="LI",'Inflation Adjustment'!$J$9,'Inflation Adjustment'!$J$10),$F38*VLOOKUP($B38,'Reference ML'!$A$3:$M$2524,9,FALSE))),"") | L38: =IFERROR(IF(ISBLANK(G38),"",IF(OR(MID($B38,6,1)="9",MID($B38,6,1)="8"),H38,$F38*VLOOKUP($B38,'Reference ML'!$A$3:$M$2524,10,FALSE))),"") | M38: =IFERROR(VLOOKUP($B38,'Reference ML'!$A$3:$M$2524,13,FALSE),"") | N38: =IF(K38>0,IFERROR(K38*M38,0),"") -> 0 | O38: =IFERROR(VLOOKUP($B38,'Reference ML'!$A$3:$M$2524,11,FALSE),"") | P38: =IFERROR(-1*PV(5%,I38,O38),0) -> 0 | Q38: =IFERROR(-1*PV(5%,J38,O38),0) -> 0 | R38: =IFERROR(N38+P38-Q38,"") -> 0 | S38: =_xlfn.LET( _xlpm.refno,B38, _xlpm.measure_type,E38, _xlpm.custom_cost,H38, _xlpm.custom_benefit,R38, _xlpm.custom_bc_ratio,(_xlpm.custom_benefit/_xlpm.custom_cost), _xlpm.measure_bc_ratio,IF(_xlpm.measure_type="custom",_xlpm.custom_bc_ratio,VLOOKUP(_xlpm.refno,'UES Measure List Oct 2026'!$A$3:$AI$2210,35,FALSE)), _xlpm.display,IF(ISBLANK(_xlpm.refno),"",_xlpm.measure_bc_ratio), _xlpm.display ) | T38: =IF(ISBLANK(B38),"",K38/$C$22) | U38: =IF(ISBLANK(B38),"",(T38*S38)) | V38: =IF(ISBLANK(B38),"",IF(E38="custom",IF(AND(K38>400000,S38<0.5),"yes","no"),"n/a")) | W38: x
D39: =IF(ISBLANK(B39),"",IFERROR(VLOOKUP(B39,'Reference ML'!$A$3:$M$2524,7,FALSE),"Error: Refno Not Found")) | E39: =_xlfn.LET( _xlpm.refno,B39, _xlpm.mid_digit,MID(_xlpm.refno,6,1), _xlpm.custom,IF(OR(_xlpm.mid_digit="8",_xlpm.mid_digit="9"),"yes","no"), _xlpm.display, IF(ISBLANK(_xlpm.refno),"", IF(_xlpm.custom="yes","custom","UES") ), _xlpm.out,_xlpm.display, _xlpm.out ) | F39: =IF(ISBLANK(B39),"",IF(OR(MID($B39,6,1)="9",MID($B39,6,1)="8"),"n/a","Enter Quantity")) | G39: =IFERROR(IF(ISBLANK(D39),"",IF(OR(MID($B39,6,1)="9",MID($B39,6,1)="8"),"Enter Site Savings","")),"") | H39: =IFERROR(IF(ISBLANK(D39),"",IF(OR(MID($B39,6,1)="9",MID($B39,6,1)="8"),"Enter Measure Cost","")),"") | K39: =IFERROR(IF(ISBLANK(F39),"",IF(OR(MID($B39,6,1)="9",MID($B39,6,1)="8"),G39*IF(MID($B39,2,2)="LI",'Inflation Adjustment'!$J$9,'Inflation Adjustment'!$J$10),$F39*VLOOKUP($B39,'Reference ML'!$A$3:$M$2524,9,FALSE))),"") | L39: =IFERROR(IF(ISBLANK(G39),"",IF(OR(MID($B39,6,1)="9",MID($B39,6,1)="8"),H39,$F39*VLOOKUP($B39,'Reference ML'!$A$3:$M$2524,10,FALSE))),"") | M39: =IFERROR(VLOOKUP($B39,'Reference ML'!$A$3:$M$2524,13,FALSE),"") | N39: =IF(K39>0,IFERROR(K39*M39,0),"") -> 0 | O39: =IFERROR(VLOOKUP($B39,'Reference ML'!$A$3:$M$2524,11,FALSE),"") | P39: =IFERROR(-1*PV(5%,I39,O39),0) -> 0 | Q39: =IFERROR(-1*PV(5%,J39,O39),0) -> 0 | R39: =IFERROR(N39+P39-Q39,"") -> 0 | S39: =_xlfn.LET( _xlpm.refno,B39, _xlpm.measure_type,E39, _xlpm.custom_cost,H39, _xlpm.custom_benefit,R39, _xlpm.custom_bc_ratio,(_xlpm.custom_benefit/_xlpm.custom_cost), _xlpm.measure_bc_ratio,IF(_xlpm.measure_type="custom",_xlpm.custom_bc_ratio,VLOOKUP(_xlpm.refno,'UES Measure List Oct 2026'!$A$3:$AI$2210,35,FALSE)), _xlpm.display,IF(ISBLANK(_xlpm.refno),"",_xlpm.measure_bc_ratio), _xlpm.display ) | T39: =IF(ISBLANK(B39),"",K39/$C$22) | U39: =IF(ISBLANK(B39),"",(T39*S39)) | V39: =IF(ISBLANK(B39),"",IF(E39="custom",IF(AND(K39>400000,S39<0.5),"yes","no"),"n/a")) | W39: x
... D214: =IF(ISBLANK(B214),"",IFERROR(VLOOKUP(B214,'Reference ML'!$A$3:$M$2524,7,FALSE),"Error: Refno Not Found")) | E214: =_xlfn.LET( _xlpm.refno,B214, _xlpm.mid_digit,MID(_xlpm.refno,6,1), _xlpm.custom,IF(OR(_xlpm.mid_digit="8",_xlpm.mid_digit="9"),"yes","no"), _xlpm.display, IF(ISBLANK(_xlpm.refno),"", IF(_xlpm.custom="yes","custom","UES") ), _xlpm.out,_xlpm.display, _xlpm.out ) | F214: =IF(ISBLANK(B214),"",IF(OR(MID($B214,6,1)="9",MID($B214,6,1)="8"),"n/a","Enter Quantity")) | G214: =IFERROR(IF(ISBLANK(D214),"",IF(OR(MID($B214,6,1)="9",MID($B214,6,1)="8"),"Enter Site Savings","")),"") | H214: =IFERROR(IF(ISBLANK(D214),"",IF(OR(MID($B214,6,1)="9",MID($B214,6,1)="8"),"Enter Measure Cost","")),"") | K214: =IFERROR(IF(ISBLANK(F214),"",IF(OR(MID($B214,6,1)="9",MID($B214,6,1)="8"),G214*IF(MID($B214,2,2)="LI",'Inflation Adjustment'!$J$9,'Inflation Adjustment'!$J$10),$F214*VLOOKUP($B214,'Reference ML'!$A$3:$M$2524,9,FALSE))),"") | L214: =IFERROR(IF(ISBLANK(G214),"",IF(OR(MID($B214,6,1)="9",MID($B214,6,1)="8"),H214,$F214*VLOOKUP($B214,'Reference ML'!$A$3:$M$2524,10,FALSE))),"") | M214: =IFERROR(VLOOKUP($B214,'Reference ML'!$A$3:$M$2524,13,FALSE),"") | N214: =IF(K214>0,IFERROR(K214*M214,0),"") -> 0 | O214: =IFERROR(VLOOKUP($B214,'Reference ML'!$A$3:$M$2524,11,FALSE),"") | P214: =IFERROR(-1*PV(5%,I214,O214),0) -> 0 | Q214: =IFERROR(-1*PV(5%,J214,O214),0) -> 0 | R214: =IFERROR(N214+P214-Q214,"") -> 0 | S214: =_xlfn.LET( _xlpm.refno,B214, _xlpm.measure_type,E214, _xlpm.custom_cost,H214, _xlpm.custom_benefit,R214, _xlpm.custom_bc_ratio,(_xlpm.custom_benefit/_xlpm.custom_cost), _xlpm.measure_bc_ratio,IF(_xlpm.measure_type="custom",_xlpm.custom_bc_ratio,VLOOKUP(_xlpm.refno,'UES Measure List Oct 2026'!$A$3:$AI$2210,35,FALSE)), _xlpm.display,IF(ISBLANK(_xlpm.refno),"",_xlpm.measure_bc_ratio), _xlpm.display ) | T214: =IF(ISBLANK(B214),"",K214/$C$22) | U214: =IF(ISBLANK(B214),"",(T214*S214)) | V214: =IF(ISBLANK(B214),"",IF(E214="custom",IF(AND(K214>400000,S214<0.5),"yes","no"),"n/a")) | W214: x
B215: x | C215: x | D215: x | E215: x | F215: x | G215: x | H215: x | I215: x | J215: x | K215: =IFERROR(IF(ISBLANK(F215),"",IF(OR(MID($B215,6,1)="9",MID($B215,6,1)="8"),G215*IF(MID($B215,2,2)="LI",'Inflation Adjustment'!$J$9,'Inflation Adjustment'!$J$10),$F215*VLOOKUP($B215,'Reference ML'!$A$3:$M$2524,9,FALSE))),"") | L215: x | M215: x | N215: x | O215: x | P215: x | Q215: x | R215: x | S215: x | T215: x | U215: x | V215: x | W215: x

Sheet Custom Measure List Oct 26
A1: Custom and Lighting Calculator Measures | N1: Programs Available to Use this Measures RefNo
A2: Custom Measure RefNo | B2: Resource Opportunity Type | C2: Sector | D2: End Use | E2: Category | F2: Technology/Activity/Practice | G2: Default Load Shape | H2: Measure Life | I2: Project Cost Cap | J2: Avoided Cost per kWh | K2: 44652 | L2: 45200 | M2: 45931 | N2: Option 1 Custom Project (C1) | O2: Option 2 Custom Project (C2) | P2: Custom Program (CP) | Q2: Non-Residential Lighting (LC) | R2: Strategic Energy Management (SEM) | S2: Energy Project Manager (EPM) | T2: Compressed Air (CA) | U2: Re-conductor and Transformer (RT)
A3: CHVEN82015 | B3: R | C3: Commercial | D3: HVAC | E3: Envelope | F3: Air Sealing | G3: C-All-HVAC-ER-All-All-E | H3: 30 | I3: 0.7 | J3: 0.93701255 | K3: 0.13 | L3: 0.2 | M3: 0.2 | N3: 0.2 | O3: 0.2 | P3: 0.2 | Q3: 0.2 | R3: 0.2 | S3: 0.2 | T3: 0.2 | U3: 0.2 | V3: 0.2 | W3: 0.2 | X3: 0.2 | Y3: 0.2 | Z3: 0.2 | AA3: 0.2 | AB3: 0.2 | AC3: 0.2 | AD3: 0.23 | AE3: 0.23 | AF3: 0.23 | AG3: 0.38 | AH3: 0.38 | AI3: Yes | AJ3: Yes | AK3: Yes
A4: CHVEN92015 | B4: L | C4: Commercial | D4: HVAC | E4: Envelope | F4: Air Sealing | G4: C-All-HVAC-ER-All-All-E | H4: 30 | I4: 0.7 | J4: 0.93701255 | K4: 0.2 | L4: 0.27 | M4: 0.27 | N4: 0.27 | O4: 0.27 | P4: 0.27 | Q4: 0.27 | R4: 0.27 | S4: 0.27 | T4: 0.27 | U4: 0.27 | V4: 0.27 | W4: 0.27 | X4: 0.27 | Y4: 0.27 | Z4: 0.27 | AA4: 0.27 | AB4: 0.27 | AC4: 0.27 | AD4: 0.31 | AE4: 0.31 | AF4: 0.31 | AG4: 0.38 | AH4: 0.38 | AI4: Yes | AJ4: Yes | AK4: Yes
A5: IHVEN83018 | B5: R | C5: Industrial | D5: HVAC | E5: Envelope | F5: Air Sealing | G5: I-All-SecTotal-All-All-All-E | H5: 30 | I5: 0.7 | J5: 0.9016046 | K5: 0.12 | L5: 0.17 | M5: 0.17 | N5: 0.25 | O5: 0.25 | P5: 0.25 | Q5: 0.25 | R5: 0.35 | S5: 0.35 | T5: 0.35 | U5: 0.35 | V5: 0.35 | W5: 0.35 | X5: 0.35 | Y5: 0.35 | Z5: 0.35 | AA5: 0.35 | AB5: 0.35 | AC5: 0.35 | AD5: 0.35 | AE5: 0.35 | AF5: 0.35 | AG5: 0.38 | AH5: 0.38 | AI5: Yes | AJ5: Yes | AK5: Yes
A6: IHVEN93018 | B6: L | C6: Industrial | D6: HVAC | E6: Envelope | F6: Air Sealing | G6: I-All-SecTotal-All-All-All-E | H6: 30 | I6: 0.7 | J6: 0.9016046 | K6: 0.12 | L6: 0.27 | M6: 0.27 | N6: 0.27 | O6: 0.25 | P6: 0.25 | Q6: 0.25 | R6: 0.35 | S6: 0.35 | T6: 0.35 | U6: 0.35 | V6: 0.35 | W6: 0.35 | X6: 0.35 | Y6: 0.35 | Z6: 0.35 | AA6: 0.35 | AB6: 0.35 | AC6: 0.35 | AD6: 0.35 | AE6: 0.35 | AF6: 0.35 | AG6: 0.38 | AH6: 0.38 | AI6: Yes | AJ6: Yes | AK6: Yes
A7: RHVEN81007 | B7: R | C7: Residential | D7: HVAC | E7: Envelope | F7: Air Sealing | G7: R-All-HVAC-ER-All-All-E | H7: 15 | I7: 0.7 | J7: 0.73008569 | K7: 0.2 | L7: 0.27 | M7: 0.27 | N7: 0.27 | O7: 0.27 | P7: 0.27 | Q7: 0.27 | R7: 0.2 | S7: 0.2 | T7: 0.2 | U7: 0.2 | V7: 0.2 | W7: 0.2 | X7: 0.2 | Y7: 0.2 | Z7: 0.2 | AA7: 0.2 | AB7: 0.2 | AC7: 0.2 | AD7: 0.2 | AE7: 0.2 | AF7: 0.2 | AG7: 0.33 | AH7: 0.33 | AI7: Yes | AJ7: Yes | AK7: Yes
A8: RHVEN91007 | B8: L | C8: Residential | D8: HVAC | E8: Envelope | F8: Air Sealing | G8: R-All-HVAC-ER-All-All-E | H8: 15 | I8: 0.7 | J8: 0.73008569 | K8: 0.2 | L8: 0.27 | M8: 0.27 | N8: 0.27 | O8: 0.27 | P8: 0.27 | Q8: 0.27 | R8: 0.27 | S8: 0.27 | T8: 0.27 | U8: 0.27 | V8: 0.27 | W8: 0.27 | X8: 0.27 | Y8: 0.27 | Z8: 0.27 | AA8: 0.27 | AB8: 0.27 | AC8: 0.27 | AD8: 0.27 | AE8: 0.27 | AF8: 0.27 | AG8: 0.33 | AH8: 0.33 | AI8: Yes | AJ8: Yes | AK8: Yes
A9: CHVHI82025 | B9: R | C9: Commercial | D9: HVAC | E9: HVAC System Improvements | F9: Air-Source Heat Pumps | G9: Commercial-All Com-Vent | H9: 15 | I9: 0.7 | J9: 0.59221964 | K9: 0.13 | L9: 0.2 | M9: 0.2 | N9: 0.2 | O9: 0.2 | P9: 0.2 | Q9: 0.2 | R9: 0.2 | S9: 0.2 | T9: 0.2 | U9: 0.2 | V9: 0.2 | W9: 0.2 | X9: 0.2 | Y9: 0.2 | Z9: 0.2 | AA9: 0.2 | AB9: 0.2 | AC9: 0.2 | AD9: 0.23 | AE9: 0.23 | AF9: 0.23 | AG9: 0.33 | AH9: 0.33 | AI9: Yes | AJ9: Yes | AK9: Yes
A10: CHVHI92025 | B10: L | C10: Commercial | D10: HVAC | E10: HVAC System Improvements | F10: Air-Source Heat Pumps | G10: Commercial-All Com-Vent | H10: 15 | I10: 0.7 | J10: 0.59221964 | K10: 0.2 | L10: 0.27 | M10: 0.27 | N10: 0.27 | O10: 0.27 | P10: 0.27 | Q10: 0.27 | R10: 0.27 | S10: 0.27 | T10: 0.27 | U10: 0.27 | V10: 0.27 | W10: 0.27 | X10: 0.27 | Y10: 0.27 | Z10: 0.27 | AA10: 0.27 | AB10: 0.27 | AC10: 0.27 | AD10: 0.31 | AE10: 0.31 | AF10: 0.31 | AG10: 0.33 | AH10: 0.33 | AI10: Yes | AJ10: Yes | AK10: Yes
A11: IHVHI83028 | B11: R | C11: Industrial | D11: HVAC | E11: HVAC System Improvements | F11: Air-Source Heat Pumps | G11: I-All-SecTotal-All-All-All-E | H11: 15 | I11: 0.7 | J11: 0.62699629 | K11: 0.12 | L11: 0.17 | M11: 0.17 | N11: 0.25 | O11: 0.25 | P11: 0.25 | Q11: 0.25 | R11: 0.25 | S11: 0.25 | T11: 0.25 | U11: 0.25 | V11: 0.25 | W11: 0.25 | X11: 0.25 | Y11: 0.25 | Z11: 0.25 | AA11: 0.25 | AB11: 0.25 | AC11: 0.25 | AD11: 0.25 | AE11: 0.25 | AF11: 0.25 | AG11: 0.33 | AH11: 0.33 | AI11: Yes | AJ11: Yes | AK11: Yes
A12: IHVHI93028 | B12: L | C12: Industrial | D12: HVAC | E12: HVAC System Improvements | F12: Air-Source Heat Pumps | G12: I-All-SecTotal-All-All-All-E | H12: 15 | I12: 0.7 | J12: 0.62699629 | K12: 0.12 | L12: 0.27 | M12: 0.27 | N12: 0.27 | O12: 0.25 | P12: 0.25 | Q12: 0.25 | R12: 0.25 | S12: 0.25 | T12: 0.25 | U12: 0.25 | V12: 0.25 | W12: 0.25 | X12: 0.25 | Y12: 0.25 | Z12: 0.25 | AA12: 0.25 | AB12: 0.25 | AC12: 0.25 | AD12: 0.25 | AE12: 0.25 | AF12: 0.25 | AG12: 0.33 | AH12: 0.33 | AI12: Yes | AJ12: Yes | AK12: Yes
A13: RHVHS81002 | B13: R | C13: Residential | D13: HVAC | E13: HVAC System | F13: Air-Source Heat Pumps w/Duct Sealing | G13: R-All-HVAC-ASHP-All-All-E | H13: 20 | I13: 0.7 | J13: 0.90105369 | K13: 0.2 | L13: 0.27 | M13: 0.27 | N13: 0.27 | O13: 0.27 | P13: 0.27 | Q13: 0.27 | R13: 0.35 | S13: 0.35 | T13: 0.35 | U13: 0.35 | V13: 0.35 | W13: 0.35 | X13: 0.35 | Y13: 0.35 | Z13: 0.35 | AA13: 0.35 | AB13: 0.35 | AC13: 0.35 | AD13: 0.35 | AE13: 0.35 | AF13: 0.35 | AG13: 0.38 | AH13: 0.38 | AI13: Yes | AJ13: Yes | AK13: Yes
A14: RHVHS91002 | B14: L | C14: Residential | D14: HVAC | E14: HVAC System | F14: Air-Source Heat Pumps w/Duct Sealing | G14: R-All-HVAC-ASHP-All-All-E | H14: 20 | I14: 0.7 | J14: 0.90105369 | K14: 0.2 | L14: 0.27 | M14: 0.27 | N14: 0.27 | O14: 0.27 | P14: 0.27 | Q14: 0.27 | R14: 0.35 | S14: 0.35 | T14: 0.35 | U14: 0.35 | V14: 0.35 | W14: 0.35 | X14: 0.35 | Y14: 0.35 | Z14: 0.35 | AA14: 0.35 | AB14: 0.35 | AC14: 0.35 | AD14: 0.35 | AE14: 0.35 | AF14: 0.35 | AG14: 0.38 | AH14: 0.38 | AI14: Yes | AJ14: Yes | AK14: Yes
... A16: RHVHS91003 | B16: L | C16: Residential | D16: HVAC | E16: HVAC System | F16: Air-Source Heat Pumps w/o Duct Sealing | G16: R-All-HVAC-ASHP-All-All-E | H16: 20 | I16: 0.7 | J16: 0.90105369 | K16: 0.2 | L16: 0.27 | M16: 0.27 | N16: 0.27 | O16: 0.27 | P16: 0.27 | Q16: 0.27 | R16: 0.35 | S16: 0.35 | T16: 0.35 | U16: 0.35 | V16: 0.35 | W16: 0.35 | X16: 0.35 | Y16: 0.35 | Z16: 0.35 | AA16: 0.35 | AB16: 0.35 | AC16: 0.35 | AD16: 0.35 | AE16: 0.35 | AF16: 0.35 | AG16: 0.38 | AH16: 0.38 | AI16: Yes | AJ16: Yes | AK16: Yes
A17: IHVHI83183 | B17: R | C17: Industrial | D17: HVAC | E17: HVAC System Improvements | F17: Air-Source Industrial Heat Pump | G17: I-All-SecTotal-All-All-All-E | H17: 15 | I17: 0.7 | J17: 0.62699629 | K17: NA | L17: NA | M17: NA | N17: NA | O17: NA | P17: NA | Q17: NA | R17: NA | S17: NA | T17: NA | U17: NA | V17: NA | W17: NA | X17: NA | Y17: NA | Z17: NA | AA17: NA | AB17: NA | AC17: NA | AD17: NA | AE17: NA | AF17: NA | AG17: NA | AH17: 0.33 | AI17: Yes | AJ17: Yes | AK17: Yes
A18: IHVHI93183 | B18: L | C18: Industrial | D18: HVAC | E18: HVAC System Improvements | F18: Air-Source Industrial Heat Pump | G18: I-All-SecTotal-All-All-All-E | H18: 15 | I18: 0.7 | J18: 0.62699629 | K18: NA | L18: NA | M18: NA | N18: NA | O18: NA | P18: NA | Q18: NA | R18: NA | S18: NA | T18: NA | U18: NA | V18: NA | W18: NA | X18: NA | Y18: NA | Z18: NA | AA18: NA | AB18: NA | AC18: NA | AD18: NA | AE18: NA | AF18: NA | AG18: NA | AH18: 0.33 | AI18: Yes | AJ18: Yes | AK18: Yes
A19: IPLHR83184 | B19: R | C19: Industrial | D19: Process Loads | E19: Heat Recovery | F19: Air-Source Industrial Heat Pump | G19: I-All-SecTotal-All-All-All-E | H19: 15 | I19: 0.7 | J19: 0.62699629 | K19: NA | L19: NA | M19: NA | N19: NA | O19: NA | P19: NA | Q19: NA | R19: NA | S19: NA | T19: NA | U19: NA | V19: NA | W19: NA | X19: NA | Y19: NA | Z19: NA | AA19: NA | AB19: NA | AC19: NA | AD19: NA | AE19: NA | AF19: NA | AG19: NA | AH19: 0.33 | AI19: Yes | AJ19: Yes | AK19: Yes
A20: IPLHR93184 | B20: L | C20: Industrial | D20: Process Loads | E20: Heat Recovery | F20: Air-Source Industrial Heat Pump | G20: I-All-SecTotal-All-All-All-E | H20: 15 | I20: 0.7 | J20: 0.62699629 | K20: NA | L20: NA | M20: NA | N20: NA | O20: NA | P20: NA | Q20: NA | R20: NA | S20: NA | T20: NA | U20: NA | V20: NA | W20: NA | X20: NA | Y20: NA | Z20: NA | AA20: NA | AB20: NA | AC20: NA | AD20: NA | AE20: NA | AF20: NA | AG20: NA | AH20: 0.33 | AI20: Yes | AJ20: Yes | AK20: Yes
A21: IWHHR83185 | B21: R | C21: Industrial | D21: Water Heating | E21: Heat Recovery | F21: Air-Source Industrial Heat Pump | G21: I-All-SecTotal-All-All-All-E | H21: 15 | I21: 0.7 | J21: 0.62699629 | K21: NA | L21: NA | M21: NA | N21: NA | O21: NA | P21: NA | Q21: NA | R21: NA | S21: NA | T21: NA | U21: NA | V21: NA | W21: NA | X21: NA | Y21: NA | Z21: NA | AA21: NA | AB21: NA | AC21: NA | AD21: NA | AE21: NA | AF21: NA | AG21: NA | AH21: 0.33 | AI21: Yes | AJ21: Yes | AK21: Yes
A22: IWHHR93185 | B22: L | C22: Industrial | D22: Water Heating | E22: Heat Recovery | F22: Air-Source Industrial Heat Pump | G22: I-All-SecTotal-All-All-All-E | H22: 15 | I22: 0.7 | J22: 0.62699629 | K22: NA | L22: NA | M22: NA | N22: NA | O22: NA | P22: NA | Q22: NA | R22: NA | S22: NA | T22: NA | U22: NA | V22: NA | W22: NA | X22: NA | Y22: NA | Z22: NA | AA22: NA | AB22: NA | AC22: NA | AD22: NA | AE22: NA | AF22: NA | AG22: NA | AH22: 0.33 | AI22: Yes | AJ22: Yes | AK22: Yes
A23: RWBWB81001 | B23: R | C23: Residential | D23: Whole Bldg/Meter Level | E23: Whole Bldg/Meter Level System Improvements | F23: Behavioral | G23: R-All-Bld-Bldg-All-All-R | H23: 1 | I23: 0.7 | J23: 0.070967134 | K23: NA | L23: NA | M23: NA | N23: NA | O23: NA | P23: NA | Q23: NA | R23: NA | S23: NA | T23: NA | U23: NA | V23: NA | W23: NA | X23: NA | Y23: NA | Z23: NA | AA23: 0.025 | AB23: 0.025 | AC23: 0.025 | AD23: 0.025 | AE23: 0.025 | AF23: 0.025 | AG23: 0.025 | AH23: 0.025 | AK23: Yes
A24: RWBWB91001 | B24: L | C24: Residential | D24: Whole Bldg/Meter Level | E24: Whole Bldg/Meter Level System Improvements | F24: Behavioral | G24: R-All-Bld-Bldg-All-All-R | H24: 1 | I24: 0.7 | J24: 0.070967134 | K24: NA | L24: NA | M24: NA | N24: NA | O24: NA | P24: NA | Q24: NA | R24: NA | S24: NA | T24: NA | U24: NA | V24: NA | W24: NA | X24: NA | Y24: NA | Z24: NA | AA24: 0.025 | AB24: 0.025 | AC24: 0.025 | AD24: 0.025 | AE24: 0.025 | AF24: 0.025 | AG24: 0.025 | AH24: 0.025 | AK24: Yes
A25: IPLPF83097 | B25: R | C25: Industrial | D25: Process Loads | E25: Pumps and Fans | F25: Blower System Improvements | G25: I-All-SecTotal-All-All-All-E | H25: 10 | I25: 0.7 | J25: 0.45890208 | K25: 0.2 | L25: 0.27 | M25: 0.27 | N25: 0.27 | O25: 0.27 | P25: 0.27 | Q25: 0.27 | R25: 0.25 | S25: 0.25 | T25: 0.25 | U25: 0.25 | V25: 0.25 | W25: 0.25 | X25: 0.25 | Y25: 0.25 | Z25: 0.25 | AA25: 0.25 | AB25: 0.25 | AC25: 0.25 | AD25: 0.25 | AE25: 0.25 | AF25: 0.25 | AG25: 0.33 | AH25: 0.33 | AI25: Yes | AJ25: Yes | AK25: Yes
A26: IPLPF93097 | B26: L | C26: Industrial | D26: Process Loads | E26: Pumps and Fans | F26: Blower System Improvements | G26: I-All-SecTotal-All-All-All-E | H26: 10 | I26: 0.7 | J26: 0.45890208 | K26: 0.2 | L26: 0.27 | M26: 0.27 | N26: 0.27 | O26: 0.27 | P26: 0.27 | Q26: 0.27 | R26: 0.25 | S26: 0.25 | T26: 0.25 | U26: 0.25 | V26: 0.25 | W26: 0.25 | X26: 0.25 | Y26: 0.25 | Z26: 0.25 | AA26: 0.25 | AB26: 0.25 | AC26: 0.25 | AD26: 0.25 | AE26: 0.25 | AF26: 0.25 | AG26: 0.33 | AH26: 0.33 | AI26: Yes | AJ26: Yes | AK26: Yes
A27: CHVHI82026 | B27: R | C27: Commercial | D27: HVAC | E27: HVAC System Improvements | F27: Building Commissioning Improvements | G27: Commercial-All Com-Vent | H27: 15 | I27: 0.7 | J27: 0.59221964 | K27: 0.13 | L27: 0.2 | M27: 0.2 | N27: 0.2 | O27: 0.2 | P27: 0.2 | Q27: 0.2 | R27: 0.2 | S27: 0.2 | T27: 0.2 | U27: 0.2 | V27: 0.2 | W27: 0.2 | X27: 0.2 | Y27: 0.2 | Z27: 0.2 | AA27: 0.2 | AB27: 0.2 | AC27: 0.2 | AD27: 0.23 | AE27: 0.23 | AF27: 0.23 | AG27: 0.33 | AH27: 0.33 | AI27: Yes | AJ27: Yes | AK27: Yes
A28: CHVHI92026 | B28: L | C28: Commercial | D28: HVAC | E28: HVAC System Improvements | F28: Building Commissioning Improvements | G28: Commercial-All Com-Vent | H28: 15 | I28: 0.7 | J28: 0.59221964 | K28: 0.2 | L28: 0.27 | M28: 0.27 | N28: 0.27 | O28: 0.27 | P28: 0.27 | Q28: 0.27 | R28: 0.27 | S28: 0.27 | T28: 0.27 | U28: 0.27 | V28: 0.27 | W28: 0.27 | X28: 0.27 | Y28: 0.27 | Z28: 0.27 | AA28: 0.27 | AB28: 0.27 | AC28: 0.27 | AD28: 0.31 | AE28: 0.31 | AF28: 0.31 | AG28: 0.33 | AH28: 0.33 | AI28: Yes | AJ28: Yes | AK28: Yes
A29: CRERI82082 | B29: R | C29: Commercial | D29: Refrigeration | E29: Refrigeration System Improvements | F29: Building Commissioning Improvements | G29: C-All-Ref-Refrig-All-All-C | H29: 15 | I29: 0.7 | J29: 0.62860243 | K29: 0.13 | L29: 0.2 | M29: 0.2 | N29: 0.2 | O29: 0.2 | P29: 0.2 | Q29: 0.2 | R29: 0.2 | S29: 0.2 | T29: 0.2 | U29: 0.2 | V29: 0.2 | W29: 0.2 | X29: 0.2 | Y29: 0.2 | Z29: 0.2 | AA29: 0.2 | AB29: 0.2 | AC29: 0.2 | AD29: 0.2 | AE29: 0.2 | AF29: 0.2 | AG29: 0.33 | AH29: 0.33 | AI29: Yes | AJ29: Yes | AK29: Yes
A30: CRERI92082 | B30: L | C30: Commercial | D30: Refrigeration | E30: Refrigeration System Improvements | F30: Building Commissioning Improvements | G30: C-All-Ref-Refrig-All-All-C | H30: 15 | I30: 0.7 | J30: 0.62860243 | K30: 0.2 | L30: 0.27 | M30: 0.27 | N30: 0.27 | O30: 0.27 | P30: 0.27 | Q30: 0.27 | R30: 0.27 | S30: 0.27 | T30: 0.27 | U30: 0.27 | V30: 0.27 | W30: 0.27 | X30: 0.27 | Y30: 0.27 | Z30: 0.27 | AA30: 0.27 | AB30: 0.27 | AC30: 0.27 | AD30: 0.27 | AE30: 0.27 | AF30: 0.27 | AG30: 0.33 | AH30: 0.33 | AI30: Yes | AJ30: Yes | AK30: Yes
A31: CWBWB82128 | B31: R | C31: Commercial | D31: Whole Bldg/Meter Level | E31: Whole Bldg/Meter Level System Improvements | F31: Building Commissioning Improvements | G31: C-All-SecTotal-ER-All-All-E | H31: 3 | I31: 0.7 | J31: 0.17866649 | K31: NA | L31: NA | M31: NA | N31: NA | O31: NA | P31: NA | Q31: NA | R31: NA | S31: NA | T31: NA | U31: NA | V31: NA | W31: NA | X31: NA | Y31: NA | Z31: NA | AA31: NA | AB31: 0.05 | AC31: 0.05 | AD31: 0.05 | AE31: 0.05 | AF31: 0.05 | AG31: 0.06 | AH31: 0.06 | AI31: Yes | AJ31: Yes | AK31: Yes
A32: CWBWB92128 | B32: L | C32: Commercial | D32: Whole Bldg/Meter Level | E32: Whole Bldg/Meter Level System Improvements | F32: Building Commissioning Improvements | G32: C-All-SecTotal-ER-All-All-E | H32: 3 | I32: 0.7 | J32: 0.17866649 | K32: 0.13 | L32: 0.2 | M32: 0.2 | N32: 0.2 | O32: 0.2 | P32: 0.2 | Q32: 0.2 | R32: 0.2 | S32: 0.2 | T32: 0.2 | U32: 0.2 | V32: 0.2 | W32: 0.2 | X32: 0.2 | Y32: 0.2 | Z32: 0.2 | AA32: 0.2 | AB32: 0.2 | AC32: 0.2 | AD32: 0.2 | AE32: 0.2 | AF32: 0.2 | AG32: 0.06 | AH32: 0.06 | AI32: Yes | AJ32: Yes | AK32: Yes
A33: IHVHI83029 | B33: R | C33: Industrial | D33: HVAC | E33: HVAC System Improvements | F33: Building Commissioning Improvements | G33: I-All-SecTotal-All-All-All-E | H33: 15 | I33: 0.7 | J33: 0.62699629 | K33: 0.12 | L33: 0.17 | M33: 0.17 | N33: 0.25 | O33: 0.25 | P33: 0.25 | Q33: 0.25 | R33: 0.25 | S33: 0.25 | T33: 0.25 | U33: 0.25 | V33: 0.25 | W33: 0.25 | X33: 0.25 | Y33: 0.25 | Z33: 0.25 | AA33: 0.25 | AB33: 0.25 | AC33: 0.25 | AD33: 0.25 | AE33: 0.25 | AF33: 0.25 | AG33: 0.33 | AH33: 0.33 | AI33: Yes | AJ33: Yes | AK33: Yes
A34: IHVHI93029 | B34: L | C34: Industrial | D34: HVAC | E34: HVAC System Improvements | F34: Building Commissioning Improvements | G34: I-All-SecTotal-All-All-All-E | H34: 15 | I34: 0.7 | J34: 0.62699629 | K34: 0.12 | L34: 0.27 | M34: 0.27 | N34: 0.27 | O34: 0.25 | P34: 0.25 | Q34: 0.25 | R34: 0.25 | S34: 0.25 | T34: 0.25 | U34: 0.25 | V34: 0.25 | W34: 0.25 | X34: 0.25 | Y34: 0.25 | Z34: 0.25 | AA34: 0.25 | AB34: 0.25 | AC34: 0.25 | AD34: 0.25 | AE34: 0.25 | AF34: 0.25 | AG34: 0.33 | AH34: 0.33 | AI34: Yes | AJ34: Yes | AK34: Yes
A35: IRERI83081 | B35: R | C35: Industrial | D35: Refrigeration | E35: Refrigeration System Improvements | F35: Building Commissioning Improvements | G35: C-All-Ref-Refrig-All-All-C | H35: 15 | I35: 0.7 | J35: 0.62860243 | K35: 0.2 | L35: 0.27 | M35: 0.27 | N35: 0.27 | O35: 0.27 | P35: 0.27 | Q35: 0.27 | R35: 0.25 | S35: 0.25 | T35: 0.25 | U35: 0.25 | V35: 0.25 | W35: 0.25 | X35: 0.25 | Y35: 0.25 | Z35: 0.25 | AA35: 0.25 | AB35: 0.25 | AC35: 0.25 | AD35: 0.25 | AE35: 0.25 | AF35: 0.25 | AG35: 0.33 | AH35: NA | AI35: Yes | AJ35: Yes | AK35: Yes
A36: IRERI93081 | B36: L | C36: Industrial | D36: Refrigeration | E36: Refrigeration System Improvements | F36: Building Commissioning Improvements | G36: C-All-Ref-Refrig-All-All-C | H36: 15 | I36: 0.7 | J36: 0.62860243 | K36: 0.2 | L36: 0.27 | M36: 0.27 | N36: 0.27 | O36: 0.27 | P36: 0.27 | Q36: 0.27 | R36: 0.25 | S36: 0.25 | T36: 0.25 | U36: 0.25 | V36: 0.25 | W36: 0.25 | X36: 0.25 | Y36: 0.25 | Z36: 0.25 | AA36: 0.25 | AB36: 0.25 | AC36: 0.25 | AD36: 0.25 | AE36: 0.25 | AF36: 0.25 | AG36: 0.33 | AH36: NA | AI36: Yes | AJ36: Yes | AK36: Yes
A37: AIRCP84012 | B37: R | C37: Agricultural | D37: Irrigation | E37: Center Pivot System and Equipment | F37: Center Pivot Conversions | G37: A-Irr-Irr-Irrigation-All-All-E | H37: 10 | I37: 0.7 | J37: 0.46921265 | K37: 0.15 | L37: 0.2 | M37: 0.2 | N37: 0.2 | O37: 0.25 | P37: 0.25 | Q37: 0.25 | R37: 0.25 | S37: 0.25 | T37: 0.25 | U37: 0.25 | V37: 0.25 | W37: 0.25 | X37: 0.25 | Y37: 0.25 | Z37: 0.25 | AA37: 0.25 | AB37: 0.25 | AC37: 0.25 | AD37: 0.25 | AE37: 0.25 | AF37: 0.25 | AG37: 0.33 | AH37: 0.33 | AI37: Yes | AJ37: Yes | AK37: Yes
A38: AIRCP94012 | B38: L | C38: Agricultural | D38: Irrigation | E38: Center Pivot System and Equipment | F38: Center Pivot Conversions | G38: A-Irr-Irr-Irrigation-All-All-E | H38: 10 | I38: 0.7 | J38: 0.46921265 | K38: 0.15 | L38: 0.27 | M38: 0.27 | N38: 0.27 | O38: 0.27 | P38: 0.27 | Q38: 0.27 | R38: 0.27 | S38: 0.27 | T38: 0.27 | U38: 0.27 | V38: 0.27 | W38: 0.27 | X38: 0.27 | Y38: 0.27 | Z38: 0.27 | AA38: 0.27 | AB38: 0.27 | AC38: 0.27 | AD38: 0.27 | AE38: 0.27 | AF38: 0.27 | AG38: 0.33 | AH38: 0.33 | AI38: Yes | AJ38: Yes | AK38: Yes
A39: CHVHI82027 | B39: R | C39: Commercial | D39: HVAC | E39: HVAC System Improvements | F39: Centrifugal Chiller Improvements | G39: Commercial-All Com-Cool | H39: 20 | I39: 0.7 | J39: 0.70116811 | K39: 0.13 | L39: 0.2 | M39: 0.2 | N39: 0.2 | O39: 0.2 | P39: 0.2 | Q39: 0.2 | R39: 0.2 | S39: 0.2 | T39: 0.2 | U39: 0.2 | V39: 0.2 | W39: 0.2 | X39: 0.2 | Y39: 0.2 | Z39: 0.2 | AA39: 0.2 | AB39: 0.2 | AC39: 0.2 | AD39: 0.23 | AE39: 0.23 | AF39: 0.23 | AG39: 0.33 | AH39: 0.38 | AI39: Yes | AJ39: Yes | AK39: Yes
A40: CHVHI92027 | B40: L | C40: Commercial | D40: HVAC | E40: HVAC System Improvements | F40: Centrifugal Chiller Improvements | G40: Commercial-All Com-Cool | H40: 20 | I40: 0.7 | J40: 0.70116811 | K40: 0.2 | L40: 0.27 | M40: 0.27 | N40: 0.27 | O40: 0.27 | P40: 0.27 | Q40: 0.27 | R40: 0.27 | S40: 0.27 | T40: 0.27 | U40: 0.27 | V40: 0.27 | W40: 0.27 | X40: 0.27 | Y40: 0.27 | Z40: 0.27 | AA40: 0.27 | AB40: 0.27 | AC40: 0.27 | AD40: 0.31 | AE40: 0.31 | AF40: 0.31 | AG40: 0.33 | AH40: 0.38 | AI40: Yes | AJ40: Yes | AK40: Yes
A41: IHVHI83030 | B41: R | C41: Industrial | D41: HVAC | E41: HVAC System Improvements | F41: Centrifugal Chiller Improvements | G41: I-All-SecTotal-All-All-All-E | H41: 20 | I41: 0.7 | J41: 0.74901333 | K41: 0.12 | L41: 0.17 | M41: 0.17 | N41: 0.25 | O41: 0.25 | P41: 0.25 | Q41: 0.25 | R41: 0.25 | S41: 0.25 | T41: 0.25 | U41: 0.25 | V41: 0.25 | W41: 0.25 | X41: 0.25 | Y41: 0.25 | Z41: 0.25 | AA41: 0.25 | AB41: 0.25 | AC41: 0.25 | AD41: 0.25 | AE41: 0.25 | AF41: 0.25 | AG41: 0.33 | AH41: 0.38 | AI41: Yes | AJ41: Yes | AK41: Yes
...

Sheet UES Measure List Oct 2026
A1: UES Measures
A2: UES Reference Number | B2: Heating Zone | C2: Cooling Zone | D2: Sector | E2: End Use | F2: Category | G2: Technology/Activity/Practice | H2: Key Characteristics 1 | I2: Key Characteristics 2 | J2: Key Characteristics 3 | K2: Key Characteristics 4 | L2: Annual Savings @ Generator Busbar (kwh/yr) | M2: Payment ($/unit) | N2: Annual Savings @ Site (kwh/yr) | O2: Measure Name | P2: Program | Q2: Vintage | R2: Primary Building Type | S2: Delivery Mechanism | T2: Incremental Capital Cost ($/unit) | U2: Measure Life (years) | V2: BPA Effective Date | W2: BPA Expiration Date | X2: Unit Type of Savings/Payment | Y2: Installed Efficiency Level/Rating | Z2: State | AA2: Installation Location | AB2: Efficient Case Savings Characteristics | AC2: Baseline Characteristics | AD2: RTF UES Measure Status | AE2: RTF Effective Date | AF2: Workbook Link | AG2: Power System Coincident Peak Reduction (KW) | AH2: Distribution System Peak Load Reduction (kW) | AI2: Total Societal Benefit/ Cost Ratio | AJ2: Cost Effective | AK2: Levelized Cost (mills/kWh) | AL2: C02 Reduction (tons in first year) | AM2: Unit Cost Cap | AN2: Unique UIR No | AO2: Measures Types | AP2: PTCS | AQ2: Unit Types | AR2: Tech Review | AS2: Calculated UES Busbar Factor | AT2: Forms required at time of invoice review
A3: AHVHC40210 | B3: Heating Zone 1 | C3: All Cooling Zones | D3: Agricultural | E3: HVAC | F3: HVAC System Controls | G3: Thermostatically Controlled Outlets | L3: 888.25172 | M3: 14 | N3: 796 | O3: Thermostatically Controlled Outlets | Q3: Existing | R3: Non building measure | T3: 21 | U3: 2 | V3: 45931 | X3: Per Unit | AB3: Controlled outlet turns off no higher than 50 degrees | AC3: Outlet was not previously controlled | AD3: RTF Approved | AE3: 45125 | AF3: thermcontrolloutlet-ver3-2 | AG3: 0.082715359 | AH3: 0.086426429 | AI3: 3.2968058 | AJ3: Yes | AK3: -7.99 | AL3: 4.13 | AN3: 22 | AO3: Standard | AP3: No | AQ3: Per Unit | AR3: No
A4: AHVHC40211 | B4: Heating Zone 2 | C4: All Cooling Zones | D4: Agricultural | E4: HVAC | F4: HVAC System Controls | G4: Thermostatically Controlled Outlets | L4: 841.50455 | M4: 14 | N4: 756.75 | O4: Thermostatically Controlled Outlets | Q4: Existing | R4: Non building measure | T4: 21 | U4: 2 | V4: 45931 | X4: Per Unit | AB4: Controlled outlet turns off no higher than 50 degrees | AC4: Outlet was not previously controlled | AD4: RTF Approved | AE4: 45125 | AF4: thermcontrolloutlet-ver3-2 | AG4: 0.07336844 | AH4: 0.076517405 | AI4: 2.9926522 | AJ4: Yes | AK4: -0.17 | AL4: 3.915 | AN4: 22 | AO4: Standard | AP4: No | AQ4: Per Unit | AR4: No
A5: AHVHC40212 | B5: Heating Zone 3 | C5: All Cooling Zones | D5: Agricultural | E5: HVAC | F5: HVAC System Controls | G5: Thermostatically Controlled Outlets | L5: 551.34935 | M5: 14 | N5: 495.75 | O5: Thermostatically Controlled Outlets | Q5: Existing | R5: Non building measure | T5: 21 | U5: 2 | V5: 45931 | X5: Per Unit | AB5: Controlled outlet turns off no higher than 50 degrees | AC5: Outlet was not previously controlled | AD5: RTF Approved | AE5: 45125 | AF5: thermcontrolloutlet-ver3-2 | AG5: 0.048258888 | AH5: 0.050334963 | AI5: 1.974708 | AJ5: Yes | AK5: 7.94 | AL5: 2.565 | AN5: 22 | AO5: Standard | AP5: No | AQ5: Per Unit | AR5: No
A6: AIRHA40001 | B6: All Heating Zones | C6: All Cooling Zones | D6: Agricultural | E6: Irrigation | F6: Hardware | G6: Gasket Replacement | H6: Replace Leaking Drain Gaskets with New Gaskets | I6: Wheel-line, Hand-line, Lateral Move or Center Pivot Systems | L6: 13.114979 | M6: 3 | N6: 11.888042 | O6: Gasket Replacement Replace Leaking Drain Gaskets with New Gaskets Wheel-line, Hand-line, Lateral Move or Center Pivot Systems | Q6: Existing | R6: Non building measure | T6: 6.3348196 | U6: 5 | V6: 45200 | X6: Per Unit | AD6: RTF Approved | AE6: 45504 | AF6: AgIrrHardwareMain-v6-2 | AG6: 0.0014244438 | AH6: 0.0014770123 | AI6: 0.55743534 | AJ6: No | AK6: 70.201008 | AL6: 0.024399929 | AN6: 22 | AO6: Standard | AP6: No | AQ6: Per Unit | AR6: No
A7: AIRHA40003 | B7: All Heating Zones | C7: All Cooling Zones | D7: Agricultural | E7: Irrigation | F7: Hardware | G7: Gasket Replacement | H7: Replace Pipe Section Gasket | I7: Wheel-lines, Hand-lines, Riser or Portable Main Line | L7: 17.859372 | M7: 4 | N7: 16.188587 | O7: Gasket Replacement Replace Pipe Section Gasket Wheel-lines, Hand-lines, Riser or Portable Main Line | Q7: Existing | R7: Non building measure | T7: 4.4100577 | U7: 5 | V7: 45200 | X7: Per Unit | AB7: Pipe and riser gasket | AD7: RTF Approved | AE7: 45504 | AF7: AgIrrHardwareMain-v6-2 | AG7: 0.001939165 | AH7: 0.0020107291 | AI7: 1.091667 | AJ7: Yes | AK7: 26.268408 | AL7: 0.033216817 | AN7: 22 | AO7: Standard | AP7: No | AQ7: Per Unit | AR7: No
A8: AIRHA40006 | B8: All Heating Zones | C8: All Cooling Zones | D8: Agricultural | E8: Irrigation | F8: Hardware | G8: Hub Replacement | H8: Replace Thunderbird Wheel Line Hubs | I8: Wheel Line System | L8: 17.859372 | M8: 4 | N8: 16.188587 | O8: Hub Replacement Replace Thunderbird Wheel Line Hubs Wheel Line System | Q8: Existing | R8: Non building measure | T8: 4.4100577 | U8: 10 | V8: 45200 | X8: Per Unit | AD8: RTF Approved | AE8: 45504 | AF8: AgIrrHardwareMain-v6-2 | AG8: 0.001939165 | AH8: 0.0020107291 | AI8: 1.091667 | AJ8: Yes | AK8: 26.268408 | AL8: 0.016608409 | AN8: 22 | AO8: Standard | AP8: No | AQ8: Per Unit | AR8: No
A9: AIRHA40007 | B9: All Heating Zones | C9: All Cooling Zones | D9: Agricultural | E9: Irrigation | F9: Hardware | G9: Leveler Rebuild | H9: Rebuild or Replace Leaking or Malfunctioning Leveler with New or Rebuilt Leveler | I9: Wheel Line System | L9: 4.8551485 | M9: 1 | N9: 4.4009382 | O9: Leveler Rebuild Rebuild or Replace Leaking or Malfunctioning Leveler with New or Rebuilt Leveler Wheel Line System | Q9: Existing | R9: Non building measure | T9: 8.1538723 | U9: 4 | V9: 45200 | X9: Per Unit | AD9: RTF Approved | AE9: 45504 | AF9: AgIrrHardwareMain-v6-2 | AG9: 0.00052703581 | AH9: 0.00054648585 | AI9: 0.18191982 | AJ9: No | AK9: 255.50951 | AL9: 0.011284788 | AN9: 22 | AO9: Standard | AP9: No | AQ9: Per Unit | AR9: No
A10: AIRHA40016 | B10: All Heating Zones | C10: All Cooling Zones | D10: Agricultural | E10: Irrigation | F10: Hardware | G10: Sprinkler Replacements | H10: Replace Leaking Impact Sprinkler with New or Rebuilt Impact Sprinkler | I10: Wheel-line, Hand-line, Lateral Move or Center Pivot Systems | L10: 2.5458219 | M10: 1 | N10: 2.3076544 | O10: Sprinkler Replacements Replace Leaking Impact Sprinkler with New or Rebuilt Impact Sprinkler Wheel-line, Hand-line, Lateral Move or Center Pivot Systems | Q10: Existing | R10: Non building measure | T10: 15.83873 | U10: 4 | V10: 45200 | X10: Per Unit | AD10: RTF Approved | AE10: 45504 | AF10: AgIrrHardwareMain-v6-2 | AG10: 0.00027671895 | AH10: 0.00028693116 | AI10: 0.043301468 | AJ10: No | AK10: 1136.1123 | AL10: 0.0059250522 | AN10: 22 | AO10: Standard | AP10: No | AQ10: Per Unit | AR10: No
A11: AIRHA40019 | B11: All Heating Zones | C11: All Cooling Zones | D11: Agricultural | E11: Irrigation | F11: Hardware | G11: Nozzle Replacement | H11: Replace Nozzle | I11: Wheel-line or Hand-line System | L11: 28.750828 | M11: 3 | N11: 26.061122 | O11: Nozzle Replacement Replace Nozzle Wheel-line or Hand-line System | Q11: Existing | R11: Non building measure | T11: 3.1590374 | U11: 5 | V11: 45200 | X11: Per Unit | AD11: RTF Approved | AE11: 45504 | AF11: AgIrrHardwareMain-v6-2 | AG11: 0.0031216534 | AH11: 0.0032368567 | AI11: 2.4555667 | AJ11: Yes | AK11: 0.8069956 | AL11: 0.053472185 | AN11: 22 | AO11: Standard | AP11: No | AQ11: Per Unit | AR11: No
A12: AIRHA40224 | B12: All Heating Zones | C12: All Cooling Zones | D12: Agricultural | E12: Irrigation | F12: Hardware | G12: Sprinkler Upgrade | H12: Irrigation System Conversion to MESA from high pressure | I12: Center Pivot or Lateral Move System | L12: 58.626093 | M12: 23 | N12: 53.141488 | O12: Sprinkler Upgrade Irrigation System Conversion to MESA from high pressure Center Pivot or Lateral Move System | Q12: Existing | R12: Non building measure | T12: 28.785641 | U12: 10 | V12: 45931 | X12: Per Drop | AB12: Rotating Type Sprinkler | AC12: Replace Impact Sprinkler | AD12: RTF Approved | AE12: 45124 | AF12: AgIrrHardwareUpgrades-v2-3 | AG12: 0.0063659121 | AH12: 0.0066008435 | AI12: 0.76939896 | AJ12: No | AK12: 45.469124 | AL12: 0.054522267 | AN12: 22 | AO12: Standard | AP12: No | AQ12: Per Unit | AR12: No
A13: AIRHA40225 | B13: All Heating Zones | C13: All Cooling Zones | D13: Agricultural | E13: Irrigation | F13: Hardware | G13: Sprinkler Package Replacements | H13: High Pressure Sprinkler Package | I13: Center Pivot or Lateral Move System | L13: 65.858556 | M13: 18 | N13: 59.697337 | O13: Sprinkler Package Replacements High Pressure Sprinkler Package Center Pivot or Lateral Move System | Q13: Existing | R13: Non building measure | T13: 15.83873 | U13: 4 | V13: 45931 | X13: Per Drop | AD13: RTF Approved | AE13: 45504 | AF13: AgIrrHardwareMain-v6-2 | AG13: 0.0071513522 | AH13: 0.0074152699 | AI13: 1.1190561 | AJ13: Yes | AK13: 25.146445 | AL13: 0.15312336 | AN13: 22 | AO13: Standard | AP13: No | AQ13: Per Unit | AR13: No
A14: AIRHA40226 | B14: All Heating Zones | C14: All Cooling Zones | D14: Agricultural | E14: Irrigation | F14: Hardware | G14: Sprinkler Package Replacements | H14: MESA Sprinkler Package | I14: Center Pivot or Lateral Move System | L14: 32.929278 | M14: 21 | N14: 29.848669 | O14: Sprinkler Package Replacements MESA Sprinkler Package Center Pivot or Lateral Move System | Q14: Existing | R14: Non building measure | T14: 25.874159 | U14: 5 | V14: 45931 | X14: Per Drop | AD14: RTF Approved | AE14: 45504 | AF14: AgIrrHardwareMain-v6-2 | AG14: 0.0035757599 | AH14: 0.0037077219 | AI14: 0.34251538 | AJ14: No | AK14: 126.53158 | AL14: 0.061250779 | AN14: 22 | AO14: Standard | AP14: No | AQ14: Per Unit | AR14: No
A15: AIRHA40227 | B15: All Heating Zones | C15: All Cooling Zones | D15: Agricultural | E15: Irrigation | F15: Hardware | G15: Sprinkler Upgrade | H15: Irrigation System Conversion to LESA/LEPA/MDI from high pressure | I15: Center Pivot or Lateral Move System | L15: 61.711677 | M15: 26 | N15: 55.938408 | O15: Sprinkler Upgrade Irrigation System Conversion to LESA/LEPA/MDI from high pressure Center Pivot or Lateral Move System | Q15: New or Existing | R15: Non building measure | T15: 32.125748 | U15: 10 | V15: 45931 | X15: Per Drop | AD15: RTF Approved | AE15: 45124 | AF15: AgIrrHardwareUpgrades-v2-3 | AG15: 0.0067009601 | AH15: 0.0069482563 | AI15: 0.7256892 | AJ15: No | AK15: 49.386706 | AL15: 0.05739186 | AN15: 22 | AO15: Standard | AP15: No | AQ15: Per Unit | AR15: No
A16: AIRHA40228 | B16: All Heating Zones | C16: All Cooling Zones | D16: Agricultural | E16: Irrigation | F16: Hardware | G16: Sprinkler Upgrade | H16: Irrigation System Conversion to LESA/LEPA/MDI from MESA | I16: Center Pivot or Lateral Move System | L16: 37.027006 | M16: 26 | N16: 33.563045 | O16: Sprinkler Upgrade Irrigation System Conversion to LESA/LEPA/MDI from MESA Center Pivot or Lateral Move System | Q16: New or Existing | R16: Non building measure | T16: 32.125748 | U16: 10 | V16: 45931 | X16: Per Drop | AD16: RTF Approved | AE16: 45124 | AF16: AgIrrHardwareUpgrades-v2-3 | AG16: 0.0040205761 | AH16: 0.0041689538 | AI16: 0.43541352 | AJ16: No | AK16: 95.359409 | AL16: 0.034435116 | AN16: 22 | AO16: Standard | AP16: No | AQ16: Per Unit | AR16: No
