{"text_format":"1","workbook":"xlsx","n_sheets":8,"sheets":["ReadMe","Model Background","Table of Figures","Summary Results","Industrial Sector Results","Facility Type Specific Results","Model Output","FacilityDefinitions"],"not_rendered":{"charts":90,"images":2,"macros":0,"external_links":1,"defined_names":47,"comments":0,"pivot_tables":0},"unopened":[],"bounds":{"document_bytes":16777216,"sheet_cells":100000,"rows_first":2000,"rows_last":500,"rows_between":2000,"halvings":0,"cell_chars":16384,"cell_head_chars":4096},"cells_cut":0,"cells_raw":0,"read":"whole","date_system":"1900"}

{"sheet":"ReadMe","index":0,"n_rows":37,"n_cols":5,"rows_kept":37,"cut":false,"hidden":false,"merged":[[33,2,33,3],[1,2,1,4],[3,2,3,4],[11,2,11,3],[7,2,7,3],[12,2,22,2],[12,4,22,4],[23,2,23,3],[8,2,8,3],[9,2,9,3],[10,2,10,3]]}
[]
[null,null,"BPA Adjustable Speed Drive Market Model Results"]
[]
[null,null,"This workbook contains the results of BPA's ASD Market Model. This market model focused on quantifying the energy consumption of industrial standalone pumps and fans greater than 1 motor HP in the Pacific Northwest and the Momentum Savings associated with the installation of ASDs on these systems from 2016 through 2021."]
[]
[null,null,"2022-06-17"]
[]
[null,null,"Tab Name",null,"Description"]
[null,null,"Model Background",null,"This tab provides relevant background information on the scope and terminology associated with BPA's ASD Market Model."]
[null,null,"Table of Figures",null,"This tab presents the table of figures for the \"Industrial Sector Results\" and \"Facility Type Specific Results\" tabs, listing all tables included in those tabs."]
[null,null,"Summary Results",null,"This tab presents the energy consumption and Momentum Savings calculated for industrial standalone pumps and fans in the Pacific Northwest."]
[null,null,"Industrial Sector Results",null,"This tab summarizes the sector-level model results. The results are separated into four categories: Installed Stock, Market Characteristics, Equipment Sales, and Energy Consumption and Momentum Savings."]
[null,null,"Facility Type Specific Results","Primary Metal","This tab present the facility type (or \"industry\") - level results from the market model. The structure of this tab aligns with the \"Industrial Sector Results\" Tab. To view the results for different facility types, users can select the desired facility type in the drop-down menu in cell D13."]
[null,null,null,"Wood Products"]
[null,null,null,"Paper"]
[null,null,null,"Computer - Elec"]
[null,null,null,"Chemical"]
[null,null,null,"Food"]
[null,null,null,"Warehousing"]
[null,null,null,"Refinery"]
[null,null,null,"Fabricated Metal"]
[null,null,null,"Transportation"]
[null,null,null,"Misc Manf"]
[null,null,"Model Output (tab hidden)",null,"This tab contains the raw outputs from the ASD market model's Python code. The outputs hosted in this tab are summarized in the tables and figures in the \"Industrial Sector Results\" and \"Facility Type Specific Results\" tabs of this workbook."]
[]
[null,null,"Prepared by: ",null,"Prepared for: "]
[]
[]
[]
[]
[]
[]
[]
[null,null,"Nate Baker, Cory Luker, Rebecca Hovey, Fred Schaefer, Sarah Widder",null,"Joan Wang"]
[null,null,"Cadeo Group",null,"Bonneville Power Administration"]
[null,null,"107 SE Washington Street, Suite 226",null,"905 NE 11th Avenue"]
[null,null,"Portland, OR 97214",null,"Portland, OR 97232"]

{"sheet":"Model Background","index":1,"n_rows":53,"n_cols":5,"rows_kept":53,"cut":false,"hidden":false,"merged":[[43,4,51,4],[32,3,34,3],[29,3,31,3],[25,3,27,3],[68,2,68,7],[52,2,52,4],[39,2,40,2],[41,2,42,2],[66,2,66,7],[67,2,67,7],[43,2,51,2],[25,2,27,2],[41,3,42,3],[39,3,40,3],[29,2,31,2],[3,2,3,7],[20,2,20,7],[7,2,7,4],[9,3,9,6],[32,2,34,2],[10,3,10,6],[11,3,11,6],[12,3,12,6],[13,3,13,6],[15,2,15,7],[16,2,16,7],[21,2,21,7]]}
[]
[null,null,"BPA Adjustable Speed Drive Market Model Background"]
[]
[null,null,"This tab provides an overview of the ASD Market Model scope and details terminology used in this workbook. For more background on the motors, ASDs, and motor-driven systems, please review the methodology memo accompanying the model."]
[]
[null,null,"ASD Market Model Scope"]
[]
[null,null,"This table presents an overview of the ASD Market Model scope."]
[]
[null,null,"Element","Notes"]
[null,null,"Analysis period","2015-2021, which corresponds with the Seventh Plan baseline year (2015) and Action Plan Period (2016-2021). "]
[null,null,"Geographic Coverage","The Pacific Northwest, or \"region\" covers Oregon, Washington, Idaho, and Western Montana. This model only includes the western portion of Montana, calculated as 57% of the state, consistent with the Northwest Power and Conservation Council's Power Plans."]
[null,null,"Sector","The model covers the industrial sector, defined using NAICS Codes. The research team worked with Council staff to include all 3-digit NAICS codes included in the Seventh Plan definition of the industrial sector."]
[null,null,"Equipment ","The model characterizes energy consumption and Momentum Savings for standalone pumps and fans greater than 1 HP. "]
[]
[null,null,"Adjustable Speed Drive (ASD): Adjustable Speed Drive refers to electronic speed control device (i.e., VSD, VFD). ASDs do not include mechanical control devices like eddy current drives, gear boxes, and belts & sheaves (as these devices control the equipment load by varying the speed of the equipment, not motor)."]
[null,null,"Standalone Equipment: Standalone equipment are pumps or fans that are not part of a larger piece of packaged equipment and can be metered independently from the system they are installed on. Conversely, an “embedded” pump or fan is an integral part of a larger package whose energy consumption cannot be separately metered."]
[]
[null,null,"Industrial Sector Definition"]
[]
[null,null,"BPA's ASD Market Model used the Seventh Plan's definition of the industrial sector as the basis for the model scope. There are 19 distinct industries identified in the Seventh Plan as shown below. These 19 industries, as noted by Council staff, are intended to be representative of the entire industrial sector. The ASD Market Model calculates motor stock and energy consumption at the 3-digit NAICS code level, using the 11 \"facility types\" listed in the following table, as representative of the industrial sector."]
[null,null,"The model does not include the water/wastewater, mining, aluminum smelting, or agriculture industries."]
[null,null,"Model Facility Type, with corresponding NAICS Codes and Seventh Plan Industries"]
[]
[null,null,"Model Facility Type","3-Digit NAICS Code","Seventh Plan Industry"]
[null,null,"Paper",322,"Mechanical Pulp"]
[null,null,null,null,"Kraft Pulp"]
[null,null,null,null,"Paper"]
[null,null,"Primary Metal",331,"Foundries"]
[null,null,"Food",311,"Frozen Food"]
[null,null,null,null,"Other Food"]
[null,null,null,null,"Sugar"]
[null,null,"Wood",321,"Wood - Lumber"]
[null,null,null,null,"Wood - Panel"]
[null,null,null,null,"Wood - Other"]
[null,null,"Computer/Electronics",334,"Hi Tech - Chip Fab"]
[null,null,"Fabricated Metal",332,"Metal Fab"]
[null,null,"Transportation Equipment",336,"Transportation Equip."]
[null,null,"Refinery",324,"Refinery"]
[null,null,"Warehousing",493,"Cold Storage"]
[null,null,null,null,"Fruit Storage"]
[null,null,"Chemical",325,"Chemical"]
[null,null,null,null,"Hi Tech - Silicon"]
[null,null,"Miscellaneous",339,"Misc Manf"]
[null,null,null,315]
[null,null,null,313]
[null,null,null,337]
[null,null,null,323]
[null,null,null,326]
[null,null,null,316]
[null,null,null,327]
[null,null,null,335]
[null,null,"Source: NWPCC Seventh Plan Industrial Tool, tab \"End Uses\", Cells B5:B23, https://nwcouncil.app.box.com/v/7thplanconservationdatafiles/file/54717875397"]

{"sheet":"Table of Figures","index":2,"n_rows":130,"n_cols":3,"rows_kept":130,"cut":false,"hidden":false,"merged":[]}
[]
[null,null,"List of Tables and Figures"]
[]
[null,null,"This tab presents a list of tables and figures in the \"Summary Results\", \"Industrial Sector Results\", and \"Facility Type Specific Results\" tabs."]
[null,null,"Summary Results"]
[]
[null,null,"List of Tables"]
[null,null,"Table A: Regional Fan ASD Saturation, 2015 - 2021"]
[null,null,"Table B: Regional Pump ASD Saturation, 2015 - 2021"]
[null,null,"Table C: ASD Momentum Savings by Year, Pumps and Fans (aMW at busbar)"]
[null,null,"Table D: ASD Momentum Savings from 2016-2021, Pumps and Fans (aMW at busbar)"]
[null,null,"Table E: ASD Total Market Savings and Adjusted Program Savings by Year, Pumps and Fans (aMW at busbar)*"]
[]
[null,null,"List of Figures (each figure has a corresponding table not listed in this tab)"]
[null,null,"Figure 1: Energy Consumption by Model Scenario, by Year (aMW at busbar)"]
[null,null,"Figure 2: Facility Type Distribution of  Energy Consumption, 2020 (aMW at busbar)"]
[]
[null,null,"Industrial Sector Results"]
[]
[null,null,"List of Tables"]
[null,null,"Table A: Average Motor Horsepower of In-Service Fans, by Facility Type in 2020 (Motor HP)"]
[null,null,"Table B: Average Motor Horsepower of In-Service Pumps, by Facility Type in 2020 (Motor HP)"]
[null,null,"Table C: ASD Momentum Savings by Year, Fans (aMW at busbar)"]
[null,null,"Table D: ASD Momentum Savings from 2016-2021, Fans (aMW at busbar)"]
[null,null,"Table E: ASD Total Market Savings and Adjusted Program Savings by Year, Fans (aMW at busbar)*"]
[null,null,"Table F: ASD Momentum Savings by Year, Pumps (aMW at busbar)"]
[null,null,"Table G: ASD Momentum Savings from 2016-2021, Pumps (aMW at busbar)"]
[null,null,"Table H: ASD Total Market Savings and Adjusted Program Savings by Year, Pumps (aMW at busbar)*"]
[]
[null,null,"List of Figures (each figure has a corresponding table not listed in this tab)"]
[null,null,"Figure 1: Installed Stock of Fans, by Year (Installed Motor HP)"]
[null,null,"Figure 2: Installed Stock of Fans, by Year (Installed Motors)"]
[null,null,"Figure 3: In-Service Stock of Fans, by Facility Type in 2020 (Installed Motor HP)"]
[null,null,"Figure 4: In-Service Stock of Fans, by Facility Type in 2020 (Installed Motors)"]
[null,null,"Figure 5: In-Service Fans, by Control Strategy and Year (In-Service Motor HP)"]
[null,null,"Figure 6: In-Service Fans, by Control Strategy and Year (In-Service Motors)"]
[null,null,"Figure 7: In-Service Fans, by Facility Type and Control Strategy in 2020 (In-Service Motor HP)"]
[null,null,"Figure 8: In-Service Fans, by Facility Type and Control Strategy in 2020 (In-Service Motors)"]
[null,null,"Figure 9: In-Service ASD-Controlled Fans, by Year (In-Service Motor HP)"]
[null,null,"Figure 10: In-Service ASD-Controlled Fans, by Year (In-Service Motors)"]
[null,null,"Figure 11: ASD-Controlled Fans Installed Above Baseline, by Year (In-Service Motor HP)"]
[null,null,"Figure 12: ASD-Controlled Fans Installed Above Baseline, by Year (In-Service Motors)"]
[null,null,"Figure 13: Total ASD-Controlled Fans Installed Above Baseline, by Facility Type, 2016 - 2021 (In-Service Motor HP)"]
[null,null,"Figure 14: Total ASD-Controlled Fans Installed Above Baseline, by Facility Type, 2016 - 2021 (In-Service Motors)"]
[null,null,"Figure 15: Installed Stock of Pumps, by Year (Installed Motor HP)"]
[null,null,"Figure 16: Installed Stock of Pumps, by Year (Installed Motors)"]
[null,null,"Figure 17: In-Service Stock of Pumps, by Facility Type, 2020 (In-Service Motor HP)"]
[null,null,"Figure 18: In-Service Stock of Pumps, by Facility Type, 2020 (In-Service Motors)"]
[null,null,"Figure 19: In-Service Pumps, by Control Strategy and Year (In-Service Motor HP)"]
[null,null,"Figure 20: In-Service Pumps, by Control Strategy and Year (In-Service Motors)"]
[null,null,"Figure 21: In-Service Pumps, by Facility Type and Control Strategy in 2020 (In-Service Motor HP)"]
[null,null,"Figure 22: In-Service Pumps, by Facility Type and Control Strategy in 2020 (In-Service Motors)"]
[null,null,"Figure 23: ASD-Controlled Pumps, by Year (In-Service Motor HP)"]
[null,null,"Figure 24: ASD-Controlled Pumps, by Year (In-Service Motors)"]
[null,null,"Figure 25: ASD-Controlled Pumps Installed Above Baseline, by Year (In-Service Motor HP)"]
[null,null,"Figure 26: ASD-Controlled Pumps Installed Above Baseline, by Year (In-Service Motors)"]
[null,null,"Figure 27: Total ASD-Controlled Pumps Installed Above Baseline, by Facility Type, from 2016 to 2021 (In-Service Motor HP)"]
[null,null,"Figure 28: Total ASD-Controlled Pumps Installed Above Baseline, by Facility Type, from 2016 to 2021 (In-Service Motors)"]
[null,null,"Figure 29: Distribution of Fans by Control Type and Load Type, by Year (In-Service Motor HP)"]
[null,null,"Figure 30: Distribution of Fans by Control Type and Load Type, by Year (In-Service Motors)"]
[null,null,"Figure 31: Distribution of Fans by Motor Size, 2020 (In-Service Motor HP)"]
[null,null,"Figure 32: Distribution of Fans by Motor Size, 2020 (In-Service Motors)"]
[null,null,"Figure 33: Distribution of ASD-Controlled Fans by Motor Size, 2020 (In-Service Motor HP)"]
[null,null,"Figure 34: Distribution of ASD-Controlled Fans by Motor Size, 2020 (In-Service Motors)"]
[null,null,"Figure 35: Distribution of Pumps by Control Type and Load Type, by Year (In-Service Motor HP)"]
[null,null,"Figure 36: Distribution of Pumps by Control Type and Load Type, by Year (In-Service Motors)"]
[null,null,"Figure 37: Distribution of Pumps by Motor Size, 2020 (In-Service Motor HP)"]
[null,null,"Figure 38: Distribution of Pumps by Motor Size, 2020 (In-Service Motors)"]
[null,null,"Figure 39: Distribution of ASD-Controlled Pumps by Motor Size, 2020 (In-Service Motor HP)"]
[null,null,"Figure 40: Distribution of ASD-Controlled Pumps by Motor Size, 2020 (In-Service Motors)"]
[null,null,"Figure 41: Total Sales of Fans and Estimated Sales of ASDs installed on Fans, by Year (In-Service Motor HP)"]
[null,null,"Figure 42: Total Sales of Fans and Estimated Sales of ASDs installed on Fans, by Year (In-Service Motors)"]
[null,null,"Figure 43: Total Sales of Pumps and Estimated Sales of ASDs installed on Pumps, by Year (In-Service Motor HP)"]
[null,null,"Figure 44: Total Sales of Pumps and Estimated Sales of ASDs installed on Pumps, by Year (In-Service Motors)"]
[null,null,"Figure 45: Fan Energy Consumption by Model Scenario, by Year (aMW at busbar)"]
[null,null,"Figure 46: Facility Type Distribution of Fan Energy Consumption, 2020 (aMW at busbar)"]
[null,null,"Figure 47: Fan Unit Energy Consumption, by Year (kWh at busbar/motor HP)"]
[null,null,"Figure 48: Pump Energy Consumption by Model Scenario, by Year (aMW at busbar)"]
[null,null,"Figure 49: Facility Type Distribution of Pump Energy Consumption, 2020 (aMW at busbar)"]
[null,null,"Figure 50: Pump Unit Energy Consumption, by Year (kWh at busbar/motor HP)"]
[]
[null,null,"Facility Type Specific Results"]
[]
[null,null,"List of Tables"]
[null,null,"Table A: ASD Momentum Savings by Year, Fans (aMW at busbar)"]
[null,null,"Table B: ASD Momentum Savings from 2016-2021, Fans (aMW at busbar)"]
[null,null,"Table C: ASD Total Market Savings and Adjusted Program Savings by Year, Fans (aMW at busbar)*"]
[null,null,"Table D: ASD Momentum Savings by Year, Pumps (aMW at busbar)"]
[null,null,"Table E: ASD Momentum Savings from 2016-2021, Pumps (aMW at busbar)"]
[null,null,"Table F: ASD Total Market Savings and Adjusted Program Savings by Year, Pumps (aMW at busbar)*"]
[]
[null,null,"List of Figures (each figure has a corresponding table not listed in this tab)"]
[null,null,"Figure 1: Installed Stock of Fans, by Year (Installed Motor HP)"]
[null,null,"Figure 2: Installed Stock of Fans, by Year (Installed Motors)"]
[null,null,"Figure 3: In-Service Fans, by Control Strategy and Year (In-Service Motor HP)"]
[null,null,"Figure 4: In-Service Fans, by Control Strategy and Year (In-Service Motors)"]
[null,null,"Figure 5: ASD-Controlled Fans, by Year (In-Service Motor HP)"]
[null,null,"Figure 6: ASD-Controlled Fans, by Year (In-Service Motors)"]
[null,null,"Figure 7: ASD-Controlled Fans Installed Above Baseline, by Year (In-Service Motor HP)"]
[null,null,"Figure 8: ASD-Controlled Fans Installed Above Baseline, by Year (In-Service Motors)"]
[null,null,"Figure 9: Installed Stock of Pumps, by Year (Installed Motor HP)"]
[null,null,"Figure 10: Installed Stock of Pumps, by Year (Installed Motors)"]
[null,null,"Figure 11: In-Service Pumps, by Control Strategy and Year (In-Service Motor HP)"]
[null,null,"Figure 12: In-Service Pumps, by Control Strategy and Year (In-Service Motors)"]
[null,null,"Figure 13: ASD-Controlled Pumps, by Year (In-Service Motor HP)"]
[null,null,"Figure 14: ASD-Controlled Pumps, by Year (In-Service Motors)"]
[null,null,"Figure 15: ASD-Controlled Pumps Installed Above Baseline, by Year (In-Service Motor HP)"]
[null,null,"Figure 16: ASD-Controlled Pumps Installed Above Baseline, by Year (In-Service Motors)"]
[null,null,"Figure 17: Distribution of Fans by Control Type and Load Type, by Year (In-Service Motor HP)"]
[null,null,"Figure 18: Distribution of Fans by Control Type and Load Type, by Year (In-Service Motors)"]
[null,null,"Figure 19: Distribution of Fans by Motor Size, 2020 (In-Service Motor HP)"]
[null,null,"Figure 20: Distribution of Fans by Motor Size, 2020 (In-Service Motors)"]
[null,null,"Figure 21: Distribution of ASD-Controlled Fans by Motor Size, 2020 (In-Service Motor HP)"]
[null,null,"Figure 22: Distribution of ASD-Controlled Fans by Motor Size, 2020 (In-Service Motors)"]
[null,null,"Figure 23: Distribution of Non ASD-Controlled Fans by Motor Size, 2020 (In-Service Motor HP)"]
[null,null,"Figure 24: Distribution of Non ASD-Controlled Fans by Motor Size, 2020 (In-Service Motors)"]
[null,null,"Figure 25: Distribution of Pumps by Control Type and Load Type, by Year (In-Service Motor HP)"]
[null,null,"Figure 26: Distribution of Pumps by Control Type and Load Type, by Year (In-Service Motors)"]
[null,null,"Figure 27: Distribution of Pumps by Motor Size, 2020 (In-Service HP)"]
[null,null,"Figure 28: Distribution of Pumps by Motor Size, 2020 (In-Service Motors)"]
[null,null,"Figure 29: Distribution of ASD-Controlled Pumps by Motor Size, 2020 (In-Service Motor HP)"]
[null,null,"Figure 30: Distribution of ASD-Controlled Pumps by Motor Size, 2020 (In-Service Motors)"]
[null,null,"Figure 31: Distribution of Non ASD-Controlled Pumps by Motor Size, 2020 (In-Service Motor HP)"]
[null,null,"Figure 32: Distribution of Non ASD-Controlled Pumps by Motor Size, 2020 (In-Service Motors)"]
[null,null,"Figure 33: Total Sales of Fans and Estimated Sales of ASDs installed on Fans, by Year (In-Service HP)"]
[null,null,"Figure 34: Total Sales of Fans and Estimated Sales of ASDs installed on Fans, by Year (In-Service Motors)"]
[null,null,"Figure 35: Total Sales of Pumps and Estimated Sales of ASDs installed on Pumps, by Year (In-Service Motor HP)"]
[null,null,"Figure 36: Total Sales of Pumps and Estimated Sales of ASDs installed on Pumps, by Year (In-Service Motors)"]
[null,null,"Figure 37: Fan Energy Consumption by Model Scenario, by Year (aMW at busbar)"]
[null,null,"Figure 38: Pump Energy Consumption by Model Scenario, by Year (aMW at busbar)"]

{"sheet":"Summary Results","index":3,"n_rows":74,"n_cols":14,"rows_kept":74,"cut":false,"hidden":false,"merged":[[69,2,70,2],[69,3,69,8],[73,2,73,8],[28,2,29,2],[28,3,28,9],[42,2,43,2],[42,3,42,9],[49,2,50,2],[49,3,49,9],[11,7,11,11],[3,2,3,10],[11,2,11,6],[58,2,59,2],[58,3,58,8],[28,10,29,10]]}
[]
[null,null,"Summary Results"]
[]
[null,null,"This tab presents the energy consumption and Momentum Savings calculated for industrial standalone pumps and fans in the Pacific Northwest."]
[null,null,"1. Energy Consumption"]
[null,null,"2. ASD Saturation"]
[null,null,"3. Momentum Savings"]
[]
[]
[null,null,"Energy Consumption "]
[]
[null,null,"Figure 1: Energy Consumption by Model Scenario, by Year (aMW at busbar)",null,null,null,null,"Figure 2: Facility Type Distribution of  Energy Consumption, 2020 (aMW at busbar)"]
[]
[]
[]
[]
[]
[]
[]
[]
[]
[]
[]
[]
[]
[]
[]
[null,null,{"$f":"\"Table for \"&C12","v":"Table for Figure 1: Energy Consumption by Model Scenario, by Year (aMW at busbar)"}]
[null,null,"Pumps and Fans","Year"]
[null,null,null,2015,2016,2017,2018,2019,2020,2021]
[null,null,"Baseline Consumption",{"$f":"SUMIFS(INDEX(output[#Data],0,MATCH(\"consump_busbar_Baseline\",output[#Headers],0)),output[year],D$30,output[sensitivity],\"Base\")/8760000","v":908.50261856362806},{"$f":"SUMIFS(INDEX(output[#Data],0,MATCH(\"consump_busbar_Baseline\",output[#Headers],0)),output[year],E$30,output[sensitivity],\"Base\")/8760000","v":919.60829854181259},{"$f":"SUMIFS(INDEX(output[#Data],0,MATCH(\"consump_busbar_Baseline\",output[#Headers],0)),output[year],F$30,output[sensitivity],\"Base\")/8760000","v":912.45756068354899},{"$f":"SUMIFS(INDEX(output[#Data],0,MATCH(\"consump_busbar_Baseline\",output[#Headers],0)),output[year],G$30,output[sensitivity],\"Base\")/8760000","v":950.31490263471574},{"$f":"SUMIFS(INDEX(output[#Data],0,MATCH(\"consump_busbar_Baseline\",output[#Headers],0)),output[year],H$30,output[sensitivity],\"Base\")/8760000","v":947.81486411483365},{"$f":"SUMIFS(INDEX(output[#Data],0,MATCH(\"consump_busbar_Baseline\",output[#Headers],0)),output[year],I$30,output[sensitivity],\"Base\")/8760000","v":932.37021489739243},{"$f":"SUMIFS(INDEX(output[#Data],0,MATCH(\"consump_busbar_Baseline\",output[#Headers],0)),output[year],J$30,output[sensitivity],\"Base\")/8760000","v":916.33841587455458}]
[null,null,"Market Consumption",{"$f":"SUMIFS(INDEX(output[#Data],0,MATCH(\"consump_busbar_Market\",output[#Headers],0)),output[year],D$30,output[sensitivity],\"Base\")/8760000","v":908.50261856362806},{"$f":"SUMIFS(INDEX(output[#Data],0,MATCH(\"consump_busbar_Market\",output[#Headers],0)),output[year],E$30,output[sensitivity],\"Base\")/8760000","v":915.28639610665107},{"$f":"SUMIFS(INDEX(output[#Data],0,MATCH(\"consump_busbar_Market\",output[#Headers],0)),output[year],F$30,output[sensitivity],\"Base\")/8760000","v":903.6003415848794},{"$f":"SUMIFS(INDEX(output[#Data],0,MATCH(\"consump_busbar_Market\",output[#Headers],0)),output[year],G$30,output[sensitivity],\"Base\")/8760000","v":936.36281626971208},{"$f":"SUMIFS(INDEX(output[#Data],0,MATCH(\"consump_busbar_Market\",output[#Headers],0)),output[year],H$30,output[sensitivity],\"Base\")/8760000","v":928.43230545227311},{"$f":"SUMIFS(INDEX(output[#Data],0,MATCH(\"consump_busbar_Market\",output[#Headers],0)),output[year],I$30,output[sensitivity],\"Base\")/8760000","v":908.33171005818792},{"$f":"SUMIFS(INDEX(output[#Data],0,MATCH(\"consump_busbar_Market\",output[#Headers],0)),output[year],J$30,output[sensitivity],\"Base\")/8760000","v":888.66152466328572}]
[null,null,"% Change in Energy Consumption from Baseline",{"$f":"1-D32/D31","v":0},4.699721002969004E-3,9.7069929389750342E-3,1.4681540115094482E-2,2.0449730634539032E-2,2.5782145820531066E-2,3.0203787958462902E-2]
[]
[null,null,{"$f":"\"Table for \"&H12","v":"Table for Figure 2: Facility Type Distribution of  Energy Consumption, 2020 (aMW at busbar)"}]
[null,null,"Pumps and Fans","Primary Metal","Wood Products","Paper","Computer - Elec","Chemical","Food","Warehousing","Refinery","Fabricated Metal","Transportation","Misc Manf"]
[null,null,2020,{"$f":"SUMIFS(INDEX(output[#Data],0,MATCH(\"consump_busbar_Market\",output[#Headers],0)),output[year],$C37,output[facility_type],D$36,output[sensitivity],\"Base\")/8760000","v":147.80211244880635},{"$f":"SUMIFS(INDEX(output[#Data],0,MATCH(\"consump_busbar_Market\",output[#Headers],0)),output[year],$C37,output[facility_type],E$36,output[sensitivity],\"Base\")/8760000","v":163.79714214873812},{"$f":"SUMIFS(INDEX(output[#Data],0,MATCH(\"consump_busbar_Market\",output[#Headers],0)),output[year],$C37,output[facility_type],F$36,output[sensitivity],\"Base\")/8760000","v":163.41101667034062},{"$f":"SUMIFS(INDEX(output[#Data],0,MATCH(\"consump_busbar_Market\",output[#Headers],0)),output[year],$C37,output[facility_type],G$36,output[sensitivity],\"Base\")/8760000","v":52.039610560133262},{"$f":"SUMIFS(INDEX(output[#Data],0,MATCH(\"consump_busbar_Market\",output[#Headers],0)),output[year],$C37,output[facility_type],H$36,output[sensitivity],\"Base\")/8760000","v":45.334309085145399},{"$f":"SUMIFS(INDEX(output[#Data],0,MATCH(\"consump_busbar_Market\",output[#Headers],0)),output[year],$C37,output[facility_type],I$36,output[sensitivity],\"Base\")/8760000","v":78.538995932850412},{"$f":"SUMIFS(INDEX(output[#Data],0,MATCH(\"consump_busbar_Market\",output[#Headers],0)),output[year],$C37,output[facility_type],J$36,output[sensitivity],\"Base\")/8760000","v":32.904363389808225},{"$f":"SUMIFS(INDEX(output[#Data],0,MATCH(\"consump_busbar_Market\",output[#Headers],0)),output[year],$C37,output[facility_type],K$36,output[sensitivity],\"Base\")/8760000","v":123.66771465232566},{"$f":"SUMIFS(INDEX(output[#Data],0,MATCH(\"consump_busbar_Market\",output[#Headers],0)),output[year],$C37,output[facility_type],L$36,output[sensitivity],\"Base\")/8760000","v":16.026358913225547},{"$f":"SUMIFS(INDEX(output[#Data],0,MATCH(\"consump_busbar_Market\",output[#Headers],0)),output[year],$C37,output[facility_type],M$36,output[sensitivity],\"Base\")/8760000","v":14.80319358210205},{"$f":"SUMIFS(INDEX(output[#Data],0,MATCH(\"consump_busbar_Market\",output[#Headers],0)),output[year],$C37,output[facility_type],N$36,output[sensitivity],\"Base\")/8760000","v":70.006892674712631}]
[]
[]
[null,null,"ASD Saturation"]
[]
[null,null,"Table A: Regional Fan ASD Saturation, 2015 - 2021"]
[null,null,"Fan ASD Saturation","Year"]
[null,null,null,2015,2016,2017,2018,2019,2020,2021]
[null,null,"Percent of motor HP",{"$f":"'Industrial Sector Results'!D107","v":0.30628345422808639},{"$f":"'Industrial Sector Results'!E107","v":0.32831344119929018},{"$f":"'Industrial Sector Results'!F107","v":0.34805399847918456},{"$f":"'Industrial Sector Results'!G107","v":0.36869293400695419},{"$f":"'Industrial Sector Results'!H107","v":0.39258692897308917},{"$f":"'Industrial Sector Results'!I107","v":0.41016955221430729},{"$f":"'Industrial Sector Results'!J107","v":0.42531753101639014}]
[null,null,"Percent of motors",{"$f":"'Industrial Sector Results'!D114","v":0.25159301223132763},{"$f":"'Industrial Sector Results'!E114","v":0.2714145387927589},{"$f":"'Industrial Sector Results'!F114","v":0.29358838893026301},{"$f":"'Industrial Sector Results'!G114","v":0.30961506852998422},{"$f":"'Industrial Sector Results'!H114","v":0.33391867532417813},{"$f":"'Industrial Sector Results'!I114","v":0.35395942958302418},{"$f":"'Industrial Sector Results'!J114","v":0.35875214190974791}]
[]
[]
[null,null,"Table B: Regional Pump ASD Saturation, 2015 - 2021"]
[null,null,"Pump ASD Saturation","Year"]
[null,null,null,2015,2016,2017,2018,2019,2020,2021]
[null,null,"Percent of motor HP",{"$f":"'Industrial Sector Results'!D326","v":0.39848618707825861},{"$f":"'Industrial Sector Results'!E326","v":0.424201023977475},{"$f":"'Industrial Sector Results'!F326","v":0.45441067631780835},{"$f":"'Industrial Sector Results'!G326","v":0.48292707864326145},{"$f":"'Industrial Sector Results'!H326","v":0.51592080151502651},{"$f":"'Industrial Sector Results'!I326","v":0.55273621230183212},{"$f":"'Industrial Sector Results'!J326","v":0.57173693454350949}]
[null,null,"Percent of motors",{"$f":"'Industrial Sector Results'!D333","v":0.28129741800283287},{"$f":"'Industrial Sector Results'!E333","v":0.31386845310687334},{"$f":"'Industrial Sector Results'!F333","v":0.3474380993467967},{"$f":"'Industrial Sector Results'!G333","v":0.3788034336263027},{"$f":"'Industrial Sector Results'!H333","v":0.41859504099685696},{"$f":"'Industrial Sector Results'!I333","v":0.46017279776363701},{"$f":"'Industrial Sector Results'!J333","v":0.49510289834013216}]
[]
[]
[null,null,"Momentum Savings"]
[]
[null,null,"Table C: ASD Momentum Savings by Year, Pumps and Fans (aMW at busbar)"]
[null,null,"Fans","Year"]
[null,null,null,2016,2017,2018,2019,2020,2021]
[null,null,"Regional Momentum Savings",{"$f":"(SUMIFS(INDEX(output[#Data],0,MATCH(\"consump_busbar_Program\",output[#Headers],0)),output[year],D$60,output[sensitivity],\"Base\")-SUMIFS(INDEX(output[#Data],0,MATCH(\"consump_busbar_Market\",output[#Headers],0)),output[year],D$60,output[sensitivity],\"Base\"))/8760000","v":2.7843746543255028},{"$f":"(SUMIFS(INDEX(output[#Data],0,MATCH(\"consump_busbar_Program\",output[#Headers],0)),output[year],E$60,output[sensitivity],\"Base\")-SUMIFS(INDEX(output[#Data],0,MATCH(\"consump_busbar_Market\",output[#Headers],0)),output[year],E$60,output[sensitivity],\"Base\"))/8760000-SUM($D$61:D61)","v":3.2055332323321464},{"$f":"(SUMIFS(INDEX(output[#Data],0,MATCH(\"consump_busbar_Program\",output[#Headers],0)),output[year],F$60,output[sensitivity],\"Base\")-SUMIFS(INDEX(output[#Data],0,MATCH(\"consump_busbar_Market\",output[#Headers],0)),output[year],F$60,output[sensitivity],\"Base\"))/8760000-SUM($D$61:E61)","v":3.61357477156049},{"$f":"(SUMIFS(INDEX(output[#Data],0,MATCH(\"consump_busbar_Program\",output[#Headers],0)),output[year],G$60,output[sensitivity],\"Base\")-SUMIFS(INDEX(output[#Data],0,MATCH(\"consump_busbar_Market\",output[#Headers],0)),output[year],G$60,output[sensitivity],\"Base\"))/8760000-SUM($D$61:F61)","v":2.7017988924248577},{"$f":"(SUMIFS(INDEX(output[#Data],0,MATCH(\"consump_busbar_Program\",output[#Headers],0)),output[year],H$60,output[sensitivity],\"Base\")-SUMIFS(INDEX(output[#Data],0,MATCH(\"consump_busbar_Market\",output[#Headers],0)),output[year],H$60,output[sensitivity],\"Base\"))/8760000-SUM($D$61:G61)","v":3.7793929711533476},{"$f":"(SUMIFS(INDEX(output[#Data],0,MATCH(\"consump_busbar_Program\",output[#Headers],0)),output[year],I$60,output[sensitivity],\"Base\")-SUMIFS(INDEX(output[#Data],0,MATCH(\"consump_busbar_Market\",output[#Headers],0)),output[year],I$60,output[sensitivity],\"Base\"))/8760000-SUM($D$61:H61)","v":2.762639463016324}]
[null,null,"BPA Share of Momentum Savings",{"$f":"D61*0.42","v":1.1694373548167112},1.3463239575795014,1.5177014040554058,1.1347555348184402,1.587345047884406,1.160308574466856]
[]
[null,null,"Table D: ASD Momentum Savings from 2016-2021, Pumps and Fans (aMW at busbar)"]
[null,null,"Regional Momentum Savings, 2016-2021 (aMW at busbar)",null,null,{"$f":"SUM(D61:I61)","v":18.847313984812669}]
[null,null,"BPA Share of Momentum Savings (aMW at busbar)",null,null,{"$f":"SUM(D62:I62)","v":7.9158718736213203}]
[]
[]
[null,null,"Table E: ASD Total Market Savings and Adjusted Program Savings by Year, Pumps and Fans (aMW at busbar)*"]
[null,null,"Fans","Year"]
[null,null,null,2016,2017,2018,2019,2020,2021]
[null,null,"Total Market Savings",{"$f":"(SUMIFS(INDEX(output[#Data],0,MATCH(\"consump_busbar_Baseline\",output[#Headers],0)),output[year],D$71,output[sensitivity],\"Base\")-SUMIFS(INDEX(output[#Data],0,MATCH(\"consump_busbar_Market\",output[#Headers],0)),output[year],D$71,output[sensitivity],\"Base\"))/8760000","v":4.3219024351615341},{"$f":"(SUMIFS(INDEX(output[#Data],0,MATCH(\"consump_busbar_Baseline\",output[#Headers],0)),output[year],E$71,output[sensitivity],\"Base\")-SUMIFS(INDEX(output[#Data],0,MATCH(\"consump_busbar_Market\",output[#Headers],0)),output[year],E$71,output[sensitivity],\"Base\"))/8760000-SUM($D$72:D72)","v":4.5353166635080013},{"$f":"(SUMIFS(INDEX(output[#Data],0,MATCH(\"consump_busbar_Baseline\",output[#Headers],0)),output[year],F$71,output[sensitivity],\"Base\")-SUMIFS(INDEX(output[#Data],0,MATCH(\"consump_busbar_Market\",output[#Headers],0)),output[year],F$71,output[sensitivity],\"Base\"))/8760000-SUM($D$72:E72)","v":5.0948672663341377},{"$f":"(SUMIFS(INDEX(output[#Data],0,MATCH(\"consump_busbar_Baseline\",output[#Headers],0)),output[year],G$71,output[sensitivity],\"Base\")-SUMIFS(INDEX(output[#Data],0,MATCH(\"consump_busbar_Market\",output[#Headers],0)),output[year],G$71,output[sensitivity],\"Base\"))/8760000-SUM($D$72:F72)","v":5.430472297556868},{"$f":"(SUMIFS(INDEX(output[#Data],0,MATCH(\"consump_busbar_Baseline\",output[#Headers],0)),output[year],H$71,output[sensitivity],\"Base\")-SUMIFS(INDEX(output[#Data],0,MATCH(\"consump_busbar_Market\",output[#Headers],0)),output[year],H$71,output[sensitivity],\"Base\"))/8760000-SUM($D$72:G72)","v":4.6559461766440045},{"$f":"(SUMIFS(INDEX(output[#Data],0,MATCH(\"consump_busbar_Baseline\",output[#Headers],0)),output[year],I$71,output[sensitivity],\"Base\")-SUMIFS(INDEX(output[#Data],0,MATCH(\"consump_busbar_Market\",output[#Headers],0)),output[year],I$71,output[sensitivity],\"Base\"))/8760000-SUM($D$72:H72)","v":3.6383863720643461}]
[null,null,"Adjusted Program Savings",{"$f":"(SUMIFS(INDEX(output[#Data],0,MATCH(\"consump_busbar_Baseline\",output[#Headers],0)),output[year],D$71,output[sensitivity],\"Base\")-SUMIFS(INDEX(output[#Data],0,MATCH(\"consump_busbar_Program\",output[#Headers],0)),output[year],D$71,output[sensitivity],\"Base\"))/8760000","v":1.5375277808360313},{"$f":"(SUMIFS(INDEX(output[#Data],0,MATCH(\"consump_busbar_Baseline\",output[#Headers],0)),output[year],E$71,output[sensitivity],\"Base\")-SUMIFS(INDEX(output[#Data],0,MATCH(\"consump_busbar_Program\",output[#Headers],0)),output[year],E$71,output[sensitivity],\"Base\"))/8760000-SUM($D$73:D73)","v":1.3297834311758545},{"$f":"(SUMIFS(INDEX(output[#Data],0,MATCH(\"consump_busbar_Baseline\",output[#Headers],0)),output[year],F$71,output[sensitivity],\"Base\")-SUMIFS(INDEX(output[#Data],0,MATCH(\"consump_busbar_Program\",output[#Headers],0)),output[year],F$71,output[sensitivity],\"Base\"))/8760000-SUM($D$73:E73)","v":1.4812924947736472},{"$f":"(SUMIFS(INDEX(output[#Data],0,MATCH(\"consump_busbar_Baseline\",output[#Headers],0)),output[year],G$71,output[sensitivity],\"Base\")-SUMIFS(INDEX(output[#Data],0,MATCH(\"consump_busbar_Program\",output[#Headers],0)),output[year],G$71,output[sensitivity],\"Base\"))/8760000-SUM($D$73:F73)","v":2.7286734051320103},{"$f":"(SUMIFS(INDEX(output[#Data],0,MATCH(\"consump_busbar_Baseline\",output[#Headers],0)),output[year],H$71,output[sensitivity],\"Base\")-SUMIFS(INDEX(output[#Data],0,MATCH(\"consump_busbar_Program\",output[#Headers],0)),output[year],H$71,output[sensitivity],\"Base\"))/8760000-SUM($D$73:G73)","v":0.87655320549065685},{"$f":"(SUMIFS(INDEX(output[#Data],0,MATCH(\"consump_busbar_Baseline\",output[#Headers],0)),output[year],I$71,output[sensitivity],\"Base\")-SUMIFS(INDEX(output[#Data],0,MATCH(\"consump_busbar_Program\",output[#Headers],0)),output[year],I$71,output[sensitivity],\"Base\"))/8760000-SUM($D$73:H73)","v":0.87574690904802477}]
[null,null,"*These are interim results in the calculation of Momentum Savings that are not intended to be used outside of this analysis. Please refer to the methodology memo for more detail."]

{"sheet":"Industrial Sector Results","index":4,"n_rows":857,"n_cols":15,"rows_kept":857,"cut":false,"hidden":false,"merged":[[334,2,334,5],[146,2,146,5],[175,2,175,5],[203,2,203,5],[815,2,816,2],[815,3,815,9],[227,2,227,3],[226,2,226,3],[233,2,233,3],[232,2,232,3],[453,2,453,3],[452,2,452,3],[448,2,448,3],[447,2,447,3],[762,2,763,2],[762,3,762,9],[642,2,642,5],[321,2,322,2],[321,3,321,9],[328,2,329,2],[328,3,328,9],[334,7,334,11],[696,2,696,3],[698,2,698,3],[255,2,256,2],[255,3,255,9],[262,2,263,2],[262,3,262,9],[268,7,268,11],[302,7,302,11],[170,3,170,9],[640,2,640,4],[396,2,396,5],[425,2,425,5],[459,2,459,5],[546,2,546,5],[491,2,491,5],[519,2,519,5],[512,2,513,2],[451,2,451,3],[541,2,542,2],[476,3,476,9],[484,3,484,9],[175,7,175,11],[231,2,231,3],[236,2,236,5],[268,2,268,5],[302,2,302,5],[856,2,856,8],[833,3,833,8],[822,3,822,8],[852,2,853,2],[852,3,852,8],[192,3,192,8],[414,3,414,8],[420,3,420,8],[837,2,837,8],[457,2,457,10],[476,2,477,2],[192,2,193,2],[198,2,199,2],[414,2,415,2],[198,3,198,8],[784,3,784,9],[784,10,785,10],[704,2,704,3],[705,2,705,3],[420,2,421,2],[701,4,701,11],[842,2,843,2],[842,3,842,8],[695,2,695,3],[37,3,37,9],[44,2,45,2],[44,3,44,9],[164,2,165,2],[164,3,164,9],[37,2,38,2],[102,2,103,2],[102,3,102,9],[109,2,110,2],[109,3,109,9],[115,7,115,11],[83,7,83,11],[50,7,50,11],[146,7,146,11],[50,2,50,5],[83,2,83,5],[115,2,115,5],[15,2,15,10],[17,2,17,10],[9,2,9,3],[634,2,634,10],[635,2,635,10],[636,2,636,10],[660,2,661,3],[660,4,660,11],[484,2,485,2],[563,2,564,2],[571,2,572,2],[192,9,193,11],[420,9,421,11],[446,2,446,3],[225,2,225,3],[384,2,385,2],[390,2,391,2],[16,2,16,9],[600,2,601,2],[638,2,638,3],[170,2,171,2],[203,7,203,11],[604,2,605,2],[516,2,517,2],[833,2,834,2],[731,3,731,9],[731,2,732,2],[784,2,785,2],[701,2,702,3],[822,2,823,2],[693,4,693,11],[715,7,715,11],[768,7,768,11],[712,2,712,10],[731,10,732,10],[706,2,706,3],[697,2,697,3],[693,2,694,3],[390,3,390,9],[384,3,384,9],[546,7,546,11],[459,7,459,11],[520,2,520,5],[607,2,607,5],[608,2,608,5],[629,2,630,2],[396,7,396,11],[425,7,425,11],[519,7,519,11],[607,7,607,11],[664,2,664,3],[665,2,665,3],[676,7,676,11],[672,2,672,3],[715,2,715,5],[768,2,768,5],[676,2,676,5],[537,2,538,2],[625,2,626,2],[668,2,669,3],[668,4,668,11],[642,7,642,11],[662,2,662,3],[663,2,663,3],[703,2,703,3],[673,2,673,3],[670,2,670,3],[671,2,671,3]]}
[]
[null,null,"Industrial Sector Model Results"]
[]
[null,null,"This tab presents the ASD Model results for the industrial sector. These results are separated into four sections:"]
[null,null,"1. Installed Stock"]
[null,null,"2. Market Characteristics"]
[null,null,"3. Equipment Sales"]
[null,null,"4. Energy Consumption and Momentum Savings \n(all results at busbar)"]
[]
[null,null,"Regional Momentum Savings, 2016-2021\n (aMW at busbar)"]
[null,null,"Fans",{"$f":"F829","v":6.7103940933377775}]
[null,null,"Pumps",{"$f":"F849","v":12.136919891473964}]
[]
[null,null,"Installed Stock"]
[]
[null,null,"This section presents the annual magnitude of the installed stock of pumps,  fans, and ASDs in the industrial sector. The model calculates the motor HP and the number of motors in the region in each year. Installed stock is grouped into two categories."]
[null,null,"In-Service equipment operate (that is, consume energy) in the identified year.\nOut-of-Service equipment exist in the region but do not consume energy (e.g., a pump installed on a non-operational production line, a back-up pump that never sees service).\nInstalled equipment equals in-service plus out-of-service equipment\n"]
[null,null,"Equipment can move between in-service and out-of-service, depending on the demand for production within a specific facility type.  The information below is given in terms of both motor HP and number of motors. "]
[null,null,"Figure 1: Installed Stock of Fans, by Year (Installed Motor HP)",null,null,null,null,"Figure 2: Installed Stock of Fans, by Year (Installed Motors)"]
[]
[]
[]
[]
[]
[]
[]
[]
[]
[]
[]
[]
[]
[]
[]
[]
[]
[null,null,{"$f":"\"Table for \"&C19","v":"Table for Figure 1: Installed Stock of Fans, by Year (Installed Motor HP)"}]
[null,null,"Fans","Year"]
[null,null,null,2015,2016,2017,2018,2019,2020,2021]
[null,null,"In-Service Motor HP",{"$f":"SUMIFS(INDEX(output[#Data],0,MATCH(\"ishp_Market\",output[#Headers],0)),output[equipment_type],$C$38,output[year],D$39,output[sensitivity],\"Base\")","v":1175161.5014964875},{"$f":"SUMIFS(INDEX(output[#Data],0,MATCH(\"ishp_Market\",output[#Headers],0)),output[equipment_type],$C$38,output[year],E$39,output[sensitivity],\"Base\")","v":1168245.4261767485},{"$f":"SUMIFS(INDEX(output[#Data],0,MATCH(\"ishp_Market\",output[#Headers],0)),output[equipment_type],$C$38,output[year],F$39,output[sensitivity],\"Base\")","v":1155503.6646160446},{"$f":"SUMIFS(INDEX(output[#Data],0,MATCH(\"ishp_Market\",output[#Headers],0)),output[equipment_type],$C$38,output[year],G$39,output[sensitivity],\"Base\")","v":1216254.4785561543},{"$f":"SUMIFS(INDEX(output[#Data],0,MATCH(\"ishp_Market\",output[#Headers],0)),output[equipment_type],$C$38,output[year],H$39,output[sensitivity],\"Base\")","v":1220266.1413101102},{"$f":"SUMIFS(INDEX(output[#Data],0,MATCH(\"ishp_Market\",output[#Headers],0)),output[equipment_type],$C$38,output[year],I$39,output[sensitivity],\"Base\")","v":1218793.774045364},{"$f":"SUMIFS(INDEX(output[#Data],0,MATCH(\"ishp_Market\",output[#Headers],0)),output[equipment_type],$C$38,output[year],J$39,output[sensitivity],\"Base\")","v":1188680.3615924343}]
[null,null,"Out-of-Service Motor HP",{"$f":"SUMIFS(INDEX(output[#Data],0,MATCH(\"ooshp_Market\",output[#Headers],0)),output[equipment_type],$C$38,output[year],D$39,output[sensitivity],\"Base\")","v":395855.11292812246},{"$f":"SUMIFS(INDEX(output[#Data],0,MATCH(\"ooshp_Market\",output[#Headers],0)),output[equipment_type],$C$38,output[year],E$39,output[sensitivity],\"Base\")","v":419904.59726682008},{"$f":"SUMIFS(INDEX(output[#Data],0,MATCH(\"ooshp_Market\",output[#Headers],0)),output[equipment_type],$C$38,output[year],F$39,output[sensitivity],\"Base\")","v":437030.05252912635},{"$f":"SUMIFS(INDEX(output[#Data],0,MATCH(\"ooshp_Market\",output[#Headers],0)),output[equipment_type],$C$38,output[year],G$39,output[sensitivity],\"Base\")","v":411013.91032696253},{"$f":"SUMIFS(INDEX(output[#Data],0,MATCH(\"ooshp_Market\",output[#Headers],0)),output[equipment_type],$C$38,output[year],H$39,output[sensitivity],\"Base\")","v":418477.12977936713},{"$f":"SUMIFS(INDEX(output[#Data],0,MATCH(\"ooshp_Market\",output[#Headers],0)),output[equipment_type],$C$38,output[year],I$39,output[sensitivity],\"Base\")","v":422646.03233206412},{"$f":"SUMIFS(INDEX(output[#Data],0,MATCH(\"ooshp_Market\",output[#Headers],0)),output[equipment_type],$C$38,output[year],J$39,output[sensitivity],\"Base\")","v":462908.82682897826}]
[null,null,"Total Motor HP",{"$f":"SUM(D40:D41)","v":1571016.61442461},1588150.0234435685,1592533.717145171,1627268.3888831169,1638743.2710894775,1641439.8063774281,1651589.1884214126]
[]
[null,null,{"$f":"\"Table for \"&H19","v":"Table for Figure 2: Installed Stock of Fans, by Year (Installed Motors)"}]
[null,null,"Fans","Year"]
[null,null,null,2015,2016,2017,2018,2019,2020,2021]
[null,null,"Number of In-Service Motors",{"$f":"SUMIFS(INDEX(output[#Data],0,MATCH(\"num_motors_Market\",output[#Headers],0)),output[equipment_type],$C$45,output[year],D$46,output[sensitivity],\"Base\")","v":64672.361944645847},{"$f":"SUMIFS(INDEX(output[#Data],0,MATCH(\"num_motors_Market\",output[#Headers],0)),output[equipment_type],$C$45,output[year],E$46,output[sensitivity],\"Base\")","v":64424.408101117937},{"$f":"SUMIFS(INDEX(output[#Data],0,MATCH(\"num_motors_Market\",output[#Headers],0)),output[equipment_type],$C$45,output[year],F$46,output[sensitivity],\"Base\")","v":63480.23039992914},{"$f":"SUMIFS(INDEX(output[#Data],0,MATCH(\"num_motors_Market\",output[#Headers],0)),output[equipment_type],$C$45,output[year],G$46,output[sensitivity],\"Base\")","v":68454.534856205501},{"$f":"SUMIFS(INDEX(output[#Data],0,MATCH(\"num_motors_Market\",output[#Headers],0)),output[equipment_type],$C$45,output[year],H$46,output[sensitivity],\"Base\")","v":69127.775711499635},{"$f":"SUMIFS(INDEX(output[#Data],0,MATCH(\"num_motors_Market\",output[#Headers],0)),output[equipment_type],$C$45,output[year],I$46,output[sensitivity],\"Base\")","v":68640.592049227052},{"$f":"SUMIFS(INDEX(output[#Data],0,MATCH(\"num_motors_Market\",output[#Headers],0)),output[equipment_type],$C$45,output[year],J$46,output[sensitivity],\"Base\")","v":70844.803759210408}]
[null,null,"Number of Out-of-Service Motors",{"$f":"SUMIFS(INDEX(output[#Data],0,MATCH(\"num_motors_ooshp_Market\",output[#Headers],0)),output[equipment_type],$C$45,output[year],D$46,output[sensitivity],\"Base\")","v":22216.976679480631},{"$f":"SUMIFS(INDEX(output[#Data],0,MATCH(\"num_motors_ooshp_Market\",output[#Headers],0)),output[equipment_type],$C$45,output[year],E$46,output[sensitivity],\"Base\")","v":22362.292226574769},{"$f":"SUMIFS(INDEX(output[#Data],0,MATCH(\"num_motors_ooshp_Market\",output[#Headers],0)),output[equipment_type],$C$45,output[year],F$46,output[sensitivity],\"Base\")","v":22809.728869315106},{"$f":"SUMIFS(INDEX(output[#Data],0,MATCH(\"num_motors_ooshp_Market\",output[#Headers],0)),output[equipment_type],$C$45,output[year],G$46,output[sensitivity],\"Base\")","v":20799.6471452517},{"$f":"SUMIFS(INDEX(output[#Data],0,MATCH(\"num_motors_ooshp_Market\",output[#Headers],0)),output[equipment_type],$C$45,output[year],H$46,output[sensitivity],\"Base\")","v":21018.590132784513},{"$f":"SUMIFS(INDEX(output[#Data],0,MATCH(\"num_motors_ooshp_Market\",output[#Headers],0)),output[equipment_type],$C$45,output[year],I$46,output[sensitivity],\"Base\")","v":21001.358566571264},{"$f":"SUMIFS(INDEX(output[#Data],0,MATCH(\"num_motors_ooshp_Market\",output[#Headers],0)),output[equipment_type],$C$45,output[year],J$46,output[sensitivity],\"Base\")","v":21826.53435304642}]
[null,null,"Total Number of Motors",{"$f":"SUM(D47:D48)","v":86889.338624126482},86786.700327692699,86289.959269244253,89254.1820014572,90146.365844284155,89641.950615798312,92671.338112256824]
[]
[null,null,"Figure 3: In-Service Stock of Fans, by Facility Type in 2020 (Installed Motor HP)",null,null,null,null,"Figure 4: In-Service Stock of Fans, by Facility Type in 2020 (Installed Motors)"]
[]
[]
[]
[]
[]
[]
[]
[]
[]
[]
[]
[]
[]
[]
[]
[]
[]
[]
[]
[null,null,{"$f":"\"Table for \"&C51","v":"Table for Figure 3: In-Service Stock of Fans, by Facility Type in 2020 (Installed Motor HP)"}]
[null,null,"Fans","Primary Metal","Wood Products","Paper","Computer - Elec","Chemical","Food","Warehousing","Refinery","Fabricated Metal","Transportation","Misc Manf"]
[null,null,"In-Service Motor HP",{"$f":"SUMIFS(INDEX(output[#Data],0,MATCH(\"ishp_Market\",output[#Headers],0)),output[equipment_type],$C$72,output[year],2020,output[facility_type],D$72,output[sensitivity],\"Base\")","v":235072.22681138339},{"$f":"SUMIFS(INDEX(output[#Data],0,MATCH(\"ishp_Market\",output[#Headers],0)),output[equipment_type],$C$72,output[year],2020,output[facility_type],E$72,output[sensitivity],\"Base\")","v":305511.27224555839},{"$f":"SUMIFS(INDEX(output[#Data],0,MATCH(\"ishp_Market\",output[#Headers],0)),output[equipment_type],$C$72,output[year],2020,output[facility_type],F$72,output[sensitivity],\"Base\")","v":155949.8254701581},{"$f":"SUMIFS(INDEX(output[#Data],0,MATCH(\"ishp_Market\",output[#Headers],0)),output[equipment_type],$C$72,output[year],2020,output[facility_type],G$72,output[sensitivity],\"Base\")","v":69974.92050931121},{"$f":"SUMIFS(INDEX(output[#Data],0,MATCH(\"ishp_Market\",output[#Headers],0)),output[equipment_type],$C$72,output[year],2020,output[facility_type],H$72,output[sensitivity],\"Base\")","v":51295.948952050356},{"$f":"SUMIFS(INDEX(output[#Data],0,MATCH(\"ishp_Market\",output[#Headers],0)),output[equipment_type],$C$72,output[year],2020,output[facility_type],I$72,output[sensitivity],\"Base\")","v":82977.574734287889},{"$f":"SUMIFS(INDEX(output[#Data],0,MATCH(\"ishp_Market\",output[#Headers],0)),output[equipment_type],$C$72,output[year],2020,output[facility_type],J$72,output[sensitivity],\"Base\")","v":77861.293506498638},{"$f":"SUMIFS(INDEX(output[#Data],0,MATCH(\"ishp_Market\",output[#Headers],0)),output[equipment_type],$C$72,output[year],2020,output[facility_type],K$72,output[sensitivity],\"Base\")","v":61449.930821145033},{"$f":"SUMIFS(INDEX(output[#Data],0,MATCH(\"ishp_Market\",output[#Headers],0)),output[equipment_type],$C$72,output[year],2020,output[facility_type],L$72,output[sensitivity],\"Base\")","v":38164.075037783987},{"$f":"SUMIFS(INDEX(output[#Data],0,MATCH(\"ishp_Market\",output[#Headers],0)),output[equipment_type],$C$72,output[year],2020,output[facility_type],M$72,output[sensitivity],\"Base\")","v":18173.12872730356},{"$f":"SUMIFS(INDEX(output[#Data],0,MATCH(\"ishp_Market\",output[#Headers],0)),output[equipment_type],$C$72,output[year],2020,output[facility_type],N$72,output[sensitivity],\"Base\")","v":122363.57722988297}]
[]
[null,null,{"$f":"\"Table for \"&H51","v":"Table for Figure 4: In-Service Stock of Fans, by Facility Type in 2020 (Installed Motors)"}]
[null,null,"Fans","Primary Metal","Wood Products","Paper","Computer - Elec","Chemical","Food","Warehousing","Refinery","Fabricated Metal","Transportation","Misc Manf"]
[null,null,"Number of In-Service Motors",{"$f":"SUMIFS(INDEX(output[#Data],0,MATCH(\"num_motors_Market\",output[#Headers],0)),output[equipment_type],$C$76,output[year],2020,output[facility_type],D$76,output[sensitivity],\"Base\")","v":8214.2669619974549},{"$f":"SUMIFS(INDEX(output[#Data],0,MATCH(\"num_motors_Market\",output[#Headers],0)),output[equipment_type],$C$76,output[year],2020,output[facility_type],E$76,output[sensitivity],\"Base\")","v":6863.8215288056554},{"$f":"SUMIFS(INDEX(output[#Data],0,MATCH(\"num_motors_Market\",output[#Headers],0)),output[equipment_type],$C$76,output[year],2020,output[facility_type],F$76,output[sensitivity],\"Base\")","v":2751.0046230667672},{"$f":"SUMIFS(INDEX(output[#Data],0,MATCH(\"num_motors_Market\",output[#Headers],0)),output[equipment_type],$C$76,output[year],2020,output[facility_type],G$76,output[sensitivity],\"Base\")","v":6594.5696703767007},{"$f":"SUMIFS(INDEX(output[#Data],0,MATCH(\"num_motors_Market\",output[#Headers],0)),output[equipment_type],$C$76,output[year],2020,output[facility_type],H$76,output[sensitivity],\"Base\")","v":1690.2376883010784},{"$f":"SUMIFS(INDEX(output[#Data],0,MATCH(\"num_motors_Market\",output[#Headers],0)),output[equipment_type],$C$76,output[year],2020,output[facility_type],I$76,output[sensitivity],\"Base\")","v":5954.0363168873719},{"$f":"SUMIFS(INDEX(output[#Data],0,MATCH(\"num_motors_Market\",output[#Headers],0)),output[equipment_type],$C$76,output[year],2020,output[facility_type],J$76,output[sensitivity],\"Base\")","v":22117.601383851001},{"$f":"SUMIFS(INDEX(output[#Data],0,MATCH(\"num_motors_Market\",output[#Headers],0)),output[equipment_type],$C$76,output[year],2020,output[facility_type],K$76,output[sensitivity],\"Base\")","v":1334.2290871759171},{"$f":"SUMIFS(INDEX(output[#Data],0,MATCH(\"num_motors_Market\",output[#Headers],0)),output[equipment_type],$C$76,output[year],2020,output[facility_type],L$76,output[sensitivity],\"Base\")","v":3685.6739327913533},{"$f":"SUMIFS(INDEX(output[#Data],0,MATCH(\"num_motors_Market\",output[#Headers],0)),output[equipment_type],$C$76,output[year],2020,output[facility_type],M$76,output[sensitivity],\"Base\")","v":737.36130548874758},{"$f":"SUMIFS(INDEX(output[#Data],0,MATCH(\"num_motors_Market\",output[#Headers],0)),output[equipment_type],$C$76,output[year],2020,output[facility_type],N$76,output[sensitivity],\"Base\")","v":8697.7895504851549}]
[]
[null,null,"Table A: Average Motor Horsepower of In-Service Fans, by Facility Type in 2020 (Motor HP)"]
[null,null,"Fans","Primary Metal","Wood Products","Paper","Computer - Elec","Chemical","Food","Warehousing","Refinery","Fabricated Metal","Transportation","Misc Manf"]
[null,null,"Average In-Service Motor HP",{"$f":"D73/D77","v":28.617553812034995},{"$f":"E73/E77","v":44.510375300903128},56.688318210206504,10.610991164995008,30.348364201729431,13.936356837283549,3.5203317102616953,46.0565066462555,10.354707370676261,24.646165444303868,14.068353404004542]
[]
[]
[null,null,"Figure 5: In-Service Fans, by Control Strategy and Year (In-Service Motor HP)",null,null,null,null,"Figure 6: In-Service Fans, by Control Strategy and Year (In-Service Motors)"]
[]
[]
[]
[]
[]
[]
[]
[]
[]
[]
[]
[]
[]
[]
[]
[]
[]
[null,null,{"$f":"\"Table for \"&C84","v":"Table for Figure 5: In-Service Fans, by Control Strategy and Year (In-Service Motor HP)"}]
[null,null,"Fans","Year"]
[null,null,null,2015,2016,2017,2018,2019,2020,2021]
[null,null,"In-Service Non ASD-Controlled Motor HP",{"$f":"SUMIFS(INDEX(output[#Data],0,MATCH(\"ishp_Market\",output[#Headers],0)),output[equipment_type],$C$103,output[year],D$104,output[control_strategy], \"Non ASD Control\",output[sensitivity],\"Base\")","v":815228.97754227812},{"$f":"SUMIFS(INDEX(output[#Data],0,MATCH(\"ishp_Market\",output[#Headers],0)),output[equipment_type],$C$103,output[year],E$104,output[control_strategy], \"Non ASD Control\",output[sensitivity],\"Base\")","v":784694.75014332915},{"$f":"SUMIFS(INDEX(output[#Data],0,MATCH(\"ishp_Market\",output[#Headers],0)),output[equipment_type],$C$103,output[year],F$104,output[control_strategy], \"Non ASD Control\",output[sensitivity],\"Base\")","v":753325.99388907989},{"$f":"SUMIFS(INDEX(output[#Data],0,MATCH(\"ishp_Market\",output[#Headers],0)),output[equipment_type],$C$103,output[year],G$104,output[control_strategy], \"Non ASD Control\",output[sensitivity],\"Base\")","v":767830.04635818838},{"$f":"SUMIFS(INDEX(output[#Data],0,MATCH(\"ishp_Market\",output[#Headers],0)),output[equipment_type],$C$103,output[year],H$104,output[control_strategy], \"Non ASD Control\",output[sensitivity],\"Base\")","v":741205.60436333157},{"$f":"SUMIFS(INDEX(output[#Data],0,MATCH(\"ishp_Market\",output[#Headers],0)),output[equipment_type],$C$103,output[year],I$104,output[control_strategy], \"Non ASD Control\",output[sensitivity],\"Base\")","v":718881.6775035914},{"$f":"SUMIFS(INDEX(output[#Data],0,MATCH(\"ishp_Market\",output[#Headers],0)),output[equipment_type],$C$103,output[year],J$104,output[control_strategy], \"Non ASD Control\",output[sensitivity],\"Base\")","v":683113.76503226697}]
[null,null,"In-Service ASD-Controlled Motor HP",{"$f":"SUMIFS(INDEX(output[#Data],0,MATCH(\"ishp_Market\",output[#Headers],0)),output[equipment_type],$C$103,output[year],D$104,output[control_strategy], \"ASD Control\",output[sensitivity],\"Base\")","v":359932.52395420842},{"$f":"SUMIFS(INDEX(output[#Data],0,MATCH(\"ishp_Market\",output[#Headers],0)),output[equipment_type],$C$103,output[year],E$104,output[control_strategy], \"ASD Control\",output[sensitivity],\"Base\")","v":383550.67603341967},{"$f":"SUMIFS(INDEX(output[#Data],0,MATCH(\"ishp_Market\",output[#Headers],0)),output[equipment_type],$C$103,output[year],F$104,output[control_strategy], \"ASD Control\",output[sensitivity],\"Base\")","v":402177.67072696512},{"$f":"SUMIFS(INDEX(output[#Data],0,MATCH(\"ishp_Market\",output[#Headers],0)),output[equipment_type],$C$103,output[year],G$104,output[control_strategy], \"ASD Control\",output[sensitivity],\"Base\")","v":448424.43219796719},{"$f":"SUMIFS(INDEX(output[#Data],0,MATCH(\"ishp_Market\",output[#Headers],0)),output[equipment_type],$C$103,output[year],H$104,output[control_strategy], \"ASD Control\",output[sensitivity],\"Base\")","v":479060.53694677725},{"$f":"SUMIFS(INDEX(output[#Data],0,MATCH(\"ishp_Market\",output[#Headers],0)),output[equipment_type],$C$103,output[year],I$104,output[control_strategy], \"ASD Control\",output[sensitivity],\"Base\")","v":499912.09654177254},{"$f":"SUMIFS(INDEX(output[#Data],0,MATCH(\"ishp_Market\",output[#Headers],0)),output[equipment_type],$C$103,output[year],J$104,output[control_strategy], \"ASD Control\",output[sensitivity],\"Base\")","v":505566.59656016168}]
[null,null,"ASD Saturation (% of Motor HP)",{"$f":"D106/SUM(D105:D106)","v":0.30628345422808639},{"$f":"E106/SUM(E105:E106)","v":0.32831344119929018},0.34805399847918456,{"$f":"G106/SUM(G105:G106)","v":0.36869293400695419},0.39258692897308917,0.41016955221430729,0.42531753101639014]
[]
[null,null,{"$f":"\"Table for \"&H84","v":"Table for Figure 6: In-Service Fans, by Control Strategy and Year (In-Service Motors)"}]
[null,null,"Fans","Year"]
[null,null,null,2015,2016,2017,2018,2019,2020,2021]
[null,null,"Number of In-Service Non ASD-Controlled Motors",{"$f":"SUMIFS(INDEX(output[#Data],0,MATCH(\"num_motors_Market\",output[#Headers],0)),output[equipment_type],$C$45,output[year],D$46,output[control_strategy], \"Non ASD Control\",output[sensitivity],\"Base\")","v":48401.247594877685},{"$f":"SUMIFS(INDEX(output[#Data],0,MATCH(\"num_motors_Market\",output[#Headers],0)),output[equipment_type],$C$45,output[year],E$46,output[control_strategy], \"Non ASD Control\",output[sensitivity],\"Base\")","v":46938.687089356536},{"$f":"SUMIFS(INDEX(output[#Data],0,MATCH(\"num_motors_Market\",output[#Headers],0)),output[equipment_type],$C$45,output[year],F$46,output[control_strategy], \"Non ASD Control\",output[sensitivity],\"Base\")","v":44843.171827892053},{"$f":"SUMIFS(INDEX(output[#Data],0,MATCH(\"num_motors_Market\",output[#Headers],0)),output[equipment_type],$C$45,output[year],G$46,output[control_strategy], \"Non ASD Control\",output[sensitivity],\"Base\")","v":47259.979355513184},{"$f":"SUMIFS(INDEX(output[#Data],0,MATCH(\"num_motors_Market\",output[#Headers],0)),output[equipment_type],$C$45,output[year],H$46,output[control_strategy], \"Non ASD Control\",output[sensitivity],\"Base\")","v":46044.720417808858},{"$f":"SUMIFS(INDEX(output[#Data],0,MATCH(\"num_motors_Market\",output[#Headers],0)),output[equipment_type],$C$45,output[year],I$46,output[control_strategy], \"Non ASD Control\",output[sensitivity],\"Base\")","v":44344.607241241632},{"$f":"SUMIFS(INDEX(output[#Data],0,MATCH(\"num_motors_Market\",output[#Headers],0)),output[equipment_type],$C$45,output[year],J$46,output[control_strategy], \"Non ASD Control\",output[sensitivity],\"Base\")","v":45429.078667417918}]
[null,null,"Number of In-Service ASD-Controlled Motors",{"$f":"SUMIFS(INDEX(output[#Data],0,MATCH(\"num_motors_Market\",output[#Headers],0)),output[equipment_type],$C$45,output[year],D$46,output[control_strategy], \"ASD Control\",output[sensitivity],\"Base\")","v":16271.114349768119},{"$f":"SUMIFS(INDEX(output[#Data],0,MATCH(\"num_motors_Market\",output[#Headers],0)),output[equipment_type],$C$45,output[year],E$46,output[control_strategy], \"ASD Control\",output[sensitivity],\"Base\")","v":17485.721011761405},{"$f":"SUMIFS(INDEX(output[#Data],0,MATCH(\"num_motors_Market\",output[#Headers],0)),output[equipment_type],$C$45,output[year],F$46,output[control_strategy], \"ASD Control\",output[sensitivity],\"Base\")","v":18637.058572037109},{"$f":"SUMIFS(INDEX(output[#Data],0,MATCH(\"num_motors_Market\",output[#Headers],0)),output[equipment_type],$C$45,output[year],G$46,output[control_strategy], \"ASD Control\",output[sensitivity],\"Base\")","v":21194.555500692233},{"$f":"SUMIFS(INDEX(output[#Data],0,MATCH(\"num_motors_Market\",output[#Headers],0)),output[equipment_type],$C$45,output[year],H$46,output[control_strategy], \"ASD Control\",output[sensitivity],\"Base\")","v":23083.055293690886},{"$f":"SUMIFS(INDEX(output[#Data],0,MATCH(\"num_motors_Market\",output[#Headers],0)),output[equipment_type],$C$45,output[year],I$46,output[control_strategy], \"ASD Control\",output[sensitivity],\"Base\")","v":24295.984807985496},{"$f":"SUMIFS(INDEX(output[#Data],0,MATCH(\"num_motors_Market\",output[#Headers],0)),output[equipment_type],$C$45,output[year],J$46,output[control_strategy], \"ASD Control\",output[sensitivity],\"Base\")","v":25415.725091792494}]
[null,null,"ASD Saturation (% of Motors)",{"$f":"D113/SUM(D112:D113)","v":0.25159301223132763},{"$f":"E113/SUM(E112:E113)","v":0.2714145387927589},{"$f":"F113/SUM(F112:F113)","v":0.29358838893026301},{"$f":"G113/SUM(G112:G113)","v":0.30961506852998422},{"$f":"H113/SUM(H112:H113)","v":0.33391867532417813},{"$f":"I113/SUM(I112:I113)","v":0.35395942958302418},{"$f":"J113/SUM(J112:J113)","v":0.35875214190974791}]
[]
[null,null,"Figure 7: In-Service Fans, by Facility Type and Control Strategy in 2020 (In-Service Motor HP)",null,null,null,null,"Figure 8: In-Service Fans, by Facility Type and Control Strategy in 2020 (In-Service Motors)"]
[]
[]
[]
[]
[]
[]
[]
[]
[]
[]
[]
[]
[]
[]
[]
[]
[]
[]
[]
[]
[null,null,{"$f":"\"Table for \"&C116","v":"Table for Figure 7: In-Service Fans, by Facility Type and Control Strategy in 2020 (In-Service Motor HP)"}]
[null,null,"Fans","Primary Metal","Wood Products","Paper","Computer - Elec","Chemical","Food","Warehousing","Refinery","Fabricated Metal","Transportation","Misc Manf"]
[null,null,"In-Service Non ASD-Controlled Motor HP",{"$f":"SUMIFS(INDEX(output[#Data],0,MATCH(\"ishp_Market\",output[#Headers],0)),output[equipment_type],$C$138,output[year],2020,output[facility_type],D$138,output[control_strategy],\"Non ASD Control\",output[sensitivity],\"Base\")","v":149217.71292988403},{"$f":"SUMIFS(INDEX(output[#Data],0,MATCH(\"ishp_Market\",output[#Headers],0)),output[equipment_type],$C$138,output[year],2020,output[facility_type],E$138,output[control_strategy],\"Non ASD Control\",output[sensitivity],\"Base\")","v":239301.18394644701},{"$f":"SUMIFS(INDEX(output[#Data],0,MATCH(\"ishp_Market\",output[#Headers],0)),output[equipment_type],$C$138,output[year],2020,output[facility_type],F$138,output[control_strategy],\"Non ASD Control\",output[sensitivity],\"Base\")","v":105830.23289779005},{"$f":"SUMIFS(INDEX(output[#Data],0,MATCH(\"ishp_Market\",output[#Headers],0)),output[equipment_type],$C$138,output[year],2020,output[facility_type],G$138,output[control_strategy],\"Non ASD Control\",output[sensitivity],\"Base\")","v":22106.684924715133},{"$f":"SUMIFS(INDEX(output[#Data],0,MATCH(\"ishp_Market\",output[#Headers],0)),output[equipment_type],$C$138,output[year],2020,output[facility_type],H$138,output[control_strategy],\"Non ASD Control\",output[sensitivity],\"Base\")","v":9584.1356939379275},{"$f":"SUMIFS(INDEX(output[#Data],0,MATCH(\"ishp_Market\",output[#Headers],0)),output[equipment_type],$C$138,output[year],2020,output[facility_type],I$138,output[control_strategy],\"Non ASD Control\",output[sensitivity],\"Base\")","v":14537.067558092749},{"$f":"SUMIFS(INDEX(output[#Data],0,MATCH(\"ishp_Market\",output[#Headers],0)),output[equipment_type],$C$138,output[year],2020,output[facility_type],J$138,output[control_strategy],\"Non ASD Control\",output[sensitivity],\"Base\")","v":58133.944521784564},{"$f":"SUMIFS(INDEX(output[#Data],0,MATCH(\"ishp_Market\",output[#Headers],0)),output[equipment_type],$C$138,output[year],2020,output[facility_type],K$138,output[control_strategy],\"Non ASD Control\",output[sensitivity],\"Base\")","v":38704.211176982739},{"$f":"SUMIFS(INDEX(output[#Data],0,MATCH(\"ishp_Market\",output[#Headers],0)),output[equipment_type],$C$138,output[year],2020,output[facility_type],L$138,output[control_strategy],\"Non ASD Control\",output[sensitivity],\"Base\")","v":30953.401191095396},{"$f":"SUMIFS(INDEX(output[#Data],0,MATCH(\"ishp_Market\",output[#Headers],0)),output[equipment_type],$C$138,output[year],2020,output[facility_type],M$138,output[control_strategy],\"Non ASD Control\",output[sensitivity],\"Base\")","v":3920.2588704755353},{"$f":"SUMIFS(INDEX(output[#Data],0,MATCH(\"ishp_Market\",output[#Headers],0)),output[equipment_type],$C$138,output[year],2020,output[facility_type],N$138,output[control_strategy],\"Non ASD Control\",output[sensitivity],\"Base\")","v":46592.843792386171}]
[null,null,"In-Service ASD-Controlled Motor HP",{"$f":"SUMIFS(INDEX(output[#Data],0,MATCH(\"ishp_Market\",output[#Headers],0)),output[equipment_type],$C$138,output[year],2020,output[facility_type],D$138,output[control_strategy],\"ASD Control\",output[sensitivity],\"Base\")","v":85854.513881499443},{"$f":"SUMIFS(INDEX(output[#Data],0,MATCH(\"ishp_Market\",output[#Headers],0)),output[equipment_type],$C$138,output[year],2020,output[facility_type],E$138,output[control_strategy],\"ASD Control\",output[sensitivity],\"Base\")","v":66210.088299111492},{"$f":"SUMIFS(INDEX(output[#Data],0,MATCH(\"ishp_Market\",output[#Headers],0)),output[equipment_type],$C$138,output[year],2020,output[facility_type],F$138,output[control_strategy],\"ASD Control\",output[sensitivity],\"Base\")","v":50119.592572368187},{"$f":"SUMIFS(INDEX(output[#Data],0,MATCH(\"ishp_Market\",output[#Headers],0)),output[equipment_type],$C$138,output[year],2020,output[facility_type],G$138,output[control_strategy],\"ASD Control\",output[sensitivity],\"Base\")","v":47868.235584596092},{"$f":"SUMIFS(INDEX(output[#Data],0,MATCH(\"ishp_Market\",output[#Headers],0)),output[equipment_type],$C$138,output[year],2020,output[facility_type],H$138,output[control_strategy],\"ASD Control\",output[sensitivity],\"Base\")","v":41711.813258112437},{"$f":"SUMIFS(INDEX(output[#Data],0,MATCH(\"ishp_Market\",output[#Headers],0)),output[equipment_type],$C$138,output[year],2020,output[facility_type],I$138,output[control_strategy],\"ASD Control\",output[sensitivity],\"Base\")","v":68440.507176195169},{"$f":"SUMIFS(INDEX(output[#Data],0,MATCH(\"ishp_Market\",output[#Headers],0)),output[equipment_type],$C$138,output[year],2020,output[facility_type],J$138,output[control_strategy],\"ASD Control\",output[sensitivity],\"Base\")","v":19727.348984714106},{"$f":"SUMIFS(INDEX(output[#Data],0,MATCH(\"ishp_Market\",output[#Headers],0)),output[equipment_type],$C$138,output[year],2020,output[facility_type],K$138,output[control_strategy],\"ASD Control\",output[sensitivity],\"Base\")","v":22745.719644162298},{"$f":"SUMIFS(INDEX(output[#Data],0,MATCH(\"ishp_Market\",output[#Headers],0)),output[equipment_type],$C$138,output[year],2020,output[facility_type],L$138,output[control_strategy],\"ASD Control\",output[sensitivity],\"Base\")","v":7210.6738466886018},{"$f":"SUMIFS(INDEX(output[#Data],0,MATCH(\"ishp_Market\",output[#Headers],0)),output[equipment_type],$C$138,output[year],2020,output[facility_type],M$138,output[control_strategy],\"ASD Control\",output[sensitivity],\"Base\")","v":14252.869856828025},{"$f":"SUMIFS(INDEX(output[#Data],0,MATCH(\"ishp_Market\",output[#Headers],0)),output[equipment_type],$C$138,output[year],2020,output[facility_type],N$138,output[control_strategy],\"ASD Control\",output[sensitivity],\"Base\")","v":75770.733437496761}]
[]
[null,null,{"$f":"\"Table for \"&H116","v":"Table for Figure 8: In-Service Fans, by Facility Type and Control Strategy in 2020 (In-Service Motors)"}]
[null,null,"Fans","Primary Metal","Wood Products","Paper","Computer - Elec","Chemical","Food","Warehousing","Refinery","Fabricated Metal","Transportation","Misc Manf"]
[null,null,"In-Service Non ASD-Controlled Motors",{"$f":"SUMIFS(INDEX(output[#Data],0,MATCH(\"num_motors_Market\",output[#Headers],0)),output[equipment_type],$C$143,output[year],2020,output[facility_type],D$143,output[control_strategy],\"Non ASD Control\",output[sensitivity],\"Base\")","v":7365.4652154151436},{"$f":"SUMIFS(INDEX(output[#Data],0,MATCH(\"num_motors_Market\",output[#Headers],0)),output[equipment_type],$C$143,output[year],2020,output[facility_type],E$143,output[control_strategy],\"Non ASD Control\",output[sensitivity],\"Base\")","v":2429.0709831000609},{"$f":"SUMIFS(INDEX(output[#Data],0,MATCH(\"num_motors_Market\",output[#Headers],0)),output[equipment_type],$C$143,output[year],2020,output[facility_type],F$143,output[control_strategy],\"Non ASD Control\",output[sensitivity],\"Base\")","v":2169.5373210365583},{"$f":"SUMIFS(INDEX(output[#Data],0,MATCH(\"num_motors_Market\",output[#Headers],0)),output[equipment_type],$C$143,output[year],2020,output[facility_type],G$143,output[control_strategy],\"Non ASD Control\",output[sensitivity],\"Base\")","v":2831.3080483559474},{"$f":"SUMIFS(INDEX(output[#Data],0,MATCH(\"num_motors_Market\",output[#Headers],0)),output[equipment_type],$C$143,output[year],2020,output[facility_type],H$143,output[control_strategy],\"Non ASD Control\",output[sensitivity],\"Base\")","v":582.08718201006775},{"$f":"SUMIFS(INDEX(output[#Data],0,MATCH(\"num_motors_Market\",output[#Headers],0)),output[equipment_type],$C$143,output[year],2020,output[facility_type],I$143,output[control_strategy],\"Non ASD Control\",output[sensitivity],\"Base\")","v":1626.8164523205078},{"$f":"SUMIFS(INDEX(output[#Data],0,MATCH(\"num_motors_Market\",output[#Headers],0)),output[equipment_type],$C$143,output[year],2020,output[facility_type],J$143,output[control_strategy],\"Non ASD Control\",output[sensitivity],\"Base\")","v":17095.183808293717},{"$f":"SUMIFS(INDEX(output[#Data],0,MATCH(\"num_motors_Market\",output[#Headers],0)),output[equipment_type],$C$143,output[year],2020,output[facility_type],K$143,output[control_strategy],\"Non ASD Control\",output[sensitivity],\"Base\")","v":841.26532860566408},{"$f":"SUMIFS(INDEX(output[#Data],0,MATCH(\"num_motors_Market\",output[#Headers],0)),output[equipment_type],$C$143,output[year],2020,output[facility_type],L$143,output[control_strategy],\"Non ASD Control\",output[sensitivity],\"Base\")","v":3159.8689168139631},{"$f":"SUMIFS(INDEX(output[#Data],0,MATCH(\"num_motors_Market\",output[#Headers],0)),output[equipment_type],$C$143,output[year],2020,output[facility_type],M$143,output[control_strategy],\"Non ASD Control\",output[sensitivity],\"Base\")","v":265.85780226742736},{"$f":"SUMIFS(INDEX(output[#Data],0,MATCH(\"num_motors_Market\",output[#Headers],0)),output[equipment_type],$C$143,output[year],2020,output[facility_type],N$143,output[control_strategy],\"Non ASD Control\",output[sensitivity],\"Base\")","v":5978.1461830226381}]
[null,null,"In-Service ASD-Controlled Motors",{"$f":"SUMIFS(INDEX(output[#Data],0,MATCH(\"num_motors_Market\",output[#Headers],0)),output[equipment_type],$C$143,output[year],2020,output[facility_type],D$143,output[control_strategy],\"ASD Control\",output[sensitivity],\"Base\")","v":848.80174658231317},{"$f":"SUMIFS(INDEX(output[#Data],0,MATCH(\"num_motors_Market\",output[#Headers],0)),output[equipment_type],$C$143,output[year],2020,output[facility_type],E$143,output[control_strategy],\"ASD Control\",output[sensitivity],\"Base\")","v":4434.7505457055959},{"$f":"SUMIFS(INDEX(output[#Data],0,MATCH(\"num_motors_Market\",output[#Headers],0)),output[equipment_type],$C$143,output[year],2020,output[facility_type],F$143,output[control_strategy],\"ASD Control\",output[sensitivity],\"Base\")","v":581.46730203020979},{"$f":"SUMIFS(INDEX(output[#Data],0,MATCH(\"num_motors_Market\",output[#Headers],0)),output[equipment_type],$C$143,output[year],2020,output[facility_type],G$143,output[control_strategy],\"ASD Control\",output[sensitivity],\"Base\")","v":3763.2616220207497},{"$f":"SUMIFS(INDEX(output[#Data],0,MATCH(\"num_motors_Market\",output[#Headers],0)),output[equipment_type],$C$143,output[year],2020,output[facility_type],H$143,output[control_strategy],\"ASD Control\",output[sensitivity],\"Base\")","v":1108.150506291011},{"$f":"SUMIFS(INDEX(output[#Data],0,MATCH(\"num_motors_Market\",output[#Headers],0)),output[equipment_type],$C$143,output[year],2020,output[facility_type],I$143,output[control_strategy],\"ASD Control\",output[sensitivity],\"Base\")","v":4327.2198645668632},{"$f":"SUMIFS(INDEX(output[#Data],0,MATCH(\"num_motors_Market\",output[#Headers],0)),output[equipment_type],$C$143,output[year],2020,output[facility_type],J$143,output[control_strategy],\"ASD Control\",output[sensitivity],\"Base\")","v":5022.4175755572669},{"$f":"SUMIFS(INDEX(output[#Data],0,MATCH(\"num_motors_Market\",output[#Headers],0)),output[equipment_type],$C$143,output[year],2020,output[facility_type],K$143,output[control_strategy],\"ASD Control\",output[sensitivity],\"Base\")","v":492.96375857025225},{"$f":"SUMIFS(INDEX(output[#Data],0,MATCH(\"num_motors_Market\",output[#Headers],0)),output[equipment_type],$C$143,output[year],2020,output[facility_type],L$143,output[control_strategy],\"ASD Control\",output[sensitivity],\"Base\")","v":525.80501597739033},{"$f":"SUMIFS(INDEX(output[#Data],0,MATCH(\"num_motors_Market\",output[#Headers],0)),output[equipment_type],$C$143,output[year],2020,output[facility_type],M$143,output[control_strategy],\"ASD Control\",output[sensitivity],\"Base\")","v":471.50350322132078},{"$f":"SUMIFS(INDEX(output[#Data],0,MATCH(\"num_motors_Market\",output[#Headers],0)),output[equipment_type],$C$143,output[year],2020,output[facility_type],N$143,output[control_strategy],\"ASD Control\",output[sensitivity],\"Base\")","v":2719.6433674625127}]
[]
[null,null,"Figure 9: In-Service ASD-Controlled Fans, by Year (In-Service Motor HP)",null,null,null,null,"Figure 10: In-Service ASD-Controlled Fans, by Year (In-Service Motors)"]
[]
[]
[]
[]
[]
[]
[]
[]
[]
[]
[]
[]
[]
[]
[]
[]
[null,null,{"$f":"\"Table for \"&C147","v":"Table for Figure 9: In-Service ASD-Controlled Fans, by Year (In-Service Motor HP)"}]
[null,null,"Fans","Year"]
[null,null,"Pumps",2015,2016,2017,2018,2019,2020,2021]
[null,null,"Baseline ASD-Equipped Motor HP, In-Service",{"$f":"SUMIFS(INDEX(output[#Data],0,MATCH(\"ishp_baseline\",output[#Headers],0)),output[equipment_type],$C$165,output[year],D$166,output[control_strategy],\"ASD Control\",output[sensitivity],\"Base\")","v":359932.52395420842},{"$f":"SUMIFS(INDEX(output[#Data],0,MATCH(\"ishp_baseline\",output[#Headers],0)),output[equipment_type],$C$165,output[year],E$166,output[control_strategy],\"ASD Control\",output[sensitivity],\"Base\")","v":371834.83007947286},{"$f":"SUMIFS(INDEX(output[#Data],0,MATCH(\"ishp_baseline\",output[#Headers],0)),output[equipment_type],$C$165,output[year],F$166,output[control_strategy],\"ASD Control\",output[sensitivity],\"Base\")","v":379172.93896854389},{"$f":"SUMIFS(INDEX(output[#Data],0,MATCH(\"ishp_baseline\",output[#Headers],0)),output[equipment_type],$C$165,output[year],G$166,output[control_strategy],\"ASD Control\",output[sensitivity],\"Base\")","v":411790.86923686008},{"$f":"SUMIFS(INDEX(output[#Data],0,MATCH(\"ishp_baseline\",output[#Headers],0)),output[equipment_type],$C$165,output[year],H$166,output[control_strategy],\"ASD Control\",output[sensitivity],\"Base\")","v":427564.0042049468},{"$f":"SUMIFS(INDEX(output[#Data],0,MATCH(\"ishp_baseline\",output[#Headers],0)),output[equipment_type],$C$165,output[year],I$166,output[control_strategy],\"ASD Control\",output[sensitivity],\"Base\")","v":437252.61393922335},{"$f":"SUMIFS(INDEX(output[#Data],0,MATCH(\"ishp_baseline\",output[#Headers],0)),output[equipment_type],$C$165,output[year],J$166,output[control_strategy],\"ASD Control\",output[sensitivity],\"Base\")","v":434174.27830309834}]
[null,null,"Market ASD-Equipped Motor HP, In-Service",{"$f":"SUMIFS(INDEX(output[#Data],0,MATCH(\"ishp_Market\",output[#Headers],0)),output[equipment_type],$C$165,output[year],D$166,output[control_strategy],\"ASD Control\",output[sensitivity],\"Base\")","v":359932.52395420842},{"$f":"SUMIFS(INDEX(output[#Data],0,MATCH(\"ishp_Market\",output[#Headers],0)),output[equipment_type],$C$165,output[year],E$166,output[control_strategy],\"ASD Control\",output[sensitivity],\"Base\")","v":383550.67603341967},{"$f":"SUMIFS(INDEX(output[#Data],0,MATCH(\"ishp_Market\",output[#Headers],0)),output[equipment_type],$C$165,output[year],F$166,output[control_strategy],\"ASD Control\",output[sensitivity],\"Base\")","v":402177.67072696512},{"$f":"SUMIFS(INDEX(output[#Data],0,MATCH(\"ishp_Market\",output[#Headers],0)),output[equipment_type],$C$165,output[year],G$166,output[control_strategy],\"ASD Control\",output[sensitivity],\"Base\")","v":448424.43219796719},{"$f":"SUMIFS(INDEX(output[#Data],0,MATCH(\"ishp_Market\",output[#Headers],0)),output[equipment_type],$C$165,output[year],H$166,output[control_strategy],\"ASD Control\",output[sensitivity],\"Base\")","v":479060.53694677725},{"$f":"SUMIFS(INDEX(output[#Data],0,MATCH(\"ishp_Market\",output[#Headers],0)),output[equipment_type],$C$165,output[year],I$166,output[control_strategy],\"ASD Control\",output[sensitivity],\"Base\")","v":499912.09654177254},{"$f":"SUMIFS(INDEX(output[#Data],0,MATCH(\"ishp_Market\",output[#Headers],0)),output[equipment_type],$C$165,output[year],J$166,output[control_strategy],\"ASD Control\",output[sensitivity],\"Base\")","v":505566.59656016168}]
[]
[null,null,{"$f":"\"Table for \"&H147","v":"Table for Figure 10: In-Service ASD-Controlled Fans, by Year (In-Service Motors)"}]
[null,null,"Fans","Year"]
[null,null,"Pumps",2015,2016,2017,2018,2019,2020,2021]
[null,null,"Baseline ASD-Equipped Motors, In-Service",{"$f":"SUMIFS(INDEX(output[#Data],0,MATCH(\"num_motors_Baseline\",output[#Headers],0)),output[equipment_type],$C$171,output[year],D$172,output[control_strategy],\"ASD Control\",output[sensitivity],\"Base\")","v":16271.114349768119},{"$f":"SUMIFS(INDEX(output[#Data],0,MATCH(\"num_motors_Baseline\",output[#Headers],0)),output[equipment_type],$C$171,output[year],E$172,output[control_strategy],\"ASD Control\",output[sensitivity],\"Base\")","v":16600.572710013686},{"$f":"SUMIFS(INDEX(output[#Data],0,MATCH(\"num_motors_Baseline\",output[#Headers],0)),output[equipment_type],$C$171,output[year],F$172,output[control_strategy],\"ASD Control\",output[sensitivity],\"Base\")","v":16932.993770674315},{"$f":"SUMIFS(INDEX(output[#Data],0,MATCH(\"num_motors_Baseline\",output[#Headers],0)),output[equipment_type],$C$171,output[year],G$172,output[control_strategy],\"ASD Control\",output[sensitivity],\"Base\")","v":18485.174886533361},{"$f":"SUMIFS(INDEX(output[#Data],0,MATCH(\"num_motors_Baseline\",output[#Headers],0)),output[equipment_type],$C$171,output[year],H$172,output[control_strategy],\"ASD Control\",output[sensitivity],\"Base\")","v":19243.749076329004},{"$f":"SUMIFS(INDEX(output[#Data],0,MATCH(\"num_motors_Baseline\",output[#Headers],0)),output[equipment_type],$C$171,output[year],I$172,output[control_strategy],\"ASD Control\",output[sensitivity],\"Base\")","v":19668.968651995787},{"$f":"SUMIFS(INDEX(output[#Data],0,MATCH(\"num_motors_Baseline\",output[#Headers],0)),output[equipment_type],$C$171,output[year],J$172,output[control_strategy],\"ASD Control\",output[sensitivity],\"Base\")","v":20046.378081068637}]
[null,null,"Market ASD-Equipped Motors, In-Service",{"$f":"SUMIFS(INDEX(output[#Data],0,MATCH(\"num_motors_Market\",output[#Headers],0)),output[equipment_type],$C$171,output[year],D$172,output[control_strategy],\"ASD Control\",output[sensitivity],\"Base\")","v":16271.114349768119},{"$f":"SUMIFS(INDEX(output[#Data],0,MATCH(\"num_motors_Market\",output[#Headers],0)),output[equipment_type],$C$171,output[year],E$172,output[control_strategy],\"ASD Control\",output[sensitivity],\"Base\")","v":17485.721011761405},{"$f":"SUMIFS(INDEX(output[#Data],0,MATCH(\"num_motors_Market\",output[#Headers],0)),output[equipment_type],$C$171,output[year],F$172,output[control_strategy],\"ASD Control\",output[sensitivity],\"Base\")","v":18637.058572037109},{"$f":"SUMIFS(INDEX(output[#Data],0,MATCH(\"num_motors_Market\",output[#Headers],0)),output[equipment_type],$C$171,output[year],G$172,output[control_strategy],\"ASD Control\",output[sensitivity],\"Base\")","v":21194.555500692233},{"$f":"SUMIFS(INDEX(output[#Data],0,MATCH(\"num_motors_Market\",output[#Headers],0)),output[equipment_type],$C$171,output[year],H$172,output[control_strategy],\"ASD Control\",output[sensitivity],\"Base\")","v":23083.055293690886},{"$f":"SUMIFS(INDEX(output[#Data],0,MATCH(\"num_motors_Market\",output[#Headers],0)),output[equipment_type],$C$171,output[year],I$172,output[control_strategy],\"ASD Control\",output[sensitivity],\"Base\")","v":24295.984807985496},{"$f":"SUMIFS(INDEX(output[#Data],0,MATCH(\"num_motors_Market\",output[#Headers],0)),output[equipment_type],$C$171,output[year],J$172,output[control_strategy],\"ASD Control\",output[sensitivity],\"Base\")","v":25415.725091792494}]
[]
[null,null,"Figure 11: ASD-Controlled Fans Installed Above Baseline, by Year (In-Service Motor HP)",null,null,null,null,"Figure 12: ASD-Controlled Fans Installed Above Baseline, by Year (In-Service Motors)"]
[]
[]
[]
[]
[]
[]
[]
[]
[]
[]
[]
[]
[]
[]
[]
[null,null,{"$f":"\"Table for \"&C176","v":"Table for Figure 11: ASD-Controlled Fans Installed Above Baseline, by Year (In-Service Motor HP)"}]
[null,null,"Fans","Year"]
[null,null,"Pumps",2016,2017,2018,2019,2020,2021]
[null,null,"Regional Momentum ASD Motor HP Installed ",{"$f":"SUMIFS(INDEX(output[#Data],0,MATCH(\"ishp_Market\",output[#Headers],0)),output[equipment_type],$C$193,output[year],D$194,output[control_strategy],\"ASD Control\",output[sensitivity],\"Base\")-SUMIFS(INDEX(output[#Data],0,MATCH(\"ishp_Program\",output[#Headers],0)),output[equipment_type],$C$193,output[year],D$194,output[control_strategy],\"ASD Control\",output[sensitivity],\"Base\")","v":6707.4633933490841},{"$f":"SUMIFS(INDEX(output[#Data],0,MATCH(\"ishp_Market\",output[#Headers],0)),output[equipment_type],$C$193,output[year],E$194,output[control_strategy],\"ASD Control\",output[sensitivity],\"Base\")-SUMIFS(INDEX(output[#Data],0,MATCH(\"ishp_Program\",output[#Headers],0)),output[equipment_type],$C$193,output[year],E$194,output[control_strategy],\"ASD Control\",output[sensitivity],\"Base\")-SUM($D$195:D195)","v":6648.0551806541043},{"$f":"SUMIFS(INDEX(output[#Data],0,MATCH(\"ishp_Market\",output[#Headers],0)),output[equipment_type],$C$193,output[year],F$194,output[control_strategy],\"ASD Control\",output[sensitivity],\"Base\")-SUMIFS(INDEX(output[#Data],0,MATCH(\"ishp_Program\",output[#Headers],0)),output[equipment_type],$C$193,output[year],F$194,output[control_strategy],\"ASD Control\",output[sensitivity],\"Base\")-SUM($D$195:E195)","v":7918.3539737272076},{"$f":"SUMIFS(INDEX(output[#Data],0,MATCH(\"ishp_Market\",output[#Headers],0)),output[equipment_type],$C$193,output[year],G$194,output[control_strategy],\"ASD Control\",output[sensitivity],\"Base\")-SUMIFS(INDEX(output[#Data],0,MATCH(\"ishp_Program\",output[#Headers],0)),output[equipment_type],$C$193,output[year],G$194,output[control_strategy],\"ASD Control\",output[sensitivity],\"Base\")-SUM($D$195:F195)","v":6082.3930560161243},{"$f":"SUMIFS(INDEX(output[#Data],0,MATCH(\"ishp_Market\",output[#Headers],0)),output[equipment_type],$C$193,output[year],H$194,output[control_strategy],\"ASD Control\",output[sensitivity],\"Base\")-SUMIFS(INDEX(output[#Data],0,MATCH(\"ishp_Program\",output[#Headers],0)),output[equipment_type],$C$193,output[year],H$194,output[control_strategy],\"ASD Control\",output[sensitivity],\"Base\")-SUM($D$195:G195)","v":8064.9636066535604},{"$f":"SUMIFS(INDEX(output[#Data],0,MATCH(\"ishp_Market\",output[#Headers],0)),output[equipment_type],$C$193,output[year],I$194,output[control_strategy],\"ASD Control\",output[sensitivity],\"Base\")-SUMIFS(INDEX(output[#Data],0,MATCH(\"ishp_Program\",output[#Headers],0)),output[equipment_type],$C$193,output[year],I$194,output[control_strategy],\"ASD Control\",output[sensitivity],\"Base\")-SUM($D$195:H195)","v":5634.8494004492532}]
[null,null,"Regional Program Incented Motor HP Installed",{"$f":"SUMIFS(INDEX(output[#Data],0,MATCH(\"ishp_Program\",output[#Headers],0)),output[equipment_type],$C$193,output[year],D$194,output[control_strategy],\"ASD Control\",output[sensitivity],\"Base\")-SUMIFS(INDEX(output[#Data],0,MATCH(\"ishp_Baseline\",output[#Headers],0)),output[equipment_type],$C$193,output[year],D$194,output[control_strategy],\"ASD Control\",output[sensitivity],\"Base\")","v":5008.3825605977327},{"$f":"SUMIFS(INDEX(output[#Data],0,MATCH(\"ishp_Program\",output[#Headers],0)),output[equipment_type],$C$193,output[year],E$194,output[control_strategy],\"ASD Control\",output[sensitivity],\"Base\")-SUMIFS(INDEX(output[#Data],0,MATCH(\"ishp_Baseline\",output[#Headers],0)),output[equipment_type],$C$193,output[year],E$194,output[control_strategy],\"ASD Control\",output[sensitivity],\"Base\")-SUM($D$196:D196)","v":4640.8306238203077},{"$f":"SUMIFS(INDEX(output[#Data],0,MATCH(\"ishp_Program\",output[#Headers],0)),output[equipment_type],$C$193,output[year],F$194,output[control_strategy],\"ASD Control\",output[sensitivity],\"Base\")-SUMIFS(INDEX(output[#Data],0,MATCH(\"ishp_Baseline\",output[#Headers],0)),output[equipment_type],$C$193,output[year],F$194,output[control_strategy],\"ASD Control\",output[sensitivity],\"Base\")-SUM($D$196:E196)","v":5710.4772289586836},{"$f":"SUMIFS(INDEX(output[#Data],0,MATCH(\"ishp_Program\",output[#Headers],0)),output[equipment_type],$C$193,output[year],G$194,output[control_strategy],\"ASD Control\",output[sensitivity],\"Base\")-SUMIFS(INDEX(output[#Data],0,MATCH(\"ishp_Baseline\",output[#Headers],0)),output[equipment_type],$C$193,output[year],G$194,output[control_strategy],\"ASD Control\",output[sensitivity],\"Base\")-SUM($D$196:F196)","v":8780.5767247072072},{"$f":"SUMIFS(INDEX(output[#Data],0,MATCH(\"ishp_Program\",output[#Headers],0)),output[equipment_type],$C$193,output[year],H$194,output[control_strategy],\"ASD Control\",output[sensitivity],\"Base\")-SUMIFS(INDEX(output[#Data],0,MATCH(\"ishp_Baseline\",output[#Headers],0)),output[equipment_type],$C$193,output[year],H$194,output[control_strategy],\"ASD Control\",output[sensitivity],\"Base\")-SUM($D$196:G196)","v":3097.9862540651811},{"$f":"SUMIFS(INDEX(output[#Data],0,MATCH(\"ishp_Program\",output[#Headers],0)),output[equipment_type],$C$193,output[year],I$194,output[control_strategy],\"ASD Control\",output[sensitivity],\"Base\")-SUMIFS(INDEX(output[#Data],0,MATCH(\"ishp_Baseline\",output[#Headers],0)),output[equipment_type],$C$193,output[year],I$194,output[control_strategy],\"ASD Control\",output[sensitivity],\"Base\")-SUM($D$196:H196)","v":3097.9862540648901}]
[]
[null,null,{"$f":"\"Table for \"&H176","v":"Table for Figure 12: ASD-Controlled Fans Installed Above Baseline, by Year (In-Service Motors)"}]
[null,null,"Fans","Year"]
[null,null,"Pumps",2016,2017,2018,2019,2020,2021]
[null,null,"Regional Momentum ASD Motors Installed ",{"$f":"SUMIFS(INDEX(output[#Data],0,MATCH(\"num_motors_Market\",output[#Headers],0)),output[equipment_type],$C$199,output[year],D$200,output[control_strategy],\"ASD Control\",output[sensitivity],\"Base\")-SUMIFS(INDEX(output[#Data],0,MATCH(\"num_motors_Program\",output[#Headers],0)),output[equipment_type],$C$199,output[year],D$200,output[control_strategy],\"ASD Control\",output[sensitivity],\"Base\")","v":751.46949290377597},{"$f":"SUMIFS(INDEX(output[#Data],0,MATCH(\"num_motors_Market\",output[#Headers],0)),output[equipment_type],$C$199,output[year],E$200,output[control_strategy],\"ASD Control\",output[sensitivity],\"Base\")-SUMIFS(INDEX(output[#Data],0,MATCH(\"num_motors_Program\",output[#Headers],0)),output[equipment_type],$C$199,output[year],E$200,output[control_strategy],\"ASD Control\",output[sensitivity],\"Base\")-SUM($D$201:D201)","v":715.30062526560869},{"$f":"SUMIFS(INDEX(output[#Data],0,MATCH(\"num_motors_Market\",output[#Headers],0)),output[equipment_type],$C$199,output[year],F$200,output[control_strategy],\"ASD Control\",output[sensitivity],\"Base\")-SUMIFS(INDEX(output[#Data],0,MATCH(\"num_motors_Program\",output[#Headers],0)),output[equipment_type],$C$199,output[year],F$200,output[control_strategy],\"ASD Control\",output[sensitivity],\"Base\")-SUM($D$201:E201)","v":862.11537587857674},{"$f":"SUMIFS(INDEX(output[#Data],0,MATCH(\"num_motors_Market\",output[#Headers],0)),output[equipment_type],$C$199,output[year],G$200,output[control_strategy],\"ASD Control\",output[sensitivity],\"Base\")-SUMIFS(INDEX(output[#Data],0,MATCH(\"num_motors_Program\",output[#Headers],0)),output[equipment_type],$C$199,output[year],G$200,output[control_strategy],\"ASD Control\",output[sensitivity],\"Base\")-SUM($D$201:F201)","v":920.94520661983915},{"$f":"SUMIFS(INDEX(output[#Data],0,MATCH(\"num_motors_Market\",output[#Headers],0)),output[equipment_type],$C$199,output[year],H$200,output[control_strategy],\"ASD Control\",output[sensitivity],\"Base\")-SUMIFS(INDEX(output[#Data],0,MATCH(\"num_motors_Program\",output[#Headers],0)),output[equipment_type],$C$199,output[year],H$200,output[control_strategy],\"ASD Control\",output[sensitivity],\"Base\")-SUM($D$201:G201)","v":717.85974375896694},{"$f":"SUMIFS(INDEX(output[#Data],0,MATCH(\"num_motors_Market\",output[#Headers],0)),output[equipment_type],$C$199,output[year],I$200,output[control_strategy],\"ASD Control\",output[sensitivity],\"Base\")-SUMIFS(INDEX(output[#Data],0,MATCH(\"num_motors_Program\",output[#Headers],0)),output[equipment_type],$C$199,output[year],I$200,output[control_strategy],\"ASD Control\",output[sensitivity],\"Base\")-SUM($D$201:H201)","v":672.48065986532674}]
[null,null,"Regional Program Incented Motors Installed",{"$f":"SUMIFS(INDEX(output[#Data],0,MATCH(\"num_motors_Program\",output[#Headers],0)),output[equipment_type],$C$199,output[year],D$200,output[control_strategy],\"ASD Control\",output[sensitivity],\"Base\")-SUMIFS(INDEX(output[#Data],0,MATCH(\"num_motors_Baseline\",output[#Headers],0)),output[equipment_type],$C$199,output[year],D$200,output[control_strategy],\"ASD Control\",output[sensitivity],\"Base\")","v":133.67880884394253},{"$f":"SUMIFS(INDEX(output[#Data],0,MATCH(\"num_motors_Program\",output[#Headers],0)),output[equipment_type],$C$199,output[year],E$200,output[control_strategy],\"ASD Control\",output[sensitivity],\"Base\")-SUMIFS(INDEX(output[#Data],0,MATCH(\"num_motors_Baseline\",output[#Headers],0)),output[equipment_type],$C$199,output[year],E$200,output[control_strategy],\"ASD Control\",output[sensitivity],\"Base\")-SUM($D$202:D202)","v":103.61587434946705},{"$f":"SUMIFS(INDEX(output[#Data],0,MATCH(\"num_motors_Program\",output[#Headers],0)),output[equipment_type],$C$199,output[year],F$200,output[control_strategy],\"ASD Control\",output[sensitivity],\"Base\")-SUMIFS(INDEX(output[#Data],0,MATCH(\"num_motors_Baseline\",output[#Headers],0)),output[equipment_type],$C$199,output[year],F$200,output[control_strategy],\"ASD Control\",output[sensitivity],\"Base\")-SUM($D$202:E202)","v":143.20043691750107},{"$f":"SUMIFS(INDEX(output[#Data],0,MATCH(\"num_motors_Program\",output[#Headers],0)),output[equipment_type],$C$199,output[year],G$200,output[control_strategy],\"ASD Control\",output[sensitivity],\"Base\")-SUMIFS(INDEX(output[#Data],0,MATCH(\"num_motors_Baseline\",output[#Headers],0)),output[equipment_type],$C$199,output[year],G$200,output[control_strategy],\"ASD Control\",output[sensitivity],\"Base\")-SUM($D$202:F202)","v":208.98039658317066},{"$f":"SUMIFS(INDEX(output[#Data],0,MATCH(\"num_motors_Program\",output[#Headers],0)),output[equipment_type],$C$199,output[year],H$200,output[control_strategy],\"ASD Control\",output[sensitivity],\"Base\")-SUMIFS(INDEX(output[#Data],0,MATCH(\"num_motors_Baseline\",output[#Headers],0)),output[equipment_type],$C$199,output[year],H$200,output[control_strategy],\"ASD Control\",output[sensitivity],\"Base\")-SUM($D$202:G202)","v":69.850194868860854},{"$f":"SUMIFS(INDEX(output[#Data],0,MATCH(\"num_motors_Program\",output[#Headers],0)),output[equipment_type],$C$199,output[year],I$200,output[control_strategy],\"ASD Control\",output[sensitivity],\"Base\")-SUMIFS(INDEX(output[#Data],0,MATCH(\"num_motors_Baseline\",output[#Headers],0)),output[equipment_type],$C$199,output[year],I$200,output[control_strategy],\"ASD Control\",output[sensitivity],\"Base\")-SUM($D$202:H202)","v":69.850194868820836}]
[]
[null,null,"Figure 13: Total ASD-Controlled Fans Installed Above Baseline, by Facility Type, 2016 - 2021 (In-Service Motor HP)",null,null,null,null,"Figure 14: Total ASD-Controlled Fans Installed Above Baseline, by Facility Type, 2016 - 2021 (In-Service Motors)"]
[]
[]
[]
[]
[]
[]
[]
[]
[]
[]
[]
[]
[]
[]
[]
[]
[]
[]
[]
[]
[null,null,{"$f":"\"Table for \"&C204","v":"Table for Figure 13: Total ASD-Controlled Fans Installed Above Baseline, by Facility Type, 2016 - 2021 (In-Service Motor HP)"}]
[null,null,"Fans",null,"Primary Metal","Wood Products","Paper","Computer - Elec","Chemical","Food","Warehousing","Refinery","Fabricated Metal","Transportation","Misc Manf"]
[null,null,"Regional Momentum",null,{"$f":"SUMIFS(INDEX(output[#Data],0,MATCH(\"ishp_Market\",output[#Headers],0)),output[equipment_type],$C$226,output[year],2021,output[facility_type],E$226,output[control_strategy],\"ASD Control\",output[sensitivity],\"Base\")-SUMIFS(INDEX(output[#Data],0,MATCH(\"ishp_Program\",output[#Headers],0)),output[equipment_type],$C$226,output[year],2021,output[facility_type],E$226,output[control_strategy],\"ASD Control\",output[sensitivity],\"Base\")","v":3490.2801432662673},{"$f":"SUMIFS(INDEX(output[#Data],0,MATCH(\"ishp_Market\",output[#Headers],0)),output[equipment_type],$C$226,output[year],2021,output[facility_type],F$226,output[control_strategy],\"ASD Control\",output[sensitivity],\"Base\")-SUMIFS(INDEX(output[#Data],0,MATCH(\"ishp_Program\",output[#Headers],0)),output[equipment_type],$C$226,output[year],2021,output[facility_type],F$226,output[control_strategy],\"ASD Control\",output[sensitivity],\"Base\")","v":3457.1186292490602},{"$f":"SUMIFS(INDEX(output[#Data],0,MATCH(\"ishp_Market\",output[#Headers],0)),output[equipment_type],$C$226,output[year],2021,output[facility_type],G$226,output[control_strategy],\"ASD Control\",output[sensitivity],\"Base\")-SUMIFS(INDEX(output[#Data],0,MATCH(\"ishp_Program\",output[#Headers],0)),output[equipment_type],$C$226,output[year],2021,output[facility_type],G$226,output[control_strategy],\"ASD Control\",output[sensitivity],\"Base\")","v":6351.7954018243472},{"$f":"SUMIFS(INDEX(output[#Data],0,MATCH(\"ishp_Market\",output[#Headers],0)),output[equipment_type],$C$226,output[year],2021,output[facility_type],H$226,output[control_strategy],\"ASD Control\",output[sensitivity],\"Base\")-SUMIFS(INDEX(output[#Data],0,MATCH(\"ishp_Program\",output[#Headers],0)),output[equipment_type],$C$226,output[year],2021,output[facility_type],H$226,output[control_strategy],\"ASD Control\",output[sensitivity],\"Base\")","v":6485.3746368446009},{"$f":"SUMIFS(INDEX(output[#Data],0,MATCH(\"ishp_Market\",output[#Headers],0)),output[equipment_type],$C$226,output[year],2021,output[facility_type],I$226,output[control_strategy],\"ASD Control\",output[sensitivity],\"Base\")-SUMIFS(INDEX(output[#Data],0,MATCH(\"ishp_Program\",output[#Headers],0)),output[equipment_type],$C$226,output[year],2021,output[facility_type],I$226,output[control_strategy],\"ASD Control\",output[sensitivity],\"Base\")","v":2486.6199108345754},{"$f":"SUMIFS(INDEX(output[#Data],0,MATCH(\"ishp_Market\",output[#Headers],0)),output[equipment_type],$C$226,output[year],2021,output[facility_type],J$226,output[control_strategy],\"ASD Control\",output[sensitivity],\"Base\")-SUMIFS(INDEX(output[#Data],0,MATCH(\"ishp_Program\",output[#Headers],0)),output[equipment_type],$C$226,output[year],2021,output[facility_type],J$226,output[control_strategy],\"ASD Control\",output[sensitivity],\"Base\")","v":3682.8916633586487},{"$f":"SUMIFS(INDEX(output[#Data],0,MATCH(\"ishp_Market\",output[#Headers],0)),output[equipment_type],$C$226,output[year],2021,output[facility_type],K$226,output[control_strategy],\"ASD Control\",output[sensitivity],\"Base\")-SUMIFS(INDEX(output[#Data],0,MATCH(\"ishp_Program\",output[#Headers],0)),output[equipment_type],$C$226,output[year],2021,output[facility_type],K$226,output[control_strategy],\"ASD Control\",output[sensitivity],\"Base\")","v":1712.9394738364135},{"$f":"SUMIFS(INDEX(output[#Data],0,MATCH(\"ishp_Market\",output[#Headers],0)),output[equipment_type],$C$226,output[year],2021,output[facility_type],L$226,output[control_strategy],\"ASD Control\",output[sensitivity],\"Base\")-SUMIFS(INDEX(output[#Data],0,MATCH(\"ishp_Program\",output[#Headers],0)),output[equipment_type],$C$226,output[year],2021,output[facility_type],L$226,output[control_strategy],\"ASD Control\",output[sensitivity],\"Base\")","v":3786.9261875297598},{"$f":"SUMIFS(INDEX(output[#Data],0,MATCH(\"ishp_Market\",output[#Headers],0)),output[equipment_type],$C$226,output[year],2021,output[facility_type],M$226,output[control_strategy],\"ASD Control\",output[sensitivity],\"Base\")-SUMIFS(INDEX(output[#Data],0,MATCH(\"ishp_Program\",output[#Headers],0)),output[equipment_type],$C$226,output[year],2021,output[facility_type],M$226,output[control_strategy],\"ASD Control\",output[sensitivity],\"Base\")","v":947.53449021025881},{"$f":"SUMIFS(INDEX(output[#Data],0,MATCH(\"ishp_Market\",output[#Headers],0)),output[equipment_type],$C$226,output[year],2021,output[facility_type],N$226,output[control_strategy],\"ASD Control\",output[sensitivity],\"Base\")-SUMIFS(INDEX(output[#Data],0,MATCH(\"ishp_Program\",output[#Headers],0)),output[equipment_type],$C$226,output[year],2021,output[facility_type],N$226,output[control_strategy],\"ASD Control\",output[sensitivity],\"Base\")","v":2351.4954210493797},{"$f":"SUMIFS(INDEX(output[#Data],0,MATCH(\"ishp_Market\",output[#Headers],0)),output[equipment_type],$C$226,output[year],2021,output[facility_type],O$226,output[control_strategy],\"ASD Control\",output[sensitivity],\"Base\")-SUMIFS(INDEX(output[#Data],0,MATCH(\"ishp_Program\",output[#Headers],0)),output[equipment_type],$C$226,output[year],2021,output[facility_type],O$226,output[control_strategy],\"ASD Control\",output[sensitivity],\"Base\")","v":6303.1026528471557}]
[null,null,"Regional Program Incented",null,{"$f":"SUMIFS(INDEX(output[#Data],0,MATCH(\"ishp_Program\",output[#Headers],0)),output[equipment_type],$C$226,output[year],2021,output[facility_type],E$226,output[control_strategy],\"ASD Control\",output[sensitivity],\"Base\")-SUMIFS(INDEX(output[#Data],0,MATCH(\"ishp_Baseline\",output[#Headers],0)),output[equipment_type],$C$226,output[year],2021,output[facility_type],E$226,output[control_strategy],\"ASD Control\",output[sensitivity],\"Base\")","v":0},{"$f":"SUMIFS(INDEX(output[#Data],0,MATCH(\"ishp_Program\",output[#Headers],0)),output[equipment_type],$C$226,output[year],2021,output[facility_type],F$226,output[control_strategy],\"ASD Control\",output[sensitivity],\"Base\")-SUMIFS(INDEX(output[#Data],0,MATCH(\"ishp_Baseline\",output[#Headers],0)),output[equipment_type],$C$226,output[year],2021,output[facility_type],F$226,output[control_strategy],\"ASD Control\",output[sensitivity],\"Base\")","v":5071.2107615511122},{"$f":"SUMIFS(INDEX(output[#Data],0,MATCH(\"ishp_Program\",output[#Headers],0)),output[equipment_type],$C$226,output[year],2021,output[facility_type],G$226,output[control_strategy],\"ASD Control\",output[sensitivity],\"Base\")-SUMIFS(INDEX(output[#Data],0,MATCH(\"ishp_Baseline\",output[#Headers],0)),output[equipment_type],$C$226,output[year],2021,output[facility_type],G$226,output[control_strategy],\"ASD Control\",output[sensitivity],\"Base\")","v":290.35343886791088},{"$f":"SUMIFS(INDEX(output[#Data],0,MATCH(\"ishp_Program\",output[#Headers],0)),output[equipment_type],$C$226,output[year],2021,output[facility_type],H$226,output[control_strategy],\"ASD Control\",output[sensitivity],\"Base\")-SUMIFS(INDEX(output[#Data],0,MATCH(\"ishp_Baseline\",output[#Headers],0)),output[equipment_type],$C$226,output[year],2021,output[facility_type],H$226,output[control_strategy],\"ASD Control\",output[sensitivity],\"Base\")","v":341.06474393237295},{"$f":"SUMIFS(INDEX(output[#Data],0,MATCH(\"ishp_Program\",output[#Headers],0)),output[equipment_type],$C$226,output[year],2021,output[facility_type],I$226,output[control_strategy],\"ASD Control\",output[sensitivity],\"Base\")-SUMIFS(INDEX(output[#Data],0,MATCH(\"ishp_Baseline\",output[#Headers],0)),output[equipment_type],$C$226,output[year],2021,output[facility_type],I$226,output[control_strategy],\"ASD Control\",output[sensitivity],\"Base\")","v":4294.1905621935075},{"$f":"SUMIFS(INDEX(output[#Data],0,MATCH(\"ishp_Program\",output[#Headers],0)),output[equipment_type],$C$226,output[year],2021,output[facility_type],J$226,output[control_strategy],\"ASD Control\",output[sensitivity],\"Base\")-SUMIFS(INDEX(output[#Data],0,MATCH(\"ishp_Baseline\",output[#Headers],0)),output[equipment_type],$C$226,output[year],2021,output[facility_type],J$226,output[control_strategy],\"ASD Control\",output[sensitivity],\"Base\")","v":15123.576292424652},{"$f":"SUMIFS(INDEX(output[#Data],0,MATCH(\"ishp_Program\",output[#Headers],0)),output[equipment_type],$C$226,output[year],2021,output[facility_type],K$226,output[control_strategy],\"ASD Control\",output[sensitivity],\"Base\")-SUMIFS(INDEX(output[#Data],0,MATCH(\"ishp_Baseline\",output[#Headers],0)),output[equipment_type],$C$226,output[year],2021,output[facility_type],K$226,output[control_strategy],\"ASD Control\",output[sensitivity],\"Base\")","v":2695.517904538825},{"$f":"SUMIFS(INDEX(output[#Data],0,MATCH(\"ishp_Program\",output[#Headers],0)),output[equipment_type],$C$226,output[year],2021,output[facility_type],L$226,output[control_strategy],\"ASD Control\",output[sensitivity],\"Base\")-SUMIFS(INDEX(output[#Data],0,MATCH(\"ishp_Baseline\",output[#Headers],0)),output[equipment_type],$C$226,output[year],2021,output[facility_type],L$226,output[control_strategy],\"ASD Control\",output[sensitivity],\"Base\")","v":289.61053429250023},{"$f":"SUMIFS(INDEX(output[#Data],0,MATCH(\"ishp_Program\",output[#Headers],0)),output[equipment_type],$C$226,output[year],2021,output[facility_type],M$226,output[control_strategy],\"ASD Control\",output[sensitivity],\"Base\")-SUMIFS(INDEX(output[#Data],0,MATCH(\"ishp_Baseline\",output[#Headers],0)),output[equipment_type],$C$226,output[year],2021,output[facility_type],M$226,output[control_strategy],\"ASD Control\",output[sensitivity],\"Base\")","v":102.5964844210921},{"$f":"SUMIFS(INDEX(output[#Data],0,MATCH(\"ishp_Program\",output[#Headers],0)),output[equipment_type],$C$226,output[year],2021,output[facility_type],N$226,output[control_strategy],\"ASD Control\",output[sensitivity],\"Base\")-SUMIFS(INDEX(output[#Data],0,MATCH(\"ishp_Baseline\",output[#Headers],0)),output[equipment_type],$C$226,output[year],2021,output[facility_type],N$226,output[control_strategy],\"ASD Control\",output[sensitivity],\"Base\")","v":2.5446740173647413},{"$f":"SUMIFS(INDEX(output[#Data],0,MATCH(\"ishp_Program\",output[#Headers],0)),output[equipment_type],$C$226,output[year],2021,output[facility_type],O$226,output[control_strategy],\"ASD Control\",output[sensitivity],\"Base\")-SUMIFS(INDEX(output[#Data],0,MATCH(\"ishp_Baseline\",output[#Headers],0)),output[equipment_type],$C$226,output[year],2021,output[facility_type],O$226,output[control_strategy],\"ASD Control\",output[sensitivity],\"Base\")","v":2125.5742499750777}]
[]
[]
[null,null,{"$f":"\"Table for \"&H204","v":"Table for Figure 14: Total ASD-Controlled Fans Installed Above Baseline, by Facility Type, 2016 - 2021 (In-Service Motors)"}]
[null,null,"Fans",null,"Primary Metal","Wood Products","Paper","Computer - Elec","Chemical","Food","Warehousing","Refinery","Fabricated Metal","Transportation","Misc Manf"]
[null,null,"Regional Momentum",null,{"$f":"SUMIFS(INDEX(output[#Data],0,MATCH(\"num_motors_Market\",output[#Headers],0)),output[equipment_type],$C$232,output[year],2021,output[facility_type],E$232,output[control_strategy],\"ASD Control\",output[sensitivity],\"Base\")-SUMIFS(INDEX(output[#Data],0,MATCH(\"num_motors_Program\",output[#Headers],0)),output[equipment_type],$C$232,output[year],2021,output[facility_type],E$232,output[control_strategy],\"ASD Control\",output[sensitivity],\"Base\")","v":53.809441333922905},{"$f":"SUMIFS(INDEX(output[#Data],0,MATCH(\"num_motors_Market\",output[#Headers],0)),output[equipment_type],$C$232,output[year],2021,output[facility_type],F$232,output[control_strategy],\"ASD Control\",output[sensitivity],\"Base\")-SUMIFS(INDEX(output[#Data],0,MATCH(\"num_motors_Program\",output[#Headers],0)),output[equipment_type],$C$232,output[year],2021,output[facility_type],F$232,output[control_strategy],\"ASD Control\",output[sensitivity],\"Base\")","v":126.49775359615251},{"$f":"SUMIFS(INDEX(output[#Data],0,MATCH(\"num_motors_Market\",output[#Headers],0)),output[equipment_type],$C$232,output[year],2021,output[facility_type],G$232,output[control_strategy],\"ASD Control\",output[sensitivity],\"Base\")-SUMIFS(INDEX(output[#Data],0,MATCH(\"num_motors_Program\",output[#Headers],0)),output[equipment_type],$C$232,output[year],2021,output[facility_type],G$232,output[control_strategy],\"ASD Control\",output[sensitivity],\"Base\")","v":115.71418998078559},{"$f":"SUMIFS(INDEX(output[#Data],0,MATCH(\"num_motors_Market\",output[#Headers],0)),output[equipment_type],$C$232,output[year],2021,output[facility_type],H$232,output[control_strategy],\"ASD Control\",output[sensitivity],\"Base\")-SUMIFS(INDEX(output[#Data],0,MATCH(\"num_motors_Program\",output[#Headers],0)),output[equipment_type],$C$232,output[year],2021,output[facility_type],H$232,output[control_strategy],\"ASD Control\",output[sensitivity],\"Base\")","v":787.67100597544595},{"$f":"SUMIFS(INDEX(output[#Data],0,MATCH(\"num_motors_Market\",output[#Headers],0)),output[equipment_type],$C$232,output[year],2021,output[facility_type],I$232,output[control_strategy],\"ASD Control\",output[sensitivity],\"Base\")-SUMIFS(INDEX(output[#Data],0,MATCH(\"num_motors_Program\",output[#Headers],0)),output[equipment_type],$C$232,output[year],2021,output[facility_type],I$232,output[control_strategy],\"ASD Control\",output[sensitivity],\"Base\")","v":239.38981127483555},{"$f":"SUMIFS(INDEX(output[#Data],0,MATCH(\"num_motors_Market\",output[#Headers],0)),output[equipment_type],$C$232,output[year],2021,output[facility_type],J$232,output[control_strategy],\"ASD Control\",output[sensitivity],\"Base\")-SUMIFS(INDEX(output[#Data],0,MATCH(\"num_motors_Program\",output[#Headers],0)),output[equipment_type],$C$232,output[year],2021,output[facility_type],J$232,output[control_strategy],\"ASD Control\",output[sensitivity],\"Base\")","v":1441.100671969024},{"$f":"SUMIFS(INDEX(output[#Data],0,MATCH(\"num_motors_Market\",output[#Headers],0)),output[equipment_type],$C$232,output[year],2021,output[facility_type],K$232,output[control_strategy],\"ASD Control\",output[sensitivity],\"Base\")-SUMIFS(INDEX(output[#Data],0,MATCH(\"num_motors_Program\",output[#Headers],0)),output[equipment_type],$C$232,output[year],2021,output[facility_type],K$232,output[control_strategy],\"ASD Control\",output[sensitivity],\"Base\")","v":999.9994366322162},{"$f":"SUMIFS(INDEX(output[#Data],0,MATCH(\"num_motors_Market\",output[#Headers],0)),output[equipment_type],$C$232,output[year],2021,output[facility_type],L$232,output[control_strategy],\"ASD Control\",output[sensitivity],\"Base\")-SUMIFS(INDEX(output[#Data],0,MATCH(\"num_motors_Program\",output[#Headers],0)),output[equipment_type],$C$232,output[year],2021,output[facility_type],L$232,output[control_strategy],\"ASD Control\",output[sensitivity],\"Base\")","v":80.3221036784891},{"$f":"SUMIFS(INDEX(output[#Data],0,MATCH(\"num_motors_Market\",output[#Headers],0)),output[equipment_type],$C$232,output[year],2021,output[facility_type],M$232,output[control_strategy],\"ASD Control\",output[sensitivity],\"Base\")-SUMIFS(INDEX(output[#Data],0,MATCH(\"num_motors_Program\",output[#Headers],0)),output[equipment_type],$C$232,output[year],2021,output[facility_type],M$232,output[control_strategy],\"ASD Control\",output[sensitivity],\"Base\")","v":71.419849677475099},{"$f":"SUMIFS(INDEX(output[#Data],0,MATCH(\"num_motors_Market\",output[#Headers],0)),output[equipment_type],$C$232,output[year],2021,output[facility_type],N$232,output[control_strategy],\"ASD Control\",output[sensitivity],\"Base\")-SUMIFS(INDEX(output[#Data],0,MATCH(\"num_motors_Program\",output[#Headers],0)),output[equipment_type],$C$232,output[year],2021,output[facility_type],N$232,output[control_strategy],\"ASD Control\",output[sensitivity],\"Base\")","v":104.04824376540466},{"$f":"SUMIFS(INDEX(output[#Data],0,MATCH(\"num_motors_Market\",output[#Headers],0)),output[equipment_type],$C$232,output[year],2021,output[facility_type],O$232,output[control_strategy],\"ASD Control\",output[sensitivity],\"Base\")-SUMIFS(INDEX(output[#Data],0,MATCH(\"num_motors_Program\",output[#Headers],0)),output[equipment_type],$C$232,output[year],2021,output[facility_type],O$232,output[control_strategy],\"ASD Control\",output[sensitivity],\"Base\")","v":620.19859640835966}]
[null,null,"Regional Program Incented",null,{"$f":"SUMIFS(INDEX(output[#Data],0,MATCH(\"num_motors_Program\",output[#Headers],0)),output[equipment_type],$C$232,output[year],2021,output[facility_type],E$232,output[control_strategy],\"ASD Control\",output[sensitivity],\"Base\")-SUMIFS(INDEX(output[#Data],0,MATCH(\"num_motors_Baseline\",output[#Headers],0)),output[equipment_type],$C$232,output[year],2021,output[facility_type],E$232,output[control_strategy],\"ASD Control\",output[sensitivity],\"Base\")","v":0},{"$f":"SUMIFS(INDEX(output[#Data],0,MATCH(\"num_motors_Program\",output[#Headers],0)),output[equipment_type],$C$232,output[year],2021,output[facility_type],F$232,output[control_strategy],\"ASD Control\",output[sensitivity],\"Base\")-SUMIFS(INDEX(output[#Data],0,MATCH(\"num_motors_Baseline\",output[#Headers],0)),output[equipment_type],$C$232,output[year],2021,output[facility_type],F$232,output[control_strategy],\"ASD Control\",output[sensitivity],\"Base\")","v":132.78106722787015},{"$f":"SUMIFS(INDEX(output[#Data],0,MATCH(\"num_motors_Program\",output[#Headers],0)),output[equipment_type],$C$232,output[year],2021,output[facility_type],G$232,output[control_strategy],\"ASD Control\",output[sensitivity],\"Base\")-SUMIFS(INDEX(output[#Data],0,MATCH(\"num_motors_Baseline\",output[#Headers],0)),output[equipment_type],$C$232,output[year],2021,output[facility_type],G$232,output[control_strategy],\"ASD Control\",output[sensitivity],\"Base\")","v":4.0892691420027631},{"$f":"SUMIFS(INDEX(output[#Data],0,MATCH(\"num_motors_Program\",output[#Headers],0)),output[equipment_type],$C$232,output[year],2021,output[facility_type],H$232,output[control_strategy],\"ASD Control\",output[sensitivity],\"Base\")-SUMIFS(INDEX(output[#Data],0,MATCH(\"num_motors_Baseline\",output[#Headers],0)),output[equipment_type],$C$232,output[year],2021,output[facility_type],H$232,output[control_strategy],\"ASD Control\",output[sensitivity],\"Base\")","v":7.4331736400959016},{"$f":"SUMIFS(INDEX(output[#Data],0,MATCH(\"num_motors_Program\",output[#Headers],0)),output[equipment_type],$C$232,output[year],2021,output[facility_type],I$232,output[control_strategy],\"ASD Control\",output[sensitivity],\"Base\")-SUMIFS(INDEX(output[#Data],0,MATCH(\"num_motors_Baseline\",output[#Headers],0)),output[equipment_type],$C$232,output[year],2021,output[facility_type],I$232,output[control_strategy],\"ASD Control\",output[sensitivity],\"Base\")","v":72.185224983288094},{"$f":"SUMIFS(INDEX(output[#Data],0,MATCH(\"num_motors_Program\",output[#Headers],0)),output[equipment_type],$C$232,output[year],2021,output[facility_type],J$232,output[control_strategy],\"ASD Control\",output[sensitivity],\"Base\")-SUMIFS(INDEX(output[#Data],0,MATCH(\"num_motors_Baseline\",output[#Headers],0)),output[equipment_type],$C$232,output[year],2021,output[facility_type],J$232,output[control_strategy],\"ASD Control\",output[sensitivity],\"Base\")","v":254.226900601946},{"$f":"SUMIFS(INDEX(output[#Data],0,MATCH(\"num_motors_Program\",output[#Headers],0)),output[equipment_type],$C$232,output[year],2021,output[facility_type],K$232,output[control_strategy],\"ASD Control\",output[sensitivity],\"Base\")-SUMIFS(INDEX(output[#Data],0,MATCH(\"num_motors_Baseline\",output[#Headers],0)),output[equipment_type],$C$232,output[year],2021,output[facility_type],K$232,output[control_strategy],\"ASD Control\",output[sensitivity],\"Base\")","v":200.59344295916708},{"$f":"SUMIFS(INDEX(output[#Data],0,MATCH(\"num_motors_Program\",output[#Headers],0)),output[equipment_type],$C$232,output[year],2021,output[facility_type],L$232,output[control_strategy],\"ASD Control\",output[sensitivity],\"Base\")-SUMIFS(INDEX(output[#Data],0,MATCH(\"num_motors_Baseline\",output[#Headers],0)),output[equipment_type],$C$232,output[year],2021,output[facility_type],L$232,output[control_strategy],\"ASD Control\",output[sensitivity],\"Base\")","v":4.8683450984893284},{"$f":"SUMIFS(INDEX(output[#Data],0,MATCH(\"num_motors_Program\",output[#Headers],0)),output[equipment_type],$C$232,output[year],2021,output[facility_type],M$232,output[control_strategy],\"ASD Control\",output[sensitivity],\"Base\")-SUMIFS(INDEX(output[#Data],0,MATCH(\"num_motors_Baseline\",output[#Headers],0)),output[equipment_type],$C$232,output[year],2021,output[facility_type],M$232,output[control_strategy],\"ASD Control\",output[sensitivity],\"Base\")","v":1.8899313837150089},{"$f":"SUMIFS(INDEX(output[#Data],0,MATCH(\"num_motors_Program\",output[#Headers],0)),output[equipment_type],$C$232,output[year],2021,output[facility_type],N$232,output[control_strategy],\"ASD Control\",output[sensitivity],\"Base\")-SUMIFS(INDEX(output[#Data],0,MATCH(\"num_motors_Baseline\",output[#Headers],0)),output[equipment_type],$C$232,output[year],2021,output[facility_type],N$232,output[control_strategy],\"ASD Control\",output[sensitivity],\"Base\")","v":4.2775900089566221E-2},{"$f":"SUMIFS(INDEX(output[#Data],0,MATCH(\"num_motors_Program\",output[#Headers],0)),output[equipment_type],$C$232,output[year],2021,output[facility_type],O$232,output[control_strategy],\"ASD Control\",output[sensitivity],\"Base\")-SUMIFS(INDEX(output[#Data],0,MATCH(\"num_motors_Baseline\",output[#Headers],0)),output[equipment_type],$C$232,output[year],2021,output[facility_type],O$232,output[control_strategy],\"ASD Control\",output[sensitivity],\"Base\")","v":51.065775495135995}]
[]
[]
[null,null,"Figure 15: Installed Stock of Pumps, by Year (Installed Motor HP)",null,null,null,null,"Figure 16: Installed Stock of Pumps, by Year (Installed Motors)"]
[]
[]
[]
[]
[]
[]
[]
[]
[]
[]
[]
[]
[]
[]
[]
[]
[]
[null,null,{"$f":"\"Table for \"&C237","v":"Table for Figure 15: Installed Stock of Pumps, by Year (Installed Motor HP)"}]
[null,null,"Pumps","Year"]
[null,null,null,2015,2016,2017,2018,2019,2020,2021]
[null,null,"In-Service Motor HP",{"$f":"SUMIFS(INDEX(output[#Data],0,MATCH(\"ishp_Market\",output[#Headers],0)),output[equipment_type],$C$256,output[year],D$257,output[sensitivity],\"Base\")","v":1120687.7900044955},{"$f":"SUMIFS(INDEX(output[#Data],0,MATCH(\"ishp_Market\",output[#Headers],0)),output[equipment_type],$C$256,output[year],E$257,output[sensitivity],\"Base\")","v":1174402.2069191278},{"$f":"SUMIFS(INDEX(output[#Data],0,MATCH(\"ishp_Market\",output[#Headers],0)),output[equipment_type],$C$256,output[year],F$257,output[sensitivity],\"Base\")","v":1182255.3517591204},{"$f":"SUMIFS(INDEX(output[#Data],0,MATCH(\"ishp_Market\",output[#Headers],0)),output[equipment_type],$C$256,output[year],G$257,output[sensitivity],\"Base\")","v":1230777.8223786629},{"$f":"SUMIFS(INDEX(output[#Data],0,MATCH(\"ishp_Market\",output[#Headers],0)),output[equipment_type],$C$256,output[year],H$257,output[sensitivity],\"Base\")","v":1234071.4717502408},{"$f":"SUMIFS(INDEX(output[#Data],0,MATCH(\"ishp_Market\",output[#Headers],0)),output[equipment_type],$C$256,output[year],I$257,output[sensitivity],\"Base\")","v":1201163.373770287},{"$f":"SUMIFS(INDEX(output[#Data],0,MATCH(\"ishp_Market\",output[#Headers],0)),output[equipment_type],$C$256,output[year],J$257,output[sensitivity],\"Base\")","v":1198669.9372036676}]
[null,null,"Out-of-Service Motor HP",{"$f":"SUMIFS(INDEX(output[#Data],0,MATCH(\"ooshp_Market\",output[#Headers],0)),output[equipment_type],$C$256,output[year],D$257,output[sensitivity],\"Base\")","v":296838.60953050747},{"$f":"SUMIFS(INDEX(output[#Data],0,MATCH(\"ooshp_Market\",output[#Headers],0)),output[equipment_type],$C$256,output[year],E$257,output[sensitivity],\"Base\")","v":307871.52910429856},{"$f":"SUMIFS(INDEX(output[#Data],0,MATCH(\"ooshp_Market\",output[#Headers],0)),output[equipment_type],$C$256,output[year],F$257,output[sensitivity],\"Base\")","v":315684.29022001731},{"$f":"SUMIFS(INDEX(output[#Data],0,MATCH(\"ooshp_Market\",output[#Headers],0)),output[equipment_type],$C$256,output[year],G$257,output[sensitivity],\"Base\")","v":297743.00059359591},{"$f":"SUMIFS(INDEX(output[#Data],0,MATCH(\"ooshp_Market\",output[#Headers],0)),output[equipment_type],$C$256,output[year],H$257,output[sensitivity],\"Base\")","v":304213.97883996641},{"$f":"SUMIFS(INDEX(output[#Data],0,MATCH(\"ooshp_Market\",output[#Headers],0)),output[equipment_type],$C$256,output[year],I$257,output[sensitivity],\"Base\")","v":339670.59527981729},{"$f":"SUMIFS(INDEX(output[#Data],0,MATCH(\"ooshp_Market\",output[#Headers],0)),output[equipment_type],$C$256,output[year],J$257,output[sensitivity],\"Base\")","v":349418.31165289902}]
[null,null,"Total Motor HP",{"$f":"SUM(D258:D259)","v":1417526.3995350031},{"$f":"SUM(E258:E259)","v":1482273.7360234265},1497939.6419791377,1528520.8229722588,1538285.4505902072,1540833.9690501043,1548088.2488565666]
[]
[null,null,{"$f":"\"Table for \"&H237","v":"Table for Figure 16: Installed Stock of Pumps, by Year (Installed Motors)"}]
[null,null,"Pumps","Year"]
[null,null,null,2015,2016,2017,2018,2019,2020,2021]
[null,null,"Number of In-Service Motors",{"$f":"SUMIFS(INDEX(output[#Data],0,MATCH(\"num_motors_Market\",output[#Headers],0)),output[equipment_type],$C$263,output[year],D$264,output[sensitivity],\"Base\")","v":36778.109749240815},{"$f":"SUMIFS(INDEX(output[#Data],0,MATCH(\"num_motors_Market\",output[#Headers],0)),output[equipment_type],$C$263,output[year],E$264,output[sensitivity],\"Base\")","v":36660.206053448273},{"$f":"SUMIFS(INDEX(output[#Data],0,MATCH(\"num_motors_Market\",output[#Headers],0)),output[equipment_type],$C$263,output[year],F$264,output[sensitivity],\"Base\")","v":35791.950733813515},{"$f":"SUMIFS(INDEX(output[#Data],0,MATCH(\"num_motors_Market\",output[#Headers],0)),output[equipment_type],$C$263,output[year],G$264,output[sensitivity],\"Base\")","v":36396.740237034937},{"$f":"SUMIFS(INDEX(output[#Data],0,MATCH(\"num_motors_Market\",output[#Headers],0)),output[equipment_type],$C$263,output[year],H$264,output[sensitivity],\"Base\")","v":35713.040535917928},{"$f":"SUMIFS(INDEX(output[#Data],0,MATCH(\"num_motors_Market\",output[#Headers],0)),output[equipment_type],$C$263,output[year],I$264,output[sensitivity],\"Base\")","v":34092.181351902764},{"$f":"SUMIFS(INDEX(output[#Data],0,MATCH(\"num_motors_Market\",output[#Headers],0)),output[equipment_type],$C$263,output[year],J$264,output[sensitivity],\"Base\")","v":32464.16798363451}]
[null,null,"Number of Out-of-Service Motors",{"$f":"SUMIFS(INDEX(output[#Data],0,MATCH(\"num_motors_ooshp_Market\",output[#Headers],0)),output[equipment_type],$C$263,output[year],D$264,output[sensitivity],\"Base\")","v":11173.518163334687},{"$f":"SUMIFS(INDEX(output[#Data],0,MATCH(\"num_motors_ooshp_Market\",output[#Headers],0)),output[equipment_type],$C$263,output[year],E$264,output[sensitivity],\"Base\")","v":11440.20683613841},{"$f":"SUMIFS(INDEX(output[#Data],0,MATCH(\"num_motors_ooshp_Market\",output[#Headers],0)),output[equipment_type],$C$263,output[year],F$264,output[sensitivity],\"Base\")","v":11618.537442863126},{"$f":"SUMIFS(INDEX(output[#Data],0,MATCH(\"num_motors_ooshp_Market\",output[#Headers],0)),output[equipment_type],$C$263,output[year],G$264,output[sensitivity],\"Base\")","v":10925.681852320124},{"$f":"SUMIFS(INDEX(output[#Data],0,MATCH(\"num_motors_ooshp_Market\",output[#Headers],0)),output[equipment_type],$C$263,output[year],H$264,output[sensitivity],\"Base\")","v":10861.074212505797},{"$f":"SUMIFS(INDEX(output[#Data],0,MATCH(\"num_motors_ooshp_Market\",output[#Headers],0)),output[equipment_type],$C$263,output[year],I$264,output[sensitivity],\"Base\")","v":11438.200660642928},{"$f":"SUMIFS(INDEX(output[#Data],0,MATCH(\"num_motors_ooshp_Market\",output[#Headers],0)),output[equipment_type],$C$263,output[year],J$264,output[sensitivity],\"Base\")","v":12229.528766692107}]
[null,null,"Total Number of Motors",{"$f":"SUM(D265:D266)","v":47951.627912575503},{"$f":"SUM(E265:E266)","v":48100.412889586682},47410.488176676641,47322.422089355059,46574.114748423723,45530.382012545691,44693.696750326621]
[]
[null,null,"Figure 17: In-Service Stock of Pumps, by Facility Type, 2020 (In-Service Motor HP)",null,null,null,null,"Figure 18: In-Service Stock of Pumps, by Facility Type, 2020 (In-Service Motors)"]
[]
[]
[]
[]
[]
[]
[]
[]
[]
[]
[]
[]
[]
[]
[]
[]
[]
[]
[]
[]
[null,null,{"$f":"\"Table for \"&C269","v":"Table for Figure 17: In-Service Stock of Pumps, by Facility Type, 2020 (In-Service Motor HP)"}]
[null,null,"Pumps","Primary Metal","Wood Products","Paper","Computer - Elec","Chemical","Food","Warehousing","Refinery","Fabricated Metal","Transportation","Misc Manf"]
[null,null,"In-Service Motor HP",{"$f":"SUMIFS(INDEX(output[#Data],0,MATCH(\"ishp_Market\",output[#Headers],0)),output[equipment_type],$C$291,output[year],2020,output[facility_type],D$291,output[sensitivity],\"Base\")","v":140395.69407650668},{"$f":"SUMIFS(INDEX(output[#Data],0,MATCH(\"ishp_Market\",output[#Headers],0)),output[equipment_type],$C$291,output[year],2020,output[facility_type],E$291,output[sensitivity],\"Base\")","v":61158.53445392281},{"$f":"SUMIFS(INDEX(output[#Data],0,MATCH(\"ishp_Market\",output[#Headers],0)),output[equipment_type],$C$291,output[year],2020,output[facility_type],F$291,output[sensitivity],\"Base\")","v":232176.30466964366},{"$f":"SUMIFS(INDEX(output[#Data],0,MATCH(\"ishp_Market\",output[#Headers],0)),output[equipment_type],$C$291,output[year],2020,output[facility_type],G$291,output[sensitivity],\"Base\")","v":72145.610974527022},{"$f":"SUMIFS(INDEX(output[#Data],0,MATCH(\"ishp_Market\",output[#Headers],0)),output[equipment_type],$C$291,output[year],2020,output[facility_type],H$291,output[sensitivity],\"Base\")","v":74319.219184691567},{"$f":"SUMIFS(INDEX(output[#Data],0,MATCH(\"ishp_Market\",output[#Headers],0)),output[equipment_type],$C$291,output[year],2020,output[facility_type],I$291,output[sensitivity],\"Base\")","v":179766.50701865138},{"$f":"SUMIFS(INDEX(output[#Data],0,MATCH(\"ishp_Market\",output[#Headers],0)),output[equipment_type],$C$291,output[year],2020,output[facility_type],J$291,output[sensitivity],\"Base\")","v":6162.4177449513872},{"$f":"SUMIFS(INDEX(output[#Data],0,MATCH(\"ishp_Market\",output[#Headers],0)),output[equipment_type],$C$291,output[year],2020,output[facility_type],K$291,output[sensitivity],\"Base\")","v":270543.57694324356},{"$f":"SUMIFS(INDEX(output[#Data],0,MATCH(\"ishp_Market\",output[#Headers],0)),output[equipment_type],$C$291,output[year],2020,output[facility_type],L$291,output[sensitivity],\"Base\")","v":8023.6218087215548},{"$f":"SUMIFS(INDEX(output[#Data],0,MATCH(\"ishp_Market\",output[#Headers],0)),output[equipment_type],$C$291,output[year],2020,output[facility_type],M$291,output[sensitivity],\"Base\")","v":28431.827426607273},{"$f":"SUMIFS(INDEX(output[#Data],0,MATCH(\"ishp_Market\",output[#Headers],0)),output[equipment_type],$C$291,output[year],2020,output[facility_type],N$291,output[sensitivity],\"Base\")","v":128040.05946882327}]
[]
[null,null,{"$f":"\"Table for \"&H269","v":"Table for Figure 18: In-Service Stock of Pumps, by Facility Type, 2020 (In-Service Motors)"}]
[null,null,"Pumps","Primary Metal","Wood Products","Paper","Computer - Elec","Chemical","Food","Warehousing","Refinery","Fabricated Metal","Transportation","Misc Manf"]
[null,null,"Number of In-Service Motors",{"$f":"SUMIFS(INDEX(output[#Data],0,MATCH(\"num_motors_Market\",output[#Headers],0)),output[equipment_type],$C$295,output[year],2020,output[facility_type],D$295,output[sensitivity],\"Base\")","v":2916.0835402187881},{"$f":"SUMIFS(INDEX(output[#Data],0,MATCH(\"num_motors_Market\",output[#Headers],0)),output[equipment_type],$C$295,output[year],2020,output[facility_type],E$295,output[sensitivity],\"Base\")","v":3111.9583794632899},{"$f":"SUMIFS(INDEX(output[#Data],0,MATCH(\"num_motors_Market\",output[#Headers],0)),output[equipment_type],$C$295,output[year],2020,output[facility_type],F$295,output[sensitivity],\"Base\")","v":4086.9326810637299},{"$f":"SUMIFS(INDEX(output[#Data],0,MATCH(\"num_motors_Market\",output[#Headers],0)),output[equipment_type],$C$295,output[year],2020,output[facility_type],G$295,output[sensitivity],\"Base\")","v":2875.4715674475674},{"$f":"SUMIFS(INDEX(output[#Data],0,MATCH(\"num_motors_Market\",output[#Headers],0)),output[equipment_type],$C$295,output[year],2020,output[facility_type],H$295,output[sensitivity],\"Base\")","v":2339.0171518242551},{"$f":"SUMIFS(INDEX(output[#Data],0,MATCH(\"num_motors_Market\",output[#Headers],0)),output[equipment_type],$C$295,output[year],2020,output[facility_type],I$295,output[sensitivity],\"Base\")","v":5120.4311226294021},{"$f":"SUMIFS(INDEX(output[#Data],0,MATCH(\"num_motors_Market\",output[#Headers],0)),output[equipment_type],$C$295,output[year],2020,output[facility_type],J$295,output[sensitivity],\"Base\")","v":838.64366360098074},{"$f":"SUMIFS(INDEX(output[#Data],0,MATCH(\"num_motors_Market\",output[#Headers],0)),output[equipment_type],$C$295,output[year],2020,output[facility_type],K$295,output[sensitivity],\"Base\")","v":4020.3588017506459},{"$f":"SUMIFS(INDEX(output[#Data],0,MATCH(\"num_motors_Market\",output[#Headers],0)),output[equipment_type],$C$295,output[year],2020,output[facility_type],L$295,output[sensitivity],\"Base\")","v":1014.827298559677},{"$f":"SUMIFS(INDEX(output[#Data],0,MATCH(\"num_motors_Market\",output[#Headers],0)),output[equipment_type],$C$295,output[year],2020,output[facility_type],M$295,output[sensitivity],\"Base\")","v":995.41520399489332},{"$f":"SUMIFS(INDEX(output[#Data],0,MATCH(\"num_motors_Market\",output[#Headers],0)),output[equipment_type],$C$295,output[year],2020,output[facility_type],N$295,output[sensitivity],\"Base\")","v":6773.0419413494765}]
[]
[null,null,"Table B: Average Motor Horsepower of In-Service Pumps, by Facility Type in 2020 (Motor HP)"]
[null,null,"Pumps","Primary Metal","Wood Products","Paper","Computer - Elec","Chemical","Food","Warehousing","Refinery","Fabricated Metal","Transportation","Misc Manf"]
[null,null,"Average In-Service Motor HP",{"$f":"D292/D296","v":48.145292183903983},{"$f":"E292/E296","v":19.652748204322268},56.809427213078976,25.090010206071202,31.773695685270305,35.107689706865763,7.3480764386761184,67.293391034013354,7.9063913831538741,28.562781955210255,18.904365361616566]
[]
[]
[null,null,"Figure 19: In-Service Pumps, by Control Strategy and Year (In-Service Motor HP)",null,null,null,null,"Figure 20: In-Service Pumps, by Control Strategy and Year (In-Service Motors)"]
[]
[]
[]
[]
[]
[]
[]
[]
[]
[]
[]
[]
[]
[]
[]
[]
[]
[null,null,{"$f":"\"Table for \"&C303","v":"Table for Figure 19: In-Service Pumps, by Control Strategy and Year (In-Service Motor HP)"}]
[null,null,"Pumps","Year"]
[null,null,null,2015,2016,2017,2018,2019,2020,2021]
[null,null,"In-Service Non ASD-Controlled Motor HP",{"$f":"SUMIFS(INDEX(output[#Data],0,MATCH(\"ishp_Market\",output[#Headers],0)),output[equipment_type],$C$322,output[year],D$323,output[control_strategy], \"Non ASD Control\",output[sensitivity],\"Base\")","v":674109.18566044269},{"$f":"SUMIFS(INDEX(output[#Data],0,MATCH(\"ishp_Market\",output[#Headers],0)),output[equipment_type],$C$322,output[year],E$323,output[control_strategy], \"Non ASD Control\",output[sensitivity],\"Base\")","v":676219.58818262815},{"$f":"SUMIFS(INDEX(output[#Data],0,MATCH(\"ishp_Market\",output[#Headers],0)),output[equipment_type],$C$322,output[year],F$323,output[control_strategy], \"Non ASD Control\",output[sensitivity],\"Base\")","v":645025.89778591006},{"$f":"SUMIFS(INDEX(output[#Data],0,MATCH(\"ishp_Market\",output[#Headers],0)),output[equipment_type],$C$322,output[year],G$323,output[control_strategy], \"Non ASD Control\",output[sensitivity],\"Base\")","v":636401.88415842014},{"$f":"SUMIFS(INDEX(output[#Data],0,MATCH(\"ishp_Market\",output[#Headers],0)),output[equipment_type],$C$322,output[year],H$323,output[control_strategy], \"Non ASD Control\",output[sensitivity],\"Base\")","v":597388.3289180256},{"$f":"SUMIFS(INDEX(output[#Data],0,MATCH(\"ishp_Market\",output[#Headers],0)),output[equipment_type],$C$322,output[year],I$323,output[control_strategy], \"Non ASD Control\",output[sensitivity],\"Base\")","v":537236.8801968093},{"$f":"SUMIFS(INDEX(output[#Data],0,MATCH(\"ishp_Market\",output[#Headers],0)),output[equipment_type],$C$322,output[year],J$323,output[control_strategy], \"Non ASD Control\",output[sensitivity],\"Base\")","v":513346.06177738076}]
[null,null,"In-Service ASD-Controlled Motor HP",{"$f":"SUMIFS(INDEX(output[#Data],0,MATCH(\"ishp_Market\",output[#Headers],0)),output[equipment_type],$C$322,output[year],D$323,output[control_strategy], \"ASD Control\",output[sensitivity],\"Base\")","v":446578.60434405087},{"$f":"SUMIFS(INDEX(output[#Data],0,MATCH(\"ishp_Market\",output[#Headers],0)),output[equipment_type],$C$322,output[year],E$323,output[control_strategy], \"ASD Control\",output[sensitivity],\"Base\")","v":498182.61873650097},{"$f":"SUMIFS(INDEX(output[#Data],0,MATCH(\"ishp_Market\",output[#Headers],0)),output[equipment_type],$C$322,output[year],F$323,output[control_strategy], \"ASD Control\",output[sensitivity],\"Base\")","v":537229.4539732103},{"$f":"SUMIFS(INDEX(output[#Data],0,MATCH(\"ishp_Market\",output[#Headers],0)),output[equipment_type],$C$322,output[year],G$323,output[control_strategy], \"ASD Control\",output[sensitivity],\"Base\")","v":594375.93822024262},{"$f":"SUMIFS(INDEX(output[#Data],0,MATCH(\"ishp_Market\",output[#Headers],0)),output[equipment_type],$C$322,output[year],H$323,output[control_strategy], \"ASD Control\",output[sensitivity],\"Base\")","v":636683.14283220982},{"$f":"SUMIFS(INDEX(output[#Data],0,MATCH(\"ishp_Market\",output[#Headers],0)),output[equipment_type],$C$322,output[year],I$323,output[control_strategy], \"ASD Control\",output[sensitivity],\"Base\")","v":663926.49357347924},{"$f":"SUMIFS(INDEX(output[#Data],0,MATCH(\"ishp_Market\",output[#Headers],0)),output[equipment_type],$C$322,output[year],J$323,output[control_strategy], \"ASD Control\",output[sensitivity],\"Base\")","v":685323.87542628462}]
[null,null,"ASD Saturation (% of Motor HP)",{"$f":"D325/SUM(D324:D325)","v":0.39848618707825861},{"$f":"E325/SUM(E324:E325)","v":0.424201023977475},0.45441067631780835,0.48292707864326145,0.51592080151502651,0.55273621230183212,0.57173693454350949]
[]
[null,null,{"$f":"\"Table for \"&H303","v":"Table for Figure 20: In-Service Pumps, by Control Strategy and Year (In-Service Motors)"}]
[null,null,"Pumps","Year"]
[null,null,null,2015,2016,2017,2018,2019,2020,2021]
[null,null,"Number of In-Service Non ASD-Controlled Motors",{"$f":"SUMIFS(INDEX(output[#Data],0,MATCH(\"num_motors_Market\",output[#Headers],0)),output[equipment_type],$C$329,output[year],D$330,output[control_strategy], \"Non ASD Control\",output[sensitivity],\"Base\")","v":26432.522437754593},{"$f":"SUMIFS(INDEX(output[#Data],0,MATCH(\"num_motors_Market\",output[#Headers],0)),output[equipment_type],$C$329,output[year],E$330,output[control_strategy], \"Non ASD Control\",output[sensitivity],\"Base\")","v":25153.723888873174},{"$f":"SUMIFS(INDEX(output[#Data],0,MATCH(\"num_motors_Market\",output[#Headers],0)),output[equipment_type],$C$329,output[year],F$330,output[control_strategy], \"Non ASD Control\",output[sensitivity],\"Base\")","v":23356.463398943237},{"$f":"SUMIFS(INDEX(output[#Data],0,MATCH(\"num_motors_Market\",output[#Headers],0)),output[equipment_type],$C$329,output[year],G$330,output[control_strategy], \"Non ASD Control\",output[sensitivity],\"Base\")","v":22609.530062441539},{"$f":"SUMIFS(INDEX(output[#Data],0,MATCH(\"num_motors_Market\",output[#Headers],0)),output[equipment_type],$C$329,output[year],H$330,output[control_strategy], \"Non ASD Control\",output[sensitivity],\"Base\")","v":20763.738868662938},{"$f":"SUMIFS(INDEX(output[#Data],0,MATCH(\"num_motors_Market\",output[#Headers],0)),output[equipment_type],$C$329,output[year],I$330,output[control_strategy], \"Non ASD Control\",output[sensitivity],\"Base\")","v":18403.886877332345},{"$f":"SUMIFS(INDEX(output[#Data],0,MATCH(\"num_motors_Market\",output[#Headers],0)),output[equipment_type],$C$329,output[year],J$330,output[control_strategy], \"Non ASD Control\",output[sensitivity],\"Base\")","v":16391.064322736172}]
[null,null,"Number of In-Service ASD-Controlled Motors",{"$f":"SUMIFS(INDEX(output[#Data],0,MATCH(\"num_motors_Market\",output[#Headers],0)),output[equipment_type],$C$329,output[year],D$330,output[control_strategy], \"ASD Control\",output[sensitivity],\"Base\")","v":10345.587311486272},{"$f":"SUMIFS(INDEX(output[#Data],0,MATCH(\"num_motors_Market\",output[#Headers],0)),output[equipment_type],$C$329,output[year],E$330,output[control_strategy], \"ASD Control\",output[sensitivity],\"Base\")","v":11506.482164575018},{"$f":"SUMIFS(INDEX(output[#Data],0,MATCH(\"num_motors_Market\",output[#Headers],0)),output[equipment_type],$C$329,output[year],F$330,output[control_strategy], \"ASD Control\",output[sensitivity],\"Base\")","v":12435.487334870393},{"$f":"SUMIFS(INDEX(output[#Data],0,MATCH(\"num_motors_Market\",output[#Headers],0)),output[equipment_type],$C$329,output[year],G$330,output[control_strategy], \"ASD Control\",output[sensitivity],\"Base\")","v":13787.210174593474},{"$f":"SUMIFS(INDEX(output[#Data],0,MATCH(\"num_motors_Market\",output[#Headers],0)),output[equipment_type],$C$329,output[year],H$330,output[control_strategy], \"ASD Control\",output[sensitivity],\"Base\")","v":14949.301667254969},{"$f":"SUMIFS(INDEX(output[#Data],0,MATCH(\"num_motors_Market\",output[#Headers],0)),output[equipment_type],$C$329,output[year],I$330,output[control_strategy], \"ASD Control\",output[sensitivity],\"Base\")","v":15688.294474570361},{"$f":"SUMIFS(INDEX(output[#Data],0,MATCH(\"num_motors_Market\",output[#Headers],0)),output[equipment_type],$C$329,output[year],J$330,output[control_strategy], \"ASD Control\",output[sensitivity],\"Base\")","v":16073.103660898403}]
[null,null,"ASD Saturation (% of Motors)",{"$f":"D332/SUM(D331:D332)","v":0.28129741800283287},{"$f":"E332/SUM(E331:E332)","v":0.31386845310687334},{"$f":"F332/SUM(F331:F332)","v":0.3474380993467967},{"$f":"G332/SUM(G331:G332)","v":0.3788034336263027},{"$f":"H332/SUM(H331:H332)","v":0.41859504099685696},{"$f":"I332/SUM(I331:I332)","v":0.46017279776363701},{"$f":"J332/SUM(J331:J332)","v":0.49510289834013216}]
[]
[null,null,"Figure 21: In-Service Pumps, by Facility Type and Control Strategy in 2020 (In-Service Motor HP)",null,null,null,null,"Figure 22: In-Service Pumps, by Facility Type and Control Strategy in 2020 (In-Service Motors)"]
[]
[]
[]
[]
[]
[]
[]
[]
[]
[]
[]
[]
[]
[]
[]
[]
[]
[]
[]
[null,null,{"$f":"\"Table for \"&C335","v":"Table for Figure 21: In-Service Pumps, by Facility Type and Control Strategy in 2020 (In-Service Motor HP)"}]
[null,null,"Pumps","Primary Metal","Wood Products","Paper","Computer - Elec","Chemical","Food","Warehousing","Refinery","Fabricated Metal","Transportation","Misc Manf"]
[null,null,"In-Service Non ASD-Controlled Motor HP",{"$f":"SUMIFS(INDEX(output[#Data],0,MATCH(\"ishp_Market\",output[#Headers],0)),output[equipment_type],$C$356,output[year],2020,output[facility_type],D$356,output[control_strategy],\"Non ASD Control\",output[sensitivity],\"Base\")","v":55719.428261807516},{"$f":"SUMIFS(INDEX(output[#Data],0,MATCH(\"ishp_Market\",output[#Headers],0)),output[equipment_type],$C$356,output[year],2020,output[facility_type],E$356,output[control_strategy],\"Non ASD Control\",output[sensitivity],\"Base\")","v":43024.888681792007},{"$f":"SUMIFS(INDEX(output[#Data],0,MATCH(\"ishp_Market\",output[#Headers],0)),output[equipment_type],$C$356,output[year],2020,output[facility_type],F$356,output[control_strategy],\"Non ASD Control\",output[sensitivity],\"Base\")","v":147462.36885750777},{"$f":"SUMIFS(INDEX(output[#Data],0,MATCH(\"ishp_Market\",output[#Headers],0)),output[equipment_type],$C$356,output[year],2020,output[facility_type],G$356,output[control_strategy],\"Non ASD Control\",output[sensitivity],\"Base\")","v":15779.097931852095},{"$f":"SUMIFS(INDEX(output[#Data],0,MATCH(\"ishp_Market\",output[#Headers],0)),output[equipment_type],$C$356,output[year],2020,output[facility_type],H$356,output[control_strategy],\"Non ASD Control\",output[sensitivity],\"Base\")","v":20338.800145639885},{"$f":"SUMIFS(INDEX(output[#Data],0,MATCH(\"ishp_Market\",output[#Headers],0)),output[equipment_type],$C$356,output[year],2020,output[facility_type],I$356,output[control_strategy],\"Non ASD Control\",output[sensitivity],\"Base\")","v":33990.538690026944},{"$f":"SUMIFS(INDEX(output[#Data],0,MATCH(\"ishp_Market\",output[#Headers],0)),output[equipment_type],$C$356,output[year],2020,output[facility_type],J$356,output[control_strategy],\"Non ASD Control\",output[sensitivity],\"Base\")","v":2630.6704750744307},{"$f":"SUMIFS(INDEX(output[#Data],0,MATCH(\"ishp_Market\",output[#Headers],0)),output[equipment_type],$C$356,output[year],2020,output[facility_type],K$356,output[control_strategy],\"Non ASD Control\",output[sensitivity],\"Base\")","v":170379.45602884493},{"$f":"SUMIFS(INDEX(output[#Data],0,MATCH(\"ishp_Market\",output[#Headers],0)),output[equipment_type],$C$356,output[year],2020,output[facility_type],L$356,output[control_strategy],\"Non ASD Control\",output[sensitivity],\"Base\")","v":2811.9882048475756},{"$f":"SUMIFS(INDEX(output[#Data],0,MATCH(\"ishp_Market\",output[#Headers],0)),output[equipment_type],$C$356,output[year],2020,output[facility_type],M$356,output[control_strategy],\"Non ASD Control\",output[sensitivity],\"Base\")","v":15635.72837249507},{"$f":"SUMIFS(INDEX(output[#Data],0,MATCH(\"ishp_Market\",output[#Headers],0)),output[equipment_type],$C$356,output[year],2020,output[facility_type],N$356,output[control_strategy],\"Non ASD Control\",output[sensitivity],\"Base\")","v":29463.914546920816}]
[null,null,"In-Service ASD-Controlled Motor HP",{"$f":"SUMIFS(INDEX(output[#Data],0,MATCH(\"ishp_Market\",output[#Headers],0)),output[equipment_type],$C$356,output[year],2020,output[facility_type],D$356,output[control_strategy],\"ASD Control\",output[sensitivity],\"Base\")","v":84676.265814699189},{"$f":"SUMIFS(INDEX(output[#Data],0,MATCH(\"ishp_Market\",output[#Headers],0)),output[equipment_type],$C$356,output[year],2020,output[facility_type],E$356,output[control_strategy],\"ASD Control\",output[sensitivity],\"Base\")","v":18133.645772130796},{"$f":"SUMIFS(INDEX(output[#Data],0,MATCH(\"ishp_Market\",output[#Headers],0)),output[equipment_type],$C$356,output[year],2020,output[facility_type],F$356,output[control_strategy],\"ASD Control\",output[sensitivity],\"Base\")","v":84713.935812135955},{"$f":"SUMIFS(INDEX(output[#Data],0,MATCH(\"ishp_Market\",output[#Headers],0)),output[equipment_type],$C$356,output[year],2020,output[facility_type],G$356,output[control_strategy],\"ASD Control\",output[sensitivity],\"Base\")","v":56366.513042674931},{"$f":"SUMIFS(INDEX(output[#Data],0,MATCH(\"ishp_Market\",output[#Headers],0)),output[equipment_type],$C$356,output[year],2020,output[facility_type],H$356,output[control_strategy],\"ASD Control\",output[sensitivity],\"Base\")","v":53980.419039051696},{"$f":"SUMIFS(INDEX(output[#Data],0,MATCH(\"ishp_Market\",output[#Headers],0)),output[equipment_type],$C$356,output[year],2020,output[facility_type],I$356,output[control_strategy],\"ASD Control\",output[sensitivity],\"Base\")","v":145775.96832862435},{"$f":"SUMIFS(INDEX(output[#Data],0,MATCH(\"ishp_Market\",output[#Headers],0)),output[equipment_type],$C$356,output[year],2020,output[facility_type],J$356,output[control_strategy],\"ASD Control\",output[sensitivity],\"Base\")","v":3531.7472698769543},{"$f":"SUMIFS(INDEX(output[#Data],0,MATCH(\"ishp_Market\",output[#Headers],0)),output[equipment_type],$C$356,output[year],2020,output[facility_type],K$356,output[control_strategy],\"ASD Control\",output[sensitivity],\"Base\")","v":100164.12091439846},{"$f":"SUMIFS(INDEX(output[#Data],0,MATCH(\"ishp_Market\",output[#Headers],0)),output[equipment_type],$C$356,output[year],2020,output[facility_type],L$356,output[control_strategy],\"ASD Control\",output[sensitivity],\"Base\")","v":5211.633603873981},{"$f":"SUMIFS(INDEX(output[#Data],0,MATCH(\"ishp_Market\",output[#Headers],0)),output[equipment_type],$C$356,output[year],2020,output[facility_type],M$356,output[control_strategy],\"ASD Control\",output[sensitivity],\"Base\")","v":12796.099054112217},{"$f":"SUMIFS(INDEX(output[#Data],0,MATCH(\"ishp_Market\",output[#Headers],0)),output[equipment_type],$C$356,output[year],2020,output[facility_type],N$356,output[control_strategy],\"ASD Control\",output[sensitivity],\"Base\")","v":98576.144921902451}]
[]
[null,null,{"$f":"\"Table for \"&H335","v":"Table for Figure 22: In-Service Pumps, by Facility Type and Control Strategy in 2020 (In-Service Motors)"}]
[null,null,"Pumps","Primary Metal","Wood Products","Paper","Computer - Elec","Chemical","Food","Warehousing","Refinery","Fabricated Metal","Transportation","Misc Manf"]
[null,null,"In-Service Non ASD-Controlled Motors",{"$f":"SUMIFS(INDEX(output[#Data],0,MATCH(\"num_motors_Market\",output[#Headers],0)),output[equipment_type],$C$361,output[year],2020,output[facility_type],D$361,output[control_strategy],\"Non ASD Control\",output[sensitivity],\"Base\")","v":2128.3312105825294},{"$f":"SUMIFS(INDEX(output[#Data],0,MATCH(\"num_motors_Market\",output[#Headers],0)),output[equipment_type],$C$361,output[year],2020,output[facility_type],E$361,output[control_strategy],\"Non ASD Control\",output[sensitivity],\"Base\")","v":2185.9402240975396},{"$f":"SUMIFS(INDEX(output[#Data],0,MATCH(\"num_motors_Market\",output[#Headers],0)),output[equipment_type],$C$361,output[year],2020,output[facility_type],F$361,output[control_strategy],\"Non ASD Control\",output[sensitivity],\"Base\")","v":2593.656890842652},{"$f":"SUMIFS(INDEX(output[#Data],0,MATCH(\"num_motors_Market\",output[#Headers],0)),output[equipment_type],$C$361,output[year],2020,output[facility_type],G$361,output[control_strategy],\"Non ASD Control\",output[sensitivity],\"Base\")","v":1374.3394895713382},{"$f":"SUMIFS(INDEX(output[#Data],0,MATCH(\"num_motors_Market\",output[#Headers],0)),output[equipment_type],$C$361,output[year],2020,output[facility_type],H$361,output[control_strategy],\"Non ASD Control\",output[sensitivity],\"Base\")","v":638.87859672574064},{"$f":"SUMIFS(INDEX(output[#Data],0,MATCH(\"num_motors_Market\",output[#Headers],0)),output[equipment_type],$C$361,output[year],2020,output[facility_type],I$361,output[control_strategy],\"Non ASD Control\",output[sensitivity],\"Base\")","v":2703.2310675121644},{"$f":"SUMIFS(INDEX(output[#Data],0,MATCH(\"num_motors_Market\",output[#Headers],0)),output[equipment_type],$C$361,output[year],2020,output[facility_type],J$361,output[control_strategy],\"Non ASD Control\",output[sensitivity],\"Base\")","v":503.98212794731757},{"$f":"SUMIFS(INDEX(output[#Data],0,MATCH(\"num_motors_Market\",output[#Headers],0)),output[equipment_type],$C$361,output[year],2020,output[facility_type],K$361,output[control_strategy],\"Non ASD Control\",output[sensitivity],\"Base\")","v":2959.3302162824125},{"$f":"SUMIFS(INDEX(output[#Data],0,MATCH(\"num_motors_Market\",output[#Headers],0)),output[equipment_type],$C$361,output[year],2020,output[facility_type],L$361,output[control_strategy],\"Non ASD Control\",output[sensitivity],\"Base\")","v":294.26097050810898},{"$f":"SUMIFS(INDEX(output[#Data],0,MATCH(\"num_motors_Market\",output[#Headers],0)),output[equipment_type],$C$361,output[year],2020,output[facility_type],M$361,output[control_strategy],\"Non ASD Control\",output[sensitivity],\"Base\")","v":652.68175861058376},{"$f":"SUMIFS(INDEX(output[#Data],0,MATCH(\"num_motors_Market\",output[#Headers],0)),output[equipment_type],$C$361,output[year],2020,output[facility_type],N$361,output[control_strategy],\"Non ASD Control\",output[sensitivity],\"Base\")","v":2369.2543246519572}]
[null,null,"In-Service ASD-Controlled Motors",{"$f":"SUMIFS(INDEX(output[#Data],0,MATCH(\"num_motors_Market\",output[#Headers],0)),output[equipment_type],$C$361,output[year],2020,output[facility_type],D$361,output[control_strategy],\"ASD Control\",output[sensitivity],\"Base\")","v":787.75232963625797},{"$f":"SUMIFS(INDEX(output[#Data],0,MATCH(\"num_motors_Market\",output[#Headers],0)),output[equipment_type],$C$361,output[year],2020,output[facility_type],E$361,output[control_strategy],\"ASD Control\",output[sensitivity],\"Base\")","v":926.01815536574998},{"$f":"SUMIFS(INDEX(output[#Data],0,MATCH(\"num_motors_Market\",output[#Headers],0)),output[equipment_type],$C$361,output[year],2020,output[facility_type],F$361,output[control_strategy],\"ASD Control\",output[sensitivity],\"Base\")","v":1493.2757902210776},{"$f":"SUMIFS(INDEX(output[#Data],0,MATCH(\"num_motors_Market\",output[#Headers],0)),output[equipment_type],$C$361,output[year],2020,output[facility_type],G$361,output[control_strategy],\"ASD Control\",output[sensitivity],\"Base\")","v":1501.1320778762299},{"$f":"SUMIFS(INDEX(output[#Data],0,MATCH(\"num_motors_Market\",output[#Headers],0)),output[equipment_type],$C$361,output[year],2020,output[facility_type],H$361,output[control_strategy],\"ASD Control\",output[sensitivity],\"Base\")","v":1700.1385550985142},{"$f":"SUMIFS(INDEX(output[#Data],0,MATCH(\"num_motors_Market\",output[#Headers],0)),output[equipment_type],$C$361,output[year],2020,output[facility_type],I$361,output[control_strategy],\"ASD Control\",output[sensitivity],\"Base\")","v":2417.2000551172387},{"$f":"SUMIFS(INDEX(output[#Data],0,MATCH(\"num_motors_Market\",output[#Headers],0)),output[equipment_type],$C$361,output[year],2020,output[facility_type],J$361,output[control_strategy],\"ASD Control\",output[sensitivity],\"Base\")","v":334.66153565366324},{"$f":"SUMIFS(INDEX(output[#Data],0,MATCH(\"num_motors_Market\",output[#Headers],0)),output[equipment_type],$C$361,output[year],2020,output[facility_type],K$361,output[control_strategy],\"ASD Control\",output[sensitivity],\"Base\")","v":1061.0285854682329},{"$f":"SUMIFS(INDEX(output[#Data],0,MATCH(\"num_motors_Market\",output[#Headers],0)),output[equipment_type],$C$361,output[year],2020,output[facility_type],L$361,output[control_strategy],\"ASD Control\",output[sensitivity],\"Base\")","v":720.56632805156858},{"$f":"SUMIFS(INDEX(output[#Data],0,MATCH(\"num_motors_Market\",output[#Headers],0)),output[equipment_type],$C$361,output[year],2020,output[facility_type],M$361,output[control_strategy],\"ASD Control\",output[sensitivity],\"Base\")","v":342.73344538430916},{"$f":"SUMIFS(INDEX(output[#Data],0,MATCH(\"num_motors_Market\",output[#Headers],0)),output[equipment_type],$C$361,output[year],2020,output[facility_type],N$361,output[control_strategy],\"ASD Control\",output[sensitivity],\"Base\")","v":4403.787616697522}]
[]
[]
[]
[null,null,"Figure 23: ASD-Controlled Pumps, by Year (In-Service Motor HP)",null,null,null,null,"Figure 24: ASD-Controlled Pumps, by Year (In-Service Motors)"]
[]
[]
[]
[]
[]
[]
[]
[]
[]
[]
[]
[]
[]
[]
[]
[]
[null,null,{"$f":"\"Table for \"&C367","v":"Table for Figure 23: ASD-Controlled Pumps, by Year (In-Service Motor HP)"}]
[null,null,"Pumps","Year"]
[null,null,"Pumps",2015,2016,2017,2018,2019,2020,2021]
[null,null,"Baseline ASD-Equipped Motor HP",{"$f":"SUMIFS(INDEX(output[#Data],0,MATCH(\"ishp_baseline\",output[#Headers],0)),output[equipment_type],$C$385,output[year],D$386,output[control_strategy],\"ASD Control\",output[sensitivity],\"Base\")","v":446578.60434405087},{"$f":"SUMIFS(INDEX(output[#Data],0,MATCH(\"ishp_baseline\",output[#Headers],0)),output[equipment_type],$C$385,output[year],E$386,output[control_strategy],\"ASD Control\",output[sensitivity],\"Base\")","v":476117.19853095076},{"$f":"SUMIFS(INDEX(output[#Data],0,MATCH(\"ishp_baseline\",output[#Headers],0)),output[equipment_type],$C$385,output[year],F$386,output[control_strategy],\"ASD Control\",output[sensitivity],\"Base\")","v":488786.0080162629},{"$f":"SUMIFS(INDEX(output[#Data],0,MATCH(\"ishp_baseline\",output[#Headers],0)),output[equipment_type],$C$385,output[year],G$386,output[control_strategy],\"ASD Control\",output[sensitivity],\"Base\")","v":517567.38454113452},{"$f":"SUMIFS(INDEX(output[#Data],0,MATCH(\"ishp_baseline\",output[#Headers],0)),output[equipment_type],$C$385,output[year],H$386,output[control_strategy],\"ASD Control\",output[sensitivity],\"Base\")","v":530055.06418153574},{"$f":"SUMIFS(INDEX(output[#Data],0,MATCH(\"ishp_baseline\",output[#Headers],0)),output[equipment_type],$C$385,output[year],I$386,output[control_strategy],\"ASD Control\",output[sensitivity],\"Base\")","v":528362.57692750392},{"$f":"SUMIFS(INDEX(output[#Data],0,MATCH(\"ishp_baseline\",output[#Headers],0)),output[equipment_type],$C$385,output[year],J$386,output[control_strategy],\"ASD Control\",output[sensitivity],\"Base\")","v":526203.05708176398}]
[null,null,"Market ASD-Equipped Motor HP",{"$f":"SUMIFS(INDEX(output[#Data],0,MATCH(\"ishp_Market\",output[#Headers],0)),output[equipment_type],$C$385,output[year],D$386,output[control_strategy],\"ASD Control\",output[sensitivity],\"Base\")","v":446578.60434405087},{"$f":"SUMIFS(INDEX(output[#Data],0,MATCH(\"ishp_Market\",output[#Headers],0)),output[equipment_type],$C$385,output[year],E$386,output[control_strategy],\"ASD Control\",output[sensitivity],\"Base\")","v":498182.61873650097},{"$f":"SUMIFS(INDEX(output[#Data],0,MATCH(\"ishp_Market\",output[#Headers],0)),output[equipment_type],$C$385,output[year],F$386,output[control_strategy],\"ASD Control\",output[sensitivity],\"Base\")","v":537229.4539732103},{"$f":"SUMIFS(INDEX(output[#Data],0,MATCH(\"ishp_Market\",output[#Headers],0)),output[equipment_type],$C$385,output[year],G$386,output[control_strategy],\"ASD Control\",output[sensitivity],\"Base\")","v":594375.93822024262},{"$f":"SUMIFS(INDEX(output[#Data],0,MATCH(\"ishp_Market\",output[#Headers],0)),output[equipment_type],$C$385,output[year],H$386,output[control_strategy],\"ASD Control\",output[sensitivity],\"Base\")","v":636683.14283220982},{"$f":"SUMIFS(INDEX(output[#Data],0,MATCH(\"ishp_Market\",output[#Headers],0)),output[equipment_type],$C$385,output[year],I$386,output[control_strategy],\"ASD Control\",output[sensitivity],\"Base\")","v":663926.49357347924},{"$f":"SUMIFS(INDEX(output[#Data],0,MATCH(\"ishp_Market\",output[#Headers],0)),output[equipment_type],$C$385,output[year],J$386,output[control_strategy],\"ASD Control\",output[sensitivity],\"Base\")","v":685323.87542628462}]
[]
[null,null,{"$f":"\"Table for \"&H367","v":"Table for Figure 24: ASD-Controlled Pumps, by Year (In-Service Motors)"}]
[null,null,"Pumps","Year"]
[null,null,"Pumps",2015,2016,2017,2018,2019,2020,2021]
[null,null,"Baseline ASD-Equipped Motors",{"$f":"SUMIFS(INDEX(output[#Data],0,MATCH(\"num_motors_Baseline\",output[#Headers],0)),output[equipment_type],$C$385,output[year],D$392,output[control_strategy],\"ASD Control\",output[sensitivity],\"Base\")","v":10345.587311486272},{"$f":"SUMIFS(INDEX(output[#Data],0,MATCH(\"num_motors_Baseline\",output[#Headers],0)),output[equipment_type],$C$385,output[year],E$392,output[control_strategy],\"ASD Control\",output[sensitivity],\"Base\")","v":10706.734354151748},{"$f":"SUMIFS(INDEX(output[#Data],0,MATCH(\"num_motors_Baseline\",output[#Headers],0)),output[equipment_type],$C$385,output[year],F$392,output[control_strategy],\"ASD Control\",output[sensitivity],\"Base\")","v":10731.18946304515},{"$f":"SUMIFS(INDEX(output[#Data],0,MATCH(\"num_motors_Baseline\",output[#Headers],0)),output[equipment_type],$C$385,output[year],G$392,output[control_strategy],\"ASD Control\",output[sensitivity],\"Base\")","v":11098.182679293352},{"$f":"SUMIFS(INDEX(output[#Data],0,MATCH(\"num_motors_Baseline\",output[#Headers],0)),output[equipment_type],$C$385,output[year],H$392,output[control_strategy],\"ASD Control\",output[sensitivity],\"Base\")","v":11219.565549065634},{"$f":"SUMIFS(INDEX(output[#Data],0,MATCH(\"num_motors_Baseline\",output[#Headers],0)),output[equipment_type],$C$385,output[year],I$392,output[control_strategy],\"ASD Control\",output[sensitivity],\"Base\")","v":11012.817273515175},{"$f":"SUMIFS(INDEX(output[#Data],0,MATCH(\"num_motors_Baseline\",output[#Headers],0)),output[equipment_type],$C$385,output[year],J$392,output[control_strategy],\"ASD Control\",output[sensitivity],\"Base\")","v":10606.290676173459}]
[null,null,"Market ASD-Equipped Motors",{"$f":"SUMIFS(INDEX(output[#Data],0,MATCH(\"num_motors_Market\",output[#Headers],0)),output[equipment_type],$C$385,output[year],D$392,output[control_strategy],\"ASD Control\",output[sensitivity],\"Base\")","v":10345.587311486272},{"$f":"SUMIFS(INDEX(output[#Data],0,MATCH(\"num_motors_Market\",output[#Headers],0)),output[equipment_type],$C$385,output[year],E$392,output[control_strategy],\"ASD Control\",output[sensitivity],\"Base\")","v":11506.482164575018},{"$f":"SUMIFS(INDEX(output[#Data],0,MATCH(\"num_motors_Market\",output[#Headers],0)),output[equipment_type],$C$385,output[year],F$392,output[control_strategy],\"ASD Control\",output[sensitivity],\"Base\")","v":12435.487334870393},{"$f":"SUMIFS(INDEX(output[#Data],0,MATCH(\"num_motors_Market\",output[#Headers],0)),output[equipment_type],$C$385,output[year],G$392,output[control_strategy],\"ASD Control\",output[sensitivity],\"Base\")","v":13787.210174593474},{"$f":"SUMIFS(INDEX(output[#Data],0,MATCH(\"num_motors_Market\",output[#Headers],0)),output[equipment_type],$C$385,output[year],H$392,output[control_strategy],\"ASD Control\",output[sensitivity],\"Base\")","v":14949.301667254969},{"$f":"SUMIFS(INDEX(output[#Data],0,MATCH(\"num_motors_Market\",output[#Headers],0)),output[equipment_type],$C$385,output[year],I$392,output[control_strategy],\"ASD Control\",output[sensitivity],\"Base\")","v":15688.294474570361},{"$f":"SUMIFS(INDEX(output[#Data],0,MATCH(\"num_motors_Market\",output[#Headers],0)),output[equipment_type],$C$385,output[year],J$392,output[control_strategy],\"ASD Control\",output[sensitivity],\"Base\")","v":16073.103660898403}]
[]
[]
[null,null,"Figure 25: ASD-Controlled Pumps Installed Above Baseline, by Year (In-Service Motor HP)",null,null,null,null,"Figure 26: ASD-Controlled Pumps Installed Above Baseline, by Year (In-Service Motors)"]
[]
[]
[]
[]
[]
[]
[]
[]
[]
[]
[]
[]
[]
[]
[]
[]
[null,null,{"$f":"\"Table for \"&C397","v":"Table for Figure 25: ASD-Controlled Pumps Installed Above Baseline, by Year (In-Service Motor HP)"}]
[null,null,"Pumps","Year"]
[null,null,"Pumps",2016,2017,2018,2019,2020,2021]
[null,null,"Regional Momentum ASD Motor HP Installed ",{"$f":"SUMIFS(INDEX(output[#Data],0,MATCH(\"ishp_Market\",output[#Headers],0)),output[equipment_type],$C$415,output[year],D$416,output[control_strategy],\"ASD Control\",output[sensitivity],\"Base\")-SUMIFS(INDEX(output[#Data],0,MATCH(\"ishp_Program\",output[#Headers],0)),output[equipment_type],$C$415,output[year],D$416,output[control_strategy],\"ASD Control\",output[sensitivity],\"Base\")","v":18593.798443395819},{"$f":"SUMIFS(INDEX(output[#Data],0,MATCH(\"ishp_Market\",output[#Headers],0)),output[equipment_type],$C$415,output[year],E$416,output[control_strategy],\"ASD Control\",output[sensitivity],\"Base\")-SUMIFS(INDEX(output[#Data],0,MATCH(\"ishp_Program\",output[#Headers],0)),output[equipment_type],$C$415,output[year],E$416,output[control_strategy],\"ASD Control\",output[sensitivity],\"Base\")-SUM($D$417:D417)","v":23892.206548255286},{"$f":"SUMIFS(INDEX(output[#Data],0,MATCH(\"ishp_Market\",output[#Headers],0)),output[equipment_type],$C$415,output[year],F$416,output[control_strategy],\"ASD Control\",output[sensitivity],\"Base\")-SUMIFS(INDEX(output[#Data],0,MATCH(\"ishp_Program\",output[#Headers],0)),output[equipment_type],$C$415,output[year],F$416,output[control_strategy],\"ASD Control\",output[sensitivity],\"Base\")-SUM($D$417:E417)","v":26386.050106930721},{"$f":"SUMIFS(INDEX(output[#Data],0,MATCH(\"ishp_Market\",output[#Headers],0)),output[equipment_type],$C$415,output[year],G$416,output[control_strategy],\"ASD Control\",output[sensitivity],\"Base\")-SUMIFS(INDEX(output[#Data],0,MATCH(\"ishp_Program\",output[#Headers],0)),output[equipment_type],$C$415,output[year],G$416,output[control_strategy],\"ASD Control\",output[sensitivity],\"Base\")-SUM($D$417:F417)","v":23522.694914091029},{"$f":"SUMIFS(INDEX(output[#Data],0,MATCH(\"ishp_Market\",output[#Headers],0)),output[equipment_type],$C$415,output[year],H$416,output[control_strategy],\"ASD Control\",output[sensitivity],\"Base\")-SUMIFS(INDEX(output[#Data],0,MATCH(\"ishp_Program\",output[#Headers],0)),output[equipment_type],$C$415,output[year],H$416,output[control_strategy],\"ASD Control\",output[sensitivity],\"Base\")-SUM($D$417:G417)","v":27324.94257929991},{"$f":"SUMIFS(INDEX(output[#Data],0,MATCH(\"ishp_Market\",output[#Headers],0)),output[equipment_type],$C$415,output[year],I$416,output[control_strategy],\"ASD Control\",output[sensitivity],\"Base\")-SUMIFS(INDEX(output[#Data],0,MATCH(\"ishp_Program\",output[#Headers],0)),output[equipment_type],$C$415,output[year],I$416,output[control_strategy],\"ASD Control\",output[sensitivity],\"Base\")-SUM($D$417:H417)","v":21946.006282546325}]
[null,null,"Regional Program Incented Motor HP Installed",{"$f":"SUMIFS(INDEX(output[#Data],0,MATCH(\"ishp_Program\",output[#Headers],0)),output[equipment_type],$C$415,output[year],D$416,output[control_strategy],\"ASD Control\",output[sensitivity],\"Base\")-SUMIFS(INDEX(output[#Data],0,MATCH(\"ishp_Baseline\",output[#Headers],0)),output[equipment_type],$C$415,output[year],D$416,output[control_strategy],\"ASD Control\",output[sensitivity],\"Base\")","v":3471.621762154391},{"$f":"SUMIFS(INDEX(output[#Data],0,MATCH(\"ishp_Program\",output[#Headers],0)),output[equipment_type],$C$415,output[year],E$416,output[control_strategy],\"ASD Control\",output[sensitivity],\"Base\")-SUMIFS(INDEX(output[#Data],0,MATCH(\"ishp_Baseline\",output[#Headers],0)),output[equipment_type],$C$415,output[year],E$416,output[control_strategy],\"ASD Control\",output[sensitivity],\"Base\")-SUM($D$418:D418)","v":2485.8192031419021},{"$f":"SUMIFS(INDEX(output[#Data],0,MATCH(\"ishp_Program\",output[#Headers],0)),output[equipment_type],$C$415,output[year],F$416,output[control_strategy],\"ASD Control\",output[sensitivity],\"Base\")-SUMIFS(INDEX(output[#Data],0,MATCH(\"ishp_Baseline\",output[#Headers],0)),output[equipment_type],$C$415,output[year],F$416,output[control_strategy],\"ASD Control\",output[sensitivity],\"Base\")-SUM($D$418:E418)","v":1979.0576152299764},{"$f":"SUMIFS(INDEX(output[#Data],0,MATCH(\"ishp_Program\",output[#Headers],0)),output[equipment_type],$C$415,output[year],G$416,output[control_strategy],\"ASD Control\",output[sensitivity],\"Base\")-SUMIFS(INDEX(output[#Data],0,MATCH(\"ishp_Baseline\",output[#Headers],0)),output[equipment_type],$C$415,output[year],G$416,output[control_strategy],\"ASD Control\",output[sensitivity],\"Base\")-SUM($D$418:F418)","v":6296.8300574749592},{"$f":"SUMIFS(INDEX(output[#Data],0,MATCH(\"ishp_Program\",output[#Headers],0)),output[equipment_type],$C$415,output[year],H$416,output[control_strategy],\"ASD Control\",output[sensitivity],\"Base\")-SUMIFS(INDEX(output[#Data],0,MATCH(\"ishp_Baseline\",output[#Headers],0)),output[equipment_type],$C$415,output[year],H$416,output[control_strategy],\"ASD Control\",output[sensitivity],\"Base\")-SUM($D$418:G418)","v":1610.8954160013236},{"$f":"SUMIFS(INDEX(output[#Data],0,MATCH(\"ishp_Program\",output[#Headers],0)),output[equipment_type],$C$415,output[year],I$416,output[control_strategy],\"ASD Control\",output[sensitivity],\"Base\")-SUMIFS(INDEX(output[#Data],0,MATCH(\"ishp_Baseline\",output[#Headers],0)),output[equipment_type],$C$415,output[year],I$416,output[control_strategy],\"ASD Control\",output[sensitivity],\"Base\")-SUM($D$418:H418)","v":1610.8954159989953}]
[]
[null,null,{"$f":"\"Table for \"&H397","v":"Table for Figure 26: ASD-Controlled Pumps Installed Above Baseline, by Year (In-Service Motors)"}]
[null,null,"Pumps","Year"]
[null,null,"Pumps",2016,2017,2018,2019,2020,2021]
[null,null,"Regional Momentum ASDs Installed ",{"$f":"SUMIFS(INDEX(output[#Data],0,MATCH(\"num_motors_Market\",output[#Headers],0)),output[equipment_type],$C$421,output[year],D$422,output[control_strategy],\"ASD Control\",output[sensitivity],\"Base\")-SUMIFS(INDEX(output[#Data],0,MATCH(\"num_motors_Program\",output[#Headers],0)),output[equipment_type],$C$421,output[year],D$422,output[control_strategy],\"ASD Control\",output[sensitivity],\"Base\")","v":775.04439010752867},{"$f":"SUMIFS(INDEX(output[#Data],0,MATCH(\"num_motors_Market\",output[#Headers],0)),output[equipment_type],$C$421,output[year],E$422,output[control_strategy],\"ASD Control\",output[sensitivity],\"Base\")-SUMIFS(INDEX(output[#Data],0,MATCH(\"num_motors_Program\",output[#Headers],0)),output[equipment_type],$C$421,output[year],E$422,output[control_strategy],\"ASD Control\",output[sensitivity],\"Base\")-SUM($D$423:D423)","v":886.86143032080145},{"$f":"SUMIFS(INDEX(output[#Data],0,MATCH(\"num_motors_Market\",output[#Headers],0)),output[equipment_type],$C$421,output[year],F$422,output[control_strategy],\"ASD Control\",output[sensitivity],\"Base\")-SUMIFS(INDEX(output[#Data],0,MATCH(\"num_motors_Program\",output[#Headers],0)),output[equipment_type],$C$421,output[year],F$422,output[control_strategy],\"ASD Control\",output[sensitivity],\"Base\")-SUM($D$423:E423)","v":970.64701440984572},{"$f":"SUMIFS(INDEX(output[#Data],0,MATCH(\"num_motors_Market\",output[#Headers],0)),output[equipment_type],$C$421,output[year],G$422,output[control_strategy],\"ASD Control\",output[sensitivity],\"Base\")-SUMIFS(INDEX(output[#Data],0,MATCH(\"num_motors_Program\",output[#Headers],0)),output[equipment_type],$C$421,output[year],G$422,output[control_strategy],\"ASD Control\",output[sensitivity],\"Base\")-SUM($D$423:F423)","v":995.90154129341681},{"$f":"SUMIFS(INDEX(output[#Data],0,MATCH(\"num_motors_Market\",output[#Headers],0)),output[equipment_type],$C$421,output[year],H$422,output[control_strategy],\"ASD Control\",output[sensitivity],\"Base\")-SUMIFS(INDEX(output[#Data],0,MATCH(\"num_motors_Program\",output[#Headers],0)),output[equipment_type],$C$421,output[year],H$422,output[control_strategy],\"ASD Control\",output[sensitivity],\"Base\")-SUM($D$423:G423)","v":934.27824812391191},{"$f":"SUMIFS(INDEX(output[#Data],0,MATCH(\"num_motors_Market\",output[#Headers],0)),output[equipment_type],$C$421,output[year],I$422,output[control_strategy],\"ASD Control\",output[sensitivity],\"Base\")-SUMIFS(INDEX(output[#Data],0,MATCH(\"num_motors_Program\",output[#Headers],0)),output[equipment_type],$C$421,output[year],I$422,output[control_strategy],\"ASD Control\",output[sensitivity],\"Base\")-SUM($D$423:H423)","v":779.87294892778846}]
[null,null,"Regional Program Incented ASDs Installed",{"$f":"SUMIFS(INDEX(output[#Data],0,MATCH(\"num_motors_Program\",output[#Headers],0)),output[equipment_type],$C$415,output[year],D$416,output[control_strategy],\"ASD Control\",output[sensitivity],\"Base\")-SUMIFS(INDEX(output[#Data],0,MATCH(\"num_motors_Baseline\",output[#Headers],0)),output[equipment_type],$C$415,output[year],D$416,output[control_strategy],\"ASD Control\",output[sensitivity],\"Base\")","v":24.703420315741823},{"$f":"SUMIFS(INDEX(output[#Data],0,MATCH(\"num_motors_Program\",output[#Headers],0)),output[equipment_type],$C$415,output[year],E$416,output[control_strategy],\"ASD Control\",output[sensitivity],\"Base\")-SUMIFS(INDEX(output[#Data],0,MATCH(\"num_motors_Baseline\",output[#Headers],0)),output[equipment_type],$C$415,output[year],E$416,output[control_strategy],\"ASD Control\",output[sensitivity],\"Base\")-SUM($D$424:D424)","v":17.688631081171479},{"$f":"SUMIFS(INDEX(output[#Data],0,MATCH(\"num_motors_Program\",output[#Headers],0)),output[equipment_type],$C$415,output[year],F$416,output[control_strategy],\"ASD Control\",output[sensitivity],\"Base\")-SUMIFS(INDEX(output[#Data],0,MATCH(\"num_motors_Baseline\",output[#Headers],0)),output[equipment_type],$C$415,output[year],F$416,output[control_strategy],\"ASD Control\",output[sensitivity],\"Base\")-SUM($D$424:E424)","v":14.082609065033466},{"$f":"SUMIFS(INDEX(output[#Data],0,MATCH(\"num_motors_Program\",output[#Headers],0)),output[equipment_type],$C$415,output[year],G$416,output[control_strategy],\"ASD Control\",output[sensitivity],\"Base\")-SUMIFS(INDEX(output[#Data],0,MATCH(\"num_motors_Baseline\",output[#Headers],0)),output[equipment_type],$C$415,output[year],G$416,output[control_strategy],\"ASD Control\",output[sensitivity],\"Base\")-SUM($D$424:F424)","v":44.807081595796262},{"$f":"SUMIFS(INDEX(output[#Data],0,MATCH(\"num_motors_Program\",output[#Headers],0)),output[equipment_type],$C$415,output[year],H$416,output[control_strategy],\"ASD Control\",output[sensitivity],\"Base\")-SUMIFS(INDEX(output[#Data],0,MATCH(\"num_motors_Baseline\",output[#Headers],0)),output[equipment_type],$C$415,output[year],H$416,output[control_strategy],\"ASD Control\",output[sensitivity],\"Base\")-SUM($D$424:G424)","v":11.462834741938423},{"$f":"SUMIFS(INDEX(output[#Data],0,MATCH(\"num_motors_Program\",output[#Headers],0)),output[equipment_type],$C$415,output[year],I$416,output[control_strategy],\"ASD Control\",output[sensitivity],\"Base\")-SUMIFS(INDEX(output[#Data],0,MATCH(\"num_motors_Baseline\",output[#Headers],0)),output[equipment_type],$C$415,output[year],I$416,output[control_strategy],\"ASD Control\",output[sensitivity],\"Base\")-SUM($D$424:H424)","v":11.462834741969345}]
[]
[null,null,"Figure 27: Total ASD-Controlled Pumps Installed Above Baseline, by Facility Type, from 2016 to 2021 (In-Service Motor HP)",null,null,null,null,"Figure 28: Total ASD-Controlled Pumps Installed Above Baseline, by Facility Type, from 2016 to 2021 (In-Service Motors)"]
[]
[]
[]
[]
[]
[]
[]
[]
[]
[]
[]
[]
[]
[]
[]
[]
[]
[]
[]
[null,null,{"$f":"\"Table for \"&C426","v":"Table for Figure 27: Total ASD-Controlled Pumps Installed Above Baseline, by Facility Type, from 2016 to 2021 (In-Service Motor HP)"}]
[null,null,"Pumps",null,"Primary Metal","Wood Products","Paper","Computer - Elec","Chemical","Food","Warehousing","Refinery","Fabricated Metal","Transportation","Misc Manf"]
[null,null,"Regional Momentum",null,{"$f":"SUMIFS(INDEX(output[#Data],0,MATCH(\"ishp_Market\",output[#Headers],0)),output[equipment_type],$C$447,output[year],2021,output[facility_type],E$447,output[control_strategy],\"ASD Control\",output[sensitivity],\"Base\")-SUMIFS(INDEX(output[#Data],0,MATCH(\"ishp_Program\",output[#Headers],0)),output[equipment_type],$C$447,output[year],2021,output[facility_type],E$447,output[control_strategy],\"ASD Control\",output[sensitivity],\"Base\")","v":17018.489173361566},{"$f":"SUMIFS(INDEX(output[#Data],0,MATCH(\"ishp_Market\",output[#Headers],0)),output[equipment_type],$C$447,output[year],2021,output[facility_type],F$447,output[control_strategy],\"ASD Control\",output[sensitivity],\"Base\")-SUMIFS(INDEX(output[#Data],0,MATCH(\"ishp_Program\",output[#Headers],0)),output[equipment_type],$C$447,output[year],2021,output[facility_type],F$447,output[control_strategy],\"ASD Control\",output[sensitivity],\"Base\")","v":3631.527770634455},{"$f":"SUMIFS(INDEX(output[#Data],0,MATCH(\"ishp_Market\",output[#Headers],0)),output[equipment_type],$C$447,output[year],2021,output[facility_type],G$447,output[control_strategy],\"ASD Control\",output[sensitivity],\"Base\")-SUMIFS(INDEX(output[#Data],0,MATCH(\"ishp_Program\",output[#Headers],0)),output[equipment_type],$C$447,output[year],2021,output[facility_type],G$447,output[control_strategy],\"ASD Control\",output[sensitivity],\"Base\")","v":9443.0556674006657},{"$f":"SUMIFS(INDEX(output[#Data],0,MATCH(\"ishp_Market\",output[#Headers],0)),output[equipment_type],$C$447,output[year],2021,output[facility_type],H$447,output[control_strategy],\"ASD Control\",output[sensitivity],\"Base\")-SUMIFS(INDEX(output[#Data],0,MATCH(\"ishp_Program\",output[#Headers],0)),output[equipment_type],$C$447,output[year],2021,output[facility_type],H$447,output[control_strategy],\"ASD Control\",output[sensitivity],\"Base\")","v":16047.558109849844},{"$f":"SUMIFS(INDEX(output[#Data],0,MATCH(\"ishp_Market\",output[#Headers],0)),output[equipment_type],$C$447,output[year],2021,output[facility_type],I$447,output[control_strategy],\"ASD Control\",output[sensitivity],\"Base\")-SUMIFS(INDEX(output[#Data],0,MATCH(\"ishp_Program\",output[#Headers],0)),output[equipment_type],$C$447,output[year],2021,output[facility_type],I$447,output[control_strategy],\"ASD Control\",output[sensitivity],\"Base\")","v":12396.518180481246},{"$f":"SUMIFS(INDEX(output[#Data],0,MATCH(\"ishp_Market\",output[#Headers],0)),output[equipment_type],$C$447,output[year],2021,output[facility_type],J$447,output[control_strategy],\"ASD Control\",output[sensitivity],\"Base\")-SUMIFS(INDEX(output[#Data],0,MATCH(\"ishp_Program\",output[#Headers],0)),output[equipment_type],$C$447,output[year],2021,output[facility_type],J$447,output[control_strategy],\"ASD Control\",output[sensitivity],\"Base\")","v":22731.984828657427},{"$f":"SUMIFS(INDEX(output[#Data],0,MATCH(\"ishp_Market\",output[#Headers],0)),output[equipment_type],$C$447,output[year],2021,output[facility_type],K$447,output[control_strategy],\"ASD Control\",output[sensitivity],\"Base\")-SUMIFS(INDEX(output[#Data],0,MATCH(\"ishp_Program\",output[#Headers],0)),output[equipment_type],$C$447,output[year],2021,output[facility_type],K$447,output[control_strategy],\"ASD Control\",output[sensitivity],\"Base\")","v":572.39953913061208},{"$f":"SUMIFS(INDEX(output[#Data],0,MATCH(\"ishp_Market\",output[#Headers],0)),output[equipment_type],$C$447,output[year],2021,output[facility_type],L$447,output[control_strategy],\"ASD Control\",output[sensitivity],\"Base\")-SUMIFS(INDEX(output[#Data],0,MATCH(\"ishp_Program\",output[#Headers],0)),output[equipment_type],$C$447,output[year],2021,output[facility_type],L$447,output[control_strategy],\"ASD Control\",output[sensitivity],\"Base\")","v":20107.927625616052},{"$f":"SUMIFS(INDEX(output[#Data],0,MATCH(\"ishp_Market\",output[#Headers],0)),output[equipment_type],$C$447,output[year],2021,output[facility_type],M$447,output[control_strategy],\"ASD Control\",output[sensitivity],\"Base\")-SUMIFS(INDEX(output[#Data],0,MATCH(\"ishp_Program\",output[#Headers],0)),output[equipment_type],$C$447,output[year],2021,output[facility_type],M$447,output[control_strategy],\"ASD Control\",output[sensitivity],\"Base\")","v":1188.6113405728029},{"$f":"SUMIFS(INDEX(output[#Data],0,MATCH(\"ishp_Market\",output[#Headers],0)),output[equipment_type],$C$447,output[year],2021,output[facility_type],N$447,output[control_strategy],\"ASD Control\",output[sensitivity],\"Base\")-SUMIFS(INDEX(output[#Data],0,MATCH(\"ishp_Program\",output[#Headers],0)),output[equipment_type],$C$447,output[year],2021,output[facility_type],N$447,output[control_strategy],\"ASD Control\",output[sensitivity],\"Base\")","v":3154.5459729219165},{"$f":"SUMIFS(INDEX(output[#Data],0,MATCH(\"ishp_Market\",output[#Headers],0)),output[equipment_type],$C$447,output[year],2021,output[facility_type],O$447,output[control_strategy],\"ASD Control\",output[sensitivity],\"Base\")-SUMIFS(INDEX(output[#Data],0,MATCH(\"ishp_Program\",output[#Headers],0)),output[equipment_type],$C$447,output[year],2021,output[facility_type],O$447,output[control_strategy],\"ASD Control\",output[sensitivity],\"Base\")","v":35373.080665893693}]
[null,null,"Regional Program Incented",null,{"$f":"SUMIFS(INDEX(output[#Data],0,MATCH(\"ishp_Program\",output[#Headers],0)),output[equipment_type],$C$447,output[year],2021,output[facility_type],E$447,output[control_strategy],\"ASD Control\",output[sensitivity],\"Base\")-SUMIFS(INDEX(output[#Data],0,MATCH(\"ishp_Baseline\",output[#Headers],0)),output[equipment_type],$C$447,output[year],2021,output[facility_type],E$447,output[control_strategy],\"ASD Control\",output[sensitivity],\"Base\")","v":1457.8551324112486},{"$f":"SUMIFS(INDEX(output[#Data],0,MATCH(\"ishp_Program\",output[#Headers],0)),output[equipment_type],$C$447,output[year],2021,output[facility_type],F$447,output[control_strategy],\"ASD Control\",output[sensitivity],\"Base\")-SUMIFS(INDEX(output[#Data],0,MATCH(\"ishp_Baseline\",output[#Headers],0)),output[equipment_type],$C$447,output[year],2021,output[facility_type],F$447,output[control_strategy],\"ASD Control\",output[sensitivity],\"Base\")","v":193.26053437693554},{"$f":"SUMIFS(INDEX(output[#Data],0,MATCH(\"ishp_Program\",output[#Headers],0)),output[equipment_type],$C$447,output[year],2021,output[facility_type],G$447,output[control_strategy],\"ASD Control\",output[sensitivity],\"Base\")-SUMIFS(INDEX(output[#Data],0,MATCH(\"ishp_Baseline\",output[#Headers],0)),output[equipment_type],$C$447,output[year],2021,output[facility_type],G$447,output[control_strategy],\"ASD Control\",output[sensitivity],\"Base\")","v":5267.9499222505547},{"$f":"SUMIFS(INDEX(output[#Data],0,MATCH(\"ishp_Program\",output[#Headers],0)),output[equipment_type],$C$447,output[year],2021,output[facility_type],H$447,output[control_strategy],\"ASD Control\",output[sensitivity],\"Base\")-SUMIFS(INDEX(output[#Data],0,MATCH(\"ishp_Baseline\",output[#Headers],0)),output[equipment_type],$C$447,output[year],2021,output[facility_type],H$447,output[control_strategy],\"ASD Control\",output[sensitivity],\"Base\")","v":7.773982939797861},{"$f":"SUMIFS(INDEX(output[#Data],0,MATCH(\"ishp_Program\",output[#Headers],0)),output[equipment_type],$C$447,output[year],2021,output[facility_type],I$447,output[control_strategy],\"ASD Control\",output[sensitivity],\"Base\")-SUMIFS(INDEX(output[#Data],0,MATCH(\"ishp_Baseline\",output[#Headers],0)),output[equipment_type],$C$447,output[year],2021,output[facility_type],I$447,output[control_strategy],\"ASD Control\",output[sensitivity],\"Base\")","v":3587.2559637659069},{"$f":"SUMIFS(INDEX(output[#Data],0,MATCH(\"ishp_Program\",output[#Headers],0)),output[equipment_type],$C$447,output[year],2021,output[facility_type],J$447,output[control_strategy],\"ASD Control\",output[sensitivity],\"Base\")-SUMIFS(INDEX(output[#Data],0,MATCH(\"ishp_Baseline\",output[#Headers],0)),output[equipment_type],$C$447,output[year],2021,output[facility_type],J$447,output[control_strategy],\"ASD Control\",output[sensitivity],\"Base\")","v":6916.3880937051581},{"$f":"SUMIFS(INDEX(output[#Data],0,MATCH(\"ishp_Program\",output[#Headers],0)),output[equipment_type],$C$447,output[year],2021,output[facility_type],K$447,output[control_strategy],\"ASD Control\",output[sensitivity],\"Base\")-SUMIFS(INDEX(output[#Data],0,MATCH(\"ishp_Baseline\",output[#Headers],0)),output[equipment_type],$C$447,output[year],2021,output[facility_type],K$447,output[control_strategy],\"ASD Control\",output[sensitivity],\"Base\")","v":0},{"$f":"SUMIFS(INDEX(output[#Data],0,MATCH(\"ishp_Program\",output[#Headers],0)),output[equipment_type],$C$447,output[year],2021,output[facility_type],L$447,output[control_strategy],\"ASD Control\",output[sensitivity],\"Base\")-SUMIFS(INDEX(output[#Data],0,MATCH(\"ishp_Baseline\",output[#Headers],0)),output[equipment_type],$C$447,output[year],2021,output[facility_type],L$447,output[control_strategy],\"ASD Control\",output[sensitivity],\"Base\")","v":0},{"$f":"SUMIFS(INDEX(output[#Data],0,MATCH(\"ishp_Program\",output[#Headers],0)),output[equipment_type],$C$447,output[year],2021,output[facility_type],M$447,output[control_strategy],\"ASD Control\",output[sensitivity],\"Base\")-SUMIFS(INDEX(output[#Data],0,MATCH(\"ishp_Baseline\",output[#Headers],0)),output[equipment_type],$C$447,output[year],2021,output[facility_type],M$447,output[control_strategy],\"ASD Control\",output[sensitivity],\"Base\")","v":0},{"$f":"SUMIFS(INDEX(output[#Data],0,MATCH(\"ishp_Program\",output[#Headers],0)),output[equipment_type],$C$447,output[year],2021,output[facility_type],N$447,output[control_strategy],\"ASD Control\",output[sensitivity],\"Base\")-SUMIFS(INDEX(output[#Data],0,MATCH(\"ishp_Baseline\",output[#Headers],0)),output[equipment_type],$C$447,output[year],2021,output[facility_type],N$447,output[control_strategy],\"ASD Control\",output[sensitivity],\"Base\")","v":0},{"$f":"SUMIFS(INDEX(output[#Data],0,MATCH(\"ishp_Program\",output[#Headers],0)),output[equipment_type],$C$447,output[year],2021,output[facility_type],O$447,output[control_strategy],\"ASD Control\",output[sensitivity],\"Base\")-SUMIFS(INDEX(output[#Data],0,MATCH(\"ishp_Baseline\",output[#Headers],0)),output[equipment_type],$C$447,output[year],2021,output[facility_type],O$447,output[control_strategy],\"ASD Control\",output[sensitivity],\"Base\")","v":24.635840552582522}]
[]
[null,null,{"$f":"\"Table for \"&H426","v":"Table for Figure 28: Total ASD-Controlled Pumps Installed Above Baseline, by Facility Type, from 2016 to 2021 (In-Service Motors)"}]
[null,null,"Pumps",null,"Primary Metal","Wood Products","Paper","Computer - Elec","Chemical","Food","Warehousing","Refinery","Fabricated Metal","Transportation","Misc Manf"]
[null,null,"Regional Momentum",null,{"$f":"SUMIFS(INDEX(output[#Data],0,MATCH(\"num_motors_Market\",output[#Headers],0)),output[equipment_type],$C$452,output[year],2021,output[facility_type],E$452,output[control_strategy],\"ASD Control\",output[sensitivity],\"Base\")-SUMIFS(INDEX(output[#Data],0,MATCH(\"num_motors_Program\",output[#Headers],0)),output[equipment_type],$C$452,output[year],2021,output[facility_type],E$452,output[control_strategy],\"ASD Control\",output[sensitivity],\"Base\")","v":248.88722935917224},{"$f":"SUMIFS(INDEX(output[#Data],0,MATCH(\"num_motors_Market\",output[#Headers],0)),output[equipment_type],$C$452,output[year],2021,output[facility_type],F$452,output[control_strategy],\"ASD Control\",output[sensitivity],\"Base\")-SUMIFS(INDEX(output[#Data],0,MATCH(\"num_motors_Program\",output[#Headers],0)),output[equipment_type],$C$452,output[year],2021,output[facility_type],F$452,output[control_strategy],\"ASD Control\",output[sensitivity],\"Base\")","v":254.24688920534834},{"$f":"SUMIFS(INDEX(output[#Data],0,MATCH(\"num_motors_Market\",output[#Headers],0)),output[equipment_type],$C$452,output[year],2021,output[facility_type],G$452,output[control_strategy],\"ASD Control\",output[sensitivity],\"Base\")-SUMIFS(INDEX(output[#Data],0,MATCH(\"num_motors_Program\",output[#Headers],0)),output[equipment_type],$C$452,output[year],2021,output[facility_type],G$452,output[control_strategy],\"ASD Control\",output[sensitivity],\"Base\")","v":255.46386978292526},{"$f":"SUMIFS(INDEX(output[#Data],0,MATCH(\"num_motors_Market\",output[#Headers],0)),output[equipment_type],$C$452,output[year],2021,output[facility_type],H$452,output[control_strategy],\"ASD Control\",output[sensitivity],\"Base\")-SUMIFS(INDEX(output[#Data],0,MATCH(\"num_motors_Program\",output[#Headers],0)),output[equipment_type],$C$452,output[year],2021,output[facility_type],H$452,output[control_strategy],\"ASD Control\",output[sensitivity],\"Base\")","v":623.60287422142051},{"$f":"SUMIFS(INDEX(output[#Data],0,MATCH(\"num_motors_Market\",output[#Headers],0)),output[equipment_type],$C$452,output[year],2021,output[facility_type],I$452,output[control_strategy],\"ASD Control\",output[sensitivity],\"Base\")-SUMIFS(INDEX(output[#Data],0,MATCH(\"num_motors_Program\",output[#Headers],0)),output[equipment_type],$C$452,output[year],2021,output[facility_type],I$452,output[control_strategy],\"ASD Control\",output[sensitivity],\"Base\")","v":516.59072233013762},{"$f":"SUMIFS(INDEX(output[#Data],0,MATCH(\"num_motors_Market\",output[#Headers],0)),output[equipment_type],$C$452,output[year],2021,output[facility_type],J$452,output[control_strategy],\"ASD Control\",output[sensitivity],\"Base\")-SUMIFS(INDEX(output[#Data],0,MATCH(\"num_motors_Program\",output[#Headers],0)),output[equipment_type],$C$452,output[year],2021,output[facility_type],J$452,output[control_strategy],\"ASD Control\",output[sensitivity],\"Base\")","v":951.89678404774349},{"$f":"SUMIFS(INDEX(output[#Data],0,MATCH(\"num_motors_Market\",output[#Headers],0)),output[equipment_type],$C$452,output[year],2021,output[facility_type],K$452,output[control_strategy],\"ASD Control\",output[sensitivity],\"Base\")-SUMIFS(INDEX(output[#Data],0,MATCH(\"num_motors_Program\",output[#Headers],0)),output[equipment_type],$C$452,output[year],2021,output[facility_type],K$452,output[control_strategy],\"ASD Control\",output[sensitivity],\"Base\")","v":54.239472457940792},{"$f":"SUMIFS(INDEX(output[#Data],0,MATCH(\"num_motors_Market\",output[#Headers],0)),output[equipment_type],$C$452,output[year],2021,output[facility_type],L$452,output[control_strategy],\"ASD Control\",output[sensitivity],\"Base\")-SUMIFS(INDEX(output[#Data],0,MATCH(\"num_motors_Program\",output[#Headers],0)),output[equipment_type],$C$452,output[year],2021,output[facility_type],L$452,output[control_strategy],\"ASD Control\",output[sensitivity],\"Base\")","v":258.85995670653438},{"$f":"SUMIFS(INDEX(output[#Data],0,MATCH(\"num_motors_Market\",output[#Headers],0)),output[equipment_type],$C$452,output[year],2021,output[facility_type],M$452,output[control_strategy],\"ASD Control\",output[sensitivity],\"Base\")-SUMIFS(INDEX(output[#Data],0,MATCH(\"num_motors_Program\",output[#Headers],0)),output[equipment_type],$C$452,output[year],2021,output[facility_type],M$452,output[control_strategy],\"ASD Control\",output[sensitivity],\"Base\")","v":179.04317553344708},{"$f":"SUMIFS(INDEX(output[#Data],0,MATCH(\"num_motors_Market\",output[#Headers],0)),output[equipment_type],$C$452,output[year],2021,output[facility_type],N$452,output[control_strategy],\"ASD Control\",output[sensitivity],\"Base\")-SUMIFS(INDEX(output[#Data],0,MATCH(\"num_motors_Program\",output[#Headers],0)),output[equipment_type],$C$452,output[year],2021,output[facility_type],N$452,output[control_strategy],\"ASD Control\",output[sensitivity],\"Base\")","v":95.8057955187397},{"$f":"SUMIFS(INDEX(output[#Data],0,MATCH(\"num_motors_Market\",output[#Headers],0)),output[equipment_type],$C$452,output[year],2021,output[facility_type],O$452,output[control_strategy],\"ASD Control\",output[sensitivity],\"Base\")-SUMIFS(INDEX(output[#Data],0,MATCH(\"num_motors_Program\",output[#Headers],0)),output[equipment_type],$C$452,output[year],2021,output[facility_type],O$452,output[control_strategy],\"ASD Control\",output[sensitivity],\"Base\")","v":1903.9688040198844}]
[null,null,"Regional Program Incented",null,{"$f":"SUMIFS(INDEX(output[#Data],0,MATCH(\"num_motors_Program\",output[#Headers],0)),output[equipment_type],$C$452,output[year],2021,output[facility_type],E$452,output[control_strategy],\"ASD Control\",output[sensitivity],\"Base\")-SUMIFS(INDEX(output[#Data],0,MATCH(\"num_motors_Baseline\",output[#Headers],0)),output[equipment_type],$C$452,output[year],2021,output[facility_type],E$452,output[control_strategy],\"ASD Control\",output[sensitivity],\"Base\")","v":9.9050916790926067},{"$f":"SUMIFS(INDEX(output[#Data],0,MATCH(\"num_motors_Program\",output[#Headers],0)),output[equipment_type],$C$452,output[year],2021,output[facility_type],F$452,output[control_strategy],\"ASD Control\",output[sensitivity],\"Base\")-SUMIFS(INDEX(output[#Data],0,MATCH(\"num_motors_Baseline\",output[#Headers],0)),output[equipment_type],$C$452,output[year],2021,output[facility_type],F$452,output[control_strategy],\"ASD Control\",output[sensitivity],\"Base\")","v":2.1666215939687845},{"$f":"SUMIFS(INDEX(output[#Data],0,MATCH(\"num_motors_Program\",output[#Headers],0)),output[equipment_type],$C$452,output[year],2021,output[facility_type],G$452,output[control_strategy],\"ASD Control\",output[sensitivity],\"Base\")-SUMIFS(INDEX(output[#Data],0,MATCH(\"num_motors_Baseline\",output[#Headers],0)),output[equipment_type],$C$452,output[year],2021,output[facility_type],G$452,output[control_strategy],\"ASD Control\",output[sensitivity],\"Base\")","v":35.791983565921555},{"$f":"SUMIFS(INDEX(output[#Data],0,MATCH(\"num_motors_Program\",output[#Headers],0)),output[equipment_type],$C$452,output[year],2021,output[facility_type],H$452,output[control_strategy],\"ASD Control\",output[sensitivity],\"Base\")-SUMIFS(INDEX(output[#Data],0,MATCH(\"num_motors_Baseline\",output[#Headers],0)),output[equipment_type],$C$452,output[year],2021,output[facility_type],H$452,output[control_strategy],\"ASD Control\",output[sensitivity],\"Base\")","v":5.5965850347661217E-2},{"$f":"SUMIFS(INDEX(output[#Data],0,MATCH(\"num_motors_Program\",output[#Headers],0)),output[equipment_type],$C$452,output[year],2021,output[facility_type],I$452,output[control_strategy],\"ASD Control\",output[sensitivity],\"Base\")-SUMIFS(INDEX(output[#Data],0,MATCH(\"num_motors_Baseline\",output[#Headers],0)),output[equipment_type],$C$452,output[year],2021,output[facility_type],I$452,output[control_strategy],\"ASD Control\",output[sensitivity],\"Base\")","v":25.825092746335713},{"$f":"SUMIFS(INDEX(output[#Data],0,MATCH(\"num_motors_Program\",output[#Headers],0)),output[equipment_type],$C$452,output[year],2021,output[facility_type],J$452,output[control_strategy],\"ASD Control\",output[sensitivity],\"Base\")-SUMIFS(INDEX(output[#Data],0,MATCH(\"num_motors_Baseline\",output[#Headers],0)),output[equipment_type],$C$452,output[year],2021,output[facility_type],J$452,output[control_strategy],\"ASD Control\",output[sensitivity],\"Base\")","v":49.791920563726535},{"$f":"SUMIFS(INDEX(output[#Data],0,MATCH(\"num_motors_Program\",output[#Headers],0)),output[equipment_type],$C$452,output[year],2021,output[facility_type],K$452,output[control_strategy],\"ASD Control\",output[sensitivity],\"Base\")-SUMIFS(INDEX(output[#Data],0,MATCH(\"num_motors_Baseline\",output[#Headers],0)),output[equipment_type],$C$452,output[year],2021,output[facility_type],K$452,output[control_strategy],\"ASD Control\",output[sensitivity],\"Base\")","v":0},{"$f":"SUMIFS(INDEX(output[#Data],0,MATCH(\"num_motors_Program\",output[#Headers],0)),output[equipment_type],$C$452,output[year],2021,output[facility_type],L$452,output[control_strategy],\"ASD Control\",output[sensitivity],\"Base\")-SUMIFS(INDEX(output[#Data],0,MATCH(\"num_motors_Baseline\",output[#Headers],0)),output[equipment_type],$C$452,output[year],2021,output[facility_type],L$452,output[control_strategy],\"ASD Control\",output[sensitivity],\"Base\")","v":0},{"$f":"SUMIFS(INDEX(output[#Data],0,MATCH(\"num_motors_Program\",output[#Headers],0)),output[equipment_type],$C$452,output[year],2021,output[facility_type],M$452,output[control_strategy],\"ASD Control\",output[sensitivity],\"Base\")-SUMIFS(INDEX(output[#Data],0,MATCH(\"num_motors_Baseline\",output[#Headers],0)),output[equipment_type],$C$452,output[year],2021,output[facility_type],M$452,output[control_strategy],\"ASD Control\",output[sensitivity],\"Base\")","v":0},{"$f":"SUMIFS(INDEX(output[#Data],0,MATCH(\"num_motors_Program\",output[#Headers],0)),output[equipment_type],$C$452,output[year],2021,output[facility_type],N$452,output[control_strategy],\"ASD Control\",output[sensitivity],\"Base\")-SUMIFS(INDEX(output[#Data],0,MATCH(\"num_motors_Baseline\",output[#Headers],0)),output[equipment_type],$C$452,output[year],2021,output[facility_type],N$452,output[control_strategy],\"ASD Control\",output[sensitivity],\"Base\")","v":0},{"$f":"SUMIFS(INDEX(output[#Data],0,MATCH(\"num_motors_Program\",output[#Headers],0)),output[equipment_type],$C$452,output[year],2021,output[facility_type],O$452,output[control_strategy],\"ASD Control\",output[sensitivity],\"Base\")-SUMIFS(INDEX(output[#Data],0,MATCH(\"num_motors_Baseline\",output[#Headers],0)),output[equipment_type],$C$452,output[year],2021,output[facility_type],O$452,output[control_strategy],\"ASD Control\",output[sensitivity],\"Base\")","v":0.67073554225726184}]
[]
[null,null,"Market Characteristics"]
[]
[null,null,"This section presents the distribution of the installed stock of pumps, fans, and ASDs in the industrial sector. Distributions by control type, load type, and motor size are shown in the figures below. All values are based on the market scenario."]
[]
[null,null,"Figure 29: Distribution of Fans by Control Type and Load Type, by Year (In-Service Motor HP)",null,null,null,null,"Figure 30: Distribution of Fans by Control Type and Load Type, by Year (In-Service Motors)"]
[]
[]
[]
[]
[]
[]
[]
[]
[]
[]
[]
[]
[]
[]
[]
[null,null,{"$f":"\"Table for \"&C460","v":"Table for Figure 29: Distribution of Fans by Control Type and Load Type, by Year (In-Service Motor HP)"}]
[null,null,"Fans","Year"]
[null,null,null,2015,2016,2017,2018,2019,2020,2021]
[null,null,"Constant Load Non-ASD Control",{"$f":"SUMIFS(INDEX(output[#Data],0,MATCH(\"ishp_Market\",output[#Headers],0)),output[equipment_type],$C$477,output[control_strategy],\"Non ASD Control\",output[load_type],\"Constant\",output[year],D$478,output[sensitivity],\"Base\")/SUMIFS(INDEX(output[#Data],0,MATCH(\"ishp_Market\",output[#Headers],0)),output[equipment_type],$C$477,output[year],D$478,output[sensitivity],\"Base\")","v":0.43478070345141034},{"$f":"SUMIFS(INDEX(output[#Data],0,MATCH(\"ishp_Market\",output[#Headers],0)),output[equipment_type],$C$477,output[control_strategy],\"Non ASD Control\",output[load_type],\"Constant\",output[year],E$478,output[sensitivity],\"Base\")/SUMIFS(INDEX(output[#Data],0,MATCH(\"ishp_Market\",output[#Headers],0)),output[equipment_type],$C$477,output[year],E$478,output[sensitivity],\"Base\")","v":0.42097360415308338},{"$f":"SUMIFS(INDEX(output[#Data],0,MATCH(\"ishp_Market\",output[#Headers],0)),output[equipment_type],$C$477,output[control_strategy],\"Non ASD Control\",output[load_type],\"Constant\",output[year],F$478,output[sensitivity],\"Base\")/SUMIFS(INDEX(output[#Data],0,MATCH(\"ishp_Market\",output[#Headers],0)),output[equipment_type],$C$477,output[year],F$478,output[sensitivity],\"Base\")","v":0.40860138464500606},{"$f":"SUMIFS(INDEX(output[#Data],0,MATCH(\"ishp_Market\",output[#Headers],0)),output[equipment_type],$C$477,output[control_strategy],\"Non ASD Control\",output[load_type],\"Constant\",output[year],G$478,output[sensitivity],\"Base\")/SUMIFS(INDEX(output[#Data],0,MATCH(\"ishp_Market\",output[#Headers],0)),output[equipment_type],$C$477,output[year],G$478,output[sensitivity],\"Base\")","v":0.3956661145235949},{"$f":"SUMIFS(INDEX(output[#Data],0,MATCH(\"ishp_Market\",output[#Headers],0)),output[equipment_type],$C$477,output[control_strategy],\"Non ASD Control\",output[load_type],\"Constant\",output[year],H$478,output[sensitivity],\"Base\")/SUMIFS(INDEX(output[#Data],0,MATCH(\"ishp_Market\",output[#Headers],0)),output[equipment_type],$C$477,output[year],H$478,output[sensitivity],\"Base\")","v":0.38069076471687902},{"$f":"SUMIFS(INDEX(output[#Data],0,MATCH(\"ishp_Market\",output[#Headers],0)),output[equipment_type],$C$477,output[control_strategy],\"Non ASD Control\",output[load_type],\"Constant\",output[year],I$478,output[sensitivity],\"Base\")/SUMIFS(INDEX(output[#Data],0,MATCH(\"ishp_Market\",output[#Headers],0)),output[equipment_type],$C$477,output[year],I$478,output[sensitivity],\"Base\")","v":0.36967101126292073},{"$f":"SUMIFS(INDEX(output[#Data],0,MATCH(\"ishp_Market\",output[#Headers],0)),output[equipment_type],$C$477,output[control_strategy],\"Non ASD Control\",output[load_type],\"Constant\",output[year],J$478,output[sensitivity],\"Base\")/SUMIFS(INDEX(output[#Data],0,MATCH(\"ishp_Market\",output[#Headers],0)),output[equipment_type],$C$477,output[year],J$478,output[sensitivity],\"Base\")","v":0.36017714965679637}]
[null,null,"Variable Load Non-ASD Control",{"$f":"SUMIFS(INDEX(output[#Data],0,MATCH(\"ishp_Market\",output[#Headers],0)),output[equipment_type],$C$477,output[control_strategy],\"Non ASD Control\",output[load_type],\"Variable\",output[year],D$478,output[sensitivity],\"Base\")/SUMIFS(INDEX(output[#Data],0,MATCH(\"ishp_Market\",output[#Headers],0)),output[equipment_type],$C$477,output[year],D$478,output[sensitivity],\"Base\")","v":0.25893584232050321},{"$f":"SUMIFS(INDEX(output[#Data],0,MATCH(\"ishp_Market\",output[#Headers],0)),output[equipment_type],$C$477,output[control_strategy],\"Non ASD Control\",output[load_type],\"Variable\",output[year],E$478,output[sensitivity],\"Base\")/SUMIFS(INDEX(output[#Data],0,MATCH(\"ishp_Market\",output[#Headers],0)),output[equipment_type],$C$477,output[year],E$478,output[sensitivity],\"Base\")","v":0.25071295464762666},{"$f":"SUMIFS(INDEX(output[#Data],0,MATCH(\"ishp_Market\",output[#Headers],0)),output[equipment_type],$C$477,output[control_strategy],\"Non ASD Control\",output[load_type],\"Variable\",output[year],F$478,output[sensitivity],\"Base\")/SUMIFS(INDEX(output[#Data],0,MATCH(\"ishp_Market\",output[#Headers],0)),output[equipment_type],$C$477,output[year],F$478,output[sensitivity],\"Base\")","v":0.24334461687580974},{"$f":"SUMIFS(INDEX(output[#Data],0,MATCH(\"ishp_Market\",output[#Headers],0)),output[equipment_type],$C$477,output[control_strategy],\"Non ASD Control\",output[load_type],\"Variable\",output[year],G$478,output[sensitivity],\"Base\")/SUMIFS(INDEX(output[#Data],0,MATCH(\"ishp_Market\",output[#Headers],0)),output[equipment_type],$C$477,output[year],G$478,output[sensitivity],\"Base\")","v":0.23564095146945116},{"$f":"SUMIFS(INDEX(output[#Data],0,MATCH(\"ishp_Market\",output[#Headers],0)),output[equipment_type],$C$477,output[control_strategy],\"Non ASD Control\",output[load_type],\"Variable\",output[year],H$478,output[sensitivity],\"Base\")/SUMIFS(INDEX(output[#Data],0,MATCH(\"ishp_Market\",output[#Headers],0)),output[equipment_type],$C$477,output[year],H$478,output[sensitivity],\"Base\")","v":0.2267223063100311},{"$f":"SUMIFS(INDEX(output[#Data],0,MATCH(\"ishp_Market\",output[#Headers],0)),output[equipment_type],$C$477,output[control_strategy],\"Non ASD Control\",output[load_type],\"Variable\",output[year],I$478,output[sensitivity],\"Base\")/SUMIFS(INDEX(output[#Data],0,MATCH(\"ishp_Market\",output[#Headers],0)),output[equipment_type],$C$477,output[year],I$478,output[sensitivity],\"Base\")","v":0.22015943652277142},{"$f":"SUMIFS(INDEX(output[#Data],0,MATCH(\"ishp_Market\",output[#Headers],0)),output[equipment_type],$C$477,output[control_strategy],\"Non ASD Control\",output[load_type],\"Variable\",output[year],J$478,output[sensitivity],\"Base\")/SUMIFS(INDEX(output[#Data],0,MATCH(\"ishp_Market\",output[#Headers],0)),output[equipment_type],$C$477,output[year],J$478,output[sensitivity],\"Base\")","v":0.21450531932681138}]
[null,null,"Constant Load ASD Control",{"$f":"SUMIFS(INDEX(output[#Data],0,MATCH(\"ishp_Market\",output[#Headers],0)),output[equipment_type],$C$477,output[control_strategy],\"ASD Control\",output[load_type],\"Constant\",output[year],D$478,output[sensitivity],\"Base\")/SUMIFS(INDEX(output[#Data],0,MATCH(\"ishp_Market\",output[#Headers],0)),output[equipment_type],$C$477,output[year],D$478,output[sensitivity],\"Base\")","v":2.0536728011444207E-2},{"$f":"SUMIFS(INDEX(output[#Data],0,MATCH(\"ishp_Market\",output[#Headers],0)),output[equipment_type],$C$477,output[control_strategy],\"ASD Control\",output[load_type],\"Constant\",output[year],E$478,output[sensitivity],\"Base\")/SUMIFS(INDEX(output[#Data],0,MATCH(\"ishp_Market\",output[#Headers],0)),output[equipment_type],$C$477,output[year],E$478,output[sensitivity],\"Base\")","v":2.2013869020133359E-2},{"$f":"SUMIFS(INDEX(output[#Data],0,MATCH(\"ishp_Market\",output[#Headers],0)),output[equipment_type],$C$477,output[control_strategy],\"ASD Control\",output[load_type],\"Constant\",output[year],F$478,output[sensitivity],\"Base\")/SUMIFS(INDEX(output[#Data],0,MATCH(\"ishp_Market\",output[#Headers],0)),output[equipment_type],$C$477,output[year],F$478,output[sensitivity],\"Base\")","v":2.3337500610593434E-2},{"$f":"SUMIFS(INDEX(output[#Data],0,MATCH(\"ishp_Market\",output[#Headers],0)),output[equipment_type],$C$477,output[control_strategy],\"ASD Control\",output[load_type],\"Constant\",output[year],G$478,output[sensitivity],\"Base\")/SUMIFS(INDEX(output[#Data],0,MATCH(\"ishp_Market\",output[#Headers],0)),output[equipment_type],$C$477,output[year],G$478,output[sensitivity],\"Base\")","v":2.472136970155615E-2},{"$f":"SUMIFS(INDEX(output[#Data],0,MATCH(\"ishp_Market\",output[#Headers],0)),output[equipment_type],$C$477,output[control_strategy],\"ASD Control\",output[load_type],\"Constant\",output[year],H$478,output[sensitivity],\"Base\")/SUMIFS(INDEX(output[#Data],0,MATCH(\"ishp_Market\",output[#Headers],0)),output[equipment_type],$C$477,output[year],H$478,output[sensitivity],\"Base\")","v":2.6323495017019291E-2},{"$f":"SUMIFS(INDEX(output[#Data],0,MATCH(\"ishp_Market\",output[#Headers],0)),output[equipment_type],$C$477,output[control_strategy],\"ASD Control\",output[load_type],\"Constant\",output[year],I$478,output[sensitivity],\"Base\")/SUMIFS(INDEX(output[#Data],0,MATCH(\"ishp_Market\",output[#Headers],0)),output[equipment_type],$C$477,output[year],I$478,output[sensitivity],\"Base\")","v":2.7502434154109245E-2},{"$f":"SUMIFS(INDEX(output[#Data],0,MATCH(\"ishp_Market\",output[#Headers],0)),output[equipment_type],$C$477,output[control_strategy],\"ASD Control\",output[load_type],\"Constant\",output[year],J$478,output[sensitivity],\"Base\")/SUMIFS(INDEX(output[#Data],0,MATCH(\"ishp_Market\",output[#Headers],0)),output[equipment_type],$C$477,output[year],J$478,output[sensitivity],\"Base\")","v":2.8518127023858027E-2}]
[null,null,"Variable Load ASD Control",{"$f":"SUMIFS(INDEX(output[#Data],0,MATCH(\"ishp_Market\",output[#Headers],0)),output[equipment_type],$C$477,output[control_strategy],\"ASD Control\",output[load_type],\"Variable\",output[year],D$478,output[sensitivity],\"Base\")/SUMIFS(INDEX(output[#Data],0,MATCH(\"ishp_Market\",output[#Headers],0)),output[equipment_type],$C$477,output[year],D$478,output[sensitivity],\"Base\")","v":0.28574672621664204},{"$f":"SUMIFS(INDEX(output[#Data],0,MATCH(\"ishp_Market\",output[#Headers],0)),output[equipment_type],$C$477,output[control_strategy],\"ASD Control\",output[load_type],\"Variable\",output[year],E$478,output[sensitivity],\"Base\")/SUMIFS(INDEX(output[#Data],0,MATCH(\"ishp_Market\",output[#Headers],0)),output[equipment_type],$C$477,output[year],E$478,output[sensitivity],\"Base\")","v":0.30629957217915688},{"$f":"SUMIFS(INDEX(output[#Data],0,MATCH(\"ishp_Market\",output[#Headers],0)),output[equipment_type],$C$477,output[control_strategy],\"ASD Control\",output[load_type],\"Variable\",output[year],F$478,output[sensitivity],\"Base\")/SUMIFS(INDEX(output[#Data],0,MATCH(\"ishp_Market\",output[#Headers],0)),output[equipment_type],$C$477,output[year],F$478,output[sensitivity],\"Base\")","v":0.3247164978685913},{"$f":"SUMIFS(INDEX(output[#Data],0,MATCH(\"ishp_Market\",output[#Headers],0)),output[equipment_type],$C$477,output[control_strategy],\"ASD Control\",output[load_type],\"Variable\",output[year],G$478,output[sensitivity],\"Base\")/SUMIFS(INDEX(output[#Data],0,MATCH(\"ishp_Market\",output[#Headers],0)),output[equipment_type],$C$477,output[year],G$478,output[sensitivity],\"Base\")","v":0.34397156430539855},{"$f":"SUMIFS(INDEX(output[#Data],0,MATCH(\"ishp_Market\",output[#Headers],0)),output[equipment_type],$C$477,output[control_strategy],\"ASD Control\",output[load_type],\"Variable\",output[year],H$478,output[sensitivity],\"Base\")/SUMIFS(INDEX(output[#Data],0,MATCH(\"ishp_Market\",output[#Headers],0)),output[equipment_type],$C$477,output[year],H$478,output[sensitivity],\"Base\")","v":0.36626343395606936},{"$f":"SUMIFS(INDEX(output[#Data],0,MATCH(\"ishp_Market\",output[#Headers],0)),output[equipment_type],$C$477,output[control_strategy],\"ASD Control\",output[load_type],\"Variable\",output[year],I$478,output[sensitivity],\"Base\")/SUMIFS(INDEX(output[#Data],0,MATCH(\"ishp_Market\",output[#Headers],0)),output[equipment_type],$C$477,output[year],I$478,output[sensitivity],\"Base\")","v":0.38266711806019782},{"$f":"SUMIFS(INDEX(output[#Data],0,MATCH(\"ishp_Market\",output[#Headers],0)),output[equipment_type],$C$477,output[control_strategy],\"ASD Control\",output[load_type],\"Variable\",output[year],J$478,output[sensitivity],\"Base\")/SUMIFS(INDEX(output[#Data],0,MATCH(\"ishp_Market\",output[#Headers],0)),output[equipment_type],$C$477,output[year],J$478,output[sensitivity],\"Base\")","v":0.39679940399253033}]
[]
[null,null,{"$f":"\"Table for \"&H460","v":"Table for Figure 30: Distribution of Fans by Control Type and Load Type, by Year (In-Service Motors)"}]
[null,null,"Fans","Year"]
[null,null,null,2015,2016,2017,2018,2019,2020,2021]
[null,null,"Constant Load Non-ASD Control",{"$f":"SUMIFS(INDEX(output[#Data],0,MATCH(\"num_motors_Market\",output[#Headers],0)),output[equipment_type],$C$477,output[control_strategy],\"Non ASD Control\",output[load_type],\"Constant\",output[year],D$478,output[sensitivity],\"Base\")/SUMIFS(INDEX(output[#Data],0,MATCH(\"num_motors_Market\",output[#Headers],0)),output[equipment_type],$C$477,output[year],D$478,output[sensitivity],\"Base\")","v":0.46905745378747193},{"$f":"SUMIFS(INDEX(output[#Data],0,MATCH(\"num_motors_Market\",output[#Headers],0)),output[equipment_type],$C$477,output[control_strategy],\"Non ASD Control\",output[load_type],\"Constant\",output[year],E$478,output[sensitivity],\"Base\")/SUMIFS(INDEX(output[#Data],0,MATCH(\"num_motors_Market\",output[#Headers],0)),output[equipment_type],$C$477,output[year],E$478,output[sensitivity],\"Base\")","v":0.45663448749902913},{"$f":"SUMIFS(INDEX(output[#Data],0,MATCH(\"num_motors_Market\",output[#Headers],0)),output[equipment_type],$C$477,output[control_strategy],\"Non ASD Control\",output[load_type],\"Constant\",output[year],F$478,output[sensitivity],\"Base\")/SUMIFS(INDEX(output[#Data],0,MATCH(\"num_motors_Market\",output[#Headers],0)),output[equipment_type],$C$477,output[year],F$478,output[sensitivity],\"Base\")","v":0.44273722323487197},{"$f":"SUMIFS(INDEX(output[#Data],0,MATCH(\"num_motors_Market\",output[#Headers],0)),output[equipment_type],$C$477,output[control_strategy],\"Non ASD Control\",output[load_type],\"Constant\",output[year],G$478,output[sensitivity],\"Base\")/SUMIFS(INDEX(output[#Data],0,MATCH(\"num_motors_Market\",output[#Headers],0)),output[equipment_type],$C$477,output[year],G$478,output[sensitivity],\"Base\")","v":0.43269264368314192},{"$f":"SUMIFS(INDEX(output[#Data],0,MATCH(\"num_motors_Market\",output[#Headers],0)),output[equipment_type],$C$477,output[control_strategy],\"Non ASD Control\",output[load_type],\"Constant\",output[year],H$478,output[sensitivity],\"Base\")/SUMIFS(INDEX(output[#Data],0,MATCH(\"num_motors_Market\",output[#Headers],0)),output[equipment_type],$C$477,output[year],H$478,output[sensitivity],\"Base\")","v":0.41746057328956693},{"$f":"SUMIFS(INDEX(output[#Data],0,MATCH(\"num_motors_Market\",output[#Headers],0)),output[equipment_type],$C$477,output[control_strategy],\"Non ASD Control\",output[load_type],\"Constant\",output[year],I$478,output[sensitivity],\"Base\")/SUMIFS(INDEX(output[#Data],0,MATCH(\"num_motors_Market\",output[#Headers],0)),output[equipment_type],$C$477,output[year],I$478,output[sensitivity],\"Base\")","v":0.40490020798263654},{"$f":"SUMIFS(INDEX(output[#Data],0,MATCH(\"num_motors_Market\",output[#Headers],0)),output[equipment_type],$C$477,output[control_strategy],\"Non ASD Control\",output[load_type],\"Constant\",output[year],J$478,output[sensitivity],\"Base\")/SUMIFS(INDEX(output[#Data],0,MATCH(\"num_motors_Market\",output[#Headers],0)),output[equipment_type],$C$477,output[year],J$478,output[sensitivity],\"Base\")","v":0.40189641796270043}]
[null,null,"Variable Load Non-ASD Control",{"$f":"SUMIFS(INDEX(output[#Data],0,MATCH(\"num_motors_Market\",output[#Headers],0)),output[equipment_type],$C$477,output[control_strategy],\"Non ASD Control\",output[load_type],\"Variable\",output[year],D$478,output[sensitivity],\"Base\")/SUMIFS(INDEX(output[#Data],0,MATCH(\"num_motors_Market\",output[#Headers],0)),output[equipment_type],$C$477,output[year],D$478,output[sensitivity],\"Base\")","v":0.27934953398119983},{"$f":"SUMIFS(INDEX(output[#Data],0,MATCH(\"num_motors_Market\",output[#Headers],0)),output[equipment_type],$C$477,output[control_strategy],\"Non ASD Control\",output[load_type],\"Variable\",output[year],E$478,output[sensitivity],\"Base\")/SUMIFS(INDEX(output[#Data],0,MATCH(\"num_motors_Market\",output[#Headers],0)),output[equipment_type],$C$477,output[year],E$478,output[sensitivity],\"Base\")","v":0.27195097370821197},{"$f":"SUMIFS(INDEX(output[#Data],0,MATCH(\"num_motors_Market\",output[#Headers],0)),output[equipment_type],$C$477,output[control_strategy],\"Non ASD Control\",output[load_type],\"Variable\",output[year],F$478,output[sensitivity],\"Base\")/SUMIFS(INDEX(output[#Data],0,MATCH(\"num_motors_Market\",output[#Headers],0)),output[equipment_type],$C$477,output[year],F$478,output[sensitivity],\"Base\")","v":0.26367438783486441},{"$f":"SUMIFS(INDEX(output[#Data],0,MATCH(\"num_motors_Market\",output[#Headers],0)),output[equipment_type],$C$477,output[control_strategy],\"Non ASD Control\",output[load_type],\"Variable\",output[year],G$478,output[sensitivity],\"Base\")/SUMIFS(INDEX(output[#Data],0,MATCH(\"num_motors_Market\",output[#Headers],0)),output[equipment_type],$C$477,output[year],G$478,output[sensitivity],\"Base\")","v":0.25769228778687281},{"$f":"SUMIFS(INDEX(output[#Data],0,MATCH(\"num_motors_Market\",output[#Headers],0)),output[equipment_type],$C$477,output[control_strategy],\"Non ASD Control\",output[load_type],\"Variable\",output[year],H$478,output[sensitivity],\"Base\")/SUMIFS(INDEX(output[#Data],0,MATCH(\"num_motors_Market\",output[#Headers],0)),output[equipment_type],$C$477,output[year],H$478,output[sensitivity],\"Base\")","v":0.24862075138625503},{"$f":"SUMIFS(INDEX(output[#Data],0,MATCH(\"num_motors_Market\",output[#Headers],0)),output[equipment_type],$C$477,output[control_strategy],\"Non ASD Control\",output[load_type],\"Variable\",output[year],I$478,output[sensitivity],\"Base\")/SUMIFS(INDEX(output[#Data],0,MATCH(\"num_motors_Market\",output[#Headers],0)),output[equipment_type],$C$477,output[year],I$478,output[sensitivity],\"Base\")","v":0.24114036243434134},{"$f":"SUMIFS(INDEX(output[#Data],0,MATCH(\"num_motors_Market\",output[#Headers],0)),output[equipment_type],$C$477,output[control_strategy],\"Non ASD Control\",output[load_type],\"Variable\",output[year],J$478,output[sensitivity],\"Base\")/SUMIFS(INDEX(output[#Data],0,MATCH(\"num_motors_Market\",output[#Headers],0)),output[equipment_type],$C$477,output[year],J$478,output[sensitivity],\"Base\")","v":0.23935144012755136}]
[null,null,"Constant Load ASD Control",{"$f":"SUMIFS(INDEX(output[#Data],0,MATCH(\"num_motors_Market\",output[#Headers],0)),output[equipment_type],$C$477,output[control_strategy],\"ASD Control\",output[load_type],\"Constant\",output[year],D$478,output[sensitivity],\"Base\")/SUMIFS(INDEX(output[#Data],0,MATCH(\"num_motors_Market\",output[#Headers],0)),output[equipment_type],$C$477,output[year],D$478,output[sensitivity],\"Base\")","v":1.6869658450198208E-2},{"$f":"SUMIFS(INDEX(output[#Data],0,MATCH(\"num_motors_Market\",output[#Headers],0)),output[equipment_type],$C$477,output[control_strategy],\"ASD Control\",output[load_type],\"Constant\",output[year],E$478,output[sensitivity],\"Base\")/SUMIFS(INDEX(output[#Data],0,MATCH(\"num_motors_Market\",output[#Headers],0)),output[equipment_type],$C$477,output[year],E$478,output[sensitivity],\"Base\")","v":1.819871914265269E-2},{"$f":"SUMIFS(INDEX(output[#Data],0,MATCH(\"num_motors_Market\",output[#Headers],0)),output[equipment_type],$C$477,output[control_strategy],\"ASD Control\",output[load_type],\"Constant\",output[year],F$478,output[sensitivity],\"Base\")/SUMIFS(INDEX(output[#Data],0,MATCH(\"num_motors_Market\",output[#Headers],0)),output[equipment_type],$C$477,output[year],F$478,output[sensitivity],\"Base\")","v":1.9685506375048643E-2},{"$f":"SUMIFS(INDEX(output[#Data],0,MATCH(\"num_motors_Market\",output[#Headers],0)),output[equipment_type],$C$477,output[control_strategy],\"ASD Control\",output[load_type],\"Constant\",output[year],G$478,output[sensitivity],\"Base\")/SUMIFS(INDEX(output[#Data],0,MATCH(\"num_motors_Market\",output[#Headers],0)),output[equipment_type],$C$477,output[year],G$478,output[sensitivity],\"Base\")","v":2.0760117345123827E-2},{"$f":"SUMIFS(INDEX(output[#Data],0,MATCH(\"num_motors_Market\",output[#Headers],0)),output[equipment_type],$C$477,output[control_strategy],\"ASD Control\",output[load_type],\"Constant\",output[year],H$478,output[sensitivity],\"Base\")/SUMIFS(INDEX(output[#Data],0,MATCH(\"num_motors_Market\",output[#Headers],0)),output[equipment_type],$C$477,output[year],H$478,output[sensitivity],\"Base\")","v":2.2389707698567414E-2},{"$f":"SUMIFS(INDEX(output[#Data],0,MATCH(\"num_motors_Market\",output[#Headers],0)),output[equipment_type],$C$477,output[control_strategy],\"ASD Control\",output[load_type],\"Constant\",output[year],I$478,output[sensitivity],\"Base\")/SUMIFS(INDEX(output[#Data],0,MATCH(\"num_motors_Market\",output[#Headers],0)),output[equipment_type],$C$477,output[year],I$478,output[sensitivity],\"Base\")","v":2.3733467910477608E-2},{"$f":"SUMIFS(INDEX(output[#Data],0,MATCH(\"num_motors_Market\",output[#Headers],0)),output[equipment_type],$C$477,output[control_strategy],\"ASD Control\",output[load_type],\"Constant\",output[year],J$478,output[sensitivity],\"Base\")/SUMIFS(INDEX(output[#Data],0,MATCH(\"num_motors_Market\",output[#Headers],0)),output[equipment_type],$C$477,output[year],J$478,output[sensitivity],\"Base\")","v":2.4054825881769524E-2}]
[null,null,"Variable Load ASD Control",{"$f":"SUMIFS(INDEX(output[#Data],0,MATCH(\"num_motors_Market\",output[#Headers],0)),output[equipment_type],$C$477,output[control_strategy],\"ASD Control\",output[load_type],\"Variable\",output[year],D$478,output[sensitivity],\"Base\")/SUMIFS(INDEX(output[#Data],0,MATCH(\"num_motors_Market\",output[#Headers],0)),output[equipment_type],$C$477,output[year],D$478,output[sensitivity],\"Base\")","v":0.23472335378112921},{"$f":"SUMIFS(INDEX(output[#Data],0,MATCH(\"num_motors_Market\",output[#Headers],0)),output[equipment_type],$C$477,output[control_strategy],\"ASD Control\",output[load_type],\"Variable\",output[year],E$478,output[sensitivity],\"Base\")/SUMIFS(INDEX(output[#Data],0,MATCH(\"num_motors_Market\",output[#Headers],0)),output[equipment_type],$C$477,output[year],E$478,output[sensitivity],\"Base\")","v":0.25321581965010631},{"$f":"SUMIFS(INDEX(output[#Data],0,MATCH(\"num_motors_Market\",output[#Headers],0)),output[equipment_type],$C$477,output[control_strategy],\"ASD Control\",output[load_type],\"Variable\",output[year],F$478,output[sensitivity],\"Base\")/SUMIFS(INDEX(output[#Data],0,MATCH(\"num_motors_Market\",output[#Headers],0)),output[equipment_type],$C$477,output[year],F$478,output[sensitivity],\"Base\")","v":0.27390288255521456},{"$f":"SUMIFS(INDEX(output[#Data],0,MATCH(\"num_motors_Market\",output[#Headers],0)),output[equipment_type],$C$477,output[control_strategy],\"ASD Control\",output[load_type],\"Variable\",output[year],G$478,output[sensitivity],\"Base\")/SUMIFS(INDEX(output[#Data],0,MATCH(\"num_motors_Market\",output[#Headers],0)),output[equipment_type],$C$477,output[year],G$478,output[sensitivity],\"Base\")","v":0.28885495118485999},{"$f":"SUMIFS(INDEX(output[#Data],0,MATCH(\"num_motors_Market\",output[#Headers],0)),output[equipment_type],$C$477,output[control_strategy],\"ASD Control\",output[load_type],\"Variable\",output[year],H$478,output[sensitivity],\"Base\")/SUMIFS(INDEX(output[#Data],0,MATCH(\"num_motors_Market\",output[#Headers],0)),output[equipment_type],$C$477,output[year],H$478,output[sensitivity],\"Base\")","v":0.31152896762561094},{"$f":"SUMIFS(INDEX(output[#Data],0,MATCH(\"num_motors_Market\",output[#Headers],0)),output[equipment_type],$C$477,output[control_strategy],\"ASD Control\",output[load_type],\"Variable\",output[year],I$478,output[sensitivity],\"Base\")/SUMIFS(INDEX(output[#Data],0,MATCH(\"num_motors_Market\",output[#Headers],0)),output[equipment_type],$C$477,output[year],I$478,output[sensitivity],\"Base\")","v":0.33022596167254692},{"$f":"SUMIFS(INDEX(output[#Data],0,MATCH(\"num_motors_Market\",output[#Headers],0)),output[equipment_type],$C$477,output[control_strategy],\"ASD Control\",output[load_type],\"Variable\",output[year],J$478,output[sensitivity],\"Base\")/SUMIFS(INDEX(output[#Data],0,MATCH(\"num_motors_Market\",output[#Headers],0)),output[equipment_type],$C$477,output[year],J$478,output[sensitivity],\"Base\")","v":0.3346973160279787}]
[]
[null,null,"Figure 31: Distribution of Fans by Motor Size, 2020 (In-Service Motor HP)",null,null,null,null,"Figure 32: Distribution of Fans by Motor Size, 2020 (In-Service Motors)"]
[]
[]
[]
[]
[]
[]
[]
[]
[]
[]
[]
[]
[]
[]
[]
[]
[]
[]
[]
[null,null,{"$f":"\"Table for \"&C492","v":"Table for Figure 31: Distribution of Fans by Motor Size, 2020 (In-Service Motor HP)"}]
[null,null,"Fans","1-5 HP","6-10 HP","11-20 HP","21-50 HP","51-100 HP","101-200 HP","201-500 HP","501-1,000 HP","1,001+ HP"]
[null,null,null,{"$f":"SUMIFS(INDEX(output[#Data],0,MATCH(\"ishp_Market\",output[#Headers],0)),output[equipment_type],$C$513,output[motor_size],D$513,output[year],2020,output[sensitivity],\"Base\")/SUMIFS(INDEX(output[#Data],0,MATCH(\"ishp_Market\",output[#Headers],0)),output[equipment_type],$C$513,output[year],2020,output[sensitivity],\"Base\")","v":9.7500130872735916E-2},{"$f":"SUMIFS(INDEX(output[#Data],0,MATCH(\"ishp_Market\",output[#Headers],0)),output[equipment_type],$C$513,output[motor_size],E$513,output[year],2020,output[sensitivity],\"Base\")/SUMIFS(INDEX(output[#Data],0,MATCH(\"ishp_Market\",output[#Headers],0)),output[equipment_type],$C$513,output[year],2020,output[sensitivity],\"Base\")","v":7.8945662238239095E-2},{"$f":"SUMIFS(INDEX(output[#Data],0,MATCH(\"ishp_Market\",output[#Headers],0)),output[equipment_type],$C$513,output[motor_size],F$513,output[year],2020,output[sensitivity],\"Base\")/SUMIFS(INDEX(output[#Data],0,MATCH(\"ishp_Market\",output[#Headers],0)),output[equipment_type],$C$513,output[year],2020,output[sensitivity],\"Base\")","v":7.8945662238239081E-2},{"$f":"SUMIFS(INDEX(output[#Data],0,MATCH(\"ishp_Market\",output[#Headers],0)),output[equipment_type],$C$513,output[motor_size],G$513,output[year],2020,output[sensitivity],\"Base\")/SUMIFS(INDEX(output[#Data],0,MATCH(\"ishp_Market\",output[#Headers],0)),output[equipment_type],$C$513,output[year],2020,output[sensitivity],\"Base\")","v":0.18869738823407028},{"$f":"SUMIFS(INDEX(output[#Data],0,MATCH(\"ishp_Market\",output[#Headers],0)),output[equipment_type],$C$513,output[motor_size],H$513,output[year],2020,output[sensitivity],\"Base\")/SUMIFS(INDEX(output[#Data],0,MATCH(\"ishp_Market\",output[#Headers],0)),output[equipment_type],$C$513,output[year],2020,output[sensitivity],\"Base\")","v":0.17430099969140825},{"$f":"SUMIFS(INDEX(output[#Data],0,MATCH(\"ishp_Market\",output[#Headers],0)),output[equipment_type],$C$513,output[motor_size],I$513,output[year],2020,output[sensitivity],\"Base\")/SUMIFS(INDEX(output[#Data],0,MATCH(\"ishp_Market\",output[#Headers],0)),output[equipment_type],$C$513,output[year],2020,output[sensitivity],\"Base\")","v":9.8428452891529031E-2},{"$f":"SUMIFS(INDEX(output[#Data],0,MATCH(\"ishp_Market\",output[#Headers],0)),output[equipment_type],$C$513,output[motor_size],J$513,output[year],2020,output[sensitivity],\"Base\")/SUMIFS(INDEX(output[#Data],0,MATCH(\"ishp_Market\",output[#Headers],0)),output[equipment_type],$C$513,output[year],2020,output[sensitivity],\"Base\")","v":0.15034256569286628},{"$f":"SUMIFS(INDEX(output[#Data],0,MATCH(\"ishp_Market\",output[#Headers],0)),output[equipment_type],$C$513,output[motor_size],K$513,output[year],2020,output[sensitivity],\"Base\")/SUMIFS(INDEX(output[#Data],0,MATCH(\"ishp_Market\",output[#Headers],0)),output[equipment_type],$C$513,output[year],2020,output[sensitivity],\"Base\")","v":5.1482007003398632E-2},{"$f":"SUMIFS(INDEX(output[#Data],0,MATCH(\"ishp_Market\",output[#Headers],0)),output[equipment_type],$C$513,output[motor_size],L$513,output[year],2020,output[sensitivity],\"Base\")/SUMIFS(INDEX(output[#Data],0,MATCH(\"ishp_Market\",output[#Headers],0)),output[equipment_type],$C$513,output[year],2020,output[sensitivity],\"Base\")","v":8.1357131137513153E-2}]
[]
[null,null,{"$f":"\"Table for \"&H492","v":"Table for Figure 32: Distribution of Fans by Motor Size, 2020 (In-Service Motors)"}]
[null,null,"Fans","1-5 HP","6-10 HP","11-20 HP","21-50 HP","51-100 HP","101-200 HP","201-500 HP","501-1,000 HP","1,001+ HP"]
[null,null,null,{"$f":"SUMIFS(INDEX(output[#Data],0,MATCH(\"num_motors_Market\",output[#Headers],0)),output[equipment_type],$C$517,output[motor_size],D$517,output[year],2020,output[sensitivity],\"Base\")/SUMIFS(INDEX(output[#Data],0,MATCH(\"num_motors_Market\",output[#Headers],0)),output[equipment_type],$C$517,output[year],2020,output[sensitivity],\"Base\")","v":0.5770761825163907},{"$f":"SUMIFS(INDEX(output[#Data],0,MATCH(\"num_motors_Market\",output[#Headers],0)),output[equipment_type],$C$517,output[motor_size],E$517,output[year],2020,output[sensitivity],\"Base\")/SUMIFS(INDEX(output[#Data],0,MATCH(\"num_motors_Market\",output[#Headers],0)),output[equipment_type],$C$517,output[year],2020,output[sensitivity],\"Base\")","v":0.1752215393823543},{"$f":"SUMIFS(INDEX(output[#Data],0,MATCH(\"num_motors_Market\",output[#Headers],0)),output[equipment_type],$C$517,output[motor_size],F$517,output[year],2020,output[sensitivity],\"Base\")/SUMIFS(INDEX(output[#Data],0,MATCH(\"num_motors_Market\",output[#Headers],0)),output[equipment_type],$C$517,output[year],2020,output[sensitivity],\"Base\")","v":9.0436923552182732E-2},{"$f":"SUMIFS(INDEX(output[#Data],0,MATCH(\"num_motors_Market\",output[#Headers],0)),output[equipment_type],$C$517,output[motor_size],G$517,output[year],2020,output[sensitivity],\"Base\")/SUMIFS(INDEX(output[#Data],0,MATCH(\"num_motors_Market\",output[#Headers],0)),output[equipment_type],$C$517,output[year],2020,output[sensitivity],\"Base\")","v":9.4381471105572934E-2},{"$f":"SUMIFS(INDEX(output[#Data],0,MATCH(\"num_motors_Market\",output[#Headers],0)),output[equipment_type],$C$517,output[motor_size],H$517,output[year],2020,output[sensitivity],\"Base\")/SUMIFS(INDEX(output[#Data],0,MATCH(\"num_motors_Market\",output[#Headers],0)),output[equipment_type],$C$517,output[year],2020,output[sensitivity],\"Base\")","v":4.0992285480291775E-2},{"$f":"SUMIFS(INDEX(output[#Data],0,MATCH(\"num_motors_Market\",output[#Headers],0)),output[equipment_type],$C$517,output[motor_size],I$517,output[year],2020,output[sensitivity],\"Base\")/SUMIFS(INDEX(output[#Data],0,MATCH(\"num_motors_Market\",output[#Headers],0)),output[equipment_type],$C$517,output[year],2020,output[sensitivity],\"Base\")","v":1.1612704237775938E-2},{"$f":"SUMIFS(INDEX(output[#Data],0,MATCH(\"num_motors_Market\",output[#Headers],0)),output[equipment_type],$C$517,output[motor_size],J$517,output[year],2020,output[sensitivity],\"Base\")/SUMIFS(INDEX(output[#Data],0,MATCH(\"num_motors_Market\",output[#Headers],0)),output[equipment_type],$C$517,output[year],2020,output[sensitivity],\"Base\")","v":7.6162842027437038E-3},{"$f":"SUMIFS(INDEX(output[#Data],0,MATCH(\"num_motors_Market\",output[#Headers],0)),output[equipment_type],$C$517,output[motor_size],K$517,output[year],2020,output[sensitivity],\"Base\")/SUMIFS(INDEX(output[#Data],0,MATCH(\"num_motors_Market\",output[#Headers],0)),output[equipment_type],$C$517,output[year],2020,output[sensitivity],\"Base\")","v":1.2180187645927886E-3},{"$f":"SUMIFS(INDEX(output[#Data],0,MATCH(\"num_motors_Market\",output[#Headers],0)),output[equipment_type],$C$517,output[motor_size],L$517,output[year],2020,output[sensitivity],\"Base\")/SUMIFS(INDEX(output[#Data],0,MATCH(\"num_motors_Market\",output[#Headers],0)),output[equipment_type],$C$517,output[year],2020,output[sensitivity],\"Base\")","v":1.444590758096613E-3}]
[]
[null,null,"Figure 33: Distribution of ASD-Controlled Fans by Motor Size, 2020 (In-Service Motor HP)",null,null,null,null,"Figure 34: Distribution of ASD-Controlled Fans by Motor Size, 2020 (In-Service Motors)"]
[]
[]
[]
[]
[]
[]
[]
[]
[]
[]
[]
[]
[]
[]
[]
[]
[null,null,{"$f":"\"Table for \"&C520","v":"Table for Figure 33: Distribution of ASD-Controlled Fans by Motor Size, 2020 (In-Service Motor HP)"}]
[null,null,"Fans","1-5 HP","6-10 HP","11-20 HP","21-50 HP","51-100 HP","101-200 HP","201-500 HP","501-1,000 HP","1,001+ HP"]
[null,null,null,{"$f":"SUMIFS(INDEX(output[#Data],0,MATCH(\"ishp_Market\",output[#Headers],0)),output[equipment_type],$C$538,output[motor_size],D$538,output[year],2020,output[control_strategy],\"ASD Control\",output[sensitivity],\"Base\")/SUMIFS(INDEX(output[#Data],0,MATCH(\"ishp_Market\",output[#Headers],0)),output[equipment_type],$C$538,output[year],2020,output[control_strategy],\"ASD Control\",output[sensitivity],\"Base\")","v":5.753855926632185E-2},{"$f":"SUMIFS(INDEX(output[#Data],0,MATCH(\"ishp_Market\",output[#Headers],0)),output[equipment_type],$C$538,output[motor_size],E$538,output[year],2020,output[control_strategy],\"ASD Control\",output[sensitivity],\"Base\")/SUMIFS(INDEX(output[#Data],0,MATCH(\"ishp_Market\",output[#Headers],0)),output[equipment_type],$C$538,output[year],2020,output[control_strategy],\"ASD Control\",output[sensitivity],\"Base\")","v":9.7445829110069854E-2},{"$f":"SUMIFS(INDEX(output[#Data],0,MATCH(\"ishp_Market\",output[#Headers],0)),output[equipment_type],$C$538,output[motor_size],F$538,output[year],2020,output[control_strategy],\"ASD Control\",output[sensitivity],\"Base\")/SUMIFS(INDEX(output[#Data],0,MATCH(\"ishp_Market\",output[#Headers],0)),output[equipment_type],$C$538,output[year],2020,output[control_strategy],\"ASD Control\",output[sensitivity],\"Base\")","v":9.7445829110069854E-2},{"$f":"SUMIFS(INDEX(output[#Data],0,MATCH(\"ishp_Market\",output[#Headers],0)),output[equipment_type],$C$538,output[motor_size],G$538,output[year],2020,output[control_strategy],\"ASD Control\",output[sensitivity],\"Base\")/SUMIFS(INDEX(output[#Data],0,MATCH(\"ishp_Market\",output[#Headers],0)),output[equipment_type],$C$538,output[year],2020,output[control_strategy],\"ASD Control\",output[sensitivity],\"Base\")","v":0.24002269444471455},{"$f":"SUMIFS(INDEX(output[#Data],0,MATCH(\"ishp_Market\",output[#Headers],0)),output[equipment_type],$C$538,output[motor_size],H$538,output[year],2020,output[control_strategy],\"ASD Control\",output[sensitivity],\"Base\")/SUMIFS(INDEX(output[#Data],0,MATCH(\"ishp_Market\",output[#Headers],0)),output[equipment_type],$C$538,output[year],2020,output[control_strategy],\"ASD Control\",output[sensitivity],\"Base\")","v":0.23059104880865919},{"$f":"SUMIFS(INDEX(output[#Data],0,MATCH(\"ishp_Market\",output[#Headers],0)),output[equipment_type],$C$538,output[motor_size],I$538,output[year],2020,output[control_strategy],\"ASD Control\",output[sensitivity],\"Base\")/SUMIFS(INDEX(output[#Data],0,MATCH(\"ishp_Market\",output[#Headers],0)),output[equipment_type],$C$538,output[year],2020,output[control_strategy],\"ASD Control\",output[sensitivity],\"Base\")","v":0.10208450980197248},{"$f":"SUMIFS(INDEX(output[#Data],0,MATCH(\"ishp_Market\",output[#Headers],0)),output[equipment_type],$C$538,output[motor_size],J$538,output[year],2020,output[control_strategy],\"ASD Control\",output[sensitivity],\"Base\")/SUMIFS(INDEX(output[#Data],0,MATCH(\"ishp_Market\",output[#Headers],0)),output[equipment_type],$C$538,output[year],2020,output[control_strategy],\"ASD Control\",output[sensitivity],\"Base\")","v":0.15070922695893993},{"$f":"SUMIFS(INDEX(output[#Data],0,MATCH(\"ishp_Market\",output[#Headers],0)),output[equipment_type],$C$538,output[motor_size],K$538,output[year],2020,output[control_strategy],\"ASD Control\",output[sensitivity],\"Base\")/SUMIFS(INDEX(output[#Data],0,MATCH(\"ishp_Market\",output[#Headers],0)),output[equipment_type],$C$538,output[year],2020,output[control_strategy],\"ASD Control\",output[sensitivity],\"Base\")","v":1.6847549030175744E-2},{"$f":"SUMIFS(INDEX(output[#Data],0,MATCH(\"ishp_Market\",output[#Headers],0)),output[equipment_type],$C$538,output[motor_size],L$538,output[year],2020,output[control_strategy],\"ASD Control\",output[sensitivity],\"Base\")/SUMIFS(INDEX(output[#Data],0,MATCH(\"ishp_Market\",output[#Headers],0)),output[equipment_type],$C$538,output[year],2020,output[control_strategy],\"ASD Control\",output[sensitivity],\"Base\")","v":7.314753469076553E-3}]
[]
[null,null,{"$f":"\"Table for \"&H520","v":"Table for Figure 34: Distribution of ASD-Controlled Fans by Motor Size, 2020 (In-Service Motors)"}]
[null,null,"Fans","1-5 HP","6-10 HP","11-20 HP","21-50 HP","51-100 HP","101-200 HP","201-500 HP","501-1,000 HP","1,001+ HP"]
[null,null,null,{"$f":"SUMIFS(INDEX(output[#Data],0,MATCH(\"num_motors_Market\",output[#Headers],0)),output[equipment_type],$C$542,output[motor_size],D$542,output[year],2020,output[control_strategy],\"ASD Control\",output[sensitivity],\"Base\")/SUMIFS(INDEX(output[#Data],0,MATCH(\"num_motors_Market\",output[#Headers],0)),output[equipment_type],$C$542,output[year],2020,output[control_strategy],\"ASD Control\",output[sensitivity],\"Base\")","v":0.39463615109173439},{"$f":"SUMIFS(INDEX(output[#Data],0,MATCH(\"num_motors_Market\",output[#Headers],0)),output[equipment_type],$C$542,output[motor_size],E$542,output[year],2020,output[control_strategy],\"ASD Control\",output[sensitivity],\"Base\")/SUMIFS(INDEX(output[#Data],0,MATCH(\"num_motors_Market\",output[#Headers],0)),output[equipment_type],$C$542,output[year],2020,output[control_strategy],\"ASD Control\",output[sensitivity],\"Base\")","v":0.25062962622560103},{"$f":"SUMIFS(INDEX(output[#Data],0,MATCH(\"num_motors_Market\",output[#Headers],0)),output[equipment_type],$C$542,output[motor_size],F$542,output[year],2020,output[control_strategy],\"ASD Control\",output[sensitivity],\"Base\")/SUMIFS(INDEX(output[#Data],0,MATCH(\"num_motors_Market\",output[#Headers],0)),output[equipment_type],$C$542,output[year],2020,output[control_strategy],\"ASD Control\",output[sensitivity],\"Base\")","v":0.12935722643901973},{"$f":"SUMIFS(INDEX(output[#Data],0,MATCH(\"num_motors_Market\",output[#Headers],0)),output[equipment_type],$C$542,output[motor_size],G$542,output[year],2020,output[control_strategy],\"ASD Control\",output[sensitivity],\"Base\")/SUMIFS(INDEX(output[#Data],0,MATCH(\"num_motors_Market\",output[#Headers],0)),output[equipment_type],$C$542,output[year],2020,output[control_strategy],\"ASD Control\",output[sensitivity],\"Base\")","v":0.13911792519728175},{"$f":"SUMIFS(INDEX(output[#Data],0,MATCH(\"num_motors_Market\",output[#Headers],0)),output[equipment_type],$C$542,output[motor_size],H$542,output[year],2020,output[control_strategy],\"ASD Control\",output[sensitivity],\"Base\")/SUMIFS(INDEX(output[#Data],0,MATCH(\"num_motors_Market\",output[#Headers],0)),output[equipment_type],$C$542,output[year],2020,output[control_strategy],\"ASD Control\",output[sensitivity],\"Base\")","v":6.2842670384280083E-2},{"$f":"SUMIFS(INDEX(output[#Data],0,MATCH(\"num_motors_Market\",output[#Headers],0)),output[equipment_type],$C$542,output[motor_size],I$542,output[year],2020,output[control_strategy],\"ASD Control\",output[sensitivity],\"Base\")/SUMIFS(INDEX(output[#Data],0,MATCH(\"num_motors_Market\",output[#Headers],0)),output[equipment_type],$C$542,output[year],2020,output[control_strategy],\"ASD Control\",output[sensitivity],\"Base\")","v":1.3956691729494009E-2},{"$f":"SUMIFS(INDEX(output[#Data],0,MATCH(\"num_motors_Market\",output[#Headers],0)),output[equipment_type],$C$542,output[motor_size],J$542,output[year],2020,output[control_strategy],\"ASD Control\",output[sensitivity],\"Base\")/SUMIFS(INDEX(output[#Data],0,MATCH(\"num_motors_Market\",output[#Headers],0)),output[equipment_type],$C$542,output[year],2020,output[control_strategy],\"ASD Control\",output[sensitivity],\"Base\")","v":8.8473041625196595E-3},{"$f":"SUMIFS(INDEX(output[#Data],0,MATCH(\"num_motors_Market\",output[#Headers],0)),output[equipment_type],$C$542,output[motor_size],K$542,output[year],2020,output[control_strategy],\"ASD Control\",output[sensitivity],\"Base\")/SUMIFS(INDEX(output[#Data],0,MATCH(\"num_motors_Market\",output[#Headers],0)),output[equipment_type],$C$542,output[year],2020,output[control_strategy],\"ASD Control\",output[sensitivity],\"Base\")","v":4.6189703097911897E-4},{"$f":"SUMIFS(INDEX(output[#Data],0,MATCH(\"num_motors_Market\",output[#Headers],0)),output[equipment_type],$C$542,output[motor_size],L$542,output[year],2020,output[control_strategy],\"ASD Control\",output[sensitivity],\"Base\")/SUMIFS(INDEX(output[#Data],0,MATCH(\"num_motors_Market\",output[#Headers],0)),output[equipment_type],$C$542,output[year],2020,output[control_strategy],\"ASD Control\",output[sensitivity],\"Base\")","v":1.505077390898921E-4}]
[]
[]
[]
[null,null,"Figure 35: Distribution of Pumps by Control Type and Load Type, by Year (In-Service Motor HP)",null,null,null,null,"Figure 36: Distribution of Pumps by Control Type and Load Type, by Year (In-Service Motors)"]
[]
[]
[]
[]
[]
[]
[]
[]
[]
[]
[]
[]
[]
[]
[]
[null,null,{"$f":"\"Table for \"&C547","v":"Table for Figure 35: Distribution of Pumps by Control Type and Load Type, by Year (In-Service Motor HP)"}]
[null,null,"Pumps","Year"]
[null,null,null,2015,2016,2017,2018,2019,2020,2021]
[null,null,"Constant Load Non-ASD Control",{"$f":"SUMIFS(INDEX(output[#Data],0,MATCH(\"ishp_Market\",output[#Headers],0)),output[equipment_type],$C$564,output[control_strategy],\"Non ASD Control\",output[load_type],\"Constant\",output[year],D$565,output[sensitivity],\"Base\")/SUMIFS(INDEX(output[#Data],0,MATCH(\"ishp_Market\",output[#Headers],0)),output[equipment_type],$C$564,output[year],D$565,output[sensitivity],\"Base\")","v":0.42523151008549048},{"$f":"SUMIFS(INDEX(output[#Data],0,MATCH(\"ishp_Market\",output[#Headers],0)),output[equipment_type],$C$564,output[control_strategy],\"Non ASD Control\",output[load_type],\"Constant\",output[year],E$565,output[sensitivity],\"Base\")/SUMIFS(INDEX(output[#Data],0,MATCH(\"ishp_Market\",output[#Headers],0)),output[equipment_type],$C$564,output[year],E$565,output[sensitivity],\"Base\")","v":0.40705277720961247},{"$f":"SUMIFS(INDEX(output[#Data],0,MATCH(\"ishp_Market\",output[#Headers],0)),output[equipment_type],$C$564,output[control_strategy],\"Non ASD Control\",output[load_type],\"Constant\",output[year],F$565,output[sensitivity],\"Base\")/SUMIFS(INDEX(output[#Data],0,MATCH(\"ishp_Market\",output[#Headers],0)),output[equipment_type],$C$564,output[year],F$565,output[sensitivity],\"Base\")","v":0.385696499418683},{"$f":"SUMIFS(INDEX(output[#Data],0,MATCH(\"ishp_Market\",output[#Headers],0)),output[equipment_type],$C$564,output[control_strategy],\"Non ASD Control\",output[load_type],\"Constant\",output[year],G$565,output[sensitivity],\"Base\")/SUMIFS(INDEX(output[#Data],0,MATCH(\"ishp_Market\",output[#Headers],0)),output[equipment_type],$C$564,output[year],G$565,output[sensitivity],\"Base\")","v":0.36553724029185153},{"$f":"SUMIFS(INDEX(output[#Data],0,MATCH(\"ishp_Market\",output[#Headers],0)),output[equipment_type],$C$564,output[control_strategy],\"Non ASD Control\",output[load_type],\"Constant\",output[year],H$565,output[sensitivity],\"Base\")/SUMIFS(INDEX(output[#Data],0,MATCH(\"ishp_Market\",output[#Headers],0)),output[equipment_type],$C$564,output[year],H$565,output[sensitivity],\"Base\")","v":0.34221280401339654},{"$f":"SUMIFS(INDEX(output[#Data],0,MATCH(\"ishp_Market\",output[#Headers],0)),output[equipment_type],$C$564,output[control_strategy],\"Non ASD Control\",output[load_type],\"Constant\",output[year],I$565,output[sensitivity],\"Base\")/SUMIFS(INDEX(output[#Data],0,MATCH(\"ishp_Market\",output[#Headers],0)),output[equipment_type],$C$564,output[year],I$565,output[sensitivity],\"Base\")","v":0.31618668061109489},{"$f":"SUMIFS(INDEX(output[#Data],0,MATCH(\"ishp_Market\",output[#Headers],0)),output[equipment_type],$C$564,output[control_strategy],\"Non ASD Control\",output[load_type],\"Constant\",output[year],J$565,output[sensitivity],\"Base\")/SUMIFS(INDEX(output[#Data],0,MATCH(\"ishp_Market\",output[#Headers],0)),output[equipment_type],$C$564,output[year],J$565,output[sensitivity],\"Base\")","v":0.30275439420640177}]
[null,null,"Variable Load Non-ASD Control",{"$f":"SUMIFS(INDEX(output[#Data],0,MATCH(\"ishp_Market\",output[#Headers],0)),output[equipment_type],$C$564,output[control_strategy],\"Non ASD Control\",output[load_type],\"Variable\",output[year],D$565,output[sensitivity],\"Base\")/SUMIFS(INDEX(output[#Data],0,MATCH(\"ishp_Market\",output[#Headers],0)),output[equipment_type],$C$564,output[year],D$565,output[sensitivity],\"Base\")","v":0.17628230283624999},{"$f":"SUMIFS(INDEX(output[#Data],0,MATCH(\"ishp_Market\",output[#Headers],0)),output[equipment_type],$C$564,output[control_strategy],\"Non ASD Control\",output[load_type],\"Variable\",output[year],E$565,output[sensitivity],\"Base\")/SUMIFS(INDEX(output[#Data],0,MATCH(\"ishp_Market\",output[#Headers],0)),output[equipment_type],$C$564,output[year],E$565,output[sensitivity],\"Base\")","v":0.16874619881291295},{"$f":"SUMIFS(INDEX(output[#Data],0,MATCH(\"ishp_Market\",output[#Headers],0)),output[equipment_type],$C$564,output[control_strategy],\"Non ASD Control\",output[load_type],\"Variable\",output[year],F$565,output[sensitivity],\"Base\")/SUMIFS(INDEX(output[#Data],0,MATCH(\"ishp_Market\",output[#Headers],0)),output[equipment_type],$C$564,output[year],F$565,output[sensitivity],\"Base\")","v":0.15989282426350854},{"$f":"SUMIFS(INDEX(output[#Data],0,MATCH(\"ishp_Market\",output[#Headers],0)),output[equipment_type],$C$564,output[control_strategy],\"Non ASD Control\",output[load_type],\"Variable\",output[year],G$565,output[sensitivity],\"Base\")/SUMIFS(INDEX(output[#Data],0,MATCH(\"ishp_Market\",output[#Headers],0)),output[equipment_type],$C$564,output[year],G$565,output[sensitivity],\"Base\")","v":0.15153568106488721},{"$f":"SUMIFS(INDEX(output[#Data],0,MATCH(\"ishp_Market\",output[#Headers],0)),output[equipment_type],$C$564,output[control_strategy],\"Non ASD Control\",output[load_type],\"Variable\",output[year],H$565,output[sensitivity],\"Base\")/SUMIFS(INDEX(output[#Data],0,MATCH(\"ishp_Market\",output[#Headers],0)),output[equipment_type],$C$564,output[year],H$565,output[sensitivity],\"Base\")","v":0.14186639447157515},{"$f":"SUMIFS(INDEX(output[#Data],0,MATCH(\"ishp_Market\",output[#Headers],0)),output[equipment_type],$C$564,output[control_strategy],\"Non ASD Control\",output[load_type],\"Variable\",output[year],I$565,output[sensitivity],\"Base\")/SUMIFS(INDEX(output[#Data],0,MATCH(\"ishp_Market\",output[#Headers],0)),output[equipment_type],$C$564,output[year],I$565,output[sensitivity],\"Base\")","v":0.1310771070870731},{"$f":"SUMIFS(INDEX(output[#Data],0,MATCH(\"ishp_Market\",output[#Headers],0)),output[equipment_type],$C$564,output[control_strategy],\"Non ASD Control\",output[load_type],\"Variable\",output[year],J$565,output[sensitivity],\"Base\")/SUMIFS(INDEX(output[#Data],0,MATCH(\"ishp_Market\",output[#Headers],0)),output[equipment_type],$C$564,output[year],J$565,output[sensitivity],\"Base\")","v":0.12550867125008769}]
[null,null,"Constant Load ASD Control",{"$f":"SUMIFS(INDEX(output[#Data],0,MATCH(\"ishp_Market\",output[#Headers],0)),output[equipment_type],$C$564,output[control_strategy],\"ASD Control\",output[load_type],\"Constant\",output[year],D$565,output[sensitivity],\"Base\")/SUMIFS(INDEX(output[#Data],0,MATCH(\"ishp_Market\",output[#Headers],0)),output[equipment_type],$C$564,output[year],D$565,output[sensitivity],\"Base\")","v":9.4276615218924956E-2},{"$f":"SUMIFS(INDEX(output[#Data],0,MATCH(\"ishp_Market\",output[#Headers],0)),output[equipment_type],$C$564,output[control_strategy],\"ASD Control\",output[load_type],\"Constant\",output[year],E$565,output[sensitivity],\"Base\")/SUMIFS(INDEX(output[#Data],0,MATCH(\"ishp_Market\",output[#Headers],0)),output[equipment_type],$C$564,output[year],E$565,output[sensitivity],\"Base\")","v":0.10447159481613773},{"$f":"SUMIFS(INDEX(output[#Data],0,MATCH(\"ishp_Market\",output[#Headers],0)),output[equipment_type],$C$564,output[control_strategy],\"ASD Control\",output[load_type],\"Constant\",output[year],F$565,output[sensitivity],\"Base\")/SUMIFS(INDEX(output[#Data],0,MATCH(\"ishp_Market\",output[#Headers],0)),output[equipment_type],$C$564,output[year],F$565,output[sensitivity],\"Base\")","v":0.12205205750237395},{"$f":"SUMIFS(INDEX(output[#Data],0,MATCH(\"ishp_Market\",output[#Headers],0)),output[equipment_type],$C$564,output[control_strategy],\"ASD Control\",output[load_type],\"Constant\",output[year],G$565,output[sensitivity],\"Base\")/SUMIFS(INDEX(output[#Data],0,MATCH(\"ishp_Market\",output[#Headers],0)),output[equipment_type],$C$564,output[year],G$565,output[sensitivity],\"Base\")","v":0.14023681218105347},{"$f":"SUMIFS(INDEX(output[#Data],0,MATCH(\"ishp_Market\",output[#Headers],0)),output[equipment_type],$C$564,output[control_strategy],\"ASD Control\",output[load_type],\"Constant\",output[year],H$565,output[sensitivity],\"Base\")/SUMIFS(INDEX(output[#Data],0,MATCH(\"ishp_Market\",output[#Headers],0)),output[equipment_type],$C$564,output[year],H$565,output[sensitivity],\"Base\")","v":0.1608563712642436},{"$f":"SUMIFS(INDEX(output[#Data],0,MATCH(\"ishp_Market\",output[#Headers],0)),output[equipment_type],$C$564,output[control_strategy],\"ASD Control\",output[load_type],\"Constant\",output[year],I$565,output[sensitivity],\"Base\")/SUMIFS(INDEX(output[#Data],0,MATCH(\"ishp_Market\",output[#Headers],0)),output[equipment_type],$C$564,output[year],I$565,output[sensitivity],\"Base\")","v":0.18484464550106558},{"$f":"SUMIFS(INDEX(output[#Data],0,MATCH(\"ishp_Market\",output[#Headers],0)),output[equipment_type],$C$564,output[control_strategy],\"ASD Control\",output[load_type],\"Constant\",output[year],J$565,output[sensitivity],\"Base\")/SUMIFS(INDEX(output[#Data],0,MATCH(\"ishp_Market\",output[#Headers],0)),output[equipment_type],$C$564,output[year],J$565,output[sensitivity],\"Base\")","v":0.20278753361498672}]
[null,null,"Variable Load ASD Control",{"$f":"SUMIFS(INDEX(output[#Data],0,MATCH(\"ishp_Market\",output[#Headers],0)),output[equipment_type],$C$564,output[control_strategy],\"ASD Control\",output[load_type],\"Variable\",output[year],D$565,output[sensitivity],\"Base\")/SUMIFS(INDEX(output[#Data],0,MATCH(\"ishp_Market\",output[#Headers],0)),output[equipment_type],$C$564,output[year],D$565,output[sensitivity],\"Base\")","v":0.30420957185933312},{"$f":"SUMIFS(INDEX(output[#Data],0,MATCH(\"ishp_Market\",output[#Headers],0)),output[equipment_type],$C$564,output[control_strategy],\"ASD Control\",output[load_type],\"Variable\",output[year],E$565,output[sensitivity],\"Base\")/SUMIFS(INDEX(output[#Data],0,MATCH(\"ishp_Market\",output[#Headers],0)),output[equipment_type],$C$564,output[year],E$565,output[sensitivity],\"Base\")","v":0.3197294291613374},{"$f":"SUMIFS(INDEX(output[#Data],0,MATCH(\"ishp_Market\",output[#Headers],0)),output[equipment_type],$C$564,output[control_strategy],\"ASD Control\",output[load_type],\"Variable\",output[year],F$565,output[sensitivity],\"Base\")/SUMIFS(INDEX(output[#Data],0,MATCH(\"ishp_Market\",output[#Headers],0)),output[equipment_type],$C$564,output[year],F$565,output[sensitivity],\"Base\")","v":0.33235861881543405},{"$f":"SUMIFS(INDEX(output[#Data],0,MATCH(\"ishp_Market\",output[#Headers],0)),output[equipment_type],$C$564,output[control_strategy],\"ASD Control\",output[load_type],\"Variable\",output[year],G$565,output[sensitivity],\"Base\")/SUMIFS(INDEX(output[#Data],0,MATCH(\"ishp_Market\",output[#Headers],0)),output[equipment_type],$C$564,output[year],G$565,output[sensitivity],\"Base\")","v":0.34269026646220768},{"$f":"SUMIFS(INDEX(output[#Data],0,MATCH(\"ishp_Market\",output[#Headers],0)),output[equipment_type],$C$564,output[control_strategy],\"ASD Control\",output[load_type],\"Variable\",output[year],H$565,output[sensitivity],\"Base\")/SUMIFS(INDEX(output[#Data],0,MATCH(\"ishp_Market\",output[#Headers],0)),output[equipment_type],$C$564,output[year],H$565,output[sensitivity],\"Base\")","v":0.35506443025078044},{"$f":"SUMIFS(INDEX(output[#Data],0,MATCH(\"ishp_Market\",output[#Headers],0)),output[equipment_type],$C$564,output[control_strategy],\"ASD Control\",output[load_type],\"Variable\",output[year],I$565,output[sensitivity],\"Base\")/SUMIFS(INDEX(output[#Data],0,MATCH(\"ishp_Market\",output[#Headers],0)),output[equipment_type],$C$564,output[year],I$565,output[sensitivity],\"Base\")","v":0.36789156680076912},{"$f":"SUMIFS(INDEX(output[#Data],0,MATCH(\"ishp_Market\",output[#Headers],0)),output[equipment_type],$C$564,output[control_strategy],\"ASD Control\",output[load_type],\"Variable\",output[year],J$565,output[sensitivity],\"Base\")/SUMIFS(INDEX(output[#Data],0,MATCH(\"ishp_Market\",output[#Headers],0)),output[equipment_type],$C$564,output[year],J$565,output[sensitivity],\"Base\")","v":0.3689494009285223}]
[]
[null,null,{"$f":"\"Table for \"&H547","v":"Table for Figure 36: Distribution of Pumps by Control Type and Load Type, by Year (In-Service Motors)"}]
[null,null,"Pumps","Year"]
[null,null,null,2015,2016,2017,2018,2019,2020,2021]
[null,null,"Constant Load Non-ASD Control",{"$f":"SUMIFS(INDEX(output[#Data],0,MATCH(\"num_motors_Market\",output[#Headers],0)),output[equipment_type],$C$564,output[control_strategy],\"Non ASD Control\",output[load_type],\"Constant\",output[year],D$565,output[sensitivity],\"Base\")/SUMIFS(INDEX(output[#Data],0,MATCH(\"num_motors_Market\",output[#Headers],0)),output[equipment_type],$C$564,output[year],D$565,output[sensitivity],\"Base\")","v":0.50807641932698},{"$f":"SUMIFS(INDEX(output[#Data],0,MATCH(\"num_motors_Market\",output[#Headers],0)),output[equipment_type],$C$564,output[control_strategy],\"Non ASD Control\",output[load_type],\"Constant\",output[year],E$565,output[sensitivity],\"Base\")/SUMIFS(INDEX(output[#Data],0,MATCH(\"num_motors_Market\",output[#Headers],0)),output[equipment_type],$C$564,output[year],E$565,output[sensitivity],\"Base\")","v":0.48505079606645252},{"$f":"SUMIFS(INDEX(output[#Data],0,MATCH(\"num_motors_Market\",output[#Headers],0)),output[equipment_type],$C$564,output[control_strategy],\"Non ASD Control\",output[load_type],\"Constant\",output[year],F$565,output[sensitivity],\"Base\")/SUMIFS(INDEX(output[#Data],0,MATCH(\"num_motors_Market\",output[#Headers],0)),output[equipment_type],$C$564,output[year],F$565,output[sensitivity],\"Base\")","v":0.46131921907356616},{"$f":"SUMIFS(INDEX(output[#Data],0,MATCH(\"num_motors_Market\",output[#Headers],0)),output[equipment_type],$C$564,output[control_strategy],\"Non ASD Control\",output[load_type],\"Constant\",output[year],G$565,output[sensitivity],\"Base\")/SUMIFS(INDEX(output[#Data],0,MATCH(\"num_motors_Market\",output[#Headers],0)),output[equipment_type],$C$564,output[year],G$565,output[sensitivity],\"Base\")","v":0.43914594861244899},{"$f":"SUMIFS(INDEX(output[#Data],0,MATCH(\"num_motors_Market\",output[#Headers],0)),output[equipment_type],$C$564,output[control_strategy],\"Non ASD Control\",output[load_type],\"Constant\",output[year],H$565,output[sensitivity],\"Base\")/SUMIFS(INDEX(output[#Data],0,MATCH(\"num_motors_Market\",output[#Headers],0)),output[equipment_type],$C$564,output[year],H$565,output[sensitivity],\"Base\")","v":0.41101584598235197},{"$f":"SUMIFS(INDEX(output[#Data],0,MATCH(\"num_motors_Market\",output[#Headers],0)),output[equipment_type],$C$564,output[control_strategy],\"Non ASD Control\",output[load_type],\"Constant\",output[year],I$565,output[sensitivity],\"Base\")/SUMIFS(INDEX(output[#Data],0,MATCH(\"num_motors_Market\",output[#Headers],0)),output[equipment_type],$C$564,output[year],I$565,output[sensitivity],\"Base\")","v":0.38162305081107029},{"$f":"SUMIFS(INDEX(output[#Data],0,MATCH(\"num_motors_Market\",output[#Headers],0)),output[equipment_type],$C$564,output[control_strategy],\"Non ASD Control\",output[load_type],\"Constant\",output[year],J$565,output[sensitivity],\"Base\")/SUMIFS(INDEX(output[#Data],0,MATCH(\"num_motors_Market\",output[#Headers],0)),output[equipment_type],$C$564,output[year],J$565,output[sensitivity],\"Base\")","v":0.35692972025655956}]
[null,null,"Variable Load Non-ASD Control",{"$f":"SUMIFS(INDEX(output[#Data],0,MATCH(\"num_motors_Market\",output[#Headers],0)),output[equipment_type],$C$564,output[control_strategy],\"Non ASD Control\",output[load_type],\"Variable\",output[year],D$565,output[sensitivity],\"Base\")/SUMIFS(INDEX(output[#Data],0,MATCH(\"num_motors_Market\",output[#Headers],0)),output[equipment_type],$C$564,output[year],D$565,output[sensitivity],\"Base\")","v":0.21062616267018786},{"$f":"SUMIFS(INDEX(output[#Data],0,MATCH(\"num_motors_Market\",output[#Headers],0)),output[equipment_type],$C$564,output[control_strategy],\"Non ASD Control\",output[load_type],\"Variable\",output[year],E$565,output[sensitivity],\"Base\")/SUMIFS(INDEX(output[#Data],0,MATCH(\"num_motors_Market\",output[#Headers],0)),output[equipment_type],$C$564,output[year],E$565,output[sensitivity],\"Base\")","v":0.20108075082667309},{"$f":"SUMIFS(INDEX(output[#Data],0,MATCH(\"num_motors_Market\",output[#Headers],0)),output[equipment_type],$C$564,output[control_strategy],\"Non ASD Control\",output[load_type],\"Variable\",output[year],F$565,output[sensitivity],\"Base\")/SUMIFS(INDEX(output[#Data],0,MATCH(\"num_motors_Market\",output[#Headers],0)),output[equipment_type],$C$564,output[year],F$565,output[sensitivity],\"Base\")","v":0.19124268157963933},{"$f":"SUMIFS(INDEX(output[#Data],0,MATCH(\"num_motors_Market\",output[#Headers],0)),output[equipment_type],$C$564,output[control_strategy],\"Non ASD Control\",output[load_type],\"Variable\",output[year],G$565,output[sensitivity],\"Base\")/SUMIFS(INDEX(output[#Data],0,MATCH(\"num_motors_Market\",output[#Headers],0)),output[equipment_type],$C$564,output[year],G$565,output[sensitivity],\"Base\")","v":0.18205061776124787},{"$f":"SUMIFS(INDEX(output[#Data],0,MATCH(\"num_motors_Market\",output[#Headers],0)),output[equipment_type],$C$564,output[control_strategy],\"Non ASD Control\",output[load_type],\"Variable\",output[year],H$565,output[sensitivity],\"Base\")/SUMIFS(INDEX(output[#Data],0,MATCH(\"num_motors_Market\",output[#Headers],0)),output[equipment_type],$C$564,output[year],H$565,output[sensitivity],\"Base\")","v":0.17038911302079132},{"$f":"SUMIFS(INDEX(output[#Data],0,MATCH(\"num_motors_Market\",output[#Headers],0)),output[equipment_type],$C$564,output[control_strategy],\"Non ASD Control\",output[load_type],\"Variable\",output[year],I$565,output[sensitivity],\"Base\")/SUMIFS(INDEX(output[#Data],0,MATCH(\"num_motors_Market\",output[#Headers],0)),output[equipment_type],$C$564,output[year],I$565,output[sensitivity],\"Base\")","v":0.15820415142529204},{"$f":"SUMIFS(INDEX(output[#Data],0,MATCH(\"num_motors_Market\",output[#Headers],0)),output[equipment_type],$C$564,output[control_strategy],\"Non ASD Control\",output[load_type],\"Variable\",output[year],J$565,output[sensitivity],\"Base\")/SUMIFS(INDEX(output[#Data],0,MATCH(\"num_motors_Market\",output[#Headers],0)),output[equipment_type],$C$564,output[year],J$565,output[sensitivity],\"Base\")","v":0.14796738140330865}]
[null,null,"Constant Load ASD Control",{"$f":"SUMIFS(INDEX(output[#Data],0,MATCH(\"num_motors_Market\",output[#Headers],0)),output[equipment_type],$C$564,output[control_strategy],\"ASD Control\",output[load_type],\"Constant\",output[year],D$565,output[sensitivity],\"Base\")/SUMIFS(INDEX(output[#Data],0,MATCH(\"num_motors_Market\",output[#Headers],0)),output[equipment_type],$C$564,output[year],D$565,output[sensitivity],\"Base\")","v":6.5862743419451766E-2},{"$f":"SUMIFS(INDEX(output[#Data],0,MATCH(\"num_motors_Market\",output[#Headers],0)),output[equipment_type],$C$564,output[control_strategy],\"ASD Control\",output[load_type],\"Constant\",output[year],E$565,output[sensitivity],\"Base\")/SUMIFS(INDEX(output[#Data],0,MATCH(\"num_motors_Market\",output[#Headers],0)),output[equipment_type],$C$564,output[year],E$565,output[sensitivity],\"Base\")","v":7.5686699413783129E-2},{"$f":"SUMIFS(INDEX(output[#Data],0,MATCH(\"num_motors_Market\",output[#Headers],0)),output[equipment_type],$C$564,output[control_strategy],\"ASD Control\",output[load_type],\"Constant\",output[year],F$565,output[sensitivity],\"Base\")/SUMIFS(INDEX(output[#Data],0,MATCH(\"num_motors_Market\",output[#Headers],0)),output[equipment_type],$C$564,output[year],F$565,output[sensitivity],\"Base\")","v":9.3145461033099425E-2},{"$f":"SUMIFS(INDEX(output[#Data],0,MATCH(\"num_motors_Market\",output[#Headers],0)),output[equipment_type],$C$564,output[control_strategy],\"ASD Control\",output[load_type],\"Constant\",output[year],G$565,output[sensitivity],\"Base\")/SUMIFS(INDEX(output[#Data],0,MATCH(\"num_motors_Market\",output[#Headers],0)),output[equipment_type],$C$564,output[year],G$565,output[sensitivity],\"Base\")","v":0.11243415377514963},{"$f":"SUMIFS(INDEX(output[#Data],0,MATCH(\"num_motors_Market\",output[#Headers],0)),output[equipment_type],$C$564,output[control_strategy],\"ASD Control\",output[load_type],\"Constant\",output[year],H$565,output[sensitivity],\"Base\")/SUMIFS(INDEX(output[#Data],0,MATCH(\"num_motors_Market\",output[#Headers],0)),output[equipment_type],$C$564,output[year],H$565,output[sensitivity],\"Base\")","v":0.13606765205818153},{"$f":"SUMIFS(INDEX(output[#Data],0,MATCH(\"num_motors_Market\",output[#Headers],0)),output[equipment_type],$C$564,output[control_strategy],\"ASD Control\",output[load_type],\"Constant\",output[year],I$565,output[sensitivity],\"Base\")/SUMIFS(INDEX(output[#Data],0,MATCH(\"num_motors_Market\",output[#Headers],0)),output[equipment_type],$C$564,output[year],I$565,output[sensitivity],\"Base\")","v":0.16202129465204737},{"$f":"SUMIFS(INDEX(output[#Data],0,MATCH(\"num_motors_Market\",output[#Headers],0)),output[equipment_type],$C$564,output[control_strategy],\"ASD Control\",output[load_type],\"Constant\",output[year],J$565,output[sensitivity],\"Base\")/SUMIFS(INDEX(output[#Data],0,MATCH(\"num_motors_Market\",output[#Headers],0)),output[equipment_type],$C$564,output[year],J$565,output[sensitivity],\"Base\")","v":0.18648343331102246}]
[null,null,"Variable Load ASD Control",{"$f":"SUMIFS(INDEX(output[#Data],0,MATCH(\"num_motors_Market\",output[#Headers],0)),output[equipment_type],$C$564,output[control_strategy],\"ASD Control\",output[load_type],\"Variable\",output[year],D$565,output[sensitivity],\"Base\")/SUMIFS(INDEX(output[#Data],0,MATCH(\"num_motors_Market\",output[#Headers],0)),output[equipment_type],$C$564,output[year],D$565,output[sensitivity],\"Base\")","v":0.21543467458338136},{"$f":"SUMIFS(INDEX(output[#Data],0,MATCH(\"num_motors_Market\",output[#Headers],0)),output[equipment_type],$C$564,output[control_strategy],\"ASD Control\",output[load_type],\"Variable\",output[year],E$565,output[sensitivity],\"Base\")/SUMIFS(INDEX(output[#Data],0,MATCH(\"num_motors_Market\",output[#Headers],0)),output[equipment_type],$C$564,output[year],E$565,output[sensitivity],\"Base\")","v":0.23818175369308975},{"$f":"SUMIFS(INDEX(output[#Data],0,MATCH(\"num_motors_Market\",output[#Headers],0)),output[equipment_type],$C$564,output[control_strategy],\"ASD Control\",output[load_type],\"Variable\",output[year],F$565,output[sensitivity],\"Base\")/SUMIFS(INDEX(output[#Data],0,MATCH(\"num_motors_Market\",output[#Headers],0)),output[equipment_type],$C$564,output[year],F$565,output[sensitivity],\"Base\")","v":0.25429263831369781},{"$f":"SUMIFS(INDEX(output[#Data],0,MATCH(\"num_motors_Market\",output[#Headers],0)),output[equipment_type],$C$564,output[control_strategy],\"ASD Control\",output[load_type],\"Variable\",output[year],G$565,output[sensitivity],\"Base\")/SUMIFS(INDEX(output[#Data],0,MATCH(\"num_motors_Market\",output[#Headers],0)),output[equipment_type],$C$564,output[year],G$565,output[sensitivity],\"Base\")","v":0.26636927985115383},{"$f":"SUMIFS(INDEX(output[#Data],0,MATCH(\"num_motors_Market\",output[#Headers],0)),output[equipment_type],$C$564,output[control_strategy],\"ASD Control\",output[load_type],\"Variable\",output[year],H$565,output[sensitivity],\"Base\")/SUMIFS(INDEX(output[#Data],0,MATCH(\"num_motors_Market\",output[#Headers],0)),output[equipment_type],$C$564,output[year],H$565,output[sensitivity],\"Base\")","v":0.28252738893867524},{"$f":"SUMIFS(INDEX(output[#Data],0,MATCH(\"num_motors_Market\",output[#Headers],0)),output[equipment_type],$C$564,output[control_strategy],\"ASD Control\",output[load_type],\"Variable\",output[year],I$565,output[sensitivity],\"Base\")/SUMIFS(INDEX(output[#Data],0,MATCH(\"num_motors_Market\",output[#Headers],0)),output[equipment_type],$C$564,output[year],I$565,output[sensitivity],\"Base\")","v":0.29815150311158917},{"$f":"SUMIFS(INDEX(output[#Data],0,MATCH(\"num_motors_Market\",output[#Headers],0)),output[equipment_type],$C$564,output[control_strategy],\"ASD Control\",output[load_type],\"Variable\",output[year],J$565,output[sensitivity],\"Base\")/SUMIFS(INDEX(output[#Data],0,MATCH(\"num_motors_Market\",output[#Headers],0)),output[equipment_type],$C$564,output[year],J$565,output[sensitivity],\"Base\")","v":0.30861946502911108}]
[]
[null,null,"Figure 37: Distribution of Pumps by Motor Size, 2020 (In-Service Motor HP)",null,null,null,null,"Figure 38: Distribution of Pumps by Motor Size, 2020 (In-Service Motors)"]
[]
[]
[]
[]
[]
[]
[]
[]
[]
[]
[]
[]
[]
[]
[]
[]
[]
[]
[]
[]
[null,null,{"$f":"\"Table for \"&C579","v":"Table for Figure 37: Distribution of Pumps by Motor Size, 2020 (In-Service Motor HP)"}]
[null,null,"Pumps","1-5 HP","6-10 HP","11-20 HP","21-50 HP","51-100 HP","101-200 HP","201-500 HP","501-1,000 HP","1,001+ HP"]
[null,null,null,{"$f":"SUMIFS(INDEX(output[#Data],0,MATCH(\"ishp_Market\",output[#Headers],0)),output[equipment_type],$C$601,output[motor_size],D$601,output[year],2020,output[sensitivity],\"Base\")/SUMIFS(INDEX(output[#Data],0,MATCH(\"ishp_Market\",output[#Headers],0)),output[equipment_type],$C$601,output[year],2020,output[sensitivity],\"Base\")","v":2.2581823213026209E-2},{"$f":"SUMIFS(INDEX(output[#Data],0,MATCH(\"ishp_Market\",output[#Headers],0)),output[equipment_type],$C$601,output[motor_size],E$601,output[year],2020,output[sensitivity],\"Base\")/SUMIFS(INDEX(output[#Data],0,MATCH(\"ishp_Market\",output[#Headers],0)),output[equipment_type],$C$601,output[year],2020,output[sensitivity],\"Base\")","v":6.0187622357990994E-2},{"$f":"SUMIFS(INDEX(output[#Data],0,MATCH(\"ishp_Market\",output[#Headers],0)),output[equipment_type],$C$601,output[motor_size],F$601,output[year],2020,output[sensitivity],\"Base\")/SUMIFS(INDEX(output[#Data],0,MATCH(\"ishp_Market\",output[#Headers],0)),output[equipment_type],$C$601,output[year],2020,output[sensitivity],\"Base\")","v":6.0187622357990994E-2},{"$f":"SUMIFS(INDEX(output[#Data],0,MATCH(\"ishp_Market\",output[#Headers],0)),output[equipment_type],$C$601,output[motor_size],G$601,output[year],2020,output[sensitivity],\"Base\")/SUMIFS(INDEX(output[#Data],0,MATCH(\"ishp_Market\",output[#Headers],0)),output[equipment_type],$C$601,output[year],2020,output[sensitivity],\"Base\")","v":0.1946061725036812},{"$f":"SUMIFS(INDEX(output[#Data],0,MATCH(\"ishp_Market\",output[#Headers],0)),output[equipment_type],$C$601,output[motor_size],H$601,output[year],2020,output[sensitivity],\"Base\")/SUMIFS(INDEX(output[#Data],0,MATCH(\"ishp_Market\",output[#Headers],0)),output[equipment_type],$C$601,output[year],2020,output[sensitivity],\"Base\")","v":0.15495983984612727},{"$f":"SUMIFS(INDEX(output[#Data],0,MATCH(\"ishp_Market\",output[#Headers],0)),output[equipment_type],$C$601,output[motor_size],I$601,output[year],2020,output[sensitivity],\"Base\")/SUMIFS(INDEX(output[#Data],0,MATCH(\"ishp_Market\",output[#Headers],0)),output[equipment_type],$C$601,output[year],2020,output[sensitivity],\"Base\")","v":0.17629871396370284},{"$f":"SUMIFS(INDEX(output[#Data],0,MATCH(\"ishp_Market\",output[#Headers],0)),output[equipment_type],$C$601,output[motor_size],J$601,output[year],2020,output[sensitivity],\"Base\")/SUMIFS(INDEX(output[#Data],0,MATCH(\"ishp_Market\",output[#Headers],0)),output[equipment_type],$C$601,output[year],2020,output[sensitivity],\"Base\")","v":0.21112276098073668},{"$f":"SUMIFS(INDEX(output[#Data],0,MATCH(\"ishp_Market\",output[#Headers],0)),output[equipment_type],$C$601,output[motor_size],K$601,output[year],2020,output[sensitivity],\"Base\")/SUMIFS(INDEX(output[#Data],0,MATCH(\"ishp_Market\",output[#Headers],0)),output[equipment_type],$C$601,output[year],2020,output[sensitivity],\"Base\")","v":6.2266190084476099E-2},{"$f":"SUMIFS(INDEX(output[#Data],0,MATCH(\"ishp_Market\",output[#Headers],0)),output[equipment_type],$C$601,output[motor_size],L$601,output[year],2020,output[sensitivity],\"Base\")/SUMIFS(INDEX(output[#Data],0,MATCH(\"ishp_Market\",output[#Headers],0)),output[equipment_type],$C$601,output[year],2020,output[sensitivity],\"Base\")","v":5.7789254692270219E-2}]
[]
[null,null,{"$f":"\"Table for \"&H579:I579","v":"Table for Figure 38: Distribution of Pumps by Motor Size, 2020 (In-Service Motors)"},"Table for "]
[null,null,"Pumps","1-5 HP","6-10 HP","11-20 HP","21-50 HP","51-100 HP","101-200 HP","201-500 HP","501-1,000 HP","1,001+ HP"]
[null,null,null,{"$f":"SUMIFS(INDEX(output[#Data],0,MATCH(\"num_motors_Market\",output[#Headers],0)),output[equipment_type],$C$605,output[motor_size],D$605,output[year],2020,output[sensitivity],\"Base\")/SUMIFS(INDEX(output[#Data],0,MATCH(\"num_motors_Market\",output[#Headers],0)),output[equipment_type],$C$605,output[year],2020,output[sensitivity],\"Base\")","v":0.26520703458330103},{"$f":"SUMIFS(INDEX(output[#Data],0,MATCH(\"num_motors_Market\",output[#Headers],0)),output[equipment_type],$C$605,output[motor_size],E$605,output[year],2020,output[sensitivity],\"Base\")/SUMIFS(INDEX(output[#Data],0,MATCH(\"num_motors_Market\",output[#Headers],0)),output[equipment_type],$C$605,output[year],2020,output[sensitivity],\"Base\")","v":0.26507238853572768},{"$f":"SUMIFS(INDEX(output[#Data],0,MATCH(\"num_motors_Market\",output[#Headers],0)),output[equipment_type],$C$605,output[motor_size],F$605,output[year],2020,output[sensitivity],\"Base\")/SUMIFS(INDEX(output[#Data],0,MATCH(\"num_motors_Market\",output[#Headers],0)),output[equipment_type],$C$605,output[year],2020,output[sensitivity],\"Base\")","v":0.13681155537327888},{"$f":"SUMIFS(INDEX(output[#Data],0,MATCH(\"num_motors_Market\",output[#Headers],0)),output[equipment_type],$C$605,output[motor_size],G$605,output[year],2020,output[sensitivity],\"Base\")/SUMIFS(INDEX(output[#Data],0,MATCH(\"num_motors_Market\",output[#Headers],0)),output[equipment_type],$C$605,output[year],2020,output[sensitivity],\"Base\")","v":0.19314147739228571},{"$f":"SUMIFS(INDEX(output[#Data],0,MATCH(\"num_motors_Market\",output[#Headers],0)),output[equipment_type],$C$605,output[motor_size],H$605,output[year],2020,output[sensitivity],\"Base\")/SUMIFS(INDEX(output[#Data],0,MATCH(\"num_motors_Market\",output[#Headers],0)),output[equipment_type],$C$605,output[year],2020,output[sensitivity],\"Base\")","v":7.2313519361636006E-2},{"$f":"SUMIFS(INDEX(output[#Data],0,MATCH(\"num_motors_Market\",output[#Headers],0)),output[equipment_type],$C$605,output[motor_size],I$605,output[year],2020,output[sensitivity],\"Base\")/SUMIFS(INDEX(output[#Data],0,MATCH(\"num_motors_Market\",output[#Headers],0)),output[equipment_type],$C$605,output[year],2020,output[sensitivity],\"Base\")","v":4.127242010163637E-2},{"$f":"SUMIFS(INDEX(output[#Data],0,MATCH(\"num_motors_Market\",output[#Headers],0)),output[equipment_type],$C$605,output[motor_size],J$605,output[year],2020,output[sensitivity],\"Base\")/SUMIFS(INDEX(output[#Data],0,MATCH(\"num_motors_Market\",output[#Headers],0)),output[equipment_type],$C$605,output[year],2020,output[sensitivity],\"Base\")","v":2.1222391679154455E-2},{"$f":"SUMIFS(INDEX(output[#Data],0,MATCH(\"num_motors_Market\",output[#Headers],0)),output[equipment_type],$C$605,output[motor_size],K$605,output[year],2020,output[sensitivity],\"Base\")/SUMIFS(INDEX(output[#Data],0,MATCH(\"num_motors_Market\",output[#Headers],0)),output[equipment_type],$C$605,output[year],2020,output[sensitivity],\"Base\")","v":2.9231350987780243E-3},{"$f":"SUMIFS(INDEX(output[#Data],0,MATCH(\"num_motors_Market\",output[#Headers],0)),output[equipment_type],$C$605,output[motor_size],L$605,output[year],2020,output[sensitivity],\"Base\")/SUMIFS(INDEX(output[#Data],0,MATCH(\"num_motors_Market\",output[#Headers],0)),output[equipment_type],$C$605,output[year],2020,output[sensitivity],\"Base\")","v":2.0360778742004293E-3}]
[]
[null,null,"Figure 39: Distribution of ASD-Controlled Pumps by Motor Size, 2020 (In-Service Motor HP)",null,null,null,null,"Figure 40: Distribution of ASD-Controlled Pumps by Motor Size, 2020 (In-Service Motors)"]
[]
[]
[]
[]
[]
[]
[]
[]
[]
[]
[]
[]
[]
[]
[]
[]
[null,null,{"$f":"\"Table for \"&C608","v":"Table for Figure 39: Distribution of ASD-Controlled Pumps by Motor Size, 2020 (In-Service Motor HP)"}]
[null,null,"Pumps","1-5 HP","6-10 HP","11-20 HP","21-50 HP","51-100 HP","101-200 HP","201-500 HP","501-1,000 HP","1,001+ HP"]
[null,null,null,{"$f":"SUMIFS(INDEX(output[#Data],0,MATCH(\"ishp_Market\",output[#Headers],0)),output[equipment_type],$C$626,output[motor_size],D$626,output[year],2020,output[control_strategy],\"ASD Control\",output[sensitivity],\"Base\")/SUMIFS(INDEX(output[#Data],0,MATCH(\"ishp_Market\",output[#Headers],0)),output[equipment_type],$C$626,output[year],2020,output[control_strategy],\"ASD Control\",output[sensitivity],\"Base\")","v":1.0500308805604449E-2},{"$f":"SUMIFS(INDEX(output[#Data],0,MATCH(\"ishp_Market\",output[#Headers],0)),output[equipment_type],$C$626,output[motor_size],E$626,output[year],2020,output[control_strategy],\"ASD Control\",output[sensitivity],\"Base\")/SUMIFS(INDEX(output[#Data],0,MATCH(\"ishp_Market\",output[#Headers],0)),output[equipment_type],$C$626,output[year],2020,output[control_strategy],\"ASD Control\",output[sensitivity],\"Base\")","v":5.2036513608492173E-2},{"$f":"SUMIFS(INDEX(output[#Data],0,MATCH(\"ishp_Market\",output[#Headers],0)),output[equipment_type],$C$626,output[motor_size],F$626,output[year],2020,output[control_strategy],\"ASD Control\",output[sensitivity],\"Base\")/SUMIFS(INDEX(output[#Data],0,MATCH(\"ishp_Market\",output[#Headers],0)),output[equipment_type],$C$626,output[year],2020,output[control_strategy],\"ASD Control\",output[sensitivity],\"Base\")","v":5.2036513608492159E-2},{"$f":"SUMIFS(INDEX(output[#Data],0,MATCH(\"ishp_Market\",output[#Headers],0)),output[equipment_type],$C$626,output[motor_size],G$626,output[year],2020,output[control_strategy],\"ASD Control\",output[sensitivity],\"Base\")/SUMIFS(INDEX(output[#Data],0,MATCH(\"ishp_Market\",output[#Headers],0)),output[equipment_type],$C$626,output[year],2020,output[control_strategy],\"ASD Control\",output[sensitivity],\"Base\")","v":0.23057355643412233},{"$f":"SUMIFS(INDEX(output[#Data],0,MATCH(\"ishp_Market\",output[#Headers],0)),output[equipment_type],$C$626,output[motor_size],H$626,output[year],2020,output[control_strategy],\"ASD Control\",output[sensitivity],\"Base\")/SUMIFS(INDEX(output[#Data],0,MATCH(\"ishp_Market\",output[#Headers],0)),output[equipment_type],$C$626,output[year],2020,output[control_strategy],\"ASD Control\",output[sensitivity],\"Base\")","v":0.14393554464834116},{"$f":"SUMIFS(INDEX(output[#Data],0,MATCH(\"ishp_Market\",output[#Headers],0)),output[equipment_type],$C$626,output[motor_size],I$626,output[year],2020,output[control_strategy],\"ASD Control\",output[sensitivity],\"Base\")/SUMIFS(INDEX(output[#Data],0,MATCH(\"ishp_Market\",output[#Headers],0)),output[equipment_type],$C$626,output[year],2020,output[control_strategy],\"ASD Control\",output[sensitivity],\"Base\")","v":0.15882529436304629},{"$f":"SUMIFS(INDEX(output[#Data],0,MATCH(\"ishp_Market\",output[#Headers],0)),output[equipment_type],$C$626,output[motor_size],J$626,output[year],2020,output[control_strategy],\"ASD Control\",output[sensitivity],\"Base\")/SUMIFS(INDEX(output[#Data],0,MATCH(\"ishp_Market\",output[#Headers],0)),output[equipment_type],$C$626,output[year],2020,output[control_strategy],\"ASD Control\",output[sensitivity],\"Base\")","v":0.23582836627750919},{"$f":"SUMIFS(INDEX(output[#Data],0,MATCH(\"ishp_Market\",output[#Headers],0)),output[equipment_type],$C$626,output[motor_size],K$626,output[year],2020,output[control_strategy],\"ASD Control\",output[sensitivity],\"Base\")/SUMIFS(INDEX(output[#Data],0,MATCH(\"ishp_Market\",output[#Headers],0)),output[equipment_type],$C$626,output[year],2020,output[control_strategy],\"ASD Control\",output[sensitivity],\"Base\")","v":6.5657081990362076E-2},{"$f":"SUMIFS(INDEX(output[#Data],0,MATCH(\"ishp_Market\",output[#Headers],0)),output[equipment_type],$C$626,output[motor_size],L$626,output[year],2020,output[control_strategy],\"ASD Control\",output[sensitivity],\"Base\")/SUMIFS(INDEX(output[#Data],0,MATCH(\"ishp_Market\",output[#Headers],0)),output[equipment_type],$C$626,output[year],2020,output[control_strategy],\"ASD Control\",output[sensitivity],\"Base\")","v":5.060682026403255E-2}]
[]
[null,null,{"$f":"\"Table for \"&H608","v":"Table for Figure 40: Distribution of ASD-Controlled Pumps by Motor Size, 2020 (In-Service Motors)"}]
[null,null,"Pumps","1-5 HP","6-10 HP","11-20 HP","21-50 HP","51-100 HP","101-200 HP","201-500 HP","501-1,000 HP","1,001+ HP"]
[null,null,null,{"$f":"SUMIFS(INDEX(output[#Data],0,MATCH(\"num_motors_Market\",output[#Headers],0)),output[equipment_type],$C$630,output[motor_size],D$630,output[year],2020,output[control_strategy],\"ASD Control\",output[sensitivity],\"Base\")/SUMIFS(INDEX(output[#Data],0,MATCH(\"num_motors_Market\",output[#Headers],0)),output[equipment_type],$C$630,output[year],2020,output[control_strategy],\"ASD Control\",output[sensitivity],\"Base\")","v":0.14812388132319287},{"$f":"SUMIFS(INDEX(output[#Data],0,MATCH(\"num_motors_Market\",output[#Headers],0)),output[equipment_type],$C$630,output[motor_size],E$630,output[year],2020,output[control_strategy],\"ASD Control\",output[sensitivity],\"Base\")/SUMIFS(INDEX(output[#Data],0,MATCH(\"num_motors_Market\",output[#Headers],0)),output[equipment_type],$C$630,output[year],2020,output[control_strategy],\"ASD Control\",output[sensitivity],\"Base\")","v":0.27527227444859798},{"$f":"SUMIFS(INDEX(output[#Data],0,MATCH(\"num_motors_Market\",output[#Headers],0)),output[equipment_type],$C$630,output[motor_size],F$630,output[year],2020,output[control_strategy],\"ASD Control\",output[sensitivity],\"Base\")/SUMIFS(INDEX(output[#Data],0,MATCH(\"num_motors_Market\",output[#Headers],0)),output[equipment_type],$C$630,output[year],2020,output[control_strategy],\"ASD Control\",output[sensitivity],\"Base\")","v":0.14207601261863109},{"$f":"SUMIFS(INDEX(output[#Data],0,MATCH(\"num_motors_Market\",output[#Headers],0)),output[equipment_type],$C$630,output[motor_size],G$630,output[year],2020,output[control_strategy],\"ASD Control\",output[sensitivity],\"Base\")/SUMIFS(INDEX(output[#Data],0,MATCH(\"num_motors_Market\",output[#Headers],0)),output[equipment_type],$C$630,output[year],2020,output[control_strategy],\"ASD Control\",output[sensitivity],\"Base\")","v":0.27486877814181826},{"$f":"SUMIFS(INDEX(output[#Data],0,MATCH(\"num_motors_Market\",output[#Headers],0)),output[equipment_type],$C$630,output[motor_size],H$630,output[year],2020,output[control_strategy],\"ASD Control\",output[sensitivity],\"Base\")/SUMIFS(INDEX(output[#Data],0,MATCH(\"num_motors_Market\",output[#Headers],0)),output[equipment_type],$C$630,output[year],2020,output[control_strategy],\"ASD Control\",output[sensitivity],\"Base\")","v":8.0679903580394147E-2},{"$f":"SUMIFS(INDEX(output[#Data],0,MATCH(\"num_motors_Market\",output[#Headers],0)),output[equipment_type],$C$630,output[motor_size],I$630,output[year],2020,output[control_strategy],\"ASD Control\",output[sensitivity],\"Base\")/SUMIFS(INDEX(output[#Data],0,MATCH(\"num_motors_Market\",output[#Headers],0)),output[equipment_type],$C$630,output[year],2020,output[control_strategy],\"ASD Control\",output[sensitivity],\"Base\")","v":4.4660896398687179E-2},{"$f":"SUMIFS(INDEX(output[#Data],0,MATCH(\"num_motors_Market\",output[#Headers],0)),output[equipment_type],$C$630,output[motor_size],J$630,output[year],2020,output[control_strategy],\"ASD Control\",output[sensitivity],\"Base\")/SUMIFS(INDEX(output[#Data],0,MATCH(\"num_motors_Market\",output[#Headers],0)),output[equipment_type],$C$630,output[year],2020,output[control_strategy],\"ASD Control\",output[sensitivity],\"Base\")","v":2.8474249539609718E-2},{"$f":"SUMIFS(INDEX(output[#Data],0,MATCH(\"num_motors_Market\",output[#Headers],0)),output[equipment_type],$C$630,output[motor_size],K$630,output[year],2020,output[control_strategy],\"ASD Control\",output[sensitivity],\"Base\")/SUMIFS(INDEX(output[#Data],0,MATCH(\"num_motors_Market\",output[#Headers],0)),output[equipment_type],$C$630,output[year],2020,output[control_strategy],\"ASD Control\",output[sensitivity],\"Base\")","v":3.7023301818368912E-3},{"$f":"SUMIFS(INDEX(output[#Data],0,MATCH(\"num_motors_Market\",output[#Headers],0)),output[equipment_type],$C$630,output[motor_size],L$630,output[year],2020,output[control_strategy],\"ASD Control\",output[sensitivity],\"Base\")/SUMIFS(INDEX(output[#Data],0,MATCH(\"num_motors_Market\",output[#Headers],0)),output[equipment_type],$C$630,output[year],2020,output[control_strategy],\"ASD Control\",output[sensitivity],\"Base\")","v":2.1416737672322775E-3}]
[]
[null,null,"Equipment Sales"]
[]
[null,null,"This section presents the sales of pumps and fans and sales of ASDs installed on pumps and fans in the industrial sector."]
[null,null,"BPA's ASD Market Model tracks the year pumps and fans are sold. Annual sales of pumps and fans in the region in each year is dependent on pump and fan retirement rates and growth in industry-specific macroeconomic trends. "]
[null,null,"ASD sales are not an output of the ASD market model, but they can be calculated given certain assumptions about the installed stock. If the same equation is used to calculated pump and fan sales outside the model, the values will be slightly different than the model values as it will not account for differences in out-of-service motor HP turnover."]
[]
[null,null,"Estimated ASD Lifetime"]
[null,null,"ASD Lifetime (years)",10]
[null,null,"Source: RTF VSD Measure; Tab Summary, \"VSD_v1_3.xlsm\", Cell F50; https://nwcouncil.app.box.com/v/VariableSpeedDrivev1-3"]
[]
[null,null,"Figure 41: Total Sales of Fans and Estimated Sales of ASDs installed on Fans, by Year (In-Service Motor HP)",null,null,null,null,"Figure 42: Total Sales of Fans and Estimated Sales of ASDs installed on Fans, by Year (In-Service Motors)"]
[]
[]
[]
[]
[]
[]
[]
[]
[]
[]
[]
[]
[]
[]
[]
[]
[null,null,{"$f":"\"Table for \"&C643","v":"Table for Figure 41: Total Sales of Fans and Estimated Sales of ASDs installed on Fans, by Year (In-Service Motor HP)"}]
[null,null,"Fans",null,"Year"]
[null,null,null,null,2014,2015,2016,2017,2018,2019,2020,2021]
[null,null,"Total Fan Sales ",null,"N/A",{"$f":"SUMIFS(INDEX(output[#Data],0,MATCH(\"ishp_Market\",output[#Headers],0)),output[equipment_type],$C$661,output[year],F$662,output[equip_vintage],F$662,output[sensitivity],\"Base\")","v":85013.783279565105},{"$f":"SUMIFS(INDEX(output[#Data],0,MATCH(\"ishp_Market\",output[#Headers],0)),output[equipment_type],$C$661,output[year],G$662,output[equip_vintage],G$662,output[sensitivity],\"Base\")","v":76335.957549298852},{"$f":"SUMIFS(INDEX(output[#Data],0,MATCH(\"ishp_Market\",output[#Headers],0)),output[equipment_type],$C$661,output[year],H$662,output[equip_vintage],H$662,output[sensitivity],\"Base\")","v":58222.130359763119},{"$f":"SUMIFS(INDEX(output[#Data],0,MATCH(\"ishp_Market\",output[#Headers],0)),output[equipment_type],$C$661,output[year],I$662,output[equip_vintage],I$662,output[sensitivity],\"Base\")","v":88911.709210346278},{"$f":"SUMIFS(INDEX(output[#Data],0,MATCH(\"ishp_Market\",output[#Headers],0)),output[equipment_type],$C$661,output[year],J$662,output[equip_vintage],J$662,output[sensitivity],\"Base\")","v":67134.145790957627},{"$f":"SUMIFS(INDEX(output[#Data],0,MATCH(\"ishp_Market\",output[#Headers],0)),output[equipment_type],$C$661,output[year],K$662,output[equip_vintage],K$662,output[sensitivity],\"Base\")","v":59576.687370501822},{"$f":"SUMIFS(INDEX(output[#Data],0,MATCH(\"ishp_Market\",output[#Headers],0)),output[equipment_type],$C$661,output[year],L$662,output[equip_vintage],L$662,output[sensitivity],\"Base\")","v":68082.892900359831}]
[null,null,"In-Service ASD Controlled HP",null,{"$f":"SUMIFS(INDEX(output[#Data],0,MATCH(\"ishp_Market\",output[#Headers],0)),output[equipment_type],$C$661,output[year],E$662,output[sensitivity],\"Base\",output[control_strategy],\"ASD Control\")","v":328993.12141097948},{"$f":"SUMIFS(INDEX(output[#Data],0,MATCH(\"ishp_Market\",output[#Headers],0)),output[equipment_type],$C$661,output[year],F$662,output[sensitivity],\"Base\",output[control_strategy],\"ASD Control\")","v":359932.52395420842},{"$f":"SUMIFS(INDEX(output[#Data],0,MATCH(\"ishp_Market\",output[#Headers],0)),output[equipment_type],$C$661,output[year],G$662,output[sensitivity],\"Base\",output[control_strategy],\"ASD Control\")","v":383550.67603341967},{"$f":"SUMIFS(INDEX(output[#Data],0,MATCH(\"ishp_Market\",output[#Headers],0)),output[equipment_type],$C$661,output[year],H$662,output[sensitivity],\"Base\",output[control_strategy],\"ASD Control\")","v":402177.67072696512},{"$f":"SUMIFS(INDEX(output[#Data],0,MATCH(\"ishp_Market\",output[#Headers],0)),output[equipment_type],$C$661,output[year],I$662,output[sensitivity],\"Base\",output[control_strategy],\"ASD Control\")","v":448424.43219796719},{"$f":"SUMIFS(INDEX(output[#Data],0,MATCH(\"ishp_Market\",output[#Headers],0)),output[equipment_type],$C$661,output[year],J$662,output[sensitivity],\"Base\",output[control_strategy],\"ASD Control\")","v":479060.53694677725},{"$f":"SUMIFS(INDEX(output[#Data],0,MATCH(\"ishp_Market\",output[#Headers],0)),output[equipment_type],$C$661,output[year],K$662,output[sensitivity],\"Base\",output[control_strategy],\"ASD Control\")","v":499912.09654177254},{"$f":"SUMIFS(INDEX(output[#Data],0,MATCH(\"ishp_Market\",output[#Headers],0)),output[equipment_type],$C$661,output[year],L$662,output[sensitivity],\"Base\",output[control_strategy],\"ASD Control\")","v":505566.59656016168}]
[null,null,"Out-of-Service ASD Controlled HP",null,{"$f":"SUMIFS(INDEX(output[#Data],0,MATCH(\"ooshp_Market\",output[#Headers],0)),output[equipment_type],$C$661,output[year],E$662,output[sensitivity],\"Base\",output[control_strategy],\"ASD Control\")","v":108058.78530576811},{"$f":"SUMIFS(INDEX(output[#Data],0,MATCH(\"ooshp_Market\",output[#Headers],0)),output[equipment_type],$C$661,output[year],F$662,output[sensitivity],\"Base\",output[control_strategy],\"ASD Control\")","v":112174.79016631254},{"$f":"SUMIFS(INDEX(output[#Data],0,MATCH(\"ooshp_Market\",output[#Headers],0)),output[equipment_type],$C$661,output[year],G$662,output[sensitivity],\"Base\",output[control_strategy],\"ASD Control\")","v":118018.71027865546},{"$f":"SUMIFS(INDEX(output[#Data],0,MATCH(\"ooshp_Market\",output[#Headers],0)),output[equipment_type],$C$661,output[year],H$662,output[sensitivity],\"Base\",output[control_strategy],\"ASD Control\")","v":123708.02788706892},{"$f":"SUMIFS(INDEX(output[#Data],0,MATCH(\"ooshp_Market\",output[#Headers],0)),output[equipment_type],$C$661,output[year],I$662,output[sensitivity],\"Base\",output[control_strategy],\"ASD Control\")","v":115189.53134256526},{"$f":"SUMIFS(INDEX(output[#Data],0,MATCH(\"ooshp_Market\",output[#Headers],0)),output[equipment_type],$C$661,output[year],J$662,output[sensitivity],\"Base\",output[control_strategy],\"ASD Control\")","v":117100.67504940597},{"$f":"SUMIFS(INDEX(output[#Data],0,MATCH(\"ooshp_Market\",output[#Headers],0)),output[equipment_type],$C$661,output[year],K$662,output[sensitivity],\"Base\",output[control_strategy],\"ASD Control\")","v":120221.30947627652},{"$f":"SUMIFS(INDEX(output[#Data],0,MATCH(\"ooshp_Market\",output[#Headers],0)),output[equipment_type],$C$661,output[year],L$662,output[sensitivity],\"Base\",output[control_strategy],\"ASD Control\")","v":137624.03639235572}]
[null,null,"Total Fan ASD Sales",null,"N/A",{"$f":"F664-E664+((E664+(E665-F665))/$D$640)-(E665-F665)","v":67543.119058816868},64870.932575740728,62102.448144459529,78797.88165364528,77198.577304763414,71566.184273856517,71308.163897037666]
[]
[null,null,{"$f":"\"Table for \"&H643","v":"Table for Figure 42: Total Sales of Fans and Estimated Sales of ASDs installed on Fans, by Year (In-Service Motors)"}]
[null,null,"Fans",null,"Year"]
[null,null,null,null,2014,2015,2016,2017,2018,2019,2020,2021]
[null,null,"Total Fan Sales ",null,"N/A",{"$f":"SUMIFS(INDEX(output[#Data],0,MATCH(\"num_motors_Market\",output[#Headers],0)),output[equipment_type],$C$669,output[year],F$670,output[equip_vintage],F$670,output[sensitivity],\"Base\")","v":4153.5185188452288},{"$f":"SUMIFS(INDEX(output[#Data],0,MATCH(\"num_motors_Market\",output[#Headers],0)),output[equipment_type],$C$669,output[year],G$670,output[equip_vintage],G$670,output[sensitivity],\"Base\")","v":3694.6762034569556},{"$f":"SUMIFS(INDEX(output[#Data],0,MATCH(\"num_motors_Market\",output[#Headers],0)),output[equipment_type],$C$669,output[year],H$670,output[equip_vintage],H$670,output[sensitivity],\"Base\")","v":3127.2319993138672},{"$f":"SUMIFS(INDEX(output[#Data],0,MATCH(\"num_motors_Market\",output[#Headers],0)),output[equipment_type],$C$669,output[year],I$670,output[equip_vintage],I$670,output[sensitivity],\"Base\")","v":6568.0560032204148},{"$f":"SUMIFS(INDEX(output[#Data],0,MATCH(\"num_motors_Market\",output[#Headers],0)),output[equipment_type],$C$669,output[year],J$670,output[equip_vintage],J$670,output[sensitivity],\"Base\")","v":4792.2124351310285},{"$f":"SUMIFS(INDEX(output[#Data],0,MATCH(\"num_motors_Market\",output[#Headers],0)),output[equipment_type],$C$669,output[year],K$670,output[equip_vintage],K$670,output[sensitivity],\"Base\")","v":3244.8817202869777},{"$f":"SUMIFS(INDEX(output[#Data],0,MATCH(\"num_motors_Market\",output[#Headers],0)),output[equipment_type],$C$669,output[year],L$670,output[equip_vintage],L$670,output[sensitivity],\"Base\")","v":6738.7003783396522}]
[null,null,"In-Service ASD Controlled Motors",null,{"$f":"SUMIFS(INDEX(output[#Data],0,MATCH(\"num_motors_Market\",output[#Headers],0)),output[equipment_type],$C$661,output[year],E$662,output[sensitivity],\"Base\",output[control_strategy],\"ASD Control\")","v":14875.467342564149},{"$f":"SUMIFS(INDEX(output[#Data],0,MATCH(\"num_motors_Market\",output[#Headers],0)),output[equipment_type],$C$661,output[year],F$662,output[sensitivity],\"Base\",output[control_strategy],\"ASD Control\")","v":16271.114349768119},{"$f":"SUMIFS(INDEX(output[#Data],0,MATCH(\"num_motors_Market\",output[#Headers],0)),output[equipment_type],$C$661,output[year],G$662,output[sensitivity],\"Base\",output[control_strategy],\"ASD Control\")","v":17485.721011761405},{"$f":"SUMIFS(INDEX(output[#Data],0,MATCH(\"num_motors_Market\",output[#Headers],0)),output[equipment_type],$C$661,output[year],H$662,output[sensitivity],\"Base\",output[control_strategy],\"ASD Control\")","v":18637.058572037109},{"$f":"SUMIFS(INDEX(output[#Data],0,MATCH(\"num_motors_Market\",output[#Headers],0)),output[equipment_type],$C$661,output[year],I$662,output[sensitivity],\"Base\",output[control_strategy],\"ASD Control\")","v":21194.555500692233},{"$f":"SUMIFS(INDEX(output[#Data],0,MATCH(\"num_motors_Market\",output[#Headers],0)),output[equipment_type],$C$661,output[year],J$662,output[sensitivity],\"Base\",output[control_strategy],\"ASD Control\")","v":23083.055293690886},{"$f":"SUMIFS(INDEX(output[#Data],0,MATCH(\"num_motors_Market\",output[#Headers],0)),output[equipment_type],$C$661,output[year],K$662,output[sensitivity],\"Base\",output[control_strategy],\"ASD Control\")","v":24295.984807985496},{"$f":"SUMIFS(INDEX(output[#Data],0,MATCH(\"num_motors_Market\",output[#Headers],0)),output[equipment_type],$C$661,output[year],L$662,output[sensitivity],\"Base\",output[control_strategy],\"ASD Control\")","v":25415.725091792494}]
[null,null,"Out-of-Service ASD Controlled Motors",null,{"$f":"SUMIFS(INDEX(output[#Data],0,MATCH(\"num_motors_ooshp_Market\",output[#Headers],0)),output[equipment_type],$C$661,output[year],E$662,output[sensitivity],\"Base\",output[control_strategy],\"ASD Control\")","v":4974.1155713182015},{"$f":"SUMIFS(INDEX(output[#Data],0,MATCH(\"num_motors_ooshp_Market\",output[#Headers],0)),output[equipment_type],$C$661,output[year],F$662,output[sensitivity],\"Base\",output[control_strategy],\"ASD Control\")","v":5195.5336823180978},{"$f":"SUMIFS(INDEX(output[#Data],0,MATCH(\"num_motors_ooshp_Market\",output[#Headers],0)),output[equipment_type],$C$661,output[year],G$662,output[sensitivity],\"Base\",output[control_strategy],\"ASD Control\")","v":5381.9051380379015},{"$f":"SUMIFS(INDEX(output[#Data],0,MATCH(\"num_motors_ooshp_Market\",output[#Headers],0)),output[equipment_type],$C$661,output[year],H$662,output[sensitivity],\"Base\",output[control_strategy],\"ASD Control\")","v":5470.3139078568292},{"$f":"SUMIFS(INDEX(output[#Data],0,MATCH(\"num_motors_ooshp_Market\",output[#Headers],0)),output[equipment_type],$C$661,output[year],I$662,output[sensitivity],\"Base\",output[control_strategy],\"ASD Control\")","v":5038.8917886212694},{"$f":"SUMIFS(INDEX(output[#Data],0,MATCH(\"num_motors_ooshp_Market\",output[#Headers],0)),output[equipment_type],$C$661,output[year],J$662,output[sensitivity],\"Base\",output[control_strategy],\"ASD Control\")","v":5095.5527257705771},{"$f":"SUMIFS(INDEX(output[#Data],0,MATCH(\"num_motors_ooshp_Market\",output[#Headers],0)),output[equipment_type],$C$661,output[year],K$662,output[sensitivity],\"Base\",output[control_strategy],\"ASD Control\")","v":5116.0248772661189},{"$f":"SUMIFS(INDEX(output[#Data],0,MATCH(\"num_motors_ooshp_Market\",output[#Headers],0)),output[equipment_type],$C$661,output[year],L$662,output[sensitivity],\"Base\",output[control_strategy],\"ASD Control\")","v":5836.3413254344159}]
[null,null,"Total Fan ASD Sales",null,"N/A",{"$f":"F672-E672+((E672+(E673-F673))/$D$640)-(E673-F673)","v":3082.4700413602914},3009.4524071179212,2979.4775542888797,4032.9228785468313,4058.9501865022535,3539.6599800096865,4197.6235679570145]
[]
[]
[null,null,"Figure 43: Total Sales of Pumps and Estimated Sales of ASDs installed on Pumps, by Year (In-Service Motor HP)",null,null,null,null,"Figure 44: Total Sales of Pumps and Estimated Sales of ASDs installed on Pumps, by Year (In-Service Motors)"]
[]
[]
[]
[]
[]
[]
[]
[]
[]
[]
[]
[]
[]
[]
[]
[null,null,{"$f":"\"Table for \"&C677","v":"Table for Figure 43: Total Sales of Pumps and Estimated Sales of ASDs installed on Pumps, by Year (In-Service Motor HP)"}]
[null,null,"Pumps",null,"Year"]
[null,null,null,null,2014,2015,2016,2017,2018,2019,2020,2021]
[null,null,"Total Pump Sales ",null,"N/A",{"$f":"SUMIFS(INDEX(output[#Data],0,MATCH(\"ishp_Market\",output[#Headers],0)),output[equipment_type],$C$694,output[year],F$695,output[equip_vintage],F$695,output[sensitivity],\"Base\")","v":174544.90874093416},{"$f":"SUMIFS(INDEX(output[#Data],0,MATCH(\"ishp_Market\",output[#Headers],0)),output[equipment_type],$C$694,output[year],G$695,output[equip_vintage],G$695,output[sensitivity],\"Base\")","v":161696.23950450998},{"$f":"SUMIFS(INDEX(output[#Data],0,MATCH(\"ishp_Market\",output[#Headers],0)),output[equipment_type],$C$694,output[year],H$695,output[equip_vintage],H$695,output[sensitivity],\"Base\")","v":113079.26782962828},{"$f":"SUMIFS(INDEX(output[#Data],0,MATCH(\"ishp_Market\",output[#Headers],0)),output[equipment_type],$C$694,output[year],I$695,output[equip_vintage],I$695,output[sensitivity],\"Base\")","v":130438.79305674568},{"$f":"SUMIFS(INDEX(output[#Data],0,MATCH(\"ishp_Market\",output[#Headers],0)),output[equipment_type],$C$694,output[year],J$695,output[equip_vintage],J$695,output[sensitivity],\"Base\")","v":111919.77018883609},{"$f":"SUMIFS(INDEX(output[#Data],0,MATCH(\"ishp_Market\",output[#Headers],0)),output[equipment_type],$C$694,output[year],K$695,output[equip_vintage],K$695,output[sensitivity],\"Base\")","v":106795.01910212636},{"$f":"SUMIFS(INDEX(output[#Data],0,MATCH(\"ishp_Market\",output[#Headers],0)),output[equipment_type],$C$694,output[year],L$695,output[equip_vintage],L$695,output[sensitivity],\"Base\")","v":107932.88192315945}]
[null,null,"In-Service ASD Controlled HP",null,{"$f":"SUMIFS(INDEX(output[#Data],0,MATCH(\"ishp_Market\",output[#Headers],0)),output[equipment_type],$C$694,output[year],E$695,output[sensitivity],\"Base\",output[control_strategy],\"ASD Control\")","v":388050.03612331551},{"$f":"SUMIFS(INDEX(output[#Data],0,MATCH(\"ishp_Market\",output[#Headers],0)),output[equipment_type],$C$694,output[year],F$695,output[sensitivity],\"Base\",output[control_strategy],\"ASD Control\")","v":446578.60434405087},{"$f":"SUMIFS(INDEX(output[#Data],0,MATCH(\"ishp_Market\",output[#Headers],0)),output[equipment_type],$C$694,output[year],G$695,output[sensitivity],\"Base\",output[control_strategy],\"ASD Control\")","v":498182.61873650097},{"$f":"SUMIFS(INDEX(output[#Data],0,MATCH(\"ishp_Market\",output[#Headers],0)),output[equipment_type],$C$694,output[year],H$695,output[sensitivity],\"Base\",output[control_strategy],\"ASD Control\")","v":537229.4539732103},{"$f":"SUMIFS(INDEX(output[#Data],0,MATCH(\"ishp_Market\",output[#Headers],0)),output[equipment_type],$C$694,output[year],I$695,output[sensitivity],\"Base\",output[control_strategy],\"ASD Control\")","v":594375.93822024262},{"$f":"SUMIFS(INDEX(output[#Data],0,MATCH(\"ishp_Market\",output[#Headers],0)),output[equipment_type],$C$694,output[year],J$695,output[sensitivity],\"Base\",output[control_strategy],\"ASD Control\")","v":636683.14283220982},{"$f":"SUMIFS(INDEX(output[#Data],0,MATCH(\"ishp_Market\",output[#Headers],0)),output[equipment_type],$C$694,output[year],K$695,output[sensitivity],\"Base\",output[control_strategy],\"ASD Control\")","v":663926.49357347924},{"$f":"SUMIFS(INDEX(output[#Data],0,MATCH(\"ishp_Market\",output[#Headers],0)),output[equipment_type],$C$694,output[year],L$695,output[sensitivity],\"Base\",output[control_strategy],\"ASD Control\")","v":685323.87542628462}]
[null,null,"Out-of-Service ASD Controlled HP",null,{"$f":"SUMIFS(INDEX(output[#Data],0,MATCH(\"ooshp_Market\",output[#Headers],0)),output[equipment_type],$C$694,output[year],E$695,output[sensitivity],\"Base\",output[control_strategy],\"ASD Control\")","v":116038.66745086972},{"$f":"SUMIFS(INDEX(output[#Data],0,MATCH(\"ooshp_Market\",output[#Headers],0)),output[equipment_type],$C$694,output[year],F$695,output[sensitivity],\"Base\",output[control_strategy],\"ASD Control\")","v":118557.71958860457},{"$f":"SUMIFS(INDEX(output[#Data],0,MATCH(\"ooshp_Market\",output[#Headers],0)),output[equipment_type],$C$694,output[year],G$695,output[sensitivity],\"Base\",output[control_strategy],\"ASD Control\")","v":123862.09436749468},{"$f":"SUMIFS(INDEX(output[#Data],0,MATCH(\"ooshp_Market\",output[#Headers],0)),output[equipment_type],$C$694,output[year],H$695,output[sensitivity],\"Base\",output[control_strategy],\"ASD Control\")","v":129603.57561828868},{"$f":"SUMIFS(INDEX(output[#Data],0,MATCH(\"ooshp_Market\",output[#Headers],0)),output[equipment_type],$C$694,output[year],I$695,output[sensitivity],\"Base\",output[control_strategy],\"ASD Control\")","v":123307.54827849206},{"$f":"SUMIFS(INDEX(output[#Data],0,MATCH(\"ooshp_Market\",output[#Headers],0)),output[equipment_type],$C$694,output[year],J$695,output[sensitivity],\"Base\",output[control_strategy],\"ASD Control\")","v":127246.09749033244},{"$f":"SUMIFS(INDEX(output[#Data],0,MATCH(\"ooshp_Market\",output[#Headers],0)),output[equipment_type],$C$694,output[year],K$695,output[sensitivity],\"Base\",output[control_strategy],\"ASD Control\")","v":142533.11837408398},{"$f":"SUMIFS(INDEX(output[#Data],0,MATCH(\"ooshp_Market\",output[#Headers],0)),output[equipment_type],$C$694,output[year],L$695,output[sensitivity],\"Base\",output[control_strategy],\"ASD Control\")","v":157478.62608377839}]
[null,null,"Total Pump ASD Sales",null,"N/A",{"$f":"F697-E697+((E697+(E698-F698))/$D$640)-(E698-F698)","v":99600.718757028269},101035.81212785629,94032.43023607404,105203.00503853639,105289.4927246478,104669.98381986679,101240.98814887827]
[]
[null,null,{"$f":"\"Table for \"&H677","v":"Table for Figure 44: Total Sales of Pumps and Estimated Sales of ASDs installed on Pumps, by Year (In-Service Motors)"}]
[null,null,"Pumps",null,"Year"]
[null,null,null,null,2014,2015,2016,2017,2018,2019,2020,2021]
[null,null,"Total Pump Sales ",null,"N/A",{"$f":"SUMIFS(INDEX(output[#Data],0,MATCH(\"num_motors_Market\",output[#Headers],0)),output[equipment_type],$C$702,output[year],F$703,output[equip_vintage],F$703,output[sensitivity],\"Base\")","v":4761.6505323700112},{"$f":"SUMIFS(INDEX(output[#Data],0,MATCH(\"num_motors_Market\",output[#Headers],0)),output[equipment_type],$C$702,output[year],G$703,output[equip_vintage],G$703,output[sensitivity],\"Base\")","v":4205.8817155561346},{"$f":"SUMIFS(INDEX(output[#Data],0,MATCH(\"num_motors_Market\",output[#Headers],0)),output[equipment_type],$C$702,output[year],H$703,output[equip_vintage],H$703,output[sensitivity],\"Base\")","v":3263.4266697557832},{"$f":"SUMIFS(INDEX(output[#Data],0,MATCH(\"num_motors_Market\",output[#Headers],0)),output[equipment_type],$C$702,output[year],I$703,output[equip_vintage],I$703,output[sensitivity],\"Base\")","v":3858.0923566413867},{"$f":"SUMIFS(INDEX(output[#Data],0,MATCH(\"num_motors_Market\",output[#Headers],0)),output[equipment_type],$C$702,output[year],J$703,output[equip_vintage],J$703,output[sensitivity],\"Base\")","v":3273.8099884622648},{"$f":"SUMIFS(INDEX(output[#Data],0,MATCH(\"num_motors_Market\",output[#Headers],0)),output[equipment_type],$C$702,output[year],K$703,output[equip_vintage],K$703,output[sensitivity],\"Base\")","v":2956.7561343831503},{"$f":"SUMIFS(INDEX(output[#Data],0,MATCH(\"num_motors_Market\",output[#Headers],0)),output[equipment_type],$C$702,output[year],L$703,output[equip_vintage],L$703,output[sensitivity],\"Base\")","v":2896.5251774622875}]
[null,null,"In-Service ASD Controlled Motors",null,{"$f":"SUMIFS(INDEX(output[#Data],0,MATCH(\"num_motors_Market\",output[#Headers],0)),output[equipment_type],$C$702,output[year],E$703,output[sensitivity],\"Base\",output[control_strategy],\"ASD Control\")","v":8984.8240293160106},{"$f":"SUMIFS(INDEX(output[#Data],0,MATCH(\"num_motors_Market\",output[#Headers],0)),output[equipment_type],$C$702,output[year],F$703,output[sensitivity],\"Base\",output[control_strategy],\"ASD Control\")","v":10345.587311486272},{"$f":"SUMIFS(INDEX(output[#Data],0,MATCH(\"num_motors_Market\",output[#Headers],0)),output[equipment_type],$C$702,output[year],G$703,output[sensitivity],\"Base\",output[control_strategy],\"ASD Control\")","v":11506.482164575018},{"$f":"SUMIFS(INDEX(output[#Data],0,MATCH(\"num_motors_Market\",output[#Headers],0)),output[equipment_type],$C$702,output[year],H$703,output[sensitivity],\"Base\",output[control_strategy],\"ASD Control\")","v":12435.487334870393},{"$f":"SUMIFS(INDEX(output[#Data],0,MATCH(\"num_motors_Market\",output[#Headers],0)),output[equipment_type],$C$702,output[year],I$703,output[sensitivity],\"Base\",output[control_strategy],\"ASD Control\")","v":13787.210174593474},{"$f":"SUMIFS(INDEX(output[#Data],0,MATCH(\"num_motors_Market\",output[#Headers],0)),output[equipment_type],$C$702,output[year],J$703,output[sensitivity],\"Base\",output[control_strategy],\"ASD Control\")","v":14949.301667254969},{"$f":"SUMIFS(INDEX(output[#Data],0,MATCH(\"num_motors_Market\",output[#Headers],0)),output[equipment_type],$C$702,output[year],K$703,output[sensitivity],\"Base\",output[control_strategy],\"ASD Control\")","v":15688.294474570361},{"$f":"SUMIFS(INDEX(output[#Data],0,MATCH(\"num_motors_Market\",output[#Headers],0)),output[equipment_type],$C$702,output[year],L$703,output[sensitivity],\"Base\",output[control_strategy],\"ASD Control\")","v":16073.103660898403}]
[null,null,"Out-of-Service ASD Controlled Motors",null,{"$f":"SUMIFS(INDEX(output[#Data],0,MATCH(\"num_motors_ooshp_Market\",output[#Headers],0)),output[equipment_type],$C$702,output[year],E$703,output[sensitivity],\"Base\",output[control_strategy],\"ASD Control\")","v":2759.8704695686729},{"$f":"SUMIFS(INDEX(output[#Data],0,MATCH(\"num_motors_ooshp_Market\",output[#Headers],0)),output[equipment_type],$C$702,output[year],F$703,output[sensitivity],\"Base\",output[control_strategy],\"ASD Control\")","v":2840.0433265383817},{"$f":"SUMIFS(INDEX(output[#Data],0,MATCH(\"num_motors_ooshp_Market\",output[#Headers],0)),output[equipment_type],$C$702,output[year],G$703,output[sensitivity],\"Base\",output[control_strategy],\"ASD Control\")","v":2966.3800843668382},{"$f":"SUMIFS(INDEX(output[#Data],0,MATCH(\"num_motors_ooshp_Market\",output[#Headers],0)),output[equipment_type],$C$702,output[year],H$703,output[sensitivity],\"Base\",output[control_strategy],\"ASD Control\")","v":3105.54114267978},{"$f":"SUMIFS(INDEX(output[#Data],0,MATCH(\"num_motors_ooshp_Market\",output[#Headers],0)),output[equipment_type],$C$702,output[year],I$703,output[sensitivity],\"Base\",output[control_strategy],\"ASD Control\")","v":2983.6283428128459},{"$f":"SUMIFS(INDEX(output[#Data],0,MATCH(\"num_motors_ooshp_Market\",output[#Headers],0)),output[equipment_type],$C$702,output[year],J$703,output[sensitivity],\"Base\",output[control_strategy],\"ASD Control\")","v":2990.0890543346618},{"$f":"SUMIFS(INDEX(output[#Data],0,MATCH(\"num_motors_ooshp_Market\",output[#Headers],0)),output[equipment_type],$C$702,output[year],K$703,output[sensitivity],\"Base\",output[control_strategy],\"ASD Control\")","v":3238.5690876049835},{"$f":"SUMIFS(INDEX(output[#Data],0,MATCH(\"num_motors_ooshp_Market\",output[#Headers],0)),output[equipment_type],$C$702,output[year],L$703,output[sensitivity],\"Base\",output[control_strategy],\"ASD Control\")","v":3819.9873205828926}]
[null,null,"Total Pump ASD Sales",null,"N/A",{"$f":"F705-E705+((E705+(E706-F706))/$D$640)-(E706-F706)","v":2331.4012563746001},2309.1566662829846,2204.8983392345244,2485.5500533298796,2546.6271504904767,2457.5550039841778,2476.9150434651965]
[]
[]
[]
[null,null,"Energy Consumption and Momentum Savings"]
[]
[null,null,"This section presents the energy consumption of pumps and fans in the industrial sector and the Momentum Savings associated with the installation of ASDs on these systems."]
[null,null,"Energy Consumption"]
[]
[null,null,"Figure 45: Fan Energy Consumption by Model Scenario, by Year (aMW at busbar)",null,null,null,null,"Figure 46: Facility Type Distribution of Fan Energy Consumption, 2020 (aMW at busbar)"]
[]
[]
[]
[]
[]
[]
[]
[]
[]
[]
[]
[]
[]
[]
[null,null,{"$f":"\"Table for \"&C716","v":"Table for Figure 45: Fan Energy Consumption by Model Scenario, by Year (aMW at busbar)"}]
[null,null,"Fans","Year"]
[null,null,null,2015,2016,2017,2018,2019,2020,2021]
[null,null,"Baseline Consumption",{"$f":"SUMIFS(INDEX(output[#Data],0,MATCH(\"consump_busbar_Baseline\",output[#Headers],0)),output[equipment_type],$C$732,output[year],D$733,output[sensitivity],\"Base\")/8760000","v":464.42129332500775},{"$f":"SUMIFS(INDEX(output[#Data],0,MATCH(\"consump_busbar_Baseline\",output[#Headers],0)),output[equipment_type],$C$732,output[year],E$733,output[sensitivity],\"Base\")/8760000","v":456.45285541186092},{"$f":"SUMIFS(INDEX(output[#Data],0,MATCH(\"consump_busbar_Baseline\",output[#Headers],0)),output[equipment_type],$C$732,output[year],F$733,output[sensitivity],\"Base\")/8760000","v":447.91732635602187},{"$f":"SUMIFS(INDEX(output[#Data],0,MATCH(\"consump_busbar_Baseline\",output[#Headers],0)),output[equipment_type],$C$732,output[year],G$733,output[sensitivity],\"Base\")/8760000","v":468.23542309784312},{"$f":"SUMIFS(INDEX(output[#Data],0,MATCH(\"consump_busbar_Baseline\",output[#Headers],0)),output[equipment_type],$C$732,output[year],H$733,output[sensitivity],\"Base\")/8760000","v":465.02624517532814},{"$f":"SUMIFS(INDEX(output[#Data],0,MATCH(\"consump_busbar_Baseline\",output[#Headers],0)),output[equipment_type],$C$732,output[year],I$733,output[sensitivity],\"Base\")/8760000","v":462.21381995227057},{"$f":"SUMIFS(INDEX(output[#Data],0,MATCH(\"consump_busbar_Baseline\",output[#Headers],0)),output[equipment_type],$C$732,output[year],J$733,output[sensitivity],\"Base\")/8760000","v":447.08123535124855}]
[null,null,"Market Consumption",{"$f":"SUMIFS(INDEX(output[#Data],0,MATCH(\"consump_busbar_Market\",output[#Headers],0)),output[equipment_type],$C$732,output[year],D$733,output[sensitivity],\"Base\")/8760000","v":464.42129332500775},{"$f":"SUMIFS(INDEX(output[#Data],0,MATCH(\"consump_busbar_Market\",output[#Headers],0)),output[equipment_type],$C$732,output[year],E$733,output[sensitivity],\"Base\")/8760000","v":454.30608351071453},{"$f":"SUMIFS(INDEX(output[#Data],0,MATCH(\"consump_busbar_Market\",output[#Headers],0)),output[equipment_type],$C$732,output[year],F$733,output[sensitivity],\"Base\")/8760000","v":443.7077524536042},{"$f":"SUMIFS(INDEX(output[#Data],0,MATCH(\"consump_busbar_Market\",output[#Headers],0)),output[equipment_type],$C$732,output[year],G$733,output[sensitivity],\"Base\")/8760000","v":461.51710757907858},{"$f":"SUMIFS(INDEX(output[#Data],0,MATCH(\"consump_busbar_Market\",output[#Headers],0)),output[equipment_type],$C$732,output[year],H$733,output[sensitivity],\"Base\")/8760000","v":455.58333004133169},{"$f":"SUMIFS(INDEX(output[#Data],0,MATCH(\"consump_busbar_Market\",output[#Headers],0)),output[equipment_type],$C$732,output[year],I$733,output[sensitivity],\"Base\")/8760000","v":450.68474029366178},{"$f":"SUMIFS(INDEX(output[#Data],0,MATCH(\"consump_busbar_Market\",output[#Headers],0)),output[equipment_type],$C$732,output[year],J$733,output[sensitivity],\"Base\")/8760000","v":433.93869806341377}]
[null,null,"% Change in Energy Consumption from Baseline",{"$f":"1-D735/D734","v":0},4.7031623872948458E-3,9.3981046383362354E-3,1.434815733144712E-2,2.0306198267231568E-2,2.4943173831970866E-2,2.9396307088373708E-2]
[]
[null,null,{"$f":"\"Table for \"&H716","v":"Table for Figure 46: Facility Type Distribution of Fan Energy Consumption, 2020 (aMW at busbar)"}]
[null,null,"Fans","Primary Metal","Wood Products","Paper","Computer - Elec","Chemical","Food","Warehousing","Refinery","Fabricated Metal","Transportation","Misc Manf"]
[null,null,2020,{"$f":"SUMIFS(INDEX(output[#Data],0,MATCH(\"consump_busbar_Market\",output[#Headers],0)),output[equipment_type],$C$739,output[year],$C740,output[facility_type],D$739,output[sensitivity],\"Base\")/8760000","v":96.801074614544078},{"$f":"SUMIFS(INDEX(output[#Data],0,MATCH(\"consump_busbar_Market\",output[#Headers],0)),output[equipment_type],$C$739,output[year],$C740,output[facility_type],E$739,output[sensitivity],\"Base\")/8760000","v":135.99132075032247},{"$f":"SUMIFS(INDEX(output[#Data],0,MATCH(\"consump_busbar_Market\",output[#Headers],0)),output[equipment_type],$C$739,output[year],$C740,output[facility_type],F$739,output[sensitivity],\"Base\")/8760000","v":55.056998692166353},{"$f":"SUMIFS(INDEX(output[#Data],0,MATCH(\"consump_busbar_Market\",output[#Headers],0)),output[equipment_type],$C$739,output[year],$C740,output[facility_type],G$739,output[sensitivity],\"Base\")/8760000","v":23.796142806201342},{"$f":"SUMIFS(INDEX(output[#Data],0,MATCH(\"consump_busbar_Market\",output[#Headers],0)),output[equipment_type],$C$739,output[year],$C740,output[facility_type],H$739,output[sensitivity],\"Base\")/8760000","v":15.266450619701949},{"$f":"SUMIFS(INDEX(output[#Data],0,MATCH(\"consump_busbar_Market\",output[#Headers],0)),output[equipment_type],$C$739,output[year],$C740,output[facility_type],I$739,output[sensitivity],\"Base\")/8760000","v":21.049810184769882},{"$f":"SUMIFS(INDEX(output[#Data],0,MATCH(\"consump_busbar_Market\",output[#Headers],0)),output[equipment_type],$C$739,output[year],$C740,output[facility_type],J$739,output[sensitivity],\"Base\")/8760000","v":31.272973579138462},{"$f":"SUMIFS(INDEX(output[#Data],0,MATCH(\"consump_busbar_Market\",output[#Headers],0)),output[equipment_type],$C$739,output[year],$C740,output[facility_type],K$739,output[sensitivity],\"Base\")/8760000","v":21.07310362659215},{"$f":"SUMIFS(INDEX(output[#Data],0,MATCH(\"consump_busbar_Market\",output[#Headers],0)),output[equipment_type],$C$739,output[year],$C740,output[facility_type],L$739,output[sensitivity],\"Base\")/8760000","v":13.471609075196064},{"$f":"SUMIFS(INDEX(output[#Data],0,MATCH(\"consump_busbar_Market\",output[#Headers],0)),output[equipment_type],$C$739,output[year],$C740,output[facility_type],M$739,output[sensitivity],\"Base\")/8760000","v":4.2114370124515679},{"$f":"SUMIFS(INDEX(output[#Data],0,MATCH(\"consump_busbar_Market\",output[#Headers],0)),output[equipment_type],$C$739,output[year],$C740,output[facility_type],N$739,output[sensitivity],\"Base\")/8760000","v":32.693819332577192}]
[]
[]
[null,null,"Figure 47: Fan Unit Energy Consumption, by Year (kWh at busbar/motor HP)"]
[]
[]
[]
[]
[]
[]
[]
[]
[]
[]
[]
[]
[]
[]
[]
[]
[]
[]
[null,null,{"$f":"\"Table for \"&C743","v":"Table for Figure 47: Fan Unit Energy Consumption, by Year (kWh at busbar/motor HP)"}]
[null,null,"Fans","Year"]
[null,null,null,2015,2016,2017,2018,2019,2020,2021]
[null,null,"Unit Energy Consumption \n(kWh at busbar/motor HP)",{"$f":"(D735*8760000)/D40","v":3461.9331252311522},{"$f":"(E735*8760000)/E40","v":3406.5798182305498},3363.7971306522172,3324.0493117790143,3270.5242209517655,3239.2668957181027,3197.9185640309811]
[]
[]
[]
[null,null,"Figure 48: Pump Energy Consumption by Model Scenario, by Year (aMW at busbar)",null,null,null,null,"Figure 49: Facility Type Distribution of Pump Energy Consumption, 2020 (aMW at busbar)"]
[]
[]
[]
[]
[]
[]
[]
[]
[]
[]
[]
[]
[]
[]
[null,null,{"$f":"\"Table for \"&C769","v":"Table for Figure 48: Pump Energy Consumption by Model Scenario, by Year (aMW at busbar)"}]
[null,null,"Pumps","Year"]
[null,null,null,2015,2016,2017,2018,2019,2020,2021]
[null,null,"Baseline Consumption",{"$f":"SUMIFS(INDEX(output[#Data],0,MATCH(\"consump_busbar_Baseline\",output[#Headers],0)),output[equipment_type],$C$785,output[year],D$786,output[sensitivity],\"Base\")/8760000","v":444.08132523862173},{"$f":"SUMIFS(INDEX(output[#Data],0,MATCH(\"consump_busbar_Baseline\",output[#Headers],0)),output[equipment_type],$C$785,output[year],E$786,output[sensitivity],\"Base\")/8760000","v":463.15544312995166},{"$f":"SUMIFS(INDEX(output[#Data],0,MATCH(\"consump_busbar_Baseline\",output[#Headers],0)),output[equipment_type],$C$785,output[year],F$786,output[sensitivity],\"Base\")/8760000","v":464.54023432752638},{"$f":"SUMIFS(INDEX(output[#Data],0,MATCH(\"consump_busbar_Baseline\",output[#Headers],0)),output[equipment_type],$C$785,output[year],G$786,output[sensitivity],\"Base\")/8760000","v":482.07947953687329},{"$f":"SUMIFS(INDEX(output[#Data],0,MATCH(\"consump_busbar_Baseline\",output[#Headers],0)),output[equipment_type],$C$785,output[year],H$786,output[sensitivity],\"Base\")/8760000","v":482.78861893950619},{"$f":"SUMIFS(INDEX(output[#Data],0,MATCH(\"consump_busbar_Baseline\",output[#Headers],0)),output[equipment_type],$C$785,output[year],I$786,output[sensitivity],\"Base\")/8760000","v":470.15639494512118},{"$f":"SUMIFS(INDEX(output[#Data],0,MATCH(\"consump_busbar_Baseline\",output[#Headers],0)),output[equipment_type],$C$785,output[year],J$786,output[sensitivity],\"Base\")/8760000","v":469.25718052330672}]
[null,null,"Market Consumption",{"$f":"SUMIFS(INDEX(output[#Data],0,MATCH(\"consump_busbar_Market\",output[#Headers],0)),output[equipment_type],$C$785,output[year],D$786,output[sensitivity],\"Base\")/8760000","v":444.08132523862173},{"$f":"SUMIFS(INDEX(output[#Data],0,MATCH(\"consump_busbar_Market\",output[#Headers],0)),output[equipment_type],$C$785,output[year],E$786,output[sensitivity],\"Base\")/8760000","v":460.9803125959391},{"$f":"SUMIFS(INDEX(output[#Data],0,MATCH(\"consump_busbar_Market\",output[#Headers],0)),output[equipment_type],$C$785,output[year],F$786,output[sensitivity],\"Base\")/8760000","v":459.89258913127543},{"$f":"SUMIFS(INDEX(output[#Data],0,MATCH(\"consump_busbar_Market\",output[#Headers],0)),output[equipment_type],$C$785,output[year],G$786,output[sensitivity],\"Base\")/8760000","v":474.84570869063026},{"$f":"SUMIFS(INDEX(output[#Data],0,MATCH(\"consump_busbar_Market\",output[#Headers],0)),output[equipment_type],$C$785,output[year],H$786,output[sensitivity],\"Base\")/8760000","v":472.84897541094165},{"$f":"SUMIFS(INDEX(output[#Data],0,MATCH(\"consump_busbar_Market\",output[#Headers],0)),output[equipment_type],$C$785,output[year],I$786,output[sensitivity],\"Base\")/8760000","v":457.64696976452677},{"$f":"SUMIFS(INDEX(output[#Data],0,MATCH(\"consump_busbar_Market\",output[#Headers],0)),output[equipment_type],$C$785,output[year],J$786,output[sensitivity],\"Base\")/8760000","v":454.72282659987286}]
[null,null,"% Change in Energy Consumption from Baseline",{"$f":"1-D788/D787","v":0},4.6963294208813844E-3,1.0004828113497899E-2,1.5005349020855263E-2,2.0587982273480243E-2,2.660694465732949E-2,3.0973109260097886E-2]
[]
[null,null,{"$f":"\"Table for \"&H769","v":"Table for Figure 49: Facility Type Distribution of Pump Energy Consumption, 2020 (aMW at busbar)"}]
[null,null,"Pumps","Primary Metal","Wood Products","Paper","Computer - Elec","Chemical","Food","Warehousing","Refinery","Fabricated Metal","Transportation","Misc Manf"]
[null,null,2020,{"$f":"SUMIFS(INDEX(output[#Data],0,MATCH(\"consump_busbar_Market\",output[#Headers],0)),output[equipment_type],$C$792,output[year],$C793,output[facility_type],D$792,output[sensitivity],\"Base\")/8760000","v":51.001037834262206},{"$f":"SUMIFS(INDEX(output[#Data],0,MATCH(\"consump_busbar_Market\",output[#Headers],0)),output[equipment_type],$C$792,output[year],$C793,output[facility_type],E$792,output[sensitivity],\"Base\")/8760000","v":27.805821398415667},{"$f":"SUMIFS(INDEX(output[#Data],0,MATCH(\"consump_busbar_Market\",output[#Headers],0)),output[equipment_type],$C$792,output[year],$C793,output[facility_type],F$792,output[sensitivity],\"Base\")/8760000","v":108.35401797817426},{"$f":"SUMIFS(INDEX(output[#Data],0,MATCH(\"consump_busbar_Market\",output[#Headers],0)),output[equipment_type],$C$792,output[year],$C793,output[facility_type],G$792,output[sensitivity],\"Base\")/8760000","v":28.24346775393192},{"$f":"SUMIFS(INDEX(output[#Data],0,MATCH(\"consump_busbar_Market\",output[#Headers],0)),output[equipment_type],$C$792,output[year],$C793,output[facility_type],H$792,output[sensitivity],\"Base\")/8760000","v":30.067858465443454},{"$f":"SUMIFS(INDEX(output[#Data],0,MATCH(\"consump_busbar_Market\",output[#Headers],0)),output[equipment_type],$C$792,output[year],$C793,output[facility_type],I$792,output[sensitivity],\"Base\")/8760000","v":57.489185748080544},{"$f":"SUMIFS(INDEX(output[#Data],0,MATCH(\"consump_busbar_Market\",output[#Headers],0)),output[equipment_type],$C$792,output[year],$C793,output[facility_type],J$792,output[sensitivity],\"Base\")/8760000","v":1.6313898106697544},{"$f":"SUMIFS(INDEX(output[#Data],0,MATCH(\"consump_busbar_Market\",output[#Headers],0)),output[equipment_type],$C$792,output[year],$C793,output[facility_type],K$792,output[sensitivity],\"Base\")/8760000","v":102.59461102573339},{"$f":"SUMIFS(INDEX(output[#Data],0,MATCH(\"consump_busbar_Market\",output[#Headers],0)),output[equipment_type],$C$792,output[year],$C793,output[facility_type],L$792,output[sensitivity],\"Base\")/8760000","v":2.5547498380294904},{"$f":"SUMIFS(INDEX(output[#Data],0,MATCH(\"consump_busbar_Market\",output[#Headers],0)),output[equipment_type],$C$792,output[year],$C793,output[facility_type],M$792,output[sensitivity],\"Base\")/8760000","v":10.591756569650489},{"$f":"SUMIFS(INDEX(output[#Data],0,MATCH(\"consump_busbar_Market\",output[#Headers],0)),output[equipment_type],$C$792,output[year],$C793,output[facility_type],N$792,output[sensitivity],\"Base\")/8760000","v":37.313073342135468}]
[]
[]
[null,null,"Figure 50: Pump Unit Energy Consumption, by Year (kWh at busbar/motor HP)"]
[]
[]
[]
[]
[]
[]
[]
[]
[]
[]
[]
[]
[]
[]
[]
[]
[]
[]
[null,null,{"$f":"\"Table for \"&C796","v":"Table for Figure 50: Pump Unit Energy Consumption, by Year (kWh at busbar/motor HP)"}]
[null,null,"Pumps","Year"]
[null,null,null,2015,2016,2017,2018,2019,2020,2021]
[null,null,"Unit Energy Consumption \n(kWh at busbar/motor HP)",{"$f":"(D788*8760000)/D258","v":3471.218696042652},{"$f":"(E788*8760000)/E258","v":3438.5047256799867},3407.6048586251572,3379.6907390570104,3356.496863771732,3337.5871614812841,3323.159977055524]
[]
[null,null,"Momentum Savings"]
[]
[null,null,"Table C: ASD Momentum Savings by Year, Fans (aMW at busbar)"]
[null,null,"Fans","Year"]
[null,null,null,2016,2017,2018,2019,2020,2021]
[null,null,"Regional Momentum Savings",{"$f":"(SUMIFS(INDEX(output[#Data],0,MATCH(\"consump_busbar_Program\",output[#Headers],0)),output[equipment_type],$C$823,output[year],D$824,output[sensitivity],\"Base\")-SUMIFS(INDEX(output[#Data],0,MATCH(\"consump_busbar_Market\",output[#Headers],0)),output[equipment_type],$C$823,output[year],D$824,output[sensitivity],\"Base\"))/8760000","v":1.0875912387592064},{"$f":"(SUMIFS(INDEX(output[#Data],0,MATCH(\"consump_busbar_Program\",output[#Headers],0)),output[equipment_type],$C$823,output[year],E$824,output[sensitivity],\"Base\")-SUMIFS(INDEX(output[#Data],0,MATCH(\"consump_busbar_Market\",output[#Headers],0)),output[equipment_type],$C$823,output[year],E$824,output[sensitivity],\"Base\"))/8760000-SUM($D$825:D825)","v":1.0752270014379666},{"$f":"(SUMIFS(INDEX(output[#Data],0,MATCH(\"consump_busbar_Program\",output[#Headers],0)),output[equipment_type],$C$823,output[year],F$824,output[sensitivity],\"Base\")-SUMIFS(INDEX(output[#Data],0,MATCH(\"consump_busbar_Market\",output[#Headers],0)),output[equipment_type],$C$823,output[year],F$824,output[sensitivity],\"Base\"))/8760000-SUM($D$825:E825)","v":1.2996833937277534},{"$f":"(SUMIFS(INDEX(output[#Data],0,MATCH(\"consump_busbar_Program\",output[#Headers],0)),output[equipment_type],$C$823,output[year],G$824,output[sensitivity],\"Base\")-SUMIFS(INDEX(output[#Data],0,MATCH(\"consump_busbar_Market\",output[#Headers],0)),output[equipment_type],$C$823,output[year],G$824,output[sensitivity],\"Base\"))/8760000-SUM($D$825:F825)","v":0.86233557504431868},{"$f":"(SUMIFS(INDEX(output[#Data],0,MATCH(\"consump_busbar_Program\",output[#Headers],0)),output[equipment_type],$C$823,output[year],H$824,output[sensitivity],\"Base\")-SUMIFS(INDEX(output[#Data],0,MATCH(\"consump_busbar_Market\",output[#Headers],0)),output[equipment_type],$C$823,output[year],H$824,output[sensitivity],\"Base\"))/8760000-SUM($D$825:G825)","v":1.428755116273333},{"$f":"(SUMIFS(INDEX(output[#Data],0,MATCH(\"consump_busbar_Program\",output[#Headers],0)),output[equipment_type],$C$823,output[year],I$824,output[sensitivity],\"Base\")-SUMIFS(INDEX(output[#Data],0,MATCH(\"consump_busbar_Market\",output[#Headers],0)),output[equipment_type],$C$823,output[year],I$824,output[sensitivity],\"Base\"))/8760000-SUM($D$825:H825)","v":0.95680176809519946}]
[null,null,"BPA Share of Momentum Savings",{"$f":"D825*0.42","v":0.45678832027886668},0.45159534060394596,0.54586702536565646,0.36218094151861385,0.60007714883479979,0.40185674259998377]
[]
[null,null,"Table D: ASD Momentum Savings from 2016-2021, Fans (aMW at busbar)"]
[null,null,"Regional Momentum Savings, 2016-2021 (aMW at busbar)",null,null,{"$f":"SUM(D825:I825)","v":6.7103940933377775}]
[null,null,"BPA Share of Momentum Savings (aMW at busbar)",null,null,{"$f":"SUM(D826:I826)","v":2.8183655192018664}]
[]
[]
[null,null,"Table E: ASD Total Market Savings and Adjusted Program Savings by Year, Fans (aMW at busbar)*"]
[null,null,"Fans","Year"]
[null,null,null,2016,2017,2018,2019,2020,2021]
[null,null,"Total Market Savings",{"$f":"(SUMIFS(INDEX(output[#Data],0,MATCH(\"consump_busbar_Baseline\",output[#Headers],0)),output[equipment_type],$C$834,output[year],D$835,output[sensitivity],\"Base\")-SUMIFS(INDEX(output[#Data],0,MATCH(\"consump_busbar_Market\",output[#Headers],0)),output[equipment_type],$C$834,output[year],D$835,output[sensitivity],\"Base\"))/8760000","v":2.1467719011464075},{"$f":"(SUMIFS(INDEX(output[#Data],0,MATCH(\"consump_busbar_Baseline\",output[#Headers],0)),output[equipment_type],$C$834,output[year],E$835,output[sensitivity],\"Base\")-SUMIFS(INDEX(output[#Data],0,MATCH(\"consump_busbar_Market\",output[#Headers],0)),output[equipment_type],$C$834,output[year],E$835,output[sensitivity],\"Base\"))/8760000-SUM($D$836:D836)","v":2.0628020012712911},{"$f":"(SUMIFS(INDEX(output[#Data],0,MATCH(\"consump_busbar_Baseline\",output[#Headers],0)),output[equipment_type],$C$834,output[year],F$835,output[sensitivity],\"Base\")-SUMIFS(INDEX(output[#Data],0,MATCH(\"consump_busbar_Market\",output[#Headers],0)),output[equipment_type],$C$834,output[year],F$835,output[sensitivity],\"Base\"))/8760000-SUM($D$836:E836)","v":2.508741616346847},{"$f":"(SUMIFS(INDEX(output[#Data],0,MATCH(\"consump_busbar_Baseline\",output[#Headers],0)),output[equipment_type],$C$834,output[year],G$835,output[sensitivity],\"Base\")-SUMIFS(INDEX(output[#Data],0,MATCH(\"consump_busbar_Market\",output[#Headers],0)),output[equipment_type],$C$834,output[year],G$835,output[sensitivity],\"Base\"))/8760000-SUM($D$836:F836)","v":2.7245996152319316},{"$f":"(SUMIFS(INDEX(output[#Data],0,MATCH(\"consump_busbar_Baseline\",output[#Headers],0)),output[equipment_type],$C$834,output[year],H$835,output[sensitivity],\"Base\")-SUMIFS(INDEX(output[#Data],0,MATCH(\"consump_busbar_Market\",output[#Headers],0)),output[equipment_type],$C$834,output[year],H$835,output[sensitivity],\"Base\"))/8760000-SUM($D$836:G836)","v":2.0861645246123626},{"$f":"(SUMIFS(INDEX(output[#Data],0,MATCH(\"consump_busbar_Baseline\",output[#Headers],0)),output[equipment_type],$C$834,output[year],I$835,output[sensitivity],\"Base\")-SUMIFS(INDEX(output[#Data],0,MATCH(\"consump_busbar_Market\",output[#Headers],0)),output[equipment_type],$C$834,output[year],I$835,output[sensitivity],\"Base\"))/8760000-SUM($D$836:H836)","v":1.6134576292258966}]
[null,null,"Adjusted Program Savings",{"$f":"(SUMIFS(INDEX(output[#Data],0,MATCH(\"consump_busbar_Baseline\",output[#Headers],0)),output[equipment_type],$C$834,output[year],D$835,output[sensitivity],\"Base\")-SUMIFS(INDEX(output[#Data],0,MATCH(\"consump_busbar_Program\",output[#Headers],0)),output[equipment_type],$C$834,output[year],D$835,output[sensitivity],\"Base\"))/8760000","v":1.0591806623872013},{"$f":"(SUMIFS(INDEX(output[#Data],0,MATCH(\"consump_busbar_Baseline\",output[#Headers],0)),output[equipment_type],$C$834,output[year],E$835,output[sensitivity],\"Base\")-SUMIFS(INDEX(output[#Data],0,MATCH(\"consump_busbar_Program\",output[#Headers],0)),output[equipment_type],$C$834,output[year],E$835,output[sensitivity],\"Base\"))/8760000-SUM($D$837:D837)","v":0.98757499983332475},{"$f":"(SUMIFS(INDEX(output[#Data],0,MATCH(\"consump_busbar_Baseline\",output[#Headers],0)),output[equipment_type],$C$834,output[year],F$835,output[sensitivity],\"Base\")-SUMIFS(INDEX(output[#Data],0,MATCH(\"consump_busbar_Program\",output[#Headers],0)),output[equipment_type],$C$834,output[year],F$835,output[sensitivity],\"Base\"))/8760000-SUM($D$837:E837)","v":1.2090582226190936},{"$f":"(SUMIFS(INDEX(output[#Data],0,MATCH(\"consump_busbar_Baseline\",output[#Headers],0)),output[equipment_type],$C$834,output[year],G$835,output[sensitivity],\"Base\")-SUMIFS(INDEX(output[#Data],0,MATCH(\"consump_busbar_Program\",output[#Headers],0)),output[equipment_type],$C$834,output[year],G$835,output[sensitivity],\"Base\"))/8760000-SUM($D$837:F837)","v":1.8622640401876134},{"$f":"(SUMIFS(INDEX(output[#Data],0,MATCH(\"consump_busbar_Baseline\",output[#Headers],0)),output[equipment_type],$C$834,output[year],H$835,output[sensitivity],\"Base\")-SUMIFS(INDEX(output[#Data],0,MATCH(\"consump_busbar_Program\",output[#Headers],0)),output[equipment_type],$C$834,output[year],H$835,output[sensitivity],\"Base\"))/8760000-SUM($D$837:G837)","v":0.65740940833902783},{"$f":"(SUMIFS(INDEX(output[#Data],0,MATCH(\"consump_busbar_Baseline\",output[#Headers],0)),output[equipment_type],$C$834,output[year],I$835,output[sensitivity],\"Base\")-SUMIFS(INDEX(output[#Data],0,MATCH(\"consump_busbar_Program\",output[#Headers],0)),output[equipment_type],$C$834,output[year],I$835,output[sensitivity],\"Base\"))/8760000-SUM($D$837:H837)","v":0.65665586113069718}]
[null,null,"*These are interim results in the calculation of Momentum Savings that are not intended to be used outside of this analysis. Please refer to the methodology memo for more detail."]
[]
[]
[]
[null,null,"Table F: ASD Momentum Savings by Year, Pumps (aMW at busbar)"]
[null,null,"Pumps","Year"]
[null,null,null,2016,2017,2018,2019,2020,2021]
[null,null,"Regional Momentum Savings",{"$f":"(SUMIFS(INDEX(output[#Data],0,MATCH(\"consump_busbar_Program\",output[#Headers],0)),output[equipment_type],$C$843,output[year],D$844,output[sensitivity],\"Base\")-SUMIFS(INDEX(output[#Data],0,MATCH(\"consump_busbar_Market\",output[#Headers],0)),output[equipment_type],$C$843,output[year],D$844,output[sensitivity],\"Base\"))/8760000","v":1.6967834155636836},{"$f":"(SUMIFS(INDEX(output[#Data],0,MATCH(\"consump_busbar_Program\",output[#Headers],0)),output[equipment_type],$C$843,output[year],E$844,output[sensitivity],\"Base\")-SUMIFS(INDEX(output[#Data],0,MATCH(\"consump_busbar_Market\",output[#Headers],0)),output[equipment_type],$C$843,output[year],E$844,output[sensitivity],\"Base\"))/8760000-SUM($D$845:D845)","v":2.1303062308952692},{"$f":"(SUMIFS(INDEX(output[#Data],0,MATCH(\"consump_busbar_Program\",output[#Headers],0)),output[equipment_type],$C$843,output[year],F$844,output[sensitivity],\"Base\")-SUMIFS(INDEX(output[#Data],0,MATCH(\"consump_busbar_Market\",output[#Headers],0)),output[equipment_type],$C$843,output[year],F$844,output[sensitivity],\"Base\"))/8760000-SUM($D$845:E845)","v":2.3138913778386696},{"$f":"(SUMIFS(INDEX(output[#Data],0,MATCH(\"consump_busbar_Program\",output[#Headers],0)),output[equipment_type],$C$843,output[year],G$844,output[sensitivity],\"Base\")-SUMIFS(INDEX(output[#Data],0,MATCH(\"consump_busbar_Market\",output[#Headers],0)),output[equipment_type],$C$843,output[year],G$844,output[sensitivity],\"Base\"))/8760000-SUM($D$845:F845)","v":1.8394633173770556},{"$f":"(SUMIFS(INDEX(output[#Data],0,MATCH(\"consump_busbar_Program\",output[#Headers],0)),output[equipment_type],$C$843,output[year],H$844,output[sensitivity],\"Base\")-SUMIFS(INDEX(output[#Data],0,MATCH(\"consump_busbar_Market\",output[#Headers],0)),output[equipment_type],$C$843,output[year],H$844,output[sensitivity],\"Base\"))/8760000-SUM($D$845:G845)","v":2.3506378548768563},{"$f":"(SUMIFS(INDEX(output[#Data],0,MATCH(\"consump_busbar_Program\",output[#Headers],0)),output[equipment_type],$C$843,output[year],I$844,output[sensitivity],\"Base\")-SUMIFS(INDEX(output[#Data],0,MATCH(\"consump_busbar_Market\",output[#Headers],0)),output[equipment_type],$C$843,output[year],I$844,output[sensitivity],\"Base\"))/8760000-SUM($D$845:H845)","v":1.8058376949224293}]
[null,null,"BPA Share of Momentum Savings",{"$f":"D845*0.42","v":0.71264903453674711},0.89472861697601302,0.97183437869224121,0.77257459329836331,0.98726789904827961,0.75845183186742027]
[]
[null,null,"Table G: ASD Momentum Savings from 2016-2021, Pumps (aMW at busbar)"]
[null,null,"Regional Momentum Savings, 2016-2021 (aMW at busbar)",null,null,{"$f":"SUM(D845:I845)","v":12.136919891473964}]
[null,null,"BPA Share of Momentum Savings (aMW at busbar)",null,null,{"$f":"SUM(D846:I846)","v":5.0975063544190649}]
[]
[null,null,"Table H: ASD Total Market Savings and Adjusted Program Savings by Year, Pumps (aMW at busbar)*"]
[null,null,"Pumps","Year"]
[null,null,null,2016,2017,2018,2019,2020,2021]
[null,null,"Total Market Savings",{"$f":"(SUMIFS(INDEX(output[#Data],0,MATCH(\"consump_busbar_Baseline\",output[#Headers],0)),output[equipment_type],$C$853,output[year],D$854,output[sensitivity],\"Base\")-SUMIFS(INDEX(output[#Data],0,MATCH(\"consump_busbar_Market\",output[#Headers],0)),output[equipment_type],$C$853,output[year],D$854,output[sensitivity],\"Base\"))/8760000","v":2.1751305340125682},{"$f":"(SUMIFS(INDEX(output[#Data],0,MATCH(\"consump_busbar_Baseline\",output[#Headers],0)),output[equipment_type],$C$853,output[year],E$854,output[sensitivity],\"Base\")-SUMIFS(INDEX(output[#Data],0,MATCH(\"consump_busbar_Market\",output[#Headers],0)),output[equipment_type],$C$853,output[year],E$854,output[sensitivity],\"Base\"))/8760000-SUM($D$855:D855)","v":2.4725146622383973},{"$f":"(SUMIFS(INDEX(output[#Data],0,MATCH(\"consump_busbar_Baseline\",output[#Headers],0)),output[equipment_type],$C$853,output[year],F$854,output[sensitivity],\"Base\")-SUMIFS(INDEX(output[#Data],0,MATCH(\"consump_busbar_Market\",output[#Headers],0)),output[equipment_type],$C$853,output[year],F$854,output[sensitivity],\"Base\"))/8760000-SUM($D$855:E855)","v":2.5861256499920806},{"$f":"(SUMIFS(INDEX(output[#Data],0,MATCH(\"consump_busbar_Baseline\",output[#Headers],0)),output[equipment_type],$C$853,output[year],G$854,output[sensitivity],\"Base\")-SUMIFS(INDEX(output[#Data],0,MATCH(\"consump_busbar_Market\",output[#Headers],0)),output[equipment_type],$C$853,output[year],G$854,output[sensitivity],\"Base\"))/8760000-SUM($D$855:F855)","v":2.705872682321508},{"$f":"(SUMIFS(INDEX(output[#Data],0,MATCH(\"consump_busbar_Baseline\",output[#Headers],0)),output[equipment_type],$C$853,output[year],H$854,output[sensitivity],\"Base\")-SUMIFS(INDEX(output[#Data],0,MATCH(\"consump_busbar_Market\",output[#Headers],0)),output[equipment_type],$C$853,output[year],H$854,output[sensitivity],\"Base\"))/8760000-SUM($D$855:G855)","v":2.5697816520298442},{"$f":"(SUMIFS(INDEX(output[#Data],0,MATCH(\"consump_busbar_Baseline\",output[#Headers],0)),output[equipment_type],$C$853,output[year],I$854,output[sensitivity],\"Base\")-SUMIFS(INDEX(output[#Data],0,MATCH(\"consump_busbar_Market\",output[#Headers],0)),output[equipment_type],$C$853,output[year],I$854,output[sensitivity],\"Base\"))/8760000-SUM($D$855:H855)","v":2.02492874283943}]
[null,null,"Adjusted Program Savings",{"$f":"(SUMIFS(INDEX(output[#Data],0,MATCH(\"consump_busbar_Baseline\",output[#Headers],0)),output[equipment_type],$C$853,output[year],D$854,output[sensitivity],\"Base\")-SUMIFS(INDEX(output[#Data],0,MATCH(\"consump_busbar_Program\",output[#Headers],0)),output[equipment_type],$C$853,output[year],D$854,output[sensitivity],\"Base\"))/8760000","v":0.4783471184488845},{"$f":"(SUMIFS(INDEX(output[#Data],0,MATCH(\"consump_busbar_Baseline\",output[#Headers],0)),output[equipment_type],$C$853,output[year],E$854,output[sensitivity],\"Base\")-SUMIFS(INDEX(output[#Data],0,MATCH(\"consump_busbar_Program\",output[#Headers],0)),output[equipment_type],$C$853,output[year],E$854,output[sensitivity],\"Base\"))/8760000-SUM($D$856:D856)","v":0.34220843134312867},{"$f":"(SUMIFS(INDEX(output[#Data],0,MATCH(\"consump_busbar_Baseline\",output[#Headers],0)),output[equipment_type],$C$853,output[year],F$854,output[sensitivity],\"Base\")-SUMIFS(INDEX(output[#Data],0,MATCH(\"consump_busbar_Program\",output[#Headers],0)),output[equipment_type],$C$853,output[year],F$854,output[sensitivity],\"Base\"))/8760000-SUM($D$856:E856)","v":0.27223427215341034},{"$f":"(SUMIFS(INDEX(output[#Data],0,MATCH(\"consump_busbar_Baseline\",output[#Headers],0)),output[equipment_type],$C$853,output[year],G$854,output[sensitivity],\"Base\")-SUMIFS(INDEX(output[#Data],0,MATCH(\"consump_busbar_Program\",output[#Headers],0)),output[equipment_type],$C$853,output[year],G$854,output[sensitivity],\"Base\"))/8760000-SUM($D$856:F856)","v":0.86640936494445131},{"$f":"(SUMIFS(INDEX(output[#Data],0,MATCH(\"consump_busbar_Baseline\",output[#Headers],0)),output[equipment_type],$C$853,output[year],H$854,output[sensitivity],\"Base\")-SUMIFS(INDEX(output[#Data],0,MATCH(\"consump_busbar_Program\",output[#Headers],0)),output[equipment_type],$C$853,output[year],H$854,output[sensitivity],\"Base\"))/8760000-SUM($D$856:G856)","v":0.21914379715298948},{"$f":"(SUMIFS(INDEX(output[#Data],0,MATCH(\"consump_busbar_Baseline\",output[#Headers],0)),output[equipment_type],$C$853,output[year],I$854,output[sensitivity],\"Base\")-SUMIFS(INDEX(output[#Data],0,MATCH(\"consump_busbar_Program\",output[#Headers],0)),output[equipment_type],$C$853,output[year],I$854,output[sensitivity],\"Base\"))/8760000-SUM($D$856:H856)","v":0.21909104791700029}]
[null,null,"*These are interim results in the calculation of Momentum Savings that are not intended to be used outside of this analysis. Please refer to the methodology memo for more detail."]

{"sheet":"Facility Type Specific Results","index":5,"n_rows":687,"n_cols":12,"rows_kept":687,"cut":false,"hidden":false,"merged":[[561,7,561,11],[527,7,527,11],[527,2,527,5],[528,2,528,5],[561,2,561,5],[562,2,562,5],[601,2,601,5],[602,2,602,5],[625,2,625,5],[334,2,334,5],[364,2,364,5],[626,2,626,5],[488,2,488,5],[489,2,489,5],[511,2,512,2],[515,2,516,2],[429,2,429,5],[430,2,430,5],[457,2,457,5],[458,2,458,5],[81,3,81,9],[177,7,177,11],[196,2,197,2],[196,3,196,9],[203,2,204,2],[203,3,203,9],[23,2,23,4],[118,2,118,4],[118,7,118,11],[146,2,146,4],[177,2,177,4],[643,2,644,2],[643,3,643,9],[643,10,644,10],[135,9,136,9],[141,9,142,9],[255,9,256,9],[261,9,262,9],[387,2,388,2],[453,2,454,2],[589,3,589,10],[396,7,396,11],[522,2,522,10],[525,2,525,4],[449,2,450,2],[360,2,361,2],[480,2,481,2],[484,2,485,2],[488,7,489,11],[429,7,430,11],[364,7,364,11],[333,7,333,11],[334,7,334,11],[271,2,271,5],[271,7,271,11],[2,2,2,10],[15,2,15,10],[19,2,19,10],[296,2,297,2],[421,2,422,2],[163,10,164,10],[170,10,171,10],[48,10,49,10],[105,10,106,11],[112,10,113,11],[227,10,228,11],[234,10,235,11],[255,3,255,8],[141,3,141,8],[135,3,135,8],[163,3,163,9],[48,3,48,9],[288,2,289,2],[170,3,170,9],[40,10,41,10],[8,2,8,3],[20,2,20,10],[413,2,414,2],[40,3,40,9],[21,2,21,10],[326,2,327,2],[40,2,41,2],[48,2,49,2],[163,2,164,2],[261,2,262,2],[234,3,234,9],[261,3,261,8],[105,2,106,2],[170,2,171,2],[255,2,256,2],[112,2,113,2],[112,3,112,9],[105,3,105,9],[227,2,228,2],[227,3,227,9],[234,2,235,2],[135,2,136,2],[141,2,142,2],[55,2,55,5],[55,7,55,11],[74,2,75,2],[74,3,74,9],[81,2,82,2],[686,2,686,8],[663,9,664,10],[653,9,654,10],[672,9,673,10],[682,9,683,10],[667,2,667,8],[682,2,683,2],[682,3,682,8],[672,2,673,2],[672,3,672,8],[663,2,664,2],[653,2,654,2],[653,3,653,8],[457,7,457,12],[589,12,590,13],[239,7,239,11],[269,2,269,10],[523,2,523,3],[330,2,331,2],[619,2,620,2],[521,2,521,10],[619,3,619,9],[619,10,620,10],[356,2,357,2],[598,2,598,10],[391,2,392,2],[581,12,582,13],[581,3,581,10],[553,3,553,10],[545,3,545,10],[545,12,546,13],[553,12,554,13],[239,2,239,4],[239,5,239,6],[396,2,396,5],[304,2,304,5],[333,2,333,5]]}
[]
[null,null,"Facility Type Specific Model Results"]
[null,null,"This tab presents the ASD Model results for specific industries. Use the drop down list in cell D13 to select change the industry type. These results are separated into four sections:"]
[null,null,"1. Installed Stock"]
[null,null,"2. Market Characteristics"]
[null,null,"3. Equipment Sales"]
[null,null,"4. Energy Consumption and Momentum Savings (all results at busbar)"]
[]
[null,null,"Regional Momentum Savings, 2016-2021 \n(aMW at busbar)"]
[null,null,"Fans",{"$f":"F660","v":0.59895789560825308}]
[null,null,"Pumps",{"$f":"F679","v":0.4074543318634028}]
[]
[null,null,"Select Industry Type →","Wood Products"]
[]
[null,null,"Industry Definition"]
[null,null,{"$f":"INDEX(FacilityDefinitions!$E$5:$E$15,MATCH(D13,FacilityDefinitions!$C$5:$C$15,0))","v":"Establishments in the Wood Product Manufacturing subsector manufacture wood products, such as lumber, plywood, veneers, wood containers, wood flooring, wood trusses, manufactured homes (i.e., mobile homes), and prefabricated wood buildings.\n\nCertain wood products NAICS codes are carved out of the 7th Plan scope compared to the Model. Specifically 3219 is not included in the 7th Plan scope. "}]
[]
[null,null,"Installed Stock"]
[]
[null,null,{"$f":"\"This section presents the annual magnitude of the installed stock of pumps,  fans, and ASDs in the \"&D13&\" industry. The model calculates the motor HP and the number of motors in the region in each year. Installed stock is grouped into two categories.\"","v":"This section presents the annual magnitude of the installed stock of pumps,  fans, and ASDs in the Wood Products industry. The model calculates the motor HP and the number of motors in the region in each year. Installed stock is grouped into two categories."}]
[null,null,"In-Service equipment operate (that is, consume energy) in the identified year.\nOut-of-Service equipment exist in the region but do not consume energy (e.g., a pump installed on a non-operational production line, a back-up pump that never sees service).\nInstalled equipment equals in-service plus out-of-service equipment\n"]
[null,null,"Motor HP can move between in-service and out-of-service, depending on the demand for production within a specific facility type.  The information below is given in terms of both motor HP and number of motors. "]
[]
[null,null,"Figure 1: Installed Stock of Fans, by Year (Installed Motor HP)",null,null,null,null,"Figure 2: Installed Stock of Fans, by Year (Installed Motors)"]
[]
[]
[]
[]
[]
[]
[]
[]
[]
[]
[]
[]
[]
[]
[]
[null,null,{"$f":"\"Table for \"&C24","v":"Table for Figure 1: Installed Stock of Fans, by Year (Installed Motor HP)"}]
[null,null,"Fans","Year"]
[null,null,null,2015,2016,2017,2018,2019,2020,2021]
[null,null,"In-Service Motor HP",{"$f":"SUMIFS(INDEX(output[#Data],0,MATCH(\"ishp_Market\",output[#Headers],0)),output[equipment_type],$C$41,output[year],D$42,output[facility_type],$D$13,output[sensitivity],\"Base\")","v":330582.46881095885},{"$f":"SUMIFS(INDEX(output[#Data],0,MATCH(\"ishp_Market\",output[#Headers],0)),output[equipment_type],$C$41,output[year],E$42,output[facility_type],$D$13,output[sensitivity],\"Base\")","v":307070.23875346855},{"$f":"SUMIFS(INDEX(output[#Data],0,MATCH(\"ishp_Market\",output[#Headers],0)),output[equipment_type],$C$41,output[year],F$42,output[facility_type],$D$13,output[sensitivity],\"Base\")","v":303203.07915949554},{"$f":"SUMIFS(INDEX(output[#Data],0,MATCH(\"ishp_Market\",output[#Headers],0)),output[equipment_type],$C$41,output[year],G$42,output[facility_type],$D$13,output[sensitivity],\"Base\")","v":306607.09553558612},{"$f":"SUMIFS(INDEX(output[#Data],0,MATCH(\"ishp_Market\",output[#Headers],0)),output[equipment_type],$C$41,output[year],H$42,output[facility_type],$D$13,output[sensitivity],\"Base\")","v":302183.92175575526},{"$f":"SUMIFS(INDEX(output[#Data],0,MATCH(\"ishp_Market\",output[#Headers],0)),output[equipment_type],$C$41,output[year],I$42,output[facility_type],$D$13,output[sensitivity],\"Base\")","v":305511.27224555839},{"$f":"SUMIFS(INDEX(output[#Data],0,MATCH(\"ishp_Market\",output[#Headers],0)),output[equipment_type],$C$41,output[year],J$42,output[facility_type],$D$13,output[sensitivity],\"Base\")","v":274412.1423745089}]
[null,null,"Out-of-Service Motor HP",{"$f":"SUMIFS(INDEX(output[#Data],0,MATCH(\"ooshp_Market\",output[#Headers],0)),output[equipment_type],$C$41,output[year],D$42,output[facility_type],$D$13,output[sensitivity],\"Base\")","v":128355.46150305451},{"$f":"SUMIFS(INDEX(output[#Data],0,MATCH(\"ooshp_Market\",output[#Headers],0)),output[equipment_type],$C$41,output[year],E$42,output[facility_type],$D$13,output[sensitivity],\"Base\")","v":147352.24591220039},{"$f":"SUMIFS(INDEX(output[#Data],0,MATCH(\"ooshp_Market\",output[#Headers],0)),output[equipment_type],$C$41,output[year],F$42,output[facility_type],$D$13,output[sensitivity],\"Base\")","v":150883.1722069653},{"$f":"SUMIFS(INDEX(output[#Data],0,MATCH(\"ooshp_Market\",output[#Headers],0)),output[equipment_type],$C$41,output[year],G$42,output[facility_type],$D$13,output[sensitivity],\"Base\")","v":147520.71035558602},{"$f":"SUMIFS(INDEX(output[#Data],0,MATCH(\"ooshp_Market\",output[#Headers],0)),output[equipment_type],$C$41,output[year],H$42,output[facility_type],$D$13,output[sensitivity],\"Base\")","v":151849.83386853716},{"$f":"SUMIFS(INDEX(output[#Data],0,MATCH(\"ooshp_Market\",output[#Headers],0)),output[equipment_type],$C$41,output[year],I$42,output[facility_type],$D$13,output[sensitivity],\"Base\")","v":148597.43420085282},{"$f":"SUMIFS(INDEX(output[#Data],0,MATCH(\"ooshp_Market\",output[#Headers],0)),output[equipment_type],$C$41,output[year],J$42,output[facility_type],$D$13,output[sensitivity],\"Base\")","v":176551.33128987247}]
[null,null,"Total Motor HP",{"$f":"SUM(D43:D44)","v":458937.93031401339},454422.48466566892,454086.25136646081,454127.80589117215,454033.75562429242,454108.7064464112,450963.47366438137]
[]
[]
[null,null,{"$f":"\"Table for \"&H24","v":"Table for Figure 2: Installed Stock of Fans, by Year (Installed Motors)"}]
[null,null,"Fans","Year"]
[null,null,null,2015,2016,2017,2018,2019,2020,2021]
[null,null,"Number of In-Service Motors",{"$f":"SUMIFS(INDEX(output[#Data],0,MATCH(\"num_motors_Market\",output[#Headers],0)),output[equipment_type],$C$49,output[year],D$50,output[facility_type],$D$13,output[sensitivity],\"Base\")","v":6370.1882730577072},{"$f":"SUMIFS(INDEX(output[#Data],0,MATCH(\"num_motors_Market\",output[#Headers],0)),output[equipment_type],$C$49,output[year],E$50,output[facility_type],$D$13,output[sensitivity],\"Base\")","v":6067.9278075356369},{"$f":"SUMIFS(INDEX(output[#Data],0,MATCH(\"num_motors_Market\",output[#Headers],0)),output[equipment_type],$C$49,output[year],F$50,output[facility_type],$D$13,output[sensitivity],\"Base\")","v":6125.4350933812439},{"$f":"SUMIFS(INDEX(output[#Data],0,MATCH(\"num_motors_Market\",output[#Headers],0)),output[equipment_type],$C$49,output[year],G$50,output[facility_type],$D$13,output[sensitivity],\"Base\")","v":6425.6166452408343},{"$f":"SUMIFS(INDEX(output[#Data],0,MATCH(\"num_motors_Market\",output[#Headers],0)),output[equipment_type],$C$49,output[year],H$50,output[facility_type],$D$13,output[sensitivity],\"Base\")","v":6560.9932413870956},{"$f":"SUMIFS(INDEX(output[#Data],0,MATCH(\"num_motors_Market\",output[#Headers],0)),output[equipment_type],$C$49,output[year],I$50,output[facility_type],$D$13,output[sensitivity],\"Base\")","v":6863.8215288056554},{"$f":"SUMIFS(INDEX(output[#Data],0,MATCH(\"num_motors_Market\",output[#Headers],0)),output[equipment_type],$C$49,output[year],J$50,output[facility_type],$D$13,output[sensitivity],\"Base\")","v":6372.2405811078497}]
[null,null,"Number of Out-of-Service Motors",{"$f":"SUMIFS(INDEX(output[#Data],0,MATCH(\"num_motors_ooshp_Market\",output[#Headers],0)),output[equipment_type],$C$49,output[year],D$50,output[facility_type],$D$13,output[sensitivity],\"Base\")","v":2408.6657326791378},{"$f":"SUMIFS(INDEX(output[#Data],0,MATCH(\"num_motors_ooshp_Market\",output[#Headers],0)),output[equipment_type],$C$49,output[year],E$50,output[facility_type],$D$13,output[sensitivity],\"Base\")","v":2782.0131236867041},{"$f":"SUMIFS(INDEX(output[#Data],0,MATCH(\"num_motors_ooshp_Market\",output[#Headers],0)),output[equipment_type],$C$49,output[year],F$50,output[facility_type],$D$13,output[sensitivity],\"Base\")","v":2858.3609592351681},{"$f":"SUMIFS(INDEX(output[#Data],0,MATCH(\"num_motors_ooshp_Market\",output[#Headers],0)),output[equipment_type],$C$49,output[year],G$50,output[facility_type],$D$13,output[sensitivity],\"Base\")","v":2802.1374383925827},{"$f":"SUMIFS(INDEX(output[#Data],0,MATCH(\"num_motors_ooshp_Market\",output[#Headers],0)),output[equipment_type],$C$49,output[year],H$50,output[facility_type],$D$13,output[sensitivity],\"Base\")","v":2905.1103418968787},{"$f":"SUMIFS(INDEX(output[#Data],0,MATCH(\"num_motors_ooshp_Market\",output[#Headers],0)),output[equipment_type],$C$49,output[year],I$50,output[facility_type],$D$13,output[sensitivity],\"Base\")","v":2846.3163296944836},{"$f":"SUMIFS(INDEX(output[#Data],0,MATCH(\"num_motors_ooshp_Market\",output[#Headers],0)),output[equipment_type],$C$49,output[year],J$50,output[facility_type],$D$13,output[sensitivity],\"Base\")","v":3485.1587328691439}]
[null,null,"Total Number of Motors",{"$f":"SUM(D51:D52)","v":8778.8540057368446},8849.9409312223415,8983.7960526164115,9227.7540836334174,9466.1035832839734,9710.1378585001385,9857.3993139769937]
[]
[]
[null,null,"Figure 3: In-Service Fans, by Control Strategy and Year (In-Service Motor HP)",null,null,null,null,"Figure 4: In-Service Fans, by Control Strategy and Year (In-Service Motors)"]
[]
[]
[]
[]
[]
[]
[]
[]
[]
[]
[]
[]
[]
[]
[]
[]
[]
[null,null,{"$f":"\"Table for \"&C56","v":"Table for Figure 3: In-Service Fans, by Control Strategy and Year (In-Service Motor HP)"}]
[null,null,"Fans","Year"]
[null,null,null,2015,2016,2017,2018,2019,2020,2021]
[null,null,"In-Service Non ASD-Controlled Motor HP",{"$f":"SUMIFS(INDEX(output[#Data],0,MATCH(\"ishp_Market\",output[#Headers],0)),output[equipment_type],$C$75,output[year],D$76,output[facility_type],$D$13,output[control_strategy],\"Non ASD Control\",output[sensitivity],\"Base\")","v":277536.77135744359},{"$f":"SUMIFS(INDEX(output[#Data],0,MATCH(\"ishp_Market\",output[#Headers],0)),output[equipment_type],$C$75,output[year],E$76,output[facility_type],$D$13,output[control_strategy],\"Non ASD Control\",output[sensitivity],\"Base\")","v":255143.59825366983},{"$f":"SUMIFS(INDEX(output[#Data],0,MATCH(\"ishp_Market\",output[#Headers],0)),output[equipment_type],$C$75,output[year],F$76,output[facility_type],$D$13,output[control_strategy],\"Non ASD Control\",output[sensitivity],\"Base\")","v":249573.76749744432},{"$f":"SUMIFS(INDEX(output[#Data],0,MATCH(\"ishp_Market\",output[#Headers],0)),output[equipment_type],$C$75,output[year],G$76,output[facility_type],$D$13,output[control_strategy],\"Non ASD Control\",output[sensitivity],\"Base\")","v":248303.63749988287},{"$f":"SUMIFS(INDEX(output[#Data],0,MATCH(\"ishp_Market\",output[#Headers],0)),output[equipment_type],$C$75,output[year],H$76,output[facility_type],$D$13,output[control_strategy],\"Non ASD Control\",output[sensitivity],\"Base\")","v":240708.24710450511},{"$f":"SUMIFS(INDEX(output[#Data],0,MATCH(\"ishp_Market\",output[#Headers],0)),output[equipment_type],$C$75,output[year],I$76,output[facility_type],$D$13,output[control_strategy],\"Non ASD Control\",output[sensitivity],\"Base\")","v":239301.18394644701},{"$f":"SUMIFS(INDEX(output[#Data],0,MATCH(\"ishp_Market\",output[#Headers],0)),output[equipment_type],$C$75,output[year],J$76,output[facility_type],$D$13,output[control_strategy],\"Non ASD Control\",output[sensitivity],\"Base\")","v":211297.34962837194}]
[null,null,"In-Service ASD-Controlled Motor HP",{"$f":"SUMIFS(INDEX(output[#Data],0,MATCH(\"ishp_Market\",output[#Headers],0)),output[equipment_type],$C$75,output[year],D$76,output[facility_type],$D$13,output[control_strategy],\"ASD Control\",output[sensitivity],\"Base\")","v":53045.697453515255},{"$f":"SUMIFS(INDEX(output[#Data],0,MATCH(\"ishp_Market\",output[#Headers],0)),output[equipment_type],$C$75,output[year],E$76,output[facility_type],$D$13,output[control_strategy],\"ASD Control\",output[sensitivity],\"Base\")","v":51926.640499798697},{"$f":"SUMIFS(INDEX(output[#Data],0,MATCH(\"ishp_Market\",output[#Headers],0)),output[equipment_type],$C$75,output[year],F$76,output[facility_type],$D$13,output[control_strategy],\"ASD Control\",output[sensitivity],\"Base\")","v":53629.311662051208},{"$f":"SUMIFS(INDEX(output[#Data],0,MATCH(\"ishp_Market\",output[#Headers],0)),output[equipment_type],$C$75,output[year],G$76,output[facility_type],$D$13,output[control_strategy],\"ASD Control\",output[sensitivity],\"Base\")","v":58303.458035703334},{"$f":"SUMIFS(INDEX(output[#Data],0,MATCH(\"ishp_Market\",output[#Headers],0)),output[equipment_type],$C$75,output[year],H$76,output[facility_type],$D$13,output[control_strategy],\"ASD Control\",output[sensitivity],\"Base\")","v":61475.674651250207},{"$f":"SUMIFS(INDEX(output[#Data],0,MATCH(\"ishp_Market\",output[#Headers],0)),output[equipment_type],$C$75,output[year],I$76,output[facility_type],$D$13,output[control_strategy],\"ASD Control\",output[sensitivity],\"Base\")","v":66210.088299111492},{"$f":"SUMIFS(INDEX(output[#Data],0,MATCH(\"ishp_Market\",output[#Headers],0)),output[equipment_type],$C$75,output[year],J$76,output[facility_type],$D$13,output[control_strategy],\"ASD Control\",output[sensitivity],\"Base\")","v":63114.79274613702}]
[null,null,"ASD Saturation (% of Motor HP)",{"$f":"D78/SUM(D77:D78)","v":0.16046131437129851},{"$f":"E78/SUM(E77:E78)","v":0.16910346216094235},0.17687588071571098,0.19015691053678299,0.20343794035785545,0.21671897017892783,0.22999999999999984]
[]
[null,null,{"$f":"\"Table for \"&H56","v":"Table for Figure 4: In-Service Fans, by Control Strategy and Year (In-Service Motors)"}]
[null,null,"Fans","Year"]
[null,null,null,2015,2016,2017,2018,2019,2020,2021]
[null,null,"Number of In-Service Non ASD-Controlled Motors",{"$f":"SUMIFS(INDEX(output[#Data],0,MATCH(\"num_motors_Market\",output[#Headers],0)),output[equipment_type],$C$82,output[year],D$83,output[facility_type],$D$13,output[sensitivity],\"Base\")","v":6370.1882730577072},{"$f":"SUMIFS(INDEX(output[#Data],0,MATCH(\"num_motors_Market\",output[#Headers],0)),output[equipment_type],$C$82,output[year],E$83,output[facility_type],$D$13,output[sensitivity],\"Base\")","v":6067.9278075356369},{"$f":"SUMIFS(INDEX(output[#Data],0,MATCH(\"num_motors_Market\",output[#Headers],0)),output[equipment_type],$C$82,output[year],F$83,output[facility_type],$D$13,output[sensitivity],\"Base\")","v":6125.4350933812439},{"$f":"SUMIFS(INDEX(output[#Data],0,MATCH(\"num_motors_Market\",output[#Headers],0)),output[equipment_type],$C$82,output[year],G$83,output[facility_type],$D$13,output[sensitivity],\"Base\")","v":6425.6166452408343},{"$f":"SUMIFS(INDEX(output[#Data],0,MATCH(\"num_motors_Market\",output[#Headers],0)),output[equipment_type],$C$82,output[year],H$83,output[facility_type],$D$13,output[sensitivity],\"Base\")","v":6560.9932413870956},{"$f":"SUMIFS(INDEX(output[#Data],0,MATCH(\"num_motors_Market\",output[#Headers],0)),output[equipment_type],$C$82,output[year],I$83,output[facility_type],$D$13,output[sensitivity],\"Base\")","v":6863.8215288056554},{"$f":"SUMIFS(INDEX(output[#Data],0,MATCH(\"num_motors_Market\",output[#Headers],0)),output[equipment_type],$C$82,output[year],J$83,output[facility_type],$D$13,output[sensitivity],\"Base\")","v":6372.2405811078497}]
[null,null,"Number of In-Service ASD-Controlled Motors",{"$f":"SUMIFS(INDEX(output[#Data],0,MATCH(\"num_motors_Market\",output[#Headers],0)),output[equipment_type],$C$75,output[year],D$76,output[facility_type],$D$13,output[control_strategy],\"ASD Control\",output[sensitivity],\"Base\")","v":3552.9998792112729},{"$f":"SUMIFS(INDEX(output[#Data],0,MATCH(\"num_motors_Market\",output[#Headers],0)),output[equipment_type],$C$75,output[year],E$76,output[facility_type],$D$13,output[control_strategy],\"ASD Control\",output[sensitivity],\"Base\")","v":3478.0454642020418},{"$f":"SUMIFS(INDEX(output[#Data],0,MATCH(\"num_motors_Market\",output[#Headers],0)),output[equipment_type],$C$75,output[year],F$76,output[facility_type],$D$13,output[control_strategy],\"ASD Control\",output[sensitivity],\"Base\")","v":3592.0903485985696},{"$f":"SUMIFS(INDEX(output[#Data],0,MATCH(\"num_motors_Market\",output[#Headers],0)),output[equipment_type],$C$75,output[year],G$76,output[facility_type],$D$13,output[control_strategy],\"ASD Control\",output[sensitivity],\"Base\")","v":3905.1645902098808},{"$f":"SUMIFS(INDEX(output[#Data],0,MATCH(\"num_motors_Market\",output[#Headers],0)),output[equipment_type],$C$75,output[year],H$76,output[facility_type],$D$13,output[control_strategy],\"ASD Control\",output[sensitivity],\"Base\")","v":4117.639603131458},{"$f":"SUMIFS(INDEX(output[#Data],0,MATCH(\"num_motors_Market\",output[#Headers],0)),output[equipment_type],$C$75,output[year],I$76,output[facility_type],$D$13,output[control_strategy],\"ASD Control\",output[sensitivity],\"Base\")","v":4434.7505457055959},{"$f":"SUMIFS(INDEX(output[#Data],0,MATCH(\"num_motors_Market\",output[#Headers],0)),output[equipment_type],$C$75,output[year],J$76,output[facility_type],$D$13,output[control_strategy],\"ASD Control\",output[sensitivity],\"Base\")","v":4227.4277041975183}]
[null,null,"ASD Saturation (% of Motors)",{"$f":"D85/SUM(D84:D85)","v":0.35805023795692759},{"$f":"E85/SUM(E84:E85)","v":0.36434686806627981},0.36965072744555943,0.37801251436910377,0.38559613979471935,0.39250539948406993,0.39882641516792799]
[]
[null,null,"Figure 5: ASD-Controlled Fans, by Year (In-Service Motor HP)",null,null,null,null,"Figure 6: ASD-Controlled Fans, by Year (In-Service Motors)"]
[]
[]
[]
[]
[]
[]
[]
[]
[]
[]
[]
[]
[]
[]
[]
[]
[null,null,{"$f":"\"Table for \"&C88","v":"Table for Figure 5: ASD-Controlled Fans, by Year (In-Service Motor HP)"}]
[null,null,"Fans","Year"]
[null,null,"Pumps",2015,2016,2017,2018,2019,2020,2021]
[null,null,"Baseline ASD-Equipped Motor HP",{"$f":"SUMIFS(INDEX(output[#Data],0,MATCH(\"ishp_baseline\",output[#Headers],0)),output[equipment_type],$C$106,output[year],D$107,output[control_strategy],\"ASD Control\",output[facility_type],$D$13,output[sensitivity],\"Base\")","v":53045.697453515255},{"$f":"SUMIFS(INDEX(output[#Data],0,MATCH(\"ishp_baseline\",output[#Headers],0)),output[equipment_type],$C$106,output[year],E$107,output[control_strategy],\"ASD Control\",output[facility_type],$D$13,output[sensitivity],\"Base\")","v":50740.616221430115},{"$f":"SUMIFS(INDEX(output[#Data],0,MATCH(\"ishp_baseline\",output[#Headers],0)),output[equipment_type],$C$106,output[year],F$107,output[control_strategy],\"ASD Control\",output[facility_type],$D$13,output[sensitivity],\"Base\")","v":51404.992082422657},{"$f":"SUMIFS(INDEX(output[#Data],0,MATCH(\"ishp_baseline\",output[#Headers],0)),output[equipment_type],$C$106,output[year],G$107,output[control_strategy],\"ASD Control\",output[facility_type],$D$13,output[sensitivity],\"Base\")","v":54234.263867801739},{"$f":"SUMIFS(INDEX(output[#Data],0,MATCH(\"ishp_baseline\",output[#Headers],0)),output[equipment_type],$C$106,output[year],H$107,output[control_strategy],\"ASD Control\",output[facility_type],$D$13,output[sensitivity],\"Base\")","v":55671.535261063604},{"$f":"SUMIFS(INDEX(output[#Data],0,MATCH(\"ishp_baseline\",output[#Headers],0)),output[equipment_type],$C$106,output[year],I$107,output[control_strategy],\"ASD Control\",output[facility_type],$D$13,output[sensitivity],\"Base\")","v":58528.641374726983},{"$f":"SUMIFS(INDEX(output[#Data],0,MATCH(\"ishp_baseline\",output[#Headers],0)),output[equipment_type],$C$106,output[year],J$107,output[control_strategy],\"ASD Control\",output[facility_type],$D$13,output[sensitivity],\"Base\")","v":54586.463355336848}]
[null,null,"Market ASD-Equipped Motor HP",{"$f":"SUMIFS(INDEX(output[#Data],0,MATCH(\"ishp_Market\",output[#Headers],0)),output[equipment_type],$C$106,output[year],D$107,output[control_strategy],\"ASD Control\",output[facility_type],$D$13,output[sensitivity],\"Base\")","v":53045.697453515255},{"$f":"SUMIFS(INDEX(output[#Data],0,MATCH(\"ishp_Market\",output[#Headers],0)),output[equipment_type],$C$106,output[year],E$107,output[control_strategy],\"ASD Control\",output[facility_type],$D$13,output[sensitivity],\"Base\")","v":51926.640499798697},{"$f":"SUMIFS(INDEX(output[#Data],0,MATCH(\"ishp_Market\",output[#Headers],0)),output[equipment_type],$C$106,output[year],F$107,output[control_strategy],\"ASD Control\",output[facility_type],$D$13,output[sensitivity],\"Base\")","v":53629.311662051208},{"$f":"SUMIFS(INDEX(output[#Data],0,MATCH(\"ishp_Market\",output[#Headers],0)),output[equipment_type],$C$106,output[year],G$107,output[control_strategy],\"ASD Control\",output[facility_type],$D$13,output[sensitivity],\"Base\")","v":58303.458035703334},{"$f":"SUMIFS(INDEX(output[#Data],0,MATCH(\"ishp_Market\",output[#Headers],0)),output[equipment_type],$C$106,output[year],H$107,output[control_strategy],\"ASD Control\",output[facility_type],$D$13,output[sensitivity],\"Base\")","v":61475.674651250207},{"$f":"SUMIFS(INDEX(output[#Data],0,MATCH(\"ishp_Market\",output[#Headers],0)),output[equipment_type],$C$106,output[year],I$107,output[control_strategy],\"ASD Control\",output[facility_type],$D$13,output[sensitivity],\"Base\")","v":66210.088299111492},{"$f":"SUMIFS(INDEX(output[#Data],0,MATCH(\"ishp_Market\",output[#Headers],0)),output[equipment_type],$C$106,output[year],J$107,output[control_strategy],\"ASD Control\",output[facility_type],$D$13,output[sensitivity],\"Base\")","v":63114.79274613702}]
[]
[]
[null,null,{"$f":"\"Table for \"&H88","v":"Table for Figure 6: ASD-Controlled Fans, by Year (In-Service Motors)"}]
[null,null,"Fans","Year"]
[null,null,"Pumps",2015,2016,2017,2018,2019,2020,2021]
[null,null,"Baseline ASD-Equipped Motors",{"$f":"SUMIFS(INDEX(output[#Data],0,MATCH(\"num_motors_Baseline\",output[#Headers],0)),output[equipment_type],$C$113,output[year],D$114,output[control_strategy],\"ASD Control\",output[facility_type],$D$13,output[sensitivity],\"Base\")","v":3552.9998792112729},{"$f":"SUMIFS(INDEX(output[#Data],0,MATCH(\"num_motors_Baseline\",output[#Headers],0)),output[equipment_type],$C$113,output[year],E$114,output[control_strategy],\"ASD Control\",output[facility_type],$D$13,output[sensitivity],\"Base\")","v":3441.9878775079983},{"$f":"SUMIFS(INDEX(output[#Data],0,MATCH(\"num_motors_Baseline\",output[#Headers],0)),output[equipment_type],$C$113,output[year],F$114,output[control_strategy],\"ASD Control\",output[facility_type],$D$13,output[sensitivity],\"Base\")","v":3524.4664411116023},{"$f":"SUMIFS(INDEX(output[#Data],0,MATCH(\"num_motors_Baseline\",output[#Headers],0)),output[equipment_type],$C$113,output[year],G$114,output[control_strategy],\"ASD Control\",output[facility_type],$D$13,output[sensitivity],\"Base\")","v":3781.4526863643687},{"$f":"SUMIFS(INDEX(output[#Data],0,MATCH(\"num_motors_Baseline\",output[#Headers],0)),output[equipment_type],$C$113,output[year],H$114,output[control_strategy],\"ASD Control\",output[facility_type],$D$13,output[sensitivity],\"Base\")","v":3941.181782610458},{"$f":"SUMIFS(INDEX(output[#Data],0,MATCH(\"num_motors_Baseline\",output[#Headers],0)),output[equipment_type],$C$113,output[year],I$114,output[control_strategy],\"ASD Control\",output[facility_type],$D$13,output[sensitivity],\"Base\")","v":4201.2187003098206},{"$f":"SUMIFS(INDEX(output[#Data],0,MATCH(\"num_motors_Baseline\",output[#Headers],0)),output[equipment_type],$C$113,output[year],J$114,output[control_strategy],\"ASD Control\",output[facility_type],$D$13,output[sensitivity],\"Base\")","v":3968.1488833734957}]
[null,null,"Market ASD-Equipped Motors",{"$f":"SUMIFS(INDEX(output[#Data],0,MATCH(\"num_motors_Market\",output[#Headers],0)),output[equipment_type],$C$113,output[year],D$114,output[control_strategy],\"ASD Control\",output[facility_type],$D$13,output[sensitivity],\"Base\")","v":3552.9998792112729},{"$f":"SUMIFS(INDEX(output[#Data],0,MATCH(\"num_motors_Market\",output[#Headers],0)),output[equipment_type],$C$113,output[year],E$114,output[control_strategy],\"ASD Control\",output[facility_type],$D$13,output[sensitivity],\"Base\")","v":3478.0454642020418},{"$f":"SUMIFS(INDEX(output[#Data],0,MATCH(\"num_motors_Market\",output[#Headers],0)),output[equipment_type],$C$113,output[year],F$114,output[control_strategy],\"ASD Control\",output[facility_type],$D$13,output[sensitivity],\"Base\")","v":3592.0903485985696},{"$f":"SUMIFS(INDEX(output[#Data],0,MATCH(\"num_motors_Market\",output[#Headers],0)),output[equipment_type],$C$113,output[year],G$114,output[control_strategy],\"ASD Control\",output[facility_type],$D$13,output[sensitivity],\"Base\")","v":3905.1645902098808},{"$f":"SUMIFS(INDEX(output[#Data],0,MATCH(\"num_motors_Market\",output[#Headers],0)),output[equipment_type],$C$113,output[year],H$114,output[control_strategy],\"ASD Control\",output[facility_type],$D$13,output[sensitivity],\"Base\")","v":4117.639603131458},{"$f":"SUMIFS(INDEX(output[#Data],0,MATCH(\"num_motors_Market\",output[#Headers],0)),output[equipment_type],$C$113,output[year],I$114,output[control_strategy],\"ASD Control\",output[facility_type],$D$13,output[sensitivity],\"Base\")","v":4434.7505457055959},{"$f":"SUMIFS(INDEX(output[#Data],0,MATCH(\"num_motors_Market\",output[#Headers],0)),output[equipment_type],$C$113,output[year],J$114,output[control_strategy],\"ASD Control\",output[facility_type],$D$13,output[sensitivity],\"Base\")","v":4227.4277041975183}]
[]
[]
[null,null,"Figure 7: ASD-Controlled Fans Installed Above Baseline, by Year (In-Service Motor HP)",null,null,null,null,"Figure 8: ASD-Controlled Fans Installed Above Baseline, by Year (In-Service Motors)"]
[]
[]
[]
[]
[]
[]
[]
[]
[]
[]
[]
[]
[]
[]
[]
[null,null,{"$f":"\"Table for \"&C119","v":"Table for Figure 7: ASD-Controlled Fans Installed Above Baseline, by Year (In-Service Motor HP)"}]
[null,null,"Fans","Year",null,null,null,null,null,"Total"]
[null,null,"Pumps",2016,2017,2018,2019,2020,2021]
[null,null,"Regional Momentum ASD Motor HP Installed ",{"$f":"SUMIFS(INDEX(output[#Data],0,MATCH(\"ishp_Market\",output[#Headers],0)),output[equipment_type],$C$136,output[year],D$137,output[control_strategy],\"ASD Control\",output[facility_type],$D$13,output[sensitivity],\"Base\")-SUMIFS(INDEX(output[#Data],0,MATCH(\"ishp_Program\",output[#Headers],0)),output[equipment_type],$C$136,output[year],D$137,output[control_strategy],\"ASD Control\",output[facility_type],$D$13,output[sensitivity],\"Base\")","v":438.48634609575674},{"$f":"SUMIFS(INDEX(output[#Data],0,MATCH(\"ishp_Market\",output[#Headers],0)),output[equipment_type],$C$136,output[year],E$137,output[control_strategy],\"ASD Control\",output[facility_type],$D$13,output[sensitivity],\"Base\")-SUMIFS(INDEX(output[#Data],0,MATCH(\"ishp_Program\",output[#Headers],0)),output[equipment_type],$C$136,output[year],E$137,output[control_strategy],\"ASD Control\",output[facility_type],$D$13,output[sensitivity],\"Base\")-SUM($D$138:D138)","v":208.97941257712228},{"$f":"SUMIFS(INDEX(output[#Data],0,MATCH(\"ishp_Market\",output[#Headers],0)),output[equipment_type],$C$136,output[year],F$137,output[control_strategy],\"ASD Control\",output[facility_type],$D$13,output[sensitivity],\"Base\")-SUMIFS(INDEX(output[#Data],0,MATCH(\"ishp_Program\",output[#Headers],0)),output[equipment_type],$C$136,output[year],F$137,output[control_strategy],\"ASD Control\",output[facility_type],$D$13,output[sensitivity],\"Base\")-SUM($D$138:E138)","v":930.35304412211553},{"$f":"SUMIFS(INDEX(output[#Data],0,MATCH(\"ishp_Market\",output[#Headers],0)),output[equipment_type],$C$136,output[year],G$137,output[control_strategy],\"ASD Control\",output[facility_type],$D$13,output[sensitivity],\"Base\")-SUMIFS(INDEX(output[#Data],0,MATCH(\"ishp_Program\",output[#Headers],0)),output[equipment_type],$C$136,output[year],G$137,output[control_strategy],\"ASD Control\",output[facility_type],$D$13,output[sensitivity],\"Base\")-SUM($D$138:F138)","v":253.13470238127047},{"$f":"SUMIFS(INDEX(output[#Data],0,MATCH(\"ishp_Market\",output[#Headers],0)),output[equipment_type],$C$136,output[year],H$137,output[control_strategy],\"ASD Control\",output[facility_type],$D$13,output[sensitivity],\"Base\")-SUMIFS(INDEX(output[#Data],0,MATCH(\"ishp_Program\",output[#Headers],0)),output[equipment_type],$C$136,output[year],H$137,output[control_strategy],\"ASD Control\",output[facility_type],$D$13,output[sensitivity],\"Base\")-SUM($D$138:G138)","v":1328.2950959273658},{"$f":"SUMIFS(INDEX(output[#Data],0,MATCH(\"ishp_Market\",output[#Headers],0)),output[equipment_type],$C$136,output[year],I$137,output[control_strategy],\"ASD Control\",output[facility_type],$D$13,output[sensitivity],\"Base\")-SUMIFS(INDEX(output[#Data],0,MATCH(\"ishp_Program\",output[#Headers],0)),output[equipment_type],$C$136,output[year],I$137,output[control_strategy],\"ASD Control\",output[facility_type],$D$13,output[sensitivity],\"Base\")-SUM($D$138:H138)","v":297.87002814542939},{"$f":"SUM(D138:I138)","v":3457.1186292490602}]
[null,null,"Regional Program Incented Motor HP Installed",{"$f":"SUMIFS(INDEX(output[#Data],0,MATCH(\"ishp_Program\",output[#Headers],0)),output[equipment_type],$C$136,output[year],D$137,output[control_strategy],\"ASD Control\",output[facility_type],$D$13,output[sensitivity],\"Base\")-SUMIFS(INDEX(output[#Data],0,MATCH(\"ishp_Baseline\",output[#Headers],0)),output[equipment_type],$C$136,output[year],D$137,output[control_strategy],\"ASD Control\",output[facility_type],$D$13,output[sensitivity],\"Base\")","v":747.53793227282586},{"$f":"SUMIFS(INDEX(output[#Data],0,MATCH(\"ishp_Program\",output[#Headers],0)),output[equipment_type],$C$136,output[year],E$137,output[control_strategy],\"ASD Control\",output[facility_type],$D$13,output[sensitivity],\"Base\")-SUMIFS(INDEX(output[#Data],0,MATCH(\"ishp_Baseline\",output[#Headers],0)),output[equipment_type],$C$136,output[year],E$137,output[control_strategy],\"ASD Control\",output[facility_type],$D$13,output[sensitivity],\"Base\")-SUM($D$139:D139)","v":829.31588868284598},{"$f":"SUMIFS(INDEX(output[#Data],0,MATCH(\"ishp_Program\",output[#Headers],0)),output[equipment_type],$C$136,output[year],F$137,output[control_strategy],\"ASD Control\",output[facility_type],$D$13,output[sensitivity],\"Base\")-SUMIFS(INDEX(output[#Data],0,MATCH(\"ishp_Baseline\",output[#Headers],0)),output[equipment_type],$C$136,output[year],F$137,output[control_strategy],\"ASD Control\",output[facility_type],$D$13,output[sensitivity],\"Base\")-SUM($D$139:E139)","v":914.52154415092809},{"$f":"SUMIFS(INDEX(output[#Data],0,MATCH(\"ishp_Program\",output[#Headers],0)),output[equipment_type],$C$136,output[year],G$137,output[control_strategy],\"ASD Control\",output[facility_type],$D$13,output[sensitivity],\"Base\")-SUMIFS(INDEX(output[#Data],0,MATCH(\"ishp_Baseline\",output[#Headers],0)),output[equipment_type],$C$136,output[year],G$137,output[control_strategy],\"ASD Control\",output[facility_type],$D$13,output[sensitivity],\"Base\")-SUM($D$139:F139)","v":1481.8105199037382},{"$f":"SUMIFS(INDEX(output[#Data],0,MATCH(\"ishp_Program\",output[#Headers],0)),output[equipment_type],$C$136,output[year],H$137,output[control_strategy],\"ASD Control\",output[facility_type],$D$13,output[sensitivity],\"Base\")-SUMIFS(INDEX(output[#Data],0,MATCH(\"ishp_Baseline\",output[#Headers],0)),output[equipment_type],$C$136,output[year],H$137,output[control_strategy],\"ASD Control\",output[facility_type],$D$13,output[sensitivity],\"Base\")-SUM($D$139:G139)","v":549.01243827053986},{"$f":"SUMIFS(INDEX(output[#Data],0,MATCH(\"ishp_Program\",output[#Headers],0)),output[equipment_type],$C$136,output[year],I$137,output[control_strategy],\"ASD Control\",output[facility_type],$D$13,output[sensitivity],\"Base\")-SUMIFS(INDEX(output[#Data],0,MATCH(\"ishp_Baseline\",output[#Headers],0)),output[equipment_type],$C$136,output[year],I$137,output[control_strategy],\"ASD Control\",output[facility_type],$D$13,output[sensitivity],\"Base\")-SUM($D$139:H139)","v":549.01243827023427},{"$f":"SUM(D139:I139)","v":5071.2107615511122}]
[]
[null,null,{"$f":"\"Table for \"&H119","v":"Table for Figure 8: ASD-Controlled Fans Installed Above Baseline, by Year (In-Service Motors)"}]
[null,null,"Fans","Year",null,null,null,null,null,"Total"]
[null,null,"Pumps",2016,2017,2018,2019,2020,2021]
[null,null,"Regional Momentum ASD Motors Installed ",{"$f":"SUMIFS(INDEX(output[#Data],0,MATCH(\"num_motors_Market\",output[#Headers],0)),output[equipment_type],$C$142,output[year],D$143,output[control_strategy],\"ASD Control\",output[facility_type],$D$13,output[sensitivity],\"Base\")-SUMIFS(INDEX(output[#Data],0,MATCH(\"num_motors_Program\",output[#Headers],0)),output[equipment_type],$C$142,output[year],D$143,output[control_strategy],\"ASD Control\",output[facility_type],$D$13,output[sensitivity],\"Base\")","v":16.484571667125238},{"$f":"SUMIFS(INDEX(output[#Data],0,MATCH(\"num_motors_Market\",output[#Headers],0)),output[equipment_type],$C$142,output[year],E$143,output[control_strategy],\"ASD Control\",output[facility_type],$D$13,output[sensitivity],\"Base\")-SUMIFS(INDEX(output[#Data],0,MATCH(\"num_motors_Program\",output[#Headers],0)),output[equipment_type],$C$142,output[year],E$143,output[control_strategy],\"ASD Control\",output[facility_type],$D$13,output[sensitivity],\"Base\")-SUM($D$144:D144)","v":9.8520884436743472},{"$f":"SUMIFS(INDEX(output[#Data],0,MATCH(\"num_motors_Market\",output[#Headers],0)),output[equipment_type],$C$142,output[year],F$143,output[control_strategy],\"ASD Control\",output[facility_type],$D$13,output[sensitivity],\"Base\")-SUMIFS(INDEX(output[#Data],0,MATCH(\"num_motors_Program\",output[#Headers],0)),output[equipment_type],$C$142,output[year],F$143,output[control_strategy],\"ASD Control\",output[facility_type],$D$13,output[sensitivity],\"Base\")-SUM($D$144:E144)","v":32.14279819090325},{"$f":"SUMIFS(INDEX(output[#Data],0,MATCH(\"num_motors_Market\",output[#Headers],0)),output[equipment_type],$C$142,output[year],G$143,output[control_strategy],\"ASD Control\",output[facility_type],$D$13,output[sensitivity],\"Base\")-SUMIFS(INDEX(output[#Data],0,MATCH(\"num_motors_Program\",output[#Headers],0)),output[equipment_type],$C$142,output[year],G$143,output[control_strategy],\"ASD Control\",output[facility_type],$D$13,output[sensitivity],\"Base\")-SUM($D$144:F144)","v":13.9472172102478},{"$f":"SUMIFS(INDEX(output[#Data],0,MATCH(\"num_motors_Market\",output[#Headers],0)),output[equipment_type],$C$142,output[year],H$143,output[control_strategy],\"ASD Control\",output[facility_type],$D$13,output[sensitivity],\"Base\")-SUMIFS(INDEX(output[#Data],0,MATCH(\"num_motors_Program\",output[#Headers],0)),output[equipment_type],$C$142,output[year],H$143,output[control_strategy],\"ASD Control\",output[facility_type],$D$13,output[sensitivity],\"Base\")-SUM($D$144:G144)","v":42.699063765363462},{"$f":"SUMIFS(INDEX(output[#Data],0,MATCH(\"num_motors_Market\",output[#Headers],0)),output[equipment_type],$C$142,output[year],I$143,output[control_strategy],\"ASD Control\",output[facility_type],$D$13,output[sensitivity],\"Base\")-SUMIFS(INDEX(output[#Data],0,MATCH(\"num_motors_Program\",output[#Headers],0)),output[equipment_type],$C$142,output[year],I$143,output[control_strategy],\"ASD Control\",output[facility_type],$D$13,output[sensitivity],\"Base\")-SUM($D$144:H144)","v":11.37201431883841},{"$f":"SUM(D144:I144)","v":126.49775359615251}]
[null,null,"Regional Program Incented Motors Installed",{"$f":"SUMIFS(INDEX(output[#Data],0,MATCH(\"num_motors_Program\",output[#Headers],0)),output[equipment_type],$C$136,output[year],D$137,output[control_strategy],\"ASD Control\",output[facility_type],$D$13,output[sensitivity],\"Base\")-SUMIFS(INDEX(output[#Data],0,MATCH(\"num_motors_Baseline\",output[#Headers],0)),output[equipment_type],$C$136,output[year],D$137,output[control_strategy],\"ASD Control\",output[facility_type],$D$13,output[sensitivity],\"Base\")","v":19.573015026918256},{"$f":"SUMIFS(INDEX(output[#Data],0,MATCH(\"num_motors_Program\",output[#Headers],0)),output[equipment_type],$C$136,output[year],E$137,output[control_strategy],\"ASD Control\",output[facility_type],$D$13,output[sensitivity],\"Base\")-SUMIFS(INDEX(output[#Data],0,MATCH(\"num_motors_Baseline\",output[#Headers],0)),output[equipment_type],$C$136,output[year],E$137,output[control_strategy],\"ASD Control\",output[facility_type],$D$13,output[sensitivity],\"Base\")-SUM($D$145:D145)","v":21.714232349249414},{"$f":"SUMIFS(INDEX(output[#Data],0,MATCH(\"num_motors_Program\",output[#Headers],0)),output[equipment_type],$C$136,output[year],F$137,output[control_strategy],\"ASD Control\",output[facility_type],$D$13,output[sensitivity],\"Base\")-SUMIFS(INDEX(output[#Data],0,MATCH(\"num_motors_Baseline\",output[#Headers],0)),output[equipment_type],$C$136,output[year],F$137,output[control_strategy],\"ASD Control\",output[facility_type],$D$13,output[sensitivity],\"Base\")-SUM($D$145:E145)","v":23.945198167641593},{"$f":"SUMIFS(INDEX(output[#Data],0,MATCH(\"num_motors_Program\",output[#Headers],0)),output[equipment_type],$C$136,output[year],G$137,output[control_strategy],\"ASD Control\",output[facility_type],$D$13,output[sensitivity],\"Base\")-SUMIFS(INDEX(output[#Data],0,MATCH(\"num_motors_Baseline\",output[#Headers],0)),output[equipment_type],$C$136,output[year],G$137,output[control_strategy],\"ASD Control\",output[facility_type],$D$13,output[sensitivity],\"Base\")-SUM($D$145:F145)","v":38.798699465240134},{"$f":"SUMIFS(INDEX(output[#Data],0,MATCH(\"num_motors_Program\",output[#Headers],0)),output[equipment_type],$C$136,output[year],H$137,output[control_strategy],\"ASD Control\",output[facility_type],$D$13,output[sensitivity],\"Base\")-SUMIFS(INDEX(output[#Data],0,MATCH(\"num_motors_Baseline\",output[#Headers],0)),output[equipment_type],$C$136,output[year],H$137,output[control_strategy],\"ASD Control\",output[facility_type],$D$13,output[sensitivity],\"Base\")-SUM($D$145:G145)","v":14.374961109411743},{"$f":"SUMIFS(INDEX(output[#Data],0,MATCH(\"num_motors_Program\",output[#Headers],0)),output[equipment_type],$C$136,output[year],I$137,output[control_strategy],\"ASD Control\",output[facility_type],$D$13,output[sensitivity],\"Base\")-SUMIFS(INDEX(output[#Data],0,MATCH(\"num_motors_Baseline\",output[#Headers],0)),output[equipment_type],$C$136,output[year],I$137,output[control_strategy],\"ASD Control\",output[facility_type],$D$13,output[sensitivity],\"Base\")-SUM($D$145:H145)","v":14.374961109409014},{"$f":"SUM(D145:I145)","v":132.78106722787015}]
[]
[null,null,"Figure 9: Installed Stock of Pumps, by Year (Installed Motor HP)",null,null,null,null,"Figure 10: Installed Stock of Pumps, by Year (Installed Motors)"]
[]
[]
[]
[]
[]
[]
[]
[]
[]
[]
[]
[]
[]
[]
[]
[null,null,{"$f":"\"Table for \"&C147","v":"Table for Figure 9: Installed Stock of Pumps, by Year (Installed Motor HP)"}]
[null,null,"Pumps","Year"]
[null,null,"Pumps",2015,2016,2017,2018,2019,2020,2021]
[null,null,"In-Service Motor HP",{"$f":"SUMIFS(INDEX(output[#Data],0,MATCH(\"ishp_Market\",output[#Headers],0)),output[equipment_type],$C$164,output[year],D$165,output[facility_type],$D$13,output[sensitivity],\"Base\")","v":66177.392277648731},{"$f":"SUMIFS(INDEX(output[#Data],0,MATCH(\"ishp_Market\",output[#Headers],0)),output[equipment_type],$C$164,output[year],E$165,output[facility_type],$D$13,output[sensitivity],\"Base\")","v":61470.614941774154},{"$f":"SUMIFS(INDEX(output[#Data],0,MATCH(\"ishp_Market\",output[#Headers],0)),output[equipment_type],$C$164,output[year],F$165,output[facility_type],$D$13,output[sensitivity],\"Base\")","v":60696.470631063887},{"$f":"SUMIFS(INDEX(output[#Data],0,MATCH(\"ishp_Market\",output[#Headers],0)),output[equipment_type],$C$164,output[year],G$165,output[facility_type],$D$13,output[sensitivity],\"Base\")","v":61377.900979897284},{"$f":"SUMIFS(INDEX(output[#Data],0,MATCH(\"ishp_Market\",output[#Headers],0)),output[equipment_type],$C$164,output[year],H$165,output[facility_type],$D$13,output[sensitivity],\"Base\")","v":60492.451405414715},{"$f":"SUMIFS(INDEX(output[#Data],0,MATCH(\"ishp_Market\",output[#Headers],0)),output[equipment_type],$C$164,output[year],I$165,output[facility_type],$D$13,output[sensitivity],\"Base\")","v":61158.53445392281},{"$f":"SUMIFS(INDEX(output[#Data],0,MATCH(\"ishp_Market\",output[#Headers],0)),output[equipment_type],$C$164,output[year],J$165,output[facility_type],$D$13,output[sensitivity],\"Base\")","v":54932.979528483382}]
[null,null,"Out-of-Service Motor HP",{"$f":"SUMIFS(INDEX(output[#Data],0,MATCH(\"ooshp_Market\",output[#Headers],0)),output[equipment_type],$C$164,output[year],D$165,output[facility_type],$D$13,output[sensitivity],\"Base\")","v":25722.567918206179},{"$f":"SUMIFS(INDEX(output[#Data],0,MATCH(\"ooshp_Market\",output[#Headers],0)),output[equipment_type],$C$164,output[year],E$165,output[facility_type],$D$13,output[sensitivity],\"Base\")","v":29588.415439236262},{"$f":"SUMIFS(INDEX(output[#Data],0,MATCH(\"ooshp_Market\",output[#Headers],0)),output[equipment_type],$C$164,output[year],F$165,output[facility_type],$D$13,output[sensitivity],\"Base\")","v":30349.582838852373},{"$f":"SUMIFS(INDEX(output[#Data],0,MATCH(\"ooshp_Market\",output[#Headers],0)),output[equipment_type],$C$164,output[year],G$165,output[facility_type],$D$13,output[sensitivity],\"Base\")","v":29722.037362209256},{"$f":"SUMIFS(INDEX(output[#Data],0,MATCH(\"ooshp_Market\",output[#Headers],0)),output[equipment_type],$C$164,output[year],H$165,output[facility_type],$D$13,output[sensitivity],\"Base\")","v":30603.471896600397},{"$f":"SUMIFS(INDEX(output[#Data],0,MATCH(\"ooshp_Market\",output[#Headers],0)),output[equipment_type],$C$164,output[year],I$165,output[facility_type],$D$13,output[sensitivity],\"Base\")","v":29985.462218217639},{"$f":"SUMIFS(INDEX(output[#Data],0,MATCH(\"ooshp_Market\",output[#Headers],0)),output[equipment_type],$C$164,output[year],J$165,output[facility_type],$D$13,output[sensitivity],\"Base\")","v":35602.157561932021}]
[null,null,"Total Motor HP",{"$f":"SUM(D166:D167)","v":91899.960195854917},91059.030381010409,91046.053469916253,91099.938342106543,91095.923302015115,91143.996672140449,90535.137090415403]
[]
[null,null,{"$f":"\"Table for \"&H147","v":"Table for Figure 10: Installed Stock of Pumps, by Year (Installed Motors)"}]
[null,null,"Pumps","Year"]
[null,null,"Pumps",2015,2016,2017,2018,2019,2020,2021]
[null,null,"Number of In-Service Motors",{"$f":"SUMIFS(INDEX(output[#Data],0,MATCH(\"num_motors_Market\",output[#Headers],0)),output[equipment_type],$C$171,output[year],D$172,output[facility_type],$D$13,output[sensitivity],\"Base\")","v":3365.7529513808699},{"$f":"SUMIFS(INDEX(output[#Data],0,MATCH(\"num_motors_Market\",output[#Headers],0)),output[equipment_type],$C$171,output[year],E$172,output[facility_type],$D$13,output[sensitivity],\"Base\")","v":3126.8672254982707},{"$f":"SUMIFS(INDEX(output[#Data],0,MATCH(\"num_motors_Market\",output[#Headers],0)),output[equipment_type],$C$171,output[year],F$172,output[facility_type],$D$13,output[sensitivity],\"Base\")","v":3087.8250208656668},{"$f":"SUMIFS(INDEX(output[#Data],0,MATCH(\"num_motors_Market\",output[#Headers],0)),output[equipment_type],$C$171,output[year],G$172,output[facility_type],$D$13,output[sensitivity],\"Base\")","v":3122.7267442447051},{"$f":"SUMIFS(INDEX(output[#Data],0,MATCH(\"num_motors_Market\",output[#Headers],0)),output[equipment_type],$C$171,output[year],H$172,output[facility_type],$D$13,output[sensitivity],\"Base\")","v":3077.9725702771771},{"$f":"SUMIFS(INDEX(output[#Data],0,MATCH(\"num_motors_Market\",output[#Headers],0)),output[equipment_type],$C$171,output[year],I$172,output[facility_type],$D$13,output[sensitivity],\"Base\")","v":3111.9583794632899},{"$f":"SUMIFS(INDEX(output[#Data],0,MATCH(\"num_motors_Market\",output[#Headers],0)),output[equipment_type],$C$171,output[year],J$172,output[facility_type],$D$13,output[sensitivity],\"Base\")","v":2795.5093898361638}]
[null,null,"Number of Out-of-Service Motors",{"$f":"SUMIFS(INDEX(output[#Data],0,MATCH(\"num_motors_ooshp_Market\",output[#Headers],0)),output[equipment_type],$C$171,output[year],D$172,output[facility_type],$D$13,output[sensitivity],\"Base\")","v":1308.1164401882666},{"$f":"SUMIFS(INDEX(output[#Data],0,MATCH(\"num_motors_ooshp_Market\",output[#Headers],0)),output[equipment_type],$C$171,output[year],E$172,output[facility_type],$D$13,output[sensitivity],\"Base\")","v":1504.7805710424705},{"$f":"SUMIFS(INDEX(output[#Data],0,MATCH(\"num_motors_ooshp_Market\",output[#Headers],0)),output[equipment_type],$C$171,output[year],F$172,output[facility_type],$D$13,output[sensitivity],\"Base\")","v":1543.532247105248},{"$f":"SUMIFS(INDEX(output[#Data],0,MATCH(\"num_motors_ooshp_Market\",output[#Headers],0)),output[equipment_type],$C$171,output[year],G$172,output[facility_type],$D$13,output[sensitivity],\"Base\")","v":1511.6293528575554},{"$f":"SUMIFS(INDEX(output[#Data],0,MATCH(\"num_motors_ooshp_Market\",output[#Headers],0)),output[equipment_type],$C$171,output[year],H$172,output[facility_type],$D$13,output[sensitivity],\"Base\")","v":1556.5062668612072},{"$f":"SUMIFS(INDEX(output[#Data],0,MATCH(\"num_motors_ooshp_Market\",output[#Headers],0)),output[equipment_type],$C$171,output[year],I$172,output[facility_type],$D$13,output[sensitivity],\"Base\")","v":1525.0676791163737},{"$f":"SUMIFS(INDEX(output[#Data],0,MATCH(\"num_motors_ooshp_Market\",output[#Headers],0)),output[equipment_type],$C$171,output[year],J$172,output[facility_type],$D$13,output[sensitivity],\"Base\")","v":1810.900210054916}]
[null,null,"Total Number of Motors",{"$f":"SUM(D173:D174)","v":4673.8693915691365},4631.6477965407412,4631.357267970915,4634.3560971022607,4634.4788371383838,4637.0260585796641,4606.4095998910798]
[]
[]
[null,null,"Figure 11: In-Service Pumps, by Control Strategy and Year (In-Service Motor HP)",null,null,null,null,"Figure 12: In-Service Pumps, by Control Strategy and Year (In-Service Motors)"]
[]
[]
[]
[]
[]
[]
[]
[]
[]
[]
[]
[]
[]
[]
[]
[]
[]
[null,null,{"$f":"\"Table for \"&C178","v":"Table for Figure 11: In-Service Pumps, by Control Strategy and Year (In-Service Motor HP)"}]
[null,null,"Pumps","Year"]
[null,null,null,2015,2016,2017,2018,2019,2020,2021]
[null,null,"In-Service Non ASD-Controlled Motor HP",{"$f":"SUMIFS(INDEX(output[#Data],0,MATCH(\"ishp_Market\",output[#Headers],0)),output[equipment_type],$C$197,output[year],D$198,output[facility_type],$D$13,output[control_strategy],\"Non ASD Control\",output[sensitivity],\"Base\")","v":52644.179384334857},{"$f":"SUMIFS(INDEX(output[#Data],0,MATCH(\"ishp_Market\",output[#Headers],0)),output[equipment_type],$C$197,output[year],E$198,output[facility_type],$D$13,output[control_strategy],\"Non ASD Control\",output[sensitivity],\"Base\")","v":46980.277477027237},{"$f":"SUMIFS(INDEX(output[#Data],0,MATCH(\"ishp_Market\",output[#Headers],0)),output[equipment_type],$C$197,output[year],F$198,output[facility_type],$D$13,output[control_strategy],\"Non ASD Control\",output[sensitivity],\"Base\")","v":45092.989212032429},{"$f":"SUMIFS(INDEX(output[#Data],0,MATCH(\"ishp_Market\",output[#Headers],0)),output[equipment_type],$C$197,output[year],G$198,output[facility_type],$D$13,output[control_strategy],\"Non ASD Control\",output[sensitivity],\"Base\")","v":44694.359206651265},{"$f":"SUMIFS(INDEX(output[#Data],0,MATCH(\"ishp_Market\",output[#Headers],0)),output[equipment_type],$C$197,output[year],H$198,output[facility_type],$D$13,output[control_strategy],\"Non ASD Control\",output[sensitivity],\"Base\")","v":42914.893666593707},{"$f":"SUMIFS(INDEX(output[#Data],0,MATCH(\"ishp_Market\",output[#Headers],0)),output[equipment_type],$C$197,output[year],I$198,output[facility_type],$D$13,output[control_strategy],\"Non ASD Control\",output[sensitivity],\"Base\")","v":43024.888681792007},{"$f":"SUMIFS(INDEX(output[#Data],0,MATCH(\"ishp_Market\",output[#Headers],0)),output[equipment_type],$C$197,output[year],J$198,output[facility_type],$D$13,output[control_strategy],\"Non ASD Control\",output[sensitivity],\"Base\")","v":37379.89912466333}]
[null,null,"In-Service ASD-Controlled Motor HP",{"$f":"SUMIFS(INDEX(output[#Data],0,MATCH(\"ishp_Market\",output[#Headers],0)),output[equipment_type],$C$197,output[year],D$198,output[facility_type],$D$13,output[control_strategy],\"ASD Control\",output[sensitivity],\"Base\")","v":13533.212893313867},{"$f":"SUMIFS(INDEX(output[#Data],0,MATCH(\"ishp_Market\",output[#Headers],0)),output[equipment_type],$C$197,output[year],E$198,output[facility_type],$D$13,output[control_strategy],\"ASD Control\",output[sensitivity],\"Base\")","v":14490.337464746915},{"$f":"SUMIFS(INDEX(output[#Data],0,MATCH(\"ishp_Market\",output[#Headers],0)),output[equipment_type],$C$197,output[year],F$198,output[facility_type],$D$13,output[control_strategy],\"ASD Control\",output[sensitivity],\"Base\")","v":15603.481419031443},{"$f":"SUMIFS(INDEX(output[#Data],0,MATCH(\"ishp_Market\",output[#Headers],0)),output[equipment_type],$C$197,output[year],G$198,output[facility_type],$D$13,output[control_strategy],\"ASD Control\",output[sensitivity],\"Base\")","v":16683.541773246026},{"$f":"SUMIFS(INDEX(output[#Data],0,MATCH(\"ishp_Market\",output[#Headers],0)),output[equipment_type],$C$197,output[year],H$198,output[facility_type],$D$13,output[control_strategy],\"ASD Control\",output[sensitivity],\"Base\")","v":17577.557738820989},{"$f":"SUMIFS(INDEX(output[#Data],0,MATCH(\"ishp_Market\",output[#Headers],0)),output[equipment_type],$C$197,output[year],I$198,output[facility_type],$D$13,output[control_strategy],\"ASD Control\",output[sensitivity],\"Base\")","v":18133.645772130796},{"$f":"SUMIFS(INDEX(output[#Data],0,MATCH(\"ishp_Market\",output[#Headers],0)),output[equipment_type],$C$197,output[year],J$198,output[facility_type],$D$13,output[control_strategy],\"ASD Control\",output[sensitivity],\"Base\")","v":17553.080403820055}]
[null,null,"ASD Saturation (% of Motor HP)",{"$f":"D200/SUM(D199:D200)","v":0.20449903550951312},{"$f":"E200/SUM(E199:E200)","v":0.23572787548119326},{"$f":"F200/SUM(F199:F200)","v":0.25707394938785338},{"$f":"G200/SUM(G199:G200)","v":0.27181675337366584},{"$f":"H200/SUM(H199:H200)","v":0.2905743994571795},{"$f":"I200/SUM(I199:I200)","v":0.29650229414494539},{"$f":"J200/SUM(J199:J200)","v":0.31953628866460049}]
[]
[null,null,{"$f":"\"Table for \"&H178","v":"Table for Figure 12: In-Service Pumps, by Control Strategy and Year (In-Service Motors)"}]
[null,null,"Pumps","Year"]
[null,null,null,2015,2016,2017,2018,2019,2020,2021]
[null,null,"Number of In-Service Non ASD-Controlled Motors",{"$f":"SUMIFS(INDEX(output[#Data],0,MATCH(\"num_motors_Market\",output[#Headers],0)),output[equipment_type],$C$204,output[year],D$205,output[facility_type],$D$13,output[control_strategy],\"Non ASD Control\",output[sensitivity],\"Base\")","v":2674.6618714559131},{"$f":"SUMIFS(INDEX(output[#Data],0,MATCH(\"num_motors_Market\",output[#Headers],0)),output[equipment_type],$C$204,output[year],E$205,output[facility_type],$D$13,output[control_strategy],\"Non ASD Control\",output[sensitivity],\"Base\")","v":2386.8993371680331},{"$f":"SUMIFS(INDEX(output[#Data],0,MATCH(\"num_motors_Market\",output[#Headers],0)),output[equipment_type],$C$204,output[year],F$205,output[facility_type],$D$13,output[control_strategy],\"Non ASD Control\",output[sensitivity],\"Base\")","v":2291.0129918614507},{"$f":"SUMIFS(INDEX(output[#Data],0,MATCH(\"num_motors_Market\",output[#Headers],0)),output[equipment_type],$C$204,output[year],G$205,output[facility_type],$D$13,output[control_strategy],\"Non ASD Control\",output[sensitivity],\"Base\")","v":2270.7600315402829},{"$f":"SUMIFS(INDEX(output[#Data],0,MATCH(\"num_motors_Market\",output[#Headers],0)),output[equipment_type],$C$204,output[year],H$205,output[facility_type],$D$13,output[control_strategy],\"Non ASD Control\",output[sensitivity],\"Base\")","v":2180.3517720285431},{"$f":"SUMIFS(INDEX(output[#Data],0,MATCH(\"num_motors_Market\",output[#Headers],0)),output[equipment_type],$C$204,output[year],I$205,output[facility_type],$D$13,output[control_strategy],\"Non ASD Control\",output[sensitivity],\"Base\")","v":2185.9402240975396},{"$f":"SUMIFS(INDEX(output[#Data],0,MATCH(\"num_motors_Market\",output[#Headers],0)),output[equipment_type],$C$204,output[year],J$205,output[facility_type],$D$13,output[control_strategy],\"Non ASD Control\",output[sensitivity],\"Base\")","v":1899.1385584662632}]
[null,null,"Number of In-Service ASD-Controlled Motors",{"$f":"SUMIFS(INDEX(output[#Data],0,MATCH(\"num_motors_Market\",output[#Headers],0)),output[equipment_type],$C$204,output[year],D$205,output[facility_type],$D$13,output[control_strategy],\"ASD Control\",output[sensitivity],\"Base\")","v":691.09107992495694},{"$f":"SUMIFS(INDEX(output[#Data],0,MATCH(\"num_motors_Market\",output[#Headers],0)),output[equipment_type],$C$204,output[year],E$205,output[facility_type],$D$13,output[control_strategy],\"ASD Control\",output[sensitivity],\"Base\")","v":739.96788833023788},{"$f":"SUMIFS(INDEX(output[#Data],0,MATCH(\"num_motors_Market\",output[#Headers],0)),output[equipment_type],$C$204,output[year],F$205,output[facility_type],$D$13,output[control_strategy],\"ASD Control\",output[sensitivity],\"Base\")","v":796.81202900421579},{"$f":"SUMIFS(INDEX(output[#Data],0,MATCH(\"num_motors_Market\",output[#Headers],0)),output[equipment_type],$C$204,output[year],G$205,output[facility_type],$D$13,output[control_strategy],\"ASD Control\",output[sensitivity],\"Base\")","v":851.96671270442255},{"$f":"SUMIFS(INDEX(output[#Data],0,MATCH(\"num_motors_Market\",output[#Headers],0)),output[equipment_type],$C$204,output[year],H$205,output[facility_type],$D$13,output[control_strategy],\"ASD Control\",output[sensitivity],\"Base\")","v":897.62079824863304},{"$f":"SUMIFS(INDEX(output[#Data],0,MATCH(\"num_motors_Market\",output[#Headers],0)),output[equipment_type],$C$204,output[year],I$205,output[facility_type],$D$13,output[control_strategy],\"ASD Control\",output[sensitivity],\"Base\")","v":926.01815536574998},{"$f":"SUMIFS(INDEX(output[#Data],0,MATCH(\"num_motors_Market\",output[#Headers],0)),output[equipment_type],$C$204,output[year],J$205,output[facility_type],$D$13,output[control_strategy],\"ASD Control\",output[sensitivity],\"Base\")","v":896.37083136990032}]
[null,null,"ASD Saturation (% of Motors)",{"$f":"D207/SUM(D206:D207)","v":0.20533030495937693},{"$f":"E207/SUM(E206:E207)","v":0.23664832401456473},{"$f":"F207/SUM(F206:F207)","v":0.2580496056673674},{"$f":"G207/SUM(G206:G207)","v":0.27282781443321191},{"$f":"H207/SUM(H206:H207)","v":0.29162728963754248},{"$f":"I207/SUM(I206:I207)","v":0.29756765433522853},{"$f":"J207/SUM(J206:J207)","v":0.32064668951887648}]
[]
[null,null,"Figure 13: ASD-Controlled Pumps, by Year (In-Service Motor HP)",null,null,null,null,"Figure 14: ASD-Controlled Pumps, by Year (In-Service Motors)"]
[]
[]
[]
[]
[]
[]
[]
[]
[]
[]
[]
[]
[]
[]
[]
[]
[null,null,{"$f":"\"Table for \"&C210","v":"Table for Figure 13: ASD-Controlled Pumps, by Year (In-Service Motor HP)"}]
[null,null,"Pumps","Year"]
[null,null,"Pumps",2015,2016,2017,2018,2019,2020,2021]
[null,null,"Baseline ASD-Equipped Motor HP",{"$f":"SUMIFS(INDEX(output[#Data],0,MATCH(\"ishp_baseline\",output[#Headers],0)),output[equipment_type],$C$228,output[year],D$229,output[control_strategy],\"ASD Control\",output[facility_type],$D$13,output[sensitivity],\"Base\")","v":13533.212893313867},{"$f":"SUMIFS(INDEX(output[#Data],0,MATCH(\"ishp_baseline\",output[#Headers],0)),output[equipment_type],$C$228,output[year],E$229,output[control_strategy],\"ASD Control\",output[facility_type],$D$13,output[sensitivity],\"Base\")","v":13328.463141727721},{"$f":"SUMIFS(INDEX(output[#Data],0,MATCH(\"ishp_baseline\",output[#Headers],0)),output[equipment_type],$C$228,output[year],F$229,output[control_strategy],\"ASD Control\",output[facility_type],$D$13,output[sensitivity],\"Base\")","v":13672.056845714518},{"$f":"SUMIFS(INDEX(output[#Data],0,MATCH(\"ishp_baseline\",output[#Headers],0)),output[equipment_type],$C$228,output[year],G$229,output[control_strategy],\"ASD Control\",output[facility_type],$D$13,output[sensitivity],\"Base\")","v":14182.752136993113},{"$f":"SUMIFS(INDEX(output[#Data],0,MATCH(\"ishp_baseline\",output[#Headers],0)),output[equipment_type],$C$228,output[year],H$229,output[control_strategy],\"ASD Control\",output[facility_type],$D$13,output[sensitivity],\"Base\")","v":14426.068735319994},{"$f":"SUMIFS(INDEX(output[#Data],0,MATCH(\"ishp_baseline\",output[#Headers],0)),output[equipment_type],$C$228,output[year],I$229,output[control_strategy],\"ASD Control\",output[facility_type],$D$13,output[sensitivity],\"Base\")","v":14728.027057545567},{"$f":"SUMIFS(INDEX(output[#Data],0,MATCH(\"ishp_baseline\",output[#Headers],0)),output[equipment_type],$C$228,output[year],J$229,output[control_strategy],\"ASD Control\",output[facility_type],$D$13,output[sensitivity],\"Base\")","v":13728.292098808664}]
[null,null,"Market ASD-Equipped Motor HP",{"$f":"SUMIFS(INDEX(output[#Data],0,MATCH(\"ishp_Market\",output[#Headers],0)),output[equipment_type],$C$228,output[year],D$229,output[control_strategy],\"ASD Control\",output[facility_type],$D$13,output[sensitivity],\"Base\")","v":13533.212893313867},{"$f":"SUMIFS(INDEX(output[#Data],0,MATCH(\"ishp_Market\",output[#Headers],0)),output[equipment_type],$C$228,output[year],E$229,output[control_strategy],\"ASD Control\",output[facility_type],$D$13,output[sensitivity],\"Base\")","v":14490.337464746915},{"$f":"SUMIFS(INDEX(output[#Data],0,MATCH(\"ishp_Market\",output[#Headers],0)),output[equipment_type],$C$228,output[year],F$229,output[control_strategy],\"ASD Control\",output[facility_type],$D$13,output[sensitivity],\"Base\")","v":15603.481419031443},{"$f":"SUMIFS(INDEX(output[#Data],0,MATCH(\"ishp_Market\",output[#Headers],0)),output[equipment_type],$C$228,output[year],G$229,output[control_strategy],\"ASD Control\",output[facility_type],$D$13,output[sensitivity],\"Base\")","v":16683.541773246026},{"$f":"SUMIFS(INDEX(output[#Data],0,MATCH(\"ishp_Market\",output[#Headers],0)),output[equipment_type],$C$228,output[year],H$229,output[control_strategy],\"ASD Control\",output[facility_type],$D$13,output[sensitivity],\"Base\")","v":17577.557738820989},{"$f":"SUMIFS(INDEX(output[#Data],0,MATCH(\"ishp_Market\",output[#Headers],0)),output[equipment_type],$C$228,output[year],I$229,output[control_strategy],\"ASD Control\",output[facility_type],$D$13,output[sensitivity],\"Base\")","v":18133.645772130796},{"$f":"SUMIFS(INDEX(output[#Data],0,MATCH(\"ishp_Market\",output[#Headers],0)),output[equipment_type],$C$228,output[year],J$229,output[control_strategy],\"ASD Control\",output[facility_type],$D$13,output[sensitivity],\"Base\")","v":17553.080403820055}]
[]
[]
[null,null,{"$f":"\"Table for \"&H210","v":"Table for Figure 14: ASD-Controlled Pumps, by Year (In-Service Motors)"}]
[null,null,"Pumps","Year"]
[null,null,"Pumps",2015,2016,2017,2018,2019,2020,2021]
[null,null,"Baseline ASD-Equipped Motors",{"$f":"SUMIFS(INDEX(output[#Data],0,MATCH(\"num_motors_Baseline\",output[#Headers],0)),output[equipment_type],$C$228,output[year],D$236,output[control_strategy],\"ASD Control\",output[facility_type],$D$13,output[sensitivity],\"Base\")","v":691.09107992495694},{"$f":"SUMIFS(INDEX(output[#Data],0,MATCH(\"num_motors_Baseline\",output[#Headers],0)),output[equipment_type],$C$228,output[year],E$236,output[control_strategy],\"ASD Control\",output[facility_type],$D$13,output[sensitivity],\"Base\")","v":662.07592398737916},{"$f":"SUMIFS(INDEX(output[#Data],0,MATCH(\"num_motors_Baseline\",output[#Headers],0)),output[equipment_type],$C$228,output[year],F$236,output[control_strategy],\"ASD Control\",output[facility_type],$D$13,output[sensitivity],\"Base\")","v":667.32947567194969},{"$f":"SUMIFS(INDEX(output[#Data],0,MATCH(\"num_motors_Baseline\",output[#Headers],0)),output[equipment_type],$C$228,output[year],G$236,output[control_strategy],\"ASD Control\",output[facility_type],$D$13,output[sensitivity],\"Base\")","v":684.3139697900026},{"$f":"SUMIFS(INDEX(output[#Data],0,MATCH(\"num_motors_Baseline\",output[#Headers],0)),output[equipment_type],$C$228,output[year],H$236,output[control_strategy],\"ASD Control\",output[facility_type],$D$13,output[sensitivity],\"Base\")","v":686.34522031028041},{"$f":"SUMIFS(INDEX(output[#Data],0,MATCH(\"num_motors_Baseline\",output[#Headers],0)),output[equipment_type],$C$228,output[year],I$236,output[control_strategy],\"ASD Control\",output[facility_type],$D$13,output[sensitivity],\"Base\")","v":697.70574134103367},{"$f":"SUMIFS(INDEX(output[#Data],0,MATCH(\"num_motors_Baseline\",output[#Headers],0)),output[equipment_type],$C$228,output[year],J$236,output[control_strategy],\"ASD Control\",output[facility_type],$D$13,output[sensitivity],\"Base\")","v":639.95732057058319}]
[null,null,"Market ASD-Equipped Motors",{"$f":"SUMIFS(INDEX(output[#Data],0,MATCH(\"num_motors_Market\",output[#Headers],0)),output[equipment_type],$C$228,output[year],D$236,output[control_strategy],\"ASD Control\",output[facility_type],$D$13,output[sensitivity],\"Base\")","v":691.09107992495694},{"$f":"SUMIFS(INDEX(output[#Data],0,MATCH(\"num_motors_Market\",output[#Headers],0)),output[equipment_type],$C$228,output[year],E$236,output[control_strategy],\"ASD Control\",output[facility_type],$D$13,output[sensitivity],\"Base\")","v":739.96788833023788},{"$f":"SUMIFS(INDEX(output[#Data],0,MATCH(\"num_motors_Market\",output[#Headers],0)),output[equipment_type],$C$228,output[year],F$236,output[control_strategy],\"ASD Control\",output[facility_type],$D$13,output[sensitivity],\"Base\")","v":796.81202900421579},{"$f":"SUMIFS(INDEX(output[#Data],0,MATCH(\"num_motors_Market\",output[#Headers],0)),output[equipment_type],$C$228,output[year],G$236,output[control_strategy],\"ASD Control\",output[facility_type],$D$13,output[sensitivity],\"Base\")","v":851.96671270442255},{"$f":"SUMIFS(INDEX(output[#Data],0,MATCH(\"num_motors_Market\",output[#Headers],0)),output[equipment_type],$C$228,output[year],H$236,output[control_strategy],\"ASD Control\",output[facility_type],$D$13,output[sensitivity],\"Base\")","v":897.62079824863304},{"$f":"SUMIFS(INDEX(output[#Data],0,MATCH(\"num_motors_Market\",output[#Headers],0)),output[equipment_type],$C$228,output[year],I$236,output[control_strategy],\"ASD Control\",output[facility_type],$D$13,output[sensitivity],\"Base\")","v":926.01815536574998},{"$f":"SUMIFS(INDEX(output[#Data],0,MATCH(\"num_motors_Market\",output[#Headers],0)),output[equipment_type],$C$228,output[year],J$236,output[control_strategy],\"ASD Control\",output[facility_type],$D$13,output[sensitivity],\"Base\")","v":896.37083136990032}]
[]
[null,null,"Figure 15: ASD-Controlled Pumps Installed Above Baseline, by Year (In-Service Motor HP)",null,null,null,null,"Figure 16: ASD-Controlled Pumps Installed Above Baseline, by Year (In-Service Motors)"]
[]
[]
[]
[]
[]
[]
[]
[]
[]
[]
[]
[]
[]
[]
[null,null,{"$f":"\"Table for \"&C240","v":"Table for Figure 15: ASD-Controlled Pumps Installed Above Baseline, by Year (In-Service Motor HP)"}]
[null,null,"Pumps","Year",null,null,null,null,null,"Total"]
[null,null,"Pumps",2016,2017,2018,2019,2020,2021]
[null,null,"Regional Momentum ASD Motor HP Installed ",{"$f":"SUMIFS(INDEX(output[#Data],0,MATCH(\"ishp_Market\",output[#Headers],0)),output[equipment_type],$C$256,output[year],D$257,output[control_strategy],\"ASD Control\",output[facility_type],$D$13,output[sensitivity],\"Base\")-SUMIFS(INDEX(output[#Data],0,MATCH(\"ishp_Program\",output[#Headers],0)),output[equipment_type],$C$256,output[year],D$257,output[control_strategy],\"ASD Control\",output[facility_type],$D$13,output[sensitivity],\"Base\")","v":1123.4370337149485},{"$f":"SUMIFS(INDEX(output[#Data],0,MATCH(\"ishp_Market\",output[#Headers],0)),output[equipment_type],$C$256,output[year],E$257,output[control_strategy],\"ASD Control\",output[facility_type],$D$13,output[sensitivity],\"Base\")-SUMIFS(INDEX(output[#Data],0,MATCH(\"ishp_Program\",output[#Headers],0)),output[equipment_type],$C$256,output[year],E$257,output[control_strategy],\"ASD Control\",output[facility_type],$D$13,output[sensitivity],\"Base\")-SUM($D$258:D258)","v":742.02762300266113},{"$f":"SUMIFS(INDEX(output[#Data],0,MATCH(\"ishp_Market\",output[#Headers],0)),output[equipment_type],$C$256,output[year],F$257,output[control_strategy],\"ASD Control\",output[facility_type],$D$13,output[sensitivity],\"Base\")-SUMIFS(INDEX(output[#Data],0,MATCH(\"ishp_Program\",output[#Headers],0)),output[equipment_type],$C$256,output[year],F$257,output[control_strategy],\"ASD Control\",output[facility_type],$D$13,output[sensitivity],\"Base\")-SUM($D$258:E258)","v":547.45322595663129},{"$f":"SUMIFS(INDEX(output[#Data],0,MATCH(\"ishp_Market\",output[#Headers],0)),output[equipment_type],$C$256,output[year],G$257,output[control_strategy],\"ASD Control\",output[facility_type],$D$13,output[sensitivity],\"Base\")-SUMIFS(INDEX(output[#Data],0,MATCH(\"ishp_Program\",output[#Headers],0)),output[equipment_type],$C$256,output[year],G$257,output[control_strategy],\"ASD Control\",output[facility_type],$D$13,output[sensitivity],\"Base\")-SUM($D$258:F258)","v":580.98178416995688},{"$f":"SUMIFS(INDEX(output[#Data],0,MATCH(\"ishp_Market\",output[#Headers],0)),output[equipment_type],$C$256,output[year],H$257,output[control_strategy],\"ASD Control\",output[facility_type],$D$13,output[sensitivity],\"Base\")-SUMIFS(INDEX(output[#Data],0,MATCH(\"ishp_Program\",output[#Headers],0)),output[equipment_type],$C$256,output[year],H$257,output[control_strategy],\"ASD Control\",output[facility_type],$D$13,output[sensitivity],\"Base\")-SUM($D$258:G258)","v":236.29411222415001},{"$f":"SUMIFS(INDEX(output[#Data],0,MATCH(\"ishp_Market\",output[#Headers],0)),output[equipment_type],$C$256,output[year],I$257,output[control_strategy],\"ASD Control\",output[facility_type],$D$13,output[sensitivity],\"Base\")-SUMIFS(INDEX(output[#Data],0,MATCH(\"ishp_Program\",output[#Headers],0)),output[equipment_type],$C$256,output[year],I$257,output[control_strategy],\"ASD Control\",output[facility_type],$D$13,output[sensitivity],\"Base\")-SUM($D$258:H258)","v":401.33399156610722},{"$f":"SUM(D258:I258)","v":3631.527770634455}]
[null,null,"Regional Program Incented Motor HP Installed",{"$f":"SUMIFS(INDEX(output[#Data],0,MATCH(\"ishp_Program\",output[#Headers],0)),output[equipment_type],$C$256,output[year],D$257,output[control_strategy],\"ASD Control\",output[facility_type],$D$13,output[sensitivity],\"Base\")-SUMIFS(INDEX(output[#Data],0,MATCH(\"ishp_Baseline\",output[#Headers],0)),output[equipment_type],$C$256,output[year],D$257,output[control_strategy],\"ASD Control\",output[facility_type],$D$13,output[sensitivity],\"Base\")","v":38.437289304245496},{"$f":"SUMIFS(INDEX(output[#Data],0,MATCH(\"ishp_Program\",output[#Headers],0)),output[equipment_type],$C$256,output[year],E$257,output[control_strategy],\"ASD Control\",output[facility_type],$D$13,output[sensitivity],\"Base\")-SUMIFS(INDEX(output[#Data],0,MATCH(\"ishp_Baseline\",output[#Headers],0)),output[equipment_type],$C$256,output[year],E$257,output[control_strategy],\"ASD Control\",output[facility_type],$D$13,output[sensitivity],\"Base\")-SUM($D$259:D259)","v":27.522627295069469},{"$f":"SUMIFS(INDEX(output[#Data],0,MATCH(\"ishp_Program\",output[#Headers],0)),output[equipment_type],$C$256,output[year],F$257,output[control_strategy],\"ASD Control\",output[facility_type],$D$13,output[sensitivity],\"Base\")-SUMIFS(INDEX(output[#Data],0,MATCH(\"ishp_Baseline\",output[#Headers],0)),output[equipment_type],$C$256,output[year],F$257,output[control_strategy],\"ASD Control\",output[facility_type],$D$13,output[sensitivity],\"Base\")-SUM($D$259:E259)","v":21.911836979357759},{"$f":"SUMIFS(INDEX(output[#Data],0,MATCH(\"ishp_Program\",output[#Headers],0)),output[equipment_type],$C$256,output[year],G$257,output[control_strategy],\"ASD Control\",output[facility_type],$D$13,output[sensitivity],\"Base\")-SUMIFS(INDEX(output[#Data],0,MATCH(\"ishp_Baseline\",output[#Headers],0)),output[equipment_type],$C$256,output[year],G$257,output[control_strategy],\"ASD Control\",output[facility_type],$D$13,output[sensitivity],\"Base\")-SUM($D$259:F259)","v":69.717583078125244},{"$f":"SUMIFS(INDEX(output[#Data],0,MATCH(\"ishp_Program\",output[#Headers],0)),output[equipment_type],$C$256,output[year],H$257,output[control_strategy],\"ASD Control\",output[facility_type],$D$13,output[sensitivity],\"Base\")-SUMIFS(INDEX(output[#Data],0,MATCH(\"ishp_Baseline\",output[#Headers],0)),output[equipment_type],$C$256,output[year],H$257,output[control_strategy],\"ASD Control\",output[facility_type],$D$13,output[sensitivity],\"Base\")-SUM($D$259:G259)","v":17.835598860083337},{"$f":"SUMIFS(INDEX(output[#Data],0,MATCH(\"ishp_Program\",output[#Headers],0)),output[equipment_type],$C$256,output[year],I$257,output[control_strategy],\"ASD Control\",output[facility_type],$D$13,output[sensitivity],\"Base\")-SUMIFS(INDEX(output[#Data],0,MATCH(\"ishp_Baseline\",output[#Headers],0)),output[equipment_type],$C$256,output[year],I$257,output[control_strategy],\"ASD Control\",output[facility_type],$D$13,output[sensitivity],\"Base\")-SUM($D$259:H259)","v":17.835598860054233},{"$f":"SUM(D259:I259)","v":193.26053437693554}]
[]
[null,null,{"$f":"\"Table for \"&H240","v":"Table for Figure 16: ASD-Controlled Pumps Installed Above Baseline, by Year (In-Service Motors)"}]
[null,null,"Pumps","Year",null,null,null,null,null,"Total"]
[null,null,"Pumps",2016,2017,2018,2019,2020,2021]
[null,null,"Regional Momentum ASDs Installed ",{"$f":"SUMIFS(INDEX(output[#Data],0,MATCH(\"num_motors_Market\",output[#Headers],0)),output[equipment_type],$C$262,output[year],D$263,output[control_strategy],\"ASD Control\",output[facility_type],$D$13,output[sensitivity],\"Base\")-SUMIFS(INDEX(output[#Data],0,MATCH(\"num_motors_Program\",output[#Headers],0)),output[equipment_type],$C$262,output[year],D$263,output[control_strategy],\"ASD Control\",output[facility_type],$D$13,output[sensitivity],\"Base\")","v":77.461048319115434},{"$f":"SUMIFS(INDEX(output[#Data],0,MATCH(\"num_motors_Market\",output[#Headers],0)),output[equipment_type],$C$262,output[year],E$263,output[control_strategy],\"ASD Control\",output[facility_type],$D$13,output[sensitivity],\"Base\")-SUMIFS(INDEX(output[#Data],0,MATCH(\"num_motors_Program\",output[#Headers],0)),output[equipment_type],$C$262,output[year],E$263,output[control_strategy],\"ASD Control\",output[facility_type],$D$13,output[sensitivity],\"Base\")-SUM($D$264:D264)","v":51.28203598445748},{"$f":"SUMIFS(INDEX(output[#Data],0,MATCH(\"num_motors_Market\",output[#Headers],0)),output[equipment_type],$C$262,output[year],F$263,output[control_strategy],\"ASD Control\",output[facility_type],$D$13,output[sensitivity],\"Base\")-SUMIFS(INDEX(output[#Data],0,MATCH(\"num_motors_Program\",output[#Headers],0)),output[equipment_type],$C$262,output[year],F$263,output[control_strategy],\"ASD Control\",output[facility_type],$D$13,output[sensitivity],\"Base\")-SUM($D$264:E264)","v":37.924538501264124},{"$f":"SUMIFS(INDEX(output[#Data],0,MATCH(\"num_motors_Market\",output[#Headers],0)),output[equipment_type],$C$262,output[year],G$263,output[control_strategy],\"ASD Control\",output[facility_type],$D$13,output[sensitivity],\"Base\")-SUMIFS(INDEX(output[#Data],0,MATCH(\"num_motors_Program\",output[#Headers],0)),output[equipment_type],$C$262,output[year],G$263,output[control_strategy],\"ASD Control\",output[facility_type],$D$13,output[sensitivity],\"Base\")-SUM($D$264:F264)","v":42.841239229098619},{"$f":"SUMIFS(INDEX(output[#Data],0,MATCH(\"num_motors_Market\",output[#Headers],0)),output[equipment_type],$C$262,output[year],H$263,output[control_strategy],\"ASD Control\",output[facility_type],$D$13,output[sensitivity],\"Base\")-SUMIFS(INDEX(output[#Data],0,MATCH(\"num_motors_Program\",output[#Headers],0)),output[equipment_type],$C$262,output[year],H$263,output[control_strategy],\"ASD Control\",output[facility_type],$D$13,output[sensitivity],\"Base\")-SUM($D$264:G264)","v":16.836883241587429},{"$f":"SUMIFS(INDEX(output[#Data],0,MATCH(\"num_motors_Market\",output[#Headers],0)),output[equipment_type],$C$262,output[year],I$263,output[control_strategy],\"ASD Control\",output[facility_type],$D$13,output[sensitivity],\"Base\")-SUMIFS(INDEX(output[#Data],0,MATCH(\"num_motors_Program\",output[#Headers],0)),output[equipment_type],$C$262,output[year],I$263,output[control_strategy],\"ASD Control\",output[facility_type],$D$13,output[sensitivity],\"Base\")-SUM($D$264:H264)","v":27.901143929825253},{"$f":"SUM(D264:I264)","v":254.24688920534834}]
[null,null,"Regional Program Incented ASDs Installed",{"$f":"SUMIFS(INDEX(output[#Data],0,MATCH(\"num_motors_Program\",output[#Headers],0)),output[equipment_type],$C$262,output[year],D$263,output[control_strategy],\"ASD Control\",output[facility_type],$D$13,output[sensitivity],\"Base\")-SUMIFS(INDEX(output[#Data],0,MATCH(\"num_motors_Baseline\",output[#Headers],0)),output[equipment_type],$C$262,output[year],D$263,output[control_strategy],\"ASD Control\",output[facility_type],$D$13,output[sensitivity],\"Base\")","v":0.43091602374329341},{"$f":"SUMIFS(INDEX(output[#Data],0,MATCH(\"num_motors_Program\",output[#Headers],0)),output[equipment_type],$C$262,output[year],E$263,output[control_strategy],\"ASD Control\",output[facility_type],$D$13,output[sensitivity],\"Base\")-SUMIFS(INDEX(output[#Data],0,MATCH(\"num_motors_Baseline\",output[#Headers],0)),output[equipment_type],$C$262,output[year],E$263,output[control_strategy],\"ASD Control\",output[facility_type],$D$13,output[sensitivity],\"Base\")-SUM($D$265:D265)","v":0.30855300494988569},{"$f":"SUMIFS(INDEX(output[#Data],0,MATCH(\"num_motors_Program\",output[#Headers],0)),output[equipment_type],$C$262,output[year],F$263,output[control_strategy],\"ASD Control\",output[facility_type],$D$13,output[sensitivity],\"Base\")-SUMIFS(INDEX(output[#Data],0,MATCH(\"num_motors_Baseline\",output[#Headers],0)),output[equipment_type],$C$262,output[year],F$263,output[control_strategy],\"ASD Control\",output[facility_type],$D$13,output[sensitivity],\"Base\")-SUM($D$265:E265)","v":0.2456510808897292},{"$f":"SUMIFS(INDEX(output[#Data],0,MATCH(\"num_motors_Program\",output[#Headers],0)),output[equipment_type],$C$262,output[year],G$263,output[control_strategy],\"ASD Control\",output[facility_type],$D$13,output[sensitivity],\"Base\")-SUMIFS(INDEX(output[#Data],0,MATCH(\"num_motors_Baseline\",output[#Headers],0)),output[equipment_type],$C$262,output[year],G$263,output[control_strategy],\"ASD Control\",output[facility_type],$D$13,output[sensitivity],\"Base\")-SUM($D$265:F265)","v":0.78159579483406105},{"$f":"SUMIFS(INDEX(output[#Data],0,MATCH(\"num_motors_Program\",output[#Headers],0)),output[equipment_type],$C$262,output[year],H$263,output[control_strategy],\"ASD Control\",output[facility_type],$D$13,output[sensitivity],\"Base\")-SUMIFS(INDEX(output[#Data],0,MATCH(\"num_motors_Baseline\",output[#Headers],0)),output[equipment_type],$C$262,output[year],H$263,output[control_strategy],\"ASD Control\",output[facility_type],$D$13,output[sensitivity],\"Base\")-SUM($D$265:G265)","v":0.19995284477624864},{"$f":"SUMIFS(INDEX(output[#Data],0,MATCH(\"num_motors_Program\",output[#Headers],0)),output[equipment_type],$C$262,output[year],I$263,output[control_strategy],\"ASD Control\",output[facility_type],$D$13,output[sensitivity],\"Base\")-SUMIFS(INDEX(output[#Data],0,MATCH(\"num_motors_Baseline\",output[#Headers],0)),output[equipment_type],$C$262,output[year],I$263,output[control_strategy],\"ASD Control\",output[facility_type],$D$13,output[sensitivity],\"Base\")-SUM($D$265:H265)","v":0.19995284477556652},{"$f":"SUM(D265:I265)","v":2.1666215939687845}]
[]
[]
[null,null,"Market Characteristics"]
[]
[null,null,{"$f":"\"This section presents the distribution of the installed stock of pumps, fans, and ASDs in the \"&D13&\" industry. Distributions by control type, load type, and motor size are shown in the figures below. All values are based on the market scenario.\"","v":"This section presents the distribution of the installed stock of pumps, fans, and ASDs in the Wood Products industry. Distributions by control type, load type, and motor size are shown in the figures below. All values are based on the market scenario."}]
[]
[null,null,"Figure 17: Distribution of Fans by Control Type and Load Type, by Year (In-Service Motor HP)",null,null,null,null,"Figure 18: Distribution of Fans by Control Type and Load Type, by Year (In-Service Motors)"]
[]
[]
[]
[]
[]
[]
[]
[]
[]
[]
[]
[]
[]
[]
[]
[null,null,{"$f":"\"Table for \"&C272","v":"Table for Figure 17: Distribution of Fans by Control Type and Load Type, by Year (In-Service Motor HP)"}]
[null,null,"Fans","Year"]
[null,null,null,2015,2016,2017,2018,2019,2020,2021]
[null,null,"Constant Load Non-ASD Control",{"$f":"SUMIFS(INDEX(output[#Data],0,MATCH(\"ishp_Market\",output[#Headers],0)),output[equipment_type],$C$289,output[control_strategy],\"Non ASD Control\",output[load_type],\"Constant\",output[year],D$290,output[facility_type],$D$13,output[sensitivity],\"Base\")/SUMIFS(INDEX(output[#Data],0,MATCH(\"ishp_Market\",output[#Headers],0)),output[equipment_type],$C$289,output[year],D$290,output[facility_type],$D$13,output[sensitivity],\"Base\")","v":0.52617343861412291},{"$f":"SUMIFS(INDEX(output[#Data],0,MATCH(\"ishp_Market\",output[#Headers],0)),output[equipment_type],$C$289,output[control_strategy],\"Non ASD Control\",output[load_type],\"Constant\",output[year],E$290,output[facility_type],$D$13,output[sensitivity],\"Base\")/SUMIFS(INDEX(output[#Data],0,MATCH(\"ishp_Market\",output[#Headers],0)),output[equipment_type],$C$289,output[year],E$290,output[facility_type],$D$13,output[sensitivity],\"Base\")","v":0.52075704899762409},{"$f":"SUMIFS(INDEX(output[#Data],0,MATCH(\"ishp_Market\",output[#Headers],0)),output[equipment_type],$C$289,output[control_strategy],\"Non ASD Control\",output[load_type],\"Constant\",output[year],F$290,output[facility_type],$D$13,output[sensitivity],\"Base\")/SUMIFS(INDEX(output[#Data],0,MATCH(\"ishp_Market\",output[#Headers],0)),output[equipment_type],$C$289,output[year],F$290,output[facility_type],$D$13,output[sensitivity],\"Base\")","v":0.5158857544791966},{"$f":"SUMIFS(INDEX(output[#Data],0,MATCH(\"ishp_Market\",output[#Headers],0)),output[equipment_type],$C$289,output[control_strategy],\"Non ASD Control\",output[load_type],\"Constant\",output[year],G$290,output[facility_type],$D$13,output[sensitivity],\"Base\")/SUMIFS(INDEX(output[#Data],0,MATCH(\"ishp_Market\",output[#Headers],0)),output[equipment_type],$C$289,output[year],G$290,output[facility_type],$D$13,output[sensitivity],\"Base\")","v":0.50756198661844931},{"$f":"SUMIFS(INDEX(output[#Data],0,MATCH(\"ishp_Market\",output[#Headers],0)),output[equipment_type],$C$289,output[control_strategy],\"Non ASD Control\",output[load_type],\"Constant\",output[year],H$290,output[facility_type],$D$13,output[sensitivity],\"Base\")/SUMIFS(INDEX(output[#Data],0,MATCH(\"ishp_Market\",output[#Headers],0)),output[equipment_type],$C$289,output[year],H$290,output[facility_type],$D$13,output[sensitivity],\"Base\")","v":0.49923821875770236},{"$f":"SUMIFS(INDEX(output[#Data],0,MATCH(\"ishp_Market\",output[#Headers],0)),output[equipment_type],$C$289,output[control_strategy],\"Non ASD Control\",output[load_type],\"Constant\",output[year],I$290,output[facility_type],$D$13,output[sensitivity],\"Base\")/SUMIFS(INDEX(output[#Data],0,MATCH(\"ishp_Market\",output[#Headers],0)),output[equipment_type],$C$289,output[year],I$290,output[facility_type],$D$13,output[sensitivity],\"Base\")","v":0.49091445089695468},{"$f":"SUMIFS(INDEX(output[#Data],0,MATCH(\"ishp_Market\",output[#Headers],0)),output[equipment_type],$C$289,output[control_strategy],\"Non ASD Control\",output[load_type],\"Constant\",output[year],J$290,output[facility_type],$D$13,output[sensitivity],\"Base\")/SUMIFS(INDEX(output[#Data],0,MATCH(\"ishp_Market\",output[#Headers],0)),output[equipment_type],$C$289,output[year],J$290,output[facility_type],$D$13,output[sensitivity],\"Base\")","v":0.4825906830362075}]
[null,null,"Variable Load Non-ASD Control",{"$f":"SUMIFS(INDEX(output[#Data],0,MATCH(\"ishp_Market\",output[#Headers],0)),output[equipment_type],$C$289,output[control_strategy],\"Non ASD Control\",output[load_type],\"Variable\",output[year],D$290,output[facility_type],$D$13,output[sensitivity],\"Base\")/SUMIFS(INDEX(output[#Data],0,MATCH(\"ishp_Market\",output[#Headers],0)),output[equipment_type],$C$289,output[year],D$290,output[facility_type],$D$13,output[sensitivity],\"Base\")","v":0.31336524701457891},{"$f":"SUMIFS(INDEX(output[#Data],0,MATCH(\"ishp_Market\",output[#Headers],0)),output[equipment_type],$C$289,output[control_strategy],\"Non ASD Control\",output[load_type],\"Variable\",output[year],E$290,output[facility_type],$D$13,output[sensitivity],\"Base\")/SUMIFS(INDEX(output[#Data],0,MATCH(\"ishp_Market\",output[#Headers],0)),output[equipment_type],$C$289,output[year],E$290,output[facility_type],$D$13,output[sensitivity],\"Base\")","v":0.31013948884143355},{"$f":"SUMIFS(INDEX(output[#Data],0,MATCH(\"ishp_Market\",output[#Headers],0)),output[equipment_type],$C$289,output[control_strategy],\"Non ASD Control\",output[load_type],\"Variable\",output[year],F$290,output[facility_type],$D$13,output[sensitivity],\"Base\")/SUMIFS(INDEX(output[#Data],0,MATCH(\"ishp_Market\",output[#Headers],0)),output[equipment_type],$C$289,output[year],F$290,output[facility_type],$D$13,output[sensitivity],\"Base\")","v":0.30723836480509231},{"$f":"SUMIFS(INDEX(output[#Data],0,MATCH(\"ishp_Market\",output[#Headers],0)),output[equipment_type],$C$289,output[control_strategy],\"Non ASD Control\",output[load_type],\"Variable\",output[year],G$290,output[facility_type],$D$13,output[sensitivity],\"Base\")/SUMIFS(INDEX(output[#Data],0,MATCH(\"ishp_Market\",output[#Headers],0)),output[equipment_type],$C$289,output[year],G$290,output[facility_type],$D$13,output[sensitivity],\"Base\")","v":0.30228110284476778},{"$f":"SUMIFS(INDEX(output[#Data],0,MATCH(\"ishp_Market\",output[#Headers],0)),output[equipment_type],$C$289,output[control_strategy],\"Non ASD Control\",output[load_type],\"Variable\",output[year],H$290,output[facility_type],$D$13,output[sensitivity],\"Base\")/SUMIFS(INDEX(output[#Data],0,MATCH(\"ishp_Market\",output[#Headers],0)),output[equipment_type],$C$289,output[year],H$290,output[facility_type],$D$13,output[sensitivity],\"Base\")","v":0.29732384088444258},{"$f":"SUMIFS(INDEX(output[#Data],0,MATCH(\"ishp_Market\",output[#Headers],0)),output[equipment_type],$C$289,output[control_strategy],\"Non ASD Control\",output[load_type],\"Variable\",output[year],I$290,output[facility_type],$D$13,output[sensitivity],\"Base\")/SUMIFS(INDEX(output[#Data],0,MATCH(\"ishp_Market\",output[#Headers],0)),output[equipment_type],$C$289,output[year],I$290,output[facility_type],$D$13,output[sensitivity],\"Base\")","v":0.29236657892411783},{"$f":"SUMIFS(INDEX(output[#Data],0,MATCH(\"ishp_Market\",output[#Headers],0)),output[equipment_type],$C$289,output[control_strategy],\"Non ASD Control\",output[load_type],\"Variable\",output[year],J$290,output[facility_type],$D$13,output[sensitivity],\"Base\")/SUMIFS(INDEX(output[#Data],0,MATCH(\"ishp_Market\",output[#Headers],0)),output[equipment_type],$C$289,output[year],J$290,output[facility_type],$D$13,output[sensitivity],\"Base\")","v":0.28740931696379279}]
[null,null,"Constant Load ASD Control",{"$f":"SUMIFS(INDEX(output[#Data],0,MATCH(\"ishp_Market\",output[#Headers],0)),output[equipment_type],$C$289,output[control_strategy],\"ASD Control\",output[load_type],\"Constant\",output[year],D$290,output[facility_type],$D$13,output[sensitivity],\"Base\")/SUMIFS(INDEX(output[#Data],0,MATCH(\"ishp_Market\",output[#Headers],0)),output[equipment_type],$C$289,output[year],D$290,output[facility_type],$D$13,output[sensitivity],\"Base\")","v":1.0759152426001397E-2},{"$f":"SUMIFS(INDEX(output[#Data],0,MATCH(\"ishp_Market\",output[#Headers],0)),output[equipment_type],$C$289,output[control_strategy],\"ASD Control\",output[load_type],\"Constant\",output[year],E$290,output[facility_type],$D$13,output[sensitivity],\"Base\")/SUMIFS(INDEX(output[#Data],0,MATCH(\"ishp_Market\",output[#Headers],0)),output[equipment_type],$C$289,output[year],E$290,output[facility_type],$D$13,output[sensitivity],\"Base\")","v":1.133862035396347E-2},{"$f":"SUMIFS(INDEX(output[#Data],0,MATCH(\"ishp_Market\",output[#Headers],0)),output[equipment_type],$C$289,output[control_strategy],\"ASD Control\",output[load_type],\"Constant\",output[year],F$290,output[facility_type],$D$13,output[sensitivity],\"Base\")/SUMIFS(INDEX(output[#Data],0,MATCH(\"ishp_Market\",output[#Headers],0)),output[equipment_type],$C$289,output[year],F$290,output[facility_type],$D$13,output[sensitivity],\"Base\")","v":1.1859771737255328E-2},{"$f":"SUMIFS(INDEX(output[#Data],0,MATCH(\"ishp_Market\",output[#Headers],0)),output[equipment_type],$C$289,output[control_strategy],\"ASD Control\",output[load_type],\"Constant\",output[year],G$290,output[facility_type],$D$13,output[sensitivity],\"Base\")/SUMIFS(INDEX(output[#Data],0,MATCH(\"ishp_Market\",output[#Headers],0)),output[equipment_type],$C$289,output[year],G$290,output[facility_type],$D$13,output[sensitivity],\"Base\")","v":1.2750283103057477E-2},{"$f":"SUMIFS(INDEX(output[#Data],0,MATCH(\"ishp_Market\",output[#Headers],0)),output[equipment_type],$C$289,output[control_strategy],\"ASD Control\",output[load_type],\"Constant\",output[year],H$290,output[facility_type],$D$13,output[sensitivity],\"Base\")/SUMIFS(INDEX(output[#Data],0,MATCH(\"ishp_Market\",output[#Headers],0)),output[equipment_type],$C$289,output[year],H$290,output[facility_type],$D$13,output[sensitivity],\"Base\")","v":1.3640794468859605E-2},{"$f":"SUMIFS(INDEX(output[#Data],0,MATCH(\"ishp_Market\",output[#Headers],0)),output[equipment_type],$C$289,output[control_strategy],\"ASD Control\",output[load_type],\"Constant\",output[year],I$290,output[facility_type],$D$13,output[sensitivity],\"Base\")/SUMIFS(INDEX(output[#Data],0,MATCH(\"ishp_Market\",output[#Headers],0)),output[equipment_type],$C$289,output[year],I$290,output[facility_type],$D$13,output[sensitivity],\"Base\")","v":1.4531305834661673E-2},{"$f":"SUMIFS(INDEX(output[#Data],0,MATCH(\"ishp_Market\",output[#Headers],0)),output[equipment_type],$C$289,output[control_strategy],\"ASD Control\",output[load_type],\"Constant\",output[year],J$290,output[facility_type],$D$13,output[sensitivity],\"Base\")/SUMIFS(INDEX(output[#Data],0,MATCH(\"ishp_Market\",output[#Headers],0)),output[equipment_type],$C$289,output[year],J$290,output[facility_type],$D$13,output[sensitivity],\"Base\")","v":1.5421817200463811E-2}]
[null,null,"Variable Load ASD Control",{"$f":"SUMIFS(INDEX(output[#Data],0,MATCH(\"ishp_Market\",output[#Headers],0)),output[equipment_type],$C$289,output[control_strategy],\"ASD Control\",output[load_type],\"Variable\",output[year],D$290,output[facility_type],$D$13,output[sensitivity],\"Base\")/SUMIFS(INDEX(output[#Data],0,MATCH(\"ishp_Market\",output[#Headers],0)),output[equipment_type],$C$289,output[year],D$290,output[facility_type],$D$13,output[sensitivity],\"Base\")","v":0.14970216194529709},{"$f":"SUMIFS(INDEX(output[#Data],0,MATCH(\"ishp_Market\",output[#Headers],0)),output[equipment_type],$C$289,output[control_strategy],\"ASD Control\",output[load_type],\"Variable\",output[year],E$290,output[facility_type],$D$13,output[sensitivity],\"Base\")/SUMIFS(INDEX(output[#Data],0,MATCH(\"ishp_Market\",output[#Headers],0)),output[equipment_type],$C$289,output[year],E$290,output[facility_type],$D$13,output[sensitivity],\"Base\")","v":0.15776484180697886},{"$f":"SUMIFS(INDEX(output[#Data],0,MATCH(\"ishp_Market\",output[#Headers],0)),output[equipment_type],$C$289,output[control_strategy],\"ASD Control\",output[load_type],\"Variable\",output[year],F$290,output[facility_type],$D$13,output[sensitivity],\"Base\")/SUMIFS(INDEX(output[#Data],0,MATCH(\"ishp_Market\",output[#Headers],0)),output[equipment_type],$C$289,output[year],F$290,output[facility_type],$D$13,output[sensitivity],\"Base\")","v":0.16501610897845567},{"$f":"SUMIFS(INDEX(output[#Data],0,MATCH(\"ishp_Market\",output[#Headers],0)),output[equipment_type],$C$289,output[control_strategy],\"ASD Control\",output[load_type],\"Variable\",output[year],G$290,output[facility_type],$D$13,output[sensitivity],\"Base\")/SUMIFS(INDEX(output[#Data],0,MATCH(\"ishp_Market\",output[#Headers],0)),output[equipment_type],$C$289,output[year],G$290,output[facility_type],$D$13,output[sensitivity],\"Base\")","v":0.17740662743372559},{"$f":"SUMIFS(INDEX(output[#Data],0,MATCH(\"ishp_Market\",output[#Headers],0)),output[equipment_type],$C$289,output[control_strategy],\"ASD Control\",output[load_type],\"Variable\",output[year],H$290,output[facility_type],$D$13,output[sensitivity],\"Base\")/SUMIFS(INDEX(output[#Data],0,MATCH(\"ishp_Market\",output[#Headers],0)),output[equipment_type],$C$289,output[year],H$290,output[facility_type],$D$13,output[sensitivity],\"Base\")","v":0.18979714588899596},{"$f":"SUMIFS(INDEX(output[#Data],0,MATCH(\"ishp_Market\",output[#Headers],0)),output[equipment_type],$C$289,output[control_strategy],\"ASD Control\",output[load_type],\"Variable\",output[year],I$290,output[facility_type],$D$13,output[sensitivity],\"Base\")/SUMIFS(INDEX(output[#Data],0,MATCH(\"ishp_Market\",output[#Headers],0)),output[equipment_type],$C$289,output[year],I$290,output[facility_type],$D$13,output[sensitivity],\"Base\")","v":0.20218766434426619},{"$f":"SUMIFS(INDEX(output[#Data],0,MATCH(\"ishp_Market\",output[#Headers],0)),output[equipment_type],$C$289,output[control_strategy],\"ASD Control\",output[load_type],\"Variable\",output[year],J$290,output[facility_type],$D$13,output[sensitivity],\"Base\")/SUMIFS(INDEX(output[#Data],0,MATCH(\"ishp_Market\",output[#Headers],0)),output[equipment_type],$C$289,output[year],J$290,output[facility_type],$D$13,output[sensitivity],\"Base\")","v":0.21457818279953617}]
[]
[null,null,{"$f":"\"Table for \"&H272","v":"Table for Figure 18: Distribution of Fans by Control Type and Load Type, by Year (In-Service Motors)"}]
[null,null,"Fans","Year"]
[null,null,null,2015,2016,2017,2018,2019,2020,2021]
[null,null,"Constant Load Non-ASD Control",{"$f":"SUMIFS(INDEX(output[#Data],0,MATCH(\"num_motors_Market\",output[#Headers],0)),output[equipment_type],$C$289,output[control_strategy],\"Non ASD Control\",output[load_type],\"Constant\",output[year],D$290,output[facility_type],$D$13,output[sensitivity],\"Base\")/SUMIFS(INDEX(output[#Data],0,MATCH(\"num_motors_Market\",output[#Headers],0)),output[equipment_type],$C$289,output[year],D$290,output[facility_type],$D$13,output[sensitivity],\"Base\")","v":0.27717357933978409},{"$f":"SUMIFS(INDEX(output[#Data],0,MATCH(\"num_motors_Market\",output[#Headers],0)),output[equipment_type],$C$289,output[control_strategy],\"Non ASD Control\",output[load_type],\"Constant\",output[year],E$290,output[facility_type],$D$13,output[sensitivity],\"Base\")/SUMIFS(INDEX(output[#Data],0,MATCH(\"num_motors_Market\",output[#Headers],0)),output[equipment_type],$C$289,output[year],E$290,output[facility_type],$D$13,output[sensitivity],\"Base\")","v":0.26750249532020864},{"$f":"SUMIFS(INDEX(output[#Data],0,MATCH(\"num_motors_Market\",output[#Headers],0)),output[equipment_type],$C$289,output[control_strategy],\"Non ASD Control\",output[load_type],\"Constant\",output[year],F$290,output[facility_type],$D$13,output[sensitivity],\"Base\")/SUMIFS(INDEX(output[#Data],0,MATCH(\"num_motors_Market\",output[#Headers],0)),output[equipment_type],$C$289,output[year],F$290,output[facility_type],$D$13,output[sensitivity],\"Base\")","v":0.25920630394094801},{"$f":"SUMIFS(INDEX(output[#Data],0,MATCH(\"num_motors_Market\",output[#Headers],0)),output[equipment_type],$C$289,output[control_strategy],\"Non ASD Control\",output[load_type],\"Constant\",output[year],G$290,output[facility_type],$D$13,output[sensitivity],\"Base\")/SUMIFS(INDEX(output[#Data],0,MATCH(\"num_motors_Market\",output[#Headers],0)),output[equipment_type],$C$289,output[year],G$290,output[facility_type],$D$13,output[sensitivity],\"Base\")","v":0.24583959775987901},{"$f":"SUMIFS(INDEX(output[#Data],0,MATCH(\"num_motors_Market\",output[#Headers],0)),output[equipment_type],$C$289,output[control_strategy],\"Non ASD Control\",output[load_type],\"Constant\",output[year],H$290,output[facility_type],$D$13,output[sensitivity],\"Base\")/SUMIFS(INDEX(output[#Data],0,MATCH(\"num_motors_Market\",output[#Headers],0)),output[equipment_type],$C$289,output[year],H$290,output[facility_type],$D$13,output[sensitivity],\"Base\")","v":0.23340220069411241},{"$f":"SUMIFS(INDEX(output[#Data],0,MATCH(\"num_motors_Market\",output[#Headers],0)),output[equipment_type],$C$289,output[control_strategy],\"Non ASD Control\",output[load_type],\"Constant\",output[year],I$290,output[facility_type],$D$13,output[sensitivity],\"Base\")/SUMIFS(INDEX(output[#Data],0,MATCH(\"num_motors_Market\",output[#Headers],0)),output[equipment_type],$C$289,output[year],I$290,output[facility_type],$D$13,output[sensitivity],\"Base\")","v":0.22180045434140164},{"$f":"SUMIFS(INDEX(output[#Data],0,MATCH(\"num_motors_Market\",output[#Headers],0)),output[equipment_type],$C$289,output[control_strategy],\"Non ASD Control\",output[load_type],\"Constant\",output[year],J$290,output[facility_type],$D$13,output[sensitivity],\"Base\")/SUMIFS(INDEX(output[#Data],0,MATCH(\"num_motors_Market\",output[#Headers],0)),output[equipment_type],$C$289,output[year],J$290,output[facility_type],$D$13,output[sensitivity],\"Base\")","v":0.21095287678436306}]
[null,null,"Variable Load Non-ASD Control",{"$f":"SUMIFS(INDEX(output[#Data],0,MATCH(\"num_motors_Market\",output[#Headers],0)),output[equipment_type],$C$289,output[control_strategy],\"Non ASD Control\",output[load_type],\"Variable\",output[year],D$290,output[facility_type],$D$13,output[sensitivity],\"Base\")/SUMIFS(INDEX(output[#Data],0,MATCH(\"num_motors_Market\",output[#Headers],0)),output[equipment_type],$C$289,output[year],D$290,output[facility_type],$D$13,output[sensitivity],\"Base\")","v":0.16507212409751443},{"$f":"SUMIFS(INDEX(output[#Data],0,MATCH(\"num_motors_Market\",output[#Headers],0)),output[equipment_type],$C$289,output[control_strategy],\"Non ASD Control\",output[load_type],\"Variable\",output[year],E$290,output[facility_type],$D$13,output[sensitivity],\"Base\")/SUMIFS(INDEX(output[#Data],0,MATCH(\"num_motors_Market\",output[#Headers],0)),output[equipment_type],$C$289,output[year],E$290,output[facility_type],$D$13,output[sensitivity],\"Base\")","v":0.15931246119876527},{"$f":"SUMIFS(INDEX(output[#Data],0,MATCH(\"num_motors_Market\",output[#Headers],0)),output[equipment_type],$C$289,output[control_strategy],\"Non ASD Control\",output[load_type],\"Variable\",output[year],F$290,output[facility_type],$D$13,output[sensitivity],\"Base\")/SUMIFS(INDEX(output[#Data],0,MATCH(\"num_motors_Market\",output[#Headers],0)),output[equipment_type],$C$289,output[year],F$290,output[facility_type],$D$13,output[sensitivity],\"Base\")","v":0.15437162255117112},{"$f":"SUMIFS(INDEX(output[#Data],0,MATCH(\"num_motors_Market\",output[#Headers],0)),output[equipment_type],$C$289,output[control_strategy],\"Non ASD Control\",output[load_type],\"Variable\",output[year],G$290,output[facility_type],$D$13,output[sensitivity],\"Base\")/SUMIFS(INDEX(output[#Data],0,MATCH(\"num_motors_Market\",output[#Headers],0)),output[equipment_type],$C$289,output[year],G$290,output[facility_type],$D$13,output[sensitivity],\"Base\")","v":0.14641101322198424},{"$f":"SUMIFS(INDEX(output[#Data],0,MATCH(\"num_motors_Market\",output[#Headers],0)),output[equipment_type],$C$289,output[control_strategy],\"Non ASD Control\",output[load_type],\"Variable\",output[year],H$290,output[facility_type],$D$13,output[sensitivity],\"Base\")/SUMIFS(INDEX(output[#Data],0,MATCH(\"num_motors_Market\",output[#Headers],0)),output[equipment_type],$C$289,output[year],H$290,output[facility_type],$D$13,output[sensitivity],\"Base\")","v":0.13900385862672793},{"$f":"SUMIFS(INDEX(output[#Data],0,MATCH(\"num_motors_Market\",output[#Headers],0)),output[equipment_type],$C$289,output[control_strategy],\"Non ASD Control\",output[load_type],\"Variable\",output[year],I$290,output[facility_type],$D$13,output[sensitivity],\"Base\")/SUMIFS(INDEX(output[#Data],0,MATCH(\"num_motors_Market\",output[#Headers],0)),output[equipment_type],$C$289,output[year],I$290,output[facility_type],$D$13,output[sensitivity],\"Base\")","v":0.13209438003124171},{"$f":"SUMIFS(INDEX(output[#Data],0,MATCH(\"num_motors_Market\",output[#Headers],0)),output[equipment_type],$C$289,output[control_strategy],\"Non ASD Control\",output[load_type],\"Variable\",output[year],J$290,output[facility_type],$D$13,output[sensitivity],\"Base\")/SUMIFS(INDEX(output[#Data],0,MATCH(\"num_motors_Market\",output[#Headers],0)),output[equipment_type],$C$289,output[year],J$290,output[facility_type],$D$13,output[sensitivity],\"Base\")","v":0.12563405046838044}]
[null,null,"Constant Load ASD Control",{"$f":"SUMIFS(INDEX(output[#Data],0,MATCH(\"num_motors_Market\",output[#Headers],0)),output[equipment_type],$C$289,output[control_strategy],\"ASD Control\",output[load_type],\"Constant\",output[year],D$290,output[facility_type],$D$13,output[sensitivity],\"Base\")/SUMIFS(INDEX(output[#Data],0,MATCH(\"num_motors_Market\",output[#Headers],0)),output[equipment_type],$C$289,output[year],D$290,output[facility_type],$D$13,output[sensitivity],\"Base\")","v":3.7398194801579403E-2},{"$f":"SUMIFS(INDEX(output[#Data],0,MATCH(\"num_motors_Market\",output[#Headers],0)),output[equipment_type],$C$289,output[control_strategy],\"ASD Control\",output[load_type],\"Constant\",output[year],E$290,output[facility_type],$D$13,output[sensitivity],\"Base\")/SUMIFS(INDEX(output[#Data],0,MATCH(\"num_motors_Market\",output[#Headers],0)),output[equipment_type],$C$289,output[year],E$290,output[facility_type],$D$13,output[sensitivity],\"Base\")","v":3.8432847663496784E-2},{"$f":"SUMIFS(INDEX(output[#Data],0,MATCH(\"num_motors_Market\",output[#Headers],0)),output[equipment_type],$C$289,output[control_strategy],\"ASD Control\",output[load_type],\"Constant\",output[year],F$290,output[facility_type],$D$13,output[sensitivity],\"Base\")/SUMIFS(INDEX(output[#Data],0,MATCH(\"num_motors_Market\",output[#Headers],0)),output[equipment_type],$C$289,output[year],F$290,output[facility_type],$D$13,output[sensitivity],\"Base\")","v":3.9320408782415155E-2},{"$f":"SUMIFS(INDEX(output[#Data],0,MATCH(\"num_motors_Market\",output[#Headers],0)),output[equipment_type],$C$289,output[control_strategy],\"ASD Control\",output[load_type],\"Constant\",output[year],G$290,output[facility_type],$D$13,output[sensitivity],\"Base\")/SUMIFS(INDEX(output[#Data],0,MATCH(\"num_motors_Market\",output[#Headers],0)),output[equipment_type],$C$289,output[year],G$290,output[facility_type],$D$13,output[sensitivity],\"Base\")","v":4.0750434700570701E-2},{"$f":"SUMIFS(INDEX(output[#Data],0,MATCH(\"num_motors_Market\",output[#Headers],0)),output[equipment_type],$C$289,output[control_strategy],\"ASD Control\",output[load_type],\"Constant\",output[year],H$290,output[facility_type],$D$13,output[sensitivity],\"Base\")/SUMIFS(INDEX(output[#Data],0,MATCH(\"num_motors_Market\",output[#Headers],0)),output[equipment_type],$C$289,output[year],H$290,output[facility_type],$D$13,output[sensitivity],\"Base\")","v":4.2081039257707419E-2},{"$f":"SUMIFS(INDEX(output[#Data],0,MATCH(\"num_motors_Market\",output[#Headers],0)),output[equipment_type],$C$289,output[control_strategy],\"ASD Control\",output[load_type],\"Constant\",output[year],I$290,output[facility_type],$D$13,output[sensitivity],\"Base\")/SUMIFS(INDEX(output[#Data],0,MATCH(\"num_motors_Market\",output[#Headers],0)),output[equipment_type],$C$289,output[year],I$290,output[facility_type],$D$13,output[sensitivity],\"Base\")","v":4.3322242419915308E-2},{"$f":"SUMIFS(INDEX(output[#Data],0,MATCH(\"num_motors_Market\",output[#Headers],0)),output[equipment_type],$C$289,output[control_strategy],\"ASD Control\",output[load_type],\"Constant\",output[year],J$290,output[facility_type],$D$13,output[sensitivity],\"Base\")/SUMIFS(INDEX(output[#Data],0,MATCH(\"num_motors_Market\",output[#Headers],0)),output[equipment_type],$C$289,output[year],J$290,output[facility_type],$D$13,output[sensitivity],\"Base\")","v":4.4482761462200662E-2}]
[null,null,"Variable Load ASD Control",{"$f":"SUMIFS(INDEX(output[#Data],0,MATCH(\"num_motors_Market\",output[#Headers],0)),output[equipment_type],$C$289,output[control_strategy],\"ASD Control\",output[load_type],\"Variable\",output[year],D$290,output[facility_type],$D$13,output[sensitivity],\"Base\")/SUMIFS(INDEX(output[#Data],0,MATCH(\"num_motors_Market\",output[#Headers],0)),output[equipment_type],$C$289,output[year],D$290,output[facility_type],$D$13,output[sensitivity],\"Base\")","v":0.52035610176112224},{"$f":"SUMIFS(INDEX(output[#Data],0,MATCH(\"num_motors_Market\",output[#Headers],0)),output[equipment_type],$C$289,output[control_strategy],\"ASD Control\",output[load_type],\"Variable\",output[year],E$290,output[facility_type],$D$13,output[sensitivity],\"Base\")/SUMIFS(INDEX(output[#Data],0,MATCH(\"num_motors_Market\",output[#Headers],0)),output[equipment_type],$C$289,output[year],E$290,output[facility_type],$D$13,output[sensitivity],\"Base\")","v":0.53475219581752942},{"$f":"SUMIFS(INDEX(output[#Data],0,MATCH(\"num_motors_Market\",output[#Headers],0)),output[equipment_type],$C$289,output[control_strategy],\"ASD Control\",output[load_type],\"Variable\",output[year],F$290,output[facility_type],$D$13,output[sensitivity],\"Base\")/SUMIFS(INDEX(output[#Data],0,MATCH(\"num_motors_Market\",output[#Headers],0)),output[equipment_type],$C$289,output[year],F$290,output[facility_type],$D$13,output[sensitivity],\"Base\")","v":0.54710166472546573},{"$f":"SUMIFS(INDEX(output[#Data],0,MATCH(\"num_motors_Market\",output[#Headers],0)),output[equipment_type],$C$289,output[control_strategy],\"ASD Control\",output[load_type],\"Variable\",output[year],G$290,output[facility_type],$D$13,output[sensitivity],\"Base\")/SUMIFS(INDEX(output[#Data],0,MATCH(\"num_motors_Market\",output[#Headers],0)),output[equipment_type],$C$289,output[year],G$290,output[facility_type],$D$13,output[sensitivity],\"Base\")","v":0.56699895431756531},{"$f":"SUMIFS(INDEX(output[#Data],0,MATCH(\"num_motors_Market\",output[#Headers],0)),output[equipment_type],$C$289,output[control_strategy],\"ASD Control\",output[load_type],\"Variable\",output[year],H$290,output[facility_type],$D$13,output[sensitivity],\"Base\")/SUMIFS(INDEX(output[#Data],0,MATCH(\"num_motors_Market\",output[#Headers],0)),output[equipment_type],$C$289,output[year],H$290,output[facility_type],$D$13,output[sensitivity],\"Base\")","v":0.58551290142145185},{"$f":"SUMIFS(INDEX(output[#Data],0,MATCH(\"num_motors_Market\",output[#Headers],0)),output[equipment_type],$C$289,output[control_strategy],\"ASD Control\",output[load_type],\"Variable\",output[year],I$290,output[facility_type],$D$13,output[sensitivity],\"Base\")/SUMIFS(INDEX(output[#Data],0,MATCH(\"num_motors_Market\",output[#Headers],0)),output[equipment_type],$C$289,output[year],I$290,output[facility_type],$D$13,output[sensitivity],\"Base\")","v":0.60278292320744153},{"$f":"SUMIFS(INDEX(output[#Data],0,MATCH(\"num_motors_Market\",output[#Headers],0)),output[equipment_type],$C$289,output[control_strategy],\"ASD Control\",output[load_type],\"Variable\",output[year],J$290,output[facility_type],$D$13,output[sensitivity],\"Base\")/SUMIFS(INDEX(output[#Data],0,MATCH(\"num_motors_Market\",output[#Headers],0)),output[equipment_type],$C$289,output[year],J$290,output[facility_type],$D$13,output[sensitivity],\"Base\")","v":0.61893031128505538}]
[]
[]
[null,null,"Figure 19: Distribution of Fans by Motor Size, 2020 (In-Service Motor HP)",null,null,null,null,"Figure 20: Distribution of Fans by Motor Size, 2020 (In-Service Motors)"]
[]
[]
[]
[]
[]
[]
[]
[]
[]
[]
[]
[]
[]
[]
[]
[]
[]
[]
[]
[]
[null,null,{"$f":"\"Table for \"&C305","v":"Table for Figure 19: Distribution of Fans by Motor Size, 2020 (In-Service Motor HP)"}]
[null,null,"Fans","1-5 HP","6-10 HP","11-20 HP","21-50 HP","51-100 HP","101-200 HP","201-500 HP","501-1,000 HP","1,001+ HP"]
[null,null,null,{"$f":"SUMIFS(INDEX(output[#Data],0,MATCH(\"ishp_Market\",output[#Headers],0)),output[equipment_type],$C$327,output[motor_size],D$327,output[year],2020,output[facility_type],$D$13,output[sensitivity],\"Base\")/SUMIFS(INDEX(output[#Data],0,MATCH(\"ishp_Market\",output[#Headers],0)),output[equipment_type],$C$327,output[year],2020,output[facility_type],$D$13,output[sensitivity],\"Base\")","v":3.733730253682102E-3},{"$f":"SUMIFS(INDEX(output[#Data],0,MATCH(\"ishp_Market\",output[#Headers],0)),output[equipment_type],$C$327,output[motor_size],E$327,output[year],2020,output[facility_type],$D$13,output[sensitivity],\"Base\")/SUMIFS(INDEX(output[#Data],0,MATCH(\"ishp_Market\",output[#Headers],0)),output[equipment_type],$C$327,output[year],2020,output[facility_type],$D$13,output[sensitivity],\"Base\")","v":8.8852840926665191E-2},{"$f":"SUMIFS(INDEX(output[#Data],0,MATCH(\"ishp_Market\",output[#Headers],0)),output[equipment_type],$C$327,output[motor_size],F$327,output[year],2020,output[facility_type],$D$13,output[sensitivity],\"Base\")/SUMIFS(INDEX(output[#Data],0,MATCH(\"ishp_Market\",output[#Headers],0)),output[equipment_type],$C$327,output[year],2020,output[facility_type],$D$13,output[sensitivity],\"Base\")","v":8.885284092666515E-2},{"$f":"SUMIFS(INDEX(output[#Data],0,MATCH(\"ishp_Market\",output[#Headers],0)),output[equipment_type],$C$327,output[motor_size],G$327,output[year],2020,output[facility_type],$D$13,output[sensitivity],\"Base\")/SUMIFS(INDEX(output[#Data],0,MATCH(\"ishp_Market\",output[#Headers],0)),output[equipment_type],$C$327,output[year],2020,output[facility_type],$D$13,output[sensitivity],\"Base\")","v":6.0150633577047481E-2},{"$f":"SUMIFS(INDEX(output[#Data],0,MATCH(\"ishp_Market\",output[#Headers],0)),output[equipment_type],$C$327,output[motor_size],H$327,output[year],2020,output[facility_type],$D$13,output[sensitivity],\"Base\")/SUMIFS(INDEX(output[#Data],0,MATCH(\"ishp_Market\",output[#Headers],0)),output[equipment_type],$C$327,output[year],2020,output[facility_type],$D$13,output[sensitivity],\"Base\")","v":7.2134294668992141E-2},{"$f":"SUMIFS(INDEX(output[#Data],0,MATCH(\"ishp_Market\",output[#Headers],0)),output[equipment_type],$C$327,output[motor_size],I$327,output[year],2020,output[facility_type],$D$13,output[sensitivity],\"Base\")/SUMIFS(INDEX(output[#Data],0,MATCH(\"ishp_Market\",output[#Headers],0)),output[equipment_type],$C$327,output[year],2020,output[facility_type],$D$13,output[sensitivity],\"Base\")","v":8.123085733697831E-2},{"$f":"SUMIFS(INDEX(output[#Data],0,MATCH(\"ishp_Market\",output[#Headers],0)),output[equipment_type],$C$327,output[motor_size],J$327,output[year],2020,output[facility_type],$D$13,output[sensitivity],\"Base\")/SUMIFS(INDEX(output[#Data],0,MATCH(\"ishp_Market\",output[#Headers],0)),output[equipment_type],$C$327,output[year],2020,output[facility_type],$D$13,output[sensitivity],\"Base\")","v":0.2892304323082181},{"$f":"SUMIFS(INDEX(output[#Data],0,MATCH(\"ishp_Market\",output[#Headers],0)),output[equipment_type],$C$327,output[motor_size],K$327,output[year],2020,output[facility_type],$D$13,output[sensitivity],\"Base\")/SUMIFS(INDEX(output[#Data],0,MATCH(\"ishp_Market\",output[#Headers],0)),output[equipment_type],$C$327,output[year],2020,output[facility_type],$D$13,output[sensitivity],\"Base\")","v":0.15790718500087589},{"$f":"SUMIFS(INDEX(output[#Data],0,MATCH(\"ishp_Market\",output[#Headers],0)),output[equipment_type],$C$327,output[motor_size],L$327,output[year],2020,output[facility_type],$D$13,output[sensitivity],\"Base\")/SUMIFS(INDEX(output[#Data],0,MATCH(\"ishp_Market\",output[#Headers],0)),output[equipment_type],$C$327,output[year],2020,output[facility_type],$D$13,output[sensitivity],\"Base\")","v":0.15790718500087589}]
[]
[null,null,{"$f":"\"Table for \"&H305","v":"Table for Figure 20: Distribution of Fans by Motor Size, 2020 (In-Service Motors)"}]
[null,null,"Fans","1-5 HP","6-10 HP","11-20 HP","21-50 HP","51-100 HP","101-200 HP","201-500 HP","501-1,000 HP","1,001+ HP"]
[null,null,null,{"$f":"SUMIFS(INDEX(output[#Data],0,MATCH(\"num_motors_Market\",output[#Headers],0)),output[equipment_type],$C$331,output[motor_size],D$331,output[year],2020,output[facility_type],$D$13,output[sensitivity],\"Base\")/SUMIFS(INDEX(output[#Data],0,MATCH(\"num_motors_Market\",output[#Headers],0)),output[equipment_type],$C$331,output[year],2020,output[facility_type],$D$13,output[sensitivity],\"Base\")","v":5.5396578287908831E-2},{"$f":"SUMIFS(INDEX(output[#Data],0,MATCH(\"num_motors_Market\",output[#Headers],0)),output[equipment_type],$C$331,output[motor_size],E$331,output[year],2020,output[facility_type],$D$13,output[sensitivity],\"Base\")/SUMIFS(INDEX(output[#Data],0,MATCH(\"num_motors_Market\",output[#Headers],0)),output[equipment_type],$C$331,output[year],2020,output[facility_type],$D$13,output[sensitivity],\"Base\")","v":0.49435916202466373},{"$f":"SUMIFS(INDEX(output[#Data],0,MATCH(\"num_motors_Market\",output[#Headers],0)),output[equipment_type],$C$331,output[motor_size],F$331,output[year],2020,output[facility_type],$D$13,output[sensitivity],\"Base\")/SUMIFS(INDEX(output[#Data],0,MATCH(\"num_motors_Market\",output[#Headers],0)),output[equipment_type],$C$331,output[year],2020,output[facility_type],$D$13,output[sensitivity],\"Base\")","v":0.25515311588369699},{"$f":"SUMIFS(INDEX(output[#Data],0,MATCH(\"num_motors_Market\",output[#Headers],0)),output[equipment_type],$C$331,output[motor_size],G$331,output[year],2020,output[facility_type],$D$13,output[sensitivity],\"Base\")/SUMIFS(INDEX(output[#Data],0,MATCH(\"num_motors_Market\",output[#Headers],0)),output[equipment_type],$C$331,output[year],2020,output[facility_type],$D$13,output[sensitivity],\"Base\")","v":7.5417669721168631E-2},{"$f":"SUMIFS(INDEX(output[#Data],0,MATCH(\"num_motors_Market\",output[#Headers],0)),output[equipment_type],$C$331,output[motor_size],H$331,output[year],2020,output[facility_type],$D$13,output[sensitivity],\"Base\")/SUMIFS(INDEX(output[#Data],0,MATCH(\"num_motors_Market\",output[#Headers],0)),output[equipment_type],$C$331,output[year],2020,output[facility_type],$D$13,output[sensitivity],\"Base\")","v":4.2526152685864564E-2},{"$f":"SUMIFS(INDEX(output[#Data],0,MATCH(\"num_motors_Market\",output[#Headers],0)),output[equipment_type],$C$331,output[motor_size],I$331,output[year],2020,output[facility_type],$D$13,output[sensitivity],\"Base\")/SUMIFS(INDEX(output[#Data],0,MATCH(\"num_motors_Market\",output[#Headers],0)),output[equipment_type],$C$331,output[year],2020,output[facility_type],$D$13,output[sensitivity],\"Base\")","v":2.4024026219820766E-2},{"$f":"SUMIFS(INDEX(output[#Data],0,MATCH(\"num_motors_Market\",output[#Headers],0)),output[equipment_type],$C$331,output[motor_size],J$331,output[year],2020,output[facility_type],$D$13,output[sensitivity],\"Base\")/SUMIFS(INDEX(output[#Data],0,MATCH(\"num_motors_Market\",output[#Headers],0)),output[equipment_type],$C$331,output[year],2020,output[facility_type],$D$13,output[sensitivity],\"Base\")","v":3.6729686420773865E-2},{"$f":"SUMIFS(INDEX(output[#Data],0,MATCH(\"num_motors_Market\",output[#Headers],0)),output[equipment_type],$C$331,output[motor_size],K$331,output[year],2020,output[facility_type],$D$13,output[sensitivity],\"Base\")/SUMIFS(INDEX(output[#Data],0,MATCH(\"num_motors_Market\",output[#Headers],0)),output[equipment_type],$C$331,output[year],2020,output[facility_type],$D$13,output[sensitivity],\"Base\")","v":9.3651006890048526E-3},{"$f":"SUMIFS(INDEX(output[#Data],0,MATCH(\"num_motors_Market\",output[#Headers],0)),output[equipment_type],$C$331,output[motor_size],L$331,output[year],2020,output[facility_type],$D$13,output[sensitivity],\"Base\")/SUMIFS(INDEX(output[#Data],0,MATCH(\"num_motors_Market\",output[#Headers],0)),output[equipment_type],$C$331,output[year],2020,output[facility_type],$D$13,output[sensitivity],\"Base\")","v":7.0285080670981284E-3}]
[]
[null,null,"Figure 21: Distribution of ASD-Controlled Fans by Motor Size, 2020 (In-Service Motor HP)",null,null,null,null,"Figure 22: Distribution of ASD-Controlled Fans by Motor Size, 2020 (In-Service Motors)"]
[]
[]
[]
[]
[]
[]
[]
[]
[]
[]
[]
[]
[]
[]
[]
[]
[]
[]
[]
[]
[]
[null,null,{"$f":"\"Table for \"&C334","v":"Table for Figure 21: Distribution of ASD-Controlled Fans by Motor Size, 2020 (In-Service Motor HP)"}]
[null,null,"Fans","1-5 HP","6-10 HP","11-20 HP","21-50 HP","51-100 HP","101-200 HP","201-500 HP","501-1,000 HP","1,001+ HP"]
[null,null,null,{"$f":"SUMIFS(INDEX(output[#Data],0,MATCH(\"ishp_Market\",output[#Headers],0)),output[equipment_type],$C$357,output[motor_size],D$357,output[year],2020,output[facility_type],$D$13,output[control_strategy],\"ASD Control\",output[sensitivity],\"Base\")/SUMIFS(INDEX(output[#Data],0,MATCH(\"ishp_Market\",output[#Headers],0)),output[equipment_type],$C$357,output[year],2020,output[facility_type],$D$13,output[control_strategy],\"ASD Control\",output[sensitivity],\"Base\")","v":1.3499180406903876E-3},{"$f":"SUMIFS(INDEX(output[#Data],0,MATCH(\"ishp_Market\",output[#Headers],0)),output[equipment_type],$C$357,output[motor_size],E$357,output[year],2020,output[facility_type],$D$13,output[control_strategy],\"ASD Control\",output[sensitivity],\"Base\")/SUMIFS(INDEX(output[#Data],0,MATCH(\"ishp_Market\",output[#Headers],0)),output[equipment_type],$C$357,output[year],2020,output[facility_type],$D$13,output[control_strategy],\"ASD Control\",output[sensitivity],\"Base\")","v":0.34149712338893679},{"$f":"SUMIFS(INDEX(output[#Data],0,MATCH(\"ishp_Market\",output[#Headers],0)),output[equipment_type],$C$357,output[motor_size],F$357,output[year],2020,output[facility_type],$D$13,output[control_strategy],\"ASD Control\",output[sensitivity],\"Base\")/SUMIFS(INDEX(output[#Data],0,MATCH(\"ishp_Market\",output[#Headers],0)),output[equipment_type],$C$357,output[year],2020,output[facility_type],$D$13,output[control_strategy],\"ASD Control\",output[sensitivity],\"Base\")","v":0.34149712338893679},{"$f":"SUMIFS(INDEX(output[#Data],0,MATCH(\"ishp_Market\",output[#Headers],0)),output[equipment_type],$C$357,output[motor_size],G$357,output[year],2020,output[facility_type],$D$13,output[control_strategy],\"ASD Control\",output[sensitivity],\"Base\")/SUMIFS(INDEX(output[#Data],0,MATCH(\"ishp_Market\",output[#Headers],0)),output[equipment_type],$C$357,output[year],2020,output[facility_type],$D$13,output[control_strategy],\"ASD Control\",output[sensitivity],\"Base\")","v":2.8894674251920435E-2},{"$f":"SUMIFS(INDEX(output[#Data],0,MATCH(\"ishp_Market\",output[#Headers],0)),output[equipment_type],$C$357,output[motor_size],H$357,output[year],2020,output[facility_type],$D$13,output[control_strategy],\"ASD Control\",output[sensitivity],\"Base\")/SUMIFS(INDEX(output[#Data],0,MATCH(\"ishp_Market\",output[#Headers],0)),output[equipment_type],$C$357,output[year],2020,output[facility_type],$D$13,output[control_strategy],\"ASD Control\",output[sensitivity],\"Base\")","v":2.8380419760228783E-2},{"$f":"SUMIFS(INDEX(output[#Data],0,MATCH(\"ishp_Market\",output[#Headers],0)),output[equipment_type],$C$357,output[motor_size],I$357,output[year],2020,output[facility_type],$D$13,output[control_strategy],\"ASD Control\",output[sensitivity],\"Base\")/SUMIFS(INDEX(output[#Data],0,MATCH(\"ishp_Market\",output[#Headers],0)),output[equipment_type],$C$357,output[year],2020,output[facility_type],$D$13,output[control_strategy],\"ASD Control\",output[sensitivity],\"Base\")","v":1.849020391108909E-2},{"$f":"SUMIFS(INDEX(output[#Data],0,MATCH(\"ishp_Market\",output[#Headers],0)),output[equipment_type],$C$357,output[motor_size],J$357,output[year],2020,output[facility_type],$D$13,output[control_strategy],\"ASD Control\",output[sensitivity],\"Base\")/SUMIFS(INDEX(output[#Data],0,MATCH(\"ishp_Market\",output[#Headers],0)),output[equipment_type],$C$357,output[year],2020,output[facility_type],$D$13,output[control_strategy],\"ASD Control\",output[sensitivity],\"Base\")","v":0.12943601893558515},{"$f":"SUMIFS(INDEX(output[#Data],0,MATCH(\"ishp_Market\",output[#Headers],0)),output[equipment_type],$C$357,output[motor_size],K$357,output[year],2020,output[facility_type],$D$13,output[control_strategy],\"ASD Control\",output[sensitivity],\"Base\")/SUMIFS(INDEX(output[#Data],0,MATCH(\"ishp_Market\",output[#Headers],0)),output[equipment_type],$C$357,output[year],2020,output[facility_type],$D$13,output[control_strategy],\"ASD Control\",output[sensitivity],\"Base\")","v":5.522725916130606E-2},{"$f":"SUMIFS(INDEX(output[#Data],0,MATCH(\"ishp_Market\",output[#Headers],0)),output[equipment_type],$C$357,output[motor_size],L$357,output[year],2020,output[facility_type],$D$13,output[control_strategy],\"ASD Control\",output[sensitivity],\"Base\")/SUMIFS(INDEX(output[#Data],0,MATCH(\"ishp_Market\",output[#Headers],0)),output[equipment_type],$C$357,output[year],2020,output[facility_type],$D$13,output[control_strategy],\"ASD Control\",output[sensitivity],\"Base\")","v":5.522725916130606E-2}]
[]
[null,null,{"$f":"\"Table for \"&H334","v":"Table for Figure 22: Distribution of ASD-Controlled Fans by Motor Size, 2020 (In-Service Motors)"}]
[null,null,"Fans","1-5 HP","6-10 HP","11-20 HP","21-50 HP","51-100 HP","101-200 HP","201-500 HP","501-1,000 HP","1,001+ HP"]
[null,null,null,{"$f":"SUMIFS(INDEX(output[#Data],0,MATCH(\"num_motors_Market\",output[#Headers],0)),output[equipment_type],$C$361,output[motor_size],D$361,output[year],2020,output[facility_type],$D$13,output[control_strategy],\"ASD Control\",output[sensitivity],\"Base\")/SUMIFS(INDEX(output[#Data],0,MATCH(\"num_motors_Market\",output[#Headers],0)),output[equipment_type],$C$361,output[year],2020,output[facility_type],$D$13,output[control_strategy],\"ASD Control\",output[sensitivity],\"Base\")","v":6.7180173006742179E-3},{"$f":"SUMIFS(INDEX(output[#Data],0,MATCH(\"num_motors_Market\",output[#Headers],0)),output[equipment_type],$C$361,output[motor_size],E$361,output[year],2020,output[facility_type],$D$13,output[control_strategy],\"ASD Control\",output[sensitivity],\"Base\")/SUMIFS(INDEX(output[#Data],0,MATCH(\"num_motors_Market\",output[#Headers],0)),output[equipment_type],$C$361,output[year],2020,output[facility_type],$D$13,output[control_strategy],\"ASD Control\",output[sensitivity],\"Base\")","v":0.63731190910413915},{"$f":"SUMIFS(INDEX(output[#Data],0,MATCH(\"num_motors_Market\",output[#Headers],0)),output[equipment_type],$C$361,output[motor_size],F$361,output[year],2020,output[facility_type],$D$13,output[control_strategy],\"ASD Control\",output[sensitivity],\"Base\")/SUMIFS(INDEX(output[#Data],0,MATCH(\"num_motors_Market\",output[#Headers],0)),output[equipment_type],$C$361,output[year],2020,output[facility_type],$D$13,output[control_strategy],\"ASD Control\",output[sensitivity],\"Base\")","v":0.32893517889245849},{"$f":"SUMIFS(INDEX(output[#Data],0,MATCH(\"num_motors_Market\",output[#Headers],0)),output[equipment_type],$C$361,output[motor_size],G$361,output[year],2020,output[facility_type],$D$13,output[control_strategy],\"ASD Control\",output[sensitivity],\"Base\")/SUMIFS(INDEX(output[#Data],0,MATCH(\"num_motors_Market\",output[#Headers],0)),output[equipment_type],$C$361,output[year],2020,output[facility_type],$D$13,output[control_strategy],\"ASD Control\",output[sensitivity],\"Base\")","v":1.2151906545887603E-2},{"$f":"SUMIFS(INDEX(output[#Data],0,MATCH(\"num_motors_Market\",output[#Headers],0)),output[equipment_type],$C$361,output[motor_size],H$361,output[year],2020,output[facility_type],$D$13,output[control_strategy],\"ASD Control\",output[sensitivity],\"Base\")/SUMIFS(INDEX(output[#Data],0,MATCH(\"num_motors_Market\",output[#Headers],0)),output[equipment_type],$C$361,output[year],2020,output[facility_type],$D$13,output[control_strategy],\"ASD Control\",output[sensitivity],\"Base\")","v":5.612118520809224E-3},{"$f":"SUMIFS(INDEX(output[#Data],0,MATCH(\"num_motors_Market\",output[#Headers],0)),output[equipment_type],$C$361,output[motor_size],I$361,output[year],2020,output[facility_type],$D$13,output[control_strategy],\"ASD Control\",output[sensitivity],\"Base\")/SUMIFS(INDEX(output[#Data],0,MATCH(\"num_motors_Market\",output[#Headers],0)),output[equipment_type],$C$361,output[year],2020,output[facility_type],$D$13,output[control_strategy],\"ASD Control\",output[sensitivity],\"Base\")","v":1.8342569441870747E-3},{"$f":"SUMIFS(INDEX(output[#Data],0,MATCH(\"num_motors_Market\",output[#Headers],0)),output[equipment_type],$C$361,output[motor_size],J$361,output[year],2020,output[facility_type],$D$13,output[control_strategy],\"ASD Control\",output[sensitivity],\"Base\")/SUMIFS(INDEX(output[#Data],0,MATCH(\"num_motors_Market\",output[#Headers],0)),output[equipment_type],$C$361,output[year],2020,output[facility_type],$D$13,output[control_strategy],\"ASD Control\",output[sensitivity],\"Base\")","v":5.5134329298089186E-3},{"$f":"SUMIFS(INDEX(output[#Data],0,MATCH(\"num_motors_Market\",output[#Headers],0)),output[equipment_type],$C$361,output[motor_size],K$361,output[year],2020,output[facility_type],$D$13,output[control_strategy],\"ASD Control\",output[sensitivity],\"Base\")/SUMIFS(INDEX(output[#Data],0,MATCH(\"num_motors_Market\",output[#Headers],0)),output[equipment_type],$C$361,output[year],2020,output[facility_type],$D$13,output[control_strategy],\"ASD Control\",output[sensitivity],\"Base\")","v":1.0986459651730108E-3},{"$f":"SUMIFS(INDEX(output[#Data],0,MATCH(\"num_motors_Market\",output[#Headers],0)),output[equipment_type],$C$361,output[motor_size],L$361,output[year],2020,output[facility_type],$D$13,output[control_strategy],\"ASD Control\",output[sensitivity],\"Base\")/SUMIFS(INDEX(output[#Data],0,MATCH(\"num_motors_Market\",output[#Headers],0)),output[equipment_type],$C$361,output[year],2020,output[facility_type],$D$13,output[control_strategy],\"ASD Control\",output[sensitivity],\"Base\")","v":8.2453379686234435E-4}]
[]
[]
[null,null,"Figure 23: Distribution of Non ASD-Controlled Fans by Motor Size, 2020 (In-Service Motor HP)",null,null,null,null,"Figure 24: Distribution of Non ASD-Controlled Fans by Motor Size, 2020 (In-Service Motors)"]
[]
[]
[]
[]
[]
[]
[]
[]
[]
[]
[]
[]
[]
[]
[]
[]
[]
[]
[]
[]
[]
[null,null,{"$f":"\"Table for \"&C365","v":"Table for Figure 23: Distribution of Non ASD-Controlled Fans by Motor Size, 2020 (In-Service Motor HP)"}]
[null,null,"Fans","1-5 HP","6-10 HP","11-20 HP","21-50 HP","51-100 HP","101-200 HP","201-500 HP","501-1,000 HP","1,001+ HP"]
[null,null,null,{"$f":"SUMIFS(INDEX(output[#Data],0,MATCH(\"ishp_Market\",output[#Headers],0)),output[equipment_type],$C$357,output[motor_size],D$357,output[year],2020,output[facility_type],$D$13,output[control_strategy],\"Non ASD Control\",output[sensitivity],\"Base\")/SUMIFS(INDEX(output[#Data],0,MATCH(\"ishp_Market\",output[#Headers],0)),output[equipment_type],$C$357,output[year],2020,output[facility_type],$D$13,output[control_strategy],\"Non ASD Control\",output[sensitivity],\"Base\")","v":4.3932857749201517E-3},{"$f":"SUMIFS(INDEX(output[#Data],0,MATCH(\"ishp_Market\",output[#Headers],0)),output[equipment_type],$C$357,output[motor_size],E$357,output[year],2020,output[facility_type],$D$13,output[control_strategy],\"Non ASD Control\",output[sensitivity],\"Base\")/SUMIFS(INDEX(output[#Data],0,MATCH(\"ishp_Market\",output[#Headers],0)),output[equipment_type],$C$357,output[year],2020,output[facility_type],$D$13,output[control_strategy],\"Non ASD Control\",output[sensitivity],\"Base\")","v":1.8950970930751879E-2},{"$f":"SUMIFS(INDEX(output[#Data],0,MATCH(\"ishp_Market\",output[#Headers],0)),output[equipment_type],$C$357,output[motor_size],F$357,output[year],2020,output[facility_type],$D$13,output[control_strategy],\"Non ASD Control\",output[sensitivity],\"Base\")/SUMIFS(INDEX(output[#Data],0,MATCH(\"ishp_Market\",output[#Headers],0)),output[equipment_type],$C$357,output[year],2020,output[facility_type],$D$13,output[control_strategy],\"Non ASD Control\",output[sensitivity],\"Base\")","v":1.8950970930751817E-2},{"$f":"SUMIFS(INDEX(output[#Data],0,MATCH(\"ishp_Market\",output[#Headers],0)),output[equipment_type],$C$357,output[motor_size],G$357,output[year],2020,output[facility_type],$D$13,output[control_strategy],\"Non ASD Control\",output[sensitivity],\"Base\")/SUMIFS(INDEX(output[#Data],0,MATCH(\"ishp_Market\",output[#Headers],0)),output[equipment_type],$C$357,output[year],2020,output[facility_type],$D$13,output[control_strategy],\"Non ASD Control\",output[sensitivity],\"Base\")","v":6.8798563322573572E-2},{"$f":"SUMIFS(INDEX(output[#Data],0,MATCH(\"ishp_Market\",output[#Headers],0)),output[equipment_type],$C$357,output[motor_size],H$357,output[year],2020,output[facility_type],$D$13,output[control_strategy],\"Non ASD Control\",output[sensitivity],\"Base\")/SUMIFS(INDEX(output[#Data],0,MATCH(\"ishp_Market\",output[#Headers],0)),output[equipment_type],$C$357,output[year],2020,output[facility_type],$D$13,output[control_strategy],\"Non ASD Control\",output[sensitivity],\"Base\")","v":8.4240160061558683E-2},{"$f":"SUMIFS(INDEX(output[#Data],0,MATCH(\"ishp_Market\",output[#Headers],0)),output[equipment_type],$C$357,output[motor_size],I$357,output[year],2020,output[facility_type],$D$13,output[control_strategy],\"Non ASD Control\",output[sensitivity],\"Base\")/SUMIFS(INDEX(output[#Data],0,MATCH(\"ishp_Market\",output[#Headers],0)),output[equipment_type],$C$357,output[year],2020,output[facility_type],$D$13,output[control_strategy],\"Non ASD Control\",output[sensitivity],\"Base\")","v":9.8590003392025394E-2},{"$f":"SUMIFS(INDEX(output[#Data],0,MATCH(\"ishp_Market\",output[#Headers],0)),output[equipment_type],$C$357,output[motor_size],J$357,output[year],2020,output[facility_type],$D$13,output[control_strategy],\"Non ASD Control\",output[sensitivity],\"Base\")/SUMIFS(INDEX(output[#Data],0,MATCH(\"ishp_Market\",output[#Headers],0)),output[equipment_type],$C$357,output[year],2020,output[facility_type],$D$13,output[control_strategy],\"Non ASD Control\",output[sensitivity],\"Base\")","v":0.3334425086741854},{"$f":"SUMIFS(INDEX(output[#Data],0,MATCH(\"ishp_Market\",output[#Headers],0)),output[equipment_type],$C$357,output[motor_size],K$357,output[year],2020,output[facility_type],$D$13,output[control_strategy],\"Non ASD Control\",output[sensitivity],\"Base\")/SUMIFS(INDEX(output[#Data],0,MATCH(\"ishp_Market\",output[#Headers],0)),output[equipment_type],$C$357,output[year],2020,output[facility_type],$D$13,output[control_strategy],\"Non ASD Control\",output[sensitivity],\"Base\")","v":0.18631676845661652},{"$f":"SUMIFS(INDEX(output[#Data],0,MATCH(\"ishp_Market\",output[#Headers],0)),output[equipment_type],$C$357,output[motor_size],L$357,output[year],2020,output[facility_type],$D$13,output[control_strategy],\"Non ASD Control\",output[sensitivity],\"Base\")/SUMIFS(INDEX(output[#Data],0,MATCH(\"ishp_Market\",output[#Headers],0)),output[equipment_type],$C$357,output[year],2020,output[facility_type],$D$13,output[control_strategy],\"Non ASD Control\",output[sensitivity],\"Base\")","v":0.18631676845661652}]
[]
[null,null,{"$f":"\"Table for \"&H365","v":"Table for Figure 24: Distribution of Non ASD-Controlled Fans by Motor Size, 2020 (In-Service Motors)"}]
[null,null,"Fans","1-5 HP","6-10 HP","11-20 HP","21-50 HP","51-100 HP","101-200 HP","201-500 HP","501-1,000 HP","1,001+ HP"]
[null,null,null,{"$f":"SUMIFS(INDEX(output[#Data],0,MATCH(\"num_motors_Market\",output[#Headers],0)),output[equipment_type],$C$361,output[motor_size],D$361,output[year],2020,output[facility_type],$D$13,output[control_strategy],\"Non ASD Control\",output[sensitivity],\"Base\")/SUMIFS(INDEX(output[#Data],0,MATCH(\"num_motors_Market\",output[#Headers],0)),output[equipment_type],$C$361,output[year],2020,output[facility_type],$D$13,output[control_strategy],\"Non ASD Control\",output[sensitivity],\"Base\")","v":0.14426893994561224},{"$f":"SUMIFS(INDEX(output[#Data],0,MATCH(\"num_motors_Market\",output[#Headers],0)),output[equipment_type],$C$361,output[motor_size],E$361,output[year],2020,output[facility_type],$D$13,output[control_strategy],\"Non ASD Control\",output[sensitivity],\"Base\")/SUMIFS(INDEX(output[#Data],0,MATCH(\"num_motors_Market\",output[#Headers],0)),output[equipment_type],$C$361,output[year],2020,output[facility_type],$D$13,output[control_strategy],\"Non ASD Control\",output[sensitivity],\"Base\")","v":0.23337058757315152},{"$f":"SUMIFS(INDEX(output[#Data],0,MATCH(\"num_motors_Market\",output[#Headers],0)),output[equipment_type],$C$361,output[motor_size],F$361,output[year],2020,output[facility_type],$D$13,output[control_strategy],\"Non ASD Control\",output[sensitivity],\"Base\")/SUMIFS(INDEX(output[#Data],0,MATCH(\"num_motors_Market\",output[#Headers],0)),output[equipment_type],$C$361,output[year],2020,output[facility_type],$D$13,output[control_strategy],\"Non ASD Control\",output[sensitivity],\"Base\")","v":0.12044933552162604},{"$f":"SUMIFS(INDEX(output[#Data],0,MATCH(\"num_motors_Market\",output[#Headers],0)),output[equipment_type],$C$361,output[motor_size],G$361,output[year],2020,output[facility_type],$D$13,output[control_strategy],\"Non ASD Control\",output[sensitivity],\"Base\")/SUMIFS(INDEX(output[#Data],0,MATCH(\"num_motors_Market\",output[#Headers],0)),output[equipment_type],$C$361,output[year],2020,output[facility_type],$D$13,output[control_strategy],\"Non ASD Control\",output[sensitivity],\"Base\")","v":0.19092186030187719},{"$f":"SUMIFS(INDEX(output[#Data],0,MATCH(\"num_motors_Market\",output[#Headers],0)),output[equipment_type],$C$361,output[motor_size],H$361,output[year],2020,output[facility_type],$D$13,output[control_strategy],\"Non ASD Control\",output[sensitivity],\"Base\")/SUMIFS(INDEX(output[#Data],0,MATCH(\"num_motors_Market\",output[#Headers],0)),output[equipment_type],$C$361,output[year],2020,output[facility_type],$D$13,output[control_strategy],\"Non ASD Control\",output[sensitivity],\"Base\")","v":0.10992003878331774},{"$f":"SUMIFS(INDEX(output[#Data],0,MATCH(\"num_motors_Market\",output[#Headers],0)),output[equipment_type],$C$361,output[motor_size],I$361,output[year],2020,output[facility_type],$D$13,output[control_strategy],\"Non ASD Control\",output[sensitivity],\"Base\")/SUMIFS(INDEX(output[#Data],0,MATCH(\"num_motors_Market\",output[#Headers],0)),output[equipment_type],$C$361,output[year],2020,output[facility_type],$D$13,output[control_strategy],\"Non ASD Control\",output[sensitivity],\"Base\")","v":6.4535848265716109E-2},{"$f":"SUMIFS(INDEX(output[#Data],0,MATCH(\"num_motors_Market\",output[#Headers],0)),output[equipment_type],$C$361,output[motor_size],J$361,output[year],2020,output[facility_type],$D$13,output[control_strategy],\"Non ASD Control\",output[sensitivity],\"Base\")/SUMIFS(INDEX(output[#Data],0,MATCH(\"num_motors_Market\",output[#Headers],0)),output[equipment_type],$C$361,output[year],2020,output[facility_type],$D$13,output[control_strategy],\"Non ASD Control\",output[sensitivity],\"Base\")","v":9.3721144540809528E-2},{"$f":"SUMIFS(INDEX(output[#Data],0,MATCH(\"num_motors_Market\",output[#Headers],0)),output[equipment_type],$C$361,output[motor_size],K$361,output[year],2020,output[facility_type],$D$13,output[control_strategy],\"Non ASD Control\",output[sensitivity],\"Base\")/SUMIFS(INDEX(output[#Data],0,MATCH(\"num_motors_Market\",output[#Headers],0)),output[equipment_type],$C$361,output[year],2020,output[facility_type],$D$13,output[control_strategy],\"Non ASD Control\",output[sensitivity],\"Base\")","v":2.4457152280999733E-2},{"$f":"SUMIFS(INDEX(output[#Data],0,MATCH(\"num_motors_Market\",output[#Headers],0)),output[equipment_type],$C$361,output[motor_size],L$361,output[year],2020,output[facility_type],$D$13,output[control_strategy],\"Non ASD Control\",output[sensitivity],\"Base\")/SUMIFS(INDEX(output[#Data],0,MATCH(\"num_motors_Market\",output[#Headers],0)),output[equipment_type],$C$361,output[year],2020,output[facility_type],$D$13,output[control_strategy],\"Non ASD Control\",output[sensitivity],\"Base\")","v":1.8355092786890258E-2}]
[]
[]
[]
[null,null,"Figure 25: Distribution of Pumps by Control Type and Load Type, by Year (In-Service Motor HP)",null,null,null,null,"Figure 26: Distribution of Pumps by Control Type and Load Type, by Year (In-Service Motors)"]
[]
[]
[]
[]
[]
[]
[]
[]
[]
[]
[]
[]
[]
[]
[]
[null,null,{"$f":"\"Table for \"&C397","v":"Table for Figure 25: Distribution of Pumps by Control Type and Load Type, by Year (In-Service Motor HP)"}]
[null,null,"Pumps","Year"]
[null,null,null,2015,2016,2017,2018,2019,2020,2021]
[null,null,"Constant Load Non-ASD Control",{"$f":"SUMIFS(INDEX(output[#Data],0,MATCH(\"ishp_Market\",output[#Headers],0)),output[equipment_type],$C$414,output[control_strategy],\"Non ASD Control\",output[load_type],\"Constant\",output[year],D$415,output[facility_type],$D$13,output[sensitivity],\"Base\")/SUMIFS(INDEX(output[#Data],0,MATCH(\"ishp_Market\",output[#Headers],0)),output[equipment_type],$C$414,output[year],D$415,output[facility_type],$D$13,output[sensitivity],\"Base\")","v":0.56236792761526233},{"$f":"SUMIFS(INDEX(output[#Data],0,MATCH(\"ishp_Market\",output[#Headers],0)),output[equipment_type],$C$414,output[control_strategy],\"Non ASD Control\",output[load_type],\"Constant\",output[year],E$415,output[facility_type],$D$13,output[sensitivity],\"Base\")/SUMIFS(INDEX(output[#Data],0,MATCH(\"ishp_Market\",output[#Headers],0)),output[equipment_type],$C$414,output[year],E$415,output[facility_type],$D$13,output[sensitivity],\"Base\")","v":0.54029114983542548},{"$f":"SUMIFS(INDEX(output[#Data],0,MATCH(\"ishp_Market\",output[#Headers],0)),output[equipment_type],$C$414,output[control_strategy],\"Non ASD Control\",output[load_type],\"Constant\",output[year],F$415,output[facility_type],$D$13,output[sensitivity],\"Base\")/SUMIFS(INDEX(output[#Data],0,MATCH(\"ishp_Market\",output[#Headers],0)),output[equipment_type],$C$414,output[year],F$415,output[facility_type],$D$13,output[sensitivity],\"Base\")","v":0.52520085091504731},{"$f":"SUMIFS(INDEX(output[#Data],0,MATCH(\"ishp_Market\",output[#Headers],0)),output[equipment_type],$C$414,output[control_strategy],\"Non ASD Control\",output[load_type],\"Constant\",output[year],G$415,output[facility_type],$D$13,output[sensitivity],\"Base\")/SUMIFS(INDEX(output[#Data],0,MATCH(\"ishp_Market\",output[#Headers],0)),output[equipment_type],$C$414,output[year],G$415,output[facility_type],$D$13,output[sensitivity],\"Base\")","v":0.51477863837876281},{"$f":"SUMIFS(INDEX(output[#Data],0,MATCH(\"ishp_Market\",output[#Headers],0)),output[equipment_type],$C$414,output[control_strategy],\"Non ASD Control\",output[load_type],\"Constant\",output[year],H$415,output[facility_type],$D$13,output[sensitivity],\"Base\")/SUMIFS(INDEX(output[#Data],0,MATCH(\"ishp_Market\",output[#Headers],0)),output[equipment_type],$C$414,output[year],H$415,output[facility_type],$D$13,output[sensitivity],\"Base\")","v":0.50151819115644836},{"$f":"SUMIFS(INDEX(output[#Data],0,MATCH(\"ishp_Market\",output[#Headers],0)),output[equipment_type],$C$414,output[control_strategy],\"Non ASD Control\",output[load_type],\"Constant\",output[year],I$415,output[facility_type],$D$13,output[sensitivity],\"Base\")/SUMIFS(INDEX(output[#Data],0,MATCH(\"ishp_Market\",output[#Headers],0)),output[equipment_type],$C$414,output[year],I$415,output[facility_type],$D$13,output[sensitivity],\"Base\")","v":0.49732755154758818},{"$f":"SUMIFS(INDEX(output[#Data],0,MATCH(\"ishp_Market\",output[#Headers],0)),output[equipment_type],$C$414,output[control_strategy],\"Non ASD Control\",output[load_type],\"Constant\",output[year],J$415,output[facility_type],$D$13,output[sensitivity],\"Base\")/SUMIFS(INDEX(output[#Data],0,MATCH(\"ishp_Market\",output[#Headers],0)),output[equipment_type],$C$414,output[year],J$415,output[facility_type],$D$13,output[sensitivity],\"Base\")","v":0.48104400150687099}]
[null,null,"Variable Load Non-ASD Control",{"$f":"SUMIFS(INDEX(output[#Data],0,MATCH(\"ishp_Market\",output[#Headers],0)),output[equipment_type],$C$414,output[control_strategy],\"Non ASD Control\",output[load_type],\"Variable\",output[year],D$415,output[facility_type],$D$13,output[sensitivity],\"Base\")/SUMIFS(INDEX(output[#Data],0,MATCH(\"ishp_Market\",output[#Headers],0)),output[equipment_type],$C$414,output[year],D$415,output[facility_type],$D$13,output[sensitivity],\"Base\")","v":0.23313303687522446},{"$f":"SUMIFS(INDEX(output[#Data],0,MATCH(\"ishp_Market\",output[#Headers],0)),output[equipment_type],$C$414,output[control_strategy],\"Non ASD Control\",output[load_type],\"Variable\",output[year],E$415,output[facility_type],$D$13,output[sensitivity],\"Base\")/SUMIFS(INDEX(output[#Data],0,MATCH(\"ishp_Market\",output[#Headers],0)),output[equipment_type],$C$414,output[year],E$415,output[facility_type],$D$13,output[sensitivity],\"Base\")","v":0.22398097468338152},{"$f":"SUMIFS(INDEX(output[#Data],0,MATCH(\"ishp_Market\",output[#Headers],0)),output[equipment_type],$C$414,output[control_strategy],\"Non ASD Control\",output[load_type],\"Variable\",output[year],F$415,output[facility_type],$D$13,output[sensitivity],\"Base\")/SUMIFS(INDEX(output[#Data],0,MATCH(\"ishp_Market\",output[#Headers],0)),output[equipment_type],$C$414,output[year],F$415,output[facility_type],$D$13,output[sensitivity],\"Base\")","v":0.217725199697099},{"$f":"SUMIFS(INDEX(output[#Data],0,MATCH(\"ishp_Market\",output[#Headers],0)),output[equipment_type],$C$414,output[control_strategy],\"Non ASD Control\",output[load_type],\"Variable\",output[year],G$415,output[facility_type],$D$13,output[sensitivity],\"Base\")/SUMIFS(INDEX(output[#Data],0,MATCH(\"ishp_Market\",output[#Headers],0)),output[equipment_type],$C$414,output[year],G$415,output[facility_type],$D$13,output[sensitivity],\"Base\")","v":0.21340460824757157},{"$f":"SUMIFS(INDEX(output[#Data],0,MATCH(\"ishp_Market\",output[#Headers],0)),output[equipment_type],$C$414,output[control_strategy],\"Non ASD Control\",output[load_type],\"Variable\",output[year],H$415,output[facility_type],$D$13,output[sensitivity],\"Base\")/SUMIFS(INDEX(output[#Data],0,MATCH(\"ishp_Market\",output[#Headers],0)),output[equipment_type],$C$414,output[year],H$415,output[facility_type],$D$13,output[sensitivity],\"Base\")","v":0.20790740938637212},{"$f":"SUMIFS(INDEX(output[#Data],0,MATCH(\"ishp_Market\",output[#Headers],0)),output[equipment_type],$C$414,output[control_strategy],\"Non ASD Control\",output[load_type],\"Variable\",output[year],I$415,output[facility_type],$D$13,output[sensitivity],\"Base\")/SUMIFS(INDEX(output[#Data],0,MATCH(\"ishp_Market\",output[#Headers],0)),output[equipment_type],$C$414,output[year],I$415,output[facility_type],$D$13,output[sensitivity],\"Base\")","v":0.20617015430746635},{"$f":"SUMIFS(INDEX(output[#Data],0,MATCH(\"ishp_Market\",output[#Headers],0)),output[equipment_type],$C$414,output[control_strategy],\"Non ASD Control\",output[load_type],\"Variable\",output[year],J$415,output[facility_type],$D$13,output[sensitivity],\"Base\")/SUMIFS(INDEX(output[#Data],0,MATCH(\"ishp_Market\",output[#Headers],0)),output[equipment_type],$C$414,output[year],J$415,output[facility_type],$D$13,output[sensitivity],\"Base\")","v":0.19941970982852841}]
[null,null,"Constant Load ASD Control",{"$f":"SUMIFS(INDEX(output[#Data],0,MATCH(\"ishp_Market\",output[#Headers],0)),output[equipment_type],$C$414,output[control_strategy],\"ASD Control\",output[load_type],\"Constant\",output[year],D$415,output[facility_type],$D$13,output[sensitivity],\"Base\")/SUMIFS(INDEX(output[#Data],0,MATCH(\"ishp_Market\",output[#Headers],0)),output[equipment_type],$C$414,output[year],D$415,output[facility_type],$D$13,output[sensitivity],\"Base\")","v":4.6620725028515303E-2},{"$f":"SUMIFS(INDEX(output[#Data],0,MATCH(\"ishp_Market\",output[#Headers],0)),output[equipment_type],$C$414,output[control_strategy],\"ASD Control\",output[load_type],\"Constant\",output[year],E$415,output[facility_type],$D$13,output[sensitivity],\"Base\")/SUMIFS(INDEX(output[#Data],0,MATCH(\"ishp_Market\",output[#Headers],0)),output[equipment_type],$C$414,output[year],E$415,output[facility_type],$D$13,output[sensitivity],\"Base\")","v":5.3740128587812228E-2},{"$f":"SUMIFS(INDEX(output[#Data],0,MATCH(\"ishp_Market\",output[#Headers],0)),output[equipment_type],$C$414,output[control_strategy],\"ASD Control\",output[load_type],\"Constant\",output[year],F$415,output[facility_type],$D$13,output[sensitivity],\"Base\")/SUMIFS(INDEX(output[#Data],0,MATCH(\"ishp_Market\",output[#Headers],0)),output[equipment_type],$C$414,output[year],F$415,output[facility_type],$D$13,output[sensitivity],\"Base\")","v":5.8606505779084973E-2},{"$f":"SUMIFS(INDEX(output[#Data],0,MATCH(\"ishp_Market\",output[#Headers],0)),output[equipment_type],$C$414,output[control_strategy],\"ASD Control\",output[load_type],\"Constant\",output[year],G$415,output[facility_type],$D$13,output[sensitivity],\"Base\")/SUMIFS(INDEX(output[#Data],0,MATCH(\"ishp_Market\",output[#Headers],0)),output[equipment_type],$C$414,output[year],G$415,output[facility_type],$D$13,output[sensitivity],\"Base\")","v":6.1967500656441618E-2},{"$f":"SUMIFS(INDEX(output[#Data],0,MATCH(\"ishp_Market\",output[#Headers],0)),output[equipment_type],$C$414,output[control_strategy],\"ASD Control\",output[load_type],\"Constant\",output[year],H$415,output[facility_type],$D$13,output[sensitivity],\"Base\")/SUMIFS(INDEX(output[#Data],0,MATCH(\"ishp_Market\",output[#Headers],0)),output[equipment_type],$C$414,output[year],H$415,output[facility_type],$D$13,output[sensitivity],\"Base\")","v":6.6243780288093093E-2},{"$f":"SUMIFS(INDEX(output[#Data],0,MATCH(\"ishp_Market\",output[#Headers],0)),output[equipment_type],$C$414,output[control_strategy],\"ASD Control\",output[load_type],\"Constant\",output[year],I$415,output[facility_type],$D$13,output[sensitivity],\"Base\")/SUMIFS(INDEX(output[#Data],0,MATCH(\"ishp_Market\",output[#Headers],0)),output[equipment_type],$C$414,output[year],I$415,output[facility_type],$D$13,output[sensitivity],\"Base\")","v":6.7595193743651735E-2},{"$f":"SUMIFS(INDEX(output[#Data],0,MATCH(\"ishp_Market\",output[#Headers],0)),output[equipment_type],$C$414,output[control_strategy],\"ASD Control\",output[load_type],\"Constant\",output[year],J$415,output[facility_type],$D$13,output[sensitivity],\"Base\")/SUMIFS(INDEX(output[#Data],0,MATCH(\"ishp_Market\",output[#Headers],0)),output[equipment_type],$C$414,output[year],J$415,output[facility_type],$D$13,output[sensitivity],\"Base\")","v":7.2846375110515518E-2}]
[null,null,"Variable Load ASD Control",{"$f":"SUMIFS(INDEX(output[#Data],0,MATCH(\"ishp_Market\",output[#Headers],0)),output[equipment_type],$C$414,output[control_strategy],\"ASD Control\",output[load_type],\"Variable\",output[year],D$415,output[facility_type],$D$13,output[sensitivity],\"Base\")/SUMIFS(INDEX(output[#Data],0,MATCH(\"ishp_Market\",output[#Headers],0)),output[equipment_type],$C$414,output[year],D$415,output[facility_type],$D$13,output[sensitivity],\"Base\")","v":0.15787831048099785},{"$f":"SUMIFS(INDEX(output[#Data],0,MATCH(\"ishp_Market\",output[#Headers],0)),output[equipment_type],$C$414,output[control_strategy],\"ASD Control\",output[load_type],\"Variable\",output[year],E$415,output[facility_type],$D$13,output[sensitivity],\"Base\")/SUMIFS(INDEX(output[#Data],0,MATCH(\"ishp_Market\",output[#Headers],0)),output[equipment_type],$C$414,output[year],E$415,output[facility_type],$D$13,output[sensitivity],\"Base\")","v":0.18198774689338101},{"$f":"SUMIFS(INDEX(output[#Data],0,MATCH(\"ishp_Market\",output[#Headers],0)),output[equipment_type],$C$414,output[control_strategy],\"ASD Control\",output[load_type],\"Variable\",output[year],F$415,output[facility_type],$D$13,output[sensitivity],\"Base\")/SUMIFS(INDEX(output[#Data],0,MATCH(\"ishp_Market\",output[#Headers],0)),output[equipment_type],$C$414,output[year],F$415,output[facility_type],$D$13,output[sensitivity],\"Base\")","v":0.19846744360876833},{"$f":"SUMIFS(INDEX(output[#Data],0,MATCH(\"ishp_Market\",output[#Headers],0)),output[equipment_type],$C$414,output[control_strategy],\"ASD Control\",output[load_type],\"Variable\",output[year],G$415,output[facility_type],$D$13,output[sensitivity],\"Base\")/SUMIFS(INDEX(output[#Data],0,MATCH(\"ishp_Market\",output[#Headers],0)),output[equipment_type],$C$414,output[year],G$415,output[facility_type],$D$13,output[sensitivity],\"Base\")","v":0.20984925271722427},{"$f":"SUMIFS(INDEX(output[#Data],0,MATCH(\"ishp_Market\",output[#Headers],0)),output[equipment_type],$C$414,output[control_strategy],\"ASD Control\",output[load_type],\"Variable\",output[year],H$415,output[facility_type],$D$13,output[sensitivity],\"Base\")/SUMIFS(INDEX(output[#Data],0,MATCH(\"ishp_Market\",output[#Headers],0)),output[equipment_type],$C$414,output[year],H$415,output[facility_type],$D$13,output[sensitivity],\"Base\")","v":0.22433061916908625},{"$f":"SUMIFS(INDEX(output[#Data],0,MATCH(\"ishp_Market\",output[#Headers],0)),output[equipment_type],$C$414,output[control_strategy],\"ASD Control\",output[load_type],\"Variable\",output[year],I$415,output[facility_type],$D$13,output[sensitivity],\"Base\")/SUMIFS(INDEX(output[#Data],0,MATCH(\"ishp_Market\",output[#Headers],0)),output[equipment_type],$C$414,output[year],I$415,output[facility_type],$D$13,output[sensitivity],\"Base\")","v":0.2289071004012935},{"$f":"SUMIFS(INDEX(output[#Data],0,MATCH(\"ishp_Market\",output[#Headers],0)),output[equipment_type],$C$414,output[control_strategy],\"ASD Control\",output[load_type],\"Variable\",output[year],J$415,output[facility_type],$D$13,output[sensitivity],\"Base\")/SUMIFS(INDEX(output[#Data],0,MATCH(\"ishp_Market\",output[#Headers],0)),output[equipment_type],$C$414,output[year],J$415,output[facility_type],$D$13,output[sensitivity],\"Base\")","v":0.2466899135540849}]
[]
[null,null,{"$f":"\"Table for \"&H397","v":"Table for Figure 26: Distribution of Pumps by Control Type and Load Type, by Year (In-Service Motors)"}]
[null,null,"Pumps","Year"]
[null,null,null,2015,2016,2017,2018,2019,2020,2021]
[null,null,"Constant Load Non-ASD Control",{"$f":"SUMIFS(INDEX(output[#Data],0,MATCH(\"num_motors_Market\",output[#Headers],0)),output[equipment_type],$C$414,output[control_strategy],\"Non ASD Control\",output[load_type],\"Constant\",output[year],D$415,output[facility_type],$D$13,output[sensitivity],\"Base\")/SUMIFS(INDEX(output[#Data],0,MATCH(\"num_motors_Market\",output[#Headers],0)),output[equipment_type],$C$414,output[year],D$415,output[facility_type],$D$13,output[sensitivity],\"Base\")","v":0.56178027367305905},{"$f":"SUMIFS(INDEX(output[#Data],0,MATCH(\"num_motors_Market\",output[#Headers],0)),output[equipment_type],$C$414,output[control_strategy],\"Non ASD Control\",output[load_type],\"Constant\",output[year],E$415,output[facility_type],$D$13,output[sensitivity],\"Base\")/SUMIFS(INDEX(output[#Data],0,MATCH(\"num_motors_Market\",output[#Headers],0)),output[equipment_type],$C$414,output[year],E$415,output[facility_type],$D$13,output[sensitivity],\"Base\")","v":0.53964045202700739},{"$f":"SUMIFS(INDEX(output[#Data],0,MATCH(\"num_motors_Market\",output[#Headers],0)),output[equipment_type],$C$414,output[control_strategy],\"Non ASD Control\",output[load_type],\"Constant\",output[year],F$415,output[facility_type],$D$13,output[sensitivity],\"Base\")/SUMIFS(INDEX(output[#Data],0,MATCH(\"num_motors_Market\",output[#Headers],0)),output[equipment_type],$C$414,output[year],F$415,output[facility_type],$D$13,output[sensitivity],\"Base\")","v":0.52451112478715201},{"$f":"SUMIFS(INDEX(output[#Data],0,MATCH(\"num_motors_Market\",output[#Headers],0)),output[equipment_type],$C$414,output[control_strategy],\"Non ASD Control\",output[load_type],\"Constant\",output[year],G$415,output[facility_type],$D$13,output[sensitivity],\"Base\")/SUMIFS(INDEX(output[#Data],0,MATCH(\"num_motors_Market\",output[#Headers],0)),output[equipment_type],$C$414,output[year],G$415,output[facility_type],$D$13,output[sensitivity],\"Base\")","v":0.51406388335252151},{"$f":"SUMIFS(INDEX(output[#Data],0,MATCH(\"num_motors_Market\",output[#Headers],0)),output[equipment_type],$C$414,output[control_strategy],\"Non ASD Control\",output[load_type],\"Constant\",output[year],H$415,output[facility_type],$D$13,output[sensitivity],\"Base\")/SUMIFS(INDEX(output[#Data],0,MATCH(\"num_motors_Market\",output[#Headers],0)),output[equipment_type],$C$414,output[year],H$415,output[facility_type],$D$13,output[sensitivity],\"Base\")","v":0.500773865636848},{"$f":"SUMIFS(INDEX(output[#Data],0,MATCH(\"num_motors_Market\",output[#Headers],0)),output[equipment_type],$C$414,output[control_strategy],\"Non ASD Control\",output[load_type],\"Constant\",output[year],I$415,output[facility_type],$D$13,output[sensitivity],\"Base\")/SUMIFS(INDEX(output[#Data],0,MATCH(\"num_motors_Market\",output[#Headers],0)),output[equipment_type],$C$414,output[year],I$415,output[facility_type],$D$13,output[sensitivity],\"Base\")","v":0.49657441053441903},{"$f":"SUMIFS(INDEX(output[#Data],0,MATCH(\"num_motors_Market\",output[#Headers],0)),output[equipment_type],$C$414,output[control_strategy],\"Non ASD Control\",output[load_type],\"Constant\",output[year],J$415,output[facility_type],$D$13,output[sensitivity],\"Base\")/SUMIFS(INDEX(output[#Data],0,MATCH(\"num_motors_Market\",output[#Headers],0)),output[equipment_type],$C$414,output[year],J$415,output[facility_type],$D$13,output[sensitivity],\"Base\")","v":0.48025901964623724}]
[null,null,"Variable Load Non-ASD Control",{"$f":"SUMIFS(INDEX(output[#Data],0,MATCH(\"num_motors_Market\",output[#Headers],0)),output[equipment_type],$C$414,output[control_strategy],\"Non ASD Control\",output[load_type],\"Variable\",output[year],D$415,output[facility_type],$D$13,output[sensitivity],\"Base\")/SUMIFS(INDEX(output[#Data],0,MATCH(\"num_motors_Market\",output[#Headers],0)),output[equipment_type],$C$414,output[year],D$415,output[facility_type],$D$13,output[sensitivity],\"Base\")","v":0.23288942136756396},{"$f":"SUMIFS(INDEX(output[#Data],0,MATCH(\"num_motors_Market\",output[#Headers],0)),output[equipment_type],$C$414,output[control_strategy],\"Non ASD Control\",output[load_type],\"Variable\",output[year],E$415,output[facility_type],$D$13,output[sensitivity],\"Base\")/SUMIFS(INDEX(output[#Data],0,MATCH(\"num_motors_Market\",output[#Headers],0)),output[equipment_type],$C$414,output[year],E$415,output[facility_type],$D$13,output[sensitivity],\"Base\")","v":0.22371122395842791},{"$f":"SUMIFS(INDEX(output[#Data],0,MATCH(\"num_motors_Market\",output[#Headers],0)),output[equipment_type],$C$414,output[control_strategy],\"Non ASD Control\",output[load_type],\"Variable\",output[year],F$415,output[facility_type],$D$13,output[sensitivity],\"Base\")/SUMIFS(INDEX(output[#Data],0,MATCH(\"num_motors_Market\",output[#Headers],0)),output[equipment_type],$C$414,output[year],F$415,output[facility_type],$D$13,output[sensitivity],\"Base\")","v":0.21743926954548051},{"$f":"SUMIFS(INDEX(output[#Data],0,MATCH(\"num_motors_Market\",output[#Headers],0)),output[equipment_type],$C$414,output[control_strategy],\"Non ASD Control\",output[load_type],\"Variable\",output[year],G$415,output[facility_type],$D$13,output[sensitivity],\"Base\")/SUMIFS(INDEX(output[#Data],0,MATCH(\"num_motors_Market\",output[#Headers],0)),output[equipment_type],$C$414,output[year],G$415,output[facility_type],$D$13,output[sensitivity],\"Base\")","v":0.21310830221426683},{"$f":"SUMIFS(INDEX(output[#Data],0,MATCH(\"num_motors_Market\",output[#Headers],0)),output[equipment_type],$C$414,output[control_strategy],\"Non ASD Control\",output[load_type],\"Variable\",output[year],H$415,output[facility_type],$D$13,output[sensitivity],\"Base\")/SUMIFS(INDEX(output[#Data],0,MATCH(\"num_motors_Market\",output[#Headers],0)),output[equipment_type],$C$414,output[year],H$415,output[facility_type],$D$13,output[sensitivity],\"Base\")","v":0.2075988447256096},{"$f":"SUMIFS(INDEX(output[#Data],0,MATCH(\"num_motors_Market\",output[#Headers],0)),output[equipment_type],$C$414,output[control_strategy],\"Non ASD Control\",output[load_type],\"Variable\",output[year],I$415,output[facility_type],$D$13,output[sensitivity],\"Base\")/SUMIFS(INDEX(output[#Data],0,MATCH(\"num_motors_Market\",output[#Headers],0)),output[equipment_type],$C$414,output[year],I$415,output[facility_type],$D$13,output[sensitivity],\"Base\")","v":0.20585793513035244},{"$f":"SUMIFS(INDEX(output[#Data],0,MATCH(\"num_motors_Market\",output[#Headers],0)),output[equipment_type],$C$414,output[control_strategy],\"Non ASD Control\",output[load_type],\"Variable\",output[year],J$415,output[facility_type],$D$13,output[sensitivity],\"Base\")/SUMIFS(INDEX(output[#Data],0,MATCH(\"num_motors_Market\",output[#Headers],0)),output[equipment_type],$C$414,output[year],J$415,output[facility_type],$D$13,output[sensitivity],\"Base\")","v":0.19909429083488603}]
[null,null,"Constant Load ASD Control",{"$f":"SUMIFS(INDEX(output[#Data],0,MATCH(\"num_motors_Market\",output[#Headers],0)),output[equipment_type],$C$414,output[control_strategy],\"ASD Control\",output[load_type],\"Constant\",output[year],D$415,output[facility_type],$D$13,output[sensitivity],\"Base\")/SUMIFS(INDEX(output[#Data],0,MATCH(\"num_motors_Market\",output[#Headers],0)),output[equipment_type],$C$414,output[year],D$415,output[facility_type],$D$13,output[sensitivity],\"Base\")","v":4.6810233914707206E-2},{"$f":"SUMIFS(INDEX(output[#Data],0,MATCH(\"num_motors_Market\",output[#Headers],0)),output[equipment_type],$C$414,output[control_strategy],\"ASD Control\",output[load_type],\"Constant\",output[year],E$415,output[facility_type],$D$13,output[sensitivity],\"Base\")/SUMIFS(INDEX(output[#Data],0,MATCH(\"num_motors_Market\",output[#Headers],0)),output[equipment_type],$C$414,output[year],E$415,output[facility_type],$D$13,output[sensitivity],\"Base\")","v":5.3949968100601646E-2},{"$f":"SUMIFS(INDEX(output[#Data],0,MATCH(\"num_motors_Market\",output[#Headers],0)),output[equipment_type],$C$414,output[control_strategy],\"ASD Control\",output[load_type],\"Constant\",output[year],F$415,output[facility_type],$D$13,output[sensitivity],\"Base\")/SUMIFS(INDEX(output[#Data],0,MATCH(\"num_motors_Market\",output[#Headers],0)),output[equipment_type],$C$414,output[year],F$415,output[facility_type],$D$13,output[sensitivity],\"Base\")","v":5.8828931293299497E-2},{"$f":"SUMIFS(INDEX(output[#Data],0,MATCH(\"num_motors_Market\",output[#Headers],0)),output[equipment_type],$C$414,output[control_strategy],\"ASD Control\",output[load_type],\"Constant\",output[year],G$415,output[facility_type],$D$13,output[sensitivity],\"Base\")/SUMIFS(INDEX(output[#Data],0,MATCH(\"num_motors_Market\",output[#Headers],0)),output[equipment_type],$C$414,output[year],G$415,output[facility_type],$D$13,output[sensitivity],\"Base\")","v":6.2197997585323073E-2},{"$f":"SUMIFS(INDEX(output[#Data],0,MATCH(\"num_motors_Market\",output[#Headers],0)),output[equipment_type],$C$414,output[control_strategy],\"ASD Control\",output[load_type],\"Constant\",output[year],H$415,output[facility_type],$D$13,output[sensitivity],\"Base\")/SUMIFS(INDEX(output[#Data],0,MATCH(\"num_motors_Market\",output[#Headers],0)),output[equipment_type],$C$414,output[year],H$415,output[facility_type],$D$13,output[sensitivity],\"Base\")","v":6.6483813222535243E-2},{"$f":"SUMIFS(INDEX(output[#Data],0,MATCH(\"num_motors_Market\",output[#Headers],0)),output[equipment_type],$C$414,output[control_strategy],\"ASD Control\",output[load_type],\"Constant\",output[year],I$415,output[facility_type],$D$13,output[sensitivity],\"Base\")/SUMIFS(INDEX(output[#Data],0,MATCH(\"num_motors_Market\",output[#Headers],0)),output[equipment_type],$C$414,output[year],I$415,output[facility_type],$D$13,output[sensitivity],\"Base\")","v":6.7838069532106207E-2},{"$f":"SUMIFS(INDEX(output[#Data],0,MATCH(\"num_motors_Market\",output[#Headers],0)),output[equipment_type],$C$414,output[control_strategy],\"ASD Control\",output[load_type],\"Constant\",output[year],J$415,output[facility_type],$D$13,output[sensitivity],\"Base\")/SUMIFS(INDEX(output[#Data],0,MATCH(\"num_motors_Market\",output[#Headers],0)),output[equipment_type],$C$414,output[year],J$415,output[facility_type],$D$13,output[sensitivity],\"Base\")","v":7.3099519056987805E-2}]
[null,null,"Variable Load ASD Control",{"$f":"SUMIFS(INDEX(output[#Data],0,MATCH(\"num_motors_Market\",output[#Headers],0)),output[equipment_type],$C$414,output[control_strategy],\"ASD Control\",output[load_type],\"Variable\",output[year],D$415,output[facility_type],$D$13,output[sensitivity],\"Base\")/SUMIFS(INDEX(output[#Data],0,MATCH(\"num_motors_Market\",output[#Headers],0)),output[equipment_type],$C$414,output[year],D$415,output[facility_type],$D$13,output[sensitivity],\"Base\")","v":0.15852007104466975},{"$f":"SUMIFS(INDEX(output[#Data],0,MATCH(\"num_motors_Market\",output[#Headers],0)),output[equipment_type],$C$414,output[control_strategy],\"ASD Control\",output[load_type],\"Variable\",output[year],E$415,output[facility_type],$D$13,output[sensitivity],\"Base\")/SUMIFS(INDEX(output[#Data],0,MATCH(\"num_motors_Market\",output[#Headers],0)),output[equipment_type],$C$414,output[year],E$415,output[facility_type],$D$13,output[sensitivity],\"Base\")","v":0.18269835591396305},{"$f":"SUMIFS(INDEX(output[#Data],0,MATCH(\"num_motors_Market\",output[#Headers],0)),output[equipment_type],$C$414,output[control_strategy],\"ASD Control\",output[load_type],\"Variable\",output[year],F$415,output[facility_type],$D$13,output[sensitivity],\"Base\")/SUMIFS(INDEX(output[#Data],0,MATCH(\"num_motors_Market\",output[#Headers],0)),output[equipment_type],$C$414,output[year],F$415,output[facility_type],$D$13,output[sensitivity],\"Base\")","v":0.19922067437406785},{"$f":"SUMIFS(INDEX(output[#Data],0,MATCH(\"num_motors_Market\",output[#Headers],0)),output[equipment_type],$C$414,output[control_strategy],\"ASD Control\",output[load_type],\"Variable\",output[year],G$415,output[facility_type],$D$13,output[sensitivity],\"Base\")/SUMIFS(INDEX(output[#Data],0,MATCH(\"num_motors_Market\",output[#Headers],0)),output[equipment_type],$C$414,output[year],G$415,output[facility_type],$D$13,output[sensitivity],\"Base\")","v":0.21062981684788892},{"$f":"SUMIFS(INDEX(output[#Data],0,MATCH(\"num_motors_Market\",output[#Headers],0)),output[equipment_type],$C$414,output[control_strategy],\"ASD Control\",output[load_type],\"Variable\",output[year],H$415,output[facility_type],$D$13,output[sensitivity],\"Base\")/SUMIFS(INDEX(output[#Data],0,MATCH(\"num_motors_Market\",output[#Headers],0)),output[equipment_type],$C$414,output[year],H$415,output[facility_type],$D$13,output[sensitivity],\"Base\")","v":0.22514347641500715},{"$f":"SUMIFS(INDEX(output[#Data],0,MATCH(\"num_motors_Market\",output[#Headers],0)),output[equipment_type],$C$414,output[control_strategy],\"ASD Control\",output[load_type],\"Variable\",output[year],I$415,output[facility_type],$D$13,output[sensitivity],\"Base\")/SUMIFS(INDEX(output[#Data],0,MATCH(\"num_motors_Market\",output[#Headers],0)),output[equipment_type],$C$414,output[year],I$415,output[facility_type],$D$13,output[sensitivity],\"Base\")","v":0.22972958480312233},{"$f":"SUMIFS(INDEX(output[#Data],0,MATCH(\"num_motors_Market\",output[#Headers],0)),output[equipment_type],$C$414,output[control_strategy],\"ASD Control\",output[load_type],\"Variable\",output[year],J$415,output[facility_type],$D$13,output[sensitivity],\"Base\")/SUMIFS(INDEX(output[#Data],0,MATCH(\"num_motors_Market\",output[#Headers],0)),output[equipment_type],$C$414,output[year],J$415,output[facility_type],$D$13,output[sensitivity],\"Base\")","v":0.2475471704618887}]
[]
[]
[null,null,"Figure 27: Distribution of Pumps by Motor Size, 2020 (In-Service HP)",null,null,null,null,"Figure 28: Distribution of Pumps by Motor Size, 2020 (In-Service Motors)"]
[]
[]
[]
[]
[]
[]
[]
[]
[]
[]
[]
[]
[]
[]
[]
[]
[]
[]
[null,null,{"$f":"\"Table for \"&C430","v":"Table for Figure 27: Distribution of Pumps by Motor Size, 2020 (In-Service HP)"}]
[null,null,"Pumps","1-5 HP","6-10 HP","11-20 HP","21-50 HP","51-100 HP","101-200 HP","201-500 HP","501-1,000 HP","1,001+ HP"]
[null,null,null,{"$f":"SUMIFS(INDEX(output[#Data],0,MATCH(\"ishp_Market\",output[#Headers],0)),output[equipment_type],$C$450,output[motor_size],D$450,output[year],2020,output[facility_type],$D$13,output[sensitivity],\"Base\")/SUMIFS(INDEX(output[#Data],0,MATCH(\"ishp_Market\",output[#Headers],0)),output[equipment_type],$C$450,output[year],2020,output[facility_type],$D$13,output[sensitivity],\"Base\")","v":7.708350690456825E-2},{"$f":"SUMIFS(INDEX(output[#Data],0,MATCH(\"ishp_Market\",output[#Headers],0)),output[equipment_type],$C$450,output[motor_size],E$450,output[year],2020,output[facility_type],$D$13,output[sensitivity],\"Base\")/SUMIFS(INDEX(output[#Data],0,MATCH(\"ishp_Market\",output[#Headers],0)),output[equipment_type],$C$450,output[year],2020,output[facility_type],$D$13,output[sensitivity],\"Base\")","v":6.6575440654107837E-2},{"$f":"SUMIFS(INDEX(output[#Data],0,MATCH(\"ishp_Market\",output[#Headers],0)),output[equipment_type],$C$450,output[motor_size],F$450,output[year],2020,output[facility_type],$D$13,output[sensitivity],\"Base\")/SUMIFS(INDEX(output[#Data],0,MATCH(\"ishp_Market\",output[#Headers],0)),output[equipment_type],$C$450,output[year],2020,output[facility_type],$D$13,output[sensitivity],\"Base\")","v":6.6575440654107879E-2},{"$f":"SUMIFS(INDEX(output[#Data],0,MATCH(\"ishp_Market\",output[#Headers],0)),output[equipment_type],$C$450,output[motor_size],G$450,output[year],2020,output[facility_type],$D$13,output[sensitivity],\"Base\")/SUMIFS(INDEX(output[#Data],0,MATCH(\"ishp_Market\",output[#Headers],0)),output[equipment_type],$C$450,output[year],2020,output[facility_type],$D$13,output[sensitivity],\"Base\")","v":0.26314280745497132},{"$f":"SUMIFS(INDEX(output[#Data],0,MATCH(\"ishp_Market\",output[#Headers],0)),output[equipment_type],$C$450,output[motor_size],H$450,output[year],2020,output[facility_type],$D$13,output[sensitivity],\"Base\")/SUMIFS(INDEX(output[#Data],0,MATCH(\"ishp_Market\",output[#Headers],0)),output[equipment_type],$C$450,output[year],2020,output[facility_type],$D$13,output[sensitivity],\"Base\")","v":0.27263441606134142},{"$f":"SUMIFS(INDEX(output[#Data],0,MATCH(\"ishp_Market\",output[#Headers],0)),output[equipment_type],$C$450,output[motor_size],I$450,output[year],2020,output[facility_type],$D$13,output[sensitivity],\"Base\")/SUMIFS(INDEX(output[#Data],0,MATCH(\"ishp_Market\",output[#Headers],0)),output[equipment_type],$C$450,output[year],2020,output[facility_type],$D$13,output[sensitivity],\"Base\")","v":0.21724543582424991},{"$f":"SUMIFS(INDEX(output[#Data],0,MATCH(\"ishp_Market\",output[#Headers],0)),output[equipment_type],$C$450,output[motor_size],J$450,output[year],2020,output[facility_type],$D$13,output[sensitivity],\"Base\")/SUMIFS(INDEX(output[#Data],0,MATCH(\"ishp_Market\",output[#Headers],0)),output[equipment_type],$C$450,output[year],2020,output[facility_type],$D$13,output[sensitivity],\"Base\")","v":3.6742952446653425E-2},{"$f":"SUMIFS(INDEX(output[#Data],0,MATCH(\"ishp_Market\",output[#Headers],0)),output[equipment_type],$C$450,output[motor_size],K$450,output[year],2020,output[facility_type],$D$13,output[sensitivity],\"Base\")/SUMIFS(INDEX(output[#Data],0,MATCH(\"ishp_Market\",output[#Headers],0)),output[equipment_type],$C$450,output[year],2020,output[facility_type],$D$13,output[sensitivity],\"Base\")","v":0},{"$f":"SUMIFS(INDEX(output[#Data],0,MATCH(\"ishp_Market\",output[#Headers],0)),output[equipment_type],$C$450,output[motor_size],L$450,output[year],2020,output[facility_type],$D$13,output[sensitivity],\"Base\")/SUMIFS(INDEX(output[#Data],0,MATCH(\"ishp_Market\",output[#Headers],0)),output[equipment_type],$C$450,output[year],2020,output[facility_type],$D$13,output[sensitivity],\"Base\")","v":0}]
[]
[null,null,{"$f":"\"Table for \"&H430","v":"Table for Figure 28: Distribution of Pumps by Motor Size, 2020 (In-Service Motors)"}]
[null,null,"Pumps","1-5 HP","6-10 HP","11-20 HP","21-50 HP","51-100 HP","101-200 HP","201-500 HP","501-1,000 HP","1,001+ HP"]
[null,null,null,{"$f":"SUMIFS(INDEX(output[#Data],0,MATCH(\"num_motors_Market\",output[#Headers],0)),output[equipment_type],$C$454,output[motor_size],D$454,output[year],2020,output[facility_type],$D$13,output[sensitivity],\"Base\")/SUMIFS(INDEX(output[#Data],0,MATCH(\"num_motors_Market\",output[#Headers],0)),output[equipment_type],$C$454,output[year],2020,output[facility_type],$D$13,output[sensitivity],\"Base\")","v":0.50496758396720565},{"$f":"SUMIFS(INDEX(output[#Data],0,MATCH(\"num_motors_Market\",output[#Headers],0)),output[equipment_type],$C$454,output[motor_size],E$454,output[year],2020,output[facility_type],$D$13,output[sensitivity],\"Base\")/SUMIFS(INDEX(output[#Data],0,MATCH(\"num_motors_Market\",output[#Headers],0)),output[equipment_type],$C$454,output[year],2020,output[facility_type],$D$13,output[sensitivity],\"Base\")","v":0.16354879647087267},{"$f":"SUMIFS(INDEX(output[#Data],0,MATCH(\"num_motors_Market\",output[#Headers],0)),output[equipment_type],$C$454,output[motor_size],F$454,output[year],2020,output[facility_type],$D$13,output[sensitivity],\"Base\")/SUMIFS(INDEX(output[#Data],0,MATCH(\"num_motors_Market\",output[#Headers],0)),output[equipment_type],$C$454,output[year],2020,output[facility_type],$D$13,output[sensitivity],\"Base\")","v":8.4412282049482798E-2},{"$f":"SUMIFS(INDEX(output[#Data],0,MATCH(\"num_motors_Market\",output[#Headers],0)),output[equipment_type],$C$454,output[motor_size],G$454,output[year],2020,output[facility_type],$D$13,output[sensitivity],\"Base\")/SUMIFS(INDEX(output[#Data],0,MATCH(\"num_motors_Market\",output[#Headers],0)),output[equipment_type],$C$454,output[year],2020,output[facility_type],$D$13,output[sensitivity],\"Base\")","v":0.14567547427298602},{"$f":"SUMIFS(INDEX(output[#Data],0,MATCH(\"num_motors_Market\",output[#Headers],0)),output[equipment_type],$C$454,output[motor_size],H$454,output[year],2020,output[facility_type],$D$13,output[sensitivity],\"Base\")/SUMIFS(INDEX(output[#Data],0,MATCH(\"num_motors_Market\",output[#Headers],0)),output[equipment_type],$C$454,output[year],2020,output[facility_type],$D$13,output[sensitivity],\"Base\")","v":7.0967093121668559E-2},{"$f":"SUMIFS(INDEX(output[#Data],0,MATCH(\"num_motors_Market\",output[#Headers],0)),output[equipment_type],$C$454,output[motor_size],I$454,output[year],2020,output[facility_type],$D$13,output[sensitivity],\"Base\")/SUMIFS(INDEX(output[#Data],0,MATCH(\"num_motors_Market\",output[#Headers],0)),output[equipment_type],$C$454,output[year],2020,output[facility_type],$D$13,output[sensitivity],\"Base\")","v":2.8368570423868675E-2},{"$f":"SUMIFS(INDEX(output[#Data],0,MATCH(\"num_motors_Market\",output[#Headers],0)),output[equipment_type],$C$454,output[motor_size],J$454,output[year],2020,output[facility_type],$D$13,output[sensitivity],\"Base\")/SUMIFS(INDEX(output[#Data],0,MATCH(\"num_motors_Market\",output[#Headers],0)),output[equipment_type],$C$454,output[year],2020,output[facility_type],$D$13,output[sensitivity],\"Base\")","v":2.0601996939157347E-3},{"$f":"SUMIFS(INDEX(output[#Data],0,MATCH(\"num_motors_Market\",output[#Headers],0)),output[equipment_type],$C$454,output[motor_size],K$454,output[year],2020,output[facility_type],$D$13,output[sensitivity],\"Base\")/SUMIFS(INDEX(output[#Data],0,MATCH(\"num_motors_Market\",output[#Headers],0)),output[equipment_type],$C$454,output[year],2020,output[facility_type],$D$13,output[sensitivity],\"Base\")","v":0},{"$f":"SUMIFS(INDEX(output[#Data],0,MATCH(\"num_motors_Market\",output[#Headers],0)),output[equipment_type],$C$454,output[motor_size],L$454,output[year],2020,output[facility_type],$D$13,output[sensitivity],\"Base\")/SUMIFS(INDEX(output[#Data],0,MATCH(\"num_motors_Market\",output[#Headers],0)),output[equipment_type],$C$454,output[year],2020,output[facility_type],$D$13,output[sensitivity],\"Base\")","v":0}]
[]
[]
[null,null,"Figure 29: Distribution of ASD-Controlled Pumps by Motor Size, 2020 (In-Service Motor HP)",null,null,null,null,"Figure 30: Distribution of ASD-Controlled Pumps by Motor Size, 2020 (In-Service Motors)"]
[]
[]
[]
[]
[]
[]
[]
[]
[]
[]
[]
[]
[]
[]
[]
[]
[]
[]
[]
[]
[]
[null,null,{"$f":"\"Table for \"&C458","v":"Table for Figure 29: Distribution of ASD-Controlled Pumps by Motor Size, 2020 (In-Service Motor HP)"}]
[null,null,"Pumps","1-5 HP","6-10 HP","11-20 HP","21-50 HP","51-100 HP","101-200 HP","201-500 HP","501-1,000 HP","1,001+ HP"]
[null,null,null,{"$f":"SUMIFS(INDEX(output[#Data],0,MATCH(\"ishp_Market\",output[#Headers],0)),output[equipment_type],$C$481,output[motor_size],D$481,output[year],2020,output[facility_type],$D$13,output[control_strategy],\"ASD Control\",output[sensitivity],\"Base\")/SUMIFS(INDEX(output[#Data],0,MATCH(\"ishp_Market\",output[#Headers],0)),output[equipment_type],$C$481,output[year],2020,output[facility_type],$D$13,output[control_strategy],\"ASD Control\",output[sensitivity],\"Base\")","v":7.5224856909239621E-2},{"$f":"SUMIFS(INDEX(output[#Data],0,MATCH(\"ishp_Market\",output[#Headers],0)),output[equipment_type],$C$481,output[motor_size],E$481,output[year],2020,output[facility_type],$D$13,output[control_strategy],\"ASD Control\",output[sensitivity],\"Base\")/SUMIFS(INDEX(output[#Data],0,MATCH(\"ishp_Market\",output[#Headers],0)),output[equipment_type],$C$481,output[year],2020,output[facility_type],$D$13,output[control_strategy],\"ASD Control\",output[sensitivity],\"Base\")","v":8.304073878120348E-2},{"$f":"SUMIFS(INDEX(output[#Data],0,MATCH(\"ishp_Market\",output[#Headers],0)),output[equipment_type],$C$481,output[motor_size],F$481,output[year],2020,output[facility_type],$D$13,output[control_strategy],\"ASD Control\",output[sensitivity],\"Base\")/SUMIFS(INDEX(output[#Data],0,MATCH(\"ishp_Market\",output[#Headers],0)),output[equipment_type],$C$481,output[year],2020,output[facility_type],$D$13,output[control_strategy],\"ASD Control\",output[sensitivity],\"Base\")","v":8.304073878120341E-2},{"$f":"SUMIFS(INDEX(output[#Data],0,MATCH(\"ishp_Market\",output[#Headers],0)),output[equipment_type],$C$481,output[motor_size],G$481,output[year],2020,output[facility_type],$D$13,output[control_strategy],\"ASD Control\",output[sensitivity],\"Base\")/SUMIFS(INDEX(output[#Data],0,MATCH(\"ishp_Market\",output[#Headers],0)),output[equipment_type],$C$481,output[year],2020,output[facility_type],$D$13,output[control_strategy],\"ASD Control\",output[sensitivity],\"Base\")","v":0.242172093694387},{"$f":"SUMIFS(INDEX(output[#Data],0,MATCH(\"ishp_Market\",output[#Headers],0)),output[equipment_type],$C$481,output[motor_size],H$481,output[year],2020,output[facility_type],$D$13,output[control_strategy],\"ASD Control\",output[sensitivity],\"Base\")/SUMIFS(INDEX(output[#Data],0,MATCH(\"ishp_Market\",output[#Headers],0)),output[equipment_type],$C$481,output[year],2020,output[facility_type],$D$13,output[control_strategy],\"ASD Control\",output[sensitivity],\"Base\")","v":0},{"$f":"SUMIFS(INDEX(output[#Data],0,MATCH(\"ishp_Market\",output[#Headers],0)),output[equipment_type],$C$481,output[motor_size],I$481,output[year],2020,output[facility_type],$D$13,output[control_strategy],\"ASD Control\",output[sensitivity],\"Base\")/SUMIFS(INDEX(output[#Data],0,MATCH(\"ishp_Market\",output[#Headers],0)),output[equipment_type],$C$481,output[year],2020,output[facility_type],$D$13,output[control_strategy],\"ASD Control\",output[sensitivity],\"Base\")","v":0.51652157183396652},{"$f":"SUMIFS(INDEX(output[#Data],0,MATCH(\"ishp_Market\",output[#Headers],0)),output[equipment_type],$C$481,output[motor_size],J$481,output[year],2020,output[facility_type],$D$13,output[control_strategy],\"ASD Control\",output[sensitivity],\"Base\")/SUMIFS(INDEX(output[#Data],0,MATCH(\"ishp_Market\",output[#Headers],0)),output[equipment_type],$C$481,output[year],2020,output[facility_type],$D$13,output[control_strategy],\"ASD Control\",output[sensitivity],\"Base\")","v":0},{"$f":"SUMIFS(INDEX(output[#Data],0,MATCH(\"ishp_Market\",output[#Headers],0)),output[equipment_type],$C$481,output[motor_size],K$481,output[year],2020,output[facility_type],$D$13,output[control_strategy],\"ASD Control\",output[sensitivity],\"Base\")/SUMIFS(INDEX(output[#Data],0,MATCH(\"ishp_Market\",output[#Headers],0)),output[equipment_type],$C$481,output[year],2020,output[facility_type],$D$13,output[control_strategy],\"ASD Control\",output[sensitivity],\"Base\")","v":0},{"$f":"SUMIFS(INDEX(output[#Data],0,MATCH(\"ishp_Market\",output[#Headers],0)),output[equipment_type],$C$481,output[motor_size],L$481,output[year],2020,output[facility_type],$D$13,output[control_strategy],\"ASD Control\",output[sensitivity],\"Base\")/SUMIFS(INDEX(output[#Data],0,MATCH(\"ishp_Market\",output[#Headers],0)),output[equipment_type],$C$481,output[year],2020,output[facility_type],$D$13,output[control_strategy],\"ASD Control\",output[sensitivity],\"Base\")","v":0}]
[]
[null,null,{"$f":"\"Table for \"&H458","v":"Table for Figure 30: Distribution of ASD-Controlled Pumps by Motor Size, 2020 (In-Service Motors)"}]
[null,null,"Pumps","1-5 HP","6-10 HP","11-20 HP","21-50 HP","51-100 HP","101-200 HP","201-500 HP","501-1,000 HP","1,001+ HP"]
[null,null,null,{"$f":"SUMIFS(INDEX(output[#Data],0,MATCH(\"num_motors_Market\",output[#Headers],0)),output[equipment_type],$C$485,output[motor_size],D$485,output[year],2020,output[facility_type],$D$13,output[control_strategy],\"ASD Control\",output[sensitivity],\"Base\")/SUMIFS(INDEX(output[#Data],0,MATCH(\"num_motors_Market\",output[#Headers],0)),output[equipment_type],$C$485,output[year],2020,output[facility_type],$D$13,output[control_strategy],\"ASD Control\",output[sensitivity],\"Base\")","v":0.49102741688420964},{"$f":"SUMIFS(INDEX(output[#Data],0,MATCH(\"num_motors_Market\",output[#Headers],0)),output[equipment_type],$C$485,output[motor_size],E$485,output[year],2020,output[facility_type],$D$13,output[control_strategy],\"ASD Control\",output[sensitivity],\"Base\")/SUMIFS(INDEX(output[#Data],0,MATCH(\"num_motors_Market\",output[#Headers],0)),output[equipment_type],$C$485,output[year],2020,output[facility_type],$D$13,output[control_strategy],\"ASD Control\",output[sensitivity],\"Base\")","v":0.20326698415535224},{"$f":"SUMIFS(INDEX(output[#Data],0,MATCH(\"num_motors_Market\",output[#Headers],0)),output[equipment_type],$C$485,output[motor_size],F$485,output[year],2020,output[facility_type],$D$13,output[control_strategy],\"ASD Control\",output[sensitivity],\"Base\")/SUMIFS(INDEX(output[#Data],0,MATCH(\"num_motors_Market\",output[#Headers],0)),output[equipment_type],$C$485,output[year],2020,output[facility_type],$D$13,output[control_strategy],\"ASD Control\",output[sensitivity],\"Base\")","v":0.10491199182211713},{"$f":"SUMIFS(INDEX(output[#Data],0,MATCH(\"num_motors_Market\",output[#Headers],0)),output[equipment_type],$C$485,output[motor_size],G$485,output[year],2020,output[facility_type],$D$13,output[control_strategy],\"ASD Control\",output[sensitivity],\"Base\")/SUMIFS(INDEX(output[#Data],0,MATCH(\"num_motors_Market\",output[#Headers],0)),output[equipment_type],$C$485,output[year],2020,output[facility_type],$D$13,output[control_strategy],\"ASD Control\",output[sensitivity],\"Base\")","v":0.1335861303994092},{"$f":"SUMIFS(INDEX(output[#Data],0,MATCH(\"num_motors_Market\",output[#Headers],0)),output[equipment_type],$C$485,output[motor_size],H$485,output[year],2020,output[facility_type],$D$13,output[control_strategy],\"ASD Control\",output[sensitivity],\"Base\")/SUMIFS(INDEX(output[#Data],0,MATCH(\"num_motors_Market\",output[#Headers],0)),output[equipment_type],$C$485,output[year],2020,output[facility_type],$D$13,output[control_strategy],\"ASD Control\",output[sensitivity],\"Base\")","v":0},{"$f":"SUMIFS(INDEX(output[#Data],0,MATCH(\"num_motors_Market\",output[#Headers],0)),output[equipment_type],$C$485,output[motor_size],I$485,output[year],2020,output[facility_type],$D$13,output[control_strategy],\"ASD Control\",output[sensitivity],\"Base\")/SUMIFS(INDEX(output[#Data],0,MATCH(\"num_motors_Market\",output[#Headers],0)),output[equipment_type],$C$485,output[year],2020,output[facility_type],$D$13,output[control_strategy],\"ASD Control\",output[sensitivity],\"Base\")","v":6.7207476738912086E-2},{"$f":"SUMIFS(INDEX(output[#Data],0,MATCH(\"num_motors_Market\",output[#Headers],0)),output[equipment_type],$C$485,output[motor_size],J$485,output[year],2020,output[facility_type],$D$13,output[control_strategy],\"ASD Control\",output[sensitivity],\"Base\")/SUMIFS(INDEX(output[#Data],0,MATCH(\"num_motors_Market\",output[#Headers],0)),output[equipment_type],$C$485,output[year],2020,output[facility_type],$D$13,output[control_strategy],\"ASD Control\",output[sensitivity],\"Base\")","v":0},{"$f":"SUMIFS(INDEX(output[#Data],0,MATCH(\"num_motors_Market\",output[#Headers],0)),output[equipment_type],$C$485,output[motor_size],K$485,output[year],2020,output[facility_type],$D$13,output[control_strategy],\"ASD Control\",output[sensitivity],\"Base\")/SUMIFS(INDEX(output[#Data],0,MATCH(\"num_motors_Market\",output[#Headers],0)),output[equipment_type],$C$485,output[year],2020,output[facility_type],$D$13,output[control_strategy],\"ASD Control\",output[sensitivity],\"Base\")","v":0},{"$f":"SUMIFS(INDEX(output[#Data],0,MATCH(\"num_motors_Market\",output[#Headers],0)),output[equipment_type],$C$485,output[motor_size],L$485,output[year],2020,output[facility_type],$D$13,output[control_strategy],\"ASD Control\",output[sensitivity],\"Base\")/SUMIFS(INDEX(output[#Data],0,MATCH(\"num_motors_Market\",output[#Headers],0)),output[equipment_type],$C$485,output[year],2020,output[facility_type],$D$13,output[control_strategy],\"ASD Control\",output[sensitivity],\"Base\")","v":0}]
[]
[]
[null,null,"Figure 31: Distribution of Non ASD-Controlled Pumps by Motor Size, 2020 (In-Service Motor HP)",null,null,null,null,"Figure 32: Distribution of Non ASD-Controlled Pumps by Motor Size, 2020 (In-Service Motors)"]
[]
[]
[]
[]
[]
[]
[]
[]
[]
[]
[]
[]
[]
[]
[]
[]
[]
[]
[]
[]
[]
[null,null,{"$f":"\"Table for \"&C489","v":"Table for Figure 31: Distribution of Non ASD-Controlled Pumps by Motor Size, 2020 (In-Service Motor HP)"}]
[null,null,"Pumps","1-5 HP","6-10 HP","11-20 HP","21-50 HP","51-100 HP","101-200 HP","201-500 HP","501-1,000 HP","1,001+ HP"]
[null,null,null,{"$f":"SUMIFS(INDEX(output[#Data],0,MATCH(\"ishp_Market\",output[#Headers],0)),output[equipment_type],$C$512,output[motor_size],D$512,output[year],2020,output[facility_type],$D$13,output[control_strategy],\"Non ASD Control\",output[sensitivity],\"Base\")/SUMIFS(INDEX(output[#Data],0,MATCH(\"ishp_Market\",output[#Headers],0)),output[equipment_type],$C$512,output[year],2020,output[facility_type],$D$13,output[control_strategy],\"Non ASD Control\",output[sensitivity],\"Base\")","v":7.7866869782713857E-2},{"$f":"SUMIFS(INDEX(output[#Data],0,MATCH(\"ishp_Market\",output[#Headers],0)),output[equipment_type],$C$512,output[motor_size],E$512,output[year],2020,output[facility_type],$D$13,output[control_strategy],\"Non ASD Control\",output[sensitivity],\"Base\")/SUMIFS(INDEX(output[#Data],0,MATCH(\"ishp_Market\",output[#Headers],0)),output[equipment_type],$C$512,output[year],2020,output[facility_type],$D$13,output[control_strategy],\"Non ASD Control\",output[sensitivity],\"Base\")","v":5.9635832141055792E-2},{"$f":"SUMIFS(INDEX(output[#Data],0,MATCH(\"ishp_Market\",output[#Headers],0)),output[equipment_type],$C$512,output[motor_size],F$512,output[year],2020,output[facility_type],$D$13,output[control_strategy],\"Non ASD Control\",output[sensitivity],\"Base\")/SUMIFS(INDEX(output[#Data],0,MATCH(\"ishp_Market\",output[#Headers],0)),output[equipment_type],$C$512,output[year],2020,output[facility_type],$D$13,output[control_strategy],\"Non ASD Control\",output[sensitivity],\"Base\")","v":5.9635832141055896E-2},{"$f":"SUMIFS(INDEX(output[#Data],0,MATCH(\"ishp_Market\",output[#Headers],0)),output[equipment_type],$C$512,output[motor_size],G$512,output[year],2020,output[facility_type],$D$13,output[control_strategy],\"Non ASD Control\",output[sensitivity],\"Base\")/SUMIFS(INDEX(output[#Data],0,MATCH(\"ishp_Market\",output[#Headers],0)),output[equipment_type],$C$512,output[year],2020,output[facility_type],$D$13,output[control_strategy],\"Non ASD Control\",output[sensitivity],\"Base\")","v":0.27198130783403485},{"$f":"SUMIFS(INDEX(output[#Data],0,MATCH(\"ishp_Market\",output[#Headers],0)),output[equipment_type],$C$512,output[motor_size],H$512,output[year],2020,output[facility_type],$D$13,output[control_strategy],\"Non ASD Control\",output[sensitivity],\"Base\")/SUMIFS(INDEX(output[#Data],0,MATCH(\"ishp_Market\",output[#Headers],0)),output[equipment_type],$C$512,output[year],2020,output[facility_type],$D$13,output[control_strategy],\"Non ASD Control\",output[sensitivity],\"Base\")","v":0.38754130083476601},{"$f":"SUMIFS(INDEX(output[#Data],0,MATCH(\"ishp_Market\",output[#Headers],0)),output[equipment_type],$C$512,output[motor_size],I$512,output[year],2020,output[facility_type],$D$13,output[control_strategy],\"Non ASD Control\",output[sensitivity],\"Base\")/SUMIFS(INDEX(output[#Data],0,MATCH(\"ishp_Market\",output[#Headers],0)),output[equipment_type],$C$512,output[year],2020,output[facility_type],$D$13,output[control_strategy],\"Non ASD Control\",output[sensitivity],\"Base\")","v":9.1109898819388024E-2},{"$f":"SUMIFS(INDEX(output[#Data],0,MATCH(\"ishp_Market\",output[#Headers],0)),output[equipment_type],$C$512,output[motor_size],J$512,output[year],2020,output[facility_type],$D$13,output[control_strategy],\"Non ASD Control\",output[sensitivity],\"Base\")/SUMIFS(INDEX(output[#Data],0,MATCH(\"ishp_Market\",output[#Headers],0)),output[equipment_type],$C$512,output[year],2020,output[facility_type],$D$13,output[control_strategy],\"Non ASD Control\",output[sensitivity],\"Base\")","v":5.2228958446985718E-2},{"$f":"SUMIFS(INDEX(output[#Data],0,MATCH(\"ishp_Market\",output[#Headers],0)),output[equipment_type],$C$512,output[motor_size],K$512,output[year],2020,output[facility_type],$D$13,output[control_strategy],\"Non ASD Control\",output[sensitivity],\"Base\")/SUMIFS(INDEX(output[#Data],0,MATCH(\"ishp_Market\",output[#Headers],0)),output[equipment_type],$C$512,output[year],2020,output[facility_type],$D$13,output[control_strategy],\"Non ASD Control\",output[sensitivity],\"Base\")","v":0},{"$f":"SUMIFS(INDEX(output[#Data],0,MATCH(\"ishp_Market\",output[#Headers],0)),output[equipment_type],$C$512,output[motor_size],L$512,output[year],2020,output[facility_type],$D$13,output[control_strategy],\"Non ASD Control\",output[sensitivity],\"Base\")/SUMIFS(INDEX(output[#Data],0,MATCH(\"ishp_Market\",output[#Headers],0)),output[equipment_type],$C$512,output[year],2020,output[facility_type],$D$13,output[control_strategy],\"Non ASD Control\",output[sensitivity],\"Base\")","v":0}]
[]
[null,null,{"$f":"\"Table for \"&H489","v":"Table for Figure 32: Distribution of Non ASD-Controlled Pumps by Motor Size, 2020 (In-Service Motors)"}]
[null,null,"Pumps","1-5 HP","6-10 HP","11-20 HP","21-50 HP","51-100 HP","101-200 HP","201-500 HP","501-1,000 HP","1,001+ HP"]
[null,null,null,{"$f":"SUMIFS(INDEX(output[#Data],0,MATCH(\"num_motors_Market\",output[#Headers],0)),output[equipment_type],$C$516,output[motor_size],D$516,output[year],2020,output[facility_type],$D$13,output[control_strategy],\"Non ASD Control\",output[sensitivity],\"Base\")/SUMIFS(INDEX(output[#Data],0,MATCH(\"num_motors_Market\",output[#Headers],0)),output[equipment_type],$C$516,output[year],2020,output[facility_type],$D$13,output[control_strategy],\"Non ASD Control\",output[sensitivity],\"Base\")","v":0.51087298232411438},{"$f":"SUMIFS(INDEX(output[#Data],0,MATCH(\"num_motors_Market\",output[#Headers],0)),output[equipment_type],$C$516,output[motor_size],E$516,output[year],2020,output[facility_type],$D$13,output[control_strategy],\"Non ASD Control\",output[sensitivity],\"Base\")/SUMIFS(INDEX(output[#Data],0,MATCH(\"num_motors_Market\",output[#Headers],0)),output[equipment_type],$C$516,output[year],2020,output[facility_type],$D$13,output[control_strategy],\"Non ASD Control\",output[sensitivity],\"Base\")","v":0.14672319324138053},{"$f":"SUMIFS(INDEX(output[#Data],0,MATCH(\"num_motors_Market\",output[#Headers],0)),output[equipment_type],$C$516,output[motor_size],F$516,output[year],2020,output[facility_type],$D$13,output[control_strategy],\"Non ASD Control\",output[sensitivity],\"Base\")/SUMIFS(INDEX(output[#Data],0,MATCH(\"num_motors_Market\",output[#Headers],0)),output[equipment_type],$C$516,output[year],2020,output[facility_type],$D$13,output[control_strategy],\"Non ASD Control\",output[sensitivity],\"Base\")","v":7.5728099737486954E-2},{"$f":"SUMIFS(INDEX(output[#Data],0,MATCH(\"num_motors_Market\",output[#Headers],0)),output[equipment_type],$C$516,output[motor_size],G$516,output[year],2020,output[facility_type],$D$13,output[control_strategy],\"Non ASD Control\",output[sensitivity],\"Base\")/SUMIFS(INDEX(output[#Data],0,MATCH(\"num_motors_Market\",output[#Headers],0)),output[equipment_type],$C$516,output[year],2020,output[facility_type],$D$13,output[control_strategy],\"Non ASD Control\",output[sensitivity],\"Base\")","v":0.15079681830150984},{"$f":"SUMIFS(INDEX(output[#Data],0,MATCH(\"num_motors_Market\",output[#Headers],0)),output[equipment_type],$C$516,output[motor_size],H$516,output[year],2020,output[facility_type],$D$13,output[control_strategy],\"Non ASD Control\",output[sensitivity],\"Base\")/SUMIFS(INDEX(output[#Data],0,MATCH(\"num_motors_Market\",output[#Headers],0)),output[equipment_type],$C$516,output[year],2020,output[facility_type],$D$13,output[control_strategy],\"Non ASD Control\",output[sensitivity],\"Base\")","v":0.10103050287996969},{"$f":"SUMIFS(INDEX(output[#Data],0,MATCH(\"num_motors_Market\",output[#Headers],0)),output[equipment_type],$C$516,output[motor_size],I$516,output[year],2020,output[facility_type],$D$13,output[control_strategy],\"Non ASD Control\",output[sensitivity],\"Base\")/SUMIFS(INDEX(output[#Data],0,MATCH(\"num_motors_Market\",output[#Headers],0)),output[equipment_type],$C$516,output[year],2020,output[facility_type],$D$13,output[control_strategy],\"Non ASD Control\",output[sensitivity],\"Base\")","v":1.1915452453944316E-2},{"$f":"SUMIFS(INDEX(output[#Data],0,MATCH(\"num_motors_Market\",output[#Headers],0)),output[equipment_type],$C$516,output[motor_size],J$516,output[year],2020,output[facility_type],$D$13,output[control_strategy],\"Non ASD Control\",output[sensitivity],\"Base\")/SUMIFS(INDEX(output[#Data],0,MATCH(\"num_motors_Market\",output[#Headers],0)),output[equipment_type],$C$516,output[year],2020,output[facility_type],$D$13,output[control_strategy],\"Non ASD Control\",output[sensitivity],\"Base\")","v":2.9329510615943985E-3},{"$f":"SUMIFS(INDEX(output[#Data],0,MATCH(\"num_motors_Market\",output[#Headers],0)),output[equipment_type],$C$516,output[motor_size],K$516,output[year],2020,output[facility_type],$D$13,output[control_strategy],\"Non ASD Control\",output[sensitivity],\"Base\")/SUMIFS(INDEX(output[#Data],0,MATCH(\"num_motors_Market\",output[#Headers],0)),output[equipment_type],$C$516,output[year],2020,output[facility_type],$D$13,output[control_strategy],\"Non ASD Control\",output[sensitivity],\"Base\")","v":0},{"$f":"SUMIFS(INDEX(output[#Data],0,MATCH(\"num_motors_Market\",output[#Headers],0)),output[equipment_type],$C$516,output[motor_size],L$516,output[year],2020,output[facility_type],$D$13,output[control_strategy],\"Non ASD Control\",output[sensitivity],\"Base\")/SUMIFS(INDEX(output[#Data],0,MATCH(\"num_motors_Market\",output[#Headers],0)),output[equipment_type],$C$516,output[year],2020,output[facility_type],$D$13,output[control_strategy],\"Non ASD Control\",output[sensitivity],\"Base\")","v":0}]
[]
[]
[null,null,"Equipment Sales"]
[]
[null,null,"BPA's ASD Market Model tracks the year pumps and fans are sold. Annual sales of pumps and fans in the region in each year is dependent on pump and fan retirement rates and growth in industry-specific macroeconomic trends. "]
[null,null,"ASD sales are not an output of the ASD market model, but they can be calculated given certain assumptions about the installed stock. Pump and fan sales calculated outside of the model will produce a values very close to the model values, but will not account for differences in out-of-service motor HP turnover."]
[null,null,"Estimated ASD Lifetime"]
[null,null,"ASD Lifetime (years)",10]
[null,null,"Source: RTF VSD Measure; Tab Summary, \"VSD_v1_3.xlsm\", Cell F50; https://nwcouncil.app.box.com/v/VariableSpeedDrivev1-3"]
[]
[null,null,"Figure 33: Total Sales of Fans and Estimated Sales of ASDs installed on Fans, by Year (In-Service HP)",null,null,null,null,"Figure 34: Total Sales of Fans and Estimated Sales of ASDs installed on Fans, by Year (In-Service Motors)"]
[]
[]
[]
[]
[]
[]
[]
[]
[]
[]
[]
[]
[]
[]
[]
[]
[null,null,{"$f":"\"Table for \"&C528","v":"Table for Figure 33: Total Sales of Fans and Estimated Sales of ASDs installed on Fans, by Year (In-Service HP)"}]
[null,null,"Fans","Year"]
[null,null,null,2014,2015,2016,2017,2018,2019,2020,2021]
[null,null,"Total Fan Sales ","N/A",{"$f":"SUMIFS(INDEX(output[#Data],0,MATCH(\"ishp_Market\",output[#Headers],0)),output[equipment_type],$C$546,output[year],E$547,output[equip_vintage],E$547,output[facility_type],$D$13,output[sensitivity],\"Base\")","v":16306.424272041237},{"$f":"SUMIFS(INDEX(output[#Data],0,MATCH(\"ishp_Market\",output[#Headers],0)),output[equipment_type],$C$546,output[year],F$547,output[equip_vintage],F$547,output[facility_type],$D$13,output[sensitivity],\"Base\")","v":14186.644688737661},{"$f":"SUMIFS(INDEX(output[#Data],0,MATCH(\"ishp_Market\",output[#Headers],0)),output[equipment_type],$C$546,output[year],G$547,output[equip_vintage],G$547,output[facility_type],$D$13,output[sensitivity],\"Base\")","v":14121.140657210146},{"$f":"SUMIFS(INDEX(output[#Data],0,MATCH(\"ishp_Market\",output[#Headers],0)),output[equipment_type],$C$546,output[year],H$547,output[equip_vintage],H$547,output[facility_type],$D$13,output[sensitivity],\"Base\")","v":13967.5691179928},{"$f":"SUMIFS(INDEX(output[#Data],0,MATCH(\"ishp_Market\",output[#Headers],0)),output[equipment_type],$C$546,output[year],I$547,output[equip_vintage],I$547,output[facility_type],$D$13,output[sensitivity],\"Base\")","v":13754.482732533937},{"$f":"SUMIFS(INDEX(output[#Data],0,MATCH(\"ishp_Market\",output[#Headers],0)),output[equipment_type],$C$546,output[year],J$547,output[equip_vintage],J$547,output[facility_type],$D$13,output[sensitivity],\"Base\")","v":13930.574248956396},{"$f":"SUMIFS(INDEX(output[#Data],0,MATCH(\"ishp_Market\",output[#Headers],0)),output[equipment_type],$C$546,output[year],K$547,output[equip_vintage],K$547,output[facility_type],$D$13,output[sensitivity],\"Base\")","v":12485.064742263008}]
[null,null,"In-Service ASD Controlled HP",{"$f":"SUMIFS(INDEX(output[#Data],0,MATCH(\"ishp_Market\",output[#Headers],0)),output[equipment_type],$C$546,output[year],D$547,output[sensitivity],\"Base\",output[facility_type],$D$13,output[control_strategy],\"ASD Control\")","v":49434.240387404076},{"$f":"SUMIFS(INDEX(output[#Data],0,MATCH(\"ishp_Market\",output[#Headers],0)),output[equipment_type],$C$546,output[year],E$547,output[sensitivity],\"Base\",output[facility_type],$D$13,output[control_strategy],\"ASD Control\")","v":53045.697453515255},{"$f":"SUMIFS(INDEX(output[#Data],0,MATCH(\"ishp_Market\",output[#Headers],0)),output[equipment_type],$C$546,output[year],F$547,output[sensitivity],\"Base\",output[facility_type],$D$13,output[control_strategy],\"ASD Control\")","v":51926.640499798697},{"$f":"SUMIFS(INDEX(output[#Data],0,MATCH(\"ishp_Market\",output[#Headers],0)),output[equipment_type],$C$546,output[year],G$547,output[sensitivity],\"Base\",output[facility_type],$D$13,output[control_strategy],\"ASD Control\")","v":53629.311662051208},{"$f":"SUMIFS(INDEX(output[#Data],0,MATCH(\"ishp_Market\",output[#Headers],0)),output[equipment_type],$C$546,output[year],H$547,output[sensitivity],\"Base\",output[facility_type],$D$13,output[control_strategy],\"ASD Control\")","v":58303.458035703334},{"$f":"SUMIFS(INDEX(output[#Data],0,MATCH(\"ishp_Market\",output[#Headers],0)),output[equipment_type],$C$546,output[year],I$547,output[sensitivity],\"Base\",output[facility_type],$D$13,output[control_strategy],\"ASD Control\")","v":61475.674651250207},{"$f":"SUMIFS(INDEX(output[#Data],0,MATCH(\"ishp_Market\",output[#Headers],0)),output[equipment_type],$C$546,output[year],J$547,output[sensitivity],\"Base\",output[facility_type],$D$13,output[control_strategy],\"ASD Control\")","v":66210.088299111492},{"$f":"SUMIFS(INDEX(output[#Data],0,MATCH(\"ishp_Market\",output[#Headers],0)),output[equipment_type],$C$546,output[year],K$547,output[sensitivity],\"Base\",output[facility_type],$D$13,output[control_strategy],\"ASD Control\")","v":63114.79274613702}]
[null,null,"Out-of-Service ASD Controlled HP",{"$f":"SUMIFS(INDEX(output[#Data],0,MATCH(\"ooshp_Market\",output[#Headers],0)),output[equipment_type],$C$546,output[year],D$547,output[sensitivity],\"Base\",output[facility_type],$D$13,output[control_strategy],\"ASD Control\")","v":19407.047455908203},{"$f":"SUMIFS(INDEX(output[#Data],0,MATCH(\"ooshp_Market\",output[#Headers],0)),output[equipment_type],$C$546,output[year],E$547,output[sensitivity],\"Base\",output[facility_type],$D$13,output[control_strategy],\"ASD Control\")","v":19457.742856717166},{"$f":"SUMIFS(INDEX(output[#Data],0,MATCH(\"ooshp_Market\",output[#Headers],0)),output[equipment_type],$C$546,output[year],F$547,output[sensitivity],\"Base\",output[facility_type],$D$13,output[control_strategy],\"ASD Control\")","v":22634.220869219702},{"$f":"SUMIFS(INDEX(output[#Data],0,MATCH(\"ooshp_Market\",output[#Headers],0)),output[equipment_type],$C$546,output[year],G$547,output[sensitivity],\"Base\",output[facility_type],$D$13,output[control_strategy],\"ASD Control\")","v":23346.996080839825},{"$f":"SUMIFS(INDEX(output[#Data],0,MATCH(\"ooshp_Market\",output[#Headers],0)),output[equipment_type],$C$546,output[year],H$547,output[sensitivity],\"Base\",output[facility_type],$D$13,output[control_strategy],\"ASD Control\")","v":22958.248898685652},{"$f":"SUMIFS(INDEX(output[#Data],0,MATCH(\"ooshp_Market\",output[#Headers],0)),output[equipment_type],$C$546,output[year],I$547,output[sensitivity],\"Base\",output[facility_type],$D$13,output[control_strategy],\"ASD Control\")","v":23996.961966330942},{"$f":"SUMIFS(INDEX(output[#Data],0,MATCH(\"ooshp_Market\",output[#Headers],0)),output[equipment_type],$C$546,output[year],J$547,output[sensitivity],\"Base\",output[facility_type],$D$13,output[control_strategy],\"ASD Control\")","v":23543.323995067458},{"$f":"SUMIFS(INDEX(output[#Data],0,MATCH(\"ooshp_Market\",output[#Headers],0)),output[equipment_type],$C$546,output[year],K$547,output[sensitivity],\"Base\",output[facility_type],$D$13,output[control_strategy],\"ASD Control\")","v":29791.706639208958}]
[null,null,"Total Fan ASD Sales","N/A",{"$f":"E549-D549+((D549+(D550-E550))/$D$525)-(D550-E550)","v":8600.5069655796542},7044.3430028872499,7536.8329026904912,9687.2050759184913,9937.4041799979677,10473.706938849171,9149.2576566640273]
[]
[null,null,{"$f":"\"Table for \"&H528","v":"Table for Figure 34: Total Sales of Fans and Estimated Sales of ASDs installed on Fans, by Year (In-Service Motors)"}]
[null,null,"Fans","Year"]
[null,null,null,2014,2015,2016,2017,2018,2019,2020,2021]
[null,null,"Total Fan Sales ","N/A",{"$f":"SUMIFS(INDEX(output[#Data],0,MATCH(\"num_motors_Market\",output[#Headers],0)),output[equipment_type],$C$554,output[year],E$555,output[equip_vintage],E$555,output[facility_type],$D$13,output[sensitivity],\"Base\")","v":322.81458763794285},{"$f":"SUMIFS(INDEX(output[#Data],0,MATCH(\"num_motors_Market\",output[#Headers],0)),output[equipment_type],$C$554,output[year],F$555,output[equip_vintage],F$555,output[facility_type],$D$13,output[sensitivity],\"Base\")","v":287.12556147496815},{"$f":"SUMIFS(INDEX(output[#Data],0,MATCH(\"num_motors_Market\",output[#Headers],0)),output[equipment_type],$C$554,output[year],G$555,output[equip_vintage],G$555,output[facility_type],$D$13,output[sensitivity],\"Base\")","v":291.22014032525772},{"$f":"SUMIFS(INDEX(output[#Data],0,MATCH(\"num_motors_Market\",output[#Headers],0)),output[equipment_type],$C$554,output[year],H$555,output[equip_vintage],H$555,output[facility_type],$D$13,output[sensitivity],\"Base\")","v":303.20046394723261},{"$f":"SUMIFS(INDEX(output[#Data],0,MATCH(\"num_motors_Market\",output[#Headers],0)),output[equipment_type],$C$554,output[year],I$555,output[equip_vintage],I$555,output[facility_type],$D$13,output[sensitivity],\"Base\")","v":309.23027243041662},{"$f":"SUMIFS(INDEX(output[#Data],0,MATCH(\"num_motors_Market\",output[#Headers],0)),output[equipment_type],$C$554,output[year],J$555,output[equip_vintage],J$555,output[facility_type],$D$13,output[sensitivity],\"Base\")","v":323.38037579039832},{"$f":"SUMIFS(INDEX(output[#Data],0,MATCH(\"num_motors_Market\",output[#Headers],0)),output[equipment_type],$C$554,output[year],K$555,output[equip_vintage],K$555,output[facility_type],$D$13,output[sensitivity],\"Base\")","v":299.27744759840397}]
[null,null,"In-Service ASD Controlled Motors",{"$f":"SUMIFS(INDEX(output[#Data],0,MATCH(\"num_motors_Market\",output[#Headers],0)),output[equipment_type],$C$546,output[year],D$547,output[sensitivity],\"Base\",output[facility_type],$D$13,output[control_strategy],\"ASD Control\")","v":3311.1045486632302},{"$f":"SUMIFS(INDEX(output[#Data],0,MATCH(\"num_motors_Market\",output[#Headers],0)),output[equipment_type],$C$546,output[year],E$547,output[sensitivity],\"Base\",output[facility_type],$D$13,output[control_strategy],\"ASD Control\")","v":3552.9998792112729},{"$f":"SUMIFS(INDEX(output[#Data],0,MATCH(\"num_motors_Market\",output[#Headers],0)),output[equipment_type],$C$546,output[year],F$547,output[sensitivity],\"Base\",output[facility_type],$D$13,output[control_strategy],\"ASD Control\")","v":3478.0454642020418},{"$f":"SUMIFS(INDEX(output[#Data],0,MATCH(\"num_motors_Market\",output[#Headers],0)),output[equipment_type],$C$546,output[year],G$547,output[sensitivity],\"Base\",output[facility_type],$D$13,output[control_strategy],\"ASD Control\")","v":3592.0903485985696},{"$f":"SUMIFS(INDEX(output[#Data],0,MATCH(\"num_motors_Market\",output[#Headers],0)),output[equipment_type],$C$546,output[year],H$547,output[sensitivity],\"Base\",output[facility_type],$D$13,output[control_strategy],\"ASD Control\")","v":3905.1645902098808},{"$f":"SUMIFS(INDEX(output[#Data],0,MATCH(\"num_motors_Market\",output[#Headers],0)),output[equipment_type],$C$546,output[year],I$547,output[sensitivity],\"Base\",output[facility_type],$D$13,output[control_strategy],\"ASD Control\")","v":4117.639603131458},{"$f":"SUMIFS(INDEX(output[#Data],0,MATCH(\"num_motors_Market\",output[#Headers],0)),output[equipment_type],$C$546,output[year],J$547,output[sensitivity],\"Base\",output[facility_type],$D$13,output[control_strategy],\"ASD Control\")","v":4434.7505457055959},{"$f":"SUMIFS(INDEX(output[#Data],0,MATCH(\"num_motors_Market\",output[#Headers],0)),output[equipment_type],$C$546,output[year],K$547,output[sensitivity],\"Base\",output[facility_type],$D$13,output[control_strategy],\"ASD Control\")","v":4227.4277041975183}]
[null,null,"Out-of-Service ASD Controlled Motors",{"$f":"SUMIFS(INDEX(output[#Data],0,MATCH(\"num_motors_ooshp_Market\",output[#Headers],0)),output[equipment_type],$C$546,output[year],D$547,output[sensitivity],\"Base\",output[facility_type],$D$13,output[control_strategy],\"ASD Control\")","v":1299.8836960738272},{"$f":"SUMIFS(INDEX(output[#Data],0,MATCH(\"num_motors_ooshp_Market\",output[#Headers],0)),output[equipment_type],$C$546,output[year],E$547,output[sensitivity],\"Base\",output[facility_type],$D$13,output[control_strategy],\"ASD Control\")","v":1303.279273125268},{"$f":"SUMIFS(INDEX(output[#Data],0,MATCH(\"num_motors_ooshp_Market\",output[#Headers],0)),output[equipment_type],$C$546,output[year],F$547,output[sensitivity],\"Base\",output[facility_type],$D$13,output[control_strategy],\"ASD Control\")","v":1516.0397143397304},{"$f":"SUMIFS(INDEX(output[#Data],0,MATCH(\"num_motors_ooshp_Market\",output[#Headers],0)),output[equipment_type],$C$546,output[year],G$547,output[sensitivity],\"Base\",output[facility_type],$D$13,output[control_strategy],\"ASD Control\")","v":1563.7813854339865},{"$f":"SUMIFS(INDEX(output[#Data],0,MATCH(\"num_motors_ooshp_Market\",output[#Headers],0)),output[equipment_type],$C$546,output[year],H$547,output[sensitivity],\"Base\",output[facility_type],$D$13,output[control_strategy],\"ASD Control\")","v":1537.7431060344575},{"$f":"SUMIFS(INDEX(output[#Data],0,MATCH(\"num_motors_ooshp_Market\",output[#Headers],0)),output[equipment_type],$C$546,output[year],I$547,output[sensitivity],\"Base\",output[facility_type],$D$13,output[control_strategy],\"ASD Control\")","v":1607.3160889726676},{"$f":"SUMIFS(INDEX(output[#Data],0,MATCH(\"num_motors_ooshp_Market\",output[#Headers],0)),output[equipment_type],$C$546,output[year],J$547,output[sensitivity],\"Base\",output[facility_type],$D$13,output[control_strategy],\"ASD Control\")","v":1576.9314256638809},{"$f":"SUMIFS(INDEX(output[#Data],0,MATCH(\"num_motors_ooshp_Market\",output[#Headers],0)),output[equipment_type],$C$546,output[year],K$547,output[sensitivity],\"Base\",output[facility_type],$D$13,output[control_strategy],\"ASD Control\")","v":1995.4479848882165}]
[null,null,"Total Fan ASD Sales","N/A",{"$f":"E557-D557+((D557+(D558-E558))/$D$525)-(D558-E558)","v":576.06180476066243},471.82997000491235,504.81693480156252,648.848825011592,665.60715658695437,701.52870590937573,612.81711636438411]
[]
[]
[null,null,"Figure 35: Total Sales of Pumps and Estimated Sales of ASDs installed on Pumps, by Year (In-Service Motor HP)",null,null,null,null,"Figure 36: Total Sales of Pumps and Estimated Sales of ASDs installed on Pumps, by Year (In-Service Motors)"]
[]
[]
[]
[]
[]
[]
[]
[]
[]
[]
[]
[]
[]
[]
[]
[]
[]
[]
[null,null,{"$f":"\"Table for \"&C562","v":"Table for Figure 35: Total Sales of Pumps and Estimated Sales of ASDs installed on Pumps, by Year (In-Service Motor HP)"}]
[null,null,"Pumps","Year"]
[null,null,null,2014,2015,2016,2017,2018,2019,2020,2021]
[null,null,"Total Pump Sales ","N/A",{"$f":"SUMIFS(INDEX(output[#Data],0,MATCH(\"ishp_Market\",output[#Headers],0)),output[equipment_type],$C$582,output[year],E$583,output[equip_vintage],E$583,output[facility_type],$D$13,output[sensitivity],\"Base\")","v":5776.167112073641},{"$f":"SUMIFS(INDEX(output[#Data],0,MATCH(\"ishp_Market\",output[#Headers],0)),output[equipment_type],$C$582,output[year],F$583,output[equip_vintage],F$583,output[facility_type],$D$13,output[sensitivity],\"Base\")","v":5193.4253375111039},{"$f":"SUMIFS(INDEX(output[#Data],0,MATCH(\"ishp_Market\",output[#Headers],0)),output[equipment_type],$C$582,output[year],G$583,output[equip_vintage],G$583,output[facility_type],$D$13,output[sensitivity],\"Base\")","v":5143.79815694839},{"$f":"SUMIFS(INDEX(output[#Data],0,MATCH(\"ishp_Market\",output[#Headers],0)),output[equipment_type],$C$582,output[year],H$583,output[equip_vintage],H$583,output[facility_type],$D$13,output[sensitivity],\"Base\")","v":5156.3091935172361},{"$f":"SUMIFS(INDEX(output[#Data],0,MATCH(\"ishp_Market\",output[#Headers],0)),output[equipment_type],$C$582,output[year],I$583,output[equip_vintage],I$583,output[facility_type],$D$13,output[sensitivity],\"Base\")","v":5054.3905898040812},{"$f":"SUMIFS(INDEX(output[#Data],0,MATCH(\"ishp_Market\",output[#Headers],0)),output[equipment_type],$C$582,output[year],J$583,output[equip_vintage],J$583,output[facility_type],$D$13,output[sensitivity],\"Base\")","v":5135.9997210608644},{"$f":"SUMIFS(INDEX(output[#Data],0,MATCH(\"ishp_Market\",output[#Headers],0)),output[equipment_type],$C$582,output[year],K$583,output[equip_vintage],K$583,output[facility_type],$D$13,output[sensitivity],\"Base\")","v":4587.4960956092282}]
[null,null,"In-Service ASD Controlled HP",{"$f":"SUMIFS(INDEX(output[#Data],0,MATCH(\"ishp_Market\",output[#Headers],0)),output[equipment_type],$C$582,output[year],D$583,output[sensitivity],\"Base\",output[facility_type],$D$13,output[control_strategy],\"ASD Control\")","v":11894.705331014437},{"$f":"SUMIFS(INDEX(output[#Data],0,MATCH(\"ishp_Market\",output[#Headers],0)),output[equipment_type],$C$582,output[year],E$583,output[sensitivity],\"Base\",output[facility_type],$D$13,output[control_strategy],\"ASD Control\")","v":13533.212893313867},{"$f":"SUMIFS(INDEX(output[#Data],0,MATCH(\"ishp_Market\",output[#Headers],0)),output[equipment_type],$C$582,output[year],F$583,output[sensitivity],\"Base\",output[facility_type],$D$13,output[control_strategy],\"ASD Control\")","v":14490.337464746915},{"$f":"SUMIFS(INDEX(output[#Data],0,MATCH(\"ishp_Market\",output[#Headers],0)),output[equipment_type],$C$582,output[year],G$583,output[sensitivity],\"Base\",output[facility_type],$D$13,output[control_strategy],\"ASD Control\")","v":15603.481419031443},{"$f":"SUMIFS(INDEX(output[#Data],0,MATCH(\"ishp_Market\",output[#Headers],0)),output[equipment_type],$C$582,output[year],H$583,output[sensitivity],\"Base\",output[facility_type],$D$13,output[control_strategy],\"ASD Control\")","v":16683.541773246026},{"$f":"SUMIFS(INDEX(output[#Data],0,MATCH(\"ishp_Market\",output[#Headers],0)),output[equipment_type],$C$582,output[year],I$583,output[sensitivity],\"Base\",output[facility_type],$D$13,output[control_strategy],\"ASD Control\")","v":17577.557738820989},{"$f":"SUMIFS(INDEX(output[#Data],0,MATCH(\"ishp_Market\",output[#Headers],0)),output[equipment_type],$C$582,output[year],J$583,output[sensitivity],\"Base\",output[facility_type],$D$13,output[control_strategy],\"ASD Control\")","v":18133.645772130796},{"$f":"SUMIFS(INDEX(output[#Data],0,MATCH(\"ishp_Market\",output[#Headers],0)),output[equipment_type],$C$582,output[year],K$583,output[sensitivity],\"Base\",output[facility_type],$D$13,output[control_strategy],\"ASD Control\")","v":17553.080403820055}]
[null,null,"Out-of-Service ASD Controlled HP",{"$f":"SUMIFS(INDEX(output[#Data],0,MATCH(\"ooshp_Market\",output[#Headers],0)),output[equipment_type],$C$582,output[year],D$583,output[sensitivity],\"Base\",output[facility_type],$D$13,output[control_strategy],\"ASD Control\")","v":4669.6603209434452},{"$f":"SUMIFS(INDEX(output[#Data],0,MATCH(\"ooshp_Market\",output[#Headers],0)),output[equipment_type],$C$582,output[year],E$583,output[sensitivity],\"Base\",output[facility_type],$D$13,output[control_strategy],\"ASD Control\")","v":4790.7777289659534},{"$f":"SUMIFS(INDEX(output[#Data],0,MATCH(\"ooshp_Market\",output[#Headers],0)),output[equipment_type],$C$582,output[year],F$583,output[sensitivity],\"Base\",output[facility_type],$D$13,output[control_strategy],\"ASD Control\")","v":5769.2410743960518},{"$f":"SUMIFS(INDEX(output[#Data],0,MATCH(\"ooshp_Market\",output[#Headers],0)),output[equipment_type],$C$582,output[year],G$583,output[sensitivity],\"Base\",output[facility_type],$D$13,output[control_strategy],\"ASD Control\")","v":6075.1120274048471},{"$f":"SUMIFS(INDEX(output[#Data],0,MATCH(\"ooshp_Market\",output[#Headers],0)),output[equipment_type],$C$582,output[year],H$583,output[sensitivity],\"Base\",output[facility_type],$D$13,output[control_strategy],\"ASD Control\")","v":5999.8475561971236},{"$f":"SUMIFS(INDEX(output[#Data],0,MATCH(\"ooshp_Market\",output[#Headers],0)),output[equipment_type],$C$582,output[year],I$583,output[sensitivity],\"Base\",output[facility_type],$D$13,output[control_strategy],\"ASD Control\")","v":6363.0372846946311},{"$f":"SUMIFS(INDEX(output[#Data],0,MATCH(\"ooshp_Market\",output[#Headers],0)),output[equipment_type],$C$582,output[year],J$583,output[sensitivity],\"Base\",output[facility_type],$D$13,output[control_strategy],\"ASD Control\")","v":6210.1494934126249},{"$f":"SUMIFS(INDEX(output[#Data],0,MATCH(\"ooshp_Market\",output[#Headers],0)),output[equipment_type],$C$582,output[year],K$583,output[sensitivity],\"Base\",output[facility_type],$D$13,output[control_strategy],\"ASD Control\")","v":8012.4522840071686}]
[null,null,"Total Pump ASD Sales","N/A",{"$f":"E585-D585+((D585+(D586-E586))/$D$525)-(D586-E586)","v":2936.9837626211311},3191.0628716515239,2837.4615584671346,2572.6704720307766,2889.2408985473226,2176.2447950381002,2854.8717204374279]
[]
[null,null,{"$f":"\"Table for \"&H562","v":"Table for Figure 36: Total Sales of Pumps and Estimated Sales of ASDs installed on Pumps, by Year (In-Service Motors)"}]
[null,null,"Pumps","Year"]
[null,null,null,2014,2015,2016,2017,2018,2019,2020,2021]
[null,null,"Total Pump Sales ","N/A",{"$f":"SUMIFS(INDEX(output[#Data],0,MATCH(\"num_motors_Market\",output[#Headers],0)),output[equipment_type],$C$590,output[year],E$591,output[equip_vintage],E$591,output[facility_type],$D$13,output[sensitivity],\"Base\")","v":293.80707412998686},{"$f":"SUMIFS(INDEX(output[#Data],0,MATCH(\"num_motors_Market\",output[#Headers],0)),output[equipment_type],$C$590,output[year],F$591,output[equip_vintage],F$591,output[facility_type],$D$13,output[sensitivity],\"Base\")","v":264.21898777652217},{"$f":"SUMIFS(INDEX(output[#Data],0,MATCH(\"num_motors_Market\",output[#Headers],0)),output[equipment_type],$C$590,output[year],G$591,output[equip_vintage],G$591,output[facility_type],$D$13,output[sensitivity],\"Base\")","v":261.7074237853829},{"$f":"SUMIFS(INDEX(output[#Data],0,MATCH(\"num_motors_Market\",output[#Headers],0)),output[equipment_type],$C$590,output[year],H$591,output[equip_vintage],H$591,output[facility_type],$D$13,output[sensitivity],\"Base\")","v":262.35379150902821},{"$f":"SUMIFS(INDEX(output[#Data],0,MATCH(\"num_motors_Market\",output[#Headers],0)),output[equipment_type],$C$590,output[year],I$591,output[equip_vintage],I$591,output[facility_type],$D$13,output[sensitivity],\"Base\")","v":257.20007406313812},{"$f":"SUMIFS(INDEX(output[#Data],0,MATCH(\"num_motors_Market\",output[#Headers],0)),output[equipment_type],$C$590,output[year],J$591,output[equip_vintage],J$591,output[facility_type],$D$13,output[sensitivity],\"Base\")","v":261.34177292806925},{"$f":"SUMIFS(INDEX(output[#Data],0,MATCH(\"num_motors_Market\",output[#Headers],0)),output[equipment_type],$C$590,output[year],K$591,output[equip_vintage],K$591,output[facility_type],$D$13,output[sensitivity],\"Base\")","v":233.48126369546344}]
[null,null,"In-Service ASD Controlled Motors",{"$f":"SUMIFS(INDEX(output[#Data],0,MATCH(\"num_motors_Market\",output[#Headers],0)),output[equipment_type],$C$590,output[year],D$591,output[sensitivity],\"Base\",output[facility_type],$D$13,output[control_strategy],\"ASD Control\")","v":607.41856478598629},{"$f":"SUMIFS(INDEX(output[#Data],0,MATCH(\"num_motors_Market\",output[#Headers],0)),output[equipment_type],$C$590,output[year],E$591,output[sensitivity],\"Base\",output[facility_type],$D$13,output[control_strategy],\"ASD Control\")","v":691.09107992495694},{"$f":"SUMIFS(INDEX(output[#Data],0,MATCH(\"num_motors_Market\",output[#Headers],0)),output[equipment_type],$C$590,output[year],F$591,output[sensitivity],\"Base\",output[facility_type],$D$13,output[control_strategy],\"ASD Control\")","v":739.96788833023788},{"$f":"SUMIFS(INDEX(output[#Data],0,MATCH(\"num_motors_Market\",output[#Headers],0)),output[equipment_type],$C$590,output[year],G$591,output[sensitivity],\"Base\",output[facility_type],$D$13,output[control_strategy],\"ASD Control\")","v":796.81202900421579},{"$f":"SUMIFS(INDEX(output[#Data],0,MATCH(\"num_motors_Market\",output[#Headers],0)),output[equipment_type],$C$590,output[year],H$591,output[sensitivity],\"Base\",output[facility_type],$D$13,output[control_strategy],\"ASD Control\")","v":851.96671270442255},{"$f":"SUMIFS(INDEX(output[#Data],0,MATCH(\"num_motors_Market\",output[#Headers],0)),output[equipment_type],$C$590,output[year],I$591,output[sensitivity],\"Base\",output[facility_type],$D$13,output[control_strategy],\"ASD Control\")","v":897.62079824863304},{"$f":"SUMIFS(INDEX(output[#Data],0,MATCH(\"num_motors_Market\",output[#Headers],0)),output[equipment_type],$C$590,output[year],J$591,output[sensitivity],\"Base\",output[facility_type],$D$13,output[control_strategy],\"ASD Control\")","v":926.01815536574998},{"$f":"SUMIFS(INDEX(output[#Data],0,MATCH(\"num_motors_Market\",output[#Headers],0)),output[equipment_type],$C$590,output[year],K$591,output[sensitivity],\"Base\",output[facility_type],$D$13,output[control_strategy],\"ASD Control\")","v":896.37083136990032}]
[null,null,"Out-of-Service ASD Controlled Motors",{"$f":"SUMIFS(INDEX(output[#Data],0,MATCH(\"num_motors_ooshp_Market\",output[#Headers],0)),output[equipment_type],$C$590,output[year],D$591,output[sensitivity],\"Base\",output[facility_type],$D$13,output[control_strategy],\"ASD Control\")","v":238.46226461699433},{"$f":"SUMIFS(INDEX(output[#Data],0,MATCH(\"num_motors_ooshp_Market\",output[#Headers],0)),output[equipment_type],$C$590,output[year],E$591,output[sensitivity],\"Base\",output[facility_type],$D$13,output[control_strategy],\"ASD Control\")","v":244.64728224494684},{"$f":"SUMIFS(INDEX(output[#Data],0,MATCH(\"num_motors_ooshp_Market\",output[#Headers],0)),output[equipment_type],$C$590,output[year],F$591,output[sensitivity],\"Base\",output[facility_type],$D$13,output[control_strategy],\"ASD Control\")","v":294.61378283804407},{"$f":"SUMIFS(INDEX(output[#Data],0,MATCH(\"num_motors_ooshp_Market\",output[#Headers],0)),output[equipment_type],$C$590,output[year],G$591,output[sensitivity],\"Base\",output[facility_type],$D$13,output[control_strategy],\"ASD Control\")","v":310.23348001556735},{"$f":"SUMIFS(INDEX(output[#Data],0,MATCH(\"num_motors_ooshp_Market\",output[#Headers],0)),output[equipment_type],$C$590,output[year],H$591,output[sensitivity],\"Base\",output[facility_type],$D$13,output[control_strategy],\"ASD Control\")","v":306.39000211442357},{"$f":"SUMIFS(INDEX(output[#Data],0,MATCH(\"num_motors_ooshp_Market\",output[#Headers],0)),output[equipment_type],$C$590,output[year],I$591,output[sensitivity],\"Base\",output[facility_type],$D$13,output[control_strategy],\"ASD Control\")","v":324.93675695111114},{"$f":"SUMIFS(INDEX(output[#Data],0,MATCH(\"num_motors_ooshp_Market\",output[#Headers],0)),output[equipment_type],$C$590,output[year],J$591,output[sensitivity],\"Base\",output[facility_type],$D$13,output[control_strategy],\"ASD Control\")","v":317.12934347011753},{"$f":"SUMIFS(INDEX(output[#Data],0,MATCH(\"num_motors_ooshp_Market\",output[#Headers],0)),output[equipment_type],$C$590,output[year],K$591,output[sensitivity],\"Base\",output[facility_type],$D$13,output[control_strategy],\"ASD Control\")","v":409.16627451692835}]
[null,null,"Total Pump ASD Sales","N/A",{"$f":"E593-D593+((D593+(D594-E594))/$D$525)-(D594-E594)","v":149.98088748272653},162.95576693156414,144.89865696677265,131.37675648959893,147.54283616767157,111.132764809086,145.78772948285507]
[]
[null,null,"Energy Consumption and Momentum Savings"]
[]
[null,null,{"$f":"\"This section presents the energy consumption of pumps and fans in the \"&D13&\" industry and the Momentum Savings associated with the installation of ASDs on these systems.\"","v":"This section presents the energy consumption of pumps and fans in the Wood Products industry and the Momentum Savings associated with the installation of ASDs on these systems."}]
[null,null,"Energy Consumption"]
[]
[null,null,"Figure 37: Fan Energy Consumption by Model Scenario, by Year (aMW at busbar)"]
[]
[]
[]
[]
[]
[]
[]
[]
[]
[]
[]
[]
[]
[]
[]
[]
[null,null,{"$f":"\"Table for \"&C602","v":"Table for Figure 37: Fan Energy Consumption by Model Scenario, by Year (aMW at busbar)"}]
[null,null,"Fans","Year"]
[null,null,null,2015,2016,2017,2018,2019,2020,2021]
[null,null,"Baseline Consumption",{"$f":"SUMIFS(INDEX(output[#Data],0,MATCH(\"consump_busbar_Baseline\",output[#Headers],0)),output[equipment_type],$C$620,output[year],D$621,output[facility_type],$D$13,output[sensitivity],\"Base\")/8760000","v":151.85203977999697},{"$f":"SUMIFS(INDEX(output[#Data],0,MATCH(\"consump_busbar_Baseline\",output[#Headers],0)),output[equipment_type],$C$620,output[year],E$621,output[facility_type],$D$13,output[sensitivity],\"Base\")/8760000","v":140.62212382790665},{"$f":"SUMIFS(INDEX(output[#Data],0,MATCH(\"consump_busbar_Baseline\",output[#Headers],0)),output[equipment_type],$C$620,output[year],F$621,output[facility_type],$D$13,output[sensitivity],\"Base\")/8760000","v":138.46770787647816},{"$f":"SUMIFS(INDEX(output[#Data],0,MATCH(\"consump_busbar_Baseline\",output[#Headers],0)),output[equipment_type],$C$620,output[year],G$621,output[facility_type],$D$13,output[sensitivity],\"Base\")/8760000","v":139.38720641400008},{"$f":"SUMIFS(INDEX(output[#Data],0,MATCH(\"consump_busbar_Baseline\",output[#Headers],0)),output[equipment_type],$C$620,output[year],H$621,output[facility_type],$D$13,output[sensitivity],\"Base\")/8760000","v":136.75119093770658},{"$f":"SUMIFS(INDEX(output[#Data],0,MATCH(\"consump_busbar_Baseline\",output[#Headers],0)),output[equipment_type],$C$620,output[year],I$621,output[facility_type],$D$13,output[sensitivity],\"Base\")/8760000","v":137.62709834647887},{"$f":"SUMIFS(INDEX(output[#Data],0,MATCH(\"consump_busbar_Baseline\",output[#Headers],0)),output[equipment_type],$C$620,output[year],J$621,output[facility_type],$D$13,output[sensitivity],\"Base\")/8760000","v":123.05161782237329}]
[null,null,"Market Consumption",{"$f":"SUMIFS(INDEX(output[#Data],0,MATCH(\"consump_busbar_Market\",output[#Headers],0)),output[equipment_type],$C$620,output[year],D$621,output[facility_type],$D$13,output[sensitivity],\"Base\")/8760000","v":151.85203977999697},{"$f":"SUMIFS(INDEX(output[#Data],0,MATCH(\"consump_busbar_Market\",output[#Headers],0)),output[equipment_type],$C$620,output[year],E$621,output[facility_type],$D$13,output[sensitivity],\"Base\")/8760000","v":140.36931509349733},{"$f":"SUMIFS(INDEX(output[#Data],0,MATCH(\"consump_busbar_Market\",output[#Headers],0)),output[equipment_type],$C$620,output[year],F$621,output[facility_type],$D$13,output[sensitivity],\"Base\")/8760000","v":137.99371023300586},{"$f":"SUMIFS(INDEX(output[#Data],0,MATCH(\"consump_busbar_Market\",output[#Headers],0)),output[equipment_type],$C$620,output[year],G$621,output[facility_type],$D$13,output[sensitivity],\"Base\")/8760000","v":138.52027500063284},{"$f":"SUMIFS(INDEX(output[#Data],0,MATCH(\"consump_busbar_Market\",output[#Headers],0)),output[equipment_type],$C$620,output[year],H$621,output[facility_type],$D$13,output[sensitivity],\"Base\")/8760000","v":135.51492233675813},{"$f":"SUMIFS(INDEX(output[#Data],0,MATCH(\"consump_busbar_Market\",output[#Headers],0)),output[equipment_type],$C$620,output[year],I$621,output[facility_type],$D$13,output[sensitivity],\"Base\")/8760000","v":135.99132075032247},{"$f":"SUMIFS(INDEX(output[#Data],0,MATCH(\"consump_busbar_Market\",output[#Headers],0)),output[equipment_type],$C$620,output[year],J$621,output[facility_type],$D$13,output[sensitivity],\"Base\")/8760000","v":121.235889360157}]
[null,null,"% Change in Energy Consumption from Baseline",{"$f":"1-D623/D622","v":0},1.7977877700005029E-3,3.4231637884490906E-3,6.2195909916749059E-3,9.040276669411984E-3,1.1885577882622345E-2,{"$f":"1-J623/J622","v":1.4755827630298368E-2}]
[]
[null,null,"Figure 38: Pump Energy Consumption by Model Scenario, by Year (aMW at busbar)"]
[]
[]
[]
[]
[]
[]
[]
[]
[]
[]
[]
[]
[]
[]
[]
[]
[null,null,{"$f":"\"Table for \"&C626","v":"Table for Figure 38: Pump Energy Consumption by Model Scenario, by Year (aMW at busbar)"}]
[null,null,"Pumps","Year"]
[null,null,null,2015,2016,2017,2018,2019,2020,2021]
[null,null,"Baseline Consumption",{"$f":"SUMIFS(INDEX(output[#Data],0,MATCH(\"consump_busbar_Baseline\",output[#Headers],0)),output[equipment_type],$C$644,output[year],D$645,output[facility_type],$D$13,output[sensitivity],\"Base\")/8760000","v":31.260294663244451},{"$f":"SUMIFS(INDEX(output[#Data],0,MATCH(\"consump_busbar_Baseline\",output[#Headers],0)),output[equipment_type],$C$644,output[year],E$645,output[facility_type],$D$13,output[sensitivity],\"Base\")/8760000","v":28.823177076820308},{"$f":"SUMIFS(INDEX(output[#Data],0,MATCH(\"consump_busbar_Baseline\",output[#Headers],0)),output[equipment_type],$C$644,output[year],F$645,output[facility_type],$D$13,output[sensitivity],\"Base\")/8760000","v":28.312078295510997},{"$f":"SUMIFS(INDEX(output[#Data],0,MATCH(\"consump_busbar_Baseline\",output[#Headers],0)),output[equipment_type],$C$644,output[year],G$645,output[facility_type],$D$13,output[sensitivity],\"Base\")/8760000","v":28.523308127862901},{"$f":"SUMIFS(INDEX(output[#Data],0,MATCH(\"consump_busbar_Baseline\",output[#Headers],0)),output[equipment_type],$C$644,output[year],H$645,output[facility_type],$D$13,output[sensitivity],\"Base\")/8760000","v":27.983110947747527},{"$f":"SUMIFS(INDEX(output[#Data],0,MATCH(\"consump_busbar_Baseline\",output[#Headers],0)),output[equipment_type],$C$644,output[year],I$645,output[facility_type],$D$13,output[sensitivity],\"Base\")/8760000","v":28.194944292332135},{"$f":"SUMIFS(INDEX(output[#Data],0,MATCH(\"consump_busbar_Baseline\",output[#Headers],0)),output[equipment_type],$C$644,output[year],J$645,output[facility_type],$D$13,output[sensitivity],\"Base\")/8760000","v":25.147704538900744}]
[null,null,"Market Consumption",{"$f":"SUMIFS(INDEX(output[#Data],0,MATCH(\"consump_busbar_Market\",output[#Headers],0)),output[equipment_type],$C$644,output[year],D$645,output[facility_type],$D$13,output[sensitivity],\"Base\")/8760000","v":31.260294663244451},{"$f":"SUMIFS(INDEX(output[#Data],0,MATCH(\"consump_busbar_Market\",output[#Headers],0)),output[equipment_type],$C$644,output[year],E$645,output[facility_type],$D$13,output[sensitivity],\"Base\")/8760000","v":28.689985791407349},{"$f":"SUMIFS(INDEX(output[#Data],0,MATCH(\"consump_busbar_Market\",output[#Headers],0)),output[equipment_type],$C$644,output[year],F$645,output[facility_type],$D$13,output[sensitivity],\"Base\")/8760000","v":28.090793476920137},{"$f":"SUMIFS(INDEX(output[#Data],0,MATCH(\"consump_busbar_Market\",output[#Headers],0)),output[equipment_type],$C$644,output[year],G$645,output[facility_type],$D$13,output[sensitivity],\"Base\")/8760000","v":28.236921462239302},{"$f":"SUMIFS(INDEX(output[#Data],0,MATCH(\"consump_busbar_Market\",output[#Headers],0)),output[equipment_type],$C$644,output[year],H$645,output[facility_type],$D$13,output[sensitivity],\"Base\")/8760000","v":27.622367888406618},{"$f":"SUMIFS(INDEX(output[#Data],0,MATCH(\"consump_busbar_Market\",output[#Headers],0)),output[equipment_type],$C$644,output[year],I$645,output[facility_type],$D$13,output[sensitivity],\"Base\")/8760000","v":27.805821398415667},{"$f":"SUMIFS(INDEX(output[#Data],0,MATCH(\"consump_busbar_Market\",output[#Headers],0)),output[equipment_type],$C$644,output[year],J$645,output[facility_type],$D$13,output[sensitivity],\"Base\")/8760000","v":24.711807994248389}]
[null,null,"% Change in Energy Consumption from Baseline",{"$f":"1-D647/D646","v":0},4.6209786332011005E-3,7.8159157473771668E-3,1.0040443567758683E-2,1.2891456565158887E-2,1.3801158458833784E-2,1.7333452601133836E-2]
[]
[]
[null,null,"Momentum Savings"]
[]
[null,null,"Table A: ASD Momentum Savings by Year, Fans (aMW at busbar)"]
[null,null,"Fans","Year"]
[null,null,null,2016,2017,2018,2019,2020,2021]
[null,null,"Regional Momentum Savings",{"$f":"(SUMIFS(INDEX(output[#Data],0,MATCH(\"consump_busbar_Program\",output[#Headers],0)),output[equipment_type],$C$654,output[year],D$655,output[facility_type],$D$13,output[sensitivity],\"Base\")-SUMIFS(INDEX(output[#Data],0,MATCH(\"consump_busbar_Market\",output[#Headers],0)),output[equipment_type],$C$654,output[year],D$655,output[facility_type],$D$13,output[sensitivity],\"Base\"))/8760000","v":7.3201186472994006E-2},{"$f":"(SUMIFS(INDEX(output[#Data],0,MATCH(\"consump_busbar_Program\",output[#Headers],0)),output[equipment_type],$C$654,output[year],E$655,output[facility_type],$D$13,output[sensitivity],\"Base\")-SUMIFS(INDEX(output[#Data],0,MATCH(\"consump_busbar_Market\",output[#Headers],0)),output[equipment_type],$C$654,output[year],E$655,output[facility_type],$D$13,output[sensitivity],\"Base\"))/8760000-SUM($D$656:D656)","v":2.204855194146231E-2},{"$f":"(SUMIFS(INDEX(output[#Data],0,MATCH(\"consump_busbar_Program\",output[#Headers],0)),output[equipment_type],$C$654,output[year],F$655,output[facility_type],$D$13,output[sensitivity],\"Base\")-SUMIFS(INDEX(output[#Data],0,MATCH(\"consump_busbar_Market\",output[#Headers],0)),output[equipment_type],$C$654,output[year],F$655,output[facility_type],$D$13,output[sensitivity],\"Base\"))/8760000-SUM($D$656:E656)","v":0.17344254117303243},{"$f":"(SUMIFS(INDEX(output[#Data],0,MATCH(\"consump_busbar_Program\",output[#Headers],0)),output[equipment_type],$C$654,output[year],G$655,output[facility_type],$D$13,output[sensitivity],\"Base\")-SUMIFS(INDEX(output[#Data],0,MATCH(\"consump_busbar_Market\",output[#Headers],0)),output[equipment_type],$C$654,output[year],G$655,output[facility_type],$D$13,output[sensitivity],\"Base\"))/8760000-SUM($D$656:F656)","v":1.3780570825077054E-2},{"$f":"(SUMIFS(INDEX(output[#Data],0,MATCH(\"consump_busbar_Program\",output[#Headers],0)),output[equipment_type],$C$654,output[year],H$655,output[facility_type],$D$13,output[sensitivity],\"Base\")-SUMIFS(INDEX(output[#Data],0,MATCH(\"consump_busbar_Market\",output[#Headers],0)),output[equipment_type],$C$654,output[year],H$655,output[facility_type],$D$13,output[sensitivity],\"Base\"))/8760000-SUM($D$656:G656)","v":0.26798826716346286},{"$f":"(SUMIFS(INDEX(output[#Data],0,MATCH(\"consump_busbar_Program\",output[#Headers],0)),output[equipment_type],$C$654,output[year],I$655,output[facility_type],$D$13,output[sensitivity],\"Base\")-SUMIFS(INDEX(output[#Data],0,MATCH(\"consump_busbar_Market\",output[#Headers],0)),output[equipment_type],$C$654,output[year],I$655,output[facility_type],$D$13,output[sensitivity],\"Base\"))/8760000-SUM($D$656:H656)","v":4.8496778032224408E-2}]
[null,null,"BPA Share of Momentum Savings",{"$f":"D656*0.42","v":3.0744498318657481E-2},9.26039181541417E-3,7.2845867292673616E-2,5.7878397465323623E-3,0.11255507220865439,2.0368646773534251E-2]
[]
[null,null,"Table B: ASD Momentum Savings from 2016-2021, Fans (aMW at busbar)"]
[null,null,"Regional Momentum Savings (aMW at busbar)",null,null,{"$f":"SUM(D656:I656)","v":0.59895789560825308}]
[null,null,"BPA Share of Momentum Savings (aMW at busbar)",null,null,{"$f":"SUM(D657:I657)","v":0.25156231615546626}]
[]
[null,null,"Table C: ASD Total Market Savings and Adjusted Program Savings by Year, Fans (aMW at busbar)*"]
[null,null,"Fans","Year"]
[null,null,null,2016,2017,2018,2019,2020,2021]
[null,null,"Total Market Savings",{"$f":"(SUMIFS(INDEX(output[#Data],0,MATCH(\"consump_busbar_Baseline\",output[#Headers],0)),output[equipment_type],$C$664,output[year],D$665,output[facility_type],$D$13,output[sensitivity],\"Base\")-SUMIFS(INDEX(output[#Data],0,MATCH(\"consump_busbar_Market\",output[#Headers],0)),output[equipment_type],$C$664,output[year],D$665,output[facility_type],$D$13,output[sensitivity],\"Base\"))/8760000","v":0.25280873440931378},{"$f":"(SUMIFS(INDEX(output[#Data],0,MATCH(\"consump_busbar_Baseline\",output[#Headers],0)),output[equipment_type],$C$664,output[year],E$665,output[facility_type],$D$13,output[sensitivity],\"Base\")-SUMIFS(INDEX(output[#Data],0,MATCH(\"consump_busbar_Market\",output[#Headers],0)),output[equipment_type],$C$664,output[year],E$665,output[facility_type],$D$13,output[sensitivity],\"Base\"))/8760000-SUM($D$666:D666)","v":0.2211889090629745},{"$f":"(SUMIFS(INDEX(output[#Data],0,MATCH(\"consump_busbar_Baseline\",output[#Headers],0)),output[equipment_type],$C$664,output[year],F$665,output[facility_type],$D$13,output[sensitivity],\"Base\")-SUMIFS(INDEX(output[#Data],0,MATCH(\"consump_busbar_Market\",output[#Headers],0)),output[equipment_type],$C$664,output[year],F$665,output[facility_type],$D$13,output[sensitivity],\"Base\"))/8760000-SUM($D$666:E666)","v":0.3929337698949526},{"$f":"(SUMIFS(INDEX(output[#Data],0,MATCH(\"consump_busbar_Baseline\",output[#Headers],0)),output[equipment_type],$C$664,output[year],G$665,output[facility_type],$D$13,output[sensitivity],\"Base\")-SUMIFS(INDEX(output[#Data],0,MATCH(\"consump_busbar_Market\",output[#Headers],0)),output[equipment_type],$C$664,output[year],G$665,output[facility_type],$D$13,output[sensitivity],\"Base\"))/8760000-SUM($D$666:F666)","v":0.36933718758119294},{"$f":"(SUMIFS(INDEX(output[#Data],0,MATCH(\"consump_busbar_Baseline\",output[#Headers],0)),output[equipment_type],$C$664,output[year],H$665,output[facility_type],$D$13,output[sensitivity],\"Base\")-SUMIFS(INDEX(output[#Data],0,MATCH(\"consump_busbar_Market\",output[#Headers],0)),output[equipment_type],$C$664,output[year],H$665,output[facility_type],$D$13,output[sensitivity],\"Base\"))/8760000-SUM($D$666:G666)","v":0.39950899520796734},{"$f":"(SUMIFS(INDEX(output[#Data],0,MATCH(\"consump_busbar_Baseline\",output[#Headers],0)),output[equipment_type],$C$664,output[year],I$665,output[facility_type],$D$13,output[sensitivity],\"Base\")-SUMIFS(INDEX(output[#Data],0,MATCH(\"consump_busbar_Market\",output[#Headers],0)),output[equipment_type],$C$664,output[year],I$665,output[facility_type],$D$13,output[sensitivity],\"Base\"))/8760000-SUM($D$666:H666)","v":0.17995086605988408}]
[null,null,"Adjusted Program Savings",{"$f":"(SUMIFS(INDEX(output[#Data],0,MATCH(\"consump_busbar_Baseline\",output[#Headers],0)),output[equipment_type],$C$664,output[year],D$665,output[facility_type],$D$13,output[sensitivity],\"Base\")-SUMIFS(INDEX(output[#Data],0,MATCH(\"consump_busbar_Program\",output[#Headers],0)),output[equipment_type],$C$664,output[year],D$665,output[facility_type],$D$13,output[sensitivity],\"Base\"))/8760000","v":0.17960754793631975},{"$f":"(SUMIFS(INDEX(output[#Data],0,MATCH(\"consump_busbar_Baseline\",output[#Headers],0)),output[equipment_type],$C$664,output[year],E$665,output[facility_type],$D$13,output[sensitivity],\"Base\")-SUMIFS(INDEX(output[#Data],0,MATCH(\"consump_busbar_Program\",output[#Headers],0)),output[equipment_type],$C$664,output[year],E$665,output[facility_type],$D$13,output[sensitivity],\"Base\"))/8760000-SUM($D$667:D667)","v":0.19914035712151226},{"$f":"(SUMIFS(INDEX(output[#Data],0,MATCH(\"consump_busbar_Baseline\",output[#Headers],0)),output[equipment_type],$C$664,output[year],F$665,output[facility_type],$D$13,output[sensitivity],\"Base\")-SUMIFS(INDEX(output[#Data],0,MATCH(\"consump_busbar_Program\",output[#Headers],0)),output[equipment_type],$C$664,output[year],F$665,output[facility_type],$D$13,output[sensitivity],\"Base\"))/8760000-SUM($D$667:E667)","v":0.21949122872192023},{"$f":"(SUMIFS(INDEX(output[#Data],0,MATCH(\"consump_busbar_Baseline\",output[#Headers],0)),output[equipment_type],$C$664,output[year],G$665,output[facility_type],$D$13,output[sensitivity],\"Base\")-SUMIFS(INDEX(output[#Data],0,MATCH(\"consump_busbar_Program\",output[#Headers],0)),output[equipment_type],$C$664,output[year],G$665,output[facility_type],$D$13,output[sensitivity],\"Base\"))/8760000-SUM($D$667:F667)","v":0.35555661675611583},{"$f":"(SUMIFS(INDEX(output[#Data],0,MATCH(\"consump_busbar_Baseline\",output[#Headers],0)),output[equipment_type],$C$664,output[year],H$665,output[facility_type],$D$13,output[sensitivity],\"Base\")-SUMIFS(INDEX(output[#Data],0,MATCH(\"consump_busbar_Program\",output[#Headers],0)),output[equipment_type],$C$664,output[year],H$665,output[facility_type],$D$13,output[sensitivity],\"Base\"))/8760000-SUM($D$667:G667)","v":0.13152072804450454},{"$f":"(SUMIFS(INDEX(output[#Data],0,MATCH(\"consump_busbar_Baseline\",output[#Headers],0)),output[equipment_type],$C$664,output[year],I$665,output[facility_type],$D$13,output[sensitivity],\"Base\")-SUMIFS(INDEX(output[#Data],0,MATCH(\"consump_busbar_Program\",output[#Headers],0)),output[equipment_type],$C$664,output[year],I$665,output[facility_type],$D$13,output[sensitivity],\"Base\"))/8760000-SUM($D$667:H667)","v":0.13145408802765957}]
[null,null,"*These are interim results in the calculation of Momentum Savings that are not intended to be used outside of this analysis. Please refer to the methodology memo for more detail."]
[]
[]
[]
[null,null,"Table D: ASD Momentum Savings by Year, Pumps (aMW at busbar)"]
[null,null,"Pumps","Year"]
[null,null,null,2016,2017,2018,2019,2020,2021]
[null,null,"Regional Momentum Savings",{"$f":"(SUMIFS(INDEX(output[#Data],0,MATCH(\"consump_busbar_Program\",output[#Headers],0)),output[equipment_type],$C$673,output[year],D$674,output[facility_type],$D$13,output[sensitivity],\"Base\")-SUMIFS(INDEX(output[#Data],0,MATCH(\"consump_busbar_Market\",output[#Headers],0)),output[equipment_type],$C$673,output[year],D$674,output[facility_type],$D$13,output[sensitivity],\"Base\"))/8760000","v":0.12750663237157681},{"$f":"(SUMIFS(INDEX(output[#Data],0,MATCH(\"consump_busbar_Program\",output[#Headers],0)),output[equipment_type],$C$673,output[year],E$674,output[facility_type],$D$13,output[sensitivity],\"Base\")-SUMIFS(INDEX(output[#Data],0,MATCH(\"consump_busbar_Market\",output[#Headers],0)),output[equipment_type],$C$673,output[year],E$674,output[facility_type],$D$13,output[sensitivity],\"Base\"))/8760000-SUM($D$675:D675)","v":8.4026479772447732E-2},{"$f":"(SUMIFS(INDEX(output[#Data],0,MATCH(\"consump_busbar_Program\",output[#Headers],0)),output[equipment_type],$C$673,output[year],F$674,output[facility_type],$D$13,output[sensitivity],\"Base\")-SUMIFS(INDEX(output[#Data],0,MATCH(\"consump_busbar_Market\",output[#Headers],0)),output[equipment_type],$C$673,output[year],F$674,output[facility_type],$D$13,output[sensitivity],\"Base\"))/8760000-SUM($D$675:E675)","v":6.1866303888851226E-2},{"$f":"(SUMIFS(INDEX(output[#Data],0,MATCH(\"consump_busbar_Program\",output[#Headers],0)),output[equipment_type],$C$673,output[year],G$674,output[facility_type],$D$13,output[sensitivity],\"Base\")-SUMIFS(INDEX(output[#Data],0,MATCH(\"consump_busbar_Market\",output[#Headers],0)),output[equipment_type],$C$673,output[year],G$674,output[facility_type],$D$13,output[sensitivity],\"Base\"))/8760000-SUM($D$675:F675)","v":6.4058929093029016E-2},{"$f":"(SUMIFS(INDEX(output[#Data],0,MATCH(\"consump_busbar_Program\",output[#Headers],0)),output[equipment_type],$C$673,output[year],H$674,output[facility_type],$D$13,output[sensitivity],\"Base\")-SUMIFS(INDEX(output[#Data],0,MATCH(\"consump_busbar_Market\",output[#Headers],0)),output[equipment_type],$C$673,output[year],H$674,output[facility_type],$D$13,output[sensitivity],\"Base\"))/8760000-SUM($D$675:G675)","v":2.5797030414416333E-2},{"$f":"(SUMIFS(INDEX(output[#Data],0,MATCH(\"consump_busbar_Program\",output[#Headers],0)),output[equipment_type],$C$673,output[year],I$674,output[facility_type],$D$13,output[sensitivity],\"Base\")-SUMIFS(INDEX(output[#Data],0,MATCH(\"consump_busbar_Market\",output[#Headers],0)),output[equipment_type],$C$673,output[year],I$674,output[facility_type],$D$13,output[sensitivity],\"Base\"))/8760000-SUM($D$675:H675)","v":4.4198956323081684E-2}]
[null,null,"BPA Share of Momentum Savings",{"$f":"D675*0.42","v":5.3552785596062254E-2},3.5291121504428043E-2,2.5983847633317514E-2,2.6904750219072186E-2,1.083475277405486E-2,1.8563561655694307E-2]
[]
[null,null,"Table E: ASD Momentum Savings from 2016-2021, Pumps (aMW at busbar)"]
[null,null,"Regional Momentum Savings (aMW at busbar)",null,null,{"$f":"SUM(D675:I675)","v":0.4074543318634028}]
[null,null,"BPA Share of Momentum Savings (aMW at busbar)",null,null,{"$f":"SUM(D676:I676)","v":0.17113081938262917}]
[]
[null,null,"Table F: ASD Total Market Savings and Adjusted Program Savings by Year, Pumps (aMW at busbar)*"]
[null,null,"Pumps","Year"]
[null,null,null,2016,2017,2018,2019,2020,2021]
[null,null,"Total Market Savings",{"$f":"(SUMIFS(INDEX(output[#Data],0,MATCH(\"consump_busbar_Baseline\",output[#Headers],0)),output[equipment_type],$C$683,output[year],D$684,output[facility_type],$D$13,output[sensitivity],\"Base\")-SUMIFS(INDEX(output[#Data],0,MATCH(\"consump_busbar_Market\",output[#Headers],0)),output[equipment_type],$C$683,output[year],D$684,output[facility_type],$D$13,output[sensitivity],\"Base\"))/8760000","v":0.13319128541295933},{"$f":"(SUMIFS(INDEX(output[#Data],0,MATCH(\"consump_busbar_Baseline\",output[#Headers],0)),output[equipment_type],$C$683,output[year],E$684,output[facility_type],$D$13,output[sensitivity],\"Base\")-SUMIFS(INDEX(output[#Data],0,MATCH(\"consump_busbar_Market\",output[#Headers],0)),output[equipment_type],$C$683,output[year],E$684,output[facility_type],$D$13,output[sensitivity],\"Base\"))/8760000-SUM($D$685:D685)","v":8.8093533177901751E-2},{"$f":"(SUMIFS(INDEX(output[#Data],0,MATCH(\"consump_busbar_Baseline\",output[#Headers],0)),output[equipment_type],$C$683,output[year],F$684,output[facility_type],$D$13,output[sensitivity],\"Base\")-SUMIFS(INDEX(output[#Data],0,MATCH(\"consump_busbar_Market\",output[#Headers],0)),output[equipment_type],$C$683,output[year],F$684,output[facility_type],$D$13,output[sensitivity],\"Base\"))/8760000-SUM($D$685:E685)","v":6.5101847032739968E-2},{"$f":"(SUMIFS(INDEX(output[#Data],0,MATCH(\"consump_busbar_Baseline\",output[#Headers],0)),output[equipment_type],$C$683,output[year],G$684,output[facility_type],$D$13,output[sensitivity],\"Base\")-SUMIFS(INDEX(output[#Data],0,MATCH(\"consump_busbar_Market\",output[#Headers],0)),output[equipment_type],$C$683,output[year],G$684,output[facility_type],$D$13,output[sensitivity],\"Base\"))/8760000-SUM($D$685:F685)","v":7.4356393717304181E-2},{"$f":"(SUMIFS(INDEX(output[#Data],0,MATCH(\"consump_busbar_Baseline\",output[#Headers],0)),output[equipment_type],$C$683,output[year],H$684,output[facility_type],$D$13,output[sensitivity],\"Base\")-SUMIFS(INDEX(output[#Data],0,MATCH(\"consump_busbar_Market\",output[#Headers],0)),output[equipment_type],$C$683,output[year],H$684,output[facility_type],$D$13,output[sensitivity],\"Base\"))/8760000-SUM($D$685:G685)","v":2.8379834575563256E-2},{"$f":"(SUMIFS(INDEX(output[#Data],0,MATCH(\"consump_busbar_Baseline\",output[#Headers],0)),output[equipment_type],$C$683,output[year],I$684,output[facility_type],$D$13,output[sensitivity],\"Base\")-SUMIFS(INDEX(output[#Data],0,MATCH(\"consump_busbar_Market\",output[#Headers],0)),output[equipment_type],$C$683,output[year],I$684,output[facility_type],$D$13,output[sensitivity],\"Base\"))/8760000-SUM($D$685:H685)","v":4.677365073588885E-2}]
[null,null,"Adjusted Program Savings",{"$f":"(SUMIFS(INDEX(output[#Data],0,MATCH(\"consump_busbar_Baseline\",output[#Headers],0)),output[equipment_type],$C$683,output[year],D$684,output[facility_type],$D$13,output[sensitivity],\"Base\")-SUMIFS(INDEX(output[#Data],0,MATCH(\"consump_busbar_Program\",output[#Headers],0)),output[equipment_type],$C$683,output[year],D$684,output[facility_type],$D$13,output[sensitivity],\"Base\"))/8760000","v":5.6846530413824942E-3},{"$f":"(SUMIFS(INDEX(output[#Data],0,MATCH(\"consump_busbar_Baseline\",output[#Headers],0)),output[equipment_type],$C$683,output[year],E$684,output[facility_type],$D$13,output[sensitivity],\"Base\")-SUMIFS(INDEX(output[#Data],0,MATCH(\"consump_busbar_Program\",output[#Headers],0)),output[equipment_type],$C$683,output[year],E$684,output[facility_type],$D$13,output[sensitivity],\"Base\"))/8760000-SUM($D$686:D686)","v":4.0670534054540342E-3},{"$f":"(SUMIFS(INDEX(output[#Data],0,MATCH(\"consump_busbar_Baseline\",output[#Headers],0)),output[equipment_type],$C$683,output[year],F$684,output[facility_type],$D$13,output[sensitivity],\"Base\")-SUMIFS(INDEX(output[#Data],0,MATCH(\"consump_busbar_Program\",output[#Headers],0)),output[equipment_type],$C$683,output[year],F$684,output[facility_type],$D$13,output[sensitivity],\"Base\"))/8760000-SUM($D$686:E686)","v":3.2355431438887226E-3},{"$f":"(SUMIFS(INDEX(output[#Data],0,MATCH(\"consump_busbar_Baseline\",output[#Headers],0)),output[equipment_type],$C$683,output[year],G$684,output[facility_type],$D$13,output[sensitivity],\"Base\")-SUMIFS(INDEX(output[#Data],0,MATCH(\"consump_busbar_Program\",output[#Headers],0)),output[equipment_type],$C$683,output[year],G$684,output[facility_type],$D$13,output[sensitivity],\"Base\"))/8760000-SUM($D$686:F686)","v":1.0297464624275219E-2},{"$f":"(SUMIFS(INDEX(output[#Data],0,MATCH(\"consump_busbar_Baseline\",output[#Headers],0)),output[equipment_type],$C$683,output[year],H$684,output[facility_type],$D$13,output[sensitivity],\"Base\")-SUMIFS(INDEX(output[#Data],0,MATCH(\"consump_busbar_Program\",output[#Headers],0)),output[equipment_type],$C$683,output[year],H$684,output[facility_type],$D$13,output[sensitivity],\"Base\"))/8760000-SUM($D$686:G686)","v":2.5828041611468955E-3},{"$f":"(SUMIFS(INDEX(output[#Data],0,MATCH(\"consump_busbar_Baseline\",output[#Headers],0)),output[equipment_type],$C$683,output[year],I$684,output[facility_type],$D$13,output[sensitivity],\"Base\")-SUMIFS(INDEX(output[#Data],0,MATCH(\"consump_busbar_Program\",output[#Headers],0)),output[equipment_type],$C$683,output[year],I$684,output[facility_type],$D$13,output[sensitivity],\"Base\"))/8760000-SUM($D$686:H686)","v":2.5746944128072144E-3}]
[null,null,"*These are interim results in the calculation of Momentum Savings that are not intended to be used outside of this analysis. Please refer to the methodology memo for more detail."]

{"sheet":"Model Output","index":6,"n_rows":28514,"n_cols":30,"rows_kept":2250,"cut":true,"hidden":true,"merged":[],"bounds":{"rows_first":1000,"rows_last":250,"rows_between":1000,"halvings":1}}
["Model Run: 5/2/2022"]
["state","facility_type","sensitivity","year","motor_size","motor_type","control_strategy","load_type","equipment_type","equip_vintage","consump_meter_Baseline","consump_meter_Market","consump_meter_Program","consump_busbar_Baseline","consump_busbar_Market","consump_busbar_Program","ishp_Baseline","ishp_Market","ishp_Program","num_motors_Baseline","num_motors_Market","num_motors_Program","ooshp_Baseline","ooshp_Market","ooshp_Program","num_motors_ooshp_Baseline","num_motors_ooshp_Market","num_motors_ooshp_Program","Incented Motor HP","Momentum HP"]
["All","Chemical","Base",2014,"1,001+ HP","Traditional","ASD Control","constant","Fans","2014 and before",0,0,0,0,0,0,0,0,0,0,0,0,0,0,0,0,0,0,{"$f":"output[[#This Row],[ishp_Program]]-output[[#This Row],[ishp_Baseline]]","v":0},{"$f":"output[[#This Row],[ishp_Market]]-output[[#This Row],[ishp_Program]]","v":0}]
["All","Chemical","Base",2014,"1,001+ HP","Traditional","ASD Control","constant","Pumps","2014 and before",0,0,0,0,0,0,0,0,0,0,0,0,0,0,0,0,0,0,{"$f":"output[[#This Row],[ishp_Program]]-output[[#This Row],[ishp_Baseline]]","v":0},{"$f":"output[[#This Row],[ishp_Market]]-output[[#This Row],[ishp_Program]]","v":0}]
["All","Chemical","Base",2014,"1,001+ HP","Traditional","ASD Control","variable","Fans","2014 and before",0,0,0,0,0,0,0,0,0,0,0,0,0,0,0,0,0,0,{"$f":"output[[#This Row],[ishp_Program]]-output[[#This Row],[ishp_Baseline]]","v":0},{"$f":"output[[#This Row],[ishp_Market]]-output[[#This Row],[ishp_Program]]","v":0}]
["All","Chemical","Base",2014,"1,001+ HP","Traditional","ASD Control","variable","Pumps","2014 and before",0,0,0,0,0,0,0,0,0,0,0,0,0,0,0,0,0,0,{"$f":"output[[#This Row],[ishp_Program]]-output[[#This Row],[ishp_Baseline]]","v":0},{"$f":"output[[#This Row],[ishp_Market]]-output[[#This Row],[ishp_Program]]","v":0}]
["All","Chemical","Base",2014,"1,001+ HP","Traditional","Non ASD Control","constant","Fans","2014 and before",1360554.0354285301,1360554.0354285301,1360554.0354285301,1462459.5326821201,1462459.5326821201,1462459.5326821201,326.40068022542903,326.40068022542903,326.40068022542903,0.32640068022542901,0.32640068022542901,0.32640068022542901,127.890185100731,127.890185100731,127.890185100731,0.127890185100731,0.127890185100731,0.127890185100731,{"$f":"output[[#This Row],[ishp_Program]]-output[[#This Row],[ishp_Baseline]]","v":0},{"$f":"output[[#This Row],[ishp_Market]]-output[[#This Row],[ishp_Program]]","v":0}]
["All","Chemical","Base",2014,"1,001+ HP","Traditional","Non ASD Control","constant","Pumps","2014 and before",2607738.1281900899,2607738.1281900899,2607738.1281900899,2803057.7139915298,2803057.7139915298,2803057.7139915298,548.76507154461501,548.76507154461501,548.76507154461501,0.54876507154461596,0.54876507154461596,0.54876507154461596,215.01691273494299,215.01691273494299,215.01691273494299,0.215016912734943,0.215016912734943,0.215016912734943,{"$f":"output[[#This Row],[ishp_Program]]-output[[#This Row],[ishp_Baseline]]","v":0},{"$f":"output[[#This Row],[ishp_Market]]-output[[#This Row],[ishp_Program]]","v":0}]
["All","Chemical","Base",2014,"1,001+ HP","Traditional","Non ASD Control","variable","Fans","2014 and before",742167.86380614305,742167.86380614305,742167.86380614305,797756.23680522304,797756.23680522304,797756.23680522304,194.38957248387101,194.38957248387101,194.38957248387101,0.19438957248387101,0.19438957248387101,0.19438957248387101,76.165645210802097,76.165645210802097,76.165645210802097,7.6165645210802102E-2,7.6165645210802102E-2,7.6165645210802102E-2,{"$f":"output[[#This Row],[ishp_Program]]-output[[#This Row],[ishp_Baseline]]","v":0},{"$f":"output[[#This Row],[ishp_Market]]-output[[#This Row],[ishp_Program]]","v":0}]
["All","Chemical","Base",2014,"1,001+ HP","Traditional","Non ASD Control","variable","Pumps","2014 and before",885157.42377756699,885157.42377756699,885157.42377756699,951455.71481850697,951455.71481850697,951455.71481850697,227.493890348191,227.493890348191,227.493890348191,0.22749389034819001,0.22749389034819001,0.22749389034819001,89.136565909794598,89.136565909794598,89.136565909794598,8.9136565909794602E-2,8.9136565909794602E-2,8.9136565909794602E-2,{"$f":"output[[#This Row],[ishp_Program]]-output[[#This Row],[ishp_Baseline]]","v":0},{"$f":"output[[#This Row],[ishp_Market]]-output[[#This Row],[ishp_Program]]","v":0}]
["All","Chemical","Base",2014,"1-5 HP","Traditional","ASD Control","constant","Fans","2014 and before",99001.2103123587,99001.2103123587,99001.2103123587,106416.40096475399,106416.40096475399,106416.40096475399,21.833514296509001,21.833514296509001,21.833514296509001,7.2778380988363303,7.2778380988363303,7.2778380988363303,8.5547989141796901,8.5547989141796901,8.5547989141796901,2.8515996380598998,2.8515996380598998,2.8515996380598998,{"$f":"output[[#This Row],[ishp_Program]]-output[[#This Row],[ishp_Baseline]]","v":0},{"$f":"output[[#This Row],[ishp_Market]]-output[[#This Row],[ishp_Program]]","v":0}]
["All","Chemical","Base",2014,"1-5 HP","Traditional","ASD Control","constant","Pumps","2014 and before",209670.41650521301,209670.41650521301,209670.41650521301,225374.73070145299,225374.73070145299,225374.73070145299,60.834394935187298,60.834394935187298,60.834394935187298,20.278131645062398,20.278131645062398,20.278131645062398,23.8361085013021,23.8361085013021,23.8361085013021,7.9453695004340403,7.9453695004340403,7.9453695004340403,{"$f":"output[[#This Row],[ishp_Program]]-output[[#This Row],[ishp_Baseline]]","v":0},{"$f":"output[[#This Row],[ishp_Market]]-output[[#This Row],[ishp_Program]]","v":0}]
["All","Chemical","Base",2014,"1-5 HP","Traditional","ASD Control","variable","Fans","2014 and before",650551.69150613598,650551.69150613598,650551.69150613598,699278.01319994498,699278.01319994498,699278.01319994498,303.79012803573499,303.79012803573499,303.79012803573499,101.26337601191101,101.26337601191101,101.26337601191101,119.03092750735701,119.03092750735701,119.03092750735701,39.676975835785797,39.676975835785797,39.676975835785797,{"$f":"output[[#This Row],[ishp_Program]]-output[[#This Row],[ishp_Baseline]]","v":0},{"$f":"output[[#This Row],[ishp_Market]]-output[[#This Row],[ishp_Program]]","v":0}]
["All","Chemical","Base",2014,"1-5 HP","Traditional","ASD Control","variable","Pumps","2014 and before",476846.41474164103,476846.41474164103,476846.41474164103,512562.211205789,512562.211205789,512562.211205789,206.01205763373699,206.01205763373699,206.01205763373699,68.670685877912504,68.670685877912504,68.670685877912504,80.719562733646399,80.719562733646399,80.719562733646399,26.906520911215399,26.906520911215399,26.906520911215399,{"$f":"output[[#This Row],[ishp_Program]]-output[[#This Row],[ishp_Baseline]]","v":0},{"$f":"output[[#This Row],[ishp_Market]]-output[[#This Row],[ishp_Program]]","v":0}]
["All","Chemical","Base",2014,"1-5 HP","Traditional","Non ASD Control","constant","Fans","2014 and before",3687854.13574707,3687854.13574707,3687854.13574707,3964074.41051452,3964074.41051452,3964074.41051452,791.31690414080003,791.31690414080003,791.31690414080003,263.77230138026601,263.77230138026601,263.77230138026601,310.05347560553503,310.05347560553503,310.05347560553503,103.351158535178,103.351158535178,103.351158535178,{"$f":"output[[#This Row],[ishp_Program]]-output[[#This Row],[ishp_Baseline]]","v":0},{"$f":"output[[#This Row],[ishp_Market]]-output[[#This Row],[ishp_Program]]","v":0}]
["All","Chemical","Base",2014,"1-5 HP","Traditional","Non ASD Control","constant","Pumps","2014 and before",1295246.2876365799,1295246.2876365799,1295246.2876365799,1392260.2345805699,1392260.2345805699,1392260.2345805699,323.42428293086903,323.42428293086903,323.42428293086903,107.80809431028899,107.80809431028899,107.80809431028899,126.723974292986,126.723974292986,126.723974292986,42.241324764328603,42.241324764328603,42.241324764328603,{"$f":"output[[#This Row],[ishp_Program]]-output[[#This Row],[ishp_Baseline]]","v":0},{"$f":"output[[#This Row],[ishp_Market]]-output[[#This Row],[ishp_Program]]","v":0}]
["All","Chemical","Base",2014,"1-5 HP","Traditional","Non ASD Control","variable","Fans","2014 and before",2011685.5006747199,2011685.5006747199,2011685.5006747199,2162360.7446752498,2162360.7446752498,2162360.7446752498,471.27277611355601,471.27277611355601,471.27277611355601,157.09092537118499,157.09092537118499,157.09092537118499,184.65391226657999,184.65391226657999,184.65391226657999,61.5513040888601,61.5513040888601,61.5513040888601,{"$f":"output[[#This Row],[ishp_Program]]-output[[#This Row],[ishp_Baseline]]","v":0},{"$f":"output[[#This Row],[ishp_Market]]-output[[#This Row],[ishp_Program]]","v":0}]
["All","Chemical","Base",2014,"1-5 HP","Traditional","Non ASD Control","variable","Pumps","2014 and before",439651.84031633899,439651.84031633899,439651.84031633899,472581.763156033,472581.763156033,472581.763156033,134.07749904694001,134.07749904694001,134.07749904694001,44.692499682313503,44.692499682313503,44.692499682313503,52.534192511834597,52.534192511834597,52.534192511834597,17.511397503944799,17.511397503944799,17.511397503944799,{"$f":"output[[#This Row],[ishp_Program]]-output[[#This Row],[ishp_Baseline]]","v":0},{"$f":"output[[#This Row],[ishp_Market]]-output[[#This Row],[ishp_Program]]","v":0}]
["All","Chemical","Base",2014,"101-200 HP","Traditional","ASD Control","constant","Fans","2014 and before",278175.72736877098,278175.72736877098,278175.72736877098,299011.08934869198,299011.08934869198,299011.08934869198,69.949109562281095,69.949109562281095,69.949109562281095,0.46477813662645201,0.46477813662645201,0.46477813662645201,27.407432372300999,27.407432372300999,27.407432372300999,0.182109185198013,0.182109185198013,0.182109185198013,{"$f":"output[[#This Row],[ishp_Program]]-output[[#This Row],[ishp_Baseline]]","v":0},{"$f":"output[[#This Row],[ishp_Market]]-output[[#This Row],[ishp_Program]]","v":0}]
["All","Chemical","Base",2014,"101-200 HP","Traditional","ASD Control","constant","Pumps","2014 and before",4733134.2849153103,4733134.2849153103,4733134.2849153103,5087646.0428554602,5087646.0428554602,5087646.0428554602,1203.7344012552201,1203.7344012552201,1203.7344012552201,7.9982352242872299,7.9982352242872299,7.9982352242872299,471.64673579211598,471.64673579211598,471.64673579211598,3.1338653541004402,3.1338653541004402,3.1338653541004402,{"$f":"output[[#This Row],[ishp_Program]]-output[[#This Row],[ishp_Baseline]]","v":0},{"$f":"output[[#This Row],[ishp_Market]]-output[[#This Row],[ishp_Program]]","v":0}]
["All","Chemical","Base",2014,"101-200 HP","Traditional","ASD Control","variable","Fans","2014 and before",1792415.8346148899,1792415.8346148899,1792415.8346148899,1926667.7806275501,1926667.7806275501,1926667.7806275501,973.267457603411,973.267457603411,973.267457603411,6.4668934060027299,6.4668934060027299,6.4668934060027299,381.34526931577602,381.34526931577602,381.34526931577602,2.5338556100715999,2.5338556100715999,2.5338556100715999,{"$f":"output[[#This Row],[ishp_Program]]-output[[#This Row],[ishp_Baseline]]","v":0},{"$f":"output[[#This Row],[ishp_Market]]-output[[#This Row],[ishp_Program]]","v":0}]
["All","Chemical","Base",2014,"101-200 HP","Traditional","ASD Control","variable","Pumps","2014 and before",10702507.8357055,10702507.8357055,10702507.8357055,11504125.672599901,11504125.672599901,11504125.672599901,4076.3749045471,4076.3749045471,4076.3749045471,27.085547538518899,27.085547538518899,27.085547538518899,1597.2035987254999,1597.2035987254999,1597.2035987254999,10.6126484965149,10.6126484965149,10.6126484965149,{"$f":"output[[#This Row],[ishp_Program]]-output[[#This Row],[ishp_Baseline]]","v":0},{"$f":"output[[#This Row],[ishp_Market]]-output[[#This Row],[ishp_Program]]","v":0}]
["All","Chemical","Base",2014,"101-200 HP","Traditional","Non ASD Control","constant","Fans","2014 and before",5395985.5688228998,5395985.5688228998,5395985.5688228998,5800144.8879277296,5800144.8879277296,5800144.8879277296,1290.3713390207599,1290.3713390207599,1290.3713390207599,8.57389594033733,8.57389594033733,8.57389594033733,505.59278639391903,505.59278639391903,505.59278639391903,3.3594205076007899,3.3594205076007899,3.3594205076007899,{"$f":"output[[#This Row],[ishp_Program]]-output[[#This Row],[ishp_Baseline]]","v":0},{"$f":"output[[#This Row],[ishp_Market]]-output[[#This Row],[ishp_Program]]","v":0}]
["All","Chemical","Base",2014,"101-200 HP","Traditional","Non ASD Control","constant","Pumps","2014 and before",10647475.6574995,10647475.6574995,10647475.6574995,11444971.5842462,11444971.5842462,11444971.5842462,2260.5589657211799,2260.5589657211799,2260.5589657211799,15.020325353629101,15.020325353629101,15.020325353629101,885.731317586508,885.731317586508,885.731317586508,5.8852579241628398,5.8852579241628398,5.8852579241628398,{"$f":"output[[#This Row],[ishp_Program]]-output[[#This Row],[ishp_Baseline]]","v":0},{"$f":"output[[#This Row],[ishp_Market]]-output[[#This Row],[ishp_Program]]","v":0}]
["All","Chemical","Base",2014,"101-200 HP","Traditional","Non ASD Control","variable","Fans","2014 and before",2943453.16573973,2943453.16573973,2943453.16573973,3163917.8078536298,3163917.8078536298,3163917.8078536298,768.48716358204001,768.48716358204001,768.48716358204001,5.1062270005451103,5.1062270005451103,5.1062270005451103,301.10833571230597,301.10833571230597,301.10833571230597,2.00071983861997,2.00071983861997,2.00071983861997,{"$f":"output[[#This Row],[ishp_Program]]-output[[#This Row],[ishp_Baseline]]","v":0},{"$f":"output[[#This Row],[ishp_Market]]-output[[#This Row],[ishp_Program]]","v":0}]
["All","Chemical","Base",2014,"101-200 HP","Traditional","Non ASD Control","variable","Pumps","2014 and before",3614125.2148151398,3614125.2148151398,3614125.2148151398,3884823.19340479,3884823.19340479,3884823.19340479,937.12843644711597,937.12843644711597,937.12843644711597,6.2267670195821596,6.2267670195821596,6.2267670195821596,367.18529237625,367.18529237625,367.18529237625,2.4397693845598001,2.4397693845598001,2.4397693845598001,{"$f":"output[[#This Row],[ishp_Program]]-output[[#This Row],[ishp_Baseline]]","v":0},{"$f":"output[[#This Row],[ishp_Market]]-output[[#This Row],[ishp_Program]]","v":0}]
["All","Chemical","Base",2014,"11-20 HP","Traditional","ASD Control","constant","Fans","2014 and before",104388.31884789901,104388.31884789901,104388.31884789901,112207.003929606,112207.003929606,112207.003929606,25.149623832662702,25.149623832662702,25.149623832662702,1.6225563763008199,1.6225563763008199,1.6225563763008199,9.8541156377235808,9.8541156377235808,9.8541156377235808,0.63574939598216695,0.63574939598216695,0.63574939598216695,{"$f":"output[[#This Row],[ishp_Program]]-output[[#This Row],[ishp_Baseline]]","v":0},{"$f":"output[[#This Row],[ishp_Market]]-output[[#This Row],[ishp_Program]]","v":0}]
["All","Chemical","Base",2014,"11-20 HP","Traditional","ASD Control","constant","Pumps","2014 and before",1362243.4612672401,1362243.4612672401,1362243.4612672401,1464275.49651616,1464275.49651616,1464275.49651616,404.05472201528801,404.05472201528801,404.05472201528801,26.0680465816314,26.0680465816314,26.0680465816314,158.31656096326401,158.31656096326401,158.31656096326401,10.2139716750492,10.2139716750492,10.2139716750492,{"$f":"output[[#This Row],[ishp_Program]]-output[[#This Row],[ishp_Baseline]]","v":0},{"$f":"output[[#This Row],[ishp_Market]]-output[[#This Row],[ishp_Program]]","v":0}]
["All","Chemical","Base",2014,"11-20 HP","Traditional","ASD Control","variable","Fans","2014 and before",678807.78869953705,678807.78869953705,678807.78869953705,729650.49207313301,729650.49207313301,729650.49207313301,349.93026502365598,349.93026502365598,349.93026502365598,22.576146130558399,22.576146130558399,22.576146130558399,137.10953768636401,137.10953768636401,137.10953768636401,8.84577662492676,8.84577662492676,8.84577662492676,{"$f":"output[[#This Row],[ishp_Program]]-output[[#This Row],[ishp_Baseline]]","v":0},{"$f":"output[[#This Row],[ishp_Market]]-output[[#This Row],[ishp_Program]]","v":0}]
["All","Chemical","Base",2014,"11-20 HP","Traditional","ASD Control","variable","Pumps","2014 and before",3086493.1126359999,3086493.1126359999,3086493.1126359999,3317671.4467724399,3317671.4467724399,3317671.4467724399,1368.3072670925801,1368.3072670925801,1368.3072670925801,88.277888199521797,88.277888199521797,88.277888199521797,536.12961082767504,536.12961082767504,536.12961082767504,34.589007150172598,34.589007150172598,34.589007150172598,{"$f":"output[[#This Row],[ishp_Program]]-output[[#This Row],[ishp_Baseline]]","v":0},{"$f":"output[[#This Row],[ishp_Market]]-output[[#This Row],[ishp_Program]]","v":0}]
["All","Chemical","Base",2014,"11-20 HP","Traditional","Non ASD Control","constant","Fans","2014 and before",4528786.0081398701,4528786.0081398701,4528786.0081398701,4867992.08014955,4867992.08014955,4867992.08014955,1038.9693621469901,1038.9693621469901,1038.9693621469901,67.030281428838407,67.030281428838407,67.030281428838407,407.08856350176399,407.08856350176399,407.08856350176399,26.263778290436399,26.263778290436399,26.263778290436399,{"$f":"output[[#This Row],[ishp_Program]]-output[[#This Row],[ishp_Baseline]]","v":0},{"$f":"output[[#This Row],[ishp_Market]]-output[[#This Row],[ishp_Program]]","v":0}]
["All","Chemical","Base",2014,"11-20 HP","Traditional","Non ASD Control","constant","Pumps","2014 and before",5333690.1442407696,5333690.1442407696,5333690.1442407696,5733183.5360444002,5733183.5360444002,5733183.5360444002,1327.5814937499799,1327.5814937499799,1327.5814937499799,85.650418951611996,85.650418951611996,85.650418951611996,520.17245446525999,520.17245446525999,520.17245446525999,33.559513191307097,33.559513191307097,33.559513191307097,{"$f":"output[[#This Row],[ishp_Program]]-output[[#This Row],[ishp_Baseline]]","v":0},{"$f":"output[[#This Row],[ishp_Market]]-output[[#This Row],[ishp_Program]]","v":0}]
["All","Chemical","Base",2014,"11-20 HP","Traditional","Non ASD Control","variable","Fans","2014 and before",2470404.9598718602,2470404.9598718602,2470404.9598718602,2655438.29136626,2655438.29136626,2655438.29136626,618.76344740491402,618.76344740491402,618.76344740491402,39.920222413220301,39.920222413220301,39.920222413220301,242.44364860859801,242.44364860859801,242.44364860859801,15.641525716683701,15.641525716683701,15.641525716683701,{"$f":"output[[#This Row],[ishp_Program]]-output[[#This Row],[ishp_Baseline]]","v":0},{"$f":"output[[#This Row],[ishp_Market]]-output[[#This Row],[ishp_Program]]","v":0}]
["All","Chemical","Base",2014,"11-20 HP","Traditional","Non ASD Control","variable","Pumps","2014 and before",1810440.77097598,1810440.77097598,1810440.77097598,1946042.78472209,1946042.78472209,1946042.78472209,550.35696407819296,550.35696407819296,550.35696407819296,35.506900908270502,35.506900908270502,35.506900908270502,215.64064743622799,215.64064743622799,215.64064743622799,13.9122998345954,13.9122998345954,13.9122998345954,{"$f":"output[[#This Row],[ishp_Program]]-output[[#This Row],[ishp_Baseline]]","v":0},{"$f":"output[[#This Row],[ishp_Market]]-output[[#This Row],[ishp_Program]]","v":0}]
["All","Chemical","Base",2014,"201-500 HP","Traditional","ASD Control","constant","Fans","2014 and before",284550.89928869298,284550.89928869298,284550.89928869298,305863.76164541597,305863.76164541597,305863.76164541597,71.7817847525763,71.7817847525763,71.7817847525763,0.20479824465784899,0.20479824465784899,0.20479824465784899,28.1255104386656,28.1255104386656,28.1255104386656,8.0243967014738002E-2,8.0243967014738002E-2,8.0243967014738002E-2,{"$f":"output[[#This Row],[ishp_Program]]-output[[#This Row],[ishp_Baseline]]","v":0},{"$f":"output[[#This Row],[ishp_Market]]-output[[#This Row],[ishp_Program]]","v":0}]
["All","Chemical","Base",2014,"201-500 HP","Traditional","ASD Control","constant","Pumps","2014 and before",616068.15889693098,616068.15889693098,616068.15889693098,662211.66399831104,662211.66399831104,662211.66399831104,155.29730152545,155.29730152545,155.29730152545,0.44307361348202701,0.44307361348202701,0.44307361348202701,60.8485271048364,60.8485271048364,60.8485271048364,0.17360492754589499,0.17360492754589499,0.17360492754589499,{"$f":"output[[#This Row],[ishp_Program]]-output[[#This Row],[ishp_Baseline]]","v":0},{"$f":"output[[#This Row],[ishp_Market]]-output[[#This Row],[ishp_Program]]","v":0}]
["All","Chemical","Base",2014,"201-500 HP","Traditional","ASD Control","variable","Fans","2014 and before",1833494.03797126,1833494.03797126,1833494.03797126,1970822.74141531,1970822.74141531,1970822.74141531,998.76718353606498,998.76718353606498,998.76718353606498,2.8495497390472599,2.8495497390472599,2.8495497390472599,391.33656181949499,391.33656181949499,391.33656181949499,1.11650944884306,1.11650944884306,1.11650944884306,{"$f":"output[[#This Row],[ishp_Program]]-output[[#This Row],[ishp_Baseline]]","v":0},{"$f":"output[[#This Row],[ishp_Market]]-output[[#This Row],[ishp_Program]]","v":0}]
["All","Chemical","Base",2014,"201-500 HP","Traditional","ASD Control","variable","Pumps","2014 and before",1393046.1087775901,1393046.1087775901,1393046.1087775901,1497385.2623250401,1497385.2623250401,1497385.2623250401,525.90506844541403,525.90506844541403,525.90506844541403,1.50044242067165,1.50044242067165,1.50044242067165,206.05991538511799,206.05991538511799,206.05991538511799,0.58790275430847005,0.58790275430847005,0.58790275430847005,{"$f":"output[[#This Row],[ishp_Program]]-output[[#This Row],[ishp_Baseline]]","v":0},{"$f":"output[[#This Row],[ishp_Market]]-output[[#This Row],[ishp_Program]]","v":0}]
["All","Chemical","Base",2014,"201-500 HP","Traditional","Non ASD Control","constant","Fans","2014 and before",2430233.1319378801,2430233.1319378801,2430233.1319378801,2612257.5935200299,2612257.5935200299,2612257.5935200299,583.01965722446198,583.01965722446198,583.01965722446198,1.6633941718244301,1.6633941718244301,1.6633941718244301,228.43853091330899,228.43853091330899,228.43853091330899,0.65175044483112399,0.65175044483112399,0.65175044483112399,{"$f":"output[[#This Row],[ishp_Program]]-output[[#This Row],[ishp_Baseline]]","v":0},{"$f":"output[[#This Row],[ishp_Market]]-output[[#This Row],[ishp_Program]]","v":0}]
["All","Chemical","Base",2014,"201-500 HP","Traditional","Non ASD Control","constant","Pumps","2014 and before",10890452.568649899,10890452.568649899,10890452.568649899,11706147.4660418,11706147.4660418,11706147.4660418,2291.75618455841,2291.75618455841,2291.75618455841,6.5385340500953397,6.5385340500953397,6.5385340500953397,897.95499950091403,897.95499950091403,897.95499950091403,2.56192581883285,2.56192581883285,2.56192581883285,{"$f":"output[[#This Row],[ishp_Program]]-output[[#This Row],[ishp_Baseline]]","v":0},{"$f":"output[[#This Row],[ishp_Market]]-output[[#This Row],[ishp_Program]]","v":0}]
["All","Chemical","Base",2014,"201-500 HP","Traditional","Non ASD Control","variable","Fans","2014 and before",1325666.5190171299,1325666.5190171299,1325666.5190171299,1424958.9412915099,1424958.9412915099,1424958.9412915099,347.22029941629802,347.22029941629802,347.22029941629802,0.99064279434036495,0.99064279434036495,0.99064279434036495,136.04772003665099,136.04772003665099,136.04772003665099,0.388153266866339,0.388153266866339,0.388153266866339,{"$f":"output[[#This Row],[ishp_Program]]-output[[#This Row],[ishp_Baseline]]","v":0},{"$f":"output[[#This Row],[ishp_Market]]-output[[#This Row],[ishp_Program]]","v":0}]
["All","Chemical","Base",2014,"201-500 HP","Traditional","Non ASD Control","variable","Pumps","2014 and before",3696600.0670199501,3696600.0670199501,3696600.0670199501,3973475.41203974,3973475.41203974,3973475.41203974,950.06143282268499,950.06143282268499,950.06143282268499,2.7105889666838299,2.7105889666838299,2.7105889666838299,372.25269388790201,372.25269388790201,372.25269388790201,1.0620618941166899,1.0620618941166899,1.0620618941166899,{"$f":"output[[#This Row],[ishp_Program]]-output[[#This Row],[ishp_Baseline]]","v":0},{"$f":"output[[#This Row],[ishp_Market]]-output[[#This Row],[ishp_Program]]","v":0}]
["All","Chemical","Base",2014,"21-50 HP","Traditional","ASD Control","constant","Fans","2014 and before",1094089.1473755799,1094089.1473755799,1094089.1473755799,1176036.4245140101,1176036.4245140101,1176036.4245140101,267.924564691375,267.924564691375,267.924564691375,7.5471708363767602,7.5471708363767602,7.5471708363767602,104.97809669927101,104.97809669927101,104.97809669927101,2.9571294844865101,2.9571294844865101,2.9571294844865101,{"$f":"output[[#This Row],[ishp_Program]]-output[[#This Row],[ishp_Baseline]]","v":0},{"$f":"output[[#This Row],[ishp_Market]]-output[[#This Row],[ishp_Program]]","v":0}]
["All","Chemical","Base",2014,"21-50 HP","Traditional","ASD Control","constant","Pumps","2014 and before",2751051.2850127299,2751051.2850127299,2751051.2850127299,2957105.0262601902,2957105.0262601902,2957105.0262601902,802.127063881607,802.127063881607,802.127063881607,22.5951285600452,22.5951285600452,22.5951285600452,314.28910810870701,314.28910810870701,314.28910810870701,8.8532143129213292,8.8532143129213292,8.8532143129213292,{"$f":"output[[#This Row],[ishp_Program]]-output[[#This Row],[ishp_Baseline]]","v":0},{"$f":"output[[#This Row],[ishp_Market]]-output[[#This Row],[ishp_Program]]","v":0}]
["All","Chemical","Base",2014,"21-50 HP","Traditional","ASD Control","variable","Fans","2014 and before",7123902.0269940896,7123902.0269940896,7123902.0269940896,7657482.28881595,7657482.28881595,7657482.28881595,3727.8853374752098,3727.8853374752098,3727.8853374752098,105.01085457676599,105.01085457676599,105.01085457676599,1460.6585547393299,1460.6585547393299,1460.6585547393299,41.145311401107897,41.145311401107897,41.145311401107897,{"$f":"output[[#This Row],[ishp_Program]]-output[[#This Row],[ishp_Baseline]]","v":0},{"$f":"output[[#This Row],[ishp_Market]]-output[[#This Row],[ishp_Program]]","v":0}]
["All","Chemical","Base",2014,"21-50 HP","Traditional","ASD Control","variable","Pumps","2014 and before",6234010.5899984101,6234010.5899984101,6234010.5899984101,6700937.9831892904,6700937.9831892904,6700937.9831892904,2716.35555987715,2716.35555987715,2716.35555987715,76.517058024708405,76.517058024708405,76.517058024708405,1064.3213583751101,1064.3213583751101,1064.3213583751101,29.980883334510299,29.980883334510299,29.980883334510299,{"$f":"output[[#This Row],[ishp_Program]]-output[[#This Row],[ishp_Baseline]]","v":0},{"$f":"output[[#This Row],[ishp_Market]]-output[[#This Row],[ishp_Program]]","v":0}]
["All","Chemical","Base",2014,"21-50 HP","Traditional","Non ASD Control","constant","Fans","2014 and before",7995273.8822423499,7995273.8822423499,7995273.8822423499,8594119.8960222993,8594119.8960222993,8594119.8960222993,1864.3803613472901,1864.3803613472901,1864.3803613472901,52.517756657670198,52.517756657670198,52.517756657670198,730.50077391443801,730.50077391443801,730.50077391443801,20.577486589139099,20.577486589139099,20.577486589139099,{"$f":"output[[#This Row],[ishp_Program]]-output[[#This Row],[ishp_Baseline]]","v":0},{"$f":"output[[#This Row],[ishp_Market]]-output[[#This Row],[ishp_Program]]","v":0}]
["All","Chemical","Base",2014,"21-50 HP","Traditional","Non ASD Control","constant","Pumps","2014 and before",6262058.9304841803,6262058.9304841803,6262058.9304841803,6731087.1443774505,6731087.1443774505,6731087.1443774505,1533.2337076188301,1533.2337076188301,1533.2337076188301,43.189681904755801,43.189681904755801,43.189681904755801,600.75102335763302,600.75102335763302,600.75102335763302,16.922564038243099,16.922564038243099,16.922564038243099,{"$f":"output[[#This Row],[ishp_Program]]-output[[#This Row],[ishp_Baseline]]","v":0},{"$f":"output[[#This Row],[ishp_Market]]-output[[#This Row],[ishp_Program]]","v":0}]
["All","Chemical","Base",2014,"21-50 HP","Traditional","Non ASD Control","variable","Fans","2014 and before",4361337.5016449699,4361337.5016449699,4361337.5016449699,4688001.6805181801,4688001.6805181801,4688001.6805181801,1110.34113390733,1110.34113390733,1110.34113390733,31.277215039643099,31.277215039643099,31.277215039643099,435.05342281238899,435.05342281238899,435.05342281238899,12.255025994715201,12.255025994715201,12.255025994715201,{"$f":"output[[#This Row],[ishp_Program]]-output[[#This Row],[ishp_Baseline]]","v":0},{"$f":"output[[#This Row],[ishp_Market]]-output[[#This Row],[ishp_Program]]","v":0}]
["All","Chemical","Base",2014,"21-50 HP","Traditional","Non ASD Control","variable","Pumps","2014 and before",2125561.57020941,2125561.57020941,2125561.57020941,2284766.1318180901,2284766.1318180901,2284766.1318180901,635.61133724749197,635.61133724749197,635.61133724749197,17.904544711196898,17.904544711196898,17.904544711196898,249.04498212615101,249.04498212615101,249.04498212615101,7.0153516091873502,7.0153516091873502,7.0153516091873502,{"$f":"output[[#This Row],[ishp_Program]]-output[[#This Row],[ishp_Baseline]]","v":0},{"$f":"output[[#This Row],[ishp_Market]]-output[[#This Row],[ishp_Program]]","v":0}]
["All","Chemical","Base",2014,"501-1,000 HP","Traditional","ASD Control","constant","Fans","2014 and before",0,0,0,0,0,0,0,0,0,0,0,0,0,0,0,0,0,0,{"$f":"output[[#This Row],[ishp_Program]]-output[[#This Row],[ishp_Baseline]]","v":0},{"$f":"output[[#This Row],[ishp_Market]]-output[[#This Row],[ishp_Program]]","v":0}]
["All","Chemical","Base",2014,"501-1,000 HP","Traditional","ASD Control","constant","Pumps","2014 and before",0,0,0,0,0,0,0,0,0,0,0,0,0,0,0,0,0,0,{"$f":"output[[#This Row],[ishp_Program]]-output[[#This Row],[ishp_Baseline]]","v":0},{"$f":"output[[#This Row],[ishp_Market]]-output[[#This Row],[ishp_Program]]","v":0}]
["All","Chemical","Base",2014,"501-1,000 HP","Traditional","ASD Control","variable","Fans","2014 and before",0,0,0,0,0,0,0,0,0,0,0,0,0,0,0,0,0,0,{"$f":"output[[#This Row],[ishp_Program]]-output[[#This Row],[ishp_Baseline]]","v":0},{"$f":"output[[#This Row],[ishp_Market]]-output[[#This Row],[ishp_Program]]","v":0}]
["All","Chemical","Base",2014,"501-1,000 HP","Traditional","ASD Control","variable","Pumps","2014 and before",0,0,0,0,0,0,0,0,0,0,0,0,0,0,0,0,0,0,{"$f":"output[[#This Row],[ishp_Program]]-output[[#This Row],[ishp_Baseline]]","v":0},{"$f":"output[[#This Row],[ishp_Market]]-output[[#This Row],[ishp_Program]]","v":0}]
["All","Chemical","Base",2014,"501-1,000 HP","Traditional","Non ASD Control","constant","Fans","2014 and before",3020185.7825436899,3020185.7825436899,3020185.7825436899,3246397.69765621,3246397.69765621,3246397.69765621,724.55093157614897,724.55093157614897,724.55093157614897,0.96542429257314999,0.96542429257314999,0.96542429257314999,283.89325870945999,283.89325870945999,283.89325870945999,0.37827216350361098,0.37827216350361098,0.37827216350361098,{"$f":"output[[#This Row],[ishp_Program]]-output[[#This Row],[ishp_Baseline]]","v":0},{"$f":"output[[#This Row],[ishp_Market]]-output[[#This Row],[ishp_Program]]","v":0}]
["All","Chemical","Base",2014,"501-1,000 HP","Traditional","Non ASD Control","constant","Pumps","2014 and before",5788710.6386599299,5788710.6386599299,5788710.6386599299,6222285.0654955599,6222285.0654955599,6222285.0654955599,1218.1599729801201,1218.1599729801201,1218.1599729801201,1.6231312098336099,1.6231312098336099,1.6231312098336099,477.29895758530301,477.29895758530301,477.29895758530301,0.63597462702905105,0.63597462702905105,0.63597462702905105,{"$f":"output[[#This Row],[ishp_Program]]-output[[#This Row],[ishp_Baseline]]","v":0},{"$f":"output[[#This Row],[ishp_Market]]-output[[#This Row],[ishp_Program]]","v":0}]
["All","Chemical","Base",2014,"501-1,000 HP","Traditional","Non ASD Control","variable","Fans","2014 and before",1647479.46216053,1647479.46216053,1647479.46216053,1770875.67387635,1770875.67387635,1770875.67387635,431.50996417839502,431.50996417839502,431.50996417839502,0.57496331003117296,0.57496331003117296,0.57496331003117296,169.07406306099199,169.07406306099199,169.07406306099199,0.22528189615055599,0.22528189615055599,0.22528189615055599,{"$f":"output[[#This Row],[ishp_Program]]-output[[#This Row],[ishp_Baseline]]","v":0},{"$f":"output[[#This Row],[ishp_Market]]-output[[#This Row],[ishp_Program]]","v":0}]
["All","Chemical","Base",2014,"501-1,000 HP","Traditional","Non ASD Control","variable","Pumps","2014 and before",1964890.6232261399,1964890.6232261399,1964890.6232261399,2112060.9309057798,2112060.9309057798,2112060.9309057798,504.995608666696,504.995608666696,504.995608666696,0.67287889229406495,0.67287889229406495,0.67287889229406495,197.86717914569101,197.86717914569101,197.86717914569101,0.26364714076707702,0.26364714076707702,0.26364714076707702,{"$f":"output[[#This Row],[ishp_Program]]-output[[#This Row],[ishp_Baseline]]","v":0},{"$f":"output[[#This Row],[ishp_Market]]-output[[#This Row],[ishp_Program]]","v":0}]
["All","Chemical","Base",2014,"51-100 HP","Traditional","ASD Control","constant","Fans","2014 and before",2250238.6086464599,2250238.6086464599,2250238.6086464599,2418781.4804340801,2418781.4804340801,2418781.4804340801,560.07929016358605,560.07929016358605,560.07929016358605,7.4182687438885599,7.4182687438885599,7.4182687438885599,219.450045387887,219.450045387887,219.450045387887,2.9066231177203599,2.9066231177203599,2.9066231177203599,{"$f":"output[[#This Row],[ishp_Program]]-output[[#This Row],[ishp_Baseline]]","v":0},{"$f":"output[[#This Row],[ishp_Market]]-output[[#This Row],[ishp_Program]]","v":0}]
["All","Chemical","Base",2014,"51-100 HP","Traditional","ASD Control","constant","Pumps","2014 and before",6887488.2080698097,6887488.2080698097,6887488.2080698097,7403361.0748542398,7403361.0748542398,7403361.0748542398,1778.3114157509399,1778.3114157509399,1778.3114157509399,23.553793586105201,23.553793586105201,23.553793586105201,696.77727377914596,696.77727377914596,696.77727377914596,9.2288380632999392,9.2288380632999392,9.2288380632999392,{"$f":"output[[#This Row],[ishp_Program]]-output[[#This Row],[ishp_Baseline]]","v":0},{"$f":"output[[#This Row],[ishp_Market]]-output[[#This Row],[ishp_Program]]","v":0}]
["All","Chemical","Base",2014,"51-100 HP","Traditional","ASD Control","variable","Fans","2014 and before",14594188.951147201,14594188.951147201,14594188.951147201,15687293.703588201,15687293.703588201,15687293.703588201,7792.9075896024897,7792.9075896024897,7792.9075896024897,103.217319067582,103.217319067582,103.217319067582,3053.4139616952698,3053.4139616952698,3053.4139616952698,40.442569029076502,40.442569029076502,40.442569029076502,{"$f":"output[[#This Row],[ishp_Program]]-output[[#This Row],[ishp_Baseline]]","v":0},{"$f":"output[[#This Row],[ishp_Market]]-output[[#This Row],[ishp_Program]]","v":0}]
["All","Chemical","Base",2014,"51-100 HP","Traditional","ASD Control","variable","Pumps","2014 and before",15589832.1039852,15589832.1039852,15589832.1039852,16757510.528573699,16757510.528573699,16757510.528573699,6022.1457657749097,6022.1457657749097,6022.1457657749097,79.763520076488902,79.763520076488902,79.763520076488902,2359.5947660299598,2359.5947660299598,2359.5947660299598,31.252910808343898,31.252910808343898,31.252910808343898,{"$f":"output[[#This Row],[ishp_Program]]-output[[#This Row],[ishp_Baseline]]","v":0},{"$f":"output[[#This Row],[ishp_Market]]-output[[#This Row],[ishp_Program]]","v":0}]
["All","Chemical","Base",2014,"51-100 HP","Traditional","Non ASD Control","constant","Fans","2014 and before",5301375.1194804097,5301375.1194804097,5301375.1194804097,5698448.11592949,5698448.11592949,5698448.11592949,1255.38565426985,1255.38565426985,1255.38565426985,16.627624559865499,16.627624559865499,16.627624559865499,491.884709267424,491.884709267424,491.884709267424,6.5150292618201897,6.5150292618201897,6.5150292618201897,{"$f":"output[[#This Row],[ishp_Program]]-output[[#This Row],[ishp_Baseline]]","v":0},{"$f":"output[[#This Row],[ishp_Market]]-output[[#This Row],[ishp_Program]]","v":0}]
["All","Chemical","Base",2014,"51-100 HP","Traditional","Non ASD Control","constant","Pumps","2014 and before",21910950.649104699,21910950.649104699,21910950.649104699,23552080.8527226,23552080.8527226,23552080.8527226,4739.6050575153204,4739.6050575153204,4739.6050575153204,62.776225927355298,62.776225927355298,62.776225927355298,1857.0701742758699,1857.0701742758699,1857.0701742758699,24.596955950673799,24.596955950673799,24.596955950673799,{"$f":"output[[#This Row],[ishp_Program]]-output[[#This Row],[ishp_Baseline]]","v":0},{"$f":"output[[#This Row],[ishp_Market]]-output[[#This Row],[ishp_Program]]","v":0}]
["All","Chemical","Base",2014,"51-100 HP","Traditional","Non ASD Control","variable","Fans","2014 and before",2891844.1643668902,2891844.1643668902,2891844.1643668902,3108443.2922779699,3108443.2922779699,3108443.2922779699,747.65126245251599,747.65126245251599,747.65126245251599,9.9026657278479,9.9026657278479,9.9026657278479,292.94442119363799,292.94442119363799,292.94442119363799,3.88005855885614,3.88005855885614,3.88005855885614,{"$f":"output[[#This Row],[ishp_Program]]-output[[#This Row],[ishp_Baseline]]","v":0},{"$f":"output[[#This Row],[ishp_Market]]-output[[#This Row],[ishp_Program]]","v":0}]
["All","Chemical","Base",2014,"51-100 HP","Traditional","Non ASD Control","variable","Pumps","2014 and before",7437342.12397308,7437342.12397308,7437342.12397308,7994399.0490586702,7994399.0490586702,7994399.0490586702,1964.8320368007601,1964.8320368007601,1964.8320368007601,26.0242653880895,26.0242653880895,26.0242653880895,769.85970955927201,769.85970955927201,769.85970955927201,10.1968173451559,10.1968173451559,10.1968173451559,{"$f":"output[[#This Row],[ishp_Program]]-output[[#This Row],[ishp_Baseline]]","v":0},{"$f":"output[[#This Row],[ishp_Market]]-output[[#This Row],[ishp_Program]]","v":0}]
["All","Chemical","Base",2014,"6-10 HP","Traditional","ASD Control","constant","Fans","2014 and before",107085.241128439,107085.241128439,107085.241128439,115105.925688959,115105.925688959,115105.925688959,25.149623832662702,25.149623832662702,25.149623832662702,3.1437029790828399,3.1437029790828399,3.1437029790828399,9.8541156377235808,9.8541156377235808,9.8541156377235808,1.23176445471544,1.23176445471544,1.23176445471544,{"$f":"output[[#This Row],[ishp_Program]]-output[[#This Row],[ishp_Baseline]]","v":0},{"$f":"output[[#This Row],[ishp_Market]]-output[[#This Row],[ishp_Program]]","v":0}]
["All","Chemical","Base",2014,"6-10 HP","Traditional","ASD Control","constant","Pumps","2014 and before",1359764.46132142,1359764.46132142,1359764.46132142,1461610.81947439,1461610.81947439,1461610.81947439,404.05472201528801,404.05472201528801,404.05472201528801,50.5068402519111,50.5068402519111,50.5068402519111,158.31656096326401,158.31656096326401,158.31656096326401,19.789570120408001,19.789570120408001,19.789570120408001,{"$f":"output[[#This Row],[ishp_Program]]-output[[#This Row],[ishp_Baseline]]","v":0},{"$f":"output[[#This Row],[ishp_Market]]-output[[#This Row],[ishp_Program]]","v":0}]
["All","Chemical","Base",2014,"6-10 HP","Traditional","ASD Control","variable","Fans","2014 and before",700178.83272290102,700178.83272290102,700178.83272290102,752622.22729384596,752622.22729384596,752622.22729384596,349.93026502365501,349.93026502365501,349.93026502365501,43.741283127956898,43.741283127956898,43.741283127956898,137.10953768636401,137.10953768636401,137.10953768636401,17.138692210795501,17.138692210795501,17.138692210795501,{"$f":"output[[#This Row],[ishp_Program]]-output[[#This Row],[ishp_Baseline]]","v":0},{"$f":"output[[#This Row],[ishp_Market]]-output[[#This Row],[ishp_Program]]","v":0}]
["All","Chemical","Base",2014,"6-10 HP","Traditional","ASD Control","variable","Pumps","2014 and before",3082722.2664881502,3082722.2664881502,3082722.2664881502,3313618.16424812,3313618.16424812,3313618.16424812,1368.3072670925901,1368.3072670925901,1368.3072670925901,171.038408386573,171.038408386573,171.038408386573,536.12961082767595,536.12961082767595,536.12961082767595,67.016201353459493,67.016201353459493,67.016201353459493,{"$f":"output[[#This Row],[ishp_Program]]-output[[#This Row],[ishp_Baseline]]","v":0},{"$f":"output[[#This Row],[ishp_Market]]-output[[#This Row],[ishp_Program]]","v":0}]
["All","Chemical","Base",2014,"6-10 HP","Traditional","Non ASD Control","constant","Fans","2014 and before",4597801.8715280304,4597801.8715280304,4597801.8715280304,4942177.2317054803,4942177.2317054803,4942177.2317054803,1038.9693621469901,1038.9693621469901,1038.9693621469901,129.87117026837399,129.87117026837399,129.87117026837399,407.08856350176399,407.08856350176399,407.08856350176399,50.886070437720598,50.886070437720598,50.886070437720598,{"$f":"output[[#This Row],[ishp_Program]]-output[[#This Row],[ishp_Baseline]]","v":0},{"$f":"output[[#This Row],[ishp_Market]]-output[[#This Row],[ishp_Program]]","v":0}]
["All","Chemical","Base",2014,"6-10 HP","Traditional","Non ASD Control","constant","Pumps","2014 and before",5254013.9761654902,5254013.9761654902,5254013.9761654902,5647539.6229802901,5647539.6229802901,5647539.6229802901,1327.5814937499799,1327.5814937499799,1327.5814937499799,165.947686718748,165.947686718748,165.947686718748,520.17245446526101,520.17245446526101,520.17245446526101,65.021556808157598,65.021556808157598,65.021556808157598,{"$f":"output[[#This Row],[ishp_Program]]-output[[#This Row],[ishp_Baseline]]","v":0},{"$f":"output[[#This Row],[ishp_Market]]-output[[#This Row],[ishp_Program]]","v":0}]
["All","Chemical","Base",2014,"6-10 HP","Traditional","Non ASD Control","variable","Fans","2014 and before",2508052.3847926902,2508052.3847926902,2508052.3847926902,2695905.5084136599,2695905.5084136599,2695905.5084136599,618.76344740491402,618.76344740491402,618.76344740491402,77.345430925614295,77.345430925614295,77.345430925614295,242.44364860859801,242.44364860859801,242.44364860859801,30.305456076074801,30.305456076074801,30.305456076074801,{"$f":"output[[#This Row],[ishp_Program]]-output[[#This Row],[ishp_Baseline]]","v":0},{"$f":"output[[#This Row],[ishp_Market]]-output[[#This Row],[ishp_Program]]","v":0}]
["All","Chemical","Base",2014,"6-10 HP","Traditional","Non ASD Control","variable","Pumps","2014 and before",1783395.8959911901,1783395.8959911901,1783395.8959911901,1916972.24860093,1916972.24860093,1916972.24860093,550.35696407819296,550.35696407819296,550.35696407819296,68.794620509774106,68.794620509774106,68.794620509774106,215.64064743622799,215.64064743622799,215.64064743622799,26.955080929528599,26.955080929528599,26.955080929528599,{"$f":"output[[#This Row],[ishp_Program]]-output[[#This Row],[ishp_Baseline]]","v":0},{"$f":"output[[#This Row],[ishp_Market]]-output[[#This Row],[ishp_Program]]","v":0}]
["All","Chemical","Base",2015,"1,001+ HP","Traditional","ASD Control","constant","Fans",2015,0,0,0,0,0,0,0,0,0,0,0,0,0,0,0,0,0,0,{"$f":"output[[#This Row],[ishp_Program]]-output[[#This Row],[ishp_Baseline]]","v":0},{"$f":"output[[#This Row],[ishp_Market]]-output[[#This Row],[ishp_Program]]","v":0}]
["All","Chemical","Base",2015,"1,001+ HP","Traditional","ASD Control","constant","Fans","2014 and before",0,0,0,0,0,0,0,0,0,0,0,0,0,0,0,0,0,0,{"$f":"output[[#This Row],[ishp_Program]]-output[[#This Row],[ishp_Baseline]]","v":0},{"$f":"output[[#This Row],[ishp_Market]]-output[[#This Row],[ishp_Program]]","v":0}]
["All","Chemical","Base",2015,"1,001+ HP","Traditional","ASD Control","constant","Pumps",2015,0,0,0,0,0,0,0,0,0,0,0,0,0,0,0,0,0,0,{"$f":"output[[#This Row],[ishp_Program]]-output[[#This Row],[ishp_Baseline]]","v":0},{"$f":"output[[#This Row],[ishp_Market]]-output[[#This Row],[ishp_Program]]","v":0}]
["All","Chemical","Base",2015,"1,001+ HP","Traditional","ASD Control","constant","Pumps","2014 and before",0,0,0,0,0,0,0,0,0,0,0,0,0,0,0,0,0,0,{"$f":"output[[#This Row],[ishp_Program]]-output[[#This Row],[ishp_Baseline]]","v":0},{"$f":"output[[#This Row],[ishp_Market]]-output[[#This Row],[ishp_Program]]","v":0}]
["All","Chemical","Base",2015,"1,001+ HP","Traditional","ASD Control","variable","Fans",2015,0,0,0,0,0,0,0,0,0,0,0,0,0,0,0,0,0,0,{"$f":"output[[#This Row],[ishp_Program]]-output[[#This Row],[ishp_Baseline]]","v":0},{"$f":"output[[#This Row],[ishp_Market]]-output[[#This Row],[ishp_Program]]","v":0}]
["All","Chemical","Base",2015,"1,001+ HP","Traditional","ASD Control","variable","Fans","2014 and before",0,0,0,0,0,0,0,0,0,0,0,0,0,0,0,0,0,0,{"$f":"output[[#This Row],[ishp_Program]]-output[[#This Row],[ishp_Baseline]]","v":0},{"$f":"output[[#This Row],[ishp_Market]]-output[[#This Row],[ishp_Program]]","v":0}]
["All","Chemical","Base",2015,"1,001+ HP","Traditional","ASD Control","variable","Pumps",2015,0,0,0,0,0,0,0,0,0,0,0,0,0,0,0,0,0,0,{"$f":"output[[#This Row],[ishp_Program]]-output[[#This Row],[ishp_Baseline]]","v":0},{"$f":"output[[#This Row],[ishp_Market]]-output[[#This Row],[ishp_Program]]","v":0}]
["All","Chemical","Base",2015,"1,001+ HP","Traditional","ASD Control","variable","Pumps","2014 and before",0,0,0,0,0,0,0,0,0,0,0,0,0,0,0,0,0,0,{"$f":"output[[#This Row],[ishp_Program]]-output[[#This Row],[ishp_Baseline]]","v":0},{"$f":"output[[#This Row],[ishp_Market]]-output[[#This Row],[ishp_Program]]","v":0}]
["All","Chemical","Base",2015,"1,001+ HP","Traditional","Non ASD Control","constant","Fans",2015,361062.88658118102,361062.88658118102,361062.88658118102,388106.49678611202,388106.49678611202,388106.49678611202,86.619986208144496,86.619986208144496,86.619986208144496,8.6619986208144498E-2,8.6619986208144498E-2,8.6619986208144498E-2,0,0,0,0,0,0,{"$f":"output[[#This Row],[ishp_Program]]-output[[#This Row],[ishp_Baseline]]","v":0},{"$f":"output[[#This Row],[ishp_Market]]-output[[#This Row],[ishp_Program]]","v":0}]
["All","Chemical","Base",2015,"1,001+ HP","Traditional","Non ASD Control","constant","Fans","2014 and before",1244757.8614815699,1244757.8614815699,1244757.8614815699,1337990.22530654,1337990.22530654,1337990.22530654,298.62085747705498,298.62085747705498,298.62085747705498,0.29862085747705502,0.29862085747705502,0.29862085747705502,107.628443787734,107.628443787734,107.628443787734,0.10762844378773399,0.10762844378773399,0.10762844378773399,{"$f":"output[[#This Row],[ishp_Program]]-output[[#This Row],[ishp_Baseline]]","v":0},{"$f":"output[[#This Row],[ishp_Market]]-output[[#This Row],[ishp_Program]]","v":0}]
["All","Chemical","Base",2015,"1,001+ HP","Traditional","Non ASD Control","constant","Pumps",2015,783404.22018939198,783404.22018939198,783404.22018939198,842081.19628157804,842081.19628157804,842081.19628157804,164.85737900337401,164.85737900337401,164.85737900337401,0.16485737900337399,0.16485737900337399,0.16485737900337399,0,0,0,0,0,0,{"$f":"output[[#This Row],[ishp_Program]]-output[[#This Row],[ishp_Baseline]]","v":0},{"$f":"output[[#This Row],[ishp_Market]]-output[[#This Row],[ishp_Program]]","v":0}]
["All","Chemical","Base",2015,"1,001+ HP","Traditional","Non ASD Control","constant","Pumps","2014 and before",2306557.4675380802,2306557.4675380802,2306557.4675380802,2479318.6218566899,2479318.6218566899,2479318.6218566899,485.38546106767501,485.38546106767501,485.38546106767501,0.48538546106767499,0.48538546106767499,0.48538546106767499,179.66784790026,179.66784790026,179.66784790026,0.17966784790026,0.17966784790026,0.17966784790026,{"$f":"output[[#This Row],[ishp_Program]]-output[[#This Row],[ishp_Baseline]]","v":0},{"$f":"output[[#This Row],[ishp_Market]]-output[[#This Row],[ishp_Program]]","v":0}]
["All","Chemical","Base",2015,"1,001+ HP","Traditional","Non ASD Control","variable","Fans",2015,196955.99311440301,196955.99311440301,196955.99311440301,211707.996998672,211707.996998672,211707.996998672,51.586969965659698,51.586969965659698,51.586969965659698,5.1586969965659701E-2,5.1586969965659701E-2,5.1586969965659701E-2,0,0,0,0,0,0,{"$f":"output[[#This Row],[ishp_Program]]-output[[#This Row],[ishp_Baseline]]","v":0},{"$f":"output[[#This Row],[ishp_Market]]-output[[#This Row],[ishp_Program]]","v":0}]
["All","Chemical","Base",2015,"1,001+ HP","Traditional","Non ASD Control","variable","Fans","2014 and before",679002.273306043,679002.273306043,679002.273306043,729859.54357666499,729859.54357666499,729859.54357666499,177.845158838641,177.845158838641,177.845158838641,0.17784515883864099,0.17784515883864099,0.17784515883864099,64.098662908889906,64.098662908889906,64.098662908889906,6.4098662908889895E-2,6.4098662908889895E-2,6.4098662908889895E-2,{"$f":"output[[#This Row],[ishp_Program]]-output[[#This Row],[ishp_Baseline]]","v":0},{"$f":"output[[#This Row],[ishp_Market]]-output[[#This Row],[ishp_Program]]","v":0}]
["All","Chemical","Base",2015,"1,001+ HP","Traditional","Non ASD Control","variable","Pumps",2015,265914.761080936,265914.761080936,265914.761080936,285831.77668589802,285831.77668589802,285831.77668589802,68.342626830313307,68.342626830313307,68.342626830313307,6.8342626830313294E-2,6.8342626830313294E-2,6.8342626830313294E-2,0,0,0,0,0,0,{"$f":"output[[#This Row],[ishp_Program]]-output[[#This Row],[ishp_Baseline]]","v":0},{"$f":"output[[#This Row],[ishp_Market]]-output[[#This Row],[ishp_Program]]","v":0}]
["All","Chemical","Base",2015,"1,001+ HP","Traditional","Non ASD Control","variable","Pumps","2014 and before",782926.18560512597,782926.18560512597,782926.18560512597,841567.35690695001,841567.35690695001,841567.35690695001,201.21948823369701,201.21948823369701,201.21948823369701,0.20121948823369701,0.20121948823369701,0.20121948823369701,74.482396582330693,74.482396582330693,74.482396582330693,7.4482396582330704E-2,7.4482396582330704E-2,7.4482396582330704E-2,{"$f":"output[[#This Row],[ishp_Program]]-output[[#This Row],[ishp_Baseline]]","v":0},{"$f":"output[[#This Row],[ishp_Market]]-output[[#This Row],[ishp_Program]]","v":0}]
["All","Chemical","Base",2015,"1-5 HP","Traditional","ASD Control","constant","Fans",2015,32495.201078905098,32495.201078905098,32495.201078905098,34929.091639715101,34929.091639715101,34929.091639715101,7.1664218557097996,7.1664218557097996,7.1664218557097996,2.3888072852366,2.3888072852366,2.3888072852366,2.3520738370641101E-2,2.3520738370641101E-2,2.3520738370641101E-2,7.8402461235470393E-3,7.8402461235470393E-3,7.8402461235470393E-3,{"$f":"output[[#This Row],[ishp_Program]]-output[[#This Row],[ishp_Baseline]]","v":0},{"$f":"output[[#This Row],[ishp_Market]]-output[[#This Row],[ishp_Program]]","v":0}]
["All","Chemical","Base",2015,"1-5 HP","Traditional","ASD Control","constant","Fans","2014 and before",108672.219295046,108672.219295046,108672.219295046,116811.76852024499,116811.76852024499,116811.76852024499,23.966337847039,23.966337847039,23.966337847039,7.9887792823463402,7.9887792823463402,7.9887792823463402,7.35077997962998,7.35077997962998,7.35077997962998,2.4502599932099902,2.4502599932099902,2.4502599932099902,{"$f":"output[[#This Row],[ishp_Program]]-output[[#This Row],[ishp_Baseline]]","v":0},{"$f":"output[[#This Row],[ishp_Market]]-output[[#This Row],[ishp_Program]]","v":0}]
["All","Chemical","Base",2015,"1-5 HP","Traditional","ASD Control","constant","Pumps",2015,79335.368242620403,79335.368242620403,79335.368242620403,85277.587323992702,85277.587323992702,85277.587323992702,23.018598448198698,23.018598448198698,23.018598448198698,7.6728661493995904,7.6728661493995904,7.6728661493995904,0.15243164817567201,0.15243164817567201,0.15243164817567201,5.08105493918906E-2,5.08105493918906E-2,5.08105493918906E-2,{"$f":"output[[#This Row],[ishp_Program]]-output[[#This Row],[ishp_Baseline]]","v":0},{"$f":"output[[#This Row],[ishp_Market]]-output[[#This Row],[ishp_Program]]","v":0}]
["All","Chemical","Base",2015,"1-5 HP","Traditional","ASD Control","constant","Pumps","2014 and before",222087.901780288,222087.901780288,222087.901780288,238722.28562363199,238722.28562363199,238722.28562363199,64.437240848869195,64.437240848869195,64.437240848869195,21.479080282956399,21.479080282956399,21.479080282956399,20.6899609832798,20.6899609832798,20.6899609832798,6.8966536610932696,6.8966536610932696,6.8966536610932696,{"$f":"output[[#This Row],[ishp_Program]]-output[[#This Row],[ishp_Baseline]]","v":0},{"$f":"output[[#This Row],[ishp_Market]]-output[[#This Row],[ishp_Program]]","v":0}]
["All","Chemical","Base",2015,"1-5 HP","Traditional","ASD Control","variable","Fans",2015,213530.803926694,213530.803926694,213530.803926694,229524.26114080401,229524.26114080401,229524.26114080401,99.713137497625198,99.713137497625198,99.713137497625198,33.237712499208399,33.237712499208399,33.237712499208399,0.32726605639729001,0.32726605639729001,0.32726605639729001,0.109088685465763,0.109088685465763,0.109088685465763,{"$f":"output[[#This Row],[ishp_Program]]-output[[#This Row],[ishp_Baseline]]","v":0},{"$f":"output[[#This Row],[ishp_Market]]-output[[#This Row],[ishp_Program]]","v":0}]
["All","Chemical","Base",2015,"1-5 HP","Traditional","ASD Control","variable","Fans","2014 and before",714101.33127728698,714101.33127728698,714101.33127728698,767587.52098995598,767587.52098995598,767587.52098995598,333.46609914574299,333.46609914574299,333.46609914574299,111.15536638191401,111.15536638191401,111.15536638191401,102.27828469791299,102.27828469791299,102.27828469791299,34.092761565971102,34.092761565971102,34.092761565971102,{"$f":"output[[#This Row],[ishp_Program]]-output[[#This Row],[ishp_Baseline]]","v":0},{"$f":"output[[#This Row],[ishp_Market]]-output[[#This Row],[ishp_Program]]","v":0}]
["All","Chemical","Base",2015,"1-5 HP","Traditional","ASD Control","variable","Pumps",2015,180429.77421071101,180429.77421071101,180429.77421071101,193943.964299093,193943.964299093,193943.964299093,77.951113596352897,77.951113596352897,77.951113596352897,25.983704532117599,25.983704532117599,25.983704532117599,0.51620070393779305,0.51620070393779305,0.51620070393779305,0.172066901312597,0.172066901312597,0.172066901312597,{"$f":"output[[#This Row],[ishp_Program]]-output[[#This Row],[ishp_Baseline]]","v":0},{"$f":"output[[#This Row],[ishp_Market]]-output[[#This Row],[ishp_Program]]","v":0}]
["All","Chemical","Base",2015,"1-5 HP","Traditional","ASD Control","variable","Pumps","2014 and before",505087.086135449,505087.086135449,505087.086135449,542918.10888699396,542918.10888699396,542918.10888699396,218.21288088192901,218.21288088192901,218.21288088192901,72.737626960643098,72.737626960643098,72.737626960643098,70.065321420034607,70.065321420034607,70.065321420034607,23.355107140011501,23.355107140011501,23.355107140011501,{"$f":"output[[#This Row],[ishp_Program]]-output[[#This Row],[ishp_Baseline]]","v":0},{"$f":"output[[#This Row],[ishp_Market]]-output[[#This Row],[ishp_Program]]","v":0}]
["All","Chemical","Base",2015,"1-5 HP","Traditional","Non ASD Control","constant","Fans",2015,978680.17356899194,978680.17356899194,978680.17356899194,1051983.31856931,1051983.31856931,1051983.31856931,209.999131360902,209.999131360902,209.999131360902,69.999710453634094,69.999710453634094,69.999710453634094,0,0,0,0,0,0,{"$f":"output[[#This Row],[ishp_Program]]-output[[#This Row],[ishp_Baseline]]","v":0},{"$f":"output[[#This Row],[ishp_Market]]-output[[#This Row],[ishp_Program]]","v":0}]
["All","Chemical","Base",2015,"1-5 HP","Traditional","Non ASD Control","constant","Fans","2014 and before",3373982.44239718,3373982.44239718,3373982.44239718,3626693.7273327298,3626693.7273327298,3626693.7273327298,723.96825977020399,723.96825977020399,723.96825977020399,241.32275325673399,241.32275325673399,241.32275325673399,260.93146275547201,260.93146275547201,260.93146275547201,86.977154251824004,86.977154251824004,86.977154251824004,{"$f":"output[[#This Row],[ishp_Program]]-output[[#This Row],[ishp_Baseline]]","v":0},{"$f":"output[[#This Row],[ishp_Market]]-output[[#This Row],[ishp_Program]]","v":0}]
["All","Chemical","Base",2015,"1-5 HP","Traditional","Non ASD Control","constant","Pumps",2015,389111.696818806,389111.696818806,389111.696818806,418256.162910535,418256.162910535,418256.162910535,97.1615767015779,97.1615767015779,97.1615767015779,32.387192233859302,32.387192233859302,32.387192233859302,0,0,0,0,0,0,{"$f":"output[[#This Row],[ishp_Program]]-output[[#This Row],[ishp_Baseline]]","v":0},{"$f":"output[[#This Row],[ishp_Market]]-output[[#This Row],[ishp_Program]]","v":0}]
["All","Chemical","Base",2015,"1-5 HP","Traditional","Non ASD Control","constant","Pumps","2014 and before",1145651.84469756,1145651.84469756,1145651.84469756,1231461.16786541,1231461.16786541,1231461.16786541,286.070402128571,286.070402128571,286.070402128571,95.356800709523696,95.356800709523696,95.356800709523696,105.890385314273,105.890385314273,105.890385314273,35.296795104757699,35.296795104757699,35.296795104757699,{"$f":"output[[#This Row],[ishp_Program]]-output[[#This Row],[ishp_Baseline]]","v":0},{"$f":"output[[#This Row],[ishp_Market]]-output[[#This Row],[ishp_Program]]","v":0}]
["All","Chemical","Base",2015,"1-5 HP","Traditional","Non ASD Control","variable","Fans",2015,533859.70336587902,533859.70336587902,533859.70336587902,573845.79514798406,573845.79514798406,573845.79514798406,125.066042567793,125.066042567793,125.066042567793,41.688680855931203,41.688680855931203,41.688680855931203,0,0,0,0,0,0,{"$f":"output[[#This Row],[ishp_Program]]-output[[#This Row],[ishp_Baseline]]","v":0},{"$f":"output[[#This Row],[ishp_Market]]-output[[#This Row],[ishp_Program]]","v":0}]
["All","Chemical","Base",2015,"1-5 HP","Traditional","Non ASD Control","variable","Fans","2014 and before",1840471.8052999999,1840471.8052999999,1840471.8052999999,1978323.1435169701,1978323.1435169701,1978323.1435169701,431.16295104356402,431.16295104356402,431.16295104356402,143.72098368118799,143.72098368118799,143.72098368118799,155.39904959020299,155.39904959020299,155.39904959020299,51.799683196734399,51.799683196734399,51.799683196734399,{"$f":"output[[#This Row],[ishp_Program]]-output[[#This Row],[ishp_Baseline]]","v":0},{"$f":"output[[#This Row],[ishp_Market]]-output[[#This Row],[ishp_Program]]","v":0}]
["All","Chemical","Base",2015,"1-5 HP","Traditional","Non ASD Control","variable","Pumps",2015,132078.10377681599,132078.10377681599,132078.10377681599,141970.7537497,141970.7537497,141970.7537497,40.2789212039145,40.2789212039145,40.2789212039145,13.4263070679715,13.4263070679715,13.4263070679715,0,0,0,0,0,0,{"$f":"output[[#This Row],[ishp_Program]]-output[[#This Row],[ishp_Baseline]]","v":0},{"$f":"output[[#This Row],[ishp_Market]]-output[[#This Row],[ishp_Program]]","v":0}]
["All","Chemical","Base",2015,"1-5 HP","Traditional","Non ASD Control","variable","Pumps","2014 and before",388874.26020124898,388874.26020124898,388874.26020124898,418000.94229032297,418000.94229032297,418000.94229032297,118.592221094758,118.592221094758,118.592221094758,39.530740364919502,39.530740364919502,39.530740364919502,43.897501781241601,43.897501781241601,43.897501781241601,14.632500593747199,14.632500593747199,14.632500593747199,{"$f":"output[[#This Row],[ishp_Program]]-output[[#This Row],[ishp_Baseline]]","v":0},{"$f":"output[[#This Row],[ishp_Market]]-output[[#This Row],[ishp_Program]]","v":0}]
["All","Chemical","Base",2015,"101-200 HP","Traditional","ASD Control","constant","Fans",2015,91305.714017018297,91305.714017018297,91305.714017018297,98144.511996892994,98144.511996892994,98144.511996892994,22.959420125724801,22.959420125724801,22.959420125724801,0.15255428654966699,0.15255428654966699,0.15255428654966699,7.5354552772880098E-2,7.5354552772880098E-2,7.5354552772880098E-2,5.0069470280983495E-4,5.0069470280983495E-4,5.0069470280983495E-4,{"$f":"output[[#This Row],[ishp_Program]]-output[[#This Row],[ishp_Baseline]]","v":0},{"$f":"output[[#This Row],[ishp_Market]]-output[[#This Row],[ishp_Program]]","v":0}]
["All","Chemical","Base",2015,"101-200 HP","Traditional","ASD Control","constant","Fans","2014 and before",305349.53615010798,305349.53615010798,305349.53615010798,328220.21640775102,328220.21640775102,328220.21640775102,76.782141853234506,76.782141853234506,76.782141853234506,0.51018034453976402,0.51018034453976402,0.51018034453976402,23.5500573650469,23.5500573650469,23.5500573650469,0.15647878647871699,0.15647878647871699,0.15647878647871699,{"$f":"output[[#This Row],[ishp_Program]]-output[[#This Row],[ishp_Baseline]]","v":0},{"$f":"output[[#This Row],[ishp_Market]]-output[[#This Row],[ishp_Program]]","v":0}]
["All","Chemical","Base",2015,"101-200 HP","Traditional","ASD Control","constant","Pumps",2015,1790929.5822197699,1790929.5822197699,1790929.5822197699,1925070.2079280301,1925070.2079280301,1925070.2079280301,455.47060754524301,455.47060754524301,455.47060754524301,3.0263827743870002,3.0263827743870002,3.0263827743870002,3.0161756181611401,3.0161756181611401,3.0161756181611401,2.0041034007715199E-2,2.0041034007715199E-2,2.0041034007715199E-2,{"$f":"output[[#This Row],[ishp_Program]]-output[[#This Row],[ishp_Baseline]]","v":0},{"$f":"output[[#This Row],[ishp_Market]]-output[[#This Row],[ishp_Program]]","v":0}]
["All","Chemical","Base",2015,"101-200 HP","Traditional","ASD Control","constant","Pumps","2014 and before",5013448.6290537296,5013448.6290537296,5013448.6290537296,5388955.9313698504,5388955.9313698504,5388955.9313698504,1275.0241637874401,1275.0241637874401,1275.0241637874401,8.4719213540694103,8.4719213540694103,8.4719213540694103,409.39369616047401,409.39369616047401,409.39369616047401,2.7202238947539801,2.7202238947539801,2.7202238947539801,{"$f":"output[[#This Row],[ishp_Program]]-output[[#This Row],[ishp_Baseline]]","v":0},{"$f":"output[[#This Row],[ishp_Market]]-output[[#This Row],[ishp_Program]]","v":0}]
["All","Chemical","Base",2015,"101-200 HP","Traditional","ASD Control","variable","Fans",2015,588325.26167160994,588325.26167160994,588325.26167160994,632390.82377081399,632390.82377081399,632390.82377081399,319.45591007011598,319.45591007011598,319.45591007011598,2.1226306316951198,2.1226306316951198,2.1226306316951198,1.0484784503340701,1.0484784503340701,1.0484784503340701,6.9666342214888804E-3,6.9666342214888804E-3,6.9666342214888804E-3,{"$f":"output[[#This Row],[ishp_Program]]-output[[#This Row],[ishp_Baseline]]","v":0},{"$f":"output[[#This Row],[ishp_Market]]-output[[#This Row],[ishp_Program]]","v":0}]
["All","Chemical","Base",2015,"101-200 HP","Traditional","ASD Control","variable","Fans","2014 and before",1967509.34693237,1967509.34693237,1967509.34693237,2114875.7970175999,2114875.7970175999,2114875.7970175999,1068.34183392005,1068.34183392005,1068.34183392005,7.0986168366780698,7.0986168366780698,7.0986168366780698,327.67399901904099,327.67399901904099,327.67399901904099,2.1772358738806701,2.1772358738806701,2.1772358738806701,{"$f":"output[[#This Row],[ishp_Program]]-output[[#This Row],[ishp_Baseline]]","v":0},{"$f":"output[[#This Row],[ishp_Market]]-output[[#This Row],[ishp_Program]]","v":0}]
["All","Chemical","Base",2015,"101-200 HP","Traditional","ASD Control","variable","Pumps",2015,4049629.0054544699,4049629.0054544699,4049629.0054544699,4352946.2179630101,4352946.2179630101,4352946.2179630101,1542.42410320761,1542.42410320761,1542.42410320761,10.2486651375921,10.2486651375921,10.2486651375921,10.214099210554901,10.214099210554901,10.214099210554901,6.7867768840896403E-2,6.7867768840896403E-2,6.7867768840896403E-2,{"$f":"output[[#This Row],[ishp_Program]]-output[[#This Row],[ishp_Baseline]]","v":0},{"$f":"output[[#This Row],[ishp_Market]]-output[[#This Row],[ishp_Program]]","v":0}]
["All","Chemical","Base",2015,"101-200 HP","Traditional","ASD Control","variable","Pumps","2014 and before",11336351.3491177,11336351.3491177,11336351.3491177,12185444.0651666,12185444.0651666,12185444.0651666,4317.7934422531098,4317.7934422531098,4317.7934422531098,28.689657423608701,28.689657423608701,28.689657423608701,1386.3873852638101,1386.3873852638101,1386.3873852638101,9.2118763140452593,9.2118763140452593,9.2118763140452593,{"$f":"output[[#This Row],[ishp_Program]]-output[[#This Row],[ishp_Baseline]]","v":0},{"$f":"output[[#This Row],[ishp_Market]]-output[[#This Row],[ishp_Program]]","v":0}]
["All","Chemical","Base",2015,"101-200 HP","Traditional","Non ASD Control","constant","Fans",2015,1431982.9089448401,1431982.9089448401,1431982.9089448401,1539238.4288248101,1539238.4288248101,1539238.4288248101,342.437851269698,342.437851269698,342.437851269698,2.27533455993155,2.27533455993155,2.27533455993155,0,0,0,0,0,0,{"$f":"output[[#This Row],[ishp_Program]]-output[[#This Row],[ishp_Baseline]]","v":0},{"$f":"output[[#This Row],[ishp_Market]]-output[[#This Row],[ishp_Program]]","v":0}]
["All","Chemical","Base",2015,"101-200 HP","Traditional","Non ASD Control","constant","Fans","2014 and before",4936735.5373855997,4936735.5373855997,4936735.5373855997,5306497.0291357897,5306497.0291357897,5306497.0291357897,1180.54838444597,1180.54838444597,1180.54838444597,7.8441753119333999,7.8441753119333999,7.8441753119333999,425.491328728795,425.491328728795,425.491328728795,2.8271849084969798,2.8271849084969798,2.8271849084969798,{"$f":"output[[#This Row],[ishp_Program]]-output[[#This Row],[ishp_Baseline]]","v":0},{"$f":"output[[#This Row],[ishp_Market]]-output[[#This Row],[ishp_Program]]","v":0}]
["All","Chemical","Base",2015,"101-200 HP","Traditional","Non ASD Control","constant","Pumps",2015,3198663.72864604,3198663.72864604,3198663.72864604,3438243.6419216199,3438243.6419216199,3438243.6419216199,679.10631615531895,679.10631615531895,679.10631615531895,4.5123343266134199,4.5123343266134199,4.5123343266134199,0,0,0,0,0,0,{"$f":"output[[#This Row],[ishp_Program]]-output[[#This Row],[ishp_Baseline]]","v":0},{"$f":"output[[#This Row],[ishp_Market]]-output[[#This Row],[ishp_Program]]","v":0}]
["All","Chemical","Base",2015,"101-200 HP","Traditional","Non ASD Control","constant","Pumps","2014 and before",9417745.6788120102,9417745.6788120102,9417745.6788120102,10123134.830155,10123134.830155,10123134.830155,1999.47575518759,1999.47575518759,1999.47575518759,13.2855531906152,13.2855531906152,13.2855531906152,740.11591750832099,740.11591750832099,740.11591750832099,4.9177137375968201,4.9177137375968201,4.9177137375968201,{"$f":"output[[#This Row],[ishp_Program]]-output[[#This Row],[ishp_Baseline]]","v":0},{"$f":"output[[#This Row],[ishp_Market]]-output[[#This Row],[ishp_Program]]","v":0}]
["All","Chemical","Base",2015,"101-200 HP","Traditional","Non ASD Control","variable","Fans",2015,781131.56027924095,781131.56027924095,781131.56027924095,839638.31414415594,839638.31414415594,839638.31414415594,203.940590640431,203.940590640431,203.940590640431,1.3550869809995401,1.3550869809995401,1.3550869809995401,0,0,0,0,0,0,{"$f":"output[[#This Row],[ishp_Program]]-output[[#This Row],[ishp_Baseline]]","v":0},{"$f":"output[[#This Row],[ishp_Market]]-output[[#This Row],[ishp_Program]]","v":0}]
["All","Chemical","Base",2015,"101-200 HP","Traditional","Non ASD Control","variable","Fans","2014 and before",2692937.1216067402,2692937.1216067402,2692937.1216067402,2894638.11201509,2894638.11201509,2894638.11201509,703.08154869801103,703.08154869801103,703.08154869801103,4.6716381973289796,4.6716381973289796,4.6716381973289796,253.40350832008201,253.40350832008201,253.40350832008201,1.6837442413294501,1.6837442413294501,1.6837442413294501,{"$f":"output[[#This Row],[ishp_Program]]-output[[#This Row],[ishp_Baseline]]","v":0},{"$f":"output[[#This Row],[ishp_Market]]-output[[#This Row],[ishp_Program]]","v":0}]
["All","Chemical","Base",2015,"101-200 HP","Traditional","Non ASD Control","variable","Pumps",2015,1085738.2169520799,1085738.2169520799,1085738.2169520799,1167060.0094017901,1167060.0094017901,1167060.0094017901,281.52764422004799,281.52764422004799,281.52764422004799,1.8706155762129399,1.8706155762129399,1.8706155762129399,0,0,0,0,0,0,{"$f":"output[[#This Row],[ishp_Program]]-output[[#This Row],[ishp_Baseline]]","v":0},{"$f":"output[[#This Row],[ishp_Market]]-output[[#This Row],[ishp_Program]]","v":0}]
["All","Chemical","Base",2015,"101-200 HP","Traditional","Non ASD Control","variable","Pumps","2014 and before",3196711.8986120299,3196711.8986120299,3196711.8986120299,3436145.61981807,3436145.61981807,3436145.61981807,828.89480725183296,828.89480725183296,828.89480725183296,5.5076066927032103,5.5076066927032103,5.5076066927032103,306.81954467085598,306.81954467085598,306.81954467085598,2.0386680709026899,2.0386680709026899,2.0386680709026899,{"$f":"output[[#This Row],[ishp_Program]]-output[[#This Row],[ishp_Baseline]]","v":0},{"$f":"output[[#This Row],[ishp_Market]]-output[[#This Row],[ishp_Program]]","v":0}]
["All","Chemical","Base",2015,"11-20 HP","Traditional","ASD Control","constant","Fans",2015,34263.413553721897,34263.413553721897,34263.413553721897,36829.743228895699,36829.743228895699,36829.743228895699,8.2548696215199708,8.2548696215199708,8.2548696215199708,0.53257223364645001,0.53257223364645001,0.53257223364645001,2.7093106233598101E-2,2.7093106233598101E-2,2.7093106233598101E-2,1.74794233765149E-3,1.74794233765149E-3,1.74794233765149E-3,{"$f":"output[[#This Row],[ishp_Program]]-output[[#This Row],[ishp_Baseline]]","v":0},{"$f":"output[[#This Row],[ishp_Market]]-output[[#This Row],[ishp_Program]]","v":0}]
["All","Chemical","Base",2015,"11-20 HP","Traditional","ASD Control","constant","Fans","2014 and before",114585.571649965,114585.571649965,114585.571649965,123168.030966548,123168.030966548,123168.030966548,27.606384080638499,27.606384080638499,27.606384080638499,1.7810570374605399,1.7810570374605399,1.7810570374605399,8.4672283560837993,8.4672283560837993,8.4672283560837993,0.54627279716669597,0.54627279716669597,0.54627279716669597,{"$f":"output[[#This Row],[ishp_Program]]-output[[#This Row],[ishp_Baseline]]","v":0},{"$f":"output[[#This Row],[ishp_Market]]-output[[#This Row],[ishp_Program]]","v":0}]
["All","Chemical","Base",2015,"11-20 HP","Traditional","ASD Control","constant","Pumps",2015,515447.47436055797,515447.47436055797,515447.47436055797,554054.49019016395,554054.49019016395,554054.49019016395,152.88675768169401,152.88675768169401,152.88675768169401,9.8636617859157703,9.8636617859157703,9.8636617859157703,1.0124326426781201,1.0124326426781201,1.0124326426781201,6.5318235011491602E-2,6.5318235011491602E-2,6.5318235011491602E-2,{"$f":"output[[#This Row],[ishp_Program]]-output[[#This Row],[ishp_Baseline]]","v":0},{"$f":"output[[#This Row],[ishp_Market]]-output[[#This Row],[ishp_Program]]","v":0}]
["All","Chemical","Base",2015,"11-20 HP","Traditional","ASD Control","constant","Pumps","2014 and before",1442920.73755305,1442920.73755305,1442920.73755305,1550995.50079578,1550995.50079578,1550995.50079578,427.98439051396502,427.98439051396502,427.98439051396502,27.6118961621913,27.6118961621913,27.6118961621913,137.42022818691299,137.42022818691299,137.42022818691299,8.8658211733492696,8.8658211733492696,8.8658211733492696,{"$f":"output[[#This Row],[ishp_Program]]-output[[#This Row],[ishp_Baseline]]","v":0},{"$f":"output[[#This Row],[ishp_Market]]-output[[#This Row],[ishp_Program]]","v":0}]
["All","Chemical","Base",2015,"11-20 HP","Traditional","ASD Control","variable","Fans",2015,222805.31236055799,222805.31236055799,222805.31236055799,239493.43025636399,239493.43025636399,239493.43025636399,114.857730422299,114.857730422299,114.857730422299,7.4101761562773802,7.4101761562773802,7.4101761562773802,0.37697175543136002,0.37697175543136002,0.37697175543136002,2.43207584149264E-2,2.43207584149264E-2,2.43207584149264E-2,{"$f":"output[[#This Row],[ishp_Program]]-output[[#This Row],[ishp_Baseline]]","v":0},{"$f":"output[[#This Row],[ishp_Market]]-output[[#This Row],[ishp_Program]]","v":0}]
["All","Chemical","Base",2015,"11-20 HP","Traditional","ASD Control","variable","Fans","2014 and before",745117.64694590599,745117.64694590599,745117.64694590599,800926.95870215399,800926.95870215399,800926.95870215399,384.113470720642,384.113470720642,384.113470720642,24.7815142400414,24.7815142400414,24.7815142400414,117.812476336609,117.812476336609,117.812476336609,7.6008049249425698,7.6008049249425698,7.6008049249425698,{"$f":"output[[#This Row],[ishp_Program]]-output[[#This Row],[ishp_Baseline]]","v":0},{"$f":"output[[#This Row],[ishp_Market]]-output[[#This Row],[ishp_Program]]","v":0}]
["All","Chemical","Base",2015,"11-20 HP","Traditional","ASD Control","variable","Pumps",2015,1167871.3275375201,1167871.3275375201,1167871.3275375201,1255344.88997008,1255344.88997008,1255344.88997008,517.74190519216495,517.74190519216495,517.74190519216495,33.402703560784801,33.402703560784801,33.402703560784801,3.42854288525244,3.42854288525244,3.42854288525244,0.22119631517757599,0.22119631517757599,0.22119631517757599,{"$f":"output[[#This Row],[ishp_Program]]-output[[#This Row],[ishp_Baseline]]","v":0},{"$f":"output[[#This Row],[ishp_Market]]-output[[#This Row],[ishp_Program]]","v":0}]
["All","Chemical","Base",2015,"11-20 HP","Traditional","ASD Control","variable","Pumps","2014 and before",3269287.0585660199,3269287.0585660199,3269287.0585660199,3514156.6592526101,3514156.6592526101,3514156.6592526101,1449.34366518872,1449.34366518872,1449.34366518872,93.506042915401807,93.506042915401807,93.506042915401807,465.36542361349001,465.36542361349001,465.36542361349001,30.0235757169994,30.0235757169994,30.0235757169994,{"$f":"output[[#This Row],[ishp_Program]]-output[[#This Row],[ishp_Baseline]]","v":0},{"$f":"output[[#This Row],[ishp_Market]]-output[[#This Row],[ishp_Program]]","v":0}]
["All","Chemical","Base",2015,"11-20 HP","Traditional","Non ASD Control","constant","Fans",2015,1201846.09080404,1201846.09080404,1201846.09080404,1291864.36300527,1291864.36300527,1291864.36300527,275.72096895662702,275.72096895662702,275.72096895662702,17.788449610104902,17.788449610104902,17.788449610104902,0,0,0,0,0,0,{"$f":"output[[#This Row],[ishp_Program]]-output[[#This Row],[ishp_Baseline]]","v":0},{"$f":"output[[#This Row],[ishp_Market]]-output[[#This Row],[ishp_Program]]","v":0}]
["All","Chemical","Base",2015,"11-20 HP","Traditional","Non ASD Control","constant","Fans","2014 and before",4143342.9616224701,4143342.9616224701,4143342.9616224701,4453679.3494479898,4453679.3494479898,4453679.3494479898,950.543122650496,950.543122650496,950.543122650496,61.325362751644903,61.325362751644903,61.325362751644903,342.59320634315401,342.59320634315401,342.59320634315401,22.1027875060099,22.1027875060099,22.1027875060099,{"$f":"output[[#This Row],[ishp_Program]]-output[[#This Row],[ishp_Baseline]]","v":0},{"$f":"output[[#This Row],[ishp_Market]]-output[[#This Row],[ishp_Program]]","v":0}]
["All","Chemical","Base",2015,"11-20 HP","Traditional","Non ASD Control","constant","Pumps",2015,1602321.69135818,1602321.69135818,1602321.69135818,1722335.5860409101,1722335.5860409101,1722335.5860409101,398.82568483627301,398.82568483627301,398.82568483627301,25.730689344275699,25.730689344275699,25.730689344275699,0,0,0,0,0,0,{"$f":"output[[#This Row],[ishp_Program]]-output[[#This Row],[ishp_Baseline]]","v":0},{"$f":"output[[#This Row],[ishp_Market]]-output[[#This Row],[ishp_Program]]","v":0}]
["All","Chemical","Base",2015,"11-20 HP","Traditional","Non ASD Control","constant","Pumps","2014 and before",4717675.7124272203,4717675.7124272203,4717675.7124272203,5071029.6232880196,5071029.6232880196,5071029.6232880196,1174.25249685622,1174.25249685622,1174.25249685622,75.758225603627395,75.758225603627395,75.758225603627395,434.65541497183199,434.65541497183199,434.65541497183199,28.042284836892399,28.042284836892399,28.042284836892399,{"$f":"output[[#This Row],[ishp_Program]]-output[[#This Row],[ishp_Baseline]]","v":0},{"$f":"output[[#This Row],[ishp_Market]]-output[[#This Row],[ishp_Program]]","v":0}]
["All","Chemical","Base",2015,"11-20 HP","Traditional","Non ASD Control","variable","Fans",2015,655594.35539424396,655594.35539424396,655594.35539424396,704698.37261327298,704698.37261327298,704698.37261327298,164.20701465236101,164.20701465236101,164.20701465236101,10.594000945313599,10.594000945313599,10.594000945313599,0,0,0,0,0,0,{"$f":"output[[#This Row],[ishp_Program]]-output[[#This Row],[ishp_Baseline]]","v":0},{"$f":"output[[#This Row],[ishp_Market]]-output[[#This Row],[ishp_Program]]","v":0}]
["All","Chemical","Base",2015,"11-20 HP","Traditional","Non ASD Control","variable","Fans","2014 and before",2260149.8468783898,2260149.8468783898,2260149.8468783898,2429435.0704095801,2429435.0704095801,2429435.0704095801,566.10075417704104,566.10075417704104,566.10075417704104,36.522629301744502,36.522629301744502,36.522629301744502,204.03311313851901,204.03311313851901,204.03311313851901,13.163426654098,13.163426654098,13.163426654098,{"$f":"output[[#This Row],[ishp_Program]]-output[[#This Row],[ishp_Baseline]]","v":0},{"$f":"output[[#This Row],[ishp_Market]]-output[[#This Row],[ishp_Program]]","v":0}]
["All","Chemical","Base",2015,"11-20 HP","Traditional","Non ASD Control","variable","Pumps",2015,543883.96022337698,543883.96022337698,543883.96022337698,584620.86884410796,584620.86884410796,584620.86884410796,165.33560774705501,165.33560774705501,165.33560774705501,10.6668134030358,10.6668134030358,10.6668134030358,0,0,0,0,0,0,{"$f":"output[[#This Row],[ishp_Program]]-output[[#This Row],[ishp_Baseline]]","v":0},{"$f":"output[[#This Row],[ishp_Market]]-output[[#This Row],[ishp_Program]]","v":0}]
["All","Chemical","Base",2015,"11-20 HP","Traditional","Non ASD Control","variable","Pumps","2014 and before",1601343.9519436499,1601343.9519436499,1601343.9519436499,1721284.6139442299,1721284.6139442299,1721284.6139442299,486.79349800633298,486.79349800633298,486.79349800633298,31.406032129440899,31.406032129440899,31.406032129440899,180.18903979170301,180.18903979170301,180.18903979170301,11.625099341400199,11.625099341400199,11.625099341400199,{"$f":"output[[#This Row],[ishp_Program]]-output[[#This Row],[ishp_Baseline]]","v":0},{"$f":"output[[#This Row],[ishp_Market]]-output[[#This Row],[ishp_Program]]","v":0}]
["All","Chemical","Base",2015,"201-500 HP","Traditional","ASD Control","constant","Fans",2015,93398.238874005896,93398.238874005896,93398.238874005896,100393.766965669,100393.766965669,100393.766965669,23.560959729463701,23.560959729463701,23.560959729463701,6.7220997801608298E-2,6.7220997801608298E-2,6.7220997801608298E-2,7.7328851233674001E-2,7.7328851233674001E-2,7.7328851233674001E-2,2.2062439724300701E-4,2.2062439724300701E-4,2.2062439724300701E-4,{"$f":"output[[#This Row],[ishp_Program]]-output[[#This Row],[ishp_Baseline]]","v":0},{"$f":"output[[#This Row],[ishp_Market]]-output[[#This Row],[ishp_Program]]","v":0}]
["All","Chemical","Base",2015,"201-500 HP","Traditional","ASD Control","constant","Fans","2014 and before",312347.47161715501,312347.47161715501,312347.47161715501,335742.29724127997,335742.29724127997,335742.29724127997,78.793843321812204,78.793843321812204,78.793843321812204,0.22480411789390001,0.22480411789390001,0.22480411789390001,24.1670717363953,24.1670717363953,24.1670717363953,6.8950275995421695E-2,6.8950275995421695E-2,6.8950275995421695E-2,{"$f":"output[[#This Row],[ishp_Program]]-output[[#This Row],[ishp_Baseline]]","v":0},{"$f":"output[[#This Row],[ishp_Market]]-output[[#This Row],[ishp_Program]]","v":0}]
["All","Chemical","Base",2015,"201-500 HP","Traditional","ASD Control","constant","Pumps",2015,233108.681059094,233108.681059094,233108.681059094,250568.52127041999,250568.52127041999,250568.52127041999,58.761597410670099,58.761597410670099,58.761597410670099,0.16765077720590599,0.16765077720590599,0.16765077720590599,0.38912565258485499,0.38912565258485499,0.38912565258485499,1.1102015765616399E-3,1.1102015765616399E-3,1.1102015765616399E-3,{"$f":"output[[#This Row],[ishp_Program]]-output[[#This Row],[ishp_Baseline]]","v":0},{"$f":"output[[#This Row],[ishp_Market]]-output[[#This Row],[ishp_Program]]","v":0}]
["All","Chemical","Base",2015,"201-500 HP","Traditional","ASD Control","constant","Pumps","2014 and before",652554.07531306404,652554.07531306404,652554.07531306404,701430.37555401295,701430.37555401295,701430.37555401295,164.49460263780401,164.49460263780401,164.49460263780401,0.46931413020771601,0.46931413020771601,0.46931413020771601,52.8170800875628,52.8170800875628,52.8170800875628,0.15069067072057801,0.15069067072057801,0.15069067072057801,{"$f":"output[[#This Row],[ishp_Program]]-output[[#This Row],[ishp_Baseline]]","v":0},{"$f":"output[[#This Row],[ishp_Market]]-output[[#This Row],[ishp_Program]]","v":0}]
["All","Chemical","Base",2015,"201-500 HP","Traditional","ASD Control","variable","Fans",2015,601808.37439128198,601808.37439128198,601808.37439128198,646883.82163318899,646883.82163318899,646883.82163318899,327.82569382350903,327.82569382350903,327.82569382350903,0.93530868423255198,0.93530868423255198,0.93530868423255198,1.0759487134368699,1.0759487134368699,1.0759487134368699,3.06975381865014E-3,3.06975381865014E-3,3.06975381865014E-3,{"$f":"output[[#This Row],[ishp_Program]]-output[[#This Row],[ishp_Baseline]]","v":0},{"$f":"output[[#This Row],[ishp_Market]]-output[[#This Row],[ishp_Program]]","v":0}]
["All","Chemical","Base",2015,"201-500 HP","Traditional","ASD Control","variable","Fans","2014 and before",2012600.30601565,2012600.30601565,2012600.30601565,2163344.0689362199,2163344.0689362199,2163344.0689362199,1096.3325200922,1096.3325200922,1096.3325200922,3.1279101857124298,3.1279101857124298,3.1279101857124298,336.25909770385402,336.25909770385402,336.25909770385402,0.95936975093824395,0.95936975093824395,0.95936975093824395,{"$f":"output[[#This Row],[ishp_Program]]-output[[#This Row],[ishp_Baseline]]","v":0},{"$f":"output[[#This Row],[ishp_Market]]-output[[#This Row],[ishp_Program]]","v":0}]
["All","Chemical","Base",2015,"201-500 HP","Traditional","ASD Control","variable","Pumps",2015,527102.62067930796,527102.62067930796,527102.62067930796,566582.60696818901,566582.60696818901,566582.60696818901,198.99265218820199,198.99265218820199,198.99265218820199,0.56773937856833701,0.56773937856833701,0.56773937856833701,1.3177508620326299,1.3177508620326299,1.3177508620326299,3.75963156072078E-3,3.75963156072078E-3,3.75963156072078E-3,{"$f":"output[[#This Row],[ishp_Program]]-output[[#This Row],[ishp_Baseline]]","v":0},{"$f":"output[[#This Row],[ishp_Market]]-output[[#This Row],[ishp_Program]]","v":0}]
["All","Chemical","Base",2015,"201-500 HP","Traditional","ASD Control","variable","Pumps","2014 and before",1475547.6358483699,1475547.6358483699,1475547.6358483699,1586066.15377342,1586066.15377342,1586066.15377342,557.051181246434,557.051181246434,557.051181246434,1.58930436874874,1.58930436874874,1.58930436874874,178.86189808639,178.86189808639,178.86189808639,0.51030498740767605,0.51030498740767605,0.51030498740767605,{"$f":"output[[#This Row],[ishp_Program]]-output[[#This Row],[ishp_Baseline]]","v":0},{"$f":"output[[#This Row],[ishp_Market]]-output[[#This Row],[ishp_Program]]","v":0}]
["All","Chemical","Base",2015,"201-500 HP","Traditional","Non ASD Control","constant","Fans",2015,644933.58355028206,644933.58355028206,644933.58355028206,693239.10895819799,693239.10895819799,693239.10895819799,154.72135239724801,154.72135239724801,154.72135239724801,0.44143039200356099,0.44143039200356099,0.44143039200356099,0,0,0,0,0,0,{"$f":"output[[#This Row],[ishp_Program]]-output[[#This Row],[ishp_Baseline]]","v":0},{"$f":"output[[#This Row],[ishp_Market]]-output[[#This Row],[ishp_Program]]","v":0}]
["All","Chemical","Base",2015,"201-500 HP","Traditional","Non ASD Control","constant","Fans","2014 and before",2223397.0260945,2223397.0260945,2223397.0260945,2389929.4633489801,2389929.4633489801,2389929.4633489801,533.39910274115903,533.39910274115903,533.39910274115903,1.52182340297049,1.52182340297049,1.52182340297049,192.246837112561,192.246837112561,192.246837112561,0.54849311587036098,0.54849311587036098,0.54849311587036098,{"$f":"output[[#This Row],[ishp_Program]]-output[[#This Row],[ishp_Baseline]]","v":0},{"$f":"output[[#This Row],[ishp_Market]]-output[[#This Row],[ishp_Program]]","v":0}]
["All","Chemical","Base",2015,"201-500 HP","Traditional","Non ASD Control","constant","Pumps",2015,3271657.6905573602,3271657.6905573602,3271657.6905573602,3516704.8515801099,3516704.8515801099,3516704.8515801099,688.478435476296,688.478435476296,688.478435476296,1.9642751368795901,1.9642751368795901,1.9642751368795901,0,0,0,0,0,0,{"$f":"output[[#This Row],[ishp_Program]]-output[[#This Row],[ishp_Baseline]]","v":0},{"$f":"output[[#This Row],[ishp_Market]]-output[[#This Row],[ishp_Program]]","v":0}]
["All","Chemical","Base",2015,"201-500 HP","Traditional","Non ASD Control","constant","Pumps","2014 and before",9632659.9766837396,9632659.9766837396,9632659.9766837396,10354146.2089373,10354146.2089373,10354146.2089373,2027.06985188678,2027.06985188678,2027.06985188678,5.7833661965385996,5.7833661965385996,5.7833661965385996,750.33000994897498,750.33000994897498,750.33000994897498,2.1407418258173299,2.1407418258173299,2.1407418258173299,{"$f":"output[[#This Row],[ishp_Program]]-output[[#This Row],[ishp_Baseline]]","v":0},{"$f":"output[[#This Row],[ishp_Market]]-output[[#This Row],[ishp_Program]]","v":0}]
["All","Chemical","Base",2015,"201-500 HP","Traditional","Non ASD Control","variable","Fans",2015,351804.46166520298,351804.46166520298,351804.46166520298,378154.61584392702,378154.61584392702,378154.61584392702,92.145082313723705,92.145082313723705,92.145082313723705,0.26289609789935398,0.26289609789935398,0.26289609789935398,0,0,0,0,0,0,{"$f":"output[[#This Row],[ishp_Program]]-output[[#This Row],[ishp_Baseline]]","v":0},{"$f":"output[[#This Row],[ishp_Market]]-output[[#This Row],[ishp_Program]]","v":0}]
["All","Chemical","Base",2015,"201-500 HP","Traditional","Non ASD Control","variable","Fans","2014 and before",1212839.6067192899,1212839.6067192899,1212839.6067192899,1303681.2932625699,1303681.2932625699,1303681.2932625699,317.66852775405698,317.66852775405698,317.66852775405698,0.90632960842812305,0.90632960842812305,0.90632960842812305,114.493574130658,114.493574130658,114.493574130658,0.32665784345408799,0.32665784345408799,0.32665784345408799,{"$f":"output[[#This Row],[ishp_Program]]-output[[#This Row],[ishp_Baseline]]","v":0},{"$f":"output[[#This Row],[ishp_Market]]-output[[#This Row],[ishp_Program]]","v":0}]
["All","Chemical","Base",2015,"201-500 HP","Traditional","Non ASD Control","variable","Pumps",2015,1110514.9177174999,1110514.9177174999,1110514.9177174999,1193692.48505454,1193692.48505454,1193692.48505454,285.41291315514098,285.41291315514098,285.41291315514098,0.81430217733278698,0.81430217733278698,0.81430217733278698,0,0,0,0,0,0,{"$f":"output[[#This Row],[ishp_Program]]-output[[#This Row],[ishp_Baseline]]","v":0},{"$f":"output[[#This Row],[ishp_Market]]-output[[#This Row],[ishp_Program]]","v":0}]
["All","Chemical","Base",2015,"201-500 HP","Traditional","Non ASD Control","variable","Pumps","2014 and before",3269661.31948396,3269661.31948396,3269661.31948396,3514558.95231331,3514558.95231331,3514558.95231331,840.33410748111498,840.33410748111498,840.33410748111498,2.3975295505880601,2.3975295505880601,2.3975295505880601,311.05385867185402,311.05385867185402,311.05385867185402,0.88745751404238105,0.88745751404238105,0.88745751404238105,{"$f":"output[[#This Row],[ishp_Program]]-output[[#This Row],[ishp_Baseline]]","v":0},{"$f":"output[[#This Row],[ishp_Market]]-output[[#This Row],[ishp_Program]]","v":0}]
["All","Chemical","Base",2015,"21-50 HP","Traditional","ASD Control","constant","Fans",2015,359113.25457582902,359113.25457582902,359113.25457582902,386010.83734355902,386010.83734355902,386010.83734355902,87.940971389695306,87.940971389695306,87.940971389695306,2.47721046168156,2.47721046168156,2.47721046168156,0.28862891715887001,0.28862891715887001,0.28862891715887001,8.1303920326442208E-3,8.1303920326442208E-3,8.1303920326442208E-3,{"$f":"output[[#This Row],[ishp_Program]]-output[[#This Row],[ishp_Baseline]]","v":0},{"$f":"output[[#This Row],[ishp_Market]]-output[[#This Row],[ishp_Program]]","v":0}]
["All","Chemical","Base",2015,"21-50 HP","Traditional","ASD Control","constant","Fans","2014 and before",1200966.0829074399,1200966.0829074399,1200966.0829074399,1290918.4425172,1290918.4425172,1290918.4425172,294.09698080263001,294.09698080263001,294.09698080263001,8.2844219944402795,8.2844219944402795,8.2844219944402795,90.2032764601407,90.2032764601407,90.2032764601407,2.5409373650743801,2.5409373650743801,2.5409373650743801,{"$f":"output[[#This Row],[ishp_Program]]-output[[#This Row],[ishp_Baseline]]","v":0},{"$f":"output[[#This Row],[ishp_Market]]-output[[#This Row],[ishp_Program]]","v":0}]
["All","Chemical","Base",2015,"21-50 HP","Traditional","ASD Control","constant","Pumps",2015,1040946.40716942,1040946.40716942,1040946.40716942,1118913.2930664101,1118913.2930664101,1118913.2930664101,303.50989448641099,303.50989448641099,303.50989448641099,8.5495744925749602,8.5495744925749602,8.5495744925749602,2.0098753431188698,2.0098753431188698,2.0098753431188698,5.6616206848418997E-2,5.6616206848418997E-2,5.6616206848418997E-2,{"$f":"output[[#This Row],[ishp_Program]]-output[[#This Row],[ishp_Baseline]]","v":0},{"$f":"output[[#This Row],[ishp_Market]]-output[[#This Row],[ishp_Program]]","v":0}]
["All","Chemical","Base",2015,"21-50 HP","Traditional","ASD Control","constant","Pumps","2014 and before",2913979.0808936199,2913979.0808936199,2913979.0808936199,3132236.1140525499,3132236.1140525499,3132236.1140525499,849.63210140911804,849.63210140911804,849.63210140911804,23.9332986312427,23.9332986312427,23.9332986312427,272.80583086302602,272.80583086302602,272.80583086302602,7.6846712919162199,7.6846712919162199,7.6846712919162199,{"$f":"output[[#This Row],[ishp_Program]]-output[[#This Row],[ishp_Baseline]]","v":0},{"$f":"output[[#This Row],[ishp_Market]]-output[[#This Row],[ishp_Program]]","v":0}]
["All","Chemical","Base",2015,"21-50 HP","Traditional","ASD Control","variable","Fans",2015,2338280.7957923901,2338280.7957923901,2338280.7957923901,2513418.0273972498,2513418.0273972498,2513418.0273972498,1223.6050777374801,1223.6050777374801,1223.6050777374801,34.467748668661599,34.467748668661599,34.467748668661599,4.0159643797025204,4.0159643797025204,4.0159643797025204,0.113125757174718,0.113125757174718,0.113125757174718,{"$f":"output[[#This Row],[ishp_Program]]-output[[#This Row],[ishp_Baseline]]","v":0},{"$f":"output[[#This Row],[ishp_Market]]-output[[#This Row],[ishp_Program]]","v":0}]
["All","Chemical","Base",2015,"21-50 HP","Traditional","ASD Control","variable","Fans","2014 and before",7819805.84753804,7819805.84753804,7819805.84753804,8405509.3055186402,8405509.3055186402,8405509.3055186402,4092.04666915391,4092.04666915391,4092.04666915391,115.268920257856,115.268920257856,115.268920257856,1255.0826464730101,1255.0826464730101,1255.0826464730101,35.354440745718698,35.354440745718698,35.354440745718698,{"$f":"output[[#This Row],[ishp_Program]]-output[[#This Row],[ishp_Baseline]]","v":0},{"$f":"output[[#This Row],[ishp_Market]]-output[[#This Row],[ishp_Program]]","v":0}]
["All","Chemical","Base",2015,"21-50 HP","Traditional","ASD Control","variable","Pumps",2015,2358833.13454295,2358833.13454295,2358833.13454295,2535509.7363202199,2535509.7363202199,2535509.7363202199,1027.8181930133401,1027.8181930133401,1027.8181930133401,28.952625155305299,28.952625155305299,28.952625155305299,6.8063232233075501,6.8063232233075501,6.8063232233075501,0.19172741474105701,0.19172741474105701,0.19172741474105701,{"$f":"output[[#This Row],[ishp_Program]]-output[[#This Row],[ishp_Baseline]]","v":0},{"$f":"output[[#This Row],[ishp_Market]]-output[[#This Row],[ishp_Program]]","v":0}]
["All","Chemical","Base",2015,"21-50 HP","Traditional","ASD Control","variable","Pumps","2014 and before",6603212.5785108898,6603212.5785108898,6603212.5785108898,7097793.2006413601,7097793.2006413601,7097793.2006413601,2877.22854200242,2877.22854200242,2877.22854200242,81.048691324011997,81.048691324011997,81.048691324011997,923.84070903392706,923.84070903392706,923.84070903392706,26.0236819446176,26.0236819446176,26.0236819446176,{"$f":"output[[#This Row],[ishp_Program]]-output[[#This Row],[ishp_Baseline]]","v":0},{"$f":"output[[#This Row],[ishp_Market]]-output[[#This Row],[ishp_Program]]","v":0}]
["All","Chemical","Base",2015,"21-50 HP","Traditional","Non ASD Control","constant","Fans",2015,2121780.2393422099,2121780.2393422099,2121780.2393422099,2280701.5792689398,2280701.5792689398,2280701.5792689398,494.76796762525998,494.76796762525998,494.76796762525998,13.9371258485988,13.9371258485988,13.9371258485988,0,0,0,0,0,0,{"$f":"output[[#This Row],[ishp_Program]]-output[[#This Row],[ishp_Baseline]]","v":0},{"$f":"output[[#This Row],[ishp_Market]]-output[[#This Row],[ishp_Program]]","v":0}]
["All","Chemical","Base",2015,"21-50 HP","Traditional","Non ASD Control","constant","Fans","2014 and before",7314799.5305345198,7314799.5305345198,7314799.5305345198,7862678.0153715499,7862678.0153715499,7862678.0153715499,1705.7037435841,1705.7037435841,1705.7037435841,48.047992777016901,48.047992777016901,48.047992777016901,614.76696917922197,614.76696917922197,614.76696917922197,17.3173794134992,17.3173794134992,17.3173794134992,{"$f":"output[[#This Row],[ishp_Program]]-output[[#This Row],[ishp_Baseline]]","v":0},{"$f":"output[[#This Row],[ishp_Market]]-output[[#This Row],[ishp_Program]]","v":0}]
["All","Chemical","Base",2015,"21-50 HP","Traditional","Non ASD Control","constant","Pumps",2015,1881217.8033462299,1881217.8033462299,1881217.8033462299,2022121.0168168601,2022121.0168168601,2022121.0168168601,460.60673964945801,460.60673964945801,460.60673964945801,12.9748377366044,12.9748377366044,12.9748377366044,0,0,0,0,0,0,{"$f":"output[[#This Row],[ishp_Program]]-output[[#This Row],[ishp_Baseline]]","v":0},{"$f":"output[[#This Row],[ishp_Market]]-output[[#This Row],[ishp_Program]]","v":0}]
["All","Chemical","Base",2015,"21-50 HP","Traditional","Non ASD Control","constant","Pumps","2014 and before",5538822.56509268,5538822.56509268,5538822.56509268,5953680.3752181297,5953680.3752181297,5953680.3752181297,1356.15291257939,1356.15291257939,1356.15291257939,38.201490495194101,38.201490495194101,38.201490495194101,501.98676056519997,501.98676056519997,501.98676056519997,14.1404721285971,14.1404721285971,14.1404721285971,{"$f":"output[[#This Row],[ishp_Program]]-output[[#This Row],[ishp_Baseline]]","v":0},{"$f":"output[[#This Row],[ishp_Market]]-output[[#This Row],[ishp_Program]]","v":0}]
["All","Chemical","Base",2015,"21-50 HP","Traditional","Non ASD Control","variable","Fans",2015,1157408.72225094,1157408.72225094,1157408.72225094,1244098.6355475299,1244098.6355475299,1244098.6355475299,294.66156026073003,294.66156026073003,294.66156026073003,8.3003256411473298,8.3003256411473298,8.3003256411473298,0,0,0,0,0,0,{"$f":"output[[#This Row],[ishp_Program]]-output[[#This Row],[ishp_Baseline]]","v":0},{"$f":"output[[#This Row],[ishp_Market]]-output[[#This Row],[ishp_Program]]","v":0}]
["All","Chemical","Base",2015,"21-50 HP","Traditional","Non ASD Control","variable","Fans","2014 and before",3990145.9261315502,3990145.9261315502,3990145.9261315502,4289007.8559988001,4289007.8559988001,4289007.8559988001,1015.84047334231,1015.84047334231,1015.84047334231,28.615224601191901,28.615224601191901,28.615224601191901,366.12757128269101,366.12757128269101,366.12757128269101,10.313452712188401,10.313452712188401,10.313452712188401,{"$f":"output[[#This Row],[ishp_Program]]-output[[#This Row],[ishp_Baseline]]","v":0},{"$f":"output[[#This Row],[ishp_Market]]-output[[#This Row],[ishp_Program]]","v":0}]
["All","Chemical","Base",2015,"21-50 HP","Traditional","Non ASD Control","variable","Pumps",2015,638551.04405370599,638551.04405370599,638551.04405370599,686378.517253328,686378.517253328,686378.517253328,190.94731891100699,190.94731891100699,190.94731891100699,5.3787977158030298,5.3787977158030298,5.3787977158030298,0,0,0,0,0,0,{"$f":"output[[#This Row],[ishp_Program]]-output[[#This Row],[ishp_Baseline]]","v":0},{"$f":"output[[#This Row],[ishp_Market]]-output[[#This Row],[ishp_Program]]","v":0}]
["All","Chemical","Base",2015,"21-50 HP","Traditional","Non ASD Control","variable","Pumps","2014 and before",1880069.88105099,1880069.88105099,1880069.88105099,2020887.11514171,2020887.11514171,2020887.11514171,562.20141912700501,562.20141912700501,562.20141912700501,15.836659693718399,15.836659693718399,15.836659693718399,208.101657678077,208.101657678077,208.101657678077,5.8620185261430198,5.8620185261430198,5.8620185261430198,{"$f":"output[[#This Row],[ishp_Program]]-output[[#This Row],[ishp_Baseline]]","v":0},{"$f":"output[[#This Row],[ishp_Market]]-output[[#This Row],[ishp_Program]]","v":0}]
["All","Chemical","Base",2015,"501-1,000 HP","Traditional","ASD Control","constant","Fans",2015,0,0,0,0,0,0,0,0,0,0,0,0,0,0,0,0,0,0,{"$f":"output[[#This Row],[ishp_Program]]-output[[#This Row],[ishp_Baseline]]","v":0},{"$f":"output[[#This Row],[ishp_Market]]-output[[#This Row],[ishp_Program]]","v":0}]
["All","Chemical","Base",2015,"501-1,000 HP","Traditional","ASD Control","constant","Fans","2014 and before",0,0,0,0,0,0,0,0,0,0,0,0,0,0,0,0,0,0,{"$f":"output[[#This Row],[ishp_Program]]-output[[#This Row],[ishp_Baseline]]","v":0},{"$f":"output[[#This Row],[ishp_Market]]-output[[#This Row],[ishp_Program]]","v":0}]
["All","Chemical","Base",2015,"501-1,000 HP","Traditional","ASD Control","constant","Pumps",2015,0,0,0,0,0,0,0,0,0,0,0,0,0,0,0,0,0,0,{"$f":"output[[#This Row],[ishp_Program]]-output[[#This Row],[ishp_Baseline]]","v":0},{"$f":"output[[#This Row],[ishp_Market]]-output[[#This Row],[ishp_Program]]","v":0}]
["All","Chemical","Base",2015,"501-1,000 HP","Traditional","ASD Control","constant","Pumps","2014 and before",0,0,0,0,0,0,0,0,0,0,0,0,0,0,0,0,0,0,{"$f":"output[[#This Row],[ishp_Program]]-output[[#This Row],[ishp_Baseline]]","v":0},{"$f":"output[[#This Row],[ishp_Market]]-output[[#This Row],[ishp_Program]]","v":0}]
["All","Chemical","Base",2015,"501-1,000 HP","Traditional","ASD Control","variable","Fans",2015,0,0,0,0,0,0,0,0,0,0,0,0,0,0,0,0,0,0,{"$f":"output[[#This Row],[ishp_Program]]-output[[#This Row],[ishp_Baseline]]","v":0},{"$f":"output[[#This Row],[ishp_Market]]-output[[#This Row],[ishp_Program]]","v":0}]
["All","Chemical","Base",2015,"501-1,000 HP","Traditional","ASD Control","variable","Fans","2014 and before",0,0,0,0,0,0,0,0,0,0,0,0,0,0,0,0,0,0,{"$f":"output[[#This Row],[ishp_Program]]-output[[#This Row],[ishp_Baseline]]","v":0},{"$f":"output[[#This Row],[ishp_Market]]-output[[#This Row],[ishp_Program]]","v":0}]
["All","Chemical","Base",2015,"501-1,000 HP","Traditional","ASD Control","variable","Pumps",2015,0,0,0,0,0,0,0,0,0,0,0,0,0,0,0,0,0,0,{"$f":"output[[#This Row],[ishp_Program]]-output[[#This Row],[ishp_Baseline]]","v":0},{"$f":"output[[#This Row],[ishp_Market]]-output[[#This Row],[ishp_Program]]","v":0}]
["All","Chemical","Base",2015,"501-1,000 HP","Traditional","ASD Control","variable","Pumps","2014 and before",0,0,0,0,0,0,0,0,0,0,0,0,0,0,0,0,0,0,{"$f":"output[[#This Row],[ishp_Program]]-output[[#This Row],[ishp_Baseline]]","v":0},{"$f":"output[[#This Row],[ishp_Market]]-output[[#This Row],[ishp_Program]]","v":0}]
["All","Chemical","Base",2015,"501-1,000 HP","Traditional","Non ASD Control","constant","Fans",2015,801494.80892407603,801494.80892407603,801494.80892407603,861526.77011249005,861526.77011249005,861526.77011249005,192.28082385391599,192.28082385391599,192.28082385391599,0.25620362938563201,0.25620362938563201,0.25620362938563201,0,0,0,0,0,0,{"$f":"output[[#This Row],[ishp_Program]]-output[[#This Row],[ishp_Baseline]]","v":0},{"$f":"output[[#This Row],[ishp_Market]]-output[[#This Row],[ishp_Program]]","v":0}]
["All","Chemical","Base",2015,"501-1,000 HP","Traditional","Non ASD Control","constant","Fans","2014 and before",2763139.0581058702,2763139.0581058702,2763139.0581058702,2970098.173558,2970098.173558,2970098.173558,662.88471066799104,662.88471066799104,662.88471066799104,0.88325744259559102,0.88325744259559102,0.88325744259559102,238.915829331715,238.915829331715,238.915829331715,0.318342210968307,0.318342210968307,0.318342210968307,{"$f":"output[[#This Row],[ishp_Program]]-output[[#This Row],[ishp_Baseline]]","v":0},{"$f":"output[[#This Row],[ishp_Market]]-output[[#This Row],[ishp_Program]]","v":0}]
["All","Chemical","Base",2015,"501-1,000 HP","Traditional","Non ASD Control","constant","Pumps",2015,1739016.77271899,1739016.77271899,1739016.77271899,1869269.12899565,1869269.12899565,1869269.12899565,365.95379473964601,365.95379473964601,365.95379473964601,0.48761331744123398,0.48761331744123398,0.48761331744123398,0,0,0,0,0,0,{"$f":"output[[#This Row],[ishp_Program]]-output[[#This Row],[ishp_Baseline]]","v":0},{"$f":"output[[#This Row],[ishp_Market]]-output[[#This Row],[ishp_Program]]","v":0}]
["All","Chemical","Base",2015,"501-1,000 HP","Traditional","Non ASD Control","constant","Pumps","2014 and before",5120143.6243466698,5120143.6243466698,5120143.6243466698,5503642.3818102302,5503642.3818102302,5503642.3818102302,1077.4686123423801,1077.4686123423801,1077.4686123423801,1.4356677046534001,1.4356677046534001,1.4356677046534001,398.83037768336499,398.83037768336499,398.83037768336499,0.53141955720635004,0.53141955720635004,0.53141955720635004,{"$f":"output[[#This Row],[ishp_Program]]-output[[#This Row],[ishp_Baseline]]","v":0},{"$f":"output[[#This Row],[ishp_Market]]-output[[#This Row],[ishp_Program]]","v":0}]
["All","Chemical","Base",2015,"501-1,000 HP","Traditional","Non ASD Control","variable","Fans",2015,437206.95738742797,437206.95738742797,437206.95738742797,469953.758495747,469953.758495747,469953.758495747,114.51381510600601,114.51381510600601,114.51381510600601,0.15258336456496499,0.15258336456496499,0.15258336456496499,0,0,0,0,0,0,{"$f":"output[[#This Row],[ishp_Program]]-output[[#This Row],[ishp_Baseline]]","v":0},{"$f":"output[[#This Row],[ishp_Market]]-output[[#This Row],[ishp_Program]]","v":0}]
["All","Chemical","Base",2015,"501-1,000 HP","Traditional","Non ASD Control","variable","Fans","2014 and before",1507263.1874615999,1507263.1874615999,1507263.1874615999,1620157.20020248,1620157.20020248,1620157.20020248,394.78433508119502,394.78433508119502,394.78433508119502,0.52602842782304504,0.52602842782304504,0.52602842782304504,142.28752798966599,142.28752798966599,142.28752798966599,0.189590310445924,0.189590310445924,0.189590310445924,{"$f":"output[[#This Row],[ishp_Program]]-output[[#This Row],[ishp_Baseline]]","v":0},{"$f":"output[[#This Row],[ishp_Market]]-output[[#This Row],[ishp_Program]]","v":0}]
["All","Chemical","Base",2015,"501-1,000 HP","Traditional","Non ASD Control","variable","Pumps",2015,590283.04637102596,590283.04637102596,590283.04637102596,634495.24654421594,634495.24654421594,634495.24654421594,151.70836623889701,151.70836623889701,151.70836623889701,0.20214305961212201,0.20214305961212201,0.20214305961212201,0,0,0,0,0,0,{"$f":"output[[#This Row],[ishp_Program]]-output[[#This Row],[ishp_Baseline]]","v":0},{"$f":"output[[#This Row],[ishp_Market]]-output[[#This Row],[ishp_Program]]","v":0}]
["All","Chemical","Base",2015,"501-1,000 HP","Traditional","Non ASD Control","variable","Pumps","2014 and before",1737955.6217338999,1737955.6217338999,1737955.6217338999,1868128.49780177,1868128.49780177,1868128.49780177,446.67115139070398,446.67115139070398,446.67115139070398,0.59516475868181695,0.59516475868181695,0.59516475868181695,165.337553195293,165.337553195293,165.337553195293,0.220303202125641,0.220303202125641,0.220303202125641,{"$f":"output[[#This Row],[ishp_Program]]-output[[#This Row],[ishp_Baseline]]","v":0},{"$f":"output[[#This Row],[ishp_Market]]-output[[#This Row],[ishp_Program]]","v":0}]
["All","Chemical","Base",2015,"51-100 HP","Traditional","ASD Control","constant","Fans",2015,738596.58718085696,738596.58718085696,738596.58718085696,793917.47156070406,793917.47156070406,793917.47156070406,183.835016729328,183.835016729328,183.835016729328,2.43490088383215,2.43490088383215,2.43490088383215,0.60336042433896298,0.60336042433896298,0.60336042433896298,7.9915287991915596E-3,7.9915287991915596E-3,7.9915287991915596E-3,{"$f":"output[[#This Row],[ishp_Program]]-output[[#This Row],[ishp_Baseline]]","v":0},{"$f":"output[[#This Row],[ishp_Market]]-output[[#This Row],[ishp_Program]]","v":0}]
["All","Chemical","Base",2015,"51-100 HP","Traditional","ASD Control","constant","Fans","2014 and before",2470054.88896009,2470054.88896009,2470054.88896009,2655062.0001432002,2655062.0001432002,2655062.0001432002,614.79106418230299,614.79106418230299,614.79106418230299,8.1429280024146191,8.1429280024146191,8.1429280024146191,188.56422183020399,188.56422183020399,188.56422183020399,2.4975393619894599,2.4975393619894599,2.4975393619894599,{"$f":"output[[#This Row],[ishp_Program]]-output[[#This Row],[ishp_Baseline]]","v":0},{"$f":"output[[#This Row],[ishp_Market]]-output[[#This Row],[ishp_Program]]","v":0}]
["All","Chemical","Base",2015,"51-100 HP","Traditional","ASD Control","constant","Pumps",2015,2606096.85601658,2606096.85601658,2606096.85601658,2801293.5105322199,2801293.5105322199,2801293.5105322199,672.87981475989,672.87981475989,672.87981475989,8.9123154272833105,8.9123154272833105,8.9123154272833105,4.4558828991615202,4.4558828991615202,4.4558828991615202,5.9018316545185703E-2,5.9018316545185703E-2,5.9018316545185703E-2,{"$f":"output[[#This Row],[ishp_Program]]-output[[#This Row],[ishp_Baseline]]","v":0},{"$f":"output[[#This Row],[ishp_Market]]-output[[#This Row],[ishp_Program]]","v":0}]
["All","Chemical","Base",2015,"51-100 HP","Traditional","ASD Control","constant","Pumps","2014 and before",7295391.6444796501,7295391.6444796501,7295391.6444796501,7841816.4786511799,7841816.4786511799,7841816.4786511799,1883.6298301827501,1883.6298301827501,1883.6298301827501,24.948739472619199,24.948739472619199,24.948739472619199,604.80906972457603,604.80906972457603,604.80906972457603,8.0107161552924104,8.0107161552924104,8.0107161552924104,{"$f":"output[[#This Row],[ishp_Program]]-output[[#This Row],[ishp_Baseline]]","v":0},{"$f":"output[[#This Row],[ishp_Market]]-output[[#This Row],[ishp_Program]]","v":0}]
["All","Chemical","Base",2015,"51-100 HP","Traditional","ASD Control","variable","Fans",2015,4790255.6247018399,4790255.6247018399,4790255.6247018399,5149045.7709920099,5149045.7709920099,5149045.7709920099,2557.8687201346902,2557.8687201346902,2557.8687201346902,33.879055895823697,33.879055895823697,33.879055895823697,8.3951185353121893,8.3951185353121893,8.3951185353121893,0.11119362298426699,0.11119362298426699,0.11119362298426699,{"$f":"output[[#This Row],[ishp_Program]]-output[[#This Row],[ishp_Baseline]]","v":0},{"$f":"output[[#This Row],[ishp_Market]]-output[[#This Row],[ishp_Program]]","v":0}]
["All","Chemical","Base",2015,"51-100 HP","Traditional","ASD Control","variable","Fans","2014 and before",16019833.4659594,16019833.4659594,16019833.4659594,17219718.992559802,17219718.992559802,17219718.992559802,8554.1637304366704,8554.1637304366704,8554.1637304366704,113.300181860088,113.300181860088,113.300181860088,2623.6705788548002,2623.6705788548002,2623.6705788548002,34.7506036934411,34.7506036934411,34.7506036934411,{"$f":"output[[#This Row],[ishp_Program]]-output[[#This Row],[ishp_Baseline]]","v":0},{"$f":"output[[#This Row],[ishp_Market]]-output[[#This Row],[ishp_Program]]","v":0}]
["All","Chemical","Base",2015,"51-100 HP","Traditional","ASD Control","variable","Pumps",2015,5898901.1965812799,5898901.1965812799,5898901.1965812799,6340728.8962052204,6340728.8962052204,6340728.8962052204,2278.6674434187998,2278.6674434187998,2278.6674434187998,30.181025740646401,30.181025740646401,30.181025740646401,15.089582227443,15.089582227443,15.089582227443,0.19986201625752301,0.19986201625752301,0.19986201625752301,{"$f":"output[[#This Row],[ishp_Program]]-output[[#This Row],[ishp_Baseline]]","v":0},{"$f":"output[[#This Row],[ishp_Market]]-output[[#This Row],[ishp_Program]]","v":0}]
["All","Chemical","Base",2015,"51-100 HP","Traditional","ASD Control","variable","Pumps","2014 and before",16513121.683024701,16513121.683024701,16513121.683024701,17749954.497083299,17749954.497083299,17749954.497083299,6378.8003077808698,6378.8003077808698,6378.8003077808698,84.487421295110906,84.487421295110906,84.487421295110906,2048.14991687273,2048.14991687273,2048.14991687273,27.127813468512901,27.127813468512901,27.127813468512901,{"$f":"output[[#This Row],[ishp_Program]]-output[[#This Row],[ishp_Baseline]]","v":0},{"$f":"output[[#This Row],[ishp_Market]]-output[[#This Row],[ishp_Program]]","v":0}]
["All","Chemical","Base",2015,"51-100 HP","Traditional","Non ASD Control","constant","Fans",2015,1406875.25349654,1406875.25349654,1406875.25349654,1512250.2099834301,1512250.2099834301,1512250.2099834301,333.15337450784301,333.15337450784301,333.15337450784301,4.4126274769250697,4.4126274769250697,4.4126274769250697,0,0,0,0,0,0,{"$f":"output[[#This Row],[ishp_Program]]-output[[#This Row],[ishp_Baseline]]","v":0},{"$f":"output[[#This Row],[ishp_Market]]-output[[#This Row],[ishp_Program]]","v":0}]
["All","Chemical","Base",2015,"51-100 HP","Traditional","Non ASD Control","constant","Fans","2014 and before",4850177.3430539304,4850177.3430539304,4850177.3430539304,5213455.6260486702,5213455.6260486702,5213455.6260486702,1148.5403164096999,1148.5403164096999,1148.5403164096999,15.212454521982799,15.212454521982799,15.212454521982799,413.95503290371101,413.95503290371101,413.95503290371101,5.4828481179299402,5.4828481179299402,5.4828481179299402,{"$f":"output[[#This Row],[ishp_Program]]-output[[#This Row],[ishp_Baseline]]","v":0},{"$f":"output[[#This Row],[ishp_Market]]-output[[#This Row],[ishp_Program]]","v":0}]
["All","Chemical","Base",2015,"51-100 HP","Traditional","Non ASD Control","constant","Pumps",2015,6582383.0319893304,6582383.0319893304,6582383.0319893304,7075403.5210853396,7075403.5210853396,7075403.5210853396,1423.8494900810899,1423.8494900810899,1423.8494900810899,18.858933643458101,18.858933643458101,18.858933643458101,0,0,0,0,0,0,{"$f":"output[[#This Row],[ishp_Program]]-output[[#This Row],[ishp_Baseline]]","v":0},{"$f":"output[[#This Row],[ishp_Market]]-output[[#This Row],[ishp_Program]]","v":0}]
["All","Chemical","Base",2015,"51-100 HP","Traditional","Non ASD Control","constant","Pumps","2014 and before",19380345.861502402,19380345.861502402,19380345.861502402,20831933.766528901,20831933.766528901,20831933.766528901,4192.2044703855099,4192.2044703855099,4192.2044703855099,55.525887024973599,55.525887024973599,55.525887024973599,1551.76538146658,1551.76538146658,1551.76538146658,20.553183860484499,20.553183860484499,20.553183860484499,{"$f":"output[[#This Row],[ishp_Program]]-output[[#This Row],[ishp_Baseline]]","v":0},{"$f":"output[[#This Row],[ishp_Market]]-output[[#This Row],[ishp_Program]]","v":0}]
["All","Chemical","Base",2015,"51-100 HP","Traditional","Non ASD Control","variable","Fans",2015,767435.59927804396,767435.59927804396,767435.59927804396,824916.52566397004,824916.52566397004,824916.52566397004,198.41117364526099,198.41117364526099,198.41117364526099,2.6279625648378899,2.6279625648378899,2.6279625648378899,0,0,0,0,0,0,{"$f":"output[[#This Row],[ishp_Program]]-output[[#This Row],[ishp_Baseline]]","v":0},{"$f":"output[[#This Row],[ishp_Market]]-output[[#This Row],[ishp_Program]]","v":0}]
["All","Chemical","Base",2015,"51-100 HP","Traditional","Non ASD Control","variable","Fans","2014 and before",2645720.5403396701,2645720.5403396701,2645720.5403396701,2843885.0088111102,2843885.0088111102,2843885.0088111102,684.01898223121304,684.01898223121304,684.01898223121304,9.0598540692875904,9.0598540692875904,9.0598540692875904,246.533009116659,246.533009116659,246.533009116659,3.2653378690948198,3.2653378690948198,3.2653378690948198,{"$f":"output[[#This Row],[ishp_Program]]-output[[#This Row],[ishp_Baseline]]","v":0},{"$f":"output[[#This Row],[ishp_Market]]-output[[#This Row],[ishp_Program]]","v":0}]
["All","Chemical","Base",2015,"51-100 HP","Traditional","Non ASD Control","variable","Pumps",2015,2234290.76099627,2234290.76099627,2234290.76099627,2401639.1389948898,2401639.1389948898,2401639.1389948898,590.26544611722898,590.26544611722898,590.26544611722898,7.81808537903615,7.81808537903615,7.81808537903615,0,0,0,0,0,0,{"$f":"output[[#This Row],[ishp_Program]]-output[[#This Row],[ishp_Baseline]]","v":0},{"$f":"output[[#This Row],[ishp_Market]]-output[[#This Row],[ishp_Program]]","v":0}]
["All","Chemical","Base",2015,"51-100 HP","Traditional","Non ASD Control","variable","Pumps","2014 and before",6578366.4506956805,6578366.4506956805,6578366.4506956805,7071086.0978527898,7071086.0978527898,7071086.0978527898,1737.90380174649,1737.90380174649,1737.90380174649,23.018593400615799,23.018593400615799,23.018593400615799,643.29375509238503,643.29375509238503,643.29375509238503,8.5204470873163505,8.5204470873163505,8.5204470873163505,{"$f":"output[[#This Row],[ishp_Program]]-output[[#This Row],[ishp_Baseline]]","v":0},{"$f":"output[[#This Row],[ishp_Market]]-output[[#This Row],[ishp_Program]]","v":0}]
["All","Chemical","Base",2015,"6-10 HP","Traditional","ASD Control","constant","Fans",2015,35148.625275112201,35148.625275112201,35148.625275112201,37781.257308218097,37781.257308218097,37781.257308218097,8.2548696215199602,8.2548696215199602,8.2548696215199602,1.0318587026899899,1.0318587026899899,1.0318587026899899,2.7093106233599201E-2,2.7093106233599201E-2,2.7093106233599201E-2,3.3866382791999101E-3,3.3866382791999101E-3,3.3866382791999101E-3,{"$f":"output[[#This Row],[ishp_Program]]-output[[#This Row],[ishp_Baseline]]","v":0},{"$f":"output[[#This Row],[ishp_Market]]-output[[#This Row],[ishp_Program]]","v":0}]
["All","Chemical","Base",2015,"6-10 HP","Traditional","ASD Control","constant","Fans","2014 and before",117545.944847099,117545.944847099,117545.944847099,126350.136116147,126350.136116147,126350.136116147,27.606384080638499,27.606384080638499,27.606384080638499,3.4507980100798101,3.4507980100798101,3.4507980100798101,8.4672283560837904,8.4672283560837904,8.4672283560837904,1.05840354451047,1.05840354451047,1.05840354451047,{"$f":"output[[#This Row],[ishp_Program]]-output[[#This Row],[ishp_Baseline]]","v":0},{"$f":"output[[#This Row],[ishp_Market]]-output[[#This Row],[ishp_Program]]","v":0}]
["All","Chemical","Base",2015,"6-10 HP","Traditional","ASD Control","constant","Pumps",2015,514509.46709728602,514509.46709728602,514509.46709728602,553046.22618287301,553046.22618287301,553046.22618287301,152.88675768169401,152.88675768169401,152.88675768169401,19.110844710211801,19.110844710211801,19.110844710211801,1.0124326426781001,1.0124326426781001,1.0124326426781001,0.12655408033476301,0.12655408033476301,0.12655408033476301,{"$f":"output[[#This Row],[ishp_Program]]-output[[#This Row],[ishp_Baseline]]","v":0},{"$f":"output[[#This Row],[ishp_Market]]-output[[#This Row],[ishp_Program]]","v":0}]
["All","Chemical","Base",2015,"6-10 HP","Traditional","ASD Control","constant","Pumps","2014 and before",1440294.9217338399,1440294.9217338399,1440294.9217338399,1548173.0113717001,1548173.0113717001,1548173.0113717001,427.98439051396599,427.98439051396599,427.98439051396599,53.498048814245699,53.498048814245699,53.498048814245699,137.42022818691399,137.42022818691399,137.42022818691399,17.177528523364199,17.177528523364199,17.177528523364199,{"$f":"output[[#This Row],[ishp_Program]]-output[[#This Row],[ishp_Baseline]]","v":0},{"$f":"output[[#This Row],[ishp_Market]]-output[[#This Row],[ishp_Program]]","v":0}]
["All","Chemical","Base",2015,"6-10 HP","Traditional","ASD Control","variable","Fans",2015,229819.937440537,229819.937440537,229819.937440537,247033.450754833,247033.450754833,247033.450754833,114.857730422299,114.857730422299,114.857730422299,14.3572163027874,14.3572163027874,14.3572163027874,0.37697175543136502,0.37697175543136502,0.37697175543136502,4.7121469428920697E-2,4.7121469428920697E-2,4.7121469428920697E-2,{"$f":"output[[#This Row],[ishp_Program]]-output[[#This Row],[ishp_Baseline]]","v":0},{"$f":"output[[#This Row],[ishp_Market]]-output[[#This Row],[ishp_Program]]","v":0}]
["All","Chemical","Base",2015,"6-10 HP","Traditional","ASD Control","variable","Fans","2014 and before",768576.33775729605,768576.33775729605,768576.33775729605,826142.70545531798,826142.70545531798,826142.70545531798,384.113470720642,384.113470720642,384.113470720642,48.0141838400803,48.0141838400803,48.0141838400803,117.812476336609,117.812476336609,117.812476336609,14.726559542076201,14.726559542076201,14.726559542076201,{"$f":"output[[#This Row],[ishp_Program]]-output[[#This Row],[ishp_Baseline]]","v":0},{"$f":"output[[#This Row],[ishp_Market]]-output[[#This Row],[ishp_Program]]","v":0}]
["All","Chemical","Base",2015,"6-10 HP","Traditional","ASD Control","variable","Pumps",2015,1166444.5098075201,1166444.5098075201,1166444.5098075201,1253811.20359211,1253811.20359211,1253811.20359211,517.74190519216597,517.74190519216597,517.74190519216597,64.717738149020803,64.717738149020803,64.717738149020803,3.4285428852525501,3.4285428852525501,3.4285428852525501,0.42856786065656899,0.42856786065656899,0.42856786065656899,{"$f":"output[[#This Row],[ishp_Program]]-output[[#This Row],[ishp_Baseline]]","v":0},{"$f":"output[[#This Row],[ishp_Market]]-output[[#This Row],[ishp_Program]]","v":0}]
["All","Chemical","Base",2015,"6-10 HP","Traditional","ASD Control","variable","Pumps","2014 and before",3265292.8884638599,3265292.8884638599,3265292.8884638599,3509863.3258098098,3509863.3258098098,3509863.3258098098,1449.34366518873,1449.34366518873,1449.34366518873,181.167958148591,181.167958148591,181.167958148591,465.36542361349098,465.36542361349098,465.36542361349098,58.1706779516864,58.1706779516864,58.1706779516864,{"$f":"output[[#This Row],[ishp_Program]]-output[[#This Row],[ishp_Baseline]]","v":0},{"$f":"output[[#This Row],[ishp_Market]]-output[[#This Row],[ishp_Program]]","v":0}]
["All","Chemical","Base",2015,"6-10 HP","Traditional","Non ASD Control","constant","Fans",2015,1220161.4727778099,1220161.4727778099,1220161.4727778099,1311551.5670888701,1311551.5670888701,1311551.5670888701,275.72096895662702,275.72096895662702,275.72096895662702,34.465121119578399,34.465121119578399,34.465121119578399,0,0,0,0,0,0,{"$f":"output[[#This Row],[ishp_Program]]-output[[#This Row],[ishp_Baseline]]","v":0},{"$f":"output[[#This Row],[ishp_Market]]-output[[#This Row],[ishp_Program]]","v":0}]
["All","Chemical","Base",2015,"6-10 HP","Traditional","Non ASD Control","constant","Fans","2014 and before",4206484.91429934,4206484.91429934,4206484.91429934,4521550.6343803601,4521550.6343803601,4521550.6343803601,950.543122650496,950.543122650496,950.543122650496,118.817890331312,118.817890331312,118.817890331312,342.59320634315401,342.59320634315401,342.59320634315401,42.824150792894301,42.824150792894301,42.824150792894301,{"$f":"output[[#This Row],[ishp_Program]]-output[[#This Row],[ishp_Baseline]]","v":0},{"$f":"output[[#This Row],[ishp_Market]]-output[[#This Row],[ishp_Program]]","v":0}]
["All","Chemical","Base",2015,"6-10 HP","Traditional","Non ASD Control","constant","Pumps",2015,1578385.75789771,1578385.75789771,1578385.75789771,1696606.8511642499,1696606.8511642499,1696606.8511642499,398.82568483627301,398.82568483627301,398.82568483627301,49.853210604534198,49.853210604534198,49.853210604534198,0,0,0,0,0,0,{"$f":"output[[#This Row],[ishp_Program]]-output[[#This Row],[ishp_Baseline]]","v":0},{"$f":"output[[#This Row],[ishp_Market]]-output[[#This Row],[ishp_Program]]","v":0}]
["All","Chemical","Base",2015,"6-10 HP","Traditional","Non ASD Control","constant","Pumps","2014 and before",4647201.7417197404,4647201.7417197404,4647201.7417197404,4995277.1521745501,4995277.1521745501,4995277.1521745501,1174.25249685622,1174.25249685622,1174.25249685622,146.78156210702801,146.78156210702801,146.78156210702801,434.65541497183301,434.65541497183301,434.65541497183301,54.331926871479098,54.331926871479098,54.331926871479098,{"$f":"output[[#This Row],[ishp_Program]]-output[[#This Row],[ishp_Baseline]]","v":0},{"$f":"output[[#This Row],[ishp_Market]]-output[[#This Row],[ishp_Program]]","v":0}]
["All","Chemical","Base",2015,"6-10 HP","Traditional","Non ASD Control","variable","Fans",2015,665585.20291687199,665585.20291687199,665585.20291687199,715437.53461534495,715437.53461534495,715437.53461534495,164.20701465236101,164.20701465236101,164.20701465236101,20.525876831545101,20.525876831545101,20.525876831545101,0,0,0,0,0,0,{"$f":"output[[#This Row],[ishp_Program]]-output[[#This Row],[ishp_Baseline]]","v":0},{"$f":"output[[#This Row],[ishp_Market]]-output[[#This Row],[ishp_Program]]","v":0}]
["All","Chemical","Base",2015,"6-10 HP","Traditional","Non ASD Control","variable","Fans","2014 and before",2294593.1155134202,2294593.1155134202,2294593.1155134202,2466458.1398653798,2466458.1398653798,2466458.1398653798,566.10075417704104,566.10075417704104,566.10075417704104,70.762594272130102,70.762594272130102,70.762594272130102,204.03311313851901,204.03311313851901,204.03311313851901,25.504139142314902,25.504139142314902,25.504139142314902,{"$f":"output[[#This Row],[ishp_Program]]-output[[#This Row],[ishp_Baseline]]","v":0},{"$f":"output[[#This Row],[ishp_Market]]-output[[#This Row],[ishp_Program]]","v":0}]
["All","Chemical","Base",2015,"6-10 HP","Traditional","Non ASD Control","variable","Pumps",2015,535759.26818910195,535759.26818910195,535759.26818910195,575887.63737646595,575887.63737646595,575887.63737646595,165.33560774705501,165.33560774705501,165.33560774705501,20.666950968381901,20.666950968381901,20.666950968381901,0,0,0,0,0,0,{"$f":"output[[#This Row],[ishp_Program]]-output[[#This Row],[ishp_Baseline]]","v":0},{"$f":"output[[#This Row],[ishp_Market]]-output[[#This Row],[ishp_Program]]","v":0}]
["All","Chemical","Base",2015,"6-10 HP","Traditional","Non ASD Control","variable","Pumps","2014 and before",1577422.6242303899,1577422.6242303899,1577422.6242303899,1695571.57878524,1695571.57878524,1695571.57878524,486.793498006334,486.793498006334,486.793498006334,60.849187250791701,60.849187250791701,60.849187250791701,180.18903979170301,180.18903979170301,180.18903979170301,22.523629973962901,22.523629973962901,22.523629973962901,{"$f":"output[[#This Row],[ishp_Program]]-output[[#This Row],[ishp_Baseline]]","v":0},{"$f":"output[[#This Row],[ishp_Market]]-output[[#This Row],[ishp_Program]]","v":0}]
["All","Chemical","Base",2016,"1,001+ HP","Traditional","ASD Control","constant","Fans",2015,0,0,0,0,0,0,0,0,0,0,0,0,0,0,0,0,0,0,{"$f":"output[[#This Row],[ishp_Program]]-output[[#This Row],[ishp_Baseline]]","v":0},{"$f":"output[[#This Row],[ishp_Market]]-output[[#This Row],[ishp_Program]]","v":0}]
["All","Chemical","Base",2016,"1,001+ HP","Traditional","ASD Control","constant","Fans",2016,0,0,0,0,0,0,0,0,0,0,0,0,0,0,0,0,0,0,{"$f":"output[[#This Row],[ishp_Program]]-output[[#This Row],[ishp_Baseline]]","v":0},{"$f":"output[[#This Row],[ishp_Market]]-output[[#This Row],[ishp_Program]]","v":0}]
["All","Chemical","Base",2016,"1,001+ HP","Traditional","ASD Control","constant","Fans","2014 and before",0,0,0,0,0,0,0,0,0,0,0,0,0,0,0,0,0,0,{"$f":"output[[#This Row],[ishp_Program]]-output[[#This Row],[ishp_Baseline]]","v":0},{"$f":"output[[#This Row],[ishp_Market]]-output[[#This Row],[ishp_Program]]","v":0}]
["All","Chemical","Base",2016,"1,001+ HP","Traditional","ASD Control","constant","Pumps",2015,0,0,0,0,0,0,0,0,0,0,0,0,0,0,0,0,0,0,{"$f":"output[[#This Row],[ishp_Program]]-output[[#This Row],[ishp_Baseline]]","v":0},{"$f":"output[[#This Row],[ishp_Market]]-output[[#This Row],[ishp_Program]]","v":0}]
["All","Chemical","Base",2016,"1,001+ HP","Traditional","ASD Control","constant","Pumps",2016,0,0,0,0,0,0,0,0,0,0,0,0,0,0,0,0,0,0,{"$f":"output[[#This Row],[ishp_Program]]-output[[#This Row],[ishp_Baseline]]","v":0},{"$f":"output[[#This Row],[ishp_Market]]-output[[#This Row],[ishp_Program]]","v":0}]
["All","Chemical","Base",2016,"1,001+ HP","Traditional","ASD Control","constant","Pumps","2014 and before",0,0,0,0,0,0,0,0,0,0,0,0,0,0,0,0,0,0,{"$f":"output[[#This Row],[ishp_Program]]-output[[#This Row],[ishp_Baseline]]","v":0},{"$f":"output[[#This Row],[ishp_Market]]-output[[#This Row],[ishp_Program]]","v":0}]
["All","Chemical","Base",2016,"1,001+ HP","Traditional","ASD Control","variable","Fans",2015,0,0,0,0,0,0,0,0,0,0,0,0,0,0,0,0,0,0,{"$f":"output[[#This Row],[ishp_Program]]-output[[#This Row],[ishp_Baseline]]","v":0},{"$f":"output[[#This Row],[ishp_Market]]-output[[#This Row],[ishp_Program]]","v":0}]
["All","Chemical","Base",2016,"1,001+ HP","Traditional","ASD Control","variable","Fans",2016,0,0,0,0,0,0,0,0,0,0,0,0,0,0,0,0,0,0,{"$f":"output[[#This Row],[ishp_Program]]-output[[#This Row],[ishp_Baseline]]","v":0},{"$f":"output[[#This Row],[ishp_Market]]-output[[#This Row],[ishp_Program]]","v":0}]
["All","Chemical","Base",2016,"1,001+ HP","Traditional","ASD Control","variable","Fans","2014 and before",0,0,0,0,0,0,0,0,0,0,0,0,0,0,0,0,0,0,{"$f":"output[[#This Row],[ishp_Program]]-output[[#This Row],[ishp_Baseline]]","v":0},{"$f":"output[[#This Row],[ishp_Market]]-output[[#This Row],[ishp_Program]]","v":0}]
["All","Chemical","Base",2016,"1,001+ HP","Traditional","ASD Control","variable","Pumps",2015,0,0,0,0,0,0,0,0,0,0,0,0,0,0,0,0,0,0,{"$f":"output[[#This Row],[ishp_Program]]-output[[#This Row],[ishp_Baseline]]","v":0},{"$f":"output[[#This Row],[ishp_Market]]-output[[#This Row],[ishp_Program]]","v":0}]
["All","Chemical","Base",2016,"1,001+ HP","Traditional","ASD Control","variable","Pumps",2016,0,0,0,0,0,0,0,0,0,0,0,0,0,0,0,0,0,0,{"$f":"output[[#This Row],[ishp_Program]]-output[[#This Row],[ishp_Baseline]]","v":0},{"$f":"output[[#This Row],[ishp_Market]]-output[[#This Row],[ishp_Program]]","v":0}]
["All","Chemical","Base",2016,"1,001+ HP","Traditional","ASD Control","variable","Pumps","2014 and before",0,0,0,0,0,0,0,0,0,0,0,0,0,0,0,0,0,0,{"$f":"output[[#This Row],[ishp_Program]]-output[[#This Row],[ishp_Baseline]]","v":0},{"$f":"output[[#This Row],[ishp_Market]]-output[[#This Row],[ishp_Program]]","v":0}]
["All","Chemical","Base",2016,"1,001+ HP","Traditional","Non ASD Control","constant","Fans",2015,305491.60216975998,305491.60216975998,305491.60216975998,328372.92317227501,328372.92317227501,328372.92317227501,73.288281211087394,73.288281211087394,73.288281211087394,7.3288281211087394E-2,7.3288281211087394E-2,7.3288281211087394E-2,0.19016351445294399,0.19016351445294399,0.19016351445294399,1.9016351445294401E-4,1.9016351445294401E-4,1.9016351445294401E-4,{"$f":"output[[#This Row],[ishp_Program]]-output[[#This Row],[ishp_Baseline]]","v":0},{"$f":"output[[#This Row],[ishp_Market]]-output[[#This Row],[ishp_Program]]","v":0}]
["All","Chemical","Base",2016,"1,001+ HP","Traditional","Non ASD Control","constant","Fans",2016,204312.66690532901,204312.66690532901,204312.66690532901,219615.68565653899,219615.68565653899,219615.68565653899,49.243671722879398,49.243671722879398,49.243671722879398,4.9243671722879398E-2,4.9243671722879398E-2,4.9243671722879398E-2,0,0,0,0,0,0,{"$f":"output[[#This Row],[ishp_Program]]-output[[#This Row],[ishp_Baseline]]","v":0},{"$f":"output[[#This Row],[ishp_Market]]-output[[#This Row],[ishp_Program]]","v":0}]
["All","Chemical","Base",2016,"1,001+ HP","Traditional","Non ASD Control","constant","Fans","2014 and before",1090469.4284494601,1090469.4284494601,1090469.4284494601,1172145.5886403201,1172145.5886403201,1172145.5886403201,261.60663519610398,261.60663519610398,261.60663519610398,0.261606635196104,0.261606635196104,0.261606635196104,99.020847860943604,99.020847860943604,99.020847860943604,9.9020847860943603E-2,9.9020847860943603E-2,9.9020847860943603E-2,{"$f":"output[[#This Row],[ishp_Program]]-output[[#This Row],[ishp_Baseline]]","v":0},{"$f":"output[[#This Row],[ishp_Market]]-output[[#This Row],[ishp_Program]]","v":0}]
["All","Chemical","Base",2016,"1,001+ HP","Traditional","Non ASD Control","constant","Pumps",2015,647800.33263857604,647800.33263857604,647800.33263857604,696320.57755320601,696320.57755320601,696320.57755320601,136.321278599305,136.321278599305,136.321278599305,0.13632127859930501,0.13632127859930501,0.13632127859930501,0.20699306304517301,0.20699306304517301,0.20699306304517301,2.0699306304517299E-4,2.0699306304517299E-4,2.0699306304517299E-4,{"$f":"output[[#This Row],[ishp_Program]]-output[[#This Row],[ishp_Baseline]]","v":0},{"$f":"output[[#This Row],[ishp_Market]]-output[[#This Row],[ishp_Program]]","v":0}]
["All","Chemical","Base",2016,"1,001+ HP","Traditional","Non ASD Control","constant","Pumps",2016,505419.42557768599,505419.42557768599,505419.42557768599,543275.34055345505,543275.34055345505,543275.34055345505,106.85486214743899,106.85486214743899,106.85486214743899,0.106854862147439,0.106854862147439,0.106854862147439,0,0,0,0,0,0,{"$f":"output[[#This Row],[ishp_Program]]-output[[#This Row],[ishp_Baseline]]","v":0},{"$f":"output[[#This Row],[ishp_Market]]-output[[#This Row],[ishp_Program]]","v":0}]
["All","Chemical","Base",2016,"1,001+ HP","Traditional","Non ASD Control","constant","Pumps","2014 and before",1984998.6242998999,1984998.6242998999,1984998.6242998999,2133675.0212599598,2133675.0212599598,2133675.0212599598,417.71752320695202,417.71752320695202,417.71752320695202,0.41771752320695199,0.41771752320695199,0.41771752320695199,164.38548587215701,164.38548587215701,164.38548587215701,0.16438548587215701,0.16438548587215701,0.16438548587215701,{"$f":"output[[#This Row],[ishp_Program]]-output[[#This Row],[ishp_Baseline]]","v":0},{"$f":"output[[#This Row],[ishp_Market]]-output[[#This Row],[ishp_Program]]","v":0}]
["All","Chemical","Base",2016,"1,001+ HP","Traditional","Non ASD Control","variable","Fans",2015,166642.444099352,166642.444099352,166642.444099352,179123.96316239299,179123.96316239299,179123.96316239299,43.647205768265302,43.647205768265302,43.647205768265302,4.36472057682653E-2,4.36472057682653E-2,4.36472057682653E-2,0.113252840805994,0.113252840805994,0.113252840805994,1.1325284080599399E-4,1.1325284080599399E-4,1.1325284080599399E-4,{"$f":"output[[#This Row],[ishp_Program]]-output[[#This Row],[ishp_Baseline]]","v":0},{"$f":"output[[#This Row],[ishp_Market]]-output[[#This Row],[ishp_Program]]","v":0}]
["All","Chemical","Base",2016,"1,001+ HP","Traditional","Non ASD Control","variable","Fans",2016,111450.4029955,111450.4029955,111450.4029955,119798.038179863,119798.038179863,119798.038179863,29.3273172321069,29.3273172321069,29.3273172321069,2.9327317232106902E-2,2.9327317232106902E-2,2.9327317232106902E-2,0,0,0,0,0,0,{"$f":"output[[#This Row],[ishp_Program]]-output[[#This Row],[ishp_Baseline]]","v":0},{"$f":"output[[#This Row],[ishp_Market]]-output[[#This Row],[ishp_Program]]","v":0}]
["All","Chemical","Base",2016,"1,001+ HP","Traditional","Non ASD Control","variable","Fans","2014 and before",594839.56181375403,594839.56181375403,594839.56181375403,639393.044993605,639393.044993605,639393.044993605,155.80115194488201,155.80115194488201,155.80115194488201,0.155801151944882,0.155801151944882,0.155801151944882,58.972365711325303,58.972365711325303,58.972365711325303,5.8972365711325303E-2,5.8972365711325303E-2,5.8972365711325303E-2,{"$f":"output[[#This Row],[ishp_Program]]-output[[#This Row],[ishp_Baseline]]","v":0},{"$f":"output[[#This Row],[ishp_Market]]-output[[#This Row],[ishp_Program]]","v":0}]
["All","Chemical","Base",2016,"1,001+ HP","Traditional","Non ASD Control","variable","Pumps",2015,219886.064233982,219886.064233982,219886.064233982,236355.53044510799,236355.53044510799,236355.53044510799,56.512813249037599,56.512813249037599,56.512813249037599,5.6512813249037598E-2,5.6512813249037598E-2,5.6512813249037598E-2,8.5810230331704304E-2,8.5810230331704304E-2,8.5810230331704304E-2,8.5810230331704305E-5,8.5810230331704305E-5,8.5810230331704305E-5,{"$f":"output[[#This Row],[ishp_Program]]-output[[#This Row],[ishp_Baseline]]","v":0},{"$f":"output[[#This Row],[ishp_Market]]-output[[#This Row],[ishp_Program]]","v":0}]
["All","Chemical","Base",2016,"1,001+ HP","Traditional","Non ASD Control","variable","Pumps",2016,171557.01020561601,171557.01020561601,171557.01020561601,184406.630270016,184406.630270016,184406.630270016,44.297331504933801,44.297331504933801,44.297331504933801,4.4297331504933798E-2,4.4297331504933798E-2,4.4297331504933798E-2,0,0,0,0,0,0,{"$f":"output[[#This Row],[ishp_Program]]-output[[#This Row],[ishp_Baseline]]","v":0},{"$f":"output[[#This Row],[ishp_Market]]-output[[#This Row],[ishp_Program]]","v":0}]
["All","Chemical","Base",2016,"1,001+ HP","Traditional","Non ASD Control","variable","Pumps","2014 and before",673777.88033754402,673777.88033754402,673777.88033754402,724243.84357482602,724243.84357482602,724243.84357482602,173.167333980428,173.167333980428,173.167333980428,0.173167333980428,0.173167333980428,0.173167333980428,68.147000669291202,68.147000669291202,68.147000669291202,6.8147000669291205E-2,6.8147000669291205E-2,6.8147000669291205E-2,{"$f":"output[[#This Row],[ishp_Program]]-output[[#This Row],[ishp_Baseline]]","v":0},{"$f":"output[[#This Row],[ishp_Market]]-output[[#This Row],[ishp_Program]]","v":0}]
["All","Chemical","Base",2016,"1-5 HP","Traditional","ASD Control","constant","Fans",2015,27827.492633589001,33402.736776768397,27827.492633589001,29911.771831844799,35904.601761348298,29911.771831844799,6.1370154600586702,7.3665678293940902,6.1370154600586702,2.0456718200195501,2.4555226097980301,2.0456718200195501,2.6204169508910701E-2,6.0100326342808298E-2,2.6204169508910701E-2,8.7347231696369206E-3,2.0033442114269401E-2,8.7347231696369206E-3,{"$f":"output[[#This Row],[ishp_Program]]-output[[#This Row],[ishp_Baseline]]","v":0},{"$f":"output[[#This Row],[ishp_Market]]-output[[#This Row],[ishp_Program]]","v":1.22955236933542}]
["All","Chemical","Base",2016,"1-5 HP","Traditional","ASD Control","constant","Fans",2016,17864.742985651399,22567.562521800101,17864.742985651399,19202.812235276699,24257.872954682902,19202.812235276699,4.0110366154166197,5.0669253774513896,4.0110366154166197,1.33701220513887,1.6889751258171299,1.33701220513887,0,1.80058471256354E-2,0,0,6.0019490418784802E-3,0,{"$f":"output[[#This Row],[ishp_Program]]-output[[#This Row],[ishp_Baseline]]","v":0},{"$f":"output[[#This Row],[ishp_Market]]-output[[#This Row],[ishp_Program]]","v":1.0558887620347699}]
["All","Chemical","Base",2016,"1-5 HP","Traditional","ASD Control","constant","Fans","2014 and before",95721.4986424745,114548.00883919701,95721.4986424745,102891.038890795,123127.65470125301,102891.038890795,21.1102137286986,25.262171853620799,21.1102137286986,7.0367379095661997,8.4207239512069396,7.0367379095661997,6.6845495896921401,6.86644254232991,6.6845495896921401,2.2281831965640402,2.28881418077663,2.2281831965640402,{"$f":"output[[#This Row],[ishp_Program]]-output[[#This Row],[ishp_Baseline]]","v":0},{"$f":"output[[#This Row],[ishp_Market]]-output[[#This Row],[ishp_Program]]","v":4.1519581249221993}]
["All","Chemical","Base",2016,"1-5 HP","Traditional","ASD Control","constant","Pumps",2015,68508.127801927199,77894.534500196896,68508.127801927199,73639.386574291493,83728.835134261695,73639.386574291493,19.877150875355301,22.600550683599799,19.877150875355301,6.6257169584517897,7.5335168945332596,6.6257169584517897,0.10363208329241801,0.31106362803585502,0.10363208329241801,3.45440277641395E-2,0.10368787601195099,3.45440277641395E-2,{"$f":"output[[#This Row],[ishp_Program]]-output[[#This Row],[ishp_Baseline]]","v":0},{"$f":"output[[#This Row],[ishp_Market]]-output[[#This Row],[ishp_Program]]","v":2.7233998082444977}]
["All","Chemical","Base",2016,"1-5 HP","Traditional","ASD Control","constant","Pumps",2016,50468.982007309802,60946.506348410003,50468.982007309802,54249.108759657298,65511.3996739059,54249.108759657298,14.9077909099323,18.002696650417199,14.9077909099323,4.9692636366441203,6.0008988834724004,4.9692636366441203,2.7428174534593602E-3,0.15607983643932,2.7428174534593602E-3,9.1427248448645404E-4,5.2026612146440103E-2,9.1427248448645404E-4,{"$f":"output[[#This Row],[ishp_Program]]-output[[#This Row],[ishp_Baseline]]","v":0},{"$f":"output[[#This Row],[ishp_Market]]-output[[#This Row],[ishp_Program]]","v":3.094905740484899}]
["All","Chemical","Base",2016,"1-5 HP","Traditional","ASD Control","constant","Pumps","2014 and before",197135.03157065599,223809.28653286601,197135.03157065599,211900.44543529901,240572.602094178,211900.44543529901,57.1973412655083,64.9366885135384,57.1973412655083,19.065780421836099,21.6455628378461,19.065780421836099,18.7595912976719,19.443704876859702,18.7595912976719,6.2531970992239803,6.4812349589532303,6.2531970992239803,{"$f":"output[[#This Row],[ishp_Program]]-output[[#This Row],[ishp_Baseline]]","v":0},{"$f":"output[[#This Row],[ishp_Market]]-output[[#This Row],[ishp_Program]]","v":7.7393472480301}]
["All","Chemical","Base",2016,"1-5 HP","Traditional","ASD Control","variable","Fans",2015,198453.823705319,219494.35610433301,198453.823705319,213318.01510084799,235934.48337654801,213318.01510084799,92.672593584443305,102.49795583450199,92.672593584443305,30.890864528147699,34.165985278167398,30.890864528147699,0.449229106617341,0.83623211484514903,0.449229106617341,0.149743035539113,0.27874403828171601,0.149743035539113,{"$f":"output[[#This Row],[ishp_Program]]-output[[#This Row],[ishp_Baseline]]","v":0},{"$f":"output[[#This Row],[ishp_Market]]-output[[#This Row],[ishp_Program]]","v":9.8253622500586886}]
["All","Chemical","Base",2016,"1-5 HP","Traditional","ASD Control","variable","Fans",2016,129876.67061164101,148294.81301699599,129876.67061164101,139604.43324045301,159402.09451196899,139604.43324045301,61.744703089166499,70.500877149657498,61.744703089166499,20.581567696388799,23.500292383219101,20.581567696388799,1.3507921120013901E-2,0.25053221068325399,1.3507921120013901E-2,4.5026403733379903E-3,8.3510736894418097E-2,4.5026403733379903E-3,{"$f":"output[[#This Row],[ishp_Program]]-output[[#This Row],[ishp_Baseline]]","v":0},{"$f":"output[[#This Row],[ishp_Market]]-output[[#This Row],[ishp_Program]]","v":8.7561740604909986}]
["All","Chemical","Base",2016,"1-5 HP","Traditional","ASD Control","variable","Fans","2014 and before",681077.25293437298,752712.01911455102,681077.25293437298,732089.93917915702,809090.14934623102,732089.93917915702,318.04474351936699,351.49625102264298,318.04474351936699,106.014914506455,117.16541700754701,106.014914506455,93.960539569601394,95.539244427451095,93.960539569601394,31.320179856533699,31.8464148091503,31.320179856533699,{"$f":"output[[#This Row],[ishp_Program]]-output[[#This Row],[ishp_Baseline]]","v":0},{"$f":"output[[#This Row],[ishp_Market]]-output[[#This Row],[ishp_Program]]","v":33.451507503275991}]
["All","Chemical","Base",2016,"1-5 HP","Traditional","ASD Control","variable","Pumps",2015,168147.044983837,177152.934226485,168147.044983837,180741.25865312701,190421.68900004899,180741.25865312701,72.644603485005703,76.535419723405397,72.644603485005703,24.214867828335201,25.511806574468402,24.214867828335201,0.68817590979332399,1.0533984620864001,0.68817590979332399,0.229391969931108,0.35113282069546697,0.229391969931108,{"$f":"output[[#This Row],[ishp_Program]]-output[[#This Row],[ishp_Baseline]]","v":0},{"$f":"output[[#This Row],[ishp_Market]]-output[[#This Row],[ishp_Program]]","v":3.8908162383996938}]
["All","Chemical","Base",2016,"1-5 HP","Traditional","ASD Control","variable","Pumps",2016,128090.628239771,138608.60071571101,128090.628239771,137684.61629492999,148990.38490931701,137684.61629492999,56.338877136731,60.9650607006078,56.338877136731,18.7796257122436,20.3216869002026,18.7796257122436,0.239447756067561,0.528555076355402,0.239447756067561,7.9815918689187096E-2,0.17618502545180001,7.9815918689187096E-2,{"$f":"output[[#This Row],[ishp_Program]]-output[[#This Row],[ishp_Baseline]]","v":0},{"$f":"output[[#This Row],[ishp_Market]]-output[[#This Row],[ishp_Program]]","v":4.6261835638768005}]
["All","Chemical","Base",2016,"1-5 HP","Traditional","ASD Control","variable","Pumps","2014 and before",483145.23143620399,509001.97389758198,483145.23143620399,519332.80927077599,547126.22174251196,519332.80927077599,208.73333674539401,219.90423067160799,208.73333674539401,69.577778915131503,73.301410223869297,69.577778915131503,64.783622487892501,65.844949291804298,64.783622487892501,21.5945408292975,21.948316430601398,21.5945408292975,{"$f":"output[[#This Row],[ishp_Program]]-output[[#This Row],[ishp_Baseline]]","v":0},{"$f":"output[[#This Row],[ishp_Market]]-output[[#This Row],[ishp_Program]]","v":11.170893926213978}]
["All","Chemical","Base",2016,"1-5 HP","Traditional","Non ASD Control","constant","Fans",2015,833723.64917496301,828051.24909493502,833723.64917496301,896169.55049816705,890072.28765214595,896169.55049816705,178.89525797105699,177.67810948710101,178.89525797105699,59.631752657019,59.226036495700399,59.631752657019,0.46960380779146699,0.46102723632044201,0.46960380779146699,0.15653460259715499,0.153675745440147,0.15653460259715499,{"$f":"output[[#This Row],[ishp_Program]]-output[[#This Row],[ishp_Baseline]]","v":0},{"$f":"output[[#This Row],[ishp_Market]]-output[[#This Row],[ishp_Program]]","v":-1.217148483955981}]
["All","Chemical","Base",2016,"1-5 HP","Traditional","Non ASD Control","constant","Fans",2016,551090.16185401496,546507.83732541197,551090.16185401496,592366.81497688103,587441.27434108604,592366.81497688103,120.38602619461101,119.385014238824,120.38602619461101,40.128675398203903,39.795004746274799,40.128675398203903,0,0,0,0,0,0,{"$f":"output[[#This Row],[ishp_Program]]-output[[#This Row],[ishp_Baseline]]","v":0},{"$f":"output[[#This Row],[ishp_Market]]-output[[#This Row],[ishp_Program]]","v":-1.001011955787007}]
["All","Chemical","Base",2016,"1-5 HP","Traditional","Non ASD Control","constant","Fans","2014 and before",2975438.77687843,2955775.4318419602,2975438.77687843,3198299.14126663,3177163.0116869202,3198299.14126663,638.45122792606503,634.23198910951601,638.45122792606503,212.81707597535501,211.41066303650501,212.81707597535501,240.201768646804,240.063442026535,240.201768646804,80.067256215601304,80.021147342178594,80.067256215601304,{"$f":"output[[#This Row],[ishp_Program]]-output[[#This Row],[ishp_Baseline]]","v":0},{"$f":"output[[#This Row],[ishp_Market]]-output[[#This Row],[ishp_Program]]","v":-4.2192388165490229}]
["All","Chemical","Base",2016,"1-5 HP","Traditional","Non ASD Control","constant","Pumps",2015,332756.50751099002,321758.14239530801,332756.50751099002,357679.969923564,345857.827260716,357679.969923564,83.089630026037497,80.343327346072101,83.089630026037497,27.6965433420125,26.7811091153573,27.6965433420125,0.16265368527835999,0.12199497828573,0.16265368527835999,5.4217895092786801E-2,4.0664992761909997E-2,5.4217895092786801E-2,{"$f":"output[[#This Row],[ishp_Program]]-output[[#This Row],[ishp_Baseline]]","v":0},{"$f":"output[[#This Row],[ishp_Market]]-output[[#This Row],[ishp_Program]]","v":-2.746302679965396}]
["All","Chemical","Base",2016,"1-5 HP","Traditional","Non ASD Control","constant","Pumps",2016,258986.60872913001,247732.77665877901,258986.60872913001,278384.70572294202,266287.96163052099,278384.70572294202,65.837645280332893,62.976779973327297,65.837645280332893,21.9458817601109,20.992259991109101,21.9458817601109,0,0,0,0,0,0,{"$f":"output[[#This Row],[ishp_Program]]-output[[#This Row],[ishp_Baseline]]","v":0},{"$f":"output[[#This Row],[ishp_Market]]-output[[#This Row],[ishp_Program]]","v":-2.8608653070055965}]
["All","Chemical","Base",2016,"1-5 HP","Traditional","Non ASD Control","constant","Pumps","2014 and before",1017775.71411574,985935.69319501997,1017775.71411574,1094007.1151030101,1059782.27661532,1094007.1151030101,254.13960546682901,246.189120657041,254.13960546682901,84.713201822276602,82.0630402190138,84.713201822276602,97.405084766609605,96.883458239784105,97.405084766609605,32.468361588869797,32.294486079927999,32.468361588869797,{"$f":"output[[#This Row],[ishp_Program]]-output[[#This Row],[ishp_Baseline]]","v":0},{"$f":"output[[#This Row],[ishp_Market]]-output[[#This Row],[ishp_Program]]","v":-7.9504848097880085}]
["All","Chemical","Base",2016,"1-5 HP","Traditional","Non ASD Control","variable","Fans",2015,493657.10434652801,451693.21516086097,493657.10434652801,530632.02146208298,485525.03697641002,530632.02146208298,115.647875344102,105.817094863546,115.647875344102,38.549291781367401,35.272364954515297,38.549291781367401,0.35123572381783702,0.27456709743943097,0.35123572381783702,0.11707857460594499,9.15223658131437E-2,0.11707857460594499,{"$f":"output[[#This Row],[ishp_Program]]-output[[#This Row],[ishp_Baseline]]","v":0},{"$f":"output[[#This Row],[ishp_Market]]-output[[#This Row],[ishp_Program]]","v":-9.8307804805560011}]
["All","Chemical","Base",2016,"1-5 HP","Traditional","Non ASD Control","variable","Fans",2016,332532.20121563697,298114.25611873198,332532.20121563697,357438.86308668798,320443.013902026,357438.86308668798,79.309038962090995,71.100347777577994,79.309038962090995,26.436346320697002,23.700115925859301,26.436346320697002,0,0,0,0,0,0,{"$f":"output[[#This Row],[ishp_Program]]-output[[#This Row],[ishp_Baseline]]","v":0},{"$f":"output[[#This Row],[ishp_Market]]-output[[#This Row],[ishp_Program]]","v":-8.2086911845130004}]
["All","Chemical","Base",2016,"1-5 HP","Traditional","Non ASD Control","variable","Fans","2014 and before",1757450.0173064801,1612344.2957926199,1757450.0173064801,1889083.0236027299,1733108.88354749,1889083.0236027299,411.71363429276101,377.72006214400398,411.71363429276101,137.23787809758699,125.906687381334,137.23787809758699,144.19931622657899,142.97099452217799,144.19931622657899,48.066438742193199,47.656998174059403,48.066438742193199,{"$f":"output[[#This Row],[ishp_Program]]-output[[#This Row],[ishp_Baseline]]","v":0},{"$f":"output[[#This Row],[ishp_Market]]-output[[#This Row],[ishp_Program]]","v":-33.993572148757039}]
["All","Chemical","Base",2016,"1-5 HP","Traditional","Non ASD Control","variable","Pumps",2015,122274.774800958,109215.95436415799,122274.774800958,131433.15543355001,117396.229346034,131433.15543355001,37.289269595788298,33.306813879443702,37.289269595788298,12.429756531929399,11.102271293147901,12.429756531929399,0.115234488833896,5.05737585211933E-2,0.115234488833896,3.84114962779653E-2,1.68579195070644E-2,3.84114962779653E-2,{"$f":"output[[#This Row],[ishp_Program]]-output[[#This Row],[ishp_Baseline]]","v":0},{"$f":"output[[#This Row],[ishp_Market]]-output[[#This Row],[ishp_Program]]","v":-3.9824557163445959}]
["All","Chemical","Base",2016,"1-5 HP","Traditional","Non ASD Control","variable","Pumps",2016,97712.783692133395,84089.159107682906,97712.783692133395,105031.471190674,90387.437124848395,105031.471190674,30.337172712175398,26.107406284821199,30.337172712175398,10.112390904058399,8.7024687616070704,10.112390904058399,0,0,0,0,0,0,{"$f":"output[[#This Row],[ishp_Program]]-output[[#This Row],[ishp_Baseline]]","v":0},{"$f":"output[[#This Row],[ishp_Market]]-output[[#This Row],[ishp_Program]]","v":-4.2297664273541997}]
["All","Chemical","Base",2016,"1-5 HP","Traditional","Non ASD Control","variable","Pumps","2014 and before",372290.748911086,334661.01859106403,372290.748911086,400175.32600452699,359727.12888353498,400175.32600452699,113.534865443518,102.059193858727,113.534865443518,37.844955147839599,34.019731286242497,37.844955147839599,40.990823022366001,40.163625507938399,40.990823022366001,13.663607674122,13.3878751693128,13.663607674122,{"$f":"output[[#This Row],[ishp_Program]]-output[[#This Row],[ishp_Baseline]]","v":0},{"$f":"output[[#This Row],[ishp_Market]]-output[[#This Row],[ishp_Program]]","v":-11.475671584791002}]
["All","Chemical","Base",2016,"101-200 HP","Traditional","ASD Control","constant","Fans",2015,78671.867992428204,93855.727315539902,80011.642593960103,84564.390905061096,100885.52129147299,86004.514624247706,19.7825567518924,23.600637680148999,20.1194518551344,0.13144555981323799,0.15681486830663799,0.13368406548261999,8.5018038925360806E-2,0.19254638785997599,8.5018038925360806E-2,5.6490391312532097E-4,1.27937799242509E-3,5.6490391312532097E-4,{"$f":"output[[#This Row],[ishp_Program]]-output[[#This Row],[ishp_Baseline]]","v":0.336895103242},{"$f":"output[[#This Row],[ishp_Market]]-output[[#This Row],[ishp_Program]]","v":3.4811858250145988}]
["All","Chemical","Base",2016,"101-200 HP","Traditional","ASD Control","constant","Fans",2016,51291.6104556149,64309.126011018197,52044.778807768504,55133.3520787405,69125.8795492434,55942.9327404703,12.9472275757589,16.233159424450498,13.1373452572193,8.6028090204378294E-2,0.107861524414953,8.7291330612752904E-2,0,5.7686222943697497E-2,0,0,3.8329716241659498E-4,0,{"$f":"output[[#This Row],[ishp_Program]]-output[[#This Row],[ishp_Baseline]]","v":0.19011768146039998},{"$f":"output[[#This Row],[ishp_Market]]-output[[#This Row],[ishp_Program]]","v":3.0958141672311985}]
["All","Chemical","Base",2016,"101-200 HP","Traditional","ASD Control","constant","Fans","2014 and before",270568.816592213,321859.45582839497,275637.95260026801,290834.42095497,345966.72906994098,296283.23525002802,68.036301998612799,80.933669347615506,69.310969466430507,0.45206845181802502,0.53776524483465504,0.46053800309920601,21.43019735847,21.998361563504201,21.43019735847,0.142393337930033,0.146168515372121,0.142393337930033,{"$f":"output[[#This Row],[ishp_Program]]-output[[#This Row],[ishp_Baseline]]","v":1.2746674678177072},{"$f":"output[[#This Row],[ishp_Market]]-output[[#This Row],[ishp_Program]]","v":11.622699881185}]
["All","Chemical","Base",2016,"101-200 HP","Traditional","ASD Control","constant","Pumps",2015,1602340.57637461,1758403.96559346,1602340.57637461,1722355.8855450701,1890108.4226164101,1722355.8855450701,407.508504556145,447.19866736811599,407.508504556145,2.7076977046919901,2.9714197167316598,2.7076977046919901,2.5738135714627299,6.15503763035621,2.5738135714627299,1.71017513054002E-2,4.0897260002366799E-2,1.71017513054002E-2,{"$f":"output[[#This Row],[ishp_Program]]-output[[#This Row],[ishp_Baseline]]","v":0},{"$f":"output[[#This Row],[ishp_Market]]-output[[#This Row],[ishp_Program]]","v":39.690162811970993}]
["All","Chemical","Base",2016,"101-200 HP","Traditional","ASD Control","constant","Pumps",2016,1213088.2098411501,1395306.7925271001,1213088.2098411501,1303948.5167582501,1499815.27128739,1303948.5167582501,309.70036440821701,356.22061001111399,309.70036440821701,2.0578097302871501,2.36691435223331,2.0578097302871501,0.30472873115641902,3.0883625729239599,0.30472873115641902,2.0247756223017899E-3,2.0520681547667501E-2,2.0247756223017899E-3,{"$f":"output[[#This Row],[ishp_Program]]-output[[#This Row],[ishp_Baseline]]","v":0},{"$f":"output[[#This Row],[ishp_Market]]-output[[#This Row],[ishp_Program]]","v":46.520245602896978}]
["All","Chemical","Base",2016,"101-200 HP","Traditional","ASD Control","constant","Pumps","2014 and before",4604221.6909773899,5052307.4500822797,4604221.6909773899,4949077.8956315899,5430725.2780934405,4949077.8956315899,1170.94924986565,1284.90676944547,1170.94924986565,7.7803936868149997,8.5375865079433204,7.7803936868149997,374.325780193502,384.73393995396401,374.325780193502,2.4872144863355601,2.5563716940462702,2.4872144863355601,{"$f":"output[[#This Row],[ishp_Program]]-output[[#This Row],[ishp_Baseline]]","v":0},{"$f":"output[[#This Row],[ishp_Market]]-output[[#This Row],[ishp_Program]]","v":113.95751957981997}]
["All","Chemical","Base",2016,"101-200 HP","Traditional","ASD Control","variable","Fans",2015,564327.58579033497,604756.18559866201,584282.05825509597,606595.72196603101,650052.42390000203,628044.78441840305,306.42536406493798,328.377770303511,317.26048296343203,2.0360489306640401,2.18191209503994,2.1080430761689799,1.6289301261120199,2.67907818349487,1.6289301261120199,1.0823455987455301E-2,1.7801183943487502E-2,1.0823455987455301E-2,{"$f":"output[[#This Row],[ishp_Program]]-output[[#This Row],[ishp_Baseline]]","v":10.835118898494045},{"$f":"output[[#This Row],[ishp_Market]]-output[[#This Row],[ishp_Program]]","v":11.117287340078974}]
["All","Chemical","Base",2016,"101-200 HP","Traditional","ASD Control","variable","Fans",2016,377679.72471282398,414373.66539023898,389292.23699102103,405967.93609381502,445410.25292796799,418450.22554164898,205.86598273726699,225.86714685536501,212.19574071942401,1.36788028396855,1.5007783844210301,1.4099384765410199,0.108333153960293,0.80264243382778999,0.108333153960293,7.19821620998628E-4,5.3331723177926201E-3,7.19821620998628E-4,{"$f":"output[[#This Row],[ishp_Program]]-output[[#This Row],[ishp_Baseline]]","v":6.3297579821570196},{"$f":"output[[#This Row],[ishp_Market]]-output[[#This Row],[ishp_Program]]","v":13.671406135940998}]
["All","Chemical","Base",2016,"101-200 HP","Traditional","ASD Control","variable","Fans","2014 and before",1935312.3653865,2073890.4526438301,2010622.3444236901,2080267.2615539499,2229224.8475468499,2161217.9580210201,1050.8591305392299,1126.1059231974,1091.7518466234101,6.9824526946128396,7.4824313833714502,7.2541650938432696,302.42778054801897,306.08380241479801,302.42778054801897,2.00948691394033,2.0337794180385198,2.00948691394033,{"$f":"output[[#This Row],[ishp_Program]]-output[[#This Row],[ishp_Baseline]]","v":40.892716084180165},{"$f":"output[[#This Row],[ishp_Market]]-output[[#This Row],[ishp_Program]]","v":34.354076573989914}]
["All","Chemical","Base",2016,"101-200 HP","Traditional","ASD Control","variable","Pumps",2015,3884082.1914138198,3976082.4619064298,4031521.61528095,4174999.9475507098,4273891.0383032197,4333482.5842654901,1479.3705751334101,1514.4116701370001,1535.5273541443701,9.8297048181622007,10.062536014199299,10.202839562421101,17.460765486786801,20.843668592309999,17.460765486786801,0.116018375327487,0.13849613682598,0.116018375327487,{"$f":"output[[#This Row],[ishp_Program]]-output[[#This Row],[ishp_Baseline]]","v":56.156779010960008},{"$f":"output[[#This Row],[ishp_Market]]-output[[#This Row],[ishp_Program]]","v":-21.115684007369964}]
["All","Chemical","Base",2016,"101-200 HP","Traditional","ASD Control","variable","Pumps",2016,3044943.1852181801,3155051.3848355301,3151788.6217702399,3273009.4297910202,3391364.73355971,3387857.5895408299,1164.2205124109701,1206.31989383834,1205.07239086154,7.7356844678469798,8.0154145769989302,8.0071255206746805,7.7448980547588402,10.4585560363497,7.7448980547588402,5.1461116642915798E-2,6.9492066686709306E-2,5.1461116642915798E-2,{"$f":"output[[#This Row],[ishp_Program]]-output[[#This Row],[ishp_Baseline]]","v":40.851878450569984},{"$f":"output[[#This Row],[ishp_Market]]-output[[#This Row],[ishp_Program]]","v":1.2475029767999786}]
["All","Chemical","Base",2016,"101-200 HP","Traditional","ASD Control","variable","Pumps","2014 and before",11160082.889203601,11424218.460319201,11631988.3075122,11995973.097604999,12279892.4229971,12503224.2317448,4250.6562499719203,4351.2602981092596,4430.3957497268202,28.243563122737001,28.912028558865501,29.437845513134999,1293.04876869194,1302.87858859932,1293.04876869194,8.5916861707105792,8.6570005886998498,8.5916861707105792,{"$f":"output[[#This Row],[ishp_Program]]-output[[#This Row],[ishp_Baseline]]","v":179.73949975489995},{"$f":"output[[#This Row],[ishp_Market]]-output[[#This Row],[ishp_Program]]","v":-79.135451617560648}]
["All","Chemical","Base",2016,"101-200 HP","Traditional","Non ASD Control","constant","Fans",2015,1227399.4575787,1211586.0405245901,1225990.6529498801,1319331.6769513399,1302333.83495988,1317817.35285583,293.51469928684202,289.73315097127602,293.17780418360002,1.9502637826368201,1.9251372157559801,1.94802527696744,0.77863204656531504,0.75178013908571895,0.77863204656531504,5.1736348608991001E-3,4.99521687100145E-3,5.1736348608991001E-3,{"$f":"output[[#This Row],[ishp_Program]]-output[[#This Row],[ishp_Baseline]]","v":-0.336895103242},{"$f":"output[[#This Row],[ishp_Market]]-output[[#This Row],[ishp_Program]]","v":-3.444653212323999}]
["All","Chemical","Base",2016,"101-200 HP","Traditional","Non ASD Control","constant","Fans",2016,823935.82372866699,810966.03131607606,823143.84942225995,885648.61692594399,871707.38706165005,884797.32374398701,197.79021517772799,194.67674692180501,197.60009749626801,1.31422069885534,1.29353320213824,1.3129574584469601,0,0,0,0,0,0,{"$f":"output[[#This Row],[ishp_Program]]-output[[#This Row],[ishp_Baseline]]","v":-0.19011768145998076},{"$f":"output[[#This Row],[ishp_Market]]-output[[#This Row],[ishp_Program]]","v":-2.9233505744630008}]
["All","Chemical","Base",2016,"101-200 HP","Traditional","Non ASD Control","constant","Fans","2014 and before",4379631.6908950098,4324824.4067737702,4374301.3746880405,4707666.1045430498,4648753.75484112,4701936.5476521803,1047.3251155545199,1034.21875200006,1046.0504480867,6.9589708674719297,6.87188539534925,6.9505013161907501,391.89546560984002,391.46261569384802,391.89546560984002,2.6039565821251802,2.6010805029491499,2.6039565821251802,{"$f":"output[[#This Row],[ishp_Program]]-output[[#This Row],[ishp_Baseline]]","v":-1.2746674678198815},{"$f":"output[[#This Row],[ishp_Market]]-output[[#This Row],[ishp_Program]]","v":-11.831696086640022}]
["All","Chemical","Base",2016,"101-200 HP","Traditional","Non ASD Control","constant","Pumps",2015,2835849.4295427501,2644988.8499642098,2835849.4295427501,3048254.5518155,2843098.5148265301,3048254.5518155,602.07743690616996,561.55594540455695,602.07743690616996,4.0005145309380099,3.7312687402296101,4.0005145309380099,1.47844831255644,0.85267822019320205,1.47844831255644,9.8235768276175497E-3,5.66563601457277E-3,9.8235768276175497E-3,{"$f":"output[[#This Row],[ishp_Program]]-output[[#This Row],[ishp_Baseline]]","v":0},{"$f":"output[[#This Row],[ishp_Market]]-output[[#This Row],[ishp_Program]]","v":-40.521491501613013}]
["All","Chemical","Base",2016,"101-200 HP","Traditional","Non ASD Control","constant","Pumps",2016,2265105.7738103298,2065318.30747431,2265105.7738103298,2434762.1962687299,2220010.6487041302,2434762.1962687299,482.75319811390301,440.17327119307498,482.75319811390301,3.2076624459395502,2.9247393434755802,3.2076624459395502,0,0,0,0,0,0,{"$f":"output[[#This Row],[ishp_Program]]-output[[#This Row],[ishp_Baseline]]","v":0},{"$f":"output[[#This Row],[ishp_Market]]-output[[#This Row],[ishp_Program]]","v":-42.579926920828029}]
["All","Chemical","Base",2016,"101-200 HP","Traditional","Non ASD Control","constant","Pumps","2014 and before",8656206.7891204599,8104810.9485871801,8656206.7891204599,9304556.6776255798,8711861.2886363603,9304556.6776255798,1837.7939049337199,1720.7273953614799,1837.7939049337199,12.2112551822838,11.433404620341999,12.2112551822838,685.17987584539696,677.16242011683005,685.17987584539696,4.5526902049527997,4.4994180738659804,4.5526902049527997,{"$f":"output[[#This Row],[ishp_Program]]-output[[#This Row],[ishp_Baseline]]","v":0},{"$f":"output[[#This Row],[ishp_Market]]-output[[#This Row],[ishp_Program]]","v":-117.06650957223997}]
["All","Chemical","Base",2016,"101-200 HP","Traditional","Non ASD Control","variable","Fans",2015,745480.19999277894,660907.39514823002,703979.61737500201,801316.66697223904,710409.35904483299,756707.69071639003,194.63260739704899,172.552040372015,183.797488498555,1.2932399162594601,1.14652518519611,1.2212457707545199,0.68291393584621296,0.44772645613914103,0.68291393584621296,4.5376341252240096E-3,2.97492661886472E-3,4.5376341252240096E-3,{"$f":"output[[#This Row],[ishp_Program]]-output[[#This Row],[ishp_Baseline]]","v":-10.835118898493988},{"$f":"output[[#This Row],[ishp_Market]]-output[[#This Row],[ishp_Program]]","v":-11.245448126539998}]
["All","Chemical","Base",2016,"101-200 HP","Traditional","Non ASD Control","variable","Fans",2016,513546.74292702897,442373.40922047797,489395.46425743098,552011.39397226402,475507.17757109099,526051.18453031301,134.59438896478301,115.940719181541,128.26463098262599,0.89431487684241395,0.77037022711988001,0.85225668426994605,5.1907955568921603E-2,0,5.1907955568921603E-2,3.4490335926193799E-4,0,3.4490335926193799E-4,{"$f":"output[[#This Row],[ishp_Program]]-output[[#This Row],[ishp_Baseline]]","v":-6.3297579821570196},{"$f":"output[[#This Row],[ishp_Market]]-output[[#This Row],[ishp_Program]]","v":-12.323911801084989}]
["All","Chemical","Base",2016,"101-200 HP","Traditional","Non ASD Control","variable","Fans","2014 and before",2652025.9823675901,2359146.0594220301,2495399.0400870899,2850662.7284469302,2535846.0992727401,2682304.4281896101,692.40032376168597,615.93419755512195,651.50760767750705,4.6006666030676797,4.09258603026659,4.3289542038372604,236.00597241860501,233.137536525933,236.00597241860501,1.56814599613691,1.5490866214347701,1.56814599613691,{"$f":"output[[#This Row],[ishp_Program]]-output[[#This Row],[ishp_Baseline]]","v":-40.892716084178915},{"$f":"output[[#This Row],[ishp_Market]]-output[[#This Row],[ishp_Program]]","v":-35.573410122385098}]
["All","Chemical","Base",2016,"101-200 HP","Traditional","Non ASD Control","variable","Pumps",2015,1035548.80874687,897801.62012649898,818974.83327794296,1113111.4145220099,965046.96147397405,880316.04829046095,268.51372830901499,232.79642472261901,212.35694929804799,1.7841443741462799,1.54682009782471,1.41100962988736,1.17400297317156,0.35348293028368799,1.17400297317156,7.8006842071200403E-3,2.3487237892603802E-3,7.8006842071200403E-3,{"$f":"output[[#This Row],[ishp_Program]]-output[[#This Row],[ishp_Baseline]]","v":-56.156779010967},{"$f":"output[[#This Row],[ishp_Market]]-output[[#This Row],[ishp_Program]]","v":20.439475424571015}]
["All","Chemical","Base",2016,"101-200 HP","Traditional","Non ASD Control","variable","Pumps",2016,849636.05479166994,701041.18682861095,692690.64393841196,913273.79529556597,753549.17172207404,744573.17316939903,221.15478655201099,182.47650057090101,180.30290810144299,1.46946702027914,1.2124684423315699,1.19802596745145,0.225949728723463,0,0.225949728723463,1.50132710115258E-3,0,1.50132710115258E-3,{"$f":"output[[#This Row],[ishp_Program]]-output[[#This Row],[ishp_Baseline]]","v":-40.851878450567995},{"$f":"output[[#This Row],[ishp_Market]]-output[[#This Row],[ishp_Program]]","v":2.1735924694580149}]
["All","Chemical","Base",2016,"101-200 HP","Traditional","Non ASD Control","variable","Pumps","2014 and before",3149631.0099784299,2751055.9829237098,2456448.4824849102,3385538.3726258199,2957110.0760446899,2640436.47382303,816.68691822494395,713.33798322414998,636.94741847003695,5.4264911509963003,4.7397872639478402,4.2322087605982501,288.44454480796202,280.721790321615,288.44454480796202,1.9165750485578901,1.8652610652599,1.9165750485578901,{"$f":"output[[#This Row],[ishp_Program]]-output[[#This Row],[ishp_Baseline]]","v":-179.739499754907},{"$f":"output[[#This Row],[ishp_Market]]-output[[#This Row],[ishp_Program]]","v":76.390564754113029}]
["All","Chemical","Base",2016,"11-20 HP","Traditional","ASD Control","constant","Fans",2015,29317.919967628299,35220.332418607497,29603.6993434875,31513.8321732037,37858.3353167612,31821.016424314701,7.0633828275011297,8.4854140900568993,7.1322338625720496,0.45570211790329801,0.54744607032625103,0.46014412016593798,3.01339722898766E-2,6.9228461310216205E-2,3.01339722898766E-2,1.94412724450816E-3,4.4663523425946001E-3,1.94412724450816E-3,{"$f":"output[[#This Row],[ishp_Program]]-output[[#This Row],[ishp_Baseline]]","v":6.8851035070919941E-2},{"$f":"output[[#This Row],[ishp_Market]]-output[[#This Row],[ishp_Program]]","v":1.3531802274848497}]
["All","Chemical","Base",2016,"11-20 HP","Traditional","ASD Control","constant","Fans",2016,18952.9216724787,23965.956970412401,19112.1289284874,20372.4955057474,25761.007147496301,20543.627385231099,4.6156593562159998,5.8364982155644203,4.6544315557466396,0.29778447459458002,0.376548271971898,0.300285906822364,0,2.0740604368514499E-2,0,0,1.3381035076461001E-3,0,{"$f":"output[[#This Row],[ishp_Program]]-output[[#This Row],[ishp_Baseline]]","v":3.8772199530639817E-2},{"$f":"output[[#This Row],[ishp_Market]]-output[[#This Row],[ishp_Program]]","v":1.1820666598177807}]
["All","Chemical","Base",2016,"11-20 HP","Traditional","ASD Control","constant","Fans","2014 and before",100850.655137842,120781.089770227,101932.101955818,108404.36920766599,129827.59339401701,109566.816392308,24.297316672854599,29.099031456252,24.557862881159298,1.5675688176035201,1.8773568681452899,1.58437825039737,7.6991249537628104,7.9093289638581501,7.6991249537628104,0.49671773895243898,0.51027928799084799,0.49671773895243898,{"$f":"output[[#This Row],[ishp_Program]]-output[[#This Row],[ishp_Baseline]]","v":0.26054620830469943},{"$f":"output[[#This Row],[ishp_Market]]-output[[#This Row],[ishp_Program]]","v":4.5411685750927013}]
["All","Chemical","Base",2016,"11-20 HP","Traditional","ASD Control","constant","Pumps",2015,451663.488951648,506086.27607085602,451663.488951648,485493.08427412697,543992.13814856298,485493.08427412697,133.967804332893,150.11013479435999,133.967804332893,8.6430841505092406,9.6845248254426206,8.6430841505092406,0.74742778480083105,2.0660471414074899,0.74742778480083105,4.8221147406505203E-2,0.13329336396177399,4.8221147406505203E-2,{"$f":"output[[#This Row],[ishp_Program]]-output[[#This Row],[ishp_Baseline]]","v":0},{"$f":"output[[#This Row],[ishp_Market]]-output[[#This Row],[ishp_Program]]","v":16.142330461466997}]
["All","Chemical","Base",2016,"11-20 HP","Traditional","ASD Control","constant","Pumps",2016,336866.58579392498,398809.14737058501,336866.58579392498,362097.89306988998,428679.95250864199,362097.89306988998,101.00000170985901,119.571742241533,101.00000170985901,6.5161291425715797,7.71430595106668,6.5161291425715797,4.06802517490494E-2,1.0366634696026,4.06802517490494E-2,2.6245323709064099E-3,6.68815141679098E-2,2.6245323709064099E-3,{"$f":"output[[#This Row],[ishp_Program]]-output[[#This Row],[ishp_Baseline]]","v":0},{"$f":"output[[#This Row],[ishp_Market]]-output[[#This Row],[ishp_Program]]","v":18.571740531673996}]
["All","Chemical","Base",2016,"11-20 HP","Traditional","ASD Control","constant","Pumps","2014 and before",1298823.02647069,1454104.6955124601,1298823.02647069,1396104.87115334,1563017.13720634,1396104.87115334,385.243601330611,431.30166173075099,385.243601330611,24.854425892297499,27.8259136600484,24.854425892297499,125.016537428601,129.142745273244,125.016537428601,8.0655830599097893,8.3317900176286699,8.0655830599097893,{"$f":"output[[#This Row],[ishp_Program]]-output[[#This Row],[ishp_Baseline]]","v":0},{"$f":"output[[#This Row],[ishp_Market]]-output[[#This Row],[ishp_Program]]","v":46.058060400139993}]
["All","Chemical","Base",2016,"11-20 HP","Traditional","ASD Control","variable","Fans",2015,205799.24637475499,229027.88578454699,210097.93331687999,221213.60992822499,246182.07442980999,225834.268522314,106.090981901598,118.065511481437,108.30698573354201,6.8445794775225099,7.6171297729959697,6.9875474666801498,0.50661294696589798,0.96324040369943598,0.50661294696589798,3.26847062558644E-2,6.21445421741572E-2,3.26847062558644E-2,{"$f":"output[[#This Row],[ishp_Program]]-output[[#This Row],[ishp_Baseline]]","v":2.2160038319440076},{"$f":"output[[#This Row],[ishp_Market]]-output[[#This Row],[ishp_Program]]","v":9.7585257478949927}]
["All","Chemical","Base",2016,"11-20 HP","Traditional","ASD Control","variable","Fans",2016,135437.07330887701,155843.85719304401,137889.62902641701,145581.31009971199,167516.56209680301,148217.56224049599,70.574895044503094,81.208664629411203,71.8528971315788,4.5532190351292297,5.2392686857684598,4.6356707826825003,1.2917856801113301E-2,0.28858344887045101,1.2917856801113301E-2,8.3341011620086103E-4,1.8618287023900101E-2,8.3341011620086103E-4,{"$f":"output[[#This Row],[ishp_Program]]-output[[#This Row],[ishp_Baseline]]","v":1.2780020870757056},{"$f":"output[[#This Row],[ishp_Market]]-output[[#This Row],[ishp_Program]]","v":9.355767497832403}]
["All","Chemical","Base",2016,"11-20 HP","Traditional","ASD Control","variable","Fans","2014 and before",706396.33150933101,785405.35347742296,722632.64767980203,759305.41673937999,844232.214452883,776757.83299101901,364.152355956853,404.882071285432,372.522292948038,23.493700384313101,26.121423953898798,24.033696319228302,108.138555901844,110.049899708147,108.138555901844,6.9766810259254299,7.0999935295578798,6.9766810259254299,{"$f":"output[[#This Row],[ishp_Program]]-output[[#This Row],[ishp_Baseline]]","v":8.3699369911849999},{"$f":"output[[#This Row],[ishp_Market]]-output[[#This Row],[ishp_Program]]","v":32.359778337394005}]
["All","Chemical","Base",2016,"11-20 HP","Traditional","ASD Control","variable","Pumps",2015,1105145.1955837901,1146661.26129848,1106558.5558009399,1187920.5707330201,1232546.18976973,1189439.7916304299,489.93409255279101,508.33903704657098,490.560664842302,31.608651132438101,32.796066906230401,31.6490751511163,5.2429548105648696,6.9965456749116797,5.2429548105648696,0.33825514906870102,0.45139004354268902,0.33825514906870102,{"$f":"output[[#This Row],[ishp_Program]]-output[[#This Row],[ishp_Baseline]]","v":0.62657228951098887},{"$f":"output[[#This Row],[ishp_Market]]-output[[#This Row],[ishp_Program]]","v":17.778372204268976}]
["All","Chemical","Base",2016,"11-20 HP","Traditional","ASD Control","variable","Pumps",2016,854495.80186352402,903598.89521544799,855505.21989747905,918497.53742310102,971278.45246708498,919582.56086780003,382.91840948792702,404.922588286993,383.37075196547698,24.704413515350101,26.124037953999601,24.733596900998499,2.1126963796429599,3.5105991384328799,2.1126963796429599,0.13630299223503001,0.22649026699566899,0.13630299223503001,{"$f":"output[[#This Row],[ishp_Program]]-output[[#This Row],[ishp_Baseline]]","v":0.45234247754996204},{"$f":"output[[#This Row],[ishp_Market]]-output[[#This Row],[ishp_Program]]","v":21.551836321516021}]
["All","Chemical","Base",2016,"11-20 HP","Traditional","ASD Control","variable","Pumps","2014 and before",3175431.9236162999,3294627.0291331001,3179956.5403318801,3413271.7746951701,3541394.5936151599,3418135.2852027402,1407.7357112684999,1460.57740672305,1409.74156895449,90.821658791516398,94.230800433745699,90.951068964805998,432.23855526114897,437.33422039547702,432.23855526114897,27.886358403945099,28.215110993256602,27.886358403945099,{"$f":"output[[#This Row],[ishp_Program]]-output[[#This Row],[ishp_Baseline]]","v":2.0058576859901223},{"$f":"output[[#This Row],[ishp_Market]]-output[[#This Row],[ishp_Program]]","v":50.835837768559941}]
["All","Chemical","Base",2016,"11-20 HP","Traditional","Non ASD Control","constant","Fans",2015,1023005.22273085,1016869.64095835,1022705.1064659799,1099628.31391339,1093033.1770661301,1099305.7189402899,234.69227334286799,233.284681668384,234.623422307797,15.141436989862401,15.0506246237667,15.136994987599801,0.61521988839509201,0.6053114386231,0.61521988839509201,3.9691605702909097E-2,3.9052350878909702E-2,3.9691605702909097E-2,{"$f":"output[[#This Row],[ishp_Program]]-output[[#This Row],[ishp_Baseline]]","v":-6.8851035070991884E-2},{"$f":"output[[#This Row],[ishp_Market]]-output[[#This Row],[ishp_Program]]","v":-1.3387406394130039}]
["All","Chemical","Base",2016,"11-20 HP","Traditional","Non ASD Control","constant","Fans",2016,680923.53157208802,675932.26996805205,680756.33725700201,731924.70408683806,726559.596988659,731744.98691755196,157.90550664139801,156.748037915731,157.86673444186701,10.187452041380499,10.112776639724601,10.1849506091527,0,0,0,0,0,0,{"$f":"output[[#This Row],[ishp_Program]]-output[[#This Row],[ishp_Baseline]]","v":-3.8772199530995977E-2},{"$f":"output[[#This Row],[ishp_Market]]-output[[#This Row],[ishp_Program]]","v":-1.1186965261360058}]
["All","Chemical","Base",2016,"11-20 HP","Traditional","Non ASD Control","constant","Fans","2014 and before",3651042.7492903098,3629773.28446256,3649907.0487916898,3924505.8512121602,3901643.3034688001,3923285.0867461902,837.60229553429895,832.72277102914904,837.34174932599501,54.038857776406402,53.724049743816003,54.022048343612497,315.35409818235598,315.19427922235099,315.35409818235598,20.3454256891843,20.3351147885388,20.3454256891843,{"$f":"output[[#This Row],[ishp_Program]]-output[[#This Row],[ishp_Baseline]]","v":-0.2605462083039356},{"$f":"output[[#This Row],[ishp_Market]]-output[[#This Row],[ishp_Program]]","v":-4.6189782968459667}]
["All","Chemical","Base",2016,"11-20 HP","Traditional","Non ASD Control","constant","Pumps",2015,1390684.2334346599,1324966.72586841,1390684.2334346599,1494846.48251892,1424206.7336359599,1494846.48251892,346.14808922698501,329.790681034736,346.14808922698501,22.332134788837699,21.276818131273199,22.332134788837699,0.74717170265148403,0.50076102522325405,0.74717170265148403,4.8204625977515098E-2,3.2307162917629299E-2,4.8204625977515098E-2,{"$f":"output[[#This Row],[ishp_Program]]-output[[#This Row],[ishp_Baseline]]","v":0},{"$f":"output[[#This Row],[ishp_Market]]-output[[#This Row],[ishp_Program]]","v":-16.357408192249011}]
["All","Chemical","Base",2016,"11-20 HP","Traditional","Non ASD Control","constant","Pumps",2016,1095408.1475002801,1027442.71648525,1095408.1475002801,1177454.2177480501,1104398.1759499901,1177454.2177480501,275.60517380427399,258.50504133737098,275.60517380427399,17.780978955114499,16.677744602411,17.780978955114499,0,0,0,0,0,0,{"$f":"output[[#This Row],[ishp_Program]]-output[[#This Row],[ishp_Baseline]]","v":0},{"$f":"output[[#This Row],[ishp_Market]]-output[[#This Row],[ishp_Program]]","v":-17.100132466903005}]
["All","Chemical","Base",2016,"11-20 HP","Traditional","Non ASD Control","constant","Pumps","2014 and before",4250072.1870735502,4059981.13242607,4250072.1870735502,4568402.5938853603,4364073.7192447903,4568402.5938853603,1057.8636985039,1010.54910776977,1057.8636985039,68.249270871219807,65.196716630308302,68.249270871219807,400.84359479176601,397.68407320587301,400.84359479176601,25.860877083339702,25.657036981024099,25.860877083339702,{"$f":"output[[#This Row],[ishp_Program]]-output[[#This Row],[ishp_Baseline]]","v":0},{"$f":"output[[#This Row],[ishp_Market]]-output[[#This Row],[ishp_Program]]","v":-47.314590734129979}]
["All","Chemical","Base",2016,"11-20 HP","Traditional","Non ASD Control","variable","Fans",2015,602471.21609829797,554691.65468439204,593623.84982207697,647596.31018406001,596238.05962025304,638086.27617375006,150.90123793086499,138.93386957782499,148.685234098921,9.7355637374751804,8.9634754566338994,9.5925957483175299,0.453121139999348,0.36049628233701497,0.453121139999348,2.9233621935441802E-2,2.3257824666904198E-2,2.9233621935441802E-2,{"$f":"output[[#This Row],[ishp_Program]]-output[[#This Row],[ishp_Baseline]]","v":-2.2160038319439934},{"$f":"output[[#This Row],[ishp_Market]]-output[[#This Row],[ishp_Program]]","v":-9.7513645210960078}]
["All","Chemical","Base",2016,"11-20 HP","Traditional","Non ASD Control","variable","Fans",2016,408135.70928701502,368713.91787230398,403087.968188848,438705.07391261298,396330.59032093902,433279.25700619299,103.333011367865,93.352085103133106,102.05500928078899,6.6666458947010101,6.02271516794407,6.5841941471477297,0,0,0,0,0,0,{"$f":"output[[#This Row],[ishp_Program]]-output[[#This Row],[ishp_Baseline]]","v":-1.278002087076004},{"$f":"output[[#This Row],[ishp_Market]]-output[[#This Row],[ishp_Program]]","v":-8.7029241776558877}]
["All","Chemical","Base",2016,"11-20 HP","Traditional","Non ASD Control","variable","Fans","2014 and before",2145250.9239478302,1980003.00942233,2111834.0601308802,2305930.21815152,2128305.23482806,2270010.4312346801,537.32196899385701,495.93224911830299,528.95203200267201,34.665933483474603,31.995628975374402,34.125937548559499,189.20021027948499,187.715543806705,189.20021027948499,12.206465179321601,12.110680245593899,12.206465179321601,{"$f":"output[[#This Row],[ishp_Program]]-output[[#This Row],[ishp_Baseline]]","v":-8.3699369911849999},{"$f":"output[[#This Row],[ishp_Market]]-output[[#This Row],[ishp_Program]]","v":-33.019782884369022}]
["All","Chemical","Base",2016,"11-20 HP","Traditional","Non ASD Control","variable","Pumps",2015,511714.30765419197,449739.99535554199,509653.15081792901,550041.709297491,483425.521007673,547826.17181419197,155.55633597674299,136.71672801258299,154.929763687232,10.0358926436608,8.8204340653279907,9.9954686249827294,0.53696967643777804,0.207593521654239,0.53696967643777804,3.4643204931469503E-2,1.3393130429305801E-2,3.4643204931469503E-2,{"$f":"output[[#This Row],[ishp_Program]]-output[[#This Row],[ishp_Baseline]]","v":-0.62657228951098887},{"$f":"output[[#This Row],[ishp_Market]]-output[[#This Row],[ishp_Program]]","v":-18.213035674649007}]
["All","Chemical","Base",2016,"11-20 HP","Traditional","Non ASD Control","variable","Pumps",2016,414252.50012646202,348749.952371297,412780.42750400503,445280.01238593401,374871.32380390703,443697.68152405502,127.292634466366,107.164833510503,126.84029198881601,8.2124280300881694,6.9138602264841102,8.1832446444397995,1.8119885300265499E-2,0,1.8119885300265499E-2,1.1690248580816401E-3,0,1.1690248580816401E-3,{"$f":"output[[#This Row],[ishp_Program]]-output[[#This Row],[ishp_Baseline]]","v":-0.45234247754999046},{"$f":"output[[#This Row],[ishp_Market]]-output[[#This Row],[ishp_Program]]","v":-19.675458478313004}]
["All","Chemical","Base",2016,"11-20 HP","Traditional","Non ASD Control","variable","Pumps","2014 and before",1556668.8081058499,1378099.43449268,1550070.38785769,1673263.30183297,1481319.08213619,1666170.65990823,473.212674525941,418.92926469856297,471.20681683995201,30.529849969415501,27.027694496681399,30.400439796125902,168.85091928669601,164.86234571830499,168.85091928669601,10.8936076959159,10.6362803689229,10.8936076959159,{"$f":"output[[#This Row],[ishp_Program]]-output[[#This Row],[ishp_Baseline]]","v":-2.0058576859889854},{"$f":"output[[#This Row],[ishp_Market]]-output[[#This Row],[ishp_Program]]","v":-52.277552141389037}]
["All","Chemical","Base",2016,"201-500 HP","Traditional","ASD Control","constant","Fans",2015,81621.906350279198,96006.692832789093,85337.245435283097,87735.387135915196,103197.594125965,91729.005118385801,20.590221740211099,24.2189772619137,21.5274659068936,5.8745283138976097E-2,6.9098365939839396E-2,6.14193035860017E-2,8.9846382788894702E-2,0.19759112667395301,8.9846382788894702E-2,2.5633775403393602E-4,5.6374073230799698E-4,2.5633775403393602E-4,{"$f":"output[[#This Row],[ishp_Program]]-output[[#This Row],[ishp_Baseline]]","v":0.93724416668250043},{"$f":"output[[#This Row],[ishp_Market]]-output[[#This Row],[ishp_Program]]","v":2.6915113550201006}]
["All","Chemical","Base",2016,"201-500 HP","Traditional","ASD Control","constant","Fans",2016,53341.205237402697,65729.594273991694,55437.190520176402,57336.461509684101,70652.740885113599,59589.436090137599,13.518764059789399,16.658470178561,14.0499693519176,3.8569940256175203E-2,4.7527732321144302E-2,4.0085504570378502E-2,0,5.9197609010970202E-2,0,0,1.6889474753486501E-4,0,{"$f":"output[[#This Row],[ishp_Program]]-output[[#This Row],[ishp_Baseline]]","v":0.53120529212820067},{"$f":"output[[#This Row],[ishp_Market]]-output[[#This Row],[ishp_Program]]","v":2.6085008266434002}]
["All","Chemical","Base",2016,"201-500 HP","Traditional","ASD Control","constant","Fans","2014 and before",280598.55397037498,329235.76210920297,294651.01386728202,301615.38566275599,353895.520691182,316720.374805942,70.784752581472404,83.054141342199799,74.329674260108902,0.20195364502559801,0.23695903378659,0.21206754425138,22.0272557553259,22.574721315856401,22.0272557553259,6.2845237533026996E-2,6.4407193483185299E-2,6.2845237533026996E-2,{"$f":"output[[#This Row],[ishp_Program]]-output[[#This Row],[ishp_Baseline]]","v":3.5449216786364985},{"$f":"output[[#This Row],[ishp_Market]]-output[[#This Row],[ishp_Program]]","v":8.7244670820908965}]
["All","Chemical","Base",2016,"201-500 HP","Traditional","ASD Control","constant","Pumps",2015,197373.28936268701,228875.12343199999,197373.28936268701,212156.548735952,246017.87017705699,212156.548735952,49.753487156532799,57.694410175223297,49.753487156532799,0.141950034683403,0.164606020471393,0.141950034683403,0.24390945489285601,0.794079436281933,0.24390945489285601,6.9589002822498095E-4,2.2655618724163498E-3,6.9589002822498095E-4,{"$f":"output[[#This Row],[ishp_Program]]-output[[#This Row],[ishp_Baseline]]","v":0},{"$f":"output[[#This Row],[ishp_Market]]-output[[#This Row],[ishp_Program]]","v":7.9409230186904978}]
["All","Chemical","Base",2016,"201-500 HP","Traditional","ASD Control","constant","Pumps",2016,146389.60459226801,181466.83281322001,146389.60459226801,157354.18597622801,195058.69859093,157354.18597622801,37.073642558229601,45.9570644693624,37.073642558229601,0.105773587897944,0.13111858621786701,0.105773587897944,0,0.39843870309526502,0,0,1.13677233408064E-3,0,{"$f":"output[[#This Row],[ishp_Program]]-output[[#This Row],[ishp_Baseline]]","v":0},{"$f":"output[[#This Row],[ishp_Market]]-output[[#This Row],[ishp_Program]]","v":8.8834219111327997}]
["All","Chemical","Base",2016,"201-500 HP","Traditional","ASD Control","constant","Pumps","2014 and before",568534.93530403904,657611.96737504494,568534.93530403904,611118.20195831102,706867.10373143596,611118.20195831102,143.31521602049699,165.76958654549199,143.31521602049699,0.408887920172604,0.472951744780293,0.408887920172604,47.685893249251997,49.635652696974702,47.685893249251997,0.13605105063980599,0.14161384506982799,0.13605105063980599,{"$f":"output[[#This Row],[ishp_Program]]-output[[#This Row],[ishp_Baseline]]","v":0},{"$f":"output[[#This Row],[ishp_Market]]-output[[#This Row],[ishp_Program]]","v":22.454370524994999}]
["All","Chemical","Base",2016,"201-500 HP","Traditional","ASD Control","variable","Fans",2015,595266.94546500198,618615.85872433695,650550.51723414904,639852.43968033104,664950.18654279003,699276.75097498705,324.26235278738,336.98130788169601,354.37721333679298,0.925142233344878,0.96143026499770701,1.0110619496056801,2.1227957815294101,2.74927035821282,2.1227957815294101,6.0564786919526797E-3,7.84385266251875E-3,6.0564786919526797E-3,{"$f":"output[[#This Row],[ishp_Program]]-output[[#This Row],[ishp_Baseline]]","v":30.114860549412981},{"$f":"output[[#This Row],[ishp_Market]]-output[[#This Row],[ishp_Program]]","v":-17.395905455096965}]
["All","Chemical","Base",2016,"201-500 HP","Traditional","ASD Control","variable","Fans",2016,402182.559577498,423526.40431251901,434721.62019790302,432306.03328985203,455248.53199552698,467282.26955072599,220.10396715685499,231.78489361347101,237.91174166013701,0.62797137562583605,0.66129784197851904,0.678778150242901,0.40529703442876303,0.82367176335553904,0.40529703442876303,1.15633961320617E-3,2.3499907656363401E-3,1.15633961320617E-3,{"$f":"output[[#This Row],[ishp_Program]]-output[[#This Row],[ishp_Baseline]]","v":17.807774503282019},{"$f":"output[[#This Row],[ishp_Market]]-output[[#This Row],[ishp_Program]]","v":-6.126848046665998}]
["All","Chemical","Base",2016,"201-500 HP","Traditional","ASD Control","variable","Fans","2014 and before",2041386.94315187,2121419.43119185,2249982.0646441001,2194286.8251939402,2280313.7465881198,2418505.7212859499,1112.0135901696499,1155.61003554426,1225.6425181495299,3.1726493300132801,3.2970329116812001,3.4968402800271901,311.92250531817399,314.103235318906,311.92250531817399,0.88993582116454895,0.89615759006820706,0.88993582116454895,{"$f":"output[[#This Row],[ishp_Program]]-output[[#This Row],[ishp_Baseline]]","v":113.62892797988002},{"$f":"output[[#This Row],[ishp_Market]]-output[[#This Row],[ishp_Program]]","v":-70.032482605269934}]
["All","Chemical","Base",2016,"201-500 HP","Traditional","ASD Control","variable","Pumps",2015,472304.83165550203,517529.74973387999,662353.66805988702,507680.46354649903,556292.727988948,711963.95779757295,178.30530034418399,195.37868613348701,250.05285104437101,0.50871697673091099,0.557428491108381,0.71341754934200197,1.14634743968827,2.6891027479991498,1.14634743968827,3.2706061046741202E-3,7.6721904365168398E-3,3.2706061046741202E-3,{"$f":"output[[#This Row],[ishp_Program]]-output[[#This Row],[ishp_Baseline]]","v":71.74755070018702},{"$f":"output[[#This Row],[ishp_Market]]-output[[#This Row],[ishp_Program]]","v":-54.674164910884002}]
["All","Chemical","Base",2016,"201-500 HP","Traditional","ASD Control","variable","Pumps",2016,357541.82918339601,410330.67798094603,490651.65321909002,384321.71218923299,441064.44576171902,527401.46204520005,135.60902608173799,155.63086349796899,186.095129038192,0.38690164359982299,0.44402528815397702,0.53094188028014899,0.14933732626325599,1.3492889532808501,0.14933732626325599,4.26069404460076E-4,3.8496118495887398E-3,4.26069404460076E-4,{"$f":"output[[#This Row],[ishp_Program]]-output[[#This Row],[ishp_Baseline]]","v":50.486102956454005},{"$f":"output[[#This Row],[ishp_Market]]-output[[#This Row],[ishp_Program]]","v":-30.46426554022301}]
["All","Chemical","Base",2016,"201-500 HP","Traditional","ASD Control","variable","Pumps","2014 and before",1357135.8344455201,1486984.4821677399,1967198.2461357799,1458785.30844549,1598359.6198821,2114541.3947713501,512.34816235199298,561.36883836380298,742.65993190101005,1.4617636586362099,1.6016229339908701,2.1188585788901801,163.60447247733299,168.088183584164,163.60447247733299,0.46677452917926698,0.47956685758677398,0.46677452917926698,{"$f":"output[[#This Row],[ishp_Program]]-output[[#This Row],[ishp_Baseline]]","v":230.31176954901707},{"$f":"output[[#This Row],[ishp_Market]]-output[[#This Row],[ishp_Program]]","v":-181.29109353720708}]
["All","Chemical","Base",2016,"201-500 HP","Traditional","Non ASD Control","constant","Fans",2015,560673.293347136,545671.68505578896,556766.52657115704,602667.723018836,586542.49426646705,598468.339411336,134.50707547612799,130.90814811031501,133.56983130944599,0.38375770463945402,0.37348972356723398,0.381083684192428,0.36568185517846802,0.33967167879793297,0.36568185517846802,1.0433148507231599E-3,9.6910607360323404E-4,1.0433148507231599E-3,{"$f":"output[[#This Row],[ishp_Program]]-output[[#This Row],[ishp_Baseline]]","v":-0.93724416668200661},{"$f":"output[[#This Row],[ishp_Market]]-output[[#This Row],[ishp_Program]]","v":-2.6616831991309766}]
["All","Chemical","Base",2016,"201-500 HP","Traditional","Non ASD Control","constant","Fans",2016,377270.549077123,364945.01464731002,375066.57106102898,405528.113202999,392279.39624439302,403159.0572335,90.930177511082604,87.959463162020796,90.398972218954299,0.25942989304160502,0.25095424582602199,0.257914328727401,0,0,0,0,0,0,{"$f":"output[[#This Row],[ishp_Program]]-output[[#This Row],[ishp_Baseline]]","v":-0.53120529212830547},{"$f":"output[[#This Row],[ishp_Market]]-output[[#This Row],[ishp_Program]]","v":-2.4395090569335025}]
["All","Chemical","Base",2016,"201-500 HP","Traditional","Non ASD Control","constant","Fans","2014 and before",1999777.6462362099,1947805.72132775,1985001.1528422099,2149560.9919393002,2093696.3698551999,2133677.7391901002,479.75219435185397,467.28398566552698,476.20727267321797,1.36876517646748,1.33319254112846,1.3586512772417001,177.29065448574499,176.87187642529099,177.29065448574499,0.50582212406774596,0.50462732218342699,0.50582212406774596,{"$f":"output[[#This Row],[ishp_Program]]-output[[#This Row],[ishp_Baseline]]","v":-3.5449216786360012},{"$f":"output[[#This Row],[ishp_Market]]-output[[#This Row],[ishp_Program]]","v":-8.9232870076909876}]
["All","Chemical","Base",2016,"201-500 HP","Traditional","Non ASD Control","constant","Pumps",2015,2743169.8584817201,2705347.8722775299,2743169.8584817201,2948633.280882,2907978.42791112,2948633.280882,577.26494365964095,569.30579134257005,577.26494365964095,1.6469755881872801,1.62426759298878,1.6469755881872801,0.97957184284744303,0.86444574735636504,0.97957184284744303,2.7947841450711602E-3,2.4663216757670899E-3,2.7947841450711602E-3,{"$f":"output[[#This Row],[ishp_Program]]-output[[#This Row],[ishp_Baseline]]","v":0},{"$f":"output[[#This Row],[ishp_Market]]-output[[#This Row],[ishp_Program]]","v":-7.9591523170709024}]
["All","Chemical","Base",2016,"201-500 HP","Traditional","Non ASD Control","constant","Pumps",2016,2149770.4241587799,2110735.8219854399,2149770.4241587799,2310788.2289282801,2268829.9350521499,2310788.2289282801,454.50058050216501,446.24795540876801,454.50058050216501,1.29672062910746,1.2731753364016201,1.29672062910746,0,0,0,0,0,0,{"$f":"output[[#This Row],[ishp_Program]]-output[[#This Row],[ishp_Baseline]]","v":0},{"$f":"output[[#This Row],[ishp_Market]]-output[[#This Row],[ishp_Program]]","v":-8.2526250933970005}]
["All","Chemical","Base",2016,"201-500 HP","Traditional","Non ASD Control","constant","Pumps","2014 and before",8399378.2520529106,8289763.8888983103,8399378.2520529106,9028491.6831316706,8910667.2041767891,9028491.6831316706,1767.54151714504,1744.4745791006901,1767.54151714504,5.0429144569045503,4.9771029360932797,5.0429144569045503,687.98585270995295,686.50771237820402,687.98585270995295,1.9628697652209799,1.95865253174951,1.9628697652209799,{"$f":"output[[#This Row],[ishp_Program]]-output[[#This Row],[ishp_Baseline]]","v":0},{"$f":"output[[#This Row],[ishp_Market]]-output[[#This Row],[ishp_Program]]","v":-23.066938044349854}]
["All","Chemical","Base",2016,"201-500 HP","Traditional","Non ASD Control","variable","Fans",2015,346290.65758662898,297658.14388239098,231313.905298992,372227.82783986698,319952.73885918199,248639.31680588701,90.700899575741602,77.963008313109199,60.586039026328599,0.258775747719662,0.22243368990901299,0.172856031458854,0.41136982918601001,0.202293182663729,0.41136982918601001,1.17366570381172E-3,5.7715601330593405E-4,1.17366570381172E-3,{"$f":"output[[#This Row],[ishp_Program]]-output[[#This Row],[ishp_Baseline]]","v":-30.114860549413002},{"$f":"output[[#This Row],[ishp_Market]]-output[[#This Row],[ishp_Program]]","v":17.3769692867806}]
["All","Chemical","Base",2016,"201-500 HP","Traditional","Non ASD Control","variable","Fans",2016,240707.15026627199,199073.652993272,173033.60109243501,258736.11582121599,213984.269602468,185993.817814259,63.340237147284199,52.384702226009601,45.532462644002798,0.18071394335887001,0.14945706769189601,0.129907168741805,9.4674458360053296E-2,0,9.4674458360053296E-2,2.7011257734679898E-4,0,2.7011257734679898E-4,{"$f":"output[[#This Row],[ishp_Program]]-output[[#This Row],[ishp_Baseline]]","v":-17.807774503281401},{"$f":"output[[#This Row],[ishp_Market]]-output[[#This Row],[ishp_Program]]","v":6.8522395820068027}]
["All","Chemical","Base",2016,"201-500 HP","Traditional","Non ASD Control","variable","Fans","2014 and before",1231653.30785079,1062507.4592144999,797824.79705245304,1323904.1406088199,1142089.26790966,857581.87435168098,322.59623683194098,278.29333609031102,208.96730885206799,0.92038869281581004,0.79398954662000398,0.59619774280190596,107.061701026789,105.336938694449,107.061701026789,0.305454211203392,0.30053334862895598,0.305454211203392,{"$f":"output[[#This Row],[ishp_Program]]-output[[#This Row],[ishp_Baseline]]","v":-113.628927979873},{"$f":"output[[#This Row],[ishp_Market]]-output[[#This Row],[ishp_Program]]","v":69.326027238243029}]
["All","Chemical","Base",2016,"201-500 HP","Traditional","Non ASD Control","variable","Pumps",2015,986118.17589707498,918289.58098232094,706955.17489108595,1059978.4272717601,987069.47059789696,759906.11749042803,253.441765443816,236.00917038275199,181.694214743629,0.72308634934041804,0.67334998682668401,0.51838577672932695,0.62806976976984896,0.35836123007523701,0.62806976976984896,1.79192516339472E-3,1.0224286164771401E-3,1.79192516339472E-3,{"$f":"output[[#This Row],[ishp_Program]]-output[[#This Row],[ishp_Baseline]]","v":-71.747550700186991},{"$f":"output[[#This Row],[ishp_Market]]-output[[#This Row],[ishp_Program]]","v":54.314955639122985}]
["All","Chemical","Base",2016,"201-500 HP","Traditional","Non ASD Control","variable","Pumps",2016,787428.43466194603,716457.47794483404,591903.22838224994,846406.82441812498,770120.143042902,636236.78018808097,203.32004133684401,184.99479777406501,152.83393838039001,0.58008570994820197,0.52780256140960102,0.43604547326787502,0,0,0,0,0,0,{"$f":"output[[#This Row],[ishp_Program]]-output[[#This Row],[ishp_Baseline]]","v":-50.486102956454005},{"$f":"output[[#This Row],[ishp_Market]]-output[[#This Row],[ishp_Program]]","v":32.160859393674997}]
["All","Chemical","Base",2016,"201-500 HP","Traditional","Non ASD Control","variable","Pumps","2014 and before",3009773.9703300102,2813835.4723195699,2113652.44246112,3235206.0407077302,3024591.7491962998,2271965.0104014501,773.54058293607795,723.18252234257704,543.228813387061,2.2069631467505699,2.0632882235166199,1.5498682264965999,288.05128420310598,284.59593793636202,288.05128420310598,0.82182962682769201,0.81197129225780795,0.82182962682769201,{"$f":"output[[#This Row],[ishp_Program]]-output[[#This Row],[ishp_Baseline]]","v":-230.31176954901696},{"$f":"output[[#This Row],[ishp_Market]]-output[[#This Row],[ishp_Program]]","v":179.95370895551605}]
["All","Chemical","Base",2016,"21-50 HP","Traditional","ASD Control","constant","Fans",2015,315029.582019119,369142.67699152901,320399.45215049502,338625.29771235102,396791.463498194,344397.371116567,77.145599908234999,90.397013149434898,78.460593408398196,2.17311549037281,2.5463947366038,2.2101575607999502,0.33803015806816,0.73750627381966105,0.33803015806816,9.5219762836101507E-3,2.0774824614638299E-2,9.5219762836101507E-3,{"$f":"output[[#This Row],[ishp_Program]]-output[[#This Row],[ishp_Baseline]]","v":1.3149935001631974},{"$f":"output[[#This Row],[ishp_Market]]-output[[#This Row],[ishp_Program]]","v":11.936419741036701}]
["All","Chemical","Base",2016,"21-50 HP","Traditional","ASD Control","constant","Fans",2016,205464.086958334,252004.58683224299,208488.33248696799,220853.347071514,270879.73038597801,224104.10859024199,50.694503527031301,62.177520194007698,51.440680768453497,1.42801418386003,1.75147944208472,1.44903326108319,0,0.22095429473792,0,0,6.2240646405047999E-3,0,{"$f":"output[[#This Row],[ishp_Program]]-output[[#This Row],[ishp_Baseline]]","v":0.74617724142219544},{"$f":"output[[#This Row],[ishp_Market]]-output[[#This Row],[ishp_Program]]","v":10.736839425554201}]
["All","Chemical","Base",2016,"21-50 HP","Traditional","ASD Control","constant","Fans","2014 and before",1082882.50772465,1265901.0221090501,1103190.9899303999,1163990.4075532299,1360717.0086650201,1185819.99507619,265.18024165578902,309.99848696470502,270.15345729143502,7.4698659621349197,8.7323517454846602,7.6099565434206999,82.253138906293302,84.259849520708201,82.253138906293302,2.3169898283462902,2.3735168879072699,2.3169898283462902,{"$f":"output[[#This Row],[ishp_Program]]-output[[#This Row],[ishp_Baseline]]","v":4.9732156356459996},{"$f":"output[[#This Row],[ishp_Market]]-output[[#This Row],[ishp_Program]]","v":39.845029673270005}]
["All","Chemical","Base",2016,"21-50 HP","Traditional","ASD Control","constant","Pumps",2015,930699.02019991295,1022041.46299727,930699.02019991295,1000408.37681288,1098592.3685757599,1000408.37681288,271.36494201233597,297.99775901868298,271.36494201233597,7.6440828735869397,8.3943030709488191,7.6440828735869397,1.7000168950868,4.1015046652900198,1.7000168950868,4.7887799861600203E-2,0.11553534268422599,4.7887799861600203E-2,{"$f":"output[[#This Row],[ishp_Program]]-output[[#This Row],[ishp_Baseline]]","v":0},{"$f":"output[[#This Row],[ishp_Market]]-output[[#This Row],[ishp_Program]]","v":26.632817006347011}]
["All","Chemical","Base",2016,"21-50 HP","Traditional","ASD Control","constant","Pumps",2016,701785.42523599102,808019.66284133005,701785.42523599102,754349.15358616598,868540.33558814495,754349.15358616598,206.16453349925101,237.373121266927,206.16453349925101,5.8074516478662401,6.6865667962514799,5.8074516478662401,0.19189386871866901,2.0579782385865801,0.19189386871866901,5.4054610906667496E-3,5.7971217988354598E-2,5.4054610906667496E-3,{"$f":"output[[#This Row],[ishp_Program]]-output[[#This Row],[ishp_Baseline]]","v":0},{"$f":"output[[#This Row],[ishp_Market]]-output[[#This Row],[ishp_Program]]","v":31.208587767675994}]
["All","Chemical","Base",2016,"21-50 HP","Traditional","ASD Control","constant","Pumps","2014 and before",2674304.5557116298,2936565.08904162,2674304.5557116298,2874609.9669344299,3156513.81421084,2874609.9669344299,779.74993519186501,856.21752876892697,779.74993519186501,21.964786906813099,24.118803627293701,21.964786906813099,249.393930317019,256.37342034012499,249.393930317019,7.0251811356906799,7.2217864884542298,7.0251811356906799,{"$f":"output[[#This Row],[ishp_Program]]-output[[#This Row],[ishp_Baseline]]","v":0},{"$f":"output[[#This Row],[ishp_Market]]-output[[#This Row],[ishp_Program]]","v":76.467593577061962}]
["All","Chemical","Base",2016,"21-50 HP","Traditional","ASD Control","variable","Fans",2015,2323306.3863322502,2403585.0014397702,2404040.5214763698,2497322.0346685401,2583613.5180476098,2584103.1565349498,1215.76907981777,1257.7782864348901,1258.0166567070901,34.247016332894901,35.430374265771597,35.437088921326698,8.1835412409491806,10.2616153454808,8.1835412409491806,0.230522288477441,0.28905958719664399,0.230522288477441,{"$f":"output[[#This Row],[ishp_Program]]-output[[#This Row],[ishp_Baseline]]","v":42.247576889320044},{"$f":"output[[#This Row],[ishp_Market]]-output[[#This Row],[ishp_Program]]","v":-0.23837027219997253}]
["All","Chemical","Base",2016,"21-50 HP","Traditional","ASD Control","variable","Fans",2016,1567606.8500967601,1640868.1059055801,1615075.1572098201,1685020.603169,1763769.12703791,1736044.2864848301,826.507670221789,865.13405785995099,851.53494024103304,23.281906203430601,24.369973460843699,23.986899725099502,1.68448085589359,3.0743439913935702,1.68448085589359,4.7450164954748998E-2,8.6601239194185303E-2,4.7450164954748998E-2,{"$f":"output[[#This Row],[ishp_Program]]-output[[#This Row],[ishp_Baseline]]","v":25.027270019244042},{"$f":"output[[#This Row],[ishp_Market]]-output[[#This Row],[ishp_Program]]","v":13.599117618917944}]
["All","Chemical","Base",2016,"21-50 HP","Traditional","ASD Control","variable","Fans","2014 and before",7967445.8848217102,8242614.3052498503,8272059.7560772896,8564207.5815948509,8859986.1167130694,8891637.0318074804,4169.3056106902404,4313.2992136291004,4328.7078006617403,117.445228470147,121.501386299411,121.93543100455599,1165.1526438118001,1172.38618238661,1165.1526438118001,32.821201234135401,33.024962884129899,32.821201234135401,{"$f":"output[[#This Row],[ishp_Program]]-output[[#This Row],[ishp_Baseline]]","v":159.40218997149987},{"$f":"output[[#This Row],[ishp_Market]]-output[[#This Row],[ishp_Program]]","v":-15.408587032639844}]
["All","Chemical","Base",2016,"21-50 HP","Traditional","ASD Control","variable","Pumps",2015,2261602.0485697999,2315993.6488472102,2278020.2237321702,2430996.0420076698,2489461.5731458599,2448643.93848971,985.45153399614196,1009.15167432975,992.60545212661498,27.759198140736299,28.4268077275986,27.9607169613131,11.6022607907211,13.889501430744501,11.6022607907211,0.32682424762594697,0.39125356142942203,0.32682424762594697,{"$f":"output[[#This Row],[ishp_Program]]-output[[#This Row],[ishp_Baseline]]","v":7.1539181304730164},{"$f":"output[[#This Row],[ishp_Market]]-output[[#This Row],[ishp_Program]]","v":16.546222203135017}]
["All","Chemical","Base",2016,"21-50 HP","Traditional","ASD Control","variable","Pumps",2016,1766160.50294254,1831010.2623392099,1778012.23717787,1898445.92461293,1968152.93098841,1911185.3537424901,775.37961186336804,803.84994691312602,780.58275907223697,21.8416792074188,22.643660476426,21.9882467344292,5.1347729669278603,6.9692208157633999,5.1347729669278603,0.14464149202613599,0.19631607931727801,0.14464149202613599,{"$f":"output[[#This Row],[ishp_Program]]-output[[#This Row],[ishp_Baseline]]","v":5.203147208868927},{"$f":"output[[#This Row],[ishp_Market]]-output[[#This Row],[ishp_Program]]","v":23.267187840889051}]
["All","Chemical","Base",2016,"21-50 HP","Traditional","ASD Control","variable","Pumps","2014 and before",6498233.54799012,6654393.5269532204,6550783.0433852104,6984951.24073458,7152807.6021220097,7041436.6933347601,2831.4858585230099,2899.52969979707,2854.3833355042302,79.760165028817198,81.6768929520303,80.405164380401004,861.54720700704695,868.19332884198502,861.54720700704695,24.268935408649199,24.4561501082249,24.268935408649199,{"$f":"output[[#This Row],[ishp_Program]]-output[[#This Row],[ishp_Baseline]]","v":22.897476981220279},{"$f":"output[[#This Row],[ishp_Market]]-output[[#This Row],[ishp_Program]]","v":45.146364292839735}]
["All","Chemical","Base",2016,"21-50 HP","Traditional","Non ASD Control","constant","Fans",2015,1851600.1149462201,1795216.48127922,1845960.85087482,1990284.9635556899,1929678.1957270401,1984223.3186053401,431.76593350245099,418.61809881180602,430.45094000228801,12.1624206620408,11.7920591214593,12.1253785916137,1.1816747818387201,1.0862021535800499,1.1816747818387201,3.3286613572921897E-2,3.0597243762818301E-2,3.3286613572921897E-2,{"$f":"output[[#This Row],[ishp_Program]]-output[[#This Row],[ishp_Baseline]]","v":-1.3149935001629842},{"$f":"output[[#This Row],[ishp_Market]]-output[[#This Row],[ishp_Program]]","v":-11.832841190481986}]
["All","Chemical","Base",2016,"21-50 HP","Traditional","Non ASD Control","constant","Fans",2016,1243427.4336046199,1197202.4299222899,1240251.46868639,1336560.1483816099,1286872.8919234599,1333146.303691,292.13712248175801,281.27678660890501,291.39094524033601,8.2292147177960207,7.9232897636311304,8.2081956405728604,0,0,0,0,0,0,{"$f":"output[[#This Row],[ishp_Program]]-output[[#This Row],[ishp_Baseline]]","v":-0.74617724142200359},{"$f":"output[[#This Row],[ishp_Market]]-output[[#This Row],[ishp_Program]]","v":-10.114158631430996}]
["All","Chemical","Base",2016,"21-50 HP","Traditional","Non ASD Control","constant","Fans","2014 and before",6603440.6831573797,6408126.0380956801,6582113.3714634804,7098038.3903258704,6888094.6783490498,7075113.6629860997,1539.82531534586,1494.2808106922701,1534.85209971021,43.375360995658099,42.092417202599101,43.235270414372302,567.13758952641797,565.600917217448,567.13758952641797,15.975706747223001,15.9324202033084,15.975706747223001,{"$f":"output[[#This Row],[ishp_Program]]-output[[#This Row],[ishp_Baseline]]","v":-4.9732156356499218},{"$f":"output[[#This Row],[ishp_Market]]-output[[#This Row],[ishp_Program]]","v":-40.571289017939989}]
["All","Chemical","Base",2016,"21-50 HP","Traditional","Non ASD Control","constant","Pumps",2015,1666635.03147774,1555587.1252246799,1666635.03147774,1791465.9953354299,1672100.60090401,1791465.9953354299,408.06722468235802,380.877702048061,408.06722468235802,11.494851399503,10.728949353466501,11.494851399503,0.997865766568652,0.57833261984191697,0.997865766568652,2.8108894832919701E-2,1.62910597138568E-2,2.8108894832919701E-2,{"$f":"output[[#This Row],[ishp_Program]]-output[[#This Row],[ishp_Baseline]]","v":0},{"$f":"output[[#This Row],[ishp_Market]]-output[[#This Row],[ishp_Program]]","v":-27.18952263429702}]
["All","Chemical","Base",2016,"21-50 HP","Traditional","Non ASD Control","constant","Pumps",2016,1326002.16349503,1210207.52666141,1326002.16349503,1425319.72554081,1300852.0704083501,1425319.72554081,327.11508246714601,298.54938836809202,327.11508246714601,9.21450936527172,8.4098419258617607,9.21450936527172,0,0,0,0,0,0,{"$f":"output[[#This Row],[ishp_Program]]-output[[#This Row],[ishp_Baseline]]","v":0},{"$f":"output[[#This Row],[ishp_Market]]-output[[#This Row],[ishp_Program]]","v":-28.565694099053985}]
["All","Chemical","Base",2016,"21-50 HP","Traditional","Non ASD Control","constant","Pumps","2014 and before",5087481.98685141,4766651.3090113103,5087481.98685141,5468534.3876665803,5123673.4920562599,5468534.3876665803,1245.6444367158099,1167.0906550980801,1245.6444367158099,35.088575682135598,32.875793101354397,35.088575682135598,464.66354256728602,459.28828391549501,464.66354256728602,13.0891138751348,12.937698138464601,13.0891138751348,{"$f":"output[[#This Row],[ishp_Program]]-output[[#This Row],[ishp_Baseline]]","v":0},{"$f":"output[[#This Row],[ishp_Market]]-output[[#This Row],[ishp_Program]]","v":-78.553781617729783}]
["All","Chemical","Base",2016,"21-50 HP","Traditional","Non ASD Control","variable","Fans",2015,1144446.7203704701,979271.63955743704,978501.37635475001,1230165.7797262101,1052619.08536028,1051791.12944372,291.36159921432102,249.31012155316699,249.11402232499299,8.2073689919527197,7.0228203254413302,7.0172964035209402,1.3663582840087201,0.64689317473131602,1.3663582840087201,3.8488965746724599E-2,1.8222342950177901E-2,3.8488965746724599E-2,{"$f":"output[[#This Row],[ishp_Program]]-output[[#This Row],[ishp_Baseline]]","v":-42.24757688932803},{"$f":"output[[#This Row],[ishp_Market]]-output[[#This Row],[ishp_Program]]","v":0.19609922817400616}]
["All","Chemical","Base",2016,"21-50 HP","Traditional","Non ASD Control","variable","Fans",2016,794385.16272233601,653061.28740347503,696816.21571299701,853884.61141023901,701975.57782999496,749007.75026990101,203.766593533388,167.515809895921,178.73932351414399,5.7399040431940396,4.7187552083358,5.0349105215251999,0.33823736846525698,0,0.33823736846525698,9.5278131962044394E-3,0,9.5278131962044394E-3,{"$f":"output[[#This Row],[ishp_Program]]-output[[#This Row],[ishp_Baseline]]","v":-25.027270019244014},{"$f":"output[[#This Row],[ishp_Market]]-output[[#This Row],[ishp_Program]]","v":-11.223513618222995}]
["All","Chemical","Base",2016,"21-50 HP","Traditional","Non ASD Control","variable","Fans","2014 and before",4070326.4427256701,3495565.1071925601,3444206.4803672801,4375193.8932858296,3757382.9337212802,3702177.54574678,1036.25341448223,889.92647858671296,876.85122451073403,29.190237027668498,25.068351509484799,24.700034493260102,342.574184893238,336.846480891064,342.574184893238,9.6499770392461404,9.4886332645370395,9.6499770392461404,{"$f":"output[[#This Row],[ishp_Program]]-output[[#This Row],[ishp_Baseline]]","v":-159.402189971496},{"$f":"output[[#This Row],[ishp_Market]]-output[[#This Row],[ishp_Program]]","v":13.075254075978933}]
["All","Chemical","Base",2016,"21-50 HP","Traditional","Non ASD Control","variable","Pumps",2015,608814.32648038398,528020.61577444396,584890.75469450501,654414.51953376504,567569.35989594902,628699.07222112396,182.05508304871299,157.895162572766,174.90116491824,5.1283121985553102,4.4477510583877704,4.9267933779785897,0.79153156343305298,0.23975129691248701,0.79153156343305298,2.2296663758677501E-2,6.7535576595066796E-3,2.2296663758677501E-2,{"$f":"output[[#This Row],[ishp_Program]]-output[[#This Row],[ishp_Baseline]]","v":-7.153918130472988},{"$f":"output[[#This Row],[ishp_Market]]-output[[#This Row],[ishp_Program]]","v":-17.006002345474002}]
["All","Chemical","Base",2016,"21-50 HP","Traditional","Non ASD Control","variable","Pumps",2016,497593.917688391,410786.71395556198,480324.28741815599,534863.70212325105,441554.63883083401,516300.57654577598,149.919503976475,123.765460563589,144.71635676760599,4.2230846190556504,3.48635100179124,4.0765170920452496,0.14967288884966401,0,0.14967288884966401,4.2161377140750604E-3,0,4.2161377140750604E-3,{"$f":"output[[#This Row],[ishp_Program]]-output[[#This Row],[ishp_Baseline]]","v":-5.2031472088690123},{"$f":"output[[#This Row],[ishp_Market]]-output[[#This Row],[ishp_Program]]","v":-20.950896204016985}]
["All","Chemical","Base",2016,"21-50 HP","Traditional","Non ASD Control","variable","Pumps","2014 and before",1851723.25645401,1617967.9804194099,1775151.3102442301,1990417.32836242,1739153.7821528199,1908110.1433815199,553.72486581560702,483.82451304700902,530.82738883438401,15.597883544101601,13.628859522450901,14.9528841925178,195.621734502864,190.40074508602399,195.621734502864,5.5104713944468697,5.3634012700288602,5.5104713944468697,{"$f":"output[[#This Row],[ishp_Program]]-output[[#This Row],[ishp_Baseline]]","v":-22.897476981223008},{"$f":"output[[#This Row],[ishp_Market]]-output[[#This Row],[ishp_Program]]","v":-47.00287578737499}]
["All","Chemical","Base",2016,"501-1,000 HP","Traditional","ASD Control","constant","Fans",2015,0,0,0,0,0,0,0,0,0,0,0,0,0,0,0,0,0,0,{"$f":"output[[#This Row],[ishp_Program]]-output[[#This Row],[ishp_Baseline]]","v":0},{"$f":"output[[#This Row],[ishp_Market]]-output[[#This Row],[ishp_Program]]","v":0}]
["All","Chemical","Base",2016,"501-1,000 HP","Traditional","ASD Control","constant","Fans",2016,0,0,0,0,0,0,0,0,0,0,0,0,0,0,0,0,0,0,{"$f":"output[[#This Row],[ishp_Program]]-output[[#This Row],[ishp_Baseline]]","v":0},{"$f":"output[[#This Row],[ishp_Market]]-output[[#This Row],[ishp_Program]]","v":0}]
["All","Chemical","Base",2016,"501-1,000 HP","Traditional","ASD Control","constant","Fans","2014 and before",0,0,0,0,0,0,0,0,0,0,0,0,0,0,0,0,0,0,{"$f":"output[[#This Row],[ishp_Program]]-output[[#This Row],[ishp_Baseline]]","v":0},{"$f":"output[[#This Row],[ishp_Market]]-output[[#This Row],[ishp_Program]]","v":0}]
["All","Chemical","Base",2016,"501-1,000 HP","Traditional","ASD Control","constant","Pumps",2015,0,0,0,0,0,0,0,0,0,0,0,0,0,0,0,0,0,0,{"$f":"output[[#This Row],[ishp_Program]]-output[[#This Row],[ishp_Baseline]]","v":0},{"$f":"output[[#This Row],[ishp_Market]]-output[[#This Row],[ishp_Program]]","v":0}]
["All","Chemical","Base",2016,"501-1,000 HP","Traditional","ASD Control","constant","Pumps",2016,0,0,0,0,0,0,0,0,0,0,0,0,0,0,0,0,0,0,{"$f":"output[[#This Row],[ishp_Program]]-output[[#This Row],[ishp_Baseline]]","v":0},{"$f":"output[[#This Row],[ishp_Market]]-output[[#This Row],[ishp_Program]]","v":0}]
["All","Chemical","Base",2016,"501-1,000 HP","Traditional","ASD Control","constant","Pumps","2014 and before",0,0,0,0,0,0,0,0,0,0,0,0,0,0,0,0,0,0,{"$f":"output[[#This Row],[ishp_Program]]-output[[#This Row],[ishp_Baseline]]","v":0},{"$f":"output[[#This Row],[ishp_Market]]-output[[#This Row],[ishp_Program]]","v":0}]
["All","Chemical","Base",2016,"501-1,000 HP","Traditional","ASD Control","variable","Fans",2015,0,0,0,0,0,0,0,0,0,0,0,0,0,0,0,0,0,0,{"$f":"output[[#This Row],[ishp_Program]]-output[[#This Row],[ishp_Baseline]]","v":0},{"$f":"output[[#This Row],[ishp_Market]]-output[[#This Row],[ishp_Program]]","v":0}]
["All","Chemical","Base",2016,"501-1,000 HP","Traditional","ASD Control","variable","Fans",2016,0,0,0,0,0,0,0,0,0,0,0,0,0,0,0,0,0,0,{"$f":"output[[#This Row],[ishp_Program]]-output[[#This Row],[ishp_Baseline]]","v":0},{"$f":"output[[#This Row],[ishp_Market]]-output[[#This Row],[ishp_Program]]","v":0}]
["All","Chemical","Base",2016,"501-1,000 HP","Traditional","ASD Control","variable","Fans","2014 and before",0,0,0,0,0,0,0,0,0,0,0,0,0,0,0,0,0,0,{"$f":"output[[#This Row],[ishp_Program]]-output[[#This Row],[ishp_Baseline]]","v":0},{"$f":"output[[#This Row],[ishp_Market]]-output[[#This Row],[ishp_Program]]","v":0}]
["All","Chemical","Base",2016,"501-1,000 HP","Traditional","ASD Control","variable","Pumps",2015,0,0,0,0,0,0,0,0,0,0,0,0,0,0,0,0,0,0,{"$f":"output[[#This Row],[ishp_Program]]-output[[#This Row],[ishp_Baseline]]","v":0},{"$f":"output[[#This Row],[ishp_Market]]-output[[#This Row],[ishp_Program]]","v":0}]
["All","Chemical","Base",2016,"501-1,000 HP","Traditional","ASD Control","variable","Pumps",2016,0,0,0,0,0,0,0,0,0,0,0,0,0,0,0,0,0,0,{"$f":"output[[#This Row],[ishp_Program]]-output[[#This Row],[ishp_Baseline]]","v":0},{"$f":"output[[#This Row],[ishp_Market]]-output[[#This Row],[ishp_Program]]","v":0}]
["All","Chemical","Base",2016,"501-1,000 HP","Traditional","ASD Control","variable","Pumps","2014 and before",0,0,0,0,0,0,0,0,0,0,0,0,0,0,0,0,0,0,{"$f":"output[[#This Row],[ishp_Program]]-output[[#This Row],[ishp_Baseline]]","v":0},{"$f":"output[[#This Row],[ishp_Market]]-output[[#This Row],[ishp_Program]]","v":0}]
["All","Chemical","Base",2016,"501-1,000 HP","Traditional","Non ASD Control","constant","Fans",2015,678136.53080599802,678136.53080599802,678136.53080599802,728928.95696336695,728928.95696336695,728928.95696336695,162.68683137680301,162.68683137680301,162.68683137680301,0.21677126099507399,0.21677126099507399,0.21677126099507399,0.422128873792536,0.422128873792536,0.422128873792536,5.6246352270824303E-4,5.6246352270824303E-4,5.6246352270824303E-4,{"$f":"output[[#This Row],[ishp_Program]]-output[[#This Row],[ishp_Baseline]]","v":0},{"$f":"output[[#This Row],[ishp_Market]]-output[[#This Row],[ishp_Program]]","v":0}]
["All","Chemical","Base",2016,"501-1,000 HP","Traditional","Non ASD Control","constant","Fans",2016,453537.452914692,453537.452914692,453537.452914692,487507.40813800303,487507.40813800303,487507.40813800303,109.312113554421,109.312113554421,109.312113554421,0.145652383150461,0.145652383150461,0.145652383150461,0,0,0,0,0,0,{"$f":"output[[#This Row],[ishp_Program]]-output[[#This Row],[ishp_Baseline]]","v":0},{"$f":"output[[#This Row],[ishp_Market]]-output[[#This Row],[ishp_Program]]","v":0}]
["All","Chemical","Base",2016,"501-1,000 HP","Traditional","Non ASD Control","constant","Fans","2014 and before",2420646.42663331,2420646.42663331,2420646.42663331,2601952.8439881499,2601952.8439881499,2601952.8439881499,580.71978007805603,580.71978007805603,580.71978007805603,0.77377718864497802,0.77377718864497802,0.77377718864497802,219.80851116350499,219.80851116350499,219.80851116350499,0.29288275971153199,0.29288275971153199,0.29288275971153199,{"$f":"output[[#This Row],[ishp_Program]]-output[[#This Row],[ishp_Baseline]]","v":0},{"$f":"output[[#This Row],[ishp_Market]]-output[[#This Row],[ishp_Program]]","v":0}]
["All","Chemical","Base",2016,"501-1,000 HP","Traditional","Non ASD Control","constant","Pumps",2015,1438000.47893421,1438000.47893421,1438000.47893421,1545706.71480638,1545706.71480638,1545706.71480638,302.60877316359102,302.60877316359102,302.60877316359102,0.40320955784622398,0.40320955784622398,0.40320955784622398,0.45948745129944202,0.45948745129944202,0.45948745129944202,6.1224177388333396E-4,6.1224177388333396E-4,6.1224177388333396E-4,{"$f":"output[[#This Row],[ishp_Program]]-output[[#This Row],[ishp_Baseline]]","v":0},{"$f":"output[[#This Row],[ishp_Market]]-output[[#This Row],[ishp_Program]]","v":0}]
["All","Chemical","Base",2016,"501-1,000 HP","Traditional","Non ASD Control","constant","Pumps",2016,1121940.4180961701,1121940.4180961701,1121940.4180961701,1205973.75541158,1205973.75541158,1205973.75541158,237.19861692352001,237.19861692352001,237.19861692352001,0.31605411981814902,0.31605411981814902,0.31605411981814902,0,0,0,0,0,0,{"$f":"output[[#This Row],[ishp_Program]]-output[[#This Row],[ishp_Baseline]]","v":0},{"$f":"output[[#This Row],[ishp_Market]]-output[[#This Row],[ishp_Program]]","v":0}]
["All","Chemical","Base",2016,"501-1,000 HP","Traditional","Non ASD Control","constant","Pumps","2014 and before",4406340.7019266998,4406340.7019266998,4406340.7019266998,4736375.6205010097,4736375.6205010097,4736375.6205010097,927.25793453079905,927.25793453079905,927.25793453079905,1.2355202325526899,1.2355202325526899,1.2355202325526899,364.90627667812703,364.90627667812703,364.90627667812703,0.48621755719936999,0.48621755719936999,0.48621755719936999,{"$f":"output[[#This Row],[ishp_Program]]-output[[#This Row],[ishp_Baseline]]","v":0},{"$f":"output[[#This Row],[ishp_Market]]-output[[#This Row],[ishp_Program]]","v":0}]
["All","Chemical","Base",2016,"501-1,000 HP","Traditional","Non ASD Control","variable","Fans",2015,369916.31889039598,369916.31889039598,369916.31889039598,397623.05117528699,397623.05117528699,397623.05117528699,96.888963522535903,96.888963522535903,96.888963522535903,0.129099218551013,0.129099218551013,0.129099218551013,0.25140098131215699,0.25140098131215699,0.25140098131215699,3.34977989756372E-4,3.34977989756372E-4,3.34977989756372E-4,{"$f":"output[[#This Row],[ishp_Program]]-output[[#This Row],[ishp_Baseline]]","v":0},{"$f":"output[[#This Row],[ishp_Market]]-output[[#This Row],[ishp_Program]]","v":0}]
["All","Chemical","Base",2016,"501-1,000 HP","Traditional","Non ASD Control","variable","Fans",2016,247399.89285303,247399.89285303,247399.89285303,265930.14482772199,265930.14482772199,265930.14482772199,65.101380936083302,65.101380936083302,65.101380936083302,8.6744011906839794E-2,8.6744011906839794E-2,8.6744011906839794E-2,0,0,0,0,0,0,{"$f":"output[[#This Row],[ishp_Program]]-output[[#This Row],[ishp_Baseline]]","v":0},{"$f":"output[[#This Row],[ishp_Market]]-output[[#This Row],[ishp_Program]]","v":0}]
["All","Chemical","Base",2016,"501-1,000 HP","Traditional","Non ASD Control","variable","Fans","2014 and before",1320437.07247435,1320437.07247435,1320437.07247435,1419337.8092026799,1419337.8092026799,1419337.8092026799,345.85059597405399,345.85059597405399,345.85059597405399,0.460826910025389,0.460826910025389,0.460826910025389,130.908068218116,130.908068218116,130.908068218116,0.17442780575365299,0.17442780575365299,0.17442780575365299,{"$f":"output[[#This Row],[ishp_Program]]-output[[#This Row],[ishp_Baseline]]","v":0},{"$f":"output[[#This Row],[ishp_Market]]-output[[#This Row],[ishp_Program]]","v":0}]
["All","Chemical","Base",2016,"501-1,000 HP","Traditional","Non ASD Control","variable","Pumps",2015,488107.60005558602,488107.60005558602,488107.60005558602,524666.85929974995,524666.85929974995,524666.85929974995,125.448303163153,125.448303163153,125.448303163153,0.167152968904934,0.167152968904934,0.167152968904934,0.19048331113359401,0.19048331113359401,0.19048331113359401,2.53808542483136E-4,2.53808542483136E-4,2.53808542483136E-4,{"$f":"output[[#This Row],[ishp_Program]]-output[[#This Row],[ishp_Baseline]]","v":0},{"$f":"output[[#This Row],[ishp_Market]]-output[[#This Row],[ishp_Program]]","v":0}]
["All","Chemical","Base",2016,"501-1,000 HP","Traditional","Non ASD Control","variable","Pumps",2016,380825.77363824402,380825.77363824402,380825.77363824402,409349.62408374803,409349.62408374803,409349.62408374803,98.332125981080793,98.332125981080793,98.332125981080793,0.13102215320596999,0.13102215320596999,0.13102215320596999,0,0,0,0,0,0,{"$f":"output[[#This Row],[ishp_Program]]-output[[#This Row],[ishp_Baseline]]","v":0},{"$f":"output[[#This Row],[ishp_Market]]-output[[#This Row],[ishp_Program]]","v":0}]
["All","Chemical","Base",2016,"501-1,000 HP","Traditional","Non ASD Control","variable","Pumps","2014 and before",1495665.97268364,1495665.97268364,1495665.97268364,1607691.3540376499,1607691.3540376499,1607691.3540376499,384.40040341650803,384.40040341650803,384.40040341650803,0.51219240961560097,0.51219240961560097,0.51219240961560097,151.27411127009199,151.27411127009199,151.27411127009199,0.20156443873429999,0.20156443873429999,0.20156443873429999,{"$f":"output[[#This Row],[ishp_Program]]-output[[#This Row],[ishp_Baseline]]","v":0},{"$f":"output[[#This Row],[ishp_Market]]-output[[#This Row],[ishp_Program]]","v":0}]
["All","Chemical","Base",2016,"51-100 HP","Traditional","ASD Control","constant","Fans",2015,674849.37445550296,759224.333645912,678424.16573820601,725395.59260222001,816090.236235991,729238.135751997,167.96847994699101,188.96921607753401,168.85823739600301,2.2247480787680902,2.5029035242057498,2.2365329456424301,0.78104919723686195,1.54171003621083,0.78104919723686195,1.03450224799584E-2,2.0420000479613599E-2,1.03450224799584E-2,{"$f":"output[[#This Row],[ishp_Program]]-output[[#This Row],[ishp_Baseline]]","v":0.88975744901199505},{"$f":"output[[#This Row],[ishp_Market]]-output[[#This Row],[ishp_Program]]","v":20.110978681531009}]
["All","Chemical","Base",2016,"51-100 HP","Traditional","ASD Control","constant","Fans",2016,444978.56240802299,519031.31240413198,447020.52134867001,478307.45673238399,557906.75770320103,480502.35839768598,111.43353486381901,129.978157898684,111.944891414507,1.47594085912343,1.72156500528059,1.48271379356963,1.35324885098575E-2,0.46189092328269299,1.35324885098575E-2,1.79238258408709E-4,6.1177605732806997E-3,1.79238258408709E-4,{"$f":"output[[#This Row],[ishp_Program]]-output[[#This Row],[ishp_Baseline]]","v":0.51135655068799224},{"$f":"output[[#This Row],[ishp_Market]]-output[[#This Row],[ishp_Program]]","v":18.033266484177005}]
["All","Chemical","Base",2016,"51-100 HP","Traditional","ASD Control","constant","Fans","2014 and before",2317019.7808686099,2603608.0894392999,2330525.68359331,2490564.56245567,2798618.3353383001,2505082.0572944498,576.70097258906503,648.03215312107295,580.06256116993995,7.6384234780008704,8.5832073261069404,7.6829478300654301,172.825619542872,176.13986520127401,172.825619542872,2.2890810535479802,2.33297834703674,2.2890810535479802,{"$f":"output[[#This Row],[ishp_Program]]-output[[#This Row],[ishp_Baseline]]","v":3.3615885808749226},{"$f":"output[[#This Row],[ishp_Market]]-output[[#This Row],[ishp_Program]]","v":67.969591951132998}]
["All","Chemical","Base",2016,"51-100 HP","Traditional","ASD Control","constant","Pumps",2015,2300657.7161346199,2558766.7387013198,2300657.7161346199,2472976.9790730998,2750418.3674300499,2472976.9790730998,594.017115781641,660.65943987315802,594.017115781641,7.8677763679687596,8.7504561572603698,7.8677763679687596,3.4261255146508498,9.0930139331610391,3.4261255146508498,4.5379145889415197E-2,0.120437270637894,4.5379145889415197E-2,{"$f":"output[[#This Row],[ishp_Program]]-output[[#This Row],[ishp_Baseline]]","v":0},{"$f":"output[[#This Row],[ishp_Market]]-output[[#This Row],[ishp_Program]]","v":66.642324091517025}]
["All","Chemical","Base",2016,"51-100 HP","Traditional","ASD Control","constant","Pumps",2016,1728520.84829626,2025785.05431597,1728520.84829626,1857987.05983365,2177516.3548842398,1857987.05983365,449.03215991748402,526.25494182766499,449.03215991748402,5.9474458267216397,6.9702641301677497,5.9474458267216397,0.23206723328741199,4.5625267614530802,0.23206723328741199,3.0737381892372399E-3,6.0430818032491097E-2,3.0737381892372399E-3,{"$f":"output[[#This Row],[ishp_Program]]-output[[#This Row],[ishp_Baseline]]","v":0},{"$f":"output[[#This Row],[ishp_Market]]-output[[#This Row],[ishp_Program]]","v":77.22278191018097}]
["All","Chemical","Base",2016,"51-100 HP","Traditional","ASD Control","constant","Pumps","2014 and before",6613625.5115586203,7351937.6149725299,6613625.5115586203,7108986.0623743599,7902597.74233397,7108986.0623743599,1707.6015800544401,1898.2296874608101,1707.6015800544401,22.617239470919799,25.1421150657062,22.617239470919799,551.18372858006103,568.378503375435,551.18372858006103,7.3004467361597403,7.5281920976878904,7.3004467361597403,{"$f":"output[[#This Row],[ishp_Program]]-output[[#This Row],[ishp_Baseline]]","v":0},{"$f":"output[[#This Row],[ishp_Market]]-output[[#This Row],[ishp_Program]]","v":190.62810740636996}]
["All","Chemical","Base",2016,"51-100 HP","Traditional","ASD Control","variable","Fans",2015,4862922.42049406,4924039.3169692401,4916445.27866288,5227155.3097890699,5292849.8618102297,5284687.0300347302,2596.6708506495802,2629.3056430308902,2625.2506291516402,34.392991399332097,34.8252403050449,34.7715315119422,19.803455617941299,21.451255301092001,19.803455617941299,0.26229742540319601,0.28412258676943097,0.26229742540319601,{"$f":"output[[#This Row],[ishp_Program]]-output[[#This Row],[ishp_Baseline]]","v":28.57977850205998},{"$f":"output[[#This Row],[ishp_Market]]-output[[#This Row],[ishp_Program]]","v":4.0550138792500547}]
["All","Chemical","Base",2016,"51-100 HP","Traditional","ASD Control","variable","Fans",2016,3310066.84032798,3366239.0360212401,3341855.8023000802,3557990.8466685498,3618370.3398192301,3592160.80189235,1778.3293712068501,1808.5078148048699,1795.4079522392401,23.5540314067132,23.953745891455199,23.780237778003102,5.3166654649767002,6.4267209033325097,5.3166654649767002,7.0419410132141799E-2,8.51221311699671E-2,7.0419410132141799E-2,{"$f":"output[[#This Row],[ishp_Program]]-output[[#This Row],[ishp_Baseline]]","v":17.078581032390048},{"$f":"output[[#This Row],[ishp_Market]]-output[[#This Row],[ishp_Program]]","v":13.099862565629792}]
["All","Chemical","Base",2016,"51-100 HP","Traditional","ASD Control","variable","Fans","2014 and before",16676522.308181999,16886008.561940201,16878434.314721402,17925593.829064801,18150770.603229601,18142629.044894099,8904.8180545442901,9016.6781258572391,9012.6336798907796,117.94460999396399,119.42620034248,119.372631521732,2445.06361121593,2450.7988716341401,2445.06361121593,32.384948492926299,32.460912207074699,32.384948492926299,{"$f":"output[[#This Row],[ishp_Program]]-output[[#This Row],[ishp_Baseline]]","v":107.81562534648947},{"$f":"output[[#This Row],[ishp_Market]]-output[[#This Row],[ishp_Program]]","v":4.0444459664595342}]
["All","Chemical","Base",2016,"51-100 HP","Traditional","ASD Control","variable","Pumps",2015,5613362.2840339802,5791769.4585490804,5635135.0298408596,6033803.1191081302,6225572.9909944003,6057206.6435759496,2168.3675414255599,2237.28387121177,2176.7780649062202,28.7200998864312,29.632898956447299,28.8314975484268,24.1907689510391,30.792950475771399,24.1907689510391,0.32040753577535203,0.407853648685714,0.32040753577535203,{"$f":"output[[#This Row],[ishp_Program]]-output[[#This Row],[ishp_Baseline]]","v":8.4105234806602311},{"$f":"output[[#This Row],[ishp_Market]]-output[[#This Row],[ishp_Program]]","v":60.505806305549868}]
["All","Chemical","Base",2016,"51-100 HP","Traditional","ASD Control","variable","Pumps",2016,4372939.4086688403,4585365.21899895,4388611.4569269596,4700472.5703781303,4928809.0739019699,4717318.4550507898,1699.57041070375,1782.13103822837,1705.6614508498401,22.510866366937101,23.6043846122963,22.5915423953622,10.174055447817601,15.450725319736099,10.174055447817601,0.134755701295598,0.20464536847332601,0.134755701295598,{"$f":"output[[#This Row],[ishp_Program]]-output[[#This Row],[ishp_Baseline]]","v":6.0910401460901085},{"$f":"output[[#This Row],[ishp_Market]]-output[[#This Row],[ishp_Program]]","v":76.469587378529923}]
["All","Chemical","Base",2016,"51-100 HP","Traditional","ASD Control","variable","Pumps","2014 and before",16128898.016282801,16641113.5081298,16198593.709323499,17336952.477702301,17887532.9098888,17411868.3781518,6230.3797916170597,6428.2418554812803,6257.3023152169699,82.521586643934597,85.142276231540094,82.878176360489604,1905.5953537416999,1924.7799722493801,1905.5953537416999,25.2396735594928,25.493774466879199,25.2396735594928,{"$f":"output[[#This Row],[ishp_Program]]-output[[#This Row],[ishp_Baseline]]","v":26.922523599910164},{"$f":"output[[#This Row],[ishp_Market]]-output[[#This Row],[ishp_Program]]","v":170.93954026431038}]
["All","Chemical","Base",2016,"51-100 HP","Traditional","Non ASD Control","constant","Fans",2015,1278819.5672734701,1190342.71096985,1275062.2055523701,1374603.1528622501,1279499.3800214999,1370564.36474824,302.82930427908298,281.87765048452201,301.93954683007001,4.0109841626368601,3.7334788143645299,3.9991992957625202,0.89139850752013705,0.73139721352568898,0.89139850752013705,1.1806602748611001E-2,9.6873803115985306E-3,1.1806602748611001E-2,{"$f":"output[[#This Row],[ishp_Program]]-output[[#This Row],[ishp_Baseline]]","v":-0.88975744901296139},{"$f":"output[[#This Row],[ishp_Market]]-output[[#This Row],[ishp_Program]]","v":-20.061896345548007}]
["All","Chemical","Base",2016,"51-100 HP","Traditional","Non ASD Control","constant","Fans",2016,868125.06586336705,794935.75533045805,865978.82073941699,933147.63329653302,854476.44340471004,930840.63441279903,206.83631813159599,189.39849942034701,206.324961580908,2.7395538825377002,2.50858939629599,2.7327809480915,0,0,0,0,0,0,{"$f":"output[[#This Row],[ishp_Program]]-output[[#This Row],[ishp_Baseline]]","v":-0.51135655068799224},{"$f":"output[[#This Row],[ishp_Market]]-output[[#This Row],[ishp_Program]]","v":-16.926462160560988}]
["All","Chemical","Base",2016,"51-100 HP","Traditional","Non ASD Control","constant","Fans","2014 and before",4555101.1915780501,4248995.1490351297,4540905.5203084601,4896278.2708272403,4567244.8856978603,4881019.3437795602,1078.66516908825,1006.17810189664,1075.30358050737,14.2869558819636,13.3268622767767,14.242431529898999,383.41574693048199,380.84893632087898,383.41574693048199,5.0783542639799002,5.0443567724619802,5.0783542639799002,{"$f":"output[[#This Row],[ishp_Program]]-output[[#This Row],[ishp_Baseline]]","v":-3.3615885808799248},{"$f":"output[[#This Row],[ishp_Market]]-output[[#This Row],[ishp_Program]]","v":-69.125478610730056}]
["All","Chemical","Base",2016,"51-100 HP","Traditional","Non ASD Control","constant","Pumps",2015,5756114.8589851996,5443000.9537685998,5756114.8589851996,6187247.8619231898,5850681.7252058703,6187247.8619231898,1245.11763702959,1177.38729193826,1245.11763702959,16.491624331517801,15.594533668056499,16.491624331517801,2.81708965024424,1.7877693376477399,2.81708965024424,3.7312445698599199E-2,2.3679064074804499E-2,3.7312445698599199E-2,{"$f":"output[[#This Row],[ishp_Program]]-output[[#This Row],[ishp_Baseline]]","v":0},{"$f":"output[[#This Row],[ishp_Market]]-output[[#This Row],[ishp_Program]]","v":-67.730345091330037}]
["All","Chemical","Base",2016,"51-100 HP","Traditional","Non ASD Control","constant","Pumps",2016,4566387.4552562004,4240461.9601544896,4566387.4552562004,4908409.8756548902,4558072.5609700596,4908409.8756548902,993.82420101058005,922.89008779038295,993.82420101058005,13.163234450471201,12.223709772057999,13.163234450471201,0,0,0,0,0,0,{"$f":"output[[#This Row],[ishp_Program]]-output[[#This Row],[ishp_Baseline]]","v":0},{"$f":"output[[#This Row],[ishp_Market]]-output[[#This Row],[ishp_Program]]","v":-70.934113220197105}]
["All","Chemical","Base",2016,"51-100 HP","Traditional","Non ASD Control","constant","Pumps","2014 and before",17583824.113642499,16678517.840962199,17583824.113642499,18900852.539754301,17927738.827250201,18900852.539754301,3803.59497103268,3607.7662159361398,3803.59497103268,50.3787413381813,47.784982992531702,50.3787413381813,1432.96824510444,1419.7738169245799,1432.96824510444,18.979711855687899,18.804951217544101,18.979711855687899,{"$f":"output[[#This Row],[ishp_Program]]-output[[#This Row],[ishp_Baseline]]","v":0},{"$f":"output[[#This Row],[ishp_Market]]-output[[#This Row],[ishp_Program]]","v":-195.82875509654014}]
["All","Chemical","Base",2016,"51-100 HP","Traditional","Non ASD Control","variable","Fans",2015,775421.40585272503,649319.38312869705,664877.53355460102,833500.46915109397,697953.40492503601,714676.86081784102,200.47580715519501,167.873657409662,171.89602865313501,2.6553087040423198,2.2234921511213601,2.27676859143225,1.0924355986988501,0.43558730194729001,1.0924355986988501,1.4469345678130499E-2,5.76936823771245E-3,1.4469345678130499E-2,{"$f":"output[[#This Row],[ishp_Program]]-output[[#This Row],[ishp_Baseline]]","v":-28.579778502060009},{"$f":"output[[#This Row],[ishp_Market]]-output[[#This Row],[ishp_Program]]","v":-4.0223712434730032}]
["All","Chemical","Base",2016,"51-100 HP","Traditional","Non ASD Control","variable","Fans",2016,542801.93774822203,433629.062891946,477146.34548426798,583457.80288556404,466107.87970255298,512884.606761039,141.195693446804,112.79723224222499,124.11711241441699,1.8701416350570099,1.4940030760559599,1.6439352637671101,0.34748746731188901,0,0.34748746731188901,4.6024830107534997E-3,0,4.6024830107534997E-3,{"$f":"output[[#This Row],[ishp_Program]]-output[[#This Row],[ishp_Baseline]]","v":-17.078581032387007},{"$f":"output[[#This Row],[ishp_Market]]-output[[#This Row],[ishp_Program]]","v":-11.319880172192001}]
["All","Chemical","Base",2016,"51-100 HP","Traditional","Non ASD Control","variable","Fans","2014 and before",2757457.2067840998,2317781.9998077699,2340436.5948438901,2963990.7515722299,2491383.8715933701,2515735.2957977001,712.90714320433494,599.23444686217397,605.091517857844,9.4424787179382204,7.9368800908897201,8.0144571901701198,231.38261039410901,226.81650620710101,231.38261039410901,3.0646703363458201,3.00419213519339,3.0646703363458201,{"$f":"output[[#This Row],[ishp_Program]]-output[[#This Row],[ishp_Baseline]]","v":-107.81562534649095},{"$f":"output[[#This Row],[ishp_Market]]-output[[#This Row],[ishp_Program]]","v":-5.8570709956700284}]
["All","Chemical","Base",2016,"51-100 HP","Traditional","Non ASD Control","variable","Pumps",2015,2114071.75053711,1847544.67857573,2082235.98066171,2272415.7246523402,1985925.77500105,2238195.4556132699,558.50542227467201,488.09304632971902,550.09489879400599,7.3974228115850602,6.4648085606585299,7.2860251495894897,2.1401793858990299,0.74113062721342504,2.1401793858990299,2.83467468330998E-2,9.8162996981910697E-3,2.83467468330998E-2,{"$f":"output[[#This Row],[ishp_Program]]-output[[#This Row],[ishp_Baseline]]","v":-8.4105234806660292},{"$f":"output[[#This Row],[ishp_Market]]-output[[#This Row],[ishp_Program]]","v":-62.001852464286969}]
["All","Chemical","Base",2016,"51-100 HP","Traditional","Non ASD Control","variable","Pumps",2016,1724028.5595148699,1439360.93264174,1701113.1345956901,1853158.29862253,1547169.0664965999,1828526.5083769001,458.25583448926102,382.58968604591303,452.16479434316898,6.0696137018445198,5.0674130602107699,5.9889376734194499,0.231866458332945,0,0.231866458332945,3.0710789183171498E-3,0,3.0710789183171498E-3,{"$f":"output[[#This Row],[ishp_Program]]-output[[#This Row],[ishp_Baseline]]","v":-6.0910401460920411},{"$f":"output[[#This Row],[ishp_Market]]-output[[#This Row],[ishp_Program]]","v":-69.575108297255952}]
["All","Chemical","Base",2016,"51-100 HP","Traditional","Non ASD Control","variable","Pumps","2014 and before",6430659.4592331098,5661271.6303613801,6328751.5021645399,6912315.8527296698,6085300.8754754504,6802774.9896766599,1698.8818737448701,1495.62137695813,1671.9593501449599,22.501746672117498,19.809554661697,22.145156955562499,603.61561068493597,588.57585107876696,603.61561068493597,7.9949087507938597,7.7957066368048702,7.9949087507938597,{"$f":"output[[#This Row],[ishp_Program]]-output[[#This Row],[ishp_Baseline]]","v":-26.922523599910164},{"$f":"output[[#This Row],[ishp_Market]]-output[[#This Row],[ishp_Program]]","v":-176.33797318682991}]
["All","Chemical","Base",2016,"6-10 HP","Traditional","ASD Control","constant","Fans",2015,30075.3624904358,36130.266597796399,30132.747514530001,32328.007140969399,38836.423565971403,32389.690303368301,7.0633828275011199,8.4854140900568904,7.0768600513873396,0.88292285343764099,1.06067676125711,0.88460750642341801,3.0133972289876999E-2,6.92284613102154E-2,3.0133972289876999E-2,3.7667465362346301E-3,8.6535576637769302E-3,3.7667465362346301E-3,{"$f":"output[[#This Row],[ishp_Program]]-output[[#This Row],[ishp_Baseline]]","v":1.3477223886219747E-2},{"$f":"output[[#This Row],[ishp_Market]]-output[[#This Row],[ishp_Program]]","v":1.4085540386695508}]
["All","Chemical","Base",2016,"6-10 HP","Traditional","ASD Control","constant","Fans",2016,19388.466734994301,24516.703415066499,19420.346868004799,20840.6628934453,26353.004500854899,20874.9308484184,4.61565935621599,5.8364982155644203,4.6232488080390102,0.57695741952699897,0.72956227694555198,0.57790610100487705,0,2.0740604368513701E-2,0,0,2.5925755460642201E-3,0,{"$f":"output[[#This Row],[ishp_Program]]-output[[#This Row],[ishp_Baseline]]","v":7.5894518230201768E-3},{"$f":"output[[#This Row],[ishp_Market]]-output[[#This Row],[ishp_Program]]","v":1.2132494075254101}]
["All","Chemical","Base",2016,"6-10 HP","Traditional","ASD Control","constant","Fans","2014 and before",103456.18017982101,123901.527149277,103673.33668917201,111205.048075289,133181.751532758,111438.469607191,24.297316672854599,29.099031456252,24.348317207246101,3.03716458410682,3.6373789320315,3.0435396509057702,7.6991249537628104,7.9093289638581403,7.6991249537628104,0.96239061922035096,0.98866612048226798,0.96239061922035096,{"$f":"output[[#This Row],[ishp_Program]]-output[[#This Row],[ishp_Baseline]]","v":5.1000534391501873E-2},{"$f":"output[[#This Row],[ishp_Market]]-output[[#This Row],[ishp_Program]]","v":4.7507142490058989}]
["All","Chemical","Base",2016,"6-10 HP","Traditional","ASD Control","constant","Pumps",2015,450841.55528378597,505165.30424266797,450841.55528378597,484609.58777454199,543002.18553044403,484609.58777454199,133.967804332893,150.11013479435999,133.967804332893,16.745975541611699,18.763766849295099,16.745975541611699,0.74742778480083305,2.0660471414074699,0.74742778480083305,9.3428473100104201E-2,0.25825589267593402,9.3428473100104201E-2,{"$f":"output[[#This Row],[ishp_Program]]-output[[#This Row],[ishp_Baseline]]","v":0},{"$f":"output[[#This Row],[ishp_Market]]-output[[#This Row],[ishp_Program]]","v":16.142330461466997}]
["All","Chemical","Base",2016,"6-10 HP","Traditional","ASD Control","constant","Pumps",2016,335317.69476326701,396975.44840085402,335317.69476326701,360432.99010103499,426708.90948607802,360432.99010103499,101.00000170985901,119.571742241533,101.00000170985901,12.625000213732401,14.9464677801917,12.625000213732401,4.0680251749050898E-2,1.0366634696025701,4.0680251749050898E-2,5.0850314686313701E-3,0.12958293370032101,5.0850314686313701E-3,{"$f":"output[[#This Row],[ishp_Program]]-output[[#This Row],[ishp_Baseline]]","v":0},{"$f":"output[[#This Row],[ishp_Market]]-output[[#This Row],[ishp_Program]]","v":18.571740531673996}]
["All","Chemical","Base",2016,"6-10 HP","Traditional","ASD Control","constant","Pumps","2014 and before",1296459.4385337301,1451458.52721443,1296459.4385337301,1393564.2504799,1560172.7709027999,1393564.2504799,385.24360133061202,431.30166173075202,385.24360133061202,48.155450166326503,53.912707716344002,48.155450166326503,125.01653742860201,129.142745273244,125.01653742860201,15.627067178575199,16.1428431591555,15.627067178575199,{"$f":"output[[#This Row],[ishp_Program]]-output[[#This Row],[ishp_Baseline]]","v":0},{"$f":"output[[#This Row],[ishp_Market]]-output[[#This Row],[ishp_Program]]","v":46.058060400139993}]
["All","Chemical","Base",2016,"6-10 HP","Traditional","ASD Control","variable","Fans",2015,212278.46601169501,236238.41741244201,213146.40250303,228178.12311597099,253932.674876634,229111.06805050699,106.090981901598,118.065511481437,106.524752864447,13.2613727376998,14.7581889351796,13.315594108055899,0.50661294696590498,0.96324040369947495,0.50661294696590498,6.3326618370738205E-2,0.12040505046243399,6.3326618370738205E-2,{"$f":"output[[#This Row],[ishp_Program]]-output[[#This Row],[ishp_Baseline]]","v":0.43377096284899608},{"$f":"output[[#This Row],[ishp_Market]]-output[[#This Row],[ishp_Program]]","v":11.540758616990004}]
["All","Chemical","Base",2016,"6-10 HP","Traditional","ASD Control","variable","Fans",2016,139312.249066255,160302.91941711699,139806.059878803,149746.73652131701,172309.60808145901,150277.53376372499,70.574895044502995,81.208664629411103,70.8250571551646,8.8218618805628708,10.151083078676301,8.8531321443955804,1.29178568011151E-2,0.28858344887048398,1.29178568011151E-2,1.6147321001393901E-3,3.6072931108810498E-2,1.6147321001393901E-3,{"$f":"output[[#This Row],[ishp_Program]]-output[[#This Row],[ishp_Baseline]]","v":0.25016211066160565},{"$f":"output[[#This Row],[ishp_Market]]-output[[#This Row],[ishp_Program]]","v":10.383607474246503}]
["All","Chemical","Base",2016,"6-10 HP","Traditional","ASD Control","variable","Fans","2014 and before",728635.951251394,810132.43036837596,731914.18283208995,783210.78400012397,870811.34940296796,786734.555126213,364.152355956853,404.882071285432,365.790726601936,45.519044494606703,50.610258910679001,45.723840825242,108.138555901844,110.049899708147,108.138555901844,13.5173194877305,13.756237463518399,13.5173194877305,{"$f":"output[[#This Row],[ishp_Program]]-output[[#This Row],[ishp_Baseline]]","v":1.6383706450830005},{"$f":"output[[#This Row],[ishp_Market]]-output[[#This Row],[ishp_Program]]","v":39.091344683496004}]
["All","Chemical","Base",2016,"6-10 HP","Traditional","ASD Control","variable","Pumps",2015,1103795.01194446,1145260.3564390601,1105811.63120086,1186469.2583391001,1231040.3571363401,1188636.9223778001,489.934092552793,508.339037046572,490.82919582352298,61.241761569099097,63.5423796308215,61.353649477940301,5.2429548105648696,6.9965456749116903,5.2429548105648696,0.65536935132060903,0.87456820936396096,0.65536935132060903,{"$f":"output[[#This Row],[ishp_Program]]-output[[#This Row],[ishp_Baseline]]","v":0.89510327072997597},{"$f":"output[[#This Row],[ishp_Market]]-output[[#This Row],[ishp_Program]]","v":17.509841223049023}]
["All","Chemical","Base",2016,"6-10 HP","Traditional","ASD Control","variable","Pumps",2016,851076.50819948805,899983.113873397,852512.76364773698,914822.13866363,967391.84910251398,916365.96964495303,382.91840948792799,404.92258828699403,383.56461302728502,47.864801185990999,50.615323535874303,47.945576628410599,2.1126963796429599,3.5105991384328799,2.1126963796429599,0.26408704745537098,0.43882489230410998,0.26408704745537098,{"$f":"output[[#This Row],[ishp_Program]]-output[[#This Row],[ishp_Baseline]]","v":0.64620353935703179},{"$f":"output[[#This Row],[ishp_Market]]-output[[#This Row],[ishp_Program]]","v":21.357975259709008}]
["All","Chemical","Base",2016,"6-10 HP","Traditional","ASD Control","variable","Pumps","2014 and before",3171552.4186895299,3290601.9005525298,3178008.2599434,3409101.6948493798,3537067.9829039099,3416041.0786131602,1407.7357112684999,1460.57740672306,1410.6012222484901,175.966963908563,182.57217584038199,176.32515278106101,432.23855526115,437.33422039547798,432.23855526115,54.029819407643799,54.666777549434698,54.029819407643799,{"$f":"output[[#This Row],[ishp_Program]]-output[[#This Row],[ishp_Baseline]]","v":2.8655109799901766},{"$f":"output[[#This Row],[ishp_Market]]-output[[#This Row],[ishp_Program]]","v":49.976184474569891}]
["All","Chemical","Base",2016,"6-10 HP","Traditional","Non ASD Control","constant","Fans",2015,1038595.18184361,1032366.09764625,1038535.54042639,1116385.9609637,1109690.3183599601,1116321.8524043299,234.69227334286799,233.284681668384,234.67879611898201,29.336534167858499,29.160585208548,29.334849514872701,0.61521988839508501,0.605311438623094,0.61521988839508501,7.6902486049385599E-2,7.5663929827886695E-2,7.6902486049385599E-2,{"$f":"output[[#This Row],[ishp_Program]]-output[[#This Row],[ishp_Baseline]]","v":-1.3477223885985268E-2},{"$f":"output[[#This Row],[ishp_Market]]-output[[#This Row],[ishp_Program]]","v":-1.3941144505980105}]
["All","Chemical","Base",2016,"6-10 HP","Traditional","Non ASD Control","constant","Fans",2016,689376.346577505,684323.12469595403,689343.21290989895,741010.63493615994,735578.92673568102,740975.01955684996,157.90550664139801,156.748037915731,157.897917189575,19.738188330174701,19.5935047394664,19.7372396486969,0,0,0,0,0,0,{"$f":"output[[#This Row],[ishp_Program]]-output[[#This Row],[ishp_Baseline]]","v":-7.5894518230086305E-3},{"$f":"output[[#This Row],[ishp_Market]]-output[[#This Row],[ishp_Program]]","v":-1.1498792738439931}]
["All","Chemical","Base",2016,"6-10 HP","Traditional","Non ASD Control","constant","Fans","2014 and before",3706682.3549498501,3685088.7567944801,3706456.6597936498,3984312.8633356001,3961101.9046783801,3984070.2636122,837.60229553429997,832.72277102914904,837.55129499990801,104.700286941787,104.09034637864301,104.693911874988,315.35409818235598,315.19427922235099,315.35409818235598,39.419262272794597,39.399284902793902,39.419262272794597,{"$f":"output[[#This Row],[ishp_Program]]-output[[#This Row],[ishp_Baseline]]","v":-5.1000534391960173E-2},{"$f":"output[[#This Row],[ishp_Market]]-output[[#This Row],[ishp_Program]]","v":-4.8285239707589653}]
["All","Chemical","Base",2016,"6-10 HP","Traditional","Non ASD Control","constant","Pumps",2015,1369909.80002622,1305173.99912773,1369909.80002622,1472516.0440481899,1402931.5316624001,1472516.0440481899,346.14808922698501,329.790681034736,346.14808922698501,43.268511153373197,41.223835129342,43.268511153373197,0.747171702651514,0.50076102522328403,0.747171702651514,9.3396462831439195E-2,6.2595128152910504E-2,9.3396462831439195E-2,{"$f":"output[[#This Row],[ishp_Program]]-output[[#This Row],[ishp_Baseline]]","v":0},{"$f":"output[[#This Row],[ishp_Market]]-output[[#This Row],[ishp_Program]]","v":-16.357408192249011}]
["All","Chemical","Base",2016,"6-10 HP","Traditional","Non ASD Control","constant","Pumps",2016,1076041.4250451699,1009277.61704345,1076041.4250451699,1156636.9277810501,1084872.5105600101,1156636.9277810501,275.60517380427399,258.50504133737098,275.60517380427399,34.450646725534298,32.313130167171401,34.450646725534298,0,0,0,0,0,0,{"$f":"output[[#This Row],[ishp_Program]]-output[[#This Row],[ishp_Baseline]]","v":0},{"$f":"output[[#This Row],[ishp_Market]]-output[[#This Row],[ishp_Program]]","v":-17.100132466903005}]
["All","Chemical","Base",2016,"6-10 HP","Traditional","Non ASD Control","constant","Pumps","2014 and before",4186583.4097445998,3999331.9888985101,4186583.4097445998,4500158.5071344702,4298881.95486701,4500158.5071344702,1057.8636985039,1010.54910776978,1057.8636985039,132.23296231298801,126.318638471222,132.23296231298801,400.84359479176601,397.68407320587397,400.84359479176601,50.105449348970801,49.710509150734197,50.105449348970801,{"$f":"output[[#This Row],[ishp_Program]]-output[[#This Row],[ishp_Baseline]]","v":0},{"$f":"output[[#This Row],[ishp_Market]]-output[[#This Row],[ishp_Program]]","v":-47.314590734119975}]
["All","Chemical","Base",2016,"6-10 HP","Traditional","Non ASD Control","variable","Fans",2015,611652.50023731496,563144.80822122097,609894.28342216695,657465.27250508999,605324.35435698996,655575.365250487,150.90123793086499,138.93386957782499,150.467466968016,18.862654741358099,17.366733697228199,18.808433371002099,0.453121139999348,0.36049628233701198,0.453121139999348,5.66401424999185E-2,4.5062035292126497E-2,5.66401424999185E-2,{"$f":"output[[#This Row],[ishp_Program]]-output[[#This Row],[ishp_Baseline]]","v":-0.43377096284899608},{"$f":"output[[#This Row],[ishp_Market]]-output[[#This Row],[ishp_Program]]","v":-11.533597390191005}]
["All","Chemical","Base",2016,"6-10 HP","Traditional","Non ASD Control","variable","Fans",2016,413202.204257078,373291.04054935602,412201.87015107798,444151.04935593298,401250.53948650201,443075.79022539401,103.333011367865,93.352085103133106,103.082849257204,12.916626420983199,11.669010637891599,12.8853561571505,0,0,0,0,0,0,{"$f":"output[[#This Row],[ishp_Program]]-output[[#This Row],[ishp_Baseline]]","v":-0.25016211066099459},{"$f":"output[[#This Row],[ishp_Market]]-output[[#This Row],[ishp_Program]]","v":-9.7307641540708971}]
["All","Chemical","Base",2016,"6-10 HP","Traditional","Non ASD Control","variable","Fans","2014 and before",2177943.2049331502,2010177.01564846,2171302.3482038002,2341071.15098265,2160739.2741205301,2333932.8940842701,537.32196899385701,495.93224911830401,535.68359834877401,67.165246124232198,61.991531139788002,66.960449793596794,189.20021027948499,187.715543806705,189.20021027948499,23.650026284935599,23.4644429758382,23.650026284935599,{"$f":"output[[#This Row],[ishp_Program]]-output[[#This Row],[ishp_Baseline]]","v":-1.6383706450830005},{"$f":"output[[#This Row],[ishp_Market]]-output[[#This Row],[ishp_Program]]","v":-39.751349230469998}]
["All","Chemical","Base",2016,"6-10 HP","Traditional","Non ASD Control","variable","Pumps",2015,504070.17496545601,443021.65242765198,501169.65111693501,541825.03107036895,476203.97419448302,538707.25798559398,155.55633597674299,136.71672801258401,154.66123270601301,19.444541997092902,17.089591001573002,19.332654088251601,0.53696967643778604,0.207593521654236,0.53696967643778604,6.7121209554723199E-2,2.5949190206779601E-2,6.7121209554723199E-2,{"$f":"output[[#This Row],[ishp_Program]]-output[[#This Row],[ishp_Baseline]]","v":-0.89510327072997597},{"$f":"output[[#This Row],[ishp_Market]]-output[[#This Row],[ishp_Program]]","v":-17.944504693428996}]
["All","Chemical","Base",2016,"6-10 HP","Traditional","Non ASD Control","variable","Pumps",2016,406928.55131834501,342584.08301089302,404862.770597964,437407.49981208902,368243.63082840899,435186.99211575103,127.292634466366,107.164833510503,126.64643092701,15.911579308295799,13.3956041888129,15.8308038658762,1.8119885300279699E-2,0,1.8119885300279699E-2,2.2649856625349598E-3,0,2.2649856625349598E-3,{"$f":"output[[#This Row],[ishp_Program]]-output[[#This Row],[ishp_Baseline]]","v":-0.64620353935599439},{"$f":"output[[#This Row],[ishp_Market]]-output[[#This Row],[ishp_Program]]","v":-19.481597416507}]
["All","Chemical","Base",2016,"6-10 HP","Traditional","Non ASD Control","variable","Pumps","2014 and before",1533414.8502946501,1357512.99636117,1524129.3486017999,1648267.6225817199,1459190.71978862,1638286.6368120699,473.212674525941,418.92926469856297,470.34716354595702,59.151584315742703,52.3661580873204,58.793395443244698,168.85091928669601,164.86234571830499,168.85091928669601,21.106364910837002,20.607793214788099,21.106364910837002,{"$f":"output[[#This Row],[ishp_Program]]-output[[#This Row],[ishp_Baseline]]","v":-2.8655109799839806},{"$f":"output[[#This Row],[ishp_Market]]-output[[#This Row],[ishp_Program]]","v":-51.417898847394042}]
["All","Chemical","Base",2017,"1,001+ HP","Traditional","ASD Control","constant","Fans",2015,0,0,0,0,0,0,0,0,0,0,0,0,0,0,0,0,0,0,{"$f":"output[[#This Row],[ishp_Program]]-output[[#This Row],[ishp_Baseline]]","v":0},{"$f":"output[[#This Row],[ishp_Market]]-output[[#This Row],[ishp_Program]]","v":0}]
["All","Chemical","Base",2017,"1,001+ HP","Traditional","ASD Control","constant","Fans",2016,0,0,0,0,0,0,0,0,0,0,0,0,0,0,0,0,0,0,{"$f":"output[[#This Row],[ishp_Program]]-output[[#This Row],[ishp_Baseline]]","v":0},{"$f":"output[[#This Row],[ishp_Market]]-output[[#This Row],[ishp_Program]]","v":0}]
["All","Chemical","Base",2017,"1,001+ HP","Traditional","ASD Control","constant","Fans",2017,0,0,0,0,0,0,0,0,0,0,0,0,0,0,0,0,0,0,{"$f":"output[[#This Row],[ishp_Program]]-output[[#This Row],[ishp_Baseline]]","v":0},{"$f":"output[[#This Row],[ishp_Market]]-output[[#This Row],[ishp_Program]]","v":0}]
["All","Chemical","Base",2017,"1,001+ HP","Traditional","ASD Control","constant","Fans","2014 and before",0,0,0,0,0,0,0,0,0,0,0,0,0,0,0,0,0,0,{"$f":"output[[#This Row],[ishp_Program]]-output[[#This Row],[ishp_Baseline]]","v":0},{"$f":"output[[#This Row],[ishp_Market]]-output[[#This Row],[ishp_Program]]","v":0}]
["All","Chemical","Base",2017,"1,001+ HP","Traditional","ASD Control","constant","Pumps",2015,0,0,0,0,0,0,0,0,0,0,0,0,0,0,0,0,0,0,{"$f":"output[[#This Row],[ishp_Program]]-output[[#This Row],[ishp_Baseline]]","v":0},{"$f":"output[[#This Row],[ishp_Market]]-output[[#This Row],[ishp_Program]]","v":0}]
["All","Chemical","Base",2017,"1,001+ HP","Traditional","ASD Control","constant","Pumps",2016,0,0,0,0,0,0,0,0,0,0,0,0,0,0,0,0,0,0,{"$f":"output[[#This Row],[ishp_Program]]-output[[#This Row],[ishp_Baseline]]","v":0},{"$f":"output[[#This Row],[ishp_Market]]-output[[#This Row],[ishp_Program]]","v":0}]
["All","Chemical","Base",2017,"1,001+ HP","Traditional","ASD Control","constant","Pumps",2017,0,0,0,0,0,0,0,0,0,0,0,0,0,0,0,0,0,0,{"$f":"output[[#This Row],[ishp_Program]]-output[[#This Row],[ishp_Baseline]]","v":0},{"$f":"output[[#This Row],[ishp_Market]]-output[[#This Row],[ishp_Program]]","v":0}]
["All","Chemical","Base",2017,"1,001+ HP","Traditional","ASD Control","constant","Pumps","2014 and before",0,0,0,0,0,0,0,0,0,0,0,0,0,0,0,0,0,0,{"$f":"output[[#This Row],[ishp_Program]]-output[[#This Row],[ishp_Baseline]]","v":0},{"$f":"output[[#This Row],[ishp_Market]]-output[[#This Row],[ishp_Program]]","v":0}]
["All","Chemical","Base",2017,"1,001+ HP","Traditional","ASD Control","variable","Fans",2015,0,0,0,0,0,0,0,0,0,0,0,0,0,0,0,0,0,0,{"$f":"output[[#This Row],[ishp_Program]]-output[[#This Row],[ishp_Baseline]]","v":0},{"$f":"output[[#This Row],[ishp_Market]]-output[[#This Row],[ishp_Program]]","v":0}]
["All","Chemical","Base",2017,"1,001+ HP","Traditional","ASD Control","variable","Fans",2016,0,0,0,0,0,0,0,0,0,0,0,0,0,0,0,0,0,0,{"$f":"output[[#This Row],[ishp_Program]]-output[[#This Row],[ishp_Baseline]]","v":0},{"$f":"output[[#This Row],[ishp_Market]]-output[[#This Row],[ishp_Program]]","v":0}]
["All","Chemical","Base",2017,"1,001+ HP","Traditional","ASD Control","variable","Fans",2017,0,0,0,0,0,0,0,0,0,0,0,0,0,0,0,0,0,0,{"$f":"output[[#This Row],[ishp_Program]]-output[[#This Row],[ishp_Baseline]]","v":0},{"$f":"output[[#This Row],[ishp_Market]]-output[[#This Row],[ishp_Program]]","v":0}]
["All","Chemical","Base",2017,"1,001+ HP","Traditional","ASD Control","variable","Fans","2014 and before",0,0,0,0,0,0,0,0,0,0,0,0,0,0,0,0,0,0,{"$f":"output[[#This Row],[ishp_Program]]-output[[#This Row],[ishp_Baseline]]","v":0},{"$f":"output[[#This Row],[ishp_Market]]-output[[#This Row],[ishp_Program]]","v":0}]
["All","Chemical","Base",2017,"1,001+ HP","Traditional","ASD Control","variable","Pumps",2015,0,0,0,0,0,0,0,0,0,0,0,0,0,0,0,0,0,0,{"$f":"output[[#This Row],[ishp_Program]]-output[[#This Row],[ishp_Baseline]]","v":0},{"$f":"output[[#This Row],[ishp_Market]]-output[[#This Row],[ishp_Program]]","v":0}]
["All","Chemical","Base",2017,"1,001+ HP","Traditional","ASD Control","variable","Pumps",2016,0,0,0,0,0,0,0,0,0,0,0,0,0,0,0,0,0,0,{"$f":"output[[#This Row],[ishp_Program]]-output[[#This Row],[ishp_Baseline]]","v":0},{"$f":"output[[#This Row],[ishp_Market]]-output[[#This Row],[ishp_Program]]","v":0}]
["All","Chemical","Base",2017,"1,001+ HP","Traditional","ASD Control","variable","Pumps",2017,0,0,0,0,0,0,0,0,0,0,0,0,0,0,0,0,0,0,{"$f":"output[[#This Row],[ishp_Program]]-output[[#This Row],[ishp_Baseline]]","v":0},{"$f":"output[[#This Row],[ishp_Market]]-output[[#This Row],[ishp_Program]]","v":0}]
["All","Chemical","Base",2017,"1,001+ HP","Traditional","ASD Control","variable","Pumps","2014 and before",0,0,0,0,0,0,0,0,0,0,0,0,0,0,0,0,0,0,{"$f":"output[[#This Row],[ishp_Program]]-output[[#This Row],[ishp_Baseline]]","v":0},{"$f":"output[[#This Row],[ishp_Market]]-output[[#This Row],[ishp_Program]]","v":0}]
["All","Chemical","Base",2017,"1,001+ HP","Traditional","Non ASD Control","constant","Fans",2015,255604.73208687501,255624.77229866601,255604.73208687501,274749.52652018197,274771.06774383702,274749.52652018197,61.320282950553498,61.325090652849802,61.320282950553498,6.1320282950553501E-2,6.1325090652849801E-2,6.1320282950553501E-2,0.323499971800147,0.31868941216072599,0.323499971800147,3.2349997180014701E-4,3.18689412160726E-4,3.2349997180014701E-4,{"$f":"output[[#This Row],[ishp_Program]]-output[[#This Row],[ishp_Baseline]]","v":0},{"$f":"output[[#This Row],[ishp_Market]]-output[[#This Row],[ishp_Program]]","v":4.8077022963042282E-3}]
["All","Chemical","Base",2017,"1,001+ HP","Traditional","Non ASD Control","constant","Fans",2016,169433.18578009299,169433.18578009299,169433.18578009299,182123.73139502201,182123.73139502201,182123.73139502201,40.836979448673198,40.836979448673198,40.836979448673198,4.0836979448673198E-2,4.0836979448673198E-2,4.0836979448673198E-2,2.1752338898997001E-2,2.1751719853641101E-2,2.1752338898997001E-2,2.1752338898997001E-5,2.1751719853641101E-5,2.1752338898997001E-5,{"$f":"output[[#This Row],[ishp_Program]]-output[[#This Row],[ishp_Baseline]]","v":0},{"$f":"output[[#This Row],[ishp_Market]]-output[[#This Row],[ishp_Program]]","v":0}]
["All","Chemical","Base",2017,"1,001+ HP","Traditional","Non ASD Control","constant","Fans",2017,102915.51705390699,102678.70728068201,102915.51705390699,110623.88928124501,110369.34245600599,110623.88928124501,24.8048151578447,24.747738996537301,24.8048151578447,2.48048151578447E-2,2.4747738996537299E-2,2.48048151578447E-2,0,0,0,0,0,0,{"$f":"output[[#This Row],[ishp_Program]]-output[[#This Row],[ishp_Baseline]]","v":0},{"$f":"output[[#This Row],[ishp_Market]]-output[[#This Row],[ishp_Program]]","v":-5.7076161307399786E-2}]
["All","Chemical","Base",2017,"1,001+ HP","Traditional","Non ASD Control","constant","Fans","2014 and before",961930.34149626095,962148.21500922099,961930.34149626095,1033978.92407433,1034213.11631341,1033978.92407433,230.76975233472899,230.82202079373999,230.76975233472899,0.23076975233472899,0.23082202079374001,0.23076975233472899,85.4417715332699,85.389491346751299,85.4417715332699,8.54417715332699E-2,8.5389491346751306E-2,8.54417715332699E-2,{"$f":"output[[#This Row],[ishp_Program]]-output[[#This Row],[ishp_Baseline]]","v":0},{"$f":"output[[#This Row],[ishp_Market]]-output[[#This Row],[ishp_Program]]","v":5.2268459011003188E-2}]
["All","Chemical","Base",2017,"1,001+ HP","Traditional","Non ASD Control","constant","Pumps",2015,538173.73813935905,538273.14509956795,538173.73813935905,578482.951125997,578589.80366752599,578482.951125997,113.251766625222,113.27268554612201,113.251766625222,0.113251766625222,0.11327268554612201,0.113251766625222,0.393784019082901,0.37286626874937401,0.393784019082901,3.93784019082901E-4,3.7286626874937401E-4,3.93784019082901E-4,{"$f":"output[[#This Row],[ishp_Program]]-output[[#This Row],[ishp_Baseline]]","v":0},{"$f":"output[[#This Row],[ishp_Market]]-output[[#This Row],[ishp_Program]]","v":2.0918920900001581E-2}]
["All","Chemical","Base",2017,"1,001+ HP","Traditional","Non ASD Control","constant","Pumps",2016,411788.05873426102,411788.05873426102,411788.05873426102,442630.98433345702,442630.98433345702,442630.98433345702,87.059487671487901,87.059487671487901,87.059487671487901,8.7059487671487898E-2,8.7059487671487898E-2,8.7059487671487898E-2,6.3050811768820006E-2,6.3051240411142698E-2,6.3050811768820006E-2,6.3050811768819998E-5,6.3051240411142698E-5,6.3050811768819998E-5,{"$f":"output[[#This Row],[ishp_Program]]-output[[#This Row],[ishp_Baseline]]","v":0},{"$f":"output[[#This Row],[ishp_Market]]-output[[#This Row],[ishp_Program]]","v":0}]
["All","Chemical","Base",2017,"1,001+ HP","Traditional","Non ASD Control","constant","Pumps",2017,320783.00277433702,319669.65577031201,320783.00277433702,344809.64968213398,343612.91298750899,344809.64968213398,67.819363099301299,67.583981286460798,67.819363099301299,6.7819363099301297E-2,6.7583981286460801E-2,6.7819363099301297E-2,0,0,0,0,0,0,{"$f":"output[[#This Row],[ishp_Program]]-output[[#This Row],[ishp_Baseline]]","v":0},{"$f":"output[[#This Row],[ishp_Market]]-output[[#This Row],[ishp_Program]]","v":-0.23538181284050097}]
["All","Chemical","Base",2017,"1,001+ HP","Traditional","Non ASD Control","constant","Pumps","2014 and before",1747277.77969972,1748296.9099057,1747277.77969972,1878148.8853992301,1879244.34845763,1878148.8853992301,367.69221779593403,367.906680687875,367.69221779593403,0.36769221779593397,0.36790668068787502,0.36769221779593397,140.749388343661,140.53492947091701,140.749388343661,0.14074938834366099,0.140534929470917,0.14074938834366099,{"$f":"output[[#This Row],[ishp_Program]]-output[[#This Row],[ishp_Baseline]]","v":0},{"$f":"output[[#This Row],[ishp_Market]]-output[[#This Row],[ishp_Program]]","v":0.21446289194096835}]
["All","Chemical","Base",2017,"1,001+ HP","Traditional","Non ASD Control","variable","Fans",2015,139429.68309370201,139440.61481768201,139429.68309370201,149872.96635742101,149884.71686752699,149872.96635742101,36.519604000566297,36.522467251933797,36.519604000566297,3.6519604000566301E-2,3.6522467251933803E-2,3.6519604000566301E-2,0.192662040941039,0.189797087868425,0.192662040941039,1.9266204094103899E-4,1.8979708786842501E-4,1.9266204094103899E-4,{"$f":"output[[#This Row],[ishp_Program]]-output[[#This Row],[ishp_Baseline]]","v":0},{"$f":"output[[#This Row],[ishp_Market]]-output[[#This Row],[ishp_Program]]","v":2.8632513675006521E-3}]
["All","Chemical","Base",2017,"1,001+ HP","Traditional","Non ASD Control","variable","Fans",2016,92424.014242605903,92424.014242605903,92424.014242605903,99346.572909377093,99346.572909377093,99346.572909377093,24.320669218819202,24.320669218819202,24.320669218819202,2.4320669218819198E-2,2.4320669218819198E-2,2.4320669218819198E-2,1.29547152174436E-2,1.2954346541857601E-2,1.29547152174436E-2,1.2954715217443601E-5,1.29543465418576E-5,1.2954715217443601E-5,{"$f":"output[[#This Row],[ishp_Program]]-output[[#This Row],[ishp_Baseline]]","v":0},{"$f":"output[[#This Row],[ishp_Market]]-output[[#This Row],[ishp_Program]]","v":0}]
["All","Chemical","Base",2017,"1,001+ HP","Traditional","Non ASD Control","variable","Fans",2017,56139.328138000601,56010.150906559698,56139.328138000601,60344.163815536798,60205.311209460997,60344.163815536798,14.7726328595416,14.738640863606101,14.7726328595416,1.47726328595416E-2,1.4738640863606101E-2,1.47726328595416E-2,0,0,0,0,0,0,{"$f":"output[[#This Row],[ishp_Program]]-output[[#This Row],[ishp_Baseline]]","v":0},{"$f":"output[[#This Row],[ishp_Market]]-output[[#This Row],[ishp_Program]]","v":-3.399199593549973E-2}]
["All","Chemical","Base",2017,"1,001+ HP","Traditional","Non ASD Control","variable","Fans","2014 and before",524722.84678773105,524841.69448909594,524722.84678773105,564024.58801213198,564152.337406329,564024.58801213198,137.436090720077,137.46721946464501,137.436090720077,0.13743609072007701,0.13746721946464499,0.13743609072007701,50.8852782694753,50.854142540531001,50.8852782694753,5.0885278269475302E-2,5.0854142540531E-2,5.0885278269475302E-2,{"$f":"output[[#This Row],[ishp_Program]]-output[[#This Row],[ishp_Baseline]]","v":0},{"$f":"output[[#This Row],[ishp_Market]]-output[[#This Row],[ishp_Program]]","v":3.112874456800796E-2}]
["All","Chemical","Base",2017,"1,001+ HP","Traditional","Non ASD Control","variable","Pumps",2015,182674.968182791,182708.710377935,182674.968182791,196357.323299682,196393.59278524201,196357.323299682,46.949207072998902,46.957879138595203,46.949207072998902,4.6949207072998898E-2,4.6957879138595199E-2,4.6949207072998898E-2,0.16324555461586401,0.15457397428493599,0.16324555461586401,1.6324555461586399E-4,1.5457397428493601E-4,1.6324555461586399E-4,{"$f":"output[[#This Row],[ishp_Program]]-output[[#This Row],[ishp_Baseline]]","v":0},{"$f":"output[[#This Row],[ishp_Market]]-output[[#This Row],[ishp_Program]]","v":8.6720655963006266E-3}]
["All","Chemical","Base",2017,"1,001+ HP","Traditional","Non ASD Control","variable","Pumps",2016,139775.253224741,139775.253224741,139775.253224741,150244.419691274,150244.419691274,150244.419691274,36.091038896408499,36.091038896408499,36.091038896408499,3.6091038896408502E-2,3.6091038896408502E-2,3.6091038896408502E-2,2.6138096614872E-2,2.6138274311147802E-2,2.6138096614872E-2,2.6138096614872E-5,2.6138274311147801E-5,2.6138096614872E-5,{"$f":"output[[#This Row],[ishp_Program]]-output[[#This Row],[ishp_Baseline]]","v":0},{"$f":"output[[#This Row],[ishp_Market]]-output[[#This Row],[ishp_Program]]","v":0}]
["All","Chemical","Base",2017,"1,001+ HP","Traditional","Non ASD Control","variable","Pumps",2017,108884.957909648,108507.049040963,108884.957909648,117040.44125708099,116634.227014131,117040.44125708099,28.1149285047786,28.017349545954701,28.1149285047786,2.8114928504778602E-2,2.8017349545954699E-2,2.8114928504778602E-2,0,0,0,0,0,0,{"$f":"output[[#This Row],[ishp_Program]]-output[[#This Row],[ishp_Baseline]]","v":0},{"$f":"output[[#This Row],[ishp_Market]]-output[[#This Row],[ishp_Program]]","v":-9.7578958823898887E-2}]
["All","Chemical","Base",2017,"1,001+ HP","Traditional","Non ASD Control","variable","Pumps","2014 and before",593087.12074407004,593433.04913997103,593087.12074407004,637509.34608780104,637881.18452055496,637509.34608780104,152.42904006573701,152.51794695896501,152.42904006573701,0.15242904006573699,0.15251794695896501,0.15242904006573699,58.348513013595699,58.259607786550497,58.348513013595699,5.8348513013595699E-2,5.8259607786550503E-2,5.8348513013595699E-2,{"$f":"output[[#This Row],[ishp_Program]]-output[[#This Row],[ishp_Baseline]]","v":0},{"$f":"output[[#This Row],[ishp_Market]]-output[[#This Row],[ishp_Program]]","v":8.8906893227999717E-2}]
["All","Chemical","Base",2017,"1-5 HP","Traditional","ASD Control","constant","Fans",2015,23529.011034065399,34326.128217794103,23529.011034065399,25291.333960516899,36897.155221306799,25291.333960516899,5.1890375599868399,7.5702105946218996,5.1890375599868399,1.72967918666228,2.5234035315406298,1.72967918666228,2.6585943292370601E-2,5.59941407715576E-2,2.6585943292370601E-2,8.8619810974568808E-3,1.8664713590519199E-2,8.8619810974568808E-3,{"$f":"output[[#This Row],[ishp_Program]]-output[[#This Row],[ishp_Baseline]]","v":0},{"$f":"output[[#This Row],[ishp_Market]]-output[[#This Row],[ishp_Program]]","v":2.3811730346350597}]
["All","Chemical","Base",2017,"1-5 HP","Traditional","ASD Control","constant","Fans",2016,14970.235131405399,23192.579788286599,14970.235131405399,16091.5057427477,24929.704014429299,16091.5057427477,3.3611544986508402,5.2072558117128098,3.3611544986508402,1.1203848328836099,1.7357519372376,1.1203848328836099,1.9465909382025701E-3,1.5367457730313E-2,1.9465909382025701E-3,6.4886364606752496E-4,5.1224859101043404E-3,6.4886364606752496E-4,{"$f":"output[[#This Row],[ishp_Program]]-output[[#This Row],[ishp_Baseline]]","v":0},{"$f":"output[[#This Row],[ishp_Market]]-output[[#This Row],[ishp_Program]]","v":1.8461013130619697}]
["All","Chemical","Base",2017,"1-5 HP","Traditional","ASD Control","constant","Fans",2017,9282.3613440323898,14647.6880066838,9282.3613440323898,9977.6102087004201,15744.799838384501,9977.6102087004201,2.08409890130216,3.2887354143967502,2.08409890130216,0.69469963376738797,1.09624513813225,0.69469963376738797,0,8.4437725186631493E-3,0,0,2.8145908395543801E-3,0,{"$f":"output[[#This Row],[ishp_Program]]-output[[#This Row],[ishp_Baseline]]","v":0},{"$f":"output[[#This Row],[ishp_Market]]-output[[#This Row],[ishp_Program]]","v":1.2046365130945902}]
["All","Chemical","Base",2017,"1-5 HP","Traditional","ASD Control","constant","Fans","2014 and before",84931.077754611702,122215.055292852,84931.077754611702,91292.4154784321,131368.96293428601,91292.4154784321,18.7305174807721,26.953045811926,18.7305174807721,6.2435058269240402,8.9843486039753309,6.2435058269240402,5.6641878457778096,5.88561834489541,5.6641878457778096,1.8880626152592701,1.9618727816318,1.8880626152592701,{"$f":"output[[#This Row],[ishp_Program]]-output[[#This Row],[ishp_Baseline]]","v":0},{"$f":"output[[#This Row],[ishp_Market]]-output[[#This Row],[ishp_Program]]","v":8.2225283311538995}]
["All","Chemical","Base",2017,"1-5 HP","Traditional","ASD Control","constant","Pumps",2015,61670.020657708097,88521.7574870346,61670.020657708097,66289.105204970401,95152.037122813505,66289.105204970401,17.893122238629601,25.683964600648501,17.893122238629601,5.9643740795432203,8.5613215335495205,5.9643740795432203,0.10808408671360301,0.75532533036000804,0.10808408671360301,3.6028028904534597E-2,0.25177511012000298,3.6028028904534597E-2,{"$f":"output[[#This Row],[ishp_Program]]-output[[#This Row],[ishp_Baseline]]","v":0},{"$f":"output[[#This Row],[ishp_Market]]-output[[#This Row],[ishp_Program]]","v":7.7908423620188998}]
["All","Chemical","Base",2017,"1-5 HP","Traditional","ASD Control","constant","Pumps",2016,45248.532785095602,69251.786656320197,45248.532785095602,48637.647890699198,74438.745476878597,48637.647890699198,13.365747413802,20.455953628352098,13.365747413802,4.4552491379340298,6.8186512094507004,4.4552491379340298,1.18218019936052E-2,0.512536856919664,1.18218019936052E-2,3.94060066453509E-3,0.17084561897322101,3.94060066453509E-3,{"$f":"output[[#This Row],[ishp_Program]]-output[[#This Row],[ishp_Baseline]]","v":0},{"$f":"output[[#This Row],[ishp_Market]]-output[[#This Row],[ishp_Program]]","v":7.0902062145500988}]
["All","Chemical","Base",2017,"1-5 HP","Traditional","ASD Control","constant","Pumps",2017,35748.623076203497,61109.9226191118,35748.623076203497,38426.194944611103,65687.055823283197,38426.194944611103,10.5596145779369,18.050967400053999,10.5596145779369,3.5198715259789699,6.0169891333513599,3.5198715259789699,0,0.444955186610416,0,0,0.14831839553680501,0,{"$f":"output[[#This Row],[ishp_Program]]-output[[#This Row],[ishp_Baseline]]","v":0},{"$f":"output[[#This Row],[ishp_Market]]-output[[#This Row],[ishp_Program]]","v":7.4913528221170989}]
["All","Chemical","Base",2017,"1-5 HP","Traditional","ASD Control","constant","Pumps","2014 and before",186157.16144028699,264824.76816292899,186157.16144028699,200100.33283216399,284660.143298332,200100.33283216399,54.012189548878297,76.837041694160405,54.012189548878297,18.004063182959399,25.612347231386799,18.004063182959399,15.986316683895399,18.097715996757898,15.986316683895399,5.3287722279651302,6.0325719989193196,5.3287722279651302,{"$f":"output[[#This Row],[ishp_Program]]-output[[#This Row],[ishp_Baseline]]","v":0},{"$f":"output[[#This Row],[ishp_Market]]-output[[#This Row],[ishp_Program]]","v":22.824852145282108}]
["All","Chemical","Base",2017,"1-5 HP","Traditional","ASD Control","variable","Fans",2015,184543.40986311401,225562.09873077401,184543.40986311401,198365.711261861,242456.69992570899,198365.711261861,86.176804768076906,105.331428306316,86.176804768076906,28.725601589358899,35.110476102105302,28.725601589358899,0.44971712587770502,0.77909891019986999,0.44971712587770502,0.149905708625901,0.25969963673329,0.149905708625901,{"$f":"output[[#This Row],[ishp_Program]]-output[[#This Row],[ishp_Baseline]]","v":0},{"$f":"output[[#This Row],[ishp_Market]]-output[[#This Row],[ishp_Program]]","v":19.154623538239093}]
["All","Chemical","Base",2017,"1-5 HP","Traditional","ASD Control","variable","Fans",2016,120493.812672274,152401.89452287299,120493.812672274,129518.799241427,163816.79642263599,129518.799241427,57.283996059445698,72.453425878764506,57.283996059445698,19.0946653531485,24.151141959588099,19.0946653531485,3.4622691532097002E-2,0.21382182859231699,3.4622691532097002E-2,1.1540897177365599E-2,7.1273942864105794E-2,1.1540897177365599E-2,{"$f":"output[[#This Row],[ishp_Program]]-output[[#This Row],[ishp_Baseline]]","v":0},{"$f":"output[[#This Row],[ishp_Market]]-output[[#This Row],[ishp_Program]]","v":15.169429819318808}]
["All","Chemical","Base",2017,"1-5 HP","Traditional","ASD Control","variable","Fans",2017,75409.497277664006,96252.138527773102,75409.497277664006,81057.668623760997,103461.42370350299,81057.668623760997,35.850449488618999,45.759255200386598,35.850449488618999,11.950149829539599,15.253085066795499,11.950149829539599,6.1447565522065805E-5,0.11748611330792399,6.1447565522065805E-5,2.0482521840688599E-5,3.91620377693081E-2,2.0482521840688599E-5,{"$f":"output[[#This Row],[ishp_Program]]-output[[#This Row],[ishp_Baseline]]","v":0},{"$f":"output[[#This Row],[ishp_Market]]-output[[#This Row],[ishp_Program]]","v":9.9088057117675987}]
["All","Chemical","Base",2017,"1-5 HP","Traditional","ASD Control","variable","Fans","2014 and before",661468.43738948705,803093.32277279894,661468.43738948705,711012.42334996001,863245.01264848199,711012.42334996001,308.88795450046803,375.02296364022499,308.88795450046803,102.962651500156,125.00765454674099,102.962651500156,79.890420041576306,81.892118982015404,79.890420041576306,26.6301400138587,27.297372994005102,26.6301400138587,{"$f":"output[[#This Row],[ishp_Program]]-output[[#This Row],[ishp_Baseline]]","v":0},{"$f":"output[[#This Row],[ishp_Market]]-output[[#This Row],[ishp_Program]]","v":66.13500913975696}]
["All","Chemical","Base",2017,"1-5 HP","Traditional","ASD Control","variable","Pumps",2015,151297.25587625301,164709.58240270099,151297.25587625301,162629.42034138399,177046.33012466301,162629.42034138399,65.364985525355493,71.159515797468899,65.364985525355493,21.788328508451801,23.719838599156301,21.788328508451801,0.42856497430553397,0.72489313804134003,0.42856497430553397,0.14285499143517799,0.24163104601377999,0.14285499143517799,{"$f":"output[[#This Row],[ishp_Program]]-output[[#This Row],[ishp_Baseline]]","v":0},{"$f":"output[[#This Row],[ishp_Market]]-output[[#This Row],[ishp_Program]]","v":5.7945302721134055}]
["All","Chemical","Base",2017,"1-5 HP","Traditional","ASD Control","variable","Pumps",2016,115222.280731341,128849.74800991399,115222.280731341,123852.429558118,138500.59413585701,123852.429558118,50.678913881081201,56.672765384840098,50.678913881081201,16.892971293693702,18.890921794946699,16.892971293693702,5.9580325823721497E-2,0.28410347949713599,5.9580325823721497E-2,1.9860108607907101E-2,9.4701159832378798E-2,1.9860108607907101E-2,{"$f":"output[[#This Row],[ishp_Program]]-output[[#This Row],[ishp_Baseline]]","v":0},{"$f":"output[[#This Row],[ishp_Market]]-output[[#This Row],[ishp_Program]]","v":5.9938515037588971}]
["All","Chemical","Base",2017,"1-5 HP","Traditional","ASD Control","variable","Pumps",2017,86806.2537865739,96131.923032690407,86806.2537865739,93308.042195188304,103332.204067838,93308.042195188304,38.180520573504197,42.282286183485198,38.180520573504197,12.726840191168,14.094095394495,12.726840191168,1.5322712248183599E-2,0.185561032815282,1.5322712248183599E-2,5.1075707493945296E-3,6.18536776050942E-2,5.1075707493945296E-3,{"$f":"output[[#This Row],[ishp_Program]]-output[[#This Row],[ishp_Baseline]]","v":0},{"$f":"output[[#This Row],[ishp_Market]]-output[[#This Row],[ishp_Program]]","v":4.1017656099810011}]
["All","Chemical","Base",2017,"1-5 HP","Traditional","ASD Control","variable","Pumps","2014 and before",454058.49221018999,492764.63580056198,454058.49221018999,488067.47327673301,529672.70702202397,488067.47327673301,196.166986632321,212.889210051867,196.166986632321,65.388995544107104,70.963070017289198,65.388995544107104,54.736917538104201,55.7887902960925,54.736917538104201,18.245639179367998,18.596263432030799,18.245639179367998,{"$f":"output[[#This Row],[ishp_Program]]-output[[#This Row],[ishp_Baseline]]","v":0},{"$f":"output[[#This Row],[ishp_Market]]-output[[#This Row],[ishp_Program]]","v":16.722223419545998}]
["All","Chemical","Base",2017,"1-5 HP","Traditional","Non ASD Control","constant","Fans",2015,703686.13403566997,692884.55230234202,703686.13403566997,756392.22547494201,744781.60526978702,756392.22547494201,150.992613204077,148.674876682399,150.992613204077,50.3308710680258,49.558292227466602,50.3308710680258,0.79367214885288295,0.77262191622671905,0.79367214885288295,0.26455738295096098,0.25754063874223898,0.26455738295096098,{"$f":"output[[#This Row],[ishp_Program]]-output[[#This Row],[ishp_Baseline]]","v":0},{"$f":"output[[#This Row],[ishp_Market]]-output[[#This Row],[ishp_Program]]","v":-2.3177365216780004}]
["All","Chemical","Base",2017,"1-5 HP","Traditional","Non ASD Control","constant","Fans",2016,461265.65626996901,453210.09869025502,461265.65626996901,495814.45392458898,487155.53508215502,495814.45392458898,100.763800956949,99.004058844078401,100.763800956949,33.5879336523166,33.001352948026103,33.5879336523166,5.3793815152683402E-2,5.2734276173791797E-2,5.3793815152683402E-2,1.7931271717561099E-2,1.7578092057930601E-2,1.7931271717561099E-2,{"$f":"output[[#This Row],[ishp_Program]]-output[[#This Row],[ishp_Baseline]]","v":0},{"$f":"output[[#This Row],[ishp_Market]]-output[[#This Row],[ishp_Program]]","v":-1.7597421128705975}]
["All","Chemical","Base",2017,"1-5 HP","Traditional","Non ASD Control","constant","Fans",2017,280561.39476855501,274651.19566637703,280561.39476855501,301575.443236719,295222.57022178901,301575.443236719,61.288830318025703,59.997743245201796,61.288830318025703,20.4296101060085,19.999247748400599,20.4296101060085,0,0,0,0,0,0,{"$f":"output[[#This Row],[ishp_Program]]-output[[#This Row],[ishp_Baseline]]","v":0},{"$f":"output[[#This Row],[ishp_Market]]-output[[#This Row],[ishp_Program]]","v":-1.2910870728239061}]
["All","Chemical","Base",2017,"1-5 HP","Traditional","Non ASD Control","constant","Fans","2014 and before",2646569.4457717501,2607953.9522337499,2646569.4457717501,2844797.4972600499,2803289.7032560599,2844797.4972600499,567.88448331552195,559.59860983094995,567.88448331552195,189.29482777184,186.53286994365001,189.29482777184,207.30213127739501,207.01595318980799,207.30213127739501,69.100710425798297,69.005317729935996,69.100710425798297,{"$f":"output[[#This Row],[ishp_Program]]-output[[#This Row],[ishp_Baseline]]","v":0},{"$f":"output[[#This Row],[ishp_Market]]-output[[#This Row],[ishp_Program]]","v":-8.2858734845719937}]
["All","Chemical","Base",2017,"1-5 HP","Traditional","Non ASD Control","constant","Pumps",2015,299007.57205566001,267356.71246582398,299007.57205566001,321403.23920262902,287381.73022951401,321403.23920262902,74.662487363279993,66.759236325466304,74.662487363279993,24.887495787759999,22.253078775155402,24.887495787759999,0.34116411283926601,0.219755250201943,0.34116411283926601,0.113721370946422,7.3251750067314506E-2,0.113721370946422,{"$f":"output[[#This Row],[ishp_Program]]-output[[#This Row],[ishp_Baseline]]","v":0},{"$f":"output[[#This Row],[ishp_Market]]-output[[#This Row],[ishp_Program]]","v":-7.9032510378136891}]
["All","Chemical","Base",2017,"1-5 HP","Traditional","Non ASD Control","constant","Pumps",2016,229567.02813975699,201839.09446805899,229567.02813975699,246761.598547425,216956.84264371599,246761.598547425,58.358818785619903,51.310030161405003,58.358818785619903,19.452939595206601,17.103343387134998,19.452939595206601,4.38798737714758E-2,3.7160350166743003E-2,4.38798737714758E-2,1.46266245904919E-2,1.23867833889143E-2,1.46266245904919E-2,{"$f":"output[[#This Row],[ishp_Program]]-output[[#This Row],[ishp_Baseline]]","v":0},{"$f":"output[[#This Row],[ishp_Market]]-output[[#This Row],[ishp_Program]]","v":-7.0487886242149003}]
["All","Chemical","Base",2017,"1-5 HP","Traditional","Non ASD Control","constant","Pumps",2017,181968.923938477,156686.99584908099,181968.923938477,195598.39634146899,168422.85183817701,195598.39634146899,46.258783514306899,39.831800197600202,46.258783514306899,15.4195945047689,13.2772667325334,15.4195945047689,0,0,0,0,0,0,{"$f":"output[[#This Row],[ishp_Program]]-output[[#This Row],[ishp_Baseline]]","v":0},{"$f":"output[[#This Row],[ishp_Market]]-output[[#This Row],[ishp_Program]]","v":-6.4269833167066963}]
["All","Chemical","Base",2017,"1-5 HP","Traditional","Non ASD Control","constant","Pumps","2014 and before",963754.52473831305,868367.51657020801,963754.52473831305,1035939.73864121,933408.24356131698,1035939.73864121,240.65046088927599,216.832230324043,240.65046088927599,80.216820296425595,72.277410108014607,80.216820296425595,84.389842603785894,82.826716108108599,84.389842603785894,28.129947534595299,27.608905369369499,28.129947534595299,{"$f":"output[[#This Row],[ishp_Program]]-output[[#This Row],[ishp_Baseline]]","v":0},{"$f":"output[[#This Row],[ishp_Market]]-output[[#This Row],[ishp_Program]]","v":-23.818230565232994}]
["All","Chemical","Base",2017,"1-5 HP","Traditional","Non ASD Control","variable","Fans",2015,457846.00207519799,377961.20893099002,457846.00207519799,492138.66763063101,406270.50347992202,492138.66763063101,107.258493615479,88.544073184601402,107.258493615479,35.752831205159801,29.514691061533799,35.752831205159801,0.64933828681540096,0.46013888170592898,0.64933828681540096,0.216446095605133,0.15337962723530901,0.216446095605133,{"$f":"output[[#This Row],[ishp_Program]]-output[[#This Row],[ishp_Baseline]]","v":0},{"$f":"output[[#This Row],[ishp_Market]]-output[[#This Row],[ishp_Program]]","v":-18.714420430877595}]
["All","Chemical","Base",2017,"1-5 HP","Traditional","Non ASD Control","variable","Fans",2016,307833.88306088402,247221.32457927399,307833.88306088402,330890.64090214501,265738.20179026102,330890.64090214501,73.418481988442693,58.962366927595397,73.418481988442693,24.4728273294809,19.654122309198399,24.4728273294809,0.12517743224793601,3.1406164330264101E-2,0.12517743224793601,4.1725810749312003E-2,1.04687214434213E-2,4.1725810749312003E-2,{"$f":"output[[#This Row],[ishp_Program]]-output[[#This Row],[ishp_Baseline]]","v":0},{"$f":"output[[#This Row],[ishp_Market]]-output[[#This Row],[ishp_Program]]","v":-14.456115060847296}]
["All","Chemical","Base",2017,"1-5 HP","Traditional","Non ASD Control","variable","Fans",2017,190426.743252833,149819.32791468699,190426.743252833,204689.70632247001,161040.795575497,204689.70632247001,45.416840669422797,35.731958804058998,45.416840669422797,15.138946889807601,11.910652934686301,15.138946889807601,3.9901191812166503E-2,0,3.9901191812166503E-2,1.33003972707221E-2,0,1.33003972707221E-2,{"$f":"output[[#This Row],[ishp_Program]]-output[[#This Row],[ishp_Baseline]]","v":0},{"$f":"output[[#This Row],[ishp_Market]]-output[[#This Row],[ishp_Program]]","v":-9.6848818653637991}]
["All","Chemical","Base",2017,"1-5 HP","Traditional","Non ASD Control","variable","Fans","2014 and before",1710796.50638188,1422611.3504007,1710796.50638188,1838935.16470989,1529164.94054572,1838935.16470989,400.78422728480598,333.271776432813,400.78422728480598,133.59474242826801,111.090592144271,133.59474242826801,124.895889834209,123.289395751611,124.895889834209,41.631963278069897,41.096465250537101,41.631963278069897,{"$f":"output[[#This Row],[ishp_Program]]-output[[#This Row],[ishp_Baseline]]","v":0},{"$f":"output[[#This Row],[ishp_Market]]-output[[#This Row],[ishp_Program]]","v":-67.51245085199298}]
["All","Chemical","Base",2017,"1-5 HP","Traditional","Non ASD Control","variable","Pumps",2015,109511.087512721,90750.208495873099,109511.087512721,117713.467967424,97547.399112214,117713.467967424,33.396818539532603,27.6754465177724,33.396818539532603,11.1322728465108,9.2251488392574892,11.1322728465108,0.16197216310504101,9.1100872459257007E-2,0.16197216310504101,5.39907210350139E-2,3.0366957486418999E-2,5.39907210350139E-2,{"$f":"output[[#This Row],[ishp_Program]]-output[[#This Row],[ishp_Baseline]]","v":0},{"$f":"output[[#This Row],[ishp_Market]]-output[[#This Row],[ishp_Program]]","v":-5.7213720217602031}]
["All","Chemical","Base",2017,"1-5 HP","Traditional","Non ASD Control","variable","Pumps",2016,87250.080962428998,68511.240045772196,87250.080962428998,93785.112026514893,73642.731925200496,93785.112026514893,27.088786904774199,21.2708843557512,27.088786904774199,9.0295956349247302,7.0902947852503999,9.0295956349247302,2.3108014598031201E-2,1.5405048652857E-2,2.3108014598031201E-2,7.7026715326770599E-3,5.1350162176190201E-3,7.7026715326770599E-3,{"$f":"output[[#This Row],[ishp_Program]]-output[[#This Row],[ishp_Baseline]]","v":0},{"$f":"output[[#This Row],[ishp_Market]]-output[[#This Row],[ishp_Program]]","v":-5.8179025490229996}]
["All","Chemical","Base",2017,"1-5 HP","Traditional","Non ASD Control","variable","Pumps",2017,66025.080275009299,53185.040355826903,66025.080275009299,70970.358787607503,57168.599878478301,70970.358787607503,20.498999086436399,16.512514473667899,20.498999086436399,6.8329996954788204,5.5041714912226603,6.8329996954788204,0,0,0,0,0,0,{"$f":"output[[#This Row],[ishp_Program]]-output[[#This Row],[ishp_Baseline]]","v":0},{"$f":"output[[#This Row],[ishp_Market]]-output[[#This Row],[ishp_Program]]","v":-3.9864846127684999}]
["All","Chemical","Base",2017,"1-5 HP","Traditional","Non ASD Control","variable","Pumps","2014 and before",350782.76532713801,294754.27212198102,350782.76532713801,377056.394450141,316831.367103917,377056.394450141,106.97572845366,89.889116831812103,106.97572845366,35.658576151219997,29.963038943937299,35.658576151219997,35.2447620311058,34.336317760097899,35.2447620311058,11.7482540103686,11.445439253365899,11.7482540103686,{"$f":"output[[#This Row],[ishp_Program]]-output[[#This Row],[ishp_Baseline]]","v":0},{"$f":"output[[#This Row],[ishp_Market]]-output[[#This Row],[ishp_Program]]","v":-17.086611621847894}]
["All","Chemical","Base",2017,"101-200 HP","Traditional","ASD Control","constant","Fans",2015,67034.814683313802,96450.292421794496,69575.591826432006,72055.722303094095,103674.419324186,74786.8036542318,16.856343438456001,24.253058078580398,17.4952385010785,0.112002281983096,0.16114988756531801,0.116247431900853,8.6303155710855395E-2,0.179391198067542,8.6303155710855395E-2,5.7344289508873996E-4,1.1919680934720401E-3,5.7344289508873996E-4,{"$f":"output[[#This Row],[ishp_Program]]-output[[#This Row],[ishp_Baseline]]","v":0.63889506262249895},{"$f":"output[[#This Row],[ishp_Market]]-output[[#This Row],[ishp_Program]]","v":6.7578195775018983}]
["All","Chemical","Base",2017,"101-200 HP","Traditional","ASD Control","constant","Fans",2016,43336.5130913373,66090.191826642593,44751.043320059602,46582.417921878397,71040.347194458198,48102.896464732097,10.9391709940348,16.6827429769546,11.2962322097264,7.2685521555049107E-2,0.11084879054454901,7.5058021327085903E-2,6.3500624975840704E-3,4.9233484352230503E-2,6.3500624975840704E-3,4.2193106296239701E-5,3.2713278639355802E-4,4.2193106296239701E-5,{"$f":"output[[#This Row],[ishp_Program]]-output[[#This Row],[ishp_Baseline]]","v":0.35706121569159954},{"$f":"output[[#This Row],[ishp_Market]]-output[[#This Row],[ishp_Program]]","v":5.3865107672282004}]
["All","Chemical","Base",2017,"101-200 HP","Traditional","ASD Control","constant","Fans",2017,26897.106767729299,41740.4410813957,27890.425202992301,28911.700064632299,44866.800118392297,29979.418050696499,6.7894721838112,10.536284296650001,7.0402094822174597,4.5112771985456497E-2,7.0008533532558495E-2,4.67788005462954E-2,0,2.70517316180033E-2,0,0,1.79745725036566E-4,0,{"$f":"output[[#This Row],[ishp_Program]]-output[[#This Row],[ishp_Baseline]]","v":0.25073729840625969},{"$f":"output[[#This Row],[ishp_Market]]-output[[#This Row],[ishp_Program]]","v":3.4960748144325411}]
["All","Chemical","Base",2017,"101-200 HP","Traditional","ASD Control","constant","Fans","2014 and before",241841.995824076,343402.48764877598,251997.882496865,259955.961311299,369123.33397367003,270872.52389587997,60.812754666524299,86.350805872650795,63.366518923012698,0.40407145957823498,0.57375950745947302,0.421039992843938,18.1616587034224,18.856046573990401,18.1616587034224,0.12067547311244101,0.12528934600658101,0.12067547311244101,{"$f":"output[[#This Row],[ishp_Program]]-output[[#This Row],[ishp_Baseline]]","v":2.5537642564883996},{"$f":"output[[#This Row],[ishp_Market]]-output[[#This Row],[ishp_Program]]","v":22.984286949638097}]
["All","Chemical","Base",2017,"101-200 HP","Traditional","ASD Control","constant","Pumps",2015,1551563.17568744,1998304.63594478,1551563.17568744,1667775.25754642,2147977.6531770499,1667775.25754642,394.59475642770599,508.21039287660602,394.59475642770599,2.62189206928708,3.3768132417050198,2.62189206928708,3.9822958905014301,14.945674815414799,3.9822958905014301,2.64604378106407E-2,9.9306809404749702E-2,2.64604378106407E-2,{"$f":"output[[#This Row],[ishp_Program]]-output[[#This Row],[ishp_Baseline]]","v":0},{"$f":"output[[#This Row],[ishp_Market]]-output[[#This Row],[ishp_Program]]","v":113.61563644890003}]
["All","Chemical","Base",2017,"101-200 HP","Traditional","ASD Control","constant","Pumps",2016,1174696.1653172099,1585447.5359722101,1174696.1653172099,1262680.90809947,1704197.5564165299,1262680.90809947,299.89890884795102,404.76337636238401,299.89890884795102,1.9926837797206101,2.6894576502484,1.9926837797206101,1.3898442780643501,10.141602414929,1.3898442780643501,9.2348457014242904E-3,6.7386062557668103E-2,9.2348457014242904E-3,{"$f":"output[[#This Row],[ishp_Program]]-output[[#This Row],[ishp_Baseline]]","v":0},{"$f":"output[[#This Row],[ishp_Market]]-output[[#This Row],[ishp_Program]]","v":104.86446751443299}]
["All","Chemical","Base",2017,"101-200 HP","Traditional","ASD Control","constant","Pumps",2017,952998.15601686505,1399048.0378614301,952998.15601686505,1024377.71790252,1503836.73589725,1024377.71790252,243.29959998327701,357.17574668953699,243.29959998327701,1.6166086377626301,2.3732607753457602,1.6166086377626301,1.0193687279455499,8.8043592068359402,1.0193687279455499,6.7732141391730998E-3,5.85007256268169E-2,6.7732141391730998E-3,{"$f":"output[[#This Row],[ishp_Program]]-output[[#This Row],[ishp_Baseline]]","v":0},{"$f":"output[[#This Row],[ishp_Market]]-output[[#This Row],[ishp_Program]]","v":113.87614670625999}]
["All","Chemical","Base",2017,"101-200 HP","Traditional","ASD Control","constant","Pumps","2014 and before",4661179.2591755604,5978197.6426585699,4661179.2591755604,5010301.5856878096,6425964.6460937001,5010301.5856878096,1185.4347430135001,1520.3798850384401,1185.4347430135001,7.8766428107209601,10.1021919271657,7.8766428107209601,325.256122270437,358.10076442206901,325.256122270437,2.1611702476441002,2.3794070725718899,2.1611702476441002,{"$f":"output[[#This Row],[ishp_Program]]-output[[#This Row],[ishp_Baseline]]","v":0},{"$f":"output[[#This Row],[ishp_Market]]-output[[#This Row],[ishp_Program]]","v":334.94514202493997}]
["All","Chemical","Base",2017,"101-200 HP","Traditional","ASD Control","variable","Fans",2015,542359.15188442799,621474.17758300598,580139.51042890805,582981.85236057197,668022.59348397295,623591.95976003294,294.49668021701598,337.45550619526699,315.01111263711999,1.9567885728705401,2.2422292770449599,2.0930970939343498,1.5692058867407599,2.4960377101609401,1.5692058867407599,1.04266171876462E-2,1.6584968173826799E-2,1.04266171876462E-2,{"$f":"output[[#This Row],[ishp_Program]]-output[[#This Row],[ishp_Baseline]]","v":20.514432420104015},{"$f":"output[[#This Row],[ishp_Market]]-output[[#This Row],[ishp_Program]]","v":22.444393558146999}]
["All","Chemical","Base",2017,"101-200 HP","Traditional","ASD Control","variable","Fans",2016,362916.371855309,425849.90237400902,384858.11946900201,390098.80810727202,457746.06006182201,413683.99261722999,197.81876191592099,232.122623785152,209.778788202481,1.3144103781788801,1.5423430151837401,1.39387899137861,0.12227062347109501,0.68503156715371805,0.12227062347109501,8.1242939183452201E-4,4.5517047651409803E-3,8.1242939183452201E-4,{"$f":"output[[#This Row],[ishp_Program]]-output[[#This Row],[ishp_Baseline]]","v":11.960026286560009},{"$f":"output[[#This Row],[ishp_Market]]-output[[#This Row],[ishp_Program]]","v":22.343835582671005}]
["All","Chemical","Base",2017,"101-200 HP","Traditional","ASD Control","variable","Fans",2017,227479.127989784,268953.11192597903,243231.04375150701,244517.31467621899,289097.70000923501,261449.048928495,123.99451485366799,146.60118898092401,132.580582376216,0.82388381962570401,0.97409427894301803,0.88093410216755397,4.37538897585931E-3,0.37639607166384997,4.37538897585931E-3,2.9072351999065199E-5,2.5009705758395301E-3,2.9072351999065199E-5,{"$f":"output[[#This Row],[ishp_Program]]-output[[#This Row],[ishp_Baseline]]","v":8.5860675225480065},{"$f":"output[[#This Row],[ishp_Market]]-output[[#This Row],[ishp_Program]]","v":14.020606604708007}]
["All","Chemical","Base",2017,"101-200 HP","Traditional","ASD Control","variable","Fans","2014 and before",1938802.0177398401,2212702.24519565,2088723.1055184,2084018.28886856,2378433.6433608001,2245168.4661217299,1052.7539838474099,1201.4796159606699,1134.15993503659,6.9950430820426197,7.9832532621971497,7.5359464122033,257.71040904537398,262.36183168534899,257.71040904537398,1.7123615218961701,1.7432679846202599,1.7123615218961701,{"$f":"output[[#This Row],[ishp_Program]]-output[[#This Row],[ishp_Baseline]]","v":81.405951189180087},{"$f":"output[[#This Row],[ishp_Market]]-output[[#This Row],[ishp_Program]]","v":67.319680924079876}]
["All","Chemical","Base",2017,"101-200 HP","Traditional","ASD Control","variable","Pumps",2015,3559988.0123121999,3696799.51821764,3778554.9863719698,3826631.1144343899,3973689.8021321399,4061568.75485123,1355.92947154532,1408.0382854688801,1439.17733659688,9.0094981498028393,9.3557361160723307,9.5626401102782896,11.4650310120706,14.343510910626399,11.4650310120706,7.6179608053625503E-2,9.5305720336388303E-2,7.6179608053625503E-2,{"$f":"output[[#This Row],[ishp_Program]]-output[[#This Row],[ishp_Baseline]]","v":83.247865051559984},{"$f":"output[[#This Row],[ishp_Market]]-output[[#This Row],[ishp_Program]]","v":-31.139051127999892}]
["All","Chemical","Base",2017,"101-200 HP","Traditional","ASD Control","variable","Pumps",2016,2790596.3133871998,2932917.3932589302,2948647.05876838,2999611.9772599,3152592.9060140201,3169500.72347013,1066.97211484128,1121.3879480625801,1127.4021158567,7.0895157132311502,7.4510827113792901,7.4910439591807503,3.2721828466162699,5.62157529718763,3.2721828466162699,2.1742078715058299E-2,3.7352659781977597E-2,2.1742078715058299E-2,{"$f":"output[[#This Row],[ishp_Program]]-output[[#This Row],[ishp_Baseline]]","v":60.430001015419975},{"$f":"output[[#This Row],[ishp_Market]]-output[[#This Row],[ishp_Program]]","v":-6.014167794119885}]
["All","Chemical","Base",2017,"101-200 HP","Traditional","ASD Control","variable","Pumps",2017,2093814.7664161299,2188184.2492102501,2226113.4212270998,2250641.4924206999,2352079.2494760999,2392849.31647701,800.56078290208904,836.64253580568595,851.14458638421195,5.3193407501799896,5.55908661664908,5.6554457567057304,1.99866781284219,3.6717090548887201,1.99866781284219,1.32801848029381E-2,2.4396737906237299E-2,1.32801848029381E-2,{"$f":"output[[#This Row],[ishp_Program]]-output[[#This Row],[ishp_Baseline]]","v":50.583803482122903},{"$f":"output[[#This Row],[ishp_Market]]-output[[#This Row],[ishp_Program]]","v":-14.502050578525996}]
["All","Chemical","Base",2017,"101-200 HP","Traditional","ASD Control","variable","Pumps","2014 and before",10661174.466619,11059781.960763,11398017.868229,11459696.434168801,11888159.6296241,12251729.4065593,4060.6318365623601,4212.45359748385,4341.2810074868903,26.9809424356303,27.9897249002249,28.845720979979301,1095.33199884951,1103.8966715353499,1095.33199884951,7.27795348072768,7.3348616048860604,7.27795348072768,{"$f":"output[[#This Row],[ishp_Program]]-output[[#This Row],[ishp_Baseline]]","v":280.64917092453015},{"$f":"output[[#This Row],[ishp_Market]]-output[[#This Row],[ishp_Program]]","v":-128.82741000304031}]
["All","Chemical","Base",2017,"101-200 HP","Traditional","Non ASD Control","constant","Fans",2015,1043997.34731669,1013813.15731631,1041325.66015684,1122192.7486307099,1089747.7627993,1119320.9521025899,249.65675645515901,242.438647145695,249.01786139253599,1.65884888010072,1.6108880209016301,1.6546037301829599,1.3084980783300599,1.2598861105851999,1.3084980783300599,8.6943393908974504E-3,8.3713362829581604E-3,8.6943393908974504E-3,{"$f":"output[[#This Row],[ishp_Program]]-output[[#This Row],[ishp_Baseline]]","v":-0.6388950626230212},{"$f":"output[[#This Row],[ishp_Market]]-output[[#This Row],[ishp_Program]]","v":-6.5792142468409907}]
["All","Chemical","Base",2017,"101-200 HP","Traditional","Non ASD Control","constant","Fans",2016,695334.00320289098,672520.99601337698,693846.59126692696,747414.520042788,722892.81861477904,745815.70095281897,166.91865816867499,161.44227339340799,166.56159695298399,1.10909407421046,1.0727061355043701,1.10672157443843,8.9307971376480097E-2,8.5991842462345799E-2,8.9307971376480097E-2,5.9340844768425297E-4,5.7137436852057E-4,5.9340844768425297E-4,{"$f":"output[[#This Row],[ishp_Program]]-output[[#This Row],[ishp_Baseline]]","v":-0.35706121569100446},{"$f":"output[[#This Row],[ishp_Market]]-output[[#This Row],[ishp_Program]]","v":-5.1193235595760029}]
["All","Chemical","Base",2017,"101-200 HP","Traditional","Non ASD Control","constant","Fans",2017,423430.77462058299,407556.44280569197,422386.27683126502,455145.73963966401,438082.42037183797,454023.00896592601,101.6468292956,97.836110772328396,101.396091997193,0.67539421458870497,0.65007382572975703,0.67372818602786599,0,0,0,0,0,0,{"$f":"output[[#This Row],[ishp_Program]]-output[[#This Row],[ishp_Baseline]]","v":-0.2507372984070031},{"$f":"output[[#This Row],[ishp_Market]]-output[[#This Row],[ishp_Program]]","v":-3.5599812248646003}]
["All","Chemical","Base",2017,"101-200 HP","Traditional","Non ASD Control","constant","Fans","2014 and before",3924290.0087329098,3815899.8085094402,3913610.8540915502,4218219.3303870102,4101710.70416679,4206740.3070630096,938.43678577130595,912.51684843729902,935.88302151481798,6.2354603705734597,6.0632348733375299,6.2184918373077602,338.282159457874,337.57329246774498,338.282159457874,2.2477219897533098,2.2430119100846801,2.2477219897533098,{"$f":"output[[#This Row],[ishp_Program]]-output[[#This Row],[ishp_Baseline]]","v":-2.5537642564879661},{"$f":"output[[#This Row],[ishp_Market]]-output[[#This Row],[ishp_Program]]","v":-23.366173077518965}]
["All","Chemical","Base",2017,"101-200 HP","Traditional","Non ASD Control","constant","Pumps",2015,2739691.2972736601,2197785.9462104598,2739691.2972736601,2944894.17543945,2362400.1135816299,2944894.17543945,581.66216336903005,466.61057374127103,581.66216336903005,3.8648648728839201,3.1004024833306998,3.8648648728839201,4.9599037691638701,1.5359690886738,4.9599037691638701,3.2956171223680199E-2,1.02057746755734E-2,3.2956171223680199E-2,{"$f":"output[[#This Row],[ishp_Program]]-output[[#This Row],[ishp_Baseline]]","v":0},{"$f":"output[[#This Row],[ishp_Market]]-output[[#This Row],[ishp_Program]]","v":-115.05158962775903}]
["All","Chemical","Base",2017,"101-200 HP","Traditional","Non ASD Control","constant","Pumps",2016,2170769.40676306,1682708.2091890201,2170769.40676306,2333360.0353296199,1808743.0540572801,2333360.0353296199,462.64765451542098,358.62906662942402,462.64765451542098,3.0740707941224001,2.3829173862420201,3.0740707941224001,1.93974357863654,0.25973053716787398,1.93974357863654,1.288866165207E-2,1.7257843001187601E-3,1.288866165207E-2,{"$f":"output[[#This Row],[ishp_Program]]-output[[#This Row],[ishp_Baseline]]","v":0},{"$f":"output[[#This Row],[ishp_Market]]-output[[#This Row],[ishp_Program]]","v":-104.01858788599696}]
["All","Chemical","Base",2017,"101-200 HP","Traditional","Non ASD Control","constant","Pumps",2017,1767283.5904749201,1306280.6037813399,1767283.5904749201,1899653.13140149,1404121.0210045599,1899653.13140149,376.65428923471899,278.40251276601299,376.65428923471899,2.5026863072074299,1.84985058316287,2.5026863072074299,1.10274423156725,0,1.10274423156725,7.3272041964601801E-3,0,7.3272041964601801E-3,{"$f":"output[[#This Row],[ishp_Program]]-output[[#This Row],[ishp_Baseline]]","v":0},{"$f":"output[[#This Row],[ishp_Market]]-output[[#This Row],[ishp_Program]]","v":-98.251776468705998}]
["All","Chemical","Base",2017,"101-200 HP","Traditional","Non ASD Control","constant","Pumps","2014 and before",8786791.2738740295,7138350.5073119998,8786791.2738740295,9444921.9402872007,7673012.9603096703,9444921.9402872007,1865.51821605584,1515.5387773437701,1865.51821605584,12.395469874125199,10.070025098629699,12.395469874125199,603.135224692978,578.91347552109698,603.135224692978,4.0075430212157999,3.8466011662531399,4.0075430212157999,{"$f":"output[[#This Row],[ishp_Program]]-output[[#This Row],[ishp_Baseline]]","v":0},{"$f":"output[[#This Row],[ishp_Market]]-output[[#This Row],[ishp_Program]]","v":-349.97943871206985}]
["All","Chemical","Base",2017,"101-200 HP","Traditional","Non ASD Control","variable","Fans",2015,713747.47971715196,553024.375123051,635173.270658341,767207.16594796698,594445.90081976703,682747.74863065104,186.34771654802799,144.38555991878201,165.833284127924,1.2381908076280901,0.95937249115470102,1.1018822865642799,1.36662155440745,0.75033153192535496,1.36662155440745,9.0805418897505E-3,4.9855915742548504E-3,9.0805418897505E-3,{"$f":"output[[#This Row],[ishp_Program]]-output[[#This Row],[ishp_Baseline]]","v":-20.514432420103986},{"$f":"output[[#This Row],[ishp_Market]]-output[[#This Row],[ishp_Program]]","v":-21.447724209141995}]
["All","Chemical","Base",2017,"101-200 HP","Traditional","Non ASD Control","variable","Fans",2016,491610.35283194098,366853.10394071898,445976.70798221801,528431.96825905296,394330.40142587898,479380.36341008602,128.845126484578,96.147760734121206,116.885100198019,0.85611379723972703,0.63885555305063901,0.77664518403999405,0.42066057628814102,5.1212875787547303E-2,0.42066057628814102,2.7950868856354899E-3,3.4028488895380298E-4,2.7950868856354899E-3,{"$f":"output[[#This Row],[ishp_Program]]-output[[#This Row],[ishp_Baseline]]","v":-11.960026286559},{"$f":"output[[#This Row],[ishp_Market]]-output[[#This Row],[ishp_Program]]","v":-20.737339463897797}]
["All","Chemical","Base",2017,"101-200 HP","Traditional","Non ASD Control","variable","Fans",2017,306947.51603773399,222317.73723140699,274187.25727308402,329937.88498896,238969.33575003999,294723.88284283801,80.447230820480698,58.2667895587185,71.861163297932407,0.53453309515269598,0.38715474789846199,0.47748281261084702,0.176313425163096,0,0.176313425163096,1.17151777517007E-3,0,1.17151777517007E-3,{"$f":"output[[#This Row],[ishp_Program]]-output[[#This Row],[ishp_Baseline]]","v":-8.5860675225482908},{"$f":"output[[#This Row],[ishp_Market]]-output[[#This Row],[ishp_Program]]","v":-13.594373739213907}]
["All","Chemical","Base",2017,"101-200 HP","Traditional","Non ASD Control","variable","Fans","2014 and before",2662783.9235382401,2081533.0634683101,2350983.5238790298,2862226.4394112499,2237439.8899220801,2527072.1898175701,695.20904509363595,543.45401464710801,613.80309390445495,4.6193292032799702,3.6109901305455701,4.0784258731192997,204.83450469200901,201.043478094031,204.83450469200901,1.36102660924923,1.3358370637477099,1.36102660924923,{"$f":"output[[#This Row],[ishp_Program]]-output[[#This Row],[ishp_Baseline]]","v":-81.405951189180996},{"$f":"output[[#This Row],[ishp_Market]]-output[[#This Row],[ishp_Program]]","v":-70.349079257346943}]
["All","Chemical","Base",2017,"101-200 HP","Traditional","Non ASD Control","variable","Pumps",2015,943981.77470954496,746005.33126092597,622928.44150474097,1014686.00963529,801881.13057236897,669585.78177344601,244.77075695712301,193.43624476539401,161.522891905568,1.6263837671569601,1.2852906628929801,1.0732418066815199,1.59481351776276,0.63674530606228996,1.59481351776276,1.05967675598854E-2,4.2308658210118899E-3,1.05967675598854E-2,{"$f":"output[[#This Row],[ishp_Program]]-output[[#This Row],[ishp_Baseline]]","v":-83.24786505155501},{"$f":"output[[#This Row],[ishp_Market]]-output[[#This Row],[ishp_Program]]","v":31.913352859826006}]
["All","Chemical","Base",2017,"101-200 HP","Traditional","Non ASD Control","variable","Pumps",2016,774143.51288355805,571169.95273175102,541982.55243462604,832126.86199853604,613950.58219135995,582577.04561197897,201.504564674303,148.671855753915,141.074563658888,1.3389007619555,0.98785286215226398,0.93737251600590399,0.48950613566696799,0.107672870243421,0.48950613566696799,3.2525324629034398E-3,7.1543435377688402E-4,3.2525324629034398E-3,{"$f":"output[[#This Row],[ishp_Program]]-output[[#This Row],[ishp_Baseline]]","v":-60.430001015415002},{"$f":"output[[#This Row],[ishp_Market]]-output[[#This Row],[ishp_Program]]","v":7.5972920950270009}]
["All","Chemical","Base",2017,"101-200 HP","Traditional","Non ASD Control","variable","Pumps",2017,583210.07023242197,443397.27270705701,388876.39155890897,626892.50449283002,476607.72843281599,418003.23328667099,151.80582070385501,115.413451030297,101.222017221732,1.00867654952727,0.76686678425446797,0.67257154300154398,0.18846955921790701,0,0.18846955921790701,1.2522894300193101E-3,0,1.2522894300193101E-3,{"$f":"output[[#This Row],[ishp_Program]]-output[[#This Row],[ishp_Baseline]]","v":-50.583803482123002},{"$f":"output[[#This Row],[ishp_Market]]-output[[#This Row],[ishp_Program]]","v":14.191433808564994}]
["All","Chemical","Base",2017,"101-200 HP","Traditional","Non ASD Control","variable","Pumps","2014 and before",3016414.3647989398,2423005.5452151499,1934064.06391515,3242343.8007223802,2604488.6605517599,2078925.4623024,782.14436671233,628.27579652807003,501.49519578780598,5.1969725362945498,4.17459001015329,3.3321939919455499,248.47576436230401,239.99209415896499,248.47576436230401,1.65100175656016,1.5946318548768399,1.65100175656016,{"$f":"output[[#This Row],[ishp_Program]]-output[[#This Row],[ishp_Baseline]]","v":-280.64917092452401},{"$f":"output[[#This Row],[ishp_Market]]-output[[#This Row],[ishp_Program]]","v":126.78060074026405}]
["All","Chemical","Base",2017,"11-20 HP","Traditional","ASD Control","constant","Fans",2015,24763.753159284199,36193.969810141301,25305.7211137954,26618.5582709146,38904.898148920904,27201.1196252187,5.9661759430034698,8.7199864485040806,6.0967488877136402,0.38491457696796599,0.56257977087123101,0.39333863791700902,3.05712648328238E-2,6.4498621619657096E-2,3.05712648328238E-2,1.9723396666337899E-3,4.1612013948165803E-3,1.9723396666337899E-3,{"$f":"output[[#This Row],[ishp_Program]]-output[[#This Row],[ishp_Baseline]]","v":0.13057294471017045},{"$f":"output[[#This Row],[ishp_Market]]-output[[#This Row],[ishp_Program]]","v":2.6232375607904403}]
["All","Chemical","Base",2017,"11-20 HP","Traditional","ASD Control","constant","Fans",2016,15864.7102788746,24629.703305441399,16163.554176601099,17052.977078762298,26474.468083019001,17374.2043844285,3.8635783810933,5.9981422636100099,3.9363566923439799,0.24926312136085799,0.38697692023290398,0.25395849628025702,2.23690768646077E-3,1.7701492115886099E-2,2.23690768646077E-3,1.4431662493295301E-4,1.14203174941201E-3,1.4431662493295301E-4,{"$f":"output[[#This Row],[ishp_Program]]-output[[#This Row],[ishp_Baseline]]","v":7.2778311250679906E-2},{"$f":"output[[#This Row],[ishp_Market]]-output[[#This Row],[ishp_Program]]","v":2.06178557126603}]
["All","Chemical","Base",2017,"11-20 HP","Traditional","ASD Control","constant","Fans",2017,9835.6884923510097,15555.329032326999,10045.261380739499,10572.381560428101,16720.4231768483,10797.651458156901,2.39531341916893,3.7882338790718202,2.4463513055600501,0.154536349623802,0.244402185746569,0.157829116487745,0,9.7262263733208093E-3,0,0,6.2749847569811598E-4,0,{"$f":"output[[#This Row],[ishp_Program]]-output[[#This Row],[ishp_Baseline]]","v":5.1037886391120058E-2},{"$f":"output[[#This Row],[ishp_Market]]-output[[#This Row],[ishp_Program]]","v":1.3418825735117701}]
["All","Chemical","Base",2017,"11-20 HP","Traditional","ASD Control","constant","Fans","2014 and before",89394.350950206601,128865.335278949,91561.950379809001,96089.987836376997,138517.348891342,98419.940463256702,21.537221060515002,31.0467180916838,22.0594472145143,1.38949813293645,2.00301407043121,1.4231901428718901,6.52377514477174,6.7795355977304101,6.52377514477174,0.420888719017532,0.43738939340196198,0.420888719017532,{"$f":"output[[#This Row],[ishp_Program]]-output[[#This Row],[ishp_Baseline]]","v":0.5222261539992985},{"$f":"output[[#This Row],[ishp_Market]]-output[[#This Row],[ishp_Program]]","v":8.9872708771695002}]
["All","Chemical","Base",2017,"11-20 HP","Traditional","ASD Control","constant","Pumps",2015,419767.586320211,575132.09219765698,419767.586320211,451208.17853559402,618209.485903261,451208.17853559402,124.507167935943,170.58979855099901,124.507167935943,8.0327205119963399,11.005793454903101,8.0327205119963399,0.828433826339672,5.0167798449360204,0.828433826339672,5.3447343634817499E-2,0.32366321580232399,5.3447343634817499E-2,{"$f":"output[[#This Row],[ishp_Program]]-output[[#This Row],[ishp_Baseline]]","v":0},{"$f":"output[[#This Row],[ishp_Market]]-output[[#This Row],[ishp_Program]]","v":46.082630615056004}]
["All","Chemical","Base",2017,"11-20 HP","Traditional","ASD Control","constant","Pumps",2016,312479.08370082401,453155.52350798901,312479.08370082401,335883.76707001601,487096.87221873697,335883.76707001601,93.688092909830303,135.865979527983,93.688092909830303,6.04439309095679,8.7655470663215098,6.04439309095679,0.105261040660831,3.4042080547674698,0.105261040660831,6.7910348813439601E-3,0.21962632611402999,6.7910348813439601E-3,{"$f":"output[[#This Row],[ishp_Program]]-output[[#This Row],[ishp_Baseline]]","v":0},{"$f":"output[[#This Row],[ishp_Market]]-output[[#This Row],[ishp_Program]]","v":42.177886618152698}]
["All","Chemical","Base",2017,"11-20 HP","Traditional","ASD Control","constant","Pumps",2017,248540.83193161999,399878.47697600099,248540.83193161999,267156.54024329799,429829.37490150402,267156.54024329799,74.518000623011602,119.892350745107,74.518000623011602,4.8076129434201,7.7349903706520999,4.8076129434201,3.3101667823948099E-2,2.9553387426090199,3.3101667823948099E-2,2.1355914725127798E-3,0.19066701565219499,2.1355914725127798E-3,{"$f":"output[[#This Row],[ishp_Program]]-output[[#This Row],[ishp_Baseline]]","v":0},{"$f":"output[[#This Row],[ishp_Market]]-output[[#This Row],[ishp_Program]]","v":45.374350122095393}]
["All","Chemical","Base",2017,"11-20 HP","Traditional","ASD Control","constant","Pumps","2014 and before",1263298.07227767,1720585.1680205599,1263298.07227767,1357919.09789127,1849456.9971053,1357919.09789127,374.706552778576,510.34237383782101,374.706552778576,24.174616308295199,32.925314441149801,24.174616308295199,107.339048169894,120.20284929228499,107.339048169894,6.92509988192867,7.7550225349861499,6.92509988192867,{"$f":"output[[#This Row],[ishp_Program]]-output[[#This Row],[ishp_Baseline]]","v":0},{"$f":"output[[#This Row],[ishp_Market]]-output[[#This Row],[ishp_Program]]","v":135.63582105924502}]
["All","Chemical","Base",2017,"11-20 HP","Traditional","ASD Control","variable","Fans",2015,190103.60965743,235359.17507090099,198250.43528179501,204342.37002077099,252987.57728371199,213099.39288440099,97.999769031559296,121.32933634437801,102.199515848397,6.3225657439715697,7.8276991189921299,6.5935171515094897,0.50974206185192905,0.89742971533891003,0.50974206185192905,3.2886584635608299E-2,5.7898691312187701E-2,3.2886584635608299E-2,{"$f":"output[[#This Row],[ishp_Program]]-output[[#This Row],[ishp_Baseline]]","v":4.1997468168377026},{"$f":"output[[#This Row],[ishp_Market]]-output[[#This Row],[ishp_Program]]","v":19.129820495981008}]
["All","Chemical","Base",2017,"11-20 HP","Traditional","ASD Control","variable","Fans",2016,124761.688391923,160160.012361659,129390.37786602,134106.33885247799,172155.99728754701,139081.71716818499,65.012059465832195,83.457769623921195,67.424022939695504,4.1943264171504602,5.3843722338013702,4.3499369638513201,3.9135521806219001E-2,0.24629743445232499,3.9135521806219001E-2,2.5248723745947702E-3,1.5890157061440299E-2,2.5248723745947702E-3,{"$f":"output[[#This Row],[ishp_Program]]-output[[#This Row],[ishp_Baseline]]","v":2.4119634738633096},{"$f":"output[[#This Row],[ishp_Market]]-output[[#This Row],[ishp_Program]]","v":16.03374668422569}]
["All","Chemical","Base",2017,"11-20 HP","Traditional","ASD Control","variable","Fans",2017,78046.751714648693,101151.916416174,81339.013202444301,83892.453418075893,108728.194955745,87431.305291307406,40.669376384587601,52.709245040618399,42.384940692672799,2.6238307344895202,3.4005964542334501,2.73451230275308,0,0.13533009460268799,0,0,8.7309738453347392E-3,0,{"$f":"output[[#This Row],[ishp_Program]]-output[[#This Row],[ishp_Baseline]]","v":1.7155643080851988},{"$f":"output[[#This Row],[ishp_Market]]-output[[#This Row],[ishp_Program]]","v":10.324304347945599}]
["All","Chemical","Base",2017,"11-20 HP","Traditional","ASD Control","variable","Fans","2014 and before",681756.28893712896,837974.92139120202,714148.63111604797,732819.83497852006,900739.24300340295,767638.36358663999,351.45023796259301,431.98205914427803,368.148721792782,22.674208900812399,27.869810267372799,23.751530438244,91.911165100753806,94.330026732647994,91.911165100753806,5.9297525871454004,6.0858081762998699,5.9297525871454004,{"$f":"output[[#This Row],[ishp_Program]]-output[[#This Row],[ishp_Baseline]]","v":16.698483830188991},{"$f":"output[[#This Row],[ishp_Market]]-output[[#This Row],[ishp_Program]]","v":63.833337351496027}]
["All","Chemical","Base",2017,"11-20 HP","Traditional","ASD Control","variable","Pumps",2015,1004711.70317032,1066118.9346396399,1006807.25595305,1079964.6097377799,1145971.2428441499,1082217.1194239301,445.40981450848801,472.63293084317502,446.33881710027799,28.736117065063699,30.492447151172499,28.796052716146999,3.1890296303908898,4.814652889934,3.1890296303908898,0.20574384712199301,0.31062276709251602,0.20574384712199301,{"$f":"output[[#This Row],[ishp_Program]]-output[[#This Row],[ishp_Baseline]]","v":0.92900259178998112},{"$f":"output[[#This Row],[ishp_Market]]-output[[#This Row],[ishp_Program]]","v":26.294113742897025}]
["All","Chemical","Base",2017,"11-20 HP","Traditional","ASD Control","variable","Pumps",2016,776782.43885114498,839980.27070012002,778274.90265328798,834963.44352109602,902894.79297555902,836567.69286201894,348.093338029694,376.41367992244398,348.76214396658497,22.457634711593101,24.284753543383498,22.5007834817151,0.58120866815376204,1.88698108289054,0.58120866815376204,3.7497333429274998E-2,0.121740715025196,3.7497333429274998E-2,{"$f":"output[[#This Row],[ishp_Program]]-output[[#This Row],[ishp_Baseline]]","v":0.66880593689097623},{"$f":"output[[#This Row],[ishp_Market]]-output[[#This Row],[ishp_Program]]","v":27.651535955859003}]
["All","Chemical","Base",2017,"11-20 HP","Traditional","ASD Control","variable","Pumps",2017,582918.70740675903,626690.54444490501,584170.81862796296,626579.31859152496,673629.66622382798,627925.21294319804,261.21872549188299,280.83385078853001,261.77982413775101,16.8528209994763,18.118312954098698,16.889020912113001,0.28772518492383098,1.23247402412615,0.28772518492383098,1.8562915156376199E-2,7.9514453169429095E-2,1.8562915156376199E-2,{"$f":"output[[#This Row],[ishp_Program]]-output[[#This Row],[ishp_Baseline]]","v":0.5610986458680145},{"$f":"output[[#This Row],[ishp_Market]]-output[[#This Row],[ishp_Program]]","v":19.054026650779008}]
["All","Chemical","Base",2017,"11-20 HP","Traditional","ASD Control","variable","Pumps","2014 and before",3010631.1129540699,3189527.2933383901,3017702.02742201,3236127.3833143301,3428422.8876094399,3243727.9092759201,1334.67604820666,1413.98448491524,1337.8107332029899,86.108132142365207,91.224805478402999,86.310369884064201,365.68673478970999,370.542423881633,365.68673478970999,23.592692567078,23.905962831073001,23.592692567078,{"$f":"output[[#This Row],[ishp_Program]]-output[[#This Row],[ishp_Baseline]]","v":3.1346849963299519},{"$f":"output[[#This Row],[ishp_Market]]-output[[#This Row],[ishp_Program]]","v":76.173751712250123}]
["All","Chemical","Base",2017,"11-20 HP","Traditional","Non ASD Control","constant","Fans",2015,862556.87959912897,850881.230715335,861987.72236832895,927162.389881104,914612.23489591398,926550.60277371702,197.88309039152301,195.20452676505801,197.75251744681299,12.7666509930015,12.5938404364553,12.7582269320524,1.04057160882899,1.01442354546244,1.04057160882899,6.7133652182516004E-2,6.5446680352415895E-2,6.7133652182516004E-2,{"$f":"output[[#This Row],[ishp_Program]]-output[[#This Row],[ishp_Baseline]]","v":-0.13057294471002479},{"$f":"output[[#This Row],[ishp_Market]]-output[[#This Row],[ishp_Program]]","v":-2.5479906817549818}]
["All","Chemical","Base",2017,"11-20 HP","Traditional","Non ASD Control","constant","Fans",2016,569313.50017102901,560539.68462622899,568999.66396751197,611955.08133383899,602524.10700473399,611617.73879867897,132.02324859407,129.98860927769701,131.950470282819,8.5176289415529105,8.3863618888837195,8.5129335666335102,7.0462384738768702E-2,6.9238123175262595E-2,7.0462384738768702E-2,4.5459603057270096E-3,4.4669756887266198E-3,4.5459603057270096E-3,{"$f":"output[[#This Row],[ishp_Program]]-output[[#This Row],[ishp_Baseline]]","v":-7.277831125099965E-2},{"$f":"output[[#This Row],[ishp_Market]]-output[[#This Row],[ishp_Program]]","v":-1.9618610051219889}]
["All","Chemical","Base",2017,"11-20 HP","Traditional","Non ASD Control","constant","Fans",2017,346225.475174869,339694.31626956398,346005.38850034698,372157.76326546702,365137.420558154,371921.19209902303,80.289351938571798,78.774782522066602,80.238314052180598,5.1799581895852702,5.0822440336817198,5.1766654227213298,0,0,0,0,0,0,{"$f":"output[[#This Row],[ishp_Program]]-output[[#This Row],[ishp_Baseline]]","v":-5.103788639119955E-2},{"$f":"output[[#This Row],[ishp_Market]]-output[[#This Row],[ishp_Program]]","v":-1.4635315301139968}]
["All","Chemical","Base",2017,"11-20 HP","Traditional","Non ASD Control","constant","Fans","2014 and before",3244323.4219110198,3202638.9694387098,3242047.0790413599,3487323.24621215,3442516.6282496699,3484876.4052615599,744.29496783530601,734.73194831555998,743.77274168130702,48.019030182922997,47.402061181649003,47.985338172987497,272.15462265677598,271.80416810809999,272.15462265677598,17.558362752050002,17.535752781167702,17.558362752050002,{"$f":"output[[#This Row],[ishp_Program]]-output[[#This Row],[ishp_Baseline]]","v":-0.52222615399898586},{"$f":"output[[#This Row],[ishp_Market]]-output[[#This Row],[ishp_Program]]","v":-9.0407933657470494}]
["All","Chemical","Base",2017,"11-20 HP","Traditional","Non ASD Control","constant","Pumps",2015,1290093.3996303901,1100947.2683975501,1290093.3996303901,1386721.3952627,1183408.2188005301,1386721.3952627,321.110540027838,274.03114534079299,321.110540027838,20.716809034053998,17.679428731664,20.716809034053998,1.63062621895142,0.90204421473465302,1.63062621895142,0.105201691545253,5.8196400950622701E-2,0.105201691545253,{"$f":"output[[#This Row],[ishp_Program]]-output[[#This Row],[ishp_Baseline]]","v":0},{"$f":"output[[#This Row],[ishp_Market]]-output[[#This Row],[ishp_Program]]","v":-47.07939468704501}]
["All","Chemical","Base",2017,"11-20 HP","Traditional","Non ASD Control","constant","Pumps",2016,1005002.60588364,837104.037302354,1005002.60588364,1080277.3010643199,899803.12969630002,1080277.3010643199,252.85909959715499,210.615745573423,252.85909959715499,16.313490296590601,13.588112617640199,16.313490296590601,0.19411257044161001,0.152534598625613,0.19411257044161001,1.25233916413942E-2,9.8409418468137499E-3,1.25233916413942E-2,{"$f":"output[[#This Row],[ishp_Program]]-output[[#This Row],[ishp_Baseline]]","v":0},{"$f":"output[[#This Row],[ishp_Market]]-output[[#This Row],[ishp_Program]]","v":-42.243354023731996}]
["All","Chemical","Base",2017,"11-20 HP","Traditional","Non ASD Control","constant","Pumps",2017,801891.54103898106,649840.98924799298,801891.54103898106,861953.21746280103,698514.07934266794,861953.21746280103,201.75626595854601,163.50027996006699,201.75626595854601,13.0165332876481,10.548405158714001,13.0165332876481,0,0,0,0,0,0,{"$f":"output[[#This Row],[ishp_Program]]-output[[#This Row],[ishp_Baseline]]","v":0},{"$f":"output[[#This Row],[ishp_Market]]-output[[#This Row],[ishp_Program]]","v":-38.255985998479019}]
["All","Chemical","Base",2017,"11-20 HP","Traditional","Non ASD Control","constant","Pumps","2014 and before",4145109.0085107698,3575847.5503222998,4145109.0085107698,4455577.6732482295,3843678.5318414401,4455577.6732482295,1031.7378513668,890.04589766150696,1031.7378513668,66.563732346245203,57.422315978161699,66.563732346245203,349.41700814381198,339.98441458000298,349.41700814381198,22.543032783471698,21.934478360000199,22.543032783471698,{"$f":"output[[#This Row],[ishp_Program]]-output[[#This Row],[ishp_Baseline]]","v":0},{"$f":"output[[#This Row],[ishp_Market]]-output[[#This Row],[ishp_Program]]","v":-141.69195370529303}]
["All","Chemical","Base",2017,"11-20 HP","Traditional","Non ASD Control","variable","Fans",2015,555191.29885214299,464146.72913291602,538423.86468964501,596775.127136169,498911.31914497202,578751.81215490005,139.05901567845899,116.255041130946,134.85926886162099,8.9715493986102608,7.50032523425463,8.7005979910723301,0.81094101072365499,0.60414506239332499,0.81094101072365499,5.2318774885397101E-2,3.8977100799569397E-2,5.2318774885397101E-2,{"$f":"output[[#This Row],[ishp_Program]]-output[[#This Row],[ishp_Baseline]]","v":-4.199746816838001},{"$f":"output[[#This Row],[ishp_Market]]-output[[#This Row],[ishp_Program]]","v":-18.604227730674992}]
["All","Chemical","Base",2017,"11-20 HP","Traditional","Non ASD Control","variable","Fans",2016,375234.99219075398,305768.48069587001,365708.42938039399,403340.09310584102,328670.53989999101,393099.99074098503,95.003110071902,77.415372320342598,92.591146598038705,6.1292329078646404,4.9945401496995201,5.9736223611637804,0.13416174133890299,4.1235113708492602E-2,0.13416174133890299,8.6555962154130899E-3,2.66032991667694E-3,8.6555962154130899E-3,{"$f":"output[[#This Row],[ishp_Program]]-output[[#This Row],[ishp_Baseline]]","v":-2.4119634738632953},{"$f":"output[[#This Row],[ishp_Market]]-output[[#This Row],[ishp_Program]]","v":-15.175774277696107}]
["All","Chemical","Base",2017,"11-20 HP","Traditional","Non ASD Control","variable","Fans",2017,231685.708574522,185299.66358408099,224909.722406702,249038.96814675399,199178.608386529,241755.46061496399,58.658875989376199,46.914719314918599,56.943311681290901,3.78444361221782,3.02675608483346,3.67376204395425,3.8473325478662397E-2,0,3.8473325478662397E-2,2.48215003088144E-3,0,2.48215003088144E-3,{"$f":"output[[#This Row],[ishp_Program]]-output[[#This Row],[ishp_Baseline]]","v":-1.7155643080852983},{"$f":"output[[#This Row],[ishp_Market]]-output[[#This Row],[ishp_Program]]","v":-10.028592366372301}]
["All","Chemical","Base",2017,"11-20 HP","Traditional","Non ASD Control","variable","Fans","2014 and before",2075232.4829583999,1747005.7495673001,2008564.0049649901,2230667.3959319899,1877856.4802098901,2159005.4489368699,519.78441841721701,437.57332008212097,503.085934587027,33.534478607562299,28.2305367794917,32.457157070130798,163.814252318191,161.87434413854999,163.814252318191,10.5686614398833,10.443506073454801,10.5686614398833,{"$f":"output[[#This Row],[ishp_Program]]-output[[#This Row],[ishp_Baseline]]","v":-16.698483830190014},{"$f":"output[[#This Row],[ishp_Market]]-output[[#This Row],[ishp_Program]]","v":-65.512614504906026}]
["All","Chemical","Base",2017,"11-20 HP","Traditional","Non ASD Control","variable","Pumps",2015,462654.04702488601,373699.96522085299,459598.02288365102,497306.83514704998,401690.09261589497,494021.91479763598,140.64247824127401,113.601274138452,139.713475649483,9.0737082736305794,7.3291144605453402,9.0137726225473198,0.767317366631872,0.37394790287665802,0.767317366631872,4.9504346234314302E-2,2.4125671153332799E-2,4.9504346234314302E-2,{"$f":"output[[#This Row],[ishp_Program]]-output[[#This Row],[ishp_Baseline]]","v":-0.92900259179100431},{"$f":"output[[#This Row],[ishp_Market]]-output[[#This Row],[ishp_Program]]","v":-26.112201511031003}]
["All","Chemical","Base",2017,"11-20 HP","Traditional","Non ASD Control","variable","Pumps",2016,374200.08643642301,284142.35504798201,372023.56984048599,402227.67291051103,305424.61744107603,399888.13522153901,114.985219897268,87.312035356440205,114.31641396037701,7.4184012836947204,5.6330345391251697,7.37525251357272,0.15447200195012001,6.3234143449342098E-2,0.15447200195012001,9.9659356096852107E-3,4.07962215802207E-3,9.9659356096852107E-3,{"$f":"output[[#This Row],[ishp_Program]]-output[[#This Row],[ishp_Baseline]]","v":-0.66880593689099044},{"$f":"output[[#This Row],[ishp_Market]]-output[[#This Row],[ishp_Program]]","v":-27.0043786039368}]
["All","Chemical","Base",2017,"11-20 HP","Traditional","Non ASD Control","variable","Pumps",2017,282177.18782265403,220578.734378917,280351.186515957,303312.25919057103,237100.08158389799,301349.490386002,86.708173428744701,67.780033186951698,86.147074782876501,5.5940757050803001,4.3729053669001097,5.5578757924436397,3.2815675001991403E-2,0,3.2815675001991403E-2,2.1171403227091198E-3,0,2.1171403227091198E-3,{"$f":"output[[#This Row],[ishp_Program]]-output[[#This Row],[ishp_Baseline]]","v":-0.56109864586819924},{"$f":"output[[#This Row],[ishp_Market]]-output[[#This Row],[ishp_Program]]","v":-18.367041595924803}]
["All","Chemical","Base",2017,"11-20 HP","Traditional","Non ASD Control","variable","Pumps","2014 and before",1479645.8476315001,1213767.58319725,1469334.06474885,1590471.3216191099,1304678.77517872,1579387.18619854,449.79841907470001,368.97392772747202,446.66373407836602,29.019252843528999,23.804769530804599,28.817015101829998,145.32022088833099,140.942602109961,145.32022088833099,9.3754981218278104,9.0930711038684606,9.3754981218278104,{"$f":"output[[#This Row],[ishp_Program]]-output[[#This Row],[ishp_Baseline]]","v":-3.1346849963339878},{"$f":"output[[#This Row],[ishp_Market]]-output[[#This Row],[ishp_Program]]","v":-77.689806350894003}]
["All","Chemical","Base",2017,"201-500 HP","Traditional","ASD Control","constant","Fans",2015,70768.241122832507,98660.7196281215,77813.831578851707,76068.782382932695,106050.40752826699,83642.0875641077,17.8522389642626,24.888491154248399,19.6295837515502,5.0933634705456803E-2,7.1008533963619003E-2,5.6004518549358798E-2,9.1382722893753099E-2,0.184091269306662,9.1382722893753099E-2,2.6072103536020798E-4,5.2522473411316102E-4,2.6072103536020798E-4,{"$f":"output[[#This Row],[ishp_Program]]-output[[#This Row],[ishp_Baseline]]","v":1.7773447872875998},{"$f":"output[[#This Row],[ishp_Market]]-output[[#This Row],[ishp_Program]]","v":5.258907402698199}]
["All","Chemical","Base",2017,"201-500 HP","Traditional","ASD Control","constant","Fans",2016,45913.648843930001,67550.000500880997,49854.568119807103,49352.581142340401,72609.495538396994,53588.675271980603,11.636328483441901,17.119832874899799,12.6351127747256,3.3199225345055497E-2,4.8844031026818398E-2,3.6048823893653797E-2,6.7949842521270098E-3,5.0523407638872503E-2,6.7949842521270098E-3,1.9386545655141199E-5,1.44146669440435E-4,1.9386545655141199E-5,{"$f":"output[[#This Row],[ishp_Program]]-output[[#This Row],[ishp_Baseline]]","v":0.99878429128369994},{"$f":"output[[#This Row],[ishp_Market]]-output[[#This Row],[ishp_Program]]","v":4.484720100174199}]
["All","Chemical","Base",2017,"201-500 HP","Traditional","ASD Control","constant","Fans",2017,28555.4871165148,42662.4093231734,31329.912896232301,30694.293101541702,45857.823781479099,33676.523372160103,7.2370860617493804,10.8123362285359,7.9402349191939896,2.06478917596273E-2,3.0848320195537699E-2,2.2654022593991401E-2,0,2.7760490281282298E-2,0,0,7.9202540032189301E-5,0,{"$f":"output[[#This Row],[ishp_Program]]-output[[#This Row],[ishp_Baseline]]","v":0.7031488574446092},{"$f":"output[[#This Row],[ishp_Market]]-output[[#This Row],[ishp_Program]]","v":2.8721013093419101}]
["All","Chemical","Base",2017,"201-500 HP","Traditional","ASD Control","constant","Fans","2014 and before",254998.58987400401,351272.51253267901,283127.55485324399,274097.98425556702,377582.823721377,304333.808711752,64.326817930649199,88.613207503995199,71.422727008778693,0.183528724481167,0.252819422265321,0.20377382884102299,18.675199988874599,19.350077290885199,18.675199988874599,5.32815976858051E-2,5.5207067876990701E-2,5.32815976858051E-2,{"$f":"output[[#This Row],[ishp_Program]]-output[[#This Row],[ishp_Baseline]]","v":7.0959090781294947},{"$f":"output[[#This Row],[ishp_Market]]-output[[#This Row],[ishp_Program]]","v":17.190480495216505}]
["All","Chemical","Base",2017,"201-500 HP","Traditional","ASD Control","constant","Pumps",2015,169861.985322564,260100.76703406501,169861.985322564,182584.648023224,279582.31448491698,182584.648023224,42.818489433996596,65.565711620957302,42.818489433996596,0.12216402120969,0.187063371243815,0.12216402120969,0.228655598820037,1.92818529227917,0.228655598820037,6.5236975412278904E-4,5.5012419180575697E-3,6.5236975412278904E-4,{"$f":"output[[#This Row],[ishp_Program]]-output[[#This Row],[ishp_Baseline]]","v":0},{"$f":"output[[#This Row],[ishp_Market]]-output[[#This Row],[ishp_Program]]","v":22.747222186960705}]
["All","Chemical","Base",2017,"201-500 HP","Traditional","ASD Control","constant","Pumps",2016,125050.334876883,206195.61553436,125050.334876883,134416.60495916099,221639.66713788401,134416.60495916099,31.669403233413401,52.219708965583102,31.669403233413401,9.0354930765801394E-2,0.148986330857584,9.0354930765801394E-2,2.7421114198076298E-2,1.30839783804478,2.7421114198076298E-2,7.8234277312628505E-5,3.7329467561905299E-3,7.8234277312628505E-5,{"$f":"output[[#This Row],[ishp_Program]]-output[[#This Row],[ishp_Baseline]]","v":0},{"$f":"output[[#This Row],[ishp_Market]]-output[[#This Row],[ishp_Program]]","v":20.550305732169701}]
["All","Chemical","Base",2017,"201-500 HP","Traditional","ASD Control","constant","Pumps",2017,97899.142078226607,181953.40103264901,97899.142078226607,105231.78781988499,195581.710769995,105231.78781988499,24.793275521677302,46.080289450381798,24.793275521677302,7.0736877379963994E-2,0.13147015535059001,7.0736877379963994E-2,0,1.1358761742262899,0,0,3.2407308822433598E-3,0,{"$f":"output[[#This Row],[ishp_Program]]-output[[#This Row],[ishp_Baseline]]","v":0},{"$f":"output[[#This Row],[ishp_Market]]-output[[#This Row],[ishp_Program]]","v":21.287013928704496}]
["All","Chemical","Base",2017,"201-500 HP","Traditional","ASD Control","constant","Pumps","2014 and before",514877.86535185098,778126.50001763902,514877.86535185098,553442.21746670397,836408.17486896005,553442.21746670397,129.78944285563,196.14866302220199,129.78944285563,0.37029798246970203,0.55962528679658297,0.37029798246970203,40.2732815764139,46.199628697956399,40.2732815764139,0.11490237254326301,0.13181063822526801,0.11490237254326301,{"$f":"output[[#This Row],[ishp_Program]]-output[[#This Row],[ishp_Baseline]]","v":0},{"$f":"output[[#This Row],[ishp_Market]]-output[[#This Row],[ishp_Program]]","v":66.359220166571987}]
["All","Chemical","Base",2017,"201-500 HP","Traditional","ASD Control","variable","Fans",2015,590372.44827729499,635716.99007912201,694992.13966488605,634591.34465326404,683332.19263604796,747047.05092578602,321.59615204183399,346.29688155948003,378.58609165746202,0.91753538385687405,0.98800822128239696,1.0801315025890501,1.8013770598332901,2.56143420218319,1.8013770598332901,5.1394495287683199E-3,7.30794351550127E-3,5.1394495287683199E-3,{"$f":"output[[#This Row],[ishp_Program]]-output[[#This Row],[ishp_Baseline]]","v":56.989939615628032},{"$f":"output[[#This Row],[ishp_Market]]-output[[#This Row],[ishp_Program]]","v":-32.289210097981993}]
["All","Chemical","Base",2017,"201-500 HP","Traditional","ASD Control","variable","Fans",2016,398939.110053104,435256.12989775097,460424.21216051199,428819.64939608099,467856.814027093,494909.98565133498,218.32891229534599,238.20426480073201,251.978096161255,0.62290702509371398,0.67961273837584202,0.71891040274252604,0.17358713463491199,0.70297947764962698,0.17358713463491199,4.9525573362314498E-4,2.0056475824525698E-3,4.9525573362314498E-4,{"$f":"output[[#This Row],[ishp_Program]]-output[[#This Row],[ishp_Baseline]]","v":33.649183865909009},{"$f":"output[[#This Row],[ishp_Market]]-output[[#This Row],[ishp_Program]]","v":-13.773831360522991}]
["All","Chemical","Base",2017,"201-500 HP","Traditional","ASD Control","variable","Fans",2017,250354.67898287499,274893.78292271099,294809.35674278898,269106.244438692,295483.32726362202,316890.57756282401,137.012549968104,150.44215798816899,161.341429231082,0.39090599134979698,0.42922156344698797,0.46031791506728298,6.5164772109728805E-2,0.38625769458628401,6.5164772109728805E-2,1.8591946393645801E-4,1.10201910010352E-3,1.8591946393645801E-4,{"$f":"output[[#This Row],[ishp_Program]]-output[[#This Row],[ishp_Baseline]]","v":24.328879262978006},{"$f":"output[[#This Row],[ishp_Market]]-output[[#This Row],[ishp_Program]]","v":-10.899271242913017}]
["All","Chemical","Base",2017,"201-500 HP","Traditional","ASD Control","variable","Fans","2014 and before",2105129.6875764402,2263412.4827643698,2519658.8651935901,2262803.9011759199,2432942.0777234202,2708381.3141965899,1146.7364526395199,1232.9585282384,1372.5447348853099,3.2717159847061899,3.5177133473278199,3.9159621537384099,266.52679416498199,269.23574363103302,266.52679416498199,0.760418813594813,0.76814762804859704,0.760418813594813,{"$f":"output[[#This Row],[ishp_Program]]-output[[#This Row],[ishp_Baseline]]","v":225.80828224579},{"$f":"output[[#This Row],[ishp_Market]]-output[[#This Row],[ishp_Program]]","v":-139.58620664690989}]
["All","Chemical","Base",2017,"201-500 HP","Traditional","ASD Control","variable","Pumps",2015,413098.39403633098,481178.081141248,695007.54094599898,444039.46374965302,517218.31941872701,747063.60576285503,155.95358819889,181.65514414959,262.38039508399203,0.444946043363452,0.51827430570496602,0.74858885901281802,0.90982622741460495,1.8504983628434599,0.90982622741460495,2.5957952280017201E-3,5.2795958996960596E-3,2.5957952280017201E-3,{"$f":"output[[#This Row],[ishp_Program]]-output[[#This Row],[ishp_Baseline]]","v":106.42680688510202},{"$f":"output[[#This Row],[ishp_Market]]-output[[#This Row],[ishp_Program]]","v":-80.725250934402027}]
["All","Chemical","Base",2017,"201-500 HP","Traditional","ASD Control","variable","Pumps",2016,312395.31763916003,381441.00860683102,507682.56572198198,335793.72693033301,410010.940151483,545707.98989455902,118.485786332462,144.67354435968801,192.55464025978901,0.33804789253199002,0.41276332199625798,0.549371298886703,0.11109662669365,0.72525589786668698,0.11109662669365,3.1696612466091501E-4,2.0692037029006699E-3,3.1696612466091501E-4,{"$f":"output[[#This Row],[ishp_Program]]-output[[#This Row],[ishp_Baseline]]","v":74.068853927327012},{"$f":"output[[#This Row],[ishp_Market]]-output[[#This Row],[ishp_Program]]","v":-47.881095900101002}]
["All","Chemical","Base",2017,"201-500 HP","Traditional","ASD Control","variable","Pumps",2017,238345.021150013,284584.62858679402,405133.16443994502,256197.06323414901,305900.01726794499,435477.638456496,90.399873669062401,107.937704543915,153.65954240540799,0.257916900624999,0.307953507971226,0.43840097690558799,0,0.47369794168562601,0,0,1.3514919876908E-3,0,{"$f":"output[[#This Row],[ishp_Program]]-output[[#This Row],[ishp_Baseline]]","v":63.259668736345589},{"$f":"output[[#This Row],[ishp_Market]]-output[[#This Row],[ishp_Program]]","v":-45.721837861492986}]
["All","Chemical","Base",2017,"201-500 HP","Traditional","ASD Control","variable","Pumps","2014 and before",1245597.0906938,1439549.1655675001,2202433.95242874,1338892.3127867701,1547371.3980685,2367396.25546565,470.23987153702899,543.46097927271205,831.46650437502694,1.3416258817033599,1.5505306113344099,2.3722296843795299,137.84048788368699,142.416943533059,137.84048788368699,0.393268153733774,0.40632508853939903,0.393268153733774,{"$f":"output[[#This Row],[ishp_Program]]-output[[#This Row],[ishp_Baseline]]","v":361.22663283799795},{"$f":"output[[#This Row],[ishp_Market]]-output[[#This Row],[ishp_Program]]","v":-288.00552510231489}]
["All","Chemical","Base",2017,"201-500 HP","Traditional","Non ASD Control","constant","Fans",2015,485272.88378603099,456599.13153587602,477864.279058179,521619.82278160501,490798.40648791299,513656.313559637,116.418308452429,109.539395895223,114.640963665141,0.33214923952191,0.31252324078523103,0.32707835567800703,0.60695043374175695,0.56924572494973902,0.60695043374175695,1.73167028171685E-3,1.6240962195427601E-3,1.73167028171685E-3,{"$f":"output[[#This Row],[ishp_Program]]-output[[#This Row],[ishp_Baseline]]","v":-1.7773447872880013},{"$f":"output[[#This Row],[ishp_Market]]-output[[#This Row],[ishp_Program]]","v":-5.101567769918006}]
["All","Chemical","Base",2017,"201-500 HP","Traditional","Non ASD Control","constant","Fans",2016,324350.59858354501,302642.99028952501,320206.62891037198,348644.45841745299,325310.95026220998,344190.10541575798,78.175350758690001,72.943358279168905,77.176566467406303,0.223039517143195,0.208112291809326,0.220189918594597,4.2066861174835102E-2,3.8853106079171702E-2,4.2066861174835102E-2,1.20019575391826E-4,1.10850516631017E-4,1.20019575391826E-4,{"$f":"output[[#This Row],[ishp_Program]]-output[[#This Row],[ishp_Baseline]]","v":-0.99878429128369817},{"$f":"output[[#This Row],[ishp_Market]]-output[[#This Row],[ishp_Program]]","v":-4.2332081882373984}]
["All","Chemical","Base",2017,"201-500 HP","Traditional","Non ASD Control","constant","Fans",2017,198017.774145351,183405.575875913,195100.399927108,212849.30542883801,197142.653509019,209713.41988164801,47.7264694989628,44.2046208263925,47.023320641518197,0.13616681740074901,0.12611874700825201,0.134160686566385,0,0,0,0,0,0,{"$f":"output[[#This Row],[ishp_Program]]-output[[#This Row],[ishp_Baseline]]","v":-0.70314885744460298},{"$f":"output[[#This Row],[ishp_Market]]-output[[#This Row],[ishp_Program]]","v":-2.8186998151256972}]
["All","Chemical","Base",2017,"201-500 HP","Traditional","Non ASD Control","constant","Fans","2014 and before",1821758.4218287801,1718597.28394678,1792180.1509605499,1958208.1276237599,1847320.2205143899,1926414.4442675,437.044889513729,412.29624690144902,429.94898043559903,1.2469183723644099,1.17630883566747,1.22667326800456,153.109864164177,152.52343206261301,153.109864164177,0.43683270802903701,0.43515957792471799,0.43683270802903701,{"$f":"output[[#This Row],[ishp_Program]]-output[[#This Row],[ishp_Baseline]]","v":-7.0959090781299778},{"$f":"output[[#This Row],[ishp_Market]]-output[[#This Row],[ishp_Program]]","v":-17.652733534150002}]
["All","Chemical","Base",2017,"201-500 HP","Traditional","Non ASD Control","constant","Pumps",2015,2356589.53757605,2247939.7345597101,2356589.53757605,2533098.0939405002,2416310.42067823,2533098.0939405002,495.91406905829598,473.05011033443702,495.91406905829598,1.4148760886114,1.34964368141066,1.4148760886114,1.9421849232450501,1.5571664847661599,1.9421849232450501,5.5411838038375303E-3,4.44270038449689E-3,5.5411838038375303E-3,{"$f":"output[[#This Row],[ishp_Program]]-output[[#This Row],[ishp_Baseline]]","v":0},{"$f":"output[[#This Row],[ishp_Market]]-output[[#This Row],[ishp_Program]]","v":-22.863958723858957}]
["All","Chemical","Base",2017,"201-500 HP","Traditional","Non ASD Control","constant","Pumps",2016,1815554.8776094799,1719711.9118300499,1815554.8776094799,1951539.9379424299,1848518.3340261199,1951539.9379424299,383.84133325768403,363.57838652892099,383.84133325768403,1.0951250592230599,1.0373135136345799,1.0951250592230599,0.281802204097375,0.26331499151284299,0.281802204097375,8.0400058230349701E-4,7.5125532528628504E-4,8.0400058230349701E-4,{"$f":"output[[#This Row],[ishp_Program]]-output[[#This Row],[ishp_Baseline]]","v":0},{"$f":"output[[#This Row],[ishp_Market]]-output[[#This Row],[ishp_Program]]","v":-20.26294672876304}]
["All","Chemical","Base",2017,"201-500 HP","Traditional","Non ASD Control","constant","Pumps",2017,1425112.3335199601,1335006.4510578299,1425112.3335199601,1531853.2473006099,1434998.4342420599,1531853.2473006099,301.29467574151403,282.24465280628601,301.29467574151403,0.85961391081744498,0.80526291813491102,0.85961391081744498,0,0,0,0,0,0,{"$f":"output[[#This Row],[ishp_Program]]-output[[#This Row],[ishp_Baseline]]","v":0},{"$f":"output[[#This Row],[ishp_Market]]-output[[#This Row],[ishp_Program]]","v":-19.050022935228014}]
["All","Chemical","Base",2017,"201-500 HP","Traditional","Non ASD Control","constant","Pumps","2014 and before",7628029.4916388504,7301248.6826887997,7628029.4916388504,8199368.9005626002,7848112.2090221997,8199368.9005626002,1605.2210551635901,1536.45422153703,1605.2210551635901,4.5798032957591701,4.3836069088075096,4.5798032957591701,591.72890188580004,586.90286693159305,591.72890188580004,1.6882422307726099,1.6744732294767199,1.6882422307726099,{"$f":"output[[#This Row],[ishp_Program]]-output[[#This Row],[ishp_Baseline]]","v":0},{"$f":"output[[#This Row],[ishp_Market]]-output[[#This Row],[ishp_Program]]","v":-68.766833626560128}]
["All","Chemical","Base",2017,"201-500 HP","Traditional","Non ASD Control","variable","Fans",2015,341694.05668939202,249070.00622065499,124109.845753998,367286.94153542799,267725.34968658199,133405.67320097299,89.496951888340504,65.236740081264102,32.507012272712402,0.25534080424633498,0.18612479338449101,9.2744685514158196E-2,0.78134497001873904,0.33901716453172698,0.78134497001873904,2.2292295863587399E-3,9.6723870051847996E-4,2.2292295863587399E-3,{"$f":"output[[#This Row],[ishp_Program]]-output[[#This Row],[ishp_Baseline]]","v":-56.989939615628103},{"$f":"output[[#This Row],[ishp_Market]]-output[[#This Row],[ishp_Program]]","v":32.729727808551701}]
["All","Chemical","Base",2017,"201-500 HP","Traditional","Non ASD Control","variable","Fans",2016,237571.681624566,165088.55638970199,109697.213167576,255365.800578247,177453.68926329099,117913.53443382699,62.515162665226498,43.441785175302002,28.865978799317901,0.17835995054272899,0.123942325749791,8.2356572893916999E-2,0.30991855464976498,2.3139163420812899E-2,0.30991855464976498,8.8421841554854597E-4,6.60175846528187E-5,8.8421841554854597E-4,{"$f":"output[[#This Row],[ishp_Program]]-output[[#This Row],[ishp_Baseline]]","v":-33.649183865908597},{"$f":"output[[#This Row],[ishp_Market]]-output[[#This Row],[ishp_Program]]","v":14.575806375984101}]
["All","Chemical","Base",2017,"201-500 HP","Traditional","Non ASD Control","variable","Fans",2017,149606.98908433199,100045.80554207,57151.7748269777,160812.55256674899,107539.23637717099,61432.442761518301,39.367929689708703,26.3262850381298,15.03905042673,0.112319342909297,7.5110656314207699E-2,4.2907419191811701E-2,0.15008708530677101,0,0.15008708530677101,4.2820851728037502E-4,0,4.2820851728037502E-4,{"$f":"output[[#This Row],[ishp_Program]]-output[[#This Row],[ishp_Baseline]]","v":-24.328879262978703},{"$f":"output[[#This Row],[ishp_Market]]-output[[#This Row],[ishp_Program]]","v":11.2872346113998}]
["All","Chemical","Base",2017,"201-500 HP","Traditional","Non ASD Control","variable","Fans","2014 and before",1272892.43410441,937476.67623365403,410769.79901296698,1368232.07741883,1007693.67928355,441536.45695903897,333.397642434359,245.54511074096001,107.589360188564,0.95120582720216595,0.70055666402556305,0.30695965816994197,93.149177652585195,90.836099765317002,93.149177652585195,0.26576084922278198,0.259161482925298,0.26576084922278198,{"$f":"output[[#This Row],[ishp_Program]]-output[[#This Row],[ishp_Baseline]]","v":-225.808282245795},{"$f":"output[[#This Row],[ishp_Market]]-output[[#This Row],[ishp_Program]]","v":137.95575055239601}]
["All","Chemical","Base",2017,"201-500 HP","Traditional","Non ASD Control","variable","Pumps",2015,860430.10476923303,763029.27918268903,446333.36547172698,924876.31961644802,820180.17219347297,479763.73454555898,221.13873379865899,196.105793735585,114.711926913556,0.63092363423297804,0.55950297784760505,0.32728081858361202,0.94847890114981903,0.64553281523945705,0.94847890114981903,2.7060738977170299E-3,1.8417484029656401E-3,2.7060738977170299E-3,{"$f":"output[[#This Row],[ishp_Program]]-output[[#This Row],[ishp_Baseline]]","v":-106.42680688510299},{"$f":"output[[#This Row],[ishp_Market]]-output[[#This Row],[ishp_Program]]","v":81.393866822028997}]
["All","Chemical","Base",2017,"201-500 HP","Traditional","Non ASD Control","variable","Pumps",2016,680765.95510475198,583730.30215713405,393908.24387414701,731755.32514209801,627451.70178870298,423411.971340321,175.77897373243499,150.72362635102201,101.71011980510799,0.50150919752477996,0.430024611557838,0.29018579117006699,0.14098016650390299,0.109158827542812,0.14098016650390299,4.0222586734351898E-4,3.1143745375980601E-4,4.0222586734351898E-4,{"$f":"output[[#This Row],[ishp_Program]]-output[[#This Row],[ishp_Baseline]]","v":-74.068853927326998},{"$f":"output[[#This Row],[ishp_Market]]-output[[#This Row],[ishp_Program]]","v":49.013506545914012}]
["All","Chemical","Base",2017,"201-500 HP","Traditional","Non ASD Control","variable","Pumps",2017,521462.748265701,453147.828829323,276467.41183563898,560520.30811080197,487088.60120863898,297174.82098212797,134.64566793111101,117.006233498329,71.385999194764906,0.384153118205738,0.333826629096516,0.20366904192514901,0,0,0,0,0,0,{"$f":"output[[#This Row],[ishp_Program]]-output[[#This Row],[ishp_Baseline]]","v":-63.2596687363461},{"$f":"output[[#This Row],[ishp_Market]]-output[[#This Row],[ishp_Program]]","v":45.620234303564089}]
["All","Chemical","Base",2017,"201-500 HP","Traditional","Non ASD Control","variable","Pumps","2014 and before",2769807.6459908499,2478298.87689438,1364308.64453043,2977266.2386755599,2663923.4627737701,1466495.36200576,711.86695154574704,636.94642083455403,350.64031870774897,2.0310041413573301,1.8172508440358099,1.00040033868116,247.169644678586,243.304144848292,247.169644678586,0.70519156826986196,0.69416303808357405,0.70519156826986196,{"$f":"output[[#This Row],[ishp_Program]]-output[[#This Row],[ishp_Baseline]]","v":-361.22663283799807},{"$f":"output[[#This Row],[ishp_Market]]-output[[#This Row],[ishp_Program]]","v":286.30610212680506}]
["All","Chemical","Base",2017,"21-50 HP","Traditional","ASD Control","constant","Fans",2015,274392.33880839602,379347.32551267499,284575.40315217403,294944.32498514501,407760.440193574,305890.10084827198,67.194202690186302,92.895964920791798,69.687868848995606,1.8927944419770699,2.6167877442476501,1.9630385591266299,0.34404680937579601,0.68711823427741603,0.34404680937579601,9.6914594190365307E-3,1.93554432190821E-2,9.6914594190365307E-3,{"$f":"output[[#This Row],[ishp_Program]]-output[[#This Row],[ishp_Baseline]]","v":2.4936661588093045},{"$f":"output[[#This Row],[ishp_Market]]-output[[#This Row],[ishp_Program]]","v":23.208096071796191}]
["All","Chemical","Base",2017,"21-50 HP","Traditional","ASD Control","constant","Fans",2016,177723.39536237699,258983.950148587,183411.38197954799,191034.877675019,278381.848014716,197148.894489817,43.849995521898798,63.899550372101999,45.253402131270803,1.23521114146193,1.79998733442541,1.2747437220076301,2.5650393094364898E-2,0.188577952540881,2.5650393094364898E-2,7.2254628434830902E-4,5.3120550011515801E-3,7.2254628434830902E-4,{"$f":"output[[#This Row],[ishp_Program]]-output[[#This Row],[ishp_Baseline]]","v":1.4034066093720057},{"$f":"output[[#This Row],[ishp_Market]]-output[[#This Row],[ishp_Program]]","v":18.646148240831195}]
["All","Chemical","Base",2017,"21-50 HP","Traditional","ASD Control","constant","Fans",2017,110589.868456094,163565.93941442299,114596.76961187601,118873.04960345601,175817.028276564,123180.06765580599,27.2860262807792,40.356902343854202,28.2746558159029,0.76862045861349804,1.1368141505311,0.79646917791275995,0,0.103615663776946,0,0,2.91875109230834E-3,0,{"$f":"output[[#This Row],[ishp_Program]]-output[[#This Row],[ishp_Baseline]]","v":0.98862953512369955},{"$f":"output[[#This Row],[ishp_Market]]-output[[#This Row],[ishp_Program]]","v":12.082246527951302}]
["All","Chemical","Base",2017,"21-50 HP","Traditional","ASD Control","constant","Fans","2014 and before",988391.21788428596,1350631.6258148099,1029033.4012278999,1062421.7201038101,1451793.9345883401,1106108.00297987,242.04086790518099,330.74762808209903,251.99347488109899,6.8180526170473597,9.3168345938619499,7.0984077431295596,69.744720332185395,72.223908234864894,69.744720332185395,1.96464000935733,2.0344762883060499,1.96464000935733,{"$f":"output[[#This Row],[ishp_Program]]-output[[#This Row],[ishp_Baseline]]","v":9.9526069759180018},{"$f":"output[[#This Row],[ishp_Market]]-output[[#This Row],[ishp_Program]]","v":78.754153201000037}]
["All","Chemical","Base",2017,"21-50 HP","Traditional","ASD Control","constant","Pumps",2015,899995.032558696,1161479.5198360099,899995.032558696,967404.66049734305,1248474.33587173,967404.66049734305,262.41254639896499,338.653867370694,262.41254639896499,7.3919027154638197,9.5395455597378707,7.3919027154638197,2.6103380400692999,9.9592819187660506,2.6103380400692999,7.3530649016036606E-2,0.28054315264129698,7.3530649016036606E-2,{"$f":"output[[#This Row],[ishp_Program]]-output[[#This Row],[ishp_Baseline]]","v":0},{"$f":"output[[#This Row],[ishp_Market]]-output[[#This Row],[ishp_Program]]","v":76.24132097172901}]
["All","Chemical","Base",2017,"21-50 HP","Traditional","ASD Control","constant","Pumps",2016,678663.08900085301,918129.82659438998,678663.08900085301,729494.95436701702,986897.75060630997,729494.95436701702,199.37185087588799,269.72034554284102,199.37185087588799,5.61610847537714,7.5977562124743896,5.61610847537714,0.89318175836402902,6.7580138605814302,0.89318175836402902,2.5160049531381099E-2,0.190366587622012,2.5160049531381099E-2,{"$f":"output[[#This Row],[ishp_Program]]-output[[#This Row],[ishp_Baseline]]","v":0},{"$f":"output[[#This Row],[ishp_Market]]-output[[#This Row],[ishp_Program]]","v":70.34849466695303}]
["All","Chemical","Base",2017,"21-50 HP","Traditional","ASD Control","constant","Pumps",2017,550157.54523835296,810186.21130926604,550157.54523835296,591364.34537670505,870869.15853632998,591364.34537670505,161.620588838842,238.009591387471,161.620588838842,4.5526926433476698,6.7044955320414399,4.5526926433476698,0.65208088190235303,5.8669211352387203,0.65208088190235303,1.83684755465451E-2,0.16526538409123101,1.83684755465451E-2,{"$f":"output[[#This Row],[ishp_Program]]-output[[#This Row],[ishp_Baseline]]","v":0},{"$f":"output[[#This Row],[ishp_Market]]-output[[#This Row],[ishp_Program]]","v":76.389002548629009}]
["All","Chemical","Base",2017,"21-50 HP","Traditional","ASD Control","constant","Pumps","2014 and before",2703836.3152270098,3474722.5235740901,2703836.3152270098,2906353.6552375099,3734979.24058979,2906353.6552375099,788.36054295493295,1013.12868677578,788.36054295493295,22.207339238167101,28.538836247205001,22.207339238167101,216.60901421444601,238.62599128188299,216.60901421444601,6.1016623722379197,6.7218589093488301,6.1016623722379197,{"$f":"output[[#This Row],[ishp_Program]]-output[[#This Row],[ishp_Baseline]]","v":0},{"$f":"output[[#This Row],[ishp_Market]]-output[[#This Row],[ishp_Program]]","v":224.76814382084706}]
["All","Chemical","Base",2017,"21-50 HP","Traditional","ASD Control","variable","Fans",2015,2314108.5179175101,2470030.1503190398,2466880.6621398702,2487435.2459095302,2655035.4085779302,2651650.0237341402,1210.9559031809399,1292.5485423023599,1290.90043838975,34.111433892420898,36.409818093024199,36.363392630697398,7.0425073801543903,9.5605193709104306,7.0425073801543903,0.19838048958181301,0.26931040481437801,0.19838048958181301,{"$f":"output[[#This Row],[ishp_Program]]-output[[#This Row],[ishp_Baseline]]","v":79.944535208810066},{"$f":"output[[#This Row],[ishp_Market]]-output[[#This Row],[ishp_Program]]","v":1.6481039126099404}]
["All","Chemical","Base",2017,"21-50 HP","Traditional","ASD Control","variable","Fans",2016,1561644.2567519499,1686312.57502924,1651340.11369614,1678611.41158268,1812617.38689893,1775025.4882119801,823.36394248572606,889.09427613632499,870.65533684708203,23.193350492555599,25.0449091869387,24.525502446396601,0.85917452179778198,2.62386162708912,0.85917452179778198,2.4202099205571301E-2,7.3911595129271201E-2,2.4202099205571301E-2,{"$f":"output[[#This Row],[ishp_Program]]-output[[#This Row],[ishp_Baseline]]","v":47.29139436135597},{"$f":"output[[#This Row],[ishp_Market]]-output[[#This Row],[ishp_Program]]","v":18.438939289242967}]
["All","Chemical","Base",2017,"21-50 HP","Traditional","ASD Control","variable","Fans",2017,981050.66619485104,1065020.8258958301,1045963.27102832,1054531.3610928401,1144790.88575542,1124305.9200283401,517.25080203380799,561.52337015783996,551.47543290067802,14.570445127712899,15.817559722756,15.534519236638801,0.37545645121850502,1.4417017497884299,0.37545645121850502,1.0576238062493099E-2,4.0611316895448897E-2,1.0576238062493099E-2,{"$f":"output[[#This Row],[ishp_Program]]-output[[#This Row],[ishp_Baseline]]","v":34.224630866870029},{"$f":"output[[#This Row],[ishp_Market]]-output[[#This Row],[ishp_Program]]","v":10.047937257161948}]
["All","Chemical","Base",2017,"21-50 HP","Traditional","ASD Control","variable","Fans","2014 and before",8249941.5248311199,8794317.5379670803,8855130.9617500994,8867862.1450409796,9453011.9215608202,9518380.2707851902,4317.1334935416999,4602.0014422800496,4633.8246579816896,121.609394184273,129.63384344450799,130.530272055822,996.02491378587501,1004.91886152376,996.02491378587501,28.057039824954199,28.3075735640498,28.057039824954199,{"$f":"output[[#This Row],[ishp_Program]]-output[[#This Row],[ishp_Baseline]]","v":316.69116443998973},{"$f":"output[[#This Row],[ishp_Market]]-output[[#This Row],[ishp_Program]]","v":-31.823215701640038}]
["All","Chemical","Base",2017,"21-50 HP","Traditional","ASD Control","variable","Pumps",2015,2072449.8282419699,2153316.55902034,2096788.54957711,2227676.3203772898,2314599.9692909601,2253838.0119404402,903.03192980507299,938.26812175369298,913.63708038423397,25.4375191494386,26.430087936723702,25.7362557854714,7.60451765662709,9.5580206734118907,7.60451765662709,0.214211764975411,0.26924001896934902,0.214211764975411,{"$f":"output[[#This Row],[ishp_Program]]-output[[#This Row],[ishp_Baseline]]","v":10.605150579160977},{"$f":"output[[#This Row],[ishp_Market]]-output[[#This Row],[ishp_Program]]","v":24.631041369459012}]
["All","Chemical","Base",2017,"21-50 HP","Traditional","ASD Control","variable","Pumps",2016,1618288.5215711901,1702096.47660943,1635819.93422029,1739498.3318368699,1829583.50270747,1758342.84729339,710.46086901403203,747.25422926659303,718.15750808654604,20.0129822257474,21.049414908918099,20.229788960184301,2.1525435554874202,3.74602377635828,2.1525435554874202,6.0635029732040199E-2,0.105521796517134,6.0635029732040199E-2,{"$f":"output[[#This Row],[ishp_Program]]-output[[#This Row],[ishp_Baseline]]","v":7.6966390725140172},{"$f":"output[[#This Row],[ishp_Market]]-output[[#This Row],[ishp_Program]]","v":29.096721180046984}]
["All","Chemical","Base",2017,"21-50 HP","Traditional","ASD Control","variable","Pumps",2017,1214226.9865470801,1269896.2164135501,1228902.8179210799,1305172.58783946,1365011.4430229301,1320947.63898337,533.06981328951997,557.50971315971003,539.51279534895798,15.016051078578,15.7044989622453,15.1975435309565,1.3111502308809899,2.4467002027641098,1.3111502308809899,3.6933809320591197E-2,6.89211324722286E-2,3.6933809320591197E-2,{"$f":"output[[#This Row],[ishp_Program]]-output[[#This Row],[ishp_Baseline]]","v":6.4429820594380089},{"$f":"output[[#This Row],[ishp_Market]]-output[[#This Row],[ishp_Program]]","v":17.996917810752052}]
["All","Chemical","Base",2017,"21-50 HP","Traditional","ASD Control","variable","Pumps","2014 and before",6206508.33693201,6442116.0839005001,6288562.1116387499,6671375.8113682196,6924630.5785846496,6759575.4138004901,2704.3719584784099,2807.0337047472999,2740.12538300597,76.179491788124196,79.071371964712597,77.186630507210594,729.78520824372504,735.59864621629697,729.78520824372504,20.5573298096824,20.721088625811099,20.5573298096824,{"$f":"output[[#This Row],[ishp_Program]]-output[[#This Row],[ishp_Baseline]]","v":35.753424527560128},{"$f":"output[[#This Row],[ishp_Market]]-output[[#This Row],[ishp_Program]]","v":66.908321741329928}]
["All","Chemical","Base",2017,"21-50 HP","Traditional","Non ASD Control","constant","Fans",2015,1609961.61100416,1502174.8584722299,1599267.68592111,1730547.73566837,1614687.7553717999,1719052.8355966001,375.41938578811897,350.28509925914102,372.92571962930998,10.5751939658625,9.8671858946237094,10.504949848712901,1.9551029662347701,1.82033407832182,1.9551029662347701,5.5073322992528699E-2,5.1277016290755699E-2,5.5073322992528699E-2,{"$f":"output[[#This Row],[ishp_Program]]-output[[#This Row],[ishp_Baseline]]","v":-2.4936661588089919},{"$f":"output[[#This Row],[ishp_Market]]-output[[#This Row],[ishp_Program]]","v":-22.640620370168961}]
["All","Chemical","Base",2017,"21-50 HP","Traditional","Non ASD Control","constant","Fans",2016,1074259.8352375601,992820.58620180096,1068286.4955134999,1154721.8968968601,1067182.84810831,1148301.1540274599,252.39203236352299,233.25828380095899,250.988625754151,7.1096347144654404,6.5706558817171796,7.0701021339197503,0.136043398928482,0.124244469382381,0.136043398928482,3.8322084205206202E-3,3.49984420795441E-3,3.8322084205206202E-3,{"$f":"output[[#This Row],[ishp_Program]]-output[[#This Row],[ishp_Baseline]]","v":-1.4034066093719844},{"$f":"output[[#This Row],[ishp_Market]]-output[[#This Row],[ishp_Program]]","v":-17.73034195319201}]
["All","Chemical","Base",2017,"21-50 HP","Traditional","Non ASD Control","constant","Fans",2017,656259.75376512599,601662.14713781094,652051.83566419606,705413.60932213406,646726.64195843297,700890.51815544395,154.184981675812,141.35754417247699,153.19635214068799,4.3432389204454198,3.9819026527458501,4.3153902011461502,0,0,0,0,0,0,{"$f":"output[[#This Row],[ishp_Program]]-output[[#This Row],[ishp_Baseline]]","v":-0.98862953512400509},{"$f":"output[[#This Row],[ishp_Market]]-output[[#This Row],[ishp_Program]]","v":-11.838807968211}]
["All","Chemical","Base",2017,"21-50 HP","Traditional","Non ASD Control","constant","Fans","2014 and before",6041866.5919290604,5654048.4934774302,5999185.4844337599,6494402.3996645398,6077536.7256388897,6448524.4772178503,1408.8744908277799,1318.44101010185,1398.92188385186,39.686605375430403,37.139183383150801,39.406250249348197,489.85423467791202,487.73945759661802,489.85423467791202,13.7987108359975,13.7391396506089,13.7987108359975,{"$f":"output[[#This Row],[ishp_Program]]-output[[#This Row],[ishp_Baseline]]","v":-9.9526069759199345},{"$f":"output[[#This Row],[ishp_Market]]-output[[#This Row],[ishp_Program]]","v":-80.480873750010005}]
["All","Chemical","Base",2017,"21-50 HP","Traditional","Non ASD Control","constant","Pumps",2015,1608018.1477709301,1292575.4004486599,1608018.1477709301,1728458.70703897,1389389.29794226,1728458.70703897,393.71517483221101,316.48060096642399,393.71517483221101,11.090568305132701,8.9149465060964701,11.090568305132701,3.3021303188168898,1.04177754985654,3.3021303188168898,9.3017755459630896E-2,2.93458464748322E-2,9.3017755459630896E-2,{"$f":"output[[#This Row],[ishp_Program]]-output[[#This Row],[ishp_Baseline]]","v":0},{"$f":"output[[#This Row],[ishp_Market]]-output[[#This Row],[ishp_Program]]","v":-77.234573865787013}]
["All","Chemical","Base",2017,"21-50 HP","Traditional","Non ASD Control","constant","Pumps",2016,1269000.1026522301,986010.79192769504,1269000.1026522301,1364048.2103408901,1059863.0002430701,1364048.2103408901,313.05308894502298,243.24168571851001,313.05308894502298,8.8183968716907994,6.8518784709439604,8.8183968716907994,1.2656784013058899,0.176163338591207,1.2656784013058899,3.56529127128421E-2,4.9623475659495101E-3,3.56529127128421E-2,{"$f":"output[[#This Row],[ishp_Program]]-output[[#This Row],[ishp_Baseline]]","v":0},{"$f":"output[[#This Row],[ishp_Market]]-output[[#This Row],[ishp_Program]]","v":-69.811403226512965}]
["All","Chemical","Base",2017,"21-50 HP","Traditional","Non ASD Control","constant","Pumps",2017,1032337.09235804,765436.79146545206,1032337.09235804,1109659.1405756599,822768.00714621402,1109659.1405756599,254.67004685008601,188.82768524573899,254.67004685008601,7.1738041366221497,5.3190897252320797,7.1738041366221497,0.70803758594768595,0,0.70803758594768595,1.9944720730920702E-2,0,1.9944720730920702E-2,{"$f":"output[[#This Row],[ishp_Program]]-output[[#This Row],[ishp_Baseline]]","v":0},{"$f":"output[[#This Row],[ishp_Market]]-output[[#This Row],[ishp_Program]]","v":-65.842361604347019}]
["All","Chemical","Base",2017,"21-50 HP","Traditional","Non ASD Control","constant","Pumps","2014 and before",5157464.1893539196,4198250.6446731696,5157464.1893539196,5543758.2571365302,4512699.6179591902,5543758.2571365302,1262.77922784464,1027.92060453313,1262.77922784464,35.571245854778603,28.955509986848799,35.571245854778603,408.88105417862897,392.65052047892101,408.88105417862897,11.517776174045901,11.060578041659699,11.517776174045901,{"$f":"output[[#This Row],[ishp_Program]]-output[[#This Row],[ishp_Baseline]]","v":0},{"$f":"output[[#This Row],[ishp_Market]]-output[[#This Row],[ishp_Program]]","v":-234.85862331150997}]
["All","Chemical","Base",2017,"21-50 HP","Traditional","Non ASD Control","variable","Fans",2015,1134082.2638997501,819420.52777380997,820066.06760625995,1219025.02546584,880795.12530406797,881489.01606996905,288.72294023741603,208.61405878635799,208.77840502859999,8.1330405700680792,5.8764523601791199,5.8810818317915698,2.5811501953078499,1.0841091477456899,2.5811501953078499,7.2708456205855101E-2,3.0538285851991299E-2,7.2708456205855101E-2,{"$f":"output[[#This Row],[ishp_Program]]-output[[#This Row],[ishp_Baseline]]","v":-79.944535208816035},{"$f":"output[[#This Row],[ishp_Market]]-output[[#This Row],[ishp_Program]]","v":-0.16434624224200434}]
["All","Chemical","Base",2017,"21-50 HP","Traditional","Non ASD Control","variable","Fans",2016,787436.52134751005,541573.14918556099,603070.76563811803,846415.51679643802,582136.97805955994,648240.76598441298,201.98420754598899,138.91814819464801,154.69281318463399,5.68969598721098,3.9131872730886799,4.3575440333699804,1.0519409490503,7.3994420814460393E-2,1.0519409490503,2.9632139409867701E-2,2.0843498820974698E-3,2.9632139409867701E-2,{"$f":"output[[#This Row],[ishp_Program]]-output[[#This Row],[ishp_Baseline]]","v":-47.291394361355003},{"$f":"output[[#This Row],[ishp_Market]]-output[[#This Row],[ishp_Program]]","v":-15.774664989985979}]
["All","Chemical","Base",2017,"21-50 HP","Traditional","Non ASD Control","variable","Fans",2017,496452.21445185598,328200.34989175701,363027.30662545998,533636.48531430005,352782.55609864998,390218.051891707,127.34424223671,84.186198877036503,93.119611369839802,3.5871617531467699,2.37144222188835,2.6230876442208402,0.51608497968775402,0,0.51608497968775402,1.4537605061626799E-2,0,1.4537605061626799E-2,{"$f":"output[[#This Row],[ishp_Program]]-output[[#This Row],[ishp_Baseline]]","v":-34.2246308668702},{"$f":"output[[#This Row],[ishp_Market]]-output[[#This Row],[ishp_Program]]","v":-8.9334124928032992}]
["All","Chemical","Base",2017,"21-50 HP","Traditional","Non ASD Control","variable","Fans","2014 and before",4223834.8425228102,3084223.7669294798,2979895.4713394302,4540200.0722277705,3315232.1270725001,3203089.6421427499,1075.3347033370301,785.20419786470995,758.643538897045,30.291118403860001,22.118428108865,21.370240532311101,298.17466615059402,290.47569563960599,298.17466615059402,8.3992863704392899,8.1824139616790408,8.3992863704392899,{"$f":"output[[#This Row],[ishp_Program]]-output[[#This Row],[ishp_Baseline]]","v":-316.69116443998507},{"$f":"output[[#This Row],[ishp_Market]]-output[[#This Row],[ishp_Program]]","v":26.560658967664949}]
["All","Chemical","Base",2017,"21-50 HP","Traditional","Non ASD Control","variable","Pumps",2015,554861.93290929205,438745.247895532,519397.02031826298,596421.09168419801,471607.26696290798,558299.85714010103,165.92158049294099,131.19895355390099,155.31642991378001,4.6738473378293302,3.69574517053243,4.3751107017966202,1.0763994420051299,0.43187520486169501,1.0763994420051299,3.03211110423981E-2,1.2165498728498401E-2,3.03211110423981E-2,{"$f":"output[[#This Row],[ishp_Program]]-output[[#This Row],[ishp_Baseline]]","v":-10.605150579160977},{"$f":"output[[#This Row],[ishp_Market]]-output[[#This Row],[ishp_Program]]","v":-24.117476359879021}]
["All","Chemical","Base",2017,"21-50 HP","Traditional","Non ASD Control","variable","Pumps",2016,453279.10270526999,334686.50972455798,427733.38858840399,487229.707497895,359754.52930292801,459770.619393676,136.56794390929801,100.837316819747,128.87130483678499,3.8469843354731901,2.8404877977393701,3.6301776010362001,0.32783686203939499,7.3029580982690398E-2,0.32783686203939499,9.2348411842083193E-3,2.05717129528705E-3,9.2348411842083193E-3,{"$f":"output[[#This Row],[ishp_Program]]-output[[#This Row],[ishp_Baseline]]","v":-7.6966390725130225},{"$f":"output[[#This Row],[ishp_Market]]-output[[#This Row],[ishp_Program]]","v":-28.033988017037984}]
["All","Chemical","Base",2017,"21-50 HP","Traditional","Non ASD Control","variable","Pumps",2017,341492.490989035,259815.988067931,320107.75718512002,367070.27856411401,279276.205574219,344083.82819828502,102.887883153001,78.279662736341606,96.444901093562905,2.8982502296620001,2.20506092215046,2.7167577772834601,0.12538396239538899,0,0.12538396239538899,3.5319426026870198E-3,0,3.5319426026870198E-3,{"$f":"output[[#This Row],[ishp_Program]]-output[[#This Row],[ishp_Baseline]]","v":-6.4429820594380942},{"$f":"output[[#This Row],[ishp_Market]]-output[[#This Row],[ishp_Program]]","v":-18.165238357221298}]
["All","Chemical","Base",2017,"21-50 HP","Traditional","Non ASD Control","variable","Pumps","2014 and before",1773054.7438497101,1425032.9374869301,1653490.9464066499,1905856.5441640599,1531767.9045047001,1777337.4182925101,530.200447988105,426.13072409309501,494.44702346053998,14.935223886988799,12.0036823688196,13.9280851679025,168.510852120208,162.775655891447,168.510852120208,4.7467845667664301,4.5852297434210501,4.7467845667664301,{"$f":"output[[#This Row],[ishp_Program]]-output[[#This Row],[ishp_Baseline]]","v":-35.753424527565016},{"$f":"output[[#This Row],[ishp_Market]]-output[[#This Row],[ishp_Program]]","v":-68.316299367444969}]
["All","Chemical","Base",2017,"501-1,000 HP","Traditional","ASD Control","constant","Fans",2015,0,0,0,0,0,0,0,0,0,0,0,0,0,0,0,0,0,0,{"$f":"output[[#This Row],[ishp_Program]]-output[[#This Row],[ishp_Baseline]]","v":0},{"$f":"output[[#This Row],[ishp_Market]]-output[[#This Row],[ishp_Program]]","v":0}]
["All","Chemical","Base",2017,"501-1,000 HP","Traditional","ASD Control","constant","Fans",2016,0,0,0,0,0,0,0,0,0,0,0,0,0,0,0,0,0,0,{"$f":"output[[#This Row],[ishp_Program]]-output[[#This Row],[ishp_Baseline]]","v":0},{"$f":"output[[#This Row],[ishp_Market]]-output[[#This Row],[ishp_Program]]","v":0}]
["All","Chemical","Base",2017,"501-1,000 HP","Traditional","ASD Control","constant","Fans",2017,0,0,0,0,0,0,0,0,0,0,0,0,0,0,0,0,0,0,{"$f":"output[[#This Row],[ishp_Program]]-output[[#This Row],[ishp_Baseline]]","v":0},{"$f":"output[[#This Row],[ishp_Market]]-output[[#This Row],[ishp_Program]]","v":0}]
["All","Chemical","Base",2017,"501-1,000 HP","Traditional","ASD Control","constant","Fans","2014 and before",0,0,0,0,0,0,0,0,0,0,0,0,0,0,0,0,0,0,{"$f":"output[[#This Row],[ishp_Program]]-output[[#This Row],[ishp_Baseline]]","v":0},{"$f":"output[[#This Row],[ishp_Market]]-output[[#This Row],[ishp_Program]]","v":0}]
["All","Chemical","Base",2017,"501-1,000 HP","Traditional","ASD Control","constant","Pumps",2015,0,0,0,0,0,0,0,0,0,0,0,0,0,0,0,0,0,0,{"$f":"output[[#This Row],[ishp_Program]]-output[[#This Row],[ishp_Baseline]]","v":0},{"$f":"output[[#This Row],[ishp_Market]]-output[[#This Row],[ishp_Program]]","v":0}]
["All","Chemical","Base",2017,"501-1,000 HP","Traditional","ASD Control","constant","Pumps",2016,0,0,0,0,0,0,0,0,0,0,0,0,0,0,0,0,0,0,{"$f":"output[[#This Row],[ishp_Program]]-output[[#This Row],[ishp_Baseline]]","v":0},{"$f":"output[[#This Row],[ishp_Market]]-output[[#This Row],[ishp_Program]]","v":0}]
["All","Chemical","Base",2017,"501-1,000 HP","Traditional","ASD Control","constant","Pumps",2017,0,0,0,0,0,0,0,0,0,0,0,0,0,0,0,0,0,0,{"$f":"output[[#This Row],[ishp_Program]]-output[[#This Row],[ishp_Baseline]]","v":0},{"$f":"output[[#This Row],[ishp_Market]]-output[[#This Row],[ishp_Program]]","v":0}]
["All","Chemical","Base",2017,"501-1,000 HP","Traditional","ASD Control","constant","Pumps","2014 and before",0,0,0,0,0,0,0,0,0,0,0,0,0,0,0,0,0,0,{"$f":"output[[#This Row],[ishp_Program]]-output[[#This Row],[ishp_Baseline]]","v":0},{"$f":"output[[#This Row],[ishp_Market]]-output[[#This Row],[ishp_Program]]","v":0}]
["All","Chemical","Base",2017,"501-1,000 HP","Traditional","ASD Control","variable","Fans",2015,0,0,0,0,0,0,0,0,0,0,0,0,0,0,0,0,0,0,{"$f":"output[[#This Row],[ishp_Program]]-output[[#This Row],[ishp_Baseline]]","v":0},{"$f":"output[[#This Row],[ishp_Market]]-output[[#This Row],[ishp_Program]]","v":0}]
["All","Chemical","Base",2017,"501-1,000 HP","Traditional","ASD Control","variable","Fans",2016,0,0,0,0,0,0,0,0,0,0,0,0,0,0,0,0,0,0,{"$f":"output[[#This Row],[ishp_Program]]-output[[#This Row],[ishp_Baseline]]","v":0},{"$f":"output[[#This Row],[ishp_Market]]-output[[#This Row],[ishp_Program]]","v":0}]
["All","Chemical","Base",2017,"501-1,000 HP","Traditional","ASD Control","variable","Fans",2017,0,0,0,0,0,0,0,0,0,0,0,0,0,0,0,0,0,0,{"$f":"output[[#This Row],[ishp_Program]]-output[[#This Row],[ishp_Baseline]]","v":0},{"$f":"output[[#This Row],[ishp_Market]]-output[[#This Row],[ishp_Program]]","v":0}]
["All","Chemical","Base",2017,"501-1,000 HP","Traditional","ASD Control","variable","Fans","2014 and before",0,0,0,0,0,0,0,0,0,0,0,0,0,0,0,0,0,0,{"$f":"output[[#This Row],[ishp_Program]]-output[[#This Row],[ishp_Baseline]]","v":0},{"$f":"output[[#This Row],[ishp_Market]]-output[[#This Row],[ishp_Program]]","v":0}]
["All","Chemical","Base",2017,"501-1,000 HP","Traditional","ASD Control","variable","Pumps",2015,0,0,0,0,0,0,0,0,0,0,0,0,0,0,0,0,0,0,{"$f":"output[[#This Row],[ishp_Program]]-output[[#This Row],[ishp_Baseline]]","v":0},{"$f":"output[[#This Row],[ishp_Market]]-output[[#This Row],[ishp_Program]]","v":0}]
["All","Chemical","Base",2017,"501-1,000 HP","Traditional","ASD Control","variable","Pumps",2016,0,0,0,0,0,0,0,0,0,0,0,0,0,0,0,0,0,0,{"$f":"output[[#This Row],[ishp_Program]]-output[[#This Row],[ishp_Baseline]]","v":0},{"$f":"output[[#This Row],[ishp_Market]]-output[[#This Row],[ishp_Program]]","v":0}]
["All","Chemical","Base",2017,"501-1,000 HP","Traditional","ASD Control","variable","Pumps",2017,0,0,0,0,0,0,0,0,0,0,0,0,0,0,0,0,0,0,{"$f":"output[[#This Row],[ishp_Program]]-output[[#This Row],[ishp_Baseline]]","v":0},{"$f":"output[[#This Row],[ishp_Market]]-output[[#This Row],[ishp_Program]]","v":0}]
["All","Chemical","Base",2017,"501-1,000 HP","Traditional","ASD Control","variable","Pumps","2014 and before",0,0,0,0,0,0,0,0,0,0,0,0,0,0,0,0,0,0,{"$f":"output[[#This Row],[ishp_Program]]-output[[#This Row],[ishp_Baseline]]","v":0},{"$f":"output[[#This Row],[ishp_Market]]-output[[#This Row],[ishp_Program]]","v":0}]
["All","Chemical","Base",2017,"501-1,000 HP","Traditional","Non ASD Control","constant","Fans",2015,567396.63232598105,567441.11799957801,567396.63232598105,609894.64008719695,609942.45773774595,609894.64008719695,136.120023112853,136.13069534912199,136.120023112853,0.181372449184348,0.18138666935259401,0.181372449184348,0.71811187945678201,0.70743330039947405,0.71811187945678201,9.5684460953601898E-4,9.4261598987271705E-4,9.5684460953601898E-4,{"$f":"output[[#This Row],[ishp_Program]]-output[[#This Row],[ishp_Baseline]]","v":0},{"$f":"output[[#This Row],[ishp_Market]]-output[[#This Row],[ishp_Program]]","v":1.0672236268987945E-2}]
["All","Chemical","Base",2017,"501-1,000 HP","Traditional","Non ASD Control","constant","Fans",2016,376111.26457241201,376111.26457241201,376111.26457241201,404281.99828888499,404281.99828888499,404281.99828888499,90.650765439143498,90.650765439143498,90.650765439143498,0.120787162477206,0.120787162477206,0.120787162477206,4.8286288503882203E-2,4.8284914334291003E-2,4.8286288503882203E-2,6.4338825454872999E-5,6.4336994449421697E-5,6.4338825454872999E-5,{"$f":"output[[#This Row],[ishp_Program]]-output[[#This Row],[ishp_Baseline]]","v":0},{"$f":"output[[#This Row],[ishp_Market]]-output[[#This Row],[ishp_Program]]","v":0}]
["All","Chemical","Base",2017,"501-1,000 HP","Traditional","Non ASD Control","constant","Fans",2017,228453.977802832,227928.30260608401,228453.977802832,245565.180740265,245000.13247128,245565.180740265,55.062237976275,54.935539141525297,55.062237976275,7.3367405697901497E-2,7.31985864643908E-2,7.3367405697901497E-2,0,0,0,0,0,0,{"$f":"output[[#This Row],[ishp_Program]]-output[[#This Row],[ishp_Baseline]]","v":0},{"$f":"output[[#This Row],[ishp_Market]]-output[[#This Row],[ishp_Program]]","v":-0.12669883474970334}]
["All","Chemical","Base",2017,"501-1,000 HP","Traditional","Non ASD Control","constant","Fans","2014 and before",2135312.72226858,2135796.3623660002,2135312.72226858,2295247.6451665,2295767.5099072098,2295247.6451665,512.26743436394099,512.38346096242196,512.26743436394099,0.68256820035168697,0.68272279941695202,0.68256820035168697,189.66539872769599,189.549346096253,189.66539872769599,0.252718719157489,0.25256408540473402,0.252718719157489,{"$f":"output[[#This Row],[ishp_Program]]-output[[#This Row],[ishp_Baseline]]","v":0},{"$f":"output[[#This Row],[ishp_Market]]-output[[#This Row],[ishp_Program]]","v":0.11602659848097119}]
["All","Chemical","Base",2017,"501-1,000 HP","Traditional","Non ASD Control","constant","Pumps",2015,1194649.1136274,1194869.7792386799,1194649.1136274,1284128.33223809,1284365.52570366,1284128.33223809,251.39859682362399,251.445033073742,251.39859682362399,0.334974812556461,0.33503668630745098,0.334974812556461,0.87412985067696503,0.82769619900638003,0.87412985067696503,1.16472998091534E-3,1.1028596922136901E-3,1.16472998091534E-3,{"$f":"output[[#This Row],[ishp_Program]]-output[[#This Row],[ishp_Baseline]]","v":0},{"$f":"output[[#This Row],[ishp_Market]]-output[[#This Row],[ishp_Program]]","v":4.6436250118006228E-2}]
["All","Chemical","Base",2017,"501-1,000 HP","Traditional","Non ASD Control","constant","Pumps",2016,914095.58755140798,914095.58755140798,914095.58755140798,982561.34705900901,982561.34705900901,982561.34705900901,193.256438226027,193.256438226027,193.256438226027,0.25750358191342698,0.25750358191342698,0.25750358191342698,0.13996148651460999,0.139962438023639,0.13996148651460999,1.8649098802746099E-4,1.8649225586094399E-4,1.8649098802746099E-4,{"$f":"output[[#This Row],[ishp_Program]]-output[[#This Row],[ishp_Baseline]]","v":0},{"$f":"output[[#This Row],[ishp_Market]]-output[[#This Row],[ishp_Program]]","v":0}]
["All","Chemical","Base",2017,"501-1,000 HP","Traditional","Non ASD Control","constant","Pumps",2017,712080.69582887099,709609.26529025903,712080.69582887099,765415.539946454,762758.99926049903,765415.539946454,150.54681466522101,150.02430928425201,150.54681466522101,0.20059535598297301,0.199899146281482,0.20059535598297301,0,0,0,0,0,0,{"$f":"output[[#This Row],[ishp_Program]]-output[[#This Row],[ishp_Baseline]]","v":0},{"$f":"output[[#This Row],[ishp_Market]]-output[[#This Row],[ishp_Program]]","v":-0.5225053809689939}]
["All","Chemical","Base",2017,"501-1,000 HP","Traditional","Non ASD Control","constant","Pumps","2014 and before",3878643.0902330899,3880905.3763889498,3878643.0902330899,4169153.4576915498,4171585.18908048,4169153.4576915498,816.21073446705896,816.68680359791006,816.21073446705896,1.08755594199474,1.0881902779452499,1.08755594199474,312.43838209142302,311.96232188246802,312.43838209142302,0.416306971474248,0.41567264741168303,0.416306971474248,{"$f":"output[[#This Row],[ishp_Program]]-output[[#This Row],[ishp_Baseline]]","v":0},{"$f":"output[[#This Row],[ishp_Market]]-output[[#This Row],[ishp_Program]]","v":0.47606913085110136}]
["All","Chemical","Base",2017,"501-1,000 HP","Traditional","Non ASD Control","variable","Fans",2015,309508.87328156701,309533.139746906,309508.87328156701,332691.08789035602,332717.17191394902,332691.08789035602,81.066966775705097,81.073322679878601,81.066966775705097,0.108017277515929,0.108025746408898,0.108017277515929,0.42767515419019297,0.42131547253679802,0.42767515419019297,5.6985363649592698E-4,5.6137971024223599E-4,5.6985363649592698E-4,{"$f":"output[[#This Row],[ishp_Program]]-output[[#This Row],[ishp_Baseline]]","v":0},{"$f":"output[[#This Row],[ishp_Market]]-output[[#This Row],[ishp_Program]]","v":6.3559041735032906E-3}]
["All","Chemical","Base",2017,"501-1,000 HP","Traditional","Non ASD Control","variable","Fans",2016,205164.72445228099,205164.72445228099,205164.72445228099,220531.56231375699,220531.56231375699,220531.56231375699,53.987520880411402,53.987520880411402,53.987520880411402,7.1935404237723405E-2,7.1935404237723405E-2,7.1935404237723405E-2,2.87571428240278E-2,2.8756324430392201E-2,2.87571428240278E-2,3.8317312223887897E-5,3.8316221759350097E-5,3.8317312223887897E-5,{"$f":"output[[#This Row],[ishp_Program]]-output[[#This Row],[ishp_Baseline]]","v":0},{"$f":"output[[#This Row],[ishp_Market]]-output[[#This Row],[ishp_Program]]","v":0}]
["All","Chemical","Base",2017,"501-1,000 HP","Traditional","Non ASD Control","variable","Fans",2017,124619.23324533099,124332.48297473,124619.23324533099,133953.21381540599,133644.98594953699,133953.21381540599,32.792593731180098,32.717137600683699,32.792593731180098,4.3694328755736297E-2,4.3593787609172097E-2,4.3694328755736297E-2,0,0,0,0,0,0,{"$f":"output[[#This Row],[ishp_Program]]-output[[#This Row],[ishp_Baseline]]","v":0},{"$f":"output[[#This Row],[ishp_Market]]-output[[#This Row],[ishp_Program]]","v":-7.5456130496398544E-2}]
["All","Chemical","Base",2017,"501-1,000 HP","Traditional","Non ASD Control","variable","Fans","2014 and before",1164790.5488332999,1165054.3694009499,1164790.5488332999,1252033.3609409099,1252316.9416690799,1252033.3609409099,305.08345599844199,305.15255622476502,305.08345599844199,0.406506936706785,0.40659900896037998,0.406506936706785,112.956185471783,112.88706974139799,112.956185471783,0.15050790868991801,0.150415815778013,0.15050790868991801,{"$f":"output[[#This Row],[ishp_Program]]-output[[#This Row],[ishp_Baseline]]","v":0},{"$f":"output[[#This Row],[ishp_Market]]-output[[#This Row],[ishp_Program]]","v":6.9100226323030256E-2}]
["All","Chemical","Base",2017,"501-1,000 HP","Traditional","Non ASD Control","variable","Pumps",2015,405505.645028289,405580.54664585902,405505.645028289,435878.01784090803,435958.52958963398,435878.01784090803,104.218813814998,104.238064244263,104.218813814998,0.138865841192536,0.138891491331463,0.138865841192536,0.36237583387050298,0.34312648180827199,0.36237583387050298,4.8284588123984399E-4,4.5719717762594602E-4,4.8284588123984399E-4,{"$f":"output[[#This Row],[ishp_Program]]-output[[#This Row],[ishp_Baseline]]","v":0},{"$f":"output[[#This Row],[ishp_Market]]-output[[#This Row],[ishp_Program]]","v":1.925042926499998E-2}]
["All","Chemical","Base",2017,"501-1,000 HP","Traditional","Non ASD Control","variable","Pumps",2016,310275.97695364302,310275.97695364302,310275.97695364302,333515.64762747003,333515.64762747003,333515.64762747003,80.115629158258699,80.115629158258699,80.115629158258699,0.106749672429392,0.106749672429392,0.106749672429392,5.8021883529327002E-2,5.8022277983168599E-2,5.8021883529327002E-2,7.7310970725285802E-5,7.7311496313349297E-5,7.7310970725285802E-5,{"$f":"output[[#This Row],[ishp_Program]]-output[[#This Row],[ishp_Baseline]]","v":0},{"$f":"output[[#This Row],[ishp_Market]]-output[[#This Row],[ishp_Program]]","v":0}]
["All","Chemical","Base",2017,"501-1,000 HP","Traditional","Non ASD Control","variable","Pumps",2017,241705.065178107,240866.17531222801,241705.065178107,259808.77455994699,258907.05184311399,259808.77455994699,62.410095546569202,62.193487770294603,62.410095546569202,8.3158022047394003E-2,8.2869404090998897E-2,8.3158022047394003E-2,0,0,0,0,0,0,{"$f":"output[[#This Row],[ishp_Program]]-output[[#This Row],[ishp_Baseline]]","v":0},{"$f":"output[[#This Row],[ishp_Market]]-output[[#This Row],[ishp_Program]]","v":-0.21660777627459993}]
["All","Chemical","Base",2017,"501-1,000 HP","Traditional","Non ASD Control","variable","Pumps","2014 and before",1316546.967807,1317314.8667627701,1316546.967807,1415156.3356957501,1415981.75028331,1415156.3356957501,338.36511278901401,338.56247013602399,338.36511278901401,0.45085291510861297,0.45111588292608201,0.45085291510861297,129.52322719084199,129.325873542458,129.52322719084199,0.17258258120032299,0.17231961831107001,0.17258258120032299,{"$f":"output[[#This Row],[ishp_Program]]-output[[#This Row],[ishp_Baseline]]","v":0},{"$f":"output[[#This Row],[ishp_Market]]-output[[#This Row],[ishp_Program]]","v":0.19735734700998364}]
["All","Chemical","Base",2017,"51-100 HP","Traditional","ASD Control","constant","Fans",2015,615986.33222115005,780212.47171951598,622763.33572830702,662123.70850451395,838650.38585130696,669408.309574357,153.31760213127501,194.19311608038299,155.004382946047,2.0306967169705299,2.5720942527203099,2.0530381847158599,0.79342315552211395,1.4363770390216399,0.79342315552211395,1.05089159671803E-2,1.9024861443995299E-2,1.05089159671803E-2,{"$f":"output[[#This Row],[ishp_Program]]-output[[#This Row],[ishp_Baseline]]","v":1.6867808147719927},{"$f":"output[[#This Row],[ishp_Market]]-output[[#This Row],[ishp_Program]]","v":39.18873313433599}]
["All","Chemical","Base",2017,"51-100 HP","Traditional","ASD Control","constant","Fans",2016,404720.10058678698,533406.08290876099,408572.14860427298,435033.63612073701,573358.19851862697,439174.20253473299,101.351829613473,133.57795264276999,102.31647681969,1.3424083392513,1.7692444058645,1.35518512343961,6.0597169586549801E-2,0.39421023571043301,6.0597169586549801E-2,8.02611517702646E-4,5.2213276253037597E-3,8.02611517702646E-4,{"$f":"output[[#This Row],[ishp_Program]]-output[[#This Row],[ishp_Baseline]]","v":0.96464720621699485},{"$f":"output[[#This Row],[ishp_Market]]-output[[#This Row],[ishp_Program]]","v":31.261475823079991}]
["All","Chemical","Base",2017,"51-100 HP","Traditional","ASD Control","constant","Fans",2017,252960.32943893099,336882.13879772398,255692.28019933199,271907.058113907,362114.61099367402,274843.63198626199,63.3474645096478,84.363541820003505,64.031611918138694,0.83903926502844794,1.1173979049006999,0.84810082010779797,0,0.21660196587376199,0,0,2.8689002102485002E-3,0,{"$f":"output[[#This Row],[ishp_Program]]-output[[#This Row],[ishp_Baseline]]","v":0.68414740849089384},{"$f":"output[[#This Row],[ishp_Market]]-output[[#This Row],[ishp_Program]]","v":20.331929901864811}]
["All","Chemical","Base",2017,"51-100 HP","Traditional","ASD Control","constant","Fans","2014 and before",2211121.6480962699,2777875.4937454201,2238083.9355062498,2376734.6595386802,2985938.3682269501,2405716.4222756699,550.34316733015601,691.406915125149,557.05401956411401,7.2893134745716104,9.1577074851013105,7.3781989346240202,146.801889882588,150.979494185683,146.801889882588,1.9443958924846101,1.9997283998103701,1.9443958924846101,{"$f":"output[[#This Row],[ishp_Program]]-output[[#This Row],[ishp_Baseline]]","v":6.7108522339580077},{"$f":"output[[#This Row],[ishp_Market]]-output[[#This Row],[ishp_Program]]","v":134.35289556103498}]
["All","Chemical","Base",2017,"51-100 HP","Traditional","ASD Control","constant","Pumps",2015,2171152.2548616501,2907861.63833659,2171152.2548616501,2333771.5587507901,3125660.475048,2333771.5587507901,560.57952093916003,750.793814909106,560.57952093916003,7.4248943170749699,9.9442889391934592,7.4248943170749699,4.1128985038985597,22.079674812515499,4.1128985038985597,5.4475476872828603E-2,0.29244602400682801,5.4475476872828603E-2,{"$f":"output[[#This Row],[ishp_Program]]-output[[#This Row],[ishp_Baseline]]","v":0},{"$f":"output[[#This Row],[ishp_Market]]-output[[#This Row],[ishp_Program]]","v":190.21429396994597}]
["All","Chemical","Base",2017,"51-100 HP","Traditional","ASD Control","constant","Pumps",2016,1629737.4162232899,2301842.1038125898,1629737.4162232899,1751804.7486984101,2474250.0773881502,1751804.7486984101,423.37037058383999,597.96856525204896,423.37037058383999,5.6075545772693998,7.9201134470470098,5.6075545772693998,0.71425345840493504,14.9824806283422,0.71425345840493504,9.4603107073501294E-3,0.19844345203102201,9.4603107073501294E-3,{"$f":"output[[#This Row],[ishp_Program]]-output[[#This Row],[ishp_Baseline]]","v":0},{"$f":"output[[#This Row],[ishp_Market]]-output[[#This Row],[ishp_Program]]","v":174.59819466820898}]
["All","Chemical","Base",2017,"51-100 HP","Traditional","ASD Control","constant","Pumps",2017,1302481.7022478599,2031216.8051849599,1302481.7022478599,1400037.5817462199,2183354.9438933101,1400037.5817462199,338.35644654782499,527.665992684956,338.35644654782499,4.4815423383818001,6.98895354549611,4.4815423383818001,0.41558790101219301,13.0069328163767,0.41558790101219301,5.5044755100952698E-3,0.172277255846049,5.5044755100952698E-3,{"$f":"output[[#This Row],[ishp_Program]]-output[[#This Row],[ishp_Baseline]]","v":0},{"$f":"output[[#This Row],[ishp_Market]]-output[[#This Row],[ishp_Program]]","v":189.30954613713101}]
["All","Chemical","Base",2017,"51-100 HP","Traditional","ASD Control","constant","Pumps","2014 and before",6526554.2852863697,8699260.0020978395,6526554.2852863697,7015393.2012543203,9350834.5762549601,7015393.2012543203,1685.1202703250201,2246.1008865598501,1685.1202703250201,22.319473779139301,29.749680616686799,22.319473779139301,475.17747359114901,529.03254795812802,475.17747359114901,6.2937413720682098,7.0070536153394496,6.2937413720682098,{"$f":"output[[#This Row],[ishp_Program]]-output[[#This Row],[ishp_Baseline]]","v":0},{"$f":"output[[#This Row],[ishp_Market]]-output[[#This Row],[ishp_Program]]","v":560.98061623482999}]
["All","Chemical","Base",2017,"51-100 HP","Traditional","ASD Control","variable","Fans",2015,4940796.9624674702,5060160.3716884898,5042045.2852568999,5310862.6549562803,5439166.3835279504,5419694.4771226402,2638.2537787049,2701.9906551255799,2692.3176822038499,34.9437586583431,35.787955697027598,35.659836850382199,18.320115916930199,19.985658683528499,18.320115916930199,0.242650541946096,0.26471071104011301,0.242650541946096,{"$f":"output[[#This Row],[ishp_Program]]-output[[#This Row],[ishp_Baseline]]","v":54.063903498949912},{"$f":"output[[#This Row],[ishp_Market]]-output[[#This Row],[ishp_Program]]","v":9.6729729217299791}]
["All","Chemical","Base",2017,"51-100 HP","Traditional","ASD Control","variable","Fans",2016,3363446.6577643901,3459468.3122712499,3423516.4682831801,3615368.8124309401,3718582.4888603701,3679937.8517575902,1807.0076129934801,1858.59512971701,1839.28004540086,23.933875668787799,24.6171540359869,24.361325104647101,4.2612778745661499,5.4850161248944298,4.2612778745661499,5.6440766550545099E-2,7.2649220197277195E-2,5.6440766550545099E-2,{"$f":"output[[#This Row],[ishp_Program]]-output[[#This Row],[ishp_Baseline]]","v":32.272432407379938},{"$f":"output[[#This Row],[ishp_Market]]-output[[#This Row],[ishp_Program]]","v":19.315084316149978}]
["All","Chemical","Base",2017,"51-100 HP","Traditional","ASD Control","variable","Fans",2017,2124140.5668444098,2184889.0019880799,2167793.7715329998,2283238.6953010499,2348537.18823699,2330161.5250208201,1141.19192777904,1173.82895043812,1164.64455873478,15.1151248712456,15.5474033170612,15.4257557448315,2.3071384561355499,3.0137859646398102,2.3071384561355499,3.0558125246828501E-2,3.9917694895891503E-2,3.0558125246828501E-2,{"$f":"output[[#This Row],[ishp_Program]]-output[[#This Row],[ishp_Baseline]]","v":23.452630955740005},{"$f":"output[[#This Row],[ishp_Market]]-output[[#This Row],[ishp_Program]]","v":9.1843917033399975}]
["All","Chemical","Base",2017,"51-100 HP","Traditional","ASD Control","variable","Fans","2014 and before",17599477.906060301,18016240.447882,18000150.550451301,18917678.801224198,19365656.857428402,19348361.826680198,9397.6517233180602,9620.1918032153699,9611.6002271967809,124.472208255868,127.419758982985,127.305963274129,2094.9293150016001,2100.7190709913698,2094.9293150016001,27.747408145716602,27.824093655514801,27.747408145716602,{"$f":"output[[#This Row],[ishp_Program]]-output[[#This Row],[ishp_Baseline]]","v":213.94850387872066},{"$f":"output[[#This Row],[ishp_Market]]-output[[#This Row],[ishp_Program]]","v":8.5915760185889667}]
["All","Chemical","Base",2017,"51-100 HP","Traditional","ASD Control","variable","Pumps",2015,5120626.5663562696,5384951.3306436399,5152906.1373917703,5504161.4961763602,5788284.1853088504,5538858.80708241,1978.03025645247,2080.13541380279,1990.49942743108,26.1990762444035,27.5514624344741,26.3642308269017,15.2218852103152,21.1900807750586,15.2218852103152,0.20161437364655899,0.28066332152395601,0.20161437364655899,{"$f":"output[[#This Row],[ishp_Program]]-output[[#This Row],[ishp_Baseline]]","v":12.469170978610009},{"$f":"output[[#This Row],[ishp_Market]]-output[[#This Row],[ishp_Program]]","v":89.635986371710032}]
["All","Chemical","Base",2017,"51-100 HP","Traditional","ASD Control","variable","Pumps",2016,3988749.7979891198,4262528.8037733799,4011926.09133258,4287507.1578585003,4581792.2111760098,4312419.3555733897,1550.2527016322199,1656.6586345341,1559.2603138388399,20.5331483659897,21.942498470650399,20.652454487931699,3.4848666568567501,8.3049147013392801,3.4848666568567501,4.6157174263003302E-2,0.109998870216414,4.6157174263003302E-2,{"$f":"output[[#This Row],[ishp_Program]]-output[[#This Row],[ishp_Baseline]]","v":9.0076122066200242},{"$f":"output[[#This Row],[ishp_Market]]-output[[#This Row],[ishp_Program]]","v":97.398320695260054}]
["All","Chemical","Base",2017,"51-100 HP","Traditional","ASD Control","variable","Pumps",2017,2993133.3375694999,3180177.66598533,3012559.4744501198,3217319.0245534498,3418372.9731676299,3238200.17908643,1163.3001010120599,1235.9960559194899,1170.8501913177099,15.4079483577756,16.3708086876753,15.507949553876999,1.9529775167522401,5.4243212795247002,1.9529775167522401,2.5867251877513101E-2,7.1845314960592099E-2,2.5867251877513101E-2,{"$f":"output[[#This Row],[ishp_Program]]-output[[#This Row],[ishp_Baseline]]","v":7.5500903056499737},{"$f":"output[[#This Row],[ishp_Market]]-output[[#This Row],[ishp_Program]]","v":65.145864601779977}]
["All","Chemical","Base",2017,"51-100 HP","Traditional","ASD Control","variable","Pumps","2014 and before",15340201.525327301,16110256.2615983,15449080.5012892,16489182.619574299,17316914.455591999,16606216.630835701,5925.71677781368,6223.17872855936,5967.7752849032404,78.486314937929507,82.426208325289494,79.043381256996597,1613.0126213931101,1630.81826917444,1613.0126213931101,21.364405581365698,21.600241975820399,21.364405581365698,{"$f":"output[[#This Row],[ishp_Program]]-output[[#This Row],[ishp_Baseline]]","v":42.058507089560408},{"$f":"output[[#This Row],[ishp_Market]]-output[[#This Row],[ishp_Program]]","v":255.40344365611963}]
["All","Chemical","Base",2017,"51-100 HP","Traditional","Non ASD Control","constant","Fans",2015,1164976.0116664299,996037.476277204,1157852.89550445,1252232.7149402499,1070640.68325036,1244576.0773777401,275.87072026661099,235.86543692009101,274.18393945183902,3.6539168247233298,3.1240455221204102,3.6315753569779998,1.50217322013059,1.2257269682095899,1.50217322013059,1.9896334041464799E-2,1.6234794280921699E-2,1.9896334041464799E-2,{"$f":"output[[#This Row],[ishp_Program]]-output[[#This Row],[ishp_Baseline]]","v":-1.6867808147719643},{"$f":"output[[#This Row],[ishp_Market]]-output[[#This Row],[ishp_Program]]","v":-38.31850253174801}]
["All","Chemical","Base",2017,"51-100 HP","Traditional","Non ASD Control","constant","Fans",2016,788386.98798567394,659227.34775203001,784338.20957481605,847437.17338580103,708603.476098657,843085.14147197001,187.83821395093901,157.06510822272199,186.87356674472099,2.4879233635885898,2.08033255924135,2.4751465794002798,0.16861664344885899,8.3660355858016303E-2,0.16861664344885899,2.2333330258127002E-3,1.10808418354988E-3,2.2333330258127002E-3,{"$f":"output[[#This Row],[ishp_Program]]-output[[#This Row],[ishp_Baseline]]","v":-0.96464720621801803},{"$f":"output[[#This Row],[ishp_Market]]-output[[#This Row],[ishp_Program]]","v":-29.808458521999}]
["All","Chemical","Base",2017,"51-100 HP","Traditional","Non ASD Control","constant","Fans",2017,485119.84219813801,399500.31960742502,482248.36624352098,521455.31837877899,429422.89354602102,518368.76887516101,115.58288771797299,95.183491929031803,114.89874030948199,1.5308991750725001,1.2607085023712801,1.52183761999315,3.06332724357503E-2,0,3.06332724357503E-2,4.0573870775828199E-4,0,4.0573870775828199E-4,{"$f":"output[[#This Row],[ishp_Program]]-output[[#This Row],[ishp_Baseline]]","v":-0.68414740849100042},{"$f":"output[[#This Row],[ishp_Market]]-output[[#This Row],[ishp_Program]]","v":-19.715248380450191}]
["All","Chemical","Base",2017,"51-100 HP","Traditional","Non ASD Control","constant","Fans","2014 and before",4357107.7103027198,3748993.7742133201,4328768.4147702204,4683455.0778043903,4029793.4079018999,4652993.1690365104,1031.77956480066,887.77588758059301,1025.06871256671,13.6659545006711,11.758621027557499,13.5770690406186,331.77417813250599,328.42070791052203,331.77417813250599,4.3943599752649796,4.3499431511327398,4.3943599752649796,{"$f":"output[[#This Row],[ishp_Program]]-output[[#This Row],[ishp_Baseline]]","v":-6.7108522339499359},{"$f":"output[[#This Row],[ishp_Market]]-output[[#This Row],[ishp_Program]]","v":-137.29282498611701}]
["All","Chemical","Base",2017,"51-100 HP","Traditional","Non ASD Control","constant","Pumps",2015,5420227.3724741898,4522722.6578156101,5420227.3724741898,5826202.4026725097,4861474.5848859996,5826202.4026725097,1172.4610893827801,978.31990615148902,1172.4610893827801,15.529285952089801,12.957879551675299,15.529285952089801,7.0606437602313896,3.2203923769549099,7.0606437602313896,9.3518460400415795E-2,4.2654203668276998E-2,9.3518460400415795E-2,{"$f":"output[[#This Row],[ishp_Program]]-output[[#This Row],[ishp_Baseline]]","v":0},{"$f":"output[[#This Row],[ishp_Market]]-output[[#This Row],[ishp_Program]]","v":-194.14118323129105}]
["All","Chemical","Base",2017,"51-100 HP","Traditional","Non ASD Control","constant","Pumps",2016,4257435.7127213497,3454896.09290868,4257435.7127213497,4576317.6476041796,3713667.8102675402,4576317.6476041796,926.58423907478402,751.92028332096504,926.58423907478402,12.272638928142801,9.9592090506088091,12.272638928142801,1.5243178794502501,0.54456450206300899,1.5243178794502501,2.0189640787420499E-2,7.2127748617617201E-3,2.0189640787420499E-2,{"$f":"output[[#This Row],[ishp_Program]]-output[[#This Row],[ishp_Baseline]]","v":0},{"$f":"output[[#This Row],[ishp_Market]]-output[[#This Row],[ishp_Program]]","v":-174.66395575381898}]
["All","Chemical","Base",2017,"51-100 HP","Traditional","Non ASD Control","constant","Pumps",2017,3417894.49185785,2682023.9715961101,3417894.49185785,3673894.7892980101,2882907.5670686602,3673894.7892980101,743.86729023600105,583.71313358322595,743.86729023600105,9.85254689054306,7.7312997825592902,9.85254689054306,0.51593914569895105,0,0.51593914569895105,6.8336310688602697E-3,0,6.8336310688602697E-3,{"$f":"output[[#This Row],[ishp_Program]]-output[[#This Row],[ishp_Baseline]]","v":0},{"$f":"output[[#This Row],[ishp_Market]]-output[[#This Row],[ishp_Program]]","v":-160.1541566527751}]
["All","Chemical","Base",2017,"51-100 HP","Traditional","Non ASD Control","constant","Pumps","2014 and before",17399393.945356101,14689683.3308615,17399393.945356101,18702608.551863201,15789940.612343,18702608.551863201,3763.70048300396,3177.5571276317301,3763.70048300396,49.850337523231303,42.086849372605698,49.850337523231303,1253.28681806022,1213.77998895428,1253.28681806022,16.599825404771099,16.0765561450898,16.599825404771099,{"$f":"output[[#This Row],[ishp_Program]]-output[[#This Row],[ishp_Baseline]]","v":0},{"$f":"output[[#This Row],[ishp_Market]]-output[[#This Row],[ishp_Program]]","v":-586.14335537222996}]
["All","Chemical","Base",2017,"51-100 HP","Traditional","Non ASD Control","variable","Fans",2015,783794.00583947101,543327.92876299203,574679.95536160201,842500.17687684705,584023.19062733999,617723.48401818599,202.640441414272,140.470851393299,148.57653791532101,2.68397935648043,1.86054107805695,1.96790116444134,2.0172944548220499,0.72998788227910005,2.0172944548220499,2.67191318519477E-2,9.6687136725708608E-3,2.67191318519477E-2,{"$f":"output[[#This Row],[ishp_Program]]-output[[#This Row],[ishp_Baseline]]","v":-54.063903498950992},{"$f":"output[[#This Row],[ishp_Market]]-output[[#This Row],[ishp_Program]]","v":-8.1056865220220118}]
["All","Chemical","Base",2017,"51-100 HP","Traditional","Non ASD Control","variable","Fans",2016,548979.64642149501,359601.55914690503,424913.97261131101,590098.22193846595,386535.71592700802,456740.029159898,142.80266239694001,93.540917924745699,110.53022998956099,1.8914259920124501,1.2389525552946401,1.4639765561531199,0.91555489480234398,4.9824347173101399E-2,0.91555489480234398,1.2126554898044199E-2,6.5992512812054803E-4,1.2126554898044199E-2,{"$f":"output[[#This Row],[ishp_Program]]-output[[#This Row],[ishp_Baseline]]","v":-32.272432407379014},{"$f":"output[[#This Row],[ishp_Market]]-output[[#This Row],[ishp_Program]]","v":-16.989312064815294}]
["All","Chemical","Base",2017,"51-100 HP","Traditional","Non ASD Control","variable","Fans",2017,347927.40607485001,217923.20707021901,257767.903208262,373987.16878985602,234245.65527977899,277074.71915855998,90.504193064751604,56.687009018570897,67.051562109016302,1.19873103397022,0.75082131150425002,0.88810016038432105,0.47333825812558999,0,0.47333825812558999,6.2693809023256896E-3,0,6.2693809023256896E-3,{"$f":"output[[#This Row],[ishp_Program]]-output[[#This Row],[ishp_Baseline]]","v":-23.452630955735302},{"$f":"output[[#This Row],[ishp_Market]]-output[[#This Row],[ishp_Program]]","v":-10.364553090445405}]
["All","Chemical","Base",2017,"51-100 HP","Traditional","Non ASD Control","variable","Fans","2014 and before",2916293.6772315502,2045036.5280450401,2088761.1584109501,3134724.0736561902,2198209.7639956102,2245209.3691759398,753.97238770015394,528.71941053888895,540.02388382142601,9.9863892410616497,7.0029060998528401,7.1526342228003399,201.79846171451001,195.59261016700199,201.79846171451001,2.6728273074769602,2.5906305982384401,2.6728273074769602,{"$f":"output[[#This Row],[ishp_Program]]-output[[#This Row],[ishp_Baseline]]","v":-213.94850387872793},{"$f":"output[[#This Row],[ishp_Market]]-output[[#This Row],[ishp_Program]]","v":-11.30447328253706}]
["All","Chemical","Base",2017,"51-100 HP","Traditional","Non ASD Control","variable","Pumps",2015,1917950.6000524799,1535170.0743935499,1870751.9139392099,2061605.0999964101,1650154.3129656301,2010871.2322932601,506.69321394229797,405.56845359897198,494.224042963687,6.7111683965867304,5.3717675973373797,6.5460138140885702,2.9863278156712201,1.33503320140077,2.9863278156712201,3.9554010803592402E-2,1.76825589589506E-2,3.9554010803592402E-2,{"$f":"output[[#This Row],[ishp_Program]]-output[[#This Row],[ishp_Baseline]]","v":-12.469170978610975},{"$f":"output[[#This Row],[ishp_Market]]-output[[#This Row],[ishp_Program]]","v":-88.655589364715013}]
["All","Chemical","Base",2017,"51-100 HP","Traditional","Non ASD Control","variable","Pumps",2016,1562962.82639926,1172712.43303127,1529074.8111717999,1680028.7420965701,1260548.5942653101,1643602.51452857,415.443717758849,311.71311614808701,406.43610555222898,5.5025657981304503,4.1286505450077797,5.3832596761884703,0.74500626222208899,0.22575251878028299,0.74500626222208899,9.8676326122131008E-3,2.9900995864938101E-3,9.8676326122131008E-3,{"$f":"output[[#This Row],[ishp_Program]]-output[[#This Row],[ishp_Baseline]]","v":-9.0076122066200242},{"$f":"output[[#This Row],[ishp_Market]]-output[[#This Row],[ishp_Program]]","v":-94.72298940414197}]
["All","Chemical","Base",2017,"51-100 HP","Traditional","Non ASD Control","variable","Pumps",2017,1178159.50704077,910372.63425502903,1149754.91219613,1266403.65411812,978559.54456073104,1235871.5551196199,313.160976992369,241.98182153323299,305.610886686718,4.1478275098327098,3.2050572388507801,4.0478263137313704,0.230356682574125,0,0.230356682574125,3.0510818883990099E-3,0,3.0510818883990099E-3,{"$f":"output[[#This Row],[ishp_Program]]-output[[#This Row],[ishp_Baseline]]","v":-7.5500903056509969},{"$f":"output[[#This Row],[ishp_Market]]-output[[#This Row],[ishp_Program]]","v":-63.629065153485016}]
["All","Chemical","Base",2017,"51-100 HP","Traditional","Non ASD Control","variable","Pumps","2014 and before",6131732.9702311996,4986191.7163738199,5972531.8270342704,6590999.76970152,5359657.4759302204,6419874.4608791396,1619.9100673590699,1317.2755888669799,1577.8515602695099,21.455762481577199,17.447358792940101,20.898696162510099,519.69055409035604,503.17985971077701,519.69055409035604,6.8833185972232602,6.6646339034539999,6.8833185972232602,{"$f":"output[[#This Row],[ishp_Program]]-output[[#This Row],[ishp_Baseline]]","v":-42.058507089559953},{"$f":"output[[#This Row],[ishp_Market]]-output[[#This Row],[ishp_Program]]","v":-260.57597140253006}]
["All","Chemical","Base",2017,"6-10 HP","Traditional","ASD Control","constant","Fans",2015,25403.536598486698,37129.0583782826,25512.3647601915,27306.261489713299,39910.024850816,27423.2408807299,5.9661759430034698,8.7199864485040806,5.9917349023935396,0.74577199287543305,1.0899983060630101,0.748966862799193,3.0571264832824501E-2,6.4498621619656402E-2,3.0571264832824501E-2,3.82140810410306E-3,8.0623277024570502E-3,3.82140810410306E-3,{"$f":"output[[#This Row],[ishp_Program]]-output[[#This Row],[ishp_Baseline]]","v":2.5558959390069802E-2},{"$f":"output[[#This Row],[ishp_Market]]-output[[#This Row],[ishp_Program]]","v":2.728251546110541}]
["All","Chemical","Base",2017,"6-10 HP","Traditional","ASD Control","constant","Fans",2016,16229.2871156077,25195.702883305199,16289.1285037941,17444.860720566699,27082.861029264699,17509.1842287283,3.8635783810933,5.9981422636100001,3.8778243484019499,0.482947297636663,0.74976778295125102,0.48472804355024302,2.2369076864607799E-3,1.7701492115886001E-2,2.2369076864607799E-3,2.79613460807597E-4,2.2126865144857502E-3,2.79613460807597E-4,{"$f":"output[[#This Row],[ishp_Program]]-output[[#This Row],[ishp_Baseline]]","v":1.4245967308649909E-2},{"$f":"output[[#This Row],[ishp_Market]]-output[[#This Row],[ishp_Program]]","v":2.1203179152080502}]
["All","Chemical","Base",2017,"6-10 HP","Traditional","ASD Control","constant","Fans",2017,10061.716206352699,15912.7961750142,10103.6817029307,10815.338750208501,17104.6646085227,10860.447462480201,2.39531341916893,3.7882338790718202,2.4053038139518699,0.29941417739611598,0.47352923488397802,0.30066297674398401,0,9.7262263733205803E-3,0,0,1.2157782966650699E-3,0,{"$f":"output[[#This Row],[ishp_Program]]-output[[#This Row],[ishp_Baseline]]","v":9.9903947829398376E-3},{"$f":"output[[#This Row],[ishp_Market]]-output[[#This Row],[ishp_Program]]","v":1.3829300651199503}]
["All","Chemical","Base",2017,"6-10 HP","Traditional","ASD Control","constant","Fans","2014 and before",91703.896879222899,132194.63301780299,92139.154829942505,98572.518755476704,142096.011030836,99040.377526705197,21.537221060514899,31.0467180916838,21.639444052361601,2.6921526325643699,3.8808397614604799,2.7049305065452001,6.52377514477174,6.7795355977304101,6.52377514477174,0.81547189309646795,0.84744194971630105,0.81547189309646795,{"$f":"output[[#This Row],[ishp_Program]]-output[[#This Row],[ishp_Baseline]]","v":0.10222299184670192},{"$f":"output[[#This Row],[ishp_Market]]-output[[#This Row],[ishp_Program]]","v":9.4072740393221999}]
["All","Chemical","Base",2017,"6-10 HP","Traditional","ASD Control","constant","Pumps",2015,419003.69656530803,574085.471335868,419003.69656530803,450387.07343804999,617084.47313892399,450387.07343804999,124.507167935943,170.58979855099901,124.507167935943,15.5633959919929,21.323724818874901,15.5633959919929,0.828433826339664,5.0167798449359502,0.828433826339664,0.103554228292458,0.627097480616994,0.103554228292458,{"$f":"output[[#This Row],[ishp_Program]]-output[[#This Row],[ishp_Baseline]]","v":0},{"$f":"output[[#This Row],[ishp_Market]]-output[[#This Row],[ishp_Program]]","v":46.082630615056004}]
["All","Chemical","Base",2017,"6-10 HP","Traditional","ASD Control","constant","Pumps",2016,311042.32484606298,451071.94337432599,311042.32484606298,334339.39497703302,484857.23193306301,334339.39497703302,93.688092909830601,135.865979527983,93.688092909830601,11.7110116137288,16.9832474409979,11.7110116137288,0.105261040660828,3.4042080547674201,0.105261040660828,1.31576300826035E-2,0.42552600684592801,1.31576300826035E-2,{"$f":"output[[#This Row],[ishp_Program]]-output[[#This Row],[ishp_Baseline]]","v":0},{"$f":"output[[#This Row],[ishp_Market]]-output[[#This Row],[ishp_Program]]","v":42.177886618152399}]
["All","Chemical","Base",2017,"6-10 HP","Traditional","ASD Control","constant","Pumps",2017,247398.05707188099,398039.861297091,247398.05707188099,265928.17154656502,427853.04690824298,265928.17154656502,74.518000623011801,119.892350745107,74.518000623011801,9.3147500778764698,14.986543843138399,9.3147500778764698,3.3101667823942603E-2,2.9553387426089701,3.3101667823942603E-2,4.1377084779928297E-3,0.36941734282612199,4.1377084779928297E-3,{"$f":"output[[#This Row],[ishp_Program]]-output[[#This Row],[ishp_Baseline]]","v":0},{"$f":"output[[#This Row],[ishp_Market]]-output[[#This Row],[ishp_Program]]","v":45.374350122095194}]
["All","Chemical","Base",2017,"6-10 HP","Traditional","ASD Control","constant","Pumps","2014 and before",1260999.13237319,1717454.0606527601,1260999.13237319,1355447.96738794,1846091.36979566,1355447.96738794,374.70655277857702,510.342373837823,374.70655277857702,46.838319097322199,63.792796729727897,46.838319097322199,107.339048169894,120.20284929228499,107.339048169894,13.4173810212368,15.025356161535599,13.4173810212368,{"$f":"output[[#This Row],[ishp_Program]]-output[[#This Row],[ishp_Baseline]]","v":0},{"$f":"output[[#This Row],[ishp_Market]]-output[[#This Row],[ishp_Program]]","v":135.63582105924598}]
["All","Chemical","Base",2017,"6-10 HP","Traditional","ASD Control","variable","Fans",2015,196088.68036319301,242769.035970375,197733.58434041301,210775.72252239601,260952.43676455601,212543.82980750999,97.999769031559296,121.32933634437801,98.821847131876495,12.2499711289449,15.166167043047199,12.3527308914845,0.50974206185192905,0.89742971533889804,0.50974206185192905,6.3717757731491104E-2,0.112178714417362,6.3717757731491104E-2,{"$f":"output[[#This Row],[ishp_Program]]-output[[#This Row],[ishp_Baseline]]","v":0.8220781003171993},{"$f":"output[[#This Row],[ishp_Market]]-output[[#This Row],[ishp_Program]]","v":22.507489212501511}]
["All","Chemical","Base",2017,"6-10 HP","Traditional","ASD Control","variable","Fans",2016,128331.416077956,164742.57001771301,129263.381412684,137943.43914219399,177081.78851203999,138945.20868049399,65.012059465832095,83.457769623921095,65.484188486247902,8.1265074332290208,10.4322212029901,8.1855235607809895,3.9135521806219098E-2,0.24629743445233901,3.9135521806219098E-2,4.8919402257773803E-3,3.07871793065424E-2,4.8919402257773803E-3,{"$f":"output[[#This Row],[ishp_Program]]-output[[#This Row],[ishp_Baseline]]","v":0.47212902041580662},{"$f":"output[[#This Row],[ishp_Market]]-output[[#This Row],[ishp_Program]]","v":17.973581137673193}]
["All","Chemical","Base",2017,"6-10 HP","Traditional","ASD Control","variable","Fans",2017,80279.854312021795,104046.112552665,80942.736018962401,86292.815399992294,111839.166382859,87005.346946782694,40.669376384587501,52.709245040618399,41.005188972553199,5.0836720480734403,6.5886556300772998,5.1256486215691499,0,0.13533009460268899,0,0,1.6916261825336201E-2,0,{"$f":"output[[#This Row],[ishp_Program]]-output[[#This Row],[ishp_Baseline]]","v":0.33581258796569813},{"$f":"output[[#This Row],[ishp_Market]]-output[[#This Row],[ishp_Program]]","v":11.704056068065199}]
["All","Chemical","Base",2017,"6-10 HP","Traditional","ASD Control","variable","Fans","2014 and before",703220.16119468398,864357.05670793797,709760.41318218596,755891.35126816598,929097.40025536297,762921.46812953195,351.45023796259198,431.98205914427803,354.71887735062899,43.931279745324098,53.997757393034803,44.339859668828701,91.911165100753806,94.330026732647895,91.911165100753806,11.488895637594201,11.7912533415809,11.488895637594201,{"$f":"output[[#This Row],[ishp_Program]]-output[[#This Row],[ishp_Baseline]]","v":3.2686393880370019},{"$f":"output[[#This Row],[ishp_Market]]-output[[#This Row],[ishp_Program]]","v":77.263181793649039}]
["All","Chemical","Base",2017,"6-10 HP","Traditional","ASD Control","variable","Pumps",2015,1003484.2216509,1064816.4303633799,1006474.21106985,1078645.1898525499,1144571.1809976001,1081859.1294789801,445.40981450848898,472.63293084317598,446.73696106819,55.676226813561101,59.079116355396998,55.8421201335237,3.1890296303908898,4.8146528899340497,3.1890296303908898,0.39862870379886101,0.60183161124175599,0.39862870379886101,{"$f":"output[[#This Row],[ishp_Program]]-output[[#This Row],[ishp_Baseline]]","v":1.3271465597010206},{"$f":"output[[#This Row],[ishp_Market]]-output[[#This Row],[ishp_Program]]","v":25.895969774985986}]
["All","Chemical","Base",2017,"6-10 HP","Traditional","ASD Control","variable","Pumps",2016,773674.117820538,836619.06142178795,775797.67733209301,831622.30924529699,899281.82912228,833904.92336426699,348.093338029694,376.413679922445,349.04877508239599,43.511667253711799,47.051709990305604,43.631096885299499,0.58120866815369099,1.88698108289059,0.58120866815369099,7.2651083519211401E-2,0.235872635361324,7.2651083519211401E-2,{"$f":"output[[#This Row],[ishp_Program]]-output[[#This Row],[ishp_Baseline]]","v":0.95543705270199553},{"$f":"output[[#This Row],[ishp_Market]]-output[[#This Row],[ishp_Program]]","v":27.364904840049007}]
["All","Chemical","Base",2017,"6-10 HP","Traditional","ASD Control","variable","Pumps",2017,580586.13861175999,624182.82117317198,582367.71126330295,624072.04039378103,670934.11447904306,625987.05283692398,261.21872549188402,280.83385078853098,262.02029498598102,32.652340686485502,35.104231348566401,32.752536873247699,0.28772518492381599,1.23247402412614,0.28772518492381599,3.5965648115476999E-2,0.15405925301576801,3.5965648115476999E-2,{"$f":"output[[#This Row],[ishp_Program]]-output[[#This Row],[ishp_Baseline]]","v":0.80156949409700928},{"$f":"output[[#This Row],[ishp_Market]]-output[[#This Row],[ishp_Program]]","v":18.813555802549956}]
["All","Chemical","Base",2017,"6-10 HP","Traditional","ASD Control","variable","Pumps","2014 and before",3006952.9493163801,3185630.5677444502,3017041.9146794602,3232173.7252201801,3424234.2972685099,3243018.3540889602,1334.67604820666,1413.9844849152501,1339.1541696299901,166.83450602583301,176.748060614406,167.39427120374901,365.68673478971101,370.542423881633,365.68673478971101,45.710841848713798,46.317802985204203,45.710841848713798,{"$f":"output[[#This Row],[ishp_Program]]-output[[#This Row],[ishp_Baseline]]","v":4.4781214233300943},{"$f":"output[[#This Row],[ishp_Market]]-output[[#This Row],[ishp_Program]]","v":74.830315285259985}]
["All","Chemical","Base",2017,"6-10 HP","Traditional","Non ASD Control","constant","Fans",2015,875701.706415836,863848.12795292703,875588.59910430305,941291.76422638295,928550.35273660102,941170.18517721596,197.88309039152301,195.20452676505801,197.85753143213299,24.735386298940401,24.4005658456323,24.732191429016702,1.04057160882899,1.0144235454624499,1.04057160882899,0.130071451103623,0.12680294318280599,0.130071451103623,{"$f":"output[[#This Row],[ishp_Program]]-output[[#This Row],[ishp_Baseline]]","v":-2.5558959390025393E-2},{"$f":"output[[#This Row],[ishp_Market]]-output[[#This Row],[ishp_Program]]","v":-2.6530046670749812}]
["All","Chemical","Base",2017,"6-10 HP","Traditional","Non ASD Control","constant","Fans",2016,576380.81606466696,567498.08456050802,576318.62169852003,619551.73918791104,610003.69109409,619484.88646373898,132.02324859407,129.98860927769701,132.009002626761,16.5029060742587,16.248576159712201,16.5011253283452,7.0462384738768605E-2,6.9238123175262303E-2,7.0462384738768605E-2,8.8077980923460808E-3,8.6547653969077896E-3,8.8077980923460808E-3,{"$f":"output[[#This Row],[ishp_Program]]-output[[#This Row],[ishp_Baseline]]","v":-1.4245967308994523E-2},{"$f":"output[[#This Row],[ishp_Market]]-output[[#This Row],[ishp_Program]]","v":-2.020393349063994}]
["All","Chemical","Base",2017,"6-10 HP","Traditional","Non ASD Control","constant","Fans",2017,350523.43192936602,343911.19684525602,350479.81633923901,376777.63698087499,369670.14548896602,376730.75458304799,80.289351938571798,78.774782522066701,80.279361543788895,10.0361689923214,9.8468478152583305,10.034920192973599,0,0,0,0,0,0,{"$f":"output[[#This Row],[ishp_Program]]-output[[#This Row],[ishp_Baseline]]","v":-9.9903947829034223E-3},{"$f":"output[[#This Row],[ishp_Market]]-output[[#This Row],[ishp_Program]]","v":-1.5045790217221935}]
["All","Chemical","Base",2017,"6-10 HP","Traditional","Non ASD Control","constant","Fans","2014 and before",3293764.8796595498,3251445.1822293098,3293312.5072601801,3540467.86914605,3494978.4263782902,3539981.6140539702,744.29496783530601,734.73194831555998,744.19274484345999,93.036870979413294,91.841493539444997,93.024093105432499,272.15462265677598,271.80416810809999,272.15462265677598,34.019327832096998,33.975521013512498,34.019327832096998,{"$f":"output[[#This Row],[ishp_Program]]-output[[#This Row],[ishp_Baseline]]","v":-0.1022229918460198},{"$f":"output[[#This Row],[ishp_Market]]-output[[#This Row],[ishp_Program]]","v":-9.4607965279000155}]
["All","Chemical","Base",2017,"6-10 HP","Traditional","Non ASD Control","constant","Pumps",2015,1270821.6204752501,1084501.00751126,1270821.6204752501,1366006.15984884,1165730.13297385,1366006.15984884,321.110540027838,274.03114534079299,321.110540027838,40.1388175034798,34.253893167599102,40.1388175034798,1.63062621895142,0.90204421473466401,1.63062621895142,0.203828277368928,0.112755526841833,0.203828277368928,{"$f":"output[[#This Row],[ishp_Program]]-output[[#This Row],[ishp_Baseline]]","v":0},{"$f":"output[[#This Row],[ishp_Market]]-output[[#This Row],[ishp_Program]]","v":-47.07939468704501}]
["All","Chemical","Base",2017,"6-10 HP","Traditional","Non ASD Control","constant","Pumps",2016,987234.24567997595,822304.109445796,987234.24567997595,1061178.0906813999,883894.68724328699,1061178.0906813999,252.85909959715499,210.615745573423,252.85909959715499,31.607387449644399,26.3269681966779,31.607387449644399,0.19411257044161201,0.152534598625614,0.19411257044161201,2.4264071305201501E-2,1.9066824828201798E-2,2.4264071305201501E-2,{"$f":"output[[#This Row],[ishp_Program]]-output[[#This Row],[ishp_Baseline]]","v":0},{"$f":"output[[#This Row],[ishp_Market]]-output[[#This Row],[ishp_Program]]","v":-42.243354023731996}]
["All","Chemical","Base",2017,"6-10 HP","Traditional","Non ASD Control","constant","Pumps",2017,787714.16710777197,638351.85608110705,787714.16710777197,846713.95822414395,686164.41010158195,846713.95822414395,201.75626595854601,163.50027996006699,201.75626595854601,25.219533244818301,20.437534995008299,25.219533244818301,0,0,0,0,0,0,{"$f":"output[[#This Row],[ishp_Program]]-output[[#This Row],[ishp_Baseline]]","v":0},{"$f":"output[[#This Row],[ishp_Market]]-output[[#This Row],[ishp_Program]]","v":-38.255985998479019}]
["All","Chemical","Base",2017,"6-10 HP","Traditional","Non ASD Control","constant","Pumps","2014 and before",4083188.2007546099,3522430.5308243302,4083188.2007546099,4389018.9969911398,3786260.5775830699,4389018.9969911398,1031.7378513668,890.04589766150798,1031.7378513668,128.96723142085,111.255737207688,128.96723142085,349.41700814381198,339.98441458000298,349.41700814381198,43.677126017976498,42.4980518225004,43.677126017976498,{"$f":"output[[#This Row],[ishp_Program]]-output[[#This Row],[ishp_Baseline]]","v":0},{"$f":"output[[#This Row],[ishp_Market]]-output[[#This Row],[ishp_Program]]","v":-141.69195370529201}]
["All","Chemical","Base",2017,"6-10 HP","Traditional","Non ASD Control","variable","Fans",2015,563652.06665327202,471220.03469257901,560319.91290593403,605869.60644560202,506514.41529105301,602287.87438258796,139.05901567845899,116.255041130946,138.23693757814101,17.382376959807299,14.531880141368299,17.279617197267701,0.81094101072367297,0.60414506239332899,0.81094101072367297,0.101367626340459,7.5518132799166193E-2,0.101367626340459,{"$f":"output[[#This Row],[ishp_Program]]-output[[#This Row],[ishp_Baseline]]","v":-0.8220781003179809},{"$f":"output[[#This Row],[ishp_Market]]-output[[#This Row],[ishp_Program]]","v":-21.981896447195012}]
["All","Chemical","Base",2017,"6-10 HP","Traditional","Non ASD Control","variable","Fans",2016,379893.06585906202,309564.21440453298,378005.14302252402,408347.05649190501,332750.574063432,406317.72823491198,95.003110071902,77.415372320342698,94.530981051486194,11.8753887589877,9.6769215400428301,11.8163726314357,0.13416174133891701,4.1235113708492602E-2,0.13416174133891701,1.6770217667364602E-2,5.1543892135615804E-3,1.6770217667364602E-2,{"$f":"output[[#This Row],[ishp_Program]]-output[[#This Row],[ishp_Baseline]]","v":-0.47212902041580662},{"$f":"output[[#This Row],[ishp_Market]]-output[[#This Row],[ishp_Program]]","v":-17.115608731143496}]
["All","Chemical","Base",2017,"6-10 HP","Traditional","Non ASD Control","variable","Fans",2017,234561.79721469199,187599.927423143,233218.96882202401,252130.475826073,201651.16198713699,250687.06958679401,58.658875989376199,46.9147193149185,58.3230634014106,7.3323594986720204,5.8643399143648196,7.2903829251763197,3.8473325478676601E-2,0,3.8473325478676601E-2,4.8091656848345803E-3,0,4.8091656848345803E-3,{"$f":"output[[#This Row],[ishp_Program]]-output[[#This Row],[ishp_Baseline]]","v":-0.33581258796559865},{"$f":"output[[#This Row],[ishp_Market]]-output[[#This Row],[ishp_Program]]","v":-11.4083440864921}]
["All","Chemical","Base",2017,"6-10 HP","Traditional","Non ASD Control","variable","Fans","2014 and before",2106857.7267400902,1773629.0234278301,2093608.85296357,2264661.3704729299,1906473.8372825801,2250420.15605054,519.78441841721701,437.573320082122,516.51577902917995,64.973052302152098,54.6966650102652,64.564472378647494,163.814252318191,161.87434413854999,163.814252318191,20.476781539773899,20.234293017318802,20.476781539773899,{"$f":"output[[#This Row],[ishp_Program]]-output[[#This Row],[ishp_Baseline]]","v":-3.2686393880370588},{"$f":"output[[#This Row],[ishp_Market]]-output[[#This Row],[ishp_Program]]","v":-78.942458947057958}]
["All","Chemical","Base",2017,"6-10 HP","Traditional","Non ASD Control","variable","Pumps",2015,455742.79034994403,368117.529714957,451442.258363556,489877.92534715403,395689.53269060701,485255.28351498698,140.64247824127401,113.601274138452,139.31533168157301,17.580309780159201,14.200159267306599,17.414416460196598,0.76731736663184502,0.37394790287666102,0.76731736663184502,9.59146708289806E-2,4.6743487859582697E-2,9.59146708289806E-2,{"$f":"output[[#This Row],[ishp_Program]]-output[[#This Row],[ishp_Baseline]]","v":-1.3271465597009922},{"$f":"output[[#This Row],[ishp_Market]]-output[[#This Row],[ishp_Program]]","v":-25.714057543121015}]
["All","Chemical","Base",2017,"6-10 HP","Traditional","Non ASD Control","variable","Pumps",2016,367584.26088023098,279118.74248812097,364529.92378239601,395116.32202015998,300024.73630048201,391833.21507369803,114.985219897268,87.312035356440205,114.029782844566,14.373152487158499,10.914004419555001,14.2537228555708,0.15447200195010699,6.3234143449341904E-2,0.15447200195010699,1.9309000243763301E-2,7.9042679311677397E-3,1.9309000243763301E-2,{"$f":"output[[#This Row],[ishp_Program]]-output[[#This Row],[ishp_Baseline]]","v":-0.95543705270199553},{"$f":"output[[#This Row],[ishp_Market]]-output[[#This Row],[ishp_Program]]","v":-26.717747488125795}]
["All","Chemical","Base",2017,"6-10 HP","Traditional","Non ASD Control","variable","Pumps",2017,277188.31925143098,216678.92120155101,274625.86530913098,297949.724363363,232908.17239954701,295195.342620785,86.708173428744701,67.780033186951798,85.906603934647293,10.838521678593001,8.47250414836898,10.738325491830899,3.2815675001984297E-2,0,3.2815675001984297E-2,4.1019593752480397E-3,0,4.1019593752480397E-3,{"$f":"output[[#This Row],[ishp_Program]]-output[[#This Row],[ishp_Baseline]]","v":-0.80156949409740719},{"$f":"output[[#This Row],[ishp_Market]]-output[[#This Row],[ishp_Program]]","v":-18.126570747695496}]
["All","Chemical","Base",2017,"6-10 HP","Traditional","Non ASD Control","variable","Pumps","2014 and before",1457542.4805330101,1195635.9806204501,1443031.4197317699,1566712.4123249401,1285189.11556892,1551114.4730696799,449.79841907470097,368.97392772747202,445.32029765136599,56.2248023843376,46.121740965934002,55.665037206420699,145.32022088833099,140.942602109961,145.32022088833099,18.1650276110413,17.6178252637451,18.1650276110413,{"$f":"output[[#This Row],[ishp_Program]]-output[[#This Row],[ishp_Baseline]]","v":-4.4781214233349829},{"$f":"output[[#This Row],[ishp_Market]]-output[[#This Row],[ishp_Program]]","v":-76.346369923893974}]
["All","Chemical","Base",2018,"1,001+ HP","Traditional","ASD Control","constant","Fans",2015,0,0,0,0,0,0,0,0,0,0,0,0,0,0,0,0,0,0,{"$f":"output[[#This Row],[ishp_Program]]-output[[#This Row],[ishp_Baseline]]","v":0},{"$f":"output[[#This Row],[ishp_Market]]-output[[#This Row],[ishp_Program]]","v":0}]
["All","Chemical","Base",2018,"1,001+ HP","Traditional","ASD Control","constant","Fans",2016,0,0,0,0,0,0,0,0,0,0,0,0,0,0,0,0,0,0,{"$f":"output[[#This Row],[ishp_Program]]-output[[#This Row],[ishp_Baseline]]","v":0},{"$f":"output[[#This Row],[ishp_Market]]-output[[#This Row],[ishp_Program]]","v":0}]
["All","Chemical","Base",2018,"1,001+ HP","Traditional","ASD Control","constant","Fans",2017,0,0,0,0,0,0,0,0,0,0,0,0,0,0,0,0,0,0,{"$f":"output[[#This Row],[ishp_Program]]-output[[#This Row],[ishp_Baseline]]","v":0},{"$f":"output[[#This Row],[ishp_Market]]-output[[#This Row],[ishp_Program]]","v":0}]
["All","Chemical","Base",2018,"1,001+ HP","Traditional","ASD Control","constant","Fans",2018,0,0,0,0,0,0,0,0,0,0,0,0,0,0,0,0,0,0,{"$f":"output[[#This Row],[ishp_Program]]-output[[#This Row],[ishp_Baseline]]","v":0},{"$f":"output[[#This Row],[ishp_Market]]-output[[#This Row],[ishp_Program]]","v":0}]
["All","Chemical","Base",2018,"1,001+ HP","Traditional","ASD Control","constant","Fans","2014 and before",0,0,0,0,0,0,0,0,0,0,0,0,0,0,0,0,0,0,{"$f":"output[[#This Row],[ishp_Program]]-output[[#This Row],[ishp_Baseline]]","v":0},{"$f":"output[[#This Row],[ishp_Market]]-output[[#This Row],[ishp_Program]]","v":0}]
["All","Chemical","Base",2018,"1,001+ HP","Traditional","ASD Control","constant","Pumps",2015,0,0,0,0,0,0,0,0,0,0,0,0,0,0,0,0,0,0,{"$f":"output[[#This Row],[ishp_Program]]-output[[#This Row],[ishp_Baseline]]","v":0},{"$f":"output[[#This Row],[ishp_Market]]-output[[#This Row],[ishp_Program]]","v":0}]
["All","Chemical","Base",2018,"1,001+ HP","Traditional","ASD Control","constant","Pumps",2016,0,0,0,0,0,0,0,0,0,0,0,0,0,0,0,0,0,0,{"$f":"output[[#This Row],[ishp_Program]]-output[[#This Row],[ishp_Baseline]]","v":0},{"$f":"output[[#This Row],[ishp_Market]]-output[[#This Row],[ishp_Program]]","v":0}]
["All","Chemical","Base",2018,"1,001+ HP","Traditional","ASD Control","constant","Pumps",2017,0,0,0,0,0,0,0,0,0,0,0,0,0,0,0,0,0,0,{"$f":"output[[#This Row],[ishp_Program]]-output[[#This Row],[ishp_Baseline]]","v":0},{"$f":"output[[#This Row],[ishp_Market]]-output[[#This Row],[ishp_Program]]","v":0}]
["All","Chemical","Base",2018,"1,001+ HP","Traditional","ASD Control","constant","Pumps",2018,0,0,0,0,0,0,0,0,0,0,0,0,0,0,0,0,0,0,{"$f":"output[[#This Row],[ishp_Program]]-output[[#This Row],[ishp_Baseline]]","v":0},{"$f":"output[[#This Row],[ishp_Market]]-output[[#This Row],[ishp_Program]]","v":0}]
["All","Chemical","Base",2018,"1,001+ HP","Traditional","ASD Control","constant","Pumps","2014 and before",0,0,0,0,0,0,0,0,0,0,0,0,0,0,0,0,0,0,{"$f":"output[[#This Row],[ishp_Program]]-output[[#This Row],[ishp_Baseline]]","v":0},{"$f":"output[[#This Row],[ishp_Market]]-output[[#This Row],[ishp_Program]]","v":0}]
["All","Chemical","Base",2018,"1,001+ HP","Traditional","ASD Control","variable","Fans",2015,0,0,0,0,0,0,0,0,0,0,0,0,0,0,0,0,0,0,{"$f":"output[[#This Row],[ishp_Program]]-output[[#This Row],[ishp_Baseline]]","v":0},{"$f":"output[[#This Row],[ishp_Market]]-output[[#This Row],[ishp_Program]]","v":0}]
["All","Chemical","Base",2018,"1,001+ HP","Traditional","ASD Control","variable","Fans",2016,0,0,0,0,0,0,0,0,0,0,0,0,0,0,0,0,0,0,{"$f":"output[[#This Row],[ishp_Program]]-output[[#This Row],[ishp_Baseline]]","v":0},{"$f":"output[[#This Row],[ishp_Market]]-output[[#This Row],[ishp_Program]]","v":0}]
["All","Chemical","Base",2018,"1,001+ HP","Traditional","ASD Control","variable","Fans",2017,0,0,0,0,0,0,0,0,0,0,0,0,0,0,0,0,0,0,{"$f":"output[[#This Row],[ishp_Program]]-output[[#This Row],[ishp_Baseline]]","v":0},{"$f":"output[[#This Row],[ishp_Market]]-output[[#This Row],[ishp_Program]]","v":0}]
["All","Chemical","Base",2018,"1,001+ HP","Traditional","ASD Control","variable","Fans",2018,0,0,0,0,0,0,0,0,0,0,0,0,0,0,0,0,0,0,{"$f":"output[[#This Row],[ishp_Program]]-output[[#This Row],[ishp_Baseline]]","v":0},{"$f":"output[[#This Row],[ishp_Market]]-output[[#This Row],[ishp_Program]]","v":0}]
["All","Chemical","Base",2018,"1,001+ HP","Traditional","ASD Control","variable","Fans","2014 and before",0,0,0,0,0,0,0,0,0,0,0,0,0,0,0,0,0,0,{"$f":"output[[#This Row],[ishp_Program]]-output[[#This Row],[ishp_Baseline]]","v":0},{"$f":"output[[#This Row],[ishp_Market]]-output[[#This Row],[ishp_Program]]","v":0}]
["All","Chemical","Base",2018,"1,001+ HP","Traditional","ASD Control","variable","Pumps",2015,0,0,0,0,0,0,0,0,0,0,0,0,0,0,0,0,0,0,{"$f":"output[[#This Row],[ishp_Program]]-output[[#This Row],[ishp_Baseline]]","v":0},{"$f":"output[[#This Row],[ishp_Market]]-output[[#This Row],[ishp_Program]]","v":0}]
["All","Chemical","Base",2018,"1,001+ HP","Traditional","ASD Control","variable","Pumps",2016,0,0,0,0,0,0,0,0,0,0,0,0,0,0,0,0,0,0,{"$f":"output[[#This Row],[ishp_Program]]-output[[#This Row],[ishp_Baseline]]","v":0},{"$f":"output[[#This Row],[ishp_Market]]-output[[#This Row],[ishp_Program]]","v":0}]
["All","Chemical","Base",2018,"1,001+ HP","Traditional","ASD Control","variable","Pumps",2017,0,0,0,0,0,0,0,0,0,0,0,0,0,0,0,0,0,0,{"$f":"output[[#This Row],[ishp_Program]]-output[[#This Row],[ishp_Baseline]]","v":0},{"$f":"output[[#This Row],[ishp_Market]]-output[[#This Row],[ishp_Program]]","v":0}]
["All","Chemical","Base",2018,"1,001+ HP","Traditional","ASD Control","variable","Pumps",2018,0,0,0,0,0,0,0,0,0,0,0,0,0,0,0,0,0,0,{"$f":"output[[#This Row],[ishp_Program]]-output[[#This Row],[ishp_Baseline]]","v":0},{"$f":"output[[#This Row],[ishp_Market]]-output[[#This Row],[ishp_Program]]","v":0}]
["All","Chemical","Base",2018,"1,001+ HP","Traditional","ASD Control","variable","Pumps","2014 and before",0,0,0,0,0,0,0,0,0,0,0,0,0,0,0,0,0,0,{"$f":"output[[#This Row],[ishp_Program]]-output[[#This Row],[ishp_Baseline]]","v":0},{"$f":"output[[#This Row],[ishp_Market]]-output[[#This Row],[ishp_Program]]","v":0}]
["All","Chemical","Base",2018,"1,001+ HP","Traditional","Non ASD Control","constant","Fans",2015,208912.01715602999,208959.37979960299,208912.01715602999,224559.527241017,224610.437346594,224559.527241017,50.1185713550272,50.129933784358897,50.1185713550272,5.0118571355027203E-2,5.0129933784358899E-2,5.0118571355027203E-2,0.73190326000919104,0.72153532885657201,0.73190326000919104,7.3190326000919105E-4,7.21535328856572E-4,7.3190326000919105E-4,{"$f":"output[[#This Row],[ishp_Program]]-output[[#This Row],[ishp_Baseline]]","v":0},{"$f":"output[[#This Row],[ishp_Market]]-output[[#This Row],[ishp_Program]]","v":1.1362429331697399E-2}]
["All","Chemical","Base",2018,"1,001+ HP","Traditional","Non ASD Control","constant","Fans",2016,138311.86407895401,138336.90806430901,138311.86407895401,148671.422698468,148698.342478326,148671.422698468,33.336083040017797,33.342119169897202,33.336083040017797,3.3336083040017797E-2,3.3342119169897197E-2,3.3336083040017797E-2,0.35616124552740902,0.35083327620321703,0.35616124552740902,3.5616124552740903E-4,3.5083327620321698E-4,3.5616124552740903E-4,{"$f":"output[[#This Row],[ishp_Program]]-output[[#This Row],[ishp_Baseline]]","v":0},{"$f":"output[[#This Row],[ishp_Market]]-output[[#This Row],[ishp_Program]]","v":6.0361298794049389E-3}]
["All","Chemical","Base",2018,"1,001+ HP","Traditional","Non ASD Control","constant","Fans",2017,82755.701836143504,82509.357749553805,82755.701836143504,88954.103903670693,88689.308644995399,88954.103903670693,19.945873528751001,19.8864993963752,19.945873528751001,1.9945873528751001E-2,1.9886499396375198E-2,1.9945873528751001E-2,0.15935593138742399,0.15538426846610801,0.15935593138742399,1.5935593138742399E-4,1.5538426846610799E-4,1.5935593138742399E-4,{"$f":"output[[#This Row],[ishp_Program]]-output[[#This Row],[ishp_Baseline]]","v":0},{"$f":"output[[#This Row],[ishp_Market]]-output[[#This Row],[ishp_Program]]","v":-5.9374132375801025E-2}]
["All","Chemical","Base",2018,"1,001+ HP","Traditional","Non ASD Control","constant","Fans",2018,59216.1927142727,59162.044159439203,59216.1927142727,63651.4855485718,63593.281266981197,63651.4855485718,14.272354224868399,14.2593032784984,14.272354224868399,1.4272354224868399E-2,1.4259303278498401E-2,1.4272354224868399E-2,1.41702251463593E-2,1.1563856658354601E-2,1.41702251463593E-2,1.4170225146359299E-5,1.1563856658354601E-5,1.4170225146359299E-5,{"$f":"output[[#This Row],[ishp_Program]]-output[[#This Row],[ishp_Baseline]]","v":0},{"$f":"output[[#This Row],[ishp_Market]]-output[[#This Row],[ishp_Program]]","v":-1.3050946369999039E-2}]
["All","Chemical","Base",2018,"1,001+ HP","Traditional","Non ASD Control","constant","Fans","2014 and before",800145.20276616898,800374.57285558397,800145.20276616898,860076.078453355,860322.62836246798,860076.078453355,191.957049599821,192.01207611935601,191.957049599821,0.19195704959982099,0.192012076119356,0.19195704959982099,82.900243218225697,82.848685764306197,82.900243218225697,8.29002432182257E-2,8.2848685764306207E-2,8.29002432182257E-2,{"$f":"output[[#This Row],[ishp_Program]]-output[[#This Row],[ishp_Baseline]]","v":0},{"$f":"output[[#This Row],[ishp_Market]]-output[[#This Row],[ishp_Program]]","v":5.5026519535005036E-2}]
["All","Chemical","Base",2018,"1,001+ HP","Traditional","Non ASD Control","constant","Pumps",2015,446164.43952865299,446543.32484987,446164.43952865299,479582.15604934999,479989.41988112498,479582.15604934999,93.889588809492906,93.969320370019204,93.889588809492906,9.3889588809492899E-2,9.3969320370019205E-2,9.3889588809492899E-2,0.54389991359418399,0.47865017833015999,0.54389991359418399,5.4389991359418395E-4,4.7865017833016E-4,5.4389991359418395E-4,{"$f":"output[[#This Row],[ishp_Program]]-output[[#This Row],[ishp_Baseline]]","v":0},{"$f":"output[[#This Row],[ishp_Market]]-output[[#This Row],[ishp_Program]]","v":7.973156052629804E-2}]
["All","Chemical","Base",2018,"1,001+ HP","Traditional","Non ASD Control","constant","Pumps",2016,341482.41314980399,341625.34250765201,341482.41314980399,367059.44589472399,367213.08066147502,367059.44589472399,72.195595056899194,72.225812923598994,72.195595056899194,7.2195595056899195E-2,7.2225812923599003E-2,7.2195595056899195E-2,0.16088492488174599,0.14307631325831799,0.16088492488174599,1.60884924881746E-4,1.43076313258318E-4,1.60884924881746E-4,{"$f":"output[[#This Row],[ishp_Program]]-output[[#This Row],[ishp_Baseline]]","v":0},{"$f":"output[[#This Row],[ishp_Market]]-output[[#This Row],[ishp_Program]]","v":3.0217866699800311E-2}]
["All","Chemical","Base",2018,"1,001+ HP","Traditional","Non ASD Control","constant","Pumps",2017,255316.141483001,254001.86392423001,255316.141483001,274439.32048007799,273026.60353215499,274439.32048007799,53.978477520921402,53.700615333085302,53.978477520921402,5.39784775209214E-2,5.3700615333085303E-2,5.39784775209214E-2,6.0518041510890297E-2,5.0453474648520999E-2,6.0518041510890297E-2,6.0518041510890298E-5,5.0453474648521001E-5,6.0518041510890298E-5,{"$f":"output[[#This Row],[ishp_Program]]-output[[#This Row],[ishp_Baseline]]","v":0},{"$f":"output[[#This Row],[ishp_Market]]-output[[#This Row],[ishp_Program]]","v":-0.27786218783609939}]
["All","Chemical","Base",2018,"1,001+ HP","Traditional","Non ASD Control","constant","Pumps",2018,227159.54160350299,226457.453573804,227159.54160350299,244173.79126960499,243419.11684648201,244173.79126960499,48.025660026371298,47.877225843132202,48.025660026371298,4.8025660026371299E-2,4.7877225843132198E-2,4.8025660026371299E-2,0,0,0,0,0,0,{"$f":"output[[#This Row],[ishp_Program]]-output[[#This Row],[ishp_Baseline]]","v":0},{"$f":"output[[#This Row],[ishp_Market]]-output[[#This Row],[ishp_Program]]","v":-0.14843418323909674}]
["All","Chemical","Base",2018,"1,001+ HP","Traditional","Non ASD Control","constant","Pumps","2014 and before",1469496.2454075301,1470999.5298365001,1469496.2454075301,1579561.51418856,1581177.39462125,1579561.51418856,309.23665360727699,309.55300055112599,309.23665360727699,0.30923665360727698,0.309553000551126,0.30923665360727698,135.99943245965301,135.72630822823501,135.99943245965301,0.13599943245965301,0.135726308228235,0.13599943245965301,{"$f":"output[[#This Row],[ishp_Program]]-output[[#This Row],[ishp_Baseline]]","v":0},{"$f":"output[[#This Row],[ishp_Market]]-output[[#This Row],[ishp_Program]]","v":0.31634694384899831}]
["All","Chemical","Base",2018,"1,001+ HP","Traditional","Non ASD Control","variable","Fans",2015,113959.300004787,113985.135826878,113959.300004787,122494.851575145,122522.622500311,122494.851575145,29.848368123735099,29.855135075870901,29.848368123735099,2.9848368123735099E-2,2.9855135075870901E-2,2.9848368123735099E-2,0.435888680484603,0.42971400675871302,0.435888680484603,4.3588868048460302E-4,4.2971400675871299E-4,4.3588868048460302E-4,{"$f":"output[[#This Row],[ishp_Program]]-output[[#This Row],[ishp_Baseline]]","v":0},{"$f":"output[[#This Row],[ishp_Market]]-output[[#This Row],[ishp_Program]]","v":6.766952135802029E-3}]
["All","Chemical","Base",2018,"1,001+ HP","Traditional","Non ASD Control","variable","Fans",2016,75447.661783011703,75461.323012649096,75447.661783011703,81098.691650559296,81113.376106296506,81098.691650559296,19.853472504898999,19.857067352513599,19.853472504898999,1.9853472504899002E-2,1.9857067352513601E-2,1.9853472504899002E-2,0.21211362735390701,0.208940528332105,0.21211362735390701,2.1211362735390699E-4,2.08940528332105E-4,2.1211362735390699E-4,{"$f":"output[[#This Row],[ishp_Program]]-output[[#This Row],[ishp_Baseline]]","v":0},{"$f":"output[[#This Row],[ishp_Market]]-output[[#This Row],[ishp_Program]]","v":3.5948476146003827E-3}]
["All","Chemical","Base",2018,"1,001+ HP","Traditional","Non ASD Control","variable","Fans",2017,45142.361751302204,45007.983652568299,45142.361751302204,48523.524646474798,48379.081628145701,48523.524646474798,11.878865648789199,11.8435050845858,11.878865648789199,1.18788656487892E-2,1.1843505084585799E-2,1.18788656487892E-2,9.4905229222491602E-2,9.2539885324333507E-2,9.4905229222491602E-2,9.4905229222491601E-5,9.25398853243335E-5,9.4905229222491601E-5,{"$f":"output[[#This Row],[ishp_Program]]-output[[#This Row],[ishp_Baseline]]","v":0},{"$f":"output[[#This Row],[ishp_Market]]-output[[#This Row],[ishp_Program]]","v":-3.5360564203399392E-2}]
["All","Chemical","Base",2018,"1,001+ HP","Traditional","Non ASD Control","variable","Fans",2018,32301.808017233499,32272.270552184302,32301.808017233499,34721.213437724298,34689.463616542896,34721.213437724298,8.4999725925644896,8.4922000355844496,8.4999725925644896,8.4999725925644903E-3,8.4922000355844504E-3,8.4999725925644903E-3,8.4391491044031302E-3,6.8869131967801396E-3,8.4391491044031302E-3,8.4391491044031306E-6,6.8869131967801403E-6,8.4391491044031306E-6,{"$f":"output[[#This Row],[ishp_Program]]-output[[#This Row],[ishp_Baseline]]","v":0},{"$f":"output[[#This Row],[ishp_Market]]-output[[#This Row],[ishp_Program]]","v":-7.7725569800399796E-3}]
["All","Chemical","Base",2018,"1,001+ HP","Traditional","Non ASD Control","variable","Fans","2014 and before",436470.76147524,436595.88043769897,436470.76147524,469162.421509735,469296.91188248299,469162.421509735,114.32098971486,114.35376103629299,114.32098971486,0.11432098971486,0.11435376103629299,0.11432098971486,49.371658254112901,49.340952952215801,49.371658254112901,4.9371658254112903E-2,4.93409529522158E-2,4.9371658254112903E-2,{"$f":"output[[#This Row],[ishp_Program]]-output[[#This Row],[ishp_Baseline]]","v":0},{"$f":"output[[#This Row],[ishp_Market]]-output[[#This Row],[ishp_Program]]","v":3.2771321432988998E-2}]
["All","Chemical","Base",2018,"1,001+ HP","Traditional","Non ASD Control","variable","Pumps",2015,151443.797828137,151572.40474276899,151443.797828137,162786.93828546401,162925.17785800199,162786.93828546401,38.922498768631897,38.955551970863901,38.922498768631897,3.8922498768631901E-2,3.8955551970863901E-2,3.8922498768631901E-2,0.22547700959776601,0.198427335904765,0.22547700959776601,2.2547700959776599E-4,1.9842733590476501E-4,2.2547700959776599E-4,{"$f":"output[[#This Row],[ishp_Program]]-output[[#This Row],[ishp_Baseline]]","v":0},{"$f":"output[[#This Row],[ishp_Market]]-output[[#This Row],[ishp_Program]]","v":3.3053202232004253E-2}]
["All","Chemical","Base",2018,"1,001+ HP","Traditional","Non ASD Control","variable","Pumps",2016,115911.060938782,115959.57615616699,115911.060938782,124592.799403096,124644.948410264,124592.799403096,29.9291220180388,29.941649018043101,29.9291220180388,2.9929122018038799E-2,2.9941649018043099E-2,2.9929122018038799E-2,6.6695821869097102E-2,5.9313153856889497E-2,6.6695821869097102E-2,6.6695821869097095E-5,5.9313153856889502E-5,6.6695821869097095E-5,{"$f":"output[[#This Row],[ishp_Program]]-output[[#This Row],[ishp_Baseline]]","v":0},{"$f":"output[[#This Row],[ishp_Market]]-output[[#This Row],[ishp_Program]]","v":1.2527000004300959E-2}]
["All","Chemical","Base",2018,"1,001+ HP","Traditional","Non ASD Control","variable","Pumps",2017,86663.218058929197,86217.106340319893,86663.218058929197,93154.293091543004,92674.767605209898,93154.293091543004,22.3771054009373,22.261915944885398,22.3771054009373,2.2377105400937299E-2,2.2261915944885399E-2,2.2377105400937299E-2,2.5088121335443601E-2,2.0915794070254599E-2,2.5088121335443601E-2,2.5088121335443599E-5,2.0915794070254601E-5,2.5088121335443599E-5,{"$f":"output[[#This Row],[ishp_Program]]-output[[#This Row],[ishp_Baseline]]","v":0},{"$f":"output[[#This Row],[ishp_Market]]-output[[#This Row],[ishp_Program]]","v":-0.11518945605190112}]
["All","Chemical","Base",2018,"1,001+ HP","Traditional","Non ASD Control","variable","Pumps",2018,77105.884390241394,76867.571185048393,77105.884390241394,82881.115131070503,82624.952266808497,82881.115131070503,19.9093287865179,19.847794495148602,19.9093287865179,1.99093287865179E-2,1.9847794495148601E-2,1.99093287865179E-2,0,0,0,0,0,0,{"$f":"output[[#This Row],[ishp_Program]]-output[[#This Row],[ishp_Baseline]]","v":0},{"$f":"output[[#This Row],[ishp_Market]]-output[[#This Row],[ishp_Program]]","v":-6.1534291369298444E-2}]
["All","Chemical","Base",2018,"1,001+ HP","Traditional","Non ASD Control","variable","Pumps","2014 and before",498798.36352222902,499308.63077566301,498798.36352222902,536158.36095004401,536706.84722075996,536158.36095004401,128.195931219459,128.32707476464401,128.195931219459,0.12819593121945899,0.128327074764644,0.12819593121945899,56.379389978863102,56.266164671394698,56.379389978863102,5.6379389978863097E-2,5.6266164671394697E-2,5.6379389978863097E-2,{"$f":"output[[#This Row],[ishp_Program]]-output[[#This Row],[ishp_Baseline]]","v":0},{"$f":"output[[#This Row],[ishp_Market]]-output[[#This Row],[ishp_Program]]","v":0.13114354518501159}]
["All","Chemical","Base",2018,"1-5 HP","Traditional","ASD Control","constant","Fans",2015,19547.6706061228,34649.255828506401,19547.6706061228,21011.791134521402,37244.485090061498,21011.791134521402,4.3110012927685801,7.6414724639043596,4.3110012927685801,1.4370004309228599,2.54715748796812,1.4370004309228599,3.97963912009121E-2,0.14845265883526601,3.97963912009121E-2,1.32654637336373E-2,4.9484219611755503E-2,1.32654637336373E-2,{"$f":"output[[#This Row],[ishp_Program]]-output[[#This Row],[ishp_Baseline]]","v":0},{"$f":"output[[#This Row],[ishp_Market]]-output[[#This Row],[ishp_Program]]","v":3.3304711711357795}]
["All","Chemical","Base",2018,"1-5 HP","Traditional","ASD Control","constant","Fans",2016,12415.818873252299,23287.051764532102,12415.818873252299,13345.763706858899,25031.2519416955,13345.763706858899,2.7876305945735802,5.2284668952506799,2.7876305945735802,0.92921019819119599,1.74282229841689,0.92921019819119599,1.68615297434625E-2,0.105939616129388,1.68615297434625E-2,5.6205099144875197E-3,3.5313205376462702E-2,5.6205099144875197E-3,{"$f":"output[[#This Row],[ishp_Program]]-output[[#This Row],[ishp_Baseline]]","v":0},{"$f":"output[[#This Row],[ishp_Market]]-output[[#This Row],[ishp_Program]]","v":2.4408363006770997}]
["All","Chemical","Base",2018,"1-5 HP","Traditional","ASD Control","constant","Fans",2017,7422.7420800582004,14759.1973478692,7422.7420800582004,7978.7054618545599,15864.661229224601,7978.7054618545599,1.6665725498441299,3.3137717695693198,1.6665725498441299,0.55552418328137598,1.1045905898564401,0.55552418328137598,6.9162937502416201E-3,5.4414707769816703E-2,6.9162937502416201E-3,2.3054312500805402E-3,1.8138235923272201E-2,2.3054312500805402E-3,{"$f":"output[[#This Row],[ishp_Program]]-output[[#This Row],[ishp_Baseline]]","v":0},{"$f":"output[[#This Row],[ishp_Market]]-output[[#This Row],[ishp_Program]]","v":1.6471992197251899}]
["All","Chemical","Base",2018,"1-5 HP","Traditional","ASD Control","constant","Fans",2018,5354.6088637257999,11342.2608156195,5354.6088637257999,5755.66906761886,12191.796150709401,5755.66906761886,1.20223012617023,2.54659266408675,1.20223012617023,0.40074337539007798,0.84886422136225004,0.40074337539007798,0,8.6442712088561705E-3,0,0,2.88142373628539E-3,0,{"$f":"output[[#This Row],[ishp_Program]]-output[[#This Row],[ishp_Baseline]]","v":0},{"$f":"output[[#This Row],[ishp_Market]]-output[[#This Row],[ishp_Program]]","v":1.3443625379165201}]
["All","Chemical","Base",2018,"1-5 HP","Traditional","ASD Control","constant","Fans","2014 and before",71376.084711112693,124985.677954582,71376.084711112693,76722.153455975102,134347.10523337999,76722.153455975102,15.7411284271378,27.564072983252998,15.7411284271378,5.2470428090459302,9.1880243277510107,5.2470428090459302,5.4963273277025397,5.8655159564108503,5.4963273277025397,1.8321091092341799,1.95517198547028,1.8321091092341799,{"$f":"output[[#This Row],[ishp_Program]]-output[[#This Row],[ishp_Baseline]]","v":0},{"$f":"output[[#This Row],[ishp_Market]]-output[[#This Row],[ishp_Program]]","v":11.822944556115198}]
["All","Chemical","Base",2018,"1-5 HP","Traditional","ASD Control","constant","Pumps",2015,55610.706601739803,96588.862228645405,55610.706601739803,59775.948526210203,103823.368009571,59775.948526210203,16.1350549325157,28.024578236156199,16.1350549325157,5.3783516441719099,9.34152607871874,5.3783516441719099,0.230518575448422,1.5136078451472199,0.230518575448422,7.6839525149474203E-2,0.50453594838240701,7.6839525149474203E-2,{"$f":"output[[#This Row],[ishp_Program]]-output[[#This Row],[ishp_Baseline]]","v":0},{"$f":"output[[#This Row],[ishp_Market]]-output[[#This Row],[ishp_Program]]","v":11.889523303640498}]
["All","Chemical","Base",2018,"1-5 HP","Traditional","ASD Control","constant","Pumps",2016,40671.744927111002,75196.607097561195,40671.744927111002,43718.058622151599,80828.832969168507,43718.058622151599,12.013831965694401,22.2119656700112,12.013831965694401,4.0046106552314598,7.4039885566703996,4.0046106552314598,0.14532649682779999,1.2140610459793699,0.14532649682779999,4.8442165609266799E-2,0.40468701532645801,4.8442165609266799E-2,{"$f":"output[[#This Row],[ishp_Program]]-output[[#This Row],[ishp_Baseline]]","v":0},{"$f":"output[[#This Row],[ishp_Market]]-output[[#This Row],[ishp_Program]]","v":10.198133704316799}]
["All","Chemical","Base",2018,"1-5 HP","Traditional","ASD Control","constant","Pumps",2017,31736.530262960699,66589.153787141797,31736.530262960699,34113.596379656497,71576.681405798794,34113.596379656497,9.3745016948912205,19.669451255907202,9.3745016948912205,3.1248338982970698,6.5564837519690897,3.1248338982970698,8.62969548162036E-2,1.00187977531776,8.62969548162036E-2,2.8765651605401201E-2,0.33395992510591999,2.8765651605401201E-2,{"$f":"output[[#This Row],[ishp_Program]]-output[[#This Row],[ishp_Baseline]]","v":0},{"$f":"output[[#This Row],[ishp_Market]]-output[[#This Row],[ishp_Program]]","v":10.294949561015981}]
["All","Chemical","Base",2018,"1-5 HP","Traditional","ASD Control","constant","Pumps",2018,28739.853394530099,61868.436533388798,28739.853394530099,30892.4684137804,66502.382429739693,30892.4684137804,8.4893276651728495,18.2750211928307,8.4893276651728495,2.8297758883909498,6.0916737309435902,2.8297758883909498,0,0.69688999532814599,0,0,0.23229666510938199,0,{"$f":"output[[#This Row],[ishp_Program]]-output[[#This Row],[ishp_Baseline]]","v":0},{"$f":"output[[#This Row],[ishp_Market]]-output[[#This Row],[ishp_Program]]","v":9.7856935276578501}]
["All","Chemical","Base",2018,"1-5 HP","Traditional","ASD Control","constant","Pumps","2014 and before",170156.347582488,292650.047329958,170156.347582488,182901.058016417,314569.535874972,182901.058016417,49.369666079261798,84.910350510174496,49.369666079261798,16.456555359753899,28.303450170058099,16.456555359753899,15.6243512430266,19.409154337726299,15.6243512430266,5.2081170810088802,6.4697181125754604,5.2081170810088802,{"$f":"output[[#This Row],[ishp_Program]]-output[[#This Row],[ishp_Baseline]]","v":0},{"$f":"output[[#This Row],[ishp_Market]]-output[[#This Row],[ishp_Program]]","v":35.540684430912698}]
["All","Chemical","Base",2018,"1-5 HP","Traditional","ASD Control","variable","Fans",2015,170345.43115250301,227685.41836553501,170345.43115250301,183104.30394582599,244739.05620111301,183104.30394582599,79.546730898990305,106.322961419097,79.546730898990305,26.515576966330102,35.440987139699303,26.515576966330102,1.0459253826871699,2.0655608447799101,1.0459253826871699,0.348641794229057,0.68852028159330403,0.348641794229057,{"$f":"output[[#This Row],[ishp_Program]]-output[[#This Row],[ishp_Baseline]]","v":0},{"$f":"output[[#This Row],[ishp_Market]]-output[[#This Row],[ishp_Program]]","v":26.776230520106694}]
["All","Chemical","Base",2018,"1-5 HP","Traditional","ASD Control","variable","Fans",2016,110779.071492588,153022.683943048,110779.071492588,119076.42394738299,164484.08297038201,119076.42394738299,52.665508328716797,72.748555544847505,52.665508328716797,17.555169442905601,24.249518514949099,17.555169442905601,0.65418972159573396,1.4740370748812399,0.65418972159573396,0.21806324053191101,0.49134569162708303,0.21806324053191101,{"$f":"output[[#This Row],[ishp_Program]]-output[[#This Row],[ishp_Baseline]]","v":0},{"$f":"output[[#This Row],[ishp_Market]]-output[[#This Row],[ishp_Program]]","v":20.083047216130709}]
["All","Chemical","Base",2018,"1-5 HP","Traditional","ASD Control","variable","Fans",2017,68422.582240460295,96984.883009360594,68422.582240460295,73547.433650270803,104249.050746761,73547.433650270803,32.528798321787299,46.107609452484198,32.528798321787299,10.8429327739291,15.369203150828,10.8429327739291,0.303018506540568,0.75712277995774202,0.303018506540568,0.101006168846856,0.25237425998591401,0.101006168846856,{"$f":"output[[#This Row],[ishp_Program]]-output[[#This Row],[ishp_Baseline]]","v":0},{"$f":"output[[#This Row],[ishp_Market]]-output[[#This Row],[ishp_Program]]","v":13.578811130696899}]
["All","Chemical","Base",2018,"1-5 HP","Traditional","ASD Control","variable","Fans",2018,51219.269430971697,74531.684368549206,51219.269430971697,55055.592711351499,80114.107527753498,55055.592711351499,24.350166727910299,35.433128216169699,24.350166727910299,8.1167222426367793,11.8110427387232,8.1167222426367793,0,0.120275839319832,0,0,4.0091946439944098E-2,0,{"$f":"output[[#This Row],[ishp_Program]]-output[[#This Row],[ishp_Baseline]]","v":0},{"$f":"output[[#This Row],[ishp_Market]]-output[[#This Row],[ishp_Program]]","v":11.0829614882594}]
["All","Chemical","Base",2018,"1-5 HP","Traditional","ASD Control","variable","Fans","2014 and before",618134.40390588099,821299.49675215594,618134.40390588099,664432.67075843096,882814.82905889302,664432.67075843096,288.65212735226402,383.524756805077,288.65212735226402,96.217375784088205,127.841585601692,96.217375784088205,78.236512362291606,81.612415628326403,78.236512362291606,26.078837454097201,27.2041385427754,26.078837454097201,{"$f":"output[[#This Row],[ishp_Program]]-output[[#This Row],[ishp_Baseline]]","v":0},{"$f":"output[[#This Row],[ishp_Market]]-output[[#This Row],[ishp_Program]]","v":94.872629452812987}]
["All","Chemical","Base",2018,"1-5 HP","Traditional","ASD Control","variable","Pumps",2015,133904.58088628401,149637.11173277901,133904.58088628401,143934.033994667,160844.93140156401,143934.033994667,57.850824462868196,64.647753099164504,57.850824462868196,19.2836081542894,21.549251033054801,19.2836081542894,0.88598778251902699,1.3339053846831099,0.88598778251902699,0.29532926083967498,0.44463512822770601,0.29532926083967498,{"$f":"output[[#This Row],[ishp_Program]]-output[[#This Row],[ishp_Baseline]]","v":0},{"$f":"output[[#This Row],[ishp_Market]]-output[[#This Row],[ishp_Program]]","v":6.7969286362963075}]
["All","Chemical","Base",2018,"1-5 HP","Traditional","ASD Control","variable","Pumps",2016,101556.53736874599,116548.65730192,101556.53736874599,109163.12201766499,125278.15173383401,109163.12201766499,44.668227175367399,51.262302124809899,44.668227175367399,14.889409058455801,17.087434041603299,14.889409058455801,0.61694688020840105,1.00866209574896,0.61694688020840105,0.20564896006946701,0.33622069858298897,0.20564896006946701,{"$f":"output[[#This Row],[ishp_Program]]-output[[#This Row],[ishp_Baseline]]","v":0},{"$f":"output[[#This Row],[ishp_Market]]-output[[#This Row],[ishp_Program]]","v":6.5940749494425006}]
["All","Chemical","Base",2018,"1-5 HP","Traditional","ASD Control","variable","Pumps",2017,76370.537049800594,87180.232545746607,76370.537049800594,82090.690274830602,93710.031963422996,82090.690274830602,33.590516049783297,38.345009917137801,33.590516049783297,11.196838683261101,12.7816699723792,11.196838683261101,0.36150766605083201,0.62001808549457704,0.36150766605083201,0.120502555350277,0.206672695164859,0.120502555350277,{"$f":"output[[#This Row],[ishp_Program]]-output[[#This Row],[ishp_Baseline]]","v":0},{"$f":"output[[#This Row],[ishp_Market]]-output[[#This Row],[ishp_Program]]","v":4.7544938673545047}]
["All","Chemical","Base",2018,"1-5 HP","Traditional","ASD Control","variable","Pumps",2018,68245.228106973504,78186.312436437904,68245.228106973504,73356.7956921859,84042.467237927005,73356.7956921859,30.016712185139799,34.389159540110903,30.016712185139799,10.005570728379899,11.4630531800369,10.005570728379899,0,6.1267894575922001E-2,0,0,2.0422631525307301E-2,0,{"$f":"output[[#This Row],[ishp_Program]]-output[[#This Row],[ishp_Baseline]]","v":0},{"$f":"output[[#This Row],[ishp_Market]]-output[[#This Row],[ishp_Program]]","v":4.3724473549711043}]
["All","Chemical","Base",2018,"1-5 HP","Traditional","ASD Control","variable","Pumps","2014 and before",407912.48217471398,454383.11782724602,407912.48217471398,438465.12708960002,488416.41335250699,438465.12708960002,176.230516135534,196.30723470646601,176.230516135534,58.743505378511301,65.435744902155307,58.743505378511301,53.180700597954399,54.455941625869599,53.180700597954399,17.726900199318099,18.151980541956501,17.726900199318099,{"$f":"output[[#This Row],[ishp_Program]]-output[[#This Row],[ishp_Baseline]]","v":0},{"$f":"output[[#This Row],[ishp_Market]]-output[[#This Row],[ishp_Program]]","v":20.076718570932002}]
["All","Chemical","Base",2018,"1-5 HP","Traditional","Non ASD Control","constant","Fans",2015,581480.64590183902,566395.52192015201,581480.64590183902,625033.54627988697,608818.54651197197,625033.54627988697,124.77051629365,121.533643801308,124.77051629365,41.590172097883503,40.511214600436197,41.590172097883503,1.8471356856707299,1.7492705660560099,1.8471356856707299,0.61571189522357594,0.58309018868533602,0.61571189522357594,{"$f":"output[[#This Row],[ishp_Program]]-output[[#This Row],[ishp_Baseline]]","v":0},{"$f":"output[[#This Row],[ishp_Market]]-output[[#This Row],[ishp_Program]]","v":-3.2368724923420018}]
["All","Chemical","Base",2018,"1-5 HP","Traditional","Non ASD Control","constant","Fans",2016,380601.33688833797,370031.90058471099,380601.33688833797,409108.377021275,397747.28993850597,409108.377021275,83.142624717153495,80.833724062077394,83.142624717153495,27.7142082390511,26.944574687359101,27.7142082390511,0.92935232343704299,0.85055062324923802,0.92935232343704299,0.309784107812347,0.28351687441641199,0.309784107812347,{"$f":"output[[#This Row],[ishp_Program]]-output[[#This Row],[ishp_Baseline]]","v":0},{"$f":"output[[#This Row],[ishp_Market]]-output[[#This Row],[ishp_Program]]","v":-2.3089006550761013}]
["All","Chemical","Base",2018,"1-5 HP","Traditional","Non ASD Control","constant","Fans",2017,228438.87278092801,220701.00374007199,228438.87278092801,245548.944352219,237231.50892020401,245548.944352219,49.902629417212097,48.212286584908703,49.902629417212097,16.634209805737299,16.0707621949695,16.634209805737299,0.41767009686254403,0.37670938121165998,0.41767009686254403,0.139223365620848,0.12556979373721999,0.139223365620848,{"$f":"output[[#This Row],[ishp_Program]]-output[[#This Row],[ishp_Baseline]]","v":0},{"$f":"output[[#This Row],[ishp_Market]]-output[[#This Row],[ishp_Program]]","v":-1.6903428323033935}]
["All","Chemical","Base",2018,"1-5 HP","Traditional","Non ASD Control","constant","Fans",2018,164190.17067016801,158250.201982372,164190.17067016801,176488.01445336299,170103.142110852,176488.01445336299,35.867456099557003,34.569865840209197,35.867456099557003,11.9558186998523,11.5232886134031,11.9558186998523,3.50658219850856E-2,2.8035098592619399E-2,3.50658219850856E-2,1.16886073283618E-2,9.3450328642064699E-3,1.16886073283618E-2,{"$f":"output[[#This Row],[ishp_Program]]-output[[#This Row],[ishp_Baseline]]","v":0},{"$f":"output[[#This Row],[ishp_Market]]-output[[#This Row],[ishp_Program]]","v":-1.2975902593478068}]
["All","Chemical","Base",2018,"1-5 HP","Traditional","Non ASD Control","constant","Fans","2014 and before",2225625.5386522398,2169457.8839146099,2225625.5386522398,2392324.8914972902,2331950.27941981,2392324.8914972902,477.56094633776002,465.508838791259,477.56094633776002,159.18698211258601,155.16961293041899,159.18698211258601,201.256943337026,200.85609345503201,201.256943337026,67.085647779008696,66.952031151677403,67.085647779008696,{"$f":"output[[#This Row],[ishp_Program]]-output[[#This Row],[ishp_Baseline]]","v":0},{"$f":"output[[#This Row],[ishp_Market]]-output[[#This Row],[ishp_Program]]","v":-12.05210754650102}]
["All","Chemical","Base",2018,"1-5 HP","Traditional","Non ASD Control","constant","Pumps",2015,269077.27106563799,221795.11720454801,269077.27106563799,289231.15866845398,238407.57148316901,289231.15866845398,67.188861514665405,55.3824607907897,67.188861514665405,22.396287171555102,18.460820263596499,22.396287171555102,0.99965910960912496,0.282100845568442,0.99965910960912496,0.33321970320304101,9.4033615189480904E-2,0.33321970320304101,{"$f":"output[[#This Row],[ishp_Program]]-output[[#This Row],[ishp_Baseline]]","v":0},{"$f":"output[[#This Row],[ishp_Market]]-output[[#This Row],[ishp_Program]]","v":-11.806400723875704}]
["All","Chemical","Base",2018,"1-5 HP","Traditional","Non ASD Control","constant","Pumps",2016,206207.544084024,167448.63848415401,206207.544084024,221652.48913591701,179990.54150661701,221652.48913591701,52.420544861961297,42.567544774968397,52.420544861961297,17.473514953987099,14.1891815916561,17.473514953987099,0.66299498437159399,8.4324525046228505E-2,0.66299498437159399,0.220998328123864,2.8108175015409499E-2,0.220998328123864,{"$f":"output[[#This Row],[ishp_Program]]-output[[#This Row],[ishp_Baseline]]","v":0},{"$f":"output[[#This Row],[ishp_Market]]-output[[#This Row],[ishp_Program]]","v":-9.8530000869928998}]
["All","Chemical","Base",2018,"1-5 HP","Traditional","Non ASD Control","constant","Pumps",2017,161395.74235158699,124499.739903216,161395.74235158699,173484.283453721,133824.770421967,173484.283453721,41.028822636205398,31.649395902992499,41.028822636205398,13.6762742120684,10.5497986343308,13.6762742120684,0.38838469864695002,2.97356368065382E-2,0.38838469864695002,0.12946156621565,9.9118789355127392E-3,0.12946156621565,{"$f":"output[[#This Row],[ishp_Program]]-output[[#This Row],[ishp_Baseline]]","v":0},{"$f":"output[[#This Row],[ishp_Market]]-output[[#This Row],[ishp_Program]]","v":-9.3794267332128989}]
["All","Chemical","Base",2018,"1-5 HP","Traditional","Non ASD Control","constant","Pumps",2018,146279.264727136,110998.768408619,146279.264727136,157235.581655199,119312.576162425,157235.581655199,37.1860243671738,28.2172795609047,37.1860243671738,12.3953414557245,9.4057598536349207,12.3953414557245,0,0,0,0,0,0,{"$f":"output[[#This Row],[ishp_Program]]-output[[#This Row],[ishp_Baseline]]","v":0},{"$f":"output[[#This Row],[ishp_Market]]-output[[#This Row],[ishp_Program]]","v":-8.9687448062691004}]
["All","Chemical","Base",2018,"1-5 HP","Traditional","Non ASD Control","constant","Pumps","2014 and before",881621.97426027898,730635.74119624996,881621.97426027898,947655.46013237396,785360.358211849,947655.46013237396,220.14188155791899,182.44046938072501,220.14188155791899,73.380627185972997,60.813489793575201,73.380627185972997,82.570803843476597,79.992671162567603,82.570803843476597,27.5236012811588,26.664223720855802,27.5236012811588,{"$f":"output[[#This Row],[ishp_Program]]-output[[#This Row],[ishp_Baseline]]","v":0},{"$f":"output[[#This Row],[ishp_Market]]-output[[#This Row],[ishp_Program]]","v":-37.701412177193987}]
["All","Chemical","Base",2018,"1-5 HP","Traditional","Non ASD Control","variable","Fans",2015,420845.96992892702,308962.77812328498,420845.96992892702,452367.33307660301,332104.09020471899,452367.33307660301,98.590584113712893,72.379974957855595,98.590584113712893,32.863528037904302,24.126658319285202,32.863528037904302,1.8009853007610801,1.04178691435141,1.8009853007610801,0.60032843358702703,0.34726230478380499,0.60032843358702703,{"$f":"output[[#This Row],[ishp_Program]]-output[[#This Row],[ishp_Baseline]]","v":0},{"$f":"output[[#This Row],[ishp_Market]]-output[[#This Row],[ishp_Program]]","v":-26.210609155857298}]
["All","Chemical","Base",2018,"1-5 HP","Traditional","Non ASD Control","variable","Fans",2016,281979.48442216299,201848.49557304301,281979.48442216299,303099.747805383,216966.94789146399,303099.747805383,67.252199440515497,48.140932340747902,67.252199440515497,22.417399813505099,16.0469774469159,22.417399813505099,1.16060566028872,0.50654971648686897,1.16060566028872,0.38686855342957499,0.16884990549562301,0.38686855342957499,{"$f":"output[[#This Row],[ishp_Program]]-output[[#This Row],[ishp_Baseline]]","v":0},{"$f":"output[[#This Row],[ishp_Market]]-output[[#This Row],[ishp_Program]]","v":-19.111267099767595}]
["All","Chemical","Base",2018,"1-5 HP","Traditional","Non ASD Control","variable","Fans",2017,174769.88352225299,120390.067737405,174769.88352225299,187860.147798069,129407.28381093701,187860.147798069,41.682674492862503,28.713070607688501,41.682674492862503,13.8942248309541,9.5710235358961793,13.8942248309541,0.56447045034799503,0.224351173269074,0.56447045034799503,0.18815681678266499,7.4783724423024694E-2,0.18815681678266499,{"$f":"output[[#This Row],[ishp_Program]]-output[[#This Row],[ishp_Baseline]]","v":0},{"$f":"output[[#This Row],[ishp_Market]]-output[[#This Row],[ishp_Program]]","v":-12.969603885174003}]
["All","Chemical","Base",2018,"1-5 HP","Traditional","Non ASD Control","variable","Fans",2018,130755.850724513,86323.814632732203,130755.850724513,140549.46394377999,92789.468348723894,140549.46394377999,31.185313247023299,20.588258078573499,31.185313247023299,10.3951044156744,6.86275269285784,10.3951044156744,3.1236725567243401E-2,1.6696444462675101E-2,3.1236725567243401E-2,1.04122418557478E-2,5.5654814875583797E-3,1.04122418557478E-2,{"$f":"output[[#This Row],[ishp_Program]]-output[[#This Row],[ishp_Baseline]]","v":0},{"$f":"output[[#This Row],[ishp_Market]]-output[[#This Row],[ishp_Program]]","v":-10.597055168449799}]
["All","Chemical","Base",2018,"1-5 HP","Traditional","Non ASD Control","variable","Fans","2014 and before",1599629.0122010999,1183416.3740620301,1599629.0122010999,1719441.2252149601,1272054.26047928,1719441.2252149601,374.741282908762,277.236138410004,374.741282908762,124.913760969587,92.412046136667996,124.913760969587,122.373060271925,119.62086019716099,122.373060271925,40.791020090641801,39.873620065720402,40.791020090641801,{"$f":"output[[#This Row],[ishp_Program]]-output[[#This Row],[ishp_Baseline]]","v":0},{"$f":"output[[#This Row],[ishp_Market]]-output[[#This Row],[ishp_Program]]","v":-97.505144498758}]
["All","Chemical","Base",2018,"1-5 HP","Traditional","Non ASD Control","variable","Pumps",2015,96770.141652328297,75285.011339493896,96770.141652328297,104018.225262087,80923.858688822002,104018.225262087,29.511302775002001,22.959135184915901,29.511302775002001,9.8371009250006907,7.6530450616386503,9.8371009250006907,0.44807141992397698,0.11694661733525601,0.44807141992397698,0.14935713997465899,3.8982205778418703E-2,0.14935713997465899,{"$f":"output[[#This Row],[ishp_Program]]-output[[#This Row],[ishp_Baseline]]","v":0},{"$f":"output[[#This Row],[ishp_Market]]-output[[#This Row],[ishp_Program]]","v":-6.5521675900860998}]
["All","Chemical","Base",2018,"1-5 HP","Traditional","Non ASD Control","variable","Pumps",2016,76869.731101788697,56837.917831330102,76869.731101788697,82627.273961312603,61095.077876896801,82627.273961312603,23.865969432627999,17.646633988878101,23.865969432627999,7.9553231442093297,5.8822113296260499,7.9553231442093297,0.33201448483198198,3.4957243544196499E-2,0.33201448483198198,0.110671494943994,1.1652414514732101E-2,0.110671494943994,{"$f":"output[[#This Row],[ishp_Program]]-output[[#This Row],[ishp_Baseline]]","v":0},{"$f":"output[[#This Row],[ishp_Market]]-output[[#This Row],[ishp_Program]]","v":-6.2193354437498982}]
["All","Chemical","Base",2018,"1-5 HP","Traditional","Non ASD Control","variable","Pumps",2017,57971.698294845199,42259.561204557802,57971.698294845199,62313.778497129199,45424.802338779104,62313.778497129199,17.998642113502999,13.1204491220183,17.998642113502999,5.9995473711676901,4.3734830406727703,5.9995473711676901,0.189807358964834,1.23270886757826E-2,0.189807358964834,6.3269119654944903E-2,4.1090295585941997E-3,6.3269119654944903E-2,{"$f":"output[[#This Row],[ishp_Program]]-output[[#This Row],[ishp_Baseline]]","v":0},{"$f":"output[[#This Row],[ishp_Market]]-output[[#This Row],[ishp_Program]]","v":-4.8781929914846991}]
["All","Chemical","Base",2018,"1-5 HP","Traditional","Non ASD Control","variable","Pumps",2018,51848.341238615103,37676.859813852599,51848.341238615103,55731.781997387399,40498.856613910102,55731.781997387399,16.097505603274499,11.697644466118,16.097505603274499,5.3658352010915298,3.8992148220393301,5.3658352010915298,0,0,0,0,0,0,{"$f":"output[[#This Row],[ishp_Program]]-output[[#This Row],[ishp_Baseline]]","v":0},{"$f":"output[[#This Row],[ishp_Market]]-output[[#This Row],[ishp_Program]]","v":-4.3998611371564991}]
["All","Chemical","Base",2018,"1-5 HP","Traditional","Non ASD Control","variable","Pumps","2014 and before",315372.49512842699,248003.29580867401,315372.49512842699,338993.89501354599,266578.74266474298,338993.89501354599,96.176909858010504,75.631803641491203,96.176909858010504,32.058969952670097,25.210601213830401,32.058969952670097,34.315392235060699,33.161447230769198,34.315392235060699,11.438464078353499,11.0538157435897,11.438464078353499,{"$f":"output[[#This Row],[ishp_Program]]-output[[#This Row],[ishp_Baseline]]","v":0},{"$f":"output[[#This Row],[ishp_Market]]-output[[#This Row],[ishp_Program]]","v":-20.545106216519301}]
["All","Chemical","Base",2018,"101-200 HP","Traditional","ASD Control","constant","Fans",2015,56222.563316222302,97358.223323439393,59977.995165365297,60433.633308607299,104650.354250365,64470.347003251198,14.137531978357,24.4813632535677,15.081859926571999,9.3937089557189393E-2,0.16266686547220999,0.100211693864266,0.13393361732426101,0.47560512506868002,0.13393361732426101,8.8992436760306295E-4,3.1601669439779399E-3,8.8992436760306295E-4,{"$f":"output[[#This Row],[ishp_Program]]-output[[#This Row],[ishp_Baseline]]","v":0.94432794821499932},{"$f":"output[[#This Row],[ishp_Market]]-output[[#This Row],[ishp_Program]]","v":9.3995033269957009}]
["All","Chemical","Base",2018,"101-200 HP","Traditional","ASD Control","constant","Fans",2016,36277.066440692797,66359.401681229705,38402.7148955554,38994.218717100703,71329.720867153796,41279.078241232499,9.1571980449906096,16.7506979743122,9.6937624859722593,6.0845169734156899E-2,0.11130031876619401,6.44103819665931E-2,5.97462636273767E-2,0.33940398760292201,5.97462636273767E-2,3.9698514038123998E-4,2.2551759973616099E-3,3.9698514038123998E-4,{"$f":"output[[#This Row],[ishp_Program]]-output[[#This Row],[ishp_Baseline]]","v":0.53656444098164968},{"$f":"output[[#This Row],[ishp_Market]]-output[[#This Row],[ishp_Program]]","v":7.0569354883399402}]
["All","Chemical","Base",2018,"101-200 HP","Traditional","ASD Control","constant","Fans",2017,21748.404290853501,42058.201063971101,23205.7194151435,23377.359772238498,45208.360323662499,24943.8277993378,5.4898167022257702,10.616494505928401,5.8576778474730098,3.6477187390204502E-2,7.0541491733743994E-2,3.8921447491515E-2,2.4807557100359898E-2,0.174331090446534,2.4807557100359898E-2,1.6483426644757401E-4,1.15834611592381E-3,1.6483426644757401E-4,{"$f":"output[[#This Row],[ishp_Program]]-output[[#This Row],[ishp_Baseline]]","v":0.36786114524723956},{"$f":"output[[#This Row],[ishp_Market]]-output[[#This Row],[ishp_Program]]","v":4.758816658455391}]
["All","Chemical","Base",2018,"101-200 HP","Traditional","ASD Control","constant","Fans",2018,15746.377086004601,32321.207899032299,16946.146211393501,16925.7807297463,34742.066370669803,18215.412562626901,3.9747616776945902,8.1586448636528992,4.2776120613498598,2.6410376595977302E-2,5.4210264874770098E-2,2.84226715039857E-2,0,2.76940791877478E-2,0,0,1.8401381520098201E-4,0,{"$f":"output[[#This Row],[ishp_Program]]-output[[#This Row],[ishp_Baseline]]","v":0.30285038365526962},{"$f":"output[[#This Row],[ishp_Market]]-output[[#This Row],[ishp_Program]]","v":3.8810328023030394}]
["All","Chemical","Base",2018,"101-200 HP","Traditional","ASD Control","constant","Fans","2014 and before",205184.29425702,351187.44271911797,220506.98142923901,220552.59789687101,377491.38217877998,237022.95433828901,51.594935385634599,88.308383840734393,55.447925486302999,0.34282349093444903,0.58676667003810201,0.36842475406181402,17.632573290978002,18.791643557807401,17.632573290978002,0.117159955421781,0.124861418988754,0.117159955421781,{"$f":"output[[#This Row],[ishp_Program]]-output[[#This Row],[ishp_Baseline]]","v":3.8529901006684},{"$f":"output[[#This Row],[ishp_Market]]-output[[#This Row],[ishp_Program]]","v":32.860458354431394}]
["All","Chemical","Base",2018,"101-200 HP","Traditional","ASD Control","constant","Pumps",2015,1495056.52699068,2180412.7781851101,1495056.52699068,1607036.2608622899,2343725.69527118,1607036.2608622899,380.22394147899303,554.52427758129295,380.22394147899303,2.52640492677072,3.68454669489231,2.52640492677072,9.7947128439330697,29.949863644647799,9.7947128439330697,6.5081148464671598E-2,0.19900241624350701,6.5081148464671598E-2,{"$f":"output[[#This Row],[ishp_Program]]-output[[#This Row],[ishp_Baseline]]","v":0},{"$f":"output[[#This Row],[ishp_Market]]-output[[#This Row],[ishp_Program]]","v":174.30033610229992}]
["All","Chemical","Base",2018,"101-200 HP","Traditional","ASD Control","constant","Pumps",2016,1127269.8831296801,1721548.0089771601,1127269.8831296801,1211702.3973761001,1850491.95484955,1211702.3973761001,287.79102027328003,439.50970869322202,287.79102027328003,1.9122326928457101,2.9203302903204098,1.9122326928457101,7.0035215395353303,24.022710307651799,7.0035215395353303,4.6535026840766297E-2,0.15961933759237101,4.6535026840766297E-2,{"$f":"output[[#This Row],[ishp_Program]]-output[[#This Row],[ishp_Baseline]]","v":0},{"$f":"output[[#This Row],[ishp_Market]]-output[[#This Row],[ishp_Program]]","v":151.718688419942}]
["All","Chemical","Base",2018,"101-200 HP","Traditional","ASD Control","constant","Pumps",2017,917021.18157292297,1524489.3293256799,917021.18157292297,985706.06807273405,1638673.5800921801,985706.06807273405,234.11470971296899,389.200799248083,234.11470971296899,1.55557946653136,2.5860518222464002,1.55557946653136,4.9328392572619997,19.8242647560926,4.9328392572619997,3.2776340579813899E-2,0.131722689409253,3.2776340579813899E-2,{"$f":"output[[#This Row],[ishp_Program]]-output[[#This Row],[ishp_Baseline]]","v":0},{"$f":"output[[#This Row],[ishp_Market]]-output[[#This Row],[ishp_Program]]","v":155.08608953511401}]
["All","Chemical","Base",2018,"101-200 HP","Traditional","ASD Control","constant","Pumps",2018,844495.844157752,1416413.4240045999,844495.844157752,907748.58288516803,1522502.7894625401,907748.58288516803,215.59905417853099,361.60911466146098,215.59905417853099,1.4325518550068499,2.4027183698435901,1.4325518550068499,1.8422881219637699,13.789410779228101,1.8422881219637699,1.22411170894603E-2,9.1623991888558895E-2,1.22411170894603E-2,{"$f":"output[[#This Row],[ishp_Program]]-output[[#This Row],[ishp_Baseline]]","v":0},{"$f":"output[[#This Row],[ishp_Market]]-output[[#This Row],[ishp_Program]]","v":146.01006048292999}]
["All","Chemical","Base",2018,"101-200 HP","Traditional","ASD Control","constant","Pumps","2014 and before",4560897.5388045497,6606330.0468765497,4560897.5388045497,4902508.76446102,7101144.1673876103,4902508.76446102,1159.9310177098801,1680.1270077664101,1159.9310177098801,7.7071828419261301,11.163634603099,7.7071828419261301,324.67827343279799,384.05028603448301,324.67827343279799,2.15733072048371,2.5518291430862599,2.15733072048371,{"$f":"output[[#This Row],[ishp_Program]]-output[[#This Row],[ishp_Baseline]]","v":0},{"$f":"output[[#This Row],[ishp_Market]]-output[[#This Row],[ishp_Program]]","v":520.19599005653004}]
["All","Chemical","Base",2018,"101-200 HP","Traditional","ASD Control","variable","Fans",2015,516411.71029833099,627324.39945619996,572047.30116630602,555090.94739967596,674310.99697546999,614893.64402366197,280.40742703362201,340.63212986650501,310.61710775091598,1.8631722726486499,2.2633364110731198,2.06390104817884,4.2365003961241099,6.61753943395966,4.2365003961241099,2.81495042931834E-2,4.3970361687439598E-2,2.81495042931834E-2,{"$f":"output[[#This Row],[ishp_Program]]-output[[#This Row],[ishp_Baseline]]","v":30.209680717293963},{"$f":"output[[#This Row],[ishp_Market]]-output[[#This Row],[ishp_Program]]","v":30.015022115589034}]
["All","Chemical","Base",2018,"101-200 HP","Traditional","ASD Control","variable","Fans",2016,343966.58725110401,427584.54691241099,376683.21908058302,369729.68463621102,459610.62947615102,404896.79218971898,187.48959734885199,233.06814529248101,205.32280660717299,1.2457780554741,1.5486255501161501,1.364271140247,2.7984250163348898,4.7224454776032303,2.7984250163348898,1.8594186155049101E-2,3.1378375266466599E-2,1.8594186155049101E-2,{"$f":"output[[#This Row],[ishp_Program]]-output[[#This Row],[ishp_Baseline]]","v":17.833209258321006},{"$f":"output[[#This Row],[ishp_Market]]-output[[#This Row],[ishp_Program]]","v":27.745338685308013}]
["All","Chemical","Base",2018,"101-200 HP","Traditional","ASD Control","variable","Fans",2017,214610.68626254599,271000.58756219799,237864.940755613,230685.026663611,291298.53157060698,255681.02481820801,116.980173788657,147.71722872677299,129.65562243149299,0.77727690225021695,0.981509825427063,0.86149915236872698,1.3548879379968,2.42563169484042,1.3548879379968,9.0025776611083498E-3,1.6117154118540901E-2,9.0025776611083498E-3,{"$f":"output[[#This Row],[ishp_Program]]-output[[#This Row],[ishp_Baseline]]","v":12.675448642835988},{"$f":"output[[#This Row],[ishp_Market]]-output[[#This Row],[ishp_Program]]","v":18.061606295280001}]
["All","Chemical","Base",2018,"101-200 HP","Traditional","ASD Control","variable","Fans",2018,162266.35068457501,208260.60339659001,182075.42373746799,174420.10035085,223859.32259099401,195712.872975404,88.448279224600995,113.518865266848,99.245825463676596,0.58769620747243201,0.75427817453055201,0.65944070075532601,0,0.38533365485849003,0,0,2.5603565106876399E-3,0,{"$f":"output[[#This Row],[ishp_Program]]-output[[#This Row],[ishp_Baseline]]","v":10.797546239075601},{"$f":"output[[#This Row],[ishp_Market]]-output[[#This Row],[ishp_Program]]","v":14.2730398031714}]
["All","Chemical","Base",2018,"101-200 HP","Traditional","ASD Control","variable","Fans","2014 and before",1870265.80484367,2262864.3383151102,2094904.4388967401,2010348.7136264599,2432352.8772549098,2251812.7813701099,1015.53936858289,1228.71723119236,1137.5163496059999,6.7477698909162598,8.1642340943014506,7.5582481701395503,253.587590827377,261.46573221797001,253.587590827377,1.6849673809128101,1.7373138353353399,1.6849673809128101,{"$f":"output[[#This Row],[ishp_Program]]-output[[#This Row],[ishp_Baseline]]","v":121.97698102310994},{"$f":"output[[#This Row],[ishp_Market]]-output[[#This Row],[ishp_Program]]","v":91.200881586360083}]
["All","Chemical","Base",2018,"101-200 HP","Traditional","ASD Control","variable","Pumps",2015,3196212.72357341,3358507.7109159399,3457148.8485818398,3435609.0565690598,3610059.9384635398,3716089.2973406198,1217.3746131258799,1279.189584317,1316.76005511785,8.0888678613015497,8.4995985668903806,8.7492362466302591,22.7678425212038,26.394078568108199,22.7678425212038,0.15128134565583901,0.17537593732962201,0.15128134565583901,{"$f":"output[[#This Row],[ishp_Program]]-output[[#This Row],[ishp_Baseline]]","v":99.385441991970083},{"$f":"output[[#This Row],[ishp_Market]]-output[[#This Row],[ishp_Program]]","v":-37.570470800849989}]
["All","Chemical","Base",2018,"101-200 HP","Traditional","ASD Control","variable","Pumps",2016,2495072.2697878899,2652916.2023310498,2685364.2091402202,2681953.1827949998,2851619.62588565,2886497.9884048202,953.97980840379,1014.33073544849,1026.7370868370699,6.3387362684637196,6.7397391059700498,6.8221733344655897,16.466925154790498,19.9584670019123,16.466925154790498,0.109414785081664,0.13261439868380201,0.109414785081664,{"$f":"output[[#This Row],[ishp_Program]]-output[[#This Row],[ishp_Baseline]]","v":72.757278433279907},{"$f":"output[[#This Row],[ishp_Market]]-output[[#This Row],[ishp_Program]]","v":-12.406351388579878}]
["All","Chemical","Base",2018,"101-200 HP","Traditional","ASD Control","variable","Pumps",2017,1876632.3676489301,1984423.1310572899,2034537.4857682399,2017192.1319858399,2133056.42357348,2186924.3434522799,717.522056660217,758.73537663861703,777.89637773839604,4.7675884163469604,5.04143107401074,5.1687466959361901,10.0037917759614,12.2683409558914,10.0037917759614,6.6470377248913304E-2,8.1517215653763894E-2,6.6470377248913304E-2,{"$f":"output[[#This Row],[ishp_Program]]-output[[#This Row],[ishp_Baseline]]","v":60.374321078179037},{"$f":"output[[#This Row],[ishp_Market]]-output[[#This Row],[ishp_Program]]","v":-19.161001099779014}]
["All","Chemical","Base",2018,"101-200 HP","Traditional","ASD Control","variable","Pumps",2018,1679142.7007955001,1779700.76931745,1831741.46224119,1804910.4890850901,1913000.35693933,1968938.8977630499,642.01275906276601,680.46069025242105,700.35821821813602,4.2658655087226904,4.5213334900493098,4.65354297819359,0.38561930160824898,1.2123120887796399,0.38561930160824898,2.5622544957358698E-3,8.0552298257783699E-3,2.5622544957358698E-3,{"$f":"output[[#This Row],[ishp_Program]]-output[[#This Row],[ishp_Baseline]]","v":58.345459155370008},{"$f":"output[[#This Row],[ishp_Market]]-output[[#This Row],[ishp_Program]]","v":-19.897527965714971}]
["All","Chemical","Base",2018,"101-200 HP","Traditional","ASD Control","variable","Pumps","2014 and before",9718597.0544294007,10198333.7372752,10616026.8706853,10446519.9738061,10962188.9341972,11411167.283299601,3701.6226241771801,3884.3448986911399,4043.4360045302801,24.595499163968,25.809600655755101,26.866684415483501,1067.5417478270599,1077.52350224972,1067.5417478270599,7.0933006500137301,7.1596245996659302,7.0933006500137301,{"$f":"output[[#This Row],[ishp_Program]]-output[[#This Row],[ishp_Baseline]]","v":341.8133803531},{"$f":"output[[#This Row],[ishp_Market]]-output[[#This Row],[ishp_Program]]","v":-159.09110583914025}]
["All","Chemical","Base",2018,"101-200 HP","Traditional","Non ASD Control","constant","Fans",2015,870949.59992706904,828737.241232545,867000.67466291098,936183.72496160702,890809.660600862,931939.02519516298,208.274908660042,198.18043803606599,207.330580711827,1.3838864362793499,1.3168135417678799,1.3776118319722701,3.1227022075028801,2.8524711033213102,3.1227022075028801,2.0748851877095499E-2,1.8953296367583399E-2,2.0748851877095499E-2,{"$f":"output[[#This Row],[ishp_Program]]-output[[#This Row],[ishp_Baseline]]","v":-0.94432794821500465},{"$f":"output[[#This Row],[ishp_Market]]-output[[#This Row],[ishp_Program]]","v":-9.1501426757610034}]
["All","Chemical","Base",2018,"101-200 HP","Traditional","Non ASD Control","constant","Fans",2016,579106.30936329905,549092.40340655297,576871.13982133497,622481.37193460995,590219.42442170403,620078.78819395299,139.017576661974,131.81257750239899,138.48101222099299,0.92370482831876899,0.87583107975016306,0.92013961608633299,1.6157652809922001,1.3869615837649001,1.6157652809922001,1.0735981933502999E-2,9.2156915864777898E-3,1.0735981933502999E-2,{"$f":"output[[#This Row],[ishp_Program]]-output[[#This Row],[ishp_Baseline]]","v":-0.53656444098101019},{"$f":"output[[#This Row],[ishp_Market]]-output[[#This Row],[ishp_Program]]","v":-6.6684347185939998}]
["All","Chemical","Base",2018,"101-200 HP","Traditional","Non ASD Control","constant","Fans",2017,348543.186405038,327499.451767219,347010.78514112998,374649.071066776,352029.16070458398,373001.89294820098,83.669661947465201,78.618000540971906,83.301800802217997,0.55594459765757598,0.522378741136026,0.55350033755626504,0.72900829960228797,0.61428611737236505,0.72900829960228797,4.8439089674570598E-3,4.0816353313778402E-3,4.8439089674570598E-3,{"$f":"output[[#This Row],[ishp_Program]]-output[[#This Row],[ishp_Baseline]]","v":-0.36786114524720404},{"$f":"output[[#This Row],[ishp_Market]]-output[[#This Row],[ishp_Program]]","v":-4.6838002612460912}]
["All","Chemical","Base",2018,"101-200 HP","Traditional","Non ASD Control","constant","Fans",2018,251465.90530079301,234828.35833550201,250204.31973600999,270300.70160782302,252417.002374831,268944.62328423699,60.365739766263097,56.371807351232803,60.0628893826078,0.40110126090540199,0.37456350399490201,0.39908896599739402,5.8344050877057102E-2,4.5715803012981802E-2,5.8344050877057102E-2,3.8766811213991397E-4,3.0375948845835099E-4,3.8766811213991397E-4,{"$f":"output[[#This Row],[ishp_Program]]-output[[#This Row],[ishp_Baseline]]","v":-0.30285038365529715},{"$f":"output[[#This Row],[ishp_Market]]-output[[#This Row],[ishp_Program]]","v":-3.6910820313749966}]
["All","Chemical","Base",2018,"101-200 HP","Traditional","Non ASD Control","constant","Fans","2014 and before",3331603.3272327501,3174302.1830229899,3315491.1598656401,3581140.4164424902,3412057.4165314101,3563821.4477395802,796.704400264951,759.08812322073197,792.85141016428202,5.2937169452820596,5.0437749051211398,5.2681156821546997,328.60265370583198,327.52863600640899,328.60265370583198,2.1834063369158199,2.1762700066870999,2.1834063369158199,{"$f":"output[[#This Row],[ishp_Program]]-output[[#This Row],[ishp_Baseline]]","v":-3.8529901006689897},{"$f":"output[[#This Row],[ishp_Market]]-output[[#This Row],[ishp_Program]]","v":-33.763286943550042}]
["All","Chemical","Base",2018,"101-200 HP","Traditional","Non ASD Control","constant","Pumps",2015,2635619.2233872698,1823250.2450918299,2635619.2233872698,2833027.1032189699,1959811.6884492,2833027.1032189699,559.56668578609901,387.09313088616,559.56668578609901,3.7180510683461701,2.5720473813033902,3.7180510683461701,14.4585996769683,1.9717307244478499,14.4585996769683,9.6070429747298E-2,1.3101200826896E-2,9.6070429747298E-2,{"$f":"output[[#This Row],[ishp_Program]]-output[[#This Row],[ishp_Baseline]]","v":0},{"$f":"output[[#This Row],[ishp_Market]]-output[[#This Row],[ishp_Program]]","v":-172.47355489993902}]
["All","Chemical","Base",2018,"101-200 HP","Traditional","Non ASD Control","constant","Pumps",2016,2081361.51473201,1395999.1216637201,2081361.51473201,2237255.4921854399,1500559.4558763399,2237255.4921854399,443.59249765976199,297.52387210319802,443.59249765976199,2.9474584562110402,1.97690280467241,2.9474584562110402,10.980800458755599,0.589382341350701,10.980800458755599,7.2962129294057501E-2,3.9161617365495102E-3,7.2962129294057501E-2,{"$f":"output[[#This Row],[ishp_Program]]-output[[#This Row],[ishp_Baseline]]","v":0},{"$f":"output[[#This Row],[ishp_Market]]-output[[#This Row],[ishp_Program]]","v":-146.06862555656397}]
["All","Chemical","Base",2018,"101-200 HP","Traditional","Non ASD Control","constant","Pumps",2017,1698186.0351501401,1037939.32948997,1698186.0351501401,1825380.1691828801,1115680.98526877,1825380.1691828801,361.92779557575898,221.21197895169001,361.92779557575898,2.40483585100172,1.46984703622385,2.40483585100172,7.6556960397238401,0.20783584885873799,7.6556960397238401,5.0868412224078598E-2,1.38096909540689E-3,5.0868412224078598E-2,{"$f":"output[[#This Row],[ishp_Program]]-output[[#This Row],[ishp_Baseline]]","v":0},{"$f":"output[[#This Row],[ishp_Market]]-output[[#This Row],[ishp_Program]]","v":-140.71581662406896}]
["All","Chemical","Base",2018,"101-200 HP","Traditional","Non ASD Control","constant","Pumps",2018,1565775.64250073,925383.35699189105,1565775.64250073,1683052.23812404,994694.57043058297,1683052.23812404,333.70768274301901,197.22336159062701,333.70768274301901,2.2173267956346798,1.3104542298380499,2.2173267956346798,2.9008230550146399,0,2.9008230550146399,1.92745717941172E-2,0,1.92745717941172E-2,{"$f":"output[[#This Row],[ishp_Program]]-output[[#This Row],[ishp_Baseline]]","v":0},{"$f":"output[[#This Row],[ishp_Market]]-output[[#This Row],[ishp_Program]]","v":-136.484321152392}]
["All","Chemical","Base",2018,"101-200 HP","Traditional","Non ASD Control","constant","Pumps","2014 and before",8604085.2442218997,6006136.7039941,8604085.2442218997,9248531.2290141191,6455996.34312326,9248531.2290141191,1826.7280120011801,1275.15916563733,1826.7280120011801,12.137727654492901,8.4728183763277993,12.137727654492901,600.84748087708601,559.10505033779395,600.84748087708601,3.99234206562847,3.71498372317471,3.99234206562847,{"$f":"output[[#This Row],[ishp_Program]]-output[[#This Row],[ishp_Baseline]]","v":0},{"$f":"output[[#This Row],[ishp_Market]]-output[[#This Row],[ishp_Program]]","v":-551.56884636385007}]
["All","Chemical","Base",2018,"101-200 HP","Traditional","Non ASD Control","variable","Fans",2015,677710.50200277404,452067.41663033603,562001.63325754902,728471.018602781,485927.26613594801,604095.55558853899,176.939054942627,118.027360108105,146.729374225333,1.1756747836719399,0.78423495088442496,0.97494600814175203,3.5333165291453801,1.6988035622789299,3.5333165291453801,2.3477186240168601E-2,1.1287731310823401E-2,2.3477186240168601E-2,{"$f":"output[[#This Row],[ishp_Program]]-output[[#This Row],[ishp_Baseline]]","v":-30.209680717293992},{"$f":"output[[#This Row],[ishp_Market]]-output[[#This Row],[ishp_Program]]","v":-28.702014117228003}]
["All","Chemical","Base",2018,"101-200 HP","Traditional","Non ASD Control","variable","Fans",2016,465010.18363049801,299524.109632343,396967.32834517403,499839.44638442202,321958.46544380602,426700.18123822799,121.87354391816601,78.501645802306896,104.04033465984401,0.80979098948947703,0.52160561994888299,0.69129790471657404,2.3944477907110802,0.82601197133964299,2.3944477907110802,1.5909952097747999E-2,5.4884516368082503E-3,1.5909952097747999E-2,{"$f":"output[[#This Row],[ishp_Program]]-output[[#This Row],[ishp_Baseline]]","v":-17.833209258322},{"$f":"output[[#This Row],[ishp_Market]]-output[[#This Row],[ishp_Program]]","v":-25.53868885753711}]
["All","Chemical","Base",2018,"101-200 HP","Traditional","Non ASD Control","variable","Fans",2017,291107.97663310298,178647.493731628,242744.62793978999,312911.96408292302,192028.191012127,260926.200572481,76.295879152862895,46.821347014783903,63.620430510026999,0.50694936314194605,0.31110529577929502,0.42272711302343502,1.2011498295359,0.36584119756221001,1.2011498295359,7.9810619902717806E-3,2.4308385220080399E-3,7.9810619902717806E-3,{"$f":"output[[#This Row],[ishp_Program]]-output[[#This Row],[ishp_Baseline]]","v":-12.675448642835896},{"$f":"output[[#This Row],[ishp_Market]]-output[[#This Row],[ishp_Program]]","v":-16.799083495243096}]
["All","Chemical","Base",2018,"101-200 HP","Traditional","Non ASD Control","variable","Fans",2018,220099.06248035401,128096.390535543,178900.87624591801,236584.482260132,137690.81018665599,192300.55187673701,57.685301745695703,33.572514381958698,46.887755506620103,0.383291041499639,0.223073185262184,0.31154654821674499,0.16904171428269399,2.72262772164335E-2,0.16904171428269399,1.1232007593534501E-3,1.8090549645470799E-4,1.1232007593534501E-3,{"$f":"output[[#This Row],[ishp_Program]]-output[[#This Row],[ishp_Baseline]]","v":-10.797546239075601},{"$f":"output[[#This Row],[ishp_Market]]-output[[#This Row],[ishp_Program]]","v":-13.315241124661405}]
["All","Chemical","Base",2018,"101-200 HP","Traditional","Non ASD Control","variable","Fans","2014 and before",2570045.63570735,1731548.3317113,2102850.4137776601,2762542.0538218301,1861241.30175648,2260353.90976961,670.99660488900395,452.07876297485302,549.01962386589901,4.4584492019202902,3.0038456011618102,3.6479709226970001,201.600772310921,195.06133224213499,201.600772310921,1.3395400153549599,1.2960885863264799,1.3395400153549599,{"$f":"output[[#This Row],[ishp_Program]]-output[[#This Row],[ishp_Baseline]]","v":-121.97698102310494},{"$f":"output[[#This Row],[ishp_Market]]-output[[#This Row],[ishp_Program]]","v":-96.940860891045986}]
["All","Chemical","Base",2018,"101-200 HP","Traditional","Non ASD Control","variable","Pumps",2015,846210.54483301798,618874.82964687306,462921.10667392297,909591.71464101097,665228.55438742402,497593.89756379998,219.4190620551,160.471806313195,120.033620063131,1.4579339671435201,1.06625784925711,0.79756558181482395,4.0190669626530298,0.81739293640017696,4.0190669626530298,2.6704763871448701E-2,5.4311823016622999E-3,2.6704763871448701E-2,{"$f":"output[[#This Row],[ishp_Program]]-output[[#This Row],[ishp_Baseline]]","v":-99.385441991969003},{"$f":"output[[#This Row],[ishp_Market]]-output[[#This Row],[ishp_Program]]","v":40.438186250064007}]
["All","Chemical","Base",2018,"101-200 HP","Traditional","Non ASD Control","variable","Pumps",2016,691752.778076533,473850.872052569,412232.68281106302,743565.06115446496,509342.30236930598,443108.91075361101,180.058787665018,123.340326573083,107.301509231735,1.19640390475095,0.819537053641749,0.71296683874907396,3.1001443535441999,0.24433202601433701,3.1001443535441999,2.05989658042804E-2,1.6234686113909399E-3,2.05989658042804E-2,{"$f":"output[[#This Row],[ishp_Program]]-output[[#This Row],[ishp_Baseline]]","v":-72.757278433283005},{"$f":"output[[#This Row],[ishp_Market]]-output[[#This Row],[ishp_Program]]","v":16.038817341348008}]
["All","Chemical","Base",2018,"101-200 HP","Traditional","Non ASD Control","variable","Pumps",2017,521752.185079041,352312.86953127198,289805.13671829499,560831.42374146101,378701.10345916398,311511.54145849601,135.80872948299501,91.704768201980599,75.434408404815798,0.90238358460461798,0.60933400798658199,0.50122530501538698,1.8414842874642401,8.6159612304798697E-2,1.8414842874642401,1.22357759964401E-2,5.7248911830430995E-4,1.22357759964401E-2,{"$f":"output[[#This Row],[ishp_Program]]-output[[#This Row],[ishp_Baseline]]","v":-60.374321078179207},{"$f":"output[[#This Row],[ishp_Market]]-output[[#This Row],[ishp_Program]]","v":16.270359797164801}]
["All","Chemical","Base",2018,"101-200 HP","Traditional","Non ASD Control","variable","Pumps",2018,467348.78946973901,314107.44024749199,243196.255831863,502353.21380102303,337634.08752202999,261411.65539366999,121.647876402637,81.760141310582895,63.302417247267201,0.80829153755905103,0.54325675289423803,0.42061406808815399,5.4137505769233402E-2,0,5.4137505769233402E-2,3.5971764630719901E-4,0,3.5971764630719901E-4,{"$f":"output[[#This Row],[ishp_Program]]-output[[#This Row],[ishp_Baseline]]","v":-58.345459155369795},{"$f":"output[[#This Row],[ishp_Market]]-output[[#This Row],[ishp_Program]]","v":18.457724063315695}]
["All","Chemical","Base",2018,"101-200 HP","Traditional","Non ASD Control","variable","Pumps","2014 and before",2751746.3032568898,2038692.62572509,1433510.39380263,2957852.1013708301,2191390.7033918998,1540880.3222984399,713.516980568191,528.62496985726102,371.70360021509703,4.7409766150710402,3.5124582714768202,2.4697913635554598,242.57428601611801,231.780391300514,242.57428601611801,1.61178927585461,1.5400690451861401,1.61178927585461,{"$f":"output[[#This Row],[ishp_Program]]-output[[#This Row],[ishp_Baseline]]","v":-341.81338035309398},{"$f":"output[[#This Row],[ishp_Market]]-output[[#This Row],[ishp_Program]]","v":156.921369642164}]
["All","Chemical","Base",2018,"11-20 HP","Traditional","ASD Control","constant","Fans",2015,20547.239719364301,36534.680271651603,21348.552596397101,22086.2279743447,39271.1278239983,22947.559185867201,4.9503177696970697,8.8020716859847408,5.1433730622054803,0.31937533998045597,0.56787559264417697,0.33183052014228898,4.5542307486184E-2,0.17099988925111201,4.5542307486184E-2,2.9382133862054199E-3,1.1032250919426501E-2,2.9382133862054199E-3,{"$f":"output[[#This Row],[ishp_Program]]-output[[#This Row],[ishp_Baseline]]","v":0.19305529250841058},{"$f":"output[[#This Row],[ishp_Market]]-output[[#This Row],[ishp_Program]]","v":3.6586986237792605}]
["All","Chemical","Base",2018,"11-20 HP","Traditional","ASD Control","constant","Fans",2016,13141.236412264099,24730.029218593099,13590.630009070401,14125.5150195427,26582.308407065699,14608.5681967497,3.2003229816852201,6.0225749208916604,3.3097650928048998,0.20647245043130399,0.388553220702688,0.21353323179386499,1.9156581521349102E-2,0.122029896719688,1.9156581521349102E-2,1.23590848524833E-3,7.8728965625605701E-3,1.23590848524833E-3,{"$f":"output[[#This Row],[ishp_Program]]-output[[#This Row],[ishp_Baseline]]","v":0.10944211111967972},{"$f":"output[[#This Row],[ishp_Market]]-output[[#This Row],[ishp_Program]]","v":2.7128098280867605}]
["All","Chemical","Base",2018,"11-20 HP","Traditional","ASD Control","constant","Fans",2017,7853.5148832020204,15673.7480272922,8160.6992076094803,8441.74314795385,16847.711754536402,8771.9355782594394,1.91258899689697,3.8170727964435298,1.98739847617071,0.123392838509482,0.246262761060873,0.128219256527143,7.84403671560268E-3,6.2679301773878093E-2,7.84403671560268E-3,5.0606688487759199E-4,4.04382592089536E-3,5.0606688487759199E-4,{"$f":"output[[#This Row],[ishp_Program]]-output[[#This Row],[ishp_Baseline]]","v":7.4809479273739932E-2},{"$f":"output[[#This Row],[ishp_Market]]-output[[#This Row],[ishp_Program]]","v":1.8296743202728198}]
["All","Chemical","Base",2018,"11-20 HP","Traditional","ASD Control","constant","Fans",2018,5662.5337446562999,12045.0817137096,5914.6069364509704,6086.6575221310604,12947.258334066501,6357.61099599114,1.3790130783035801,2.9333732850803802,1.44040118543895,8.8968585697005706E-2,0.18924988936002499,9.2929108737996799E-2,0,9.9571771295205499E-3,0,0,6.42398524485197E-4,0,{"$f":"output[[#This Row],[ishp_Program]]-output[[#This Row],[ishp_Baseline]]","v":6.1388107135369907E-2},{"$f":"output[[#This Row],[ishp_Market]]-output[[#This Row],[ishp_Program]]","v":1.4929720996414302}]
["All","Chemical","Base",2018,"11-20 HP","Traditional","ASD Control","constant","Fans","2014 and before",75031.046878477995,131786.720188359,78303.164252245202,80650.872289676103,141657.545530467,84168.071254738301,18.0767601738475,31.750549060061999,18.865090918080199,1.1662425918611301,2.0484225200039998,1.21710263987614,6.3300200819680201,6.7563800259035904,6.3300200819680201,0.40838839238503299,0.435895485542167,0.40838839238503299,{"$f":"output[[#This Row],[ishp_Program]]-output[[#This Row],[ishp_Baseline]]","v":0.78833074423269878},{"$f":"output[[#This Row],[ishp_Market]]-output[[#This Row],[ishp_Program]]","v":12.8854581419818}]
["All","Chemical","Base",2018,"11-20 HP","Traditional","ASD Control","constant","Pumps",2015,389449.65815420501,627544.63979873399,389449.65815420501,418619.43754995498,674547.73331965902,418619.43754995498,115.514574184897,186.13587232797701,115.514574184897,7.4525531732191901,12.0087659566437,7.4525531732191901,2.2003937014374499,10.053200952564699,2.2003937014374499,0.14196088396370601,0.64859360984288805,0.14196088396370601,{"$f":"output[[#This Row],[ishp_Program]]-output[[#This Row],[ishp_Baseline]]","v":0},{"$f":"output[[#This Row],[ishp_Market]]-output[[#This Row],[ishp_Program]]","v":70.621298143080011}]
["All","Chemical","Base",2018,"11-20 HP","Traditional","ASD Control","constant","Pumps",2016,288846.64970816701,492056.01040200703,288846.64970816701,310481.26377130899,528911.00558111805,310481.26377130899,86.602570111416895,147.52919994965399,86.602570111416895,5.5872625878333499,9.5180128999777001,5.5872625878333499,1.47382046125896,8.0636472009858409,1.47382046125896,9.5085191048965706E-2,0.52023530328940903,9.5085191048965706E-2,{"$f":"output[[#This Row],[ishp_Program]]-output[[#This Row],[ishp_Baseline]]","v":0},{"$f":"output[[#This Row],[ishp_Market]]-output[[#This Row],[ishp_Program]]","v":60.926629838237091}]
["All","Chemical","Base",2018,"11-20 HP","Traditional","ASD Control","constant","Pumps",2017,229461.813053861,435732.33704595402,229461.813053861,246648.502851595,468368.68909069599,246648.502851595,68.797691692000896,130.642125525636,68.797691692000896,4.4385607543226397,8.4285242274604002,4.4385607543226397,0.95094628422668104,6.6543647642102401,0.95094628422668104,6.1351373175914901E-2,0.42931385575549902,6.1351373175914901E-2,{"$f":"output[[#This Row],[ishp_Program]]-output[[#This Row],[ishp_Baseline]]","v":0},{"$f":"output[[#This Row],[ishp_Market]]-output[[#This Row],[ishp_Program]]","v":61.844433833635108}]
["All","Chemical","Base",2018,"11-20 HP","Traditional","ASD Control","constant","Pumps",2018,209353.94491208499,404841.88350323099,209353.94491208499,225034.55538600101,435164.540577623,225034.55538600101,62.768911152920303,121.38048904340501,62.768911152920303,4.0496071711561399,7.8309992931229599,4.0496071711561399,6.8115900457862394E-2,4.62865938976707,6.8115900457862394E-2,4.3945742230878902E-3,0.29862318643658498,4.3945742230878902E-3,{"$f":"output[[#This Row],[ishp_Program]]-output[[#This Row],[ishp_Baseline]]","v":0},{"$f":"output[[#This Row],[ishp_Market]]-output[[#This Row],[ishp_Program]]","v":58.611577890484703}]
["All","Chemical","Base",2018,"11-20 HP","Traditional","ASD Control","constant","Pumps","2014 and before",1190126.47288897,1901367.9662570399,1190126.47288897,1279266.94570835,2043780.4269296899,1279266.94570835,353.00314139063403,563.96431834591601,353.00314139063403,22.774396218750599,36.384794731994603,22.774396218750599,105.760737341362,128.913264754865,105.760737341362,6.8232733768621197,8.3169848228945593,6.8232733768621197,{"$f":"output[[#This Row],[ishp_Program]]-output[[#This Row],[ishp_Baseline]]","v":0},{"$f":"output[[#This Row],[ishp_Market]]-output[[#This Row],[ishp_Program]]","v":210.96117695528199}]
["All","Chemical","Base",2018,"11-20 HP","Traditional","ASD Control","variable","Fans",2015,174328.4849104,237574.71908499399,186335.35182425001,187385.68843018901,255369.06554446,200291.869675886,89.867579514280706,122.47146511327099,96.057205195088997,5.7979083557600504,7.90138484601753,6.1972390448444497,1.1480051454259701,2.37928157346603,1.1480051454259701,7.40648480919983E-2,0.15350203699780801,7.40648480919983E-2,{"$f":"output[[#This Row],[ishp_Program]]-output[[#This Row],[ishp_Baseline]]","v":6.189625680808291},{"$f":"output[[#This Row],[ishp_Market]]-output[[#This Row],[ishp_Program]]","v":26.414259918181997}]
["All","Chemical","Base",2018,"11-20 HP","Traditional","ASD Control","variable","Fans",2016,113965.511442713,160812.403472153,120879.837919386,122501.528249772,172857.252492217,129933.737779548,59.386280375532799,83.797724061994998,62.989266274982697,3.8313729274537298,5.4063047781932303,4.0638236306440403,0.70844310575624503,1.69791621473365,0.70844310575624503,4.5706006822983598E-2,0.109542981595719,4.5706006822983598E-2,{"$f":"output[[#This Row],[ishp_Program]]-output[[#This Row],[ishp_Baseline]]","v":3.602985899449898},{"$f":"output[[#This Row],[ishp_Market]]-output[[#This Row],[ishp_Program]]","v":20.808457787012301}]
["All","Chemical","Base",2018,"11-20 HP","Traditional","ASD Control","variable","Fans",2017,70242.033149113398,101921.96173349999,75103.902850343293,75503.161431981993,109555.916667339,80729.185173834005,36.602416133915703,53.110507901090003,39.135887476004001,2.3614462021881102,3.4264843807154799,2.5248959661938,0.324620275863654,0.87211581481967204,0.324620275863654,2.0943243604106699E-2,5.6265536439978898E-2,2.0943243604106699E-2,{"$f":"output[[#This Row],[ishp_Program]]-output[[#This Row],[ishp_Baseline]]","v":2.5334713420882977},{"$f":"output[[#This Row],[ishp_Market]]-output[[#This Row],[ishp_Program]]","v":13.974620425086002}]
["All","Chemical","Base",2018,"11-20 HP","Traditional","ASD Control","variable","Fans",2018,52461.167236759997,78325.768371668993,56565.528343989099,56390.5086627934,84192.368422707004,60802.286416953903,27.3369859610203,40.814769154852002,29.475727202916602,1.7636765136142101,2.6332109132162498,1.9016598195430101,0,0.13854352872249601,0,0,8.9382921756449192E-3,0,{"$f":"output[[#This Row],[ishp_Program]]-output[[#This Row],[ishp_Baseline]]","v":2.1387412418963017},{"$f":"output[[#This Row],[ishp_Market]]-output[[#This Row],[ishp_Program]]","v":11.3390419519354}]
["All","Chemical","Base",2018,"11-20 HP","Traditional","ASD Control","variable","Fans","2014 and before",632835.23189152498,856971.86331136501,681476.69611662603,680234.59076020098,921159.05587338703,732519.30065576197,326.23108352418802,441.775118433562,351.30610586598698,21.047166678979799,28.5016205441007,22.664910055870099,89.931305498441304,94.007841580295405,89.931305498441304,5.8020197095768502,6.0650220374384096,5.8020197095768502,{"$f":"output[[#This Row],[ishp_Program]]-output[[#This Row],[ishp_Baseline]]","v":25.075022341798956},{"$f":"output[[#This Row],[ishp_Market]]-output[[#This Row],[ishp_Program]]","v":90.469012567575021}]
["All","Chemical","Base",2018,"11-20 HP","Traditional","ASD Control","variable","Pumps",2015,895799.57947345695,968559.05901736603,898302.41983963503,962894.96797601902,1041104.13253776,965585.27108562295,397.126781016915,429.38258751854602,398.23634275460103,25.6210826462525,27.702102420551299,25.6926672744904,6.7946791768765804,8.8596388601719696,6.7946791768765804,0.438366398508166,0.57158960388206304,0.438366398508166,{"$f":"output[[#This Row],[ishp_Program]]-output[[#This Row],[ishp_Baseline]]","v":1.1095617376860218},{"$f":"output[[#This Row],[ishp_Market]]-output[[#This Row],[ishp_Program]]","v":31.146244763944992}]
["All","Chemical","Base",2018,"11-20 HP","Traditional","ASD Control","variable","Pumps",2016,689639.05869239604,759788.62374390999,691437.14081724104,741293.02418845601,816696.79166232795,743225.78266445198,309.04246796688199,340.47803478560098,309.848228212717,19.9382237397989,21.9663248248775,19.990208271788202,4.8358913725558796,6.6994121194008196,4.8358913725558796,0.31199299177779799,0.432220136735537,0.31199299177779799,{"$f":"output[[#This Row],[ishp_Program]]-output[[#This Row],[ishp_Baseline]]","v":0.80576024583501749},{"$f":"output[[#This Row],[ishp_Market]]-output[[#This Row],[ishp_Program]]","v":30.629806572883979}]
["All","Chemical","Base",2018,"11-20 HP","Traditional","ASD Control","variable","Pumps",2017,518709.62118536799,568333.86533158505,520202.974996089,557560.97181215195,610902.07184492098,559166.17782329605,232.44521821782999,254.682936178608,233.11442298718899,14.996465691472901,16.4311571728134,15.0396401927218,2.8940973548897402,4.1180854259480704,2.8940973548897402,0.186715958379983,0.26568293070632698,0.186715958379983,{"$f":"output[[#This Row],[ishp_Program]]-output[[#This Row],[ishp_Baseline]]","v":0.66920476935899842},{"$f":"output[[#This Row],[ishp_Market]]-output[[#This Row],[ishp_Program]]","v":21.568513191419015}]
["All","Chemical","Base",2018,"11-20 HP","Traditional","ASD Control","variable","Pumps",2018,463880.182821472,509701.888437916,465323.83425446501,498624.80851479998,547878.55988191604,500176.58944012498,207.874937959422,228.40865456330499,208.52186999744001,13.4112863199627,14.7360422298906,13.4530238708025,1.5912281813636499E-2,0.40693397440234602,1.5912281813636499E-2,1.02659882668623E-3,2.6253804800151399E-2,1.02659882668623E-3,{"$f":"output[[#This Row],[ishp_Program]]-output[[#This Row],[ishp_Baseline]]","v":0.64693203801800792},{"$f":"output[[#This Row],[ishp_Market]]-output[[#This Row],[ishp_Program]]","v":19.886784565864986}]
["All","Chemical","Base",2018,"11-20 HP","Traditional","ASD Control","variable","Pumps","2014 and before",2726160.1974292002,2941094.4914658298,2734778.4689556798,2930349.5962166502,3161382.4688766198,2939613.3762804698,1208.56411249696,1303.84900241741,1212.38477339888,77.971878225610894,84.119290478542794,78.218372477347103,355.87026213141303,361.68980359159599,355.87026213141303,22.959371750413698,23.3348260381674,22.959371750413698,{"$f":"output[[#This Row],[ishp_Program]]-output[[#This Row],[ishp_Baseline]]","v":3.8206609019200641},{"$f":"output[[#This Row],[ishp_Market]]-output[[#This Row],[ishp_Program]]","v":91.464229018529977}]
["All","Chemical","Base",2018,"11-20 HP","Traditional","Non ASD Control","constant","Fans",2015,711847.94997086294,695549.23278586799,711006.43708379997,765165.36142367998,747645.87032153003,764260.81922137702,163.308270516108,159.56910779853399,163.11521522359999,10.5360174526521,10.2947811482925,10.523562272490301,2.4136762439544599,2.29672652603203,2.4136762439544599,0.15572104799706199,0.14817590490529201,0.15572104799706199,{"$f":"output[[#This Row],[ishp_Program]]-output[[#This Row],[ishp_Baseline]]","v":-0.19305529250800646},{"$f":"output[[#This Row],[ishp_Market]]-output[[#This Row],[ishp_Program]]","v":-3.5461074250659976}]
["All","Chemical","Base",2018,"11-20 HP","Traditional","Non ASD Control","constant","Fans",2016,469165.54539986298,457663.15767195,468693.60676775698,504306.04475031298,491942.128181579,503798.75791466201,108.799035001788,106.131642442203,108.689592890669,7.0192925807605597,6.84720273820668,7.0122317993980001,1.2097440978202401,1.1167410096849799,1.2097440978202401,7.8048006310983201E-2,7.2047807076450907E-2,7.8048006310983201E-2,{"$f":"output[[#This Row],[ishp_Program]]-output[[#This Row],[ishp_Baseline]]","v":-0.10944211111899449},{"$f":"output[[#This Row],[ishp_Market]]-output[[#This Row],[ishp_Program]]","v":-2.5579504484660021}]
["All","Chemical","Base",2018,"11-20 HP","Traditional","Non ASD Control","constant","Fans",2017,281491.72702961502,272967.59580307303,281169.131979539,302575.45738413301,293412.86872872303,302228.69996480702,65.277658519674304,63.3009207545729,65.202849040400594,4.2114618399789903,4.0839303712627597,4.2066354219613302,0.54339950338097898,0.49460526302952201,0.54339950338097898,3.50580324761922E-2,3.1910016969646501E-2,3.50580324761922E-2,{"$f":"output[[#This Row],[ishp_Program]]-output[[#This Row],[ishp_Baseline]]","v":-7.4809479273710622E-2},{"$f":"output[[#This Row],[ishp_Market]]-output[[#This Row],[ishp_Program]]","v":-1.9019282858276938}]
["All","Chemical","Base",2018,"11-20 HP","Traditional","Non ASD Control","constant","Fans",2018,202217.53102916401,195727.14413820099,201952.81190950601,217363.624103248,210387.10723415299,217079.07752152899,46.894049343853901,45.388934917935998,46.832661236718501,3.0254225383131499,2.92831838180232,3.0214620152721601,4.5923308884979898E-2,3.68090310596009E-2,4.5923308884979898E-2,2.96279412161161E-3,2.37477619739361E-3,2.96279412161161E-3,{"$f":"output[[#This Row],[ishp_Program]]-output[[#This Row],[ishp_Baseline]]","v":-6.1388107135400105E-2},{"$f":"output[[#This Row],[ishp_Market]]-output[[#This Row],[ishp_Program]]","v":-1.4437263187825025}]
["All","Chemical","Base",2018,"11-20 HP","Traditional","Non ASD Control","constant","Fans","2014 and before",2724822.2521156701,2664153.7729720701,2721385.9801962702,2928911.4387991298,2863698.8905676799,2925217.7901129699,625.11384555512598,611.19561427527196,624.32551481089297,40.329925519685503,39.431975114533699,40.279065471670499,264.19898693128403,263.71650372728601,264.19898693128403,17.0450959310506,17.0139679824056,17.0450959310506,{"$f":"output[[#This Row],[ishp_Program]]-output[[#This Row],[ishp_Baseline]]","v":-0.78833074423300786},{"$f":"output[[#This Row],[ishp_Market]]-output[[#This Row],[ishp_Program]]","v":-13.129900535621005}]
["All","Chemical","Base",2018,"11-20 HP","Traditional","Non ASD Control","constant","Pumps",2015,1194677.46567628,913329.33509749698,1194677.46567628,1284158.8078554301,981737.70229629998,1284158.8078554301,297.36104864369298,227.33212657350799,297.36104864369298,19.184583783464099,14.666588811194099,19.184583783464099,5.7564652313742499,1.1579583899949699,5.7564652313742499,0.37138485363704798,7.4706992902901503E-2,0.37138485363704798,{"$f":"output[[#This Row],[ishp_Program]]-output[[#This Row],[ishp_Baseline]]","v":0},{"$f":"output[[#This Row],[ishp_Market]]-output[[#This Row],[ishp_Program]]","v":-70.02892207018499}]
["All","Chemical","Base",2018,"11-20 HP","Traditional","Non ASD Control","constant","Pumps",2016,928119.23934613005,694473.64340038795,928119.23934613005,997635.37037315499,746489.719291077,997635.37037315499,233.515210613325,174.729875461148,233.515210613325,15.065497458924201,11.272895191041799,15.065497458924201,4.1139034836035897,0.34613257206966103,4.1139034836035897,0.26541312797442501,2.2331133681913602E-2,0.26541312797442501,{"$f":"output[[#This Row],[ishp_Program]]-output[[#This Row],[ishp_Baseline]]","v":0},{"$f":"output[[#This Row],[ishp_Market]]-output[[#This Row],[ishp_Program]]","v":-58.785335152176998}]
["All","Chemical","Base",2018,"11-20 HP","Traditional","Non ASD Control","constant","Pumps",2017,739490.03195198998,516348.10981857602,739490.03195198998,794877.83534519398,555022.58324398799,794877.83534519398,186.05601870658299,129.91341252555401,186.05601870658299,12.003614110102101,8.3815104855196108,12.003614110102101,2.63477728816058,0.122057876333541,2.63477728816058,0.16998563149423099,7.87470169893815E-3,0.16998563149423099,{"$f":"output[[#This Row],[ishp_Program]]-output[[#This Row],[ishp_Baseline]]","v":0},{"$f":"output[[#This Row],[ishp_Market]]-output[[#This Row],[ishp_Program]]","v":-56.142606181028981}]
["All","Chemical","Base",2018,"11-20 HP","Traditional","Non ASD Control","constant","Pumps",2018,675591.81750037603,460354.40961190301,675591.81750037603,726193.64463115402,494834.95489183499,726193.64463115402,169.97919972371599,115.825372818509,169.97919972371599,10.966399982175201,7.4726046979683201,10.966399982175201,0.28267271758908602,0,0.28267271758908602,1.8236949521876499E-2,0,1.8236949521876499E-2,{"$f":"output[[#This Row],[ishp_Program]]-output[[#This Row],[ishp_Baseline]]","v":0},{"$f":"output[[#This Row],[ishp_Market]]-output[[#This Row],[ishp_Program]]","v":-54.153826905206998}]
["All","Chemical","Base",2018,"11-20 HP","Traditional","Non ASD Control","constant","Pumps","2014 and before",3908039.6856636102,3008682.3556616702,3908039.6856636102,4200751.8581198202,3234032.6641007299,4200751.8581198202,972.73014052563701,748.87571417351603,972.73014052563701,62.756783259718503,48.314562204742998,62.756783259718503,344.24747710460701,328.35131891983502,344.24747710460701,22.209514651910101,21.183956059344201,22.209514651910101,{"$f":"output[[#This Row],[ishp_Program]]-output[[#This Row],[ishp_Baseline]]","v":0},{"$f":"output[[#This Row],[ishp_Market]]-output[[#This Row],[ishp_Program]]","v":-223.85442635212098}]
["All","Chemical","Base",2018,"11-20 HP","Traditional","Non ASD Control","variable","Fans",2015,506851.74043881299,379414.76400538499,482139.74097318703,544814.93579768005,407832.92982938798,518252.00757207902,126.951384623745,95.032187510047393,120.76175894293701,8.1904119112093703,6.1311088716159601,7.7910812221249701,2.2781282400751799,1.3678270743779799,2.2781282400751799,0.146976015488721,8.8246908024385895E-2,0.146976015488721,{"$f":"output[[#This Row],[ishp_Program]]-output[[#This Row],[ishp_Baseline]]","v":-6.1896256808079926},{"$f":"output[[#This Row],[ishp_Market]]-output[[#This Row],[ishp_Program]]","v":-25.729571432889614}]
["All","Chemical","Base",2018,"11-20 HP","Traditional","Non ASD Control","variable","Fans",2016,341402.24569454102,249650.421245623,327171.486461288,366973.27389706299,268349.23779692,351676.63079723902,86.437234803583706,63.207235313058597,82.834248904133801,5.5765957937795898,4.0778861492295899,5.3441450905892802,1.4512506097426501,0.66508074461712097,1.4512506097426501,9.3629071596300503E-2,4.2908435136588499E-2,9.3629071596300503E-2,{"$f":"output[[#This Row],[ishp_Program]]-output[[#This Row],[ishp_Baseline]]","v":-3.6029858994499051},{"$f":"output[[#This Row],[ishp_Market]]-output[[#This Row],[ishp_Program]]","v":-19.627013591075205}]
["All","Chemical","Base",2018,"11-20 HP","Traditional","Non ASD Control","variable","Fans",2017,211157.45692626899,148900.941961968,201150.97294332899,226973.15045004699,160053.62251491999,216217.18081678401,53.461472251690502,37.699182841219503,50.928000909602197,3.4491272420445398,2.4322053445948,3.28567747803885,0.70098944376162498,0.29456466071753901,0.70098944376162498,4.5225125403975802E-2,1.9004171659196101E-2,4.5225125403975802E-2,{"$f":"output[[#This Row],[ishp_Program]]-output[[#This Row],[ishp_Baseline]]","v":-2.5334713420883048},{"$f":"output[[#This Row],[ishp_Market]]-output[[#This Row],[ishp_Program]]","v":-13.228818068382694}]
["All","Chemical","Base",2018,"11-20 HP","Traditional","Non ASD Control","variable","Fans",2018,157603.77532163,106767.09095804,149156.36183596999,169408.29809321999,114763.946070797,160328.173337485,39.902592045617702,27.031609272695601,37.763850803721397,2.5743607771366199,1.74397479178681,2.4363774712078299,3.9417907552674998E-2,2.1921804226263199E-2,3.9417907552674998E-2,2.54309080985E-3,1.4143099500814899E-3,2.54309080985E-3,{"$f":"output[[#This Row],[ishp_Program]]-output[[#This Row],[ishp_Baseline]]","v":-2.1387412418963052},{"$f":"output[[#This Row],[ishp_Market]]-output[[#This Row],[ishp_Program]]","v":-10.732241531025796}]
["All","Chemical","Base",2018,"11-20 HP","Traditional","Non ASD Control","variable","Fans","2014 and before",1927426.5646162101,1453267.7593470099,1827314.8663220101,2071790.81430597,1562117.5145221001,1964180.7498095301,482.76340321288899,364.000632844672,457.68838087108901,31.146026013734701,23.483911796430402,29.528282636844501,160.37414185035601,157.05769479733701,160.37414185035601,10.346718829055201,10.132754503054,10.346718829055201,{"$f":"output[[#This Row],[ishp_Program]]-output[[#This Row],[ishp_Baseline]]","v":-25.075022341799979},{"$f":"output[[#This Row],[ishp_Market]]-output[[#This Row],[ishp_Program]]","v":-93.687748026417012}]
["All","Chemical","Base",2018,"11-20 HP","Traditional","Non ASD Control","variable","Pumps",2015,411911.73502524197,310015.88410124503,408261.74794606102,442763.92397863202,333236.07382042799,438840.55286722101,125.217292711797,94.241912536027996,124.10773097411101,8.0785350136643697,6.0801233894211597,8.0069503854265296,2.1088954801879298,0.48003867713340898,2.1088954801879298,0.13605777291535001,3.09702372344135E-2,0.13605777291535001,{"$f":"output[[#This Row],[ishp_Program]]-output[[#This Row],[ishp_Baseline]]","v":-1.1095617376859934},{"$f":"output[[#This Row],[ishp_Market]]-output[[#This Row],[ishp_Program]]","v":-29.865818438083011}]
["All","Chemical","Base",2018,"11-20 HP","Traditional","Non ASD Control","variable","Pumps",2016,332105.29086298001,235728.61646976499,329483.07947000401,356979.97714861698,253384.68984335099,354161.36212230701,102.050216670417,72.435330143784,101.244456424582,6.5838849464785598,4.6732471060505798,6.5319004144892103,1.5992230000212899,0.14349135810470601,1.5992230000212899,0.103175677420728,9.2575069744971795E-3,0.103175677420728,{"$f":"output[[#This Row],[ishp_Program]]-output[[#This Row],[ishp_Baseline]]","v":-0.80576024583500327},{"$f":"output[[#This Row],[ishp_Market]]-output[[#This Row],[ishp_Program]]","v":-28.809126280797997}]
["All","Chemical","Base",2018,"11-20 HP","Traditional","Non ASD Control","variable","Pumps",2017,250498.84902704999,175266.587437843,248321.03449783099,269261.21281917603,188394.05483693801,266920.27998171898,76.973967359790294,53.856393484848198,76.304762590431594,4.9660624103090498,3.4746060312805298,4.9228879090601003,0.93514833449445001,5.0599833288601202E-2,0.93514833449445001,6.0332150612545203E-2,3.2645053734581399E-3,6.0332150612545203E-2,{"$f":"output[[#This Row],[ishp_Program]]-output[[#This Row],[ishp_Baseline]]","v":-0.66920476935869999},{"$f":"output[[#This Row],[ishp_Market]]-output[[#This Row],[ishp_Program]]","v":-22.448369105583396}]
["All","Chemical","Base",2018,"11-20 HP","Traditional","Non ASD Control","variable","Pumps",2018,224240.64584815799,156260.36941045499,222135.314182395,241036.27022218599,167964.27107929901,238773.24921465601,68.905275298852104,48.016111137222602,68.258343260834906,4.4455016321840004,3.0978136217563002,4.4037640813441898,0,0,0,0,0,0,{"$f":"output[[#This Row],[ishp_Program]]-output[[#This Row],[ishp_Baseline]]","v":-0.6469320380171979},{"$f":"output[[#This Row],[ishp_Market]]-output[[#This Row],[ishp_Program]]","v":-20.242232123612304}]
["All","Chemical","Base",2018,"11-20 HP","Traditional","Non ASD Control","variable","Pumps","2014 and before",1340836.4390287499,1021251.90183528,1328268.08663135,1441265.088312,1097743.66928274,1427755.3663200401,407.60166459986601,310.45097153338401,403.78100369795499,26.296881587088102,20.029094937637701,26.0503873353519,141.68586184519901,136.120031713716,141.68586184519901,9.1410233448515807,8.7819375299171902,9.1410233448515807,{"$f":"output[[#This Row],[ishp_Program]]-output[[#This Row],[ishp_Baseline]]","v":-3.820660901911026},{"$f":"output[[#This Row],[ishp_Market]]-output[[#This Row],[ishp_Program]]","v":-93.33003216457098}]
["All","Chemical","Base",2018,"201-500 HP","Traditional","ASD Control","constant","Fans",2015,60597.424982700999,99589.458296296405,71004.780146709498,65136.172113905297,107048.708722689,76323.038179697993,15.2865140385851,25.1227779526278,17.911909108830599,4.3613449468145798E-2,7.1676969907640095E-2,5.1103877628618101E-2,0.15373210830087999,0.48806603727393,0.15373210830087999,4.3860801227070003E-4,1.3924851277430201E-3,4.3860801227070003E-4,{"$f":"output[[#This Row],[ishp_Program]]-output[[#This Row],[ishp_Baseline]]","v":2.6253950702454993},{"$f":"output[[#This Row],[ishp_Market]]-output[[#This Row],[ishp_Program]]","v":7.2108688437972006}]
["All","Chemical","Base",2018,"201-500 HP","Traditional","ASD Control","constant","Fans",2016,39221.933146407398,67825.156697429804,45135.790119012003,42159.655939073302,72905.260934067293,48516.460798925997,9.9403839454928296,17.189568301464998,11.439188420197899,2.8360581870164998E-2,4.9042990874365297E-2,3.2636771526955599E-2,7.5747902028466305E-2,0.34829641341734302,7.5747902028466305E-2,2.1611384316252801E-4,9.9371301973564499E-4,2.1611384316252801E-4,{"$f":"output[[#This Row],[ishp_Program]]-output[[#This Row],[ishp_Baseline]]","v":1.4988044747050697},{"$f":"output[[#This Row],[ishp_Market]]-output[[#This Row],[ishp_Program]]","v":5.750379881267099}]
["All","Chemical","Base",2018,"201-500 HP","Traditional","ASD Control","constant","Fans",2017,23659.999772452698,42987.1880291942,27738.075243359101,25432.133755409399,46206.928412580899,29815.657079086701,5.9963765939465397,10.894647955067001,7.0299216715995696,1.7108064462044301E-2,3.1083161070091399E-2,2.00568378647633E-2,3.21861144143889E-2,0.17889858624966701,3.21861144143889E-2,9.1829142409098299E-5,5.1040966119733904E-4,9.1829142409098299E-5,{"$f":"output[[#This Row],[ishp_Program]]-output[[#This Row],[ishp_Baseline]]","v":1.0335450776530299},{"$f":"output[[#This Row],[ishp_Market]]-output[[#This Row],[ishp_Program]]","v":3.864726283467431}]
["All","Chemical","Base",2018,"201-500 HP","Traditional","ASD Control","constant","Fans",2018,17262.9778866503,33035.122904402997,20640.5011172339,18555.9749303604,35509.453609942801,22186.474650914799,4.3751190843986896,8.37240235279911,5.2311166093421502,1.24825080867295E-2,2.38870252576294E-2,1.49247264175239E-2,0,2.84196674355916E-2,0,0,8.1083216649334197E-5,0,{"$f":"output[[#This Row],[ishp_Program]]-output[[#This Row],[ishp_Baseline]]","v":0.8559975249434606},{"$f":"output[[#This Row],[ishp_Market]]-output[[#This Row],[ishp_Program]]","v":3.1412857434569599}]
["All","Chemical","Base",2018,"201-500 HP","Traditional","ASD Control","constant","Fans","2014 and before",220891.93582417999,359235.88154097198,263286.87808175897,237436.74181741101,386142.64906839101,283007.06525008299,55.7229565274518,90.622074253274604,66.417649910388505,0.158981331034099,0.25855085378965598,0.189494008303533,18.154782138022799,19.283986907833899,18.154782138022799,5.17968106648296E-2,5.50185075829785E-2,5.17968106648296E-2,{"$f":"output[[#This Row],[ishp_Program]]-output[[#This Row],[ishp_Baseline]]","v":10.694693382936705},{"$f":"output[[#This Row],[ishp_Market]]-output[[#This Row],[ishp_Program]]","v":24.204424342886099}]
["All","Chemical","Base",2018,"201-500 HP","Traditional","ASD Control","constant","Pumps",2015,146486.77357147401,283804.09365796798,146486.77357147401,157458.63291197701,305061.02027295,157458.63291197701,36.926110068002302,71.540801566296196,36.926110068002302,0.10535266781170401,0.20411070347017399,0.10535266781170401,0.31307764473896699,3.8639196489017098,0.31307764473896699,8.9323151138079001E-4,1.10240218228294E-2,8.9323151138079001E-4,{"$f":"output[[#This Row],[ishp_Program]]-output[[#This Row],[ishp_Baseline]]","v":0},{"$f":"output[[#This Row],[ishp_Market]]-output[[#This Row],[ishp_Program]]","v":34.614691498293894}]
["All","Chemical","Base",2018,"201-500 HP","Traditional","ASD Control","constant","Pumps",2016,107600.239838639,223896.18283100301,107600.239838639,115659.497802553,240666.00692504499,115659.497802553,27.2501100202314,56.702435091262402,27.2501100202314,7.7746390927907194E-2,0.16177584904782399,7.7746390927907194E-2,0.15961069598091199,3.09924023290827,0.15961069598091199,4.5538001706394397E-4,8.8423401794815205E-3,4.5538001706394397E-4,{"$f":"output[[#This Row],[ishp_Program]]-output[[#This Row],[ishp_Baseline]]","v":0},{"$f":"output[[#This Row],[ishp_Market]]-output[[#This Row],[ishp_Program]]","v":29.452325071031002}]
["All","Chemical","Base",2018,"201-500 HP","Traditional","ASD Control","constant","Pumps",2017,81800.343287750497,198267.68688571901,81800.343287750497,87927.189000002996,213117.936633459,87927.189000002996,20.716202469684902,50.211935300468603,20.716202469684902,5.9104714606804297E-2,0.14325801797565901,5.9104714606804297E-2,8.3029338196559693E-2,2.5575864726777899,8.3029338196559693E-2,2.368882687491E-4,7.2969656852433602E-3,2.368882687491E-4,{"$f":"output[[#This Row],[ishp_Program]]-output[[#This Row],[ishp_Baseline]]","v":0},{"$f":"output[[#This Row],[ishp_Market]]-output[[#This Row],[ishp_Program]]","v":29.495732830783702}]
["All","Chemical","Base",2018,"201-500 HP","Traditional","ASD Control","constant","Pumps",2018,73360.011613979907,184211.858915071,73360.011613979907,78854.676483867006,198009.327147809,78854.676483867006,18.578661075145199,46.652251240284301,18.578661075145199,5.3006165692283003E-2,0.13310200068554701,5.3006165692283003E-2,0,1.7790122816187799,0,0,5.0756413170293503E-3,0,{"$f":"output[[#This Row],[ishp_Program]]-output[[#This Row],[ishp_Baseline]]","v":0},{"$f":"output[[#This Row],[ishp_Market]]-output[[#This Row],[ishp_Program]]","v":28.073590165139102}]
["All","Chemical","Base",2018,"201-500 HP","Traditional","ASD Control","constant","Pumps","2014 and before",449300.943206119,859884.66501273902,449300.943206119,482953.583852257,924290.02642219304,482953.583852257,113.258935793212,216.758107315095,113.258935793212,0.32313533749846601,0.61842541316717803,0.32313533749846601,38.997283783291699,49.547452502013101,38.997283783291699,0.111261865287565,0.14136220400003699,0.111261865287565,{"$f":"output[[#This Row],[ishp_Program]]-output[[#This Row],[ishp_Baseline]]","v":0},{"$f":"output[[#This Row],[ishp_Market]]-output[[#This Row],[ishp_Program]]","v":103.499171521883}]
["All","Chemical","Base",2018,"201-500 HP","Traditional","ASD Control","variable","Fans",2015,577606.06305750797,641701.28608798597,731588.66333712998,620868.75718051603,689764.71241597703,786384.65422108199,314.64186348357401,349.55673315781598,398.52147520295898,0.89769433233544604,0.99730879645596504,1.1370084884535201,5.3856021079378298,6.7909197731420301,5.3856021079378298,1.53654839028183E-2,1.93749494240857E-2,1.53654839028183E-2,{"$f":"output[[#This Row],[ishp_Program]]-output[[#This Row],[ishp_Baseline]]","v":83.879611719384968},{"$f":"output[[#This Row],[ishp_Market]]-output[[#This Row],[ishp_Program]]","v":-48.964742045142998}]
["All","Chemical","Base",2018,"201-500 HP","Traditional","ASD Control","variable","Fans",2016,388317.417885501,437029.08948826499,479888.35082868702,417402.39248512499,469762.568290936,515831.98830575601,212.51593873810299,239.17455908671701,262.63030878493799,0.606322221792022,0.68238105302915097,0.74930187955759697,3.6945714853104001,4.8461741243076597,3.6945714853104001,1.0540860157804199E-2,1.3826459698452601E-2,1.0540860157804199E-2,{"$f":"output[[#This Row],[ishp_Program]]-output[[#This Row],[ishp_Baseline]]","v":50.114370046835006},{"$f":"output[[#This Row],[ishp_Market]]-output[[#This Row],[ishp_Program]]","v":-23.455749698220984}]
["All","Chemical","Base",2018,"201-500 HP","Traditional","ASD Control","variable","Fans",2017,244450.68437522199,276986.48346464499,310031.26863566099,262760.040634926,297732.77107614599,333252.61065647198,133.78144855837999,151.58743811129199,169.671982397915,0.38168744239195501,0.43248912442594101,0.484085541791485,1.84705753338262,2.48918354068583,1.84705753338262,5.2697789825467203E-3,7.1018075340537404E-3,5.2697789825467203E-3,{"$f":"output[[#This Row],[ishp_Program]]-output[[#This Row],[ishp_Baseline]]","v":35.89053383953501},{"$f":"output[[#This Row],[ishp_Market]]-output[[#This Row],[ishp_Program]]","v":-18.084544286623014}]
["All","Chemical","Base",2018,"201-500 HP","Traditional","ASD Control","variable","Fans",2018,186224.10337294301,212860.69044336301,242383.790634673,200172.28871557699,228803.95615757001,260538.33655321001,101.915567834847,116.493073363375,132.650291820842,0.29077194817360302,0.33236254882560701,0.37846017637900697,0.10872283003043,0.39542944354919601,0.10872283003043,3.1019352362462402E-4,1.1281867148336499E-3,3.1019352362462402E-4,{"$f":"output[[#This Row],[ishp_Program]]-output[[#This Row],[ishp_Baseline]]","v":30.734723985995004},{"$f":"output[[#This Row],[ishp_Market]]-output[[#This Row],[ishp_Program]]","v":-16.157218457466996}]
["All","Chemical","Base",2018,"201-500 HP","Traditional","ASD Control","variable","Fans","2014 and before",2088036.03112022,2314724.1800226402,2708146.9005267899,2244429.9298511301,2488097.0211063302,2910987.10337624,1137.42495079575,1260.90977230669,1475.2206423501,3.2451496456369502,3.5974601207038401,4.2089034018548004,263.68574848630698,268.31616624846401,263.68574848630698,0.75231311978975102,0.76552401212115195,0.75231311978975102,{"$f":"output[[#This Row],[ishp_Program]]-output[[#This Row],[ishp_Baseline]]","v":337.79569155435001},{"$f":"output[[#This Row],[ishp_Market]]-output[[#This Row],[ishp_Program]]","v":-214.31087004340998}]
["All","Chemical","Base",2018,"201-500 HP","Traditional","ASD Control","variable","Pumps",2015,358314.38587148499,437145.776467686,696149.57224263705,385152.13337325898,469887.99512511602,748291.17520361103,135.271438927514,165.031995743197,262.81153662585598,0.38593848481459098,0.47084734876803802,0.749818934738534,1.4814878535367999,3.4051773992698502,1.4814878535367999,4.2267841755686403E-3,9.7151994273034399E-3,4.2267841755686403E-3,{"$f":"output[[#This Row],[ishp_Program]]-output[[#This Row],[ishp_Baseline]]","v":127.54009769834198},{"$f":"output[[#This Row],[ishp_Market]]-output[[#This Row],[ishp_Program]]","v":-97.779540882658978}]
["All","Chemical","Base",2018,"201-500 HP","Traditional","ASD Control","variable","Pumps",2016,270039.11476624903,345025.41199844301,506655.53456800297,290265.044462241,370867.81535712699,544604.03410714597,102.420859235024,130.86177972916201,192.16510627193401,0.29221357841661699,0.373357431466939,0.54825993230223802,0.93745510377547403,2.5749002975653399,0.93745510377547403,2.6746222646946501E-3,7.3463631884888502E-3,2.6746222646946501E-3,{"$f":"output[[#This Row],[ishp_Program]]-output[[#This Row],[ishp_Baseline]]","v":89.744247036910011},{"$f":"output[[#This Row],[ishp_Market]]-output[[#This Row],[ishp_Program]]","v":-61.303326542771998}]
["All","Chemical","Base",2018,"201-500 HP","Traditional","ASD Control","variable","Pumps",2017,202728.734637741,258084.44600348599,399502.63747890899,217913.116862108,277414.971009147,429425.38502608001,76.891272626190002,97.886673705597701,151.52398730334701,0.219375956137489,0.27927724309728302,0.43230809501668299,0.51116307173340902,1.5827746076355,0.51116307173340902,1.4583825156445299E-3,4.5157620759928799E-3,1.4583825156445299E-3,{"$f":"output[[#This Row],[ishp_Program]]-output[[#This Row],[ishp_Baseline]]","v":74.632714677157011},{"$f":"output[[#This Row],[ishp_Market]]-output[[#This Row],[ishp_Program]]","v":-53.637313597749312}]
["All","Chemical","Base",2018,"201-500 HP","Traditional","ASD Control","variable","Pumps",2018,180782.97091910799,231459.24874225401,371519.71861142898,194323.61544094901,248795.54647304901,399346.54553542502,68.567648922354095,87.788227104045603,140.910581920233,0.19562809963581701,0.250465697871742,0.40202733786086597,0,0.156403934121876,0,0,4.4623091047611002E-4,0,{"$f":"output[[#This Row],[ishp_Program]]-output[[#This Row],[ishp_Baseline]]","v":72.342932997878904},{"$f":"output[[#This Row],[ishp_Market]]-output[[#This Row],[ishp_Program]]","v":-53.122354816187396}]
["All","Chemical","Base",2018,"201-500 HP","Traditional","ASD Control","variable","Pumps","2014 and before",1094604.33691314,1327422.4459177901,2264594.3002614998,1176590.2017479299,1426846.3871170301,2434212.4133510902,413.236837673732,501.130714825339,854.93338158432903,1.17899240420465,1.42975952874561,2.4391822584431599,133.41865392952499,139.014463701577,133.41865392952499,0.380652364991512,0.396617585453857,0.380652364991512,{"$f":"output[[#This Row],[ishp_Program]]-output[[#This Row],[ishp_Baseline]]","v":441.69654391059703},{"$f":"output[[#This Row],[ishp_Market]]-output[[#This Row],[ishp_Program]]","v":-353.80266675899003}]
["All","Chemical","Base",2018,"201-500 HP","Traditional","Non ASD Control","constant","Fans",2015,413358.49359459197,373245.01254243997,402414.91389693401,444319.04476482701,401201.06398186903,432555.79094781401,99.165847127665103,89.542511956336796,96.5404520574196,0.28292681063527803,0.25547079017499702,0.27543638247480601,1.53266294294928,1.28881251048485,1.53266294294928,4.3727901368025299E-3,3.6770685035231098E-3,4.3727901368025299E-3,{"$f":"output[[#This Row],[ishp_Program]]-output[[#This Row],[ishp_Baseline]]","v":-2.6253950702455029},{"$f":"output[[#This Row],[ishp_Market]]-output[[#This Row],[ishp_Program]]","v":-6.9979401010828042}]
["All","Chemical","Base",2018,"201-500 HP","Traditional","Non ASD Control","constant","Fans",2016,275689.425077683,247098.555877526,269470.86483059399,296338.56301600201,265606.23771275301,289654.23260640498,66.446979287316395,59.555975423044501,64.948174812611299,0.189577686982358,0.16991719093593299,0.185301497325567,0.84053856611355104,0.62666136692383201,0.84053856611355104,2.39811288477475E-3,1.78790689564574E-3,2.39811288477475E-3,{"$f":"output[[#This Row],[ishp_Program]]-output[[#This Row],[ishp_Baseline]]","v":-1.4988044747050964},{"$f":"output[[#This Row],[ishp_Market]]-output[[#This Row],[ishp_Program]]","v":-5.3921993895667981}]
["All","Chemical","Base",2018,"201-500 HP","Traditional","Non ASD Control","constant","Fans",2017,166951.43080146899,147378.91305781499,162663.23815063399,179456.092968499,158417.59364584601,174846.714688117,40.238824036602601,35.521433513746302,39.205278958949599,0.11480406287190401,0.10134503142295601,0.11185528946918501,0.382571466471543,0.27754869529259901,0.382571466471543,1.0915020441413499E-3,7.9186503649814304E-4,1.0915020441413499E-3,{"$f":"output[[#This Row],[ishp_Program]]-output[[#This Row],[ishp_Baseline]]","v":-1.0335450776530024},{"$f":"output[[#This Row],[ishp_Market]]-output[[#This Row],[ishp_Program]]","v":-3.6838454452032963}]
["All","Chemical","Base",2018,"201-500 HP","Traditional","Non ASD Control","constant","Fans",2018,121419.601961846,105675.743943647,117868.056533435,130513.930148788,113590.857165026,126696.373967789,29.2646907815184,25.470088187157199,28.4086932565749,8.3494124911607404E-2,7.2667869292888099E-2,8.1051906580812905E-2,2.7789332070280798E-2,2.0655458623711001E-2,2.7789332070280798E-2,7.9284827589959706E-5,5.89314083415437E-5,7.9284827589959706E-5,{"$f":"output[[#This Row],[ishp_Program]]-output[[#This Row],[ishp_Baseline]]","v":-0.85599752494350057},{"$f":"output[[#This Row],[ishp_Market]]-output[[#This Row],[ishp_Program]]","v":-2.9386050694177008}]
["All","Chemical","Base",2018,"201-500 HP","Traditional","Non ASD Control","constant","Fans","2014 and before",1579087.1678122201,1429635.83530266,1534507.88498175,1697360.7966813501,1536715.5593668299,1649442.5255668899,378.827383762686,342.973595290145,368.13269037974999,1.08081992514318,0.97852666273935895,1.0503072478737501,148.933971157776,147.985023629371,148.933971157776,0.42491860530036102,0.42221119437766502,0.42491860530036102,{"$f":"output[[#This Row],[ishp_Program]]-output[[#This Row],[ishp_Baseline]]","v":-10.694693382936009},{"$f":"output[[#This Row],[ishp_Market]]-output[[#This Row],[ishp_Program]]","v":-25.159095089604989}]
["All","Chemical","Base",2018,"201-500 HP","Traditional","Non ASD Control","constant","Pumps",2015,2027219.89741536,1864857.0753919799,2027219.89741536,2179058.6677317698,2004534.8703388399,2179058.6677317698,426.60244907870401,392.435273824153,426.60244907870401,1.2171253896681999,1.1196441478577801,1.2171253896681999,4.081415001301,1.9989419212497399,4.081415001301,1.16445506456519E-2,5.70311532453565E-3,1.16445506456519E-2,{"$f":"output[[#This Row],[ishp_Program]]-output[[#This Row],[ishp_Baseline]]","v":0},{"$f":"output[[#This Row],[ishp_Market]]-output[[#This Row],[ishp_Program]]","v":-34.167175254551012}]
["All","Chemical","Base",2018,"201-500 HP","Traditional","Non ASD Control","constant","Pumps",2016,1560820.50786711,1426697.9297536099,1560820.50786711,1677725.9639063601,1533557.6046921599,1677725.9639063601,329.98585286746498,301.62989963358098,329.98585286746498,0.94147176281730405,0.86057032705729197,0.94147176281730405,2.18416298231574,0.59751621007993305,2.18416298231574,6.2315634302874297E-3,1.7047538090725601E-3,6.2315634302874297E-3,{"$f":"output[[#This Row],[ishp_Program]]-output[[#This Row],[ishp_Baseline]]","v":0},{"$f":"output[[#This Row],[ishp_Market]]-output[[#This Row],[ishp_Program]]","v":-28.355953233884009}]
["All","Chemical","Base",2018,"201-500 HP","Traditional","Non ASD Control","constant","Pumps",2017,1190075.9346269299,1060764.2007885899,1190075.9346269299,1279212.6221304899,1140215.4394276601,1279212.6221304899,251.60370477291701,224.26485154710701,251.60370477291701,0.71784223900974997,0.63984265776635396,0.71784223900974997,1.1683330301991499,0.21070412195285601,1.1683330301991499,3.3333324684711998E-3,6.01152987026693E-4,3.3333324684711998E-3,{"$f":"output[[#This Row],[ishp_Program]]-output[[#This Row],[ishp_Baseline]]","v":0},{"$f":"output[[#This Row],[ishp_Market]]-output[[#This Row],[ishp_Program]]","v":-27.338853225809999}]
["All","Chemical","Base",2018,"201-500 HP","Traditional","Non ASD Control","constant","Pumps",2018,1069094.4106930799,945733.05896879197,1069094.4106930799,1149169.5820539901,1016568.46508555,1149169.5820539901,226.026009480412,199.94517529452,226.026009480412,0.64486735943056395,0.57045699085455204,0.64486735943056395,0,0,0,0,0,0,{"$f":"output[[#This Row],[ishp_Program]]-output[[#This Row],[ishp_Baseline]]","v":0},{"$f":"output[[#This Row],[ishp_Market]]-output[[#This Row],[ishp_Program]]","v":-26.080834185892002}]
["All","Chemical","Base",2018,"201-500 HP","Traditional","Non ASD Control","constant","Pumps","2014 and before",6662082.5816299198,6143197.5991045497,6662082.5816299198,7161072.5669940002,6603323.0992774796,7161072.5669940002,1401.94990632808,1292.75721114109,1401.94990632808,3.9998570793953898,3.688322998976,3.9998570793953898,574.40109821509895,566.82107229204701,574.40109821509895,1.63880484512153,1.6171785229444999,1.63880484512153,{"$f":"output[[#This Row],[ishp_Program]]-output[[#This Row],[ishp_Baseline]]","v":0},{"$f":"output[[#This Row],[ishp_Market]]-output[[#This Row],[ishp_Program]]","v":-109.19269518699002}]
["All","Chemical","Base",2018,"201-500 HP","Traditional","Non ASD Control","variable","Fans",2015,333830.39312883402,203601.214227166,13583.008193462199,358834.28957418399,218850.94517278101,14600.375507152499,87.437290897558,53.327494925263998,3.5576791781727399,0.249464453345386,0.15214691847436199,1.0150297227311599E-2,1.9001725008613199,0.76755879537992799,1.9001725008613199,5.4213195459666798E-3,2.18989670579152E-3,5.4213195459666798E-3,{"$f":"output[[#This Row],[ishp_Program]]-output[[#This Row],[ishp_Baseline]]","v":-83.879611719385267},{"$f":"output[[#This Row],[ishp_Market]]-output[[#This Row],[ishp_Program]]","v":49.769815747091258}]
["All","Chemical","Base",2018,"201-500 HP","Traditional","Non ASD Control","variable","Fans",2016,231157.56026625101,134789.653765897,40711.680290886099,248471.26153019399,144885.39883296299,43760.985144673497,60.827335911938498,35.468861747928599,10.712965865104399,0.17354446765175,0.101195040650295,3.0564809886175201E-2,1.3387314667629699,0.37321133989167099,1.3387314667629699,3.81949063270463E-3,1.06479697543986E-3,3.81949063270463E-3,{"$f":"output[[#This Row],[ishp_Program]]-output[[#This Row],[ishp_Baseline]]","v":-50.114370046834097},{"$f":"output[[#This Row],[ishp_Market]]-output[[#This Row],[ishp_Program]]","v":24.755895882824198}]
["All","Chemical","Base",2018,"201-500 HP","Traditional","Non ASD Control","variable","Fans",2017,145985.42859973601,80393.641285801205,9593.3260258004102,156919.73720185601,86415.125018107705,10311.866145132801,38.414943874024402,21.154969009201999,2.5244100344889202,0.10960041048223799,6.0356544962060103E-2,7.2023110827073404E-3,0.68913471336062604,0.16529552629646299,0.68913471336062604,1.9661475416850901E-3,4.7159921910545802E-4,1.9661475416850901E-3,{"$f":"output[[#This Row],[ishp_Program]]-output[[#This Row],[ishp_Baseline]]","v":-35.890533839535479},{"$f":"output[[#This Row],[ishp_Market]]-output[[#This Row],[ishp_Program]]","v":18.630558974713079}]
["All","Chemical","Base",2018,"201-500 HP","Traditional","Non ASD Control","variable","Fans",2018,111274.942254037,57645.002768360602,-5523.9230183874897,119609.43542886501,61962.613475710801,-5937.6648524647098,29.281146086123101,15.1688395698456,-1.45357789987109,8.3541072998924701E-2,4.3277716319103002E-2,-4.14715520647959E-3,0.14810089468986001,1.2301462633437199E-2,0.14810089468986001,4.2254178228205599E-4,3.5096897670291599E-5,4.2254178228205599E-4,{"$f":"output[[#This Row],[ishp_Program]]-output[[#This Row],[ishp_Baseline]]","v":-30.73472398599419},{"$f":"output[[#This Row],[ishp_Market]]-output[[#This Row],[ishp_Program]]","v":16.622417469716691}]
["All","Chemical","Base",2018,"201-500 HP","Traditional","Non ASD Control","variable","Fans","2014 and before",1263207.3430842699,779851.25638402102,-26476.581832102602,1357821.5730812801,838262.11548718403,-28459.677811327099,330.86091079359699,204.25965569575899,-6.9347807607593204,0.94396836175063403,0.58276649271257996,-1.9785394467216302E-2,92.134659584027105,88.133227717115801,92.134659584027105,0.262866361152716,0.25145000775211301,0.262866361152716,{"$f":"output[[#This Row],[ishp_Program]]-output[[#This Row],[ishp_Baseline]]","v":-337.79569155435632},{"$f":"output[[#This Row],[ishp_Market]]-output[[#This Row],[ishp_Program]]","v":211.1944364565183}]
["All","Chemical","Base",2018,"201-500 HP","Traditional","Non ASD Control","variable","Pumps",2015,744687.844387191,632997.64141309902,248441.267680383,800464.96393179195,680409.16475493996,267049.51862964302,191.39187026377101,162.686424084583,63.8517725654293,0.546053838127736,0.46415527556229302,0.182173388203792,2.22251559077091,0.82867350315358601,2.22251559077091,6.3409859936402599E-3,2.3642610646322001E-3,6.3409859936402599E-3,{"$f":"output[[#This Row],[ishp_Program]]-output[[#This Row],[ishp_Baseline]]","v":-127.54009769834171},{"$f":"output[[#This Row],[ishp_Market]]-output[[#This Row],[ishp_Program]]","v":98.834651519153695}]
["All","Chemical","Base",2018,"201-500 HP","Traditional","Non ASD Control","variable","Pumps",2016,588095.83258219599,484271.12000160199,240529.64333913301,632144.21044260205,520543.02688972198,258545.313625234,151.850839679128,125.04250520142401,62.106592642218402,0.43324062675928199,0.35675465107396398,0.17719427287366099,1.4654506085488701,0.24770397065286701,1.4654506085488701,4.1810288403676997E-3,7.0671603609947999E-4,4.1810288403676997E-3,{"$f":"output[[#This Row],[ishp_Program]]-output[[#This Row],[ishp_Baseline]]","v":-89.744247036909599},{"$f":"output[[#This Row],[ishp_Market]]-output[[#This Row],[ishp_Program]]","v":62.935912559205605}]
["All","Chemical","Base",2018,"201-500 HP","Traditional","Non ASD Control","variable","Pumps",2017,442711.11589576397,360060.428252118,153669.65541601001,475870.17847635702,387028.954328202,165179.51260666901,114.311394435293,92.970355061424399,39.678679758136298,0.326138072568598,0.26525065638066803,0.113205933689404,0.80943265808954601,8.7348672320822093E-2,0.80943265808954601,2.3093656436220999E-3,2.4921161860434201E-4,2.3093656436220999E-3,{"$f":"output[[#This Row],[ishp_Program]]-output[[#This Row],[ishp_Baseline]]","v":-74.632714677156699},{"$f":"output[[#This Row],[ishp_Market]]-output[[#This Row],[ishp_Program]]","v":53.291675303288102}]
["All","Chemical","Base",2018,"201-500 HP","Traditional","Non ASD Control","variable","Pumps",2018,395774.22067097202,321014.84002885601,115600.74581415999,425417.709799228,345058.85154701798,124259.24167564099,102.191929278533,82.8884856976604,29.848996280653498,0.29156042590166398,0.236486407125992,8.5161187676614999E-2,0,0,0,0,0,0,{"$f":"output[[#This Row],[ishp_Program]]-output[[#This Row],[ishp_Baseline]]","v":-72.342932997879501},{"$f":"output[[#This Row],[ishp_Market]]-output[[#This Row],[ishp_Program]]","v":53.039489417006905}]
["All","Chemical","Base",2018,"201-500 HP","Traditional","Non ASD Control","variable","Pumps","2014 and before",2435993.0352954301,2085215.8818393101,717393.14542165305,2618448.9136390602,2241398.55138908,771125.89201373502,626.07341651773299,535.92034640683903,184.37687260713599,1.7862294337167799,1.5290166801906899,0.52603957947827695,239.87411615351101,234.979115022934,239.87411615351101,0.684376936243968,0.67041116982292204,0.684376936243968,{"$f":"output[[#This Row],[ishp_Program]]-output[[#This Row],[ishp_Baseline]]","v":-441.69654391059703},{"$f":"output[[#This Row],[ishp_Market]]-output[[#This Row],[ishp_Program]]","v":351.54347379970307}]
["All","Chemical","Base",2018,"21-50 HP","Traditional","ASD Control","constant","Fans",2015,236210.271765054,382918.29611982597,251249.650037474,253902.421120257,411598.876499201,270068.24882528099,57.844038020202198,93.770437305187102,61.5269361519791,1.62940952169583,2.6414207691602001,1.7331531310416599,0.59109424282084799,1.82170004588204,0.59109424282084799,1.66505420512915E-2,5.13154942501984E-2,1.66505420512915E-2,{"$f":"output[[#This Row],[ishp_Program]]-output[[#This Row],[ishp_Baseline]]","v":3.6828981317769021},{"$f":"output[[#This Row],[ishp_Market]]-output[[#This Row],[ishp_Program]]","v":32.243501153208001}]
["All","Chemical","Base",2018,"21-50 HP","Traditional","ASD Control","constant","Fans",2016,152612.86604929599,260038.88779716901,161145.27207560101,164043.56971638801,279515.80049317598,173215.05295406299,37.654431928900998,64.159836931853206,39.759646975471597,1.06068822334932,1.80731935019305,1.1199900556470801,0.29800574024114002,1.3000117685853501,0.29800574024114002,8.3945278941166199E-3,3.6620049819305597E-2,8.3945278941166199E-3,{"$f":"output[[#This Row],[ishp_Program]]-output[[#This Row],[ishp_Baseline]]","v":2.1052150465705992},{"$f":"output[[#This Row],[ishp_Market]]-output[[#This Row],[ishp_Program]]","v":24.40018995638161}]
["All","Chemical","Base",2018,"21-50 HP","Traditional","ASD Control","constant","Fans",2017,92210.197659834404,164811.127742857,98102.846606241001,99116.741464556093,177155.48121079701,105450.749817048,22.751178854155,40.664129777329798,24.205082148007701,0.64087827758183102,1.1454684444318199,0.68183329994387898,0.12729827992346801,0.66773661326558997,0.12729827992346801,3.5858670400977098E-3,1.88094820638194E-2,3.5858670400977098E-3,{"$f":"output[[#This Row],[ishp_Program]]-output[[#This Row],[ishp_Baseline]]","v":1.4539032938527008},{"$f":"output[[#This Row],[ishp_Market]]-output[[#This Row],[ishp_Program]]","v":16.459047629322097}]
["All","Chemical","Base",2018,"21-50 HP","Traditional","ASD Control","constant","Fans",2018,67407.639604366705,126655.315469831,72295.190543308097,72456.471810733798,136141.798598522,77710.100315001793,16.6316015331934,31.249881338653001,17.837515286690099,0.46849581783643401,0.88027834756769097,0.50246521934338395,0,0.106076033809975,0,0,2.9880572904218399E-3,0,{"$f":"output[[#This Row],[ishp_Program]]-output[[#This Row],[ishp_Baseline]]","v":1.2059137534966986},{"$f":"output[[#This Row],[ishp_Market]]-output[[#This Row],[ishp_Program]]","v":13.412366051962902}]
["All","Chemical","Base",2018,"21-50 HP","Traditional","ASD Control","constant","Fans","2014 and before",860775.907235928,1381250.52608995,922013.52849254699,925248.02268789895,1484706.1904940901,991072.34177663899,210.78996240499299,338.24569672414901,225.78605578300599,5.9377454198589597,9.5280477950464508,6.3601705854367898,67.826592438565797,71.977226751946404,67.826592438565797,1.91060823770608,2.0275275141393299,1.91060823770608,{"$f":"output[[#This Row],[ishp_Program]]-output[[#This Row],[ishp_Baseline]]","v":14.996093378013001},{"$f":"output[[#This Row],[ishp_Market]]-output[[#This Row],[ishp_Program]]","v":112.45964094114302}]
["All","Chemical","Base",2018,"21-50 HP","Traditional","ASD Control","constant","Pumps",2015,866162.60511356697,1267326.68337798,866162.60511356697,931038.18423657306,1362249.45196299,931038.18423657306,252.54798813413299,369.51584183647498,252.54798813413299,7.11402783476432,10.408896953140101,7.11402783476432,6.4489009640229797,19.957555557010298,6.4489009640229797,0.181659182085154,0.56218466357775698,0.181659182085154,{"$f":"output[[#This Row],[ishp_Program]]-output[[#This Row],[ishp_Baseline]]","v":0},{"$f":"output[[#This Row],[ishp_Market]]-output[[#This Row],[ishp_Program]]","v":116.96785370234198}]
["All","Chemical","Base",2018,"21-50 HP","Traditional","ASD Control","constant","Pumps",2016,650474.82305829995,996945.36658816203,650474.82305829995,699195.38730536599,1071616.57454561,699195.38730536599,191.090942653485,292.874102305235,191.090942653485,5.38284345502775,8.2499747128235299,5.38284345502775,4.6036521401941997,16.007905120482999,4.6036521401941997,0.12968034197730099,0.45092690480233999,0.12968034197730099,{"$f":"output[[#This Row],[ishp_Program]]-output[[#This Row],[ishp_Baseline]]","v":0},{"$f":"output[[#This Row],[ishp_Market]]-output[[#This Row],[ishp_Program]]","v":101.78315965175}]
["All","Chemical","Base",2018,"21-50 HP","Traditional","ASD Control","constant","Pumps",2017,528743.97002938204,882829.038376529,528743.97002938204,568346.89338458201,948952.93335093104,568346.89338458201,155.32989144793501,259.34998122151802,155.32989144793501,4.3754898999418401,7.3056332738455998,4.3754898999418401,3.2353029085142802,13.210205894119399,3.2353029085142802,9.1135293197585496E-2,0.37211847589068903,9.1135293197585496E-2,{"$f":"output[[#This Row],[ishp_Program]]-output[[#This Row],[ishp_Baseline]]","v":0},{"$f":"output[[#This Row],[ishp_Market]]-output[[#This Row],[ishp_Program]]","v":104.02008977358301}]
["All","Chemical","Base",2018,"21-50 HP","Traditional","ASD Control","constant","Pumps",2018,486803.513474754,820242.47530200297,486803.513474754,523265.096634013,881678.63670212298,523265.096634013,143.00898202263201,240.96383480754599,143.00898202263201,4.02842202880655,6.78771365655059,4.02842202880655,1.18654112844612,9.1887874679543504,1.18654112844612,3.34236937590459E-2,0.25883908360434699,3.34236937590459E-2,{"$f":"output[[#This Row],[ishp_Program]]-output[[#This Row],[ishp_Baseline]]","v":0},{"$f":"output[[#This Row],[ishp_Market]]-output[[#This Row],[ishp_Program]]","v":97.954852784913982}]
["All","Chemical","Base",2018,"21-50 HP","Traditional","ASD Control","constant","Pumps","2014 and before",2642511.23448902,3839813.4662268902,2642511.23448902,2840435.32595225,4127415.49484728,2840435.32595225,770.47992138213704,1119.5786564565501,770.47992138213704,21.703659757243301,31.537426942438099,21.703659757243301,216.12341765007599,255.91785696121599,216.12341765007599,6.0879835957767803,7.2089537172173701,6.0879835957767803,{"$f":"output[[#This Row],[ishp_Program]]-output[[#This Row],[ishp_Baseline]]","v":0},{"$f":"output[[#This Row],[ishp_Market]]-output[[#This Row],[ishp_Program]]","v":349.09873507441307}]
["All","Chemical","Base",2018,"21-50 HP","Traditional","ASD Control","variable","Fans",2015,2272850.0628773202,2493281.6785949902,2497688.6477019,2443086.53258684,2680028.4763217601,2684765.5274147699,1189.365658255,1304.7158953913499,1307.0220297899,33.503257979014201,36.752560433559204,36.817521965912697,20.713153808195202,25.347018471950701,20.713153808195202,0.58346912135761198,0.71400052033663897,0.58346912135761198,{"$f":"output[[#This Row],[ishp_Program]]-output[[#This Row],[ishp_Baseline]]","v":117.65637153490002},{"$f":"output[[#This Row],[ishp_Market]]-output[[#This Row],[ishp_Program]]","v":-2.3061343985500571}]
["All","Chemical","Base",2018,"21-50 HP","Traditional","ASD Control","variable","Fans",2016,1525929.5278012599,1693181.5513563501,1659493.4521280599,1640221.64943357,1820000.8495529499,1783789.5116924499,804.53364877029503,892.71588675928604,874.95411670472095,22.6629196836702,25.146926387585498,24.646594836752701,14.2747013057486,18.088280991468999,14.2747013057486,0.40210426213376299,0.50952904201321203,0.40210426213376299,{"$f":"output[[#This Row],[ishp_Program]]-output[[#This Row],[ishp_Baseline]]","v":70.420467934425915},{"$f":"output[[#This Row],[ishp_Market]]-output[[#This Row],[ishp_Program]]","v":17.761770054565091}]
["All","Chemical","Base",2018,"21-50 HP","Traditional","ASD Control","variable","Fans",2017,961756.07785419805,1073128.57440809,1057507.2215617599,1033791.60808547,1153505.9046312601,1136714.51245674,507.07789084989901,565.79811310962305,557.56188478111198,14.2838842492929,15.9379750171724,15.705968585383401,7.1660940234208201,9.2908447299543493,7.1660940234208201,0.20186180347664201,0.261713936055052,0.20186180347664201,{"$f":"output[[#This Row],[ishp_Program]]-output[[#This Row],[ishp_Baseline]]","v":50.483993931212979},{"$f":"output[[#This Row],[ishp_Market]]-output[[#This Row],[ishp_Program]]","v":8.2362283285110607}]
["All","Chemical","Base",2018,"21-50 HP","Traditional","ASD Control","variable","Fans",2018,733356.31134017895,824686.05119558505,815403.93105521204,788284.69905955798,886455.03643013502,876477.68549124803,386.65601409613902,434.808859629567,429.91493900688999,10.8917187069334,12.248136890973701,12.110279972024999,0.52882375274143401,1.4759351818048501,0.52882375274143401,1.4896443739195299E-2,4.1575638924080401E-2,1.4896443739195299E-2,{"$f":"output[[#This Row],[ishp_Program]]-output[[#This Row],[ishp_Baseline]]","v":43.258924910750977},{"$f":"output[[#This Row],[ishp_Market]]-output[[#This Row],[ishp_Program]]","v":4.8939206226770011}]
["All","Chemical","Base",2018,"21-50 HP","Traditional","ASD Control","variable","Fans","2014 and before",8214151.7606405001,8993685.2460350897,9119273.8209297396,8829391.7275124807,9667312.2709631193,9802307.4301173799,4298.4049741639301,4706.3290920507197,4772.0486661170298,121.08183025813899,132.572650480302,134.423906087803,986.24132250234504,1001.48655107378,986.24132250234504,27.7814457042914,28.210888762641702,27.7814457042914,{"$f":"output[[#This Row],[ishp_Program]]-output[[#This Row],[ishp_Baseline]]","v":473.64369195309973},{"$f":"output[[#This Row],[ishp_Market]]-output[[#This Row],[ishp_Program]]","v":-65.719574066310088}]
["All","Chemical","Base",2018,"21-50 HP","Traditional","ASD Control","variable","Pumps",2015,1860343.1565832,1956267.9100866099,1889400.2560791599,1999682.8590112899,2102792.37655209,2030916.3352594899,810.61034525215496,852.40779390051796,823.27144241108203,22.834094232455001,24.011487152127199,23.190744856650198,15.1262007239651,17.5881030928584,15.1262007239651,0.426090161238455,0.49543952374249201,0.426090161238455,{"$f":"output[[#This Row],[ishp_Program]]-output[[#This Row],[ishp_Baseline]]","v":12.661097158927078},{"$f":"output[[#This Row],[ishp_Market]]-output[[#This Row],[ishp_Program]]","v":29.136351489435924}]
["All","Chemical","Base",2018,"21-50 HP","Traditional","ASD Control","variable","Pumps",2016,1446647.4356605001,1539599.8984172901,1467755.48547101,1555001.3285914699,1654915.93080875,1577690.37133279,635.10701620648194,675.91499734637705,644.373870177002,17.8903384846896,19.0398590801796,18.151376624704199,10.9357761026872,13.299633639387499,10.9357761026872,0.30805003106161299,0.37463756730669001,0.30805003106161299,{"$f":"output[[#This Row],[ishp_Program]]-output[[#This Row],[ishp_Baseline]]","v":9.2668539705200601},{"$f":"output[[#This Row],[ishp_Market]]-output[[#This Row],[ishp_Program]]","v":31.541127169375045}]
["All","Chemical","Base",2018,"21-50 HP","Traditional","ASD Control","variable","Pumps",2017,1088077.6007463799,1151644.9891286299,1105593.5965847,1169574.6130422801,1237903.19881437,1188402.5569688999,477.68772223041998,505.59507088241497,485.37759301616802,13.455992175504701,14.242114672744099,13.672608253976501,6.6412086510469699,8.17519903010664,6.6412086510469699,0.18707630002949199,0.23028729662272199,0.18707630002949199,{"$f":"output[[#This Row],[ishp_Program]]-output[[#This Row],[ishp_Baseline]]","v":7.6898707857480417},{"$f":"output[[#This Row],[ishp_Market]]-output[[#This Row],[ishp_Program]]","v":20.217477866246952}]
["All","Chemical","Base",2018,"21-50 HP","Traditional","ASD Control","variable","Pumps",2018,973560.93110167305,1032835.91138187,990488.48752559302,1046480.64484118,1110195.3211443699,1064676.07524126,427.41262508434301,453.43552114973198,434.84415925573097,12.0397922558969,12.772831581682601,12.2491312466403,0.24125438083060899,0.80784293883019997,0.24125438083060899,6.7958980515664602E-3,2.2756139121977399E-2,6.7958980515664602E-3,{"$f":"output[[#This Row],[ishp_Program]]-output[[#This Row],[ishp_Baseline]]","v":7.4315341713879661},{"$f":"output[[#This Row],[ishp_Market]]-output[[#This Row],[ishp_Program]]","v":18.591361894001011}]
["All","Chemical","Base",2018,"21-50 HP","Traditional","ASD Control","variable","Pumps","2014 and before",5656798.4340556804,5940338.60983581,5756736.7794121299,6080492.6367664495,6385269.9717125101,6187916.3641900998,2464.8459696401301,2588.3933909686398,2508.3922671856399,69.432280834933394,72.912489886440596,70.658937103820904,711.24045504566004,718.02447634769896,711.24045504566004,20.034942395652401,20.2260415872591,20.034942395652401,{"$f":"output[[#This Row],[ishp_Program]]-output[[#This Row],[ishp_Baseline]]","v":43.546297545509788},{"$f":"output[[#This Row],[ishp_Market]]-output[[#This Row],[ishp_Program]]","v":80.001123782999912}]
["All","Chemical","Base",2018,"21-50 HP","Traditional","Non ASD Control","constant","Fans",2015,1378727.33209825,1227946.4308340501,1362933.4630710799,1481994.0092724101,1319919.61850352,1465017.1794551001,321.498950439434,286.33906031889899,317.816052307657,9.0563084630826598,8.0658890230675908,8.9525648537368294,5.0107781695043299,4.1213648703471204,5.0107781695043299,0.14114868083110799,0.11609478508020001,0.14114868083110799,{"$f":"output[[#This Row],[ishp_Program]]-output[[#This Row],[ishp_Baseline]]","v":-3.6828981317769944},{"$f":"output[[#This Row],[ishp_Market]]-output[[#This Row],[ishp_Program]]","v":-31.476991988758016}]
["All","Chemical","Base",2018,"21-50 HP","Traditional","Non ASD Control","constant","Fans",2016,917872.42943959695,810607.02202701999,908911.97237646999,986621.07440462301,871321.48797684396,976989.47910746804,215.649585247197,190.44810857356299,213.54437020062699,6.0746362041464099,5.3647354527764399,6.0153343718486498,2.78746618238972,2.0039378282198799,2.78746618238972,7.8520174151823302E-2,5.6448952907602302E-2,7.8520174151823302E-2,{"$f":"output[[#This Row],[ishp_Program]]-output[[#This Row],[ishp_Baseline]]","v":-2.1052150465700095},{"$f":"output[[#This Row],[ishp_Market]]-output[[#This Row],[ishp_Program]]","v":-23.096261627063996}]
["All","Chemical","Base",2018,"21-50 HP","Traditional","Non ASD Control","constant","Fans",2017,556735.75497122598,483476.649222459,550547.48548316199,598435.26301857096,519689.05024922098,591783.49214585102,130.80231064912999,113.59044627278401,129.348407355277,3.6845721309614201,3.1997308809234899,3.64361710859938,1.2716247984392901,0.88754526611420703,1.2716247984392901,3.5820416857444901E-2,2.50012751018086E-2,3.5820416857444901E-2,{"$f":"output[[#This Row],[ishp_Program]]-output[[#This Row],[ishp_Baseline]]","v":-1.4539032938529886},{"$f":"output[[#This Row],[ishp_Market]]-output[[#This Row],[ishp_Program]]","v":-15.757961082492997}]
["All","Chemical","Base",2018,"21-50 HP","Traditional","Non ASD Control","constant","Fans",2018,405706.20462901401,346669.36759075098,400573.45658617502,436093.59935572802,372634.90322329802,430576.40848447999,95.318665159033699,81.4482524379751,94.112751405536997,2.6850328213812298,2.2943169700838002,2.65106341987428,9.0271525741094594E-2,6.6052029182003397E-2,9.0271525741094594E-2,2.5428598800308301E-3,1.8606205403381201E-3,2.5428598800308301E-3,{"$f":"output[[#This Row],[ishp_Program]]-output[[#This Row],[ishp_Baseline]]","v":-1.2059137534967022},{"$f":"output[[#This Row],[ishp_Market]]-output[[#This Row],[ishp_Program]]","v":-12.664498967561897}]
["All","Chemical","Base",2018,"21-50 HP","Traditional","Non ASD Control","constant","Fans","2014 and before",5265066.5943277497,4703388.2901590103,5200756.82352849,5659420.0822428996,5055672.0730919205,5590293.5096107703,1227.73614815773,1096.7610227135699,1212.7400547797199,34.584116849513599,30.894676696157099,34.1616916839357,476.67939770934601,473.22653431888301,476.67939770934601,13.4275886678689,13.330324910391001,13.4275886678689,{"$f":"output[[#This Row],[ishp_Program]]-output[[#This Row],[ishp_Baseline]]","v":-14.996093378010073},{"$f":"output[[#This Row],[ishp_Market]]-output[[#This Row],[ishp_Program]]","v":-115.97903206615001}]
["All","Chemical","Base",2018,"21-50 HP","Traditional","Non ASD Control","constant","Pumps",2015,1545047.3114801799,1072301.1582320901,1545047.3114801799,1660771.3551100499,1152616.5149836701,1660771.3551100499,378.29708153898002,262.54755804302698,378.29708153898002,10.6562558179994,7.3957058603669799,10.6562558179994,9.6925731749281994,1.33733472778784,9.6925731749281994,0.273030230279667,3.7671400782756097E-2,0.273030230279667,{"$f":"output[[#This Row],[ishp_Program]]-output[[#This Row],[ishp_Baseline]]","v":0},{"$f":"output[[#This Row],[ishp_Market]]-output[[#This Row],[ishp_Program]]","v":-115.74952349595304}]
["All","Chemical","Base",2018,"21-50 HP","Traditional","Non ASD Control","constant","Pumps",2016,1215258.88619873,818008.84548212902,1215258.88619873,1306281.7767750099,879277.70800873998,1306281.7767750099,299.795521999779,201.79682832752999,299.795521999779,8.4449442816839397,5.6844176993670601,8.4449442816839397,7.3498720237150703,0.39975107313598102,7.3498720237150703,0.207038648555354,1.1260593609464201E-2,0.207038648555354,{"$f":"output[[#This Row],[ishp_Program]]-output[[#This Row],[ishp_Baseline]]","v":0},{"$f":"output[[#This Row],[ishp_Market]]-output[[#This Row],[ishp_Program]]","v":-97.998693672249004}]
["All","Chemical","Base",2018,"21-50 HP","Traditional","Non ASD Control","constant","Pumps",2017,990764.56334468105,608197.76991314604,990764.56334468105,1064972.82913919,653751.78287964105,1064972.82913919,244.41440652689801,150.03796308829899,244.41440652689801,6.8849128599126201,4.2264214954450496,6.8849128599126201,5.1127820801990804,0.14096554611223699,5.1127820801990804,0.14402203042814299,3.97086045386585E-3,0.14402203042814299,{"$f":"output[[#This Row],[ishp_Program]]-output[[#This Row],[ishp_Baseline]]","v":0},{"$f":"output[[#This Row],[ishp_Market]]-output[[#This Row],[ishp_Program]]","v":-94.376443438599011}]
["All","Chemical","Base",2018,"21-50 HP","Traditional","Non ASD Control","constant","Pumps",2018,913283.85233270796,542243.73048255802,913283.85233270796,981688.81287242798,582857.78589570196,981688.81287242798,225.30047906128101,133.76758160527601,225.30047906128101,6.3464923679234202,3.7681008902894702,6.3464923679234202,1.9046519959941901,0,1.9046519959941901,5.3652168901244801E-2,0,5.3652168901244801E-2,{"$f":"output[[#This Row],[ishp_Program]]-output[[#This Row],[ishp_Baseline]]","v":0},{"$f":"output[[#This Row],[ishp_Market]]-output[[#This Row],[ishp_Program]]","v":-91.532897456005003}]
["All","Chemical","Base",2018,"21-50 HP","Traditional","Non ASD Control","constant","Pumps","2014 and before",5044208.9310860597,3532366.0926582101,5044208.9310860597,5422020.1800244097,3796940.3129983102,5422020.1800244097,1235.0492461454801,864.882113221287,1235.0492461454801,34.790119609732002,24.362876428768601,34.790119609732002,407.16819117568599,379.21537207251902,407.16819117568599,11.4695265119911,10.682123156972301,11.4695265119911,{"$f":"output[[#This Row],[ishp_Program]]-output[[#This Row],[ishp_Baseline]]","v":0},{"$f":"output[[#This Row],[ishp_Market]]-output[[#This Row],[ishp_Program]]","v":-370.16713292419308}]
["All","Chemical","Base",2018,"21-50 HP","Traditional","Non ASD Control","variable","Fans",2015,1112314.3561879301,669831.81535560603,650168.86791185895,1195626.7014663999,720002.21832574101,698866.51611845696,283.18110741149502,170.53067255369001,165.5247358766,7.9769326031407104,4.8036809170053596,4.6626686162422804,6.2286814410276596,2.4544996494599398,6.2286814410276596,0.175455815240215,6.9140835196054795E-2,0.175455815240215,{"$f":"output[[#This Row],[ishp_Program]]-output[[#This Row],[ishp_Baseline]]","v":-117.65637153489502},{"$f":"output[[#This Row],[ishp_Market]]-output[[#This Row],[ishp_Program]]","v":5.0059366770900056}]
["All","Chemical","Base",2018,"21-50 HP","Traditional","Non ASD Control","variable","Fans",2016,769144.09444525698,442177.57344313501,494609.52079883899,826752.98711920704,475296.67369402602,531655.77390667202,197.29204347716799,113.42233227090099,126.871575542743,5.5575223514695304,3.1949952752366699,3.5738471983871198,4.4102169222480097,1.1934552876632001,4.4102169222480097,0.124231462598535,3.3618458807414299E-2,0.124231462598535,{"$f":"output[[#This Row],[ishp_Program]]-output[[#This Row],[ishp_Baseline]]","v":-70.420467934424991},{"$f":"output[[#This Row],[ishp_Market]]-output[[#This Row],[ishp_Program]]","v":-13.449243271842008}]
["All","Chemical","Base",2018,"21-50 HP","Traditional","Non ASD Control","variable","Fans",2017,486325.32623309398,263731.40838949999,289513.20389985602,522751.09316795302,283484.89087787399,311197.74287195603,124.746608730617,67.6493635796609,74.262614799404503,3.51398897832726,1.9056158754834001,2.0919046422367402,2.2780049679274201,0.52858206276059805,2.2780049679274201,6.4169154026124706E-2,1.4889635570721E-2,6.4169154026124706E-2,{"$f":"output[[#This Row],[ishp_Program]]-output[[#This Row],[ishp_Baseline]]","v":-50.483993931212495},{"$f":"output[[#This Row],[ishp_Market]]-output[[#This Row],[ishp_Program]]","v":-6.6132512197436029}]
["All","Chemical","Base",2018,"21-50 HP","Traditional","Non ASD Control","variable","Fans",2018,371071.71126684302,189104.48044852301,202426.55943634899,398864.98244072899,203268.406034118,217588.30873813201,95.183070013958101,48.5069178165976,51.924145103206598,2.6812132398298001,1.36639205117176,1.4626519747382101,0.51111392488996898,3.9337619350281003E-2,0.51111392488996898,1.43975753490132E-2,1.10810195352904E-3,1.43975753490132E-2,{"$f":"output[[#This Row],[ishp_Program]]-output[[#This Row],[ishp_Baseline]]","v":-43.258924910751503},{"$f":"output[[#This Row],[ishp_Market]]-output[[#This Row],[ishp_Program]]","v":-3.4172272866089983}]
["All","Chemical","Base",2018,"21-50 HP","Traditional","Non ASD Control","variable","Fans","2014 and before",4207663.4803717202,2565648.6615459402,2347226.2390139499,4522817.4750515604,2757815.7462957301,2523033.4843160901,1071.21767992829,653.18156253540997,597.57398797520102,30.175145913473099,18.399480634800199,16.833070083808401,295.15370547511901,281.83245093343101,295.15370547511901,8.3141888866230804,7.93894227981498,8.3141888866230804,{"$f":"output[[#This Row],[ishp_Program]]-output[[#This Row],[ishp_Baseline]]","v":-473.64369195308893},{"$f":"output[[#This Row],[ishp_Market]]-output[[#This Row],[ishp_Program]]","v":55.607574560208946}]
["All","Chemical","Base",2018,"21-50 HP","Traditional","Non ASD Control","variable","Pumps",2015,497305.20180233498,363976.47465973999,454964.95394859998,534553.36141732999,391238.31261175399,489041.82899935002,148.71026498026799,108.84068334106701,136.049167821341,4.18902154873994,3.0659347420018999,3.8323709245448199,2.7180950371582102,0.55440022643176801,2.7180950371582102,7.6566057384738498E-2,1.56169077868103E-2,7.6566057384738498E-2,{"$f":"output[[#This Row],[ishp_Program]]-output[[#This Row],[ishp_Baseline]]","v":-12.661097158926992},{"$f":"output[[#This Row],[ishp_Market]]-output[[#This Row],[ishp_Program]]","v":-27.208484480273995}]
["All","Chemical","Base",2018,"21-50 HP","Traditional","Non ASD Control","variable","Pumps",2016,404966.03709175403,277660.779840943,374208.66363779199,435297.99326992698,298457.57225102902,402236.89254426298,122.011755469517,83.656099698436506,112.744901498997,3.43695085829625,2.35650985066018,3.17591271828161,2.09575356702363,0.165719233081983,2.09575356702363,5.9035311747144499E-2,4.6681474107600901E-3,5.9035311747144499E-2,{"$f":"output[[#This Row],[ishp_Program]]-output[[#This Row],[ishp_Baseline]]","v":-9.2668539705200033},{"$f":"output[[#This Row],[ishp_Market]]-output[[#This Row],[ishp_Program]]","v":-29.088801800560489}]
["All","Chemical","Base",2018,"21-50 HP","Traditional","Non ASD Control","variable","Pumps",2017,305445.21372177301,206443.570903043,279921.96404907998,328323.060229533,221906.19436368099,300888.11915635603,92.027240095473502,62.1991480376143,84.337369309725702,2.5923166224076999,1.7520886771158899,2.3757005439359302,1.24441204262087,5.8438122528202997E-2,1.24441204262087,3.5053860355517601E-2,1.64614429656909E-3,3.5053860355517601E-2,{"$f":"output[[#This Row],[ishp_Program]]-output[[#This Row],[ishp_Baseline]]","v":-7.6898707857478001},{"$f":"output[[#This Row],[ishp_Market]]-output[[#This Row],[ishp_Program]]","v":-22.138221272111402}]
["All","Chemical","Base",2018,"21-50 HP","Traditional","Non ASD Control","variable","Pumps",2018,273592.354685192,184056.46577196801,248926.54333514499,294084.42205111298,197842.29505828899,267571.141430947,82.4303285231193,55.454162664176202,74.998794351730794,2.3219810851582898,1.5620890891317201,2.1126420944149502,3.4295112566830703E-2,0,3.4295112566830703E-2,9.6605950892480802E-4,0,9.6605950892480802E-4,{"$f":"output[[#This Row],[ishp_Program]]-output[[#This Row],[ishp_Baseline]]","v":-7.4315341713885061},{"$f":"output[[#This Row],[ishp_Market]]-output[[#This Row],[ishp_Program]]","v":-19.544631687554592}]
["All","Chemical","Base",2018,"21-50 HP","Traditional","Non ASD Control","variable","Pumps","2014 and before",1617202.89775261,1199008.45741234,1471578.7857151099,1738331.3947942799,1288814.19087253,1581800.0367651701,483.59572869949199,358.54212819242503,440.04943115398601,13.6224148929434,10.0997782589415,12.395758624055899,164.50288233235599,157.20603359428699,164.50288233235599,4.6338840093621396,4.4283389744869597,4.6338840093621396,{"$f":"output[[#This Row],[ishp_Program]]-output[[#This Row],[ishp_Baseline]]","v":-43.546297545505979},{"$f":"output[[#This Row],[ishp_Market]]-output[[#This Row],[ishp_Program]]","v":-81.507302961560981}]
["All","Chemical","Base",2018,"501-1,000 HP","Traditional","ASD Control","constant","Fans",2015,0,0,0,0,0,0,0,0,0,0,0,0,0,0,0,0,0,0,{"$f":"output[[#This Row],[ishp_Program]]-output[[#This Row],[ishp_Baseline]]","v":0},{"$f":"output[[#This Row],[ishp_Market]]-output[[#This Row],[ishp_Program]]","v":0}]
["All","Chemical","Base",2018,"501-1,000 HP","Traditional","ASD Control","constant","Fans",2016,0,0,0,0,0,0,0,0,0,0,0,0,0,0,0,0,0,0,{"$f":"output[[#This Row],[ishp_Program]]-output[[#This Row],[ishp_Baseline]]","v":0},{"$f":"output[[#This Row],[ishp_Market]]-output[[#This Row],[ishp_Program]]","v":0}]
["All","Chemical","Base",2018,"501-1,000 HP","Traditional","ASD Control","constant","Fans",2017,0,0,0,0,0,0,0,0,0,0,0,0,0,0,0,0,0,0,{"$f":"output[[#This Row],[ishp_Program]]-output[[#This Row],[ishp_Baseline]]","v":0},{"$f":"output[[#This Row],[ishp_Market]]-output[[#This Row],[ishp_Program]]","v":0}]
["All","Chemical","Base",2018,"501-1,000 HP","Traditional","ASD Control","constant","Fans",2018,0,0,0,0,0,0,0,0,0,0,0,0,0,0,0,0,0,0,{"$f":"output[[#This Row],[ishp_Program]]-output[[#This Row],[ishp_Baseline]]","v":0},{"$f":"output[[#This Row],[ishp_Market]]-output[[#This Row],[ishp_Program]]","v":0}]
["All","Chemical","Base",2018,"501-1,000 HP","Traditional","ASD Control","constant","Fans","2014 and before",0,0,0,0,0,0,0,0,0,0,0,0,0,0,0,0,0,0,{"$f":"output[[#This Row],[ishp_Program]]-output[[#This Row],[ishp_Baseline]]","v":0},{"$f":"output[[#This Row],[ishp_Market]]-output[[#This Row],[ishp_Program]]","v":0}]
["All","Chemical","Base",2018,"501-1,000 HP","Traditional","ASD Control","constant","Pumps",2015,0,0,0,0,0,0,0,0,0,0,0,0,0,0,0,0,0,0,{"$f":"output[[#This Row],[ishp_Program]]-output[[#This Row],[ishp_Baseline]]","v":0},{"$f":"output[[#This Row],[ishp_Market]]-output[[#This Row],[ishp_Program]]","v":0}]
["All","Chemical","Base",2018,"501-1,000 HP","Traditional","ASD Control","constant","Pumps",2016,0,0,0,0,0,0,0,0,0,0,0,0,0,0,0,0,0,0,{"$f":"output[[#This Row],[ishp_Program]]-output[[#This Row],[ishp_Baseline]]","v":0},{"$f":"output[[#This Row],[ishp_Market]]-output[[#This Row],[ishp_Program]]","v":0}]
["All","Chemical","Base",2018,"501-1,000 HP","Traditional","ASD Control","constant","Pumps",2017,0,0,0,0,0,0,0,0,0,0,0,0,0,0,0,0,0,0,{"$f":"output[[#This Row],[ishp_Program]]-output[[#This Row],[ishp_Baseline]]","v":0},{"$f":"output[[#This Row],[ishp_Market]]-output[[#This Row],[ishp_Program]]","v":0}]
["All","Chemical","Base",2018,"501-1,000 HP","Traditional","ASD Control","constant","Pumps",2018,0,0,0,0,0,0,0,0,0,0,0,0,0,0,0,0,0,0,{"$f":"output[[#This Row],[ishp_Program]]-output[[#This Row],[ishp_Baseline]]","v":0},{"$f":"output[[#This Row],[ishp_Market]]-output[[#This Row],[ishp_Program]]","v":0}]
["All","Chemical","Base",2018,"501-1,000 HP","Traditional","ASD Control","constant","Pumps","2014 and before",0,0,0,0,0,0,0,0,0,0,0,0,0,0,0,0,0,0,{"$f":"output[[#This Row],[ishp_Program]]-output[[#This Row],[ishp_Baseline]]","v":0},{"$f":"output[[#This Row],[ishp_Market]]-output[[#This Row],[ishp_Program]]","v":0}]
["All","Chemical","Base",2018,"501-1,000 HP","Traditional","ASD Control","variable","Fans",2015,0,0,0,0,0,0,0,0,0,0,0,0,0,0,0,0,0,0,{"$f":"output[[#This Row],[ishp_Program]]-output[[#This Row],[ishp_Baseline]]","v":0},{"$f":"output[[#This Row],[ishp_Market]]-output[[#This Row],[ishp_Program]]","v":0}]
["All","Chemical","Base",2018,"501-1,000 HP","Traditional","ASD Control","variable","Fans",2016,0,0,0,0,0,0,0,0,0,0,0,0,0,0,0,0,0,0,{"$f":"output[[#This Row],[ishp_Program]]-output[[#This Row],[ishp_Baseline]]","v":0},{"$f":"output[[#This Row],[ishp_Market]]-output[[#This Row],[ishp_Program]]","v":0}]
["All","Chemical","Base",2018,"501-1,000 HP","Traditional","ASD Control","variable","Fans",2017,0,0,0,0,0,0,0,0,0,0,0,0,0,0,0,0,0,0,{"$f":"output[[#This Row],[ishp_Program]]-output[[#This Row],[ishp_Baseline]]","v":0},{"$f":"output[[#This Row],[ishp_Market]]-output[[#This Row],[ishp_Program]]","v":0}]
["All","Chemical","Base",2018,"501-1,000 HP","Traditional","ASD Control","variable","Fans",2018,0,0,0,0,0,0,0,0,0,0,0,0,0,0,0,0,0,0,{"$f":"output[[#This Row],[ishp_Program]]-output[[#This Row],[ishp_Baseline]]","v":0},{"$f":"output[[#This Row],[ishp_Market]]-output[[#This Row],[ishp_Program]]","v":0}]
["All","Chemical","Base",2018,"501-1,000 HP","Traditional","ASD Control","variable","Fans","2014 and before",0,0,0,0,0,0,0,0,0,0,0,0,0,0,0,0,0,0,{"$f":"output[[#This Row],[ishp_Program]]-output[[#This Row],[ishp_Baseline]]","v":0},{"$f":"output[[#This Row],[ishp_Market]]-output[[#This Row],[ishp_Program]]","v":0}]
["All","Chemical","Base",2018,"501-1,000 HP","Traditional","ASD Control","variable","Pumps",2015,0,0,0,0,0,0,0,0,0,0,0,0,0,0,0,0,0,0,{"$f":"output[[#This Row],[ishp_Program]]-output[[#This Row],[ishp_Baseline]]","v":0},{"$f":"output[[#This Row],[ishp_Market]]-output[[#This Row],[ishp_Program]]","v":0}]
["All","Chemical","Base",2018,"501-1,000 HP","Traditional","ASD Control","variable","Pumps",2016,0,0,0,0,0,0,0,0,0,0,0,0,0,0,0,0,0,0,{"$f":"output[[#This Row],[ishp_Program]]-output[[#This Row],[ishp_Baseline]]","v":0},{"$f":"output[[#This Row],[ishp_Market]]-output[[#This Row],[ishp_Program]]","v":0}]
["All","Chemical","Base",2018,"501-1,000 HP","Traditional","ASD Control","variable","Pumps",2017,0,0,0,0,0,0,0,0,0,0,0,0,0,0,0,0,0,0,{"$f":"output[[#This Row],[ishp_Program]]-output[[#This Row],[ishp_Baseline]]","v":0},{"$f":"output[[#This Row],[ishp_Market]]-output[[#This Row],[ishp_Program]]","v":0}]
["All","Chemical","Base",2018,"501-1,000 HP","Traditional","ASD Control","variable","Pumps",2018,0,0,0,0,0,0,0,0,0,0,0,0,0,0,0,0,0,0,{"$f":"output[[#This Row],[ishp_Program]]-output[[#This Row],[ishp_Baseline]]","v":0},{"$f":"output[[#This Row],[ishp_Market]]-output[[#This Row],[ishp_Program]]","v":0}]
["All","Chemical","Base",2018,"501-1,000 HP","Traditional","ASD Control","variable","Pumps","2014 and before",0,0,0,0,0,0,0,0,0,0,0,0,0,0,0,0,0,0,{"$f":"output[[#This Row],[ishp_Program]]-output[[#This Row],[ishp_Baseline]]","v":0},{"$f":"output[[#This Row],[ishp_Market]]-output[[#This Row],[ishp_Program]]","v":0}]
["All","Chemical","Base",2018,"501-1,000 HP","Traditional","Non ASD Control","constant","Fans",2015,463747.18503439502,463852.32160304202,463747.18503439502,498481.84919347201,498594.86049111001,498481.84919347201,111.254233721175,111.279456275098,111.254233721175,0.14824015152721601,0.14827375919400099,0.14824015152721601,1.6246938839006899,1.60167893745523,1.6246938839006899,2.16481530166648E-3,2.1341491505066398E-3,2.16481530166648E-3,{"$f":"output[[#This Row],[ishp_Program]]-output[[#This Row],[ishp_Baseline]]","v":0},{"$f":"output[[#This Row],[ishp_Market]]-output[[#This Row],[ishp_Program]]","v":2.5222553923001101E-2}]
["All","Chemical","Base",2018,"501-1,000 HP","Traditional","Non ASD Control","constant","Fans",2016,307027.51568173,307083.10883462097,307027.51568173,330023.87660629197,330083.63368633401,330023.87660629197,74.0001215838858,74.0135207089251,74.0001215838858,9.8601094715370804E-2,9.8618948313024798E-2,9.8601094715370804E-2,0.79061404547314595,0.77878690977418696,0.79061404547314595,1.05344976079033E-3,1.03769075253056E-3,1.05344976079033E-3,{"$f":"output[[#This Row],[ishp_Program]]-output[[#This Row],[ishp_Baseline]]","v":0},{"$f":"output[[#This Row],[ishp_Market]]-output[[#This Row],[ishp_Program]]","v":1.339912503929952E-2}]
["All","Chemical","Base",2018,"501-1,000 HP","Traditional","Non ASD Control","constant","Fans",2017,183702.80606401901,183155.966402705,183702.80606401901,197462.14623821399,196874.34828626801,197462.14623821399,44.276259584923203,44.1444596668142,44.276259584923203,5.8995682325014301E-2,5.8820066178300101E-2,5.8995682325014301E-2,0.35374156836683701,0.344925189468482,0.35374156836683701,4.71341197024434E-4,4.5959385672016199E-4,4.71341197024434E-4,{"$f":"output[[#This Row],[ishp_Program]]-output[[#This Row],[ishp_Baseline]]","v":0},{"$f":"output[[#This Row],[ishp_Market]]-output[[#This Row],[ishp_Program]]","v":-0.13179991810900304}]
["All","Chemical","Base",2018,"501-1,000 HP","Traditional","Non ASD Control","constant","Fans",2018,131449.32040547999,131329.12033169001,131449.32040547999,141294.87450385001,141165.671444534,141294.87450385001,31.682064946283599,31.653094187571298,31.682064946283599,4.2214610188252601E-2,4.2176008244598703E-2,4.2214610188252601E-2,3.1455356720915199E-2,2.5669686437659298E-2,3.1455356720915199E-2,4.1912533938594599E-5,3.4203446286021699E-5,4.1912533938594599E-5,{"$f":"output[[#This Row],[ishp_Program]]-output[[#This Row],[ishp_Baseline]]","v":0},{"$f":"output[[#This Row],[ishp_Market]]-output[[#This Row],[ishp_Program]]","v":-2.8970758712301148E-2}]
["All","Chemical","Base",2018,"501-1,000 HP","Traditional","Non ASD Control","constant","Fans","2014 and before",1776178.7495663599,1776687.91000024,1776178.7495663599,1909214.5379088901,1909761.8344592601,1909214.5379088901,426.11019993616998,426.23234893403003,426.11019993616998,0.56776842096758195,0.56793117779351099,0.56776842096758195,184.02366199166701,183.90921369688701,184.02366199166701,0.24520141504552601,0.245048918983194,0.24520141504552601,{"$f":"output[[#This Row],[ishp_Program]]-output[[#This Row],[ishp_Baseline]]","v":0},{"$f":"output[[#This Row],[ishp_Market]]-output[[#This Row],[ishp_Program]]","v":0.12214899786005162}]
["All","Chemical","Base",2018,"501-1,000 HP","Traditional","Non ASD Control","constant","Pumps",2015,990404.98344969901,991246.040864954,990404.98344969901,1064586.31671008,1065490.36932573,1064586.31671008,208.418036966823,208.59502672191601,208.418036966823,0.277705578903162,0.27794140802387202,0.277705578903162,1.20736019547106,1.06251749343383,1.20736019547106,1.60874109989482E-3,1.41574616047146E-3,1.60874109989482E-3,{"$f":"output[[#This Row],[ishp_Program]]-output[[#This Row],[ishp_Baseline]]","v":0},{"$f":"output[[#This Row],[ishp_Market]]-output[[#This Row],[ishp_Program]]","v":0.17698975509301818}]
["All","Chemical","Base",2018,"501-1,000 HP","Traditional","Non ASD Control","constant","Pumps",2016,758029.67197764502,758346.94950079999,758029.67197764502,814806.09440877102,815147.13601840998,814806.09440877102,160.26126421686101,160.32834245779,160.26126421686101,0.21353932607176701,0.21362870414096,0.21353932607176701,0.35713565951862802,0.31760373779308698,0.35713565951862802,4.7586363693354799E-4,4.2318952404142199E-4,4.7586363693354799E-4,{"$f":"output[[#This Row],[ishp_Program]]-output[[#This Row],[ishp_Baseline]]","v":0},{"$f":"output[[#This Row],[ishp_Market]]-output[[#This Row],[ishp_Program]]","v":6.7078240928992727E-2}]
["All","Chemical","Base",2018,"501-1,000 HP","Traditional","Non ASD Control","constant","Pumps",2017,566756.01297819905,563838.552668683,566756.01297819905,609206.03835026699,606070.06026356702,609206.03835026699,119.822532679265,119.20572848968,119.822532679265,0.15965693894638899,0.158835081265396,0.15965693894638899,0.13433919109358,0.11199765892826,0.13433919109358,1.78999588399174E-4,1.49230724754511E-4,1.78999588399174E-4,{"$f":"output[[#This Row],[ishp_Program]]-output[[#This Row],[ishp_Baseline]]","v":0},{"$f":"output[[#This Row],[ishp_Market]]-output[[#This Row],[ishp_Program]]","v":-0.61680418958499672}]
["All","Chemical","Base",2018,"501-1,000 HP","Traditional","Non ASD Control","constant","Pumps",2018,504253.414458438,502694.90503494302,504253.414458438,542021.99520137499,540346.75342206005,542021.99520137499,106.608346182471,106.278848934888,106.608346182471,0.14204976173547099,0.14161072476334199,0.14204976173547099,0,0,0,0,0,0,{"$f":"output[[#This Row],[ishp_Program]]-output[[#This Row],[ishp_Baseline]]","v":0},{"$f":"output[[#This Row],[ishp_Market]]-output[[#This Row],[ishp_Program]]","v":-0.32949724758299226}]
["All","Chemical","Base",2018,"501-1,000 HP","Traditional","Non ASD Control","constant","Pumps","2014 and before",3262017.9370408501,3265354.95868148,3262017.9370408501,3506343.0805252101,3509930.04508672,3506343.0805252101,686.44987287985498,687.15210632100104,686.44987287985498,0.91465672602245796,0.91559241348567699,0.91465672602245796,301.894332494693,301.28804571804397,301.894332494693,0.40225760492297502,0.40144976111664799,0.40225760492297502,{"$f":"output[[#This Row],[ishp_Program]]-output[[#This Row],[ishp_Baseline]]","v":0},{"$f":"output[[#This Row],[ishp_Market]]-output[[#This Row],[ishp_Program]]","v":0.70223344114606334}]
["All","Chemical","Base",2018,"501-1,000 HP","Traditional","Non ASD Control","variable","Fans",2015,252969.19394655601,253026.54483489101,252969.19394655601,271916.58657315298,271978.23304302501,271916.58657315298,66.258020403461302,66.2730418227504,66.258020403461302,8.8285170424332204E-2,8.8305185639907205E-2,8.8285170424332204E-2,0.96759464254332095,0.95388797502906897,0.96759464254332095,1.28926667893847E-3,1.2710032978401899E-3,1.28926667893847E-3,{"$f":"output[[#This Row],[ishp_Program]]-output[[#This Row],[ishp_Baseline]]","v":0},{"$f":"output[[#This Row],[ishp_Market]]-output[[#This Row],[ishp_Program]]","v":1.5021419289098503E-2}]
["All","Chemical","Base",2018,"501-1,000 HP","Traditional","Non ASD Control","variable","Fans",2016,167480.268706451,167510.594184491,167480.268706451,180024.540832564,180057.13768890899,180024.540832564,44.071145895012101,44.079125811555897,44.071145895012101,5.8722379606944902E-2,5.8733012407136499E-2,5.8722379606944902E-2,0.470854185086651,0.46381047472844,0.470854185086651,6.2738732190093405E-4,6.1800196499458995E-4,6.2738732190093405E-4,{"$f":"output[[#This Row],[ishp_Program]]-output[[#This Row],[ishp_Baseline]]","v":0},{"$f":"output[[#This Row],[ishp_Market]]-output[[#This Row],[ishp_Program]]","v":7.9799165437961506E-3}]
["All","Chemical","Base",2018,"501-1,000 HP","Traditional","Non ASD Control","variable","Fans",2017,100207.94147200799,99909.646209407394,100207.94147200799,107713.51628826201,107392.878710492,107713.51628826201,26.368949862340401,26.2904557559038,26.368949862340401,3.5135176365543599E-2,3.50305872830163E-2,3.5135176365543599E-2,0.210672576408583,0.205421937458553,0.210672576408583,2.8070962879224898E-4,2.7371344098408098E-4,2.8070962879224898E-4,{"$f":"output[[#This Row],[ishp_Program]]-output[[#This Row],[ishp_Baseline]]","v":0},{"$f":"output[[#This Row],[ishp_Market]]-output[[#This Row],[ishp_Program]]","v":-7.849410643660093E-2}]
["All","Chemical","Base",2018,"501-1,000 HP","Traditional","Non ASD Control","variable","Fans",2018,71704.216652723495,71638.648781348398,71704.216652723495,77074.862480012496,77004.383575071406,77074.862480012496,18.868413681187299,18.851159999618002,18.868413681187299,2.51411241588105E-2,2.5118134576439698E-2,2.51411241588105E-2,1.8733396453350201E-2,1.52877113153229E-2,1.8733396453350201E-2,2.49612211237178E-5,2.03700350637214E-5,2.49612211237178E-5,{"$f":"output[[#This Row],[ishp_Program]]-output[[#This Row],[ishp_Baseline]]","v":0},{"$f":"output[[#This Row],[ishp_Market]]-output[[#This Row],[ishp_Program]]","v":-1.7253681569297186E-2}]
["All","Chemical","Base",2018,"501-1,000 HP","Traditional","Non ASD Control","variable","Fans","2014 and before",968886.75787752995,969164.49951932195,968886.75787752995,1041456.37604255,1041754.92053331,1041456.37604255,253.77208019113701,253.84482664331,253.77208019113701,0.33813734868905698,0.338234279338188,0.33813734868905698,109.59622068425401,109.52806042466599,109.59622068425401,0.146030940285482,0.145940120485897,0.146030940285482,{"$f":"output[[#This Row],[ishp_Program]]-output[[#This Row],[ishp_Baseline]]","v":0},{"$f":"output[[#This Row],[ishp_Market]]-output[[#This Row],[ishp_Program]]","v":7.2746452172992804E-2}]
["All","Chemical","Base",2018,"501-1,000 HP","Traditional","Non ASD Control","variable","Pumps",2015,336178.051841137,336463.53611077601,336178.051841137,361357.78792403801,361664.65496547299,361357.78792403801,86.4009619177464,86.474334094704702,86.4009619177464,0.11512453286841599,0.115222297261431,0.11512453286841599,0.50051849536659898,0.44047307432287702,0.50051849536659898,6.6691338489886602E-4,5.8690616165606505E-4,6.6691338489886602E-4,{"$f":"output[[#This Row],[ishp_Program]]-output[[#This Row],[ishp_Baseline]]","v":0},{"$f":"output[[#This Row],[ishp_Market]]-output[[#This Row],[ishp_Program]]","v":7.3372176958301338E-2}]
["All","Chemical","Base",2018,"501-1,000 HP","Traditional","Non ASD Control","variable","Pumps",2016,257301.752941112,257409.44801677301,257301.752941112,276573.65423640102,276689.41567322903,276573.65423640102,66.437279556063999,66.465087247875999,66.437279556063999,8.8524023392490395E-2,8.8561075613425799E-2,8.8524023392490395E-2,0.14805275477404201,0.13166455674065999,0.14805275477404201,1.97272158259883E-4,1.75435785130793E-4,1.97272158259883E-4,{"$f":"output[[#This Row],[ishp_Program]]-output[[#This Row],[ishp_Baseline]]","v":0},{"$f":"output[[#This Row],[ishp_Market]]-output[[#This Row],[ishp_Program]]","v":2.7807691812000712E-2}]
["All","Chemical","Base",2018,"501-1,000 HP","Traditional","Non ASD Control","variable","Pumps",2017,192376.790803918,191386.50285144799,192376.790803918,206785.81243513199,205721.35191502099,206785.81243513199,49.673158012504999,49.417458092907701,49.673158012504999,6.6186752848108002E-2,6.5846046759370697E-2,6.6186752848108002E-2,5.56911268461147E-2,4.6429309117225703E-2,5.56911268461147E-2,7.4205365551118901E-5,6.1864502487975697E-5,7.4205365551118901E-5,{"$f":"output[[#This Row],[ishp_Program]]-output[[#This Row],[ishp_Baseline]]","v":0},{"$f":"output[[#This Row],[ishp_Market]]-output[[#This Row],[ishp_Program]]","v":-0.25569991959729776}]
["All","Chemical","Base",2018,"51-100 HP","Traditional","ASD Control","constant","Fans","2014 and before",2027457.0174261699,2840850.0984370699,2067971.74718022,2179313.5480313902,3053629.7708100099,2222862.8310440201,504.62945698023901,707.08115151879394,514.71348140086195,6.6838338672879303,9.3653132651495898,6.8173971046471804,143.43212872882401,150.46382220909999,143.43212872882401,1.8997632944215099,1.9928983074052999,1.8997632944215099,{"$f":"output[[#This Row],[ishp_Program]]-output[[#This Row],[ishp_Baseline]]","v":10.084024420622939},{"$f":"output[[#This Row],[ishp_Market]]-output[[#This Row],[ishp_Program]]","v":192.36767011793199}]
["All","Chemical","Base",2018,"6-10 HP","Traditional","ASD Control","constant","Pumps",2017,228406.76230348699,433728.86761004198,228406.76230348699,245514.42880001801,466215.15979403403,245514.42880001801,68.797691692001095,130.642125525636,68.797691692001095,8.5997114615001404,16.330265690704501,8.5997114615001404,0.95094628422668503,6.6543647642102197,0.95094628422668503,0.118868285528335,0.83179559552627802,0.118868285528335,{"$f":"output[[#This Row],[ishp_Program]]-output[[#This Row],[ishp_Baseline]]","v":0},{"$f":"output[[#This Row],[ishp_Market]]-output[[#This Row],[ishp_Program]]","v":61.844433833634909}]
["All","Chemical","Base",2018,"6-10 HP","Traditional","Non ASD Control","constant","Pumps",2018,663647.41189016297,452215.38298307301,663647.41189016297,713354.60304073605,486086.315168506,713354.60304073605,169.97919972371599,115.825372818509,169.97919972371599,21.247399965464499,14.4781716023136,21.247399965464499,0.28267271758905799,0,0.28267271758905799,3.53340896986322E-2,0,3.53340896986322E-2,{"$f":"output[[#This Row],[ishp_Program]]-output[[#This Row],[ishp_Baseline]]","v":0},{"$f":"output[[#This Row],[ishp_Market]]-output[[#This Row],[ishp_Program]]","v":-54.153826905206998}]
["All","Chemical","Base",2019,"1,001+ HP","Traditional","ASD Control","constant","Pumps",2016,0,0,0,0,0,0,0,0,0,0,0,0,0,0,0,0,0,0,{"$f":"output[[#This Row],[ishp_Program]]-output[[#This Row],[ishp_Baseline]]","v":0},{"$f":"output[[#This Row],[ishp_Market]]-output[[#This Row],[ishp_Program]]","v":0}]
["All","Chemical","Base",2019,"1-5 HP","Traditional","ASD Control","constant","Fans","2014 and before",58417.167547920297,132277.11217006901,58417.167547920297,62792.6133972596,142184.667871607,62792.6133972596,12.8831966679488,29.1721102252585,12.8831966679488,4.2943988893162697,9.7240367417528599,4.2943988893162697,4.8270512562947001,5.1330989450136304,4.8270512562947001,1.60901708543156,1.71103298167121,1.60901708543156,{"$f":"output[[#This Row],[ishp_Program]]-output[[#This Row],[ishp_Baseline]]","v":0},{"$f":"output[[#This Row],[ishp_Market]]-output[[#This Row],[ishp_Program]]","v":16.288913557309698}]
["All","Chemical","Base",2019,"1-5 HP","Traditional","Non ASD Control","constant","Fans",2017,178034.15715587599,168681.602936521,178034.15715587599,191368.91552685099,181315.85499646599,191368.91552685099,38.8916845018557,36.848612577925998,38.8916845018557,12.963894833951899,12.2828708593086,12.963894833951899,0.68833330451752495,0.64255877999989697,0.68833330451752495,0.22944443483917501,0.21418625999996499,0.22944443483917501,{"$f":"output[[#This Row],[ishp_Program]]-output[[#This Row],[ishp_Baseline]]","v":0},{"$f":"output[[#This Row],[ishp_Market]]-output[[#This Row],[ishp_Program]]","v":-2.0430719239297019}]
["All","Chemical","Base",2019,"1-5 HP","Traditional","Non ASD Control","variable","Pumps",2015,86092.520754070996,61774.204169565899,86092.520754070996,92540.850558550897,66401.092061866395,92540.850558550897,26.2550245690935,18.838840284874099,26.2550245690935,8.7516748563645095,6.2796134282913698,8.7516748563645095,0.48660145033357499,0.16146245810318,0.48660145033357499,0.16220048344452501,5.3820819367726598E-2,0.16220048344452501,{"$f":"output[[#This Row],[ishp_Program]]-output[[#This Row],[ishp_Baseline]]","v":0},{"$f":"output[[#This Row],[ishp_Market]]-output[[#This Row],[ishp_Program]]","v":-7.4161842842194012}]
["All","Chemical","Base",2019,"101-200 HP","Traditional","Non ASD Control","constant","Fans",2019,393925.34132454603,354924.47263206798,390475.95806514099,423430.349389754,381508.31563221,419722.60732422001,94.563891726354299,85.201523944001593,93.735848767837695,0.62833150648740399,0.56612308268439604,0.62282955991918698,0.348493681280309,0.33145807893254697,0.348493681280309,2.3155726330917501E-3,2.2023792620102802E-3,2.3155726330917501E-3,{"$f":"output[[#This Row],[ishp_Program]]-output[[#This Row],[ishp_Baseline]]","v":-0.8280429585166047},{"$f":"output[[#This Row],[ishp_Market]]-output[[#This Row],[ishp_Program]]","v":-8.5343248238361014}]
["All","Chemical","Base",2019,"11-20 HP","Traditional","ASD Control","constant","Pumps","2014 and before",1156024.39244687,2096217.4339358001,1156024.39244687,1242610.61944114,2253224.1197375902,1242610.61944114,342.888131096986,621.75857446554403,342.888131096986,22.1218149094829,40.1134564171319,22.1218149094829,93.030151892128302,119.638572205188,93.030151892128302,6.00194528336311,7.7186175616250701,6.00194528336311,{"$f":"output[[#This Row],[ishp_Program]]-output[[#This Row],[ishp_Baseline]]","v":0},{"$f":"output[[#This Row],[ishp_Market]]-output[[#This Row],[ishp_Program]]","v":278.87044336855803}]
["All","Chemical","Base",2019,"11-20 HP","Traditional","Non ASD Control","constant","Pumps",2017,689700.141583408,423646.64703876898,689700.141583408,741358.68218800495,455377.78090197302,741358.68218800495,173.52886029531601,106.589683539566,173.52886029531601,11.195410341633201,6.8767537767462299,11.195410341633201,3.5534190049983798,0.355927465920376,3.5534190049983798,0.22925283903215399,2.2963062317443599E-2,0.22925283903215399,{"$f":"output[[#This Row],[ishp_Program]]-output[[#This Row],[ishp_Baseline]]","v":0},{"$f":"output[[#This Row],[ishp_Market]]-output[[#This Row],[ishp_Program]]","v":-66.939176755750012}]
["All","Chemical","Base",2019,"201-500 HP","Traditional","ASD Control","constant","Fans","2014 and before",189792.99246769401,380193.04112089099,252416.53446337199,204008.487603524,408669.49990084599,271322.532894679,47.877830528454297,95.908799130095005,63.6754597863996,0.13659866056620301,0.27363423432266698,0.181670356023964,15.9173866969661,16.876028228014501,15.9173866969661,4.5413371460673799E-2,4.8148440022866099E-2,4.5413371460673799E-2,{"$f":"output[[#This Row],[ishp_Program]]-output[[#This Row],[ishp_Baseline]]","v":15.797629257945303},{"$f":"output[[#This Row],[ishp_Market]]-output[[#This Row],[ishp_Program]]","v":32.233339343695405}]
["All","Chemical","Base",2019,"201-500 HP","Traditional","Non ASD Control","constant","Fans",2016,226882.53508937499,189276.652070863,218046.948801989,243876.036967569,203453.47331097,234378.66526725801,54.683487063348601,45.619674299009901,52.553923991193201,0.15601565495962499,0.13015598944082701,0.14993986873378901,0.99521445675524201,0.82939700926776805,0.99521445675524201,2.8394135713416301E-3,2.3663252760849299E-3,2.8394135713416301E-3,{"$f":"output[[#This Row],[ishp_Program]]-output[[#This Row],[ishp_Baseline]]","v":-2.1295630721553991},{"$f":"output[[#This Row],[ishp_Market]]-output[[#This Row],[ishp_Program]]","v":-6.9342496921833003}]
["All","Chemical","Base",2019,"21-50 HP","Traditional","ASD Control","variable","Pumps",2019,1449017.1619220099,1539696.5050496701,1491358.2011852099,1557548.5473499701,1655019.7732778899,1603060.9304539801,636.14737319884705,675.95740958070996,654.73593212941603,17.919644315460399,19.041053791005901,18.443265693786302,4.8056698594038397E-2,6.1143633716007097E-2,4.8056698594038397E-2,1.3537098195503801E-3,1.72235587932414E-3,1.3537098195503801E-3,{"$f":"output[[#This Row],[ishp_Program]]-output[[#This Row],[ishp_Baseline]]","v":18.588558930568979},{"$f":"output[[#This Row],[ishp_Market]]-output[[#This Row],[ishp_Program]]","v":21.221477451293936}]
["All","Chemical","Base",2019,"21-50 HP","Traditional","Non ASD Control","variable","Pumps",2016,366941.16657786601,228027.121928326,319687.21532024199,394425.05995454901,245106.35336075799,343631.787747728,110.55528559807099,68.702031510936294,96.318196514703203,3.1142333971287601,1.93526849326581,2.7131886342169902,1.9826859004731701,0.25575868229853199,1.9826859004731701,5.5850307055582402E-2,7.2044699239023104E-3,5.5850307055582402E-2,{"$f":"output[[#This Row],[ishp_Program]]-output[[#This Row],[ishp_Baseline]]","v":-14.237089083367792},{"$f":"output[[#This Row],[ishp_Market]]-output[[#This Row],[ishp_Program]]","v":-27.616165003766909}]
["All","Chemical","Base",2019,"501-1,000 HP","Traditional","ASD Control","constant","Pumps","2014 and before",0,0,0,0,0,0,0,0,0,0,0,0,0,0,0,0,0,0,{"$f":"output[[#This Row],[ishp_Program]]-output[[#This Row],[ishp_Baseline]]","v":0},{"$f":"output[[#This Row],[ishp_Market]]-output[[#This Row],[ishp_Program]]","v":0}]
["All","Chemical","Base",2019,"501-1,000 HP","Traditional","Non ASD Control","variable","Pumps",2019,234009.85588108201,231737.89970117901,234009.85588108201,251537.19408657501,249095.06838879801,251537.19408657501,60.423133679947703,59.836497226297702,60.423133679947703,8.0510504570216801E-2,7.9728843739237498E-2,8.0510504570216801E-2,0,0,0,0,0,0,{"$f":"output[[#This Row],[ishp_Program]]-output[[#This Row],[ishp_Baseline]]","v":0},{"$f":"output[[#This Row],[ishp_Market]]-output[[#This Row],[ishp_Program]]","v":-0.5866364536500015}]
["All","Chemical","Base",2019,"51-100 HP","Traditional","Non ASD Control","constant","Fans",2019,566410.43246203696,347908.71977604699,556752.17418250896,608834.57385344396,373967.08288727299,598452.912028778,134.95088784846999,82.891465151728198,132.64974638780399,1.78742897812543,1.0979002006851399,1.75695028328217,0.405487241465047,0.322471295433095,0.405487241465047,5.3706919399343998E-3,4.2711429858688001E-3,5.3706919399343998E-3,{"$f":"output[[#This Row],[ishp_Program]]-output[[#This Row],[ishp_Baseline]]","v":-2.3011414606660026},{"$f":"output[[#This Row],[ishp_Market]]-output[[#This Row],[ishp_Program]]","v":-49.758281236075788}]
["All","Chemical","Base",2019,"6-10 HP","Traditional","ASD Control","constant","Fans",2016,10531.851120589001,26176.792085633999,10659.655538225999,11320.6867695211,28137.433812848001,11458.0637380391,2.5072347301853299,6.2317024320290102,2.5376601198819402,0.31340434127316602,0.77896280400362605,0.31720751498524302,2.0095821475095602E-2,0.10060026683144201,2.0095821475095602E-2,2.5119776843869502E-3,1.2575033353930299E-2,2.5119776843869502E-3,{"$f":"output[[#This Row],[ishp_Program]]-output[[#This Row],[ishp_Baseline]]","v":3.0425389696610239E-2},{"$f":"output[[#This Row],[ishp_Market]]-output[[#This Row],[ishp_Program]]","v":3.69404231214707}]
["All","Chemical","Base",2019,"6-10 HP","Traditional","Non ASD Control","variable","Fans",2018,145209.871803816,81876.244476713997,142865.03578628501,156086.09120192201,88008.775188019907,153565.62696667801,36.313875335704999,20.475493146223901,35.727482125893999,4.5392344169631302,2.5594366432779898,4.4659352657367499,0.20618964892795899,0.108759330188777,0.20618964892795899,2.5773706115994902E-2,1.35949162735971E-2,2.5773706115994902E-2,{"$f":"output[[#This Row],[ishp_Program]]-output[[#This Row],[ishp_Baseline]]","v":-0.58639320981099985},{"$f":"output[[#This Row],[ishp_Market]]-output[[#This Row],[ishp_Program]]","v":-15.251988979670099}]
["All","Chemical","Base",2020,"1,001+ HP","Traditional","ASD Control","variable","Fans",2019,0,0,0,0,0,0,0,0,0,0,0,0,0,0,0,0,0,0,{"$f":"output[[#This Row],[ishp_Program]]-output[[#This Row],[ishp_Baseline]]","v":0},{"$f":"output[[#This Row],[ishp_Market]]-output[[#This Row],[ishp_Program]]","v":0}]
["All","Chemical","Base",2020,"1,001+ HP","Traditional","Non ASD Control","constant","Pumps",2019,247726.847376975,243835.76648062799,247726.847376975,266281.58824551001,262099.06539002701,266281.58824551001,52.373962667601702,51.551317371947498,52.373962667601702,5.2373962667601699E-2,5.15513173719475E-2,5.2373962667601699E-2,5.9264866589963097E-3,0,5.9264866589963097E-3,5.9264866589963102E-6,0,5.9264866589963102E-6,{"$f":"output[[#This Row],[ishp_Program]]-output[[#This Row],[ishp_Baseline]]","v":0},{"$f":"output[[#This Row],[ishp_Market]]-output[[#This Row],[ishp_Program]]","v":-0.82264529565420474}]
["All","Chemical","Base",2020,"1-5 HP","Traditional","ASD Control","variable","Pumps",2020,74548.031488780907,89195.326101742801,74548.031488780907,80131.6790472906,95876.056026763297,80131.6790472906,33.496984417962601,40.078515675290703,33.496984417962601,11.1656614726542,13.3595052250969,11.1656614726542,0,0,0,0,0,0,{"$f":"output[[#This Row],[ishp_Program]]-output[[#This Row],[ishp_Baseline]]","v":0},{"$f":"output[[#This Row],[ishp_Market]]-output[[#This Row],[ishp_Program]]","v":6.581531257328102}]
["All","Chemical","Base",2020,"101-200 HP","Traditional","ASD Control","constant","Fans",2015,35768.0188140998,102412.04830784,41326.986679686299,38447.0434232759,110082.71072609699,44422.377981994803,8.9941027224723999,25.752180664152899,10.3919416207873,5.9761479883537499E-2,0.17111083497776,6.9049445985297594E-2,0.17280118297542299,0.29058672471181102,0.17280118297542299,1.1481806177768899E-3,1.9308088020718399E-3,1.1481806177768899E-3,{"$f":"output[[#This Row],[ishp_Program]]-output[[#This Row],[ishp_Baseline]]","v":1.3978388983148999},{"$f":"output[[#This Row],[ishp_Market]]-output[[#This Row],[ishp_Program]]","v":15.360239043365599}]
["All","Chemical","Base",2020,"101-200 HP","Traditional","ASD Control","constant","Pumps","2014 and before",4588352.2149155401,7806601.4599894397,4588352.2149155401,4932019.7958127102,8391315.9093426503,4932019.7958127102,1166.9133123418801,1985.38096927176,1166.9133123418801,7.75357682619192,13.1919001280516,7.75357682619192,246.29073328627001,316.57391560728797,246.29073328627001,1.6364832776496301,2.10348116682583,1.6364832776496301,{"$f":"output[[#This Row],[ishp_Program]]-output[[#This Row],[ishp_Baseline]]","v":0},{"$f":"output[[#This Row],[ishp_Market]]-output[[#This Row],[ishp_Program]]","v":818.46765692987992}]
["All","Chemical","Base",2020,"101-200 HP","Traditional","Non ASD Control","constant","Fans",2016,365404.76041441702,319121.37496027799,362084.362744315,392773.57696945698,343023.56594480301,389204.48151386401,87.717373256408607,76.6067982522775,86.920293980655103,0.582839689411353,0.50901527077925202,0.57754348159903701,2.4493478167264602,2.3205005055731198,2.4493478167264602,1.6274736323763798E-2,1.5418608010452599E-2,1.6274736323763798E-2,{"$f":"output[[#This Row],[ishp_Program]]-output[[#This Row],[ishp_Baseline]]","v":-0.79707927575350368},{"$f":"output[[#This Row],[ishp_Market]]-output[[#This Row],[ishp_Program]]","v":-10.313495728377603}]
["All","Chemical","Base",2020,"11-20 HP","Traditional","ASD Control","variable","Pumps",2015,730606.63515401003,824155.70202349499,734404.59695774596,785329.07212704502,885884.96410505497,789411.50126988103,323.89327686317398,365.36554437065797,325.5769931543,20.896340442785402,23.571970604558501,21.0049673002774,3.9533316363834898,4.0927717111532704,3.9533316363834898,0.255053653960225,0.26404978781633998,0.255053653960225,{"$f":"output[[#This Row],[ishp_Program]]-output[[#This Row],[ishp_Baseline]]","v":1.6837162911260179},{"$f":"output[[#This Row],[ishp_Market]]-output[[#This Row],[ishp_Program]]","v":39.788551216357973}]
["All","Chemical","Base",2020,"11-20 HP","Traditional","Non ASD Control","constant","Fans",2020,156105.55600645501,144185.812892127,155644.43870589201,167797.86215133901,154985.33027774701,167302.20716496301,36.200727053485302,33.436550184523597,36.0937943986563,2.3355307776442098,2.1571967860983001,2.3286318966874999,0.31152657728580002,0.28880614569975199,0.31152657728580002,2.0098488857148399E-2,1.86326545612743E-2,2.0098488857148399E-2,{"$f":"output[[#This Row],[ishp_Program]]-output[[#This Row],[ishp_Baseline]]","v":-0.10693265482900216},{"$f":"output[[#This Row],[ishp_Market]]-output[[#This Row],[ishp_Program]]","v":-2.6572442141327031}]
["All","Chemical","Base",2020,"201-500 HP","Traditional","ASD Control","constant","Fans",2018,11635.066419819699,34496.577719207999,16554.1915680577,12506.5328946642,37080.371390376698,17794.100516505201,2.9487844725193701,8.7427926118391905,4.1954846916770601,8.4130798074732501E-3,2.4943773500254399E-2,1.1969999120333899E-2,7.1379310538188497E-3,2.0411404984390698E-2,7.1379310538188497E-3,2.03649958739482E-5,5.8235106945479803E-5,2.03649958739482E-5,{"$f":"output[[#This Row],[ishp_Program]]-output[[#This Row],[ishp_Baseline]]","v":1.2467002191576899},{"$f":"output[[#This Row],[ishp_Market]]-output[[#This Row],[ishp_Program]]","v":4.5473079201621305}]
["All","Chemical","Base",2020,"201-500 HP","Traditional","Non ASD Control","variable","Pumps",2017,333495.64643192303,241196.22466437201,-105661.193871656,358474.470349674,259261.821891734,-113575.21729264301,86.111125320622605,62.278709036084898,-27.282527986061901,0.24568081403886599,0.177685332485263,-7.7838881557951295E-2,0.99307589043186695,0.33302922247834099,0.99307589043186695,2.83331209823642E-3,9.5015470036616603E-4,2.83331209823642E-3,{"$f":"output[[#This Row],[ishp_Program]]-output[[#This Row],[ishp_Baseline]]","v":-113.39365330668451},{"$f":"output[[#This Row],[ishp_Market]]-output[[#This Row],[ishp_Program]]","v":89.561237022146798}]
["All","Chemical","Base",2020,"21-50 HP","Traditional","ASD Control","constant","Pumps",2019,731307.80546171998,1391483.6577346199,731307.80546171998,786082.76009080303,1495705.78369894,786082.76009080303,214.83736643102401,408.77819466288099,214.83736643102401,6.0517568008739202,11.514878722898001,6.0517568008739202,1.7938594187769401,14.9873057515613,1.7938594187769401,5.0531251233153301E-2,0.42217762680454302,5.0531251233153301E-2,{"$f":"output[[#This Row],[ishp_Program]]-output[[#This Row],[ishp_Baseline]]","v":0},{"$f":"output[[#This Row],[ishp_Market]]-output[[#This Row],[ishp_Program]]","v":193.94082823185698}]
["All","Chemical","Base",2020,"21-50 HP","Traditional","Non ASD Control","variable","Fans",2015,1102321.25483261,388484.61022882903,411357.30089165998,1184885.1168195701,417582.107534968,442167.962728446,280.636990730332,98.903247562091195,104.72634409532201,7.9052673445164103,2.7860069735800299,2.9500378618400598,6.0112943165973096,3.8424436669256798,6.0112943165973096,0.16933223427034599,0.108237849772554,0.16933223427034599,{"$f":"output[[#This Row],[ishp_Program]]-output[[#This Row],[ishp_Baseline]]","v":-175.91064663500998},{"$f":"output[[#This Row],[ishp_Market]]-output[[#This Row],[ishp_Program]]","v":-5.8230965332308102}]
["All","Chemical","Base",2020,"21-50 HP","Traditional","Non ASD Control","variable","Pumps",2020,302258.142310497,164662.97943867999,253971.47467377799,324897.27716955298,176996.236598638,272993.938126844,93.033590502367105,50.682466592615903,78.171188353995404,2.6206645211934401,1.4276751152849501,2.20200530574634,5.5337665479480602E-2,0,5.5337665479480602E-2,1.55880747829522E-3,0,1.55880747829522E-3,{"$f":"output[[#This Row],[ishp_Program]]-output[[#This Row],[ishp_Baseline]]","v":-14.8624021483717},{"$f":"output[[#This Row],[ishp_Market]]-output[[#This Row],[ishp_Program]]","v":-27.488721761379502}]
["All","Chemical","Base",2020,"501-1,000 HP","Traditional","Non ASD Control","constant","Pumps","2014 and before",2448928.7195933801,2457954.8919012002,2448928.7195933801,2632353.48069093,2642055.7133046002,2632353.48069093,515.34566660957398,517.245108903541,515.34566660957398,0.68666977562901299,0.68920067808599705,0.68666977562901299,228.069028587259,226.57625099831901,228.069028587259,0.30388944515291,0.30190040106371702,0.30388944515291,{"$f":"output[[#This Row],[ishp_Program]]-output[[#This Row],[ishp_Baseline]]","v":0},{"$f":"output[[#This Row],[ishp_Market]]-output[[#This Row],[ishp_Program]]","v":1.899442293967013}]
["All","Chemical","Base",2020,"51-100 HP","Traditional","ASD Control","constant","Fans","2014 and before",1781595.5733014201,3135523.6303904098,1846869.7444505801,1915037.0817416999,3370374.3503066502,1985200.2883099299,443.43510071292201,780.42472582787502,459.68169398652498,5.8733125922241296,10.336751335468501,6.0884992580996702,106.64666363646801,109.486047833401,106.64666363646801,1.4125385912115,1.45014632891922,1.4125385912115,{"$f":"output[[#This Row],[ishp_Program]]-output[[#This Row],[ishp_Baseline]]","v":16.246593273602969},{"$f":"output[[#This Row],[ishp_Market]]-output[[#This Row],[ishp_Program]]","v":320.74303184135005}]
["All","Chemical","Base",2020,"51-100 HP","Traditional","Non ASD Control","variable","Fans",2020,355775.48178279598,92499.147776569196,147924.642167515,382423.06536832801,99427.333945034203,159004.19786586199,92.545664206883899,24.061228240510001,38.478717514086703,1.22577038684614,0.31869176477496802,0.50965188760379798,0.65895870743476903,0.20782737903864301,0.65895870743476903,8.7279298997982695E-3,2.7526805170681201E-3,8.7279298997982695E-3,{"$f":"output[[#This Row],[ishp_Program]]-output[[#This Row],[ishp_Baseline]]","v":-54.066946692797195},{"$f":"output[[#This Row],[ishp_Market]]-output[[#This Row],[ishp_Program]]","v":-14.417489273576702}]
["All","Chemical","Base",2020,"6-10 HP","Traditional","ASD Control","variable","Fans",2016,99274.651138183603,174264.968634483,101355.016860983,106710.322508433,187317.414785206,108946.507623871,50.292046332012397,88.281769576939098,51.345949298369597,6.2865057915015603,11.0352211971173,6.4182436622961996,0.43429397626496002,0.94799321563231898,0.43429397626496002,5.4286747033120003E-2,0.118499151954039,5.4286747033120003E-2,{"$f":"output[[#This Row],[ishp_Program]]-output[[#This Row],[ishp_Baseline]]","v":1.0539029663571995},{"$f":"output[[#This Row],[ishp_Market]]-output[[#This Row],[ishp_Program]]","v":36.935820278569501}]
["All","Chemical","Base",2020,"6-10 HP","Traditional","Non ASD Control","constant","Pumps",2016,797647.51047134702,457644.85344951297,797647.51047134702,857391.30900565104,491922.45297288097,857391.30900565104,204.30048104214401,117.216016446848,204.30048104214401,25.537560130268002,14.652002055856,25.537560130268002,4.6348657051787798,0.63840584862998195,4.6348657051787798,0.57935821314734803,7.9800731078747703E-2,0.57935821314734803,{"$f":"output[[#This Row],[ishp_Program]]-output[[#This Row],[ishp_Baseline]]","v":0},{"$f":"output[[#This Row],[ishp_Market]]-output[[#This Row],[ishp_Program]]","v":-87.084464595296012}]
["All","Chemical","Base",2021,"1,001+ HP","Traditional","ASD Control","constant","Fans",2015,0,0,0,0,0,0,0,0,0,0,0,0,0,0,0,0,0,0,{"$f":"output[[#This Row],[ishp_Program]]-output[[#This Row],[ishp_Baseline]]","v":0},{"$f":"output[[#This Row],[ishp_Market]]-output[[#This Row],[ishp_Program]]","v":0}]
["All","Chemical","Base",2021,"1,001+ HP","Traditional","ASD Control","variable","Fans",2017,0,0,0,0,0,0,0,0,0,0,0,0,0,0,0,0,0,0,{"$f":"output[[#This Row],[ishp_Program]]-output[[#This Row],[ishp_Baseline]]","v":0},{"$f":"output[[#This Row],[ishp_Market]]-output[[#This Row],[ishp_Program]]","v":0}]
["All","Chemical","Base",2021,"1-5 HP","Traditional","ASD Control","constant","Fans",2017,2738.7834987505298,13933.155805673399,2738.7834987505298,2943.9183828069499,14976.7491755183,2943.9183828069499,0.61491849639316998,3.1283068639580902,0.61491849639316998,0.20497283213105599,1.0427689546526899,0.20497283213105599,0.118151894056072,0.418008265582612,0.118151894056072,3.9383964685357403E-2,0.13933608852753701,3.9383964685357403E-2,{"$f":"output[[#This Row],[ishp_Program]]-output[[#This Row],[ishp_Baseline]]","v":0},{"$f":"output[[#This Row],[ishp_Market]]-output[[#This Row],[ishp_Program]]","v":2.5133883675649202}]
["All","Chemical","Base",2021,"1-5 HP","Traditional","ASD Control","variable","Fans",2017,47476.546486034204,91556.841060839404,47476.546486034204,51032.5398178381,98414.448456296304,51032.5398178381,22.570837800768398,43.527062562202801,22.570837800768398,7.5236126002561399,14.5090208540676,7.5236126002561399,3.2074046376560799,5.8161403975924202,3.2074046376560799,1.0691348792186901,1.9387134658641401,1.0691348792186901,{"$f":"output[[#This Row],[ishp_Program]]-output[[#This Row],[ishp_Baseline]]","v":0},{"$f":"output[[#This Row],[ishp_Market]]-output[[#This Row],[ishp_Program]]","v":20.956224761434402}]
["All","Chemical","Base",2021,"1-5 HP","Traditional","Non ASD Control","variable","Fans",2020,119178.67719808999,36188.229448759601,119178.67719808999,128105.160120227,38898.727834471698,128105.160120227,28.4241535670842,8.6309045825598698,28.4241535670842,9.47471785569474,2.8769681941866199,9.47471785569474,3.9148898350981498,1.5800713399409301,3.9148898350981498,1.3049632783660501,0.52669044664697795,1.3049632783660501,{"$f":"output[[#This Row],[ishp_Program]]-output[[#This Row],[ishp_Baseline]]","v":0},{"$f":"output[[#This Row],[ishp_Market]]-output[[#This Row],[ishp_Program]]","v":-19.793248984524332}]
["All","Chemical","Base",2021,"101-200 HP","Traditional","ASD Control","variable","Fans",2018,126734.498658743,196041.40812147601,157944.42037016401,136226.91260828299,210724.90958977499,169774.45745588999,69.080547368369906,106.858416005287,86.092477805356793,0.45900695925827101,0.71002269770955395,0.57204304189605804,8.5759047917356597,13.034039581529299,8.5759047917356597,5.6982756091266802E-2,8.6604914162985894E-2,5.6982756091266802E-2,{"$f":"output[[#This Row],[ishp_Program]]-output[[#This Row],[ishp_Baseline]]","v":17.011930436986887},{"$f":"output[[#This Row],[ishp_Market]]-output[[#This Row],[ishp_Program]]","v":20.765938199930204}]
["All","Chemical","Base",2021,"101-200 HP","Traditional","Non ASD Control","constant","Pumps",2015,2164326.7623986299,769268.56282173598,2164326.7623986299,2326434.8369022799,826886.77817708405,2326434.8369022799,459.50687513846799,163.32293237123,459.50687513846799,3.0532018281625799,1.0852022084467099,3.0532018281625799,76.483862584724207,28.8928384357711,76.483862584724207,0.50819842248986202,0.19197899292871101,0.50819842248986202,{"$f":"output[[#This Row],[ishp_Program]]-output[[#This Row],[ishp_Baseline]]","v":0},{"$f":"output[[#This Row],[ishp_Market]]-output[[#This Row],[ishp_Program]]","v":-296.18394276723802}]
["All","Chemical","Base",2021,"101-200 HP","Traditional","Non ASD Control","variable","Pumps",2020,407190.08381242002,171964.001962087,-36490.035087643198,437688.62108997098,184844.105709047,-39223.138715707602,108.27777002576001,45.727731095086703,-9.7032314501840098,0.71945362143362201,0.303838744817852,-6.4473298672319004E-2,14.5632681785389,6.0601501220815699,14.5632681785389,9.6765901518530997E-2,4.0266778219811103E-2,9.6765901518530997E-2,{"$f":"output[[#This Row],[ishp_Program]]-output[[#This Row],[ishp_Baseline]]","v":-117.98100147594401},{"$f":"output[[#This Row],[ishp_Market]]-output[[#This Row],[ishp_Program]]","v":55.430962545270717}]
["All","Chemical","Base",2021,"11-20 HP","Traditional","ASD Control","variable","Fans",2017,47368.274615740796,96217.601769364395,55156.836939131201,50916.158384459799,103424.30014188901,59288.0840258721,24.683130901839899,50.138023366912101,28.741672297424,1.59246005818321,3.23471118496207,1.85430143854348,3.5394521993034198,6.6995052271905804,3.5394521993034198,0.22835175479376901,0.43222614368971501,0.22835175479376901,{"$f":"output[[#This Row],[ishp_Program]]-output[[#This Row],[ishp_Baseline]]","v":4.0585413955841005},{"$f":"output[[#This Row],[ishp_Market]]-output[[#This Row],[ishp_Program]]","v":21.396351069488102}]
["All","Chemical","Base",2021,"11-20 HP","Traditional","Non ASD Control","variable","Pumps",2021,180418.14346512701,71116.772390878497,176435.11714080401,193931.462410665,76443.418642955294,189650.10741465,56.636583325124803,22.324866712246401,55.386237888845002,3.6539731177499899,1.4403139814352499,3.5733056702480601,0,0,0,0,0,0,{"$f":"output[[#This Row],[ishp_Program]]-output[[#This Row],[ishp_Baseline]]","v":-1.250345436279801},{"$f":"output[[#This Row],[ishp_Market]]-output[[#This Row],[ishp_Program]]","v":-33.061371176598598}]
["All","Chemical","Base",2021,"201-500 HP","Traditional","ASD Control","variable","Fans",2018,159889.56299082801,200371.59600830101,248421.45921890499,171865.291258841,215379.428549323,267028.22651440097,87.503364537307803,109.65811951992301,135.954549492193,0.24965296586963701,0.312861967246571,0.387887445056187,10.7453288807897,13.3755330061043,10.7453288807897,3.0657143739770899E-2,3.8161292456788502E-2,3.0657143739770899E-2,{"$f":"output[[#This Row],[ishp_Program]]-output[[#This Row],[ishp_Baseline]]","v":48.451184954885193},{"$f":"output[[#This Row],[ishp_Market]]-output[[#This Row],[ishp_Program]]","v":-26.296429972269991}]
["All","Chemical","Base",2021,"201-500 HP","Traditional","Non ASD Control","constant","Fans",2018,55599.921387132599,34503.096790832402,50012.996201459398,59764.355499028803,37087.378740465698,53758.9696169487,13.4007563900799,8.31597569316523,12.054189317412501,3.82332564624248E-2,2.37260362144514E-2,3.4391410320720399E-2,2.1922233629060401,1.5965955177742599,2.1922233629060401,6.2545602365364902E-3,4.5551940592703701E-3,6.2545602365364902E-3,{"$f":"output[[#This Row],[ishp_Program]]-output[[#This Row],[ishp_Baseline]]","v":-1.3465670726673995},{"$f":"output[[#This Row],[ishp_Market]]-output[[#This Row],[ishp_Program]]","v":-3.7382136242472708}]
["All","Chemical","Base",2021,"21-50 HP","Traditional","ASD Control","constant","Fans","2014 and before",452232.231470089,1369932.66779846,560009.60371350194,486104.42560719902,1472540.6246165601,601954.32303164306,110.744288110957,335.47413805979301,137.13720646789599,3.1195574115762601,9.4499757199941694,3.8630199005041099,67.532982671432904,93.601788419239995,67.532982671432904,1.9023375400403599,2.6366700963166201,1.9023375400403599,{"$f":"output[[#This Row],[ishp_Program]]-output[[#This Row],[ishp_Baseline]]","v":26.392918356938992},{"$f":"output[[#This Row],[ishp_Market]]-output[[#This Row],[ishp_Program]]","v":198.33693159189701}]
["All","Chemical","Base",2021,"21-50 HP","Traditional","Non ASD Control","constant","Fans",2019,380193.45075141999,224833.332932383,364429.65595775901,408669.94021270098,241673.349569018,391725.43718899501,89.324569884185706,52.823478995023301,85.620944303830996,2.5161850671601602,1.4879853238034699,2.4118575860233999,14.0098454082546,9.8110310699786005,14.0098454082546,0.394643532626892,0.27636707239376301,0.394643532626892,{"$f":"output[[#This Row],[ishp_Program]]-output[[#This Row],[ishp_Baseline]]","v":-3.7036255803547107},{"$f":"output[[#This Row],[ishp_Market]]-output[[#This Row],[ishp_Program]]","v":-32.797465308807695}]
["All","Chemical","Base",2021,"21-50 HP","Traditional","Non ASD Control","variable","Pumps",2016,262745.879659648,117360.211977482,215424.79487303499,282425.54604615498,126150.49185459501,231560.112009025,79.162406432598203,35.359324422563503,64.905090764844303,2.2299269417633298,0.99603730767784504,1.8283124159110999,12.309457330215199,5.8933975817073296,12.309457330215199,0.34674527690746998,0.16601119948471299,0.34674527690746998,{"$f":"output[[#This Row],[ishp_Program]]-output[[#This Row],[ishp_Baseline]]","v":-14.2573156677539},{"$f":"output[[#This Row],[ishp_Market]]-output[[#This Row],[ishp_Program]]","v":-29.5457663422808}]
["All","Chemical","Base",2021,"501-1,000 HP","Traditional","Non ASD Control","constant","Pumps",2016,319045.94102768099,320534.13808343402,319045.94102768099,342942.48201065499,344542.14502588299,342942.48201065499,67.452116642028102,67.766748575810496,67.452116642028102,8.9876238030683703E-2,9.0295467789221207E-2,8.9876238030683703E-2,11.503245530916001,11.294797021687399,11.503245530916001,1.5327442412946099E-2,1.50496962314289E-2,1.5327442412946099E-2,{"$f":"output[[#This Row],[ishp_Program]]-output[[#This Row],[ishp_Baseline]]","v":0},{"$f":"output[[#This Row],[ishp_Market]]-output[[#This Row],[ishp_Program]]","v":0.31463193378239396}]
["All","Chemical","Base",2021,"51-100 HP","Traditional","ASD Control","constant","Fans",2015,356611.42930307001,744432.62443651201,372575.87187242799,383321.62535787001,800190.62800680695,400481.80467567302,88.759776594725494,185.28759317653399,92.733290171350703,1.17562618006258,2.45414030697397,1.2282554989582799,13.401187529097101,25.093077048262,13.401187529097101,0.17749917257082201,0.33235863640082203,0.17749917257082201,{"$f":"output[[#This Row],[ishp_Program]]-output[[#This Row],[ishp_Baseline]]","v":3.9735135766252085},{"$f":"output[[#This Row],[ishp_Market]]-output[[#This Row],[ishp_Program]]","v":92.554303005183286}]
["All","Chemical","Base",2021,"51-100 HP","Traditional","ASD Control","constant","Pumps","2014 and before",5133695.9621028304,11051131.610138699,5133695.9621028304,5518209.78966433,11878861.367737999,5518209.78966433,1325.49194403055,2853.3411463775501,1325.49194403055,17.556184689146399,37.7925979652656,17.556184689146399,526.87181266240498,846.25994563044503,526.87181266240498,6.9784346048000696,11.2087410017277,6.9784346048000696,{"$f":"output[[#This Row],[ishp_Program]]-output[[#This Row],[ishp_Baseline]]","v":0},{"$f":"output[[#This Row],[ishp_Market]]-output[[#This Row],[ishp_Program]]","v":1527.8492023470001}]
["All","Chemical","Base",2021,"51-100 HP","Traditional","Non ASD Control","variable","Pumps",2017,668548.98545495595,305436.64243992802,616427.00976940396,718623.304465533,328313.84695867798,662597.39280113205,177.70382719925399,81.186661724613998,163.849532656864,2.3536930754868099,1.0753200228425699,2.1701924855213801,27.365442187356098,13.441613578901499,27.365442187356098,0.36245618791200102,0.178034616939093,0.36245618791200102,{"$f":"output[[#This Row],[ishp_Program]]-output[[#This Row],[ishp_Baseline]]","v":-13.854294542389994},{"$f":"output[[#This Row],[ishp_Market]]-output[[#This Row],[ishp_Program]]","v":-82.662870932250001}]
["All","Chemical","Base",2021,"51-100 HP","Traditional","Non ASD Control","variable","Pumps",2020,805595.41256950295,353072.35993463499,740735.96962059499,865934.508970959,379517.47969374002,796217.09374517796,218.75562625967399,95.875130378574397,201.143351115397,2.8974255133731699,1.2698692765374,2.6641503458992899,29.324567790205499,12.7060247502796,29.324567790205499,0.38840487139345098,0.16829171854674899,0.38840487139345098,{"$f":"output[[#This Row],[ishp_Program]]-output[[#This Row],[ishp_Baseline]]","v":-17.612275144276992},{"$f":"output[[#This Row],[ishp_Market]]-output[[#This Row],[ishp_Program]]","v":-105.2682207368226}]
["All","Chemical","Base",2021,"6-10 HP","Traditional","Non ASD Control","constant","Fans",2020,94607.8142813616,83070.305244731906,94508.672508371907,101693.93957103501,89292.271107562294,101587.372079248,21.670448834661499,19.0277178810199,21.647739857234299,2.7088061043326901,2.3784647351274901,2.7059674821542901,3.8051083825270302,3.4834299696734701,3.8051083825270302,0.475638547815879,0.43542874620918398,0.475638547815879,{"$f":"output[[#This Row],[ishp_Program]]-output[[#This Row],[ishp_Baseline]]","v":-2.2708977427200239E-2},{"$f":"output[[#This Row],[ishp_Market]]-output[[#This Row],[ishp_Program]]","v":-2.6200219762143995}]
["All","Chemical","Base",2021,"6-10 HP","Traditional","Non ASD Control","variable","Fans",2020,141329.95193303199,45313.974589615304,138050.28268748301,151915.56533281601,48707.991286377503,148390.248860775,35.343590569594099,11.332053418763101,34.523415614229201,4.4179488211992597,1.41650667734539,4.3154269517786501,4.9034647219144096,2.0745742996450298,4.9034647219144096,0.61293309023930098,0.259321787455629,0.61293309023930098,{"$f":"output[[#This Row],[ishp_Program]]-output[[#This Row],[ishp_Baseline]]","v":-0.82017495536489804},{"$f":"output[[#This Row],[ishp_Market]]-output[[#This Row],[ishp_Program]]","v":-23.191362195466098}]
["All","Computer - Elec","Base",2014,"201-500 HP","Traditional","Non ASD Control","constant","Pumps","2014 and before",11357812.1162632,11357812.1162632,11357812.1162632,12208512.2437713,12208512.2437713,12208512.2437713,2390.1060122541298,2390.1060122541298,2390.1060122541298,6.8191327025795401,6.8191327025795401,6.8191327025795401,924.24217312822896,924.24217312822896,924.24217312822896,2.6369248876696898,2.6369248876696898,2.6369248876696898,{"$f":"output[[#This Row],[ishp_Program]]-output[[#This Row],[ishp_Baseline]]","v":0},{"$f":"output[[#This Row],[ishp_Market]]-output[[#This Row],[ishp_Program]]","v":0}]
["All","Computer - Elec","Base",2014,"501-1,000 HP","Traditional","ASD Control","variable","Fans","2014 and before",0,0,0,0,0,0,0,0,0,0,0,0,0,0,0,0,0,0,{"$f":"output[[#This Row],[ishp_Program]]-output[[#This Row],[ishp_Baseline]]","v":0},{"$f":"output[[#This Row],[ishp_Market]]-output[[#This Row],[ishp_Program]]","v":0}]
["All","Computer - Elec","Base",2015,"1,001+ HP","Traditional","ASD Control","constant","Pumps","2014 and before",0,0,0,0,0,0,0,0,0,0,0,0,0,0,0,0,0,0,{"$f":"output[[#This Row],[ishp_Program]]-output[[#This Row],[ishp_Baseline]]","v":0},{"$f":"output[[#This Row],[ishp_Market]]-output[[#This Row],[ishp_Program]]","v":0}]
["All","Computer - Elec","Base",2015,"1-5 HP","Traditional","Non ASD Control","constant","Fans",2015,929429.57895933802,929429.57895933802,929429.57895933802,999043.85442339303,999043.85442339303,999043.85442339303,199.431243744135,199.431243744135,199.431243744135,66.477081248045096,66.477081248045096,66.477081248045096,0,0,0,0,0,0,{"$f":"output[[#This Row],[ishp_Program]]-output[[#This Row],[ishp_Baseline]]","v":0},{"$f":"output[[#This Row],[ishp_Market]]-output[[#This Row],[ishp_Program]]","v":0}]
["All","Computer - Elec","Base",2015,"201-500 HP","Traditional","ASD Control","constant","Pumps","2014 and before",63017.280498524997,63017.280498524997,63017.280498524997,67737.274807864495,67737.274807864495,67737.274807864495,15.8852774154338,15.8852774154338,15.8852774154338,4.53217615276287E-2,4.53217615276287E-2,4.53217615276287E-2,6.8682862715518196,6.8682862715518196,6.8682862715518196,1.9595681231246199E-2,1.9595681231246199E-2,1.9595681231246199E-2,{"$f":"output[[#This Row],[ishp_Program]]-output[[#This Row],[ishp_Baseline]]","v":0},{"$f":"output[[#This Row],[ishp_Market]]-output[[#This Row],[ishp_Program]]","v":0}]
["All","Computer - Elec","Base",2015,"501-1,000 HP","Traditional","ASD Control","constant","Pumps","2014 and before",0,0,0,0,0,0,0,0,0,0,0,0,0,0,0,0,0,0,{"$f":"output[[#This Row],[ishp_Program]]-output[[#This Row],[ishp_Baseline]]","v":0},{"$f":"output[[#This Row],[ishp_Market]]-output[[#This Row],[ishp_Program]]","v":0}]
["All","Computer - Elec","Base",2015,"501-1,000 HP","Traditional","Non ASD Control","variable","Pumps",2015,0,0,0,0,0,0,0,0,0,0,0,0,0,0,0,0,0,0,{"$f":"output[[#This Row],[ishp_Program]]-output[[#This Row],[ishp_Baseline]]","v":0},{"$f":"output[[#This Row],[ishp_Market]]-output[[#This Row],[ishp_Program]]","v":0}]
["All","Computer - Elec","Base",2016,"1,001+ HP","Traditional","ASD Control","variable","Pumps",2015,0,0,0,0,0,0,0,0,0,0,0,0,0,0,0,0,0,0,{"$f":"output[[#This Row],[ishp_Program]]-output[[#This Row],[ishp_Baseline]]","v":0},{"$f":"output[[#This Row],[ishp_Market]]-output[[#This Row],[ishp_Program]]","v":0}]
["All","Computer - Elec","Base",2016,"1-5 HP","Traditional","ASD Control","variable","Fans",2015,368857.579854846,391456.08886150201,368857.579854846,396485.01258597401,420776.14991722797,396485.01258597401,172.24656068701901,182.799456074402,172.24656068701901,57.415520229006603,60.933152024800599,57.415520229006603,0.21295115343078,0.72429298929383201,0.21295115343078,7.098371781026E-2,0.241430996431277,7.098371781026E-2,{"$f":"output[[#This Row],[ishp_Program]]-output[[#This Row],[ishp_Baseline]]","v":0},{"$f":"output[[#This Row],[ishp_Market]]-output[[#This Row],[ishp_Program]]","v":10.552895387382989}]
["All","Computer - Elec","Base",2016,"1-5 HP","Traditional","Non ASD Control","variable","Fans","2014 and before",11576913.6884932,10670008.664282599,11576913.6884932,12444024.5237613,11469192.3132373,12444024.5237613,2712.0960264282498,2499.6375440821098,2712.0960264282498,904.03200880941802,833.21251469403899,904.03200880941802,1204.5142079236,1195.3190483005401,1204.5142079236,401.50473597453498,398.43968276684899,401.50473597453498,{"$f":"output[[#This Row],[ishp_Program]]-output[[#This Row],[ishp_Baseline]]","v":0},{"$f":"output[[#This Row],[ishp_Market]]-output[[#This Row],[ishp_Program]]","v":-212.45848234614004}]
["All","Computer - Elec","Base",2016,"11-20 HP","Traditional","Non ASD Control","variable","Pumps","2014 and before",3986138.20743023,3612645.86870952,3986119.51436686,4284699.9591667596,3883233.0442758701,4284679.86599294,1211.7485185967901,1098.2103609613,1211.7428360813699,78.1773237804384,70.852281352342104,78.176957166540006,587.67509559448104,579.08256850151895,587.67509559448104,37.914522296418099,37.360165709775401,37.914522296418099,{"$f":"output[[#This Row],[ishp_Program]]-output[[#This Row],[ishp_Baseline]]","v":-5.6825154201760597E-3},{"$f":"output[[#This Row],[ishp_Market]]-output[[#This Row],[ishp_Program]]","v":-113.53247512006988}]
["All","Computer - Elec","Base",2016,"201-500 HP","Traditional","Non ASD Control","variable","Fans","2014 and before",0,0,0,0,0,0,0,0,0,0,0,0,0,0,0,0,0,0,{"$f":"output[[#This Row],[ishp_Program]]-output[[#This Row],[ishp_Baseline]]","v":0},{"$f":"output[[#This Row],[ishp_Market]]-output[[#This Row],[ishp_Program]]","v":0}]
["All","Computer - Elec","Base",2016,"21-50 HP","Traditional","Non ASD Control","constant","Pumps","2014 and before",16680838.8955779,15795563.9322394,16680838.8955779,17930233.728856701,16978651.6707642,17930233.728856701,4084.2197031323499,3867.46457045642,4084.2197031323499,115.048442341756,108.942663956519,115.048442341756,2054.8030106594101,2039.30084495664,2054.8030106594101,57.881774948152398,57.445094224130898,57.881774948152398,{"$f":"output[[#This Row],[ishp_Program]]-output[[#This Row],[ishp_Baseline]]","v":0},{"$f":"output[[#This Row],[ishp_Market]]-output[[#This Row],[ishp_Program]]","v":-216.75513267592987}]
["All","Computer - Elec","Base",2016,"501-1,000 HP","Traditional","ASD Control","variable","Pumps",2016,0,0,0,0,0,0,0,0,0,0,0,0,0,0,0,0,0,0,{"$f":"output[[#This Row],[ishp_Program]]-output[[#This Row],[ishp_Baseline]]","v":0},{"$f":"output[[#This Row],[ishp_Market]]-output[[#This Row],[ishp_Program]]","v":0}]
["All","Computer - Elec","Base",2016,"6-10 HP","Traditional","ASD Control","variable","Pumps",2016,282496.36359492602,335668.05048598797,282498.13239692699,303655.34122818598,360809.58746738901,303657.24251345702,127.10144997744101,151.02458447587699,127.10224580113299,15.8876812471802,18.878073059484699,15.887780725141701,0.48215298731001199,1.75943925214495,0.48215298731001199,6.0269123413751499E-2,0.219929906518119,6.0269123413751499E-2,{"$f":"output[[#This Row],[ishp_Program]]-output[[#This Row],[ishp_Baseline]]","v":7.9582369198760716E-4},{"$f":"output[[#This Row],[ishp_Market]]-output[[#This Row],[ishp_Program]]","v":23.922338674743997}]
["All","Computer - Elec","Base",2017,"1,001+ HP","Traditional","ASD Control","constant","Fans",2017,0,0,0,0,0,0,0,0,0,0,0,0,0,0,0,0,0,0,{"$f":"output[[#This Row],[ishp_Program]]-output[[#This Row],[ishp_Baseline]]","v":0},{"$f":"output[[#This Row],[ishp_Market]]-output[[#This Row],[ishp_Program]]","v":0}]
["All","Computer - Elec","Base",2017,"1-5 HP","Traditional","ASD Control","constant","Pumps",2017,1336.3549822722,3492.6470118203101,1336.3549822722,1436.44797044439,3754.24627300566,1436.44797044439,0.39473949869396802,1.03167627527886,0.39473949869396802,0.131579832897989,0.34389209175962099,0.131579832897989,0,3.7276697013578997E-2,0,0,1.2425565671193E-2,0,{"$f":"output[[#This Row],[ishp_Program]]-output[[#This Row],[ishp_Baseline]]","v":0},{"$f":"output[[#This Row],[ishp_Market]]-output[[#This Row],[ishp_Program]]","v":0.63693677658489189}]
["All","Computer - Elec","Base",2017,"101-200 HP","Traditional","ASD Control","constant","Fans","2014 and before",0,0,1418.99805589326,0,0,1525.28101027967,0,0,0.35681636000095102,0,0,2.3708728239265802E-3,0,0,0,0,0,0,{"$f":"output[[#This Row],[ishp_Program]]-output[[#This Row],[ishp_Baseline]]","v":0.35681636000095102},{"$f":"output[[#This Row],[ishp_Market]]-output[[#This Row],[ishp_Program]]","v":-0.35681636000095102}]
["All","Computer - Elec","Base",2017,"101-200 HP","Traditional","Non ASD Control","variable","Fans",2015,8276.5885443586703,8276.6136248648509,6472.7717729061196,8896.5050263311296,8896.5319853672299,6957.5823786967903,2.1608810116709698,2.1608875597782302,1.6899341488331101,1.43580133665845E-2,1.43580568756029E-2,1.1228798331117E-2,1.4295226402202999E-2,1.4292849525329301E-2,1.4295226402202999E-2,9.4984893037894201E-5,9.4969099836075203E-5,9.4984893037894201E-5,{"$f":"output[[#This Row],[ishp_Program]]-output[[#This Row],[ishp_Baseline]]","v":-0.47094686283785969},{"$f":"output[[#This Row],[ishp_Market]]-output[[#This Row],[ishp_Program]]","v":0.47095341094512011}]
["All","Computer - Elec","Base",2017,"11-20 HP","Traditional","ASD Control","variable","Pumps",2016,246113.73131482999,307937.26828458201,246115.62344968799,264547.649790311,331001.76967909699,264549.68364607001,110.28898953357999,137.99347958929101,110.28983744092901,7.1154186795858001,8.9028051347930006,7.1154733832857504,0.77279211885555099,2.1068780624861501,0.77279211885555099,4.9857556055196803E-2,0.13592761693458999,4.9857556055196803E-2,{"$f":"output[[#This Row],[ishp_Program]]-output[[#This Row],[ishp_Baseline]]","v":8.4790734901218912E-4},{"$f":"output[[#This Row],[ishp_Market]]-output[[#This Row],[ishp_Program]]","v":27.703642148362007}]
["All","Computer - Elec","Base",2017,"201-500 HP","Traditional","ASD Control","constant","Fans","2014 and before",0,0,0,0,0,0,0,0,0,0,0,0,0,0,0,0,0,0,{"$f":"output[[#This Row],[ishp_Program]]-output[[#This Row],[ishp_Baseline]]","v":0},{"$f":"output[[#This Row],[ishp_Market]]-output[[#This Row],[ishp_Program]]","v":0}]
["All","Computer - Elec","Base",2017,"21-50 HP","Traditional","ASD Control","variable","Pumps",2017,1397179.42445453,1528258.28643828,1397207.2539518301,1501828.16334617,1642724.8320925101,1501858.0772728301,613.38957474822701,670.93580396076095,613.40179245142201,17.2785795703726,18.899600111570699,17.278923731025898,1.97565003689643,4.82612927018892,1.97565003689643,5.5652113715392602E-2,0.13594730338560301,5.5652113715392602E-2,{"$f":"output[[#This Row],[ishp_Program]]-output[[#This Row],[ishp_Baseline]]","v":1.2217703195005924E-2},{"$f":"output[[#This Row],[ishp_Market]]-output[[#This Row],[ishp_Program]]","v":57.534011509338939}]
["All","Computer - Elec","Base",2017,"501-1,000 HP","Traditional","ASD Control","constant","Fans","2014 and before",0,0,0,0,0,0,0,0,0,0,0,0,0,0,0,0,0,0,{"$f":"output[[#This Row],[ishp_Program]]-output[[#This Row],[ishp_Baseline]]","v":0},{"$f":"output[[#This Row],[ishp_Market]]-output[[#This Row],[ishp_Program]]","v":0}]
["All","Computer - Elec","Base",2017,"501-1,000 HP","Traditional","Non ASD Control","constant","Fans","2014 and before",0,0,0,0,0,0,0,0,0,0,0,0,0,0,0,0,0,0,{"$f":"output[[#This Row],[ishp_Program]]-output[[#This Row],[ishp_Baseline]]","v":0},{"$f":"output[[#This Row],[ishp_Market]]-output[[#This Row],[ishp_Program]]","v":0}]
["All","Computer - Elec","Base",2017,"51-100 HP","Traditional","Non ASD Control","variable","Fans",2015,530869.00019690802,447725.58153781999,526070.71797750902,570631.08831165603,481260.22759500297,565473.41475402506,137.24974640222899,115.754023122585,136.00920868476101,1.81787743579112,1.5331658691733101,1.8014464726458499,0.99857085244945698,0.765636706526448,0.99857085244945698,1.3226104005952999E-2,1.01408835301516E-2,1.3226104005952999E-2,{"$f":"output[[#This Row],[ishp_Program]]-output[[#This Row],[ishp_Baseline]]","v":-1.240537717467987},{"$f":"output[[#This Row],[ishp_Market]]-output[[#This Row],[ishp_Program]]","v":-20.25518556217601}]
["All","Computer - Elec","Base",2017,"6-10 HP","Traditional","Non ASD Control","constant","Pumps",2015,725198.35874722805,658406.74413792102,725198.35874722805,779515.71581739502,707721.40927385096,779515.71581739502,183.24274064328401,166.36587052164899,183.24274064328401,22.905342580410501,20.795733815206201,22.905342580410501,0.863809442303754,0.56651812295186799,0.863809442303754,0.107976180287969,7.0814765368983595E-2,0.107976180287969,{"$f":"output[[#This Row],[ishp_Program]]-output[[#This Row],[ishp_Baseline]]","v":0},{"$f":"output[[#This Row],[ishp_Market]]-output[[#This Row],[ishp_Program]]","v":-16.876870121635022}]
["All","Computer - Elec","Base",2018,"1,001+ HP","Traditional","ASD Control","constant","Pumps","2014 and before",0,0,0,0,0,0,0,0,0,0,0,0,0,0,0,0,0,0,{"$f":"output[[#This Row],[ishp_Program]]-output[[#This Row],[ishp_Baseline]]","v":0},{"$f":"output[[#This Row],[ishp_Market]]-output[[#This Row],[ishp_Program]]","v":0}]
["All","Computer - Elec","Base",2018,"1,001+ HP","Traditional","Non ASD Control","variable","Fans",2015,0,0,0,0,0,0,0,0,0,0,0,0,0,0,0,0,0,0,{"$f":"output[[#This Row],[ishp_Program]]-output[[#This Row],[ishp_Baseline]]","v":0},{"$f":"output[[#This Row],[ishp_Market]]-output[[#This Row],[ishp_Program]]","v":0}]
["All","Computer - Elec","Base",2018,"101-200 HP","Traditional","ASD Control","constant","Fans",2016,0,0,86.144231500390305,0,0,92.596434439769595,0,0,2.1744861580034799E-2,0,0,1.4448413009989899E-4,0,0,0,0,0,0,{"$f":"output[[#This Row],[ishp_Program]]-output[[#This Row],[ishp_Baseline]]","v":2.1744861580034799E-2},{"$f":"output[[#This Row],[ishp_Market]]-output[[#This Row],[ishp_Program]]","v":-2.1744861580034799E-2}]
["All","Computer - Elec","Base",2018,"101-200 HP","Traditional","ASD Control","variable","Pumps",2015,672723.67706464801,680470.01575565396,672901.76528862806,723110.68047678994,731437.21993575199,723302.10750874598,256.22722795233398,259.17765612551398,256.29505825698499,1.70250649802215,1.7221106719303201,1.70295719772083,1.69424190859444,1.61128663917026,1.69424190859444,1.1257421319564399E-2,1.0706223516081401E-2,1.1257421319564399E-2,{"$f":"output[[#This Row],[ishp_Program]]-output[[#This Row],[ishp_Baseline]]","v":6.783030465101092E-2},{"$f":"output[[#This Row],[ishp_Market]]-output[[#This Row],[ishp_Program]]","v":2.8825978685289897}]
["All","Computer - Elec","Base",2018,"101-200 HP","Traditional","Non ASD Control","variable","Pumps",2016,33253.772279283803,17481.574605811002,32902.767033083401,35744.479823002199,18790.944543786201,35367.184283861403,8.6557425017438696,4.55034114752719,8.5643780994632692,5.75132392142449E-2,3.0234824900512901E-2,5.6906166773842297E-2,6.7088500607615204E-2,3.04390083545883E-2,6.7088500607615204E-2,4.4577076815691097E-4,2.0225254720656699E-4,4.4577076815691097E-4,{"$f":"output[[#This Row],[ishp_Program]]-output[[#This Row],[ishp_Baseline]]","v":-9.1364402280600387E-2},{"$f":"output[[#This Row],[ishp_Market]]-output[[#This Row],[ishp_Program]]","v":-4.0140369519360792}]
["All","Computer - Elec","Base",2018,"11-20 HP","Traditional","Non ASD Control","constant","Fans",2017,398569.54324676801,378884.39776640403,398543.46229937399,428422.40203595097,407262.839159108,428394.36762559699,92.427890563433294,87.862924416339098,92.421842417024806,5.9630897137698904,5.6685757687960701,5.9626995107757903,0.79285625344577104,0.78583954015267399,0.79285625344577104,5.115201635134E-2,5.06993251711403E-2,5.115201635134E-2,{"$f":"output[[#This Row],[ishp_Program]]-output[[#This Row],[ishp_Baseline]]","v":-6.0481464084887193E-3},{"$f":"output[[#This Row],[ishp_Market]]-output[[#This Row],[ishp_Program]]","v":-4.5589180006857077}]
["All","Computer - Elec","Base",2018,"201-500 HP","Traditional","Non ASD Control","constant","Fans",2016,0,0,0,0,0,0,0,0,0,0,0,0,0,0,0,0,0,0,{"$f":"output[[#This Row],[ishp_Program]]-output[[#This Row],[ishp_Baseline]]","v":0},{"$f":"output[[#This Row],[ishp_Market]]-output[[#This Row],[ishp_Program]]","v":0}]
["All","Computer - Elec","Base",2018,"201-500 HP","Traditional","Non ASD Control","variable","Pumps",2017,194859.63902184399,185739.03264597501,194389.12922900301,209454.62598458101,199650.886191158,208948.87500825501,50.314248402539697,47.959238113693502,50.192759177209602,0.143549924115662,0.13683092186503101,0.143203307210298,0.15969768914738899,0.155755845755054,0.15969768914738899,4.5562821440053999E-4,4.44381870913137E-4,4.5562821440053999E-4,{"$f":"output[[#This Row],[ishp_Program]]-output[[#This Row],[ishp_Baseline]]","v":-0.12148922533009454},{"$f":"output[[#This Row],[ishp_Market]]-output[[#This Row],[ishp_Program]]","v":-2.2335210635161005}]
["All","Computer - Elec","Base",2018,"501-1,000 HP","Traditional","ASD Control","constant","Pumps",2015,0,0,0,0,0,0,0,0,0,0,0,0,0,0,0,0,0,0,{"$f":"output[[#This Row],[ishp_Program]]-output[[#This Row],[ishp_Baseline]]","v":0},{"$f":"output[[#This Row],[ishp_Market]]-output[[#This Row],[ishp_Program]]","v":0}]
["All","Computer - Elec","Base",2018,"501-1,000 HP","Traditional","ASD Control","variable","Pumps","2014 and before",0,0,0,0,0,0,0,0,0,0,0,0,0,0,0,0,0,0,{"$f":"output[[#This Row],[ishp_Program]]-output[[#This Row],[ishp_Baseline]]","v":0},{"$f":"output[[#This Row],[ishp_Market]]-output[[#This Row],[ishp_Program]]","v":0}]
["All","Computer - Elec","Base",2018,"51-100 HP","Traditional","ASD Control","constant","Fans",2018,111183.718258433,172076.32764880001,111775.066935528,119511.37875598999,184964.84458969501,120147.019448999,27.843127268408999,43.0921286466561,27.9912154663416,0.36878314262793299,0.57075667081663695,0.37074457571313402,0,0,0,0,0,0,{"$f":"output[[#This Row],[ishp_Program]]-output[[#This Row],[ishp_Baseline]]","v":0.14808819793260142},{"$f":"output[[#This Row],[ishp_Market]]-output[[#This Row],[ishp_Program]]","v":15.1009131803145}]
["All","Computer - Elec","Base",2018,"51-100 HP","Traditional","Non ASD Control","constant","Fans","2014 and before",19526762.1315245,19053512.678188398,19520958.4512945,20989316.615175702,20480620.777784701,20983078.239296399,4624.0110352082202,4511.9437769555097,4622.6367018063102,61.245179274281099,59.760844727887601,61.226976182865002,2129.4035911501001,2128.7937429775902,2129.4035911501001,28.204021074835801,28.195943615597301,28.204021074835801,{"$f":"output[[#This Row],[ishp_Program]]-output[[#This Row],[ishp_Baseline]]","v":-1.3743334019100075},{"$f":"output[[#This Row],[ishp_Market]]-output[[#This Row],[ishp_Program]]","v":-110.69292485080041}]
["All","Computer - Elec","Base",2018,"6-10 HP","Traditional","Non ASD Control","constant","Pumps",2017,926389.00844628096,720431.36019261705,926389.00844628096,995775.54517890804,774391.66907104396,995775.54517890804,237.27488342048599,184.523202934869,237.27488342048599,29.659360427560799,23.0654003668587,29.659360427560799,0.87004037496391995,0.59927072791312197,0.87004037496391995,0.10875504687048999,7.4908840989140302E-2,0.10875504687048999,{"$f":"output[[#This Row],[ishp_Program]]-output[[#This Row],[ishp_Baseline]]","v":0},{"$f":"output[[#This Row],[ishp_Market]]-output[[#This Row],[ishp_Program]]","v":-52.751680485616987}]
["All","Computer - Elec","Base",2019,"1,001+ HP","Traditional","ASD Control","variable","Pumps",2017,0,0,0,0,0,0,0,0,0,0,0,0,0,0,0,0,0,0,{"$f":"output[[#This Row],[ishp_Program]]-output[[#This Row],[ishp_Baseline]]","v":0},{"$f":"output[[#This Row],[ishp_Market]]-output[[#This Row],[ishp_Program]]","v":0}]
["All","Computer - Elec","Base",2019,"1,001+ HP","Traditional","Non ASD Control","constant","Pumps",2015,0,0,0,0,0,0,0,0,0,0,0,0,0,0,0,0,0,0,{"$f":"output[[#This Row],[ishp_Program]]-output[[#This Row],[ishp_Baseline]]","v":0},{"$f":"output[[#This Row],[ishp_Market]]-output[[#This Row],[ishp_Program]]","v":0}]
["All","Computer - Elec","Base",2019,"1-5 HP","Traditional","Non ASD Control","constant","Fans",2016,612804.75346109294,585531.83907002897,612804.75346109294,658703.82949532894,629388.17381637404,658703.82949532894,133.86762132380801,127.909834352544,133.86762132380801,44.6225404412695,42.636611450848001,44.6225404412695,3.1294773314985802,3.1070231038892402,3.1294773314985802,1.0431591104995199,1.03567436796308,1.0431591104995199,{"$f":"output[[#This Row],[ishp_Program]]-output[[#This Row],[ishp_Baseline]]","v":0},{"$f":"output[[#This Row],[ishp_Market]]-output[[#This Row],[ishp_Program]]","v":-5.9577869712640137}]
["All","Computer - Elec","Base",2019,"1-5 HP","Traditional","Non ASD Control","variable","Pumps",2019,179680.28856944499,174537.63073201699,179680.28856944499,193138.34218329701,187610.49927384499,193138.34218329701,55.785862825066999,54.189206859300597,55.785862825066999,18.595287608355601,18.063068953100199,18.595287608355601,9.6332851905378495E-3,6.8465197261513497E-3,9.6332851905378495E-3,3.2110950635126098E-3,2.2821732420504502E-3,3.2110950635126098E-3,{"$f":"output[[#This Row],[ishp_Program]]-output[[#This Row],[ishp_Baseline]]","v":0},{"$f":"output[[#This Row],[ishp_Market]]-output[[#This Row],[ishp_Program]]","v":-1.5966559657664021}]
["All","Computer - Elec","Base",2019,"101-200 HP","Traditional","ASD Control","variable","Fans",2016,0,0,1854.57656187774,0,0,1993.4843463623799,0,0,1.01089415578972,0,0,6.7169046896326896E-3,0,0,0,0,0,0,{"$f":"output[[#This Row],[ishp_Program]]-output[[#This Row],[ishp_Baseline]]","v":1.01089415578972},{"$f":"output[[#This Row],[ishp_Market]]-output[[#This Row],[ishp_Program]]","v":-1.01089415578972}]
["All","Computer - Elec","Base",2019,"11-20 HP","Traditional","ASD Control","variable","Fans",2018,521043.74702864001,614353.91985051404,522119.070595828,560069.923681085,660369.02844731696,561225.78898345504,271.51064964522197,320.133641065522,272.07098992753203,17.516816106143299,20.6537832945498,17.5529670920988,1.3685403258268201,1.4200417801657601,1.3685403258268201,8.8292924246891696E-2,9.1615598720372102E-2,8.8292924246891696E-2,{"$f":"output[[#This Row],[ishp_Program]]-output[[#This Row],[ishp_Baseline]]","v":0.56034028231005095},{"$f":"output[[#This Row],[ishp_Market]]-output[[#This Row],[ishp_Program]]","v":48.062651137989974}]
["All","Computer - Elec","Base",2019,"11-20 HP","Traditional","Non ASD Control","variable","Fans",2015,182174.96958675599,122069.08159512701,181414.81473694401,195819.87480880399,131212.055806602,195002.784360741,45.629447011081801,30.574698066211202,45.439050682110697,2.9438352910375398,1.9725611655620101,2.9315516569103699,0.64504062947525598,0.73851048668331598,0.64504062947525598,4.1615524482274603E-2,4.7645837850536499E-2,4.1615524482274603E-2,{"$f":"output[[#This Row],[ishp_Program]]-output[[#This Row],[ishp_Baseline]]","v":-0.19039632897110437},{"$f":"output[[#This Row],[ishp_Market]]-output[[#This Row],[ishp_Program]]","v":-14.864352615899495}]
["All","Computer - Elec","Base",2019,"201-500 HP","Traditional","ASD Control","constant","Fans",2019,0,0,0,0,0,0,0,0,0,0,0,0,0,0,0,0,0,0,{"$f":"output[[#This Row],[ishp_Program]]-output[[#This Row],[ishp_Baseline]]","v":0},{"$f":"output[[#This Row],[ishp_Market]]-output[[#This Row],[ishp_Program]]","v":0}]
["All","Computer - Elec","Base",2019,"201-500 HP","Traditional","Non ASD Control","variable","Fans",2017,0,0,0,0,0,0,0,0,0,0,0,0,0,0,0,0,0,0,{"$f":"output[[#This Row],[ishp_Program]]-output[[#This Row],[ishp_Baseline]]","v":0},{"$f":"output[[#This Row],[ishp_Market]]-output[[#This Row],[ishp_Program]]","v":0}]
["All","Computer - Elec","Base",2019,"21-50 HP","Traditional","Non ASD Control","constant","Fans",2017,281124.70165645599,201203.792116091,280376.45186156698,302180.94181052502,216273.95614558601,301376.648105998,66.048857521486894,47.271835309934801,65.873059934857494,1.8605311977883601,1.3316009946460501,1.85557915309457,1.2198561696200101,1.18855293998986,1.2198561696200101,3.4362145623099E-2,3.3480364506756802E-2,3.4362145623099E-2,{"$f":"output[[#This Row],[ishp_Program]]-output[[#This Row],[ishp_Baseline]]","v":-0.17579758662940037},{"$f":"output[[#This Row],[ishp_Market]]-output[[#This Row],[ishp_Program]]","v":-18.601224624922693}]
["All","Computer - Elec","Base",2019,"21-50 HP","Traditional","Non ASD Control","variable","Pumps",2015,343447.63399271801,206602.94064205501,343402.12875082402,369171.86177877302,222077.50089614501,369122.948194261,102.701899100994,61.780930376824202,102.688291568727,2.8930112422815402,1.7403078979387101,2.8926279315134602,1.01532852482906,0.72389107033820299,1.01532852482906,2.8600803516311699E-2,2.0391297756005702E-2,2.8600803516311699E-2,{"$f":"output[[#This Row],[ishp_Program]]-output[[#This Row],[ishp_Baseline]]","v":-1.3607532267002398E-2},{"$f":"output[[#This Row],[ishp_Market]]-output[[#This Row],[ishp_Program]]","v":-40.907361191902794}]
["All","Computer - Elec","Base",2019,"501-1,000 HP","Traditional","Non ASD Control","constant","Pumps",2016,0,0,0,0,0,0,0,0,0,0,0,0,0,0,0,0,0,0,{"$f":"output[[#This Row],[ishp_Program]]-output[[#This Row],[ishp_Baseline]]","v":0},{"$f":"output[[#This Row],[ishp_Market]]-output[[#This Row],[ishp_Program]]","v":0}]
["All","Computer - Elec","Base",2019,"51-100 HP","Traditional","ASD Control","constant","Pumps","2014 and before",14503150.337267499,20270062.594700798,14503150.337267499,15589436.2975288,21788290.283043899,15589436.2975288,3744.6333162351498,5233.6182104687296,3744.6333162351498,49.597792268015198,69.319446496274594,49.597792268015198,900.44872271635904,1014.2809647556001,900.44872271635904,11.926473148561,13.4341849636504,11.926473148561,{"$f":"output[[#This Row],[ishp_Program]]-output[[#This Row],[ishp_Baseline]]","v":0},{"$f":"output[[#This Row],[ishp_Market]]-output[[#This Row],[ishp_Program]]","v":1488.9848942335798}]
["All","Computer - Elec","Base",2019,"51-100 HP","Traditional","Non ASD Control","constant","Pumps",2017,1586671.64357448,454853.241167181,1586671.64357448,1705513.34967821,488921.74893060297,1705513.34967821,345.32169989790799,98.993824639149906,345.32169989790799,4.5737973496411701,1.31117648528675,4.5737973496411701,10.1679163136415,0.86519667064118499,10.1679163136415,0.13467438826015199,1.1459558551538801E-2,0.13467438826015199,{"$f":"output[[#This Row],[ishp_Program]]-output[[#This Row],[ishp_Baseline]]","v":0},{"$f":"output[[#This Row],[ishp_Market]]-output[[#This Row],[ishp_Program]]","v":-246.32787525875807}]
["All","Computer - Elec","Base",2019,"6-10 HP","Traditional","ASD Control","constant","Fans","2014 and before",541108.17015842104,859688.94539086102,541243.29811951099,581637.17210328695,924079.64740063704,581782.42114866304,127.082563281921,201.903206845716,127.114298910052,15.885320410240199,25.2379008557145,15.8892873637565,45.602593059949598,44.652566499296398,45.602593059949598,5.7003241324937104,5.5815708124120498,5.7003241324937104,{"$f":"output[[#This Row],[ishp_Program]]-output[[#This Row],[ishp_Baseline]]","v":3.1735628131002613E-2},{"$f":"output[[#This Row],[ishp_Market]]-output[[#This Row],[ishp_Program]]","v":74.788907935664}]
["All","Computer - Elec","Base",2019,"6-10 HP","Traditional","Non ASD Control","constant","Fans",2019,408019.63678470399,381278.40939509502,408010.24621615902,438580.30757987802,409836.16225878702,438570.213657749,93.459179134868094,87.333951485076199,93.457028172638104,11.682397391858499,10.9167439356345,11.682128521579701,1.2378858020947701,1.2595103997113599,1.2378858020947701,0.15473572526184601,0.15743879996391999,0.15473572526184601,{"$f":"output[[#This Row],[ishp_Program]]-output[[#This Row],[ishp_Baseline]]","v":-2.1509622299902276E-3},{"$f":"output[[#This Row],[ishp_Market]]-output[[#This Row],[ishp_Program]]","v":-6.1230766875619054}]
["All","Computer - Elec","Base",2020,"1,001+ HP","Traditional","ASD Control","variable","Pumps",2016,0,0,0,0,0,0,0,0,0,0,0,0,0,0,0,0,0,0,{"$f":"output[[#This Row],[ishp_Program]]-output[[#This Row],[ishp_Baseline]]","v":0},{"$f":"output[[#This Row],[ishp_Market]]-output[[#This Row],[ishp_Program]]","v":0}]
["All","Computer - Elec","Base",2020,"1,001+ HP","Traditional","Non ASD Control","variable","Fans",2016,0,0,0,0,0,0,0,0,0,0,0,0,0,0,0,0,0,0,{"$f":"output[[#This Row],[ishp_Program]]-output[[#This Row],[ishp_Baseline]]","v":0},{"$f":"output[[#This Row],[ishp_Market]]-output[[#This Row],[ishp_Program]]","v":0}]
["All","Computer - Elec","Base",2020,"1-5 HP","Traditional","ASD Control","constant","Fans",2018,75652.062895199604,149009.05115998801,75652.062895199604,81318.402406049994,160169.82909187101,81318.402406049994,16.9855896918396,33.455883508161598,16.9855896918396,5.6618632306132204,11.151961169387199,5.6618632306132204,0.15819147946516099,5.0607234478916102E-2,0.15819147946516099,5.2730493155053702E-2,1.6869078159638701E-2,5.2730493155053702E-2,{"$f":"output[[#This Row],[ishp_Program]]-output[[#This Row],[ishp_Baseline]]","v":0},{"$f":"output[[#This Row],[ishp_Market]]-output[[#This Row],[ishp_Program]]","v":16.470293816321998}]
["All","Computer - Elec","Base",2020,"1-5 HP","Traditional","Non ASD Control","constant","Pumps","2014 and before",3771624.64310322,3753656.5719372602,3771624.64310322,4054119.3288716502,4034805.4491753601,4054119.3288716502,941.77841490352102,937.29176970872595,941.77841490352102,313.92613830117301,312.43058990290803,313.92613830117301,658.86061580810394,655.34741308703406,658.86061580810394,219.620205269368,218.44913769567799,219.620205269368,{"$f":"output[[#This Row],[ishp_Program]]-output[[#This Row],[ishp_Baseline]]","v":0},{"$f":"output[[#This Row],[ishp_Market]]-output[[#This Row],[ishp_Program]]","v":-4.4866451947950736}]
["All","Computer - Elec","Base",2020,"101-200 HP","Traditional","ASD Control","constant","Pumps",2020,1094341.57103079,1316384.57437814,1094341.57103079,1176307.7547009999,1414981.7789990599,1176307.7547009999,285.41771945484197,343.32926125673799,285.41771945484197,1.89646325219164,2.28125754987866,1.89646325219164,5.83595048595833,8.2628551816553699,5.83595048595833,3.8777079640919199E-2,5.4902692236912798E-2,3.8777079640919199E-2,{"$f":"output[[#This Row],[ishp_Program]]-output[[#This Row],[ishp_Baseline]]","v":0},{"$f":"output[[#This Row],[ishp_Market]]-output[[#This Row],[ishp_Program]]","v":57.911541801896021}]
["All","Computer - Elec","Base",2020,"101-200 HP","Traditional","Non ASD Control","constant","Fans",2020,19376.744816762999,19488.0299931915,19140.958905339499,20828.0630035385,20947.683439681601,20574.616727349399,4.6514915559899199,4.6782061596738398,4.5948898828823301,3.0906920637806801E-2,3.1084426310125202E-2,3.0530829786593501E-2,0.122947154607682,0.12491745222492701,0.122947154607682,8.1692461533343895E-4,8.3001629385333797E-4,8.1692461533343895E-4,{"$f":"output[[#This Row],[ishp_Program]]-output[[#This Row],[ishp_Baseline]]","v":-5.6601673107589789E-2},{"$f":"output[[#This Row],[ishp_Market]]-output[[#This Row],[ishp_Program]]","v":8.3316276791509658E-2}]
["All","Computer - Elec","Base",2020,"101-200 HP","Traditional","Non ASD Control","variable","Pumps",2020,46887.382418628498,17245.269036335601,45977.123056243399,50399.247361783702,18536.939687157101,49420.809573156002,12.468037441139799,4.5857680453949898,12.225986227659,8.2844102598935696E-2,3.0470219570730799E-2,8.1235788888100097E-2,1.6792196519731802E-2,2.11844691000629E-2,1.6792196519731802E-2,1.11576056609514E-4,1.40760592026996E-4,1.11576056609514E-4,{"$f":"output[[#This Row],[ishp_Program]]-output[[#This Row],[ishp_Baseline]]","v":-0.24205121348079928},{"$f":"output[[#This Row],[ishp_Market]]-output[[#This Row],[ishp_Program]]","v":-7.6402181822640101}]
["All","Computer - Elec","Base",2020,"11-20 HP","Traditional","Non ASD Control","variable","Pumps",2016,213460.16957890399,114391.77127633699,213455.46400785301,229448.33628036399,122959.714944935,229443.27826204101,65.592621241974499,35.150614474490297,65.591175301308994,4.2317820156112598,2.2677815789993701,4.2316887291167102,0.83365929335640998,0.68087761728040896,0.83365929335640998,5.3784470539123198E-2,4.39275882116393E-2,5.3784470539123198E-2,{"$f":"output[[#This Row],[ishp_Program]]-output[[#This Row],[ishp_Baseline]]","v":-1.4459406655049634E-3},{"$f":"output[[#This Row],[ishp_Market]]-output[[#This Row],[ishp_Program]]","v":-30.440560826818697}]
["All","Computer - Elec","Base",2020,"201-500 HP","Traditional","ASD Control","constant","Pumps",2015,2017.98834100165,10694.2416320472,2017.98834100165,2169.1356677426802,11495.240330287499,2169.1356677426802,0.50869070141280903,2.6957842948606601,0.50869070141280903,1.45132867735466E-3,7.6912533376908999E-3,1.45132867735466E-3,5.0984465392943101E-3,7.7222384468221494E-2,5.0984465392943101E-3,1.4546209812537199E-5,2.2032064042288601E-4,1.4546209812537199E-5,{"$f":"output[[#This Row],[ishp_Program]]-output[[#This Row],[ishp_Baseline]]","v":0},{"$f":"output[[#This Row],[ishp_Market]]-output[[#This Row],[ishp_Program]]","v":2.1870935934478508}]
["All","Computer - Elec","Base",2020,"201-500 HP","Traditional","Non ASD Control","constant","Fans",2015,0,0,0,0,0,0,0,0,0,0,0,0,0,0,0,0,0,0,{"$f":"output[[#This Row],[ishp_Program]]-output[[#This Row],[ishp_Baseline]]","v":0},{"$f":"output[[#This Row],[ishp_Market]]-output[[#This Row],[ishp_Program]]","v":0}]
["All","Computer - Elec","Base",2020,"201-500 HP","Traditional","Non ASD Control","variable","Pumps","2014 and before",1381170.88575907,1290640.3025551799,1372625.06133603,1484620.5851024201,1387309.2612165599,1475434.6784301,354.97407534136698,331.706853019883,352.77771705299301,1.0127648369225799,0.94638189164018105,1.00649847946645,232.96172235230401,231.926957064155,232.96172235230401,0.66465541327333599,0.661703158528261,0.66465541327333599,{"$f":"output[[#This Row],[ishp_Program]]-output[[#This Row],[ishp_Baseline]]","v":-2.1963582883739718},{"$f":"output[[#This Row],[ishp_Market]]-output[[#This Row],[ishp_Program]]","v":-21.070864033110013}]
["All","Computer - Elec","Base",2020,"21-50 HP","Traditional","Non ASD Control","constant","Pumps",2017,1635637.5592060101,629379.04764612496,1635637.5592060101,1758146.81239054,676519.53831481899,1758146.81239054,403.49988091708002,155.26323013772901,403.49988091708002,11.366193828650101,4.3736121165557504,11.366193828650101,7.9842558180249297,2.5098444558972202,7.9842558180249297,0.224908614592251,7.0699843828090803E-2,0.224908614592251,{"$f":"output[[#This Row],[ishp_Program]]-output[[#This Row],[ishp_Baseline]]","v":0},{"$f":"output[[#This Row],[ishp_Market]]-output[[#This Row],[ishp_Program]]","v":-248.23665077935101}]
["All","Computer - Elec","Base",2020,"21-50 HP","Traditional","Non ASD Control","variable","Pumps",2019,598948.59262919496,259596.11058587601,598857.19258778705,643809.84221712197,279039.85926875798,643711.59631261195,180.45653839886501,78.213416100533905,180.429000584627,5.0832827717990297,2.2031948197333402,5.0825070587218999,0.27224209404037503,0.36889409211264002,0.27224209404037503,7.6687913814190304E-3,1.03913828764124E-2,7.6687913814190304E-3,{"$f":"output[[#This Row],[ishp_Program]]-output[[#This Row],[ishp_Baseline]]","v":-2.7537814238002056E-2},{"$f":"output[[#This Row],[ishp_Market]]-output[[#This Row],[ishp_Program]]","v":-102.2155844840931}]
["All","Computer - Elec","Base",2020,"501-1,000 HP","Traditional","Non ASD Control","variable","Fans",2018,0,0,0,0,0,0,0,0,0,0,0,0,0,0,0,0,0,0,{"$f":"output[[#This Row],[ishp_Program]]-output[[#This Row],[ishp_Baseline]]","v":0},{"$f":"output[[#This Row],[ishp_Market]]-output[[#This Row],[ishp_Program]]","v":0}]
["All","Computer - Elec","Base",2020,"51-100 HP","Traditional","ASD Control","constant","Fans",2019,50770.889268888299,104479.885783548,51354.980075812899,54573.628875128001,112305.429228736,55201.468083491302,12.7142746580768,26.164323359814599,12.860545307487,0.168400988848699,0.34654732926906701,0.17033834844353701,9.9424150391951294E-3,0,9.9424150391951294E-3,1.3168761641318001E-4,0,1.3168761641318001E-4,{"$f":"output[[#This Row],[ishp_Program]]-output[[#This Row],[ishp_Baseline]]","v":0.14627064941019974},{"$f":"output[[#This Row],[ishp_Market]]-output[[#This Row],[ishp_Program]]","v":13.303778052327599}]
["All","Computer - Elec","Base",2020,"51-100 HP","Traditional","ASD Control","variable","Pumps","2014 and before",21685398.128528401,22707493.4600471,21686019.801733799,23309634.448355202,24408284.720204599,23310302.684883699,8376.7822288141997,8771.6041250262606,8377.0223729438203,110.950757997539,116.18018708644,110.95393871448699,2330.8534292921699,2293.2108574957201,2330.8534292921699,30.872230851552001,30.373653741665201,30.872230851552001,{"$f":"output[[#This Row],[ishp_Program]]-output[[#This Row],[ishp_Baseline]]","v":0.24014412962060305},{"$f":"output[[#This Row],[ishp_Market]]-output[[#This Row],[ishp_Program]]","v":394.58175208244029}]
["All","Computer - Elec","Base",2020,"51-100 HP","Traditional","Non ASD Control","variable","Fans","2014 and before",13142187.240962001,8782095.0928338692,12861267.395912001,14126537.0653101,9439874.0152871292,13824576.3238659,3397.7532410512099,2270.5042560869701,3325.1248195797002,45.003354186108702,30.072904054132,44.041388338803898,984.06688842562096,1008.19653139727,984.06688842562096,13.033998522193601,13.353596442348,13.033998522193601,{"$f":"output[[#This Row],[ishp_Program]]-output[[#This Row],[ishp_Baseline]]","v":-72.628421471509682},{"$f":"output[[#This Row],[ishp_Market]]-output[[#This Row],[ishp_Program]]","v":-1054.6205634927301}]
["All","Computer - Elec","Base",2020,"6-10 HP","Traditional","Non ASD Control","constant","Pumps",2015,463114.71686672099,301761.68794625398,463114.71686672099,497802.00916003902,324363.63837342802,497802.00916003902,117.01958357641,76.248984920398399,117.01958357641,14.6274479470512,9.5311231150497999,14.6274479470512,2.2900133127207001,1.4612633723847901,2.2900133127207001,0.28625166409008801,0.18265792154809901,0.28625166409008801,{"$f":"output[[#This Row],[ishp_Program]]-output[[#This Row],[ishp_Baseline]]","v":0},{"$f":"output[[#This Row],[ishp_Market]]-output[[#This Row],[ishp_Program]]","v":-40.7705986560116}]
["All","Computer - Elec","Base",2021,"1,001+ HP","Traditional","ASD Control","constant","Pumps",2020,0,0,0,0,0,0,0,0,0,0,0,0,0,0,0,0,0,0,{"$f":"output[[#This Row],[ishp_Program]]-output[[#This Row],[ishp_Baseline]]","v":0},{"$f":"output[[#This Row],[ishp_Market]]-output[[#This Row],[ishp_Program]]","v":0}]
["All","Computer - Elec","Base",2021,"1,001+ HP","Traditional","ASD Control","variable","Fans",2021,0,0,0,0,0,0,0,0,0,0,0,0,0,0,0,0,0,0,{"$f":"output[[#This Row],[ishp_Program]]-output[[#This Row],[ishp_Baseline]]","v":0},{"$f":"output[[#This Row],[ishp_Market]]-output[[#This Row],[ishp_Program]]","v":0}]
["All","Computer - Elec","Base",2021,"1-5 HP","Traditional","ASD Control","constant","Fans",2016,25849.9087626572,61947.457624879004,25849.9087626572,27786.066928980199,66587.322200982395,27786.066928980199,5.8038859353014001,13.908597563643999,5.8038859353014001,1.93462864510046,4.63619918788135,1.93462864510046,0.13806455111669699,0.11183626398341801,0.13806455111669699,4.6021517038899201E-2,3.7278754661139397E-2,4.6021517038899201E-2,{"$f":"output[[#This Row],[ishp_Program]]-output[[#This Row],[ishp_Baseline]]","v":0},{"$f":"output[[#This Row],[ishp_Market]]-output[[#This Row],[ishp_Program]]","v":8.1047116283425993}]
["All","Computer - Elec","Base",2021,"1-5 HP","Traditional","ASD Control","variable","Fans",2021,444515.43752274598,602665.83348281099,444515.43752274598,477809.64379320003,647805.50441067398,477809.64379320003,211.32720433266701,286.51352683386199,211.32720433266701,70.442401444222298,95.504508944620596,70.442401444222298,0,0,0,0,0,0,{"$f":"output[[#This Row],[ishp_Program]]-output[[#This Row],[ishp_Baseline]]","v":0},{"$f":"output[[#This Row],[ishp_Market]]-output[[#This Row],[ishp_Program]]","v":75.186322501194979}]
["All","Computer - Elec","Base",2021,"1-5 HP","Traditional","Non ASD Control","constant","Fans",2021,756877.04565121897,704912.176399227,756877.04565121897,813567.13637049601,757710.09841152898,813567.13637049601,165.34031298494699,153.988551433037,165.34031298494699,55.113437661649002,51.3295171443459,55.113437661649002,3.64121079754239,3.77880763483653,3.64121079754239,1.2137369325141301,1.2596025449455099,1.2137369325141301,{"$f":"output[[#This Row],[ishp_Program]]-output[[#This Row],[ishp_Baseline]]","v":0},{"$f":"output[[#This Row],[ishp_Market]]-output[[#This Row],[ishp_Program]]","v":-11.351761551909988}]
["All","Computer - Elec","Base",2021,"101-200 HP","Traditional","ASD Control","variable","Fans","2014 and before",0,0,55707.548614915802,0,0,59880.044006172902,0,0,30.248753198169702,0,0,0.20098839334332,0,0,0,0,0,0,{"$f":"output[[#This Row],[ishp_Program]]-output[[#This Row],[ishp_Baseline]]","v":30.248753198169702},{"$f":"output[[#This Row],[ishp_Market]]-output[[#This Row],[ishp_Program]]","v":-30.248753198169702}]
["All","Computer - Elec","Base",2021,"101-200 HP","Traditional","Non ASD Control","constant","Pumps",2019,300183.879109737,32465.0393918472,300183.879109737,322667.65165505599,34896.670842296597,322667.65165505599,63.977024533688301,6.91914778308292,63.977024533688301,0.42509650852948999,4.5974403874305098E-2,0.42509650852948999,3.4795756425950501,4.0819392489453397E-2,3.4795756425950501,2.3120103937508601E-2,2.7122519926547098E-4,2.3120103937508601E-2,{"$f":"output[[#This Row],[ishp_Program]]-output[[#This Row],[ishp_Baseline]]","v":0},{"$f":"output[[#This Row],[ishp_Market]]-output[[#This Row],[ishp_Program]]","v":-57.057876750605381}]
["All","Computer - Elec","Base",2021,"101-200 HP","Traditional","Non ASD Control","variable","Pumps",2019,37406.504216218003,11019.7685573855,36549.662908603103,40208.251382012699,11845.149222333701,39287.232660457499,9.7366718478337901,2.8683746992808001,9.5136415804318695,6.4695494005540102E-2,1.9058968101533499E-2,6.32135653184841E-2,0.16153521609910301,1.6921926851025601E-2,0.16153521609910301,1.0733236950106501E-3,1.1243805216628299E-4,1.0733236950106501E-3,{"$f":"output[[#This Row],[ishp_Program]]-output[[#This Row],[ishp_Baseline]]","v":-0.22303026740192067},{"$f":"output[[#This Row],[ishp_Market]]-output[[#This Row],[ishp_Program]]","v":-6.6452668811510698}]
["All","Computer - Elec","Base",2021,"11-20 HP","Traditional","ASD Control","variable","Pumps","2014 and before",1686867.2813186501,2396883.9856149098,1686909.42347118,1813213.64068941,2576410.5961374599,1813258.9392891701,747.82371948264495,1062.58904724842,747.84240198458303,48.246691579525503,68.554132080543695,48.247896902231098,322.79744040153003,325.50472680315301,322.79744040153003,20.825641316227699,21.0003049550421,20.825641316227699,{"$f":"output[[#This Row],[ishp_Program]]-output[[#This Row],[ishp_Baseline]]","v":1.8682501938087626E-2},{"$f":"output[[#This Row],[ishp_Market]]-output[[#This Row],[ishp_Program]]","v":314.74664526383697}]
["All","Computer - Elec","Base",2021,"201-500 HP","Traditional","ASD Control","constant","Fans",2017,0,0,0,0,0,0,0,0,0,0,0,0,0,0,0,0,0,0,{"$f":"output[[#This Row],[ishp_Program]]-output[[#This Row],[ishp_Baseline]]","v":0},{"$f":"output[[#This Row],[ishp_Market]]-output[[#This Row],[ishp_Program]]","v":0}]
["All","Computer - Elec","Base",2021,"201-500 HP","Traditional","ASD Control","variable","Fans",2017,0,0,0,0,0,0,0,0,0,0,0,0,0,0,0,0,0,0,{"$f":"output[[#This Row],[ishp_Program]]-output[[#This Row],[ishp_Baseline]]","v":0},{"$f":"output[[#This Row],[ishp_Market]]-output[[#This Row],[ishp_Program]]","v":0}]
["All","Computer - Elec","Base",2021,"201-500 HP","Traditional","Non ASD Control","variable","Pumps",2015,61722.930658278798,55190.338468323098,61192.240053849098,66345.978164583794,59324.094819600497,65775.538833882398,15.8633811816416,14.184442756193,15.726988640688001,4.5259290104541099E-2,4.0469166208824701E-2,4.4870153040479498E-2,0.46922121345687301,0.372559762335686,0.46922121345687301,1.33871958190263E-3,1.06293798098626E-3,1.33871958190263E-3,{"$f":"output[[#This Row],[ishp_Program]]-output[[#This Row],[ishp_Baseline]]","v":-0.1363925409535991},{"$f":"output[[#This Row],[ishp_Market]]-output[[#This Row],[ishp_Program]]","v":-1.5425458844950004}]
["All","Computer - Elec","Base",2021,"21-50 HP","Traditional","ASD Control","variable","Fans",2018,3241093.2673181598,3338427.6581633398,3264148.8201844101,3483851.1530402899,3588475.8897597701,3508633.5668162201,1708.8394613594,1760.1582091723101,1720.9953098005999,48.1363228551945,49.581921385135601,48.478741121143699,13.725671729521,13.8329099702639,13.725671729521,0.386638640268199,0.38965943578208201,0.386638640268199,{"$f":"output[[#This Row],[ishp_Program]]-output[[#This Row],[ishp_Baseline]]","v":12.155848441199851},{"$f":"output[[#This Row],[ishp_Market]]-output[[#This Row],[ishp_Program]]","v":39.162899371710182}]
["All","Computer - Elec","Base",2021,"21-50 HP","Traditional","Non ASD Control","constant","Pumps",2015,950279.71762450505,325404.73166058102,950279.71762450505,1021455.66847458,349777.54606195801,1021455.66847458,232.671220584591,79.673715744174103,232.671220584591,6.5541188897067997,2.24433002096265,6.5541188897067997,8.8249719531720494,2.0926603259821701,8.8249719531720494,0.248590759244283,5.8948178196681099E-2,0.248590759244283,{"$f":"output[[#This Row],[ishp_Program]]-output[[#This Row],[ishp_Baseline]]","v":0},{"$f":"output[[#This Row],[ishp_Market]]-output[[#This Row],[ishp_Program]]","v":-152.99750484041689}]
["All","Computer - Elec","Base",2021,"21-50 HP","Traditional","Non ASD Control","variable","Pumps",2020,596829.93302608503,208091.03671019399,596730.63184813794,641532.49500973895,223677.05535978699,641425.75617356296,183.70135925623899,64.049412030800099,183.67079483519501,5.1746861762320799,1.8042087896000001,5.1738252066252102,2.7591075118159001,0.37213986113333097,2.7591075118159001,7.7721338361011305E-2,1.04828129896712E-2,7.7721338361011305E-2,{"$f":"output[[#This Row],[ishp_Program]]-output[[#This Row],[ishp_Baseline]]","v":-3.0564421043976608E-2},{"$f":"output[[#This Row],[ishp_Market]]-output[[#This Row],[ishp_Program]]","v":-119.62138280439491}]
["All","Computer - Elec","Base",2021,"501-1,000 HP","Traditional","ASD Control","variable","Fans",2020,0,0,0,0,0,0,0,0,0,0,0,0,0,0,0,0,0,0,{"$f":"output[[#This Row],[ishp_Program]]-output[[#This Row],[ishp_Baseline]]","v":0},{"$f":"output[[#This Row],[ishp_Market]]-output[[#This Row],[ishp_Program]]","v":0}]
["All","Computer - Elec","Base",2021,"501-1,000 HP","Traditional","Non ASD Control","variable","Pumps",2021,0,0,0,0,0,0,0,0,0,0,0,0,0,0,0,0,0,0,{"$f":"output[[#This Row],[ishp_Program]]-output[[#This Row],[ishp_Baseline]]","v":0},{"$f":"output[[#This Row],[ishp_Market]]-output[[#This Row],[ishp_Program]]","v":0}]
["All","Computer - Elec","Base",2021,"51-100 HP","Traditional","ASD Control","variable","Fans",2018,800883.90079158498,1077131.7406812001,815839.39744116506,860870.104960875,1157808.9080582301,876945.76830950798,430.27389850631198,578.68771342476998,438.30872083343399,5.6989920331961796,7.6647379261559001,5.8054135209726301,5.4393340666494296,4.5478497324778804,5.4393340666494296,7.2044159823171305E-2,6.0236420297720299E-2,7.2044159823171305E-2,{"$f":"output[[#This Row],[ishp_Program]]-output[[#This Row],[ishp_Baseline]]","v":8.0348223271220149},{"$f":"output[[#This Row],[ishp_Market]]-output[[#This Row],[ishp_Program]]","v":140.37899259133599}]
["All","Computer - Elec","Base",2021,"51-100 HP","Traditional","Non ASD Control","constant","Fans",2018,1432698.4863741,1339392.26486957,1431696.0702768699,1540007.6030035301,1439712.7455082999,1538930.1059405999,341.34952619945602,319.11872550765099,341.11069418902201,4.5211857774762398,4.2267380861940502,4.5180224395896902,17.0746269448532,16.751035075971298,17.0746269448532,0.22615399926957899,0.221868014251275,0.22615399926957899,{"$f":"output[[#This Row],[ishp_Program]]-output[[#This Row],[ishp_Baseline]]","v":-0.23883201043400959},{"$f":"output[[#This Row],[ishp_Market]]-output[[#This Row],[ishp_Program]]","v":-21.99196868137102}]
["All","Computer - Elec","Base",2021,"6-10 HP","Traditional","ASD Control","constant","Pumps",2017,66463.054636754401,396674.97495814099,66463.054636754401,71441.137429047303,426385.930582506,71441.137429047303,20.019130325627099,119.481237568795,20.019130325627099,2.5023912907033901,14.935154696099399,2.5023912907033901,0.17177325771816301,6.4814711872702002,0.17177325771816301,2.1471657214770401E-2,0.81018389840877503,2.1471657214770401E-2,{"$f":"output[[#This Row],[ishp_Program]]-output[[#This Row],[ishp_Baseline]]","v":0},{"$f":"output[[#This Row],[ishp_Market]]-output[[#This Row],[ishp_Program]]","v":99.462107243167893}]
["All","Computer - Elec","Base",2021,"6-10 HP","Traditional","Non ASD Control","constant","Fans",2019,319386.31320786697,287963.01979554101,319375.89168263401,343308.34806713602,309531.44997822703,343297.14596966299,73.157220800795898,65.959539750019005,73.154833692172105,9.1446526000994908,8.2449424687523791,9.1443542115215202,2.6741842017819502,2.5976344840382501,2.6741842017819502,0.33427302522274299,0.32470431050478099,0.33427302522274299,{"$f":"output[[#This Row],[ishp_Program]]-output[[#This Row],[ishp_Baseline]]","v":-2.3871086237932104E-3},{"$f":"output[[#This Row],[ishp_Market]]-output[[#This Row],[ishp_Program]]","v":-7.1952939421530999}]
["All","Computer - Elec","Base",2021,"6-10 HP","Traditional","Non ASD Control","variable","Pumps",2016,178304.19882601901,80427.532353396193,178297.49411329799,191659.18331808699,86451.554526665597,191651.976422384,55.775912335093899,25.1587961663657,55.7738150122523,6.9719890418867401,3.1448495207957099,6.9717268765315401,1.42904883340052,0.66745164743522201,1.42904883340052,0.178631104175065,8.3431455929402695E-2,0.178631104175065,{"$f":"output[[#This Row],[ishp_Program]]-output[[#This Row],[ishp_Baseline]]","v":-2.0973228415996914E-3},{"$f":"output[[#This Row],[ishp_Market]]-output[[#This Row],[ishp_Program]]","v":-30.615018845886599}]
["All","Fabricated Metal","Base",2014,"1-5 HP","Traditional","Non ASD Control","variable","Fans","2014 and before",7237690.4838392399,7237690.4838392399,7237690.4838392399,7779793.5010788003,7779793.5010788003,7779793.5010788003,2250.0904107937899,2250.0904107937899,2250.0904107937899,750.030136931264,750.030136931264,750.030136931264,552.79920344605205,552.79920344605205,552.79920344605205,184.266401148684,184.266401148684,184.266401148684,{"$f":"output[[#This Row],[ishp_Program]]-output[[#This Row],[ishp_Baseline]]","v":0},{"$f":"output[[#This Row],[ishp_Market]]-output[[#This Row],[ishp_Program]]","v":0}]
["All","Fabricated Metal","Base",2014,"201-500 HP","Traditional","Non ASD Control","variable","Pumps","2014 and before",0,0,0,0,0,0,0,0,0,0,0,0,0,0,0,0,0,0,{"$f":"output[[#This Row],[ishp_Program]]-output[[#This Row],[ishp_Baseline]]","v":0},{"$f":"output[[#This Row],[ishp_Market]]-output[[#This Row],[ishp_Program]]","v":0}]
["All","Fabricated Metal","Base",2015,"1,001+ HP","Traditional","ASD Control","variable","Pumps","2014 and before",0,0,0,0,0,0,0,0,0,0,0,0,0,0,0,0,0,0,{"$f":"output[[#This Row],[ishp_Program]]-output[[#This Row],[ishp_Baseline]]","v":0},{"$f":"output[[#This Row],[ishp_Market]]-output[[#This Row],[ishp_Program]]","v":0}]
["All","Fabricated Metal","Base",2015,"1-5 HP","Traditional","Non ASD Control","variable","Fans",2015,288695.17159681598,288695.17159681598,288695.17159681598,310318.43994941702,310318.43994941702,310318.43994941702,89.751038498110503,89.751038498110503,89.751038498110503,29.917012832703499,29.917012832703499,29.917012832703499,0,0,0,0,0,0,{"$f":"output[[#This Row],[ishp_Program]]-output[[#This Row],[ishp_Baseline]]","v":0},{"$f":"output[[#This Row],[ishp_Market]]-output[[#This Row],[ishp_Program]]","v":0}]
["All","Fabricated Metal","Base",2015,"201-500 HP","Traditional","ASD Control","variable","Pumps","2014 and before",0,0,0,0,0,0,0,0,0,0,0,0,0,0,0,0,0,0,{"$f":"output[[#This Row],[ishp_Program]]-output[[#This Row],[ishp_Baseline]]","v":0},{"$f":"output[[#This Row],[ishp_Market]]-output[[#This Row],[ishp_Program]]","v":0}]
["All","Fabricated Metal","Base",2015,"21-50 HP","Traditional","ASD Control","variable","Fans",2015,80592.595045141701,80592.595045141701,80592.595045141701,86628.980414022895,86628.980414022895,86628.980414022895,55.966409118634203,55.966409118634203,55.966409118634203,1.57651856672209,1.57651856672209,1.57651856672209,0.31736793279661701,0.31736793279661701,0.31736793279661701,8.9399417689188104E-3,8.9399417689188104E-3,8.9399417689188104E-3,{"$f":"output[[#This Row],[ishp_Program]]-output[[#This Row],[ishp_Baseline]]","v":0},{"$f":"output[[#This Row],[ishp_Market]]-output[[#This Row],[ishp_Program]]","v":0}]
["All","Fabricated Metal","Base",2015,"501-1,000 HP","Traditional","Non ASD Control","variable","Fans","2014 and before",0,0,0,0,0,0,0,0,0,0,0,0,0,0,0,0,0,0,{"$f":"output[[#This Row],[ishp_Program]]-output[[#This Row],[ishp_Baseline]]","v":0},{"$f":"output[[#This Row],[ishp_Market]]-output[[#This Row],[ishp_Program]]","v":0}]
["All","Fabricated Metal","Base",2016,"1,001+ HP","Traditional","Non ASD Control","constant","Fans",2016,0,0,0,0,0,0,0,0,0,0,0,0,0,0,0,0,0,0,{"$f":"output[[#This Row],[ishp_Program]]-output[[#This Row],[ishp_Baseline]]","v":0},{"$f":"output[[#This Row],[ishp_Market]]-output[[#This Row],[ishp_Program]]","v":0}]
["All","Fabricated Metal","Base",2016,"1-5 HP","Traditional","ASD Control","constant","Pumps","2014 and before",356660.87088418502,398403.783185629,356660.87088418502,383374.77011341101,428244.22654623201,383374.77011341101,115.940870883454,129.510370653482,115.940870883454,38.646956961151503,43.170123551160899,38.646956961151503,45.701954033279002,47.060886406224803,45.701954033279002,15.233984677759601,15.6869621354082,15.233984677759601,{"$f":"output[[#This Row],[ishp_Program]]-output[[#This Row],[ishp_Baseline]]","v":0},{"$f":"output[[#This Row],[ishp_Market]]-output[[#This Row],[ishp_Program]]","v":13.569499770028003}]
["All","Fabricated Metal","Base",2016,"101-200 HP","Traditional","ASD Control","constant","Pumps",2015,0,0,0,0,0,0,0,0,0,0,0,0,0,0,0,0,0,0,{"$f":"output[[#This Row],[ishp_Program]]-output[[#This Row],[ishp_Baseline]]","v":0},{"$f":"output[[#This Row],[ishp_Market]]-output[[#This Row],[ishp_Program]]","v":0}]
["All","Fabricated Metal","Base",2016,"11-20 HP","Traditional","ASD Control","constant","Fans",2015,18470.025262536801,19695.479693864199,18474.156012250602,19853.4301547008,21170.6711229346,19857.870297568101,5.9052022249455502,6.2970022431687003,5.9065229005837203,0.38098078870616497,0.40625820923668998,0.38106599358604598,4.8415960794810399E-2,6.9368435387091698E-2,4.8415960794810399E-2,3.1236103738587302E-3,4.47538292819946E-3,3.1236103738587302E-3,{"$f":"output[[#This Row],[ishp_Program]]-output[[#This Row],[ishp_Baseline]]","v":1.3206756381700657E-3},{"$f":"output[[#This Row],[ishp_Market]]-output[[#This Row],[ishp_Program]]","v":0.39047934258497996}]
["All","Fabricated Metal","Base",2016,"201-500 HP","Traditional","Non ASD Control","variable","Fans",2016,0,0,0,0,0,0,0,0,0,0,0,0,0,0,0,0,0,0,{"$f":"output[[#This Row],[ishp_Program]]-output[[#This Row],[ishp_Baseline]]","v":0},{"$f":"output[[#This Row],[ishp_Market]]-output[[#This Row],[ishp_Program]]","v":0}]
["All","Fabricated Metal","Base",2016,"501-1,000 HP","Traditional","ASD Control","variable","Fans",2015,0,0,0,0,0,0,0,0,0,0,0,0,0,0,0,0,0,0,{"$f":"output[[#This Row],[ishp_Program]]-output[[#This Row],[ishp_Baseline]]","v":0},{"$f":"output[[#This Row],[ishp_Market]]-output[[#This Row],[ishp_Program]]","v":0}]
["All","Fabricated Metal","Base",2016,"501-1,000 HP","Traditional","Non ASD Control","constant","Fans","2014 and before",0,0,0,0,0,0,0,0,0,0,0,0,0,0,0,0,0,0,{"$f":"output[[#This Row],[ishp_Program]]-output[[#This Row],[ishp_Baseline]]","v":0},{"$f":"output[[#This Row],[ishp_Market]]-output[[#This Row],[ishp_Program]]","v":0}]
["All","Fabricated Metal","Base",2016,"6-10 HP","Traditional","ASD Control","variable","Pumps",2015,193112.105905884,197568.044660944,193112.105905884,207576.20263823401,212365.89120604799,207576.20263823401,96.034613230716801,98.2505507190195,96.034613230716801,12.0043266538396,12.2813188398774,12.0043266538396,1.55570039547079,1.7967777563343199,1.55570039547079,0.194462549433848,0.22459721954178999,0.194462549433848,{"$f":"output[[#This Row],[ishp_Program]]-output[[#This Row],[ishp_Baseline]]","v":0},{"$f":"output[[#This Row],[ishp_Market]]-output[[#This Row],[ishp_Program]]","v":2.2159374883026999}]
["All","Fabricated Metal","Base",2017,"1,001+ HP","Traditional","ASD Control","constant","Pumps",2017,0,0,0,0,0,0,0,0,0,0,0,0,0,0,0,0,0,0,{"$f":"output[[#This Row],[ishp_Program]]-output[[#This Row],[ishp_Baseline]]","v":0},{"$f":"output[[#This Row],[ishp_Market]]-output[[#This Row],[ishp_Program]]","v":0}]
["All","Fabricated Metal","Base",2017,"1,001+ HP","Traditional","Non ASD Control","constant","Pumps","2014 and before",0,0,0,0,0,0,0,0,0,0,0,0,0,0,0,0,0,0,{"$f":"output[[#This Row],[ishp_Program]]-output[[#This Row],[ishp_Baseline]]","v":0},{"$f":"output[[#This Row],[ishp_Market]]-output[[#This Row],[ishp_Program]]","v":0}]
["All","Fabricated Metal","Base",2017,"1-5 HP","Traditional","ASD Control","variable","Pumps",2015,82522.020905398298,88819.875835731204,82522.020905398298,88702.920271212599,95472.484535827505,88702.920271212599,39.9441359109858,42.992563112899298,39.9441359109858,13.314711970328601,14.330854370966399,13.314711970328601,0.63647367630755103,0.933515238888455,0.63647367630755103,0.21215789210251701,0.31117174629615102,0.21215789210251701,{"$f":"output[[#This Row],[ishp_Program]]-output[[#This Row],[ishp_Baseline]]","v":0},{"$f":"output[[#This Row],[ishp_Market]]-output[[#This Row],[ishp_Program]]","v":3.0484272019134977}]
["All","Fabricated Metal","Base",2017,"101-200 HP","Traditional","Non ASD Control","variable","Pumps",2015,0,0,0,0,0,0,0,0,0,0,0,0,0,0,0,0,0,0,{"$f":"output[[#This Row],[ishp_Program]]-output[[#This Row],[ishp_Baseline]]","v":0},{"$f":"output[[#This Row],[ishp_Market]]-output[[#This Row],[ishp_Program]]","v":0}]
["All","Fabricated Metal","Base",2017,"11-20 HP","Traditional","ASD Control","variable","Pumps",2015,172558.776715852,179984.05526858699,172558.776715852,185483.42909186901,193464.86100820501,185483.42909186901,92.384640521557401,96.359991430520296,92.384640521557401,5.9602993884875701,6.2167736406787304,5.9602993884875701,1.71750412722303,2.0923042011552702,1.71750412722303,0.110806717885357,0.134987367816469,0.110806717885357,{"$f":"output[[#This Row],[ishp_Program]]-output[[#This Row],[ishp_Baseline]]","v":0},{"$f":"output[[#This Row],[ishp_Market]]-output[[#This Row],[ishp_Program]]","v":3.9753509089628949}]
["All","Fabricated Metal","Base",2017,"201-500 HP","Traditional","Non ASD Control","constant","Fans",2015,0,0,0,0,0,0,0,0,0,0,0,0,0,0,0,0,0,0,{"$f":"output[[#This Row],[ishp_Program]]-output[[#This Row],[ishp_Baseline]]","v":0},{"$f":"output[[#This Row],[ishp_Market]]-output[[#This Row],[ishp_Program]]","v":0}]
["All","Fabricated Metal","Base",2017,"21-50 HP","Traditional","Non ASD Control","constant","Fans",2017,485329.729073052,483084.30618500302,485329.729073052,521680.92578062299,519267.32071826002,521680.92578062299,151.31810447288299,150.618017264526,151.31810447288299,4.2624818161375702,4.2427610497049697,4.2624818161375702,0,0,0,0,0,0,{"$f":"output[[#This Row],[ishp_Program]]-output[[#This Row],[ishp_Baseline]]","v":0},{"$f":"output[[#This Row],[ishp_Market]]-output[[#This Row],[ishp_Program]]","v":-0.70008720835699023}]
["All","Fabricated Metal","Base",2017,"501-1,000 HP","Traditional","ASD Control","constant","Fans",2017,0,0,0,0,0,0,0,0,0,0,0,0,0,0,0,0,0,0,{"$f":"output[[#This Row],[ishp_Program]]-output[[#This Row],[ishp_Baseline]]","v":0},{"$f":"output[[#This Row],[ishp_Market]]-output[[#This Row],[ishp_Program]]","v":0}]
["All","Fabricated Metal","Base",2017,"501-1,000 HP","Traditional","Non ASD Control","constant","Pumps","2014 and before",0,0,0,0,0,0,0,0,0,0,0,0,0,0,0,0,0,0,{"$f":"output[[#This Row],[ishp_Program]]-output[[#This Row],[ishp_Baseline]]","v":0},{"$f":"output[[#This Row],[ishp_Market]]-output[[#This Row],[ishp_Program]]","v":0}]
["All","Fabricated Metal","Base",2017,"6-10 HP","Traditional","ASD Control","constant","Pumps",2016,99192.365280219703,125620.873608957,99192.365280219703,106621.873439708,135029.877042268,106621.873439708,33.474354663177003,42.393158630757199,33.474354663177003,4.1842943328971298,5.2991448288446499,4.1842943328971298,0.120844316731523,0.74478080313878603,0.120844316731523,1.51055395914404E-2,9.3097600392348295E-2,1.51055395914404E-2,{"$f":"output[[#This Row],[ishp_Program]]-output[[#This Row],[ishp_Baseline]]","v":0},{"$f":"output[[#This Row],[ishp_Market]]-output[[#This Row],[ishp_Program]]","v":8.918803967580196}]
["All","Fabricated Metal","Base",2017,"6-10 HP","Traditional","Non ASD Control","variable","Fans",2015,253675.864711906,238248.57290699001,253625.23523082299,272676.18697882799,256093.391017724,272621.765349611,83.052917250020101,78.0020560215752,83.036341269850993,10.3816146562525,9.7502570026969106,10.3795426587313,0.40025127738859601,0.25157179858415402,0.40025127738859601,5.0031409673574598E-2,3.1446474823019301E-2,5.0031409673574598E-2,{"$f":"output[[#This Row],[ishp_Program]]-output[[#This Row],[ishp_Baseline]]","v":-1.6575980169108107E-2},{"$f":"output[[#This Row],[ishp_Market]]-output[[#This Row],[ishp_Program]]","v":-5.0342852482757934}]
["All","Fabricated Metal","Base",2018,"1,001+ HP","Traditional","ASD Control","variable","Fans",2018,0,0,0,0,0,0,0,0,0,0,0,0,0,0,0,0,0,0,{"$f":"output[[#This Row],[ishp_Program]]-output[[#This Row],[ishp_Baseline]]","v":0},{"$f":"output[[#This Row],[ishp_Market]]-output[[#This Row],[ishp_Program]]","v":0}]
["All","Fabricated Metal","Base",2018,"1,001+ HP","Traditional","Non ASD Control","variable","Pumps",2018,0,0,0,0,0,0,0,0,0,0,0,0,0,0,0,0,0,0,{"$f":"output[[#This Row],[ishp_Program]]-output[[#This Row],[ishp_Baseline]]","v":0},{"$f":"output[[#This Row],[ishp_Market]]-output[[#This Row],[ishp_Program]]","v":0}]
["All","Fabricated Metal","Base",2018,"1-5 HP","Traditional","Non ASD Control","variable","Pumps",2018,84706.240452569793,58052.492945014499,84706.240452569793,91050.737862467198,62400.624666595999,91050.737862467198,29.465117851404099,20.193595383925,29.465117851404099,9.8217059504680506,6.7311984613083498,9.8217059504680506,5.0759787298271498E-2,0,5.0759787298271498E-2,1.6919929099423799E-2,0,1.6919929099423799E-2,{"$f":"output[[#This Row],[ishp_Program]]-output[[#This Row],[ishp_Baseline]]","v":0},{"$f":"output[[#This Row],[ishp_Market]]-output[[#This Row],[ishp_Program]]","v":-9.2715224674790981}]
["All","Fabricated Metal","Base",2018,"101-200 HP","Traditional","ASD Control","variable","Pumps","2014 and before",0,0,0,0,0,0,0,0,0,0,0,0,0,0,0,0,0,0,{"$f":"output[[#This Row],[ishp_Program]]-output[[#This Row],[ishp_Baseline]]","v":0},{"$f":"output[[#This Row],[ishp_Market]]-output[[#This Row],[ishp_Program]]","v":0}]
["All","Fabricated Metal","Base",2018,"101-200 HP","Traditional","Non ASD Control","variable","Pumps",2015,0,0,0,0,0,0,0,0,0,0,0,0,0,0,0,0,0,0,{"$f":"output[[#This Row],[ishp_Program]]-output[[#This Row],[ishp_Baseline]]","v":0},{"$f":"output[[#This Row],[ishp_Market]]-output[[#This Row],[ishp_Program]]","v":0}]
["All","Fabricated Metal","Base",2018,"11-20 HP","Traditional","Non ASD Control","variable","Pumps",2015,40511.918039904798,27681.659114181701,40511.918039904798,43546.260701093699,29755.015381833899,43546.260701093699,14.872615452751999,10.162408768053499,14.872615452751999,0.95952357759690499,0.65563927535829003,0.95952357759690499,0.13513263815957099,0,0.13513263815957099,8.7182347199723405E-3,0,8.7182347199723405E-3,{"$f":"output[[#This Row],[ishp_Program]]-output[[#This Row],[ishp_Baseline]]","v":0},{"$f":"output[[#This Row],[ishp_Market]]-output[[#This Row],[ishp_Program]]","v":-4.7102066846985}]
["All","Fabricated Metal","Base",2018,"201-500 HP","Traditional","Non ASD Control","constant","Fans",2015,0,0,0,0,0,0,0,0,0,0,0,0,0,0,0,0,0,0,{"$f":"output[[#This Row],[ishp_Program]]-output[[#This Row],[ishp_Baseline]]","v":0},{"$f":"output[[#This Row],[ishp_Market]]-output[[#This Row],[ishp_Program]]","v":0}]
["All","Fabricated Metal","Base",2018,"21-50 HP","Traditional","ASD Control","constant","Fans",2016,17106.517643892501,20968.8494894838,17106.517643892501,18387.795815419999,22539.416316246199,18387.795815419999,5.6011119924189501,6.8657383570237096,5.6011119924189501,0.15777780260335,0.19340108047954099,0.15777780260335,6.2671630819797304E-3,4.4646974142011499E-2,6.2671630819797304E-3,1.76539805126189E-4,1.2576612434369401E-3,1.76539805126189E-4,{"$f":"output[[#This Row],[ishp_Program]]-output[[#This Row],[ishp_Baseline]]","v":0},{"$f":"output[[#This Row],[ishp_Market]]-output[[#This Row],[ishp_Program]]","v":1.2646263646047595}]
["All","Fabricated Metal","Base",2018,"21-50 HP","Traditional","Non ASD Control","constant","Fans",2017,458775.62323703698,455894.42886352399,458775.62323703698,493137.91741749097,490040.92158540199,493137.91741749097,143.03895584386299,142.14064517979,143.03895584386299,4.0292663617989604,4.0039618360504301,4.0292663617989604,0,0,0,0,0,0,{"$f":"output[[#This Row],[ishp_Program]]-output[[#This Row],[ishp_Baseline]]","v":0},{"$f":"output[[#This Row],[ishp_Market]]-output[[#This Row],[ishp_Program]]","v":-0.89831066407299431}]
["All","Fabricated Metal","Base",2018,"501-1,000 HP","Traditional","ASD Control","constant","Pumps",2018,0,0,0,0,0,0,0,0,0,0,0,0,0,0,0,0,0,0,{"$f":"output[[#This Row],[ishp_Program]]-output[[#This Row],[ishp_Baseline]]","v":0},{"$f":"output[[#This Row],[ishp_Market]]-output[[#This Row],[ishp_Program]]","v":0}]
["All","Fabricated Metal","Base",2018,"51-100 HP","Traditional","ASD Control","constant","Pumps",2017,14.3212023627083,26.0332640458886,14.3212023627083,15.3938604196752,27.983155522925699,15.3938604196752,4.2789379233799897E-3,7.77830785251548E-3,4.2789379233799897E-3,5.6674674481854198E-5,1.0302394506643E-4,5.6674674481854198E-5,0,1.3452379194405699E-4,0,0,1.7817720787292299E-6,0,{"$f":"output[[#This Row],[ishp_Program]]-output[[#This Row],[ishp_Baseline]]","v":0},{"$f":"output[[#This Row],[ishp_Market]]-output[[#This Row],[ishp_Program]]","v":3.4993699291354903E-3}]
["All","Fabricated Metal","Base",2018,"51-100 HP","Traditional","Non ASD Control","constant","Pumps",2018,42271.205811816901,42124.308923020901,42271.205811816901,45437.319127121998,45279.419661355103,45437.319127121998,10.581204951411101,10.544434150644401,10.581204951411101,0.140148409952465,0.139661379478734,0.140148409952465,0,0,0,0,0,0,{"$f":"output[[#This Row],[ishp_Program]]-output[[#This Row],[ishp_Baseline]]","v":0},{"$f":"output[[#This Row],[ishp_Market]]-output[[#This Row],[ishp_Program]]","v":-3.6770800766699807E-2}]
["All","Fabricated Metal","Base",2018,"6-10 HP","Traditional","Non ASD Control","variable","Fans",2016,461492.24462054,416639.39245974098,461359.347573295,496058.01374261797,447845.68295497599,495915.16270653502,153.15407564225899,138.268891345708,153.10997148956,19.144259455282398,17.2836114182135,19.138746436194999,0.226758235319896,8.3660176098147698E-3,0.226758235319896,2.8344779414987101E-2,1.0457522012268399E-3,2.8344779414987101E-2,{"$f":"output[[#This Row],[ishp_Program]]-output[[#This Row],[ishp_Baseline]]","v":-4.4104152698992038E-2},{"$f":"output[[#This Row],[ishp_Market]]-output[[#This Row],[ishp_Program]]","v":-14.841080143851997}]
["All","Fabricated Metal","Base",2019,"1,001+ HP","Traditional","ASD Control","constant","Fans","2014 and before",0,0,0,0,0,0,0,0,0,0,0,0,0,0,0,0,0,0,{"$f":"output[[#This Row],[ishp_Program]]-output[[#This Row],[ishp_Baseline]]","v":0},{"$f":"output[[#This Row],[ishp_Market]]-output[[#This Row],[ishp_Program]]","v":0}]
["All","Fabricated Metal","Base",2019,"1,001+ HP","Traditional","Non ASD Control","constant","Fans","2014 and before",0,0,0,0,0,0,0,0,0,0,0,0,0,0,0,0,0,0,{"$f":"output[[#This Row],[ishp_Program]]-output[[#This Row],[ishp_Baseline]]","v":0},{"$f":"output[[#This Row],[ishp_Market]]-output[[#This Row],[ishp_Program]]","v":0}]
["All","Fabricated Metal","Base",2019,"1-5 HP","Traditional","ASD Control","constant","Fans",2017,126.30630594776601,167.220730827095,126.30630594776601,135.76664826325299,179.74556356604401,135.76664826325299,3.7633324275318701E-2,4.9823893918442698E-2,3.7633324275318701E-2,1.25444414251062E-2,1.6607964639480902E-2,1.25444414251062E-2,0,2.1060760877090399E-4,0,0,7.0202536256968101E-5,0,{"$f":"output[[#This Row],[ishp_Program]]-output[[#This Row],[ishp_Baseline]]","v":0},{"$f":"output[[#This Row],[ishp_Market]]-output[[#This Row],[ishp_Program]]","v":1.2190569643123997E-2}]
["All","Fabricated Metal","Base",2019,"1-5 HP","Traditional","Non ASD Control","variable","Pumps",2019,74983.965464976194,49326.544655221602,74983.965464976194,80600.264478302895,53021.102849897703,80600.264478302895,26.083218515975499,17.158268903251301,26.083218515975499,8.6944061719918402,5.7194229677504298,8.6944061719918402,3.9017313235920601E-3,0,3.9017313235920601E-3,1.30057710786402E-3,0,1.30057710786402E-3,{"$f":"output[[#This Row],[ishp_Program]]-output[[#This Row],[ishp_Baseline]]","v":0},{"$f":"output[[#This Row],[ishp_Market]]-output[[#This Row],[ishp_Program]]","v":-8.9249496127241983}]
["All","Fabricated Metal","Base",2019,"101-200 HP","Traditional","ASD Control","variable","Pumps",2016,0,0,0,0,0,0,0,0,0,0,0,0,0,0,0,0,0,0,{"$f":"output[[#This Row],[ishp_Program]]-output[[#This Row],[ishp_Baseline]]","v":0},{"$f":"output[[#This Row],[ishp_Market]]-output[[#This Row],[ishp_Program]]","v":0}]
["All","Fabricated Metal","Base",2019,"101-200 HP","Traditional","Non ASD Control","variable","Fans",2019,238075.401321966,221787.19142156001,238075.401321966,255907.248880981,238399.05205903499,255907.248880981,82.803595703182793,77.1384898592664,82.803595703182793,0.55019000467231005,0.51254810537718598,0.55019000467231005,3.7624728650992902E-2,0,3.7624728650992902E-2,2.4999819701656401E-4,0,2.4999819701656401E-4,{"$f":"output[[#This Row],[ishp_Program]]-output[[#This Row],[ishp_Baseline]]","v":0},{"$f":"output[[#This Row],[ishp_Market]]-output[[#This Row],[ishp_Program]]","v":-5.6651058439163933}]
["All","Fabricated Metal","Base",2019,"11-20 HP","Traditional","Non ASD Control","constant","Pumps","2014 and before",1242884.7489046799,896744.23611599195,1242884.7489046799,1335976.81659764,963910.37940107996,1335976.81659764,373.60154639776499,269.55438437189298,373.60154639776499,24.1033255740493,17.390605443347901,24.1033255740493,173.47218987200799,167.73604281547,173.47218987200799,11.191754185290799,10.821680181643201,11.191754185290799,{"$f":"output[[#This Row],[ishp_Program]]-output[[#This Row],[ishp_Baseline]]","v":0},{"$f":"output[[#This Row],[ishp_Market]]-output[[#This Row],[ishp_Program]]","v":-104.04716202587201}]
["All","Fabricated Metal","Base",2019,"11-20 HP","Traditional","Non ASD Control","variable","Pumps",2016,63790.463050250801,36078.318756817702,63790.463050250801,68568.368732714502,38780.584831703403,68568.368732714502,23.672181929800601,13.388404543480901,23.672181929800601,1.5272375438581001,0.86376803506328503,1.5272375438581001,8.3690031811905902E-2,0,8.3690031811905902E-2,5.3993568910906996E-3,0,5.3993568910906996E-3,{"$f":"output[[#This Row],[ishp_Program]]-output[[#This Row],[ishp_Baseline]]","v":0},{"$f":"output[[#This Row],[ishp_Market]]-output[[#This Row],[ishp_Program]]","v":-10.2837773863197}]
["All","Fabricated Metal","Base",2019,"201-500 HP","Traditional","Non ASD Control","constant","Pumps",2015,0,0,0,0,0,0,0,0,0,0,0,0,0,0,0,0,0,0,{"$f":"output[[#This Row],[ishp_Program]]-output[[#This Row],[ishp_Baseline]]","v":0},{"$f":"output[[#This Row],[ishp_Market]]-output[[#This Row],[ishp_Program]]","v":0}]
["All","Fabricated Metal","Base",2019,"21-50 HP","Traditional","Non ASD Control","constant","Fans",2016,699223.78701302002,694531.983732049,699223.78701302002,751595.64866029599,746552.42931358004,751595.64866029599,218.00687597531399,216.544046198963,218.00687597531399,6.1410387598679996,6.0998322872947499,6.1410387598679996,2.0465994559741501E-2,1.7350053297609299E-2,2.0465994559741501E-2,5.7650688900680303E-4,4.8873389570730605E-4,5.7650688900680303E-4,{"$f":"output[[#This Row],[ishp_Program]]-output[[#This Row],[ishp_Baseline]]","v":0},{"$f":"output[[#This Row],[ishp_Market]]-output[[#This Row],[ishp_Program]]","v":-1.4628297763509863}]
["All","Fabricated Metal","Base",2019,"21-50 HP","Traditional","Non ASD Control","variable","Pumps",2019,115366.20515527199,115247.98096863901,115366.20515527199,124007.133921402,123880.05474319,124007.133921402,41.976485988269999,41.933469613526697,41.976485988269999,1.18243622502169,1.1812244961556799,1.18243622502169,0,0,0,0,0,0,{"$f":"output[[#This Row],[ishp_Program]]-output[[#This Row],[ishp_Baseline]]","v":0},{"$f":"output[[#This Row],[ishp_Market]]-output[[#This Row],[ishp_Program]]","v":-4.3016374743302777E-2}]
["All","Fabricated Metal","Base",2019,"501-1,000 HP","Traditional","ASD Control","variable","Fans",2019,0,0,0,0,0,0,0,0,0,0,0,0,0,0,0,0,0,0,{"$f":"output[[#This Row],[ishp_Program]]-output[[#This Row],[ishp_Baseline]]","v":0},{"$f":"output[[#This Row],[ishp_Market]]-output[[#This Row],[ishp_Program]]","v":0}]
["All","Fabricated Metal","Base",2019,"501-1,000 HP","Traditional","Non ASD Control","variable","Fans",2015,0,0,0,0,0,0,0,0,0,0,0,0,0,0,0,0,0,0,{"$f":"output[[#This Row],[ishp_Program]]-output[[#This Row],[ishp_Baseline]]","v":0},{"$f":"output[[#This Row],[ishp_Market]]-output[[#This Row],[ishp_Program]]","v":0}]
["All","Fabricated Metal","Base",2019,"51-100 HP","Traditional","Non ASD Control","variable","Fans",2015,232296.08397971001,230798.431185275,225627.25762517701,249695.06066978999,248085.23368105199,242526.739221303,79.699164496191202,79.185330279199903,77.4111367364427,1.05561807279723,1.0488123215788001,1.02531306935685,0.31038606625263399,0.30242536706578499,0.31038606625263399,4.1110737252004498E-3,4.0056340008713196E-3,4.1110737252004498E-3,{"$f":"output[[#This Row],[ishp_Program]]-output[[#This Row],[ishp_Baseline]]","v":-2.2880277597485019},{"$f":"output[[#This Row],[ishp_Market]]-output[[#This Row],[ishp_Program]]","v":1.7741935427572031}]
["All","Fabricated Metal","Base",2019,"6-10 HP","Traditional","ASD Control","constant","Fans",2019,30336.4230420936,38265.729009699397,30343.658744308301,32608.621127946401,41131.832112525903,32616.398784256999,9.5839017037387304,12.088932994572099,9.5861876112989908,1.19798771296734,1.5111166243215099,1.1982734514123701,5.8766880396504597E-4,4.3572127538160699E-2,5.8766880396504597E-4,7.34586004956308E-5,5.4465159422700804E-3,7.34586004956308E-5,{"$f":"output[[#This Row],[ishp_Program]]-output[[#This Row],[ishp_Baseline]]","v":2.2859075602603696E-3},{"$f":"output[[#This Row],[ishp_Market]]-output[[#This Row],[ishp_Program]]","v":2.5027453832731084}]
["All","Fabricated Metal","Base",2019,"6-10 HP","Traditional","Non ASD Control","variable","Fans","2014 and before",5373897.7631198801,4851661.6562682297,5371512.6961601796,5776402.7055775598,5215051.1143227201,5773838.99710258,1759.40224639555,1588.4232996337801,1758.6213807461299,219.92528079944401,198.55291245422299,219.82767259326701,613.58612574683605,609.99562000870003,613.58612574683605,76.698265718354506,76.249452501087504,76.698265718354506,{"$f":"output[[#This Row],[ishp_Program]]-output[[#This Row],[ishp_Baseline]]","v":-0.78086564942009318},{"$f":"output[[#This Row],[ishp_Market]]-output[[#This Row],[ishp_Program]]","v":-170.19808111234988}]
["All","Fabricated Metal","Base",2020,"1,001+ HP","Traditional","ASD Control","variable","Pumps",2020,0,0,0,0,0,0,0,0,0,0,0,0,0,0,0,0,0,0,{"$f":"output[[#This Row],[ishp_Program]]-output[[#This Row],[ishp_Baseline]]","v":0},{"$f":"output[[#This Row],[ishp_Market]]-output[[#This Row],[ishp_Program]]","v":0}]
["All","Fabricated Metal","Base",2020,"1,001+ HP","Traditional","Non ASD Control","variable","Fans",2015,0,0,0,0,0,0,0,0,0,0,0,0,0,0,0,0,0,0,{"$f":"output[[#This Row],[ishp_Program]]-output[[#This Row],[ishp_Baseline]]","v":0},{"$f":"output[[#This Row],[ishp_Market]]-output[[#This Row],[ishp_Program]]","v":0}]
["All","Fabricated Metal","Base",2020,"1-5 HP","Traditional","ASD Control","constant","Pumps",2015,23189.800134296001,43630.575974671003,23189.800134296001,24926.716164354799,46898.506115173797,24926.716164354799,7.5383812542099502,14.1831285363868,7.5383812542099502,2.5127937514033101,4.7277095121289596,2.5127937514033101,0.51143411980082198,1.5158570684547501,0.51143411980082198,0.170478039933607,0.50528568948491903,0.170478039933607,{"$f":"output[[#This Row],[ishp_Program]]-output[[#This Row],[ishp_Baseline]]","v":0},{"$f":"output[[#This Row],[ishp_Market]]-output[[#This Row],[ishp_Program]]","v":6.6447472821768496}]
["All","Fabricated Metal","Base",2020,"1-5 HP","Traditional","ASD Control","variable","Pumps",2020,93264.256589648794,109544.889395046,93264.256589648794,100249.749408213,117749.801610735,100249.749408213,46.951970283250802,55.148119758122398,46.951970283250802,15.650656761083599,18.382706586040801,15.650656761083599,0.20615503625441001,0.56239611198515405,0.20615503625441001,6.8718345418136706E-2,0.18746537066171801,6.8718345418136706E-2,{"$f":"output[[#This Row],[ishp_Program]]-output[[#This Row],[ishp_Baseline]]","v":0},{"$f":"output[[#This Row],[ishp_Market]]-output[[#This Row],[ishp_Program]]","v":8.1961494748715964}]
["All","Fabricated Metal","Base",2020,"101-200 HP","Traditional","ASD Control","variable","Fans",2017,21352.657594156699,26750.5682477972,21352.657594156699,22951.971647959101,28754.185809557199,22951.971647959101,15.445449429619099,19.350029253407499,15.445449429619099,0.10262757096092399,0.12857162294622901,0.10262757096092399,0.95412032736726704,1.2616552218189301,0.95412032736726704,6.3396699492841704E-3,8.3830911748766293E-3,6.3396699492841704E-3,{"$f":"output[[#This Row],[ishp_Program]]-output[[#This Row],[ishp_Baseline]]","v":0},{"$f":"output[[#This Row],[ishp_Market]]-output[[#This Row],[ishp_Program]]","v":3.9045798237883993}]
["All","Fabricated Metal","Base",2020,"101-200 HP","Traditional","Non ASD Control","constant","Pumps",2017,0,0,0,0,0,0,0,0,0,0,0,0,0,0,0,0,0,0,{"$f":"output[[#This Row],[ishp_Program]]-output[[#This Row],[ishp_Baseline]]","v":0},{"$f":"output[[#This Row],[ishp_Market]]-output[[#This Row],[ishp_Program]]","v":0}]
["All","Fabricated Metal","Base",2020,"11-20 HP","Traditional","ASD Control","constant","Pumps",2015,55294.704296330499,88745.348830359406,55294.704296330499,59436.277648125702,95392.375457753398,59436.277648125702,19.806757894082001,31.788896619986598,19.806757894082001,1.2778553480052901,2.05089655612817,1.2778553480052901,1.52129741572536,3.3975172343788,1.52129741572536,9.81482203693783E-2,0.21919466028250301,9.81482203693783E-2,{"$f":"output[[#This Row],[ishp_Program]]-output[[#This Row],[ishp_Baseline]]","v":0},{"$f":"output[[#This Row],[ishp_Market]]-output[[#This Row],[ishp_Program]]","v":11.982138725904598}]
["All","Fabricated Metal","Base",2020,"11-20 HP","Traditional","Non ASD Control","variable","Fans",2019,464206.01248993602,402197.69411165803,462976.96931829897,498975.04282543302,432322.30140062101,497653.94432024,155.96708228631499,135.13310720903101,155.554140031526,10.0623924055687,8.7182649812278097,10.035750969775901,9.7037436133806096,8.1640100184806492,9.7037436133806096,0.62604797505681298,0.52671032377294502,0.62604797505681298,{"$f":"output[[#This Row],[ishp_Program]]-output[[#This Row],[ishp_Baseline]]","v":-0.41294225478898738},{"$f":"output[[#This Row],[ishp_Market]]-output[[#This Row],[ishp_Program]]","v":-20.421032822494993}]
["All","Fabricated Metal","Base",2020,"201-500 HP","Traditional","ASD Control","constant","Pumps",2019,0,0,0,0,0,0,0,0,0,0,0,0,0,0,0,0,0,0,{"$f":"output[[#This Row],[ishp_Program]]-output[[#This Row],[ishp_Baseline]]","v":0},{"$f":"output[[#This Row],[ishp_Market]]-output[[#This Row],[ishp_Program]]","v":0}]
["All","Fabricated Metal","Base",2020,"201-500 HP","Traditional","ASD Control","variable","Pumps","2014 and before",0,0,0,0,0,0,0,0,0,0,0,0,0,0,0,0,0,0,{"$f":"output[[#This Row],[ishp_Program]]-output[[#This Row],[ishp_Baseline]]","v":0},{"$f":"output[[#This Row],[ishp_Market]]-output[[#This Row],[ishp_Program]]","v":0}]
["All","Fabricated Metal","Base",2020,"21-50 HP","Traditional","ASD Control","constant","Pumps",2020,0,0,0,0,0,0,0,0,0,0,0,0,0,0,0,0,0,0,{"$f":"output[[#This Row],[ishp_Program]]-output[[#This Row],[ishp_Baseline]]","v":0},{"$f":"output[[#This Row],[ishp_Market]]-output[[#This Row],[ishp_Program]]","v":0}]
["All","Fabricated Metal","Base",2020,"21-50 HP","Traditional","Non ASD Control","constant","Pumps",2016,193233.85399573299,193639.802920599,193233.85399573299,207707.06966001401,208143.424159352,207707.06966001401,57.568372341721997,57.689312944909098,57.568372341721997,1.62164429131611,1.6250510688706701,1.62164429131611,2.2581938127276899,2.1433174092467402,2.2581938127276899,6.3611093316273098E-2,6.0375138288640599E-2,6.3611093316273098E-2,{"$f":"output[[#This Row],[ishp_Program]]-output[[#This Row],[ishp_Baseline]]","v":0},{"$f":"output[[#This Row],[ishp_Market]]-output[[#This Row],[ishp_Program]]","v":0.1209406031871012}]
["All","Fabricated Metal","Base",2020,"501-1,000 HP","Traditional","ASD Control","constant","Fans",2016,0,0,0,0,0,0,0,0,0,0,0,0,0,0,0,0,0,0,{"$f":"output[[#This Row],[ishp_Program]]-output[[#This Row],[ishp_Baseline]]","v":0},{"$f":"output[[#This Row],[ishp_Market]]-output[[#This Row],[ishp_Program]]","v":0}]
["All","Fabricated Metal","Base",2020,"501-1,000 HP","Traditional","ASD Control","variable","Pumps",2016,0,0,0,0,0,0,0,0,0,0,0,0,0,0,0,0,0,0,{"$f":"output[[#This Row],[ishp_Program]]-output[[#This Row],[ishp_Baseline]]","v":0},{"$f":"output[[#This Row],[ishp_Market]]-output[[#This Row],[ishp_Program]]","v":0}]
["All","Fabricated Metal","Base",2020,"501-1,000 HP","Traditional","Non ASD Control","variable","Pumps",2015,0,0,0,0,0,0,0,0,0,0,0,0,0,0,0,0,0,0,{"$f":"output[[#This Row],[ishp_Program]]-output[[#This Row],[ishp_Baseline]]","v":0},{"$f":"output[[#This Row],[ishp_Market]]-output[[#This Row],[ishp_Program]]","v":0}]
["All","Fabricated Metal","Base",2020,"51-100 HP","Traditional","Non ASD Control","constant","Fans",2018,903493.21633752505,902599.88558094902,902909.906637409,971164.85824120604,970204.61701096199,970537.85864455102,285.66503953128699,285.382587642023,285.48060960361403,3.78364290769917,3.7799018230731498,3.7812001272001798,17.289758232598299,17.228682473162799,17.289758232598299,0.229003420299315,0.22819446984321601,0.229003420299315,{"$f":"output[[#This Row],[ishp_Program]]-output[[#This Row],[ishp_Baseline]]","v":-0.18442992767296573},{"$f":"output[[#This Row],[ishp_Market]]-output[[#This Row],[ishp_Program]]","v":-9.8021961591030049E-2}]
["All","Fabricated Metal","Base",2020,"51-100 HP","Traditional","Non ASD Control","variable","Pumps",2018,9331.2705057520307,9231.1306004921607,9331.2705057520307,10030.1826666328,9922.5422824690195,10030.1826666328,2.8527125106982001,2.8220982057781101,2.8527125106982001,3.7784271664876898E-2,3.7378784182491499E-2,3.7784271664876898E-2,0.116314910543924,0.108552425172787,0.116314910543924,1.54059484164138E-3,1.4377804658647401E-3,1.54059484164138E-3,{"$f":"output[[#This Row],[ishp_Program]]-output[[#This Row],[ishp_Baseline]]","v":0},{"$f":"output[[#This Row],[ishp_Market]]-output[[#This Row],[ishp_Program]]","v":-3.0614304920089985E-2}]
["All","Fabricated Metal","Base",2020,"6-10 HP","Traditional","Non ASD Control","constant","Pumps",2019,223992.521257107,120014.61862329001,223992.521257107,240769.56109926401,129003.713558174,240769.56109926401,64.2777921457579,34.439876237945903,64.2777921457579,8.0347240182197392,4.3049845297432396,8.0347240182197392,4.2413017349116799,1.3343193603330199,4.2413017349116799,0.53016271686396099,0.16678992004162699,0.53016271686396099,{"$f":"output[[#This Row],[ishp_Program]]-output[[#This Row],[ishp_Baseline]]","v":0},{"$f":"output[[#This Row],[ishp_Market]]-output[[#This Row],[ishp_Program]]","v":-29.837915907811997}]
["All","Fabricated Metal","Base",2020,"6-10 HP","Traditional","Non ASD Control","variable","Pumps",2020,62915.205319475499,33357.691752416598,62915.205319475499,67627.554197904203,35856.182864672701,67627.554197904203,22.526228659196398,11.943424298503,22.526228659196398,2.8157785823995498,1.4929280373128699,2.8157785823995498,4.3462966761471801E-2,0,4.3462966761471801E-2,5.4328708451839803E-3,0,5.4328708451839803E-3,{"$f":"output[[#This Row],[ishp_Program]]-output[[#This Row],[ishp_Baseline]]","v":0},{"$f":"output[[#This Row],[ishp_Market]]-output[[#This Row],[ishp_Program]]","v":-10.582804360693398}]
["All","Fabricated Metal","Base",2021,"1,001+ HP","Traditional","ASD Control","variable","Fans",2020,0,0,0,0,0,0,0,0,0,0,0,0,0,0,0,0,0,0,{"$f":"output[[#This Row],[ishp_Program]]-output[[#This Row],[ishp_Baseline]]","v":0},{"$f":"output[[#This Row],[ishp_Market]]-output[[#This Row],[ishp_Program]]","v":0}]
["All","Fabricated Metal","Base",2021,"1,001+ HP","Traditional","Non ASD Control","constant","Pumps",2017,0,0,0,0,0,0,0,0,0,0,0,0,0,0,0,0,0,0,{"$f":"output[[#This Row],[ishp_Program]]-output[[#This Row],[ishp_Baseline]]","v":0},{"$f":"output[[#This Row],[ishp_Market]]-output[[#This Row],[ishp_Program]]","v":0}]
["All","Fabricated Metal","Base",2021,"1-5 HP","Traditional","ASD Control","variable","Pumps",2017,62469.414708849603,75673.4955956544,62469.414708849603,67148.373870542404,81341.440415768899,67148.373870542404,30.784161292292701,37.290970386476502,30.784161292292701,10.2613870974309,12.4303234621588,10.2613870974309,2.91538981539825,3.79537051833741,2.91538981539825,0.97179660513275201,1.2651235061124699,0.97179660513275201,{"$f":"output[[#This Row],[ishp_Program]]-output[[#This Row],[ishp_Baseline]]","v":0},{"$f":"output[[#This Row],[ishp_Market]]-output[[#This Row],[ishp_Program]]","v":6.5068090941838008}]
["All","Fabricated Metal","Base",2021,"1-5 HP","Traditional","Non ASD Control","variable","Fans","2014 and before",4370959.3232162697,4363051.5839666203,4370959.3232162697,4698344.17652517,4689844.14760572,4698344.17652517,1358.8662959681601,1356.4078973537901,1358.8662959681601,452.95543198938702,452.13596578459902,452.95543198938702,735.59586382599605,735.27763490608299,735.59586382599605,245.19862127533199,245.092544968694,245.19862127533199,{"$f":"output[[#This Row],[ishp_Program]]-output[[#This Row],[ishp_Baseline]]","v":0},{"$f":"output[[#This Row],[ishp_Market]]-output[[#This Row],[ishp_Program]]","v":-2.4583986143700258}]
["All","Fabricated Metal","Base",2021,"101-200 HP","Traditional","ASD Control","constant","Fans",2015,2792.4634131419498,3637.2781309269699,2792.4634131419498,3001.6189227862801,3909.7102629333999,3001.6189227862801,0.93183312512516003,1.2137441915049301,0.93183312512516003,6.1915822267452503E-3,8.0647454585045294E-3,6.1915822267452503E-3,8.0424274879846602E-2,0.108463154437414,8.0424274879846602E-2,5.3438056398569104E-4,7.2068541154428302E-4,5.3438056398569104E-4,{"$f":"output[[#This Row],[ishp_Program]]-output[[#This Row],[ishp_Baseline]]","v":0},{"$f":"output[[#This Row],[ishp_Market]]-output[[#This Row],[ishp_Program]]","v":0.28191106637977004}]
["All","Fabricated Metal","Base",2021,"101-200 HP","Traditional","Non ASD Control","variable","Fans",2015,93080.138867229907,85775.333778377797,93080.138867229907,100051.841268385,92199.906278378301,100051.841268385,32.249590563994197,29.718685731532702,32.249590563994197,0.21428299378069199,0.19746635037563201,0.21428299378069199,2.8000725014559502,2.5594435509212898,2.8000725014559502,1.8605132900039501E-2,1.7006269441337402E-2,1.8605132900039501E-2,{"$f":"output[[#This Row],[ishp_Program]]-output[[#This Row],[ishp_Baseline]]","v":0},{"$f":"output[[#This Row],[ishp_Market]]-output[[#This Row],[ishp_Program]]","v":-2.5309048324614949}]
["All","Fabricated Metal","Base",2021,"101-200 HP","Traditional","Non ASD Control","variable","Fans",2019,202542.939414633,184796.70234330799,202542.939414633,217713.40557678899,198637.975348821,217713.40557678899,70.445260512834395,64.273046871494799,70.445260512834395,0.46807482068328499,0.42706343436209099,0.46807482068328499,5.8017992362854196,5.2336277660936803,5.8017992362854196,3.8550161038441298E-2,3.4774935322881603E-2,3.8550161038441298E-2,{"$f":"output[[#This Row],[ishp_Program]]-output[[#This Row],[ishp_Baseline]]","v":0},{"$f":"output[[#This Row],[ishp_Market]]-output[[#This Row],[ishp_Program]]","v":-6.1722136413395958}]
["All","Fabricated Metal","Base",2021,"11-20 HP","Traditional","ASD Control","variable","Fans",2021,132403.87412967099,153060.67494257999,132868.90392728199,142320.924301983,164524.91949577999,142820.78483143501,91.559005820627505,105.843452996338,91.8805799907649,5.9070326335888703,6.8286098707315004,5.9277793542429,0.228751191646556,0.66245939212795302,0.228751191646556,1.4758141396552E-2,4.2739315621158201E-2,1.4758141396552E-2,{"$f":"output[[#This Row],[ishp_Program]]-output[[#This Row],[ishp_Baseline]]","v":0.32157417013739575},{"$f":"output[[#This Row],[ishp_Market]]-output[[#This Row],[ishp_Program]]","v":13.962873005573101}]
["All","Fabricated Metal","Base",2021,"201-500 HP","Traditional","ASD Control","constant","Fans",2016,0,0,0,0,0,0,0,0,0,0,0,0,0,0,0,0,0,0,{"$f":"output[[#This Row],[ishp_Program]]-output[[#This Row],[ishp_Baseline]]","v":0},{"$f":"output[[#This Row],[ishp_Market]]-output[[#This Row],[ishp_Program]]","v":0}]
["All","Fabricated Metal","Base",2021,"201-500 HP","Traditional","ASD Control","variable","Fans",2021,0,0,0,0,0,0,0,0,0,0,0,0,0,0,0,0,0,0,{"$f":"output[[#This Row],[ishp_Program]]-output[[#This Row],[ishp_Baseline]]","v":0},{"$f":"output[[#This Row],[ishp_Market]]-output[[#This Row],[ishp_Program]]","v":0}]
["All","Fabricated Metal","Base",2021,"201-500 HP","Traditional","Non ASD Control","constant","Pumps",2016,0,0,0,0,0,0,0,0,0,0,0,0,0,0,0,0,0,0,{"$f":"output[[#This Row],[ishp_Program]]-output[[#This Row],[ishp_Baseline]]","v":0},{"$f":"output[[#This Row],[ishp_Market]]-output[[#This Row],[ishp_Program]]","v":0}]
["All","Fabricated Metal","Base",2021,"201-500 HP","Traditional","Non ASD Control","variable","Pumps",2019,0,0,0,0,0,0,0,0,0,0,0,0,0,0,0,0,0,0,{"$f":"output[[#This Row],[ishp_Program]]-output[[#This Row],[ishp_Baseline]]","v":0},{"$f":"output[[#This Row],[ishp_Market]]-output[[#This Row],[ishp_Program]]","v":0}]
["All","Fabricated Metal","Base",2021,"21-50 HP","Traditional","Non ASD Control","constant","Pumps",2019,211648.67099159301,210191.63383790999,211648.67099159301,227501.156448864,225934.98721237,227501.156448864,63.054528206758697,62.620446622996504,63.054528206758697,1.77618389314813,1.76395624290131,1.77618389314813,4.1987501153663596,4.0747000694317599,4.1987501153663596,0.11827465113707999,0.114780283645965,0.11827465113707999,{"$f":"output[[#This Row],[ishp_Program]]-output[[#This Row],[ishp_Baseline]]","v":0},{"$f":"output[[#This Row],[ishp_Market]]-output[[#This Row],[ishp_Program]]","v":-0.43408158376219319}]
["All","Fabricated Metal","Base",2021,"21-50 HP","Traditional","Non ASD Control","variable","Pumps",2019,71840.953021954701,71346.383709430404,71840.953021954701,77221.840403299095,76690.227849266797,77221.840403299095,26.139637286771102,25.9596861321894,26.139637286771102,0.73632781089496202,0.73125876428702596,0.73632781089496202,1.74061733859267,1.68919163930737,1.74061733859267,4.9031474326554303E-2,4.7582863079081002E-2,4.9031474326554303E-2,{"$f":"output[[#This Row],[ishp_Program]]-output[[#This Row],[ishp_Baseline]]","v":0},{"$f":"output[[#This Row],[ishp_Market]]-output[[#This Row],[ishp_Program]]","v":-0.17995115458170119}]
["All","Fabricated Metal","Base",2021,"501-1,000 HP","Traditional","Non ASD Control","constant","Fans",2017,0,0,0,0,0,0,0,0,0,0,0,0,0,0,0,0,0,0,{"$f":"output[[#This Row],[ishp_Program]]-output[[#This Row],[ishp_Baseline]]","v":0},{"$f":"output[[#This Row],[ishp_Market]]-output[[#This Row],[ishp_Program]]","v":0}]
["All","Fabricated Metal","Base",2021,"501-1,000 HP","Traditional","Non ASD Control","constant","Fans","2014 and before",0,0,0,0,0,0,0,0,0,0,0,0,0,0,0,0,0,0,{"$f":"output[[#This Row],[ishp_Program]]-output[[#This Row],[ishp_Baseline]]","v":0},{"$f":"output[[#This Row],[ishp_Market]]-output[[#This Row],[ishp_Program]]","v":0}]
["All","Fabricated Metal","Base",2021,"51-100 HP","Traditional","ASD Control","variable","Fans",2017,3042.2341908052399,4212.8458634272602,7390.4786451657301,3270.0975316965601,4528.3880185979597,7944.0254956886401,2.1689811407049202,3.0035765340116201,5.2690910024596098,2.87282270292042E-2,3.9782470649160503E-2,6.9789284800789497E-2,0.17691949705535301,0.25754044751587601,0.17691949705535301,2.34330459675964E-3,3.4111317551771699E-3,2.34330459675964E-3,{"$f":"output[[#This Row],[ishp_Program]]-output[[#This Row],[ishp_Baseline]]","v":3.1001098617546896},{"$f":"output[[#This Row],[ishp_Market]]-output[[#This Row],[ishp_Program]]","v":-2.2655144684479898}]
["All","Fabricated Metal","Base",2021,"51-100 HP","Traditional","Non ASD Control","constant","Fans","2014 and before",8020814.1219829796,8018566.8020305503,8014854.1338264598,8621573.0997195002,8619157.4555026405,8615166.7084500697,2520.5468429763,2519.8406209986902,2518.6739122358999,33.384726397036999,33.375372463558797,33.359919367362899,1366.1837517951701,1365.9478507628601,1366.1837517951701,18.0951490303997,18.092024513415399,18.0951490303997,{"$f":"output[[#This Row],[ishp_Program]]-output[[#This Row],[ishp_Baseline]]","v":-1.8729307404000792},{"$f":"output[[#This Row],[ishp_Market]]-output[[#This Row],[ishp_Program]]","v":1.166708762790222}]
["All","Fabricated Metal","Base",2021,"51-100 HP","Traditional","Non ASD Control","variable","Pumps",2018,7731.9318171027198,7641.3606581694803,7731.9318171027198,8311.0535102037102,8213.6985714663806,8311.0535102037102,2.3637701439389098,2.3360811515302098,2.3637701439389098,3.13082138270055E-2,3.0941472205698199E-2,3.13082138270055E-2,0.15718088257117799,0.15135588228635,0.15718088257117799,2.0818659943202399E-3,2.0047136726668801E-3,2.0818659943202399E-3,{"$f":"output[[#This Row],[ishp_Program]]-output[[#This Row],[ishp_Baseline]]","v":0},{"$f":"output[[#This Row],[ishp_Market]]-output[[#This Row],[ishp_Program]]","v":-2.7688992408700042E-2}]
["All","Fabricated Metal","Base",2021,"6-10 HP","Traditional","Non ASD Control","constant","Pumps",2015,91402.675376174302,48615.150342384797,91402.675376174302,98248.735761849806,52256.425103029498,98248.735761849806,25.876047009813099,13.7629222609888,25.876047009813099,3.2345058762266401,1.7203652826236,3.2345058762266401,2.4895522989608798,1.0251166044048401,2.4895522989608798,0.31119403737011098,0.12813957555060501,0.31119403737011098,{"$f":"output[[#This Row],[ishp_Program]]-output[[#This Row],[ishp_Baseline]]","v":0},{"$f":"output[[#This Row],[ishp_Market]]-output[[#This Row],[ishp_Program]]","v":-12.113124748824299}]
["All","Fabricated Metal","Base",2021,"6-10 HP","Traditional","Non ASD Control","variable","Pumps",2020,56299.415544600699,27070.125368627901,56299.415544600699,60516.241768891297,29097.677758738198,60516.241768891297,20.1575040802452,9.6922171800982504,20.1575040802452,2.51968801003065,1.21152714751228,2.51968801003065,0.38459031652359599,0,0.38459031652359599,4.8073789565449498E-2,0,4.8073789565449498E-2,{"$f":"output[[#This Row],[ishp_Program]]-output[[#This Row],[ishp_Baseline]]","v":0},{"$f":"output[[#This Row],[ishp_Market]]-output[[#This Row],[ishp_Program]]","v":-10.46528690014695}]
["All","Food","Base",2014,"11-20 HP","Traditional","ASD Control","constant","Fans","2014 and before",945556.45994345204,945556.45994345204,945556.45994345204,1016378.63879321,1016378.63879321,1016378.63879321,270.395102133904,270.395102133904,270.395102133904,17.444845298961599,17.444845298961599,17.444845298961599,81.382827261491897,81.382827261491897,81.382827261491897,5.2505049846123804,5.2505049846123804,5.2505049846123804,{"$f":"output[[#This Row],[ishp_Program]]-output[[#This Row],[ishp_Baseline]]","v":0},{"$f":"output[[#This Row],[ishp_Market]]-output[[#This Row],[ishp_Program]]","v":0}]
["All","Food","Base",2014,"51-100 HP","Traditional","Non ASD Control","variable","Fans","2014 and before",3540515.9331380902,3540515.9331380902,3540515.9331380902,3805700.5765301399,3805700.5765301399,3805700.5765301399,1086.4819171513,1086.4819171513,1086.4819171513,14.3904889688914,14.3904889688914,14.3904889688914,327.00655259084999,327.00655259084999,327.00655259084999,4.3312126170973499,4.3312126170973499,4.3312126170973499,{"$f":"output[[#This Row],[ishp_Program]]-output[[#This Row],[ishp_Baseline]]","v":0},{"$f":"output[[#This Row],[ishp_Market]]-output[[#This Row],[ishp_Program]]","v":0}]
["All","Food","Base",2015,"1,001+ HP","Traditional","Non ASD Control","constant","Pumps","2014 and before",0,0,0,0,0,0,0,0,0,0,0,0,0,0,0,0,0,0,{"$f":"output[[#This Row],[ishp_Program]]-output[[#This Row],[ishp_Baseline]]","v":0},{"$f":"output[[#This Row],[ishp_Market]]-output[[#This Row],[ishp_Program]]","v":0}]
["All","Food","Base",2015,"1-5 HP","Traditional","Non ASD Control","constant","Pumps","2014 and before",12589517.4983002,12589517.4983002,12589517.4983002,13532472.358922901,13532472.358922901,13532472.358922901,4714.3360857255602,4714.3360857255602,4714.3360857255602,1571.44536190852,1571.44536190852,1571.44536190852,1697.35962520271,1697.35962520271,1697.35962520271,565.78654173423899,565.78654173423899,565.78654173423899,{"$f":"output[[#This Row],[ishp_Program]]-output[[#This Row],[ishp_Baseline]]","v":0},{"$f":"output[[#This Row],[ishp_Market]]-output[[#This Row],[ishp_Program]]","v":0}]
["All","Food","Base",2015,"201-500 HP","Traditional","ASD Control","variable","Fans","2014 and before",3824729.23168755,3824729.23168755,3824729.23168755,4111201.45114095,4111201.45114095,4111201.45114095,2472.96074019867,2472.96074019867,2472.96074019867,7.0555227965725198,7.0555227965725198,7.0555227965725198,741.09673588773103,741.09673588773103,741.09673588773103,2.11439867585658,2.11439867585658,2.11439867585658,{"$f":"output[[#This Row],[ishp_Program]]-output[[#This Row],[ishp_Baseline]]","v":0},{"$f":"output[[#This Row],[ishp_Market]]-output[[#This Row],[ishp_Program]]","v":0}]
["All","Food","Base",2015,"21-50 HP","Traditional","Non ASD Control","variable","Fans",2015,753144.45475913305,753144.45475913305,753144.45475913305,809554.97442059196,809554.97442059196,809554.97442059196,227.58664858356099,227.58664858356099,227.58664858356099,6.4108915093961096,6.4108915093961096,6.4108915093961096,0,0,0,0,0,0,{"$f":"output[[#This Row],[ishp_Program]]-output[[#This Row],[ishp_Baseline]]","v":0},{"$f":"output[[#This Row],[ishp_Market]]-output[[#This Row],[ishp_Program]]","v":0}]
["All","Food","Base",2015,"51-100 HP","Traditional","ASD Control","constant","Fans","2014 and before",1211841.9059174899,1211841.9059174899,1211841.9059174899,1302608.8646707099,1302608.8646707099,1302608.8646707099,358.01289813381499,358.01289813381499,358.01289813381499,4.7418926905141001,4.7418926905141001,4.7418926905141001,107.28928522794099,107.28928522794099,107.28928522794099,1.4210501354694201,1.4210501354694201,1.4210501354694201,{"$f":"output[[#This Row],[ishp_Program]]-output[[#This Row],[ishp_Baseline]]","v":0},{"$f":"output[[#This Row],[ishp_Market]]-output[[#This Row],[ishp_Program]]","v":0}]
["All","Food","Base",2015,"6-10 HP","Traditional","ASD Control","variable","Pumps",2015,393324.09681352298,393324.09681352298,393324.09681352298,422784.07166485599,422784.07166485599,422784.07166485599,261.81286002729598,261.81286002729598,261.81286002729598,32.726607503411998,32.726607503411998,32.726607503411998,0.34795512714653598,0.34795512714653598,0.34795512714653598,4.3494390893316998E-2,4.3494390893316998E-2,4.3494390893316998E-2,{"$f":"output[[#This Row],[ishp_Program]]-output[[#This Row],[ishp_Baseline]]","v":0},{"$f":"output[[#This Row],[ishp_Market]]-output[[#This Row],[ishp_Program]]","v":0}]
["All","Food","Base",2016,"1,001+ HP","Traditional","Non ASD Control","variable","Fans",2015,0,0,0,0,0,0,0,0,0,0,0,0,0,0,0,0,0,0,{"$f":"output[[#This Row],[ishp_Program]]-output[[#This Row],[ishp_Baseline]]","v":0},{"$f":"output[[#This Row],[ishp_Market]]-output[[#This Row],[ishp_Program]]","v":0}]
["All","Food","Base",2016,"101-200 HP","Traditional","ASD Control","variable","Fans",2016,0,0,21476.264089075699,0,0,23084.836269347499,0,0,13.8947718168147,0,0,9.2324065228004903E-2,0,0,0,0,0,0,{"$f":"output[[#This Row],[ishp_Program]]-output[[#This Row],[ishp_Baseline]]","v":13.8947718168147},{"$f":"output[[#This Row],[ishp_Market]]-output[[#This Row],[ishp_Program]]","v":-13.8947718168147}]
["All","Food","Base",2016,"11-20 HP","Traditional","ASD Control","constant","Pumps",2016,230235.97155726899,374179.14559813699,230235.97155726899,247480.64582690899,402205.16360343801,247480.64582690899,88.256181645538206,143.43381018403099,88.256181645538206,5.6939472029379399,9.2537942054213804,5.6939472029379399,0.94050954163279399,5.1361022043392399,0.94050954163279399,6.0678034944051197E-2,0.33136143253801598,6.0678034944051197E-2,{"$f":"output[[#This Row],[ishp_Program]]-output[[#This Row],[ishp_Baseline]]","v":0},{"$f":"output[[#This Row],[ishp_Market]]-output[[#This Row],[ishp_Program]]","v":55.177628538492783}]
["All","Food","Base",2016,"201-500 HP","Traditional","Non ASD Control","variable","Pumps","2014 and before",2195794.8433572198,1992737.2503822099,414240.28082905302,2360259.87712467,2141993.2704358301,445266.87786314997,684.00100200377904,620.74755303992799,129.03790534647101,1.9515007189836799,1.77103438813103,0.36815379556767902,266.20908122251501,261.64647158881297,266.20908122251501,0.75951235726823196,0.74649492607364698,0.75951235726823196,{"$f":"output[[#This Row],[ishp_Program]]-output[[#This Row],[ishp_Baseline]]","v":-554.96309665730803},{"$f":"output[[#This Row],[ishp_Market]]-output[[#This Row],[ishp_Program]]","v":491.70964769345699}]
["All","Food","Base",2016,"21-50 HP","Traditional","Non ASD Control","constant","Pumps",2015,3066839.6934607602,2738848.61633767,3066839.6934607602,3296545.9865009701,2943988.3777013598,3296545.9865009701,960.04323962080196,857.36894043282098,960.04323962080196,27.043471538614099,24.151237758671002,27.043471538614099,11.9110833735431,10.1430375626498,11.9110833735431,0.33552347531107402,0.28571936796196601,0.33552347531107402,{"$f":"output[[#This Row],[ishp_Program]]-output[[#This Row],[ishp_Baseline]]","v":0},{"$f":"output[[#This Row],[ishp_Market]]-output[[#This Row],[ishp_Program]]","v":-102.67429918798098}]
["All","Food","Base",2016,"501-1,000 HP","Traditional","Non ASD Control","constant","Fans",2016,0,0,0,0,0,0,0,0,0,0,0,0,0,0,0,0,0,0,{"$f":"output[[#This Row],[ishp_Program]]-output[[#This Row],[ishp_Baseline]]","v":0},{"$f":"output[[#This Row],[ishp_Market]]-output[[#This Row],[ishp_Program]]","v":0}]
["All","Food","Base",2016,"51-100 HP","Traditional","ASD Control","variable","Pumps",2016,1342371.0037579299,1409612.2382391901,1359459.4035567299,1442914.5919394,1515192.1948833,1461282.9128831299,632.34489932221902,664.01993664745805,640.39465786147605,8.3754291300956201,8.7949660483106999,8.4820484484963696,0,0.121526327110983,0,0,1.60962022663554E-3,0,{"$f":"output[[#This Row],[ishp_Program]]-output[[#This Row],[ishp_Baseline]]","v":8.0497585392570272},{"$f":"output[[#This Row],[ishp_Market]]-output[[#This Row],[ishp_Program]]","v":23.625278785982005}]
["All","Food","Base",2017,"1,001+ HP","Traditional","ASD Control","variable","Fans",2017,0,0,0,0,0,0,0,0,0,0,0,0,0,0,0,0,0,0,{"$f":"output[[#This Row],[ishp_Program]]-output[[#This Row],[ishp_Baseline]]","v":0},{"$f":"output[[#This Row],[ishp_Market]]-output[[#This Row],[ishp_Program]]","v":0}]
["All","Food","Base",2017,"1-5 HP","Traditional","ASD Control","variable","Fans",2015,282332.639364901,343611.64764526999,282332.639364901,303479.354053332,369348.16005390103,303479.354053332,156.48931843029999,190.454609377358,156.48931843029999,52.163106143433502,63.484869792452898,52.163106143433502,2.5563277067172199,4.0772996202204901,2.5563277067172199,0.85210923557240803,1.35909987340683,0.85210923557240803,{"$f":"output[[#This Row],[ishp_Program]]-output[[#This Row],[ishp_Baseline]]","v":0},{"$f":"output[[#This Row],[ishp_Market]]-output[[#This Row],[ishp_Program]]","v":33.965290947058008}]
["All","Food","Base",2017,"1-5 HP","Traditional","Non ASD Control","constant","Fans",2015,765195.91006754199,748941.2914169,765195.91006754199,822509.08373159997,805036.99414402596,822509.08373159997,194.88621118172699,190.74635496798001,194.88621118172699,64.962070393909201,63.582118322660001,64.962070393909201,3.24140039784539,3.1907917965526398,3.24140039784539,1.08046679928179,1.0635972655175401,1.08046679928179,{"$f":"output[[#This Row],[ishp_Program]]-output[[#This Row],[ishp_Baseline]]","v":0},{"$f":"output[[#This Row],[ishp_Market]]-output[[#This Row],[ishp_Program]]","v":-4.139856213746981}]
["All","Food","Base",2017,"101-200 HP","Traditional","ASD Control","constant","Pumps",2016,797976.78046739602,1334013.70264392,797976.78046739602,857745.24132440402,1433931.3289719501,857745.24132440402,246.91947484419001,412.786400500095,246.91947484419001,1.64066096241986,2.7427667807315301,1.64066096241986,3.3137880290994199,18.435786482345801,3.3137880290994199,2.20185251102951E-2,0.122496920148477,2.20185251102951E-2,{"$f":"output[[#This Row],[ishp_Program]]-output[[#This Row],[ishp_Baseline]]","v":0},{"$f":"output[[#This Row],[ishp_Market]]-output[[#This Row],[ishp_Program]]","v":165.86692565590499}]
["All","Food","Base",2017,"11-20 HP","Traditional","ASD Control","constant","Pumps",2016,198424.29636630401,405775.37723366299,198424.29636630401,213286.27616414,436167.95298846398,213286.27616414,76.061836143778095,155.54556986987899,76.061836143778095,4.90721523508246,10.0351980561212,4.90721523508246,0.159027107494745,6.9469461952278104,0.159027107494745,1.02598133867577E-2,0.44819007711147102,1.02598133867577E-2,{"$f":"output[[#This Row],[ishp_Program]]-output[[#This Row],[ishp_Baseline]]","v":0},{"$f":"output[[#This Row],[ishp_Market]]-output[[#This Row],[ishp_Program]]","v":79.483733726100894}]
["All","Food","Base",2017,"201-500 HP","Traditional","ASD Control","constant","Pumps",2017,7689234.9008311704,8230344.8180342996,7689234.9008311704,8265158.59490343,8846797.6449050698,8265158.59490343,2360.22770973566,2526.3225991579602,2360.22770973566,6.7338879022415501,7.2077677579399699,6.7338879022415501,95.871023446203395,113.12698053446201,95.871023446203395,0.27352645776377499,0.32275886029803902,0.27352645776377499,{"$f":"output[[#This Row],[ishp_Program]]-output[[#This Row],[ishp_Baseline]]","v":0},{"$f":"output[[#This Row],[ishp_Market]]-output[[#This Row],[ishp_Program]]","v":166.09488942230018}]
["All","Food","Base",2017,"21-50 HP","Traditional","Non ASD Control","constant","Fans",2016,1220184.91511818,1099628.3533351,1209113.13634556,1311576.7652605299,1181990.5169999001,1299675.7102578401,340.270044809605,306.65072517062498,337.18248438134202,9.5850716847776205,8.6380485963556595,9.4980981515871203,0,0,0,0,0,0,{"$f":"output[[#This Row],[ishp_Program]]-output[[#This Row],[ishp_Baseline]]","v":-3.0875604282629752},{"$f":"output[[#This Row],[ishp_Market]]-output[[#This Row],[ishp_Program]]","v":-30.531759210717041}]
["All","Food","Base",2017,"501-1,000 HP","Traditional","ASD Control","constant","Pumps",2017,0,0,0,0,0,0,0,0,0,0,0,0,0,0,0,0,0,0,{"$f":"output[[#This Row],[ishp_Program]]-output[[#This Row],[ishp_Baseline]]","v":0},{"$f":"output[[#This Row],[ishp_Market]]-output[[#This Row],[ishp_Program]]","v":0}]
["All","Food","Base",2017,"501-1,000 HP","Traditional","Non ASD Control","variable","Fans",2017,0,0,0,0,0,0,0,0,0,0,0,0,0,0,0,0,0,0,{"$f":"output[[#This Row],[ishp_Program]]-output[[#This Row],[ishp_Baseline]]","v":0},{"$f":"output[[#This Row],[ishp_Market]]-output[[#This Row],[ishp_Program]]","v":0}]
["All","Food","Base",2017,"51-100 HP","Traditional","ASD Control","variable","Pumps",2015,1059151.90709728,1122966.42862587,1080333.8833167299,1138482.3849388701,1207076.61412994,1161250.89117715,495.88826783441903,525.76582584233404,505.80553600566702,6.5680565276082001,6.9637857727461503,6.6994110729227403,7.2506522693447,7.5996294728155398,7.2506522693447,9.60351293952941E-2,0.10065734401080099,9.60351293952941E-2,{"$f":"output[[#This Row],[ishp_Program]]-output[[#This Row],[ishp_Baseline]]","v":9.9172681712479971},{"$f":"output[[#This Row],[ishp_Market]]-output[[#This Row],[ishp_Program]]","v":19.960289836667016}]
["All","Food","Base",2017,"6-10 HP","Traditional","Non ASD Control","variable","Pumps",2015,452906.39451961598,406485.79535513802,450625.19959362102,486829.08346913499,436931.58142723801,484377.02704318298,209.60244412729301,188.119260934333,208.546720388778,26.200305515911602,23.5149076167916,26.0683400485973,2.7513148003881298,2.4337435941319998,2.7513148003881298,0.343914350048516,0.30421794926649998,0.343914350048516,{"$f":"output[[#This Row],[ishp_Program]]-output[[#This Row],[ishp_Baseline]]","v":-1.0557237385150131},{"$f":"output[[#This Row],[ishp_Market]]-output[[#This Row],[ishp_Program]]","v":-20.427459454445}]
["All","Food","Base",2018,"1,001+ HP","Traditional","ASD Control","variable","Fans",2017,0,0,0,0,0,0,0,0,0,0,0,0,0,0,0,0,0,0,{"$f":"output[[#This Row],[ishp_Program]]-output[[#This Row],[ishp_Baseline]]","v":0},{"$f":"output[[#This Row],[ishp_Market]]-output[[#This Row],[ishp_Program]]","v":0}]
["All","Food","Base",2018,"1-5 HP","Traditional","ASD Control","variable","Fans",2016,287444.05874786602,423500.60363704403,287444.05874786602,308973.61874808097,455220.79884945898,308973.61874808097,162.20104974000401,238.97603858881001,162.20104974000401,54.0670165800015,79.658679529603305,54.0670165800015,0.58742502307766997,3.3446091261311302,0.58742502307766997,0.19580834102589001,1.1148697087103701,0.19580834102589001,{"$f":"output[[#This Row],[ishp_Program]]-output[[#This Row],[ishp_Baseline]]","v":0},{"$f":"output[[#This Row],[ishp_Market]]-output[[#This Row],[ishp_Program]]","v":76.774988848806004}]
["All","Food","Base",2018,"1-5 HP","Traditional","ASD Control","variable","Pumps",2015,17222.098564347802,23666.147728570999,17222.098564347802,18512.033746817498,25438.742193441001,18512.033746817498,11.1581289298689,15.333202666449701,11.1581289298689,3.7193763099563002,5.1110675554832596,3.7193763099563002,0.18367094745829701,0.27961317216432302,0.18367094745829701,6.1223649152765902E-2,9.3204390721441099E-2,6.1223649152765902E-2,{"$f":"output[[#This Row],[ishp_Program]]-output[[#This Row],[ishp_Baseline]]","v":0},{"$f":"output[[#This Row],[ishp_Market]]-output[[#This Row],[ishp_Program]]","v":4.1750737365808011}]
["All","Food","Base",2018,"101-200 HP","Traditional","ASD Control","variable","Pumps",2018,1330996.3819134601,1445173.3065287799,1564188.4811982301,1430688.01091877,1553416.78718779,1681346.1984399799,616.806133573289,669.71764285479696,724.87127867375898,4.0983796250716802,4.4499511153142599,4.8164204563040496,0,0,0,0,0,0,{"$f":"output[[#This Row],[ishp_Program]]-output[[#This Row],[ishp_Baseline]]","v":108.06514510046998},{"$f":"output[[#This Row],[ishp_Market]]-output[[#This Row],[ishp_Program]]","v":-55.153635818962016}]
["All","Food","Base",2018,"101-200 HP","Traditional","Non ASD Control","variable","Pumps","2014 and before",4737654.28171976,3638723.2958693998,2087623.8077401,5092504.5874205697,3911263.6707300199,2243986.8309398401,1488.9326142366599,1143.56461388651,656.09075478442196,9.8932399617053903,7.5984359726678896,4.3594070085343599,659.15225325523704,640.58689902816502,659.15225325523704,4.3797491910646897,4.2563913556688702,4.3797491910646897,{"$f":"output[[#This Row],[ishp_Program]]-output[[#This Row],[ishp_Baseline]]","v":-832.84185945223794},{"$f":"output[[#This Row],[ishp_Market]]-output[[#This Row],[ishp_Program]]","v":487.473859102088}]
["All","Food","Base",2018,"11-20 HP","Traditional","Non ASD Control","constant","Fans",2015,612890.26623516204,575949.36418963503,612116.71695166198,658795.74717617605,619087.97156743903,657964.25905134098,166.89196546634699,156.83284054933901,166.68132554037601,10.767223578474001,10.1182477773767,10.7536339058307,3.3417774406697598,3.2616048749909301,3.3417774406697598,0.21559854455933899,0.21042612096715699,0.21559854455933899,{"$f":"output[[#This Row],[ishp_Program]]-output[[#This Row],[ishp_Baseline]]","v":-0.21063992597098036},{"$f":"output[[#This Row],[ishp_Market]]-output[[#This Row],[ishp_Program]]","v":-9.8484849910369974}]
["All","Food","Base",2018,"201-500 HP","Traditional","Non ASD Control","constant","Fans","2014 and before",2021796.8264242101,1688642.3493485299,1851876.9574831601,2173229.40872338,1815121.6613147401,1990582.5415986499,575.71101030059299,480.844553851245,527.32596085365606,1.6425421121272199,1.37188175135876,1.5044963219790399,259.526272966693,257.44681113446802,259.526272966693,0.74044585725162004,0.73451301322245,0.74044585725162004,{"$f":"output[[#This Row],[ishp_Program]]-output[[#This Row],[ishp_Baseline]]","v":-48.385049446936932},{"$f":"output[[#This Row],[ishp_Market]]-output[[#This Row],[ishp_Program]]","v":-46.481407002411061}]
["All","Food","Base",2018,"21-50 HP","Traditional","ASD Control","constant","Pumps",2015,1344803.2826886601,2166947.9973499798,1344803.2826886601,1445529.0485620401,2329252.4023514902,1445529.0485620401,501.31621695081901,807.79559831885399,501.31621695081901,14.1215835760794,22.754805586446501,14.1215835760794,15.4900445934635,52.784921581569797,15.4900445934635,0.43633928432291702,1.48689919948084,0.43633928432291702,{"$f":"output[[#This Row],[ishp_Program]]-output[[#This Row],[ishp_Baseline]]","v":0},{"$f":"output[[#This Row],[ishp_Market]]-output[[#This Row],[ishp_Program]]","v":306.47938136803498}]
["All","Food","Base",2018,"21-50 HP","Traditional","Non ASD Control","constant","Fans",2016,1024551.8598282801,853498.27561110805,1007945.09033721,1101290.7941294201,917425.29645438003,1083440.1776034699,285.71432324236503,238.01301990279299,281.08323320932499,8.0482907955596001,6.7045921099378498,7.9178375551922704,0,0,0,0,0,0,{"$f":"output[[#This Row],[ishp_Program]]-output[[#This Row],[ishp_Baseline]]","v":-4.6310900330400386},{"$f":"output[[#This Row],[ishp_Market]]-output[[#This Row],[ishp_Program]]","v":-43.070213306531997}]
["All","Food","Base",2018,"501-1,000 HP","Traditional","Non ASD Control","constant","Fans",2016,0,0,0,0,0,0,0,0,0,0,0,0,0,0,0,0,0,0,{"$f":"output[[#This Row],[ishp_Program]]-output[[#This Row],[ishp_Baseline]]","v":0},{"$f":"output[[#This Row],[ishp_Market]]-output[[#This Row],[ishp_Program]]","v":0}]
["All","Food","Base",2018,"51-100 HP","Traditional","ASD Control","variable","Fans",2016,658921.58513883804,735565.01838091703,832618.02170844597,708274.81186573696,790658.83825764805,894981.11153440899,420.18537937475298,469.05985973742202,530.94924679406904,5.5653692632417702,6.21271337400559,7.0324403548883296,4.8109778813402704,6.5647664797012704,4.8109778813402704,6.3721561342255303E-2,8.6950549400016897E-2,6.3721561342255303E-2,{"$f":"output[[#This Row],[ishp_Program]]-output[[#This Row],[ishp_Baseline]]","v":110.76386741931606},{"$f":"output[[#This Row],[ishp_Market]]-output[[#This Row],[ishp_Program]]","v":-61.889387056647024}]
["All","Food","Base",2018,"51-100 HP","Traditional","Non ASD Control","constant","Pumps",2017,2059354.7816475099,1317530.08177256,2059354.7816475099,2213600.4547929098,1416213.08489733,2213600.4547929098,543.229990006207,347.54664884969401,543.229990006207,7.1950992053802203,4.6032668721813801,7.1950992053802203,0.57765817410559706,0,0.57765817410559706,7.6511016437827402E-3,0,7.6511016437827402E-3,{"$f":"output[[#This Row],[ishp_Program]]-output[[#This Row],[ishp_Baseline]]","v":0},{"$f":"output[[#This Row],[ishp_Market]]-output[[#This Row],[ishp_Program]]","v":-195.68334115651299}]
["All","Food","Base",2018,"6-10 HP","Traditional","Non ASD Control","variable","Fans",2015,529224.49174221198,318962.11783452297,524732.67106368602,568863.40617370396,342852.38046032802,564035.14812635595,154.97432239894701,93.402589739585494,153.65896969540799,19.371790299868401,11.6753237174481,19.207371211925999,3.1147275829894099,1.9424652449342601,3.1147275829894099,0.38934094787367601,0.24280815561678301,0.38934094787367601,{"$f":"output[[#This Row],[ishp_Program]]-output[[#This Row],[ishp_Baseline]]","v":-1.3153527035390198},{"$f":"output[[#This Row],[ishp_Market]]-output[[#This Row],[ishp_Program]]","v":-60.256379955822496}]
["All","Food","Base",2019,"1,001+ HP","Traditional","ASD Control","variable","Fans",2015,0,0,0,0,0,0,0,0,0,0,0,0,0,0,0,0,0,0,{"$f":"output[[#This Row],[ishp_Program]]-output[[#This Row],[ishp_Baseline]]","v":0},{"$f":"output[[#This Row],[ishp_Market]]-output[[#This Row],[ishp_Program]]","v":0}]
["All","Food","Base",2019,"1,001+ HP","Traditional","Non ASD Control","constant","Pumps",2018,0,0,0,0,0,0,0,0,0,0,0,0,0,0,0,0,0,0,{"$f":"output[[#This Row],[ishp_Program]]-output[[#This Row],[ishp_Baseline]]","v":0},{"$f":"output[[#This Row],[ishp_Market]]-output[[#This Row],[ishp_Program]]","v":0}]
["All","Food","Base",2019,"1-5 HP","Traditional","ASD Control","constant","Pumps",2015,8581.8011328859593,25562.973559491998,8581.8011328859593,9224.5780377391202,27477.640279097901,9224.5780377391202,3.73406323247477,11.122811890319699,3.73406323247477,1.24468774415825,3.7076039634399298,1.24468774415825,8.05950196856417E-2,0.79722477868585995,8.05950196856417E-2,2.6865006561880501E-2,0.26574159289528598,2.6865006561880501E-2,{"$f":"output[[#This Row],[ishp_Program]]-output[[#This Row],[ishp_Baseline]]","v":0},{"$f":"output[[#This Row],[ishp_Market]]-output[[#This Row],[ishp_Program]]","v":7.3887486578449293}]
["All","Food","Base",2019,"1-5 HP","Traditional","Non ASD Control","constant","Pumps","2014 and before",5923591.5005959403,5769705.1398194898,5923591.5005959403,6367268.5039905803,6201856.0547919702,6367268.5039905803,2218.1788279119501,2160.5537422954899,2218.1788279119501,739.39294263731699,720.18458076516504,739.39294263731699,1459.4973827418701,1453.9782603818601,1459.4973827418701,486.49912758062601,484.65942012728698,486.49912758062601,{"$f":"output[[#This Row],[ishp_Program]]-output[[#This Row],[ishp_Baseline]]","v":0},{"$f":"output[[#This Row],[ishp_Market]]-output[[#This Row],[ishp_Program]]","v":-57.625085616460183}]
["All","Food","Base",2019,"101-200 HP","Traditional","ASD Control","variable","Pumps","2014 and before",9249108.3189524096,10183902.423815001,12216070.287451399,9941866.5320419502,10946676.715358701,13131053.9519816,4269.7670952982298,4701.3063282902904,5639.4382191772802,28.370545483709101,31.237915802593299,37.471350293536702,1839.37214340267,1855.16957910772,1839.37214340267,12.2217418166291,12.3267081668287,12.2217418166291,{"$f":"output[[#This Row],[ishp_Program]]-output[[#This Row],[ishp_Baseline]]","v":1369.6711238790504},{"$f":"output[[#This Row],[ishp_Market]]-output[[#This Row],[ishp_Program]]","v":-938.13189088698982}]
["All","Food","Base",2019,"101-200 HP","Traditional","Non ASD Control","variable","Pumps",2017,518278.66971262899,311623.98966450698,3693.2842890552602,557097.74207410496,334964.62649037899,3969.9112823055002,163.509315615822,98.312796295027894,1.1651770018104901,1.08644063532107,0.65324117139553395,7.7420398791395303E-3,0.33529096960237098,0,0.33529096960237098,2.22784697410213E-3,0,2.22784697410213E-3,{"$f":"output[[#This Row],[ishp_Program]]-output[[#This Row],[ishp_Baseline]]","v":-162.34413861401151},{"$f":"output[[#This Row],[ishp_Market]]-output[[#This Row],[ishp_Program]]","v":97.147619293217403}]
["All","Food","Base",2019,"11-20 HP","Traditional","Non ASD Control","variable","Fans",2018,599000.41660315497,198222.94164618099,561664.47666022601,643865.54780673096,213069.83997547999,603733.14596207696,180.00865227025099,59.568981232301098,168.78863965576599,11.6134614367904,3.8431600795032899,10.889589655210701,0.66939564780352001,0,0.66939564780352001,4.31868159873239E-2,0,4.31868159873239E-2,{"$f":"output[[#This Row],[ishp_Program]]-output[[#This Row],[ishp_Baseline]]","v":-11.220012614485},{"$f":"output[[#This Row],[ishp_Market]]-output[[#This Row],[ishp_Program]]","v":-109.21965842346489}]
["All","Food","Base",2019,"201-500 HP","Traditional","ASD Control","constant","Pumps",2017,8168512.54230785,9008697.7997580394,8168512.54230785,8780334.1317267101,9683449.2649599202,8780334.1317267101,2507.34304496202,2765.2397735079198,2507.34304496202,7.1536178172953697,7.8894144750582802,7.1536178172953697,143.95381683636501,168.77894238943901,143.95381683636501,0.41070989111659101,0.48153763877158201,0.41070989111659101,{"$f":"output[[#This Row],[ishp_Program]]-output[[#This Row],[ishp_Baseline]]","v":0},{"$f":"output[[#This Row],[ishp_Market]]-output[[#This Row],[ishp_Program]]","v":257.8967285458998}]
["All","Food","Base",2019,"201-500 HP","Traditional","Non ASD Control","constant","Fans","2014 and before",1661677.55557093,1169740.51543169,1405491.3552490601,1786137.2044831901,1257354.08003752,1510762.6577572101,473.16627062052697,333.08613661233301,400.21669711010401,1.3499750944950799,0.95031708020637295,1.14184507021427,250.782558451737,249.10622493392401,250.782558451737,0.71549945349996402,0.71071676158038399,0.71549945349996402,{"$f":"output[[#This Row],[ishp_Program]]-output[[#This Row],[ishp_Baseline]]","v":-72.949573510422965},{"$f":"output[[#This Row],[ishp_Market]]-output[[#This Row],[ishp_Program]]","v":-67.130560497771}]
["All","Food","Base",2019,"21-50 HP","Traditional","ASD Control","constant","Fans",2017,129307.797749477,372214.79106715199,150471.48558830601,138992.951800913,400093.67891808198,161741.799858871,37.868790236870403,109.005984877191,44.066740162210102,1.06672648554564,3.07059112330117,1.2413166242876099,7.28077484554044E-2,1.96800883933239,7.28077484554044E-2,2.0509224917015299E-3,5.5436868713588501E-2,2.0509224917015299E-3,{"$f":"output[[#This Row],[ishp_Program]]-output[[#This Row],[ishp_Baseline]]","v":6.1979499253396995},{"$f":"output[[#This Row],[ishp_Market]]-output[[#This Row],[ishp_Program]]","v":64.939244714980902}]
["All","Food","Base",2019,"501-1,000 HP","Traditional","ASD Control","constant","Fans",2017,0,0,0,0,0,0,0,0,0,0,0,0,0,0,0,0,0,0,{"$f":"output[[#This Row],[ishp_Program]]-output[[#This Row],[ishp_Baseline]]","v":0},{"$f":"output[[#This Row],[ishp_Market]]-output[[#This Row],[ishp_Program]]","v":0}]
["All","Food","Base",2019,"501-1,000 HP","Traditional","ASD Control","constant","Fans","2014 and before",0,0,0,0,0,0,0,0,0,0,0,0,0,0,0,0,0,0,{"$f":"output[[#This Row],[ishp_Program]]-output[[#This Row],[ishp_Baseline]]","v":0},{"$f":"output[[#This Row],[ishp_Market]]-output[[#This Row],[ishp_Program]]","v":0}]
["All","Food","Base",2019,"501-1,000 HP","Traditional","Non ASD Control","variable","Fans",2019,0,0,0,0,0,0,0,0,0,0,0,0,0,0,0,0,0,0,{"$f":"output[[#This Row],[ishp_Program]]-output[[#This Row],[ishp_Baseline]]","v":0},{"$f":"output[[#This Row],[ishp_Market]]-output[[#This Row],[ishp_Program]]","v":0}]
["All","Food","Base",2019,"51-100 HP","Traditional","ASD Control","variable","Fans",2016,693312.50035434205,798219.98376997199,949749.76334514702,745241.60663088202,858006.66055434302,1020886.02061969,442.11600068506698,509.01408341969,605.64257359724604,5.85584106867638,6.7419083896647702,8.0217559416853792,6.5195755988560196,8.8135324504968207,6.5195755988560196,8.6351994686834604E-2,0.11673552914565299,8.6351994686834604E-2,{"$f":"output[[#This Row],[ishp_Program]]-output[[#This Row],[ishp_Baseline]]","v":163.52657291217906},{"$f":"output[[#This Row],[ishp_Market]]-output[[#This Row],[ishp_Program]]","v":-96.628490177556046}]
["All","Food","Base",2019,"6-10 HP","Traditional","ASD Control","constant","Pumps",2017,126639.942465895,393328.43062488298,126639.942465895,136125.27415659101,422788.73007868603,136125.27415659101,57.204053025818702,177.66890890752799,57.204053025818702,7.1505066282273404,22.208613613440999,7.1505066282273404,0.21969539092597001,10.8441845904948,0.21969539092597001,2.74619238657462E-2,1.35552307381186,2.74619238657462E-2,{"$f":"output[[#This Row],[ishp_Program]]-output[[#This Row],[ishp_Baseline]]","v":0},{"$f":"output[[#This Row],[ishp_Market]]-output[[#This Row],[ishp_Program]]","v":120.4648558817093}]
["All","Food","Base",2019,"6-10 HP","Traditional","Non ASD Control","constant","Fans",2017,492570.368920304,424930.639281963,492341.13381491101,529463.88955243502,456757.944164182,529217.48473764805,133.91861359354701,115.528918661503,133.85628981315301,16.739826699193401,14.4411148326879,16.732036226644201,2.1503846060614701E-3,6.8774606353388197E-4,2.1503846060614701E-3,2.68798075757683E-4,8.59682579417353E-5,2.68798075757683E-4,{"$f":"output[[#This Row],[ishp_Program]]-output[[#This Row],[ishp_Baseline]]","v":-6.2323780393995776E-2},{"$f":"output[[#This Row],[ishp_Market]]-output[[#This Row],[ishp_Program]]","v":-18.327371151650013}]
["All","Food","Base",2019,"6-10 HP","Traditional","Non ASD Control","variable","Pumps",2019,508305.27322592301,374183.90882891399,501817.85816117702,546377.33819054498,402210.28360020003,539404.01573744905,238.451969756594,175.53406350718501,235.40864720556101,29.8064962195742,21.941757938398201,29.426080900695101,0,0,0,0,0,0,{"$f":"output[[#This Row],[ishp_Program]]-output[[#This Row],[ishp_Baseline]]","v":-3.0433225510329862},{"$f":"output[[#This Row],[ishp_Market]]-output[[#This Row],[ishp_Program]]","v":-59.874583698376}]
["All","Food","Base",2020,"1,001+ HP","Traditional","Non ASD Control","variable","Fans",2019,0,0,0,0,0,0,0,0,0,0,0,0,0,0,0,0,0,0,{"$f":"output[[#This Row],[ishp_Program]]-output[[#This Row],[ishp_Baseline]]","v":0},{"$f":"output[[#This Row],[ishp_Market]]-output[[#This Row],[ishp_Program]]","v":0}]
["All","Food","Base",2020,"1-5 HP","Traditional","ASD Control","constant","Pumps",2019,6702.00847843874,35503.1619036923,6702.00847843874,7203.9889134737996,38162.3487302789,7203.9889134737996,2.9688271136483499,15.7270391434185,2.9688271136483499,0.98960903788278298,5.2423463811395097,0.98960903788278298,0,1.1469449294223499,0,0,0.38231497647411899,0,{"$f":"output[[#This Row],[ishp_Program]]-output[[#This Row],[ishp_Baseline]]","v":0},{"$f":"output[[#This Row],[ishp_Market]]-output[[#This Row],[ishp_Program]]","v":12.758212029770149}]
["All","Food","Base",2020,"1-5 HP","Traditional","Non ASD Control","constant","Fans",2015,331266.66843779199,288382.87200899998,331266.66843779199,356078.541903782,309982.74912247399,356078.541903782,84.3696431897243,73.447655111719499,84.3696431897243,28.123214396574699,24.482551703906498,28.123214396574699,3.66413306052854,3.67757681650895,3.66413306052854,1.2213776868428401,1.2258589388363099,1.2213776868428401,{"$f":"output[[#This Row],[ishp_Program]]-output[[#This Row],[ishp_Baseline]]","v":0},{"$f":"output[[#This Row],[ishp_Market]]-output[[#This Row],[ishp_Program]]","v":-10.921988078004802}]
["All","Food","Base",2020,"101-200 HP","Traditional","ASD Control","variable","Fans","2014 and before",0,0,1449321.03273367,0,0,1557875.17808542,0,0,934.09229495838997,0,0,6.2065933219826501,0,0,0,0,0,0,{"$f":"output[[#This Row],[ishp_Program]]-output[[#This Row],[ishp_Baseline]]","v":934.09229495838997},{"$f":"output[[#This Row],[ishp_Market]]-output[[#This Row],[ishp_Program]]","v":-934.09229495838997}]
["All","Food","Base",2020,"101-200 HP","Traditional","Non ASD Control","constant","Pumps",2016,1553076.0560826601,681529.22055878094,1553076.0560826601,1669401.45268325,732575.75917863299,1669401.45268325,401.18543004553999,176.050356560209,401.18543004553999,2.66568392056837,1.16976981103128,2.66568392056837,5.2322684177187604,0,5.2322684177187604,3.4765903107765797E-2,0,3.4765903107765797E-2,{"$f":"output[[#This Row],[ishp_Program]]-output[[#This Row],[ishp_Baseline]]","v":0},{"$f":"output[[#This Row],[ishp_Market]]-output[[#This Row],[ishp_Program]]","v":-225.13507348533099}]
["All","Food","Base",2020,"11-20 HP","Traditional","ASD Control","variable","Fans","2014 and before",5808205.6184665002,8563311.7678347696,6105017.0523027601,6243240.21928964,9204703.8192455899,6562282.8295202404,3553.92645179684,5239.7215604646999,3735.5395135921499,229.28557753528,338.04655228804501,241.00254926401001,1078.5592840449899,1171.56366023841,1078.5592840449899,69.584469938386803,75.584752273446,69.584469938386803,{"$f":"output[[#This Row],[ishp_Program]]-output[[#This Row],[ishp_Baseline]]","v":181.61306179530993},{"$f":"output[[#This Row],[ishp_Market]]-output[[#This Row],[ishp_Program]]","v":1504.18204687255}]
["All","Food","Base",2020,"11-20 HP","Traditional","ASD Control","variable","Pumps",2017,246331.927115848,353456.49901935097,249493.53822391099,264782.18845682498,379930.39079590002,268180.60423688201,141.132010200487,202.507351804086,142.943405647182,9.1052909806766404,13.0649904389733,9.2221552030440197,0.48832659862203398,2.14584387878502,0.48832659862203398,3.1504941846582799E-2,0.13844154056677499,3.1504941846582799E-2,{"$f":"output[[#This Row],[ishp_Program]]-output[[#This Row],[ishp_Baseline]]","v":1.811395446695002},{"$f":"output[[#This Row],[ishp_Market]]-output[[#This Row],[ishp_Program]]","v":59.563946156903995}]
["All","Food","Base",2020,"201-500 HP","Traditional","ASD Control","constant","Pumps",2018,8479146.5206885599,9362002.6006645802,8479146.5206885599,9114234.5950881392,10063216.5954543,9114234.5950881392,2602.69283370112,2873.68746587744,2602.69283370112,7.4256571574925196,8.1988230124891199,7.4256571574925196,187.15242712399399,218.510966962552,187.15242712399399,0.533958422607687,0.62342643926548502,0.533958422607687,{"$f":"output[[#This Row],[ishp_Program]]-output[[#This Row],[ishp_Baseline]]","v":0},{"$f":"output[[#This Row],[ishp_Market]]-output[[#This Row],[ishp_Program]]","v":270.99463217632001}]
["All","Food","Base",2020,"201-500 HP","Traditional","Non ASD Control","constant","Fans",2018,81961.218696277996,44273.353416812897,65958.134539418999,88100.113976629305,47589.427587732098,70898.398816421497,23.447433162299198,12.665703507391999,18.869277149891801,6.6897098893863596E-2,3.6136101304969998E-2,5.3835312838493098E-2,1.0009679471457601E-4,0,1.0009679471457601E-4,2.8558286651804902E-7,0,2.8558286651804902E-7,{"$f":"output[[#This Row],[ishp_Program]]-output[[#This Row],[ishp_Baseline]]","v":-4.5781560124073977},{"$f":"output[[#This Row],[ishp_Market]]-output[[#This Row],[ishp_Program]]","v":-6.2035736424998014}]
["All","Food","Base",2020,"201-500 HP","Traditional","Non ASD Control","variable","Pumps",2019,230572.16643850401,96219.095730126704,-573617.46490410704,247842.02170474801,103425.906000313,-616581.413025424,72.159203647976796,30.1124521266367,-179.51767598580099,0.20587504607126,8.5912844869149102E-2,-0.51217596572268498,0.167091318204308,0,0.167091318204308,4.76722733821137E-4,0,4.76722733821137E-4,{"$f":"output[[#This Row],[ishp_Program]]-output[[#This Row],[ishp_Baseline]]","v":-251.67687963377779},{"$f":"output[[#This Row],[ishp_Market]]-output[[#This Row],[ishp_Program]]","v":209.63012811243769}]
["All","Food","Base",2020,"21-50 HP","Traditional","Non ASD Control","constant","Pumps",2020,3410862.2642867598,1549256.8890253999,3410862.2642867598,3666335.8478818401,1665296.2300134101,3666335.8478818401,1099.02539676371,499.19127048248203,1099.02539676371,30.958461880668001,14.061725929084,30.958461880668001,0,0,0,0,0,0,{"$f":"output[[#This Row],[ishp_Program]]-output[[#This Row],[ishp_Baseline]]","v":0},{"$f":"output[[#This Row],[ishp_Market]]-output[[#This Row],[ishp_Program]]","v":-599.83412628122801}]
["All","Food","Base",2020,"501-1,000 HP","Traditional","ASD Control","constant","Fans",2020,0,0,0,0,0,0,0,0,0,0,0,0,0,0,0,0,0,0,{"$f":"output[[#This Row],[ishp_Program]]-output[[#This Row],[ishp_Baseline]]","v":0},{"$f":"output[[#This Row],[ishp_Market]]-output[[#This Row],[ishp_Program]]","v":0}]
["All","Food","Base",2020,"501-1,000 HP","Traditional","ASD Control","variable","Pumps",2015,0,0,0,0,0,0,0,0,0,0,0,0,0,0,0,0,0,0,{"$f":"output[[#This Row],[ishp_Program]]-output[[#This Row],[ishp_Baseline]]","v":0},{"$f":"output[[#This Row],[ishp_Market]]-output[[#This Row],[ishp_Program]]","v":0}]
["All","Food","Base",2020,"51-100 HP","Traditional","ASD Control","constant","Fans","2014 and before",596383.92847176001,1626337.54609308,850345.28000771697,641053.08471429499,1748150.2282954501,914036.14148029499,176.188938169251,480.46681285526,251.216414140658,2.3336283201225299,6.3637988457650403,3.3273697237173199,93.222436851608293,107.428887469713,93.222436851608293,1.23473426293521,1.42289917178428,1.23473426293521,{"$f":"output[[#This Row],[ishp_Program]]-output[[#This Row],[ishp_Baseline]]","v":75.027475971407},{"$f":"output[[#This Row],[ishp_Market]]-output[[#This Row],[ishp_Program]]","v":229.250398714602}]
["All","Food","Base",2020,"51-100 HP","Traditional","Non ASD Control","constant","Pumps",2015,1277156.0339694,672370.57043307298,1277156.0339694,1372815.0209137099,722731.12615850999,1372815.0209137099,334.84255622500501,176.280951227662,334.84255622500501,4.4350007447020499,2.3348470361279698,4.4350007447020499,9.6554899509694394,4.8696970070598198,9.6554899509694394,0.12788728411879999,6.4499298106752603E-2,0.12788728411879999,{"$f":"output[[#This Row],[ishp_Program]]-output[[#This Row],[ishp_Baseline]]","v":0},{"$f":"output[[#This Row],[ishp_Market]]-output[[#This Row],[ishp_Program]]","v":-158.56160499734301}]
["All","Food","Base",2020,"51-100 HP","Traditional","Non ASD Control","variable","Pumps",2017,504468.06664762599,268379.22578573,427291.01834612299,542252.72483953298,288480.82979708101,459295.11562024697,162.52230867093701,86.462581593856896,137.658510750641,2.1526133598799602,1.14519975621002,1.8232915331210799,0.79069528306808101,0,0.79069528306808101,1.04727852061997E-2,0,1.04727852061997E-2,{"$f":"output[[#This Row],[ishp_Program]]-output[[#This Row],[ishp_Baseline]]","v":-24.863797920296008},{"$f":"output[[#This Row],[ishp_Market]]-output[[#This Row],[ishp_Program]]","v":-51.195929156784103}]
["All","Food","Base",2020,"6-10 HP","Traditional","Non ASD Control","constant","Pumps",2019,1111147.2305422099,728025.24942921405,1111147.2305422099,1194372.15810982,782554.34061146202,1194372.15810982,426.796815172788,279.637881714505,426.796815172788,53.3496018965985,34.954735214313096,53.3496018965985,0,0,0,0,0,0,{"$f":"output[[#This Row],[ishp_Program]]-output[[#This Row],[ishp_Baseline]]","v":0},{"$f":"output[[#This Row],[ishp_Market]]-output[[#This Row],[ishp_Program]]","v":-147.158933458283}]
["All","Food","Base",2021,"1,001+ HP","Traditional","ASD Control","constant","Pumps",2016,0,0,0,0,0,0,0,0,0,0,0,0,0,0,0,0,0,0,{"$f":"output[[#This Row],[ishp_Program]]-output[[#This Row],[ishp_Baseline]]","v":0},{"$f":"output[[#This Row],[ishp_Market]]-output[[#This Row],[ishp_Program]]","v":0}]
["All","Food","Base",2021,"1,001+ HP","Traditional","ASD Control","variable","Pumps",2016,0,0,0,0,0,0,0,0,0,0,0,0,0,0,0,0,0,0,{"$f":"output[[#This Row],[ishp_Program]]-output[[#This Row],[ishp_Baseline]]","v":0},{"$f":"output[[#This Row],[ishp_Market]]-output[[#This Row],[ishp_Program]]","v":0}]
["All","Food","Base",2021,"1,001+ HP","Traditional","Non ASD Control","constant","Pumps",2021,0,0,0,0,0,0,0,0,0,0,0,0,0,0,0,0,0,0,{"$f":"output[[#This Row],[ishp_Program]]-output[[#This Row],[ishp_Baseline]]","v":0},{"$f":"output[[#This Row],[ishp_Market]]-output[[#This Row],[ishp_Program]]","v":0}]
["All","Food","Base",2021,"1-5 HP","Traditional","ASD Control","constant","Pumps",2019,5022.1244954118802,34497.083502313799,5022.1244954118802,5398.2816201182304,37080.915056637197,5398.2816201182304,2.2246792760801801,15.281370826811999,2.2246792760801801,0.74155975869339397,5.0937902756040101,0.74155975869339397,1.9431019971143201E-2,1.8304006570565301,1.9431019971143201E-2,6.4770066570477604E-3,0.61013355235217803,6.4770066570477604E-3,{"$f":"output[[#This Row],[ishp_Program]]-output[[#This Row],[ishp_Baseline]]","v":0},{"$f":"output[[#This Row],[ishp_Market]]-output[[#This Row],[ishp_Program]]","v":13.05669155073182}]
["All","Food","Base",2021,"1-5 HP","Traditional","Non ASD Control","constant","Pumps","2014 and before",3350382.4441703702,3145889.38812178,3350382.4441703702,3601326.0892387298,3381516.5032921,3601326.0892387298,1254.6016048403901,1178.0260733682501,1254.6016048403901,418.200534946799,392.67535778941902,418.200534946799,1534.6677305271601,1535.329091869,1534.6677305271601,511.55591017571999,511.77636395633402,511.55591017571999,{"$f":"output[[#This Row],[ishp_Program]]-output[[#This Row],[ishp_Baseline]]","v":0},{"$f":"output[[#This Row],[ishp_Market]]-output[[#This Row],[ishp_Program]]","v":-76.575531472140028}]
["All","Food","Base",2021,"101-200 HP","Traditional","ASD Control","constant","Fans",2019,0,0,5178.7498942304201,0,0,5566.6382613082797,0,0,1.55162635735577,0,0,1.0309809683427E-2,0,0,0,0,0,0,{"$f":"output[[#This Row],[ishp_Program]]-output[[#This Row],[ishp_Baseline]]","v":1.55162635735577},{"$f":"output[[#This Row],[ishp_Market]]-output[[#This Row],[ishp_Program]]","v":-1.55162635735577}]
["All","Food","Base",2021,"101-200 HP","Traditional","ASD Control","variable","Fans",2019,0,0,77281.540899980493,0,0,83069.928313388999,0,0,49.999821756861003,0,0,0.33222472928146901,0,0,0,0,0,0,{"$f":"output[[#This Row],[ishp_Program]]-output[[#This Row],[ishp_Baseline]]","v":49.999821756861003},{"$f":"output[[#This Row],[ishp_Market]]-output[[#This Row],[ishp_Program]]","v":-49.999821756861003}]
["All","Food","Base",2021,"11-20 HP","Traditional","ASD Control","constant","Fans",2016,16154.602412587999,98194.560476664497,17607.197273685499,17364.582133290802,105549.333056366,18925.976349484499,4.6696638665835604,28.3842077472382,5.0895522403368103,0.301268636553778,1.83123920949924,0.32835820905398799,0.17860199370087801,1.91685578010711,0.17860199370087801,1.15227092710244E-2,0.12366811484562,1.15227092710244E-2,{"$f":"output[[#This Row],[ishp_Program]]-output[[#This Row],[ishp_Baseline]]","v":0.41988837375324994},{"$f":"output[[#This Row],[ishp_Market]]-output[[#This Row],[ishp_Program]]","v":23.294655506901389}]
["All","Food","Base",2021,"11-20 HP","Traditional","ASD Control","variable","Fans",2020,352016.14133977599,580482.23531578598,372232.08041933802,378382.15032612497,623960.35474093899,400112.263242746,217.72436019180901,359.03218189318898,230.228055008252,14.0467329156006,23.1633665737541,14.853422903758201,8.3463355871713798,17.9147977141001,8.3463355871713798,0.53847326368847603,1.15579340090968,0.53847326368847603,{"$f":"output[[#This Row],[ishp_Program]]-output[[#This Row],[ishp_Baseline]]","v":12.503694816442987},{"$f":"output[[#This Row],[ishp_Market]]-output[[#This Row],[ishp_Program]]","v":128.80412688493698}]
["All","Food","Base",2021,"11-20 HP","Traditional","Non ASD Control","constant","Pumps",2017,959680.12770293804,592349.90081934095,959680.12770293804,1031560.16926788,636716.90839071001,1031560.16926788,308.70695296549098,190.54529492972199,308.70695296549098,19.9165776106768,12.293244834175599,19.9165776106768,8.3657549281250194,2.6110092112042498,8.3657549281250194,0.53972612439516299,0.16845220717446699,0.53972612439516299,{"$f":"output[[#This Row],[ishp_Program]]-output[[#This Row],[ishp_Baseline]]","v":0},{"$f":"output[[#This Row],[ishp_Market]]-output[[#This Row],[ishp_Program]]","v":-118.16165803576899}]
["All","Food","Base",2021,"201-500 HP","Traditional","ASD Control","variable","Pumps",2017,6006122.1914805397,6061909.6311414801,6480057.33421434,6455980.7436224399,6515946.6625139704,6965413.6285469998,2761.0333876616,2786.67905030471,2978.90287332247,7.8774133742128596,7.95058216920033,8.4990096243151907,149.66585756396,144.50089206925099,149.66585756396,0.42700672628804698,0.412270733435808,0.42700672628804698,{"$f":"output[[#This Row],[ishp_Program]]-output[[#This Row],[ishp_Baseline]]","v":217.86948566086994},{"$f":"output[[#This Row],[ishp_Market]]-output[[#This Row],[ishp_Program]]","v":-192.22382301775997}]
["All","Food","Base",2021,"201-500 HP","Traditional","ASD Control","variable","Pumps",2021,7649927.9911526302,7755898.6432866501,8268326.5036899801,8222907.5976899602,8336815.4516688203,8887624.1588163693,3516.6961182940699,3565.41116259825,3800.9758724452299,10.033369809683499,10.1723570972846,10.844439008402899,0,0,0,0,0,0,{"$f":"output[[#This Row],[ishp_Program]]-output[[#This Row],[ishp_Baseline]]","v":284.27975415115998},{"$f":"output[[#This Row],[ishp_Market]]-output[[#This Row],[ishp_Program]]","v":-235.56470984697989}]
["All","Food","Base",2021,"21-50 HP","Traditional","ASD Control","constant","Fans",2015,87921.891332450803,323320.93372327602,112001.148595233,94507.240993251398,347537.671659149,120390.03462501599,25.555748758197499,93.977829926961803,32.5547275058778,0.71988024670979001,2.6472628148439901,0.917034577630361,2.0541342895061701,7.5984427392987204,2.0541342895061701,5.7862937732568398E-2,0.21404064054362601,5.7862937732568398E-2,{"$f":"output[[#This Row],[ishp_Program]]-output[[#This Row],[ishp_Baseline]]","v":6.9989787476803009},{"$f":"output[[#This Row],[ishp_Market]]-output[[#This Row],[ishp_Program]]","v":61.423102421084003}]
["All","Food","Base",2021,"21-50 HP","Traditional","ASD Control","variable","Fans",2020,1818738.51587095,2235993.0939386599,2211650.1503468901,1954962.0307096799,2403468.9766746699,2377302.7466078699,1138.18213390558,1399.30362108075,1384.0695985750101,32.061468560720698,39.417003410725499,38.987876016197703,54.195596682183897,69.821711190579293,54.195596682183897,1.5266365262587001,1.9668087659318101,1.5266365262587001,{"$f":"output[[#This Row],[ishp_Program]]-output[[#This Row],[ishp_Baseline]]","v":245.88746466943007},{"$f":"output[[#This Row],[ishp_Market]]-output[[#This Row],[ishp_Program]]","v":15.234022505739858}]
["All","Food","Base",2021,"501-1,000 HP","Traditional","ASD Control","constant","Fans",2015,0,0,0,0,0,0,0,0,0,0,0,0,0,0,0,0,0,0,{"$f":"output[[#This Row],[ishp_Program]]-output[[#This Row],[ishp_Baseline]]","v":0},{"$f":"output[[#This Row],[ishp_Market]]-output[[#This Row],[ishp_Program]]","v":0}]
["All","Food","Base",2021,"501-1,000 HP","Traditional","ASD Control","variable","Fans",2018,0,0,0,0,0,0,0,0,0,0,0,0,0,0,0,0,0,0,{"$f":"output[[#This Row],[ishp_Program]]-output[[#This Row],[ishp_Baseline]]","v":0},{"$f":"output[[#This Row],[ishp_Market]]-output[[#This Row],[ishp_Program]]","v":0}]
["All","Food","Base",2021,"501-1,000 HP","Traditional","Non ASD Control","constant","Fans",2021,0,0,0,0,0,0,0,0,0,0,0,0,0,0,0,0,0,0,{"$f":"output[[#This Row],[ishp_Program]]-output[[#This Row],[ishp_Baseline]]","v":0},{"$f":"output[[#This Row],[ishp_Market]]-output[[#This Row],[ishp_Program]]","v":0}]
["All","Food","Base",2021,"51-100 HP","Traditional","ASD Control","variable","Fans",2021,639157.56086743204,751621.38921900105,913653.52337140602,687030.46217640198,807917.83127150498,982086.17227192502,407.58212851190098,479.29879017185402,582.62448976231997,5.3984387882371099,6.3483283466470697,7.7168806591035697,4.97463491364653,5.7014575680086299,4.97463491364653,6.5889204154258696E-2,7.5515994278260001E-2,6.5889204154258696E-2,{"$f":"output[[#This Row],[ishp_Program]]-output[[#This Row],[ishp_Baseline]]","v":175.04236125041899},{"$f":"output[[#This Row],[ishp_Market]]-output[[#This Row],[ishp_Program]]","v":-103.32569959046594}]
["All","Food","Base",2021,"51-100 HP","Traditional","Non ASD Control","constant","Pumps",2019,1730616.6800075399,631307.39579781203,1730616.6800075399,1860239.8693401001,678592.31974306796,1860239.8693401001,456.51331677437298,166.53036833008801,456.51331677437298,6.0465339970115597,2.2057002427826302,6.0465339970115597,18.172875809859001,0,18.172875809859001,0.24070034185243699,0,0.24070034185243699,{"$f":"output[[#This Row],[ishp_Program]]-output[[#This Row],[ishp_Baseline]]","v":0},{"$f":"output[[#This Row],[ishp_Market]]-output[[#This Row],[ishp_Program]]","v":-289.98294844428494}]
["All","Food","Base",2021,"51-100 HP","Traditional","Non ASD Control","variable","Pumps",2019,502387.13682767202,214287.78527848399,411517.60025084001,540015.93337606499,230337.94039584199,442340.26850962802,161.851904455327,69.036174707502198,132.57685644195001,2.1437338338453999,0.91438641996691705,1.7559848535357601,5.0953326918272097,0,5.0953326918272097,6.7487850222876997E-2,0,6.7487850222876997E-2,{"$f":"output[[#This Row],[ishp_Program]]-output[[#This Row],[ishp_Baseline]]","v":-29.275048013376988},{"$f":"output[[#This Row],[ishp_Market]]-output[[#This Row],[ishp_Program]]","v":-63.540681734447816}]
["All","Food","Base",2021,"6-10 HP","Traditional","Non ASD Control","constant","Pumps",2019,916846.94205955195,539340.93399398599,916846.94205955195,985518.77801981196,579737.56995013496,985518.77801981196,352.165171379654,207.16335926844101,352.165171379654,44.0206464224567,25.895419908555098,44.0206464224567,5.6022807295584203,0,5.6022807295584203,0.70028509119480298,0,0.70028509119480298,{"$f":"output[[#This Row],[ishp_Program]]-output[[#This Row],[ishp_Baseline]]","v":0},{"$f":"output[[#This Row],[ishp_Market]]-output[[#This Row],[ishp_Program]]","v":-145.00181211121298}]
["All","Food","Base",2021,"6-10 HP","Traditional","Non ASD Control","variable","Pumps",2019,339038.02780033299,183071.15523261699,332556.76312513801,364431.97608257801,196783.18475953999,357465.26468321099,159.04671820205201,85.880827664422597,156.006280870946,19.880839775256501,10.7351034580528,19.5007851088682,3.1568269614782398,0,3.1568269614782398,0.39460337018477998,0,0.39460337018477998,{"$f":"output[[#This Row],[ishp_Program]]-output[[#This Row],[ishp_Baseline]]","v":-3.0404373311060056},{"$f":"output[[#This Row],[ishp_Market]]-output[[#This Row],[ishp_Program]]","v":-70.125453206523403}]
["All","Misc Manf","Base",2014,"1-5 HP","Traditional","ASD Control","constant","Pumps","2014 and before",131990.68361372201,131990.68361372201,131990.68361372201,141876.78581639001,141876.78581639001,141876.78581639001,57.4310160628795,57.4310160628795,57.4310160628795,19.143672020959801,19.143672020959801,19.143672020959801,18.0476050314814,18.0476050314814,18.0476050314814,6.0158683438271403,6.0158683438271403,6.0158683438271403,{"$f":"output[[#This Row],[ishp_Program]]-output[[#This Row],[ishp_Baseline]]","v":0},{"$f":"output[[#This Row],[ishp_Market]]-output[[#This Row],[ishp_Program]]","v":0}]
["All","Misc Manf","Base",2014,"201-500 HP","Traditional","Non ASD Control","variable","Pumps","2014 and before",0,0,0,0,0,0,0,0,0,0,0,0,0,0,0,0,0,0,{"$f":"output[[#This Row],[ishp_Program]]-output[[#This Row],[ishp_Baseline]]","v":0},{"$f":"output[[#This Row],[ishp_Market]]-output[[#This Row],[ishp_Program]]","v":0}]
["All","Misc Manf","Base",2015,"1,001+ HP","Traditional","Non ASD Control","constant","Pumps",2015,0,0,0,0,0,0,0,0,0,0,0,0,0,0,0,0,0,0,{"$f":"output[[#This Row],[ishp_Program]]-output[[#This Row],[ishp_Baseline]]","v":0},{"$f":"output[[#This Row],[ishp_Market]]-output[[#This Row],[ishp_Program]]","v":0}]
["All","Misc Manf","Base",2015,"1-5 HP","Traditional","Non ASD Control","variable","Pumps","2014 and before",2068779.6316787,2068779.6316787,2068779.6316787,2223731.2260914301,2223731.2260914301,2223731.2260914301,946.13350759042498,946.13350759042498,946.13350759042498,315.37783586347501,315.37783586347501,315.37783586347501,325.37352081196298,325.37352081196298,325.37352081196298,108.457840270654,108.457840270654,108.457840270654,{"$f":"output[[#This Row],[ishp_Program]]-output[[#This Row],[ishp_Baseline]]","v":0},{"$f":"output[[#This Row],[ishp_Market]]-output[[#This Row],[ishp_Program]]","v":0}]
["All","Misc Manf","Base",2015,"11-20 HP","Traditional","ASD Control","variable","Pumps",2015,1486544.40933996,1486544.40933996,1486544.40933996,1597886.58559952,1597886.58559952,1597886.58559952,842.56753101854395,842.56753101854395,842.56753101854395,54.359195549583497,54.359195549583497,54.359195549583497,7.15463089057695,7.15463089057695,7.15463089057695,0.46158908971464202,0.46158908971464202,0.46158908971464202,{"$f":"output[[#This Row],[ishp_Program]]-output[[#This Row],[ishp_Baseline]]","v":0},{"$f":"output[[#This Row],[ishp_Market]]-output[[#This Row],[ishp_Program]]","v":0}]
["All","Misc Manf","Base",2015,"501-1,000 HP","Traditional","ASD Control","constant","Fans",2015,0,0,0,0,0,0,0,0,0,0,0,0,0,0,0,0,0,0,{"$f":"output[[#This Row],[ishp_Program]]-output[[#This Row],[ishp_Baseline]]","v":0},{"$f":"output[[#This Row],[ishp_Market]]-output[[#This Row],[ishp_Program]]","v":0}]
["All","Misc Manf","Base",2015,"51-100 HP","Traditional","ASD Control","variable","Fans","2014 and before",40934839.482359901,40934839.482359901,40934839.482359901,44000858.959588602,44000858.959588602,44000858.959588602,29006.835250959299,29006.835250959299,29006.835250959299,384.196493390189,384.196493390189,384.196493390189,8380.2388015831202,8380.2388015831202,8380.2388015831202,110.996540418319,110.996540418319,110.996540418319,{"$f":"output[[#This Row],[ishp_Program]]-output[[#This Row],[ishp_Baseline]]","v":0},{"$f":"output[[#This Row],[ishp_Market]]-output[[#This Row],[ishp_Program]]","v":0}]
["All","Misc Manf","Base",2015,"6-10 HP","Traditional","ASD Control","variable","Fans","2014 and before",3133676.83745657,3133676.83745657,3133676.83745657,3368389.2325820602,3368389.2325820602,3368389.2325820602,2078.3296380187799,2078.3296380187799,2078.3296380187799,259.79120475234799,259.79120475234799,259.79120475234799,600.44118995812198,600.44118995812198,600.44118995812198,75.055148744765305,75.055148744765305,75.055148744765305,{"$f":"output[[#This Row],[ishp_Program]]-output[[#This Row],[ishp_Baseline]]","v":0},{"$f":"output[[#This Row],[ishp_Market]]-output[[#This Row],[ishp_Program]]","v":0}]
["All","Misc Manf","Base",2016,"1-5 HP","Traditional","ASD Control","variable","Fans",2016,141650.634761558,169099.912579392,141650.634761558,152260.267305199,181765.49603158899,152260.267305199,89.366506252099995,106.684085250968,89.366506252099995,29.788835417366599,35.561361750322703,29.788835417366599,0.14140035010635901,0.63650542241381602,0.14140035010635901,4.7133450035453099E-2,0.21216847413793899,4.7133450035453099E-2,{"$f":"output[[#This Row],[ishp_Program]]-output[[#This Row],[ishp_Baseline]]","v":0},{"$f":"output[[#This Row],[ishp_Market]]-output[[#This Row],[ishp_Program]]","v":17.317578998868001}]
["All","Misc Manf","Base",2016,"101-200 HP","Traditional","ASD Control","variable","Pumps","2014 and before",4326759.9382703099,4326759.9382703099,4326759.9382703099,4650834.25764676,4650834.25764676,4650834.25764676,1647.97782922642,1647.97782922642,1647.97782922642,10.9500187988466,10.9500187988466,10.9500187988466,506.63401618912098,506.63401618912098,506.63401618912098,3.3663389780008002,3.3663389780008002,3.3663389780008002,{"$f":"output[[#This Row],[ishp_Program]]-output[[#This Row],[ishp_Baseline]]","v":0},{"$f":"output[[#This Row],[ishp_Market]]-output[[#This Row],[ishp_Program]]","v":0}]
["All","Misc Manf","Base",2016,"11-20 HP","Traditional","ASD Control","constant","Pumps",2015,558399.86328995705,652002.63850597595,558399.86328995705,600224.01305037504,700837.63613007299,600224.01305037504,211.75772760100099,247.25399520413001,211.75772760100099,13.6617888774839,15.951870658331,13.6617888774839,1.36830343629016,4.9306127732198304,1.36830343629016,8.8277641050978295E-2,0.31810404988515001,8.8277641050978295E-2,{"$f":"output[[#This Row],[ishp_Program]]-output[[#This Row],[ishp_Baseline]]","v":0},{"$f":"output[[#This Row],[ishp_Market]]-output[[#This Row],[ishp_Program]]","v":35.496267603129013}]
["All","Misc Manf","Base",2016,"201-500 HP","Traditional","ASD Control","constant","Fans",2015,0,0,0,0,0,0,0,0,0,0,0,0,0,0,0,0,0,0,{"$f":"output[[#This Row],[ishp_Program]]-output[[#This Row],[ishp_Baseline]]","v":0},{"$f":"output[[#This Row],[ishp_Market]]-output[[#This Row],[ishp_Program]]","v":0}]
["All","Misc Manf","Base",2016,"21-50 HP","Traditional","ASD Control","constant","Fans",2015,255577.68373743599,286136.03875185299,256946.55659695301,274720.45224936999,307567.62805436598,276191.85368606501,83.055892334160106,92.986538104445202,83.500739298795807,2.3396026009622499,2.6193391015336598,2.3521335013745301,0.470560539195301,0.97967617019857001,0.470560539195301,1.32552264562056E-2,2.75965118365794E-2,1.32552264562056E-2,{"$f":"output[[#This Row],[ishp_Program]]-output[[#This Row],[ishp_Baseline]]","v":0.44484696463570117},{"$f":"output[[#This Row],[ishp_Market]]-output[[#This Row],[ishp_Program]]","v":9.4857988056493951}]
["All","Misc Manf","Base",2016,"501-1,000 HP","Traditional","Non ASD Control","constant","Pumps","2014 and before",0,0,0,0,0,0,0,0,0,0,0,0,0,0,0,0,0,0,{"$f":"output[[#This Row],[ishp_Program]]-output[[#This Row],[ishp_Baseline]]","v":0},{"$f":"output[[#This Row],[ishp_Market]]-output[[#This Row],[ishp_Program]]","v":0}]
["All","Misc Manf","Base",2016,"51-100 HP","Traditional","Non ASD Control","constant","Fans","2014 and before",6310955.45770487,5917861.7549045701,6300822.7918873401,6783646.0214869697,6361109.6003469201,6772754.4189996999,1983.2224775643299,1859.69248715206,1980.0382797448899,26.267847384957999,24.631688571550399,26.225672579402602,671.45637499173097,666.29567816953397,671.45637499173097,8.8934619204202807,8.8251083201262794,8.8934619204202807,{"$f":"output[[#This Row],[ishp_Program]]-output[[#This Row],[ishp_Baseline]]","v":-3.1841978194399871},{"$f":"output[[#This Row],[ishp_Market]]-output[[#This Row],[ishp_Program]]","v":-120.34579259282987}]
["All","Misc Manf","Base",2016,"6-10 HP","Traditional","Non ASD Control","variable","Pumps",2015,1038789.64662737,920141.06549662596,1038730.06570748,1116594.9911597599,989059.63130232296,1116530.94762897,480.74580421450401,425.83593122934201,480.718230511456,60.093225526813001,53.229491403667801,60.089778813932,1.1557441169643801,0,1.1557441169643801,0.14446801462054801,0,0.14446801462054801,{"$f":"output[[#This Row],[ishp_Program]]-output[[#This Row],[ishp_Baseline]]","v":-2.7573703048005882E-2},{"$f":"output[[#This Row],[ishp_Market]]-output[[#This Row],[ishp_Program]]","v":-54.882299282113991}]
["All","Misc Manf","Base",2017,"1,001+ HP","Traditional","Non ASD Control","variable","Pumps","2014 and before",0,0,0,0,0,0,0,0,0,0,0,0,0,0,0,0,0,0,{"$f":"output[[#This Row],[ishp_Program]]-output[[#This Row],[ishp_Baseline]]","v":0},{"$f":"output[[#This Row],[ishp_Market]]-output[[#This Row],[ishp_Program]]","v":0}]
["All","Misc Manf","Base",2017,"1-5 HP","Traditional","Non ASD Control","constant","Pumps",2015,549957.32810421102,539904.17727108102,549957.32810421102,591149.13197921601,580343.00014868495,591149.13197921601,205.93987639644899,202.17532134068401,205.93987639644899,68.646625465483098,67.391773780228206,68.646625465483098,1.9525718375249701,1.77811780884335,1.9525718375249701,0.65085727917499003,0.59270593628111901,0.65085727917499003,{"$f":"output[[#This Row],[ishp_Program]]-output[[#This Row],[ishp_Baseline]]","v":0},{"$f":"output[[#This Row],[ishp_Market]]-output[[#This Row],[ishp_Program]]","v":-3.7645550557649869}]
["All","Misc Manf","Base",2017,"101-200 HP","Traditional","ASD Control","constant","Pumps",2015,328509.86779883801,328535.29183176998,328509.86779883801,353115.25689697103,353142.58518996998,353115.25689697103,83.546885682400301,83.553351542276104,83.546885682400301,0.55512880852093205,0.55517177104502402,0.55512880852093205,5.1830241775830501,5.1589680854783699,5.1830241775830501,3.4438698854372403E-2,3.4278857710819698E-2,3.4438698854372403E-2,{"$f":"output[[#This Row],[ishp_Program]]-output[[#This Row],[ishp_Baseline]]","v":0},{"$f":"output[[#This Row],[ishp_Market]]-output[[#This Row],[ishp_Program]]","v":6.4658598758029484E-3}]
["All","Misc Manf","Base",2017,"11-20 HP","Traditional","Non ASD Control","constant","Fans",2017,938220.31399180496,930026.87205133599,938136.735121481,1008493.01550979,999685.88476798101,1008403.17658208,288.72969990171998,286.20823453014998,288.703979181558,18.627722574304499,18.465047389041899,18.626063173003701,0,0,0,0,0,0,{"$f":"output[[#This Row],[ishp_Program]]-output[[#This Row],[ishp_Baseline]]","v":-2.57207201619849E-2},{"$f":"output[[#This Row],[ishp_Market]]-output[[#This Row],[ishp_Program]]","v":-2.4957446514080175}]
["All","Misc Manf","Base",2017,"201-500 HP","Traditional","ASD Control","constant","Pumps",2016,0,0,0,0,0,0,0,0,0,0,0,0,0,0,0,0,0,0,{"$f":"output[[#This Row],[ishp_Program]]-output[[#This Row],[ishp_Baseline]]","v":0},{"$f":"output[[#This Row],[ishp_Market]]-output[[#This Row],[ishp_Program]]","v":0}]
["All","Misc Manf","Base",2017,"201-500 HP","Traditional","Non ASD Control","variable","Fans",2017,0,0,0,0,0,0,0,0,0,0,0,0,0,0,0,0,0,0,{"$f":"output[[#This Row],[ishp_Program]]-output[[#This Row],[ishp_Baseline]]","v":0},{"$f":"output[[#This Row],[ishp_Market]]-output[[#This Row],[ishp_Program]]","v":0}]
["All","Misc Manf","Base",2017,"501-1,000 HP","Traditional","ASD Control","variable","Fans",2017,0,0,0,0,0,0,0,0,0,0,0,0,0,0,0,0,0,0,{"$f":"output[[#This Row],[ishp_Program]]-output[[#This Row],[ishp_Baseline]]","v":0},{"$f":"output[[#This Row],[ishp_Market]]-output[[#This Row],[ishp_Program]]","v":0}]
["All","Misc Manf","Base",2017,"501-1,000 HP","Traditional","ASD Control","variable","Pumps","2014 and before",0,0,0,0,0,0,0,0,0,0,0,0,0,0,0,0,0,0,{"$f":"output[[#This Row],[ishp_Program]]-output[[#This Row],[ishp_Baseline]]","v":0},{"$f":"output[[#This Row],[ishp_Market]]-output[[#This Row],[ishp_Program]]","v":0}]
["All","Misc Manf","Base",2017,"51-100 HP","Traditional","Non ASD Control","constant","Fans",2015,555929.94927785499,488528.26100682199,554001.734233108,597569.102478766,525119.027756233,595496.46412716794,174.70140278251901,153.52037178004301,174.09545976106301,2.3139258646691299,2.0333824076826899,2.3059001292855998,4.2843535432157802,3.2627109298308601,4.2843535432157802,5.6746404545904398E-2,4.3214714302395499E-2,5.6746404545904398E-2,{"$f":"output[[#This Row],[ishp_Program]]-output[[#This Row],[ishp_Baseline]]","v":-0.60594302145599954},{"$f":"output[[#This Row],[ishp_Market]]-output[[#This Row],[ishp_Program]]","v":-20.575087981020005}]
["All","Misc Manf","Base",2017,"6-10 HP","Traditional","ASD Control","constant","Pumps",2016,272359.95049749402,490278.37689378997,272359.95049749402,292759.71078975598,527000.22732313501,292759.71078975598,123.02669084490201,221.46180520255299,123.02669084490201,15.378336355612801,27.682725650319099,15.378336355612801,2.5451106978497502,12.568410346239199,2.5451106978497502,0.318138837231219,1.5710512932798999,0.318138837231219,{"$f":"output[[#This Row],[ishp_Program]]-output[[#This Row],[ishp_Baseline]]","v":0},{"$f":"output[[#This Row],[ishp_Market]]-output[[#This Row],[ishp_Program]]","v":98.435114357650988}]
["All","Misc Manf","Base",2018,"1,001+ HP","Traditional","ASD Control","variable","Pumps",2016,0,0,0,0,0,0,0,0,0,0,0,0,0,0,0,0,0,0,{"$f":"output[[#This Row],[ishp_Program]]-output[[#This Row],[ishp_Baseline]]","v":0},{"$f":"output[[#This Row],[ishp_Market]]-output[[#This Row],[ishp_Program]]","v":0}]
["All","Misc Manf","Base",2018,"1,001+ HP","Traditional","Non ASD Control","variable","Pumps",2016,0,0,0,0,0,0,0,0,0,0,0,0,0,0,0,0,0,0,{"$f":"output[[#This Row],[ishp_Program]]-output[[#This Row],[ishp_Baseline]]","v":0},{"$f":"output[[#This Row],[ishp_Market]]-output[[#This Row],[ishp_Program]]","v":0}]
["All","Misc Manf","Base",2018,"1-5 HP","Traditional","ASD Control","variable","Fans","2014 and before",2216172.1210259199,2827983.41355123,2216172.1210259199,2382163.4128907602,3039799.3712262199,2382163.4128907602,1373.3556824618399,1752.4934340887401,1373.3556824618399,457.78522748728199,584.16447802958101,457.78522748728199,491.20436736339798,509.17780089591201,491.20436736339798,163.734789121132,169.72593363197001,163.734789121132,{"$f":"output[[#This Row],[ishp_Program]]-output[[#This Row],[ishp_Baseline]]","v":0},{"$f":"output[[#This Row],[ishp_Market]]-output[[#This Row],[ishp_Program]]","v":379.13775162690013}]
["All","Misc Manf","Base",2018,"101-200 HP","Traditional","Non ASD Control","constant","Fans",2017,0,0,0,0,0,0,0,0,0,0,0,0,0,0,0,0,0,0,{"$f":"output[[#This Row],[ishp_Program]]-output[[#This Row],[ishp_Baseline]]","v":0},{"$f":"output[[#This Row],[ishp_Market]]-output[[#This Row],[ishp_Program]]","v":0}]
["All","Misc Manf","Base",2018,"11-20 HP","Traditional","ASD Control","constant","Pumps",2015,429418.13364714698,865384.298371766,429418.13364714698,461581.55185731797,930201.58231981203,461581.55185731797,162.844968542846,328.17309704396502,162.844968542846,10.506127002764201,21.172457873804198,10.506127002764201,4.5568654474692698,23.834177311273699,4.5568654474692698,0.29399131919156601,1.53768885879185,0.29399131919156601,{"$f":"output[[#This Row],[ishp_Program]]-output[[#This Row],[ishp_Baseline]]","v":0},{"$f":"output[[#This Row],[ishp_Market]]-output[[#This Row],[ishp_Program]]","v":165.32812850111901}]
["All","Misc Manf","Base",2018,"11-20 HP","Traditional","Non ASD Control","constant","Fans",2015,1559378.60124378,1546119.8907270001,1559154.68257901,1676176.05847694,1661924.27054245,1675935.36830418,474.74478873046201,470.708242558731,474.67661784552399,30.628696047126599,30.3682737134665,30.624297925517698,11.100805534608,10.8959020057833,11.100805534608,0.71618100223277603,0.70296141972796,0.71618100223277603,{"$f":"output[[#This Row],[ishp_Program]]-output[[#This Row],[ishp_Baseline]]","v":-6.8170884938012932E-2},{"$f":"output[[#This Row],[ishp_Market]]-output[[#This Row],[ishp_Program]]","v":-3.9683752867929911}]
["All","Misc Manf","Base",2018,"201-500 HP","Traditional","ASD Control","constant","Fans",2016,0,0,0,0,0,0,0,0,0,0,0,0,0,0,0,0,0,0,{"$f":"output[[#This Row],[ishp_Program]]-output[[#This Row],[ishp_Baseline]]","v":0},{"$f":"output[[#This Row],[ishp_Market]]-output[[#This Row],[ishp_Program]]","v":0}]
["All","Misc Manf","Base",2018,"21-50 HP","Traditional","ASD Control","constant","Fans","2014 and before",2086478.2723608499,2845947.6503518899,2129722.6544352402,2242755.4949606801,3059109.12936325,2289238.8812524402,678.04947682677505,924.856654852215,692.10274113805701,19.099985262726001,26.052300136682099,19.4958518630438,257.38985320910098,268.712263624809,257.38985320910098,7.2504184002563896,7.5693595387270198,7.2504184002563896,{"$f":"output[[#This Row],[ishp_Program]]-output[[#This Row],[ishp_Baseline]]","v":14.053264311281964},{"$f":"output[[#This Row],[ishp_Market]]-output[[#This Row],[ishp_Program]]","v":232.75391371415799}]
["All","Misc Manf","Base",2018,"21-50 HP","Traditional","ASD Control","variable","Pumps",2018,6049341.5579997096,6432744.9741734499,6050231.0401410302,6502437.2406938896,6914557.5727390498,6503393.3450475996,3395.4772526100101,3610.6804388922201,3395.9765162651602,95.647246552394805,101.709308137809,95.6613103173285,26.496569681024202,34.265918586669699,26.496569681024202,0.74638224453589497,0.96523714328647003,0.74638224453589497,{"$f":"output[[#This Row],[ishp_Program]]-output[[#This Row],[ishp_Baseline]]","v":0.49926365515011639},{"$f":"output[[#This Row],[ishp_Market]]-output[[#This Row],[ishp_Program]]","v":214.70392262705991}]
["All","Misc Manf","Base",2018,"501-1,000 HP","Traditional","ASD Control","constant","Pumps",2017,0,0,0,0,0,0,0,0,0,0,0,0,0,0,0,0,0,0,{"$f":"output[[#This Row],[ishp_Program]]-output[[#This Row],[ishp_Baseline]]","v":0},{"$f":"output[[#This Row],[ishp_Market]]-output[[#This Row],[ishp_Program]]","v":0}]
["All","Misc Manf","Base",2018,"51-100 HP","Traditional","ASD Control","variable","Fans",2015,4126276.7964767599,4176381.7068759701,4165954.5421519298,4435334.9285328696,4489192.6967209801,4477984.5373591101,2923.9208642026201,2959.4257031025099,2952.0369102524701,38.727428664935402,39.197691431821298,39.099826625860501,91.870860595725205,93.057805368029605,91.870860595725205,1.21683259067185,1.23255371348383,1.21683259067185,{"$f":"output[[#This Row],[ishp_Program]]-output[[#This Row],[ishp_Baseline]]","v":28.116046049849956},{"$f":"output[[#This Row],[ishp_Market]]-output[[#This Row],[ishp_Program]]","v":7.388792850039863}]
["All","Misc Manf","Base",2018,"51-100 HP","Traditional","Non ASD Control","variable","Fans",2016,215292.744532062,137315.05165885601,162804.49235117401,231418.171097513,147599.94902810501,174998.54882827701,74.3185367856412,47.400825049221197,56.199718573732603,0.98435148060451905,0.62782549734067805,0.74436713342692196,1.6380565796689801,0.75492526927703196,1.6380565796689801,2.1696113637999701E-2,9.9990101890997697E-3,2.1696113637999701E-2,{"$f":"output[[#This Row],[ishp_Program]]-output[[#This Row],[ishp_Baseline]]","v":-18.118818211908597},{"$f":"output[[#This Row],[ishp_Market]]-output[[#This Row],[ishp_Program]]","v":-8.7988935245114064}]
["All","Misc Manf","Base",2018,"6-10 HP","Traditional","ASD Control","variable","Pumps",2015,908042.49013692397,1070293.5716868199,908119.36371971504,976054.87264818,1150458.5602061599,976137.50406232104,604.430807303851,712.43186812683302,604.48197755437502,75.553850912981403,89.0539835158541,75.560247194296906,19.852020820777199,28.263553197598799,19.852020820777199,2.4815026025971498,3.5329441496998499,2.4815026025971498,{"$f":"output[[#This Row],[ishp_Program]]-output[[#This Row],[ishp_Baseline]]","v":5.1170250524023686E-2},{"$f":"output[[#This Row],[ishp_Market]]-output[[#This Row],[ishp_Program]]","v":107.949890572458}]
["All","Misc Manf","Base",2019,"1,001+ HP","Traditional","ASD Control","variable","Fans",2019,0,0,0,0,0,0,0,0,0,0,0,0,0,0,0,0,0,0,{"$f":"output[[#This Row],[ishp_Program]]-output[[#This Row],[ishp_Baseline]]","v":0},{"$f":"output[[#This Row],[ishp_Market]]-output[[#This Row],[ishp_Program]]","v":0}]
["All","Misc Manf","Base",2019,"1,001+ HP","Traditional","Non ASD Control","variable","Fans",2016,0,0,0,0,0,0,0,0,0,0,0,0,0,0,0,0,0,0,{"$f":"output[[#This Row],[ishp_Program]]-output[[#This Row],[ishp_Baseline]]","v":0},{"$f":"output[[#This Row],[ishp_Market]]-output[[#This Row],[ishp_Program]]","v":0}]
["All","Misc Manf","Base",2019,"1-5 HP","Traditional","ASD Control","constant","Fans","2014 and before",281335.24394454702,436539.44341458898,281335.24394454702,302407.25371599302,469236.24772634101,302407.25371599302,82.336988262666296,127.759830317251,82.336988262666296,27.445662754222099,42.586610105750403,27.445662754222099,33.1788233767682,34.727171992861201,33.1788233767682,11.059607792255999,11.5757239976204,11.059607792255999,{"$f":"output[[#This Row],[ishp_Program]]-output[[#This Row],[ishp_Baseline]]","v":0},{"$f":"output[[#This Row],[ishp_Market]]-output[[#This Row],[ishp_Program]]","v":45.422842054584706}]
["All","Misc Manf","Base",2019,"101-200 HP","Traditional","ASD Control","constant","Fans",2015,0,0,0,0,0,0,0,0,0,0,0,0,0,0,0,0,0,0,{"$f":"output[[#This Row],[ishp_Program]]-output[[#This Row],[ishp_Baseline]]","v":0},{"$f":"output[[#This Row],[ishp_Market]]-output[[#This Row],[ishp_Program]]","v":0}]
["All","Misc Manf","Base",2019,"101-200 HP","Traditional","Non ASD Control","constant","Fans",2018,0,0,0,0,0,0,0,0,0,0,0,0,0,0,0,0,0,0,{"$f":"output[[#This Row],[ishp_Program]]-output[[#This Row],[ishp_Baseline]]","v":0},{"$f":"output[[#This Row],[ishp_Market]]-output[[#This Row],[ishp_Program]]","v":0}]
["All","Misc Manf","Base",2019,"101-200 HP","Traditional","Non ASD Control","variable","Pumps",2016,0,0,0,0,0,0,0,0,0,0,0,0,0,0,0,0,0,0,{"$f":"output[[#This Row],[ishp_Program]]-output[[#This Row],[ishp_Baseline]]","v":0},{"$f":"output[[#This Row],[ishp_Market]]-output[[#This Row],[ishp_Program]]","v":0}]
["All","Misc Manf","Base",2019,"11-20 HP","Traditional","ASD Control","variable","Fans",2019,182338.56744096801,252892.09626503399,186268.34951220799,195995.726142297,271833.71427528502,200219.848890672,126.089497512001,174.87818287888001,128.806993067924,8.1348062910968597,11.282463411540601,8.3101285850273996,0,0.99767832137546997,0,0,6.4366343314546395E-2,0,{"$f":"output[[#This Row],[ishp_Program]]-output[[#This Row],[ishp_Baseline]]","v":2.7174955559229943},{"$f":"output[[#This Row],[ishp_Market]]-output[[#This Row],[ishp_Program]]","v":46.071189810956014}]
["All","Misc Manf","Base",2019,"11-20 HP","Traditional","Non ASD Control","variable","Fans","2014 and before",9967068.4989752993,8384777.8837532196,9859677.2513240594,10713601.9295485,9012797.7472463399,10598167.0774482,3312.92525710979,2786.99222637001,3277.2297889013598,213.73711336192201,179.80595008838799,211.43417992912001,1301.0722753417101,1287.3956147618101,1301.0722753417101,83.940146796239304,83.057781597536604,83.940146796239304,{"$f":"output[[#This Row],[ishp_Program]]-output[[#This Row],[ishp_Baseline]]","v":-35.695468208430157},{"$f":"output[[#This Row],[ishp_Market]]-output[[#This Row],[ishp_Program]]","v":-490.23756253134979}]
["All","Misc Manf","Base",2019,"201-500 HP","Traditional","Non ASD Control","constant","Pumps",2018,0,0,0,0,0,0,0,0,0,0,0,0,0,0,0,0,0,0,{"$f":"output[[#This Row],[ishp_Program]]-output[[#This Row],[ishp_Baseline]]","v":0},{"$f":"output[[#This Row],[ishp_Market]]-output[[#This Row],[ishp_Program]]","v":0}]
["All","Misc Manf","Base",2019,"21-50 HP","Traditional","ASD Control","constant","Pumps",2015,2547915.43529242,4658621.77346671,2547915.43529242,2738754.30139582,5007552.5442993697,2738754.30139582,949.81276709681401,1736.6425809206801,949.81276709681401,26.755289213994701,48.919509321709398,26.755289213994701,40.044685767378603,135.27501098694799,40.044685767378603,1.1280193173909401,3.8105636897731898,1.1280193173909401,{"$f":"output[[#This Row],[ishp_Program]]-output[[#This Row],[ishp_Baseline]]","v":0},{"$f":"output[[#This Row],[ishp_Market]]-output[[#This Row],[ishp_Program]]","v":786.82981382386606}]
["All","Misc Manf","Base",2019,"21-50 HP","Traditional","Non ASD Control","variable","Fans",2017,899880.50880751701,586052.07351346302,792038.50361650705,967281.55891719996,629947.37381962198,851362.18753738306,306.31932865490899,199.492128075262,269.60990967362102,8.6287134832368793,5.6194965655003504,7.59464534291891,0.26815039268187102,0,0.26815039268187102,7.5535321882217099E-3,0,7.5535321882217099E-3,{"$f":"output[[#This Row],[ishp_Program]]-output[[#This Row],[ishp_Baseline]]","v":-36.709418981287968},{"$f":"output[[#This Row],[ishp_Market]]-output[[#This Row],[ishp_Program]]","v":-70.117781598359016}]
["All","Misc Manf","Base",2019,"501-1,000 HP","Traditional","ASD Control","variable","Pumps","2014 and before",0,0,0,0,0,0,0,0,0,0,0,0,0,0,0,0,0,0,{"$f":"output[[#This Row],[ishp_Program]]-output[[#This Row],[ishp_Baseline]]","v":0},{"$f":"output[[#This Row],[ishp_Market]]-output[[#This Row],[ishp_Program]]","v":0}]
["All","Misc Manf","Base",2019,"501-1,000 HP","Traditional","Non ASD Control","variable","Pumps",2017,0,0,0,0,0,0,0,0,0,0,0,0,0,0,0,0,0,0,{"$f":"output[[#This Row],[ishp_Program]]-output[[#This Row],[ishp_Baseline]]","v":0},{"$f":"output[[#This Row],[ishp_Market]]-output[[#This Row],[ishp_Program]]","v":0}]
["All","Misc Manf","Base",2019,"51-100 HP","Traditional","ASD Control","variable","Fans",2015,4121222.7438558298,4184405.0677578198,4180215.7717987001,4429902.3273706296,4497817.00733288,4493313.9331064299,2920.3395121421499,2965.1111365914799,2962.1425597205298,38.679993538306697,39.272995186642198,39.2336762876891,85.301624146536597,85.976364684325006,85.301624146536597,1.1298228363779601,1.1387597971433701,1.1298228363779601,{"$f":"output[[#This Row],[ishp_Program]]-output[[#This Row],[ishp_Baseline]]","v":41.803047578379847},{"$f":"output[[#This Row],[ishp_Market]]-output[[#This Row],[ishp_Program]]","v":2.9685768709500735}]
["All","Misc Manf","Base",2019,"6-10 HP","Traditional","ASD Control","constant","Pumps","2014 and before",2234733.5983119002,5542989.53447018,2234733.5983119002,2402115.1448254599,5958159.4506019903,2402115.1448254599,995.84889407708499,2470.0841308121599,995.84889407708499,124.481111759635,308.76051635151998,124.481111759635,447.99807215365502,615.30187673718501,447.99807215365502,55.999759019206898,76.912734592148098,55.999759019206898,{"$f":"output[[#This Row],[ishp_Program]]-output[[#This Row],[ishp_Baseline]]","v":0},{"$f":"output[[#This Row],[ishp_Market]]-output[[#This Row],[ishp_Program]]","v":1474.235236735075}]
["All","Misc Manf","Base",2019,"6-10 HP","Traditional","Non ASD Control","constant","Fans","2014 and before",15785282.510629799,15605355.4265317,15784553.688459201,16967600.1706759,16774196.547978999,16966816.7597248,4733.6107463481903,4679.6551216533499,4733.3921908388802,591.701343293523,584.95689020666896,591.67402385486002,2164.4900524802401,2161.6735867473299,2164.4900524802401,270.56125656003002,270.20919834341601,270.56125656003002,{"$f":"output[[#This Row],[ishp_Program]]-output[[#This Row],[ishp_Baseline]]","v":-0.21855550931013568},{"$f":"output[[#This Row],[ishp_Market]]-output[[#This Row],[ishp_Program]]","v":-53.737069185530345}]
["All","Misc Manf","Base",2020,"1,001+ HP","Traditional","ASD Control","constant","Fans",2017,0,0,0,0,0,0,0,0,0,0,0,0,0,0,0,0,0,0,{"$f":"output[[#This Row],[ishp_Program]]-output[[#This Row],[ishp_Baseline]]","v":0},{"$f":"output[[#This Row],[ishp_Market]]-output[[#This Row],[ishp_Program]]","v":0}]
["All","Misc Manf","Base",2020,"1,001+ HP","Traditional","ASD Control","variable","Pumps",2017,0,0,0,0,0,0,0,0,0,0,0,0,0,0,0,0,0,0,{"$f":"output[[#This Row],[ishp_Program]]-output[[#This Row],[ishp_Baseline]]","v":0},{"$f":"output[[#This Row],[ishp_Market]]-output[[#This Row],[ishp_Program]]","v":0}]
["All","Misc Manf","Base",2020,"1-5 HP","Traditional","ASD Control","constant","Fans",2015,24520.415840689599,42332.831905138199,24520.415840689599,26356.994987157301,45503.561014833103,26356.994987157301,7.176268294592,12.389339617846799,7.176268294592,2.39208943153066,4.1297798726156199,2.39208943153066,0.26369410727143799,0.48926729462145302,0.26369410727143799,8.7898035757146095E-2,0.16308909820715101,8.7898035757146095E-2,{"$f":"output[[#This Row],[ishp_Program]]-output[[#This Row],[ishp_Baseline]]","v":0},{"$f":"output[[#This Row],[ishp_Market]]-output[[#This Row],[ishp_Program]]","v":5.2130713232547992}]
["All","Misc Manf","Base",2020,"1-5 HP","Traditional","Non ASD Control","constant","Fans",2019,1277850.9817365101,1257211.8644880999,1277850.9817365101,1373562.0202685699,1351377.03313826,1373562.0202685699,370.44294412974102,364.45976184400303,370.44294412974102,123.48098137658,121.486587281334,123.48098137658,1.3395894910756501,1.18870093545699,1.3395894910756501,0.44652983035855098,0.396233645152333,0.44652983035855098,{"$f":"output[[#This Row],[ishp_Program]]-output[[#This Row],[ishp_Baseline]]","v":0},{"$f":"output[[#This Row],[ishp_Market]]-output[[#This Row],[ishp_Program]]","v":-5.9831822857379962}]
["All","Misc Manf","Base",2020,"1-5 HP","Traditional","Non ASD Control","variable","Pumps",2019,110042.19030839999,81722.950208472001,110042.19030839999,118284.350362499,87843.999179086502,118284.350362499,51.2358718786491,38.050374994279402,51.2358718786491,17.078623959549699,12.683458331426399,17.078623959549699,0,0,0,0,0,0,{"$f":"output[[#This Row],[ishp_Program]]-output[[#This Row],[ishp_Baseline]]","v":0},{"$f":"output[[#This Row],[ishp_Market]]-output[[#This Row],[ishp_Program]]","v":-13.185496884369698}]
["All","Misc Manf","Base",2020,"101-200 HP","Traditional","Non ASD Control","constant","Pumps",2020,0,0,0,0,0,0,0,0,0,0,0,0,0,0,0,0,0,0,{"$f":"output[[#This Row],[ishp_Program]]-output[[#This Row],[ishp_Baseline]]","v":0},{"$f":"output[[#This Row],[ishp_Market]]-output[[#This Row],[ishp_Program]]","v":0}]
["All","Misc Manf","Base",2020,"11-20 HP","Traditional","ASD Control","constant","Fans",2020,17043.791652591201,32550.331791092201,17273.6106000277,18320.371647370299,34988.351642245099,18567.404033969699,5.50822273658728,10.5196356133522,5.5824957608867596,0.355369208812082,0.67868616860336894,0.360161016831403,0,7.7232007146821394E-2,0,0,4.9827101385045997E-3,0,{"$f":"output[[#This Row],[ishp_Program]]-output[[#This Row],[ishp_Baseline]]","v":7.4273024299479573E-2},{"$f":"output[[#This Row],[ishp_Market]]-output[[#This Row],[ishp_Program]]","v":4.9371398524654406}]
["All","Misc Manf","Base",2020,"11-20 HP","Traditional","ASD Control","variable","Pumps",2016,594404.06829317601,827716.63987428299,594488.73664093297,638924.93300833495,889712.61620086594,639015.94301533897,340.55447871404499,474.22725356633202,340.60298811458898,21.9712566912287,30.595306681698901,21.974386329973498,11.2533802514266,18.7982358016632,11.2533802514266,0.726024532350105,1.21278940655891,0.726024532350105,{"$f":"output[[#This Row],[ishp_Program]]-output[[#This Row],[ishp_Baseline]]","v":4.8509400543991887E-2},{"$f":"output[[#This Row],[ishp_Market]]-output[[#This Row],[ishp_Program]]","v":133.62426545174304}]
["All","Misc Manf","Base",2020,"201-500 HP","Traditional","ASD Control","variable","Fans",2015,0,0,0,0,0,0,0,0,0,0,0,0,0,0,0,0,0,0,{"$f":"output[[#This Row],[ishp_Program]]-output[[#This Row],[ishp_Baseline]]","v":0},{"$f":"output[[#This Row],[ishp_Market]]-output[[#This Row],[ishp_Program]]","v":0}]
["All","Misc Manf","Base",2020,"201-500 HP","Traditional","Non ASD Control","constant","Pumps",2015,0,0,0,0,0,0,0,0,0,0,0,0,0,0,0,0,0,0,{"$f":"output[[#This Row],[ishp_Program]]-output[[#This Row],[ishp_Baseline]]","v":0},{"$f":"output[[#This Row],[ishp_Market]]-output[[#This Row],[ishp_Program]]","v":0}]
["All","Misc Manf","Base",2020,"21-50 HP","Traditional","ASD Control","variable","Fans",2015,1569304.35817444,1822778.5352412199,1666128.2930582,1686845.25460171,1959304.6475307799,1790921.3022082599,1089.7816318242601,1265.8032562276201,1157.01966962594,30.698074135894799,35.656429752890901,32.592103369744898,41.394853693163697,49.987824516925301,41.394853693163697,1.1660522167088301,1.40810773287113,1.1660522167088301,{"$f":"output[[#This Row],[ishp_Program]]-output[[#This Row],[ishp_Baseline]]","v":67.238037801679866},{"$f":"output[[#This Row],[ishp_Market]]-output[[#This Row],[ishp_Program]]","v":108.7835866016801}]
["All","Misc Manf","Base",2020,"21-50 HP","Traditional","ASD Control","variable","Fans",2018,1435236.59333925,1695631.8872256,1530615.68741831,1542735.8141803599,1822634.7155788001,1645258.8024059399,1004.20164753119,1186.3941754694999,1070.9361802617,28.287370352991399,33.419554238577597,30.167216345400099,12.5668132461019,19.865796099371799,12.5668132461019,0.35399473932681502,0.55959989012315103,0.35399473932681502,{"$f":"output[[#This Row],[ishp_Program]]-output[[#This Row],[ishp_Baseline]]","v":66.734532730509954},{"$f":"output[[#This Row],[ishp_Market]]-output[[#This Row],[ishp_Program]]","v":115.45799520779997}]
["All","Misc Manf","Base",2020,"501-1,000 HP","Traditional","ASD Control","constant","Pumps",2017,0,0,0,0,0,0,0,0,0,0,0,0,0,0,0,0,0,0,{"$f":"output[[#This Row],[ishp_Program]]-output[[#This Row],[ishp_Baseline]]","v":0},{"$f":"output[[#This Row],[ishp_Market]]-output[[#This Row],[ishp_Program]]","v":0}]
["All","Misc Manf","Base",2020,"501-1,000 HP","Traditional","ASD Control","variable","Fans",2020,0,0,0,0,0,0,0,0,0,0,0,0,0,0,0,0,0,0,{"$f":"output[[#This Row],[ishp_Program]]-output[[#This Row],[ishp_Baseline]]","v":0},{"$f":"output[[#This Row],[ishp_Market]]-output[[#This Row],[ishp_Program]]","v":0}]
["All","Misc Manf","Base",2020,"501-1,000 HP","Traditional","Non ASD Control","variable","Fans",2020,0,0,0,0,0,0,0,0,0,0,0,0,0,0,0,0,0,0,{"$f":"output[[#This Row],[ishp_Program]]-output[[#This Row],[ishp_Baseline]]","v":0},{"$f":"output[[#This Row],[ishp_Market]]-output[[#This Row],[ishp_Program]]","v":0}]
["All","Misc Manf","Base",2020,"51-100 HP","Traditional","Non ASD Control","constant","Fans","2014 and before",5334087.4701513201,3896700.8072241698,5284744.05760282,5733610.62166565,4188563.6976852599,5680571.3875172697,1676.24098109948,1224.54114611047,1660.7347767629501,22.2018672993309,16.219088027953202,21.996487109443098,659.37539844795799,643.09048618678003,659.37539844795799,8.7334489860656692,8.5177547839308598,8.7334489860656692,{"$f":"output[[#This Row],[ishp_Program]]-output[[#This Row],[ishp_Baseline]]","v":-15.50620433652989},{"$f":"output[[#This Row],[ishp_Market]]-output[[#This Row],[ishp_Program]]","v":-436.19363065248012}]
["All","Misc Manf","Base",2020,"51-100 HP","Traditional","Non ASD Control","variable","Pumps","2014 and before",1720095.5612329,855744.01795574802,1697089.20603397,1848930.71876925,919839.244900633,1824201.1875659199,454.42293883123602,226.074481145671,448.34501166433,6.0188468719369101,2.99436398868438,5.9383445253553697,226.72234390649501,214.32982514387299,226.72234390649501,3.0029449524039,2.8388056310446701,3.0029449524039,{"$f":"output[[#This Row],[ishp_Program]]-output[[#This Row],[ishp_Baseline]]","v":-6.0779271669060222},{"$f":"output[[#This Row],[ishp_Market]]-output[[#This Row],[ishp_Program]]","v":-222.270530518659}]
["All","Misc Manf","Base",2020,"6-10 HP","Traditional","ASD Control","variable","Pumps",2018,722782.30037782295,950082.85736475303,722930.32152352203,776918.69467612205,1021244.06338137,777077.80260563304,487.68156484517101,641.04764929911903,487.78143887906202,60.960195605646298,80.130956162389893,60.972679859882803,1.8369964604187601,8.0038618950105,1.8369964604187601,0.22962455755234501,1.0004827368763101,0.22962455755234501,{"$f":"output[[#This Row],[ishp_Program]]-output[[#This Row],[ishp_Baseline]]","v":9.9874033891012459E-2},{"$f":"output[[#This Row],[ishp_Market]]-output[[#This Row],[ishp_Program]]","v":153.26621042005701}]
["All","Misc Manf","Base",2021,"1,001+ HP","Traditional","ASD Control","constant","Pumps",2015,0,0,0,0,0,0,0,0,0,0,0,0,0,0,0,0,0,0,{"$f":"output[[#This Row],[ishp_Program]]-output[[#This Row],[ishp_Baseline]]","v":0},{"$f":"output[[#This Row],[ishp_Market]]-output[[#This Row],[ishp_Program]]","v":0}]
["All","Misc Manf","Base",2021,"1,001+ HP","Traditional","ASD Control","variable","Pumps",2020,0,0,0,0,0,0,0,0,0,0,0,0,0,0,0,0,0,0,{"$f":"output[[#This Row],[ishp_Program]]-output[[#This Row],[ishp_Baseline]]","v":0},{"$f":"output[[#This Row],[ishp_Market]]-output[[#This Row],[ishp_Program]]","v":0}]
["All","Misc Manf","Base",2021,"1,001+ HP","Traditional","Non ASD Control","constant","Pumps",2020,0,0,0,0,0,0,0,0,0,0,0,0,0,0,0,0,0,0,{"$f":"output[[#This Row],[ishp_Program]]-output[[#This Row],[ishp_Baseline]]","v":0},{"$f":"output[[#This Row],[ishp_Market]]-output[[#This Row],[ishp_Program]]","v":0}]
["All","Misc Manf","Base",2021,"1-5 HP","Traditional","ASD Control","variable","Pumps",2016,9229.5436297293909,22881.711145200199,9229.5436297293909,9920.8364475961207,24595.551309975701,9920.8364475961207,6.08782619657699,15.0928243172888,6.08782619657699,2.02927539885899,5.0309414390962699,2.02927539885899,0.42173080483018499,1.28143256691743,0.42173080483018499,0.14057693494339499,0.42714418897247702,0.14057693494339499,{"$f":"output[[#This Row],[ishp_Program]]-output[[#This Row],[ishp_Baseline]]","v":0},{"$f":"output[[#This Row],[ishp_Market]]-output[[#This Row],[ishp_Program]]","v":9.0049981207118108}]
["All","Misc Manf","Base",2021,"1-5 HP","Traditional","Non ASD Control","variable","Fans",2018,877793.22677561303,693776.16263635096,877793.22677561303,943539.93946110597,745739.99721781304,943539.93946110597,277.82345033641201,219.58165247276199,277.82345033641201,92.607816778804207,73.193884157587405,92.607816778804207,12.244063267386,8.6446764384119792,12.244063267386,4.0813544224620202,2.88155881280399,4.0813544224620202,{"$f":"output[[#This Row],[ishp_Program]]-output[[#This Row],[ishp_Baseline]]","v":0},{"$f":"output[[#This Row],[ishp_Market]]-output[[#This Row],[ishp_Program]]","v":-58.241797863650021}]
["All","Misc Manf","Base",2021,"101-200 HP","Traditional","ASD Control","constant","Fans",2018,0,0,0,0,0,0,0,0,0,0,0,0,0,0,0,0,0,0,{"$f":"output[[#This Row],[ishp_Program]]-output[[#This Row],[ishp_Baseline]]","v":0},{"$f":"output[[#This Row],[ishp_Market]]-output[[#This Row],[ishp_Program]]","v":0}]
["All","Misc Manf","Base",2021,"101-200 HP","Traditional","ASD Control","variable","Pumps",2015,412727.50062900799,415432.465280173,412727.50062900799,443640.79042612098,446548.35692965798,443640.79042612098,157.19979389948401,158.23006177603801,157.19979389948401,1.0445169029865999,1.0513625367178601,1.0445169029865999,15.382180203326101,14.561464305461801,15.382180203326101,0.102207177430738,9.6753915650909003E-2,0.102207177430738,{"$f":"output[[#This Row],[ishp_Program]]-output[[#This Row],[ishp_Baseline]]","v":0},{"$f":"output[[#This Row],[ishp_Market]]-output[[#This Row],[ishp_Program]]","v":1.0302678765540065}]
["All","Misc Manf","Base",2021,"101-200 HP","Traditional","Non ASD Control","variable","Fans",2017,0,0,0,0,0,0,0,0,0,0,0,0,0,0,0,0,0,0,{"$f":"output[[#This Row],[ishp_Program]]-output[[#This Row],[ishp_Baseline]]","v":0},{"$f":"output[[#This Row],[ishp_Market]]-output[[#This Row],[ishp_Program]]","v":0}]
["All","Misc Manf","Base",2021,"11-20 HP","Traditional","ASD Control","variable","Pumps",2016,501066.63116098999,731057.76739417599,501152.488758903,538596.52183494798,785813.99417199905,538688.81016694405,287.07825951801698,418.84807013464302,287.12745028076699,18.521178033420401,27.022456137718901,18.524351631017201,22.402363406132601,35.561638191615899,22.402363406132601,1.4453137681375801,2.2942992381687599,1.4453137681375801,{"$f":"output[[#This Row],[ishp_Program]]-output[[#This Row],[ishp_Baseline]]","v":4.9190762750015438E-2},{"$f":"output[[#This Row],[ishp_Market]]-output[[#This Row],[ishp_Program]]","v":131.72061985387603}]
["All","Misc Manf","Base",2021,"11-20 HP","Traditional","Non ASD Control","constant","Pumps",2021,2066522.3787473899,862927.04418282502,2066522.3787473899,2221304.9049155698,927560.279792118,2221304.9049155698,679.10780510708105,283.57810056610703,679.10780510708105,43.813406781102003,18.295361326845601,43.813406781102003,0,0,0,0,0,0,{"$f":"output[[#This Row],[ishp_Program]]-output[[#This Row],[ishp_Baseline]]","v":0},{"$f":"output[[#This Row],[ishp_Market]]-output[[#This Row],[ishp_Program]]","v":-395.52970454097402}]
["All","Misc Manf","Base",2021,"201-500 HP","Traditional","ASD Control","variable","Pumps",2016,0,0,0,0,0,0,0,0,0,0,0,0,0,0,0,0,0,0,{"$f":"output[[#This Row],[ishp_Program]]-output[[#This Row],[ishp_Baseline]]","v":0},{"$f":"output[[#This Row],[ishp_Market]]-output[[#This Row],[ishp_Program]]","v":0}]
["All","Misc Manf","Base",2021,"201-500 HP","Traditional","Non ASD Control","constant","Pumps",2018,0,0,0,0,0,0,0,0,0,0,0,0,0,0,0,0,0,0,{"$f":"output[[#This Row],[ishp_Program]]-output[[#This Row],[ishp_Baseline]]","v":0},{"$f":"output[[#This Row],[ishp_Market]]-output[[#This Row],[ishp_Program]]","v":0}]
["All","Misc Manf","Base",2021,"21-50 HP","Traditional","ASD Control","constant","Fans",2019,112812.584810307,217263.79271888401,118381.53633133799,121262.247412599,233536.85079352901,127248.313402555,36.937729515182099,71.137730089130102,38.761146869840601,1.0404994229628699,2.0038797208205601,1.0918632921081799,1.5389211801979701,3.9902542662929301,1.5389211801979701,4.3349892399943003E-2,0.112401528627969,4.3349892399943003E-2,{"$f":"output[[#This Row],[ishp_Program]]-output[[#This Row],[ishp_Baseline]]","v":1.8234173546585026},{"$f":"output[[#This Row],[ishp_Market]]-output[[#This Row],[ishp_Program]]","v":32.3765832192895}]
["All","Misc Manf","Base",2021,"21-50 HP","Traditional","ASD Control","variable","Fans",2019,1171208.9950114801,1414661.66359035,1259169.2853129599,1258932.54873784,1520619.8221932601,1353481.0647829,819.46768069609902,989.80584794834397,881.01144905317301,23.0835966393267,27.881854871784299,24.817223916990802,42.377955545621603,55.520143848124697,42.377955545621603,1.1937452266372299,1.56394771403168,1.1937452266372299,{"$f":"output[[#This Row],[ishp_Program]]-output[[#This Row],[ishp_Baseline]]","v":61.543768357073986},{"$f":"output[[#This Row],[ishp_Market]]-output[[#This Row],[ishp_Program]]","v":108.79439889517096}]
["All","Misc Manf","Base",2021,"501-1,000 HP","Traditional","ASD Control","constant","Fans",2019,0,0,0,0,0,0,0,0,0,0,0,0,0,0,0,0,0,0,{"$f":"output[[#This Row],[ishp_Program]]-output[[#This Row],[ishp_Baseline]]","v":0},{"$f":"output[[#This Row],[ishp_Market]]-output[[#This Row],[ishp_Program]]","v":0}]
["All","Misc Manf","Base",2021,"501-1,000 HP","Traditional","ASD Control","variable","Fans",2020,0,0,0,0,0,0,0,0,0,0,0,0,0,0,0,0,0,0,{"$f":"output[[#This Row],[ishp_Program]]-output[[#This Row],[ishp_Baseline]]","v":0},{"$f":"output[[#This Row],[ishp_Market]]-output[[#This Row],[ishp_Program]]","v":0}]
["All","Misc Manf","Base",2021,"501-1,000 HP","Traditional","Non ASD Control","constant","Pumps",2017,0,0,0,0,0,0,0,0,0,0,0,0,0,0,0,0,0,0,{"$f":"output[[#This Row],[ishp_Program]]-output[[#This Row],[ishp_Baseline]]","v":0},{"$f":"output[[#This Row],[ishp_Market]]-output[[#This Row],[ishp_Program]]","v":0}]
["All","Misc Manf","Base",2021,"501-1,000 HP","Traditional","Non ASD Control","variable","Pumps","2014 and before",0,0,0,0,0,0,0,0,0,0,0,0,0,0,0,0,0,0,{"$f":"output[[#This Row],[ishp_Program]]-output[[#This Row],[ishp_Baseline]]","v":0},{"$f":"output[[#This Row],[ishp_Market]]-output[[#This Row],[ishp_Program]]","v":0}]
["All","Misc Manf","Base",2021,"51-100 HP","Traditional","Non ASD Control","constant","Fans",2016,271061.41382974898,174514.21253188199,268141.29531595099,291363.91372559703,187585.32705051999,288225.07833511598,85.703764120078105,55.1776244915022,84.780485720643597,1.1351491936434099,0.730829463463606,1.12292034067077,6.0771784188305,3.9071171227514401,6.0771784188305,8.04924293884835E-2,5.1749895665582003E-2,8.04924293884835E-2,{"$f":"output[[#This Row],[ishp_Program]]-output[[#This Row],[ishp_Baseline]]","v":-0.9232783994345084},{"$f":"output[[#This Row],[ishp_Market]]-output[[#This Row],[ishp_Program]]","v":-29.602861229141396}]
["All","Misc Manf","Base",2021,"6-10 HP","Traditional","ASD Control","constant","Fans",2015,24482.517105188301,45879.097610101599,24556.959066708201,26316.2576363669,49315.442021098199,26396.275300804598,7.6303706809731304,14.298959529755001,7.65357171696854,0.95379633512164197,1.78736994121938,0.95669646462106805,0.61570501094649999,1.14064637610653,0.61570501094649999,7.6963126368312498E-2,0.142580797013317,7.6963126368312498E-2,{"$f":"output[[#This Row],[ishp_Program]]-output[[#This Row],[ishp_Baseline]]","v":2.3201035995409569E-2},{"$f":"output[[#This Row],[ishp_Market]]-output[[#This Row],[ishp_Program]]","v":6.6453878127864607}]
["All","Misc Manf","Base",2021,"6-10 HP","Traditional","ASD Control","variable","Fans",2020,132618.00533980099,207086.137282404,133390.39185242099,142551.093939752,222596.88896485601,143381.33220216801,89.156112595313203,139.219368630764,89.675370736090301,11.144514074414101,17.402421078845599,11.209421342011201,3.1185631695365901,6.3845728208165298,3.1185631695365901,0.38982039619207398,0.798071602602067,0.38982039619207398,{"$f":"output[[#This Row],[ishp_Program]]-output[[#This Row],[ishp_Baseline]]","v":0.51925814077709731},{"$f":"output[[#This Row],[ishp_Market]]-output[[#This Row],[ishp_Program]]","v":49.543997894673694}]
["All","Paper","Base",2014,"1,001+ HP","Traditional","ASD Control","constant","Fans","2014 and before",0,0,0,0,0,0,0,0,0,0,0,0,0,0,0,0,0,0,{"$f":"output[[#This Row],[ishp_Program]]-output[[#This Row],[ishp_Baseline]]","v":0},{"$f":"output[[#This Row],[ishp_Market]]-output[[#This Row],[ishp_Program]]","v":0}]
["All","Paper","Base",2014,"101-200 HP","Traditional","Non ASD Control","variable","Fans","2014 and before",13657610.0674688,13657610.0674688,13657610.0674688,14680565.061522299,14680565.061522299,14680565.061522299,4232.3927451360596,4232.3927451360596,4232.3927451360596,28.1222109311366,28.1222109311366,28.1222109311366,808.67857980427902,808.67857980427902,808.67857980427902,5.3732796000284297,5.3732796000284297,5.3732796000284297,{"$f":"output[[#This Row],[ishp_Program]]-output[[#This Row],[ishp_Baseline]]","v":0},{"$f":"output[[#This Row],[ishp_Market]]-output[[#This Row],[ishp_Program]]","v":0}]
["All","Paper","Base",2014,"201-500 HP","Traditional","Non ASD Control","variable","Fans","2014 and before",9343081.3064068109,9343081.3064068109,9343081.3064068109,10042878.096256601,10042878.096256601,10042878.096256601,2904.6426634357999,2904.6426634357999,2904.6426634357999,8.2871402665786107,8.2871402665786107,8.2871402665786107,554.98684676785001,554.98684676785001,554.98684676785001,1.58341468407375,1.58341468407375,1.58341468407375,{"$f":"output[[#This Row],[ishp_Program]]-output[[#This Row],[ishp_Baseline]]","v":0},{"$f":"output[[#This Row],[ishp_Market]]-output[[#This Row],[ishp_Program]]","v":0}]
["All","Paper","Base",2015,"1,001+ HP","Traditional","Non ASD Control","variable","Pumps",2015,191964.62309088901,191964.62309088901,191964.62309088901,206342.773360397,206342.773360397,206342.773360397,49.336736882121698,49.336736882121698,49.336736882121698,4.9336736882121701E-2,4.9336736882121701E-2,4.9336736882121701E-2,0,0,0,0,0,0,{"$f":"output[[#This Row],[ishp_Program]]-output[[#This Row],[ishp_Baseline]]","v":0},{"$f":"output[[#This Row],[ishp_Market]]-output[[#This Row],[ishp_Program]]","v":0}]
["All","Paper","Base",2015,"101-200 HP","Traditional","ASD Control","constant","Pumps","2014 and before",7352931.2390210796,7352931.2390210796,7352931.2390210796,7903665.7888237601,7903665.7888237601,7903665.7888237601,1870.0032049972299,1870.0032049972299,1870.0032049972299,12.4252704650978,12.4252704650978,12.4252704650978,461.141369255462,461.141369255462,461.141369255462,3.06406225418911,3.06406225418911,3.06406225418911,{"$f":"output[[#This Row],[ishp_Program]]-output[[#This Row],[ishp_Baseline]]","v":0},{"$f":"output[[#This Row],[ishp_Market]]-output[[#This Row],[ishp_Program]]","v":0}]
["All","Paper","Base",2015,"101-200 HP","Traditional","Non ASD Control","constant","Pumps","2014 and before",164215837.250691,164215837.250691,164215837.250691,176515603.46076801,176515603.46076801,176515603.46076801,34864.562751922596,34864.562751922596,34864.562751922596,231.658224265266,231.658224265266,231.658224265266,9430.5669913265592,9430.5669913265592,9430.5669913265592,62.661574693199697,62.661574693199697,62.661574693199697,{"$f":"output[[#This Row],[ishp_Program]]-output[[#This Row],[ishp_Baseline]]","v":0},{"$f":"output[[#This Row],[ishp_Market]]-output[[#This Row],[ishp_Program]]","v":0}]
["All","Paper","Base",2015,"201-500 HP","Traditional","Non ASD Control","constant","Fans","2014 and before",15266918.514862999,15266918.514862999,15266918.514862999,16410410.711626301,16410410.711626301,16410410.711626301,4347.2880002060501,4347.2880002060501,4347.2880002060501,12.403104137535101,12.403104137535101,12.403104137535101,1122.8541774110399,1122.8541774110399,1122.8541774110399,3.2035782522426302,3.2035782522426302,3.2035782522426302,{"$f":"output[[#This Row],[ishp_Program]]-output[[#This Row],[ishp_Baseline]]","v":0},{"$f":"output[[#This Row],[ishp_Market]]-output[[#This Row],[ishp_Program]]","v":0}]
["All","Paper","Base",2015,"51-100 HP","Traditional","Non ASD Control","constant","Fans","2014 and before",29747539.382334199,29747539.382334199,29747539.382334199,31975630.082071099,31975630.082071099,31975630.082071099,8361.2544203265697,8361.2544203265697,8361.2544203265697,110.745091659954,110.745091659954,110.745091659954,2159.6152483606302,2159.6152483606302,2159.6152483606302,28.6041754749753,28.6041754749753,28.6041754749753,{"$f":"output[[#This Row],[ishp_Program]]-output[[#This Row],[ishp_Baseline]]","v":0},{"$f":"output[[#This Row],[ishp_Market]]-output[[#This Row],[ishp_Program]]","v":0}]
["All","Paper","Base",2015,"6-10 HP","Traditional","ASD Control","variable","Fans",2015,46463.475971196203,46463.475971196203,46463.475971196203,49943.590321438802,49943.590321438802,49943.590321438802,27.562333882711201,27.562333882711201,27.562333882711201,3.4452917353389001,3.4452917353389001,3.4452917353389001,0.104223166266944,0.104223166266944,0.104223166266944,1.3027895783368101E-2,1.3027895783368101E-2,1.3027895783368101E-2,{"$f":"output[[#This Row],[ishp_Program]]-output[[#This Row],[ishp_Baseline]]","v":0},{"$f":"output[[#This Row],[ishp_Market]]-output[[#This Row],[ishp_Program]]","v":0}]
["All","Paper","Base",2016,"1,001+ HP","Traditional","Non ASD Control","constant","Pumps",2015,527324.00333931902,495920.21702173998,527324.00333931902,566820.57118943403,533064.64127666794,566820.57118943403,110.96857897327899,104.36005457466599,110.96857897327899,0.110968578973279,0.104360054574666,0.110968578973279,1.4836362362386399,1.3156832631070301,1.4836362362386399,1.48363623623864E-3,1.3156832631070301E-3,1.48363623623864E-3,{"$f":"output[[#This Row],[ishp_Program]]-output[[#This Row],[ishp_Baseline]]","v":0},{"$f":"output[[#This Row],[ishp_Market]]-output[[#This Row],[ishp_Program]]","v":-6.6085243986129996}]
["All","Paper","Base",2016,"101-200 HP","Traditional","ASD Control","variable","Pumps",2016,2130206.6821242999,2394887.9554066099,2237377.7355404999,2289759.1626154101,2574265.0632665702,2404957.3279324798,814.47507035384297,915.67478045097698,855.451446967219,5.4117944874009503,6.08421781030549,5.6840627705462996,7.3032868263805897,13.7031533216532,7.3032868263805897,4.8526822766648402E-2,9.1050852635570001E-2,4.8526822766648402E-2,{"$f":"output[[#This Row],[ishp_Program]]-output[[#This Row],[ishp_Baseline]]","v":40.976376613376033},{"$f":"output[[#This Row],[ishp_Market]]-output[[#This Row],[ishp_Program]]","v":60.223333483757983}]
["All","Paper","Base",2016,"11-20 HP","Traditional","ASD Control","variable","Fans",2016,55317.241200745797,61023.901103236298,55393.3603868473,59460.502566681702,65594.591295868697,59542.323079822097,34.214087178415198,37.743694858827503,34.261167408966998,2.2073604631235599,2.4350770876662899,2.2103978973527099,9.96876668127369E-2,0.218555667150862,9.96876668127369E-2,6.4314623750152799E-3,1.41003656226363E-2,6.4314623750152799E-3,{"$f":"output[[#This Row],[ishp_Program]]-output[[#This Row],[ishp_Baseline]]","v":4.7080230551799218E-2},{"$f":"output[[#This Row],[ishp_Market]]-output[[#This Row],[ishp_Program]]","v":3.4825274498605054}]
["All","Paper","Base",2016,"201-500 HP","Traditional","ASD Control","variable","Pumps",2015,762438.38064395997,822081.66741838702,867285.00299338996,819545.015354192,883655.58430802496,932244.64971759496,287.83699708965401,310.35362924976198,327.41886717673498,0.82121825132569104,0.88545971255281797,0.93414798053276804,6.5842696769681996,8.9258707295472792,6.5842696769681996,1.8785362844417099E-2,2.5466107644928002E-2,1.8785362844417099E-2,{"$f":"output[[#This Row],[ishp_Program]]-output[[#This Row],[ishp_Baseline]]","v":39.581870087080972},{"$f":"output[[#This Row],[ishp_Market]]-output[[#This Row],[ishp_Program]]","v":-17.065237926972998}]
["All","Paper","Base",2016,"501-1,000 HP","Traditional","ASD Control","constant","Fans",2015,6449.0100180332001,7005.5721916683597,6489.17555780158,6932.0408683838896,7530.2895488243203,6975.2148070809098,1.9309859141105199,2.0976337739542799,1.9430124253593,2.5729325970826398E-3,2.7949817107985101E-3,2.5889572623041999E-3,2.82749745430168E-2,3.6869217723780802E-2,2.82749745430168E-2,3.7674849491028402E-5,4.9126206160933801E-5,3.7674849491028402E-5,{"$f":"output[[#This Row],[ishp_Program]]-output[[#This Row],[ishp_Baseline]]","v":1.202651124878007E-2},{"$f":"output[[#This Row],[ishp_Market]]-output[[#This Row],[ishp_Program]]","v":0.15462134859497989}]
["All","Paper","Base",2016,"501-1,000 HP","Traditional","Non ASD Control","variable","Pumps",2015,969813.10139723995,892084.59910196799,946784.53665992699,1042452.10269189,958901.73557470599,1017698.69845575,249.25120596734001,229.27424039818101,243.33264544861399,0.332113532268274,0.30549532364847598,0.32422737568103199,3.7095995252907601,2.89049562098154,3.7095995252907601,4.9428374754040801E-3,3.85142654361298E-3,4.9428374754040801E-3,{"$f":"output[[#This Row],[ishp_Program]]-output[[#This Row],[ishp_Baseline]]","v":-5.9185605187260251},{"$f":"output[[#This Row],[ishp_Market]]-output[[#This Row],[ishp_Program]]","v":-14.058405050432981}]
["All","Paper","Base",2016,"51-100 HP","Traditional","Non ASD Control","constant","Fans",2016,2355567.60937896,2341815.8880456402,2355501.5279028402,2531999.6233214498,2517217.8980602501,2531928.5923427599,666.14970602924996,662.26074733958205,666.13101832284804,8.8231749142947002,8.7716655276765891,8.8229273950046103,0,0,0,0,0,0,{"$f":"output[[#This Row],[ishp_Program]]-output[[#This Row],[ishp_Baseline]]","v":-1.8687706401919968E-2},{"$f":"output[[#This Row],[ishp_Market]]-output[[#This Row],[ishp_Program]]","v":-3.8702709832659821}]
["All","Paper","Base",2017,"1,001+ HP","Traditional","ASD Control","variable","Fans",2017,0,0,0,0,0,0,0,0,0,0,0,0,0,0,0,0,0,0,{"$f":"output[[#This Row],[ishp_Program]]-output[[#This Row],[ishp_Baseline]]","v":0},{"$f":"output[[#This Row],[ishp_Market]]-output[[#This Row],[ishp_Program]]","v":0}]
["All","Paper","Base",2017,"1-5 HP","Traditional","ASD Control","constant","Fans","2014 and before",8665.8580700593993,10169.589497481,8665.8580700593993,9314.9308395068492,10931.2917508423,9314.9308395068492,2.26843571919723,2.66206299239574,2.26843571919723,0.75614523973241299,0.88735433079857995,0.75614523973241299,0.73762185003807201,0.76597902263921003,0.73762185003807201,0.24587395001269,0.25532634087973599,0.24587395001269,{"$f":"output[[#This Row],[ishp_Program]]-output[[#This Row],[ishp_Baseline]]","v":0},{"$f":"output[[#This Row],[ishp_Market]]-output[[#This Row],[ishp_Program]]","v":0.39362727319850999}]
["All","Paper","Base",2017,"1-5 HP","Traditional","Non ASD Control","constant","Fans","2014 and before",3906086.1427785102,3904524.0810577702,3906086.1427785102,4198651.9948726203,4196972.9347289996,4198651.9948726203,994.83324322572503,994.43540485991502,994.83324322572503,331.61108107524097,331.47846828663802,331.61108107524097,348.623371960947,348.59859456833601,348.623371960947,116.207790653649,116.199531522778,116.207790653649,{"$f":"output[[#This Row],[ishp_Program]]-output[[#This Row],[ishp_Baseline]]","v":0},{"$f":"output[[#This Row],[ishp_Market]]-output[[#This Row],[ishp_Program]]","v":-0.39783836581000287}]
["All","Paper","Base",2017,"101-200 HP","Traditional","ASD Control","variable","Fans",2015,579877.70392924699,614269.90452144295,580408.58909828297,623310.54395354795,660278.72037009895,623881.19242174504,373.73313643065501,395.89902573624198,374.07529371306799,2.4832766540242801,2.63055831053981,2.4855501243393201,23.2185903205893,25.009020322197198,23.2185903205893,0.154276347645112,0.166172892506293,0.154276347645112,{"$f":"output[[#This Row],[ishp_Program]]-output[[#This Row],[ishp_Baseline]]","v":0.34215728241298393},{"$f":"output[[#This Row],[ishp_Market]]-output[[#This Row],[ishp_Program]]","v":21.823732023173989}]
["All","Paper","Base",2017,"11-20 HP","Traditional","ASD Control","constant","Fans","2014 and before",87592.510054264596,102556.283839631,87718.331299294805,94153.189057329102,110237.749499219,94288.434313611899,25.048304047020501,29.327404568680301,25.084284392818699,1.6160196159368001,1.89209061733421,1.6183409285689501,8.1300174910844198,8.4386345297733403,8.1300174910844198,0.52451725748931699,0.54442803417892505,0.52451725748931699,{"$f":"output[[#This Row],[ishp_Program]]-output[[#This Row],[ishp_Baseline]]","v":3.5980345798197533E-2},{"$f":"output[[#This Row],[ishp_Market]]-output[[#This Row],[ishp_Program]]","v":4.243120175861602}]
["All","Paper","Base",2017,"201-500 HP","Traditional","ASD Control","variable","Fans",2016,2045198.7196142201,2104646.8286281498,2047230.6856112999,2198384.1037133299,2262284.8760923999,2200568.2639635899,1328.5316744903701,1367.14831113116,1329.8516103786101,3.7903899414846598,3.9005657949533998,3.7941558070716601,50.094295210726202,52.658098476560703,50.094295210726202,0.1429223829122,0.15023708552513701,0.1429223829122,{"$f":"output[[#This Row],[ishp_Program]]-output[[#This Row],[ishp_Baseline]]","v":1.3199358882400247},{"$f":"output[[#This Row],[ishp_Market]]-output[[#This Row],[ishp_Program]]","v":37.296700752549896}]
["All","Paper","Base",2017,"201-500 HP","Traditional","Non ASD Control","variable","Pumps",2017,3709307.08328747,3441517.1265411698,3424409.3282095701,3987134.1838257099,3699286.7593191098,3680897.58689246,957.77144475210605,888.62603079632902,884.20866648631704,2.7325861476522202,2.53530964563859,2.5227066090907702,0,0,0,0,0,0,{"$f":"output[[#This Row],[ishp_Program]]-output[[#This Row],[ishp_Baseline]]","v":-73.562778265789007},{"$f":"output[[#This Row],[ishp_Market]]-output[[#This Row],[ishp_Program]]","v":4.4173643100119762}]
["All","Paper","Base",2017,"21-50 HP","Traditional","ASD Control","variable","Pumps",2017,381999.36424562102,476933.50282578601,398936.57561521803,410611.11662761797,512655.82218743803,428816.925128798,167.70532365962401,209.38329992635201,175.14109654432301,4.7240936242147598,5.8981211246859804,4.9335520153330403,1.5519211404069999,4.5962746924293301,1.5519211404069999,4.3716088462168998E-2,0.12947252654730501,4.3716088462168998E-2,{"$f":"output[[#This Row],[ishp_Program]]-output[[#This Row],[ishp_Baseline]]","v":7.4357728846989914},{"$f":"output[[#This Row],[ishp_Market]]-output[[#This Row],[ishp_Program]]","v":34.242203382029004}]
["All","Paper","Base",2017,"501-1,000 HP","Traditional","Non ASD Control","variable","Pumps",2015,905161.96351740498,761848.21718860895,869379.68084857601,972958.59458485898,818910.64865603601,934496.21894413396,232.63524763424101,195.80224955173901,223.438860109036,0.30997368105828299,0.26089573557860002,0.29772000014528499,14.501501820835699,10.387675797977099,14.501501820835699,1.9322454125030902E-2,1.38410070592633E-2,1.9322454125030902E-2,{"$f":"output[[#This Row],[ishp_Program]]-output[[#This Row],[ishp_Baseline]]","v":-9.1963875252050116},{"$f":"output[[#This Row],[ishp_Market]]-output[[#This Row],[ishp_Program]]","v":-27.63661055729699}]
["All","Paper","Base",2017,"51-100 HP","Traditional","Non ASD Control","constant","Pumps",2015,6825722.6015120801,6590225.4918019297,6825722.6015120801,7336969.2243653396,7083833.3811378898,7336969.2243653396,1476.48679792199,1425.5459095010599,1476.48679792199,19.556116528768001,18.8814027748485,19.556116528768001,80.763030631581898,75.627878519937397,80.763030631581898,1.0697090149878401,1.0016937552309499,1.0697090149878401,{"$f":"output[[#This Row],[ishp_Program]]-output[[#This Row],[ishp_Baseline]]","v":0},{"$f":"output[[#This Row],[ishp_Market]]-output[[#This Row],[ishp_Program]]","v":-50.94088842093015}]
["All","Paper","Base",2017,"6-10 HP","Traditional","ASD Control","constant","Pumps",2015,58346.834244940903,70697.798668314295,58346.834244940903,62717.012129887,75993.063788571002,62717.012129887,17.337792361775001,21.007887910424,17.337792361775001,2.1672240452218801,2.6259859888029999,2.1672240452218801,1.14208640657645,1.6126353713675701,1.14208640657645,0.142760800822057,0.20157942142094601,0.142760800822057,{"$f":"output[[#This Row],[ishp_Program]]-output[[#This Row],[ishp_Baseline]]","v":0},{"$f":"output[[#This Row],[ishp_Market]]-output[[#This Row],[ishp_Program]]","v":3.6700955486489981}]
["All","Paper","Base",2018,"1,001+ HP","Traditional","Non ASD Control","constant","Fans",2016,5816000.68893125,5816420.9828621102,5816000.68893125,6251619.1405322002,6252070.9144784901,6251619.1405322002,1663.8391863223201,1663.95942384452,1663.8391863223201,1.6638391863223201,1.6639594238445199,1.6638391863223201,66.553310060772006,66.440417196410706,66.553310060772006,6.6553310060772003E-2,6.6440417196410695E-2,6.6553310060772003E-2,{"$f":"output[[#This Row],[ishp_Program]]-output[[#This Row],[ishp_Baseline]]","v":0},{"$f":"output[[#This Row],[ishp_Market]]-output[[#This Row],[ishp_Program]]","v":0.12023752219988637}]
["All","Paper","Base",2018,"1-5 HP","Traditional","ASD Control","constant","Fans",2017,422.64952295996801,576.38137951236297,422.64952295996801,454.30597222966901,619.55234483783897,454.30597222966901,0.112634646804505,0.15360365877478499,0.112634646804505,3.75448822681686E-2,5.1201219591595203E-2,3.75448822681686E-2,1.93830885255134E-3,3.8677891365779299E-3,1.93830885255134E-3,6.4610295085044598E-4,1.2892630455259701E-3,6.4610295085044598E-4,{"$f":"output[[#This Row],[ishp_Program]]-output[[#This Row],[ishp_Baseline]]","v":0},{"$f":"output[[#This Row],[ishp_Market]]-output[[#This Row],[ishp_Program]]","v":4.0969011970279995E-2}]
["All","Paper","Base",2018,"1-5 HP","Traditional","ASD Control","variable","Pumps",2018,260212.96390305401,288563.30467059999,260212.96390305401,279702.91489939298,310176.69619042799,279702.91489939298,114.451044578192,126.920546736441,114.451044578192,38.150348192730902,42.306848912146997,38.150348192730902,2.0958877535131899,3.1194252863465102,2.0958877535131899,0.698629251171064,1.0398084287821701,0.698629251171064,{"$f":"output[[#This Row],[ishp_Program]]-output[[#This Row],[ishp_Baseline]]","v":0},{"$f":"output[[#This Row],[ishp_Market]]-output[[#This Row],[ishp_Program]]","v":12.469502158249}]
["All","Paper","Base",2018,"1-5 HP","Traditional","Non ASD Control","variable","Pumps","2014 and before",1213018.3908405099,980717.316433965,1213018.3908405099,1303873.46831446,1054173.04343486,1303873.46831446,369.925603006274,299.08239429836499,369.925603006274,123.308534335424,99.694131432788296,123.308534335424,143.48466174711399,135.748545796287,143.48466174711399,47.8282205823716,45.249515265429203,47.8282205823716,{"$f":"output[[#This Row],[ishp_Program]]-output[[#This Row],[ishp_Baseline]]","v":0},{"$f":"output[[#This Row],[ishp_Market]]-output[[#This Row],[ishp_Program]]","v":-70.843208707909014}]
["All","Paper","Base",2018,"101-200 HP","Traditional","Non ASD Control","variable","Fans","2014 and before",10970611.838652501,9481183.7126521394,10943151.0967078,11792310.6653676,10191324.3727297,11762793.113851201,3399.7117889764099,2938.1489852541799,3391.2019073493302,22.589447102833201,19.5225846196291,22.532903038865999,1156.9880322859899,1125.9483204247899,1156.9880322859899,7.68762812150164,7.4813841888690797,7.68762812150164,{"$f":"output[[#This Row],[ishp_Program]]-output[[#This Row],[ishp_Baseline]]","v":-8.5098816270797215},{"$f":"output[[#This Row],[ishp_Market]]-output[[#This Row],[ishp_Program]]","v":-453.05292209515028}]
["All","Paper","Base",2018,"11-20 HP","Traditional","Non ASD Control","constant","Fans","2014 and before",5496097.7614966799,5474633.5529193599,5495898.2217886802,5907755.4838327803,5884683.6060330197,5907540.9986006496,1496.6048709597701,1490.7600988137599,1496.55053566373,96.555152965146604,96.178070891210794,96.551647462176106,571.63838349187404,571.28445080209303,571.63838349187404,36.879895709153203,36.857061342070502,36.879895709153203,{"$f":"output[[#This Row],[ishp_Program]]-output[[#This Row],[ishp_Baseline]]","v":-5.4335296040108005E-2},{"$f":"output[[#This Row],[ishp_Market]]-output[[#This Row],[ishp_Program]]","v":-5.7904368499700922}]
["All","Paper","Base",2018,"201-500 HP","Traditional","ASD Control","constant","Pumps",2015,250077.85263150101,331119.19099583803,250077.85263150101,268808.683793601,355920.01840142702,268808.683793601,63.039154230090503,83.467902215584203,63.039154230090503,0.17985493360938801,0.238139521299812,0.17985493360938801,5.4027222658627299,8.0064745696406998,5.4027222658627299,1.5414328861234601E-2,2.28430087578907E-2,1.5414328861234601E-2,{"$f":"output[[#This Row],[ishp_Program]]-output[[#This Row],[ishp_Baseline]]","v":0},{"$f":"output[[#This Row],[ishp_Market]]-output[[#This Row],[ishp_Program]]","v":20.4287479854937}]
["All","Paper","Base",2018,"21-50 HP","Traditional","ASD Control","constant","Pumps",2018,151429.67308650899,220220.699000967,151429.67308650899,162771.75560068901,236715.22935613999,162771.75560068901,44.485717125467801,64.694557686412793,44.485717125467801,1.25311879226669,1.8223819066595099,1.25311879226669,6.6371054263444501E-2,1.5900486117119701,6.6371054263444501E-2,1.86960716235055E-3,4.4790101738365298E-2,1.86960716235055E-3,{"$f":"output[[#This Row],[ishp_Program]]-output[[#This Row],[ishp_Baseline]]","v":0},{"$f":"output[[#This Row],[ishp_Market]]-output[[#This Row],[ishp_Program]]","v":20.208840560944992}]
["All","Paper","Base",2018,"21-50 HP","Traditional","Non ASD Control","variable","Fans",2016,2149407.9401577199,1935442.39865207,2140531.8267971999,2310398.5948755401,2080407.0343111099,2300857.6606243099,654.41383851996795,589.26938235989405,651.71139599759999,18.434192634365299,16.599137531264599,18.3580674928901,27.2079632603274,23.5290013951209,27.2079632603274,0.76642150029091205,0.662788771693547,0.76642150029091205,{"$f":"output[[#This Row],[ishp_Program]]-output[[#This Row],[ishp_Baseline]]","v":-2.70244252236796},{"$f":"output[[#This Row],[ishp_Market]]-output[[#This Row],[ishp_Program]]","v":-62.442013637705941}]
["All","Paper","Base",2018,"501-1,000 HP","Traditional","ASD Control","constant","Pumps",2016,1493100.55861323,1860086.2092273999,1493100.55861323,1604933.79045336,1999406.6662985301,1604933.79045336,378.13256322193598,471.07287051195101,378.13256322193598,0.50384085705787696,0.62767870821046101,0.50384085705787696,22.295985436187301,33.0278820361724,22.295985436187301,2.9708175131495401E-2,4.40078374899033E-2,2.9708175131495401E-2,{"$f":"output[[#This Row],[ishp_Program]]-output[[#This Row],[ishp_Baseline]]","v":0},{"$f":"output[[#This Row],[ishp_Market]]-output[[#This Row],[ishp_Program]]","v":92.940307290015028}]
["All","Paper","Base",2018,"51-100 HP","Traditional","ASD Control","variable","Fans","2014 and before",7089309.26541242,7866677.2026287904,7124846.1694577197,7620298.5293918103,8455891.3251056802,7658497.1475501098,4493.1948087189303,4985.8895761776203,4515.7180513644898,59.512514022767299,66.038272532153997,59.810835117410498,1453.4074812573101,1491.72864871458,1453.4074812573101,19.250430215328599,19.757995347212901,19.250430215328599,{"$f":"output[[#This Row],[ishp_Program]]-output[[#This Row],[ishp_Baseline]]","v":22.523242645559549},{"$f":"output[[#This Row],[ishp_Market]]-output[[#This Row],[ishp_Program]]","v":470.17152481313042}]
["All","Paper","Base",2018,"51-100 HP","Traditional","Non ASD Control","variable","Pumps",2015,2367743.7485023001,1966763.5998893499,2334672.4531112998,2545087.75526512,2114074.1935210698,2509539.4198493301,625.52168428508401,519.58886191614795,616.78475386026298,8.2850554209944907,6.8819716810085803,8.1693344882153998,49.853700105845,38.2824133757738,49.853700105845,0.66031390868668904,0.50705183279170596,0.66031390868668904,{"$f":"output[[#This Row],[ishp_Program]]-output[[#This Row],[ishp_Baseline]]","v":-8.7369304248210256},{"$f":"output[[#This Row],[ishp_Market]]-output[[#This Row],[ishp_Program]]","v":-97.195891944115033}]
["All","Paper","Base",2018,"6-10 HP","Traditional","ASD Control","constant","Fans","2014 and before",83657.666911887194,104360.888339364,83695.820761885494,89923.626163587498,112177.518875982,89964.637736950797,23.320582160700699,29.091854467388099,23.3312180058835,2.9150727700875798,3.6364818084235102,2.9164022507354401,8.2757299264322501,8.7039939593905196,8.2757299264322501,1.0344662408040299,1.0879992449238101,1.0344662408040299,{"$f":"output[[#This Row],[ishp_Program]]-output[[#This Row],[ishp_Baseline]]","v":1.0635845182800807E-2},{"$f":"output[[#This Row],[ishp_Market]]-output[[#This Row],[ishp_Program]]","v":5.7606364615045997}]
["All","Paper","Base",2018,"6-10 HP","Traditional","Non ASD Control","variable","Fans",2018,187690.59616415299,172051.53572238301,187622.85948990099,201748.621816848,184938.19574798999,201675.81166569499,55.712254646673998,51.070107754005001,55.692148349811099,6.9640318308342497,6.3837634692506304,6.96151854372639,0,0,0,0,0,0,{"$f":"output[[#This Row],[ishp_Program]]-output[[#This Row],[ishp_Baseline]]","v":-2.0106296862898887E-2},{"$f":"output[[#This Row],[ishp_Market]]-output[[#This Row],[ishp_Program]]","v":-4.6220405958060979}]
["All","Paper","Base",2019,"1,001+ HP","Traditional","Non ASD Control","variable","Fans","2014 and before",35451394.053601101,35452675.243615903,35451394.053601101,38106703.468215801,38108080.619362697,38106703.468215801,11021.3780945856,11021.7763999256,11021.3780945856,11.0213780945856,11.021776399925599,11.0213780945856,4256.7087175709903,4256.5635995295397,4256.7087175709903,4.2567087175709899,4.2565635995295397,4.2567087175709899,{"$f":"output[[#This Row],[ishp_Program]]-output[[#This Row],[ishp_Baseline]]","v":0},{"$f":"output[[#This Row],[ishp_Market]]-output[[#This Row],[ishp_Program]]","v":0.39830534000066109}]
["All","Paper","Base",2019,"1-5 HP","Traditional","ASD Control","constant","Pumps",2018,86363.702004624894,121893.56987787801,86363.702004624894,92832.343284771297,131023.398261731,92832.343284771297,25.5105603577694,36.005557883879099,25.5105603577694,8.5035201192564696,12.0018526279597,8.5035201192564696,0.116705388959411,0.87935564913782205,0.116705388959411,3.8901796319803797E-2,0.29311854971260698,3.8901796319803797E-2,{"$f":"output[[#This Row],[ishp_Program]]-output[[#This Row],[ishp_Baseline]]","v":0},{"$f":"output[[#This Row],[ishp_Market]]-output[[#This Row],[ishp_Program]]","v":10.494997526109699}]
["All","Paper","Base",2019,"1-5 HP","Traditional","Non ASD Control","constant","Pumps",2018,343577.097200497,301188.17521721899,343577.097200497,369311.02178081399,323747.16954098898,369311.02178081399,87.341608753180793,76.565812958002795,87.341608753180793,29.113869584393601,25.521937652667599,29.113869584393601,0,0,0,0,0,0,{"$f":"output[[#This Row],[ishp_Program]]-output[[#This Row],[ishp_Baseline]]","v":0},{"$f":"output[[#This Row],[ishp_Market]]-output[[#This Row],[ishp_Program]]","v":-10.775795795177999}]
["All","Paper","Base",2019,"101-200 HP","Traditional","Non ASD Control","constant","Fans",2017,884020.81334404997,859023.03275928297,883935.69638703705,950233.97226352,923363.85791295394,950142.48004642595,251.886952254954,244.76425257459701,251.86269960098599,1.6736674568435499,1.6263405486684199,1.6735063096411,4.0605052147829301,3.9099359014992898,4.0605052147829301,2.6980101094903199E-2,2.5979640541523501E-2,2.6980101094903199E-2,{"$f":"output[[#This Row],[ishp_Program]]-output[[#This Row],[ishp_Baseline]]","v":-2.4252653968005689E-2},{"$f":"output[[#This Row],[ishp_Market]]-output[[#This Row],[ishp_Program]]","v":-7.0984470263889818}]
["All","Paper","Base",2019,"101-200 HP","Traditional","Non ASD Control","variable","Pumps","2014 and before",38701967.5071887,34183095.375162601,34998777.062602803,41600744.873477198,36743409.218762301,37620185.464591697,10035.2677734476,8863.5420240931799,9075.0450736432904,66.679520089353005,58.893966937496202,60.299302814905602,4327.7184697575003,4226.17206235918,4327.7184697575003,28.755604450215898,28.080877490758599,28.755604450215898,{"$f":"output[[#This Row],[ishp_Program]]-output[[#This Row],[ishp_Baseline]]","v":-960.22269980430974},{"$f":"output[[#This Row],[ishp_Market]]-output[[#This Row],[ishp_Program]]","v":-211.50304955011052}]
["All","Paper","Base",2019,"11-20 HP","Traditional","Non ASD Control","constant","Fans",2017,270540.76474112697,268703.39201360801,270522.82903439598,290804.26802023698,288829.27607542701,290784.98892907199,74.466923210118395,73.961182443327004,74.461986368540707,4.80431762645925,4.7716891898920597,4.8039991205510102,1.1956017834674399,1.18147760349265,1.1956017834674399,7.7135598933383204E-2,7.6224361515655203E-2,7.7135598933383204E-2,{"$f":"output[[#This Row],[ishp_Program]]-output[[#This Row],[ishp_Baseline]]","v":-4.9368415776882557E-3},{"$f":"output[[#This Row],[ishp_Market]]-output[[#This Row],[ishp_Program]]","v":-0.50080392521370243}]
["All","Paper","Base",2019,"11-20 HP","Traditional","Non ASD Control","variable","Fans",2016,262029.02334854499,236821.24658245701,261329.27060079301,281654.99719735101,254559.15795148301,280902.832968792,78.743670356928902,71.168353551433299,78.5333841107865,5.0802367972212199,4.5915066807376297,5.0666699426313802,3.26381664253014,2.9162658744930798,3.26381664253014,0.210568815647106,0.18814618545116599,0.210568815647106,{"$f":"output[[#This Row],[ishp_Program]]-output[[#This Row],[ishp_Baseline]]","v":-0.21028624614240243},{"$f":"output[[#This Row],[ishp_Market]]-output[[#This Row],[ishp_Program]]","v":-7.3650305593532011}]
["All","Paper","Base",2019,"201-500 HP","Traditional","Non ASD Control","variable","Fans",2016,697740.70082014601,517505.95974481601,688325.67408058106,750001.47931157495,556267.15612970304,739881.26706921705,217.92974730523301,161.635895546261,214.98909270988901,0.62176818061407602,0.46115804720759201,0.61337829589126802,9.3816442958598092,6.6233546619007297,9.3816442958598092,2.6766460187902401E-2,1.88968749269635E-2,2.6766460187902401E-2,{"$f":"output[[#This Row],[ishp_Program]]-output[[#This Row],[ishp_Baseline]]","v":-2.9406545953440002},{"$f":"output[[#This Row],[ishp_Market]]-output[[#This Row],[ishp_Program]]","v":-53.35319716362801}]
["All","Paper","Base",2019,"21-50 HP","Traditional","ASD Control","constant","Fans","2014 and before",888643.83154755598,1175211.9168920801,894066.68472078,955203.25453046802,1263235.28946729,961032.27940636699,258.29697417086101,341.59206575949497,259.87320360755001,7.27597110340455,9.6223117115350707,7.3203719326070402,91.810743982250202,96.791608125712003,91.810743982250202,2.5862181403450699,2.7265241725552598,2.5862181403450699,{"$f":"output[[#This Row],[ishp_Program]]-output[[#This Row],[ishp_Baseline]]","v":1.5762294366890046},{"$f":"output[[#This Row],[ishp_Market]]-output[[#This Row],[ishp_Program]]","v":81.718862151944961}]
["All","Paper","Base",2019,"21-50 HP","Traditional","ASD Control","variable","Pumps","2014 and before",2855687.3558454998,3598288.3545368901,3136458.2205843902,3069578.3387983199,3867800.1522916998,3371378.9413061598,1244.31328986943,1567.8880291876401,1366.6540347999201,35.051078587871302,44.165859977116597,38.497296754927497,489.56988273339999,528.57097396214704,489.56988273339999,13.7907009220676,14.889323210201299,13.7907009220676,{"$f":"output[[#This Row],[ishp_Program]]-output[[#This Row],[ishp_Baseline]]","v":122.34074493049002},{"$f":"output[[#This Row],[ishp_Market]]-output[[#This Row],[ishp_Program]]","v":201.23399438772003}]
["All","Paper","Base",2019,"501-1,000 HP","Traditional","Non ASD Control","constant","Fans",2018,437966.01581938902,435795.67407893698,437785.89138938702,470769.67040426098,468436.77006745001,470576.05465445202,125.29314530251,124.67225479224101,125.241615376521,0.16694622958362401,0.16611892710491899,0.166877568789502,0,0,0,0,0,0,{"$f":"output[[#This Row],[ishp_Program]]-output[[#This Row],[ishp_Baseline]]","v":-5.1529925989001413E-2},{"$f":"output[[#This Row],[ishp_Market]]-output[[#This Row],[ishp_Program]]","v":-0.56936058427999114}]
["All","Paper","Base",2019,"501-1,000 HP","Traditional","Non ASD Control","variable","Pumps",2016,1168242.51810561,807597.03190434899,1073252.7650772899,1255743.88271172,868086.04959398496,1153639.3971815801,301.64914882032002,208.527727323943,277.12206843797901,0.40193091115299101,0.27785173527507401,0.36924992463421502,17.369674941110901,9.1436194452256299,17.369674941110901,2.31441371633723E-2,1.21833703467363E-2,2.31441371633723E-2,{"$f":"output[[#This Row],[ishp_Program]]-output[[#This Row],[ishp_Baseline]]","v":-24.527080382341012},{"$f":"output[[#This Row],[ishp_Market]]-output[[#This Row],[ishp_Program]]","v":-68.594341114036013}]
["All","Paper","Base",2019,"51-100 HP","Traditional","ASD Control","variable","Fans",2019,498400.54479676101,583986.40749003098,502130.20831684599,535730.74560203799,627726.98941103404,539739.76091977698,317.82328386144002,372.400230490544,320.20163982438299,4.2095799186945699,4.9324533839807101,4.2410813221772603,1.22299381385557,3.1112935267431698,1.22299381385557,1.6198593561001E-2,4.1209185784677797E-2,1.6198593561001E-2,{"$f":"output[[#This Row],[ishp_Program]]-output[[#This Row],[ishp_Baseline]]","v":2.378355962942976},{"$f":"output[[#This Row],[ishp_Market]]-output[[#This Row],[ishp_Program]]","v":52.19859066616101}]
["All","Paper","Base",2019,"51-100 HP","Traditional","Non ASD Control","variable","Pumps",2017,2567004.1643660902,1861566.84319624,2500988.1694869502,2759272.77627711,2000998.19975164,2688312.1833815202,682.32317207668905,494.81423174711301,664.77577435174101,9.0373930076382596,6.5538308840677297,8.8049771437316693,15.7789726553621,7.2795017084675404,15.7789726553621,0.20899301530281,9.6417241171755499E-2,0.20899301530281,{"$f":"output[[#This Row],[ishp_Program]]-output[[#This Row],[ishp_Baseline]]","v":-17.547397724948041},{"$f":"output[[#This Row],[ishp_Market]]-output[[#This Row],[ishp_Program]]","v":-169.96154260462799}]
["All","Paper","Base",2019,"6-10 HP","Traditional","Non ASD Control","constant","Pumps",2018,969387.40947093302,936331.02724225004,969387.40947093302,1041994.5264403,1006462.22118269,1041994.5264403,248.28801127214601,239.82132053196901,248.28801127214601,31.036001409018301,29.977665066496201,31.036001409018301,0,0,0,0,0,0,{"$f":"output[[#This Row],[ishp_Program]]-output[[#This Row],[ishp_Baseline]]","v":0},{"$f":"output[[#This Row],[ishp_Market]]-output[[#This Row],[ishp_Program]]","v":-8.4666907401770004}]
["All","Paper","Base",2020,"1,001+ HP","Traditional","ASD Control","constant","Fans","2014 and before",0,0,0,0,0,0,0,0,0,0,0,0,0,0,0,0,0,0,{"$f":"output[[#This Row],[ishp_Program]]-output[[#This Row],[ishp_Baseline]]","v":0},{"$f":"output[[#This Row],[ishp_Market]]-output[[#This Row],[ishp_Program]]","v":0}]
["All","Paper","Base",2020,"1,001+ HP","Traditional","ASD Control","variable","Pumps",2016,1736844.6710149399,1793871.55800695,1736844.6710149399,1866934.33687396,1928232.5377016701,1866934.33687396,658.75317254357003,680.38241973717004,658.75317254357003,0.65875317254357002,0.68038241973716995,0.65875317254357002,44.170024920218196,45.684802686206503,44.170024920218196,4.4170024920218202E-2,4.5684802686206498E-2,4.4170024920218202E-2,{"$f":"output[[#This Row],[ishp_Program]]-output[[#This Row],[ishp_Baseline]]","v":0},{"$f":"output[[#This Row],[ishp_Market]]-output[[#This Row],[ishp_Program]]","v":21.629247193600008}]
["All","Paper","Base",2020,"1-5 HP","Traditional","ASD Control","constant","Pumps","2014 and before",664985.36635759799,885152.89544736606,664985.36635759799,714792.77029778203,951450.84731637395,714792.77029778203,192.940821492156,256.820879727354,192.940821492156,64.313607164052002,85.606959909118103,64.313607164052002,78.635928891317505,85.169833424924903,78.635928891317505,26.211976297105799,28.3899444749749,26.211976297105799,{"$f":"output[[#This Row],[ishp_Program]]-output[[#This Row],[ishp_Baseline]]","v":0},{"$f":"output[[#This Row],[ishp_Market]]-output[[#This Row],[ishp_Program]]","v":63.880058235197993}]
["All","Paper","Base",2020,"1-5 HP","Traditional","Non ASD Control","constant","Pumps",2016,353412.472080165,312433.62082863302,353412.472080165,379883.06623896898,335834.89902869699,379883.06623896898,89.841884445828299,79.424546321926897,89.841884445828299,29.947294815276098,26.474848773975602,29.947294815276098,4.50996356931884,3.7534773515128901,4.50996356931884,1.5033211897729399,1.25115911717096,1.5033211897729399,{"$f":"output[[#This Row],[ishp_Program]]-output[[#This Row],[ishp_Baseline]]","v":0},{"$f":"output[[#This Row],[ishp_Market]]-output[[#This Row],[ishp_Program]]","v":-10.417338123901402}]
["All","Paper","Base",2020,"1-5 HP","Traditional","Non ASD Control","variable","Pumps",2018,136876.66020834199,92380.065255416906,136876.66020834199,147128.72205794699,99299.332143047606,147128.72205794699,42.496495587409498,28.681508078264301,42.496495587409498,14.165498529136499,9.5605026927547794,14.165498529136499,0.32633181672093098,0,0.32633181672093098,0.10877727224031,0,0.10877727224031,{"$f":"output[[#This Row],[ishp_Program]]-output[[#This Row],[ishp_Baseline]]","v":0},{"$f":"output[[#This Row],[ishp_Market]]-output[[#This Row],[ishp_Program]]","v":-13.814987509145197}]
["All","Paper","Base",2020,"101-200 HP","Traditional","ASD Control","variable","Fans",2019,599966.67430705996,688647.94917070295,601439.14021642704,644904.17821265897,740227.68056358804,646486.931818638,388.16807255737899,445.54332523372,389.12073256071301,2.5791898508796001,2.9604207656725601,2.5855198176791601,1.4352959245277701,2.9946813688681702,1.4352959245277701,9.5368499968622698E-3,1.9898215075536001E-2,9.5368499968622698E-3,{"$f":"output[[#This Row],[ishp_Program]]-output[[#This Row],[ishp_Baseline]]","v":0.95266000333401735},{"$f":"output[[#This Row],[ishp_Market]]-output[[#This Row],[ishp_Program]]","v":56.422592673006989}]
["All","Paper","Base",2020,"11-20 HP","Traditional","ASD Control","constant","Pumps",2018,44286.1061544931,71334.875293837307,44286.1061544931,47603.135505464597,76677.857453345699,47603.135505464597,13.2779473713165,21.3877624866529,13.2779473713165,0.85664176589138896,1.3798556443001899,0.85664176589138896,1.6707567719231799E-3,0.45799945143318499,1.6707567719231799E-3,1.07790759478915E-4,2.95483517053668E-2,1.07790759478915E-4,{"$f":"output[[#This Row],[ishp_Program]]-output[[#This Row],[ishp_Baseline]]","v":0},{"$f":"output[[#This Row],[ishp_Market]]-output[[#This Row],[ishp_Program]]","v":8.1098151153363993}]
["All","Paper","Base",2020,"11-20 HP","Traditional","ASD Control","variable","Pumps",2020,169066.262484426,223612.249355034,173241.02863395301,181729.32554450899,240360.80683172599,186216.78167863601,77.398396770043703,102.36950497333601,79.309601300829499,4.9934449529060396,6.6044841918281696,5.1167484710212596,0.44388976301523497,2.1840376283419598,0.44388976301523497,2.8638049226789301E-2,0.14090565344141701,2.8638049226789301E-2,{"$f":"output[[#This Row],[ishp_Program]]-output[[#This Row],[ishp_Baseline]]","v":1.9112045307857954},{"$f":"output[[#This Row],[ishp_Market]]-output[[#This Row],[ishp_Program]]","v":23.059903672506508}]
["All","Paper","Base",2020,"11-20 HP","Traditional","Non ASD Control","variable","Fans",2020,263220.42481100699,233668.682986431,262397.91335804702,282935.63462935103,251170.46734211501,282051.51706856402,79.101704451106599,70.220960680932293,78.854527364045794,5.1033357710391396,4.5303845600601402,5.0873888621964998,3.8697024370169801E-5,7.1968852549980604E-5,3.8697024370169801E-5,2.4965822174303098E-6,4.6431517774181003E-6,2.4965822174303098E-6,{"$f":"output[[#This Row],[ishp_Program]]-output[[#This Row],[ishp_Baseline]]","v":-0.24717708706080543},{"$f":"output[[#This Row],[ishp_Market]]-output[[#This Row],[ishp_Program]]","v":-8.6335666831135001}]
["All","Paper","Base",2020,"201-500 HP","Traditional","ASD Control","variable","Pumps","2014 and before",4473687.2197675603,6010807.6628403496,7764565.3228673404,4808766.3925281502,6461017.15678709,8346131.2655501002,1688.9137902117,2269.2100393662899,2931.2915285730601,4.8185842802045604,6.47420838620911,8.3631712655436807,693.41982332454302,752.54099769524896,693.41982332454302,1.9783732477162399,2.1470499220977102,1.9783732477162399,{"$f":"output[[#This Row],[ishp_Program]]-output[[#This Row],[ishp_Baseline]]","v":1242.3777383613601},{"$f":"output[[#This Row],[ishp_Market]]-output[[#This Row],[ishp_Program]]","v":-662.08148920677013}]
["All","Paper","Base",2020,"21-50 HP","Traditional","ASD Control","constant","Fans",2015,54042.778412919797,75908.686555855602,54382.512685253001,58090.582516047398,81594.2471788892,58455.762885378397,15.7083025215333,22.063939853739399,15.807051121873,0.44248739497277001,0.62151943249970298,0.445269045686564,1.2098499981065201,1.50576638995083,1.2098499981065201,3.4080281636803503E-2,4.2415954646502503E-2,3.4080281636803503E-2,{"$f":"output[[#This Row],[ishp_Program]]-output[[#This Row],[ishp_Baseline]]","v":9.8748600339700232E-2},{"$f":"output[[#This Row],[ishp_Market]]-output[[#This Row],[ishp_Program]]","v":6.2568887318663986}]
["All","Paper","Base",2020,"21-50 HP","Traditional","ASD Control","variable","Pumps",2015,301603.87899555499,391053.837344228,329269.55346771597,324194.00953232299,420343.76976131002,353931.84302244801,131.41834807025899,170.39452370926401,143.47315734356599,3.70192529775378,4.7998457382891297,4.0414973899596003,11.987972788472399,15.9135685695957,11.987972788472399,0.33768937432316698,0.44826953717170998,0.33768937432316698,{"$f":"output[[#This Row],[ishp_Program]]-output[[#This Row],[ishp_Baseline]]","v":12.054809273307001},{"$f":"output[[#This Row],[ishp_Market]]-output[[#This Row],[ishp_Program]]","v":26.92136636569802}]
["All","Paper","Base",2020,"501-1,000 HP","Traditional","ASD Control","constant","Pumps",2016,1278959.43288992,1691929.93377894,1278959.43288992,1374753.49441337,1818655.48581898,1374753.49441337,323.90062800908299,428.48674790260799,323.90062800908299,0.43157978415600701,0.57093504050980404,0.43157978415600701,19.183956604247101,28.771073390089398,19.183956604247101,2.55615677604892E-2,3.8335873937494297E-2,2.55615677604892E-2,{"$f":"output[[#This Row],[ishp_Program]]-output[[#This Row],[ishp_Baseline]]","v":0},{"$f":"output[[#This Row],[ishp_Market]]-output[[#This Row],[ishp_Program]]","v":104.58611989352499}]
["All","Paper","Base",2020,"501-1,000 HP","Traditional","Non ASD Control","constant","Fans",2019,500006.47254924901,496800.93421407603,499781.87948613003,537456.957343188,534011.32418670994,537215.54225964099,143.041654727712,142.12461558336099,142.97740323267601,0.19059514287503301,0.18937323861873601,0.19050953128937501,1.7272474081253501E-4,1.6447179972184299E-4,1.7272474081253501E-4,2.30146223600979E-7,2.1914963320698599E-7,2.30146223600979E-7,{"$f":"output[[#This Row],[ishp_Program]]-output[[#This Row],[ishp_Baseline]]","v":-6.4251495035989592E-2},{"$f":"output[[#This Row],[ishp_Market]]-output[[#This Row],[ishp_Program]]","v":-0.85278764931501883}]
["All","Paper","Base",2020,"501-1,000 HP","Traditional","Non ASD Control","variable","Fans",2019,298945.23423085199,270999.665196263,292220.60588917002,321336.23227474297,291297.54011946399,314107.92927026801,93.371447698916398,84.643032127271596,91.2711021787226,0.124412322050521,0.112782188044332,0.121613727086905,6.61016013705356E-5,9.7952010429336295E-5,6.61016013705356E-5,8.8076750660273996E-8,1.3051567012569701E-7,8.8076750660273996E-8,{"$f":"output[[#This Row],[ishp_Program]]-output[[#This Row],[ishp_Baseline]]","v":-2.1003455201937982},{"$f":"output[[#This Row],[ishp_Market]]-output[[#This Row],[ishp_Program]]","v":-6.6280700514510045}]
["All","Paper","Base",2020,"51-100 HP","Traditional","ASD Control","constant","Pumps",2019,1131926.0785904699,1676455.8156570201,1131926.0785904699,1216707.3418769001,1802022.3562497301,1216707.3418769001,294.04980127222098,435.506795681803,294.04980127222098,3.8946993545989601,5.7683019295603097,3.8946993545989601,0.32007267336015799,9.2600274376066203,0.32007267336015799,4.23937315708819E-3,0.122649370034524,4.23937315708819E-3,{"$f":"output[[#This Row],[ishp_Program]]-output[[#This Row],[ishp_Baseline]]","v":0},{"$f":"output[[#This Row],[ishp_Market]]-output[[#This Row],[ishp_Program]]","v":141.45699440958202}]
["All","Paper","Base",2020,"6-10 HP","Traditional","ASD Control","constant","Fans",2018,4193.28136755385,6363.9612633083598,4196.6782712177101,4507.35814198363,6840.6219619301501,4511.0094737319096,1.18488459340233,1.7982479573752199,1.1858444476223899,0.148110574175291,0.22478099467190299,0.14823055595279899,0,1.2426840724793799E-2,0,0,1.5533550905992299E-3,0,{"$f":"output[[#This Row],[ishp_Program]]-output[[#This Row],[ishp_Baseline]]","v":9.5985422005995247E-4},{"$f":"output[[#This Row],[ishp_Market]]-output[[#This Row],[ishp_Program]]","v":0.61240350975282998}]
["All","Paper","Base",2020,"6-10 HP","Traditional","ASD Control","constant","Pumps","2014 and before",378736.049930454,544380.58169708203,378736.049930454,407103.38007024501,585154.68726619298,407103.38007024501,112.541615643567,161.76297503346899,112.541615643567,14.0677019554459,20.220371879183599,14.0677019554459,48.774519044983897,53.645660168079502,48.774519044983897,6.0968148806229898,6.7057075210099404,6.0968148806229898,{"$f":"output[[#This Row],[ishp_Program]]-output[[#This Row],[ishp_Baseline]]","v":0},{"$f":"output[[#This Row],[ishp_Market]]-output[[#This Row],[ishp_Program]]","v":49.221359389901991}]
["All","Paper","Base",2020,"6-10 HP","Traditional","Non ASD Control","constant","Pumps","2014 and before",7746557.2639244003,7549199.1746949898,7746557.2639244003,8326774.4029923398,8114634.1928796498,8326774.4029923398,1957.39602340498,1907.52768500859,1957.39602340498,244.67450292562299,238.440960626074,244.67450292562299,939.55064314671995,935.76759691311099,939.55064314671995,117.44383039333999,116.97094961413799,117.44383039333999,{"$f":"output[[#This Row],[ishp_Program]]-output[[#This Row],[ishp_Baseline]]","v":0},{"$f":"output[[#This Row],[ishp_Market]]-output[[#This Row],[ishp_Program]]","v":-49.868338396390072}]
["All","Paper","Base",2021,"1,001+ HP","Traditional","Non ASD Control","constant","Fans",2016,4813274.6570419297,4814641.8140726201,4813274.6570419297,5173788.9288543696,5175258.4859466599,5173788.9288543696,1376.97971806639,1377.3708338112499,1376.97971806639,1.3769797180663901,1.37737083381125,1.3769797180663901,59.9987002098133,59.6416943806706,59.9987002098133,5.9998700209813301E-2,5.9641694380670601E-2,5.9998700209813301E-2,{"$f":"output[[#This Row],[ishp_Program]]-output[[#This Row],[ishp_Baseline]]","v":0},{"$f":"output[[#This Row],[ishp_Market]]-output[[#This Row],[ishp_Program]]","v":0.39111574485991696}]
["All","Paper","Base",2021,"1,001+ HP","Traditional","Non ASD Control","variable","Fans",2016,2625590.51467876,2626336.2844067798,2625590.51467876,2822247.2442282001,2823048.8721088399,2822247.2442282001,820.067220843482,820.30015179932798,820.067220843482,0.82006722084348205,0.82030015179932803,0.82006722084348205,35.732528729163398,35.5199121057748,35.732528729163398,3.5732528729163403E-2,3.5519912105774799E-2,3.5732528729163403E-2,{"$f":"output[[#This Row],[ishp_Program]]-output[[#This Row],[ishp_Baseline]]","v":0},{"$f":"output[[#This Row],[ishp_Market]]-output[[#This Row],[ishp_Program]]","v":0.23293095584597268}]
["All","Paper","Base",2021,"1-5 HP","Traditional","ASD Control","constant","Pumps",2017,65301.4191098378,98207.421270110906,65301.4191098378,70192.495401164604,105563.157123242,70192.495401164604,19.2890734762655,29.009019874551999,19.2890734762655,6.4296911587551904,9.6696732915173396,6.4296911587551904,0.43343137952962402,1.0635047126327399,0.43343137952962402,0.14447712650987399,0.354501570877579,0.14447712650987399,{"$f":"output[[#This Row],[ishp_Program]]-output[[#This Row],[ishp_Baseline]]","v":0},{"$f":"output[[#This Row],[ishp_Market]]-output[[#This Row],[ishp_Program]]","v":9.7199463982864991}]
["All","Paper","Base",2021,"1-5 HP","Traditional","Non ASD Control","variable","Fans",2017,87642.348419390299,85053.958157576606,87642.348419390299,94206.760316002605,91424.499623579104,94206.760316002605,24.810456245564801,24.077715230572,24.810456245564801,8.2701520818549401,8.0259050768573399,8.2701520818549401,0.42431901792062998,0.41294620722745301,0.42431901792062998,0.14143967264021001,0.13764873574248401,0.14143967264021001,{"$f":"output[[#This Row],[ishp_Program]]-output[[#This Row],[ishp_Baseline]]","v":0},{"$f":"output[[#This Row],[ishp_Market]]-output[[#This Row],[ishp_Program]]","v":-0.73274101499280064}]
["All","Paper","Base",2021,"101-200 HP","Traditional","ASD Control","constant","Fans","2014 and before",1029530.09754981,1472041.40999154,1031089.57769103,1106641.9018562899,1582297.31159991,1108318.18706009,307.27962907190403,439.35416702938898,307.74508071870702,2.0417251101123099,2.9192967908929499,2.04481781208443,106.334830483331,111.252835711434,106.334830483331,0.70654372414173705,0.73922149974374995,0.70654372414173705,{"$f":"output[[#This Row],[ishp_Program]]-output[[#This Row],[ishp_Baseline]]","v":0.46545164680298967},{"$f":"output[[#This Row],[ishp_Market]]-output[[#This Row],[ishp_Program]]","v":131.60908631068196}]
["All","Paper","Base",2021,"101-200 HP","Traditional","Non ASD Control","constant","Fans",2018,848048.96312030999,815924.97683018201,847959.48261776799,911567.83045802102,877037.75759476202,911471.64786583895,241.637374888609,232.48418202396201,241.611878915289,1.6055639527482299,1.5447453955080499,1.6053945442876301,4.0329991597504102E-4,4.4824638518486899E-4,4.0329991597504102E-4,2.67973366096373E-6,2.9783812969094301E-6,2.67973366096373E-6,{"$f":"output[[#This Row],[ishp_Program]]-output[[#This Row],[ishp_Baseline]]","v":-2.5495973320005305E-2},{"$f":"output[[#This Row],[ishp_Market]]-output[[#This Row],[ishp_Program]]","v":-9.1276968913269911}]
["All","Paper","Base",2021,"101-200 HP","Traditional","Non ASD Control","constant","Pumps",2020,14640103.7567544,14094752.0711926,14640103.7567544,15736647.5281353,15150449.001324899,15736647.5281353,3187.5685045554401,3068.82987498794,3187.5685045554401,21.1798571731258,20.390896179321899,21.1798571731258,0,0,0,0,0,0,{"$f":"output[[#This Row],[ishp_Program]]-output[[#This Row],[ishp_Baseline]]","v":0},{"$f":"output[[#This Row],[ishp_Market]]-output[[#This Row],[ishp_Program]]","v":-118.73862956750008}]
["All","Paper","Base",2021,"11-20 HP","Traditional","ASD Control","variable","Pumps",2020,155376.43322825199,208553.950922035,159523.72830931901,167014.12807704799,224174.64184609501,171472.05555968799,71.131204126679606,95.475828259413106,73.0298324247793,4.5891099436567497,6.1597308554460097,4.7116020919212502,0.31989364582284202,1.79074796114907,0.31989364582284202,2.0638299730505901E-2,0.115532126525746,2.0638299730505901E-2,{"$f":"output[[#This Row],[ishp_Program]]-output[[#This Row],[ishp_Baseline]]","v":1.8986282980996947},{"$f":"output[[#This Row],[ishp_Market]]-output[[#This Row],[ishp_Program]]","v":22.445995834633806}]
["All","Paper","Base",2021,"11-20 HP","Traditional","Non ASD Control","constant","Pumps",2020,1198332.22842193,1151149.6407436,1198332.22842193,1288087.31233073,1237370.7488353001,1288087.31233073,308.01178869108003,295.88427273082499,308.01178869108003,19.8717283026503,19.089307918117701,19.8717283026503,0,0,0,0,0,0,{"$f":"output[[#This Row],[ishp_Program]]-output[[#This Row],[ishp_Baseline]]","v":0},{"$f":"output[[#This Row],[ishp_Market]]-output[[#This Row],[ishp_Program]]","v":-12.127515960255039}]
["All","Paper","Base",2021,"201-500 HP","Traditional","ASD Control","constant","Fans",2015,171880.745401981,232816.599834416,172129.70612123,184754.61323258901,250254.563162014,185022.22110970999,51.465154705910201,69.710788724820802,51.539699425284603,0.14683353696408,0.198889554136436,0.14704621804646101,3.8122300253715302,4.5223805362254996,3.8122300253715302,1.0876547861259699E-2,1.2902654882241099E-2,1.0876547861259699E-2,{"$f":"output[[#This Row],[ishp_Program]]-output[[#This Row],[ishp_Baseline]]","v":7.4544719374401325E-2},{"$f":"output[[#This Row],[ishp_Market]]-output[[#This Row],[ishp_Program]]","v":18.171089299536199}]
["All","Paper","Base",2021,"201-500 HP","Traditional","Non ASD Control","variable","Fans",2018,462959.350016465,304228.30047290702,455232.40429547703,497635.00533269899,327015.00017832802,489329.31137720798,144.59900940720701,95.021541049891297,142.18560378755899,0.41255066877947799,0.27110282753178599,0.40566506073483399,0.57687813363271001,1.8320843129844501E-4,0.57687813363271001,1.64587199324596E-3,5.2270593808401003E-7,1.64587199324596E-3,{"$f":"output[[#This Row],[ishp_Program]]-output[[#This Row],[ishp_Baseline]]","v":-2.4134056196480174},{"$f":"output[[#This Row],[ishp_Market]]-output[[#This Row],[ishp_Program]]","v":-47.164062737667692}]
["All","Paper","Base",2021,"21-50 HP","Traditional","ASD Control","constant","Fans",2018,44346.961052835599,70435.039425269395,44685.627406900399,47668.548435693003,75710.623878222003,48032.580899677298,12.9873510722541,20.627446911506901,13.0865321374765,0.365840875274763,0.58105484257765905,0.36863470809793097,0,0.111841382728687,0,0,3.1504614853151498E-3,0,{"$f":"output[[#This Row],[ishp_Program]]-output[[#This Row],[ishp_Baseline]]","v":9.9181065222399667E-2},{"$f":"output[[#This Row],[ishp_Market]]-output[[#This Row],[ishp_Program]]","v":7.5409147740304014}]
["All","Paper","Base",2021,"21-50 HP","Traditional","ASD Control","variable","Pumps",2015,277967.31095880002,365710.73491357901,305680.35369111499,298787.062549614,393102.46895860601,328575.81218258,121.119147888266,159.35173252400801,133.19459701050701,3.4118069827680699,4.4887811978593799,3.75196047916923,11.3401296657225,14.7903251929693,11.3401296657225,0.319440272273875,0.41662887867519199,0.319440272273875,{"$f":"output[[#This Row],[ishp_Program]]-output[[#This Row],[ishp_Baseline]]","v":12.075449122241011},{"$f":"output[[#This Row],[ishp_Market]]-output[[#This Row],[ishp_Program]]","v":26.157135513501004}]
["All","Paper","Base",2021,"21-50 HP","Traditional","Non ASD Control","variable","Fans",2020,2006648.1607564001,1667426.14279304,1990190.5353818201,2156946.1079970598,1792316.3608882399,2139255.8064819202,610.94885754598602,507.66851753309697,605.93812989718299,17.209826973126301,14.300521620650599,17.068679715413602,0.26141451767901502,7.7117524618908195E-4,0.26141451767901502,7.36378923039479E-3,2.1723246371523401E-5,7.36378923039479E-3,{"$f":"output[[#This Row],[ishp_Program]]-output[[#This Row],[ishp_Baseline]]","v":-5.0107276488030266},{"$f":"output[[#This Row],[ishp_Market]]-output[[#This Row],[ishp_Program]]","v":-98.269612364086015}]
["All","Paper","Base",2021,"501-1,000 HP","Traditional","ASD Control","variable","Pumps",2016,3317037.0699233301,3574864.17288682,3381254.0320987199,3565483.1464605802,3842621.4994360502,3634509.95910291,1258.0910254799701,1355.8800937134999,1282.4473356728799,1.67633714254493,1.80663570115056,1.7087905871724001,81.5216109313874,89.148998068834601,81.5216109313874,0.108623065864606,0.118786139998447,0.108623065864606,{"$f":"output[[#This Row],[ishp_Program]]-output[[#This Row],[ishp_Baseline]]","v":24.356310192909859},{"$f":"output[[#This Row],[ishp_Market]]-output[[#This Row],[ishp_Program]]","v":73.432758040620001}]
["All","Paper","Base",2021,"501-1,000 HP","Traditional","Non ASD Control","constant","Pumps",2021,2970449.0090274299,2502627.3281735298,2970449.0090274299,3192935.6398035898,2690074.1150537301,3192935.6398035898,628.00696473593803,529.10094987493301,628.00696473593803,0.83678476313915895,0.70499793454354898,0.83678476313915895,9.1313449342569301E-3,0,9.1313449342569301E-3,1.21670152355189E-5,0,1.21670152355189E-5,{"$f":"output[[#This Row],[ishp_Program]]-output[[#This Row],[ishp_Baseline]]","v":0},{"$f":"output[[#This Row],[ishp_Market]]-output[[#This Row],[ishp_Program]]","v":-98.906014861005019}]
["All","Paper","Base",2021,"501-1,000 HP","Traditional","Non ASD Control","variable","Pumps",2021,1234527.23287623,849479.14613607805,1114990.8649098601,1326993.3226186601,913105.13418167096,1198503.6806916101,318.76436888847701,219.342009386954,287.899164882207,0.42473600118384702,0.292261171734782,0.38360981330074301,3.0401516838116698,0,3.0401516838116698,4.0508350217344103E-3,0,4.0508350217344103E-3,{"$f":"output[[#This Row],[ishp_Program]]-output[[#This Row],[ishp_Baseline]]","v":-30.865204006270005},{"$f":"output[[#This Row],[ishp_Market]]-output[[#This Row],[ishp_Program]]","v":-68.557155495252999}]
["All","Paper","Base",2021,"51-100 HP","Traditional","Non ASD Control","constant","Pumps",2021,7742654.6450062701,7182404.1517798696,7742654.6450062701,8322579.47791724,7720366.2227481902,8322579.47791724,1721.49354324311,1596.9280484731701,1721.49354324311,22.801238983352501,21.151364880439299,22.801238983352501,0,0,0,0,0,0,{"$f":"output[[#This Row],[ishp_Program]]-output[[#This Row],[ishp_Baseline]]","v":0},{"$f":"output[[#This Row],[ishp_Market]]-output[[#This Row],[ishp_Program]]","v":-124.56549476993996}]
["All","Paper","Base",2021,"6-10 HP","Traditional","ASD Control","constant","Fans",2019,4792.5111960999002,7563.0181310091502,4796.7688745937503,5151.4702846877799,8129.4881890217302,5156.0468633008304,1.3542074051852899,2.1370623331872398,1.3554104863069301,0.16927592564816199,0.26713279164840498,0.16942631078836701,0,1.1141627682073199E-2,0,0,1.3927034602591499E-3,0,{"$f":"output[[#This Row],[ishp_Program]]-output[[#This Row],[ishp_Baseline]]","v":1.2030811216401371E-3},{"$f":"output[[#This Row],[ishp_Market]]-output[[#This Row],[ishp_Program]]","v":0.78165184688030975}]
["All","Paper","Base",2021,"6-10 HP","Traditional","ASD Control","variable","Fans",2019,35951.895062458898,49450.934143956103,36017.598010144902,38644.692002637101,53154.8091113384,38715.3161011048,21.6179490653365,29.7349492620665,21.6574563840481,2.7022436331670598,3.7168686577583099,2.7071820480060098,8.0385830365554602E-3,0.15502389831052099,8.0385830365554602E-3,1.0048228795694299E-3,1.93779872888151E-2,1.0048228795694299E-3,{"$f":"output[[#This Row],[ishp_Program]]-output[[#This Row],[ishp_Baseline]]","v":3.9507318711599737E-2},{"$f":"output[[#This Row],[ishp_Market]]-output[[#This Row],[ishp_Program]]","v":8.0774928780184005}]
["All","Paper","Base",2021,"6-10 HP","Traditional","Non ASD Control","constant","Pumps",2016,913135.31264485698,884022.595676,913135.31264485698,981529.14756195701,950235.88809213205,981529.14756195701,233.88023052898899,226.42362594726501,233.88023052898899,29.235028816123599,28.302953243408101,29.235028816123599,12.3078211950056,11.6344322416103,12.3078211950056,1.5384776493757,1.45430403020129,1.5384776493757,{"$f":"output[[#This Row],[ishp_Program]]-output[[#This Row],[ishp_Baseline]]","v":0},{"$f":"output[[#This Row],[ishp_Market]]-output[[#This Row],[ishp_Program]]","v":-7.4566045817239797}]
["All","Primary Metal","Base",2014,"1,001+ HP","Traditional","Non ASD Control","variable","Pumps","2014 and before",14260638.154925199,14260638.154925199,14260638.154925199,15328759.9527291,15328759.9527291,15328759.9527291,4215.4298057012602,4215.4298057012602,4215.4298057012602,4.2154298057012598,4.2154298057012598,4.2154298057012598,1575.9457333970299,1575.9457333970299,1575.9457333970299,1.5759457333970299,1.5759457333970299,1.5759457333970299,{"$f":"output[[#This Row],[ishp_Program]]-output[[#This Row],[ishp_Baseline]]","v":0},{"$f":"output[[#This Row],[ishp_Market]]-output[[#This Row],[ishp_Program]]","v":0}]
["All","Primary Metal","Base",2014,"21-50 HP","Traditional","ASD Control","variable","Fans","2014 and before",14235300.1990184,14235300.1990184,14235300.1990184,15301524.1839249,15301524.1839249,15301524.1839249,7449.2274999563097,7449.2274999563097,7449.2274999563097,209.837394364966,209.837394364966,209.837394364966,2784.90660188019,2784.90660188019,2784.90660188019,78.448073292399798,78.448073292399798,78.448073292399798,{"$f":"output[[#This Row],[ishp_Program]]-output[[#This Row],[ishp_Baseline]]","v":0},{"$f":"output[[#This Row],[ishp_Market]]-output[[#This Row],[ishp_Program]]","v":0}]
["All","Primary Metal","Base",2014,"51-100 HP","Traditional","Non ASD Control","variable","Pumps","2014 and before",18344587.7905364,18344587.7905364,18344587.7905364,19718597.416047599,19718597.416047599,19718597.416047599,5574.0300849982405,5574.0300849982405,5574.0300849982405,73.828213046334398,73.828213046334398,73.828213046334398,2083.8608007181201,2083.8608007181201,2083.8608007181201,27.600805307524801,27.600805307524801,27.600805307524801,{"$f":"output[[#This Row],[ishp_Program]]-output[[#This Row],[ishp_Baseline]]","v":0},{"$f":"output[[#This Row],[ishp_Market]]-output[[#This Row],[ishp_Program]]","v":0}]
["All","Primary Metal","Base",2015,"1-5 HP","Traditional","Non ASD Control","variable","Fans",2015,790941.96748383704,790941.96748383704,790941.96748383704,850183.52084837598,850183.52084837598,850183.52084837598,185.292092941866,185.292092941866,185.292092941866,61.764030980622202,61.764030980622202,61.764030980622202,0,0,0,0,0,0,{"$f":"output[[#This Row],[ishp_Program]]-output[[#This Row],[ishp_Baseline]]","v":0},{"$f":"output[[#This Row],[ishp_Market]]-output[[#This Row],[ishp_Program]]","v":0}]
["All","Primary Metal","Base",2015,"11-20 HP","Traditional","Non ASD Control","constant","Fans",2015,1418376.34863282,1418376.34863282,1418376.34863282,1524612.7371454199,1524612.7371454199,1524612.7371454199,325.39615861176702,325.39615861176702,325.39615861176702,20.993300555597799,20.993300555597799,20.993300555597799,0,0,0,0,0,0,{"$f":"output[[#This Row],[ishp_Program]]-output[[#This Row],[ishp_Baseline]]","v":0},{"$f":"output[[#This Row],[ishp_Market]]-output[[#This Row],[ishp_Program]]","v":0}]
["All","Primary Metal","Base",2015,"201-500 HP","Traditional","Non ASD Control","variable","Fans","2014 and before",19472382.669918802,19472382.669918802,19472382.669918802,20930864.131895699,20930864.131895699,20930864.131895699,5100.2318034031596,5100.2318034031596,5100.2318034031596,14.551303290736501,14.551303290736501,14.551303290736501,2279.9690556760702,2279.9690556760702,2279.9690556760702,6.5049045811014796,6.5049045811014796,6.5049045811014796,{"$f":"output[[#This Row],[ishp_Program]]-output[[#This Row],[ishp_Baseline]]","v":0},{"$f":"output[[#This Row],[ishp_Market]]-output[[#This Row],[ishp_Program]]","v":0}]
["All","Primary Metal","Base",2015,"51-100 HP","Traditional","Non ASD Control","constant","Fans",2015,4345111.2282489799,4345111.2282489799,4345111.2282489799,4670560.0592448302,4670560.0592448302,4670560.0592448302,1028.9387525335501,1028.9387525335501,1028.9387525335501,13.628327848126601,13.628327848126601,13.628327848126601,0,0,0,0,0,0,{"$f":"output[[#This Row],[ishp_Program]]-output[[#This Row],[ishp_Baseline]]","v":0},{"$f":"output[[#This Row],[ishp_Market]]-output[[#This Row],[ishp_Program]]","v":0}]
["All","Primary Metal","Base",2016,"1,001+ HP","Traditional","ASD Control","constant","Fans",2016,0,0,0,0,0,0,0,0,0,0,0,0,0,0,0,0,0,0,{"$f":"output[[#This Row],[ishp_Program]]-output[[#This Row],[ishp_Baseline]]","v":0},{"$f":"output[[#This Row],[ishp_Market]]-output[[#This Row],[ishp_Program]]","v":0}]
["All","Primary Metal","Base",2016,"1,001+ HP","Traditional","Non ASD Control","constant","Fans","2014 and before",24887206.066225398,24887206.066225398,24887206.066225398,26751257.800585698,26751257.800585698,26751257.800585698,5970.5096434246898,5970.5096434246898,5970.5096434246898,5.9705096434246903,5.9705096434246903,5.9705096434246903,3013.8421774738299,3013.8421774738299,3013.8421774738299,3.0138421774738302,3.0138421774738302,3.0138421774738302,{"$f":"output[[#This Row],[ishp_Program]]-output[[#This Row],[ishp_Baseline]]","v":0},{"$f":"output[[#This Row],[ishp_Market]]-output[[#This Row],[ishp_Program]]","v":0}]
["All","Primary Metal","Base",2016,"1-5 HP","Traditional","ASD Control","variable","Pumps","2014 and before",334485.87977887102,375554.730007765,334485.87977887102,359538.872174308,403683.77928534598,359538.872174308,161.90526232397301,181.784316632779,161.90526232397301,53.968420774657702,60.594772210926401,53.968420774657702,84.169314151148498,86.186704305231601,84.169314151148498,28.056438050382798,28.728901435077201,28.056438050382798,{"$f":"output[[#This Row],[ishp_Program]]-output[[#This Row],[ishp_Baseline]]","v":0},{"$f":"output[[#This Row],[ishp_Market]]-output[[#This Row],[ishp_Program]]","v":19.879054308805991}]
["All","Primary Metal","Base",2016,"11-20 HP","Traditional","ASD Control","variable","Pumps","2014 and before",470759.47535655199,526174.16183479596,472609.999661371,506019.36006075703,565584.60655622196,508008.488636008,252.03554250125001,281.70349673308601,253.02627751879501,16.260357580725799,18.174419144070001,16.324275968954499,130.53621706323,133.55990453087401,130.53621706323,8.4216914234342095,8.6167680342499509,8.4216914234342095,{"$f":"output[[#This Row],[ishp_Program]]-output[[#This Row],[ishp_Baseline]]","v":0.99073501754500626},{"$f":"output[[#This Row],[ishp_Market]]-output[[#This Row],[ishp_Program]]","v":28.677219214291}]
["All","Primary Metal","Base",2016,"11-20 HP","Traditional","Non ASD Control","variable","Pumps",2016,304187.51820714399,288530.03521866002,303934.15197855397,326971.16332085902,310140.93485653802,326698.81996174803,112.881799683781,107.071420386578,112.78777729906599,7.2826967537923499,6.9078335733276504,7.2766307934881604,0,0,0,0,0,0,{"$f":"output[[#This Row],[ishp_Program]]-output[[#This Row],[ishp_Baseline]]","v":-9.4022384715003682E-2},{"$f":"output[[#This Row],[ishp_Market]]-output[[#This Row],[ishp_Program]]","v":-5.7163569124879956}]
["All","Primary Metal","Base",2016,"21-50 HP","Traditional","ASD Control","constant","Fans",2016,92265.850701781295,96065.591583332804,92265.850701781295,99176.562919344695,103260.904392924,99176.562919344695,22.764910223821701,23.702426752248801,22.764910223821701,0.64126507672737298,0.66767399302109298,0.64126507672737298,1.8361853917090399E-3,2.1994012626484701E-2,1.8361853917090399E-3,5.1723532160818097E-5,6.1954965145027496E-4,5.1723532160818097E-5,{"$f":"output[[#This Row],[ishp_Program]]-output[[#This Row],[ishp_Baseline]]","v":0},{"$f":"output[[#This Row],[ishp_Market]]-output[[#This Row],[ishp_Program]]","v":0.93751652842709987}]
["All","Primary Metal","Base",2016,"51-100 HP","Traditional","ASD Control","constant","Fans",2016,189864.90967736201,197490.571850123,189864.90967736201,204085.79141219601,212282.61568169799,204085.79141219601,47.54682544133,49.456478092886201,47.54682544133,0.62975927736860904,0.65505268997200305,0.62975927736860904,4.2372759035200699E-3,4.5891773657008098E-2,4.2372759035200699E-3,5.6122859649272498E-5,6.0783806168222604E-4,5.6122859649272498E-5,{"$f":"output[[#This Row],[ishp_Program]]-output[[#This Row],[ishp_Baseline]]","v":0},{"$f":"output[[#This Row],[ishp_Market]]-output[[#This Row],[ishp_Program]]","v":1.9096526515562005}]
["All","Primary Metal","Base",2016,"51-100 HP","Traditional","Non ASD Control","constant","Pumps","2014 and before",37569448.600130998,37500550.954516299,37569448.600130998,40383400.300280899,40309342.2210095,40383400.300280899,9346.9395658047706,9329.7984537101602,9346.9395658047706,123.800524050394,123.57348945311399,123.800524050394,5595.5292626014498,5594.2611873278802,5595.5292626014498,74.1129703655821,74.096174666594393,74.1129703655821,{"$f":"output[[#This Row],[ishp_Program]]-output[[#This Row],[ishp_Baseline]]","v":0},{"$f":"output[[#This Row],[ishp_Market]]-output[[#This Row],[ishp_Program]]","v":-17.141112094610435}]
["All","Primary Metal","Base",2016,"6-10 HP","Traditional","Non ASD Control","variable","Fans",2016,752023.060463759,748645.35246402596,752023.060463759,808349.58769249404,804718.88936358097,808349.58769249404,188.06484247952201,187.220150133891,188.06484247952201,23.508105309940198,23.4025187667363,23.508105309940198,0,0,0,0,0,0,{"$f":"output[[#This Row],[ishp_Program]]-output[[#This Row],[ishp_Baseline]]","v":0},{"$f":"output[[#This Row],[ishp_Market]]-output[[#This Row],[ishp_Program]]","v":-0.84469234563101736}]
["All","Primary Metal","Base",2017,"1-5 HP","Traditional","ASD Control","constant","Fans",2017,585.420642691951,623.00399328840103,585.420642691951,629.26864882957898,669.66699238570197,629.26864882957898,0.131440101609305,0.13987840914574501,0.131440101609305,4.3813367203101597E-2,4.6626136381915199E-2,4.3813367203101597E-2,0,2.1516135774845901E-4,0,0,7.1720452582819797E-5,0,{"$f":"output[[#This Row],[ishp_Program]]-output[[#This Row],[ishp_Baseline]]","v":0},{"$f":"output[[#This Row],[ishp_Market]]-output[[#This Row],[ishp_Program]]","v":8.4383075364400095E-3}]
["All","Primary Metal","Base",2017,"1-5 HP","Traditional","Non ASD Control","constant","Pumps","2014 and before",6686242.4625809602,6644379.4956936603,6686242.4625809602,7187042.0230282703,7142043.5199211203,7187042.0230282703,1870.5591534798,1858.84746992343,1870.5591534798,623.51971782659996,619.615823307813,623.51971782659996,1464.0177917261699,1462.91348548675,1464.0177917261699,488.00593057538998,487.63782849558498,488.00593057538998,{"$f":"output[[#This Row],[ishp_Program]]-output[[#This Row],[ishp_Baseline]]","v":0},{"$f":"output[[#This Row],[ishp_Market]]-output[[#This Row],[ishp_Program]]","v":-11.711683556369962}]
["All","Primary Metal","Base",2017,"101-200 HP","Traditional","ASD Control","variable","Pumps",2015,958429.91458601202,1017462.73399332,984717.93899467902,1030216.3151885,1093670.6927694301,1058473.31262538,419.85816696936001,445.71859867144798,431.37412820293298,2.78975526225488,2.9615853732322099,2.8662732770959001,48.661642342665601,52.416392102337397,48.661642342665601,0.32333317171206399,0.34828167509858698,0.32333317171206399,{"$f":"output[[#This Row],[ishp_Program]]-output[[#This Row],[ishp_Baseline]]","v":11.515961233572966},{"$f":"output[[#This Row],[ishp_Market]]-output[[#This Row],[ishp_Program]]","v":14.344470468514999}]
["All","Primary Metal","Base",2017,"11-20 HP","Traditional","Non ASD Control","constant","Pumps",2015,633835.06134412601,628867.13417069102,633835.06134412601,681309.30743880104,675969.28252007603,681309.30743880104,190.52591906689099,189.03259856712501,190.52591906689099,12.2919947785091,12.195651520459601,12.2919947785091,19.339796580578,19.197493230331201,19.339796580578,1.2477288116501899,1.23854795034395,1.2477288116501899,{"$f":"output[[#This Row],[ishp_Program]]-output[[#This Row],[ishp_Baseline]]","v":0},{"$f":"output[[#This Row],[ishp_Market]]-output[[#This Row],[ishp_Program]]","v":-1.4933204997659857}]
["All","Primary Metal","Base",2017,"201-500 HP","Traditional","ASD Control","variable","Pumps",2016,1694846.46756952,1893078.1103958001,1736233.94075432,1821790.4679904799,2034869.66086444,1866277.86291682,739.34268766797697,825.81725536034799,757.39714053184798,2.1093942586818102,2.35611199817503,2.1609048232007,49.0454385386507,59.094157283430299,49.0454385386507,0.13992992450399599,0.16859959282005699,0.13992992450399599,{"$f":"output[[#This Row],[ishp_Program]]-output[[#This Row],[ishp_Baseline]]","v":18.054452863871006},{"$f":"output[[#This Row],[ishp_Market]]-output[[#This Row],[ishp_Program]]","v":68.420114828500004}]
["All","Primary Metal","Base",2017,"21-50 HP","Traditional","ASD Control","constant","Fans",2017,87026.112181807504,92487.094386313795,87026.112181807504,93544.367984224897,99414.377755848793,93544.367984224897,21.472100629630201,22.819498054288399,21.472100629630201,0.60484790506000696,0.64280276209263099,0.60484790506000696,0,3.5101015335280199E-2,0,0,9.8876099536000491E-4,0,{"$f":"output[[#This Row],[ishp_Program]]-output[[#This Row],[ishp_Baseline]]","v":0},{"$f":"output[[#This Row],[ishp_Market]]-output[[#This Row],[ishp_Program]]","v":1.3473974246581975}]
["All","Primary Metal","Base",2017,"21-50 HP","Traditional","Non ASD Control","constant","Fans",2016,3912360.0151406899,3907029.0518018799,3912360.0151406899,4205395.7802747302,4199665.5277818404,4205395.7802747302,919.18962542314,917.93714196671499,919.18962542314,25.892665504877101,25.857384280752498,25.892665504877101,48.048978125473901,47.965550563247398,48.048978125473901,1.3534923415626401,1.3511422693872499,1.3534923415626401,{"$f":"output[[#This Row],[ishp_Program]]-output[[#This Row],[ishp_Baseline]]","v":0},{"$f":"output[[#This Row],[ishp_Market]]-output[[#This Row],[ishp_Program]]","v":-1.2524834564250114}]
["All","Primary Metal","Base",2017,"501-1,000 HP","Traditional","ASD Control","variable","Fans",2015,249407.730795927,252071.31011672001,249407.730795927,268088.36983254203,270951.45124446298,268088.36983254203,135.860958192585,137.311901343345,135.860958192585,0.18102725941716899,0.18296056141684899,0.18102725941716899,13.711720357829501,13.8233674557641,13.711720357829501,1.8270113734616299E-2,1.84188773561147E-2,1.8270113734616299E-2,{"$f":"output[[#This Row],[ishp_Program]]-output[[#This Row],[ishp_Baseline]]","v":0},{"$f":"output[[#This Row],[ishp_Market]]-output[[#This Row],[ishp_Program]]","v":1.450943150759997}]
["All","Primary Metal","Base",2017,"51-100 HP","Traditional","Non ASD Control","constant","Fans","2014 and before",76532336.930856004,76389109.801236793,76532336.930856004,82264608.966977194,82110654.125349402,82264608.966977194,18123.146486596801,18089.229761261598,18123.146486596801,240.04167531916301,239.59244716902799,240.04167531916301,11090.131347902499,11087.6232198457,11090.131347902499,146.88915692586099,146.85593668669799,146.88915692586099,{"$f":"output[[#This Row],[ishp_Program]]-output[[#This Row],[ishp_Baseline]]","v":0},{"$f":"output[[#This Row],[ishp_Market]]-output[[#This Row],[ishp_Program]]","v":-33.9167253352025}]
["All","Primary Metal","Base",2017,"6-10 HP","Traditional","ASD Control","variable","Fans",2015,39601.130267886001,41044.031011339401,39601.130267886001,42567.254924950699,44118.2289340887,42567.254924950699,19.791563758057599,20.5126861570252,19.791563758057599,2.4739454697571999,2.56408576962815,2.4739454697571999,2.0102290049032701,2.0650387583251302,2.0102290049032701,0.25127862561290898,0.25812984479064199,0.25127862561290898,{"$f":"output[[#This Row],[ishp_Program]]-output[[#This Row],[ishp_Baseline]]","v":0},{"$f":"output[[#This Row],[ishp_Market]]-output[[#This Row],[ishp_Program]]","v":0.72112239896760144}]
["All","Primary Metal","Base",2018,"1,001+ HP","Traditional","ASD Control","constant","Pumps",2016,739374.09225077298,1075522.18522291,739374.09225077298,794753.21176035597,1156078.7968961,794753.21176035597,215.3639110833,313.27668455537702,215.3639110833,0.2153639110833,0.31327668455537699,0.2153639110833,13.622455113320401,20.380226746552701,13.622455113320401,1.36224551133204E-2,2.0380226746552699E-2,1.36224551133204E-2,{"$f":"output[[#This Row],[ishp_Program]]-output[[#This Row],[ishp_Baseline]]","v":0},{"$f":"output[[#This Row],[ishp_Market]]-output[[#This Row],[ishp_Program]]","v":97.912773472077021}]
["All","Primary Metal","Base",2018,"1-5 HP","Traditional","ASD Control","constant","Fans",2016,527.01073763873399,573.14306882569394,527.01073763873399,566.48384188787497,616.07148468073797,566.48384188787497,0.118325764164896,0.12868351012821799,0.118325764164896,3.9441921388298801E-2,4.2894503376072902E-2,3.9441921388298801E-2,6.9758213351962797E-3,7.3212893856987203E-3,6.9758213351962797E-3,2.32527377839876E-3,2.4404297952329E-3,2.32527377839876E-3,{"$f":"output[[#This Row],[ishp_Program]]-output[[#This Row],[ishp_Baseline]]","v":0},{"$f":"output[[#This Row],[ishp_Market]]-output[[#This Row],[ishp_Program]]","v":1.0357745963321993E-2}]
["All","Primary Metal","Base",2018,"1-5 HP","Traditional","Non ASD Control","constant","Fans",2017,1213693.17257644,1213649.34153074,1213693.17257644,1304598.7912024199,1304551.6772113901,1304598.7912024199,265.13211118567301,265.122536263489,265.13211118567301,88.377370395224304,88.374178754496597,88.377370395224304,2.7808366170640801,2.77853535538897,2.7808366170640801,0.92694553902136001,0.92617845179632396,0.92694553902136001,{"$f":"output[[#This Row],[ishp_Program]]-output[[#This Row],[ishp_Baseline]]","v":0},{"$f":"output[[#This Row],[ishp_Market]]-output[[#This Row],[ishp_Program]]","v":-9.5749221840151222E-3}]
["All","Primary Metal","Base",2018,"1-5 HP","Traditional","Non ASD Control","variable","Pumps",2018,432802.84019240999,395950.727624027,432802.84019240999,465219.77292282099,425607.43712306698,465219.77292282099,150.55073421458701,137.73170418682199,150.55073421458701,50.183578071529197,45.910568062274201,50.183578071529197,7.0829524862265902E-3,7.1784876018868796E-3,7.0829524862265902E-3,2.3609841620755301E-3,2.39282920062896E-3,2.3609841620755301E-3,{"$f":"output[[#This Row],[ishp_Program]]-output[[#This Row],[ishp_Baseline]]","v":0},{"$f":"output[[#This Row],[ishp_Market]]-output[[#This Row],[ishp_Program]]","v":-12.819030027765024}]
["All","Primary Metal","Base",2018,"11-20 HP","Traditional","ASD Control","constant","Pumps",2017,14221.7936125901,24496.559136596501,14221.7936125901,15287.005954173101,26331.351415927598,15287.005954173101,5.14946625671858,8.8697816967293903,5.14946625671858,0.33222362946571399,0.57224398043415403,0.33222362946571399,5.6266253802959999E-2,0.160288321248342,5.6266253802959999E-2,3.63008089051355E-3,1.0341182016022099E-2,3.63008089051355E-3,{"$f":"output[[#This Row],[ishp_Program]]-output[[#This Row],[ishp_Baseline]]","v":0},{"$f":"output[[#This Row],[ishp_Market]]-output[[#This Row],[ishp_Program]]","v":3.7203154400108103}]
["All","Primary Metal","Base",2018,"11-20 HP","Traditional","Non ASD Control","constant","Pumps",2018,1370931.4036802,1344618.9413707801,1370931.4036802,1473614.16581585,1445330.9000794501,1473614.16581585,416.55420482752902,408.55922653398801,416.55420482752902,26.8744648275825,26.3586597763863,26.8744648275825,2.2402666210890002E-2,2.12938434155482E-2,2.2402666210890002E-2,1.4453333039283799E-3,1.37379634939021E-3,1.4453333039283799E-3,{"$f":"output[[#This Row],[ishp_Program]]-output[[#This Row],[ishp_Baseline]]","v":0},{"$f":"output[[#This Row],[ishp_Market]]-output[[#This Row],[ishp_Program]]","v":-7.9949782935410099}]
["All","Primary Metal","Base",2018,"201-500 HP","Traditional","ASD Control","constant","Fans","2014 and before",6416008.3973667398,6736919.2950027604,6416008.3973667398,6896567.4263295103,7241514.55019846,6896567.4263295103,1618.52426016494,1699.47834267337,1618.52426016494,4.6177582315690202,4.8487256567000498,4.6177582315690202,846.04336766544304,848.01055894047897,846.04336766544304,2.4138184526831399,2.4194309812852399,2.4138184526831399,{"$f":"output[[#This Row],[ishp_Program]]-output[[#This Row],[ishp_Baseline]]","v":0},{"$f":"output[[#This Row],[ishp_Market]]-output[[#This Row],[ishp_Program]]","v":80.95408250843002}]
["All","Primary Metal","Base",2018,"201-500 HP","Traditional","Non ASD Control","constant","Pumps",2015,1910391.4477820899,1713769.1409588801,1910391.4477820899,2053479.76722096,1842130.4496166999,2053479.76722096,462.37945579433398,414.79019583847997,462.37945579433398,1.3191995885715599,1.1834242391968,1.3191995885715599,54.713805659698998,52.176447697760402,54.713805659698998,0.15610215594778601,0.148862903559944,0.15610215594778601,{"$f":"output[[#This Row],[ishp_Program]]-output[[#This Row],[ishp_Baseline]]","v":0},{"$f":"output[[#This Row],[ishp_Market]]-output[[#This Row],[ishp_Program]]","v":-47.589259955854004}]
["All","Primary Metal","Base",2018,"21-50 HP","Traditional","ASD Control","variable","Pumps",2016,1024241.94364965,1191668.5272852499,1027997.4782309399,1100957.6652290099,1280924.49997892,1104994.48935044,543.03917921795596,631.806481826923,545.03031268910195,15.296878287829699,17.797365685265401,15.352966554622499,34.7899959926607,41.102194942625403,34.7899959926607,0.97999988711720398,1.15780830824296,0.97999988711720398,{"$f":"output[[#This Row],[ishp_Program]]-output[[#This Row],[ishp_Baseline]]","v":1.9911334711459858},{"$f":"output[[#This Row],[ishp_Market]]-output[[#This Row],[ishp_Program]]","v":86.776169137821057}]
["All","Primary Metal","Base",2018,"501-1,000 HP","Traditional","ASD Control","variable","Fans",2015,240357.83148243499,244327.11461697501,240357.83148243499,258360.63306046999,262627.21550178702,258360.63306046999,130.93116716985401,133.09337203926799,130.93116716985401,0.17445858383724799,0.17733960298370099,0.17445858383724799,13.2683407331103,13.323820976541599,13.2683407331103,1.76793347543109E-2,1.77532591293026E-2,1.76793347543109E-2,{"$f":"output[[#This Row],[ishp_Program]]-output[[#This Row],[ishp_Baseline]]","v":0},{"$f":"output[[#This Row],[ishp_Market]]-output[[#This Row],[ishp_Program]]","v":2.1622048694139835}]
["All","Primary Metal","Base",2018,"501-1,000 HP","Traditional","Non ASD Control","variable","Fans",2016,192920.51364674899,181336.55057989201,192920.51364674899,207370.26011889,194918.65821832599,207370.26011889,50.765550883899699,47.717320006884201,50.765550883899699,6.7642306307661201E-2,6.3580706205042206E-2,6.7642306307661201E-2,2.9403899070702,2.8390203529006599,2.9403899070702,3.9179079374686201E-3,3.7828385781487899E-3,3.9179079374686201E-3,{"$f":"output[[#This Row],[ishp_Program]]-output[[#This Row],[ishp_Baseline]]","v":0},{"$f":"output[[#This Row],[ishp_Market]]-output[[#This Row],[ishp_Program]]","v":-3.0482308770154987}]
["All","Primary Metal","Base",2018,"51-100 HP","Traditional","Non ASD Control","constant","Pumps","2014 and before",28682154.482630201,28533978.807115301,28682154.482630201,30830447.853379201,30671173.819768298,30830447.853379201,7135.8610401667202,7098.9962701004597,7135.8610401667202,94.514715763797597,94.026440663582207,94.514715763797597,5346.23455985896,5340.0952336588298,5346.23455985896,70.811053772966304,70.729738194156695,70.811053772966304,{"$f":"output[[#This Row],[ishp_Program]]-output[[#This Row],[ishp_Baseline]]","v":0},{"$f":"output[[#This Row],[ishp_Market]]-output[[#This Row],[ishp_Program]]","v":-36.864770066260462}]
["All","Primary Metal","Base",2018,"6-10 HP","Traditional","ASD Control","variable","Pumps",2016,35563.895440563603,55202.190367695999,36024.336503123901,38227.631209061801,59336.834426236397,38722.559307207797,17.927347034136101,27.826783638481199,18.159450031151199,2.24091837926701,3.4783479548101499,2.2699312538938998,1.13721208272347,1.81027247841441,1.13721208272347,0.142151510340434,0.226284059801802,0.142151510340434,{"$f":"output[[#This Row],[ishp_Program]]-output[[#This Row],[ishp_Baseline]]","v":0.2321029970150974},{"$f":"output[[#This Row],[ishp_Market]]-output[[#This Row],[ishp_Program]]","v":9.6673336073300007}]
["All","Primary Metal","Base",2018,"6-10 HP","Traditional","Non ASD Control","variable","Pumps",2017,253408.098316786,224777.44108348599,252693.566734783,272388.36488071398,241613.27142064,271620.31488321797,88.812615453733699,78.778352271386595,88.562191654954006,11.1015769317167,9.8472940339233297,11.070273956869199,0.89689876954015901,0.78402061118001298,0.89689876954015901,0.112112346192519,9.8002576397501595E-2,0.112112346192519,{"$f":"output[[#This Row],[ishp_Program]]-output[[#This Row],[ishp_Baseline]]","v":-0.25042379877969267},{"$f":"output[[#This Row],[ishp_Market]]-output[[#This Row],[ishp_Program]]","v":-9.7838393835674111}]
["All","Primary Metal","Base",2019,"1,001+ HP","Traditional","Non ASD Control","variable","Fans",2019,690316.00868665997,690316.97798545996,690316.00868665997,742020.67773729097,742021.71963657101,742020.67773729097,181.651353723439,181.651608786971,181.651353723439,0.18165135372343899,0.18165160878697101,0.18165135372343899,2.04751135380512E-2,2.0297514633544001E-2,2.04751135380512E-2,2.04751135380512E-5,2.0297514633544E-5,2.04751135380512E-5,{"$f":"output[[#This Row],[ishp_Program]]-output[[#This Row],[ishp_Baseline]]","v":0},{"$f":"output[[#This Row],[ishp_Market]]-output[[#This Row],[ishp_Program]]","v":2.550635319948924E-4}]
["All","Primary Metal","Base",2019,"1-5 HP","Traditional","ASD Control","variable","Pumps",2015,20729.839981299199,31777.1483411675,20729.839981299199,22282.504995898598,34157.256751920999,22282.504995898598,10.0341161854876,15.381479007382399,10.0341161854876,3.3447053951625501,5.1271596691274697,3.3447053951625501,1.7634757338978899,2.3136040383423202,1.7634757338978899,0.58782524463263197,0.77120134611410796,0.58782524463263197,{"$f":"output[[#This Row],[ishp_Program]]-output[[#This Row],[ishp_Baseline]]","v":0},{"$f":"output[[#This Row],[ishp_Market]]-output[[#This Row],[ishp_Program]]","v":5.3473628218947997}]
["All","Primary Metal","Base",2019,"1-5 HP","Traditional","Non ASD Control","constant","Pumps",2015,392262.52515296498,386937.88722872699,392262.52515296498,421642.98828692199,415919.53498215799,421642.98828692199,109.740300489902,108.25066707264401,109.740300489902,36.580100163300699,36.083555690881397,36.580100163300699,20.2735085296523,20.104160812026599,20.2735085296523,6.7578361765507804,6.7013869373421997,6.7578361765507804,{"$f":"output[[#This Row],[ishp_Program]]-output[[#This Row],[ishp_Baseline]]","v":0},{"$f":"output[[#This Row],[ishp_Market]]-output[[#This Row],[ishp_Program]]","v":-1.4896334172579913}]
["All","Primary Metal","Base",2019,"101-200 HP","Traditional","ASD Control","constant","Fans",2018,522913.15255268198,566557.14477921196,522913.15255268198,562079.347678878,608992.27492317499,562079.347678878,131.995769450751,143.01255552262799,131.995769450751,0.87704830199835104,0.95024953835633497,0.87704830199835104,5.8096523957049104,6.2959269739704702,5.8096523957049104,3.8602341499700397E-2,4.1833401820401801E-2,3.8602341499700397E-2,{"$f":"output[[#This Row],[ishp_Program]]-output[[#This Row],[ishp_Baseline]]","v":0},{"$f":"output[[#This Row],[ishp_Market]]-output[[#This Row],[ishp_Program]]","v":11.016786071876993}]
["All","Primary Metal","Base",2019,"11-20 HP","Traditional","ASD Control","constant","Fans",2018,14759.421510672701,16161.662412751401,14759.421510672701,15864.902181822001,17372.170927466501,15864.902181822001,3.5944042383182802,3.9358959856696698,3.5944042383182802,0.23189704763343799,0.25392877326901098,0.23189704763343799,0.158241180232464,0.17327229495594099,0.158241180232464,1.02091084020945E-2,1.1178857739093001E-2,1.02091084020945E-2,{"$f":"output[[#This Row],[ishp_Program]]-output[[#This Row],[ishp_Baseline]]","v":0},{"$f":"output[[#This Row],[ishp_Market]]-output[[#This Row],[ishp_Program]]","v":0.34149174735138965}]
["All","Primary Metal","Base",2019,"11-20 HP","Traditional","ASD Control","variable","Fans",2018,96928.295727954101,105094.731337643,96928.295727954101,104188.225077977,112966.32671483301,104188.225077977,50.508358832016498,54.763806191892101,50.508358832016498,3.2586037956139702,3.5331487865736801,3.2586037956139702,2.2231041610381301,2.41089968178543,2.2231041610381301,0.14342607490568601,0.15554191495389899,0.14342607490568601,{"$f":"output[[#This Row],[ishp_Program]]-output[[#This Row],[ishp_Baseline]]","v":0},{"$f":"output[[#This Row],[ishp_Market]]-output[[#This Row],[ishp_Program]]","v":4.2554473598756033}]
["All","Primary Metal","Base",2019,"11-20 HP","Traditional","Non ASD Control","variable","Fans","2014 and before",12799221.5585208,12683936.4462143,12799221.5585208,13757883.253254,13633963.2860358,13757883.253254,3205.82681151207,3176.9512973012802,3205.82681151207,206.82753622658501,204.964599825889,206.82753622658501,1941.1306950523699,1939.5830369033999,1941.1306950523699,125.234238390475,125.134389477639,125.234238390475,{"$f":"output[[#This Row],[ishp_Program]]-output[[#This Row],[ishp_Baseline]]","v":0},{"$f":"output[[#This Row],[ishp_Market]]-output[[#This Row],[ishp_Program]]","v":-28.875514210789788}]
["All","Primary Metal","Base",2019,"201-500 HP","Traditional","ASD Control","variable","Fans",2017,1951028.5212103201,1983343.79505966,1951028.5212103201,2097160.5574489799,2131896.2453096299,2097160.5574489799,1067.74674169285,1085.4320435653899,1067.74674169285,3.0463530433462398,3.0968103953363602,3.0463530433462398,49.780708181267798,50.540225132613301,49.780708181267798,0.142027698092062,0.144194650877641,0.142027698092062,{"$f":"output[[#This Row],[ishp_Program]]-output[[#This Row],[ishp_Baseline]]","v":0},{"$f":"output[[#This Row],[ishp_Market]]-output[[#This Row],[ishp_Program]]","v":17.685301872539867}]
["All","Primary Metal","Base",2019,"21-50 HP","Traditional","ASD Control","constant","Pumps",2018,666477.54916633095,1034259.79429982,666477.54916633095,716396.71759888902,1111725.8528928801,716396.71759888902,236.45011751790599,366.93036428929798,236.45011751790599,6.6605666906452496,10.3360665996985,6.6605666906452496,9.1738521907196802,19.583510818001699,9.1738521907196802,0.25841837156956798,0.55164819205638604,0.25841837156956798,{"$f":"output[[#This Row],[ishp_Program]]-output[[#This Row],[ishp_Baseline]]","v":0},{"$f":"output[[#This Row],[ishp_Market]]-output[[#This Row],[ishp_Program]]","v":130.48024677139199}]
["All","Primary Metal","Base",2019,"21-50 HP","Traditional","Non ASD Control","variable","Fans",2015,1798770.41765303,1747157.5564340199,1798770.41765303,1933498.3219352399,1878019.6574109299,1933498.3219352399,457.944101877582,444.80412295402903,457.944101877582,12.8998338557065,12.529693604338799,12.8998338557065,66.842681594639501,66.132835366400101,66.842681594639501,1.8828924392856199,1.8628967708845099,1.8828924392856199,{"$f":"output[[#This Row],[ishp_Program]]-output[[#This Row],[ishp_Baseline]]","v":0},{"$f":"output[[#This Row],[ishp_Market]]-output[[#This Row],[ishp_Program]]","v":-13.139978923552974}]
["All","Primary Metal","Base",2019,"501-1,000 HP","Traditional","Non ASD Control","constant","Fans",2017,320000.72043751099,316372.51870863303,320000.72043751099,343968.77439828101,340068.82035991002,343968.77439828101,77.126938172714304,76.252464858908198,77.126938172714304,0.10276740595964599,0.10160221833298901,0.10276740595964599,3.6662003876172502,3.6285889854394302,3.6662003876172502,4.8850105098164499E-3,4.83489538366346E-3,4.8850105098164499E-3,{"$f":"output[[#This Row],[ishp_Program]]-output[[#This Row],[ishp_Baseline]]","v":0},{"$f":"output[[#This Row],[ishp_Market]]-output[[#This Row],[ishp_Program]]","v":-0.87447331380610649}]
["All","Primary Metal","Base",2019,"501-1,000 HP","Traditional","Non ASD Control","variable","Pumps","2014 and before",2478852.34423638,1547728.7319884701,2305207.6004022802,2664518.3848196901,1663653.6140144099,2477867.64967241,732.74617463157495,457.50700333919701,681.41696896704195,0.97634400350642803,0.60960293582837699,0.90795065818393395,450.634375356796,424.48516230625597,450.634375356796,0.60044553678453905,0.56560314764324604,0.60044553678453905,{"$f":"output[[#This Row],[ishp_Program]]-output[[#This Row],[ishp_Baseline]]","v":-51.329205664532992},{"$f":"output[[#This Row],[ishp_Market]]-output[[#This Row],[ishp_Program]]","v":-223.90996562784494}]
["All","Primary Metal","Base",2019,"51-100 HP","Traditional","ASD Control","variable","Pumps",2017,54668.954993248997,99470.008891032398,63134.077279453901,58763.659722243297,106920.31255697001,67862.819667685093,24.437690155888699,44.464308077275803,28.221703140726898,0.32367801530978502,0.58893123281159998,0.37379739259240902,1.0510233615309801,2.5866665311131798,1.0510233615309801,1.3920839225576E-2,3.42604838558037E-2,1.3920839225576E-2,{"$f":"output[[#This Row],[ishp_Program]]-output[[#This Row],[ishp_Baseline]]","v":3.7840129848381991},{"$f":"output[[#This Row],[ishp_Market]]-output[[#This Row],[ishp_Program]]","v":16.242604936548904}]
["All","Primary Metal","Base",2019,"51-100 HP","Traditional","Non ASD Control","constant","Pumps",2018,4524054.6286198804,4459063.8267786801,4524054.6286198804,4862906.3203035099,4793047.7074044002,4862906.3203035099,1132.44815986359,1116.17985189765,1132.44815986359,14.999313375676699,14.783839097982099,14.999313375676699,41.732139762126998,39.735430380999297,41.732139762126998,0.55274357300830501,0.52629709113906298,0.55274357300830501,{"$f":"output[[#This Row],[ishp_Program]]-output[[#This Row],[ishp_Baseline]]","v":0},{"$f":"output[[#This Row],[ishp_Market]]-output[[#This Row],[ishp_Program]]","v":-16.268307965940039}]
["All","Primary Metal","Base",2019,"6-10 HP","Traditional","Non ASD Control","variable","Fans",2016,587789.80358022801,580924.86607882602,587789.80358022801,631815.25986838702,624436.13854813005,631815.25986838702,146.99362643642201,145.276852765895,146.99362643642201,18.374203304552701,18.1596065957369,18.374203304552701,14.691115641455401,14.5819924978482,14.691115641455401,1.83638945518193,1.8227490622310301,1.83638945518193,{"$f":"output[[#This Row],[ishp_Program]]-output[[#This Row],[ishp_Baseline]]","v":0},{"$f":"output[[#This Row],[ishp_Market]]-output[[#This Row],[ishp_Program]]","v":-1.7167736705270045}]
["All","Primary Metal","Base",2020,"1,001+ HP","Traditional","ASD Control","constant","Pumps",2018,1336835.9626766001,2216838.86568435,1336835.9626766001,1436964.9762810799,2382880.0967241102,1436964.9762810799,389.39181723612899,645.71790296558095,389.39181723612899,0.38939181723612898,0.64571790296558096,0.38939181723612898,17.3315208036779,40.6591244411293,17.3315208036779,1.7331520803677999E-2,4.0659124441129298E-2,1.7331520803677999E-2,{"$f":"output[[#This Row],[ishp_Program]]-output[[#This Row],[ishp_Baseline]]","v":0},{"$f":"output[[#This Row],[ishp_Market]]-output[[#This Row],[ishp_Program]]","v":256.32608572945196}]
["All","Primary Metal","Base",2020,"1,001+ HP","Traditional","ASD Control","variable","Pumps",2020,2863191.7841961002,3268323.02953425,2863191.7841961002,3077644.84883238,3513120.42444637,3077644.84883238,1249.00983631402,1425.74019479665,1249.00983631402,1.2490098363140201,1.4257401947966499,1.2490098363140201,8.8638812513301808,16.502871368389499,8.8638812513301808,8.8638812513301794E-3,1.6502871368389498E-2,8.8638812513301794E-3,{"$f":"output[[#This Row],[ishp_Program]]-output[[#This Row],[ishp_Baseline]]","v":0},{"$f":"output[[#This Row],[ishp_Market]]-output[[#This Row],[ishp_Program]]","v":176.73035848262998}]
["All","Primary Metal","Base",2020,"1,001+ HP","Traditional","Non ASD Control","variable","Fans","2014 and before",10840782.231552601,10840836.7295771,10840782.231552601,11652756.820695899,11652815.4006224,11652756.820695899,2839.4317864626901,2839.4460606561602,2839.4317864626901,2.8394317864626899,2.8394460606561598,2.8394317864626899,1811.0288706347401,1811.0153802356599,1811.0288706347401,1.8110288706347399,1.8110153802356601,1.8110288706347399,{"$f":"output[[#This Row],[ishp_Program]]-output[[#This Row],[ishp_Baseline]]","v":0},{"$f":"output[[#This Row],[ishp_Market]]-output[[#This Row],[ishp_Program]]","v":1.4274193470100727E-2}]
["All","Primary Metal","Base",2020,"1-5 HP","Traditional","Non ASD Control","constant","Pumps",2015,338519.67911413702,331438.05554121599,338519.67911413702,363874.80307978601,356262.76590125298,363874.80307978601,94.705073581128204,92.723901664321502,94.705073581128204,31.568357860376,30.907967221440501,31.568357860376,19.882808639568701,19.6639302309021,19.882808639568701,6.6276028798562399,6.5546434103007201,6.6276028798562399,{"$f":"output[[#This Row],[ishp_Program]]-output[[#This Row],[ishp_Baseline]]","v":0},{"$f":"output[[#This Row],[ishp_Market]]-output[[#This Row],[ishp_Program]]","v":-1.9811719168067015}]
["All","Primary Metal","Base",2020,"101-200 HP","Traditional","ASD Control","constant","Fans",2015,170811.24578848999,186885.98274770001,170811.24578848999,183605.00809804801,200883.74285550299,183605.00809804801,42.951607097946102,46.993705045816498,42.951607097946102,0.28539273819233302,0.31225053186589002,0.28539273819233302,6.5990753994166704,6.8121879649021997,6.5990753994166704,4.3847677072536E-2,4.5263707407987998E-2,4.3847677072536E-2,{"$f":"output[[#This Row],[ishp_Program]]-output[[#This Row],[ishp_Baseline]]","v":0},{"$f":"output[[#This Row],[ishp_Market]]-output[[#This Row],[ishp_Program]]","v":4.0420979478703956}]
["All","Primary Metal","Base",2020,"101-200 HP","Traditional","Non ASD Control","constant","Fans",2018,3941933.0245465599,3888379.0502806101,3941933.0245465599,4237183.8080850998,4179618.64114663,4237183.8080850998,946.28217233338603,933.42625347583498,946.28217233338603,6.2875891849394403,6.2021677971816196,6.2875891849394403,44.105910483956897,43.546664889429302,44.105910483956897,0.29306252813260403,0.28934661056099198,0.29306252813260403,{"$f":"output[[#This Row],[ishp_Program]]-output[[#This Row],[ishp_Baseline]]","v":0},{"$f":"output[[#This Row],[ishp_Market]]-output[[#This Row],[ishp_Program]]","v":-12.855918857551046}]
["All","Primary Metal","Base",2020,"11-20 HP","Traditional","ASD Control","constant","Pumps",2017,10274.4344035459,24003.539796514899,10274.4344035459,11043.9895403715,25801.404927273801,11043.9895403715,3.72019554700123,8.6912678942641097,3.72019554700123,0.240012615935563,0.56072696092026497,0.240012615935563,0.16741796243669799,0.58704098030170504,0.16741796243669799,1.08011588668837E-2,3.7873611632368E-2,1.08011588668837E-2,{"$f":"output[[#This Row],[ishp_Program]]-output[[#This Row],[ishp_Baseline]]","v":0},{"$f":"output[[#This Row],[ishp_Market]]-output[[#This Row],[ishp_Program]]","v":4.9710723472628793}]
["All","Primary Metal","Base",2020,"11-20 HP","Traditional","Non ASD Control","constant","Fans",2017,1037449.9348578301,1036743.95924406,1037449.9348578301,1115154.93497868,1114396.08179144,1115154.93497868,240.583633819488,240.41991875927999,240.583633819488,15.5215247625476,15.5109625005987,15.5215247625476,11.9487938761142,11.939614043572,11.9487938761142,0.77088992749123997,0.77029768023045497,0.77088992749123997,{"$f":"output[[#This Row],[ishp_Program]]-output[[#This Row],[ishp_Baseline]]","v":0},{"$f":"output[[#This Row],[ishp_Market]]-output[[#This Row],[ishp_Program]]","v":-0.16371506020800553}]
["All","Primary Metal","Base",2020,"11-20 HP","Traditional","Non ASD Control","variable","Fans",2019,733752.55062676896,723308.17847264605,733752.55062676896,788710.61666871398,777483.961040247,788710.61666871398,185.77365060158499,183.12931343143799,185.77365060158499,11.985396813005501,11.8147944149314,11.985396813005501,1.3365324067821699E-2,1.67881505410978E-2,1.3365324067821699E-2,8.6227897211753205E-4,1.0831064865224401E-3,8.6227897211753205E-4,{"$f":"output[[#This Row],[ishp_Program]]-output[[#This Row],[ishp_Baseline]]","v":0},{"$f":"output[[#This Row],[ishp_Market]]-output[[#This Row],[ishp_Program]]","v":-2.6443371701469971}]
["All","Primary Metal","Base",2020,"201-500 HP","Traditional","Non ASD Control","constant","Pumps",2020,2907792.3508027,2159561.4898479101,2907792.3508027,3125585.9978778199,2321312.64543752,3125585.9978778199,707.06514388653602,525.12369225045404,707.06514388653602,2.0173042621584401,1.4982131019984399,2.0173042621584401,9.3918868206780595E-2,8.1595528877760698E-2,9.3918868206780595E-2,2.6795682797940202E-4,2.3279751462984501E-4,2.6795682797940202E-4,{"$f":"output[[#This Row],[ishp_Program]]-output[[#This Row],[ishp_Baseline]]","v":0},{"$f":"output[[#This Row],[ishp_Market]]-output[[#This Row],[ishp_Program]]","v":-181.94145163608198}]
["All","Primary Metal","Base",2020,"21-50 HP","Traditional","ASD Control","constant","Fans",2019,90394.559085222805,102044.614564945,90394.559085222805,97165.111560706006,109687.75619586,97165.111560706006,22.303203261499998,25.177641258670199,22.303203261499998,0.62825924680281897,0.70922933123014797,0.62825924680281897,1.23757430275484E-4,1.49076458864563E-2,1.23757430275484E-4,3.4861247964924998E-6,4.1993368694243099E-4,3.4861247964924998E-6,{"$f":"output[[#This Row],[ishp_Program]]-output[[#This Row],[ishp_Baseline]]","v":0},{"$f":"output[[#This Row],[ishp_Market]]-output[[#This Row],[ishp_Program]]","v":2.874437997170201}]
["All","Primary Metal","Base",2020,"21-50 HP","Traditional","ASD Control","variable","Fans","2014 and before",10102307.037169499,10771964.4509356,10102307.037169499,10858969.834253499,11578784.5883107,10858969.834253499,5286.4626907885504,5636.88947156831,5286.4626907885504,148.91444199404299,158.785618917417,148.91444199404299,3220.0756919242499,3238.3451183319198,3220.0756919242499,90.706357518993102,91.220989248786594,90.706357518993102,{"$f":"output[[#This Row],[ishp_Program]]-output[[#This Row],[ishp_Baseline]]","v":0},{"$f":"output[[#This Row],[ishp_Market]]-output[[#This Row],[ishp_Program]]","v":350.42678077975961}]
["All","Primary Metal","Base",2020,"21-50 HP","Traditional","Non ASD Control","constant","Pumps","2014 and before",13805736.2160965,11257278.963560799,13805736.2160965,14839785.8586822,12100449.157931499,14839785.8586822,4082.2084553536301,3328.6569184005298,4082.2084553536301,114.99178747475,93.764983616916496,114.99178747475,3624.3263450866202,3565.45107423338,3624.3263450866202,102.093699861595,100.435241527701,102.093699861595,{"$f":"output[[#This Row],[ishp_Program]]-output[[#This Row],[ishp_Baseline]]","v":0},{"$f":"output[[#This Row],[ishp_Market]]-output[[#This Row],[ishp_Program]]","v":-753.55153695310037}]
["All","Primary Metal","Base",2020,"501-1,000 HP","Traditional","ASD Control","variable","Fans",2018,629482.02593629295,647775.23277324298,629482.02593629295,676630.22967892105,696293.59770795901,676630.22967892105,344.49900390525198,354.51039624673803,344.49900390525198,0.45902598788174798,0.47236561791704001,0.45902598788174798,15.740484393994899,16.182780806084001,15.740484393994899,2.0973330305123099E-2,2.1562665964135998E-2,2.0973330305123099E-2,{"$f":"output[[#This Row],[ishp_Program]]-output[[#This Row],[ishp_Baseline]]","v":0},{"$f":"output[[#This Row],[ishp_Market]]-output[[#This Row],[ishp_Program]]","v":10.011392341486044}]
["All","Primary Metal","Base",2020,"501-1,000 HP","Traditional","Non ASD Control","variable","Pumps",2016,224436.213936413,109207.46810694299,207394.03642013,241246.48636025001,117387.107468153,222927.849747998,66.652387395655097,32.432103282694399,61.591253107395303,8.8810642765696404E-2,4.3213995046894702E-2,8.20669595035248E-2,7.5562685434669703,4.1572277229031496,7.5562685434669703,1.00683125162784E-2,5.5392774455738101E-3,1.00683125162784E-2,{"$f":"output[[#This Row],[ishp_Program]]-output[[#This Row],[ishp_Baseline]]","v":-5.0611342882597938},{"$f":"output[[#This Row],[ishp_Market]]-output[[#This Row],[ishp_Program]]","v":-29.159149824700904}]
["All","Primary Metal","Base",2020,"51-100 HP","Traditional","ASD Control","variable","Fans",2016,967938.64592948603,1024926.6806207401,967938.64592948603,1040437.2505096,1101693.68899923,1040437.2505096,520.02385650074598,550.64060860499603,520.02385650074598,6.8877331986853703,7.2932530941058999,6.8877331986853703,52.782261944969598,54.664499463378903,52.782261944969598,0.69910280721814,0.72403310547521804,0.69910280721814,{"$f":"output[[#This Row],[ishp_Program]]-output[[#This Row],[ishp_Baseline]]","v":0},{"$f":"output[[#This Row],[ishp_Market]]-output[[#This Row],[ishp_Program]]","v":30.616752104250054}]
["All","Primary Metal","Base",2020,"6-10 HP","Traditional","ASD Control","constant","Fans",2017,5312.8274033077296,6016.0026514603896,5312.8274033077296,5710.7581758154702,6466.6012500547704,5710.7581758154702,1.26478291693782,1.43218230222997,1.26478291693782,0.158097864617228,0.179022787778746,0.158097864617228,6.1983815970614899E-2,6.9192585327300493E-2,6.1983815970614899E-2,7.7479769963268701E-3,8.6490731659125599E-3,7.7479769963268701E-3,{"$f":"output[[#This Row],[ishp_Program]]-output[[#This Row],[ishp_Baseline]]","v":0},{"$f":"output[[#This Row],[ishp_Market]]-output[[#This Row],[ishp_Program]]","v":0.16739938529215004}]
["All","Primary Metal","Base",2020,"6-10 HP","Traditional","ASD Control","variable","Pumps",2020,41739.102769879602,72618.367762833106,42930.900417337303,44865.3615673436,78057.483508269303,46146.424858595899,21.494557551482998,37.3965797439079,22.108302491431399,2.6868196939353699,4.6745724679884901,2.7635378114289302,0,0.43286353810025602,0,0,5.4107942262532002E-2,0,{"$f":"output[[#This Row],[ishp_Program]]-output[[#This Row],[ishp_Baseline]]","v":0.61374493994840051},{"$f":"output[[#This Row],[ishp_Market]]-output[[#This Row],[ishp_Program]]","v":15.288277252476501}]
["All","Primary Metal","Base",2020,"6-10 HP","Traditional","Non ASD Control","variable","Fans",2018,1563426.4811156499,1543564.9747623799,1563426.4811156499,1680527.1245512101,1659177.9913720801,1680527.1245512101,390.97943980335901,386.012502936516,390.97943980335901,48.872429975419898,48.2515628670645,48.872429975419898,18.224696045374301,18.008446886844901,18.224696045374301,2.2780870056717899,2.2510558608556201,2.2780870056717899,{"$f":"output[[#This Row],[ishp_Program]]-output[[#This Row],[ishp_Baseline]]","v":0},{"$f":"output[[#This Row],[ishp_Market]]-output[[#This Row],[ishp_Program]]","v":-4.9669368668430138}]
["All","Primary Metal","Base",2021,"1,001+ HP","Traditional","Non ASD Control","constant","Fans",2015,790719.85697868804,790724.25344438897,790719.85697868804,849944.77426639199,849949.50002737402,849944.77426639199,189.69588304833999,189.69693777263399,189.69588304833999,0.18969588304834001,0.18969693777263399,0.18969588304834001,36.685315863223103,36.684332326957701,36.685315863223103,3.66853158632231E-2,3.6684332326957697E-2,3.66853158632231E-2,{"$f":"output[[#This Row],[ishp_Program]]-output[[#This Row],[ishp_Baseline]]","v":0},{"$f":"output[[#This Row],[ishp_Market]]-output[[#This Row],[ishp_Program]]","v":1.0547242939935586E-3}]
["All","Primary Metal","Base",2021,"1,001+ HP","Traditional","Non ASD Control","variable","Pumps",2018,1586807.3543253001,842156.55154255801,1586807.3543253001,1705659.22516426,905234.07725309604,1705659.22516426,471.245244462774,250.10110327875401,471.245244462774,0.47124524446277399,0.25010110327875401,0.47124524446277399,39.941210243196103,17.522671409487401,39.941210243196103,3.99412102431961E-2,1.7522671409487399E-2,3.99412102431961E-2,{"$f":"output[[#This Row],[ishp_Program]]-output[[#This Row],[ishp_Baseline]]","v":0},{"$f":"output[[#This Row],[ishp_Market]]-output[[#This Row],[ishp_Program]]","v":-221.14414118401999}]
["All","Primary Metal","Base",2021,"1-5 HP","Traditional","ASD Control","constant","Pumps",2018,12790.4488564805,34637.477445167598,12790.4488564805,13748.4534758309,37231.824505810699,13748.4534758309,4.2329544110855197,11.463152277577001,4.2329544110855197,1.41098480369517,3.8210507591923499,1.41098480369517,0.29297501125768,1.1473444618093001,0.29297501125768,9.7658337085893596E-2,0.382448153936434,9.7658337085893596E-2,{"$f":"output[[#This Row],[ishp_Program]]-output[[#This Row],[ishp_Baseline]]","v":0},{"$f":"output[[#This Row],[ishp_Market]]-output[[#This Row],[ishp_Program]]","v":7.2301978664914808}]
["All","Primary Metal","Base",2021,"1-5 HP","Traditional","ASD Control","variable","Pumps",2018,32664.532668338499,60128.328359045598,32664.532668338499,35111.106165197103,64631.940153138101,35111.106165197103,16.0966810220018,29.630502655863399,16.0966810220018,5.3655603406672698,9.8768342186211306,5.3655603406672698,1.1513351497344499,2.6202277177324098,1.1513351497344499,0.383778383244819,0.87340923924413705,0.383778383244819,{"$f":"output[[#This Row],[ishp_Program]]-output[[#This Row],[ishp_Baseline]]","v":0},{"$f":"output[[#This Row],[ishp_Market]]-output[[#This Row],[ishp_Program]]","v":13.533821633861599}]
["All","Primary Metal","Base",2021,"101-200 HP","Traditional","ASD Control","constant","Pumps",2018,548903.67131902499,1045243.4278258,548903.67131902499,590016.55630081997,1123532.16056995,590016.55630081997,161.17554604560101,306.916657754482,161.17554604560101,1.07093386076811,2.0393133405613399,1.07093386076811,12.298192430320601,30.7192226871523,12.298192430320601,8.1715564321067205E-2,0.20411443645948399,8.1715564321067205E-2,{"$f":"output[[#This Row],[ishp_Program]]-output[[#This Row],[ishp_Baseline]]","v":0},{"$f":"output[[#This Row],[ishp_Market]]-output[[#This Row],[ishp_Program]]","v":145.74111170888099}]
["All","Primary Metal","Base",2021,"101-200 HP","Traditional","ASD Control","variable","Pumps",2015,691106.21282242797,789034.88477120397,740106.17088257906,742870.06816282799,848133.59764056699,795540.12308168504,302.75201481174201,345.65150289368199,324.217363774266,2.0116412944301798,2.2966877268683099,2.1542681978356502,64.349798456633494,70.3687151971628,64.349798456633494,0.42757341167198298,0.46756621393463599,0.42757341167198298,{"$f":"output[[#This Row],[ishp_Program]]-output[[#This Row],[ishp_Baseline]]","v":21.46534896252399},{"$f":"output[[#This Row],[ishp_Market]]-output[[#This Row],[ishp_Program]]","v":21.434139119415988}]
["All","Primary Metal","Base",2021,"101-200 HP","Traditional","Non ASD Control","variable","Fans",2016,781441.411572029,700051.63698661595,781441.411572029,839971.37329877401,752485.504596913,839971.37329877401,204.80634090451099,183.47506555483699,204.80634090451099,1.3608394744485801,1.21910342561353,1.3608394744485801,27.234392993731799,25.433289367165798,27.234392993731799,0.18095942188526101,0.168991955928012,0.18095942188526101,{"$f":"output[[#This Row],[ishp_Program]]-output[[#This Row],[ishp_Baseline]]","v":0},{"$f":"output[[#This Row],[ishp_Market]]-output[[#This Row],[ishp_Program]]","v":-21.331275349674002}]
["All","Primary Metal","Base",2021,"11-20 HP","Traditional","ASD Control","constant","Fans",2021,6638.1612406507402,7664.9791693467396,6638.1612406507402,7135.3595175754799,8239.0861091308107,7135.3595175754799,1.6166104396965399,1.86667435393717,1.6166104396965399,0.104297447722357,0.120430603479817,0.104297447722357,0,2.14797367751495E-3,0,0,1.38578946936448E-4,0,{"$f":"output[[#This Row],[ishp_Program]]-output[[#This Row],[ishp_Baseline]]","v":0},{"$f":"output[[#This Row],[ishp_Market]]-output[[#This Row],[ishp_Program]]","v":0.25006391424063001}]
["All","Primary Metal","Base",2021,"11-20 HP","Traditional","Non ASD Control","variable","Fans",2016,511564.937867995,503201.59684304101,511564.937867995,549881.15171430795,540891.39644658496,549881.15171430795,129.51953072780699,127.402075201275,129.51953072780699,8.3560987566327292,8.2194887226629199,8.3560987566327292,17.838595257114999,17.660458846398299,17.838595257114999,1.15087711336226,1.13938444170311,1.15087711336226,{"$f":"output[[#This Row],[ishp_Program]]-output[[#This Row],[ishp_Baseline]]","v":0},{"$f":"output[[#This Row],[ishp_Market]]-output[[#This Row],[ishp_Program]]","v":-2.1174555265319981}]
["All","Primary Metal","Base",2021,"201-500 HP","Traditional","ASD Control","constant","Pumps",2020,660614.88888682297,1461428.82784881,660614.88888682297,710094.94406444603,1570889.8470546899,710094.94406444603,192.423034133405,425.68306278799702,192.423034133405,0.54899581778432305,1.2145023189386499,0.54899581778432305,4.2538220023385902,26.252004354152,4.2538220023385902,1.21364393789974E-2,7.4898728542516502E-2,1.21364393789974E-2,{"$f":"output[[#This Row],[ishp_Program]]-output[[#This Row],[ishp_Baseline]]","v":0},{"$f":"output[[#This Row],[ishp_Market]]-output[[#This Row],[ishp_Program]]","v":233.26002865459202}]
["All","Primary Metal","Base",2021,"201-500 HP","Traditional","ASD Control","variable","Fans","2014 and before",36634258.5803646,37309092.429120801,36634258.5803646,39378164.548033901,40103543.452062003,39378164.548033901,19955.939046154599,20323.544224311001,19955.939046154599,56.935632086033301,57.984434306165703,56.935632086033301,12869.963096179799,12897.772893392499,12869.963096179799,36.7188676067898,36.798210822803199,36.7188676067898,{"$f":"output[[#This Row],[ishp_Program]]-output[[#This Row],[ishp_Baseline]]","v":0},{"$f":"output[[#This Row],[ishp_Market]]-output[[#This Row],[ishp_Program]]","v":367.60517815640196}]
["All","Primary Metal","Base",2021,"21-50 HP","Traditional","ASD Control","constant","Fans","2014 and before",1389061.02769071,1560325.43840966,1389061.02769071,1493101.69866475,1677193.8137465401,1493101.69866475,340.158361013366,382.09821829013902,340.158361013366,9.5819256623483593,10.763330092679899,9.5819256623483593,239.350686490285,242.48802217189001,239.350686490285,6.7422728588812904,6.8306485118842302,6.7422728588812904,{"$f":"output[[#This Row],[ishp_Program]]-output[[#This Row],[ishp_Baseline]]","v":0},{"$f":"output[[#This Row],[ishp_Market]]-output[[#This Row],[ishp_Program]]","v":41.939857276773012}]
["All","Primary Metal","Base",2021,"21-50 HP","Traditional","ASD Control","variable","Pumps",2019,1118709.34740883,1362851.8991398399,1128086.9151007901,1202500.6775297499,1464929.50638541,1212580.6250418399,593.12451473686804,722.56558256872404,598.09637387042198,16.707732809489201,20.353960072358401,16.847785179448501,17.974258579769401,27.318191605120099,17.974258579769401,0.50631714309209597,0.76952652408789102,0.50631714309209597,{"$f":"output[[#This Row],[ishp_Program]]-output[[#This Row],[ishp_Baseline]]","v":4.9718591335539486},{"$f":"output[[#This Row],[ishp_Market]]-output[[#This Row],[ishp_Program]]","v":124.46920869830205}]
["All","Primary Metal","Base",2021,"21-50 HP","Traditional","Non ASD Control","constant","Pumps",2017,1164453.6316162299,827800.73872451799,1164453.6316162299,1251671.2086242801,889803.01405498397,1251671.2086242801,346.91488501302501,246.619006795247,346.91488501302501,9.77225028205706,6.9470142759224496,9.77225028205706,28.751494818964002,19.384922792227201,28.751494818964002,0.80990126250602801,0.54605416316133104,0.80990126250602801,{"$f":"output[[#This Row],[ishp_Program]]-output[[#This Row],[ishp_Baseline]]","v":0},{"$f":"output[[#This Row],[ishp_Market]]-output[[#This Row],[ishp_Program]]","v":-100.29587821777801}]
["All","Primary Metal","Base",2021,"501-1,000 HP","Traditional","ASD Control","variable","Pumps",2020,2426046.6550277402,2540592.5493556298,2443972.22592108,2607757.54948931,2730882.93130237,2627025.7456425698,1058.3140648181,1108.2824076705199,1066.1337346323701,1.4101453228755501,1.4767253932984901,1.4205646031077499,39.776388391013498,42.201210928820402,39.776388391013498,5.2999851287159901E-2,5.6230794042398898E-2,5.2999851287159901E-2,{"$f":"output[[#This Row],[ishp_Program]]-output[[#This Row],[ishp_Baseline]]","v":7.819669814270128},{"$f":"output[[#This Row],[ishp_Market]]-output[[#This Row],[ishp_Program]]","v":42.148673038149809}]
["All","Primary Metal","Base",2021,"501-1,000 HP","Traditional","Non ASD Control","variable","Fans",2017,168465.73866022399,151296.932376371,168465.73866022399,181083.822485874,162629.07261136101,181083.822485874,44.330464741603997,39.812625282526703,44.330464741603997,5.9067907716994099E-2,5.3048134953400002E-2,5.9067907716994099E-2,3.4431616517438099,3.1371470742237801,3.4431616517438099,4.5878236532229302E-3,4.1800760482661996E-3,4.5878236532229302E-3,{"$f":"output[[#This Row],[ishp_Program]]-output[[#This Row],[ishp_Baseline]]","v":0},{"$f":"output[[#This Row],[ishp_Market]]-output[[#This Row],[ishp_Program]]","v":-4.5178394590772939}]
["All","Primary Metal","Base",2021,"51-100 HP","Traditional","ASD Control","constant","Fans",2018,363913.338122288,412159.18979096098,363913.338122288,391170.44714764698,443029.91310630401,391170.44714764698,91.132816447625999,103.21475982229499,91.132816447625999,1.20705717149173,1.3670829115535801,1.20705717149173,6.8073896197606301,7.6234983096852096,6.8073896197606301,9.0164100923981902E-2,0.10097348754549899,9.0164100923981902E-2,{"$f":"output[[#This Row],[ishp_Program]]-output[[#This Row],[ishp_Baseline]]","v":0},{"$f":"output[[#This Row],[ishp_Market]]-output[[#This Row],[ishp_Program]]","v":12.081943374668995}]
["All","Primary Metal","Base",2021,"51-100 HP","Traditional","ASD Control","variable","Pumps",2015,39286.332731386399,71294.599440380902,46706.239853978499,42228.879052967299,76634.564938465497,50204.5372190415,17.454402876036799,31.675256380545498,20.7509703898845,0.23118414405346799,0.41953981960987402,0.274847289932245,4.6031005762128103,6.4485387055450403,4.6031005762128103,6.0968219552487497E-2,8.54111086827158E-2,6.0968219552487497E-2,{"$f":"output[[#This Row],[ishp_Program]]-output[[#This Row],[ishp_Baseline]]","v":3.2965675138477017},{"$f":"output[[#This Row],[ishp_Market]]-output[[#This Row],[ishp_Program]]","v":10.924285990660998}]
["All","Primary Metal","Base",2021,"6-10 HP","Traditional","ASD Control","constant","Fans",2018,13240.6091735797,15080.1823881624,13240.6091735797,14232.3308006809,16209.6880490358,14232.3308006809,3.15208739553024,3.5900200817703398,3.15208739553024,0.39401092444128,0.44875251022129298,0.39401092444128,0.23559977384300801,0.26516083622373698,0.23559977384300801,2.9449971730376098E-2,3.3145104527967102E-2,2.9449971730376098E-2,{"$f":"output[[#This Row],[ishp_Program]]-output[[#This Row],[ishp_Baseline]]","v":0},{"$f":"output[[#This Row],[ishp_Market]]-output[[#This Row],[ishp_Program]]","v":0.43793268624009984}]
["All","Primary Metal","Base",2021,"6-10 HP","Traditional","ASD Control","variable","Pumps",2015,23880.4957000008,40229.032236778003,24582.8893997784,25669.144827930901,43242.186751312598,26424.147815821801,11.8757659316556,20.005890015967601,12.225066183845399,1.48447074145695,2.5007362519959502,1.52813327298068,3.0017745215001699,4.0728559401994202,3.0017745215001699,0.37522181518752101,0.50910699252492797,0.37522181518752101,{"$f":"output[[#This Row],[ishp_Program]]-output[[#This Row],[ishp_Baseline]]","v":0.34930025218979921},{"$f":"output[[#This Row],[ishp_Market]]-output[[#This Row],[ishp_Program]]","v":7.7808238321222021}]
["All","Primary Metal","Base",2021,"6-10 HP","Traditional","Non ASD Control","variable","Pumps",2015,134295.10948330301,114109.305830657,133284.84952927701,144353.81318360299,122656.092837373,143267.88475902,46.432916026634203,39.453617007186502,46.083615774444397,5.8041145033292798,4.93170212589831,5.7604519718055496,11.780978491837001,11.032684822604701,11.780978491837001,1.47262231147963,1.37908560282559,1.47262231147963,{"$f":"output[[#This Row],[ishp_Program]]-output[[#This Row],[ishp_Baseline]]","v":-0.34930025218980632},{"$f":"output[[#This Row],[ishp_Market]]-output[[#This Row],[ishp_Program]]","v":-6.6299987672578951}]
["All","Refinery","Base",2014,"11-20 HP","Traditional","ASD Control","constant","Pumps","2014 and before",208622.78413371,208622.78413371,208622.78413371,224248.63066532501,224248.63066532501,224248.63066532501,79.114429637689298,79.114429637689298,79.114429637689298,5.1041567508186603,5.1041567508186603,5.1041567508186603,17.397968261248501,17.397968261248501,17.397968261248501,1.12244956524184,1.12244956524184,1.12244956524184,{"$f":"output[[#This Row],[ishp_Program]]-output[[#This Row],[ishp_Baseline]]","v":0},{"$f":"output[[#This Row],[ishp_Market]]-output[[#This Row],[ishp_Program]]","v":0}]
["All","Refinery","Base",2014,"21-50 HP","Traditional","Non ASD Control","variable","Fans","2014 and before",5040778.4605639698,5040778.4605639698,5040778.4605639698,5418332.7672602097,5418332.7672602097,5418332.7672602097,1523.23218851668,1523.23218851668,1523.23218851668,42.907948972301,42.907948972301,42.907948972301,334.97233553587603,334.97233553587603,334.97233553587603,9.4358404376303096,9.4358404376303096,9.4358404376303096,{"$f":"output[[#This Row],[ishp_Program]]-output[[#This Row],[ishp_Baseline]]","v":0},{"$f":"output[[#This Row],[ishp_Market]]-output[[#This Row],[ishp_Program]]","v":0}]
["All","Refinery","Base",2014,"51-100 HP","Traditional","Non ASD Control","variable","Fans","2014 and before",7084512.3248530002,7084512.3248530002,7084512.3248530002,7615142.2979844902,7615142.2979844902,7615142.2979844902,2174.0318863544799,2174.0318863544799,2174.0318863544799,28.795124322575901,28.795124322575901,28.795124322575901,478.088989972555,478.088989972555,478.088989972555,6.3323045029477498,6.3323045029477498,6.3323045029477498,{"$f":"output[[#This Row],[ishp_Program]]-output[[#This Row],[ishp_Baseline]]","v":0},{"$f":"output[[#This Row],[ishp_Market]]-output[[#This Row],[ishp_Program]]","v":0}]
["All","Refinery","Base",2015,"1,001+ HP","Traditional","Non ASD Control","variable","Fans","2014 and before",412316.417368447,412316.417368447,412316.417368447,443198.91702934302,443198.91702934302,443198.91702934302,128.18382045997399,128.18382045997399,128.18382045997399,0.12818382045997401,0.12818382045997401,0.12818382045997401,18.451971912512001,18.451971912512001,18.451971912512001,1.8451971912512001E-2,1.8451971912512001E-2,1.8451971912512001E-2,{"$f":"output[[#This Row],[ishp_Program]]-output[[#This Row],[ishp_Baseline]]","v":0},{"$f":"output[[#This Row],[ishp_Market]]-output[[#This Row],[ishp_Program]]","v":0}]
["All","Refinery","Base",2015,"11-20 HP","Traditional","Non ASD Control","variable","Fans",2015,592514.80236550805,592514.80236550805,592514.80236550805,636894.16106268496,636894.16106268496,636894.16106268496,176.15195549806401,176.15195549806401,176.15195549806401,11.364642290197599,11.364642290197599,11.364642290197599,0,0,0,0,0,0,{"$f":"output[[#This Row],[ishp_Program]]-output[[#This Row],[ishp_Baseline]]","v":0},{"$f":"output[[#This Row],[ishp_Market]]-output[[#This Row],[ishp_Program]]","v":0}]
["All","Refinery","Base",2015,"201-500 HP","Traditional","Non ASD Control","variable","Fans",2015,2015940.10650996,2015940.10650996,2015940.10650996,2166934.0204875502,2166934.0204875502,2166934.0204875502,626.72960325035501,626.72960325035501,626.72960325035501,1.78810157846035,1.78810157846035,1.78810157846035,0,0,0,0,0,0,{"$f":"output[[#This Row],[ishp_Program]]-output[[#This Row],[ishp_Baseline]]","v":0},{"$f":"output[[#This Row],[ishp_Market]]-output[[#This Row],[ishp_Program]]","v":0}]
["All","Refinery","Base",2015,"501-1,000 HP","Traditional","ASD Control","constant","Fans","2014 and before",0,0,0,0,0,0,0,0,0,0,0,0,0,0,0,0,0,0,{"$f":"output[[#This Row],[ishp_Program]]-output[[#This Row],[ishp_Baseline]]","v":0},{"$f":"output[[#This Row],[ishp_Market]]-output[[#This Row],[ishp_Program]]","v":0}]
["All","Refinery","Base",2015,"6-10 HP","Traditional","ASD Control","constant","Pumps",2015,78115.292911737604,78115.292911737604,78115.292911737604,83966.128350826795,83966.128350826795,83966.128350826795,34.809978296931703,34.809978296931703,34.809978296931703,4.3512472871164602,4.3512472871164602,4.3512472871164602,0,0,0,0,0,0,{"$f":"output[[#This Row],[ishp_Program]]-output[[#This Row],[ishp_Baseline]]","v":0},{"$f":"output[[#This Row],[ishp_Market]]-output[[#This Row],[ishp_Program]]","v":0}]
["All","Refinery","Base",2016,"1,001+ HP","Traditional","Non ASD Control","variable","Fans",2015,158740.385494305,158733.66053276401,158740.385494305,170630.04036782801,170622.811706668,170630.04036782801,49.350324694362499,49.348233991139402,49.350324694362499,4.9350324694362499E-2,4.9348233991139398E-2,4.9350324694362499E-2,0.94201022624441599,0.94200303738392399,0.94201022624441599,9.4201022624441596E-4,9.4200303738392404E-4,9.4201022624441596E-4,{"$f":"output[[#This Row],[ishp_Program]]-output[[#This Row],[ishp_Baseline]]","v":0},{"$f":"output[[#This Row],[ishp_Market]]-output[[#This Row],[ishp_Program]]","v":-2.0907032230965683E-3}]
["All","Refinery","Base",2016,"1-5 HP","Traditional","Non ASD Control","constant","Pumps",2015,1023407.90102332,1022083.4247366,1023407.90102332,1100061.1528099701,1098637.47324938,1100061.1528099701,383.23063603210301,382.734665765253,383.23063603210301,127.743545344034,127.57822192175099,127.743545344034,8.6329648887665904,8.6198344340648401,8.6329648887665904,2.8776549629221901,2.8732781446882698,2.8776549629221901,{"$f":"output[[#This Row],[ishp_Program]]-output[[#This Row],[ishp_Baseline]]","v":0},{"$f":"output[[#This Row],[ishp_Market]]-output[[#This Row],[ishp_Program]]","v":-0.49597026685000856}]
["All","Refinery","Base",2016,"11-20 HP","Traditional","ASD Control","variable","Pumps",2016,188275.92937342299,193564.594838455,188275.92937342299,202377.796483493,208062.58299185499,202377.796483493,107.869737780031,110.899795625544,107.869737780031,6.9593379212923496,7.1548255242287002,6.9593379212923496,1.5621536456227301E-2,3.9633008292791497E-2,1.5621536456227301E-2,1.00784106169208E-3,2.55696827695429E-3,1.00784106169208E-3,{"$f":"output[[#This Row],[ishp_Program]]-output[[#This Row],[ishp_Baseline]]","v":0},{"$f":"output[[#This Row],[ishp_Market]]-output[[#This Row],[ishp_Program]]","v":3.0300578455129994}]
["All","Refinery","Base",2016,"201-500 HP","Traditional","ASD Control","variable","Pumps","2014 and before",36602703.019896999,36909223.627319202,36602703.019896999,39344245.476087302,39673724.4770054,39344245.476087302,16748.301819418401,16888.5564788677,16748.301819418401,47.784028015459199,48.1841839625327,47.784028015459199,2721.4398648261199,2732.0045168030701,2721.4398648261199,7.7644503989333202,7.7945920593525697,7.7644503989333202,{"$f":"output[[#This Row],[ishp_Program]]-output[[#This Row],[ishp_Baseline]]","v":0},{"$f":"output[[#This Row],[ishp_Market]]-output[[#This Row],[ishp_Program]]","v":140.25465944929965}]
["All","Refinery","Base",2016,"21-50 HP","Traditional","ASD Control","constant","Pumps","2014 and before",3654711.7971592299,3736506.7784246099,3654711.7971592299,3928449.71076645,4016371.1361286198,3928449.71076645,1362.40468459769,1392.8962450373299,1362.40468459769,38.377596749230797,39.2365139447136,38.377596749230797,223.06121364638301,225.32410260412999,223.06121364638301,6.2834144689122198,6.3471578198346501,6.2834144689122198,{"$f":"output[[#This Row],[ishp_Program]]-output[[#This Row],[ishp_Baseline]]","v":0},{"$f":"output[[#This Row],[ishp_Market]]-output[[#This Row],[ishp_Program]]","v":30.491560439639898}]
["All","Refinery","Base",2016,"21-50 HP","Traditional","Non ASD Control","variable","Pumps",2015,3697485.7821784001,3637468.6043659002,3697485.7821784001,3974427.4672635598,3909915.0028328998,3974427.4672635598,1413.6209349041001,1390.67519717644,1413.6209349041001,39.820308025467803,39.173949216238,39.820308025467803,32.902195979130603,31.320366362042101,32.902195979130603,0.92682242194734099,0.88226384118428602,0.92682242194734099,{"$f":"output[[#This Row],[ishp_Program]]-output[[#This Row],[ishp_Baseline]]","v":0},{"$f":"output[[#This Row],[ishp_Market]]-output[[#This Row],[ishp_Program]]","v":-22.945737727660116}]
["All","Refinery","Base",2016,"51-100 HP","Traditional","ASD Control","constant","Fans",2015,0,0,176.694034213788,0,0,189.928417376401,0,0,5.2200491634212302E-2,0,0,6.9139724018824295E-4,0,0,0,0,0,0,{"$f":"output[[#This Row],[ishp_Program]]-output[[#This Row],[ishp_Baseline]]","v":5.2200491634212302E-2},{"$f":"output[[#This Row],[ishp_Market]]-output[[#This Row],[ishp_Program]]","v":-5.2200491634212302E-2}]
["All","Refinery","Base",2016,"6-10 HP","Traditional","Non ASD Control","variable","Fans",2016,534086.56338426296,502259.47103018401,533980.97700077796,574089.64698174398,539878.70541034499,573976.15217813605,158.533071079423,149.085825931654,158.50172984228001,19.816633884927899,18.6357282414568,19.812716230285002,0.181074332986912,6.6662030342667898E-3,0.181074332986912,2.2634291623364E-2,8.3327537928334905E-4,2.2634291623364E-2,{"$f":"output[[#This Row],[ishp_Program]]-output[[#This Row],[ishp_Baseline]]","v":-3.1341237142981981E-2},{"$f":"output[[#This Row],[ishp_Market]]-output[[#This Row],[ishp_Program]]","v":-9.4159039106260138}]
["All","Refinery","Base",2017,"1,001+ HP","Traditional","ASD Control","variable","Fans","2014 and before",81.822795926796601,96.251117976216904,81.822795926796601,87.951323341713604,103.46032671263499,87.951323341713604,5.2904284126533099E-2,6.2233225291713698E-2,5.2904284126533099E-2,5.2904284126533201E-5,6.2233225291713696E-5,5.2904284126533201E-5,5.78561342017742E-3,6.0769207159906101E-3,5.78561342017742E-3,5.7856134201774196E-6,6.0769207159906102E-6,5.7856134201774196E-6,{"$f":"output[[#This Row],[ishp_Program]]-output[[#This Row],[ishp_Baseline]]","v":0},{"$f":"output[[#This Row],[ishp_Market]]-output[[#This Row],[ishp_Program]]","v":9.3289411651805987E-3}]
["All","Refinery","Base",2017,"1-5 HP","Traditional","Non ASD Control","variable","Fans","2014 and before",415793.43891459098,415802.367499282,415793.43891459098,446936.36748929397,446945.96482497797,446936.36748929397,115.616991266502,115.619473980276,115.616991266502,38.538997088834002,38.5398246600923,38.538997088834002,13.5729227709132,13.5705892770854,13.5729227709132,4.5243075903044003,4.5235297590284897,4.5243075903044003,{"$f":"output[[#This Row],[ishp_Program]]-output[[#This Row],[ishp_Baseline]]","v":0},{"$f":"output[[#This Row],[ishp_Market]]-output[[#This Row],[ishp_Program]]","v":2.4827137740004446E-3}]
["All","Refinery","Base",2017,"101-200 HP","Traditional","ASD Control","variable","Fans",2016,3436352.13895112,3674442.5515928501,3438588.8444177499,3693734.9141585599,3949658.2987071499,3696139.1488646399,2223.2604635010298,2377.3008469544402,2224.7075732940202,14.7724947740932,15.796018916640801,14.782110121555,2.11567264248681,6.9991510289337597,2.11567264248681,1.40576255314738E-2,4.6505986903214398E-2,1.40576255314738E-2,{"$f":"output[[#This Row],[ishp_Program]]-output[[#This Row],[ishp_Baseline]]","v":1.4471097929904317},{"$f":"output[[#This Row],[ishp_Market]]-output[[#This Row],[ishp_Program]]","v":152.59327366041998}]
["All","Refinery","Base",2017,"11-20 HP","Traditional","ASD Control","constant","Fans",2016,56360.776476115898,66810.0842836511,56392.282533043901,60582.198634177003,71814.159596496494,60616.0644947689,16.291696612603101,19.312182902109999,16.3008037816846,1.0510772008131,1.24594728400709,1.0516647601086799,3.06538143336516E-3,5.68581317772337E-2,3.06538143336516E-3,1.9776654408807501E-4,3.6682665662731398E-3,1.9776654408807501E-4,{"$f":"output[[#This Row],[ishp_Program]]-output[[#This Row],[ishp_Baseline]]","v":9.1071690814992223E-3},{"$f":"output[[#This Row],[ishp_Market]]-output[[#This Row],[ishp_Program]]","v":3.0113791204253992}]
["All","Refinery","Base",2017,"11-20 HP","Traditional","Non ASD Control","constant","Pumps",2017,2010820.2809355599,2005314.9082194599,2010820.2809355599,2161430.7199776298,2155512.99484509,2161430.7199776298,646.83448575167301,645.06353438249801,646.83448575167301,41.731257145269197,41.617002218225601,41.731257145269197,0,0,0,0,0,0,{"$f":"output[[#This Row],[ishp_Program]]-output[[#This Row],[ishp_Baseline]]","v":0},{"$f":"output[[#This Row],[ishp_Market]]-output[[#This Row],[ishp_Program]]","v":-1.7709513691750089}]
["All","Refinery","Base",2017,"21-50 HP","Traditional","ASD Control","constant","Fans",2016,155545.581522361,184912.71636629701,156139.60372586799,167195.94557838599,198762.67882213299,167834.46004493599,45.5527284623182,54.153121390032403,45.726692466130601,1.2831754496427601,1.52544003915584,1.28807584411635,8.5106071761468401E-3,0.15943538479052199,8.5106071761468401E-3,2.3973541341258699E-4,4.4911375997330402E-3,2.3973541341258699E-4,{"$f":"output[[#This Row],[ishp_Program]]-output[[#This Row],[ishp_Baseline]]","v":0.17396400381240085},{"$f":"output[[#This Row],[ishp_Market]]-output[[#This Row],[ishp_Program]]","v":8.4264289239018026}]
["All","Refinery","Base",2017,"21-50 HP","Traditional","Non ASD Control","variable","Pumps",2017,1842165.63917451,1698605.42761939,1842165.63917451,1980143.8455486801,1825830.97414808,1980143.8455486801,709.61087227052894,654.31080327639404,709.61087227052894,19.989038655507802,18.431290233137801,19.989038655507802,1.6649862090959699,0,1.6649862090959699,4.6901019974534497E-2,0,4.6901019974534497E-2,{"$f":"output[[#This Row],[ishp_Program]]-output[[#This Row],[ishp_Baseline]]","v":0},{"$f":"output[[#This Row],[ishp_Market]]-output[[#This Row],[ishp_Program]]","v":-55.300068994134904}]
["All","Refinery","Base",2017,"501-1,000 HP","Traditional","ASD Control","constant","Pumps","2014 and before",0,0,0,0,0,0,0,0,0,0,0,0,0,0,0,0,0,0,{"$f":"output[[#This Row],[ishp_Program]]-output[[#This Row],[ishp_Baseline]]","v":0},{"$f":"output[[#This Row],[ishp_Market]]-output[[#This Row],[ishp_Program]]","v":0}]
["All","Refinery","Base",2017,"51-100 HP","Traditional","Non ASD Control","constant","Pumps","2014 and before",32193271.9756625,32096889.045803498,32193271.9756625,34604548.046639599,34500946.0353342,34604548.046639599,8440.3762695105997,8415.1067599502694,8440.3762695105997,111.79306317232501,111.45836768146,111.79306317232501,1030.3436171159999,1028.46296394965,1030.3436171159999,13.646935326039699,13.6220260125781,13.646935326039699,{"$f":"output[[#This Row],[ishp_Program]]-output[[#This Row],[ishp_Baseline]]","v":0},{"$f":"output[[#This Row],[ishp_Market]]-output[[#This Row],[ishp_Program]]","v":-25.269509560330334}]
["All","Refinery","Base",2017,"6-10 HP","Traditional","ASD Control","variable","Pumps",2015,142988.643693658,154372.058926742,142988.643693658,153698.49310631299,165934.52614035501,153698.49310631299,95.179181901508002,102.756456020223,95.179181901508002,11.8973977376885,12.8445570025278,11.8973977376885,2.04175552559323,2.5564144059215401,2.04175552559323,0.25521944069915398,0.31955180074019202,0.25521944069915398,{"$f":"output[[#This Row],[ishp_Program]]-output[[#This Row],[ishp_Baseline]]","v":0},{"$f":"output[[#This Row],[ishp_Market]]-output[[#This Row],[ishp_Program]]","v":7.5772741187149961}]
["All","Refinery","Base",2017,"6-10 HP","Traditional","Non ASD Control","variable","Fans","2014 and before",1401495.3213559401,1263582.3119532999,1400834.6852576199,1506467.3209255,1358224.6271186001,1505757.20318342,410.40388561274199,370.01842440361702,410.21042965352899,51.300485701592798,46.252303050452099,51.276303706691102,44.662304521925797,43.4301237470807,44.662304521925797,5.58278806524073,5.4287654683850901,5.58278806524073,{"$f":"output[[#This Row],[ishp_Program]]-output[[#This Row],[ishp_Baseline]]","v":-0.19345595921299719},{"$f":"output[[#This Row],[ishp_Market]]-output[[#This Row],[ishp_Program]]","v":-40.192005249911972}]
["All","Refinery","Base",2018,"1-5 HP","Traditional","ASD Control","constant","Pumps",2015,34274.362879686698,39367.100216946397,34274.362879686698,36841.512659375301,42315.696023195604,36841.512659375301,14.913260778684201,17.129182931767001,14.913260778684201,4.9710869262280903,5.7097276439223403,4.9710869262280903,0.28510593882152102,0.41503148079109597,0.28510593882152102,9.5035312940507197E-2,0.13834382693036501,9.5035312940507197E-2,{"$f":"output[[#This Row],[ishp_Program]]-output[[#This Row],[ishp_Baseline]]","v":0},{"$f":"output[[#This Row],[ishp_Market]]-output[[#This Row],[ishp_Program]]","v":2.2159221530828006}]
["All","Refinery","Base",2018,"1-5 HP","Traditional","Non ASD Control","constant","Pumps",2016,825041.35408877896,818467.55907414202,825041.35408877896,886836.95151002903,879770.77924879501,886836.95151002903,314.53131094482399,312.025176732776,314.53131094482399,104.843770314941,104.008392244258,104.843770314941,1.10243794990684,1.09018306198909,1.10243794990684,0.36747931663561501,0.363394353996363,0.36747931663561501,{"$f":"output[[#This Row],[ishp_Program]]-output[[#This Row],[ishp_Baseline]]","v":0},{"$f":"output[[#This Row],[ishp_Market]]-output[[#This Row],[ishp_Program]]","v":-2.5061342120479821}]
["All","Refinery","Base",2018,"101-200 HP","Traditional","ASD Control","constant","Fans",2017,170432.28885505701,222639.086600579,170545.748220924,183197.667290301,239314.75418696299,183319.62476267101,51.063912514214401,66.705803910696304,51.097906537127798,0.339295099762222,0.44322793296143698,0.33952097366862299,0.28355026316350901,0.55017613389442299,0.28355026316350901,1.88405490474093E-3,3.6556553747137798E-3,1.88405490474093E-3,{"$f":"output[[#This Row],[ishp_Program]]-output[[#This Row],[ishp_Baseline]]","v":3.3994022913397259E-2},{"$f":"output[[#This Row],[ishp_Market]]-output[[#This Row],[ishp_Program]]","v":15.607897373568505}]
["All","Refinery","Base",2018,"101-200 HP","Traditional","Non ASD Control","variable","Fans",2017,1716634.7373839901,1428725.9350053,1713042.8446901101,1845210.6792140501,1535737.5075372001,1841349.7537574,534.01891126829196,444.45486957522598,532.901528179156,3.5482984137428,2.9531885021609701,3.5408739413897399,4.6587066376870201,2.92652400335828,4.6587066376870201,3.09548613799802E-2,1.9445342215005101E-2,3.09548613799802E-2,{"$f":"output[[#This Row],[ishp_Program]]-output[[#This Row],[ishp_Baseline]]","v":-1.1173830891359557},{"$f":"output[[#This Row],[ishp_Market]]-output[[#This Row],[ishp_Program]]","v":-88.446658603930018}]
["All","Refinery","Base",2018,"11-20 HP","Traditional","Non ASD Control","constant","Pumps",2017,1789539.71355893,1780781.3692177001,1789539.71355893,1923576.2381045001,1914161.8937721101,1923576.2381045001,575.65363315986303,572.83627587950002,575.65363315986303,37.138944074829801,36.957179089,37.138944074829801,3.0422645102070098,3.0216277081582299,3.0422645102070098,0.19627512969077501,0.19494372310698299,0.19627512969077501,{"$f":"output[[#This Row],[ishp_Program]]-output[[#This Row],[ishp_Baseline]]","v":0},{"$f":"output[[#This Row],[ishp_Market]]-output[[#This Row],[ishp_Program]]","v":-2.8173572803630123}]
["All","Refinery","Base",2018,"201-500 HP","Traditional","ASD Control","constant","Pumps",2018,3704093.94486565,4287278.7220950797,3704093.94486565,3981530.5813360899,4608395.8983800001,3981530.5813360899,1136.9798531178899,1315.9897141593499,1136.9798531178899,3.2438797521195202,3.7546068877584902,3.2438797521195202,0.244916410171448,9.7472476028525197,0.244916410171448,6.9876293914821299E-4,2.7809550935385199E-2,6.9876293914821299E-4,{"$f":"output[[#This Row],[ishp_Program]]-output[[#This Row],[ishp_Baseline]]","v":0},{"$f":"output[[#This Row],[ishp_Market]]-output[[#This Row],[ishp_Program]]","v":179.00986104146}]
["All","Refinery","Base",2018,"21-50 HP","Traditional","ASD Control","constant","Fans",2016,145271.227591659,184428.34436485701,146144.310545379,156152.04253827399,198242.027357785,157090.519405228,42.543804324773703,54.011269297286397,42.7994934309936,1.19841702323306,1.52144420555736,1.20561953326742,0.128526249193194,0.33094340821446599,0.128526249193194,3.62045772375194E-3,9.3223495271680806E-3,3.62045772375194E-3,{"$f":"output[[#This Row],[ishp_Program]]-output[[#This Row],[ishp_Baseline]]","v":0.25568910621989716},{"$f":"output[[#This Row],[ishp_Market]]-output[[#This Row],[ishp_Program]]","v":11.211775866292797}]
["All","Refinery","Base",2018,"21-50 HP","Traditional","Non ASD Control","variable","Fans",2018,738515.97216768796,632141.34267265396,728201.92834365601,793830.81848304695,679488.72923883598,782744.252776596,224.85032418699299,192.463252236437,221.71008594582801,6.3338119489293803,5.4215000629982404,6.2453545336852896,0.52557700147330999,4.8621947690764701E-2,0.52557700147330999,1.48049859569946E-2,1.3696323293173099E-3,1.48049859569946E-2,{"$f":"output[[#This Row],[ishp_Program]]-output[[#This Row],[ishp_Baseline]]","v":-3.1402382411649796},{"$f":"output[[#This Row],[ishp_Market]]-output[[#This Row],[ishp_Program]]","v":-29.246833709391012}]
["All","Refinery","Base",2018,"501-1,000 HP","Traditional","ASD Control","variable","Fans","2014 and before",0,0,0,0,0,0,0,0,0,0,0,0,0,0,0,0,0,0,{"$f":"output[[#This Row],[ishp_Program]]-output[[#This Row],[ishp_Baseline]]","v":0},{"$f":"output[[#This Row],[ishp_Market]]-output[[#This Row],[ishp_Program]]","v":0}]
["All","Refinery","Base",2018,"501-1,000 HP","Traditional","Non ASD Control","variable","Fans",2015,244549.552651212,244550.38670075999,244549.552651212,262866.31414478697,262867.21066464699,262866.31414478697,76.027280579026794,76.027539874201807,76.027280579026794,0.10130217265693101,0.1013025181535,0.10130217265693101,1.2342546548512801,1.23405626529779,1.2342546548512801,1.64457648880917E-3,1.6443121456332999E-3,1.64457648880917E-3,{"$f":"output[[#This Row],[ishp_Program]]-output[[#This Row],[ishp_Baseline]]","v":0},{"$f":"output[[#This Row],[ishp_Market]]-output[[#This Row],[ishp_Program]]","v":2.5929517501310784E-4}]
["All","Refinery","Base",2018,"51-100 HP","Traditional","ASD Control","variable","Fans","2014 and before",0,0,30345.8095528472,0,0,32618.710688355499,0,0,19.233133842030799,0,0,0.25474349459643503,0,0,0,0,0,0,{"$f":"output[[#This Row],[ishp_Program]]-output[[#This Row],[ishp_Baseline]]","v":19.233133842030799},{"$f":"output[[#This Row],[ishp_Market]]-output[[#This Row],[ishp_Program]]","v":-19.233133842030799}]
["All","Refinery","Base",2018,"6-10 HP","Traditional","Non ASD Control","constant","Fans",2015,888370.61975066201,872994.47473932698,888362.35178052599,954909.579169987,938381.76089730195,954900.69192888704,238.27497889892001,234.150854860294,238.272761299232,29.784372362365101,29.2688568575368,29.784095162404,3.7961433887971201,3.8006665734982099,3.7961433887971201,0.47451792359964101,0.47508332168727602,0.47451792359964101,{"$f":"output[[#This Row],[ishp_Program]]-output[[#This Row],[ishp_Baseline]]","v":-2.2175996880093862E-3},{"$f":"output[[#This Row],[ishp_Market]]-output[[#This Row],[ishp_Program]]","v":-4.121906438937998}]
["All","Refinery","Base",2018,"6-10 HP","Traditional","Non ASD Control","variable","Pumps",2016,1014792.73837331,987740.64547113795,1014792.73837331,1090800.7144774699,1061722.4198169201,1090800.7144774699,476.05118440755098,463.36073011101399,476.05118440755098,59.506398050943901,57.920091263876799,59.506398050943901,1.6836299958903,1.61893352596526,1.6836299958903,0.21045374948628801,0.202366690745658,0.21045374948628801,{"$f":"output[[#This Row],[ishp_Program]]-output[[#This Row],[ishp_Baseline]]","v":0},{"$f":"output[[#This Row],[ishp_Market]]-output[[#This Row],[ishp_Program]]","v":-12.690454296536984}]
["All","Refinery","Base",2019,"1,001+ HP","Traditional","ASD Control","variable","Fans","2014 and before",71.079247477088202,95.775805225791999,71.079247477088202,76.403083113122193,102.949413037203,76.403083113122193,4.5957812385100001E-2,6.1925901635602701E-2,4.5957812385100001E-2,4.5957812385100001E-5,6.1925901635602701E-5,4.5957812385100001E-5,5.5959228345836397E-3,6.4136563030529198E-3,5.5959228345836397E-3,5.5959228345836401E-6,6.4136563030529197E-6,5.5959228345836401E-6,{"$f":"output[[#This Row],[ishp_Program]]-output[[#This Row],[ishp_Baseline]]","v":0},{"$f":"output[[#This Row],[ishp_Market]]-output[[#This Row],[ishp_Program]]","v":1.59680892505027E-2}]
["All","Refinery","Base",2019,"1-5 HP","Traditional","ASD Control","constant","Fans",2018,0,0,0,0,0,0,0,0,0,0,0,0,0,0,0,0,0,0,{"$f":"output[[#This Row],[ishp_Program]]-output[[#This Row],[ishp_Baseline]]","v":0},{"$f":"output[[#This Row],[ishp_Market]]-output[[#This Row],[ishp_Program]]","v":0}]
["All","Refinery","Base",2019,"1-5 HP","Traditional","Non ASD Control","constant","Pumps",2019,337198.50732792402,330925.697101795,337198.50732792402,362454.67552678601,355712.03181472002,362454.67552678601,128.550512083879,126.159122592971,128.550512083879,42.850170694626499,42.053040864323798,42.850170694626499,0,0,0,0,0,0,{"$f":"output[[#This Row],[ishp_Program]]-output[[#This Row],[ishp_Baseline]]","v":0},{"$f":"output[[#This Row],[ishp_Market]]-output[[#This Row],[ishp_Program]]","v":-2.3913894909079971}]
["All","Refinery","Base",2019,"101-200 HP","Traditional","ASD Control","constant","Pumps",2016,3040497.3418741198,3732930.2651649802,3040497.3418741198,3268230.5927804899,4012526.7420258401,3268230.5927804899,940.82688280851301,1155.08772092922,940.82688280851301,6.2513414140100503,7.6750014679682304,6.2513414140100503,34.299712352818602,57.154012345161803,34.299712352818602,0.22790506546723299,0.37976087936984598,0.22790506546723299,{"$f":"output[[#This Row],[ishp_Program]]-output[[#This Row],[ishp_Baseline]]","v":0},{"$f":"output[[#This Row],[ishp_Market]]-output[[#This Row],[ishp_Program]]","v":214.26083812070704}]
["All","Refinery","Base",2019,"11-20 HP","Traditional","ASD Control","constant","Fans",2017,18170.218501628999,25228.7728179847,18206.669322162201,19531.167867401,27118.4079020518,19570.348854392101,5.2522996616041198,7.2926517049152997,5.2628361684895104,0.338858042684137,0.47049365838163199,0.33953781732190402,0.192583891311436,0.30835143565369599,0.192583891311436,1.24247671813829E-2,1.9893641009915801E-2,1.24247671813829E-2,{"$f":"output[[#This Row],[ishp_Program]]-output[[#This Row],[ishp_Baseline]]","v":1.0536506885390651E-2},{"$f":"output[[#This Row],[ishp_Market]]-output[[#This Row],[ishp_Program]]","v":2.0298155364257893}]
["All","Refinery","Base",2019,"11-20 HP","Traditional","Non ASD Control","constant","Fans",2019,191212.623658675,185664.83613482601,191191.22446225301,205534.44917071,199571.132361325,205511.44717447599,52.631682979164999,51.104642616431398,52.625792804653798,3.39559245026871,3.2970737171891198,3.3952124390099199,1.2046844738674499E-2,1.2635226147809899E-2,1.2046844738674499E-2,7.7721578959190503E-4,8.1517588050386601E-4,7.7721578959190503E-4,{"$f":"output[[#This Row],[ishp_Program]]-output[[#This Row],[ishp_Baseline]]","v":-5.8901745112009962E-3},{"$f":"output[[#This Row],[ishp_Market]]-output[[#This Row],[ishp_Program]]","v":-1.5211501882223999}]
["All","Refinery","Base",2019,"11-20 HP","Traditional","Non ASD Control","variable","Pumps",2018,618200.39291517402,587916.17678173096,618200.39291517402,664503.60234452004,631951.09842268203,664503.60234452004,242.871146727997,230.97344756057299,242.871146727997,15.6691062405159,14.9015127458434,15.6691062405159,7.21134030624901,6.2359879162003597,7.21134030624901,0.46524776169348397,0.402321801045185,0.46524776169348397,{"$f":"output[[#This Row],[ishp_Program]]-output[[#This Row],[ishp_Baseline]]","v":0},{"$f":"output[[#This Row],[ishp_Market]]-output[[#This Row],[ishp_Program]]","v":-11.897699167424008}]
["All","Refinery","Base",2019,"201-500 HP","Traditional","ASD Control","variable","Fans",2016,562754.02706432901,666816.08184824197,576550.76108466403,604904.30369144701,716760.60637867497,619734.41308990598,365.55692252877799,433.15413671002801,374.51908252562799,1.04295840949722,1.23581779375186,1.06852805285485,12.9731643441736,17.157943231651501,12.9731643441736,3.7013307686657997E-2,4.89527624298189E-2,3.7013307686657997E-2,{"$f":"output[[#This Row],[ishp_Program]]-output[[#This Row],[ishp_Baseline]]","v":8.962159996850005},{"$f":"output[[#This Row],[ishp_Market]]-output[[#This Row],[ishp_Program]]","v":58.635054184400019}]
["All","Refinery","Base",2019,"21-50 HP","Traditional","ASD Control","variable","Fans",2016,1019573.81051043,1162254.39971139,1039687.33292524,1095939.8889176601,1249307.25424977,1117559.9141613401,638.05801944283303,727.34875368886401,650.64523396689594,17.973465336417799,20.488697287010201,18.3280347596308,23.2339014412734,28.8114727939458,23.2339014412734,0.65447609693728004,0.81159078292805298,0.65447609693728004,{"$f":"output[[#This Row],[ishp_Program]]-output[[#This Row],[ishp_Baseline]]","v":12.587214524062915},{"$f":"output[[#This Row],[ishp_Market]]-output[[#This Row],[ishp_Program]]","v":76.703519721968064}]
["All","Refinery","Base",2019,"21-50 HP","Traditional","ASD Control","variable","Pumps",2018,1899734.87723638,2103492.3560735402,1899734.87723638,2042025.01954138,2261043.9335434502,2042025.01954138,1066.3154824041601,1180.68394346846,1066.3154824041601,30.037055842370702,33.258702632914499,30.037055842370702,40.313581977477298,51.550558633413999,40.313581977477298,1.1355938585204799,1.45212841220884,1.1355938585204799,{"$f":"output[[#This Row],[ishp_Program]]-output[[#This Row],[ishp_Baseline]]","v":0},{"$f":"output[[#This Row],[ishp_Market]]-output[[#This Row],[ishp_Program]]","v":114.36846106429994}]
["All","Refinery","Base",2019,"501-1,000 HP","Traditional","ASD Control","constant","Fans",2018,0,0,0,0,0,0,0,0,0,0,0,0,0,0,0,0,0,0,{"$f":"output[[#This Row],[ishp_Program]]-output[[#This Row],[ishp_Baseline]]","v":0},{"$f":"output[[#This Row],[ishp_Market]]-output[[#This Row],[ishp_Program]]","v":0}]
["All","Refinery","Base",2019,"51-100 HP","Traditional","ASD Control","constant","Fans",2018,0,0,325.88941204383298,0,0,350.29852900591601,0,0,9.6867665591032104E-2,0,0,1.2830154382918099E-3,0,0,0,0,0,0,{"$f":"output[[#This Row],[ishp_Program]]-output[[#This Row],[ishp_Baseline]]","v":9.6867665591032104E-2},{"$f":"output[[#This Row],[ishp_Market]]-output[[#This Row],[ishp_Program]]","v":-9.6867665591032104E-2}]
["All","Refinery","Base",2019,"51-100 HP","Traditional","ASD Control","variable","Pumps",2015,751806.31587484595,902349.28879583802,751806.31587484595,808116.60893387196,969935.25052664604,808116.60893387196,351.99099319745699,422.47426719828201,351.99099319745699,4.6621323602312197,5.5956856582554,4.6621323602312197,17.822149735482899,25.204926370223198,17.822149735482899,0.23605496338387899,0.33384008437381701,0.23605496338387899,{"$f":"output[[#This Row],[ishp_Program]]-output[[#This Row],[ishp_Baseline]]","v":0},{"$f":"output[[#This Row],[ishp_Market]]-output[[#This Row],[ishp_Program]]","v":70.48327400082502}]
["All","Refinery","Base",2019,"51-100 HP","Traditional","Non ASD Control","variable","Fans","2014 and before",5475617.4287209101,5475902.0122652203,5379838.3039995003,5885741.1741321096,5886047.0729838796,5782788.1929690698,1680.30858606271,1680.39591651981,1650.9167434568301,22.255742861757799,22.256899556553801,21.8664469332031,217.793227407442,217.717121969034,217.793227407442,2.8846785087078501,2.8836704896560801,2.8846785087078501,{"$f":"output[[#This Row],[ishp_Program]]-output[[#This Row],[ishp_Baseline]]","v":-29.391842605879901},{"$f":"output[[#This Row],[ishp_Market]]-output[[#This Row],[ishp_Program]]","v":29.479173062979953}]
["All","Refinery","Base",2019,"6-10 HP","Traditional","ASD Control","variable","Fans",2017,149208.674208048,168749.61183594901,149321.22515839501,160384.40390623099,181388.957762462,160505.384922759,89.719485260295897,101.46949158388399,89.787162380170301,11.2149356575369,12.683686447985499,11.223395297521201,3.5943166515881901,4.29038224653626,3.5943166515881901,0.44928958144852399,0.53629778081703305,0.44928958144852399,{"$f":"output[[#This Row],[ishp_Program]]-output[[#This Row],[ishp_Baseline]]","v":6.7677119874403502E-2},{"$f":"output[[#This Row],[ishp_Market]]-output[[#This Row],[ishp_Program]]","v":11.682329203713692}]
["All","Refinery","Base",2020,"1,001+ HP","Traditional","ASD Control","constant","Pumps",2017,0,0,0,0,0,0,0,0,0,0,0,0,0,0,0,0,0,0,{"$f":"output[[#This Row],[ishp_Program]]-output[[#This Row],[ishp_Baseline]]","v":0},{"$f":"output[[#This Row],[ishp_Market]]-output[[#This Row],[ishp_Program]]","v":0}]
["All","Refinery","Base",2020,"1,001+ HP","Traditional","Non ASD Control","constant","Pumps",2019,4986120.0474283099,4986120.0474283099,4986120.0474283099,5359580.4389806902,5359580.4389806902,5359580.4389806902,1277.67631662699,1277.67631662699,1277.67631662699,1.27767631662699,1.27767631662699,1.27767631662699,172.59526989619201,172.33415168346701,172.59526989619201,0.17259526989619201,0.172334151683467,0.17259526989619201,{"$f":"output[[#This Row],[ishp_Program]]-output[[#This Row],[ishp_Baseline]]","v":0},{"$f":"output[[#This Row],[ishp_Market]]-output[[#This Row],[ishp_Program]]","v":0}]
["All","Refinery","Base",2020,"1,001+ HP","Traditional","Non ASD Control","variable","Fans",2020,25591.187217001501,25584.496801402602,25591.187217001501,27507.967139554901,27500.775611827601,27507.967139554901,7.9930566711768298,7.9909670115380402,7.9930566711768298,7.9930566711768295E-3,7.9909670115380395E-3,7.9930566711768295E-3,5.6353288535250501E-4,5.3184565155328602E-4,5.6353288535250501E-4,5.6353288535250499E-7,5.3184565155328599E-7,5.6353288535250499E-7,{"$f":"output[[#This Row],[ishp_Program]]-output[[#This Row],[ishp_Baseline]]","v":0},{"$f":"output[[#This Row],[ishp_Market]]-output[[#This Row],[ishp_Program]]","v":-2.0896596387895983E-3}]
["All","Refinery","Base",2020,"1-5 HP","Traditional","Non ASD Control","constant","Pumps",2019,258410.35794232,251201.99158823799,258410.35794232,277765.29375220003,270017.020758197,277765.29375220003,98.514029924096803,95.765977468442401,98.514029924096803,32.838009974698899,31.9219924894808,32.838009974698899,13.3560859901166,12.917002743489199,13.3560859901166,4.4520286633722002,4.30566758116308,4.4520286633722002,{"$f":"output[[#This Row],[ishp_Program]]-output[[#This Row],[ishp_Baseline]]","v":0},{"$f":"output[[#This Row],[ishp_Market]]-output[[#This Row],[ishp_Program]]","v":-2.7480524556544026}]
["All","Refinery","Base",2020,"101-200 HP","Traditional","ASD Control","constant","Fans",2019,87913.096565743806,133201.62377339599,88017.689548891707,94497.787498517995,143178.425394024,94610.214496103697,26.340001076348901,39.909081247512702,26.371338606208699,0.17501661844750099,0.26517661958480199,0.175224841237267,3.4381089406667198,5.3648122759911203,3.4381089406667198,2.28445776788486E-2,3.5646593195954299E-2,2.28445776788486E-2,{"$f":"output[[#This Row],[ishp_Program]]-output[[#This Row],[ishp_Baseline]]","v":3.1337529859797542E-2},{"$f":"output[[#This Row],[ishp_Market]]-output[[#This Row],[ishp_Program]]","v":13.537742641304003}]
["All","Refinery","Base",2020,"101-200 HP","Traditional","ASD Control","variable","Fans","2014 and before",7322823.1345174899,8305290.9374753302,7341359.0873672096,7871302.58729285,8927357.2286922392,7891226.8830110198,4719.5842141295798,5352.7880275432599,4731.53069827325,31.359363549033699,35.566697857430299,31.438742181217599,1225.17742739752,1332.64158815823,1225.17742739752,8.1407138033058004,8.85476138311118,8.1407138033058004,{"$f":"output[[#This Row],[ishp_Program]]-output[[#This Row],[ishp_Baseline]]","v":11.946484143670205},{"$f":"output[[#This Row],[ishp_Market]]-output[[#This Row],[ishp_Program]]","v":621.2573292700099}]
["All","Refinery","Base",2020,"101-200 HP","Traditional","Non ASD Control","variable","Fans",2015,3865273.3743217299,3034123.1860569199,3855809.86634976,4154782.3500584299,3261379.01269258,4144610.0253393599,1197.8197434713099,940.25242316032097,1194.8870720678799,7.9589351725668998,6.2475244063808697,7.9394489838397702,222.99057904155799,179.521048581782,222.99057904155799,1.4816649770203201,1.1928308875865901,1.4816649770203201,{"$f":"output[[#This Row],[ishp_Program]]-output[[#This Row],[ishp_Baseline]]","v":-2.9326714034300494},{"$f":"output[[#This Row],[ishp_Market]]-output[[#This Row],[ishp_Program]]","v":-254.63464890755893}]
["All","Refinery","Base",2020,"11-20 HP","Traditional","Non ASD Control","constant","Fans","2014 and before",1659583.32661392,1613268.3139225901,1659302.09388034,1783886.1177773001,1734102.1106354001,1783583.8207119801,451.909809132953,439.29808412362098,451.83322856666598,29.155471556964699,28.3418118789433,29.150530875268799,131.59022504819399,129.53099124273001,131.59022504819399,8.48969193859317,8.3568381446923095,8.48969193859317,{"$f":"output[[#This Row],[ishp_Program]]-output[[#This Row],[ishp_Baseline]]","v":-7.6580566287020702E-2},{"$f":"output[[#This Row],[ishp_Market]]-output[[#This Row],[ishp_Program]]","v":-12.535144443044999}]
["All","Refinery","Base",2020,"11-20 HP","Traditional","Non ASD Control","variable","Pumps",2016,833176.67580715602,773693.52481261001,833176.67580715602,895581.60882511199,831643.16982107505,895581.60882511199,327.32844721447799,303.959421153341,327.32844721447799,21.117964336417899,19.610285235699401,21.117964336417899,60.755824640227999,56.5404314509546,60.755824640227999,3.91973062195019,3.6477697710293202,3.91973062195019,{"$f":"output[[#This Row],[ishp_Program]]-output[[#This Row],[ishp_Baseline]]","v":0},{"$f":"output[[#This Row],[ishp_Market]]-output[[#This Row],[ishp_Program]]","v":-23.369026061136992}]
["All","Refinery","Base",2020,"201-500 HP","Traditional","ASD Control","variable","Pumps",2019,6123227.1359191397,7029600.1588301202,6123227.1359191397,6581856.8483994799,7556117.2107264996,6581856.8483994799,2814.8669013909598,3231.5294497291702,2814.8669013909598,8.03100399826236,9.2197701846766709,8.03100399826236,408.95648172230801,485.25167410281,408.95648172230801,1.1667802616898899,1.3844555609210001,1.1667802616898899,{"$f":"output[[#This Row],[ishp_Program]]-output[[#This Row],[ishp_Baseline]]","v":0},{"$f":"output[[#This Row],[ishp_Market]]-output[[#This Row],[ishp_Program]]","v":416.6625483382104}]
["All","Refinery","Base",2020,"21-50 HP","Traditional","ASD Control","constant","Fans",2018,43802.930113276903,64667.220114964897,44335.661747752201,47083.769578761399,69510.794901575806,47656.402812658802,12.828027397339801,18.938296346826601,12.984041983231799,0.361352884432108,0.53347313653032802,0.36574766149948701,2.1628053063457102,3.2002901605104701,2.1628053063457102,6.0924093136498901E-2,9.0149018605928694E-2,6.0924093136498901E-2,{"$f":"output[[#This Row],[ishp_Program]]-output[[#This Row],[ishp_Baseline]]","v":0.15601458589199879},{"$f":"output[[#This Row],[ishp_Market]]-output[[#This Row],[ishp_Program]]","v":5.9542543635948011}]
["All","Refinery","Base",2020,"21-50 HP","Traditional","ASD Control","variable","Pumps",2018,1597772.0189004501,1852747.90650014,1597772.0189004501,1717445.1431161,1991518.7246970001,1717445.1431161,896.82463670098798,1039.94183681409,896.82463670098798,25.262665822563001,29.2941362482843,25.262665822563001,162.59243956541701,192.180933654081,162.59243956541701,4.5800687201525996,5.4135474268755299,4.5800687201525996,{"$f":"output[[#This Row],[ishp_Program]]-output[[#This Row],[ishp_Baseline]]","v":0},{"$f":"output[[#This Row],[ishp_Market]]-output[[#This Row],[ishp_Program]]","v":143.11720011310206}]
["All","Refinery","Base",2020,"501-1,000 HP","Traditional","ASD Control","constant","Fans",2017,0,0,0,0,0,0,0,0,0,0,0,0,0,0,0,0,0,0,{"$f":"output[[#This Row],[ishp_Program]]-output[[#This Row],[ishp_Baseline]]","v":0},{"$f":"output[[#This Row],[ishp_Market]]-output[[#This Row],[ishp_Program]]","v":0}]
["All","Refinery","Base",2020,"501-1,000 HP","Traditional","Non ASD Control","constant","Fans",2020,82904.277554063607,82904.277554063607,82904.277554063607,89113.807942862899,89113.807942863001,89113.807942862899,23.717223068888799,23.717223068888799,23.717223068888799,3.1601896161077697E-2,3.1601896161077697E-2,3.1601896161077697E-2,1.6736405431933101E-3,1.5785200887323801E-3,1.6736405431933101E-3,2.2300340349011501E-6,2.1032912574715201E-6,2.2300340349011501E-6,{"$f":"output[[#This Row],[ishp_Program]]-output[[#This Row],[ishp_Baseline]]","v":0},{"$f":"output[[#This Row],[ishp_Market]]-output[[#This Row],[ishp_Program]]","v":0}]
["All","Refinery","Base",2020,"501-1,000 HP","Traditional","Non ASD Control","variable","Pumps",2020,1375073.15032936,1375073.15032936,1375073.15032936,1478066.1292890301,1478066.1292890301,1478066.1292890301,430.33894774955598,430.33894774955598,430.33894774955598,0.57340299500273895,0.57340299500273895,0.57340299500273895,0,0,0,0,0,0,{"$f":"output[[#This Row],[ishp_Program]]-output[[#This Row],[ishp_Baseline]]","v":0},{"$f":"output[[#This Row],[ishp_Market]]-output[[#This Row],[ishp_Program]]","v":0}]
["All","Refinery","Base",2020,"51-100 HP","Traditional","ASD Control","variable","Fans",2020,0,0,4357.56764219448,0,0,4683.9494585948496,0,0,2.77876192582284,0,0,3.68047937195079E-2,0,0,0,0,0,0,{"$f":"output[[#This Row],[ishp_Program]]-output[[#This Row],[ishp_Baseline]]","v":2.77876192582284},{"$f":"output[[#This Row],[ishp_Market]]-output[[#This Row],[ishp_Program]]","v":-2.77876192582284}]
["All","Refinery","Base",2020,"51-100 HP","Traditional","Non ASD Control","constant","Pumps",2019,4167954.8748423001,4086979.5129588,4167954.8748423001,4480134.6949679898,4393094.2784794196,4480134.6949679898,1099.4502283844199,1078.0900210909799,1099.4502283844199,14.5622546805883,14.279338027695101,14.5622546805883,148.88811325114401,145.41376936030801,148.88811325114401,1.97202799008138,1.92601019020276,1.97202799008138,{"$f":"output[[#This Row],[ishp_Program]]-output[[#This Row],[ishp_Baseline]]","v":0},{"$f":"output[[#This Row],[ishp_Market]]-output[[#This Row],[ishp_Program]]","v":-21.360207293439998}]
["All","Refinery","Base",2020,"6-10 HP","Traditional","Non ASD Control","constant","Fans",2015,662932.286131792,644174.373289651,662918.60890469805,712585.91436306306,692423.03384904598,712571.21271165996,177.80887050699599,172.77770312338399,177.80520205947599,22.226108813374601,21.597212890422998,22.225650257434499,33.828408930610003,32.988199415651202,33.828408930610003,4.2285511163262601,4.1235249269564003,4.2285511163262601,{"$f":"output[[#This Row],[ishp_Program]]-output[[#This Row],[ishp_Baseline]]","v":-3.6684475199990629E-3},{"$f":"output[[#This Row],[ishp_Market]]-output[[#This Row],[ishp_Program]]","v":-5.0274989360920017}]
["All","Refinery","Base",2020,"6-10 HP","Traditional","Non ASD Control","variable","Fans",2017,158917.03367759599,120326.74670537301,158669.58858690699,170819.91950004801,129339.220033605,170553.940772067,47.1713896640671,35.716623476397302,47.097940465304497,5.8964237080083901,4.4645779345496601,5.8872425581630603,8.5679306993329103,6.5651227465645601,8.5679306993329103,1.07099133741661,0.82064034332057001,1.07099133741661,{"$f":"output[[#This Row],[ishp_Program]]-output[[#This Row],[ishp_Baseline]]","v":-7.3449198762602919E-2},{"$f":"output[[#This Row],[ishp_Market]]-output[[#This Row],[ishp_Program]]","v":-11.381316988907194}]
["All","Refinery","Base",2021,"1,001+ HP","Traditional","ASD Control","constant","Pumps",2016,0,0,0,0,0,0,0,0,0,0,0,0,0,0,0,0,0,0,{"$f":"output[[#This Row],[ishp_Program]]-output[[#This Row],[ishp_Baseline]]","v":0},{"$f":"output[[#This Row],[ishp_Market]]-output[[#This Row],[ishp_Program]]","v":0}]
["All","Refinery","Base",2021,"1,001+ HP","Traditional","Non ASD Control","constant","Pumps",2019,4726233.9673901601,4730061.03552341,4726233.9673901601,5080228.8915476799,5084342.6070841104,5080228.8915476799,1211.08139185035,1212.06206505306,1211.08139185035,1.21108139185035,1.21206206505306,1.21108139185035,108.596017840314,107.403813487894,108.596017840314,0.108596017840314,0.107403813487894,0.108596017840314,{"$f":"output[[#This Row],[ishp_Program]]-output[[#This Row],[ishp_Baseline]]","v":0},{"$f":"output[[#This Row],[ishp_Market]]-output[[#This Row],[ishp_Program]]","v":0.98067320271002245}]
["All","Refinery","Base",2021,"1-5 HP","Traditional","ASD Control","constant","Pumps",2017,11321.787358511099,17870.621455358301,11321.787358511099,12169.789231663601,19209.131002364698,12169.789231663601,5.0152770461339697,7.9162516259265097,5.0152770461339697,1.67175901537799,2.6387505419755,1.67175901537799,0.63141451135843796,0.95173244948445801,0.63141451135843796,0.21047150378614601,0.31724414982815202,0.21047150378614601,{"$f":"output[[#This Row],[ishp_Program]]-output[[#This Row],[ishp_Baseline]]","v":0},{"$f":"output[[#This Row],[ishp_Market]]-output[[#This Row],[ishp_Program]]","v":2.9009745797925399}]
["All","Refinery","Base",2021,"1-5 HP","Traditional","ASD Control","variable","Pumps","2014 and before",133717.64971229699,176689.60288067901,133717.64971229699,143733.10167574801,189923.654136442,143733.10167574801,86.635131608036801,114.476488573308,86.635131608036801,28.878377202678902,38.158829524436101,28.878377202678902,18.166710323943398,21.174231386909099,18.166710323943398,6.0555701079811497,7.0580771289696997,6.0555701079811497,{"$f":"output[[#This Row],[ishp_Program]]-output[[#This Row],[ishp_Baseline]]","v":0},{"$f":"output[[#This Row],[ishp_Market]]-output[[#This Row],[ishp_Program]]","v":27.841356965271203}]
["All","Refinery","Base",2021,"101-200 HP","Traditional","ASD Control","constant","Pumps",2017,1194713.73925908,1775350.0861744001,1194713.73925908,1284197.7983295899,1908323.80762886,1284197.7983295899,369.682547547566,549.34995813538205,369.682547547566,2.45636244217651,3.65016583478659,2.45636244217651,45.908260145257003,66.045674895936401,45.908260145257003,0.30503827339041201,0.43884169366070702,0.30503827339041201,{"$f":"output[[#This Row],[ishp_Program]]-output[[#This Row],[ishp_Baseline]]","v":0},{"$f":"output[[#This Row],[ishp_Market]]-output[[#This Row],[ishp_Program]]","v":179.66741058781605}]
["All","Refinery","Base",2021,"101-200 HP","Traditional","Non ASD Control","constant","Fans",2020,1356126.31079339,1302720.4626929199,1356014.6870047499,1457700.17147181,1400294.22534862,1457580.1870613999,386.40552138851001,371.18841777787202,386.37371605599401,2.5674785474319601,2.4663682244376899,2.5672672163188901,0.44334578760568999,0.53317236071954899,0.44334578760568999,2.9458191867487698E-3,3.5426734931531499E-3,2.9458191867487698E-3,{"$f":"output[[#This Row],[ishp_Program]]-output[[#This Row],[ishp_Baseline]]","v":-3.1805332516000817E-2},{"$f":"output[[#This Row],[ishp_Market]]-output[[#This Row],[ishp_Program]]","v":-15.185298278121991}]
["All","Refinery","Base",2021,"101-200 HP","Traditional","Non ASD Control","variable","Fans",2020,993420.215294483,710620.26039181801,989968.14073005703,1067827.38942004,763845.71789516497,1064116.75447073,309.03789271555598,221.06313563124701,307.964004916151,2.0534079250202999,1.46885804406144,2.0462724579146201,0.84796172845277995,0.317533490398692,0.84796172845277995,5.6342971990217903E-3,2.1098570790610799E-3,5.6342971990217903E-3,{"$f":"output[[#This Row],[ishp_Program]]-output[[#This Row],[ishp_Baseline]]","v":-1.0738877994049858},{"$f":"output[[#This Row],[ishp_Market]]-output[[#This Row],[ishp_Program]]","v":-86.90086928490399}]
["All","Refinery","Base",2021,"11-20 HP","Traditional","ASD Control","constant","Fans",2020,10118.3044477856,16087.891301444201,10140.7935632546,10876.1654509248,17292.8743599224,10900.3390011424,2.9248061613759599,4.6503802929460596,2.93130688526968,0.18869717170167399,0.30002453502877802,0.18911657324320499,1.5106589525685399E-3,1.36414650166858E-2,1.5106589525685399E-3,9.7461867907647898E-5,8.8009451720553696E-4,9.7461867907647898E-5,{"$f":"output[[#This Row],[ishp_Program]]-output[[#This Row],[ishp_Baseline]]","v":6.5007238937200285E-3},{"$f":"output[[#This Row],[ishp_Market]]-output[[#This Row],[ishp_Program]]","v":1.7190734076763796}]
["All","Refinery","Base",2021,"11-20 HP","Traditional","Non ASD Control","variable","Fans",2020,112944.31437113701,80503.583801701403,112213.70371990401,121403.843517535,86533.302228448796,120618.510128525,33.941468566632899,24.192540140869699,33.721909055458603,2.1897721655892202,1.5608090413464299,2.1756070358360402,9.48092539768077E-2,3.4749989818994603E-2,9.48092539768077E-2,6.11672606301985E-3,2.2419348270319101E-3,6.11672606301985E-3,{"$f":"output[[#This Row],[ishp_Program]]-output[[#This Row],[ishp_Baseline]]","v":-0.21955951117429606},{"$f":"output[[#This Row],[ishp_Market]]-output[[#This Row],[ishp_Program]]","v":-9.529368914588904}]
["All","Refinery","Base",2021,"11-20 HP","Traditional","Non ASD Control","variable","Pumps",2021,578444.53008819104,524057.13836856501,578444.53008819104,621770.02539179695,563309.01803237095,621770.02539179695,232.159823642086,210.331339469098,232.159823642086,14.978053138199099,13.569763836716,14.978053138199099,1.6205887771726299E-3,7.6910008410580001E-3,1.6205887771726299E-3,1.04554114656299E-4,4.9619360264890303E-4,1.04554114656299E-4,{"$f":"output[[#This Row],[ishp_Program]]-output[[#This Row],[ishp_Baseline]]","v":0},{"$f":"output[[#This Row],[ishp_Market]]-output[[#This Row],[ishp_Program]]","v":-21.828484172987999}]
["All","Refinery","Base",2021,"201-500 HP","Traditional","ASD Control","variable","Pumps",2018,7159748.5303574102,8159582.96032908,7159748.5303574102,7696013.6952811796,8770735.7240577303,7696013.6952811796,3291.3590681885398,3750.9861212646802,3291.3590681885398,9.3904680975422004,10.701814896618201,9.3904680975422004,371.63836398963201,424.04538474237501,371.63836398963201,1.0603091697279099,1.20982991367296,1.0603091697279099,{"$f":"output[[#This Row],[ishp_Program]]-output[[#This Row],[ishp_Baseline]]","v":0},{"$f":"output[[#This Row],[ishp_Market]]-output[[#This Row],[ishp_Program]]","v":459.62705307614033}]
["All","Refinery","Base",2021,"201-500 HP","Traditional","Non ASD Control","variable","Fans",2015,1446614.21269042,1182341.04439061,1419070.9949789799,1554965.6172209301,1270898.3886154699,1525359.41250291,449.73357524265998,367.57447865869,441.17074648957299,1.2831200434883301,1.0487146324070999,1.2586897189431401,51.102725840099197,44.250433274465003,51.102725840099197,0.14579950311012599,0.12624945299419399,0.14579950311012599,{"$f":"output[[#This Row],[ishp_Program]]-output[[#This Row],[ishp_Baseline]]","v":-8.5628287530869898},{"$f":"output[[#This Row],[ishp_Market]]-output[[#This Row],[ishp_Program]]","v":-73.596267830882994}]
["All","Refinery","Base",2021,"21-50 HP","Traditional","ASD Control","variable","Pumps",2018,1587692.3982653699,1866476.05302001,1587692.3982653699,1706610.5588954401,2006275.1093911999,1706610.5588954401,891.16697590382103,1047.6474042352399,891.16697590382103,25.103295095882199,29.511194485499701,25.103295095882199,100.540393142512,118.43553461442799,100.540393142512,2.8321237504933099,3.3362122426599501,2.8321237504933099,{"$f":"output[[#This Row],[ishp_Program]]-output[[#This Row],[ishp_Baseline]]","v":0},{"$f":"output[[#This Row],[ishp_Market]]-output[[#This Row],[ishp_Program]]","v":156.48042833141892}]
["All","Refinery","Base",2021,"21-50 HP","Traditional","Non ASD Control","variable","Fans",2016,1478191.49061402,1138825.2539769099,1431313.2022862399,1588908.03326101,1224123.26549978,1538518.56113749,450.053686583706,346.72943741141103,435.78101175327203,12.6775686361607,9.7670264059552405,12.2755214578386,47.666731695629899,38.312892739081001,47.666731695629899,1.34272483649661,1.0792364151853799,1.34272483649661,{"$f":"output[[#This Row],[ishp_Program]]-output[[#This Row],[ishp_Baseline]]","v":-14.272674830433971},{"$f":"output[[#This Row],[ishp_Market]]-output[[#This Row],[ishp_Program]]","v":-89.051574341860999}]
["All","Refinery","Base",2021,"501-1,000 HP","Traditional","ASD Control","constant","Fans",2021,0,0,0,0,0,0,0,0,0,0,0,0,0,0,0,0,0,0,{"$f":"output[[#This Row],[ishp_Program]]-output[[#This Row],[ishp_Baseline]]","v":0},{"$f":"output[[#This Row],[ishp_Market]]-output[[#This Row],[ishp_Program]]","v":0}]
["All","Refinery","Base",2021,"501-1,000 HP","Traditional","Non ASD Control","variable","Fans",2016,165318.75515207101,165354.44502880701,165318.75515207101,177701.12991296101,177739.492961465,177701.12991296101,51.635047937949402,51.646195181917498,51.635047937949402,6.8800863341704696E-2,6.8815716431602197E-2,6.8800863341704696E-2,5.7183043787649304,5.7067987972380099,5.7183043787649304,7.6193262874949099E-3,7.6039957324956801E-3,7.6193262874949099E-3,{"$f":"output[[#This Row],[ishp_Program]]-output[[#This Row],[ishp_Baseline]]","v":0},{"$f":"output[[#This Row],[ishp_Market]]-output[[#This Row],[ishp_Program]]","v":1.1147243968096632E-2}]
["All","Refinery","Base",2021,"51-100 HP","Traditional","ASD Control","variable","Fans",2015,0,0,12913.1120481822,0,0,13880.304140591101,0,0,8.1843132873852795,0,0,0.108401500495169,0,0,0,0,0,0,{"$f":"output[[#This Row],[ishp_Program]]-output[[#This Row],[ishp_Baseline]]","v":8.1843132873852795},{"$f":"output[[#This Row],[ishp_Market]]-output[[#This Row],[ishp_Program]]","v":-8.1843132873852795}]
["All","Refinery","Base",2021,"51-100 HP","Traditional","ASD Control","variable","Fans","2014 and before",0,0,54617.814375804403,0,0,58708.688672552104,0,0,34.616698302928697,0,0,0.45849931527057802,0,0,0,0,0,0,{"$f":"output[[#This Row],[ishp_Program]]-output[[#This Row],[ishp_Baseline]]","v":34.616698302928697},{"$f":"output[[#This Row],[ishp_Market]]-output[[#This Row],[ishp_Program]]","v":-34.616698302928697}]
["All","Refinery","Base",2021,"6-10 HP","Traditional","ASD Control","constant","Fans","2014 and before",114920.512447349,166900.02538822999,114978.70651832801,123528.058829655,179400.837289808,123590.611636551,32.035476859532402,46.525392093335903,32.051699157662803,4.0044346074415502,5.8156740116669896,4.0064623947078504,5.8393639061745999,6.9479590363132404,5.8393639061745999,0.72992048827182499,0.86849487953915505,0.72992048827182499,{"$f":"output[[#This Row],[ishp_Program]]-output[[#This Row],[ishp_Baseline]]","v":1.6222298130401214E-2},{"$f":"output[[#This Row],[ishp_Market]]-output[[#This Row],[ishp_Program]]","v":14.4736929356731}]
["All","Refinery","Base",2021,"6-10 HP","Traditional","ASD Control","variable","Pumps",2019,41300.313144907399,64485.403543377601,41300.313144907399,44393.7065994609,69315.360268776596,44393.7065994609,27.866483908882898,43.510117075733,27.866483908882898,3.4833104886103698,5.4387646344666303,3.4833104886103698,2.52739261492211,4.04988325687704,2.52739261492211,0.31592407686526303,0.50623540710963,0.31592407686526303,{"$f":"output[[#This Row],[ishp_Program]]-output[[#This Row],[ishp_Baseline]]","v":0},{"$f":"output[[#This Row],[ishp_Market]]-output[[#This Row],[ishp_Program]]","v":15.643633166850101}]
["All","Refinery","Base",2021,"6-10 HP","Traditional","Non ASD Control","constant","Pumps",2020,844377.23068039306,828560.58607932006,844377.23068039306,907621.08525835397,890619.77397666103,907621.08525835397,331.33306309808199,325.12662228799002,331.33306309808199,41.416632887260299,40.640827785998802,41.416632887260299,3.8293312166696403E-2,1.47656597451786E-2,3.8293312166696403E-2,4.7866640208370503E-3,1.84570746814732E-3,4.7866640208370503E-3,{"$f":"output[[#This Row],[ishp_Program]]-output[[#This Row],[ishp_Baseline]]","v":0},{"$f":"output[[#This Row],[ishp_Market]]-output[[#This Row],[ishp_Program]]","v":-6.2064408100919763}]
["All","Transportation","Base",2014,"1,001+ HP","Traditional","ASD Control","variable","Fans","2014 and before",0,0,0,0,0,0,0,0,0,0,0,0,0,0,0,0,0,0,{"$f":"output[[#This Row],[ishp_Program]]-output[[#This Row],[ishp_Baseline]]","v":0},{"$f":"output[[#This Row],[ishp_Market]]-output[[#This Row],[ishp_Program]]","v":0}]
["All","Transportation","Base",2014,"501-1,000 HP","Traditional","ASD Control","variable","Fans","2014 and before",0,0,0,0,0,0,0,0,0,0,0,0,0,0,0,0,0,0,{"$f":"output[[#This Row],[ishp_Program]]-output[[#This Row],[ishp_Baseline]]","v":0},{"$f":"output[[#This Row],[ishp_Market]]-output[[#This Row],[ishp_Program]]","v":0}]
["All","Transportation","Base",2014,"6-10 HP","Traditional","ASD Control","variable","Fans","2014 and before",835996.95342031401,835996.95342031401,835996.95342031401,898613.12523149501,898613.12523149501,898613.12523149501,554.45323040938001,554.45323040938001,554.45323040938001,69.306653801172502,69.306653801172502,69.306653801172502,121.50041449225201,121.50041449225201,121.50041449225201,15.187551811531501,15.187551811531501,15.187551811531501,{"$f":"output[[#This Row],[ishp_Program]]-output[[#This Row],[ishp_Baseline]]","v":0},{"$f":"output[[#This Row],[ishp_Market]]-output[[#This Row],[ishp_Program]]","v":0}]
["All","Transportation","Base",2015,"1-5 HP","Traditional","Non ASD Control","constant","Pumps",2015,362182.55983727198,362182.55983727198,362182.55983727198,389310.03356908303,389310.03356908303,389310.03356908303,101.325057582916,101.325057582916,101.325057582916,33.775019194305301,33.775019194305301,33.775019194305301,0,0,0,0,0,0,{"$f":"output[[#This Row],[ishp_Program]]-output[[#This Row],[ishp_Baseline]]","v":0},{"$f":"output[[#This Row],[ishp_Market]]-output[[#This Row],[ishp_Program]]","v":0}]
["All","Transportation","Base",2015,"11-20 HP","Traditional","Non ASD Control","constant","Pumps","2014 and before",3740552.8816991001,3740552.8816991001,3740552.8816991001,4020720.2925383602,4020720.2925383602,4020720.2925383602,1124.3812768778,1124.3812768778,1124.3812768778,72.540727540503696,72.540727540503696,72.540727540503696,230.355132320737,230.355132320737,230.355132320737,14.8616214400475,14.8616214400475,14.8616214400475,{"$f":"output[[#This Row],[ishp_Program]]-output[[#This Row],[ishp_Baseline]]","v":0},{"$f":"output[[#This Row],[ishp_Market]]-output[[#This Row],[ishp_Program]]","v":0}]
["All","Transportation","Base",2015,"21-50 HP","Traditional","ASD Control","constant","Fans",2015,158529.88967774701,158529.88967774701,158529.88967774701,170403.77841461101,170403.77841461101,170403.77841461101,51.517962195588403,51.517962195588403,51.517962195588403,1.4512102026926299,1.4512102026926299,1.4512102026926299,0.19604323322425099,0.19604323322425099,0.19604323322425099,5.5223445978662203E-3,5.5223445978662203E-3,5.5223445978662203E-3,{"$f":"output[[#This Row],[ishp_Program]]-output[[#This Row],[ishp_Baseline]]","v":0},{"$f":"output[[#This Row],[ishp_Market]]-output[[#This Row],[ishp_Program]]","v":0}]
["All","Transportation","Base",2015,"501-1,000 HP","Traditional","ASD Control","variable","Fans","2014 and before",0,0,0,0,0,0,0,0,0,0,0,0,0,0,0,0,0,0,{"$f":"output[[#This Row],[ishp_Program]]-output[[#This Row],[ishp_Baseline]]","v":0},{"$f":"output[[#This Row],[ishp_Market]]-output[[#This Row],[ishp_Program]]","v":0}]
["All","Transportation","Base",2015,"51-100 HP","Traditional","ASD Control","variable","Pumps","2014 and before",1555507.6176698499,1555507.6176698499,1555507.6176698499,1672015.1382333201,1672015.1382333201,1672015.1382333201,691.09165320139698,691.09165320139698,691.09165320139698,9.1535318304820805,9.1535318304820805,9.1535318304820805,132.30935091201101,132.30935091201101,132.30935091201101,1.75244173393392,1.75244173393392,1.75244173393392,{"$f":"output[[#This Row],[ishp_Program]]-output[[#This Row],[ishp_Baseline]]","v":0},{"$f":"output[[#This Row],[ishp_Market]]-output[[#This Row],[ishp_Program]]","v":0}]
["All","Transportation","Base",2016,"1,001+ HP","Traditional","Non ASD Control","variable","Pumps",2016,0,0,0,0,0,0,0,0,0,0,0,0,0,0,0,0,0,0,{"$f":"output[[#This Row],[ishp_Program]]-output[[#This Row],[ishp_Baseline]]","v":0},{"$f":"output[[#This Row],[ishp_Market]]-output[[#This Row],[ishp_Program]]","v":0}]
["All","Transportation","Base",2016,"1-5 HP","Traditional","Non ASD Control","variable","Fans",2016,31923.933479485899,30095.040068820301,31923.933479485899,34315.036097099401,32349.158569974999,34315.036097099401,10.103993830255501,9.5251451194776493,10.103993830255501,3.3679979434185201,3.1750483731592101,3.3679979434185201,0,0,0,0,0,0,{"$f":"output[[#This Row],[ishp_Program]]-output[[#This Row],[ishp_Baseline]]","v":0},{"$f":"output[[#This Row],[ishp_Market]]-output[[#This Row],[ishp_Program]]","v":-0.57884871077785149}]
["All","Transportation","Base",2016,"101-200 HP","Traditional","Non ASD Control","constant","Pumps",2016,2057083.64775559,1974974.5188494199,2057083.64775559,2211159.2129724799,2122900.11031124,2211159.2129724799,504.24581728233198,484.11868980416301,504.24581728233198,3.3504705467264499,3.2167354804263302,3.3504705467264499,0,0,0,0,0,0,{"$f":"output[[#This Row],[ishp_Program]]-output[[#This Row],[ishp_Baseline]]","v":0},{"$f":"output[[#This Row],[ishp_Market]]-output[[#This Row],[ishp_Program]]","v":-20.127127478168973}]
["All","Transportation","Base",2016,"201-500 HP","Traditional","Non ASD Control","constant","Fans",2015,164163.65389349399,162976.40485404601,164162.88828099699,176459.51157011601,175183.337577614,176458.68861324401,52.263677502140403,51.8857010168419,52.263433759243298,0.14911177604034301,0.14803338378556899,0.14911108062551501,9.0706548446731503,9.05837212877762,9.0706548446731503,2.5879186432733601E-2,2.5844143020763499E-2,2.5879186432733601E-2,{"$f":"output[[#This Row],[ishp_Program]]-output[[#This Row],[ishp_Baseline]]","v":-2.4374289710493713E-4},{"$f":"output[[#This Row],[ishp_Market]]-output[[#This Row],[ishp_Program]]","v":-0.37773274240139898}]
["All","Transportation","Base",2016,"21-50 HP","Traditional","ASD Control","constant","Pumps",2016,135361.83910270999,174947.85208681901,135361.83910270999,145500.44085150299,188051.44620812201,145500.44085150299,48.023107159890401,62.067267287813898,48.023107159890401,1.35276358196874,1.7483737264172901,1.35276358196874,0.25463479636735298,1.0574764724671299,0.25463479636735298,7.1728111652775497E-3,2.9788069646961599E-2,7.1728111652775497E-3,{"$f":"output[[#This Row],[ishp_Program]]-output[[#This Row],[ishp_Baseline]]","v":0},{"$f":"output[[#This Row],[ishp_Market]]-output[[#This Row],[ishp_Program]]","v":14.044160127923497}]
["All","Transportation","Base",2016,"501-1,000 HP","Traditional","ASD Control","constant","Fans",2016,0,0,0,0,0,0,0,0,0,0,0,0,0,0,0,0,0,0,{"$f":"output[[#This Row],[ishp_Program]]-output[[#This Row],[ishp_Baseline]]","v":0},{"$f":"output[[#This Row],[ishp_Market]]-output[[#This Row],[ishp_Program]]","v":0}]
["All","Transportation","Base",2016,"51-100 HP","Traditional","Non ASD Control","constant","Fans",2016,100630.220493688,99035.812806786504,100629.85166681001,108167.424008665,106453.595186014,108167.02755665399,31.817102104984201,31.312984833629201,31.816985489892101,0.42141857092694401,0.41474152097522199,0.421417026356187,0,0,0,0,0,0,{"$f":"output[[#This Row],[ishp_Program]]-output[[#This Row],[ishp_Baseline]]","v":-1.1661509210014742E-4},{"$f":"output[[#This Row],[ishp_Market]]-output[[#This Row],[ishp_Program]]","v":-0.50400065626289958}]
["All","Transportation","Base",2016,"6-10 HP","Traditional","Non ASD Control","variable","Fans",2015,120358.02831324399,108788.692733352,120357.684832695,129372.844633906,116936.965819081,129372.475426663,39.4049523679667,35.617177477968099,39.404839913194301,4.9256190459958402,4.4521471847460203,4.9256049891492797,6.3572495693607198,6.2181611012141103,6.3572495693607198,0.79465619617009098,0.777270137651764,0.79465619617009098,{"$f":"output[[#This Row],[ishp_Program]]-output[[#This Row],[ishp_Baseline]]","v":-1.1245477239896218E-4},{"$f":"output[[#This Row],[ishp_Market]]-output[[#This Row],[ishp_Program]]","v":-3.7876624352262027}]
["All","Transportation","Base",2017,"1,001+ HP","Traditional","ASD Control","variable","Pumps","2014 and before",0,0,0,0,0,0,0,0,0,0,0,0,0,0,0,0,0,0,{"$f":"output[[#This Row],[ishp_Program]]-output[[#This Row],[ishp_Baseline]]","v":0},{"$f":"output[[#This Row],[ishp_Market]]-output[[#This Row],[ishp_Program]]","v":0}]
["All","Transportation","Base",2017,"1-5 HP","Traditional","Non ASD Control","variable","Fans",2017,32703.178993547401,29673.982852295499,32703.178993547401,35152.647100164097,31896.564167932502,35152.647100164097,10.350626716876199,9.3918796019096096,10.350626716876199,3.4502089056253999,3.13062653396987,3.4502089056253999,0,0,0,0,0,0,{"$f":"output[[#This Row],[ishp_Program]]-output[[#This Row],[ishp_Baseline]]","v":0},{"$f":"output[[#This Row],[ishp_Market]]-output[[#This Row],[ishp_Program]]","v":-0.95874711496658982}]
["All","Transportation","Base",2017,"101-200 HP","Traditional","Non ASD Control","constant","Pumps",2017,2142335.0552128698,2034432.6547711899,2142335.0552128698,2302795.95084832,2186811.6606135601,2302795.95084832,525.14320066033395,498.69345752188502,525.14320066033395,3.4893235924274699,3.3135777908430901,3.4893235924274699,0,0,0,0,0,0,{"$f":"output[[#This Row],[ishp_Program]]-output[[#This Row],[ishp_Baseline]]","v":0},{"$f":"output[[#This Row],[ishp_Market]]-output[[#This Row],[ishp_Program]]","v":-26.449743138448923}]
["All","Transportation","Base",2017,"11-20 HP","Traditional","ASD Control","constant","Pumps",2016,18896.403985306799,27556.648698331701,18896.403985306799,20311.744643806302,29620.641685836701,20311.744643806302,6.8420620736274396,9.9777873653492808,6.8420620736274396,0.44142335958886703,0.64372821711930805,0.44142335958886703,9.9400178545045195E-2,0.34421462505636002,9.9400178545045195E-2,6.4129147448416203E-3,2.22073951649264E-2,6.4129147448416203E-3,{"$f":"output[[#This Row],[ishp_Program]]-output[[#This Row],[ishp_Baseline]]","v":0},{"$f":"output[[#This Row],[ishp_Market]]-output[[#This Row],[ishp_Program]]","v":3.1357252917218412}]
["All","Transportation","Base",2017,"11-20 HP","Traditional","Non ASD Control","constant","Pumps",2016,243170.07852505101,233571.41061606701,243170.07852505101,261383.517406578,251065.90927121,261383.517406578,73.886642632835503,70.970110509129597,73.886642632835503,4.7668801698603502,4.5787168070406103,4.7668801698603502,0.62717990404743895,0.54201603844337398,0.62717990404743895,4.0463219615963802E-2,3.4968776673766001E-2,4.0463219615963802E-2,{"$f":"output[[#This Row],[ishp_Program]]-output[[#This Row],[ishp_Baseline]]","v":0},{"$f":"output[[#This Row],[ishp_Market]]-output[[#This Row],[ishp_Program]]","v":-2.9165321237059061}]
["All","Transportation","Base",2017,"21-50 HP","Traditional","ASD Control","constant","Pumps",2016,120486.632784974,169488.71655901999,120486.632784974,129511.08158056901,182183.42142929,129511.08158056901,42.745743674306702,60.1304980167275,42.745743674306702,1.2041054556142701,1.69381684554162,1.2041054556142701,0.69364837583571204,2.0743874439696901,0.69364837583571204,1.95393908686116E-2,5.84334491259067E-2,1.95393908686116E-2,{"$f":"output[[#This Row],[ishp_Program]]-output[[#This Row],[ishp_Baseline]]","v":0},{"$f":"output[[#This Row],[ishp_Market]]-output[[#This Row],[ishp_Program]]","v":17.384754342420798}]
["All","Transportation","Base",2017,"21-50 HP","Traditional","ASD Control","variable","Pumps","2014 and before",3037099.1233807802,3320684.16357412,3037099.1233807802,3264577.847722,3569403.4074258199,3264577.847722,1598.1680569663399,1747.39484682693,1598.1680569663399,45.0188185060941,49.222390051462803,45.0188185060941,684.27512114814203,702.52477700048803,684.27512114814203,19.275355525299702,19.7894303380419,19.275355525299702,{"$f":"output[[#This Row],[ishp_Program]]-output[[#This Row],[ishp_Baseline]]","v":0},{"$f":"output[[#This Row],[ishp_Market]]-output[[#This Row],[ishp_Program]]","v":149.22678986059009}]
["All","Transportation","Base",2017,"501-1,000 HP","Traditional","ASD Control","variable","Fans","2014 and before",0,0,0,0,0,0,0,0,0,0,0,0,0,0,0,0,0,0,{"$f":"output[[#This Row],[ishp_Program]]-output[[#This Row],[ishp_Baseline]]","v":0},{"$f":"output[[#This Row],[ishp_Market]]-output[[#This Row],[ishp_Program]]","v":0}]
["All","Transportation","Base",2017,"51-100 HP","Traditional","ASD Control","constant","Fans",2015,7358.8038660681204,10427.959170919399,7360.2122483697003,7909.9782756366203,11209.0133128212,7911.4921457725904,2.4306132736965802,3.4443554196730499,2.4310784624390598,3.2193553293994398E-2,4.56206015850735E-2,3.2199714734292298E-2,0.55887386274159701,0.61672960012094002,0.55887386274159701,7.4023028177695E-3,8.1686039751117899E-3,7.4023028177695E-3,{"$f":"output[[#This Row],[ishp_Program]]-output[[#This Row],[ishp_Baseline]]","v":4.6518874247958308E-4},{"$f":"output[[#This Row],[ishp_Market]]-output[[#This Row],[ishp_Program]]","v":1.0132769572339901}]
["All","Transportation","Base",2017,"6-10 HP","Traditional","ASD Control","variable","Pumps",2015,78049.637915181404,89394.505384526303,78049.637915181404,83895.5557950285,96090.153837827398,83895.5557950285,38.814069966359099,44.455870383072799,38.814069966359099,4.8517587457948901,5.5569837978840999,4.8517587457948901,8.1284223628027892,8.8190540811448805,8.1284223628027892,1.01605279535034,1.1023817601431101,1.01605279535034,{"$f":"output[[#This Row],[ishp_Program]]-output[[#This Row],[ishp_Baseline]]","v":0},{"$f":"output[[#This Row],[ishp_Market]]-output[[#This Row],[ishp_Program]]","v":5.6418004167136999}]
["All","Transportation","Base",2018,"1,001+ HP","Traditional","ASD Control","constant","Fans",2016,0,0,0,0,0,0,0,0,0,0,0,0,0,0,0,0,0,0,{"$f":"output[[#This Row],[ishp_Program]]-output[[#This Row],[ishp_Baseline]]","v":0},{"$f":"output[[#This Row],[ishp_Market]]-output[[#This Row],[ishp_Program]]","v":0}]
["All","Transportation","Base",2018,"1,001+ HP","Traditional","Non ASD Control","constant","Fans",2017,0,0,0,0,0,0,0,0,0,0,0,0,0,0,0,0,0,0,{"$f":"output[[#This Row],[ishp_Program]]-output[[#This Row],[ishp_Baseline]]","v":0},{"$f":"output[[#This Row],[ishp_Market]]-output[[#This Row],[ishp_Program]]","v":0}]
["All","Transportation","Base",2018,"1-5 HP","Traditional","Non ASD Control","constant","Pumps",2015,215844.104284998,212311.15331409799,215844.104284998,232010.82769594499,228213.258697324,232010.82769594499,60.385061902033002,59.396675104156898,60.385061902033002,20.128353967344299,19.7988917013856,20.128353967344299,11.905789729297799,11.842643569876399,11.905789729297799,3.9685965764326299,3.94754785662548,3.9685965764326299,{"$f":"output[[#This Row],[ishp_Program]]-output[[#This Row],[ishp_Baseline]]","v":0},{"$f":"output[[#This Row],[ishp_Market]]-output[[#This Row],[ishp_Program]]","v":-0.98838679787610317}]
["All","Transportation","Base",2018,"101-200 HP","Traditional","ASD Control","variable","Pumps",2017,614534.99527613097,743932.482038285,614534.99527613097,660563.66642231401,799653.02494295198,660563.66642231401,270.24418174194898,327.14723559291798,270.24418174194898,1.7956424036009899,2.1737357846705501,1.7956424036009899,1.74563857494209,3.8732734422877,1.74563857494209,1.15989274082531E-2,2.573603616138E-2,1.15989274082531E-2,{"$f":"output[[#This Row],[ishp_Program]]-output[[#This Row],[ishp_Baseline]]","v":0},{"$f":"output[[#This Row],[ishp_Market]]-output[[#This Row],[ishp_Program]]","v":56.903053850969002}]
["All","Transportation","Base",2018,"101-200 HP","Traditional","Non ASD Control","constant","Fans",2018,92060.868575319793,75598.446614522894,92059.537062841904,98956.227631611197,81260.770265950705,98954.796388848801,29.327441704064299,24.0830775368071,29.3270175297633,0.19486672228614099,0.16002044874954899,0.194863903852248,0,0,0,0,0,0,{"$f":"output[[#This Row],[ishp_Program]]-output[[#This Row],[ishp_Baseline]]","v":-4.2417430099916942E-4},{"$f":"output[[#This Row],[ishp_Market]]-output[[#This Row],[ishp_Program]]","v":-5.2439399929562001}]
["All","Transportation","Base",2018,"11-20 HP","Traditional","Non ASD Control","variable","Fans",2016,57080.126619567804,35877.9176805674,57077.646598457402,61355.428103373401,38565.173714841898,61352.7623286819,19.178167808803298,12.054505949054301,19.177334554502,1.2373011489550501,0.77771006122930997,1.2372473906130299,0.195224207752968,0.15462108800910099,0.195224207752968,1.2595110177610801E-2,9.9755540651033509E-3,1.2595110177610801E-2,{"$f":"output[[#This Row],[ishp_Program]]-output[[#This Row],[ishp_Baseline]]","v":-8.3325430129832512E-4},{"$f":"output[[#This Row],[ishp_Market]]-output[[#This Row],[ishp_Program]]","v":-7.1228286054476992}]
["All","Transportation","Base",2018,"201-500 HP","Traditional","ASD Control","variable","Fans",2017,22891.150248470902,32484.212375270301,22910.196240857498,24605.6974020813,34917.279882178103,24626.169939297699,16.624934679295698,23.591995290114902,16.638767028299199,4.7432053293282997E-2,6.7309544336989796E-2,4.7471517912408598E-2,0,4.0836396233457299E-2,0,0,1.16508976414999E-4,0,{"$f":"output[[#This Row],[ishp_Program]]-output[[#This Row],[ishp_Baseline]]","v":1.383234900350061E-2},{"$f":"output[[#This Row],[ishp_Market]]-output[[#This Row],[ishp_Program]]","v":6.9532282618157026}]
["All","Transportation","Base",2018,"201-500 HP","Traditional","Non ASD Control","variable","Fans",2015,86527.539837663498,63193.996255835002,86467.056831736103,93008.452571504502,67927.226575397101,92943.439388433093,30.0755009865392,21.965158148509399,30.054478122514102,8.5807420788985095E-2,6.2668068897316395E-2,8.57474411483998E-2,5.2397609256986302,5.1978313830090803,5.2397609256986302,1.4949389231665101E-2,1.4829761435118599E-2,1.4949389231665101E-2,{"$f":"output[[#This Row],[ishp_Program]]-output[[#This Row],[ishp_Baseline]]","v":-2.1022864025098897E-2},{"$f":"output[[#This Row],[ishp_Market]]-output[[#This Row],[ishp_Program]]","v":-8.0893199740047024}]
["All","Transportation","Base",2018,"21-50 HP","Traditional","ASD Control","variable","Fans",2015,906291.46639503399,950566.53378597298,906333.71397606295,974172.69722802204,1021763.96716654,974218.10915287002,629.36153080293502,660.10773687768005,629.39086904924397,17.7284938254347,18.594584137399401,17.729320254908298,90.864591948003493,91.155380409813304,90.864591948003493,2.5595659703662901,2.5677571946426201,2.5595659703662901,{"$f":"output[[#This Row],[ishp_Program]]-output[[#This Row],[ishp_Baseline]]","v":2.9338246308952876E-2},{"$f":"output[[#This Row],[ishp_Market]]-output[[#This Row],[ishp_Program]]","v":30.716867828436079}]
["All","Transportation","Base",2018,"501-1,000 HP","Traditional","ASD Control","variable","Pumps",2018,33866.768789362199,37631.792018143598,33866.768789362199,36403.389771685397,40450.413240302601,36403.389771685397,14.773696814711499,16.416112482657802,14.773696814711499,1.9685138993619601E-2,2.18735675984781E-2,1.9685138993619601E-2,0.12376050680975199,0.19431785001309401,0.12376050680975199,1.6490407303098201E-4,2.5891785478093798E-4,1.6490407303098201E-4,{"$f":"output[[#This Row],[ishp_Program]]-output[[#This Row],[ishp_Baseline]]","v":0},{"$f":"output[[#This Row],[ishp_Market]]-output[[#This Row],[ishp_Program]]","v":1.6424156679463024}]
["All","Transportation","Base",2018,"501-1,000 HP","Traditional","Non ASD Control","variable","Fans","2014 and before",0,0,0,0,0,0,0,0,0,0,0,0,0,0,0,0,0,0,{"$f":"output[[#This Row],[ishp_Program]]-output[[#This Row],[ishp_Baseline]]","v":0},{"$f":"output[[#This Row],[ishp_Market]]-output[[#This Row],[ishp_Program]]","v":0}]
["All","Transportation","Base",2018,"51-100 HP","Traditional","Non ASD Control","constant","Pumps",2017,257116.58404553699,231908.27530564199,257116.58404553699,276374.61619054701,249278.205126035,276374.61619054701,64.360673416891501,58.050603095199797,64.360673416891501,0.85245925055485405,0.76888216020132205,0.85245925055485405,0,0,0,0,0,0,{"$f":"output[[#This Row],[ishp_Program]]-output[[#This Row],[ishp_Baseline]]","v":0},{"$f":"output[[#This Row],[ishp_Market]]-output[[#This Row],[ishp_Program]]","v":-6.310070321691704}]
["All","Transportation","Base",2018,"6-10 HP","Traditional","ASD Control","variable","Pumps","2014 and before",502991.23827996303,594008.71741859196,502991.23827996303,540665.28202713304,638499.97035324399,540665.28202713304,250.137446329737,295.40042124946001,250.137446329737,31.2671807912171,36.925052656182601,31.2671807912171,94.603137337622499,97.234001021147606,94.603137337622499,11.8253921672028,12.154250127643399,11.8253921672028,{"$f":"output[[#This Row],[ishp_Program]]-output[[#This Row],[ishp_Baseline]]","v":0},{"$f":"output[[#This Row],[ishp_Market]]-output[[#This Row],[ishp_Program]]","v":45.262974919723007}]
["All","Transportation","Base",2019,"1,001+ HP","Traditional","ASD Control","constant","Fans",2015,0,0,0,0,0,0,0,0,0,0,0,0,0,0,0,0,0,0,{"$f":"output[[#This Row],[ishp_Program]]-output[[#This Row],[ishp_Baseline]]","v":0},{"$f":"output[[#This Row],[ishp_Market]]-output[[#This Row],[ishp_Program]]","v":0}]
["All","Transportation","Base",2019,"1,001+ HP","Traditional","ASD Control","variable","Pumps",2018,0,0,0,0,0,0,0,0,0,0,0,0,0,0,0,0,0,0,{"$f":"output[[#This Row],[ishp_Program]]-output[[#This Row],[ishp_Baseline]]","v":0},{"$f":"output[[#This Row],[ishp_Market]]-output[[#This Row],[ishp_Program]]","v":0}]
["All","Transportation","Base",2019,"1,001+ HP","Traditional","Non ASD Control","variable","Fans",2019,0,0,0,0,0,0,0,0,0,0,0,0,0,0,0,0,0,0,{"$f":"output[[#This Row],[ishp_Program]]-output[[#This Row],[ishp_Baseline]]","v":0},{"$f":"output[[#This Row],[ishp_Market]]-output[[#This Row],[ishp_Program]]","v":0}]
["All","Transportation","Base",2019,"1-5 HP","Traditional","Non ASD Control","variable","Fans",2017,23686.100487473701,19317.729606829002,23686.100487473701,25460.189413985401,20764.627554380499,25460.189413985401,7.4967019130657899,6.1141031034715798,7.4967019130657899,2.4989006376885898,2.0380343678238599,2.4989006376885898,0.16005480427956401,0.12831681589621899,0.16005480427956401,5.33516014265214E-2,4.2772271965406602E-2,5.33516014265214E-2,{"$f":"output[[#This Row],[ishp_Program]]-output[[#This Row],[ishp_Baseline]]","v":0},{"$f":"output[[#This Row],[ishp_Market]]-output[[#This Row],[ishp_Program]]","v":-1.3825988095942101}]
["All","Transportation","Base",2019,"101-200 HP","Traditional","ASD Control","constant","Pumps","2014 and before",1794740.1799993201,2537071.6776301898,1794740.1799993201,1929166.2194812701,2727098.3462846898,1929166.2194812701,524.97317448734304,742.10996519170396,524.97317448734304,3.4881938504142398,4.93096322386514,3.4881938504142398,251.13338621201601,268.59554021514998,251.13338621201601,1.66866037350176,1.7846879748514901,1.66866037350176,{"$f":"output[[#This Row],[ishp_Program]]-output[[#This Row],[ishp_Baseline]]","v":0},{"$f":"output[[#This Row],[ishp_Market]]-output[[#This Row],[ishp_Program]]","v":217.13679070436092}]
["All","Transportation","Base",2019,"101-200 HP","Traditional","Non ASD Control","constant","Pumps",2018,3772974.5917656901,3500449.28471496,3772974.5917656901,4055570.3886889401,3762632.9361401098,4055570.3886889401,924.856244268978,858.05305601076304,924.856244268978,6.1452242144118099,5.7013492093738396,6.1452242144118099,17.530324256297099,14.8672359747098,17.530324256297099,0.11648055984250601,9.8785621094417894E-2,0.11648055984250601,{"$f":"output[[#This Row],[ishp_Program]]-output[[#This Row],[ishp_Baseline]]","v":0},{"$f":"output[[#This Row],[ishp_Market]]-output[[#This Row],[ishp_Program]]","v":-66.803188258214959}]
["All","Transportation","Base",2019,"11-20 HP","Traditional","Non ASD Control","constant","Fans",2019,74122.197163965,68701.673200337696,74122.040716604301,79673.949731545901,73847.428523042996,79673.781566278005,22.8105056179743,21.142383286803199,22.8104574725667,1.4716455237402799,1.36402472818085,1.4716424175849501,0,0,0,0,0,0,{"$f":"output[[#This Row],[ishp_Program]]-output[[#This Row],[ishp_Baseline]]","v":-4.8145407600230783E-5},{"$f":"output[[#This Row],[ishp_Market]]-output[[#This Row],[ishp_Program]]","v":-1.6680741857635013}]
["All","Transportation","Base",2019,"11-20 HP","Traditional","Non ASD Control","variable","Pumps",2017,93668.853682662593,71570.915008529293,93668.853682662593,100684.650823494,76931.576542668205,100684.650823494,34.759837748554297,26.5594516790005,34.759837748554297,2.2425701773260802,1.7135130115484201,2.2425701773260802,0.82145388879439896,0.50371598144432195,0.82145388879439896,5.2997025083509598E-2,3.2497805254472302E-2,5.2997025083509598E-2,{"$f":"output[[#This Row],[ishp_Program]]-output[[#This Row],[ishp_Baseline]]","v":0},{"$f":"output[[#This Row],[ishp_Market]]-output[[#This Row],[ishp_Program]]","v":-8.2003860695537973}]
["All","Transportation","Base",2019,"201-500 HP","Traditional","ASD Control","variable","Fans","2014 and before",374138.954116582,521538.04145140201,374633.28807512199,402161.96177991398,560601.24075611203,402693.32135194901,270.46145815868601,377.01484334672699,270.818807431658,0.77164467377656698,1.0756486258109199,0.77266421521157902,106.516727159482,110.316920543072,106.516727159482,0.30389936422106301,0.31474157073629699,0.30389936422106301,{"$f":"output[[#This Row],[ishp_Program]]-output[[#This Row],[ishp_Baseline]]","v":0.35734927297198738},{"$f":"output[[#This Row],[ishp_Market]]-output[[#This Row],[ishp_Program]]","v":106.19603591506899}]
["All","Transportation","Base",2019,"21-50 HP","Traditional","ASD Control","constant","Pumps",2015,152684.34593918701,213579.61183098101,152684.34593918701,164120.403450032,229576.72475712199,164120.403450032,53.762987650014701,75.205339241112796,53.762987650014701,1.5144503563384399,2.11846026031303,1.5144503563384399,12.199689454204799,13.7527383193605,12.199689454204799,0.34365322406210802,0.38740107941860702,0.34365322406210802,{"$f":"output[[#This Row],[ishp_Program]]-output[[#This Row],[ishp_Baseline]]","v":0},{"$f":"output[[#This Row],[ishp_Market]]-output[[#This Row],[ishp_Program]]","v":21.442351591098095}]
["All","Transportation","Base",2019,"21-50 HP","Traditional","Non ASD Control","constant","Pumps",2019,904278.95889279596,815672.688530265,904278.95889279596,972009.45291386603,876766.57290118199,972009.45291386603,269.403454569997,243.00580913384101,269.403454569997,7.5888297061971199,6.8452340601081998,7.5888297061971199,0,0,0,0,0,0,{"$f":"output[[#This Row],[ishp_Program]]-output[[#This Row],[ishp_Baseline]]","v":0},{"$f":"output[[#This Row],[ishp_Market]]-output[[#This Row],[ishp_Program]]","v":-26.397645436155983}]
["All","Transportation","Base",2019,"501-1,000 HP","Traditional","ASD Control","constant","Pumps",2016,4300.82548880999,6779.67767675291,4300.82548880999,4622.9573179218596,7287.4755347417104,4622.9573179218596,1.2527387798201499,1.9747755779552301,1.2527387798201499,1.6692055693806099E-3,2.6312799173287601E-3,1.6692055693806099E-3,4.7430933864230702E-2,9.6902792735939006E-2,4.7430933864230702E-2,6.3199112410700501E-5,1.29117645217773E-4,6.3199112410700501E-5,{"$f":"output[[#This Row],[ishp_Program]]-output[[#This Row],[ishp_Baseline]]","v":0},{"$f":"output[[#This Row],[ishp_Market]]-output[[#This Row],[ishp_Program]]","v":0.72203679813508015}]
["All","Transportation","Base",2019,"501-1,000 HP","Traditional","ASD Control","variable","Pumps","2014 and before",124746.625070818,140251.17203380199,124746.625070818,134090.14728862201,150755.984819134,134090.14728862201,54.1656987379288,60.897861787536897,54.1656987379288,7.2172816439612E-2,8.1143053680928501E-2,7.2172816439612E-2,21.460492082078702,22.041065141263299,21.460492082078702,2.8594926158665799E-2,2.9368507849784599E-2,2.8594926158665799E-2,{"$f":"output[[#This Row],[ishp_Program]]-output[[#This Row],[ishp_Baseline]]","v":0},{"$f":"output[[#This Row],[ishp_Market]]-output[[#This Row],[ishp_Program]]","v":6.7321630496080971}]
["All","Transportation","Base",2019,"51-100 HP","Traditional","ASD Control","constant","Fans",2018,8104.2096417439197,18391.506662325999,8109.2131072351403,8711.2149439105397,19769.0305113342,8716.5931689670506,2.6932407733357202,6.1119785661656501,2.6949035557493799,3.5672063222989603E-2,8.0953358492260305E-2,3.5694086831117598E-2,5.0399734751390403E-2,0.13264986035399301,5.0399734751390403E-2,6.6754615564755505E-4,1.7569517927681199E-3,6.6754615564755505E-4,{"$f":"output[[#This Row],[ishp_Program]]-output[[#This Row],[ishp_Baseline]]","v":1.6627824136596914E-3},{"$f":"output[[#This Row],[ishp_Market]]-output[[#This Row],[ishp_Program]]","v":3.4170750104162702}]
["All","Transportation","Base",2019,"51-100 HP","Traditional","Non ASD Control","variable","Pumps",2018,216038.053262273,154313.14259849201,216038.053262273,232219.30345161699,165871.19697911901,232219.30345161699,66.046146336479197,47.1758944491554,66.046146336479197,0.87478339518515602,0.62484628409477405,0.87478339518515602,1.6627907834387099,0.81740301509374502,1.6627907834387099,2.20237189859432E-2,1.08265300012416E-2,2.20237189859432E-2,{"$f":"output[[#This Row],[ishp_Program]]-output[[#This Row],[ishp_Baseline]]","v":0},{"$f":"output[[#This Row],[ishp_Market]]-output[[#This Row],[ishp_Program]]","v":-18.870251887323796}]
["All","Transportation","Base",2019,"6-10 HP","Traditional","ASD Control","variable","Fans",2016,31253.208795064402,45481.638850081203,31253.575261015099,33594.0741338148,48888.213599952302,33594.4680480651,21.010831788323799,30.576286409581801,21.0110781551688,2.6263539735404802,3.82203580119773,2.6263847693961,0.70295228064939896,1.03248173100208,0.70295228064939896,8.7869035081174898E-2,0.12906021637526,8.7869035081174898E-2,{"$f":"output[[#This Row],[ishp_Program]]-output[[#This Row],[ishp_Baseline]]","v":2.4636684500123351E-4},{"$f":"output[[#This Row],[ishp_Market]]-output[[#This Row],[ishp_Program]]","v":9.565208254413001}]
["All","Transportation","Base",2020,"1,001+ HP","Traditional","ASD Control","constant","Pumps","2014 and before",0,0,0,0,0,0,0,0,0,0,0,0,0,0,0,0,0,0,{"$f":"output[[#This Row],[ishp_Program]]-output[[#This Row],[ishp_Baseline]]","v":0},{"$f":"output[[#This Row],[ishp_Market]]-output[[#This Row],[ishp_Program]]","v":0}]
["All","Transportation","Base",2020,"1,001+ HP","Traditional","ASD Control","variable","Pumps",2018,0,0,0,0,0,0,0,0,0,0,0,0,0,0,0,0,0,0,{"$f":"output[[#This Row],[ishp_Program]]-output[[#This Row],[ishp_Baseline]]","v":0},{"$f":"output[[#This Row],[ishp_Market]]-output[[#This Row],[ishp_Program]]","v":0}]
["All","Transportation","Base",2020,"1,001+ HP","Traditional","Non ASD Control","variable","Pumps",2017,0,0,0,0,0,0,0,0,0,0,0,0,0,0,0,0,0,0,{"$f":"output[[#This Row],[ishp_Program]]-output[[#This Row],[ishp_Baseline]]","v":0},{"$f":"output[[#This Row],[ishp_Market]]-output[[#This Row],[ishp_Program]]","v":0}]
["All","Transportation","Base",2020,"1-5 HP","Traditional","ASD Control","variable","Fans",2017,1568.57540446138,4050.57891995417,1568.57540446138,1686.06170225554,4353.9672810587399,1686.06170225554,0.98960448659938405,2.5554850988422499,0.98960448659938405,0.32986816219979398,0.85182836628075098,0.32986816219979398,0.16288665134153901,0.38498285499767798,0.16288665134153901,5.4295550447179902E-2,0.12832761833255901,5.4295550447179902E-2,{"$f":"output[[#This Row],[ishp_Program]]-output[[#This Row],[ishp_Baseline]]","v":0},{"$f":"output[[#This Row],[ishp_Market]]-output[[#This Row],[ishp_Program]]","v":1.5658806122428659}]
["All","Transportation","Base",2020,"101-200 HP","Traditional","ASD Control","constant","Fans",2018,17972.385632746202,37243.2482810043,17974.467122607399,19318.5173166389,40032.767577251499,19320.7547100907,6.0203795267484699,12.4757221463151,6.0210767830394198,4.0002521772415103E-2,8.2895163762891494E-2,4.00071547045808E-2,0.95095175024366496,1.84325557141699,0.95095175024366496,6.3186162806888003E-3,1.22475453250298E-2,6.3186162806888003E-3,{"$f":"output[[#This Row],[ishp_Program]]-output[[#This Row],[ishp_Baseline]]","v":6.9725629094996577E-4},{"$f":"output[[#This Row],[ishp_Market]]-output[[#This Row],[ishp_Program]]","v":6.4546453632756799}]
["All","Transportation","Base",2020,"101-200 HP","Traditional","Non ASD Control","constant","Fans",2020,24323.473447321299,15130.3927116912,24322.6210238803,26145.3016085257,16263.659125796899,26144.3853385689,7.7486261058144104,4.8200252406773796,7.7483545528825299,5.1485887746275098E-2,3.2026745785231701E-2,5.1484083407857303E-2,0,0,0,0,0,0,{"$f":"output[[#This Row],[ishp_Program]]-output[[#This Row],[ishp_Baseline]]","v":-2.7155293188041441E-4},{"$f":"output[[#This Row],[ishp_Market]]-output[[#This Row],[ishp_Program]]","v":-2.9283293122051504}]
["All","Transportation","Base",2020,"101-200 HP","Traditional","Non ASD Control","variable","Fans",2019,26948.792320560999,8365.7656647417698,26920.703261820399,28967.256865371,8992.3615130309299,28937.063936130799,9.3728998947816997,2.9096474226416902,9.3631304055748306,6.2278404616489702E-2,1.9333205466057699E-2,6.2213491066942399E-2,1.17738796314494,0.402712073289063,1.17738796314494,7.8231758348501195E-3,2.6758277294954302E-3,7.8231758348501195E-3,{"$f":"output[[#This Row],[ishp_Program]]-output[[#This Row],[ishp_Baseline]]","v":-9.769489206869153E-3},{"$f":"output[[#This Row],[ishp_Market]]-output[[#This Row],[ishp_Program]]","v":-6.4534829829331404}]
["All","Transportation","Base",2020,"11-20 HP","Traditional","Non ASD Control","constant","Fans",2020,52741.732758313301,47034.161113201902,52741.566078678399,56692.088541910998,50557.019780580697,56691.909377971402,16.230840927771201,14.474381998365599,16.230789633463999,1.0471510275981399,0.93383109666875097,1.047147718288,0,0,0,0,0,0,{"$f":"output[[#This Row],[ishp_Program]]-output[[#This Row],[ishp_Baseline]]","v":-5.129430720174355E-5},{"$f":"output[[#This Row],[ishp_Market]]-output[[#This Row],[ishp_Program]]","v":-1.7564076350983999}]
["All","Transportation","Base",2020,"11-20 HP","Traditional","Non ASD Control","constant","Pumps",2018,393875.45466244,368428.81641648099,393875.45466244,423376.72621665703,396024.134766075,423376.72621665703,119.67810816613699,111.946208428758,119.67810816613699,7.7211682687830701,7.2223360276618598,7.7211682687830701,18.6072757447382,17.1712547916398,18.6072757447382,1.2004694028863301,1.1078228897832101,1.2004694028863301,{"$f":"output[[#This Row],[ishp_Program]]-output[[#This Row],[ishp_Baseline]]","v":0},{"$f":"output[[#This Row],[ishp_Market]]-output[[#This Row],[ishp_Program]]","v":-7.7318997373789955}]
["All","Transportation","Base",2020,"201-500 HP","Traditional","ASD Control","variable","Fans","2014 and before",308609.54990650702,462907.30180787202,309147.02311904199,331724.40519450401,497579.058713281,332302.13515065802,223.090880944199,334.63124451951097,223.47941516974299,0.63649324092496296,0.95472537666051704,0.63760175512052297,135.31322309509099,151.57210414196899,135.31322309509099,0.38605769784619598,0.43244537558336399,0.38605769784619598,{"$f":"output[[#This Row],[ishp_Program]]-output[[#This Row],[ishp_Baseline]]","v":0.38853422554399231},{"$f":"output[[#This Row],[ishp_Market]]-output[[#This Row],[ishp_Program]]","v":111.15182934976798}]
["All","Transportation","Base",2020,"21-50 HP","Traditional","ASD Control","constant","Pumps",2015,120358.56904275301,182838.97822166499,120358.56904275301,129373.425864055,196533.61769046701,129373.425864055,42.380482564966201,64.380992482280107,42.380482564966201,1.19381641028073,1.8135490840078901,1.19381641028073,17.872867701636199,22.132433311707601,17.872867701636199,0.50346106201792196,0.62344882568190396,0.50346106201792196,{"$f":"output[[#This Row],[ishp_Program]]-output[[#This Row],[ishp_Baseline]]","v":0},{"$f":"output[[#This Row],[ishp_Market]]-output[[#This Row],[ishp_Program]]","v":22.000509917313906}]
["All","Transportation","Base",2020,"21-50 HP","Traditional","Non ASD Control","constant","Fans",2015,185355.08958721999,124734.554274152,185350.188762323,199238.18579730301,134077.17238928599,199232.91790062099,57.357918821637,38.598964043786303,57.356402267021501,1.6157160231447001,1.0872947617967901,1.6156733032963799,24.189811787963901,21.914712477967001,24.189811787963901,0.68140314895673004,0.61731584444977505,0.68140314895673004,{"$f":"output[[#This Row],[ishp_Program]]-output[[#This Row],[ishp_Baseline]]","v":-1.5165546154989329E-3},{"$f":"output[[#This Row],[ishp_Market]]-output[[#This Row],[ishp_Program]]","v":-18.757438223235198}]
["All","Transportation","Base",2020,"21-50 HP","Traditional","Non ASD Control","variable","Fans",2020,138408.41860081899,40642.927389044497,138294.741026879,148775.20915402099,43687.082650484001,148653.01712979199,47.114226223405602,13.8348526393578,47.075530376799698,1.32716130206776,0.38971415885514998,1.3260712782197099,0.15943000473939201,0,0.15943000473939201,4.4909860489969599E-3,0,4.4909860489969599E-3,{"$f":"output[[#This Row],[ishp_Program]]-output[[#This Row],[ishp_Baseline]]","v":-3.8695846605904194E-2},{"$f":"output[[#This Row],[ishp_Market]]-output[[#This Row],[ishp_Program]]","v":-33.240677737441899}]
["All","Transportation","Base",2020,"501-1,000 HP","Traditional","ASD Control","constant","Pumps",2018,8811.8153593181905,13540.955075749,8811.8153593181905,9471.8203297311302,14555.1726109226,9471.8203297311302,2.5666939637411601,3.9441915472573399,2.5666939637411601,3.4199786325665102E-3,5.2554184507093201E-3,3.4199786325665102E-3,0.41600799145088702,0.67742057157561397,0.41600799145088702,5.5430778341224098E-4,9.0262567831527504E-4,5.5430778341224098E-4,{"$f":"output[[#This Row],[ishp_Program]]-output[[#This Row],[ishp_Baseline]]","v":0},{"$f":"output[[#This Row],[ishp_Market]]-output[[#This Row],[ishp_Program]]","v":1.3774975835161798}]
["All","Transportation","Base",2020,"51-100 HP","Traditional","ASD Control","constant","Fans",2017,1908.44886835641,6001.0244718624299,1910.31977860244,2051.3916885963099,6450.5012048049302,2053.4027300197599,0.63422746119606299,1.9942973471657901,0.63484921359149704,8.4003637244511702E-3,2.6414534399546899E-2,8.4085988555165202E-3,0.108833688578959,0.30044013435023098,0.108833688578959,1.44150580899284E-3,3.97933952781763E-3,1.44150580899284E-3,{"$f":"output[[#This Row],[ishp_Program]]-output[[#This Row],[ishp_Baseline]]","v":6.2175239543404981E-4},{"$f":"output[[#This Row],[ishp_Market]]-output[[#This Row],[ishp_Program]]","v":1.3594481335742929}]
["All","Transportation","Base",2020,"51-100 HP","Traditional","ASD Control","variable","Fans",2019,27946.747683578102,44877.959942154797,27981.072765880199,30039.959085078201,48239.319141822198,30076.8551160446,19.924820006600299,31.9960406210805,19.9492923027803,0.26390490074967299,0.42378861749775498,0.26422903712291801,2.5352912739985198,4.0447703727218096,2.5352912739985198,3.3580016874152602E-2,5.3573117519494201E-2,3.3580016874152602E-2,{"$f":"output[[#This Row],[ishp_Program]]-output[[#This Row],[ishp_Baseline]]","v":2.4472296180000797E-2},{"$f":"output[[#This Row],[ishp_Market]]-output[[#This Row],[ishp_Program]]","v":12.0467483183002}]
["All","Transportation","Base",2020,"51-100 HP","Traditional","Non ASD Control","variable","Pumps",2018,180177.542222441,118959.272765182,180177.542222441,193672.84013490201,127869.322295294,193672.84013490201,55.083038105901402,36.367674205951701,55.083038105901402,0.72957666365432305,0.48169104908545302,0.72957666365432305,8.8964704623935802,5.5783809807828799,8.8964704623935802,0.117834045859517,7.3885840805071296E-2,0.117834045859517,{"$f":"output[[#This Row],[ishp_Program]]-output[[#This Row],[ishp_Baseline]]","v":0},{"$f":"output[[#This Row],[ishp_Market]]-output[[#This Row],[ishp_Program]]","v":-18.715363899949701}]
["All","Transportation","Base",2020,"6-10 HP","Traditional","ASD Control","variable","Pumps","2014 and before",375412.38434526999,485876.018937674,375412.38434526999,403530.77193273098,522268.13275610597,403530.77193273098,186.69250673590599,241.62605103328301,186.69250673590599,23.336563341988199,30.203256379160401,23.336563341988199,122.262981796898,133.59850364402899,122.262981796898,15.282872724612201,16.699812955503599,15.282872724612201,{"$f":"output[[#This Row],[ishp_Program]]-output[[#This Row],[ishp_Baseline]]","v":0},{"$f":"output[[#This Row],[ishp_Market]]-output[[#This Row],[ishp_Program]]","v":54.933544297377011}]
["All","Transportation","Base",2020,"6-10 HP","Traditional","Non ASD Control","variable","Fans","2014 and before",946144.85654833203,482106.98693784099,946127.85093280999,1017011.1063038,518216.80025948503,1016992.82696767,309.76573418477199,157.84076162420001,309.76016658384799,38.720716773096498,19.730095203025002,38.720020822980999,192.41642412276201,172.32350211479101,192.41642412276201,24.052053015345301,21.540437764348901,24.052053015345301,{"$f":"output[[#This Row],[ishp_Program]]-output[[#This Row],[ishp_Baseline]]","v":-5.5676009239959967E-3},{"$f":"output[[#This Row],[ishp_Market]]-output[[#This Row],[ishp_Program]]","v":-151.91940495964798}]
["All","Transportation","Base",2021,"1,001+ HP","Traditional","ASD Control","constant","Pumps",2020,0,0,0,0,0,0,0,0,0,0,0,0,0,0,0,0,0,0,{"$f":"output[[#This Row],[ishp_Program]]-output[[#This Row],[ishp_Baseline]]","v":0},{"$f":"output[[#This Row],[ishp_Market]]-output[[#This Row],[ishp_Program]]","v":0}]
["All","Transportation","Base",2021,"1,001+ HP","Traditional","Non ASD Control","constant","Fans",2016,0,0,0,0,0,0,0,0,0,0,0,0,0,0,0,0,0,0,{"$f":"output[[#This Row],[ishp_Program]]-output[[#This Row],[ishp_Baseline]]","v":0},{"$f":"output[[#This Row],[ishp_Market]]-output[[#This Row],[ishp_Program]]","v":0}]
["All","Transportation","Base",2021,"1-5 HP","Traditional","ASD Control","constant","Pumps",2021,5518.77159427073,11087.0995659254,5518.77159427073,5932.1275866816104,11917.523323413199,5932.1275866816104,1.8658594475261501,3.7484735719487201,1.8658594475261501,0.62195314917538602,1.24949119064957,0.62195314917538602,0,8.8030070606910205E-2,0,0,2.9343356868970001E-2,0,{"$f":"output[[#This Row],[ishp_Program]]-output[[#This Row],[ishp_Baseline]]","v":0},{"$f":"output[[#This Row],[ishp_Market]]-output[[#This Row],[ishp_Program]]","v":1.88261412442257}]
["All","Transportation","Base",2021,"1-5 HP","Traditional","Non ASD Control","constant","Fans",2018,53674.371170860402,52323.552819564,53674.371170860402,57694.581571557799,56242.586925749398,57694.581571557799,15.559945850513801,15.168350011726099,15.559945850513801,5.18664861683793,5.0561166705753804,5.18664861683793,5.5805974929848698,5.4771014457283203,5.5805974929848698,1.86019916432829,1.82570048190944,1.86019916432829,{"$f":"output[[#This Row],[ishp_Program]]-output[[#This Row],[ishp_Baseline]]","v":0},{"$f":"output[[#This Row],[ishp_Market]]-output[[#This Row],[ishp_Program]]","v":-0.39159583878770121}]
["All","Transportation","Base",2021,"1-5 HP","Traditional","Non ASD Control","variable","Fans",2018,41245.042906508803,28541.945715968999,41245.042906508803,44334.296620206303,30679.737450095101,44334.296620206303,13.0541450765703,9.0335874056045,13.0541450765703,4.3513816921901203,3.0111958018681602,4.3513816921901203,4.0839638606243103,3.2619154094611398,4.0839638606243103,1.3613212868747699,1.0873051364870401,1.3613212868747699,{"$f":"output[[#This Row],[ishp_Program]]-output[[#This Row],[ishp_Baseline]]","v":0},{"$f":"output[[#This Row],[ishp_Market]]-output[[#This Row],[ishp_Program]]","v":-4.0205576709658004}]
["All","Transportation","Base",2021,"101-200 HP","Traditional","ASD Control","variable","Fans",2021,90323.256611407807,100554.802290586,90338.563230112093,97088.468531602295,108086.356982151,97104.921616047504,65.335346954272396,72.736337705786298,65.346419000180106,0.43412190667290601,0.48329792495538998,0.43419547508425299,0.40442680791491697,0.50408490485054602,0.40442680791491697,2.6872213150492801E-3,3.3494013611331998E-3,2.6872213150492801E-3,{"$f":"output[[#This Row],[ishp_Program]]-output[[#This Row],[ishp_Baseline]]","v":1.1072045907710049E-2},{"$f":"output[[#This Row],[ishp_Market]]-output[[#This Row],[ishp_Program]]","v":7.3899187056061919}]
["All","Transportation","Base",2021,"101-200 HP","Traditional","Non ASD Control","variable","Fans",2019,24463.235708114898,5790.0971832958803,24433.230832102101,26295.532062652699,6223.7754623247401,26263.2798214266,8.5084131662430398,2.01381941849333,8.4979773479741691,5.6534306752445397E-2,1.33808599235437E-2,5.6464965767270198E-2,1.9525481535198199,0.62879336061773905,1.9525481535198199,1.2973741883852599E-2,4.1780289742042497E-3,1.2973741883852599E-2,{"$f":"output[[#This Row],[ishp_Program]]-output[[#This Row],[ishp_Baseline]]","v":-1.0435818268870634E-2},{"$f":"output[[#This Row],[ishp_Market]]-output[[#This Row],[ishp_Program]]","v":-6.4841579294808387}]
["All","Transportation","Base",2021,"11-20 HP","Traditional","ASD Control","constant","Pumps",2016,9418.0475625088893,18929.1610446878,9418.0475625088893,10123.459324940801,20346.955206934901,10123.459324940801,3.4101126375773299,6.8539228400361401,3.4101126375773299,0.22000726694047201,0.44218857032491199,0.22000726694047201,1.0939033840061101,2.12473259270645,1.0939033840061101,7.0574411871362194E-2,0.137079522110093,7.0574411871362194E-2,{"$f":"output[[#This Row],[ishp_Program]]-output[[#This Row],[ishp_Baseline]]","v":0},{"$f":"output[[#This Row],[ishp_Market]]-output[[#This Row],[ishp_Program]]","v":3.4438102024588102}]
["All","Transportation","Base",2021,"11-20 HP","Traditional","Non ASD Control","constant","Pumps","2014 and before",1339067.2846480601,1250157.11373569,1339067.2846480601,1439363.4242682001,1343793.88155449,1439363.4242682001,402.51327302555899,375.78756304108498,402.51327302555899,25.968598259713499,24.2443589058764,25.968598259713499,433.20420623082998,426.201960022538,433.20420623082998,27.948658466505101,27.496900646615298,27.948658466505101,{"$f":"output[[#This Row],[ishp_Program]]-output[[#This Row],[ishp_Baseline]]","v":0},{"$f":"output[[#This Row],[ishp_Market]]-output[[#This Row],[ishp_Program]]","v":-26.725709984474008}]
["All","Transportation","Base",2021,"201-500 HP","Traditional","ASD Control","constant","Pumps",2017,19058.822336531299,33227.841669020701,19058.822336531299,20486.328129537502,35716.607010030399,20486.328129537502,5.5514286503360601,9.6785619264974798,5.5514286503360601,1.58385981464652E-2,2.7613586095570498E-2,1.58385981464652E-2,1.64764206756177,2.8545689797257201,1.64764206756177,4.7008332883360197E-3,8.1442766896597102E-3,4.7008332883360197E-3,{"$f":"output[[#This Row],[ishp_Program]]-output[[#This Row],[ishp_Baseline]]","v":0},{"$f":"output[[#This Row],[ishp_Market]]-output[[#This Row],[ishp_Program]]","v":4.1271332761614197}]
["All","Transportation","Base",2021,"201-500 HP","Traditional","ASD Control","variable","Pumps","2014 and before",520545.27987220499,611397.51153988903,520545.27987220499,559534.12133463402,657191.18515422696,559534.12133463402,226.02374046594099,265.47229955430601,226.02374046594099,0.644860885780147,0.75741026976977599,0.644860885780147,181.04259845283201,193.209268293116,181.04259845283201,0.51652667176271705,0.55123899655668096,0.51652667176271705,{"$f":"output[[#This Row],[ishp_Program]]-output[[#This Row],[ishp_Baseline]]","v":0},{"$f":"output[[#This Row],[ishp_Market]]-output[[#This Row],[ishp_Program]]","v":39.448559088365016}]
["All","Transportation","Base",2021,"201-500 HP","Traditional","Non ASD Control","constant","Pumps","2014 and before",860445.06190963497,738533.49951452401,860445.06190963497,924892.39704666706,793849.658628162,924892.39704666706,208.25685747734801,178.750128926646,208.25685747734801,0.59417077739614299,0.50998610250112997,0.59417077739614299,210.52666060332501,202.73064570391,210.52666060332501,0.60064667789821802,0.57840412469018598,0.60064667789821802,{"$f":"output[[#This Row],[ishp_Program]]-output[[#This Row],[ishp_Baseline]]","v":0},{"$f":"output[[#This Row],[ishp_Market]]-output[[#This Row],[ishp_Program]]","v":-29.506728550702007}]
["All","Transportation","Base",2021,"21-50 HP","Traditional","ASD Control","constant","Pumps",2019,95382.170110385006,169434.68743227099,95382.170110385006,102526.294651652,182125.345520948,102526.294651652,33.839287399739497,60.111329789102697,33.839287399739497,0.953219363372943,1.69327689546768,0.953219363372943,8.8072153390748102,15.8933316338504,8.8072153390748102,0.24809057293168399,0.44769948264367398,0.24809057293168399,{"$f":"output[[#This Row],[ishp_Program]]-output[[#This Row],[ishp_Baseline]]","v":0},{"$f":"output[[#This Row],[ishp_Market]]-output[[#This Row],[ishp_Program]]","v":26.2720423893632}]
["All","Transportation","Base",2021,"21-50 HP","Traditional","Non ASD Control","variable","Fans",2020,125848.285805469,28129.702507447601,125726.86473800401,135274.32241229899,30236.617225255399,135143.80690688099,42.838756971619503,9.5753508415935293,42.797425239788097,1.20672554849632,0.269728192720944,1.20556127436022,4.0596555534427603,0.87301003730454996,4.0596555534427603,0.114356494463176,2.4591832036747901E-2,0.114356494463176,{"$f":"output[[#This Row],[ishp_Program]]-output[[#This Row],[ishp_Baseline]]","v":-4.1331731831405705E-2},{"$f":"output[[#This Row],[ishp_Market]]-output[[#This Row],[ishp_Program]]","v":-33.222074398194565}]
["All","Transportation","Base",2021,"501-1,000 HP","Traditional","ASD Control","constant","Fans",2020,0,0,0,0,0,0,0,0,0,0,0,0,0,0,0,0,0,0,{"$f":"output[[#This Row],[ishp_Program]]-output[[#This Row],[ishp_Baseline]]","v":0},{"$f":"output[[#This Row],[ishp_Market]]-output[[#This Row],[ishp_Program]]","v":0}]
["All","Transportation","Base",2021,"501-1,000 HP","Traditional","Non ASD Control","variable","Fans",2020,0,0,0,0,0,0,0,0,0,0,0,0,0,0,0,0,0,0,{"$f":"output[[#This Row],[ishp_Program]]-output[[#This Row],[ishp_Baseline]]","v":0},{"$f":"output[[#This Row],[ishp_Market]]-output[[#This Row],[ishp_Program]]","v":0}]
["All","Transportation","Base",2021,"51-100 HP","Traditional","ASD Control","constant","Fans",2016,1171.01850646598,4756.8814353979396,1172.6546736381399,1258.7277926002901,5113.1718549092502,1260.48650869364,0.38916006956431998,1.5808360842181499,0.38970381069822901,5.1544380074744402E-3,2.0938226281035099E-2,5.1616398767977403E-3,0.14843341387504,0.42105415951402703,0.14843341387504,1.9660054817886101E-3,5.5768762849540002E-3,1.9660054817886101E-3,{"$f":"output[[#This Row],[ishp_Program]]-output[[#This Row],[ishp_Baseline]]","v":5.43741133909037E-4},{"$f":"output[[#This Row],[ishp_Market]]-output[[#This Row],[ishp_Program]]","v":1.191132273519921}]
["All","Transportation","Base",2021,"51-100 HP","Traditional","ASD Control","variable","Pumps",2018,201912.55911957001,241296.78515473701,201912.55911957001,217035.80979762599,259369.91436282601,217035.80979762599,90.257378414421197,107.862608164939,90.257378414421197,1.1954619657539201,1.42864381675416,1.1954619657539201,26.3235717037442,31.502896083452701,26.3235717037442,0.34865657885753898,0.41725690176758501,0.34865657885753898,{"$f":"output[[#This Row],[ishp_Program]]-output[[#This Row],[ishp_Baseline]]","v":0},{"$f":"output[[#This Row],[ishp_Market]]-output[[#This Row],[ishp_Program]]","v":17.605229750517807}]
["All","Transportation","Base",2021,"51-100 HP","Traditional","Non ASD Control","variable","Fans",2015,72760.875561474793,30831.010106559301,72658.326903801499,78210.665141029196,33140.2527635406,78100.435588896202,24.963748380568301,10.577904301998499,24.928564652126902,0.33064567391481298,0.14010469274170301,0.33017966426658102,12.717526065465,9.8581036121283692,12.717526065465,0.168444053847219,0.13057090876991201,0.168444053847219,{"$f":"output[[#This Row],[ishp_Program]]-output[[#This Row],[ishp_Baseline]]","v":-3.5183728441399609E-2},{"$f":"output[[#This Row],[ishp_Market]]-output[[#This Row],[ishp_Program]]","v":-14.350660350128402}]
["All","Transportation","Base",2021,"6-10 HP","Traditional","ASD Control","variable","Pumps",2018,78047.013615902702,107425.45818661401,78047.013615902702,83892.734935733897,115471.625004792,83892.734935733897,39.342593963268698,54.151926985364099,39.342593963268698,4.9178242454085899,6.7689908731705097,4.9178242454085899,11.4702681877037,15.8158842768754,11.4702681877037,1.4337835234629599,1.9769855346094301,1.4337835234629599,{"$f":"output[[#This Row],[ishp_Program]]-output[[#This Row],[ishp_Baseline]]","v":0},{"$f":"output[[#This Row],[ishp_Market]]-output[[#This Row],[ishp_Program]]","v":14.809333022095402}]
["All","Transportation","Base",2021,"6-10 HP","Traditional","Non ASD Control","variable","Pumps",2017,68266.862851358106,46872.545827168098,68266.862851358106,73380.050878924798,50383.299509623001,73380.050878924798,23.925670406441,16.427546773512201,23.925670406441,2.9907088008051299,2.0534433466890198,2.9907088008051299,6.8848218742185301,4.8278378053544504,6.8848218742185301,0.86060273427731604,0.60347972566930597,0.86060273427731604,{"$f":"output[[#This Row],[ishp_Program]]-output[[#This Row],[ishp_Baseline]]","v":0},{"$f":"output[[#This Row],[ishp_Market]]-output[[#This Row],[ishp_Program]]","v":-7.4981236329287988}]
["All","Warehousing","Base",2014,"1,001+ HP","Traditional","Non ASD Control","variable","Fans","2014 and before",0,0,0,0,0,0,0,0,0,0,0,0,0,0,0,0,0,0,{"$f":"output[[#This Row],[ishp_Program]]-output[[#This Row],[ishp_Baseline]]","v":0},{"$f":"output[[#This Row],[ishp_Market]]-output[[#This Row],[ishp_Program]]","v":0}]
["All","Warehousing","Base",2014,"501-1,000 HP","Traditional","ASD Control","constant","Pumps","2014 and before",0,0,0,0,0,0,0,0,0,0,0,0,0,0,0,0,0,0,{"$f":"output[[#This Row],[ishp_Program]]-output[[#This Row],[ishp_Baseline]]","v":0},{"$f":"output[[#This Row],[ishp_Market]]-output[[#This Row],[ishp_Program]]","v":0}]
["All","Warehousing","Base",2014,"501-1,000 HP","Traditional","Non ASD Control","variable","Pumps","2014 and before",0,0,0,0,0,0,0,0,0,0,0,0,0,0,0,0,0,0,{"$f":"output[[#This Row],[ishp_Program]]-output[[#This Row],[ishp_Baseline]]","v":0},{"$f":"output[[#This Row],[ishp_Market]]-output[[#This Row],[ishp_Program]]","v":0}]
["All","Warehousing","Base",2015,"1-5 HP","Traditional","ASD Control","variable","Fans",2015,682302.87878392905,682302.87878392905,682302.87878392905,733407.36440484598,733407.36440484598,733407.36440484598,378.18196544371199,378.18196544371199,378.18196544371199,126.060655147904,126.060655147904,126.060655147904,1.7093016941977599,1.7093016941977599,1.7093016941977599,0.569767231399253,0.569767231399253,0.569767231399253,{"$f":"output[[#This Row],[ishp_Program]]-output[[#This Row],[ishp_Baseline]]","v":0},{"$f":"output[[#This Row],[ishp_Market]]-output[[#This Row],[ishp_Program]]","v":0}]
["All","Warehousing","Base",2015,"101-200 HP","Traditional","ASD Control","variable","Fans",2015,0,0,0,0,0,0,0,0,0,0,0,0,0,0,0,0,0,0,{"$f":"output[[#This Row],[ishp_Program]]-output[[#This Row],[ishp_Baseline]]","v":0},{"$f":"output[[#This Row],[ishp_Market]]-output[[#This Row],[ishp_Program]]","v":0}]
["All","Warehousing","Base",2015,"21-50 HP","Traditional","ASD Control","variable","Fans",2015,0,0,0,0,0,0,0,0,0,0,0,0,0,0,0,0,0,0,{"$f":"output[[#This Row],[ishp_Program]]-output[[#This Row],[ishp_Baseline]]","v":0},{"$f":"output[[#This Row],[ishp_Market]]-output[[#This Row],[ishp_Program]]","v":0}]
["All","Warehousing","Base",2015,"501-1,000 HP","Traditional","Non ASD Control","constant","Fans",2015,0,0,0,0,0,0,0,0,0,0,0,0,0,0,0,0,0,0,{"$f":"output[[#This Row],[ishp_Program]]-output[[#This Row],[ishp_Baseline]]","v":0},{"$f":"output[[#This Row],[ishp_Market]]-output[[#This Row],[ishp_Program]]","v":0}]
["All","Warehousing","Base",2015,"51-100 HP","Traditional","Non ASD Control","constant","Pumps",2015,0,0,0,0,0,0,0,0,0,0,0,0,0,0,0,0,0,0,{"$f":"output[[#This Row],[ishp_Program]]-output[[#This Row],[ishp_Baseline]]","v":0},{"$f":"output[[#This Row],[ishp_Market]]-output[[#This Row],[ishp_Program]]","v":0}]
["All","Warehousing","Base",2016,"1-5 HP","Traditional","ASD Control","constant","Fans","2014 and before",1889569.94739628,2076194.5622320799,1889569.94739628,2031098.7364562601,2231701.5349432598,2031098.7364562601,494.62706727275099,543.479233896344,494.62706727275099,164.87568909091701,181.15974463211401,164.87568909091701,168.759103818559,171.378702351524,168.759103818559,56.253034606186397,57.126234117174803,56.253034606186397,{"$f":"output[[#This Row],[ishp_Program]]-output[[#This Row],[ishp_Baseline]]","v":0},{"$f":"output[[#This Row],[ishp_Market]]-output[[#This Row],[ishp_Program]]","v":48.852166623593007}]
["All","Warehousing","Base",2016,"1-5 HP","Traditional","Non ASD Control","variable","Fans",2015,2378589.2374918801,2298282.6467531999,2378589.2374918801,2556745.5713800201,2470424.01699501,2556745.5713800201,661.39891917386501,639.06858509184099,661.39891917386501,220.46630639128799,213.02286169728001,220.46630639128799,1.0915444284723299,0.97900042391311104,1.0915444284723299,0.36384814282410999,0.32633347463770301,0.36384814282410999,{"$f":"output[[#This Row],[ishp_Program]]-output[[#This Row],[ishp_Baseline]]","v":0},{"$f":"output[[#This Row],[ishp_Market]]-output[[#This Row],[ishp_Program]]","v":-22.330334082024024}]
["All","Warehousing","Base",2016,"11-20 HP","Traditional","ASD Control","constant","Pumps","2014 and before",547988.57162052498,601704.993941113,547988.57162052498,589032.91563490301,646772.69798730302,589032.91563490301,207.80953274951801,228.18000250294099,207.80953274951801,13.4070666290011,14.721290484060701,13.4070666290011,76.226032394887298,78.370259480293797,76.226032394887298,4.9178085416056296,5.0561457729221804,4.9178085416056296,{"$f":"output[[#This Row],[ishp_Program]]-output[[#This Row],[ishp_Baseline]]","v":0},{"$f":"output[[#This Row],[ishp_Market]]-output[[#This Row],[ishp_Program]]","v":20.370469753422981}]
["All","Warehousing","Base",2016,"201-500 HP","Traditional","ASD Control","variable","Pumps","2014 and before",0,0,0,0,0,0,0,0,0,0,0,0,0,0,0,0,0,0,{"$f":"output[[#This Row],[ishp_Program]]-output[[#This Row],[ishp_Baseline]]","v":0},{"$f":"output[[#This Row],[ishp_Market]]-output[[#This Row],[ishp_Program]]","v":0}]
["All","Warehousing","Base",2016,"21-50 HP","Traditional","ASD Control","variable","Fans","2014 and before",0,0,0,0,0,0,0,0,0,0,0,0,0,0,0,0,0,0,{"$f":"output[[#This Row],[ishp_Program]]-output[[#This Row],[ishp_Baseline]]","v":0},{"$f":"output[[#This Row],[ishp_Market]]-output[[#This Row],[ishp_Program]]","v":0}]
["All","Warehousing","Base",2016,"501-1,000 HP","Traditional","ASD Control","constant","Pumps","2014 and before",0,0,0,0,0,0,0,0,0,0,0,0,0,0,0,0,0,0,{"$f":"output[[#This Row],[ishp_Program]]-output[[#This Row],[ishp_Baseline]]","v":0},{"$f":"output[[#This Row],[ishp_Market]]-output[[#This Row],[ishp_Program]]","v":0}]
["All","Warehousing","Base",2016,"51-100 HP","Traditional","ASD Control","constant","Fans","2014 and before",0,0,0,0,0,0,0,0,0,0,0,0,0,0,0,0,0,0,{"$f":"output[[#This Row],[ishp_Program]]-output[[#This Row],[ishp_Baseline]]","v":0},{"$f":"output[[#This Row],[ishp_Market]]-output[[#This Row],[ishp_Program]]","v":0}]
["All","Warehousing","Base",2016,"6-10 HP","Traditional","Non ASD Control","variable","Pumps",2016,46771.791673981599,37473.719948756603,46771.791673981599,50274.998870362797,40280.501572918402,50274.998870362797,21.9411964446588,17.579361864924799,21.9411964446588,2.74264955558235,2.1974202331155999,2.74264955558235,3.4545434660657702E-3,0,3.4545434660657702E-3,4.31817933258221E-4,0,4.31817933258221E-4,{"$f":"output[[#This Row],[ishp_Program]]-output[[#This Row],[ishp_Baseline]]","v":0},{"$f":"output[[#This Row],[ishp_Market]]-output[[#This Row],[ishp_Program]]","v":-4.3618345797340012}]
["All","Warehousing","Base",2017,"1,001+ HP","Traditional","Non ASD Control","constant","Fans","2014 and before",0,0,0,0,0,0,0,0,0,0,0,0,0,0,0,0,0,0,{"$f":"output[[#This Row],[ishp_Program]]-output[[#This Row],[ishp_Baseline]]","v":0},{"$f":"output[[#This Row],[ishp_Market]]-output[[#This Row],[ishp_Program]]","v":0}]
["All","Warehousing","Base",2017,"1-5 HP","Traditional","ASD Control","constant","Fans","2014 and before",1780922.7215805301,2084818.10901377,1780922.7215805301,1914313.83342691,2240970.9853789001,1914313.83342691,466.18680828862801,545.73659391627496,466.18680828862801,155.395602762876,181.91219797209101,155.395602762876,168.35683946859601,172.682801083497,168.35683946859601,56.118946489532,57.560933694499099,56.118946489532,{"$f":"output[[#This Row],[ishp_Program]]-output[[#This Row],[ishp_Baseline]]","v":0},{"$f":"output[[#This Row],[ishp_Market]]-output[[#This Row],[ishp_Program]]","v":79.549785627646941}]
["All","Warehousing","Base",2017,"101-200 HP","Traditional","ASD Control","constant","Pumps","2014 and before",0,0,0,0,0,0,0,0,0,0,0,0,0,0,0,0,0,0,{"$f":"output[[#This Row],[ishp_Program]]-output[[#This Row],[ishp_Baseline]]","v":0},{"$f":"output[[#This Row],[ishp_Market]]-output[[#This Row],[ishp_Program]]","v":0}]
["All","Warehousing","Base",2017,"11-20 HP","Traditional","ASD Control","constant","Pumps",2015,49600.050882876603,59401.349078316802,49600.050882876603,53315.094694004103,63850.5101242827,53315.094694004103,18.809449561770499,22.5263212335826,18.809449561770499,1.21351287495293,1.4533110473279101,1.21351287495293,0.27054160734969301,0.65803372604250698,0.27054160734969301,1.74542972483673E-2,4.2453788776935897E-2,1.74542972483673E-2,{"$f":"output[[#This Row],[ishp_Program]]-output[[#This Row],[ishp_Baseline]]","v":0},{"$f":"output[[#This Row],[ishp_Market]]-output[[#This Row],[ishp_Program]]","v":3.7168716718121004}]
["All","Warehousing","Base",2017,"11-20 HP","Traditional","Non ASD Control","variable","Fans",2016,248526.71738546799,214105.14776163999,129508.983812665,267141.368517639,230141.62332898701,139209.20670023299,74.686023932011096,64.341823518680002,38.919401367382797,4.8184531569039404,4.1510853883019401,2.5109291204763098,0.71785422953913203,0.41151884928258398,0.71785422953913203,4.6313176099298803E-2,2.65496031795215E-2,4.6313176099298803E-2,{"$f":"output[[#This Row],[ishp_Program]]-output[[#This Row],[ishp_Baseline]]","v":-35.7666225646283},{"$f":"output[[#This Row],[ishp_Market]]-output[[#This Row],[ishp_Program]]","v":25.422422151297205}]
["All","Warehousing","Base",2017,"21-50 HP","Traditional","ASD Control","constant","Fans",2015,0,0,0,0,0,0,0,0,0,0,0,0,0,0,0,0,0,0,{"$f":"output[[#This Row],[ishp_Program]]-output[[#This Row],[ishp_Baseline]]","v":0},{"$f":"output[[#This Row],[ishp_Market]]-output[[#This Row],[ishp_Program]]","v":0}]
["All","Warehousing","Base",2017,"21-50 HP","Traditional","Non ASD Control","variable","Fans",2017,0,0,0,0,0,0,0,0,0,0,0,0,0,0,0,0,0,0,{"$f":"output[[#This Row],[ishp_Program]]-output[[#This Row],[ishp_Baseline]]","v":0},{"$f":"output[[#This Row],[ishp_Market]]-output[[#This Row],[ishp_Program]]","v":0}]
["All","Warehousing","Base",2017,"501-1,000 HP","Traditional","ASD Control","variable","Pumps","2014 and before",0,0,0,0,0,0,0,0,0,0,0,0,0,0,0,0,0,0,{"$f":"output[[#This Row],[ishp_Program]]-output[[#This Row],[ishp_Baseline]]","v":0},{"$f":"output[[#This Row],[ishp_Market]]-output[[#This Row],[ishp_Program]]","v":0}]
["All","Warehousing","Base",2017,"51-100 HP","Traditional","ASD Control","constant","Pumps",2015,0,0,0,0,0,0,0,0,0,0,0,0,0,0,0,0,0,0,{"$f":"output[[#This Row],[ishp_Program]]-output[[#This Row],[ishp_Baseline]]","v":0},{"$f":"output[[#This Row],[ishp_Market]]-output[[#This Row],[ishp_Program]]","v":0}]
["All","Warehousing","Base",2017,"51-100 HP","Traditional","Non ASD Control","variable","Pumps",2016,0,0,0,0,0,0,0,0,0,0,0,0,0,0,0,0,0,0,{"$f":"output[[#This Row],[ishp_Program]]-output[[#This Row],[ishp_Baseline]]","v":0},{"$f":"output[[#This Row],[ishp_Market]]-output[[#This Row],[ishp_Program]]","v":0}]
["All","Warehousing","Base",2018,"1,001+ HP","Traditional","ASD Control","constant","Pumps",2015,0,0,0,0,0,0,0,0,0,0,0,0,0,0,0,0,0,0,{"$f":"output[[#This Row],[ishp_Program]]-output[[#This Row],[ishp_Baseline]]","v":0},{"$f":"output[[#This Row],[ishp_Market]]-output[[#This Row],[ishp_Program]]","v":0}]
["All","Warehousing","Base",2018,"1,001+ HP","Traditional","Non ASD Control","constant","Fans",2016,0,0,0,0,0,0,0,0,0,0,0,0,0,0,0,0,0,0,{"$f":"output[[#This Row],[ishp_Program]]-output[[#This Row],[ishp_Baseline]]","v":0},{"$f":"output[[#This Row],[ishp_Market]]-output[[#This Row],[ishp_Program]]","v":0}]
["All","Warehousing","Base",2018,"1-5 HP","Traditional","ASD Control","constant","Fans",2017,85585.001780832201,113565.588960022,85585.001780832201,91995.318414216497,122071.65157312799,91995.318414216497,22.808109139307099,30.264839558021599,22.808109139307099,7.6027030464356997,10.0882798526738,7.6027030464356997,4.3434477019996002E-3,2.6704584239056001E-2,4.3434477019996002E-3,1.4478159006665299E-3,8.9015280796853596E-3,1.4478159006665299E-3,{"$f":"output[[#This Row],[ishp_Program]]-output[[#This Row],[ishp_Baseline]]","v":0},{"$f":"output[[#This Row],[ishp_Market]]-output[[#This Row],[ishp_Program]]","v":7.4567304187144998}]
["All","Warehousing","Base",2018,"101-200 HP","Traditional","ASD Control","constant","Fans",2017,0,0,0,0,0,0,0,0,0,0,0,0,0,0,0,0,0,0,{"$f":"output[[#This Row],[ishp_Program]]-output[[#This Row],[ishp_Baseline]]","v":0},{"$f":"output[[#This Row],[ishp_Market]]-output[[#This Row],[ishp_Program]]","v":0}]
["All","Warehousing","Base",2018,"101-200 HP","Traditional","Non ASD Control","constant","Pumps",2017,0,0,0,0,0,0,0,0,0,0,0,0,0,0,0,0,0,0,{"$f":"output[[#This Row],[ishp_Program]]-output[[#This Row],[ishp_Baseline]]","v":0},{"$f":"output[[#This Row],[ishp_Market]]-output[[#This Row],[ishp_Program]]","v":0}]
["All","Warehousing","Base",2018,"11-20 HP","Traditional","ASD Control","constant","Pumps",2018,135614.02694790001,165828.61974457299,135614.02694790001,145771.51756629799,178249.18336344199,145771.51756629799,51.984822853884999,63.566959963793003,51.984822853884999,3.3538595389603199,4.1010941912124501,3.3538595389603199,2.9593820823616501E-2,0.38688831440521698,2.9593820823616501E-2,1.9092787628139699E-3,2.4960536413239798E-2,1.9092787628139699E-3,{"$f":"output[[#This Row],[ishp_Program]]-output[[#This Row],[ishp_Baseline]]","v":0},{"$f":"output[[#This Row],[ishp_Market]]-output[[#This Row],[ishp_Program]]","v":11.582137109908004}]
["All","Warehousing","Base",2018,"201-500 HP","Traditional","ASD Control","variable","Fans",2016,0,0,0,0,0,0,0,0,0,0,0,0,0,0,0,0,0,0,{"$f":"output[[#This Row],[ishp_Program]]-output[[#This Row],[ishp_Baseline]]","v":0},{"$f":"output[[#This Row],[ishp_Market]]-output[[#This Row],[ishp_Program]]","v":0}]
["All","Warehousing","Base",2018,"21-50 HP","Traditional","ASD Control","constant","Fans",2018,0,0,0,0,0,0,0,0,0,0,0,0,0,0,0,0,0,0,{"$f":"output[[#This Row],[ishp_Program]]-output[[#This Row],[ishp_Baseline]]","v":0},{"$f":"output[[#This Row],[ishp_Market]]-output[[#This Row],[ishp_Program]]","v":0}]
["All","Warehousing","Base",2018,"21-50 HP","Traditional","ASD Control","variable","Fans","2014 and before",0,0,0,0,0,0,0,0,0,0,0,0,0,0,0,0,0,0,{"$f":"output[[#This Row],[ishp_Program]]-output[[#This Row],[ishp_Baseline]]","v":0},{"$f":"output[[#This Row],[ishp_Market]]-output[[#This Row],[ishp_Program]]","v":0}]
["All","Warehousing","Base",2018,"501-1,000 HP","Traditional","ASD Control","variable","Pumps",2017,0,0,0,0,0,0,0,0,0,0,0,0,0,0,0,0,0,0,{"$f":"output[[#This Row],[ishp_Program]]-output[[#This Row],[ishp_Baseline]]","v":0},{"$f":"output[[#This Row],[ishp_Market]]-output[[#This Row],[ishp_Program]]","v":0}]
["All","Warehousing","Base",2018,"501-1,000 HP","Traditional","Non ASD Control","variable","Pumps",2018,0,0,0,0,0,0,0,0,0,0,0,0,0,0,0,0,0,0,{"$f":"output[[#This Row],[ishp_Program]]-output[[#This Row],[ishp_Baseline]]","v":0},{"$f":"output[[#This Row],[ishp_Market]]-output[[#This Row],[ishp_Program]]","v":0}]
["All","Warehousing","Base",2018,"51-100 HP","Traditional","ASD Control","variable","Fans",2017,0,0,0,0,0,0,0,0,0,0,0,0,0,0,0,0,0,0,{"$f":"output[[#This Row],[ishp_Program]]-output[[#This Row],[ishp_Baseline]]","v":0},{"$f":"output[[#This Row],[ishp_Market]]-output[[#This Row],[ishp_Program]]","v":0}]
["All","Warehousing","Base",2018,"51-100 HP","Traditional","Non ASD Control","variable","Pumps",2016,0,0,0,0,0,0,0,0,0,0,0,0,0,0,0,0,0,0,{"$f":"output[[#This Row],[ishp_Program]]-output[[#This Row],[ishp_Baseline]]","v":0},{"$f":"output[[#This Row],[ishp_Market]]-output[[#This Row],[ishp_Program]]","v":0}]
["All","Warehousing","Base",2019,"1,001+ HP","Traditional","ASD Control","constant","Fans",2019,0,0,0,0,0,0,0,0,0,0,0,0,0,0,0,0,0,0,{"$f":"output[[#This Row],[ishp_Program]]-output[[#This Row],[ishp_Baseline]]","v":0},{"$f":"output[[#This Row],[ishp_Market]]-output[[#This Row],[ishp_Program]]","v":0}]
["All","Warehousing","Base",2019,"1,001+ HP","Traditional","Non ASD Control","constant","Fans",2016,0,0,0,0,0,0,0,0,0,0,0,0,0,0,0,0,0,0,{"$f":"output[[#This Row],[ishp_Program]]-output[[#This Row],[ishp_Baseline]]","v":0},{"$f":"output[[#This Row],[ishp_Market]]-output[[#This Row],[ishp_Program]]","v":0}]
["All","Warehousing","Base",2019,"1,001+ HP","Traditional","Non ASD Control","variable","Pumps",2015,0,0,0,0,0,0,0,0,0,0,0,0,0,0,0,0,0,0,{"$f":"output[[#This Row],[ishp_Program]]-output[[#This Row],[ishp_Baseline]]","v":0},{"$f":"output[[#This Row],[ishp_Market]]-output[[#This Row],[ishp_Program]]","v":0}]
["All","Warehousing","Base",2019,"1-5 HP","Traditional","Non ASD Control","variable","Pumps",2015,29464.8398109878,29489.409061417799,29464.8398109878,31671.756312830799,31698.165800118,31671.756312830799,13.4754189446165,13.4866554198467,13.4754189446165,4.4918063148721696,4.4955518066155902,4.4918063148721696,0.52134726905258599,0.51242384503836302,0.52134726905258599,0.173782423017528,0.17080794834612101,0.173782423017528,{"$f":"output[[#This Row],[ishp_Program]]-output[[#This Row],[ishp_Baseline]]","v":0},{"$f":"output[[#This Row],[ishp_Market]]-output[[#This Row],[ishp_Program]]","v":1.1236475230200327E-2}]
["All","Warehousing","Base",2019,"101-200 HP","Traditional","ASD Control","constant","Pumps",2019,0,0,0,0,0,0,0,0,0,0,0,0,0,0,0,0,0,0,{"$f":"output[[#This Row],[ishp_Program]]-output[[#This Row],[ishp_Baseline]]","v":0},{"$f":"output[[#This Row],[ishp_Market]]-output[[#This Row],[ishp_Program]]","v":0}]
["All","Warehousing","Base",2019,"101-200 HP","Traditional","Non ASD Control","variable","Pumps",2019,0,0,0,0,0,0,0,0,0,0,0,0,0,0,0,0,0,0,{"$f":"output[[#This Row],[ishp_Program]]-output[[#This Row],[ishp_Baseline]]","v":0},{"$f":"output[[#This Row],[ishp_Market]]-output[[#This Row],[ishp_Program]]","v":0}]
["All","Warehousing","Base",2019,"11-20 HP","Traditional","Non ASD Control","constant","Fans",2018,1433759.5113182601,1409253.65486406,1409127.1237461001,1541148.0987159901,1514806.75361338,1514670.74531468,394.645367152993,387.900077833956,387.86524987353999,25.460991429225398,25.025811473158399,25.023564507970299,16.120030764512599,15.7798704353884,16.120030764512599,1.0400019848072599,1.0180561571218301,1.0400019848072599,{"$f":"output[[#This Row],[ishp_Program]]-output[[#This Row],[ishp_Baseline]]","v":-6.7801172794530089},{"$f":"output[[#This Row],[ishp_Market]]-output[[#This Row],[ishp_Program]]","v":3.4827960416009773E-2}]
["All","Warehousing","Base",2019,"201-500 HP","Traditional","ASD Control","constant","Fans",2015,0,0,0,0,0,0,0,0,0,0,0,0,0,0,0,0,0,0,{"$f":"output[[#This Row],[ishp_Program]]-output[[#This Row],[ishp_Baseline]]","v":0},{"$f":"output[[#This Row],[ishp_Market]]-output[[#This Row],[ishp_Program]]","v":0}]
["All","Warehousing","Base",2019,"201-500 HP","Traditional","ASD Control","variable","Pumps",2018,0,0,0,0,0,0,0,0,0,0,0,0,0,0,0,0,0,0,{"$f":"output[[#This Row],[ishp_Program]]-output[[#This Row],[ishp_Baseline]]","v":0},{"$f":"output[[#This Row],[ishp_Market]]-output[[#This Row],[ishp_Program]]","v":0}]
["All","Warehousing","Base",2019,"201-500 HP","Traditional","Non ASD Control","variable","Pumps",2016,0,0,0,0,0,0,0,0,0,0,0,0,0,0,0,0,0,0,{"$f":"output[[#This Row],[ishp_Program]]-output[[#This Row],[ishp_Baseline]]","v":0},{"$f":"output[[#This Row],[ishp_Market]]-output[[#This Row],[ishp_Program]]","v":0}]
["All","Warehousing","Base",2019,"21-50 HP","Traditional","Non ASD Control","variable","Fans",2017,0,0,0,0,0,0,0,0,0,0,0,0,0,0,0,0,0,0,{"$f":"output[[#This Row],[ishp_Program]]-output[[#This Row],[ishp_Baseline]]","v":0},{"$f":"output[[#This Row],[ishp_Market]]-output[[#This Row],[ishp_Program]]","v":0}]
["All","Warehousing","Base",2019,"501-1,000 HP","Traditional","ASD Control","constant","Pumps","2014 and before",0,0,0,0,0,0,0,0,0,0,0,0,0,0,0,0,0,0,{"$f":"output[[#This Row],[ishp_Program]]-output[[#This Row],[ishp_Baseline]]","v":0},{"$f":"output[[#This Row],[ishp_Market]]-output[[#This Row],[ishp_Program]]","v":0}]
["All","Warehousing","Base",2019,"501-1,000 HP","Traditional","Non ASD Control","constant","Fans",2018,0,0,0,0,0,0,0,0,0,0,0,0,0,0,0,0,0,0,{"$f":"output[[#This Row],[ishp_Program]]-output[[#This Row],[ishp_Baseline]]","v":0},{"$f":"output[[#This Row],[ishp_Market]]-output[[#This Row],[ishp_Program]]","v":0}]
["All","Warehousing","Base",2019,"51-100 HP","Traditional","ASD Control","variable","Fans",2019,0,0,0,0,0,0,0,0,0,0,0,0,0,0,0,0,0,0,{"$f":"output[[#This Row],[ishp_Program]]-output[[#This Row],[ishp_Baseline]]","v":0},{"$f":"output[[#This Row],[ishp_Market]]-output[[#This Row],[ishp_Program]]","v":0}]
["All","Warehousing","Base",2019,"51-100 HP","Traditional","Non ASD Control","variable","Pumps",2017,0,0,0,0,0,0,0,0,0,0,0,0,0,0,0,0,0,0,{"$f":"output[[#This Row],[ishp_Program]]-output[[#This Row],[ishp_Baseline]]","v":0},{"$f":"output[[#This Row],[ishp_Market]]-output[[#This Row],[ishp_Program]]","v":0}]
["All","Warehousing","Base",2019,"6-10 HP","Traditional","ASD Control","variable","Fans","2014 and before",2913064.7257312299,3252737.3277843902,3333811.4752884102,3131253.2736884998,3496367.3536354499,3583513.95478751,1728.04253048839,1929.5377796686801,1977.63131283755,216.005316311049,241.19222245858501,247.20391410469401,508.69831878350499,515.22600097156305,508.69831878350499,63.587289847938102,64.403250121445396,63.587289847938102,{"$f":"output[[#This Row],[ishp_Program]]-output[[#This Row],[ishp_Baseline]]","v":249.58878234916006},{"$f":"output[[#This Row],[ishp_Market]]-output[[#This Row],[ishp_Program]]","v":-48.093533168869953}]
["All","Warehousing","Base",2020,"1,001+ HP","Traditional","ASD Control","constant","Pumps",2017,0,0,0,0,0,0,0,0,0,0,0,0,0,0,0,0,0,0,{"$f":"output[[#This Row],[ishp_Program]]-output[[#This Row],[ishp_Baseline]]","v":0},{"$f":"output[[#This Row],[ishp_Market]]-output[[#This Row],[ishp_Program]]","v":0}]
["All","Warehousing","Base",2020,"1,001+ HP","Traditional","Non ASD Control","constant","Fans","2014 and before",0,0,0,0,0,0,0,0,0,0,0,0,0,0,0,0,0,0,{"$f":"output[[#This Row],[ishp_Program]]-output[[#This Row],[ishp_Baseline]]","v":0},{"$f":"output[[#This Row],[ishp_Market]]-output[[#This Row],[ishp_Program]]","v":0}]
["All","Warehousing","Base",2020,"1,001+ HP","Traditional","Non ASD Control","variable","Pumps","2014 and before",0,0,0,0,0,0,0,0,0,0,0,0,0,0,0,0,0,0,{"$f":"output[[#This Row],[ishp_Program]]-output[[#This Row],[ishp_Baseline]]","v":0},{"$f":"output[[#This Row],[ishp_Market]]-output[[#This Row],[ishp_Program]]","v":0}]
["All","Warehousing","Base",2020,"1-5 HP","Traditional","ASD Control","variable","Fans","2014 and before",11624307.2461411,14090984.827653101,11624307.2461411,12494967.858876999,15146399.5912444,12494967.858876999,6443.0379791192199,7810.2504076448004,6443.0379791192199,2147.6793263730701,2603.41680254826,2147.6793263730701,1952.27934184025,1985.3691547492599,1952.27934184025,650.75978061341698,661.78971824975497,650.75978061341698,{"$f":"output[[#This Row],[ishp_Program]]-output[[#This Row],[ishp_Baseline]]","v":0},{"$f":"output[[#This Row],[ishp_Market]]-output[[#This Row],[ishp_Program]]","v":1367.2124285255804}]
["All","Warehousing","Base",2020,"1-5 HP","Traditional","Non ASD Control","variable","Fans",2019,7059129.0157685503,6207754.7688955804,7059129.0157685503,7587857.77904962,6672715.6010858603,7587857.77904962,1998.3514218426999,1757.3379861966901,1998.3514218426999,666.11714061423595,585.77932873223097,666.11714061423595,1.94417314162986,3.4276912126491501,1.94417314162986,0.64805771387662103,1.14256373754971,0.64805771387662103,{"$f":"output[[#This Row],[ishp_Program]]-output[[#This Row],[ishp_Baseline]]","v":0},{"$f":"output[[#This Row],[ishp_Market]]-output[[#This Row],[ishp_Program]]","v":-241.01343564600984}]
["All","Warehousing","Base",2020,"101-200 HP","Traditional","Non ASD Control","constant","Fans",2016,0,0,0,0,0,0,0,0,0,0,0,0,0,0,0,0,0,0,{"$f":"output[[#This Row],[ishp_Program]]-output[[#This Row],[ishp_Baseline]]","v":0},{"$f":"output[[#This Row],[ishp_Market]]-output[[#This Row],[ishp_Program]]","v":0}]
["All","Warehousing","Base",2020,"101-200 HP","Traditional","Non ASD Control","variable","Fans",2018,0,0,0,0,0,0,0,0,0,0,0,0,0,0,0,0,0,0,{"$f":"output[[#This Row],[ishp_Program]]-output[[#This Row],[ishp_Baseline]]","v":0},{"$f":"output[[#This Row],[ishp_Market]]-output[[#This Row],[ishp_Program]]","v":0}]
["All","Warehousing","Base",2020,"11-20 HP","Traditional","ASD Control","constant","Pumps",2018,107042.039001738,144948.00136468699,107042.039001738,115059.487722968,155804.60666690199,115059.487722968,41.032344224700203,55.562808240055901,41.032344224700203,2.6472480144967898,3.5846973058100602,2.6472480144967898,1.68557082639779,2.6108990454209202,1.68557082639779,0.108746504928889,0.168445099704575,0.108746504928889,{"$f":"output[[#This Row],[ishp_Program]]-output[[#This Row],[ishp_Baseline]]","v":0},{"$f":"output[[#This Row],[ishp_Market]]-output[[#This Row],[ishp_Program]]","v":14.530464015355697}]
["All","Warehousing","Base",2020,"11-20 HP","Traditional","Non ASD Control","variable","Pumps",2017,45439.918394519897,27028.280081262699,45439.918394519897,48843.368282269497,29052.698259349301,48843.368282269497,17.851889474968299,10.618546110051501,17.851889474968299,1.15173480483666,0.68506749097106701,1.15173480483666,0.59643740028777203,0.28170182739872401,0.59643740028777203,3.8479832276630398E-2,1.8174311445079E-2,3.8479832276630398E-2,{"$f":"output[[#This Row],[ishp_Program]]-output[[#This Row],[ishp_Baseline]]","v":0},{"$f":"output[[#This Row],[ishp_Market]]-output[[#This Row],[ishp_Program]]","v":-7.2333433649167986}]
["All","Warehousing","Base",2020,"201-500 HP","Traditional","ASD Control","variable","Fans",2020,0,0,0,0,0,0,0,0,0,0,0,0,0,0,0,0,0,0,{"$f":"output[[#This Row],[ishp_Program]]-output[[#This Row],[ishp_Baseline]]","v":0},{"$f":"output[[#This Row],[ishp_Market]]-output[[#This Row],[ishp_Program]]","v":0}]
["All","Warehousing","Base",2020,"201-500 HP","Traditional","Non ASD Control","constant","Pumps",2020,0,0,0,0,0,0,0,0,0,0,0,0,0,0,0,0,0,0,{"$f":"output[[#This Row],[ishp_Program]]-output[[#This Row],[ishp_Baseline]]","v":0},{"$f":"output[[#This Row],[ishp_Market]]-output[[#This Row],[ishp_Program]]","v":0}]
["All","Warehousing","Base",2020,"21-50 HP","Traditional","ASD Control","variable","Pumps","2014 and before",0,0,0,0,0,0,0,0,0,0,0,0,0,0,0,0,0,0,{"$f":"output[[#This Row],[ishp_Program]]-output[[#This Row],[ishp_Baseline]]","v":0},{"$f":"output[[#This Row],[ishp_Market]]-output[[#This Row],[ishp_Program]]","v":0}]
["All","Warehousing","Base",2020,"501-1,000 HP","Traditional","ASD Control","constant","Fans",2019,0,0,0,0,0,0,0,0,0,0,0,0,0,0,0,0,0,0,{"$f":"output[[#This Row],[ishp_Program]]-output[[#This Row],[ishp_Baseline]]","v":0},{"$f":"output[[#This Row],[ishp_Market]]-output[[#This Row],[ishp_Program]]","v":0}]
["All","Warehousing","Base",2020,"501-1,000 HP","Traditional","ASD Control","variable","Fans",2015,0,0,0,0,0,0,0,0,0,0,0,0,0,0,0,0,0,0,{"$f":"output[[#This Row],[ishp_Program]]-output[[#This Row],[ishp_Baseline]]","v":0},{"$f":"output[[#This Row],[ishp_Market]]-output[[#This Row],[ishp_Program]]","v":0}]
["All","Warehousing","Base",2020,"51-100 HP","Traditional","ASD Control","constant","Fans",2016,0,0,0,0,0,0,0,0,0,0,0,0,0,0,0,0,0,0,{"$f":"output[[#This Row],[ishp_Program]]-output[[#This Row],[ishp_Baseline]]","v":0},{"$f":"output[[#This Row],[ishp_Market]]-output[[#This Row],[ishp_Program]]","v":0}]
["All","Warehousing","Base",2020,"51-100 HP","Traditional","ASD Control","variable","Pumps",2016,0,0,0,0,0,0,0,0,0,0,0,0,0,0,0,0,0,0,{"$f":"output[[#This Row],[ishp_Program]]-output[[#This Row],[ishp_Baseline]]","v":0},{"$f":"output[[#This Row],[ishp_Market]]-output[[#This Row],[ishp_Program]]","v":0}]
["All","Warehousing","Base",2020,"51-100 HP","Traditional","Non ASD Control","constant","Pumps",2017,0,0,0,0,0,0,0,0,0,0,0,0,0,0,0,0,0,0,{"$f":"output[[#This Row],[ishp_Program]]-output[[#This Row],[ishp_Baseline]]","v":0},{"$f":"output[[#This Row],[ishp_Market]]-output[[#This Row],[ishp_Program]]","v":0}]
["All","Warehousing","Base",2020,"6-10 HP","Traditional","ASD Control","constant","Fans",2019,55472.587172018102,76835.768086584198,59904.260102636101,59627.483951202201,82590.767116269402,64391.0891843235,15.6747444626247,21.7112828470027,16.9269907390415,1.9593430578280799,2.7139103558753401,2.1158738423801902,0,1.2057675286787599E-2,0,0,1.5072094108484601E-3,0,{"$f":"output[[#This Row],[ishp_Program]]-output[[#This Row],[ishp_Baseline]]","v":1.2522462764168001},{"$f":"output[[#This Row],[ishp_Market]]-output[[#This Row],[ishp_Program]]","v":4.7842921079611997}]
["All","Warehousing","Base",2020,"6-10 HP","Traditional","Non ASD Control","variable","Pumps",2018,101172.032600326,67805.722778945506,101172.032600326,108749.81784208999,72884.371415088506,108749.81784208999,47.460987970320701,31.8084604056878,47.460987970320701,5.9326234962900903,3.9760575507109701,5.9326234962900903,2.0594411714830998,1.1458971348146301,2.0594411714830998,0.25743014643538698,0.14323714185182801,0.25743014643538698,{"$f":"output[[#This Row],[ishp_Program]]-output[[#This Row],[ishp_Baseline]]","v":0},{"$f":"output[[#This Row],[ishp_Market]]-output[[#This Row],[ishp_Program]]","v":-15.652527564632901}]
["All","Warehousing","Base",2021,"1,001+ HP","Traditional","ASD Control","variable","Fans",2017,0,0,0,0,0,0,0,0,0,0,0,0,0,0,0,0,0,0,{"$f":"output[[#This Row],[ishp_Program]]-output[[#This Row],[ishp_Baseline]]","v":0},{"$f":"output[[#This Row],[ishp_Market]]-output[[#This Row],[ishp_Program]]","v":0}]
["All","Warehousing","Base",2021,"1,001+ HP","Traditional","Non ASD Control","constant","Fans",2017,0,0,0,0,0,0,0,0,0,0,0,0,0,0,0,0,0,0,{"$f":"output[[#This Row],[ishp_Program]]-output[[#This Row],[ishp_Baseline]]","v":0},{"$f":"output[[#This Row],[ishp_Market]]-output[[#This Row],[ishp_Program]]","v":0}]
["All","Warehousing","Base",2021,"1,001+ HP","Traditional","Non ASD Control","variable","Fans","2014 and before",0,0,0,0,0,0,0,0,0,0,0,0,0,0,0,0,0,0,{"$f":"output[[#This Row],[ishp_Program]]-output[[#This Row],[ishp_Baseline]]","v":0},{"$f":"output[[#This Row],[ishp_Market]]-output[[#This Row],[ishp_Program]]","v":0}]
["All","Warehousing","Base",2021,"1-5 HP","Traditional","Non ASD Control","constant","Fans",2017,3425253.2931219898,3389616.5809166799,3425253.2931219898,3681804.7647768301,3643498.8628273401,3681804.7647768301,888.13273579975998,878.89250507890597,888.13273579975998,296.04424526658602,292.96416835963498,296.04424526658602,25.303234246542601,25.216813943533399,25.303234246542601,8.43441141551423,8.4056046478444806,8.43441141551423,{"$f":"output[[#This Row],[ishp_Program]]-output[[#This Row],[ishp_Baseline]]","v":0},{"$f":"output[[#This Row],[ishp_Market]]-output[[#This Row],[ishp_Program]]","v":-9.2402307208540151}]
["All","Warehousing","Base",2021,"101-200 HP","Traditional","ASD Control","constant","Fans","2014 and before",0,0,0,0,0,0,0,0,0,0,0,0,0,0,0,0,0,0,{"$f":"output[[#This Row],[ishp_Program]]-output[[#This Row],[ishp_Baseline]]","v":0},{"$f":"output[[#This Row],[ishp_Market]]-output[[#This Row],[ishp_Program]]","v":0}]
["All","Warehousing","Base",2021,"101-200 HP","Traditional","Non ASD Control","constant","Fans",2018,0,0,0,0,0,0,0,0,0,0,0,0,0,0,0,0,0,0,{"$f":"output[[#This Row],[ishp_Program]]-output[[#This Row],[ishp_Baseline]]","v":0},{"$f":"output[[#This Row],[ishp_Market]]-output[[#This Row],[ishp_Program]]","v":0}]
["All","Warehousing","Base",2021,"101-200 HP","Traditional","Non ASD Control","variable","Pumps",2015,0,0,0,0,0,0,0,0,0,0,0,0,0,0,0,0,0,0,{"$f":"output[[#This Row],[ishp_Program]]-output[[#This Row],[ishp_Baseline]]","v":0},{"$f":"output[[#This Row],[ishp_Market]]-output[[#This Row],[ishp_Program]]","v":0}]
["All","Warehousing","Base",2021,"11-20 HP","Traditional","ASD Control","constant","Pumps",2020,56301.564802605797,83074.642407903506,56301.564802605797,60518.552006320999,89296.933124255404,60518.552006320999,22.048097544262099,32.532627213575601,22.048097544262099,1.42245790608142,2.0988791750693898,1.42245790608142,0,6.4327151599385902E-4,0,0,4.1501388128636098E-5,0,{"$f":"output[[#This Row],[ishp_Program]]-output[[#This Row],[ishp_Baseline]]","v":0},{"$f":"output[[#This Row],[ishp_Market]]-output[[#This Row],[ishp_Program]]","v":10.484529669313503}]
["All","Warehousing","Base",2021,"11-20 HP","Traditional","Non ASD Control","constant","Fans",2019,1022649.18608106,999628.88625016599,1002793.1272509299,1099245.61011853,1074501.0898303001,1077902.3324820299,281.48637224285801,275.14998555665397,276.02094964906399,18.1604111124425,17.751611971397001,17.807803203165399,0.83170506049502102,0.94751024220131197,0.83170506049502102,5.3658390999678701E-2,6.1129693045245903E-2,5.3658390999678701E-2,{"$f":"output[[#This Row],[ishp_Program]]-output[[#This Row],[ishp_Baseline]]","v":-5.4654225937940168},{"$f":"output[[#This Row],[ishp_Market]]-output[[#This Row],[ishp_Program]]","v":-0.87096409241001993}]
["All","Warehousing","Base",2021,"201-500 HP","Traditional","ASD Control","constant","Pumps",2021,0,0,0,0,0,0,0,0,0,0,0,0,0,0,0,0,0,0,{"$f":"output[[#This Row],[ishp_Program]]-output[[#This Row],[ishp_Baseline]]","v":0},{"$f":"output[[#This Row],[ishp_Market]]-output[[#This Row],[ishp_Program]]","v":0}]
["All","Warehousing","Base",2021,"201-500 HP","Traditional","Non ASD Control","constant","Fans",2018,0,0,0,0,0,0,0,0,0,0,0,0,0,0,0,0,0,0,{"$f":"output[[#This Row],[ishp_Program]]-output[[#This Row],[ishp_Baseline]]","v":0},{"$f":"output[[#This Row],[ishp_Market]]-output[[#This Row],[ishp_Program]]","v":0}]
["All","Warehousing","Base",2021,"201-500 HP","Traditional","Non ASD Control","variable","Fans",2018,0,0,0,0,0,0,0,0,0,0,0,0,0,0,0,0,0,0,{"$f":"output[[#This Row],[ishp_Program]]-output[[#This Row],[ishp_Baseline]]","v":0},{"$f":"output[[#This Row],[ishp_Market]]-output[[#This Row],[ishp_Program]]","v":0}]
["All","Warehousing","Base",2021,"21-50 HP","Traditional","ASD Control","variable","Pumps",2016,0,0,0,0,0,0,0,0,0,0,0,0,0,0,0,0,0,0,{"$f":"output[[#This Row],[ishp_Program]]-output[[#This Row],[ishp_Baseline]]","v":0},{"$f":"output[[#This Row],[ishp_Market]]-output[[#This Row],[ishp_Program]]","v":0}]
["All","Warehousing","Base",2021,"21-50 HP","Traditional","Non ASD Control","variable","Fans",2019,0,0,0,0,0,0,0,0,0,0,0,0,0,0,0,0,0,0,{"$f":"output[[#This Row],[ishp_Program]]-output[[#This Row],[ishp_Baseline]]","v":0},{"$f":"output[[#This Row],[ishp_Market]]-output[[#This Row],[ishp_Program]]","v":0}]
["All","Warehousing","Base",2021,"501-1,000 HP","Traditional","ASD Control","constant","Pumps",2016,0,0,0,0,0,0,0,0,0,0,0,0,0,0,0,0,0,0,{"$f":"output[[#This Row],[ishp_Program]]-output[[#This Row],[ishp_Baseline]]","v":0},{"$f":"output[[#This Row],[ishp_Market]]-output[[#This Row],[ishp_Program]]","v":0}]
["All","Warehousing","Base",2021,"501-1,000 HP","Traditional","ASD Control","variable","Pumps",2021,0,0,0,0,0,0,0,0,0,0,0,0,0,0,0,0,0,0,{"$f":"output[[#This Row],[ishp_Program]]-output[[#This Row],[ishp_Baseline]]","v":0},{"$f":"output[[#This Row],[ishp_Market]]-output[[#This Row],[ishp_Program]]","v":0}]
["All","Warehousing","Base",2021,"501-1,000 HP","Traditional","Non ASD Control","variable","Fans",2021,0,0,0,0,0,0,0,0,0,0,0,0,0,0,0,0,0,0,{"$f":"output[[#This Row],[ishp_Program]]-output[[#This Row],[ishp_Baseline]]","v":0},{"$f":"output[[#This Row],[ishp_Market]]-output[[#This Row],[ishp_Program]]","v":0}]
["All","Warehousing","Base",2021,"51-100 HP","Traditional","ASD Control","variable","Pumps","2014 and before",0,0,0,0,0,0,0,0,0,0,0,0,0,0,0,0,0,0,{"$f":"output[[#This Row],[ishp_Program]]-output[[#This Row],[ishp_Baseline]]","v":0},{"$f":"output[[#This Row],[ishp_Market]]-output[[#This Row],[ishp_Program]]","v":0}]
["All","Warehousing","Base",2021,"51-100 HP","Traditional","Non ASD Control","variable","Fans",2019,0,0,0,0,0,0,0,0,0,0,0,0,0,0,0,0,0,0,{"$f":"output[[#This Row],[ishp_Program]]-output[[#This Row],[ishp_Baseline]]","v":0},{"$f":"output[[#This Row],[ishp_Market]]-output[[#This Row],[ishp_Program]]","v":0}]
["All","Warehousing","Base",2021,"6-10 HP","Traditional","ASD Control","constant","Pumps","2014 and before",327525.43045331899,441286.23027891899,327525.43045331899,352057.08519427199,474338.56892681099,352057.08519427199,145.95289476358201,196.647334038682,145.95289476358201,18.244111845447801,24.5809167548353,18.244111845447801,52.188478967583002,53.617310007394899,52.188478967583002,6.5235598709478797,6.7021637509243703,6.5235598709478797,{"$f":"output[[#This Row],[ishp_Program]]-output[[#This Row],[ishp_Baseline]]","v":0},{"$f":"output[[#This Row],[ishp_Market]]-output[[#This Row],[ishp_Program]]","v":50.694439275099995}]
["All","Warehousing","Base",2021,"6-10 HP","Traditional","Non ASD Control","variable","Fans",2020,323734.94825387502,256204.326641283,270789.03973270103,347982.69587809098,275394.03070671501,291071.13880868,96.094339534057198,76.049205336505494,80.378389996279907,12.0117924417571,9.5061506670631903,10.0472987495349,0,0.22574427895972701,0,0,2.82180348699658E-2,0,{"$f":"output[[#This Row],[ishp_Program]]-output[[#This Row],[ishp_Baseline]]","v":-15.715949537777291},{"$f":"output[[#This Row],[ishp_Market]]-output[[#This Row],[ishp_Program]]","v":-4.3291846597744126}]
["All","Wood Products","Base",2014,"1,001+ HP","Traditional","Non ASD Control","constant","Pumps","2014 and before",0,0,0,0,0,0,0,0,0,0,0,0,0,0,0,0,0,0,{"$f":"output[[#This Row],[ishp_Program]]-output[[#This Row],[ishp_Baseline]]","v":0},{"$f":"output[[#This Row],[ishp_Market]]-output[[#This Row],[ishp_Program]]","v":0}]
["All","Wood Products","Base",2014,"11-20 HP","Traditional","ASD Control","variable","Fans","2014 and before",30551880.946343798,30551880.946343798,30551880.946343798,32840216.829224899,32840216.829224899,32840216.829224899,15749.7129150612,15749.7129150612,15749.7129150612,1016.11051064911,1016.11051064911,1016.11051064911,6183.0711580511097,6183.0711580511097,6183.0711580511097,398.90781664845798,398.90781664845798,398.90781664845798,{"$f":"output[[#This Row],[ishp_Program]]-output[[#This Row],[ishp_Baseline]]","v":0},{"$f":"output[[#This Row],[ishp_Market]]-output[[#This Row],[ishp_Program]]","v":0}]
["All","Wood Products","Base",2014,"6-10 HP","Traditional","Non ASD Control","constant","Fans","2014 and before",14682660.3273229,14682660.3273229,14682660.3273229,15782391.5858394,15782391.5858394,15782391.5858394,3317.85376167807,3317.85376167807,3317.85376167807,414.73172020975898,414.73172020975898,414.73172020975898,1302.5333230579199,1302.5333230579199,1302.5333230579199,162.81666538223999,162.81666538223999,162.81666538223999,{"$f":"output[[#This Row],[ishp_Program]]-output[[#This Row],[ishp_Baseline]]","v":0},{"$f":"output[[#This Row],[ishp_Market]]-output[[#This Row],[ishp_Program]]","v":0}]
["All","Wood Products","Base",2015,"1-5 HP","Traditional","ASD Control","constant","Pumps","2014 and before",722406.80049229902,722406.80049229902,722406.80049229902,776515.06984917202,776515.06984917202,776515.06984917202,209.601246267953,209.601246267953,209.601246267953,69.867082089317805,69.867082089317805,69.867082089317805,81.914385775150706,81.914385775150706,81.914385775150706,27.3047952583835,27.3047952583835,27.3047952583835,{"$f":"output[[#This Row],[ishp_Program]]-output[[#This Row],[ishp_Baseline]]","v":0},{"$f":"output[[#This Row],[ishp_Market]]-output[[#This Row],[ishp_Program]]","v":0}]
["All","Wood Products","Base",2015,"101-200 HP","Traditional","Non ASD Control","constant","Fans",2015,3498251.9680062202,3498251.9680062202,3498251.9680062202,3760271.0404098802,3760271.0404098802,3760271.0404098802,836.55599493623799,836.55599493623799,836.55599493623799,5.5585115942607199,5.5585115942607199,5.5585115942607199,0,0,0,0,0,0,{"$f":"output[[#This Row],[ishp_Program]]-output[[#This Row],[ishp_Baseline]]","v":0},{"$f":"output[[#This Row],[ishp_Market]]-output[[#This Row],[ishp_Program]]","v":0}]
["All","Wood Products","Base",2015,"21-50 HP","Traditional","ASD Control","constant","Pumps","2014 and before",2314259.7579323701,2314259.7579323701,2314259.7579323701,2487597.8138015098,2487597.8138015098,2487597.8138015098,674.77127554932599,674.77127554932599,674.77127554932599,19.007641564769699,19.007641564769699,19.007641564769699,263.70775727486199,263.70775727486199,263.70775727486199,7.4283875288693499,7.4283875288693499,7.4283875288693499,{"$f":"output[[#This Row],[ishp_Program]]-output[[#This Row],[ishp_Baseline]]","v":0},{"$f":"output[[#This Row],[ishp_Market]]-output[[#This Row],[ishp_Program]]","v":0}]
["All","Wood Products","Base",2015,"21-50 HP","Traditional","Non ASD Control","constant","Fans","2014 and before",48816575.793412499,48816575.793412499,48816575.793412499,52472937.320339099,52472937.320339099,52472937.320339099,11383.308008947701,11383.308008947701,11383.308008947701,320.65656363233001,320.65656363233001,320.65656363233001,4695.5488032888597,4695.5488032888597,4695.5488032888597,132.26898037433401,132.26898037433401,132.26898037433401,{"$f":"output[[#This Row],[ishp_Program]]-output[[#This Row],[ishp_Baseline]]","v":0},{"$f":"output[[#This Row],[ishp_Market]]-output[[#This Row],[ishp_Program]]","v":0}]
["All","Wood Products","Base",2015,"51-100 HP","Traditional","Non ASD Control","variable","Pumps",2015,1919539.9430667199,1919539.9430667199,1919539.9430667199,2063313.48480242,2063313.48480242,2063313.48480242,507.11309405804298,507.11309405804298,507.11309405804298,6.7167297226230902,6.7167297226230902,6.7167297226230902,0,0,0,0,0,0,{"$f":"output[[#This Row],[ishp_Program]]-output[[#This Row],[ishp_Baseline]]","v":0},{"$f":"output[[#This Row],[ishp_Market]]-output[[#This Row],[ishp_Program]]","v":0}]
["All","Wood Products","Base",2016,"1-5 HP","Traditional","ASD Control","constant","Fans",2016,899.73533120142497,1015.28400742784,899.73533120142497,967.12550750841206,1091.32877958418,967.12550750841206,0.20201081876920801,0.22795409551152199,0.20201081876920801,6.7336939589735995E-2,7.5984698503840695E-2,6.7336939589735995E-2,4.1413684207815201E-4,1.1150885468741299E-3,4.1413684207815201E-4,1.3804561402605E-4,3.7169618229137901E-4,1.3804561402605E-4,{"$f":"output[[#This Row],[ishp_Program]]-output[[#This Row],[ishp_Baseline]]","v":0},{"$f":"output[[#This Row],[ishp_Market]]-output[[#This Row],[ishp_Program]]","v":2.5943276742313975E-2}]
["All","Wood Products","Base",2016,"1-5 HP","Traditional","Non ASD Control","variable","Pumps",2016,323417.90829598502,279996.36913119798,323417.90829598502,347641.90962735401,300968.097179125,347641.90962735401,100.412500508628,86.931288703005706,100.412500508628,33.470833502875998,28.9770962343352,33.470833502875998,5.9572207557827897E-2,0,5.9572207557827897E-2,1.9857402519276E-2,0,1.9857402519276E-2,{"$f":"output[[#This Row],[ishp_Program]]-output[[#This Row],[ishp_Baseline]]","v":0},{"$f":"output[[#This Row],[ishp_Market]]-output[[#This Row],[ishp_Program]]","v":-13.481211805622294}]
["All","Wood Products","Base",2016,"101-200 HP","Traditional","Non ASD Control","constant","Fans","2014 and before",59861677.189569801,59847523.975132503,59845052.069448799,64345316.811068498,64330103.52087,64327446.469450504,14315.0480233742,14311.6634883283,14311.0723680952,95.116598161954997,95.094109556998902,95.090181847809205,7657.1595429844401,7657.0034483168001,7657.1595429844401,50.878136498235499,50.877099324364103,50.878136498235499,{"$f":"output[[#This Row],[ishp_Program]]-output[[#This Row],[ishp_Baseline]]","v":-3.9756552790004207},{"$f":"output[[#This Row],[ishp_Market]]-output[[#This Row],[ishp_Program]]","v":0.59112023310080986}]
["All","Wood Products","Base",2016,"11-20 HP","Traditional","Non ASD Control","constant","Fans",2015,624279.48260561202,613977.12119526195,624105.13259429904,671038.01585277298,659964.00757278805,670850.60702561203,143.21879079259301,140.85527928114601,143.17879236482099,9.2399219866189402,9.0874373729772007,9.2373414428916796,9.5837297036604703,9.49080057481906,9.5837297036604703,0.61830514217164301,0.61230971450445504,0.61830514217164301,{"$f":"output[[#This Row],[ishp_Program]]-output[[#This Row],[ishp_Baseline]]","v":-3.999842777201934E-2},{"$f":"output[[#This Row],[ishp_Market]]-output[[#This Row],[ishp_Program]]","v":-2.3235130836749818}]
["All","Wood Products","Base",2016,"21-50 HP","Traditional","Non ASD Control","constant","Fans",2015,2194074.68395912,2192905.20595608,2190795.1275295699,2358410.8777876599,2357153.8058821899,2354885.6825815402,511.62596958534903,511.35326450307002,510.86122522621503,14.411999143249201,14.404317309945601,14.3904570486257,34.464182293704503,34.454880792891402,34.464182293704503,0.97082203644237997,0.97056002233496996,0.97082203644237997,{"$f":"output[[#This Row],[ishp_Program]]-output[[#This Row],[ishp_Baseline]]","v":-0.7647443591339993},{"$f":"output[[#This Row],[ishp_Market]]-output[[#This Row],[ishp_Program]]","v":0.49203927685499593}]
["All","Wood Products","Base",2016,"501-1,000 HP","Traditional","ASD Control","constant","Pumps",2016,0,0,0,0,0,0,0,0,0,0,0,0,0,0,0,0,0,0,{"$f":"output[[#This Row],[ishp_Program]]-output[[#This Row],[ishp_Baseline]]","v":0},{"$f":"output[[#This Row],[ishp_Market]]-output[[#This Row],[ishp_Program]]","v":0}]
["All","Wood Products","Base",2016,"51-100 HP","Traditional","Non ASD Control","constant","Pumps",2015,4612361.6090956796,4612361.6090956796,4612361.6090956796,4957827.4936169498,4957827.4936169498,4957827.4936169498,997.70990130237396,997.70990130237396,997.70990130237396,13.2147006795016,13.2147006795016,13.2147006795016,71.210890546920993,71.210890546920993,71.210890546920993,0.94319060327047699,0.94319060327047699,0.94319060327047699,{"$f":"output[[#This Row],[ishp_Program]]-output[[#This Row],[ishp_Baseline]]","v":0},{"$f":"output[[#This Row],[ishp_Market]]-output[[#This Row],[ishp_Program]]","v":0}]
["All","Wood Products","Base",2016,"51-100 HP","Traditional","Non ASD Control","variable","Pumps","2014 and before",16993805.415920701,16993805.415920701,16993805.415920701,18266641.441573098,18266641.441573098,18266641.441573098,4489.5034747335403,4489.5034747335403,4489.5034747335403,59.463622181901201,59.463622181901201,59.463622181901201,2675.7315914781602,2675.7315914781602,2675.7315914781602,35.440153529512102,35.440153529512102,35.440153529512102,{"$f":"output[[#This Row],[ishp_Program]]-output[[#This Row],[ishp_Baseline]]","v":0},{"$f":"output[[#This Row],[ishp_Market]]-output[[#This Row],[ishp_Program]]","v":0}]
["All","Wood Products","Base",2017,"1,001+ HP","Traditional","Non ASD Control","constant","Fans",2017,5586875.7311554197,5580816.7552154697,5586875.7311554197,6005332.7234189603,5998819.9301811103,6005332.7234189603,1346.5551530831799,1345.0948117999701,1346.5551530831799,1.3465551530831801,1.3450948117999699,1.3465551530831801,0,0,0,0,0,0,{"$f":"output[[#This Row],[ishp_Program]]-output[[#This Row],[ishp_Baseline]]","v":0},{"$f":"output[[#This Row],[ishp_Market]]-output[[#This Row],[ishp_Program]]","v":-1.4603412832098002}]
["All","Wood Products","Base",2017,"1,001+ HP","Traditional","Non ASD Control","variable","Pumps",2015,0,0,0,0,0,0,0,0,0,0,0,0,0,0,0,0,0,0,{"$f":"output[[#This Row],[ishp_Program]]-output[[#This Row],[ishp_Baseline]]","v":0},{"$f":"output[[#This Row],[ishp_Market]]-output[[#This Row],[ishp_Program]]","v":0}]
["All","Wood Products","Base",2017,"1-5 HP","Traditional","Non ASD Control","variable","Pumps",2016,294956.47043355799,241839.33301008501,294956.47043355799,317048.71006903099,259953.09905254,317048.71006903099,91.575994951793703,75.084562499419604,91.575994951793703,30.525331650597899,25.028187499806499,30.525331650597899,2.6869609805906101,1.9183335165317701,2.6869609805906101,0.89565366019686998,0.63944450551059195,0.89565366019686998,{"$f":"output[[#This Row],[ishp_Program]]-output[[#This Row],[ishp_Baseline]]","v":0},{"$f":"output[[#This Row],[ishp_Market]]-output[[#This Row],[ishp_Program]]","v":-16.491432452374099}]
["All","Wood Products","Base",2017,"11-20 HP","Traditional","ASD Control","variable","Fans",2015,1530698.4645809799,1547821.5180098901,1535664.51212388,1645347.7795781,1663753.34970883,1650685.7840819601,789.085995033004,797.91305141647797,791.64602802280797,50.908773873096997,51.4782613817083,51.073937291794003,76.090242143954896,76.612472875106306,76.090242143954896,4.9090478802551498,4.94274018549073,4.9090478802551498,{"$f":"output[[#This Row],[ishp_Program]]-output[[#This Row],[ishp_Baseline]]","v":2.5600329898039718},{"$f":"output[[#This Row],[ishp_Market]]-output[[#This Row],[ishp_Program]]","v":6.2670233936700015}]
["All","Wood Products","Base",2017,"11-20 HP","Traditional","Non ASD Control","variable","Pumps",2016,237853.333199491,187140.19816874401,237688.789431896,255668.54785613299,201156.99901158299,255491.679760345,73.088218876957498,57.504948871003002,73.037657420706097,4.7153689598037101,3.7099967013550299,4.7121069303681304,2.2816557762954002,1.46919242935649,2.2816557762954002,0.14720359847067099,9.4786608345580003E-2,0.14720359847067099,{"$f":"output[[#This Row],[ishp_Program]]-output[[#This Row],[ishp_Baseline]]","v":-5.0561456251401182E-2},{"$f":"output[[#This Row],[ishp_Market]]-output[[#This Row],[ishp_Program]]","v":-15.532708549703095}]
["All","Wood Products","Base",2017,"201-500 HP","Traditional","Non ASD Control","constant","Pumps",2016,574622.43196112604,574623.87717172701,574622.43196112604,617661.65211501496,617663.20557188895,617661.65211501496,121.48563677356,121.48594231737501,121.48563677356,0.346606666971642,0.34660753870863198,0.346606666971642,3.10528049818471,3.1038411515904998,3.10528049818471,8.8595734612973102E-3,8.8554669089600802E-3,8.8595734612973102E-3,{"$f":"output[[#This Row],[ishp_Program]]-output[[#This Row],[ishp_Baseline]]","v":0},{"$f":"output[[#This Row],[ishp_Market]]-output[[#This Row],[ishp_Program]]","v":3.055438150028067E-4}]
["All","Wood Products","Base",2017,"21-50 HP","Traditional","Non ASD Control","variable","Pumps",2017,1159353.1981860299,984691.05362799799,1157282.20445566,1246188.75273016,1058444.4135447301,1243962.6415693799,349.300202890413,296.67644455097502,348.67623555126602,9.8394423349412303,8.3570829450979094,9.8218657901765205,0.59503543725196895,0,0.59503543725196895,1.6761561612731499E-2,0,1.6761561612731499E-2,{"$f":"output[[#This Row],[ishp_Program]]-output[[#This Row],[ishp_Baseline]]","v":-0.62396733914698643},{"$f":"output[[#This Row],[ishp_Market]]-output[[#This Row],[ishp_Program]]","v":-51.999791000290998}]
["All","Wood Products","Base",2017,"501-1,000 HP","Traditional","Non ASD Control","constant","Fans","2014 and before",105401699.474279,105326469.277089,105401699.474279,113296286.76490299,113215421.82594299,113296286.76490299,25286.159541973098,25268.1116093684,25286.159541973098,33.692417777445797,33.668369899225098,33.692417777445797,14735.946386392499,14734.981531130399,14735.946386392499,19.6348386227749,19.633553006169699,19.6348386227749,{"$f":"output[[#This Row],[ishp_Program]]-output[[#This Row],[ishp_Baseline]]","v":0},{"$f":"output[[#This Row],[ishp_Market]]-output[[#This Row],[ishp_Program]]","v":-18.047932604698872}]
["All","Wood Products","Base",2017,"51-100 HP","Traditional","ASD Control","constant","Fans","2014 and before",315310.980586163,352281.12480323401,315310.980586163,338927.77303206699,378666.98105099599,338927.77303206699,78.480188504857594,87.6819736181249,78.480188504857594,1.03947269542857,1.16135064394867,1.03947269542857,43.256530076301502,43.800739432310301,43.256530076301502,0.572934173196046,0.58014224413656101,0.572934173196046,{"$f":"output[[#This Row],[ishp_Program]]-output[[#This Row],[ishp_Baseline]]","v":0},{"$f":"output[[#This Row],[ishp_Market]]-output[[#This Row],[ishp_Program]]","v":9.2017851132673059}]
["All","Wood Products","Base",2017,"6-10 HP","Traditional","ASD Control","variable","Fans",2017,1609999.47589007,1636528.6072688999,1611125.3856818499,1730588.43663424,1759104.5999533399,1731798.67706942,815.61775647314505,829.057282970144,816.18813679445304,101.952219559143,103.632160371268,102.02351709930601,3.9662379890333099,4.3810595568834598,3.9662379890333099,0.49577974862916402,0.54763244461043303,0.49577974862916402,{"$f":"output[[#This Row],[ishp_Program]]-output[[#This Row],[ishp_Baseline]]","v":0.57038032130799365},{"$f":"output[[#This Row],[ishp_Market]]-output[[#This Row],[ishp_Program]]","v":12.869146175690958}]
["All","Wood Products","Base",2018,"1,001+ HP","Traditional","ASD Control","constant","Fans","2014 and before",576838.58321859001,700862.11394464294,576838.58321859001,620043.793101663,753356.68627909594,620043.793101663,145.51527730569001,176.80187808286701,145.51527730569001,0.14551527730569,0.17680187808286699,0.14551527730569,82.0339507335554,83.602969240993303,82.0339507335554,8.2033950733555405E-2,8.3602969240993294E-2,8.2033950733555405E-2,{"$f":"output[[#This Row],[ishp_Program]]-output[[#This Row],[ishp_Baseline]]","v":0},{"$f":"output[[#This Row],[ishp_Market]]-output[[#This Row],[ishp_Program]]","v":31.286600777177}]
["All","Wood Products","Base",2018,"1,001+ HP","Traditional","Non ASD Control","constant","Pumps",2015,0,0,0,0,0,0,0,0,0,0,0,0,0,0,0,0,0,0,{"$f":"output[[#This Row],[ishp_Program]]-output[[#This Row],[ishp_Baseline]]","v":0},{"$f":"output[[#This Row],[ishp_Market]]-output[[#This Row],[ishp_Program]]","v":0}]
["All","Wood Products","Base",2018,"1-5 HP","Traditional","ASD Control","constant","Pumps",2016,46431.430221021401,75258.402841662901,46431.430221021401,49909.1443445759,80895.257214503406,49909.1443445759,13.7151578227563,22.2302192189347,13.7151578227563,4.5717192742521,7.4100730729782498,4.5717192742521,0.50950824832722397,1.2472693861634301,0.50950824832722397,0.169836082775741,0.41575646205447703,0.169836082775741,{"$f":"output[[#This Row],[ishp_Program]]-output[[#This Row],[ishp_Baseline]]","v":0},{"$f":"output[[#This Row],[ishp_Market]]-output[[#This Row],[ishp_Program]]","v":8.5150613961783996}]
["All","Wood Products","Base",2018,"1-5 HP","Traditional","Non ASD Control","variable","Fans",2016,71701.6081194898,69136.733222831201,71701.6081194898,77072.0585676396,74315.0745412213,77072.0585676396,17.1008570334083,16.4891335300353,17.1008570334083,5.7002856778027899,5.4963778433451003,5.7002856778027899,0.51935524656110499,0.50189397095215404,0.51935524656110499,0.173118415520368,0.16729799031738399,0.173118415520368,{"$f":"output[[#This Row],[ishp_Program]]-output[[#This Row],[ishp_Baseline]]","v":0},{"$f":"output[[#This Row],[ishp_Market]]-output[[#This Row],[ishp_Program]]","v":-0.61172350337299974}]
["All","Wood Products","Base",2018,"101-200 HP","Traditional","Non ASD Control","variable","Fans",2016,1445443.2914778499,1411868.6215701301,1372560.41043485,1553706.99400954,1517617.5813257401,1475365.18517642,378.83320122108302,370.03368638983801,359.73147976129002,2.5171641277148402,2.4586955906301502,2.3902423904404699,11.513532697357601,11.263034283152001,11.513532697357601,7.6501878387758501E-2,7.4837437097355602E-2,7.6501878387758501E-2,{"$f":"output[[#This Row],[ishp_Program]]-output[[#This Row],[ishp_Baseline]]","v":-19.101721459792998},{"$f":"output[[#This Row],[ishp_Market]]-output[[#This Row],[ishp_Program]]","v":10.302206628547992}]
["All","Wood Products","Base",2018,"11-20 HP","Traditional","ASD Control","variable","Fans",2017,1587712.2993369,1626585.61717974,1596038.10537299,1706631.9505572401,1748416.87990651,1715581.35946543,827.34089085801395,847.597385330051,831.67938454222099,53.376831668258902,54.683702279358101,53.6567344865949,6.9455665010191501,7.6263631255389202,6.9455665010191501,0.44810106458187998,0.49202342745412397,0.44810106458187998,{"$f":"output[[#This Row],[ishp_Program]]-output[[#This Row],[ishp_Baseline]]","v":4.3384936842070374},{"$f":"output[[#This Row],[ishp_Market]]-output[[#This Row],[ishp_Program]]","v":15.91800078783001}]
["All","Wood Products","Base",2018,"201-500 HP","Traditional","ASD Control","constant","Fans",2015,72273.9061035786,88015.441035433396,72273.9061035786,77687.221670736704,94607.7975689874,77687.221670736704,18.232063170854701,22.203076704736201,18.232063170854701,5.2017298632966502E-2,6.3346866489975104E-2,5.2017298632966502E-2,1.9962304071640899,2.1901616087751998,1.9962304071640899,5.6953791930502004E-3,6.2486779137666398E-3,5.6953791930502004E-3,{"$f":"output[[#This Row],[ishp_Program]]-output[[#This Row],[ishp_Baseline]]","v":0},{"$f":"output[[#This Row],[ishp_Market]]-output[[#This Row],[ishp_Program]]","v":3.9710135338815}]
["All","Wood Products","Base",2018,"201-500 HP","Traditional","Non ASD Control","variable","Pumps",2017,195969.196229906,195727.730100621,195969.196229906,210647.28902752601,210387.73708515699,210647.28902752601,50.600744555685999,50.538396155213597,50.600744555685999,0.144367316849318,0.14418943268249201,0.144367316849318,1.46178856229524E-2,1.3729149896541899E-2,1.46178856229524E-2,4.1705807768765702E-5,3.9170185154185298E-5,4.1705807768765702E-5,{"$f":"output[[#This Row],[ishp_Program]]-output[[#This Row],[ishp_Baseline]]","v":0},{"$f":"output[[#This Row],[ishp_Market]]-output[[#This Row],[ishp_Program]]","v":-6.2348400472401977E-2}]
["All","Wood Products","Base",2018,"21-50 HP","Traditional","ASD Control","variable","Fans",2018,114776.182623571,145228.226000158,272872.40111414698,123372.918702076,156105.82012757001,293310.54395759699,60.5147874234558,76.570373952133195,143.86970336265,1.7046418992522701,2.1569119423136098,4.0526677003563396,8.26474345570722E-2,0.52345799075115595,8.26474345570722E-2,2.3280967480865402E-3,1.4745295514116999E-2,2.3280967480865402E-3,{"$f":"output[[#This Row],[ishp_Program]]-output[[#This Row],[ishp_Baseline]]","v":83.3549159391942},{"$f":"output[[#This Row],[ishp_Market]]-output[[#This Row],[ishp_Program]]","v":-67.299329410516805}]
["All","Wood Products","Base",2018,"21-50 HP","Traditional","Non ASD Control","variable","Fans","2014 and before",21545074.076760702,20788419.981122602,15571895.563452199,23158800.125110101,22345472.637708601,16738230.5411548,5485.1022126778998,5292.4676903072695,3964.40682943908,154.509921483884,149.08359691006399,111.673431815185,3170.52646541578,3162.1432647674101,3170.52646541578,89.310604659599505,89.074458162462406,89.310604659599505,{"$f":"output[[#This Row],[ishp_Program]]-output[[#This Row],[ishp_Baseline]]","v":-1520.6953832388199},{"$f":"output[[#This Row],[ishp_Market]]-output[[#This Row],[ishp_Program]]","v":1328.0608608681896}]
["All","Wood Products","Base",2018,"501-1,000 HP","Traditional","Non ASD Control","variable","Pumps",2017,0,0,0,0,0,0,0,0,0,0,0,0,0,0,0,0,0,0,{"$f":"output[[#This Row],[ishp_Program]]-output[[#This Row],[ishp_Baseline]]","v":0},{"$f":"output[[#This Row],[ishp_Market]]-output[[#This Row],[ishp_Program]]","v":0}]
["All","Wood Products","Base",2018,"51-100 HP","Traditional","ASD Control","variable","Pumps","2014 and before",0,0,0,0,0,0,0,0,0,0,0,0,0,0,0,0,0,0,{"$f":"output[[#This Row],[ishp_Program]]-output[[#This Row],[ishp_Baseline]]","v":0},{"$f":"output[[#This Row],[ishp_Market]]-output[[#This Row],[ishp_Program]]","v":0}]
["All","Wood Products","Base",2018,"6-10 HP","Traditional","ASD Control","constant","Fans",2015,216610.95951462499,249426.84161260401,216710.149602199,232835.12038226999,268108.91204938799,232941.739807404,50.872408675729098,58.579419294599496,50.8957040744612,6.3590510844661399,7.3224274118249397,6.36196300930765,5.3919651647538496,5.7784061600800403,5.3919651647538496,0.67399564559423197,0.72230077001000503,0.67399564559423197,{"$f":"output[[#This Row],[ishp_Program]]-output[[#This Row],[ishp_Baseline]]","v":2.3295398732102512E-2},{"$f":"output[[#This Row],[ishp_Market]]-output[[#This Row],[ishp_Program]]","v":7.6837152201382963}]
["All","Wood Products","Base",2019,"1,001+ HP","Traditional","ASD Control","constant","Fans",2018,28675.292341615099,41476.452028330197,28675.292341615099,30823.071738002,44583.0382852521,30823.071738002,7.2674494283822204,10.511767900868501,7.2674494283822204,7.2674494283822199E-3,1.05117679008685E-2,7.2674494283822199E-3,0.138057276372442,0.289139617005022,0.138057276372442,1.3805727637244199E-4,2.89139617005022E-4,1.3805727637244199E-4,{"$f":"output[[#This Row],[ishp_Program]]-output[[#This Row],[ishp_Baseline]]","v":0},{"$f":"output[[#This Row],[ishp_Market]]-output[[#This Row],[ishp_Program]]","v":3.2443184724862801}]
["All","Wood Products","Base",2019,"1,001+ HP","Traditional","ASD Control","constant","Pumps",2019,0,0,0,0,0,0,0,0,0,0,0,0,0,0,0,0,0,0,{"$f":"output[[#This Row],[ishp_Program]]-output[[#This Row],[ishp_Baseline]]","v":0},{"$f":"output[[#This Row],[ishp_Market]]-output[[#This Row],[ishp_Program]]","v":0}]
["All","Wood Products","Base",2019,"1,001+ HP","Traditional","Non ASD Control","variable","Pumps",2019,0,0,0,0,0,0,0,0,0,0,0,0,0,0,0,0,0,0,{"$f":"output[[#This Row],[ishp_Program]]-output[[#This Row],[ishp_Baseline]]","v":0},{"$f":"output[[#This Row],[ishp_Market]]-output[[#This Row],[ishp_Program]]","v":0}]
["All","Wood Products","Base",2019,"1-5 HP","Traditional","ASD Control","variable","Fans",2017,5292.2029716670604,7049.8558578052198,5292.2029716670604,5688.5889742449299,7577.89006155483,5688.5889742449299,2.5159676455695701,3.3515738793706502,2.5159676455695701,0.83865588185652495,1.1171912931235499,0.83865588185652495,5.5985380609074403E-2,9.7867810641895495E-2,5.5985380609074403E-2,1.86617935363581E-2,3.2622603547298498E-2,1.86617935363581E-2,{"$f":"output[[#This Row],[ishp_Program]]-output[[#This Row],[ishp_Baseline]]","v":0},{"$f":"output[[#This Row],[ishp_Market]]-output[[#This Row],[ishp_Program]]","v":0.83560623380108012}]
["All","Wood Products","Base",2019,"101-200 HP","Traditional","ASD Control","variable","Fans",2017,62153.334639942099,84221.345891144301,119015.408196855,66808.619404473793,90529.524698391106,127929.662270799,33.878592041918701,45.907442218454499,64.873019032071596,0.225106923866569,0.30503283866082698,0.43104996034599102,0.74072166818106899,1.34052269882622,0.74072166818106899,4.9217386590104297E-3,8.9071275669516704E-3,4.9217386590104297E-3,{"$f":"output[[#This Row],[ishp_Program]]-output[[#This Row],[ishp_Baseline]]","v":30.994426990152895},{"$f":"output[[#This Row],[ishp_Market]]-output[[#This Row],[ishp_Program]]","v":-18.965576813617098}]
["All","Wood Products","Base",2019,"101-200 HP","Traditional","Non ASD Control","constant","Pumps",2016,983648.65687340696,786745.77943877596,983648.65687340696,1057323.9412732201,845673.03831873997,1057323.9412732201,209.64121870886299,167.67607301966399,209.64121870886299,1.3929649083645399,1.1141267310276599,1.3929649083645399,11.952324200149601,8.3180760074934508,11.952324200149601,7.9417436545844697E-2,5.5269608023212298E-2,7.9417436545844697E-2,{"$f":"output[[#This Row],[ishp_Program]]-output[[#This Row],[ishp_Baseline]]","v":0},{"$f":"output[[#This Row],[ishp_Market]]-output[[#This Row],[ishp_Program]]","v":-41.965145689199005}]
["All","Wood Products","Base",2019,"11-20 HP","Traditional","ASD Control","constant","Fans",2019,217192.643451223,280623.24689125601,218087.382603998,233460.37244571999,301641.92808341101,234422.12756103801,52.893547188696601,68.340983911001302,53.111445579944402,3.4124869153997799,4.4090957361936303,3.42654487612544,0.12662594817776501,0.63967665707379295,0.12662594817776501,8.1694160114687293E-3,4.1269461746696302E-2,8.1694160114687293E-3,{"$f":"output[[#This Row],[ishp_Program]]-output[[#This Row],[ishp_Baseline]]","v":0.2178983912478003},{"$f":"output[[#This Row],[ishp_Market]]-output[[#This Row],[ishp_Program]]","v":15.229538331056901}]
["All","Wood Products","Base",2019,"201-500 HP","Traditional","ASD Control","constant","Fans",2019,70974.936841347502,102205.710124864,70974.936841347502,76290.959610764505,109860.91781321701,76290.959610764505,17.987846750861099,25.9029557842168,17.987846750861099,5.1320532812727998E-2,7.3902869569805504E-2,5.1320532812727998E-2,3.03609483170141E-3,0.24245357933324499,3.03609483170141E-3,8.6621821161238707E-6,6.9173631764121301E-4,8.6621821161238707E-6,{"$f":"output[[#This Row],[ishp_Program]]-output[[#This Row],[ishp_Baseline]]","v":0},{"$f":"output[[#This Row],[ishp_Market]]-output[[#This Row],[ishp_Program]]","v":7.9151090333557015}]
["All","Wood Products","Base",2019,"201-500 HP","Traditional","ASD Control","variable","Pumps",2017,0,0,0,0,0,0,0,0,0,0,0,0,0,0,0,0,0,0,{"$f":"output[[#This Row],[ishp_Program]]-output[[#This Row],[ishp_Baseline]]","v":0},{"$f":"output[[#This Row],[ishp_Market]]-output[[#This Row],[ishp_Program]]","v":0}]
["All","Wood Products","Base",2019,"21-50 HP","Traditional","ASD Control","constant","Pumps",2017,148171.70241600199,247460.86795622201,148171.70241600199,159269.762926961,265995.68696614302,159269.762926961,43.528618303967697,72.696942066527797,43.528618303967697,1.22615826208359,2.0478011849726099,1.22615826208359,1.06874612088859,3.7730253259844702,1.06874612088859,3.01055245320732E-2,0.106282403548858,3.01055245320732E-2,{"$f":"output[[#This Row],[ishp_Program]]-output[[#This Row],[ishp_Baseline]]","v":0},{"$f":"output[[#This Row],[ishp_Market]]-output[[#This Row],[ishp_Program]]","v":29.1683237625601}]
["All","Wood Products","Base",2019,"21-50 HP","Traditional","ASD Control","variable","Fans",2018,107368.440405035,145137.73852066399,347328.78870830202,115410.33659137299,156008.55513586101,373343.71498255298,56.6091169664356,76.522665181367998,183.12621429188999,1.59462301313903,2.1555680332779699,5.1584849096307197,1.15883516523056,2.1048537516621102,1.15883516523056,3.2643244091001701E-2,5.9291654976397698E-2,3.2643244091001701E-2,{"$f":"output[[#This Row],[ishp_Program]]-output[[#This Row],[ishp_Baseline]]","v":126.51709732545439},{"$f":"output[[#This Row],[ishp_Market]]-output[[#This Row],[ishp_Program]]","v":-106.603549110522}]
["All","Wood Products","Base",2019,"501-1,000 HP","Traditional","ASD Control","constant","Pumps",2019,0,0,0,0,0,0,0,0,0,0,0,0,0,0,0,0,0,0,{"$f":"output[[#This Row],[ishp_Program]]-output[[#This Row],[ishp_Baseline]]","v":0},{"$f":"output[[#This Row],[ishp_Market]]-output[[#This Row],[ishp_Program]]","v":0}]
["All","Wood Products","Base",2019,"501-1,000 HP","Traditional","ASD Control","variable","Pumps",2018,0,0,0,0,0,0,0,0,0,0,0,0,0,0,0,0,0,0,{"$f":"output[[#This Row],[ishp_Program]]-output[[#This Row],[ishp_Baseline]]","v":0},{"$f":"output[[#This Row],[ishp_Market]]-output[[#This Row],[ishp_Program]]","v":0}]
["All","Wood Products","Base",2019,"51-100 HP","Traditional","ASD Control","constant","Fans","2014 and before",278659.707150848,366457.93908666098,278659.707150848,299531.31921644701,393905.638724252,299531.31921644701,69.357769606538994,91.210550565535499,69.357769606538994,0.918645955053497,1.2080867624574201,0.918645955053497,43.102951530350801,44.4778799308801,43.102951530350801,0.570900020269547,0.58911099246198895,0.570900020269547,{"$f":"output[[#This Row],[ishp_Program]]-output[[#This Row],[ishp_Baseline]]","v":0},{"$f":"output[[#This Row],[ishp_Market]]-output[[#This Row],[ishp_Program]]","v":21.852780958996505}]
["All","Wood Products","Base",2019,"6-10 HP","Traditional","ASD Control","constant","Fans",2015,205234.332664246,249629.56601389,205384.904437338,220606.38418079799,268326.82050833001,220768.23377969401,48.200538278309502,58.627030360142399,48.2359009801458,6.0250672847886904,7.3283787950177999,6.0294876225182197,6.2667089969610297,6.9358932894583996,6.2667089969610297,0.78333862462012904,0.86698666118229994,0.78333862462012904,{"$f":"output[[#This Row],[ishp_Program]]-output[[#This Row],[ishp_Baseline]]","v":3.5362701836298527E-2},{"$f":"output[[#This Row],[ishp_Market]]-output[[#This Row],[ishp_Program]]","v":10.391129379996599}]
["All","Wood Products","Base",2019,"6-10 HP","Traditional","ASD Control","variable","Pumps",2018,157058.18047852599,199667.50254015901,157433.25282807101,168821.838196367,214622.59848041699,169225.00346489399,70.663997991363402,89.834887654052906,70.832751453769106,8.8329997489204306,11.229360956756601,8.85409393172114,2.4535089282636702,4.4350272318593804,2.4535089282636702,0.30668861603295899,0.554378403982423,0.30668861603295899,{"$f":"output[[#This Row],[ishp_Program]]-output[[#This Row],[ishp_Baseline]]","v":0.16875346240570366},{"$f":"output[[#This Row],[ishp_Market]]-output[[#This Row],[ishp_Program]]","v":19.0021362002838}]
["All","Wood Products","Base",2019,"6-10 HP","Traditional","Non ASD Control","variable","Pumps",2019,264168.71504108899,195406.30090033199,263574.29527227802,283954.95179766603,210042.23283776699,283316.00998817198,82.635468984009705,61.125676122616802,82.449526616226393,10.329433623001201,7.6407095153271003,10.306190827028299,0.57677800095604403,0,0.57677800095604403,7.2097250119505504E-2,0,7.2097250119505504E-2,{"$f":"output[[#This Row],[ishp_Program]]-output[[#This Row],[ishp_Baseline]]","v":-0.18594236778331208},{"$f":"output[[#This Row],[ishp_Market]]-output[[#This Row],[ishp_Program]]","v":-21.323850493609591}]
["All","Wood Products","Base",2020,"1,001+ HP","Traditional","Non ASD Control","constant","Pumps",2018,0,0,0,0,0,0,0,0,0,0,0,0,0,0,0,0,0,0,{"$f":"output[[#This Row],[ishp_Program]]-output[[#This Row],[ishp_Baseline]]","v":0},{"$f":"output[[#This Row],[ishp_Market]]-output[[#This Row],[ishp_Program]]","v":0}]
["All","Wood Products","Base",2020,"1-5 HP","Traditional","ASD Control","constant","Fans",2018,744.12405540108,1164.10574902647,744.12405540108,799.85894715062102,1251.2972696285501,799.85894715062102,0.167072587331555,0.26136792381017898,0.167072587331555,5.5690862443851602E-2,8.71226412700596E-2,5.5690862443851602E-2,3.1698286315631399E-3,7.0132713933412196E-3,3.1698286315631399E-3,1.05660954385438E-3,2.3377571311137399E-3,1.05660954385438E-3,{"$f":"output[[#This Row],[ishp_Program]]-output[[#This Row],[ishp_Baseline]]","v":0},{"$f":"output[[#This Row],[ishp_Market]]-output[[#This Row],[ishp_Program]]","v":9.4295336478623981E-2}]
["All","Wood Products","Base",2020,"1-5 HP","Traditional","ASD Control","variable","Fans",2020,5830.8551403502297,8482.7605947478696,5830.8551403502297,6267.58619036246,9118.1193632944905,6267.58619036246,2.7720484187141898,4.0327915077632097,2.7720484187141898,0.92401613957139705,1.3442638359210699,0.92401613957139705,1.3829497575571499E-3,3.8063014915565199E-2,1.3829497575571499E-3,4.6098325251904998E-4,1.26876716385217E-2,4.6098325251904998E-4,{"$f":"output[[#This Row],[ishp_Program]]-output[[#This Row],[ishp_Baseline]]","v":0},{"$f":"output[[#This Row],[ishp_Market]]-output[[#This Row],[ishp_Program]]","v":1.2607430890490199}]
["All","Wood Products","Base",2020,"101-200 HP","Traditional","ASD Control","constant","Fans",2018,9053.9745711734595,14182.609351298101,13273.136841675099,9732.1172665543509,15244.8867917104,14267.294791116499,2.28543943535476,3.58002935096459,3.3504567668443102,1.51856440887359E-2,2.3787570438302898E-2,2.22621712082678E-2,4.3316007346442399E-2,9.6062734357092297E-2,4.3316007346442399E-2,2.8781400230194298E-4,6.3829059373483302E-4,2.8781400230194298E-4,{"$f":"output[[#This Row],[ishp_Program]]-output[[#This Row],[ishp_Baseline]]","v":1.0650173314895501},{"$f":"output[[#This Row],[ishp_Market]]-output[[#This Row],[ishp_Program]]","v":0.22957258412027981}]
["All","Wood Products","Base",2020,"101-200 HP","Traditional","Non ASD Control","constant","Fans",2015,2302396.6675120601,2298769.5453350702,2298399.6432115398,2474846.1779087102,2470947.38428067,2470549.7764880899,550.58462127477299,549.71724784676496,549.62879114272801,3.6583695765765598,3.6526062979851401,3.6520185457988599,77.116605123238699,77.038119444777806,77.116605123238699,0.51240269184876197,0.51188119232410501,0.51240269184876197,{"$f":"output[[#This Row],[ishp_Program]]-output[[#This Row],[ishp_Baseline]]","v":-0.95583013204498002},{"$f":"output[[#This Row],[ishp_Market]]-output[[#This Row],[ishp_Program]]","v":8.845670403695749E-2}]
["All","Wood Products","Base",2020,"101-200 HP","Traditional","Non ASD Control","variable","Pumps",2015,344037.23298066598,234315.473470397,314175.72790142999,369805.62173091801,251865.70243333001,337707.489921247,89.207499757103605,60.757079580019699,81.464529079123494,0.59274086217344601,0.40370152544863602,0.54129255202075399,13.370347861125101,10.487751229272,13.370347861125101,8.8839520671927796E-2,6.9686054679548595E-2,8.8839520671927796E-2,{"$f":"output[[#This Row],[ishp_Program]]-output[[#This Row],[ishp_Baseline]]","v":-7.7429706779801108},{"$f":"output[[#This Row],[ishp_Market]]-output[[#This Row],[ishp_Program]]","v":-20.707449499103795}]
["All","Wood Products","Base",2020,"11-20 HP","Traditional","ASD Control","variable","Fans",2015,1561296.74669896,1611551.73615137,1573366.53746678,1678237.87302671,1732256.9611891101,1691211.6911230499,804.85962808356805,830.76643420836899,811.08169146067996,51.926427618294703,53.597834465056103,52.327851061979402,93.915175559626704,95.381576433514198,93.915175559626704,6.0590435844920396,6.1536500924847903,6.0590435844920396,{"$f":"output[[#This Row],[ishp_Program]]-output[[#This Row],[ishp_Baseline]]","v":6.2220633771119083},{"$f":"output[[#This Row],[ishp_Market]]-output[[#This Row],[ishp_Program]]","v":19.684742747689029}]
["All","Wood Products","Base",2020,"11-20 HP","Traditional","Non ASD Control","constant","Pumps",2020,627993.06695128698,589923.05318470998,627993.06695128698,675029.74766593904,634108.28986824502,675029.74766593904,161.415393201923,151.63011599947399,161.415393201923,10.4138963356079,9.7825881289983396,10.4138963356079,3.36995856965671E-3,0,3.36995856965671E-3,2.17416681913336E-4,0,2.17416681913336E-4,{"$f":"output[[#This Row],[ishp_Program]]-output[[#This Row],[ishp_Baseline]]","v":0},{"$f":"output[[#This Row],[ishp_Market]]-output[[#This Row],[ishp_Program]]","v":-9.7852772024490093}]
["All","Wood Products","Base",2020,"201-500 HP","Traditional","ASD Control","variable","Pumps",2017,0,0,0,0,0,0,0,0,0,0,0,0,0,0,0,0,0,0,{"$f":"output[[#This Row],[ishp_Program]]-output[[#This Row],[ishp_Baseline]]","v":0},{"$f":"output[[#This Row],[ishp_Market]]-output[[#This Row],[ishp_Program]]","v":0}]
["All","Wood Products","Base",2020,"201-500 HP","Traditional","Non ASD Control","variable","Fans",2017,4767259.4103844501,4422896.8009134298,4767259.4103844501,5124327.1402222496,4754171.7713018497,5124327.1402222496,1254.46768516158,1163.85131034919,1254.46768516158,3.5790804141557402,3.3205458212530399,3.5790804141557402,26.974585529919299,23.5492621368649,26.974585529919299,7.6960301083935395E-2,6.7187623785634504E-2,7.6960301083935395E-2,{"$f":"output[[#This Row],[ishp_Program]]-output[[#This Row],[ishp_Baseline]]","v":0},{"$f":"output[[#This Row],[ishp_Market]]-output[[#This Row],[ishp_Program]]","v":-90.61637481238995}]
["All","Wood Products","Base",2020,"21-50 HP","Traditional","ASD Control","constant","Fans",2019,15222.060804672499,23782.465689917099,32869.335174690903,16362.1931589425,25563.7723700918,35331.248379275203,3.7557649444968102,5.8678881971402097,8.1099069555763492,0.105796195619628,0.165292625271555,0.22844808325567101,0,5.5504527317107401E-2,0,0,1.5635078117495001E-3,0,{"$f":"output[[#This Row],[ishp_Program]]-output[[#This Row],[ishp_Baseline]]","v":4.3541420110795386},{"$f":"output[[#This Row],[ishp_Market]]-output[[#This Row],[ishp_Program]]","v":-2.2420187584361395}]
["All","Wood Products","Base",2020,"21-50 HP","Traditional","Non ASD Control","variable","Fans",2018,1051729.62509221,963696.64870494895,521486.97558707598,1130504.17401162,1035877.52769295,560546.35005854804,269.77765079191801,247.19643885744,133.765872745221,7.5993704448427799,6.9632799678152297,3.76805275338651,5.2255709188835597,4.4153861041162896,5.2255709188835597,0.14719918081362099,0.124377073355388,0.14719918081362099,{"$f":"output[[#This Row],[ishp_Program]]-output[[#This Row],[ishp_Baseline]]","v":-136.011778046697},{"$f":"output[[#This Row],[ishp_Market]]-output[[#This Row],[ishp_Program]]","v":113.430566112219}]
["All","Wood Products","Base",2020,"501-1,000 HP","Traditional","ASD Control","constant","Pumps","2014 and before",0,0,0,0,0,0,0,0,0,0,0,0,0,0,0,0,0,0,{"$f":"output[[#This Row],[ishp_Program]]-output[[#This Row],[ishp_Baseline]]","v":0},{"$f":"output[[#This Row],[ishp_Market]]-output[[#This Row],[ishp_Program]]","v":0}]
["All","Wood Products","Base",2020,"501-1,000 HP","Traditional","Non ASD Control","constant","Fans","2014 and before",88763958.282233402,88534934.5571675,88763958.282233402,95412378.757572696,95166201.155499399,95412378.757572696,21294.719363128501,21239.775937360198,21294.719363128501,28.374043122090001,28.3008340271289,28.374043122090001,14362.2915185152,14360.724686776501,14362.2915185152,19.136964048654502,19.134876331481099,19.136964048654502,{"$f":"output[[#This Row],[ishp_Program]]-output[[#This Row],[ishp_Baseline]]","v":0},{"$f":"output[[#This Row],[ishp_Market]]-output[[#This Row],[ishp_Program]]","v":-54.943425768302404}]
["All","Wood Products","Base",2020,"51-100 HP","Traditional","ASD Control","variable","Pumps",2016,0,0,0,0,0,0,0,0,0,0,0,0,0,0,0,0,0,0,{"$f":"output[[#This Row],[ishp_Program]]-output[[#This Row],[ishp_Baseline]]","v":0},{"$f":"output[[#This Row],[ishp_Market]]-output[[#This Row],[ishp_Program]]","v":0}]
["All","Wood Products","Base",2020,"51-100 HP","Traditional","Non ASD Control","variable","Fans",2016,1127517.31260594,1054279.81862714,1127517.31260594,1211968.35932013,1133245.3770423201,1211968.35932013,293.29406871152099,274.24325472301302,293.29406871152099,3.8846896518082299,3.6323609897087898,3.8846896518082299,15.465786365254401,14.573820838257401,15.465786365254401,0.20484485251992701,0.19303073957956901,0.20484485251992701,{"$f":"output[[#This Row],[ishp_Program]]-output[[#This Row],[ishp_Baseline]]","v":0},{"$f":"output[[#This Row],[ishp_Market]]-output[[#This Row],[ishp_Program]]","v":-19.050813988507969}]
["All","Wood Products","Base",2020,"6-10 HP","Traditional","ASD Control","constant","Pumps",2016,41649.233749817096,73253.193001693493,41649.233749817096,44768.761357678399,78739.857157520295,44768.761357678399,12.545036380843801,22.0643668197919,12.545036380843801,1.56812954760548,2.7580458524739799,1.56812954760548,0.80986383123378403,1.7791146295325799,0.80986383123378403,0.101232978904223,0.22238932869157199,0.101232978904223,{"$f":"output[[#This Row],[ishp_Program]]-output[[#This Row],[ishp_Baseline]]","v":0},{"$f":"output[[#This Row],[ishp_Market]]-output[[#This Row],[ishp_Program]]","v":9.5193304389480993}]
["All","Wood Products","Base",2020,"6-10 HP","Traditional","Non ASD Control","variable","Pumps",2017,204820.712732279,148235.85671928799,204317.458274918,220161.784115927,159338.722387563,219620.835899709,64.070628695144407,46.370137123692103,63.913204042888097,8.0088285868930509,5.7962671404615103,7.9891505053610103,1.9016600580569201,0.69137487193653302,1.9016600580569201,0.23770750725711501,8.6421858992066697E-2,0.23770750725711501,{"$f":"output[[#This Row],[ishp_Program]]-output[[#This Row],[ishp_Baseline]]","v":-0.15742465225631008},{"$f":"output[[#This Row],[ishp_Market]]-output[[#This Row],[ishp_Program]]","v":-17.543066919195994}]
["All","Wood Products","Base",2021,"1,001+ HP","Traditional","ASD Control","constant","Fans",2018,22785.529010990798,38300.016913383901,22785.529010990798,24492.165133914001,41168.688180196303,24492.165133914001,5.7747512323002503,9.7067340311036396,5.7747512323002503,5.7747512323002501E-3,9.7067340311036403E-3,5.7747512323002501E-3,0.74451924361284805,1.2874325401795801,0.74451924361284805,7.4451924361284899E-4,1.2874325401795799E-3,7.4451924361284899E-4,{"$f":"output[[#This Row],[ishp_Program]]-output[[#This Row],[ishp_Baseline]]","v":0},{"$f":"output[[#This Row],[ishp_Market]]-output[[#This Row],[ishp_Program]]","v":3.9319827988033893}]
["All","Wood Products","Base",2021,"1,001+ HP","Traditional","Non ASD Control","constant","Fans",2021,4596439.0939112799,4577879.3862487404,4596439.0939112799,4940712.3820452401,4920762.5522787701,4940712.3820452401,1107.8389865061799,1103.36570462283,1107.8389865061799,1.10783898650618,1.10336570462283,1.10783898650618,0,0,0,0,0,0,{"$f":"output[[#This Row],[ishp_Program]]-output[[#This Row],[ishp_Baseline]]","v":0},{"$f":"output[[#This Row],[ishp_Market]]-output[[#This Row],[ishp_Program]]","v":-4.473281883349955}]
["All","Wood Products","Base",2021,"1,001+ HP","Traditional","Non ASD Control","variable","Fans",2021,2706049.2225025501,2497184.8793820799,2706049.2225025501,2908732.3092679898,2684224.0268477998,2908732.3092679898,712.07606128828797,657.11501418093303,712.07606128828797,0.71207606128828804,0.65711501418093299,0.71207606128828804,0.10691129913594399,0,0.10691129913594399,1.06911299135944E-4,0,1.06911299135944E-4,{"$f":"output[[#This Row],[ishp_Program]]-output[[#This Row],[ishp_Baseline]]","v":0},{"$f":"output[[#This Row],[ishp_Market]]-output[[#This Row],[ishp_Program]]","v":-54.961047107354943}]
["All","Wood Products","Base",2021,"1-5 HP","Traditional","Non ASD Control","constant","Fans",2021,119598.17157688399,119097.753860856,119598.17157688399,128556.074627993,128018.175625034,128556.074627993,26.126303122240301,26.0169865268082,26.126303122240301,8.7087677074134398,8.67232884226941,8.7087677074134398,0,0,0,0,0,0,{"$f":"output[[#This Row],[ishp_Program]]-output[[#This Row],[ishp_Baseline]]","v":0},{"$f":"output[[#This Row],[ishp_Market]]-output[[#This Row],[ishp_Program]]","v":-0.10931659543210159}]
["All","Wood Products","Base",2021,"1-5 HP","Traditional","Non ASD Control","variable","Pumps",2015,177036.88227004799,136008.288933879,177036.88227004799,190296.94475207501,146195.30977502701,190296.94475207501,53.989680554405801,41.477481856523802,53.989680554405801,17.996560184801901,13.8258272855079,17.996560184801901,16.051138817092902,13.6498996082718,16.051138817092902,5.3503796056976496,4.5499665360906096,5.3503796056976496,{"$f":"output[[#This Row],[ishp_Program]]-output[[#This Row],[ishp_Baseline]]","v":0},{"$f":"output[[#This Row],[ishp_Market]]-output[[#This Row],[ishp_Program]]","v":-12.512198697881999}]
["All","Wood Products","Base",2021,"101-200 HP","Traditional","ASD Control","constant","Pumps",2019,392749.10490968602,593858.34671446902,392749.10490968602,422166.01286742103,638338.33688338206,422166.01286742103,100.268504734258,151.61151917255401,100.268504734258,0.66623591185553799,1.00738550945219,0.66623591185553799,11.9299888001642,21.1976702986906,11.9299888001642,7.9269028572519801E-2,0.14084830763249501,7.9269028572519801E-2,{"$f":"output[[#This Row],[ishp_Program]]-output[[#This Row],[ishp_Baseline]]","v":0},{"$f":"output[[#This Row],[ishp_Market]]-output[[#This Row],[ishp_Program]]","v":51.343014438296009}]
["All","Wood Products","Base",2021,"101-200 HP","Traditional","Non ASD Control","variable","Pumps",2019,459861.82438758598,259983.09960189401,413279.73007357802,494305.47503421601,279455.83376207598,444234.38185608899,119.699067668205,67.671924437911898,107.574048882737,0.79534264231365803,0.44964733845788601,0.71477773344011597,15.2114149420548,6.7396298138404802,15.2114149420548,0.101072524531925,4.4781593447444999E-2,0.101072524531925,{"$f":"output[[#This Row],[ishp_Program]]-output[[#This Row],[ishp_Baseline]]","v":-12.125018785468001},{"$f":"output[[#This Row],[ishp_Market]]-output[[#This Row],[ishp_Program]]","v":-39.902124444825105}]
["All","Wood Products","Base",2021,"11-20 HP","Traditional","ASD Control","constant","Pumps",2019,45219.6436134498,81296.433534479496,45219.6436134498,48606.594920097203,87385.536406212006,48606.594920097203,13.557842406701599,24.374456453246601,13.557842406701599,0.87469951010978098,1.57254557762881,0.87469951010978098,1.5100644724805199,3.4079316296386302,1.5100644724805199,9.7423514353582305E-2,0.21986655675087899,9.7423514353582305E-2,{"$f":"output[[#This Row],[ishp_Program]]-output[[#This Row],[ishp_Baseline]]","v":0},{"$f":"output[[#This Row],[ishp_Market]]-output[[#This Row],[ishp_Program]]","v":10.816614046545002}]
["All","Wood Products","Base",2021,"11-20 HP","Traditional","Non ASD Control","variable","Fans",2016,322401.29377723299,205539.07882145699,294376.30737967102,346549.150681147,220933.95582518401,316425.09280240902,81.626517349084295,52.038994592022597,74.531068036250602,5.2662269257473699,3.3573544898079102,4.8084560023387404,13.219889547446501,8.8876393951489696,13.219889547446501,0.85289609983525805,0.57339609000961,0.85289609983525805,{"$f":"output[[#This Row],[ishp_Program]]-output[[#This Row],[ishp_Baseline]]","v":-7.0954493128336935},{"$f":"output[[#This Row],[ishp_Market]]-output[[#This Row],[ishp_Program]]","v":-22.492073444228005}]
["All","Wood Products","Base",2021,"11-20 HP","Traditional","Non ASD Control","variable","Fans","2014 and before",6390581.8687594002,4332868.6503608897,5834911.5330570098,6869236.4507294698,4657400.5122729205,6271946.4068829799,1600.6519304600099,1085.2555701592501,1461.47293020506,103.26786648129099,70.016488397371106,94.288576142262102,1060.5587230544099,986.887555219967,1060.5587230544099,68.423143422865294,63.670164852901003,68.423143422865294,{"$f":"output[[#This Row],[ishp_Program]]-output[[#This Row],[ishp_Baseline]]","v":-139.17900025494987},{"$f":"output[[#This Row],[ishp_Market]]-output[[#This Row],[ishp_Program]]","v":-376.21736004580998}]
["All","Wood Products","Base",2021,"201-500 HP","Traditional","Non ASD Control","constant","Fans",2017,6871462.1400047503,6839134.0528473202,6871462.1400047503,7386134.6542911101,7351385.19340559,7386134.6542911101,1656.16763269689,1648.3758803032599,1656.16763269689,4.7251572972807203,4.7029269052874696,4.7251572972807203,218.38562744145301,217.20189126883099,218.38562744145301,0.62306883720813899,0.61969155854160096,0.62306883720813899,{"$f":"output[[#This Row],[ishp_Program]]-output[[#This Row],[ishp_Baseline]]","v":0},{"$f":"output[[#This Row],[ishp_Market]]-output[[#This Row],[ishp_Program]]","v":-7.7917523936300768}]
["All","Wood Products","Base",2021,"201-500 HP","Traditional","Non ASD Control","constant","Pumps",2021,527636.21879645996,527636.21879645903,527636.21879645996,567156.17158431397,567156.17158431397,567156.17158431397,111.55189644531301,111.55189644531301,111.55189644531301,0.31826503978691301,0.31826503978691301,0.31826503978691301,0,0,0,0,0,0,{"$f":"output[[#This Row],[ishp_Program]]-output[[#This Row],[ishp_Baseline]]","v":0},{"$f":"output[[#This Row],[ishp_Market]]-output[[#This Row],[ishp_Program]]","v":0}]
["All","Wood Products","Base",2021,"21-50 HP","Traditional","ASD Control","constant","Fans",2021,14262.3484045153,23841.4070673856,35260.196301096803,15330.5983000135,25627.128456732698,37901.185004048901,3.5189734722013499,5.8824309034213904,8.6998081864897703,9.9126013301446603E-2,0.16570227896961601,0.24506501933774,0,6.8756691645957796E-2,0,0,1.9368082153790899E-3,0,{"$f":"output[[#This Row],[ishp_Program]]-output[[#This Row],[ishp_Baseline]]","v":5.1808347142884204},{"$f":"output[[#This Row],[ishp_Market]]-output[[#This Row],[ishp_Program]]","v":-2.8173772830683799}]
["All","Wood Products","Base",2021,"21-50 HP","Traditional","ASD Control","constant","Fans","2014 and before",232152.09031216399,353444.20301610098,575741.07181195496,249540.28187654601,379917.17382200703,618864.07809067005,56.850255656294998,86.552713243641506,140.98958609559301,1.60141565229,2.4381045984124299,3.9715376364955901,49.001629560067599,53.317564245492598,49.001629560067599,1.3803275932413399,1.50190321818289,1.3803275932413399,{"$f":"output[[#This Row],[ishp_Program]]-output[[#This Row],[ishp_Baseline]]","v":84.139330439298021},{"$f":"output[[#This Row],[ishp_Market]]-output[[#This Row],[ishp_Program]]","v":-54.436872851951506}]
["All","Wood Products","Base",2021,"21-50 HP","Traditional","ASD Control","constant","Pumps",2015,107033.283680979,178145.26573531999,107033.283680979,115050.076628685,191488.34613889499,115050.076628685,31.207812825719099,51.942012032690798,31.207812825719099,0.87909331903434096,1.4631552685264999,0.87909331903434096,10.3474919601313,14.900652833263401,10.3474919601313,0.29147864676426199,0.41973669952854598,0.29147864676426199,{"$f":"output[[#This Row],[ishp_Program]]-output[[#This Row],[ishp_Baseline]]","v":0},{"$f":"output[[#This Row],[ishp_Market]]-output[[#This Row],[ishp_Program]]","v":20.734199206971699}]
["All","Wood Products","Base",2021,"21-50 HP","Traditional","ASD Control","constant","Pumps",2016,98072.027146089196,193104.29130963801,98072.027146089196,105417.621979331,207567.80272872999,105417.621979331,28.8107632316535,56.728530834289899,28.8107632316535,0.81157079525784503,1.5979867840644999,0.81157079525784503,5.4449599921832501,11.399290996576701,5.4449599921832501,0.15337915470938701,0.32110678863596298,0.15337915470938701,{"$f":"output[[#This Row],[ishp_Program]]-output[[#This Row],[ishp_Baseline]]","v":0},{"$f":"output[[#This Row],[ishp_Market]]-output[[#This Row],[ishp_Program]]","v":27.917767602636399}]
["All","Wood Products","Base",2021,"21-50 HP","Traditional","ASD Control","constant","Pumps",2017,109446.249388018,204741.560806297,109446.249388018,117643.773467181,220076.70371068799,117643.773467181,32.152185179303203,60.147228559704899,32.152185179303203,0.90569535716347105,1.6942881284423901,0.90569535716347105,4.5277746777355601,9.9917696222609198,4.5277746777355601,0.12754294866860699,0.28145829921861698,0.12754294866860699,{"$f":"output[[#This Row],[ishp_Program]]-output[[#This Row],[ishp_Baseline]]","v":0},{"$f":"output[[#This Row],[ishp_Market]]-output[[#This Row],[ishp_Program]]","v":27.995043380401697}]
["All","Wood Products","Base",2021,"21-50 HP","Traditional","ASD Control","constant","Pumps",2018,119859.751995029,217874.394272712,119859.751995029,128837.24741945699,234193.18640373799,128837.24741945699,35.211375110963097,64.005280305673395,35.211375110963097,0.99186972143558205,1.80296564241333,0.99186972143558205,4.8302832234958304,10.439077563470599,4.8302832234958304,0.13606431615481199,0.294058522914666,0.13606431615481199,{"$f":"output[[#This Row],[ishp_Program]]-output[[#This Row],[ishp_Baseline]]","v":0},{"$f":"output[[#This Row],[ishp_Market]]-output[[#This Row],[ishp_Program]]","v":28.793905194710298}]
["All","Wood Products","Base",2021,"21-50 HP","Traditional","ASD Control","constant","Pumps",2019,130540.120827352,241968.15934558399,130540.120827352,140317.57587732101,260091.574480568,140317.57587732101,38.3489627249769,71.083341003241799,38.3489627249769,1.0802524711261099,2.00234763389413,1.0802524711261099,4.2239720668172396,9.9385669013788291,4.2239720668172396,0.118985128642739,0.27995963102475502,0.118985128642739,{"$f":"output[[#This Row],[ishp_Program]]-output[[#This Row],[ishp_Baseline]]","v":0},{"$f":"output[[#This Row],[ishp_Market]]-output[[#This Row],[ishp_Program]]","v":32.734378278264899}]
["All","Wood Products","Base",2021,"21-50 HP","Traditional","ASD Control","constant","Pumps",2020,142256.67274629301,249653.47453399899,142256.67274629301,152911.69753499,268352.51977659599,152911.69753499,42.693421183468303,74.924857529918697,42.693421183468303,1.2026315826329099,2.1105593670399601,1.2026315826329099,4.7024899522383103,10.4755855139703,4.7024899522383103,0.132464505696853,0.295086915886487,0.132464505696853,{"$f":"output[[#This Row],[ishp_Program]]-output[[#This Row],[ishp_Baseline]]","v":0},{"$f":"output[[#This Row],[ishp_Market]]-output[[#This Row],[ishp_Program]]","v":32.231436346450394}]
["All","Wood Products","Base",2021,"21-50 HP","Traditional","ASD Control","constant","Pumps",2021,152704.321107125,288127.88473590999,152704.321107125,164141.874758049,309708.66330263001,164141.874758049,45.828921566225503,86.471621332452003,45.828921566225503,1.29095553707677,2.4358203192240002,1.29095553707677,7.4373216158889399E-3,2.8648945771842,7.4373216158889399E-3,2.0950201734898401E-4,8.0701255695329599E-2,2.0950201734898401E-4,{"$f":"output[[#This Row],[ishp_Program]]-output[[#This Row],[ishp_Baseline]]","v":0},{"$f":"output[[#This Row],[ishp_Market]]-output[[#This Row],[ishp_Program]]","v":40.642699766226499}]
["All","Wood Products","Base",2021,"21-50 HP","Traditional","ASD Control","constant","Pumps","2014 and before",1050903.0033593599,1727844.56988911,1050903.0033593599,1129615.63831097,1857260.12817381,1129615.63831097,306.41295024243902,503.78955101250301,306.41295024243902,8.6313507110546404,14.1912549580986,8.6313507110546404,328.45334160099202,372.351651617926,328.45334160099202,9.2522068056617393,10.4887789188148,9.2522068056617393,{"$f":"output[[#This Row],[ishp_Program]]-output[[#This Row],[ishp_Baseline]]","v":0},{"$f":"output[[#This Row],[ishp_Market]]-output[[#This Row],[ishp_Program]]","v":197.37660077006399}]
["All","Wood Products","Base",2021,"21-50 HP","Traditional","ASD Control","variable","Fans",2015,86448.322023236193,121930.65904276801,331865.833296447,92923.301342776598,131063.265405071,356722.58421035099,45.237768697352301,63.805413706120099,173.66294051587801,1.2743033435873801,1.7973355973554901,4.8919138173486898,11.9149718221691,14.6513702586048,11.9149718221691,0.33563300907518701,0.41271465517196798,0.33563300907518701,{"$f":"output[[#This Row],[ishp_Program]]-output[[#This Row],[ishp_Baseline]]","v":128.42517181852571},{"$f":"output[[#This Row],[ishp_Market]]-output[[#This Row],[ishp_Program]]","v":-109.8575268097579}]
["All","Wood Products","Base",2021,"21-50 HP","Traditional","ASD Control","variable","Fans",2016,79483.248914413096,118048.989552439,328015.546716101,85436.544258102702,126890.85886991701,352583.91116513702,41.906881740058203,62.240347649030099,172.94346812538899,1.18047554197347,1.7532492295501401,4.8716469894475898,7.0400311499525099,10.0779824904468,7.0400311499525099,0.19831073661838,0.28388683071681298,0.19831073661838,{"$f":"output[[#This Row],[ishp_Program]]-output[[#This Row],[ishp_Baseline]]","v":131.03658638533079},{"$f":"output[[#This Row],[ishp_Market]]-output[[#This Row],[ishp_Program]]","v":-110.70312047635889}]
["All","Wood Products","Base",2021,"21-50 HP","Traditional","ASD Control","variable","Fans",2017,85096.420811301607,125655.440068432,350287.987912621,91470.142730068095,135067.03252955701,376524.55820727599,44.866379924673403,66.250785402757899,184.68642745371301,1.26384168801897,1.86621930711994,5.2024345761609299,5.9008655561378003,8.90249268188016,5.9008655561378003,0.16622156496162799,0.25077444174310298,0.16622156496162799,{"$f":"output[[#This Row],[ishp_Program]]-output[[#This Row],[ishp_Baseline]]","v":139.82004752903961},{"$f":"output[[#This Row],[ishp_Market]]-output[[#This Row],[ishp_Program]]","v":-118.43564205095511}]
["All","Wood Products","Base",2021,"21-50 HP","Traditional","ASD Control","variable","Fans",2018,88159.544030266406,134022.50116077499,364288.87964567001,94762.693878133301,144060.786497717,391574.11673113098,46.481386158636099,70.662248755070294,192.068281141451,1.30933482137003,1.99048588042451,5.4103741166605896,6.0009415071635601,9.3721408372820605,6.0009415071635601,0.16904060583559299,0.26400396724738201,0.16904060583559299,{"$f":"output[[#This Row],[ishp_Program]]-output[[#This Row],[ishp_Baseline]]","v":145.5868949828149},{"$f":"output[[#This Row],[ishp_Market]]-output[[#This Row],[ishp_Program]]","v":-121.4060323863807}]
["All","Wood Products","Base",2021,"21-50 HP","Traditional","ASD Control","variable","Fans",2019,92657.797789041593,140572.36319634199,382623.23446729302,99597.866843440803,151101.23319974801,411281.71472889301,48.853053030340703,74.115609022637599,201.734917190983,1.37614233888283,2.0877636344404902,5.6826737236896703,5.19599384695303,8.4110798361668504,5.19599384695303,0.14636602385783201,0.23693182637089699,0.14636602385783201,{"$f":"output[[#This Row],[ishp_Program]]-output[[#This Row],[ishp_Baseline]]","v":152.88186416064229},{"$f":"output[[#This Row],[ishp_Market]]-output[[#This Row],[ishp_Program]]","v":-127.6193081683454}]
["All","Wood Products","Base",2021,"21-50 HP","Traditional","ASD Control","variable","Fans",2020,98075.287516584402,148299.93986357099,405198.67830032698,105421.126551576,159407.60535935301,435548.059305022,51.7093794191196,78.189909531912605,213.63763213861901,1.4566022371582901,2.20253266287077,6.0179614686935103,5.4997909052287897,8.8734422048790798,5.4997909052287897,0.154923687471233,0.24995611844729801,0.154923687471233,{"$f":"output[[#This Row],[ishp_Program]]-output[[#This Row],[ishp_Baseline]]","v":161.92825271949943},{"$f":"output[[#This Row],[ishp_Market]]-output[[#This Row],[ishp_Program]]","v":-135.44772260670641}]
["All","Wood Products","Base",2021,"21-50 HP","Traditional","ASD Control","variable","Fans",2021,102748.550284069,155237.66828429699,424506.29334468499,110444.416700345,166864.96963879099,456301.81471620197,54.173318334702699,81.847769124253205,223.81741154368299,1.5260089671747199,2.3055709612465698,6.3047158181319203,4.0114275871175602E-2,0.95667623062303897,4.0114275871175602E-2,1.12997960200494E-3,2.6948626214733502E-2,1.12997960200494E-3,{"$f":"output[[#This Row],[ishp_Program]]-output[[#This Row],[ishp_Baseline]]","v":169.64409320898028},{"$f":"output[[#This Row],[ishp_Market]]-output[[#This Row],[ishp_Program]]","v":-141.96964241942979}]
["All","Wood Products","Base",2021,"21-50 HP","Traditional","ASD Control","variable","Fans","2014 and before",1639315.4261279299,2301368.1109400098,6799945.9981488902,1762100.1515449099,2473740.5824494199,7309261.9534102501,857.841660006354,1204.2889422675401,3558.36153923338,24.164553802995901,33.923632176550498,100.235536316433,690.92326364084795,741.85719480264902,690.92326364084795,19.4626271448126,20.8973857690887,19.4626271448126,{"$f":"output[[#This Row],[ishp_Program]]-output[[#This Row],[ishp_Baseline]]","v":2700.5198792270257},{"$f":"output[[#This Row],[ishp_Market]]-output[[#This Row],[ishp_Program]]","v":-2354.0725969658397}]
["All","Wood Products","Base",2021,"21-50 HP","Traditional","ASD Control","variable","Pumps",2015,296544.37220227701,403685.48532781098,298857.18596246297,318755.54568022699,433921.52817886497,321241.58919105103,129.213760957396,175.89853220191301,130.221527053675,3.6398242523210298,4.9548882310398197,3.6682120296809901,39.781998143295802,50.460173944970201,39.781998143295802,1.1206196660083301,1.4214133505625399,1.1206196660083301,{"$f":"output[[#This Row],[ishp_Program]]-output[[#This Row],[ishp_Baseline]]","v":1.0077660962789992},{"$f":"output[[#This Row],[ishp_Market]]-output[[#This Row],[ishp_Program]]","v":45.67700514823801}]
["All","Wood Products","Base",2021,"21-50 HP","Traditional","ASD Control","variable","Pumps",2016,288134.11732371501,437583.33534405602,290741.02603976702,309715.36271126103,470358.32716132601,312517.52889014501,126.496612104525,192.10779323377801,127.641096914964,3.5632848480148001,5.4114871333458803,3.59552385675957,24.188309326165601,38.603020483271997,24.188309326165601,0.68136082608917403,1.0874090276977999,0.68136082608917403,{"$f":"output[[#This Row],[ishp_Program]]-output[[#This Row],[ishp_Baseline]]","v":1.1444848104389962},{"$f":"output[[#This Row],[ishp_Market]]-output[[#This Row],[ishp_Program]]","v":64.466696318814016}]
["All","Wood Products","Base",2021,"21-50 HP","Traditional","ASD Control","variable","Pumps",2017,316910.94710902998,463953.93107815098,319771.843810772,340647.57704749698,498704.08051590499,343722.75491219899,139.130213112147,203.685009602756,140.38620370330901,3.91916093273653,5.7376059043029999,3.9545409493889898,20.769006057483001,33.836533123692099,20.769006057483001,0.58504242415445096,0.95314177813217404,0.58504242415445096,{"$f":"output[[#This Row],[ishp_Program]]-output[[#This Row],[ishp_Baseline]]","v":1.2559905911620035},{"$f":"output[[#This Row],[ishp_Market]]-output[[#This Row],[ishp_Program]]","v":63.29880589944699}]
["All","Wood Products","Base",2021,"21-50 HP","Traditional","ASD Control","variable","Pumps",2018,343673.61384786299,493713.5445584,346783.40734420001,369414.76752506802,530692.68904582399,372757.48455428099,150.87955645541101,216.75007221234,152.24481769307801,4.2501283508566701,6.10563583696735,4.2885864138895204,22.033942779814801,35.351314843189797,22.033942779814801,0.62067444450182596,0.99581168572365697,0.62067444450182596,{"$f":"output[[#This Row],[ishp_Program]]-output[[#This Row],[ishp_Baseline]]","v":1.3652612376669992},{"$f":"output[[#This Row],[ishp_Market]]-output[[#This Row],[ishp_Program]]","v":64.505254519261996}]
["All","Wood Products","Base",2021,"21-50 HP","Traditional","ASD Control","variable","Pumps",2019,377803.34121791797,548311.14055215195,381220.02728888002,406100.81147513998,589379.64497950801,409773.40733281698,165.86318603896601,240.719503484174,167.363179224833,4.6722024236328501,6.7808310840612496,4.71445575281221,20.0585899896863,33.656365276008103,20.0585899896863,0.56503070393482802,0.94806662749318704,0.56503070393482802,{"$f":"output[[#This Row],[ishp_Program]]-output[[#This Row],[ishp_Baseline]]","v":1.4999931858669981},{"$f":"output[[#This Row],[ishp_Market]]-output[[#This Row],[ishp_Program]]","v":73.356324259340994}]
["All","Wood Products","Base",2021,"21-50 HP","Traditional","ASD Control","variable","Pumps",2020,402511.73014135502,565726.42340531503,406156.223679405,432659.85872894299,608099.33251837303,436577.32483299298,180.52670283059999,253.72857055779099,182.161259919608,5.0852592346647896,7.1472836776842499,5.1313030963269997,21.831894358470102,35.474946844633102,21.831894358470102,0.614982939675216,0.99929427731360998,0.614982939675216,{"$f":"output[[#This Row],[ishp_Program]]-output[[#This Row],[ishp_Baseline]]","v":1.6345570890080126},{"$f":"output[[#This Row],[ishp_Market]]-output[[#This Row],[ishp_Program]]","v":71.567310638182988}]
["All","Wood Products","Base",2021,"21-50 HP","Traditional","ASD Control","variable","Pumps",2021,446486.25911888201,652911.23233611102,450528.91468475899,479928.07992688601,701814.28363808605,484273.53039464803,200.24930003802399,292.83099892097198,202.06243298630201,5.6408253531837902,8.2487605329851394,5.6918995207409102,2.29928665152234,9.7017949694123509,2.29928665152234,6.4768638071051904E-2,0.27328999913837598,6.4768638071051904E-2,{"$f":"output[[#This Row],[ishp_Program]]-output[[#This Row],[ishp_Baseline]]","v":1.8131329482780245},{"$f":"output[[#This Row],[ishp_Market]]-output[[#This Row],[ishp_Program]]","v":90.768565934669965}]
["All","Wood Products","Base",2021,"21-50 HP","Traditional","ASD Control","variable","Pumps","2014 and before",2898316.0519551001,3915376.4254562501,2924947.3858793299,3115399.9242465398,4208638.1197229195,3144025.9450816899,1262.8879608642801,1706.0533293548201,1274.49207525062,35.5743087567404,48.057840263516098,35.901185218327498,1157.6156030567499,1260.94670613318,1157.6156030567499,32.608890226950798,35.5196255248783,32.608890226950798,{"$f":"output[[#This Row],[ishp_Program]]-output[[#This Row],[ishp_Baseline]]","v":11.604114386339916},{"$f":"output[[#This Row],[ishp_Market]]-output[[#This Row],[ishp_Program]]","v":431.56125410420009}]
["All","Wood Products","Base",2021,"21-50 HP","Traditional","Non ASD Control","constant","Fans",2015,1393919.49384188,1387603.3435777801,1376777.0408454,1498324.06393064,1491534.8340117501,1479897.6412047199,325.04153927609002,323.56870586410798,321.044171183054,9.1560996979180302,9.1146114327917793,9.0434977798043494,88.860793067292093,88.6362917384849,88.860793067292093,2.5031209314730098,2.4967969503798502,2.5031209314730098,{"$f":"output[[#This Row],[ishp_Program]]-output[[#This Row],[ishp_Baseline]]","v":-3.997368093036016},{"$f":"output[[#This Row],[ishp_Market]]-output[[#This Row],[ishp_Program]]","v":2.5245346810539786}]
["All","Wood Products","Base",2021,"21-50 HP","Traditional","Non ASD Control","constant","Fans",2016,1357045.8097220799,1350170.4207577,1339862.63418091,1458688.54087027,1451298.1852724501,1440218.34548106,318.83119771523002,317.21585910059503,314.79409565198802,8.9811604990205804,8.9356580028336801,8.8674393141405101,54.430780624728101,54.176684008046998,54.430780624728101,1.5332614260486801,1.5261037748745601,1.5332614260486801,{"$f":"output[[#This Row],[ishp_Program]]-output[[#This Row],[ishp_Baseline]]","v":-4.0371020632420027},{"$f":"output[[#This Row],[ishp_Market]]-output[[#This Row],[ishp_Program]]","v":2.4217634486070097}]
["All","Wood Products","Base",2021,"21-50 HP","Traditional","Non ASD Control","constant","Fans",2017,1455002.7589503899,1447599.2630842701,1436656.6812440699,1563982.4655957799,1556024.44788928,1544262.2666692501,341.84569820094998,340.10628348306398,337.535378028575,9.6294562873507203,9.5804586896637893,9.5080388177063409,45.0760911455369,44.814856179128398,45.0760911455369,1.26974904635315,1.26239031490502,1.26974904635315,{"$f":"output[[#This Row],[ishp_Program]]-output[[#This Row],[ishp_Baseline]]","v":-4.3103201723749862},{"$f":"output[[#This Row],[ishp_Market]]-output[[#This Row],[ishp_Program]]","v":2.5709054544889796}]
["All","Wood Products","Base",2021,"21-50 HP","Traditional","Non ASD Control","constant","Fans",2018,1498346.4078480699,1490166.0299674401,1479379.1239317399,1610572.55379589,1601779.4656120001,1590184.62031423,352.02907402539898,350.10713472256998,347.57280452799199,9.9163119443774494,9.8621728090864806,9.7907832261406398,45.440944732682702,45.149457470691999,45.440944732682702,1.28002661218824,1.2718157033997699,1.28002661218824,{"$f":"output[[#This Row],[ishp_Program]]-output[[#This Row],[ishp_Baseline]]","v":-4.4562694974069927},{"$f":"output[[#This Row],[ishp_Market]]-output[[#This Row],[ishp_Program]]","v":2.5343301945779899}]
["All","Wood Products","Base",2021,"21-50 HP","Traditional","Non ASD Control","constant","Fans",2019,1573917.6040408199,1565234.3095148599,1554017.2691361799,1691804.03258348,1682470.35929753,1670413.16259448,369.78415261028698,367.744055530298,365.10866740033703,10.4164550031066,10.3589874797267,10.2847511943757,38.939980633028398,38.632610893124003,38.939980633028398,1.0969008629022099,1.0882425603696899,1.0969008629022099,{"$f":"output[[#This Row],[ishp_Program]]-output[[#This Row],[ishp_Baseline]]","v":-4.6754852099499544},{"$f":"output[[#This Row],[ishp_Market]]-output[[#This Row],[ishp_Program]]","v":2.6353881299609725}]
["All","Wood Products","Base",2021,"21-50 HP","Traditional","Non ASD Control","constant","Fans",2020,1666405.71336007,1657033.7462851601,1645336.31847116,1791219.50129074,1781145.57388192,1768572.0087246499,391.51377622167502,389.31187893417501,386.563626153462,11.0285570766669,10.966531800962599,10.889116229674899,41.228244302711502,40.898437939438999,41.228244302711502,1.16135899444258,1.1520686743503901,1.16135899444258,{"$f":"output[[#This Row],[ishp_Program]]-output[[#This Row],[ishp_Baseline]]","v":-4.9501500682130199},{"$f":"output[[#This Row],[ishp_Market]]-output[[#This Row],[ishp_Program]]","v":2.7482527807130168}]
["All","Wood Products","Base",2021,"21-50 HP","Traditional","Non ASD Control","constant","Fans",2021,1744062.7958537899,1734125.8205937899,1722011.53458993,1874693.0992632399,1864011.8445562699,1850990.1985307201,409.75892347106401,407.42428030639297,404.578088756775,11.5425048865088,11.476740290320899,11.396565880472499,0,0,0,0,0,0,{"$f":"output[[#This Row],[ishp_Program]]-output[[#This Row],[ishp_Baseline]]","v":-5.1808347142890057},{"$f":"output[[#This Row],[ishp_Market]]-output[[#This Row],[ishp_Program]]","v":2.8461915496179699}]
["All","Wood Products","Base",2021,"21-50 HP","Traditional","Non ASD Control","constant","Fans","2014 and before",28499929.2632442,28369837.199784499,28139103.2187966,30634573.965061199,30494738.0060484,30246722.049884502,6645.7646355546003,6615.4290783424804,6561.6253051152999,187.20463762125601,186.350114882887,184.83451563705,6019.5451870398301,6015.8038432352496,6019.5451870398301,169.56465315605101,169.45926318972499,169.56465315605101,{"$f":"output[[#This Row],[ishp_Program]]-output[[#This Row],[ishp_Baseline]]","v":-84.139330439300466},{"$f":"output[[#This Row],[ishp_Market]]-output[[#This Row],[ishp_Program]]","v":53.8037732271805}]
["All","Wood Products","Base",2021,"21-50 HP","Traditional","Non ASD Control","constant","Pumps",2015,1501646.87868726,1427329.48900933,1501646.87868726,1614120.2299009401,1534236.4677361301,1614120.2299009401,367.67070334259898,349.47446338679902,367.67070334259898,10.356921220918199,9.8443510813182797,10.356921220918199,118.54916759920501,115.009183956383,118.54916759920501,3.3394131718086002,3.23969532271501,3.3394131718086002,{"$f":"output[[#This Row],[ishp_Program]]-output[[#This Row],[ishp_Baseline]]","v":0},{"$f":"output[[#This Row],[ishp_Market]]-output[[#This Row],[ishp_Program]]","v":-18.196239955799967}]
["All","Wood Products","Base",2021,"21-50 HP","Traditional","Non ASD Control","constant","Pumps",2016,1572652.6495266999,1474787.71354759,1572652.6495266999,1690444.33297625,1585249.3132923001,1690444.33297625,387.96196213297401,363.81939473393697,387.96196213297401,10.9285059755767,10.248433654476999,10.9285059755767,70.614370758067096,65.913793336916598,70.614370758067096,1.9891372044525899,1.8567265728708899,1.9891372044525899,{"$f":"output[[#This Row],[ishp_Program]]-output[[#This Row],[ishp_Baseline]]","v":0},{"$f":"output[[#This Row],[ishp_Market]]-output[[#This Row],[ishp_Program]]","v":-24.142567399037034}]
["All","Wood Products","Base",2021,"21-50 HP","Traditional","Non ASD Control","constant","Pumps",2017,1758361.44788211,1651892.5281479999,1758361.44788211,1890062.72032848,1775619.2785062899,1890062.72032848,433.77497101132099,407.50986344376503,433.77497101132099,12.219013267924501,11.4791510829229,12.219013267924501,58.333986689775898,53.607228651415497,58.333986689775898,1.64321089266974,1.51006277891311,1.64321089266974,{"$f":"output[[#This Row],[ishp_Program]]-output[[#This Row],[ishp_Baseline]]","v":0},{"$f":"output[[#This Row],[ishp_Market]]-output[[#This Row],[ishp_Program]]","v":-26.265107567555958}]
["All","Wood Products","Base",2021,"21-50 HP","Traditional","Non ASD Control","constant","Pumps",2018,1929731.44046085,1817643.66557737,1929731.44046085,2074268.32535137,1953785.1761291199,2074268.32535137,476.05070086913298,448.39946263289499,476.05070086913298,13.409878897722001,12.630970778391401,13.409878897722001,62.229335710544802,57.105610784428698,62.229335710544802,1.7529390340998501,1.60860875449095,1.7529390340998501,{"$f":"output[[#This Row],[ishp_Program]]-output[[#This Row],[ishp_Baseline]]","v":0},{"$f":"output[[#This Row],[ishp_Market]]-output[[#This Row],[ishp_Program]]","v":-27.651238236237987}]
["All","Wood Products","Base",2021,"21-50 HP","Traditional","Non ASD Control","constant","Pumps",2019,2102898.6653296798,1975342.49992035,2102898.6653296798,2260405.7753628702,2123295.6531643802,2260405.7753628702,518.76979485180698,487.30261725905899,518.76979485180698,14.6132336577973,13.7268342889876,14.6132336577973,53.928042938808098,48.531784413119802,53.928042938808098,1.51909980109318,1.36709251867943,1.51909980109318,{"$f":"output[[#This Row],[ishp_Program]]-output[[#This Row],[ishp_Baseline]]","v":0},{"$f":"output[[#This Row],[ishp_Market]]-output[[#This Row],[ishp_Program]]","v":-31.467177592747987}]
["All","Wood Products","Base",2021,"21-50 HP","Traditional","Non ASD Control","constant","Pumps",2020,2294998.4908069898,2167689.70101463,2294998.4908069898,2466893.8777684402,2330049.6596206301,2466893.8777684402,578.38555811950698,546.30119478222196,578.38555811950698,16.292550932943801,15.388766050203399,16.292550932943801,60.125621080362102,54.408502859075703,60.125621080362102,1.69367946705245,1.5326338833542399,1.69367946705245,{"$f":"output[[#This Row],[ishp_Program]]-output[[#This Row],[ishp_Baseline]]","v":0},{"$f":"output[[#This Row],[ishp_Market]]-output[[#This Row],[ishp_Program]]","v":-32.084363337285026}]
["All","Wood Products","Base",2021,"21-50 HP","Traditional","Non ASD Control","constant","Pumps",2021,2463548.3152736002,2304993.0189513499,2463548.3152736002,2648068.0840876,2477636.9960708101,2648068.0840876,620.86348770663596,580.90437926996697,620.86348770663596,17.489112329764399,16.363503641407501,17.489112329764399,0,0,0,0,0,0,{"$f":"output[[#This Row],[ishp_Program]]-output[[#This Row],[ishp_Baseline]]","v":0},{"$f":"output[[#This Row],[ishp_Market]]-output[[#This Row],[ishp_Program]]","v":-39.959108436668998}]
["All","Wood Products","Base",2021,"21-50 HP","Traditional","Non ASD Control","constant","Pumps","2014 and before",17203145.877076201,16350932.2596616,17203145.877076201,18491661.5032693,17575617.085910201,18491661.5032693,4212.1039467410201,4003.4437187206299,4212.1039467410201,118.650815401155,112.773062499172,118.650815401155,4941.404813444,4910.1864951488797,4941.404813444,139.19450178715499,138.31511253940499,139.19450178715499,{"$f":"output[[#This Row],[ishp_Program]]-output[[#This Row],[ishp_Baseline]]","v":0},{"$f":"output[[#This Row],[ishp_Market]]-output[[#This Row],[ishp_Program]]","v":-208.66022802039015}]
["All","Wood Products","Base",2021,"21-50 HP","Traditional","Non ASD Control","variable","Fans",2015,825552.36822098296,756922.97585889103,321107.83230047202,887386.24060073495,813616.50675072195,345158.80893977702,210.17514748277,192.70297585974001,81.749975664243905,5.92042668965549,5.4282528411194502,2.3028162158941901,55.177963960045197,52.787790900741797,55.177963960045197,1.55430884394493,1.4869800253729999,1.55430884394493,{"$f":"output[[#This Row],[ishp_Program]]-output[[#This Row],[ishp_Baseline]]","v":-128.42517181852611},{"$f":"output[[#This Row],[ishp_Market]]-output[[#This Row],[ishp_Program]]","v":110.9530001954961}]
["All","Wood Products","Base",2021,"21-50 HP","Traditional","Non ASD Control","variable","Fans",2016,811922.86679038894,736503.71161654801,301076.02878190699,872735.88951298897,791667.83961662801,323626.62333767198,208.26516473541901,188.91950590630199,77.228578350088497,5.8666243587442199,5.3216762227127301,2.17545291127009,34.982280912115399,32.265197595925798,34.982280912115399,0.98541636372156205,0.90887880551903899,0.98541636372156205,{"$f":"output[[#This Row],[ishp_Program]]-output[[#This Row],[ishp_Baseline]]","v":-131.03658638533051},{"$f":"output[[#This Row],[ishp_Market]]-output[[#This Row],[ishp_Program]]","v":111.6909275562135}]
["All","Wood Products","Base",2021,"21-50 HP","Traditional","Non ASD Control","variable","Fans",2017,869980.78633415699,789650.11661018897,324891.57773431099,935142.34723058494,848794.91034429194,349225.95690661098,223.15751802727499,202.552013677454,83.337470498235504,6.2861272683739502,5.7056905261254602,2.3475343802319801,29.401743491682101,26.689713782368099,29.401743491682101,0.82821812652625704,0.75182292344698898,0.82821812652625704,{"$f":"output[[#This Row],[ishp_Program]]-output[[#This Row],[ishp_Baseline]]","v":-139.82004752903947},{"$f":"output[[#This Row],[ishp_Market]]-output[[#This Row],[ishp_Program]]","v":119.2145431792185}]
["All","Wood Products","Base",2021,"21-50 HP","Traditional","Non ASD Control","variable","Fans",2018,902293.23937035096,812869.83859415597,334721.94490194297,969875.00299919001,873753.78950485797,359792.61857509898,231.44593879954701,208.50807110839901,85.859043816732907,6.5196039098464196,5.8734667917858996,2.4185646145558501,29.896817082851101,26.8889872703237,29.896817082851101,0.84216386148876399,0.75743626113587903,0.84216386148876399,{"$f":"output[[#This Row],[ishp_Program]]-output[[#This Row],[ishp_Baseline]]","v":-145.5868949828141},{"$f":"output[[#This Row],[ishp_Market]]-output[[#This Row],[ishp_Program]]","v":122.6490272916661}]
["All","Wood Products","Base",2021,"21-50 HP","Traditional","Non ASD Control","variable","Fans",2019,948587.86721400905,853818.79263828404,352577.096102765,1019637.09846833,917769.82020689105,378985.12060086202,243.32090708605301,219.011828310677,90.439042925410504,6.8541100587620596,6.1693472763571,2.5475786739552202,25.908284279418901,23.007846399901801,25.908284279418901,0.72981082477236503,0.64810834929300998,0.72981082477236503,{"$f":"output[[#This Row],[ishp_Program]]-output[[#This Row],[ishp_Baseline]]","v":-152.88186416064252},{"$f":"output[[#This Row],[ishp_Market]]-output[[#This Row],[ishp_Program]]","v":128.57278538526651}]
["All","Wood Products","Base",2021,"21-50 HP","Traditional","Non ASD Control","variable","Fans",2020,1004735.59659394,903894.41632709897,373457.430946804,1079990.29277883,971596.10810999898,401429.39252471999,257.723280251201,231.856654393734,95.795027531700995,7.2598107113014398,6.5311733632037896,2.69845147976622,27.441828369305,24.357271133181602,27.441828369305,0.77300924983957897,0.68612031361075099,0.77300924983957897,{"$f":"output[[#This Row],[ishp_Program]]-output[[#This Row],[ishp_Baseline]]","v":-161.92825271949999},{"$f":"output[[#This Row],[ishp_Market]]-output[[#This Row],[ishp_Program]]","v":136.06162686203299}]
["All","Wood Products","Base",2021,"21-50 HP","Traditional","Non ASD Control","variable","Fans",2021,1052610.99490909,945947.32904952695,391252.58354311,1131451.5584277799,1016798.78399533,420557.40205048898,270.00372969376099,242.64358644599,100.35963648478,7.6057388646129898,6.8350306041123998,2.8270320136557898,5.5384257785313099E-2,0,5.5384257785313099E-2,1.5601199376144501E-3,0,1.5601199376144501E-3,{"$f":"output[[#This Row],[ishp_Program]]-output[[#This Row],[ishp_Baseline]]","v":-169.64409320898099},{"$f":"output[[#This Row],[ishp_Market]]-output[[#This Row],[ishp_Program]]","v":142.28394996121}]
["All","Wood Products","Base",2021,"21-50 HP","Traditional","Non ASD Control","variable","Fans","2014 and before",16859781.864664901,15475446.7098107,6252340.3644443499,18122579.526328299,16634557.6683755,6720640.65774123,4292.2863240878796,3939.85217631352,1591.76644486084,120.909473917968,110.981751445451,44.838491404530899,3630.2674875228399,3582.7423411791901,3630.2674875228399,102.26105598655801,100.922319469836,102.26105598655801,{"$f":"output[[#This Row],[ishp_Program]]-output[[#This Row],[ishp_Baseline]]","v":-2700.5198792270394},{"$f":"output[[#This Row],[ishp_Market]]-output[[#This Row],[ishp_Program]]","v":2348.0857314526802}]
["All","Wood Products","Base",2021,"21-50 HP","Traditional","Non ASD Control","variable","Pumps",2015,623546.19344128994,484485.493276936,620176.10112153098,670249.80333004298,520773.45672337798,666627.29109553294,186.460385529907,144.87675942900299,185.452619433628,5.2524052261945702,4.0810354768733399,5.2240174488346103,55.637583023064401,47.677755091745396,55.637583023064401,1.56725585980463,1.3430353546970499,1.56725585980463,{"$f":"output[[#This Row],[ishp_Program]]-output[[#This Row],[ishp_Baseline]]","v":-1.0077660962789992},{"$f":"output[[#This Row],[ishp_Market]]-output[[#This Row],[ishp_Program]]","v":-40.575860004625014}]
["All","Wood Products","Base",2021,"21-50 HP","Traditional","Non ASD Control","variable","Pumps",2016,692511.00826307305,500594.47266993002,688712.37856209301,744380.08278197795,538088.99867290806,740296.93571639305,208.645851901399,150.823537764863,207.50136709096,5.8773479408844898,4.2485503595736196,5.8451089321397198,38.293086811918002,27.324962996670401,38.293086811918002,1.07867850174416,0.769717267511843,1.07867850174416,{"$f":"output[[#This Row],[ishp_Program]]-output[[#This Row],[ishp_Baseline]]","v":-1.1444848104389962},{"$f":"output[[#This Row],[ishp_Market]]-output[[#This Row],[ishp_Program]]","v":-56.677829326096997}]
["All","Wood Products","Base",2021,"21-50 HP","Traditional","Non ASD Control","variable","Pumps",2017,763043.63143320906,560710.03402006906,758874.90580205806,820195.59942755604,602707.21556817205,815714.63624663197,229.896545496991,168.93568668490701,228.64055490582899,6.4759590280842696,4.7587517376030304,6.4405790114318098,32.684039060150603,22.223201929323199,32.684039060150603,0.92067715662396099,0.62600568814994995,0.92067715662396099,{"$f":"output[[#This Row],[ishp_Program]]-output[[#This Row],[ishp_Baseline]]","v":-1.2559905911620035},{"$f":"output[[#This Row],[ishp_Market]]-output[[#This Row],[ishp_Program]]","v":-59.704868220921981}]
["All","Wood Products","Base",2021,"21-50 HP","Traditional","Non ASD Control","variable","Pumps",2018,829055.91902841197,616971.760690075,824524.51604281296,891152.20736363996,663182.94556576095,886281.40229442006,249.785312342455,185.886718149302,248.420051104789,7.0362059814776199,5.23624558167048,6.9977479184447597,34.673860634656201,23.673477470956499,34.673860634656201,0.97672846858186502,0.66685852030863502,0.97672846858186502,{"$f":"output[[#This Row],[ishp_Program]]-output[[#This Row],[ishp_Baseline]]","v":-1.3652612376660045},{"$f":"output[[#This Row],[ishp_Market]]-output[[#This Row],[ishp_Program]]","v":-62.533332955486998}]
["All","Wood Products","Base",2021,"21-50 HP","Traditional","Non ASD Control","variable","Pumps",2019,911855.02438127703,670500.25437998294,906876.43609847105,980152.96570743504,720720.72343304299,974801.48116224597,274.731760365502,202.01425696625401,273.23176717963503,7.7389228271972303,5.6905424497536403,7.6966694980178803,31.310202701330098,20.119145722237601,31.310202701330098,0.88197754088253799,0.56673649921796299,0.88197754088253799,{"$f":"output[[#This Row],[ishp_Program]]-output[[#This Row],[ishp_Baseline]]","v":-1.4999931858669697},{"$f":"output[[#This Row],[ishp_Market]]-output[[#This Row],[ishp_Program]]","v":-71.217510213381019}]
["All","Wood Products","Base",2021,"21-50 HP","Traditional","Non ASD Control","variable","Pumps",2020,972693.44430702704,735789.61420907197,967382.90876221703,1045548.1832856199,790900.25631333096,1039839.8886285,299.39032540283802,226.47247528538799,297.75576831382898,8.4335302930376894,6.3795063460672798,8.3874864313754802,34.120454612108198,22.5553750142887,34.120454612108198,0.96113956653826005,0.63536267645883804,0.96113956653826005,{"$f":"output[[#This Row],[ishp_Program]]-output[[#This Row],[ishp_Baseline]]","v":-1.6345570890090357},{"$f":"output[[#This Row],[ishp_Market]]-output[[#This Row],[ishp_Program]]","v":-71.283293028440994}]
["All","Wood Products","Base",2021,"21-50 HP","Traditional","Non ASD Control","variable","Pumps",2021,1078960.4990284001,782395.15709973604,1073069.78585965,1159774.64040563,840996.55436650605,1153442.7128205399,332.09880953917502,240.81743538898201,330.28567659089703,9.3548960433570496,6.7835897292671197,9.3038218757999296,1.56795218846421,0,1.56795218846421,4.4167667280682103E-2,0,4.4167667280682103E-2,{"$f":"output[[#This Row],[ishp_Program]]-output[[#This Row],[ishp_Baseline]]","v":-1.8131329482779961},{"$f":"output[[#This Row],[ishp_Market]]-output[[#This Row],[ishp_Program]]","v":-89.468241201915021}]
["All","Wood Products","Base",2021,"21-50 HP","Traditional","Non ASD Control","variable","Pumps","2014 and before",7106245.8632678604,5550077.6396473097,7067440.2942817397,7638503.6784266299,5965778.4548568903,7596791.5723234396,2124.99628298988,1659.65188673225,2113.3921686035401,59.8590502250672,46.750757372739699,59.532173763480102,2120.5842868518398,2035.54760687014,2120.5842868518398,59.734768643713799,57.339369207609799,59.734768643713799,{"$f":"output[[#This Row],[ishp_Program]]-output[[#This Row],[ishp_Baseline]]","v":-11.604114386339916},{"$f":"output[[#This Row],[ishp_Market]]-output[[#This Row],[ishp_Program]]","v":-453.74028187129011}]
["All","Wood Products","Base",2021,"501-1,000 HP","Traditional","ASD Control","constant","Fans",2015,22659.776788602001,34744.727890463299,22659.776788602001,24356.9940700683,37347.108009459,24356.9940700683,5.7162329272086199,8.7648240963375894,5.7162329272086199,7.6165661921500701E-3,1.1678646364207301E-2,7.6165661921500701E-3,1.5685774364119001,2.0126298949875201,1.5685774364119001,2.0900432197360399E-3,2.6817187141739102E-3,2.0900432197360399E-3,{"$f":"output[[#This Row],[ishp_Program]]-output[[#This Row],[ishp_Baseline]]","v":0},{"$f":"output[[#This Row],[ishp_Market]]-output[[#This Row],[ishp_Program]]","v":3.0485911691289695}]
["All","Wood Products","Base",2021,"501-1,000 HP","Traditional","ASD Control","constant","Fans",2016,20679.473106443798,33735.218021655397,20679.473106443798,22228.3656421165,36261.985851477402,22228.3656421165,5.2409936476416101,8.5498340525033605,5.2409936476416101,6.9833359728735701E-3,1.1392183947372901E-2,6.9833359728735701E-3,0.89467291816549999,1.3843926188079001,0.89467291816549999,1.1921024892278401E-3,1.8446270736947399E-3,1.1921024892278401E-3,{"$f":"output[[#This Row],[ishp_Program]]-output[[#This Row],[ishp_Baseline]]","v":0},{"$f":"output[[#This Row],[ishp_Market]]-output[[#This Row],[ishp_Program]]","v":3.3088404048617504}]
["All","Wood Products","Base",2021,"501-1,000 HP","Traditional","ASD Control","constant","Fans",2017,22153.9523342539,35908.936471095803,22153.9523342539,23813.283364089599,38598.515812780897,23813.283364089599,5.61468480634547,9.1007399932223301,5.61468480634547,7.48125890252561E-3,1.21262358337406E-2,7.48125890252561E-3,0.73857071904862104,1.2229178974530801,0.73857071904862104,9.841048888056239E-4,1.6294708826823101E-3,9.841048888056239E-4,{"$f":"output[[#This Row],[ishp_Program]]-output[[#This Row],[ishp_Baseline]]","v":0},{"$f":"output[[#This Row],[ishp_Market]]-output[[#This Row],[ishp_Program]]","v":3.4860551868768601}]
["All","Wood Products","Base",2021,"501-1,000 HP","Traditional","ASD Control","constant","Fans",2018,22785.529010990798,38300.016913383901,22785.529010990798,24492.165133914001,41168.688180196303,24492.165133914001,5.7747512323002503,9.7067340311036396,5.7747512323002503,7.6945386173221204E-3,1.2933689581750301E-2,7.6945386173221204E-3,0.74451924361284805,1.2874325401795801,0.74451924361284805,9.9203097083657397E-4,1.7154330981739999E-3,9.9203097083657397E-4,{"$f":"output[[#This Row],[ishp_Program]]-output[[#This Row],[ishp_Baseline]]","v":0},{"$f":"output[[#This Row],[ishp_Market]]-output[[#This Row],[ishp_Program]]","v":3.9319827988033893}]
["All","Wood Products","Base",2021,"501-1,000 HP","Traditional","ASD Control","constant","Fans",2019,23927.6440629237,40171.790866039701,23927.6440629237,25719.824603236601,43180.6580019061,25719.824603236601,6.06420820740039,10.1811153340118,6.06420820740039,8.0802241271157801E-3,1.3565776594286301E-2,8.0802241271157801E-3,0.63723004767101799,1.1554134820566599,0.63723004767101799,8.4907401421854497E-4,1.53952495943593E-3,8.4907401421854497E-4,{"$f":"output[[#This Row],[ishp_Program]]-output[[#This Row],[ishp_Baseline]]","v":0},{"$f":"output[[#This Row],[ishp_Market]]-output[[#This Row],[ishp_Program]]","v":4.1169071266114097}]
["All","Wood Products","Base",2021,"501-1,000 HP","Traditional","ASD Control","constant","Fans",2020,25315.183763499001,42380.123903335698,25315.183763499001,27211.291027384999,45554.395183695502,27211.291027384999,6.4158654628407996,10.740793975762999,6.4158654628407996,8.5487880917265793E-3,1.4311517622602301E-2,8.5487880917265793E-3,0.67418227879508597,1.2189272906058,0.67418227879508597,8.9831083117266697E-4,1.62415361839547E-3,8.9831083117266697E-4,{"$f":"output[[#This Row],[ishp_Program]]-output[[#This Row],[ishp_Baseline]]","v":0},{"$f":"output[[#This Row],[ishp_Market]]-output[[#This Row],[ishp_Program]]","v":4.3249285129221997}]
["All","Wood Products","Base",2021,"501-1,000 HP","Traditional","ASD Control","constant","Fans",2021,26494.3437672871,44362.739610048098,26494.3437672871,28478.7701154569,47685.508806840699,28478.7701154569,6.7147110890130097,11.2432669484113,6.7147110890130097,8.9469834630419905E-3,1.4981035241054401E-2,8.9469834630419905E-3,0,0.131416730830692,0,0,1.75105570727104E-4,0,{"$f":"output[[#This Row],[ishp_Program]]-output[[#This Row],[ishp_Baseline]]","v":0},{"$f":"output[[#This Row],[ishp_Market]]-output[[#This Row],[ishp_Program]]","v":4.5285558593982902}]
["All","Wood Products","Base",2021,"501-1,000 HP","Traditional","ASD Control","constant","Fans","2014 and before",430165.82930101699,655785.91486456105,430165.82930101699,462385.24991566403,704904.27988791699,462385.24991566403,108.51510588786201,165.43080166764901,108.51510588786201,0.14459041424098901,0.22042745058980601,0.14459041424098901,93.638854024273499,101.907462695818,93.638854024273499,0.12476862628151,0.135786092865847,0.12476862628151,{"$f":"output[[#This Row],[ishp_Program]]-output[[#This Row],[ishp_Baseline]]","v":0},{"$f":"output[[#This Row],[ishp_Market]]-output[[#This Row],[ishp_Program]]","v":56.915695779787001}]
["All","Wood Products","Base",2021,"501-1,000 HP","Traditional","ASD Control","constant","Pumps",2015,0,0,0,0,0,0,0,0,0,0,0,0,0,0,0,0,0,0,{"$f":"output[[#This Row],[ishp_Program]]-output[[#This Row],[ishp_Baseline]]","v":0},{"$f":"output[[#This Row],[ishp_Market]]-output[[#This Row],[ishp_Program]]","v":0}]
["All","Wood Products","Base",2021,"501-1,000 HP","Traditional","ASD Control","constant","Pumps",2016,0,0,0,0,0,0,0,0,0,0,0,0,0,0,0,0,0,0,{"$f":"output[[#This Row],[ishp_Program]]-output[[#This Row],[ishp_Baseline]]","v":0},{"$f":"output[[#This Row],[ishp_Market]]-output[[#This Row],[ishp_Program]]","v":0}]
["All","Wood Products","Base",2021,"501-1,000 HP","Traditional","ASD Control","constant","Pumps",2017,0,0,0,0,0,0,0,0,0,0,0,0,0,0,0,0,0,0,{"$f":"output[[#This Row],[ishp_Program]]-output[[#This Row],[ishp_Baseline]]","v":0},{"$f":"output[[#This Row],[ishp_Market]]-output[[#This Row],[ishp_Program]]","v":0}]
["All","Wood Products","Base",2021,"501-1,000 HP","Traditional","ASD Control","constant","Pumps",2018,0,0,0,0,0,0,0,0,0,0,0,0,0,0,0,0,0,0,{"$f":"output[[#This Row],[ishp_Program]]-output[[#This Row],[ishp_Baseline]]","v":0},{"$f":"output[[#This Row],[ishp_Market]]-output[[#This Row],[ishp_Program]]","v":0}]
["All","Wood Products","Base",2021,"501-1,000 HP","Traditional","ASD Control","constant","Pumps",2019,0,0,0,0,0,0,0,0,0,0,0,0,0,0,0,0,0,0,{"$f":"output[[#This Row],[ishp_Program]]-output[[#This Row],[ishp_Baseline]]","v":0},{"$f":"output[[#This Row],[ishp_Market]]-output[[#This Row],[ishp_Program]]","v":0}]
["All","Wood Products","Base",2021,"501-1,000 HP","Traditional","ASD Control","constant","Pumps",2020,0,0,0,0,0,0,0,0,0,0,0,0,0,0,0,0,0,0,{"$f":"output[[#This Row],[ishp_Program]]-output[[#This Row],[ishp_Baseline]]","v":0},{"$f":"output[[#This Row],[ishp_Market]]-output[[#This Row],[ishp_Program]]","v":0}]
["All","Wood Products","Base",2021,"501-1,000 HP","Traditional","ASD Control","constant","Pumps",2021,0,0,0,0,0,0,0,0,0,0,0,0,0,0,0,0,0,0,{"$f":"output[[#This Row],[ishp_Program]]-output[[#This Row],[ishp_Baseline]]","v":0},{"$f":"output[[#This Row],[ishp_Market]]-output[[#This Row],[ishp_Program]]","v":0}]
["All","Wood Products","Base",2021,"501-1,000 HP","Traditional","ASD Control","constant","Pumps","2014 and before",0,0,0,0,0,0,0,0,0,0,0,0,0,0,0,0,0,0,{"$f":"output[[#This Row],[ishp_Program]]-output[[#This Row],[ishp_Baseline]]","v":0},{"$f":"output[[#This Row],[ishp_Market]]-output[[#This Row],[ishp_Program]]","v":0}]
["All","Wood Products","Base",2021,"501-1,000 HP","Traditional","ASD Control","variable","Fans",2015,155330.84378483801,223876.472003228,155330.84378483801,166965.12398432201,240644.81975627001,166965.12398432201,84.614046269232702,121.953204522042,84.614046269232702,0.112743565981655,0.16249594206801099,0.112743565981655,22.517570204382501,28.0036042381216,22.517570204382501,3.00034246560727E-2,3.7313263475178701E-2,3.00034246560727E-2,{"$f":"output[[#This Row],[ishp_Program]]-output[[#This Row],[ishp_Baseline]]","v":0},{"$f":"output[[#This Row],[ishp_Market]]-output[[#This Row],[ishp_Program]]","v":37.339158252809298}]
["All","Wood Products","Base",2021,"501-1,000 HP","Traditional","ASD Control","variable","Fans",2016,142833.08235696601,217371.729511254,142833.08235696601,153531.280225503,233652.87205164699,153531.280225503,78.168800012204898,118.961846738047,78.168800012204898,0.104155629596542,0.15851012223590599,0.104155629596542,13.1826197867963,19.2623507699181,13.1826197867963,1.7565116304858401E-2,2.5666023677439202E-2,1.7565116304858401E-2,{"$f":"output[[#This Row],[ishp_Program]]-output[[#This Row],[ishp_Baseline]]","v":0},{"$f":"output[[#This Row],[ishp_Market]]-output[[#This Row],[ishp_Program]]","v":40.793046725842103}]
["All","Wood Products","Base",2021,"501-1,000 HP","Traditional","ASD Control","variable","Fans",2017,152948.64608330699,231378.01038135501,152948.64608330699,164404.499674947,248708.22335891801,164404.499674947,83.704782747345803,126.627116927438,83.704782747345803,0.111532022314917,0.16872367345428199,0.111532022314917,11.0068777009327,17.015601776204399,11.0068777009327,1.46660595615359E-2,2.2672354132184401E-2,1.46660595615359E-2,{"$f":"output[[#This Row],[ishp_Program]]-output[[#This Row],[ishp_Baseline]]","v":0},{"$f":"output[[#This Row],[ishp_Market]]-output[[#This Row],[ishp_Program]]","v":42.922334180092193}]
["All","Wood Products","Base",2021,"501-1,000 HP","Traditional","ASD Control","variable","Fans",2018,158156.89000924499,246784.85585681701,158156.89000924499,170002.84107093699,265269.041560493,170002.84107093699,86.555118055827606,135.05887939392699,86.555118055827606,0.11532993744947,0.179958533502901,0.11532993744947,11.1681574961646,17.9132544082041,11.1681574961646,1.48809560242033E-2,2.3868426926321299E-2,1.48809560242033E-2,{"$f":"output[[#This Row],[ishp_Program]]-output[[#This Row],[ishp_Baseline]]","v":0},{"$f":"output[[#This Row],[ishp_Market]]-output[[#This Row],[ishp_Program]]","v":48.50376133809938}]
["All","Wood Products","Base",2021,"501-1,000 HP","Traditional","ASD Control","variable","Fans",2019,166197.898470371,258845.567635285,166197.898470371,178646.121065802,278233.10065116797,178646.121065802,90.955751101912597,141.65939064425299,90.955751101912597,0.12119353910981,0.18875335195769899,0.12119353910981,9.6421005305973502,16.076349637599701,9.6421005305973502,1.2847568994799901E-2,2.1420852281944899E-2,1.2847568994799901E-2,{"$f":"output[[#This Row],[ishp_Program]]-output[[#This Row],[ishp_Baseline]]","v":0},{"$f":"output[[#This Row],[ishp_Market]]-output[[#This Row],[ishp_Program]]","v":50.703639542340397}]
["All","Wood Products","Base",2021,"501-1,000 HP","Traditional","ASD Control","variable","Fans",2020,175903.567226655,273074.88642450102,175903.567226655,189078.74441193201,293528.19541769603,189078.74441193201,96.267409069907799,149.44672363735,96.267409069907799,0.128271031405606,0.199129545153031,0.128271031405606,10.2051809476056,16.9600767265669,10.2051809476056,1.35978427016731E-2,2.2598370055385598E-2,1.35978427016731E-2,{"$f":"output[[#This Row],[ishp_Program]]-output[[#This Row],[ishp_Baseline]]","v":0},{"$f":"output[[#This Row],[ishp_Market]]-output[[#This Row],[ishp_Program]]","v":53.179314567442205}]
["All","Wood Products","Base",2021,"501-1,000 HP","Traditional","ASD Control","variable","Fans",2021,184247.04804544299,285849.80327393801,184247.04804544299,198047.151944046,307259.95353915601,198047.151944046,100.83357730465499,156.43810059216801,100.83357730465499,0.13435519960646899,0.20844517067577401,0.13435519960646899,3.9959358569799201E-2,1.82852402700364,3.9959358569799201E-2,5.3243648993736503E-5,2.4364077641620902E-3,5.3243648993736503E-5,{"$f":"output[[#This Row],[ishp_Program]]-output[[#This Row],[ishp_Baseline]]","v":0},{"$f":"output[[#This Row],[ishp_Market]]-output[[#This Row],[ishp_Program]]","v":55.604523287513018}]
["All","Wood Products","Base",2021,"501-1,000 HP","Traditional","ASD Control","variable","Fans","2014 and before",2946368.4559009299,4225534.2298877202,2946368.4559009299,3167051.4532479099,4542026.7437063102,3167051.4532479099,1604.98810654207,2301.7936433487998,1604.98810654207,2.1385584364318002,3.06701351545476,2.1385584364318002,1315.8102377098401,1417.93394868683,1315.8102377098401,1.7532448203995199,1.8893190522143,1.7532448203995199,{"$f":"output[[#This Row],[ishp_Program]]-output[[#This Row],[ishp_Baseline]]","v":0},{"$f":"output[[#This Row],[ishp_Market]]-output[[#This Row],[ishp_Program]]","v":696.80553680672983}]
["All","Wood Products","Base",2021,"501-1,000 HP","Traditional","ASD Control","variable","Pumps",2015,0,0,0,0,0,0,0,0,0,0,0,0,0,0,0,0,0,0,{"$f":"output[[#This Row],[ishp_Program]]-output[[#This Row],[ishp_Baseline]]","v":0},{"$f":"output[[#This Row],[ishp_Market]]-output[[#This Row],[ishp_Program]]","v":0}]
["All","Wood Products","Base",2021,"501-1,000 HP","Traditional","ASD Control","variable","Pumps",2016,0,0,0,0,0,0,0,0,0,0,0,0,0,0,0,0,0,0,{"$f":"output[[#This Row],[ishp_Program]]-output[[#This Row],[ishp_Baseline]]","v":0},{"$f":"output[[#This Row],[ishp_Market]]-output[[#This Row],[ishp_Program]]","v":0}]
["All","Wood Products","Base",2021,"501-1,000 HP","Traditional","ASD Control","variable","Pumps",2017,0,0,0,0,0,0,0,0,0,0,0,0,0,0,0,0,0,0,{"$f":"output[[#This Row],[ishp_Program]]-output[[#This Row],[ishp_Baseline]]","v":0},{"$f":"output[[#This Row],[ishp_Market]]-output[[#This Row],[ishp_Program]]","v":0}]
["All","Wood Products","Base",2021,"501-1,000 HP","Traditional","ASD Control","variable","Pumps",2018,0,0,0,0,0,0,0,0,0,0,0,0,0,0,0,0,0,0,{"$f":"output[[#This Row],[ishp_Program]]-output[[#This Row],[ishp_Baseline]]","v":0},{"$f":"output[[#This Row],[ishp_Market]]-output[[#This Row],[ishp_Program]]","v":0}]
["All","Wood Products","Base",2021,"501-1,000 HP","Traditional","ASD Control","variable","Pumps",2019,0,0,0,0,0,0,0,0,0,0,0,0,0,0,0,0,0,0,{"$f":"output[[#This Row],[ishp_Program]]-output[[#This Row],[ishp_Baseline]]","v":0},{"$f":"output[[#This Row],[ishp_Market]]-output[[#This Row],[ishp_Program]]","v":0}]
["All","Wood Products","Base",2021,"501-1,000 HP","Traditional","ASD Control","variable","Pumps",2020,0,0,0,0,0,0,0,0,0,0,0,0,0,0,0,0,0,0,{"$f":"output[[#This Row],[ishp_Program]]-output[[#This Row],[ishp_Baseline]]","v":0},{"$f":"output[[#This Row],[ishp_Market]]-output[[#This Row],[ishp_Program]]","v":0}]
["All","Wood Products","Base",2021,"501-1,000 HP","Traditional","ASD Control","variable","Pumps",2021,0,0,0,0,0,0,0,0,0,0,0,0,0,0,0,0,0,0,{"$f":"output[[#This Row],[ishp_Program]]-output[[#This Row],[ishp_Baseline]]","v":0},{"$f":"output[[#This Row],[ishp_Market]]-output[[#This Row],[ishp_Program]]","v":0}]
["All","Wood Products","Base",2021,"501-1,000 HP","Traditional","ASD Control","variable","Pumps","2014 and before",0,0,0,0,0,0,0,0,0,0,0,0,0,0,0,0,0,0,{"$f":"output[[#This Row],[ishp_Program]]-output[[#This Row],[ishp_Baseline]]","v":0},{"$f":"output[[#This Row],[ishp_Market]]-output[[#This Row],[ishp_Program]]","v":0}]
["All","Wood Products","Base",2021,"501-1,000 HP","Traditional","Non ASD Control","constant","Fans",2015,3664292.9348403299,3652614.3867719201,3664292.9348403299,3938748.4756598701,3926195.2043411401,3938748.4756598701,879.074020827411,876.27230481002903,879.074020827411,1.1713178158926201,1.16758468329117,1.1713178158926201,240.48917051272301,240.04029513322499,240.48917051272301,0.320438601615887,0.31984049984440399,0.320438601615887,{"$f":"output[[#This Row],[ishp_Program]]-output[[#This Row],[ishp_Baseline]]","v":0},{"$f":"output[[#This Row],[ishp_Market]]-output[[#This Row],[ishp_Program]]","v":-2.8017160173819775}]
["All","Wood Products","Base",2021,"501-1,000 HP","Traditional","Non ASD Control","constant","Fans",2016,3577029.9761822699,3564284.2426468199,3577029.9761822699,3844949.5213983199,3831249.1324210698,3844949.5213983199,862.13983967835998,859.06784846218295,862.13983967835998,1.1487539502709601,1.14466069082236,1.1487539502709601,147.227029020906,146.71853891406201,147.227029020906,0.19617192407848899,0.19549438895944299,0.19617192407848899,{"$f":"output[[#This Row],[ishp_Program]]-output[[#This Row],[ishp_Baseline]]","v":0},{"$f":"output[[#This Row],[ishp_Market]]-output[[#This Row],[ishp_Program]]","v":-3.0719912161770253}]
["All","Wood Products","Base",2021,"501-1,000 HP","Traditional","Non ASD Control","constant","Fans",2017,3835267.0461172899,3821484.4317081799,3835267.0461172899,4122528.5478714802,4107713.6156431199,4122528.5478714802,924.38043244812195,921.05853102259698,924.38043244812195,1.2316861191846999,1.22725986811805,1.2316861191846999,121.893659312422,121.365313153328,121.893659312422,0.16241660134899699,0.161712609131684,0.16241660134899699,{"$f":"output[[#This Row],[ishp_Program]]-output[[#This Row],[ishp_Baseline]]","v":0},{"$f":"output[[#This Row],[ishp_Market]]-output[[#This Row],[ishp_Program]]","v":-3.3219014255249704}]
["All","Wood Products","Base",2021,"501-1,000 HP","Traditional","Non ASD Control","constant","Fans",2018,3949056.55874437,3933855.4732667301,3949056.55874437,4244840.8949943297,4228501.2482144097,4244840.8949943297,951.80611040626195,948.14232746793095,951.80611040626195,1.2682293276565699,1.2633475382650601,1.2682293276565699,122.862825513407,122.27146334535,122.862825513407,0.16370796204318,0.16292000445749499,0.16370796204318,{"$f":"output[[#This Row],[ishp_Program]]-output[[#This Row],[ishp_Baseline]]","v":0},{"$f":"output[[#This Row],[ishp_Market]]-output[[#This Row],[ishp_Program]]","v":-3.6637829383309963}]
["All","Wood Products","Base",2021,"501-1,000 HP","Traditional","Non ASD Control","constant","Fans",2019,4148159.5983591299,4132026.5202693301,4148159.5983591299,4458856.7522762297,4441515.3066375004,4458856.7522762297,999.79415182495597,995.905738965551,999.79415182495597,1.3321707552630899,1.32698965884817,1.3321707552630899,105.265367741407,104.622871046016,105.265367741407,0.14026031677735801,0.139404225244524,0.14026031677735801,{"$f":"output[[#This Row],[ishp_Program]]-output[[#This Row],[ishp_Baseline]]","v":0},{"$f":"output[[#This Row],[ishp_Market]]-output[[#This Row],[ishp_Program]]","v":-3.8884128594049798}]
["All","Wood Products","Base",2021,"501-1,000 HP","Traditional","Non ASD Control","constant","Fans",2020,4391869.5002276497,4374365.7693995303,4391869.5002276497,4720820.5257946998,4702005.7655275501,4720820.5257946998,1058.5333899985201,1054.31462085473,1058.5333899985201,1.41043756162361,1.40481628361722,1.41043756162361,111.449940657903,110.759068558915,111.449940657903,0.14850092026369599,0.147580371164443,0.14850092026369599,{"$f":"output[[#This Row],[ishp_Program]]-output[[#This Row],[ishp_Baseline]]","v":0},{"$f":"output[[#This Row],[ishp_Market]]-output[[#This Row],[ishp_Program]]","v":-4.2187691437900412}]
["All","Wood Products","Base",2021,"501-1,000 HP","Traditional","Non ASD Control","constant","Fans",2021,4596439.0939112799,4577879.3862487404,4596439.0939112799,4940712.3820452401,4920762.5522787701,4940712.3820452401,1107.8389865061799,1103.36570462283,1107.8389865061799,1.4761345589689301,1.4701741567259601,1.4761345589689301,0,0,0,0,0,0,{"$f":"output[[#This Row],[ishp_Program]]-output[[#This Row],[ishp_Baseline]]","v":0},{"$f":"output[[#This Row],[ishp_Market]]-output[[#This Row],[ishp_Program]]","v":-4.473281883349955}]
["All","Wood Products","Base",2021,"501-1,000 HP","Traditional","Non ASD Control","constant","Fans","2014 and before",74921144.935549498,74678456.192766905,74921144.935549498,80532738.691222101,80271872.5616052,80532738.691222101,17973.790113032101,17915.568411677701,17973.790113032101,23.949087425759,23.871510208764398,23.949087425759,16298.6291161997,16291.6938611816,16298.6291161997,21.717027469952999,21.707786623826301,21.717027469952999,{"$f":"output[[#This Row],[ishp_Program]]-output[[#This Row],[ishp_Baseline]]","v":0},{"$f":"output[[#This Row],[ishp_Market]]-output[[#This Row],[ishp_Program]]","v":-58.221701354399556}]
["All","Wood Products","Base",2021,"501-1,000 HP","Traditional","Non ASD Control","constant","Pumps",2015,0,0,0,0,0,0,0,0,0,0,0,0,0,0,0,0,0,0,{"$f":"output[[#This Row],[ishp_Program]]-output[[#This Row],[ishp_Baseline]]","v":0},{"$f":"output[[#This Row],[ishp_Market]]-output[[#This Row],[ishp_Program]]","v":0}]
["All","Wood Products","Base",2021,"501-1,000 HP","Traditional","Non ASD Control","constant","Pumps",2016,0,0,0,0,0,0,0,0,0,0,0,0,0,0,0,0,0,0,{"$f":"output[[#This Row],[ishp_Program]]-output[[#This Row],[ishp_Baseline]]","v":0},{"$f":"output[[#This Row],[ishp_Market]]-output[[#This Row],[ishp_Program]]","v":0}]
["All","Wood Products","Base",2021,"501-1,000 HP","Traditional","Non ASD Control","constant","Pumps",2017,0,0,0,0,0,0,0,0,0,0,0,0,0,0,0,0,0,0,{"$f":"output[[#This Row],[ishp_Program]]-output[[#This Row],[ishp_Baseline]]","v":0},{"$f":"output[[#This Row],[ishp_Market]]-output[[#This Row],[ishp_Program]]","v":0}]
["All","Wood Products","Base",2021,"501-1,000 HP","Traditional","Non ASD Control","constant","Pumps",2018,0,0,0,0,0,0,0,0,0,0,0,0,0,0,0,0,0,0,{"$f":"output[[#This Row],[ishp_Program]]-output[[#This Row],[ishp_Baseline]]","v":0},{"$f":"output[[#This Row],[ishp_Market]]-output[[#This Row],[ishp_Program]]","v":0}]
["All","Wood Products","Base",2021,"501-1,000 HP","Traditional","Non ASD Control","constant","Pumps",2019,0,0,0,0,0,0,0,0,0,0,0,0,0,0,0,0,0,0,{"$f":"output[[#This Row],[ishp_Program]]-output[[#This Row],[ishp_Baseline]]","v":0},{"$f":"output[[#This Row],[ishp_Market]]-output[[#This Row],[ishp_Program]]","v":0}]
["All","Wood Products","Base",2021,"501-1,000 HP","Traditional","Non ASD Control","constant","Pumps",2020,0,0,0,0,0,0,0,0,0,0,0,0,0,0,0,0,0,0,{"$f":"output[[#This Row],[ishp_Program]]-output[[#This Row],[ishp_Baseline]]","v":0},{"$f":"output[[#This Row],[ishp_Market]]-output[[#This Row],[ishp_Program]]","v":0}]
["All","Wood Products","Base",2021,"501-1,000 HP","Traditional","Non ASD Control","constant","Pumps",2021,0,0,0,0,0,0,0,0,0,0,0,0,0,0,0,0,0,0,{"$f":"output[[#This Row],[ishp_Program]]-output[[#This Row],[ishp_Baseline]]","v":0},{"$f":"output[[#This Row],[ishp_Market]]-output[[#This Row],[ishp_Program]]","v":0}]
["All","Wood Products","Base",2021,"501-1,000 HP","Traditional","Non ASD Control","constant","Pumps","2014 and before",0,0,0,0,0,0,0,0,0,0,0,0,0,0,0,0,0,0,{"$f":"output[[#This Row],[ishp_Program]]-output[[#This Row],[ishp_Baseline]]","v":0},{"$f":"output[[#This Row],[ishp_Market]]-output[[#This Row],[ishp_Program]]","v":0}]
["All","Wood Products","Base",2021,"501-1,000 HP","Traditional","Non ASD Control","variable","Fans",2015,2126576.4746684302,1992462.58961282,2126576.4746684302,2285857.0526211001,2141698.0375748202,2285857.0526211001,556.995677022515,521.86839376019202,556.995677022515,0.74216612527983306,0.69536095104622497,0.74216612527983306,147.756076078235,142.957209273042,147.756076078235,0.196876850204177,0.19048262394809101,0.196876850204177,{"$f":"output[[#This Row],[ishp_Program]]-output[[#This Row],[ishp_Baseline]]","v":0},{"$f":"output[[#This Row],[ishp_Market]]-output[[#This Row],[ishp_Program]]","v":-35.127283262322976}]
["All","Wood Products","Base",2021,"501-1,000 HP","Traditional","Non ASD Control","variable","Fans",2016,2091715.1511961899,1944279.4284387999,2091715.1511961899,2248384.6160207898,2089905.9576288699,2248384.6160207898,550.418770588131,511.62219294968702,550.418770588131,0.73340275894487905,0.68170845163182803,0.73340275894487905,92.824132036042599,87.378966352843406,92.824132036042599,0.123683054012048,0.11642767002377501,0.123683054012048,{"$f":"output[[#This Row],[ishp_Program]]-output[[#This Row],[ishp_Baseline]]","v":0},{"$f":"output[[#This Row],[ishp_Market]]-output[[#This Row],[ishp_Program]]","v":-38.796577638443978}]
["All","Wood Products","Base",2021,"501-1,000 HP","Traditional","Non ASD Control","variable","Fans",2017,2241708.4858901398,2084579.4164698401,2241708.4858901398,2409612.4514833102,2240714.4147634301,2409612.4514833102,589.88836415656795,548.54105682147599,589.88836415656795,0.78599382299342901,0.73090080855626405,0.78599382299342901,77.719164547622,72.279724790870006,77.719164547622,0.10355651505346,9.6308760547461694E-2,0.10355651505346,{"$f":"output[[#This Row],[ishp_Program]]-output[[#This Row],[ishp_Baseline]]","v":0},{"$f":"output[[#This Row],[ishp_Market]]-output[[#This Row],[ishp_Program]]","v":-41.347307335091955}]
["All","Wood Products","Base",2021,"501-1,000 HP","Traditional","Non ASD Control","variable","Fans",2018,2320620.9563825401,2145876.6334090498,2320620.9563825401,2494435.4660156001,2306602.7932513901,2494435.4660156001,610.65357445189204,564.67094848902002,610.65357445189204,0.81366232438626496,0.75239300265025999,0.81366232438626496,78.848863437072396,72.819387111155507,78.848863437072396,0.10506177673160801,9.7027830927589001E-2,0.10506177673160801,{"$f":"output[[#This Row],[ishp_Program]]-output[[#This Row],[ishp_Baseline]]","v":0},{"$f":"output[[#This Row],[ishp_Market]]-output[[#This Row],[ishp_Program]]","v":-45.982625962872021}]
["All","Wood Products","Base",2021,"501-1,000 HP","Traditional","Non ASD Control","variable","Fans",2019,2439270.15728882,2253976.8475808599,2439270.15728882,2621971.4920697501,2422799.7134646699,2621971.4920697501,641.87520004309499,593.11668927295796,641.87520004309499,0.85526342444116599,0.79029538877143002,0.85526342444116599,68.134991052667601,62.308678893144702,68.134991052667601,9.0786130649790298E-2,8.3022889930905702E-2,9.0786130649790298E-2,{"$f":"output[[#This Row],[ishp_Program]]-output[[#This Row],[ishp_Baseline]]","v":0},{"$f":"output[[#This Row],[ishp_Market]]-output[[#This Row],[ishp_Program]]","v":-48.758510770137036}]
["All","Wood Products","Base",2021,"501-1,000 HP","Traditional","Non ASD Control","variable","Fans",2020,2583507.9388176301,2386170.34975712,2583507.9388176301,2777012.6834350699,2564894.5089539299,2777012.6834350699,679.83026401824804,627.90239367730101,679.83026401824804,0.90583646105029803,0.83664542795110097,0.90583646105029803,72.163953255222594,65.963122291930603,72.163953255222594,9.6154501339403897E-2,8.7892234899308003E-2,9.6154501339403897E-2,{"$f":"output[[#This Row],[ishp_Program]]-output[[#This Row],[ishp_Baseline]]","v":0},{"$f":"output[[#This Row],[ishp_Market]]-output[[#This Row],[ishp_Program]]","v":-51.927870340947038}]
["All","Wood Products","Base",2021,"501-1,000 HP","Traditional","Non ASD Control","variable","Fans",2021,2706049.2225025501,2497184.8793820799,2706049.2225025501,2908732.3092679898,2684224.0268477998,2908732.3092679898,712.07606128828797,657.11501418093303,712.07606128828797,0.94880221357533401,0.87556963914847796,0.94880221357533401,0.10691129913594399,0,0.10691129913594399,1.4245342989466301E-4,0,1.4245342989466301E-4,{"$f":"output[[#This Row],[ishp_Program]]-output[[#This Row],[ishp_Baseline]]","v":0},{"$f":"output[[#This Row],[ishp_Market]]-output[[#This Row],[ishp_Program]]","v":-54.961047107354943}]
["All","Wood Products","Base",2021,"501-1,000 HP","Traditional","Non ASD Control","variable","Fans","2014 and before",43443038.943152003,40736309.519283198,43443038.943152003,46696922.559994102,43787459.102277599,46696922.559994102,11378.6572814547,10669.707189171,11378.6572814547,15.1614354183275,14.216798386637,15.1614354183275,9797.7209245916893,9702.6005047721592,9797.7209245916893,13.054924616378001,12.928181885106101,13.054924616378001,{"$f":"output[[#This Row],[ishp_Program]]-output[[#This Row],[ishp_Baseline]]","v":0},{"$f":"output[[#This Row],[ishp_Market]]-output[[#This Row],[ishp_Program]]","v":-708.95009228369963}]
["All","Wood Products","Base",2021,"501-1,000 HP","Traditional","Non ASD Control","variable","Pumps",2015,0,0,0,0,0,0,0,0,0,0,0,0,0,0,0,0,0,0,{"$f":"output[[#This Row],[ishp_Program]]-output[[#This Row],[ishp_Baseline]]","v":0},{"$f":"output[[#This Row],[ishp_Market]]-output[[#This Row],[ishp_Program]]","v":0}]
["All","Wood Products","Base",2021,"501-1,000 HP","Traditional","Non ASD Control","variable","Pumps",2016,0,0,0,0,0,0,0,0,0,0,0,0,0,0,0,0,0,0,{"$f":"output[[#This Row],[ishp_Program]]-output[[#This Row],[ishp_Baseline]]","v":0},{"$f":"output[[#This Row],[ishp_Market]]-output[[#This Row],[ishp_Program]]","v":0}]
["All","Wood Products","Base",2021,"501-1,000 HP","Traditional","Non ASD Control","variable","Pumps",2017,0,0,0,0,0,0,0,0,0,0,0,0,0,0,0,0,0,0,{"$f":"output[[#This Row],[ishp_Program]]-output[[#This Row],[ishp_Baseline]]","v":0},{"$f":"output[[#This Row],[ishp_Market]]-output[[#This Row],[ishp_Program]]","v":0}]
["All","Wood Products","Base",2021,"501-1,000 HP","Traditional","Non ASD Control","variable","Pumps",2018,0,0,0,0,0,0,0,0,0,0,0,0,0,0,0,0,0,0,{"$f":"output[[#This Row],[ishp_Program]]-output[[#This Row],[ishp_Baseline]]","v":0},{"$f":"output[[#This Row],[ishp_Market]]-output[[#This Row],[ishp_Program]]","v":0}]
["All","Wood Products","Base",2021,"501-1,000 HP","Traditional","Non ASD Control","variable","Pumps",2019,0,0,0,0,0,0,0,0,0,0,0,0,0,0,0,0,0,0,{"$f":"output[[#This Row],[ishp_Program]]-output[[#This Row],[ishp_Baseline]]","v":0},{"$f":"output[[#This Row],[ishp_Market]]-output[[#This Row],[ishp_Program]]","v":0}]
["All","Wood Products","Base",2021,"501-1,000 HP","Traditional","Non ASD Control","variable","Pumps",2020,0,0,0,0,0,0,0,0,0,0,0,0,0,0,0,0,0,0,{"$f":"output[[#This Row],[ishp_Program]]-output[[#This Row],[ishp_Baseline]]","v":0},{"$f":"output[[#This Row],[ishp_Market]]-output[[#This Row],[ishp_Program]]","v":0}]
["All","Wood Products","Base",2021,"501-1,000 HP","Traditional","Non ASD Control","variable","Pumps",2021,0,0,0,0,0,0,0,0,0,0,0,0,0,0,0,0,0,0,{"$f":"output[[#This Row],[ishp_Program]]-output[[#This Row],[ishp_Baseline]]","v":0},{"$f":"output[[#This Row],[ishp_Market]]-output[[#This Row],[ishp_Program]]","v":0}]
["All","Wood Products","Base",2021,"501-1,000 HP","Traditional","Non ASD Control","variable","Pumps","2014 and before",0,0,0,0,0,0,0,0,0,0,0,0,0,0,0,0,0,0,{"$f":"output[[#This Row],[ishp_Program]]-output[[#This Row],[ishp_Baseline]]","v":0},{"$f":"output[[#This Row],[ishp_Market]]-output[[#This Row],[ishp_Program]]","v":0}]
["All","Wood Products","Base",2021,"51-100 HP","Traditional","ASD Control","constant","Fans",2015,11807.1894225816,18096.208287169698,11807.1894225816,12691.5479103329,19451.6142878787,12691.5479103329,2.9387826896296398,4.5041052327454798,2.9387826896296398,3.8924274034829703E-2,5.9657022950271303E-2,3.8924274034829703E-2,0.80624271851180196,1.03425884443946,0.80624271851180196,1.0678711503467501E-2,1.3698792641582301E-2,1.0678711503467501E-2,{"$f":"output[[#This Row],[ishp_Program]]-output[[#This Row],[ishp_Baseline]]","v":0},{"$f":"output[[#This Row],[ishp_Market]]-output[[#This Row],[ishp_Program]]","v":1.56532254311584}]
["All","Wood Products","Base",2021,"51-100 HP","Traditional","ASD Control","constant","Fans",2016,10760.122682675999,17544.7098706982,10760.122682675999,11566.0558716084,18858.8086400135,11566.0558716084,2.6945983635937298,4.3936252310045898,2.6945983635937298,3.5690044550910301E-2,5.8193711668935E-2,3.5690044550910301E-2,0.45994339957274799,0.71141759036013197,0.45994339957274799,6.0919655572549396E-3,9.4227495411938096E-3,6.0919655572549396E-3,{"$f":"output[[#This Row],[ishp_Program]]-output[[#This Row],[ishp_Baseline]]","v":0},{"$f":"output[[#This Row],[ishp_Market]]-output[[#This Row],[ishp_Program]]","v":1.69902686741086}]
["All","Wood Products","Base",2021,"51-100 HP","Traditional","ASD Control","constant","Fans",2017,11527.304416495601,18675.197882115001,11527.304416495601,12390.699517291099,20073.970203485402,12390.699517291099,2.8867194671809302,4.6767271282097802,2.8867194671809302,3.8234694929548799E-2,6.1943405671652699E-2,3.8234694929548799E-2,0.37972407367634903,0.62843827104734795,0.37972407367634903,5.02945792948807E-3,8.3236857092363996E-3,5.02945792948807E-3,{"$f":"output[[#This Row],[ishp_Program]]-output[[#This Row],[ishp_Baseline]]","v":0},{"$f":"output[[#This Row],[ishp_Market]]-output[[#This Row],[ishp_Program]]","v":1.79000766102885}]
["All","Wood Products","Base",2021,"51-100 HP","Traditional","ASD Control","constant","Fans",2018,11856.3864755145,19918.729570883599,11856.3864755145,12744.429822530599,21410.642415742699,12744.429822530599,2.9691296779072598,4.9881379320129398,2.9691296779072598,3.9326220899433897E-2,6.6068052079641601E-2,3.9326220899433897E-2,0.38280030962836398,0.66159133113153001,0.38280030962836398,5.0702027765346302E-3,8.76279908783484E-3,5.0702027765346302E-3,{"$f":"output[[#This Row],[ishp_Program]]-output[[#This Row],[ishp_Baseline]]","v":0},{"$f":"output[[#This Row],[ishp_Market]]-output[[#This Row],[ishp_Program]]","v":2.01900825410568}]
["All","Wood Products","Base",2021,"51-100 HP","Traditional","ASD Control","constant","Fans",2019,12450.75572644,20892.184994286999,12450.75572644,13383.317330350401,22457.009650359101,13383.317330350401,3.1179743015371399,5.2319150215769303,3.1179743015371399,4.1297672868041597E-2,6.9296887703005794E-2,4.1297672868041597E-2,0.32765773361015998,0.59374881381711697,0.32765773361015998,4.3398375312604003E-3,7.8642226995644608E-3,4.3398375312604003E-3,{"$f":"output[[#This Row],[ishp_Program]]-output[[#This Row],[ishp_Baseline]]","v":0},{"$f":"output[[#This Row],[ishp_Market]]-output[[#This Row],[ishp_Program]]","v":2.1139407200397904}]
["All","Wood Products","Base",2021,"51-100 HP","Traditional","ASD Control","constant","Fans",2020,13172.812836453901,22040.675050357298,13172.812836453901,14159.4565179044,23691.521611628999,14159.4565179044,3.2987950936826902,5.51952507184832,3.2987950936826902,4.3692650247452801E-2,7.3106292342361795E-2,4.3692650247452801E-2,0.34665955357567901,0.62638756096063197,0.34665955357567901,4.5915172659030303E-3,8.2965239862335394E-3,4.5915172659030303E-3,{"$f":"output[[#This Row],[ishp_Program]]-output[[#This Row],[ishp_Baseline]]","v":0},{"$f":"output[[#This Row],[ishp_Market]]-output[[#This Row],[ishp_Program]]","v":2.2207299781656298}]
["All","Wood Products","Base",2021,"51-100 HP","Traditional","ASD Control","constant","Fans",2021,13786.488465193201,23071.776059902499,13786.488465193201,14819.096451236201,24799.852086789298,14819.096451236201,3.4524745073608001,5.77773802861077,3.4524745073608001,4.5728139170341797E-2,7.6526331504778403E-2,4.5728139170341797E-2,0,6.7532990793525899E-2,0,0,8.9447669925199903E-4,0,{"$f":"output[[#This Row],[ishp_Program]]-output[[#This Row],[ishp_Baseline]]","v":0},{"$f":"output[[#This Row],[ishp_Market]]-output[[#This Row],[ishp_Program]]","v":2.3252635212499699}]
["All","Wood Products","Base",2021,"51-100 HP","Traditional","ASD Control","constant","Fans","2014 and before",224142.55313931301,341555.08555410401,224142.55313931301,240930.830369448,367137.56146210601,240930.830369448,55.788573520757701,85.0122867565467,55.788573520757701,0.73892150358619402,1.1259905530668399,0.73892150358619402,48.1228107921226,52.368642078720796,48.1228107921226,0.63738822241222004,0.69362439839365297,0.63738822241222004,{"$f":"output[[#This Row],[ishp_Program]]-output[[#This Row],[ishp_Baseline]]","v":0},{"$f":"output[[#This Row],[ishp_Market]]-output[[#This Row],[ishp_Program]]","v":29.223713235788999}]
["All","Wood Products","Base",2021,"51-100 HP","Traditional","ASD Control","constant","Pumps",2015,0,0,0,0,0,0,0,0,0,0,0,0,0,0,0,0,0,0,{"$f":"output[[#This Row],[ishp_Program]]-output[[#This Row],[ishp_Baseline]]","v":0},{"$f":"output[[#This Row],[ishp_Market]]-output[[#This Row],[ishp_Program]]","v":0}]
["All","Wood Products","Base",2021,"51-100 HP","Traditional","ASD Control","constant","Pumps",2016,0,0,0,0,0,0,0,0,0,0,0,0,0,0,0,0,0,0,{"$f":"output[[#This Row],[ishp_Program]]-output[[#This Row],[ishp_Baseline]]","v":0},{"$f":"output[[#This Row],[ishp_Market]]-output[[#This Row],[ishp_Program]]","v":0}]
["All","Wood Products","Base",2021,"51-100 HP","Traditional","ASD Control","constant","Pumps",2017,0,0,0,0,0,0,0,0,0,0,0,0,0,0,0,0,0,0,{"$f":"output[[#This Row],[ishp_Program]]-output[[#This Row],[ishp_Baseline]]","v":0},{"$f":"output[[#This Row],[ishp_Market]]-output[[#This Row],[ishp_Program]]","v":0}]
["All","Wood Products","Base",2021,"51-100 HP","Traditional","ASD Control","constant","Pumps",2018,0,0,0,0,0,0,0,0,0,0,0,0,0,0,0,0,0,0,{"$f":"output[[#This Row],[ishp_Program]]-output[[#This Row],[ishp_Baseline]]","v":0},{"$f":"output[[#This Row],[ishp_Market]]-output[[#This Row],[ishp_Program]]","v":0}]
["All","Wood Products","Base",2021,"51-100 HP","Traditional","ASD Control","constant","Pumps",2019,0,0,0,0,0,0,0,0,0,0,0,0,0,0,0,0,0,0,{"$f":"output[[#This Row],[ishp_Program]]-output[[#This Row],[ishp_Baseline]]","v":0},{"$f":"output[[#This Row],[ishp_Market]]-output[[#This Row],[ishp_Program]]","v":0}]
["All","Wood Products","Base",2021,"51-100 HP","Traditional","ASD Control","constant","Pumps",2020,0,0,0,0,0,0,0,0,0,0,0,0,0,0,0,0,0,0,{"$f":"output[[#This Row],[ishp_Program]]-output[[#This Row],[ishp_Baseline]]","v":0},{"$f":"output[[#This Row],[ishp_Market]]-output[[#This Row],[ishp_Program]]","v":0}]
["All","Wood Products","Base",2021,"51-100 HP","Traditional","ASD Control","constant","Pumps",2021,0,0,0,0,0,0,0,0,0,0,0,0,0,0,0,0,0,0,{"$f":"output[[#This Row],[ishp_Program]]-output[[#This Row],[ishp_Baseline]]","v":0},{"$f":"output[[#This Row],[ishp_Market]]-output[[#This Row],[ishp_Program]]","v":0}]
["All","Wood Products","Base",2021,"51-100 HP","Traditional","ASD Control","constant","Pumps","2014 and before",0,0,0,0,0,0,0,0,0,0,0,0,0,0,0,0,0,0,{"$f":"output[[#This Row],[ishp_Program]]-output[[#This Row],[ishp_Baseline]]","v":0},{"$f":"output[[#This Row],[ishp_Market]]-output[[#This Row],[ishp_Program]]","v":0}]
["All","Wood Products","Base",2021,"51-100 HP","Traditional","ASD Control","variable","Fans",2015,82034.184227738995,117365.101650767,82034.184227738995,88178.544626396601,126155.747764409,88178.544626396601,43.804066057740002,62.669833484431599,43.804066057740002,0.58018630540053096,0.83006401966134602,0.58018630540053096,11.6158790721679,14.390611722300401,11.6158790721679,0.15385270294262099,0.19060412877219099,0.15385270294262099,{"$f":"output[[#This Row],[ishp_Program]]-output[[#This Row],[ishp_Baseline]]","v":0},{"$f":"output[[#This Row],[ishp_Market]]-output[[#This Row],[ishp_Program]]","v":18.865767426691598}]
["All","Wood Products","Base",2021,"51-100 HP","Traditional","ASD Control","variable","Fans",2016,75393.622718406303,113788.293366828,75393.622718406303,81040.605060014903,122311.036540004,81040.605060014903,40.505131814360901,61.132621773185299,40.505131814360901,0.53649181211074104,0.80970359964483796,0.53649181211074104,6.82174638233574,9.8986190645879493,6.82174638233574,9.0354256719678699E-2,0.13110753727930999,9.0354256719678699E-2,{"$f":"output[[#This Row],[ishp_Program]]-output[[#This Row],[ishp_Baseline]]","v":0},{"$f":"output[[#This Row],[ishp_Market]]-output[[#This Row],[ishp_Program]]","v":20.627489958824398}]
["All","Wood Products","Base",2021,"51-100 HP","Traditional","ASD Control","variable","Fans",2017,80728.063938442603,121120.207227976,80728.063938442603,86774.595927432005,130192.11074935101,86774.595927432005,43.371053851037097,65.071683549093706,43.371053851037097,0.57445104438459804,0.86187660329925397,0.57445104438459804,5.7033988786624796,8.7440500979979596,5.7033988786624796,7.5541707002152098E-2,0.11581523308606501,7.5541707002152098E-2,{"$f":"output[[#This Row],[ishp_Program]]-output[[#This Row],[ishp_Baseline]]","v":0},{"$f":"output[[#This Row],[ishp_Market]]-output[[#This Row],[ishp_Program]]","v":21.700629698056609}]
["All","Wood Products","Base",2021,"51-100 HP","Traditional","ASD Control","variable","Fans",2018,83530.5716692961,129185.279244291,83530.5716692961,89787.011487326396,138861.25665968901,89787.011487326396,44.876697709974103,69.404633649307101,44.876697709974103,0.594393347151976,0.91926667085174896,0.594393347151976,5.7914600117314503,9.2053396655395296,5.7914600117314503,7.6708079625582098E-2,0.121925028682642,7.6708079625582098E-2,{"$f":"output[[#This Row],[ishp_Program]]-output[[#This Row],[ishp_Baseline]]","v":0},{"$f":"output[[#This Row],[ishp_Market]]-output[[#This Row],[ishp_Program]]","v":24.527935939332998}]
["All","Wood Products","Base",2021,"51-100 HP","Traditional","ASD Control","variable","Fans",2019,87782.959545402598,135498.73966136901,87782.959545402598,94357.903215353203,145647.59526200601,94357.903215353203,47.161287907885303,72.796532555048998,47.161287907885303,0.62465281997199096,0.96419248417283399,0.62465281997199096,5.0050842394077097,8.2613831983707602,5.0050842394077097,6.6292506482221306E-2,0.10942229401815499,6.6292506482221306E-2,{"$f":"output[[#This Row],[ishp_Program]]-output[[#This Row],[ishp_Baseline]]","v":0},{"$f":"output[[#This Row],[ishp_Market]]-output[[#This Row],[ishp_Program]]","v":25.635244647163695}]
["All","Wood Products","Base",2021,"51-100 HP","Traditional","ASD Control","variable","Fans",2020,92911.783331218394,142947.40791477001,92911.783331218394,99870.875902726606,153654.16876758699,99870.875902726606,49.916742228909499,76.798320485738401,49.916742228909499,0.66114890369416601,1.0171962978243401,0.66114890369416601,5.2975114451962497,8.7155166483962301,5.2975114451962497,7.0165714505910595E-2,0.11543730660127401,7.0165714505910595E-2,{"$f":"output[[#This Row],[ishp_Program]]-output[[#This Row],[ishp_Baseline]]","v":0},{"$f":"output[[#This Row],[ishp_Market]]-output[[#This Row],[ishp_Program]]","v":26.881578256828902}]
["All","Wood Products","Base",2021,"51-100 HP","Traditional","ASD Control","variable","Fans",2021,97326.106722295095,149634.73560668799,97326.106722295095,104615.832115795,160842.37730362901,104615.832115795,52.288332084653703,80.391079128715901,52.288332084653703,0.69256068986296304,1.0647825050160999,0.69256068986296304,2.5213923634183202E-2,0.93964973486110204,2.5213923634183202E-2,3.3395925343289098E-4,1.2445691852464901E-2,3.3395925343289098E-4,{"$f":"output[[#This Row],[ishp_Program]]-output[[#This Row],[ishp_Baseline]]","v":0},{"$f":"output[[#This Row],[ishp_Market]]-output[[#This Row],[ishp_Program]]","v":28.102747044062198}]
["All","Wood Products","Base",2021,"51-100 HP","Traditional","ASD Control","variable","Fans","2014 and before",1555901.6501216199,2215195.95150855,1555901.6501216199,1672438.68371573,2381114.12827654,1672438.68371573,830.80997638821702,1182.8555461871399,830.80997638821702,11.004105647526,15.666960876650901,11.004105647526,677.00338146212903,728.65395218102299,677.00338146212903,8.9669322047964197,9.6510457242519507,8.9669322047964197,{"$f":"output[[#This Row],[ishp_Program]]-output[[#This Row],[ishp_Baseline]]","v":0},{"$f":"output[[#This Row],[ishp_Market]]-output[[#This Row],[ishp_Program]]","v":352.04556979892288}]
["All","Wood Products","Base",2021,"51-100 HP","Traditional","ASD Control","variable","Pumps",2015,0,0,0,0,0,0,0,0,0,0,0,0,0,0,0,0,0,0,{"$f":"output[[#This Row],[ishp_Program]]-output[[#This Row],[ishp_Baseline]]","v":0},{"$f":"output[[#This Row],[ishp_Market]]-output[[#This Row],[ishp_Program]]","v":0}]
["All","Wood Products","Base",2021,"51-100 HP","Traditional","ASD Control","variable","Pumps",2016,0,0,0,0,0,0,0,0,0,0,0,0,0,0,0,0,0,0,{"$f":"output[[#This Row],[ishp_Program]]-output[[#This Row],[ishp_Baseline]]","v":0},{"$f":"output[[#This Row],[ishp_Market]]-output[[#This Row],[ishp_Program]]","v":0}]
["All","Wood Products","Base",2021,"51-100 HP","Traditional","ASD Control","variable","Pumps",2017,0,0,0,0,0,0,0,0,0,0,0,0,0,0,0,0,0,0,{"$f":"output[[#This Row],[ishp_Program]]-output[[#This Row],[ishp_Baseline]]","v":0},{"$f":"output[[#This Row],[ishp_Market]]-output[[#This Row],[ishp_Program]]","v":0}]
["All","Wood Products","Base",2021,"51-100 HP","Traditional","ASD Control","variable","Pumps",2018,0,0,0,0,0,0,0,0,0,0,0,0,0,0,0,0,0,0,{"$f":"output[[#This Row],[ishp_Program]]-output[[#This Row],[ishp_Baseline]]","v":0},{"$f":"output[[#This Row],[ishp_Market]]-output[[#This Row],[ishp_Program]]","v":0}]
["All","Wood Products","Base",2021,"51-100 HP","Traditional","ASD Control","variable","Pumps",2019,0,0,0,0,0,0,0,0,0,0,0,0,0,0,0,0,0,0,{"$f":"output[[#This Row],[ishp_Program]]-output[[#This Row],[ishp_Baseline]]","v":0},{"$f":"output[[#This Row],[ishp_Market]]-output[[#This Row],[ishp_Program]]","v":0}]
["All","Wood Products","Base",2021,"51-100 HP","Traditional","ASD Control","variable","Pumps",2020,0,0,0,0,0,0,0,0,0,0,0,0,0,0,0,0,0,0,{"$f":"output[[#This Row],[ishp_Program]]-output[[#This Row],[ishp_Baseline]]","v":0},{"$f":"output[[#This Row],[ishp_Market]]-output[[#This Row],[ishp_Program]]","v":0}]
["All","Wood Products","Base",2021,"51-100 HP","Traditional","ASD Control","variable","Pumps",2021,0,0,0,0,0,0,0,0,0,0,0,0,0,0,0,0,0,0,{"$f":"output[[#This Row],[ishp_Program]]-output[[#This Row],[ishp_Baseline]]","v":0},{"$f":"output[[#This Row],[ishp_Market]]-output[[#This Row],[ishp_Program]]","v":0}]
["All","Wood Products","Base",2021,"51-100 HP","Traditional","ASD Control","variable","Pumps","2014 and before",0,0,0,0,0,0,0,0,0,0,0,0,0,0,0,0,0,0,{"$f":"output[[#This Row],[ishp_Program]]-output[[#This Row],[ishp_Baseline]]","v":0},{"$f":"output[[#This Row],[ishp_Market]]-output[[#This Row],[ishp_Program]]","v":0}]
["All","Wood Products","Base",2021,"51-100 HP","Traditional","Non ASD Control","constant","Fans",2015,1679176.88661704,1673083.8230685301,1679176.88661704,1804947.2354246599,1798397.8014163701,1804947.2354246599,397.63542985186001,396.19256938698902,397.63542985186001,5.2666944351239797,5.24758370048992,5.2666944351239797,108.75695271138601,108.530397187277,108.75695271138601,1.4404894398859101,1.43748870446725,1.4404894398859101,{"$f":"output[[#This Row],[ishp_Program]]-output[[#This Row],[ishp_Baseline]]","v":0},{"$f":"output[[#This Row],[ishp_Market]]-output[[#This Row],[ishp_Program]]","v":-1.4428604648709893}]
["All","Wood Products","Base",2021,"51-100 HP","Traditional","Non ASD Control","constant","Fans",2016,1636875.7168508801,1630234.96440466,1636875.7168508801,1759477.70804301,1752339.56323857,1759477.70804301,389.99604990756097,388.41384840272002,389.99604990756097,5.1655105948021403,5.1445542834797298,5.1655105948021403,66.593004723616204,66.336451112270794,66.593004723616204,0.88202655263067797,0.87862849155325595,0.88202655263067797,{"$f":"output[[#This Row],[ishp_Program]]-output[[#This Row],[ishp_Baseline]]","v":0},{"$f":"output[[#This Row],[ishp_Market]]-output[[#This Row],[ishp_Program]]","v":-1.5822015048409526}]
["All","Wood Products","Base",2021,"51-100 HP","Traditional","Non ASD Control","constant","Fans",2017,1755042.0088975001,1747873.37720081,1755042.0088975001,1886494.6553639199,1878789.0931531501,1886494.6553639199,418.14992051361099,416.44194842008602,418.14992051361099,5.5384095432266403,5.5157873962925299,5.5384095432266403,55.138847399763002,54.873393794065201,55.138847399763002,0.73031585959950995,0.726799917802188,0.73031585959950995,{"$f":"output[[#This Row],[ishp_Program]]-output[[#This Row],[ishp_Baseline]]","v":0},{"$f":"output[[#This Row],[ishp_Market]]-output[[#This Row],[ishp_Program]]","v":-1.7079720935249725}]
["All","Wood Products","Base",2021,"51-100 HP","Traditional","Non ASD Control","constant","Fans",2018,1807182.0162768001,1799269.7273413001,1807182.0162768001,1942539.9492959301,1934035.0299191701,1942539.9492959301,430.57260887702398,428.68745571676698,430.57260887702398,5.7029484619473401,5.6779795459174496,5.7029484619473401,55.579844958160599,55.283095174397097,55.579844958160599,0.73615688686305403,0.73222642615095601,0.73615688686305403,{"$f":"output[[#This Row],[ishp_Program]]-output[[#This Row],[ishp_Baseline]]","v":0},{"$f":"output[[#This Row],[ishp_Market]]-output[[#This Row],[ishp_Program]]","v":-1.8851531602570049}]
["All","Wood Products","Base",2021,"51-100 HP","Traditional","Non ASD Control","constant","Fans",2019,1898307.3100439,1889909.3474621801,1898307.3100439,2040490.5275661801,2031463.5575871,2040490.5275661801,452.28378966490101,450.28292166959397,452.28378966490101,5.9905137703960403,5.9640122075443003,5.9905137703960403,47.622229825855698,47.303565191816602,47.622229825855698,0.63075801093848605,0.62653728730882996,0.63075801093848605,{"$f":"output[[#This Row],[ishp_Program]]-output[[#This Row],[ishp_Baseline]]","v":0},{"$f":"output[[#This Row],[ishp_Market]]-output[[#This Row],[ishp_Program]]","v":-2.0008679953070327}]
["All","Wood Products","Base",2021,"51-100 HP","Traditional","Non ASD Control","constant","Fans",2020,2009842.6925646199,2000750.6525558,2009842.6925646199,2160379.91023771,2150606.8764322302,2160379.91023771,478.85780390447701,476.69156754789998,478.85780390447701,6.34248746893347,6.3137955966609196,6.34248746893347,50.420324036306098,50.077949188157298,50.420324036306098,0.66781886140802804,0.66328409520738196,0.66781886140802804,{"$f":"output[[#This Row],[ishp_Program]]-output[[#This Row],[ishp_Baseline]]","v":0},{"$f":"output[[#This Row],[ishp_Market]]-output[[#This Row],[ishp_Program]]","v":-2.1662363565770306}]
["All","Wood Products","Base",2021,"51-100 HP","Traditional","Non ASD Control","constant","Fans",2021,2103474.2876794799,2093833.86122652,2103474.2876794799,2261024.5118266698,2250662.0174323898,2261024.5118266698,501.166126928285,498.86923401370899,501.166126928285,6.6379619460699999,6.60753952336038,6.6379619460699999,0,0,0,0,0,0,{"$f":"output[[#This Row],[ishp_Program]]-output[[#This Row],[ishp_Baseline]]","v":0},{"$f":"output[[#This Row],[ishp_Market]]-output[[#This Row],[ishp_Program]]","v":-2.2968929145760058}]
["All","Wood Products","Base",2021,"51-100 HP","Traditional","Non ASD Control","constant","Fans","2014 and before",34332703.1963882,34206544.616463602,34332703.1963882,36904222.665797703,36768614.808236703,36904222.665797703,8130.11380890073,8100.2389806097799,8130.11380890073,107.683626607956,107.28793351800999,107.683626607956,7369.6398852247303,7366.0299602041296,7369.6398852247303,97.6111243076123,97.563310731180493,97.6111243076123,{"$f":"output[[#This Row],[ishp_Program]]-output[[#This Row],[ishp_Baseline]]","v":0},{"$f":"output[[#This Row],[ishp_Market]]-output[[#This Row],[ishp_Program]]","v":-29.874828290950063}]
["All","Wood Products","Base",2021,"51-100 HP","Traditional","Non ASD Control","constant","Pumps",2015,2299597.4633068098,2302043.0874435501,2299597.4633068098,2471837.3133085002,2474466.1146930801,2471837.3133085002,497.43089388883999,497.95991212784298,497.43089388883999,6.5884886607793396,6.5954955248720903,6.5884886607793396,164.21961005091401,163.87452914815299,164.21961005091401,2.1750941728597901,2.17052356487621,2.1750941728597901,{"$f":"output[[#This Row],[ishp_Program]]-output[[#This Row],[ishp_Baseline]]","v":0},{"$f":"output[[#This Row],[ishp_Market]]-output[[#This Row],[ishp_Program]]","v":0.52901823900299405}]
["All","Wood Products","Base",2021,"51-100 HP","Traditional","Non ASD Control","constant","Pumps",2016,2379092.89002772,2381924.3933815402,2379092.89002772,2557286.9474908002,2560330.5304458202,2557286.9474908002,517.78350254536099,518.399748228813,517.78350254536099,6.8580596363624,6.8662218308452099,6.8580596363624,94.372495027916699,93.919385181903493,94.372495027916699,1.24996682156181,1.24396536664772,1.24996682156181,{"$f":"output[[#This Row],[ishp_Program]]-output[[#This Row],[ishp_Baseline]]","v":0},{"$f":"output[[#This Row],[ishp_Market]]-output[[#This Row],[ishp_Program]]","v":0.61624568345200714}]
["All","Wood Products","Base",2021,"51-100 HP","Traditional","Non ASD Control","constant","Pumps",2017,2667626.9803129998,2667965.74984721,2667626.9803129998,2867432.2411384401,2867796.3845107602,2867432.2411384401,580.57978616163905,580.65351563925299,580.57978616163905,7.6897984922071396,7.6907750415795197,7.6897984922071396,77.169835199756605,76.383981278571397,77.169835199756605,1.02211702251333,1.01170836130558,1.02211702251333,{"$f":"output[[#This Row],[ishp_Program]]-output[[#This Row],[ishp_Baseline]]","v":0},{"$f":"output[[#This Row],[ishp_Market]]-output[[#This Row],[ishp_Program]]","v":7.3729477613937888E-2}]
["All","Wood Products","Base",2021,"51-100 HP","Traditional","Non ASD Control","constant","Pumps",2018,2934073.0212629898,2935669.82267546,2934073.0212629898,3153835.0905555799,3155551.4923938499,3153835.0905555799,638.56884783330099,638.916374166418,638.56884783330099,8.4578655342158999,8.4624685320055395,8.4578655342158999,82.401652554912602,81.368763407320998,82.401652554912602,1.09141261662135,1.0777319656598801,1.09141261662135,{"$f":"output[[#This Row],[ishp_Program]]-output[[#This Row],[ishp_Baseline]]","v":0},{"$f":"output[[#This Row],[ishp_Market]]-output[[#This Row],[ishp_Program]]","v":0.34752633311700265}]
["All","Wood Products","Base",2021,"51-100 HP","Traditional","Non ASD Control","constant","Pumps",2019,3188639.2487071599,3190368.6494142599,3188639.2487071599,3427468.3284353302,3429327.26125539,3427468.3284353302,693.97239824879796,694.34878336565498,693.97239824879796,9.1916873940238197,9.1966726273596802,9.1916873940238197,70.581374305578294,69.152071563571099,70.581374305578294,0.93485263980898403,0.91592147766319298,0.93485263980898403,{"$f":"output[[#This Row],[ishp_Program]]-output[[#This Row],[ishp_Baseline]]","v":0},{"$f":"output[[#This Row],[ishp_Market]]-output[[#This Row],[ishp_Program]]","v":0.37638511685702269}]
["All","Wood Products","Base",2021,"51-100 HP","Traditional","Non ASD Control","constant","Pumps",2020,3501027.9301205301,3501027.9301205301,3501027.9301205301,3763254.9220865499,3763254.9220865499,3763254.9220865499,778.41480122111398,778.41480122111398,778.41480122111398,10.310129817498201,10.310129817498201,10.310129817498201,79.170215726460199,77.525702565357307,79.170215726460199,1.0486121288272801,1.0268304975544,1.0486121288272801,{"$f":"output[[#This Row],[ishp_Program]]-output[[#This Row],[ishp_Baseline]]","v":0},{"$f":"output[[#This Row],[ishp_Market]]-output[[#This Row],[ishp_Program]]","v":0}]
["All","Wood Products","Base",2021,"51-100 HP","Traditional","Non ASD Control","constant","Pumps",2021,3722786.03081625,3722786.03081625,3722786.03081625,4001622.7045243899,4001622.7045243899,4001622.7045243899,827.72025988002099,827.72025988002099,827.72025988002099,10.963182250066501,10.963182250066501,10.963182250066501,0,0,0,0,0,0,{"$f":"output[[#This Row],[ishp_Program]]-output[[#This Row],[ishp_Baseline]]","v":0},{"$f":"output[[#This Row],[ishp_Market]]-output[[#This Row],[ishp_Program]]","v":0}]
["All","Wood Products","Base",2021,"51-100 HP","Traditional","Non ASD Control","constant","Pumps","2014 and before",26380293.458966799,26371311.509675998,26380293.458966799,28356177.4390435,28346522.741750699,28356177.4390435,5706.3782534678303,5704.4353486177897,5706.3782534678303,75.581168920103707,75.555435081030296,75.581168920103707,6988.5901053336202,6996.4369126148204,6988.5901053336202,92.564107355412304,92.668038577679795,92.564107355412304,{"$f":"output[[#This Row],[ishp_Program]]-output[[#This Row],[ishp_Baseline]]","v":0},{"$f":"output[[#This Row],[ishp_Market]]-output[[#This Row],[ishp_Program]]","v":-1.942904850040577}]
["All","Wood Products","Base",2021,"51-100 HP","Traditional","Non ASD Control","variable","Fans",2015,981305.30484394997,912649.56378178298,981305.30484394997,1054805.0721767601,981007.01610903896,1054805.0721767601,253.70459413346401,235.954484320414,253.70459413346401,3.3603257501121102,3.1252249578862799,3.3603257501121102,67.061461100767303,64.635825808233406,67.061461100767303,0.88823127285784498,0.85610365308918401,0.88823127285784498,{"$f":"output[[#This Row],[ishp_Program]]-output[[#This Row],[ishp_Baseline]]","v":0},{"$f":"output[[#This Row],[ishp_Market]]-output[[#This Row],[ishp_Program]]","v":-17.750109813050017}]
["All","Wood Products","Base",2021,"51-100 HP","Traditional","Non ASD Control","variable","Fans",2016,964705.05342371296,889275.96370930795,964705.05342371296,1036961.46192515,955882.733391135,1036961.46192515,250.942727940259,231.32182777828001,250.942727940259,3.32374474093058,3.0638652685864902,3.32374474093058,42.2610308343314,39.507008266360103,42.2610308343314,0.55974875277260205,0.52327163266702104,0.55974875277260205,{"$f":"output[[#This Row],[ishp_Program]]-output[[#This Row],[ishp_Baseline]]","v":0},{"$f":"output[[#This Row],[ishp_Market]]-output[[#This Row],[ishp_Program]]","v":-19.620900161978994}]
["All","Wood Products","Base",2021,"51-100 HP","Traditional","Non ASD Control","variable","Fans",2017,1033817.91664746,953446.47605427704,1033817.91664746,1111250.8786043499,1024859.61711074,1111250.8786043499,268.92062737343599,248.01410420413799,268.92062737343599,3.5618626142176999,3.28495502257136,3.5618626142176999,35.430386537626703,32.680126625350198,35.430386537626703,0.46927664288247301,0.43284935927616203,0.46927664288247301,{"$f":"output[[#This Row],[ishp_Program]]-output[[#This Row],[ishp_Baseline]]","v":0},{"$f":"output[[#This Row],[ishp_Market]]-output[[#This Row],[ishp_Program]]","v":-20.906523169297998}]
["All","Wood Products","Base",2021,"51-100 HP","Traditional","Non ASD Control","variable","Fans",2018,1070894.4888686901,981482.64249671402,1070894.4888686901,1151104.4860849499,1054995.6924197101,1151104.4860849499,278.565125598929,255.30697787892899,278.565125598929,3.6896043125686,3.3815493758798598,3.6896043125686,35.973237770525898,32.9241263502092,35.973237770525898,0.47646672543743002,0.43608114371138101,0.47646672543743002,{"$f":"output[[#This Row],[ishp_Program]]-output[[#This Row],[ishp_Baseline]]","v":0},{"$f":"output[[#This Row],[ishp_Market]]-output[[#This Row],[ishp_Program]]","v":-23.258147720000011}]
["All","Wood Products","Base",2021,"51-100 HP","Traditional","Non ASD Control","variable","Fans",2019,1125717.3750974601,1030925.5984467299,1125717.3750974601,1210033.60649226,1108141.9257703901,1210033.60649226,292.82586215771698,268.16826662152801,292.82586215771698,3.8784882404995602,3.5518975711460699,3.8784882404995602,31.115770794576701,28.171876995628299,31.115770794576701,0.41212941449770502,0.373137443650706,0.41212941449770502,{"$f":"output[[#This Row],[ishp_Program]]-output[[#This Row],[ishp_Baseline]]","v":0},{"$f":"output[[#This Row],[ishp_Market]]-output[[#This Row],[ishp_Program]]","v":-24.657595536188978}]
["All","Wood Products","Base",2021,"51-100 HP","Traditional","Non ASD Control","variable","Fans",2020,1192310.3100944399,1091388.36029279,1192310.3100944399,1281614.35232051,1173133.3484787201,1281614.35232051,310.14826832775202,283.89606896132801,310.14826832775202,4.10792408381129,3.7602128339248799,4.10792408381129,32.956470348640103,29.824175387231801,32.956470348640103,0.43650954104159101,0.395022190559362,0.43650954104159101,{"$f":"output[[#This Row],[ishp_Program]]-output[[#This Row],[ishp_Baseline]]","v":0},{"$f":"output[[#This Row],[ishp_Market]]-output[[#This Row],[ishp_Program]]","v":-26.252199366424009}]
["All","Wood Products","Base",2021,"51-100 HP","Traditional","Non ASD Control","variable","Fans",2021,1248958.05812559,1142164.2680013101,1248958.05812559,1342505.0166792001,1227712.3716746101,1342505.0166792001,324.88369484195999,297.10409015785598,324.88369484195999,4.3030952959199897,3.9351535120245802,4.3030952959199897,5.4875860301862603E-2,0,5.4875860301862603E-2,7.2683258677963699E-4,0,7.2683258677963699E-4,{"$f":"output[[#This Row],[ishp_Program]]-output[[#This Row],[ishp_Baseline]]","v":0},{"$f":"output[[#This Row],[ishp_Market]]-output[[#This Row],[ishp_Program]]","v":-27.779604684104015}]
["All","Wood Products","Base",2021,"51-100 HP","Traditional","Non ASD Control","variable","Fans","2014 and before",20044645.1783319,18659308.9911304,20044645.1783319,21545989.102189001,20056891.2345661,21545989.102189001,5182.3000899059898,4824.1382075871497,5182.3000899059898,68.639736290145606,63.895870299167598,68.639736290145606,4435.0181402983699,4386.8763198610404,4435.0181402983699,58.741962123157201,58.104322117364802,58.741962123157201,{"$f":"output[[#This Row],[ishp_Program]]-output[[#This Row],[ishp_Baseline]]","v":0},{"$f":"output[[#This Row],[ishp_Market]]-output[[#This Row],[ishp_Program]]","v":-358.16188231884007}]
["All","Wood Products","Base",2021,"51-100 HP","Traditional","Non ASD Control","variable","Pumps",2015,780563.71701664606,781393.84728816396,780563.71701664606,839027.93942119298,839920.24645004701,839027.93942119298,206.21299550212001,206.43230322321301,206.21299550212001,2.73129795367046,2.7342026916981799,2.73129795367046,68.0782358410505,67.935180458839596,68.0782358410505,0.90169848796093399,0.89980371468661702,0.90169848796093399,{"$f":"output[[#This Row],[ishp_Program]]-output[[#This Row],[ishp_Baseline]]","v":0},{"$f":"output[[#This Row],[ishp_Market]]-output[[#This Row],[ishp_Program]]","v":0.21930772109300278}]
["All","Wood Products","Base",2021,"51-100 HP","Traditional","Non ASD Control","variable","Pumps",2016,807547.24207144603,808508.35323019,807547.24207144603,868032.53050259699,869065.628887131,868032.53050259699,214.65029292153099,214.90576130902099,214.65029292153099,2.8430502373712701,2.8464339246227999,2.8430502373712701,39.122690471783301,38.934851035620802,39.122690471783301,0.51818133075209705,0.51569339120027602,0.51818133075209705,{"$f":"output[[#This Row],[ishp_Program]]-output[[#This Row],[ishp_Baseline]]","v":0},{"$f":"output[[#This Row],[ishp_Market]]-output[[#This Row],[ishp_Program]]","v":0.25546838748999789}]
["All","Wood Products","Base",2021,"51-100 HP","Traditional","Non ASD Control","variable","Pumps",2017,905485.79244505195,905600.78266010201,905485.79244505195,973306.67829918605,973430.28128134401,973306.67829918605,240.68287334627399,240.71343834861401,240.68287334627399,3.1878526271029699,3.1882574615710499,3.1878526271029699,31.991223453247802,31.665442941611801,31.991223453247802,0.42372481395030298,0.419409840286249,0.42372481395030298,{"$f":"output[[#This Row],[ishp_Program]]-output[[#This Row],[ishp_Baseline]]","v":0},{"$f":"output[[#This Row],[ishp_Market]]-output[[#This Row],[ishp_Program]]","v":3.0565002340011915E-2}]
["All","Wood Products","Base",2021,"51-100 HP","Traditional","Non ASD Control","variable","Pumps",2018,995926.88721353502,996468.89739824797,995926.88721353502,1070521.81106582,1071104.41781337,1070521.81106582,264.72259074336603,264.86665989357101,264.72259074336603,3.5062594800445899,3.5081676807095499,3.5062594800445899,34.160105084809302,33.731914621041902,34.160105084809302,0.452451722977607,0.44678032610651602,0.452451722977607,{"$f":"output[[#This Row],[ishp_Program]]-output[[#This Row],[ishp_Baseline]]","v":0},{"$f":"output[[#This Row],[ishp_Market]]-output[[#This Row],[ishp_Program]]","v":0.14406915020498445}]
["All","Wood Products","Base",2021,"51-100 HP","Traditional","Non ASD Control","variable","Pumps",2019,1082335.5582489299,1082922.5772666901,1082335.5582489299,1163402.49156178,1164033.4783039701,1163402.49156178,287.69046876017802,287.84650149429802,287.69046876017802,3.8104697849030198,3.81253644363309,3.8104697849030198,29.259937010390299,28.6674108855965,29.259937010390299,0.38754883457470701,0.37970080643174198,0.38754883457470701,{"$f":"output[[#This Row],[ishp_Program]]-output[[#This Row],[ishp_Baseline]]","v":0},{"$f":"output[[#This Row],[ishp_Market]]-output[[#This Row],[ishp_Program]]","v":0.15603273412000362}]
["All","Wood Products","Base",2021,"51-100 HP","Traditional","Non ASD Control","variable","Pumps",2020,1188371.1902274601,1188371.1902274601,1188371.1902274601,1277380.19237549,1277380.19237549,1277380.19237549,322.69657931391799,322.69657931391799,322.69657931391799,4.2741268783300397,4.2741268783300397,4.2741268783300397,32.820493339021802,32.138750429082101,32.820493339021802,0.43470852104664698,0.42567881363022703,0.43470852104664698,{"$f":"output[[#This Row],[ishp_Program]]-output[[#This Row],[ishp_Baseline]]","v":0},{"$f":"output[[#This Row],[ishp_Market]]-output[[#This Row],[ishp_Program]]","v":0}]
["All","Wood Products","Base",2021,"51-100 HP","Traditional","Non ASD Control","variable","Pumps",2021,1263643.6368706599,1263643.6368706599,1263643.6368706599,1358290.54527227,1358290.54527227,1358290.54527227,343.13645638944803,343.13645638944803,343.13645638944803,4.5448537270125602,4.5448537270125602,4.5448537270125602,0,0,0,0,0,0,{"$f":"output[[#This Row],[ishp_Program]]-output[[#This Row],[ishp_Baseline]]","v":0},{"$f":"output[[#This Row],[ishp_Market]]-output[[#This Row],[ishp_Program]]","v":0}]
["All","Wood Products","Base",2021,"51-100 HP","Traditional","Non ASD Control","variable","Pumps","2014 and before",8954393.2131106704,8951344.4257309791,8954393.2131106704,9625077.2647726592,9621800.1232182309,9625077.2647726592,2365.61373162061,2364.8082886253601,2365.61373162061,31.3326322068955,31.321964087753202,31.3326322068955,2897.1624353500001,2900.4153769233199,2897.1624353500001,38.373012388741799,38.4160977075937,38.373012388741799,{"$f":"output[[#This Row],[ishp_Program]]-output[[#This Row],[ishp_Baseline]]","v":0},{"$f":"output[[#This Row],[ishp_Market]]-output[[#This Row],[ishp_Program]]","v":-0.80544299524990493}]
["All","Wood Products","Base",2021,"6-10 HP","Traditional","ASD Control","constant","Fans",2015,171904.34239758999,230767.62963708301,172077.87578458199,184779.97764316999,248052.125096901,184966.50868084701,40.372786211642399,54.197189238868297,40.413541588940397,5.0465982764552999,6.7746486548585398,5.0516926986175497,10.393312127715699,12.4450738642914,10.393312127715699,1.29916401596447,1.5556342330364199,1.29916401596447,{"$f":"output[[#This Row],[ishp_Program]]-output[[#This Row],[ishp_Baseline]]","v":4.0755377297998052E-2},{"$f":"output[[#This Row],[ishp_Market]]-output[[#This Row],[ishp_Program]]","v":13.7836476499279}]
["All","Wood Products","Base",2021,"6-10 HP","Traditional","ASD Control","constant","Fans",2016,158124.357858339,222075.659719202,158300.18084009801,169967.87226192799,238709.12663216999,170156.86438502101,37.643418727752398,52.867800769449403,37.685275518280903,4.7054273409690603,6.60847509618117,4.7106594397851103,6.2727920115603304,8.5603758749449792,6.2727920115603304,0.78409900144504197,1.07004698436812,0.78409900144504197,{"$f":"output[[#This Row],[ishp_Program]]-output[[#This Row],[ishp_Baseline]]","v":4.1856790528505883E-2},{"$f":"output[[#This Row],[ishp_Market]]-output[[#This Row],[ishp_Program]]","v":15.182525251168499}]
["All","Wood Products","Base",2021,"6-10 HP","Traditional","ASD Control","constant","Fans",2017,169208.174483932,236385.03689273601,169395.69339566,181881.86675277899,254090.27615600199,182083.430830995,40.282055532289696,56.274321333215099,40.326696680618497,5.0352569415362201,7.0342901666518802,5.0408370850773103,5.30326806648086,7.5618987880838997,5.30326806648086,0.66290850831010695,0.94523734851048802,0.66290850831010695,{"$f":"output[[#This Row],[ishp_Program]]-output[[#This Row],[ishp_Baseline]]","v":4.4641148328800284E-2},{"$f":"output[[#This Row],[ishp_Market]]-output[[#This Row],[ishp_Program]]","v":15.947624652596602}]
["All","Wood Products","Base",2021,"6-10 HP","Traditional","ASD Control","constant","Fans",2018,176051.582538177,252125.28692823101,176247.671505757,189237.84607028699,271009.47091915598,189448.622101538,41.911211712905498,60.021478513745699,41.957893066837698,5.2389014641131899,7.5026848142182203,5.2447366333547203,5.4211397000442796,7.9608243411919801,5.4211397000442796,0.67764246250553595,0.99510304264899696,0.67764246250553595,{"$f":"output[[#This Row],[ishp_Program]]-output[[#This Row],[ishp_Baseline]]","v":4.6681353932200409E-2},{"$f":"output[[#This Row],[ishp_Market]]-output[[#This Row],[ishp_Program]]","v":18.063585446908}]
["All","Wood Products","Base",2021,"6-10 HP","Traditional","ASD Control","constant","Fans",2019,185083.59887806201,264446.992841453,185289.57218790599,198946.36043402899,284254.07260527799,199167.76114478099,44.061392606242499,62.954809857593297,44.110427047578597,5.5076740757803204,7.8693512321991701,5.5138033809473299,4.7239137143607497,7.1444860099738099,4.7239137143607497,0.59048921429509305,0.89306075124672601,0.59048921429509305,{"$f":"output[[#This Row],[ishp_Program]]-output[[#This Row],[ishp_Baseline]]","v":4.9034441336097245E-2},{"$f":"output[[#This Row],[ishp_Market]]-output[[#This Row],[ishp_Program]]","v":18.8443828100147}]
["All","Wood Products","Base",2021,"6-10 HP","Traditional","ASD Control","constant","Fans",2020,195908.71321547599,278984.23448081099,196126.87369681301,210582.275835315,299880.15364342299,210816.776536705,46.638442197451802,66.415576317540697,46.690377942583403,5.8298052746814797,8.3019470396925801,5.8362972428229298,5.0002038195155398,7.5372229164289104,5.0002038195155398,0.62502547743944203,0.94215286455361402,0.62502547743944203,{"$f":"output[[#This Row],[ishp_Program]]-output[[#This Row],[ishp_Baseline]]","v":5.1935745131601152E-2},{"$f":"output[[#This Row],[ishp_Market]]-output[[#This Row],[ishp_Program]]","v":19.725198374957294}]
["All","Wood Products","Base",2021,"6-10 HP","Traditional","ASD Control","constant","Fans",2021,205312.79117270501,292035.60088239098,205541.42386908599,220690.71923154101,313909.06738848198,220936.476516881,48.877196865531197,69.522612178923495,48.9316256483025,6.1096496081914102,8.6903265223654405,6.1164532060378098,0.11004227575459199,0.81261384731734998,0.11004227575459199,1.3755284469323999E-2,0.101576730914668,1.3755284469323999E-2,{"$f":"output[[#This Row],[ishp_Program]]-output[[#This Row],[ishp_Baseline]]","v":5.4428782771303474E-2},{"$f":"output[[#This Row],[ishp_Market]]-output[[#This Row],[ishp_Program]]","v":20.590986530620995}]
["All","Wood Products","Base",2021,"6-10 HP","Traditional","ASD Control","constant","Fans","2014 and before",3257687.6837067199,4355600.7000480397,3261334.5619271798,3501688.4912163499,4681835.1924816398,3505608.5206155302,765.08787715437802,1022.93946408642,765.94436880945295,95.635984644297295,127.867433010802,95.743046101181605,591.95985174098996,630.14362637192403,591.95985174098996,73.994981467623802,78.767953296490504,73.994981467623802,{"$f":"output[[#This Row],[ishp_Program]]-output[[#This Row],[ishp_Baseline]]","v":0.85649165507493308},{"$f":"output[[#This Row],[ishp_Market]]-output[[#This Row],[ishp_Program]]","v":256.99509527696705}]
["All","Wood Products","Base",2021,"6-10 HP","Traditional","ASD Control","constant","Pumps",2015,36926.361887956104,59938.983852475198,36926.361887956104,39692.146393363997,64428.413743025601,39692.146393363997,10.972687779451499,17.810900451725999,10.972687779451499,1.3715859724314401,2.2263625564657499,1.3715859724314401,3.6002187590028698,5.1094294174040202,3.6002187590028698,0.450027344875359,0.63867867717550197,0.450027344875359,{"$f":"output[[#This Row],[ishp_Program]]-output[[#This Row],[ishp_Baseline]]","v":0},{"$f":"output[[#This Row],[ishp_Market]]-output[[#This Row],[ishp_Program]]","v":6.8382126722744996}]
["All","Wood Products","Base",2021,"6-10 HP","Traditional","ASD Control","constant","Pumps",2016,33860.765150116902,64580.846719074201,33860.765150116902,36396.936459860699,69417.952138332897,36396.936459860699,10.199095936387801,19.452196322820502,10.199095936387801,1.27488699204848,2.4315245403525698,1.27488699204848,1.9281773460788301,3.9088134867109501,1.9281773460788301,0.24102216825985401,0.48860168583886898,0.24102216825985401,{"$f":"output[[#This Row],[ishp_Program]]-output[[#This Row],[ishp_Baseline]]","v":0},{"$f":"output[[#This Row],[ishp_Market]]-output[[#This Row],[ishp_Program]]","v":9.2531003864327008}]
["All","Wood Products","Base",2021,"6-10 HP","Traditional","ASD Control","constant","Pumps",2017,37731.386223763002,68472.757729934005,37731.386223763002,40557.467051922802,73601.367283906104,40557.467051922802,11.364953692067701,20.624466754385399,11.364953692067701,1.4206192115084699,2.5780583442981699,1.4206192115084699,1.61082935872023,3.42617482677923,1.61082935872023,0.201353669840029,0.42827185334740397,0.201353669840029,{"$f":"output[[#This Row],[ishp_Program]]-output[[#This Row],[ishp_Baseline]]","v":0},{"$f":"output[[#This Row],[ishp_Market]]-output[[#This Row],[ishp_Program]]","v":9.2595130623176978}]
["All","Wood Products","Base",2021,"6-10 HP","Traditional","ASD Control","constant","Pumps",2018,41276.084122546599,72864.837778128101,41276.084122546599,44367.6628233253,78322.414127709897,44367.6628233253,12.432641140208,21.947391548708001,12.432641140208,1.55408014252601,2.7434239435885002,1.55408014252601,1.7175389375055099,3.5795565865604799,1.7175389375055099,0.21469236718818899,0.44744457332005999,0.21469236718818899,{"$f":"output[[#This Row],[ishp_Program]]-output[[#This Row],[ishp_Baseline]]","v":0},{"$f":"output[[#This Row],[ishp_Market]]-output[[#This Row],[ishp_Program]]","v":9.5147504085000012}]
["All","Wood Products","Base",2021,"6-10 HP","Traditional","ASD Control","constant","Pumps",2019,45011.726582327799,80922.6377291479,45011.726582327799,48383.104903344101,86983.743295061096,48383.104903344101,13.557842406701599,24.374456453246601,13.557842406701599,1.6947303008376999,3.0468070566558301,1.6947303008376999,1.5100644724805301,3.4079316296386302,1.5100644724805301,0.18875805906006601,0.42599145370482899,0.18875805906006601,{"$f":"output[[#This Row],[ishp_Program]]-output[[#This Row],[ishp_Baseline]]","v":0},{"$f":"output[[#This Row],[ishp_Market]]-output[[#This Row],[ishp_Program]]","v":10.816614046545002}]
["All","Wood Products","Base",2021,"6-10 HP","Traditional","ASD Control","constant","Pumps",2020,48910.673250336898,83492.876633755994,48910.673250336898,52574.082676787097,89746.493093624304,52574.082676787097,15.0503725414841,25.691711325800298,15.0503725414841,1.88129656768551,3.21146391572504,1.88129656768551,1.67629965261113,3.5920751519105698,1.67629965261113,0.209537456576392,0.449009393988821,0.209537456576392,{"$f":"output[[#This Row],[ishp_Program]]-output[[#This Row],[ishp_Baseline]]","v":0},{"$f":"output[[#This Row],[ishp_Market]]-output[[#This Row],[ishp_Program]]","v":10.641338784316199}]
["All","Wood Products","Base",2021,"6-10 HP","Traditional","ASD Control","constant","Pumps",2021,52735.7835393524,96360.068610718503,52735.7835393524,56685.693726449899,103577.437749661,56685.693726449899,16.227402646289502,29.651093193739499,16.227402646289502,2.0284253307861899,3.70638664921744,2.0284253307861899,1.19842297396282E-2,0.982371497022545,1.19842297396282E-2,1.49802871745352E-3,0.122796437127818,1.49802871745352E-3,{"$f":"output[[#This Row],[ishp_Program]]-output[[#This Row],[ishp_Baseline]]","v":0},{"$f":"output[[#This Row],[ishp_Market]]-output[[#This Row],[ishp_Program]]","v":13.423690547449997}]
["All","Wood Products","Base",2021,"6-10 HP","Traditional","ASD Control","constant","Pumps","2014 and before",362352.211666419,581352.79288332595,362352.211666419,389492.39232023398,624896.117070287,389492.39232023398,107.673149520482,172.74928695592499,107.673149520482,13.4591436900603,21.593660869490702,13.4591436900603,113.12518945572501,127.679270410794,113.12518945572501,14.140648681965599,15.9599088013493,14.140648681965599,{"$f":"output[[#This Row],[ishp_Program]]-output[[#This Row],[ishp_Baseline]]","v":0},{"$f":"output[[#This Row],[ishp_Market]]-output[[#This Row],[ishp_Program]]","v":65.076137435442988}]
["All","Wood Products","Base",2021,"6-10 HP","Traditional","ASD Control","variable","Fans",2015,1454285.4649869199,1508878.4210302599,1456887.52252884,1563211.4463144401,1621893.4147654199,1566008.3979662501,726.81217197596004,754.09624096498999,728.11260929667901,90.851521496995105,94.262030120623805,91.014076162084905,169.001022010649,173.15996551465699,169.001022010649,21.125127751331199,21.644995689332099,21.125127751331199,{"$f":"output[[#This Row],[ishp_Program]]-output[[#This Row],[ishp_Baseline]]","v":1.3004373207189701},{"$f":"output[[#This Row],[ishp_Market]]-output[[#This Row],[ishp_Program]]","v":25.983631668310977}]
["All","Wood Products","Base",2021,"6-10 HP","Traditional","ASD Control","variable","Fans",2016,1390702.8331433099,1452045.8147155801,1393444.4637134001,1494866.4753457401,1560804.04623777,1497813.4540455299,704.52316393588603,735.59921442819302,705.91206039712097,88.065395491985697,91.949901803524099,88.239007549640206,114.34356298829,119.10852498442399,114.34356298829,14.2929453735363,14.8885656230531,14.2929453735363,{"$f":"output[[#This Row],[ishp_Program]]-output[[#This Row],[ishp_Baseline]]","v":1.3888964612349355},{"$f":"output[[#This Row],[ishp_Market]]-output[[#This Row],[ishp_Program]]","v":29.687154031072055}]
["All","Wood Products","Base",2021,"6-10 HP","Traditional","ASD Control","variable","Fans",2017,1481743.42234332,1545607.94242597,1484654.9664630101,1592726.00467684,1661373.9773136701,1595855.62345109,750.64387529217902,782.99732469889,752.11884911567097,93.830484411522306,97.874665587361307,94.0148561394589,100.54709981265,105.215778359262,100.54709981265,12.5683874765813,13.151972294907701,12.5683874765813,{"$f":"output[[#This Row],[ishp_Program]]-output[[#This Row],[ishp_Baseline]]","v":1.4749738234919505},{"$f":"output[[#This Row],[ishp_Market]]-output[[#This Row],[ishp_Program]]","v":30.878475583219029}]
["All","Wood Products","Base",2021,"6-10 HP","Traditional","ASD Control","variable","Fans",2018,1575651.40752126,1648525.85884921,1578762.90309184,1693667.6979445999,1772000.4456770199,1697012.2445334101,798.21719524211096,835.13503117088101,799.79346347980595,99.777149405263899,104.39187889636,99.974182934975801,105.488425837465,110.766403110257,105.488425837465,13.1860532296832,13.8458003887822,13.1860532296832,{"$f":"output[[#This Row],[ishp_Program]]-output[[#This Row],[ishp_Baseline]]","v":1.5762682376949897},{"$f":"output[[#This Row],[ishp_Market]]-output[[#This Row],[ishp_Program]]","v":35.341567691075056}]
["All","Wood Products","Base",2021,"6-10 HP","Traditional","ASD Control","variable","Fans",2019,1653743.70689968,1729091.5612052199,1657006.97968069,1777609.1105464599,1858600.5191394901,1781116.8024587799,837.77836713730301,875.94921675809201,839.43152495770505,104.72229589216199,109.493652094761,104.928940619713,94.442042165041897,99.407923536454604,94.442042165041897,11.8052552706302,12.425990442056801,11.8052552706302,{"$f":"output[[#This Row],[ishp_Program]]-output[[#This Row],[ishp_Baseline]]","v":1.6531578204020434},{"$f":"output[[#This Row],[ishp_Market]]-output[[#This Row],[ishp_Program]]","v":36.517691800386956}]
["All","Wood Products","Base",2021,"6-10 HP","Traditional","ASD Control","variable","Fans",2020,1745949.9492961301,1824143.5849462601,1749397.0028333401,1876721.6004984099,1960771.9394587299,1880426.83834556,884.48959262676306,924.10210097505205,886.235852867566,110.561199078345,115.512762621881,110.779481608445,99.707760652889505,104.87243985188,99.707760652889505,12.463470081611099,13.109054981485,12.463470081611099,{"$f":"output[[#This Row],[ishp_Program]]-output[[#This Row],[ishp_Baseline]]","v":1.7462602408029397},{"$f":"output[[#This Row],[ishp_Market]]-output[[#This Row],[ishp_Program]]","v":37.866248107486058}]
["All","Wood Products","Base",2021,"6-10 HP","Traditional","ASD Control","variable","Fans",2021,1828330.0263016799,1909480.18592134,1831939.72398339,1965271.9452716799,2052500.2518468499,1969152.00930974,926.22293142068202,967.33320016150196,928.05158637913803,115.777866427585,120.91665002018701,116.006448297392,9.8466878934148099,11.306657341901801,9.8466878934148099,1.2308359866768499,1.41333216773773,1.2308359866768499,{"$f":"output[[#This Row],[ishp_Program]]-output[[#This Row],[ishp_Baseline]]","v":1.8286549584560134},{"$f":"output[[#This Row],[ishp_Market]]-output[[#This Row],[ishp_Program]]","v":39.281613782363934}]
["All","Wood Products","Base",2021,"6-10 HP","Traditional","ASD Control","variable","Fans","2014 and before",27464451.501515798,28479175.8586867,27518963.3806956,29521538.918979399,30612266.130502298,29580133.737909701,13725.9830539011,14233.1145846414,13753.2266028871,1715.74788173763,1779.13932308018,1719.15332536089,8689.7126809342208,8767.7783034239692,8689.7126809342208,1086.2140851167701,1095.97228792799,1086.2140851167701,{"$f":"output[[#This Row],[ishp_Program]]-output[[#This Row],[ishp_Baseline]]","v":27.243548985999951},{"$f":"output[[#This Row],[ishp_Market]]-output[[#This Row],[ishp_Program]]","v":479.8879817543002}]
["All","Wood Products","Base",2021,"6-10 HP","Traditional","ASD Control","variable","Pumps",2015,106200.631185914,135887.681586511,106483.10778489101,114155.058461739,146065.66893734099,114458.69255798,47.138562238060203,60.315554289295697,47.263943232438599,5.8923202797575298,7.5394442861619702,5.9079929040548302,14.2520113885996,17.302778612907801,14.2520113885996,1.78150142357495,2.16284732661348,1.78150142357495,{"$f":"output[[#This Row],[ishp_Program]]-output[[#This Row],[ishp_Baseline]]","v":0.12538099437839634},{"$f":"output[[#This Row],[ishp_Market]]-output[[#This Row],[ishp_Program]]","v":13.051611056857098}]
["All","Wood Products","Base",2021,"6-10 HP","Traditional","ASD Control","variable","Pumps",2016,104641.45967936001,146411.24976606399,104964.36690992001,112479.105009345,157377.45237354201,112826.19799147399,47.080539670499299,65.873705068146805,47.225822875883203,5.8850674588124203,8.2342131335183506,5.9032278594854102,9.0709440534731396,13.236964223310601,9.0709440534731396,1.13386800668414,1.65462052791383,1.13386800668414,{"$f":"output[[#This Row],[ishp_Program]]-output[[#This Row],[ishp_Baseline]]","v":0.1452832053839046},{"$f":"output[[#This Row],[ishp_Market]]-output[[#This Row],[ishp_Program]]","v":18.647882192263602}]
["All","Wood Products","Base",2021,"6-10 HP","Traditional","ASD Control","variable","Pumps",2017,114430.99407298199,155234.60195215399,114783.331133944,123001.875529048,166861.67363837099,123380.602635876,51.485070759676198,69.843529112047506,51.643595105827899,6.4356338449595301,8.73044113900594,6.45544938822849,7.8461343357589701,11.6025371277169,7.8461343357589701,0.98076679196987104,1.4503171409646101,0.98076679196987104,{"$f":"output[[#This Row],[ishp_Program]]-output[[#This Row],[ishp_Baseline]]","v":0.15852434615170097},{"$f":"output[[#This Row],[ishp_Market]]-output[[#This Row],[ishp_Program]]","v":18.199934006219607}]
["All","Wood Products","Base",2021,"6-10 HP","Traditional","ASD Control","variable","Pumps",2018,123662.589901443,165191.887457034,124044.244757263,132924.917885061,177564.75982756601,133335.15868958199,55.638572774610402,74.323535188600999,55.810287854225699,6.9548215968263003,9.2904418985751303,6.9762859817782097,8.3048606979860207,12.121955328057,8.3048606979860207,1.0381075872482499,1.5152444160071299,1.0381075872482499,{"$f":"output[[#This Row],[ishp_Program]]-output[[#This Row],[ishp_Baseline]]","v":0.17171507961529642},{"$f":"output[[#This Row],[ishp_Market]]-output[[#This Row],[ishp_Program]]","v":18.513247334375301}]
["All","Wood Products","Base",2021,"6-10 HP","Traditional","ASD Control","variable","Pumps",2019,136275.039670714,183459.727244357,136695.39271843401,146482.04014205001,197200.86081496,146933.87763304499,61.313196805313503,82.542646030869307,61.502323069410402,7.6641496006641896,10.317830753858599,7.68779038367631,7.6440331682561196,11.5407576264206,7.6440331682561196,0.95550414603201494,1.4425947033025801,0.95550414603201494,{"$f":"output[[#This Row],[ishp_Program]]-output[[#This Row],[ishp_Baseline]]","v":0.18912626409689892},{"$f":"output[[#This Row],[ishp_Market]]-output[[#This Row],[ishp_Program]]","v":21.040322961458905}]
["All","Wood Products","Base",2021,"6-10 HP","Traditional","ASD Control","variable","Pumps",2020,144217.932050256,189286.716349316,144663.28954535499,155019.85516082001,203464.291403879,155498.56993230199,66.288105489928697,87.003451254821499,66.492808914781193,8.28601318624108,10.8754314068526,8.3116011143476491,8.2642578907584898,12.164348704520201,8.2642578907584898,1.0330322363448099,1.52054358806502,1.0330322363448099,{"$f":"output[[#This Row],[ishp_Program]]-output[[#This Row],[ishp_Baseline]]","v":0.2047034248524966},{"$f":"output[[#This Row],[ishp_Market]]-output[[#This Row],[ishp_Program]]","v":20.510642340040306}]
["All","Wood Products","Base",2021,"6-10 HP","Traditional","ASD Control","variable","Pumps",2021,161409.85846182401,218457.92970490901,161908.306118276,173499.456860615,234820.42863980599,174035.23824653501,74.190175748070899,100.411662291372,74.419281451934296,9.2737719685088695,12.5514577864215,9.3024101814917906,1.15583092633352,3.32674260470516,1.15583092633352,0.14447886579169,0.415842825588146,0.14447886579169,{"$f":"output[[#This Row],[ishp_Program]]-output[[#This Row],[ishp_Baseline]]","v":0.22910570386339657},{"$f":"output[[#This Row],[ishp_Market]]-output[[#This Row],[ishp_Program]]","v":25.992380839437701}]
["All","Wood Products","Base",2021,"6-10 HP","Traditional","ASD Control","variable","Pumps","2014 and before",1036522.28033526,1317985.02629263,1039770.63075414,1114157.7991323699,1416702.10476195,1117649.4509976199,460.074196142826,585.00517837757695,461.51601966761399,57.5092745178532,73.125647297197204,57.689502458451699,402.773121533439,432.37824987863701,402.773121533439,50.346640191679903,54.047281234829697,50.346640191679903,{"$f":"output[[#This Row],[ishp_Program]]-output[[#This Row],[ishp_Baseline]]","v":1.441823524787992},{"$f":"output[[#This Row],[ishp_Market]]-output[[#This Row],[ishp_Program]]","v":123.48915870996296}]
["All","Wood Products","Base",2021,"6-10 HP","Traditional","Non ASD Control","constant","Fans",2015,452006.90708593401,394426.53093849903,451826.55032389401,485862.22442667,423969.078105792,485668.358943153,102.140401231564,89.128912622507798,102.099645854266,12.7675501539455,11.1411140778134,12.7624557317832,26.206121295739599,24.4153904823552,26.206121295739599,3.2757651619674499,3.0519238102944,3.2757651619674499,{"$f":"output[[#This Row],[ishp_Program]]-output[[#This Row],[ishp_Baseline]]","v":-4.0755377297998052E-2},{"$f":"output[[#This Row],[ishp_Market]]-output[[#This Row],[ishp_Program]]","v":-12.970733231758203}]
["All","Wood Products","Base",2021,"6-10 HP","Traditional","Non ASD Control","constant","Fans",2016,444743.56217576598,381475.007718426,444560.82579153398,478054.85498273099,410047.48579653603,477858.43164332001,101.870999577397,87.378983430260504,101.829142786868,12.7338749471746,10.922372928782501,12.728642848358501,16.968046565814099,14.9232878446483,16.968046565814099,2.1210058207267699,1.8654109805810399,2.1210058207267699,{"$f":"output[[#This Row],[ishp_Program]]-output[[#This Row],[ishp_Baseline]]","v":-4.1856790528996157E-2},{"$f":"output[[#This Row],[ishp_Market]]-output[[#This Row],[ishp_Program]]","v":-14.4501593566075}]
["All","Wood Products","Base",2021,"6-10 HP","Traditional","Non ASD Control","constant","Fans",2017,476310.43950114801,409002.39819233998,476115.54730013199,511986.091419784,439636.67781694699,511776.601792912,109.101569326269,93.684286130126793,109.05692817793999,13.6376961657836,11.710535766265799,13.632116022242499,14.3830536201732,12.344517032055901,14.3830536201732,1.79788170252165,1.54306462900699,1.79788170252165,{"$f":"output[[#This Row],[ishp_Program]]-output[[#This Row],[ishp_Baseline]]","v":-4.4641148329006342E-2},{"$f":"output[[#This Row],[ishp_Market]]-output[[#This Row],[ishp_Program]]","v":-15.372642047813201}]
["All","Wood Products","Base",2021,"6-10 HP","Traditional","Non ASD Control","constant","Fans",2018,496115.33472181199,421029.14494642202,495911.53548825998,533274.37329247606,452564.22790290898,533055.30949633103,113.637991310174,96.439079718388498,113.591309956242,14.2047489137718,12.0548849647985,14.1989137445303,14.700862063951,12.4366849356222,14.700862063951,1.8376077579938801,1.5545856169527701,1.8376077579938801,{"$f":"output[[#This Row],[ishp_Program]]-output[[#This Row],[ishp_Baseline]]","v":-4.6681353932001457E-2},{"$f":"output[[#This Row],[ishp_Market]]-output[[#This Row],[ishp_Program]]","v":-17.152230237853502}]
["All","Wood Products","Base",2021,"6-10 HP","Traditional","Non ASD Control","constant","Fans",2019,521705.53260334203,442238.81750293699,521491.46037277998,560781.27699533198,475362.50493390701,560551.17075470102,119.499569215477,101.297273805496,119.45053477414,14.9374461519346,12.662159225687001,14.931316846767601,12.8195894089666,10.641581025201701,12.8195894089666,1.6024486761208301,1.3301976281502199,1.6024486761208301,{"$f":"output[[#This Row],[ishp_Program]]-output[[#This Row],[ishp_Baseline]]","v":-4.9034441336999635E-2},{"$f":"output[[#This Row],[ishp_Market]]-output[[#This Row],[ishp_Program]]","v":-18.153260968643991}]
["All","Wood Products","Base",2021,"6-10 HP","Traditional","Non ASD Control","constant","Fans",2020,552584.13884314604,468175.684665857,552357.40023853898,593972.69084249798,503242.04344733001,593728.96951640595,126.572486623919,107.23825824800601,126.52055087878701,15.8215608279899,13.4047822810008,15.815068859848401,13.5783546205683,11.265716478256101,13.5783546205683,1.6972943275710399,1.4082145597820199,1.6972943275710399,{"$f":"output[[#This Row],[ishp_Program]]-output[[#This Row],[ishp_Baseline]]","v":-5.1935745131999056E-2},{"$f":"output[[#This Row],[ishp_Market]]-output[[#This Row],[ishp_Program]]","v":-19.282292630781001}]
["All","Wood Products","Base",2021,"6-10 HP","Traditional","Non ASD Control","constant","Fans",2021,579109.47421142994,489957.15698207897,578871.85162173305,622484.77382986597,526654.94804003602,622229.35330820095,132.64826299912599,112.227426267135,132.593834216354,16.581032874890699,14.0284282833919,16.574229277044299,0.19663985308542101,0,0.19663985308542101,2.4579981635677602E-2,0,2.4579981635677602E-2,{"$f":"output[[#This Row],[ishp_Program]]-output[[#This Row],[ishp_Baseline]]","v":-5.4428782771992701E-2},{"$f":"output[[#This Row],[ishp_Market]]-output[[#This Row],[ishp_Program]]","v":-20.366407949218996}]
["All","Wood Products","Base",2021,"6-10 HP","Traditional","Non ASD Control","constant","Fans","2014 and before",9224643.4570806101,8064131.9594613304,9220853.1827201508,9915569.2520159502,8668135.4432249796,9911495.0861058906,2084.5008541986899,1822.2590429731299,2083.64436254361,260.56260677483601,227.78238037164101,260.45554531795199,1692.80646851761,1657.0887276195499,1692.80646851761,211.600808564701,207.13609095244399,211.600808564701,{"$f":"output[[#This Row],[ishp_Program]]-output[[#This Row],[ishp_Baseline]]","v":-0.8564916550799353},{"$f":"output[[#This Row],[ishp_Market]]-output[[#This Row],[ishp_Program]]","v":-261.38531957048008}]
["All","Wood Products","Base",2021,"6-10 HP","Traditional","Non ASD Control","constant","Pumps",2015,327167.54232493602,303259.00555797899,327167.54232493602,351672.391245073,325973.10507427203,351672.391245073,82.668522869679094,76.627326348611305,82.668522869679094,10.3335653587098,9.5784157935764096,10.3335653587098,26.365671979763601,25.217425578701501,26.365671979763601,3.2957089974704501,3.1521781973376801,3.2957089974704501,{"$f":"output[[#This Row],[ishp_Program]]-output[[#This Row],[ishp_Baseline]]","v":0},{"$f":"output[[#This Row],[ishp_Market]]-output[[#This Row],[ishp_Program]]","v":-6.0411965210677891}]
["All","Wood Products","Base",2021,"6-10 HP","Traditional","Non ASD Control","constant","Pumps",2016,342902.69783645199,311455.28000900999,342902.69783645199,368586.10990440199,334783.28048168501,368586.10990440199,87.827248501332406,79.772659844892999,87.827248501332406,10.978406062666499,9.9715824806116302,10.978406062666499,15.983666385237701,14.4525517085138,15.983666385237701,1.9979582981547099,1.8065689635642199,1.9979582981547099,{"$f":"output[[#This Row],[ishp_Program]]-output[[#This Row],[ishp_Baseline]]","v":0},{"$f":"output[[#This Row],[ishp_Market]]-output[[#This Row],[ishp_Program]]","v":-8.0545886564394067}]
["All","Wood Products","Base",2021,"6-10 HP","Traditional","Non ASD Control","constant","Pumps",2017,382817.61428170901,348857.42888481601,382817.61428170901,411490.65359140898,374986.85030828899,411490.65359140898,98.050607219902503,89.352426479934195,98.050607219902503,12.2563259024878,11.1690533099917,12.2563259024878,13.266132652207901,11.754159559206901,13.266132652207901,1.65826658152599,1.4692699449008599,1.65826658152599,{"$f":"output[[#This Row],[ishp_Program]]-output[[#This Row],[ishp_Baseline]]","v":0},{"$f":"output[[#This Row],[ishp_Market]]-output[[#This Row],[ishp_Program]]","v":-8.6981807399683078}]
["All","Wood Products","Base",2021,"6-10 HP","Traditional","Non ASD Control","constant","Pumps",2018,419655.28597874899,383861.83422780299,419655.28597874899,451087.46689855697,412613.08561146498,451087.46689855697,107.485795005708,98.318061997232306,107.485795005708,13.4357243757135,12.289757749653999,13.4357243757135,14.1444784693998,12.521230396946001,14.1444784693998,1.7680598086749799,1.5651537996182501,1.7680598086749799,{"$f":"output[[#This Row],[ishp_Program]]-output[[#This Row],[ishp_Baseline]]","v":0},{"$f":"output[[#This Row],[ishp_Market]]-output[[#This Row],[ishp_Program]]","v":-9.1677330084756932}]
["All","Wood Products","Base",2021,"6-10 HP","Traditional","Non ASD Control","constant","Pumps",2019,457896.31630922499,417165.701731037,457896.31630922499,492192.750400786,448411.412790692,492192.750400786,117.280423321475,106.848140838015,117.280423321475,14.6600529151844,13.3560176047518,14.6600529151844,12.325189158957199,10.6412950647799,12.325189158957199,1.5406486448696499,1.3301618830974899,1.5406486448696499,{"$f":"output[[#This Row],[ishp_Program]]-output[[#This Row],[ishp_Baseline]]","v":0},{"$f":"output[[#This Row],[ishp_Market]]-output[[#This Row],[ishp_Program]]","v":-10.43228248346}]
["All","Wood Products","Base",2021,"6-10 HP","Traditional","Non ASD Control","constant","Pumps",2020,498273.48309052899,457786.83711577702,498273.48309052899,535594.16697400901,492075.07121574902,535594.16697400901,130.378160943452,119.784431547666,130.378160943452,16.2972701179315,14.9730539434583,16.2972701179315,13.7017098701983,11.929850508439801,13.7017098701983,1.71271373377478,1.49123131355498,1.71271373377478,{"$f":"output[[#This Row],[ishp_Program]]-output[[#This Row],[ishp_Baseline]]","v":0},{"$f":"output[[#This Row],[ishp_Market]]-output[[#This Row],[ishp_Program]]","v":-10.593729395785999}]
["All","Wood Products","Base",2021,"6-10 HP","Traditional","Non ASD Control","constant","Pumps",2021,537241.48128507496,486783.44655408099,537241.48128507496,577480.86823332706,523243.52670098201,577480.86823332706,140.57452120075601,127.371679796786,140.57452120075601,17.571815150094501,15.921459974598299,17.571815150094501,0,0,0,0,0,0,{"$f":"output[[#This Row],[ishp_Program]]-output[[#This Row],[ishp_Baseline]]","v":0},{"$f":"output[[#This Row],[ishp_Market]]-output[[#This Row],[ishp_Program]]","v":-13.202841403970012}]
["All","Wood Products","Base",2021,"6-10 HP","Traditional","Non ASD Control","constant","Pumps","2014 and before",3745637.4078007801,3474017.3836473199,3745637.4078007801,4026185.6496450598,3734221.2856824999,4026185.6496450598,946.44569417821504,877.81288904410303,946.44569417821504,118.305711772276,109.726611130512,118.305711772276,1087.6142109682301,1076.6293461043999,1087.6142109682301,135.95177637102901,134.57866826304999,135.95177637102901,{"$f":"output[[#This Row],[ishp_Program]]-output[[#This Row],[ishp_Baseline]]","v":0},{"$f":"output[[#This Row],[ishp_Market]]-output[[#This Row],[ishp_Program]]","v":-68.632805134112004}]
["All","Wood Products","Base",2021,"6-10 HP","Traditional","Non ASD Control","variable","Fans",2015,319086.604516119,215155.508912141,313815.50303593301,342986.19119437702,231270.65652966101,337320.28421332501,78.722090745900601,53.081173754526603,77.421653425182299,9.8402613432375805,6.63514671931582,9.6777066781477803,18.2298154590084,14.540709028589999,18.2298154590084,2.2787269323760602,1.8175886285737499,2.2787269323760602,{"$f":"output[[#This Row],[ishp_Program]]-output[[#This Row],[ishp_Baseline]]","v":-1.3004373207183022},{"$f":"output[[#This Row],[ishp_Market]]-output[[#This Row],[ishp_Program]]","v":-24.340479670655697}]
["All","Wood Products","Base",2021,"6-10 HP","Traditional","Non ASD Control","variable","Fans",2016,326403.503081873,208090.58971674199,320849.66242949601,350851.12546270603,223676.57488652601,344881.30214546598,81.626517349084594,52.038994592022803,80.237620887849104,10.2033146686355,6.5048743240028504,10.029702610981101,13.219889547446501,8.8876393951489998,13.219889547446501,1.6524861934308199,1.1109549243936201,1.6524861934308199,{"$f":"output[[#This Row],[ishp_Program]]-output[[#This Row],[ishp_Baseline]]","v":-1.3888964612354897},{"$f":"output[[#This Row],[ishp_Market]]-output[[#This Row],[ishp_Program]]","v":-28.198626295826301}]
["All","Wood Products","Base",2021,"6-10 HP","Traditional","Non ASD Control","variable","Fans",2017,348050.96203813399,223106.49063077499,342152.92009567103,374119.97909479,239817.16677901999,367780.17381083599,87.040082667388106,55.794149438397099,85.565108843895302,10.880010333423501,6.97426867979964,10.6956386054869,11.6491818760918,7.3518394224053498,11.6491818760918,1.4561477345114799,0.91897992780066895,1.4561477345114799,{"$f":"output[[#This Row],[ishp_Program]]-output[[#This Row],[ishp_Baseline]]","v":-1.4749738234928031},{"$f":"output[[#This Row],[ishp_Market]]-output[[#This Row],[ishp_Program]]","v":-29.770959405498203}]
["All","Wood Products","Base",2021,"6-10 HP","Traditional","Non ASD Control","variable","Fans",2018,370484.38374077098,229666.95402626399,364181.29142115102,398233.664082954,246869.00888283199,391458.47014859598,92.650200415880207,57.434780663594502,91.073932178185402,11.581275051984999,7.1793475829493199,11.384241522273101,12.2198509327932,7.4067304825545204,12.2198509327932,1.52748136659915,0.92584131031931505,1.52748136659915,{"$f":"output[[#This Row],[ishp_Program]]-output[[#This Row],[ishp_Baseline]]","v":-1.576268237694805},{"$f":"output[[#This Row],[ishp_Market]]-output[[#This Row],[ishp_Program]]","v":-33.6391515145909}]
["All","Wood Products","Base",2021,"6-10 HP","Traditional","Non ASD Control","variable","Fans",2019,388937.47054445703,241236.60650856301,382326.91650821699,418068.88708823698,259305.22833605399,410963.20255468198,97.264921752824506,60.328102671944201,95.611763932423003,12.158115219102999,7.5410128339930198,11.951470491552801,10.943348294675801,6.3376472886415902,10.943348294675801,1.3679185368344799,0.792205911080199,1.3679185368344799,{"$f":"output[[#This Row],[ishp_Program]]-output[[#This Row],[ishp_Baseline]]","v":-1.6531578204015034},{"$f":"output[[#This Row],[ishp_Market]]-output[[#This Row],[ishp_Program]]","v":-35.283661260478802}]
["All","Wood Products","Base",2021,"6-10 HP","Traditional","Non ASD Control","variable","Fans",2020,410850.14508877503,255384.89374661,403867.29835708102,441622.82095592498,274513.22228823201,434116.95900402602,102.74481180292599,63.866285941400797,100.998551562123,12.8431014753657,7.9832857426751103,12.6248189452653,11.559884259602001,6.7093543077797797,11.559884259602001,1.4449855324502501,0.83866928847247302,1.4449855324502501,{"$f":"output[[#This Row],[ishp_Program]]-output[[#This Row],[ishp_Baseline]]","v":-1.7462602408029966},{"$f":"output[[#This Row],[ishp_Market]]-output[[#This Row],[ishp_Program]]","v":-37.132265620722201}]
["All","Wood Products","Base",2021,"6-10 HP","Traditional","Non ASD Control","variable","Fans",2021,430235.50410424999,267266.45696169499,422923.18203352398,462460.14336165797,287284.71458812599,454600.12836783502,107.59267443017799,66.837610136003903,105.76401947172199,13.449084303772199,8.3547012670004897,13.2205024339652,1.11365228149336,0,1.11365228149336,0.13920653518667001,0,0.13920653518667001,{"$f":"output[[#This Row],[ishp_Program]]-output[[#This Row],[ishp_Baseline]]","v":-1.8286549584559992},{"$f":"output[[#This Row],[ishp_Market]]-output[[#This Row],[ishp_Program]]","v":-38.926409335718091}]
["All","Wood Products","Base",2021,"6-10 HP","Traditional","Non ASD Control","variable","Fans","2014 and before",6487970.3354329104,4398898.8558761701,6377543.2436398901,6973919.3135568397,4728376.3801812902,6855221.2325885203,1600.6519304600199,1085.2555701592501,1573.4083814739399,200.081491307503,135.656946269907,196.676047684243,1060.5587230544099,986.88755521996995,1060.5587230544099,132.56984038180201,123.360944402496,132.56984038180201,{"$f":"output[[#This Row],[ishp_Program]]-output[[#This Row],[ishp_Baseline]]","v":-27.243548986079986},{"$f":"output[[#This Row],[ishp_Market]]-output[[#This Row],[ishp_Program]]","v":-488.15281131468987}]
["All","Wood Products","Base",2021,"6-10 HP","Traditional","Non ASD Control","variable","Pumps",2015,140971.867305647,102936.701041892,140565.57835973601,151530.66016684001,110646.65994993001,151093.94017888099,43.503996552402498,31.766323117029401,43.378615558024102,5.4379995690503096,3.9707903896286698,5.42232694475301,12.7349914923906,10.4540367945017,12.7349914923906,1.5918739365488199,1.3067545993127101,1.5918739365488199,{"$f":"output[[#This Row],[ishp_Program]]-output[[#This Row],[ishp_Baseline]]","v":-0.12538099437839634},{"$f":"output[[#This Row],[ishp_Market]]-output[[#This Row],[ishp_Program]]","v":-11.6122924409947}]
["All","Wood Products","Base",2021,"6-10 HP","Traditional","Non ASD Control","variable","Pumps",2016,158769.37394663499,105718.802932883,158304.933214886,170661.20005523801,113637.14127255599,170161.97271268099,49.665160669525598,33.0702402039853,49.5198774641417,6.2081450836906997,4.1337800254981598,6.1899846830177099,9.1761555993586406,5.9913930097150701,9.1761555993586406,1.1470194499198301,0.74892412621438398,1.1470194499198301,{"$f":"output[[#This Row],[ishp_Program]]-output[[#This Row],[ishp_Baseline]]","v":-0.1452832053838975},{"$f":"output[[#This Row],[ishp_Market]]-output[[#This Row],[ishp_Program]]","v":-16.4496372601564}]
["All","Wood Products","Base",2021,"6-10 HP","Traditional","Non ASD Control","variable","Pumps",2017,173929.551073838,118414.398930336,173422.781119719,186956.87444926801,127283.637410218,186412.14742558601,54.407464642167497,37.0415905931401,54.248940296015697,6.80093308027093,4.6301988241425196,6.7811175370019701,7.8916788540690099,4.8727581702144702,7.8916788540690099,0.98645985675862602,0.609094771276808,0.98645985675862602,{"$f":"output[[#This Row],[ishp_Program]]-output[[#This Row],[ishp_Baseline]]","v":-0.15852434615180044},{"$f":"output[[#This Row],[ishp_Market]]-output[[#This Row],[ishp_Program]]","v":-17.207349702875597}]
["All","Wood Products","Base",2021,"6-10 HP","Traditional","Non ASD Control","variable","Pumps",2018,188306.468683602,130296.11700598001,187757.53064896801,202410.623188003,140055.29616972801,201820.56969457501,58.904754675328697,40.758349200850198,58.7330395957135,7.3630943344160897,5.09479365010628,7.3416299494641803,8.3529355518174793,5.1907520406310903,8.3529355518174793,1.04411694397718,0.64884400507888695,1.04411694397718,{"$f":"output[[#This Row],[ishp_Program]]-output[[#This Row],[ishp_Baseline]]","v":-0.17171507961519694},{"$f":"output[[#This Row],[ishp_Market]]-output[[#This Row],[ishp_Program]]","v":-17.974690394863302}]
["All","Wood Products","Base",2021,"6-10 HP","Traditional","Non ASD Control","variable","Pumps",2019,207614.14184151599,141600.61312939,207009.54380653999,223164.44106544499,152206.499052781,222514.55863765001,64.944450277232306,44.294545145326701,64.755324013135393,8.1180562846540401,5.5368181431658403,8.0944155016419206,7.6284874529333297,4.4114134411212902,7.6284874529333297,0.953560931616667,0.55142668014016105,0.953560931616667,{"$f":"output[[#This Row],[ishp_Program]]-output[[#This Row],[ishp_Baseline]]","v":-0.18912626409691313},{"$f":"output[[#This Row],[ishp_Market]]-output[[#This Row],[ishp_Program]]","v":-20.460778867808692}]
["All","Wood Products","Base",2021,"6-10 HP","Traditional","Non ASD Control","variable","Pumps",2020,219972.92253910101,155388.84560541401,219332.36035486401,236448.894437279,167027.47014125899,235760.35414544301,70.296392335768701,49.657362957200803,70.091688910916204,8.7870490419710894,6.2071703696501102,8.7614611138645202,8.2571273423899694,4.9455919193222098,8.2571273423899694,1.03214091779874,0.618198989915276,1.03214091779874,{"$f":"output[[#This Row],[ishp_Program]]-output[[#This Row],[ishp_Baseline]]","v":-0.2047034248524966},{"$f":"output[[#This Row],[ishp_Market]]-output[[#This Row],[ishp_Program]]","v":-20.434325953715401}]
["All","Wood Products","Base",2021,"6-10 HP","Traditional","Non ASD Control","variable","Pumps",2021,246195.44731855701,165231.30786465399,245478.52501892499,264635.48632271698,177607.13282371699,263864.86654284201,78.6762823179251,52.802702758751103,78.447176614061704,9.8345352897406393,6.6003378448438896,9.80589707675772,0.71098790808993495,0,0.71098790808993495,8.8873488511241897E-2,0,8.8873488511241897E-2,{"$f":"output[[#This Row],[ishp_Program]]-output[[#This Row],[ishp_Baseline]]","v":-0.22910570386339657},{"$f":"output[[#This Row],[ishp_Market]]-output[[#This Row],[ishp_Program]]","v":-25.644473855310601}]
["All","Wood Products","Base",2021,"6-10 HP","Traditional","Non ASD Control","variable","Pumps","2014 and before",1604035.0723060099,1179202.8671230001,1599362.9370834499,1724177.2992217301,1267525.1618705201,1719155.221071,495.00611426417697,363.90265977449701,493.56429073938898,61.8757642830222,45.487832471812197,61.695536342423601,470.90135446631899,446.32322847903203,470.90135446631899,58.862669308289902,55.790403559879003,58.862669308289902,{"$f":"output[[#This Row],[ishp_Program]]-output[[#This Row],[ishp_Baseline]]","v":-1.441823524787992},{"$f":"output[[#This Row],[ishp_Market]]-output[[#This Row],[ishp_Program]]","v":-129.66163096489197}]

{"sheet":"FacilityDefinitions","index":7,"n_rows":15,"n_cols":5,"rows_kept":15,"cut":false,"hidden":true,"merged":[[3,4,3,8]]}
[null,null,"Definitions"]
[]
[]
[null,null,"Facility Type","NAICS Code","Definition"]
[null,null,"Primary Metal","331 (excluding 3313 -Alumina and Aluminum Production and Processing)","The Primary Metal industry includes establishments that smelt and or refine ferrous and nonferrous metals from ore, pig or scrap, using electro-metallurgical and other process metallurgical techniques. \n\nThis industry is covered under the NAICS Code 331 - Primary Metal Manufacturing.  The Seventh Power Plan does not include primary metal establishments that work with aluminum, as they are direct service industries (DSI), or industries that purchase electricity directly from Bonneville Power Administration. To account for these establishments, the model does not include NAICS Code 3313 - Alumina and Aluminum Production and Processing in the calculation of market size."]
[null,null,"Wood Products",321,"Establishments in the Wood Product Manufacturing subsector manufacture wood products, such as lumber, plywood, veneers, wood containers, wood flooring, wood trusses, manufactured homes (i.e., mobile homes), and prefabricated wood buildings.\n\nCertain wood products NAICS codes are carved out of the 7th Plan scope compared to the Model. Specifically 3219 is not included in the 7th Plan scope. "]
[null,null,"Paper",322,"Industries in the Paper Manufacturing subsector make pulp, paper, or converted paper products."]
[null,null,"Computer - Elec",334,"Industries in the Computer and Electronic Product Manufacturing subsector group establishments that manufacture computers, computer peripherals, communications equipment, and similar electronic products, and establishments that manufacture components for such products. \n\nCertain computer-elec products NAICS codes are carved out of the 7th Plan scope compared to the Model. Specifically 3341, 3342, 3343, 3345, 3346 are not included in the 7th Plan scope"]
[null,null,"Chemical",325,"The Chemical Manufacturing subsector is based on the transformation of organic and inorganic raw materials by a chemical process and the formulation of products. "]
[null,null,"Food",311,"Industries in the Food Manufacturing subsector transform livestock and agricultural products into products for intermediate or final consumption. "]
[null,null,"Warehousing",493,"Industries in the Warehousing and Storage subsector are primarily engaged in operating warehousing and storage facilities for general merchandise, refrigerated goods, and other warehouse products. These establishments provide facilities to store goods."]
[null,null,"Refinery",324,"The Petroleum and Coal Products Manufacturing subsector is based on the transformation of crude petroleum and coal into usable products."]
[null,null,"Fabricated Metal",332,"Industries in the Fabricated Metal Product Manufacturing subsector transform metal into intermediate or end products, other than machinery, computers and electronics, and metal furniture, or treat metals and metal formed products fabricated elsewhere."]
[null,null,"Transportation",336,"Industries in the Transportation Equipment Manufacturing subsector produce equipment for transporting people and goods."]
[null,null,"Misc Manf","313, 315, 316, 323, 325, 326, 327, 335, 337, 339","The miscellaneous manufacturing facility type consists of nine unique industries, all of which represent a small portion of the regional industrial sector. These industries include Furniture Manufacturing, Textiles, Apparel, Leather, Printing, Rubber and Plastics, Stone & Clay & Gravel, Light Manufacturing, and Miscellaneous."]