{"text_format":"1","workbook":"xlsx","n_sheets":11,"sheets":["Cover","Comments","Navigation","Definitions","Floor Space","Saturation and Lifetime","Council Shipments","Pre-Rinse Spray Valves","ACIM","BVM","Sheet1"],"not_rendered":{"charts":3,"images":0,"macros":1,"external_links":0,"defined_names":103,"comments":3,"pivot_tables":0},"unopened":[],"bounds":{"document_bytes":16777216,"sheet_cells":100000,"rows_first":2000,"rows_last":500,"rows_between":2000,"halvings":0,"cell_chars":16384,"cell_head_chars":4096},"cells_cut":0,"cells_raw":0,"read":"whole","date_system":"1900"}

{"sheet":"Cover","index":0,"n_rows":19,"n_cols":4,"rows_kept":19,"cut":false,"hidden":false,"merged":[[13,2,13,3],[10,2,10,3],[8,2,8,3],[9,2,9,3]]}
[]
[null,null,"Cover"]
[]
[null,null,"NAVIGATION"]
[]
[null,null,"COMMENTS"]
[]
[]
[null,null,"Bonneville Power Administration "]
[null,null,"6P Energy Conservation Standards Savings Model"]
[null,null,"CENTRAL COMMERCIAL STOCK MODEL"]
[]
[null,null,null,"Model Description"]
[null,null,"This model serves as the centralized linking model for calculating the shipment and stock for individualcommercial  appliance models when the shipment of an appliance is driven by commercial floor space. The central commercial model contains information on commercial building stock as captured in the Sixth Plan, as well as market penetration data, and appliance specific lifetime for each appliance modeled.  The function of the central model is to centralize common stock model driving factors and conduct shipment forecast and stock turnover modeling for each linked product. "]
[]
[null,null,null,"Prepared By:"]
[null,null,"Navigant Consulting","Cadeo Group"]
[null,null,"One Market Street | Spear Street Tower, Suite 1200 ","840 First Street, Suite 300"]
[null,null,"San Francisco, CA 94105","Washington, DC  20002"]

{"sheet":"Comments","index":1,"n_rows":8,"n_cols":4,"rows_kept":8,"cut":false,"hidden":false,"merged":[[13,3,13,7],[14,3,14,7],[15,3,15,7],[16,3,16,7],[7,3,7,7],[8,3,8,7],[9,3,9,7],[10,3,10,7],[11,3,11,7],[12,3,12,7]]}
[]
[null,null,"Comments"]
[]
[null,null,"NAVIGATION"]
[]
[]
[null,null,"Tab","Comment"]
[null,null,"Example","Please use this space to document your comments as you review the model.  We look forward to receiving your feedback.  Thank you."]

{"sheet":"Navigation","index":2,"n_rows":11,"n_cols":8,"rows_kept":11,"cut":false,"hidden":false,"merged":[]}
[]
[null,null,"NAVIGATION"]
[]
[]
[null,null,"INFORMATION TABS",null,"INPUT TABS",null,null,"PRODUCT STOCK MODELS"]
[]
[null,null,"COVER",null,"FLOOR SPACE",null,null,"PRE-RINSE SPRAY VALVES"]
[]
[null,null,"DEFINITIONS",null,"SATURATION AND LIFETIME",null,null,"ACIM"]
[]
[null,null,"NAVIGATION",null,"COUNCIL SHIPMENTS",null,null,"BVM"]

{"sheet":"Definitions","index":3,"n_rows":33,"n_cols":4,"rows_kept":33,"cut":false,"hidden":false,"merged":[]}
[]
[null,null,"Definitions"]
[]
[null,null,"NAVIGATION"]
[]
[null,null,"COMMENTS"]
[]
[]
[null,null,"Category","Definition"]
[null,null,"Average Megawatt (aMW)","The average number of megawatts over a specified time period"]
[null,null,"Adjustment to 6P Baseline ","Adjustment to reconcile the 6P projected energy consumption and the modeled consumption calculated using best available data."]
[null,null,"Department of Energy Aggregate Lifecycle Savings ","Sum of 'Total First Year Savings'.  This accounts for the cumulative savings in accordance with DOE Carbon Accounting Practices."]
[null,null,"Department of Energy Notice of Proposed Rulemaking (DOE NOPR)","Federal Register notice detailing analyses conducted by the DOE to establish proposed energy conservation standards. "]
[null,null,"Efficiency Level (EL)","The discrete efficiency ratings of a product.  Each efficiency level is associated with a different UEC."]
[null,null,"Efficiency Level Distribution","The mix of various equipment efficiencies shipped in a given year."]
[null,null,"First Year Savings, by Year","Savings due to the higher standards for units installed in a particular year. First year savings are highest following the standards compliance year while the stock turns over, after which first year savings are only attributed to shipments associated with new construction. "]
[null,null,"Governmental Regulatory Impact Model (GRIM)","The industry cash flow model used by DOE to assess impacts on manufacturers due to proposed energy conservation standards"]
[null,null,"Installed Unit Energy Consumption (Installed UEC)","The average annual unit energy consumption of all installed units in a given year."]
[null,null,"Market Unit Energy Consumption (Market UEC)","The average annual unit energy consumption of units shipped in a given year.   "]
[null,null,"National Impact Analysis (NIA)","The energy impact analysis used by DOE to calculate energy savings associated with each standard. "]
[null,null,"Pre-case ","The case representing 6P baseline assumptions where energy consumption due to the product accounts for shipment and shipment UEC by year, without the affect of standards announced following the development of the 6P."]
[null,null,"Post-case","The case in which standards are implemented. If the 6P already captured the analyzed standard, the post-case will be the same as the pre-case."]
[null,null,"Product Class","Product classificiation determined by product configuration, size, application, location, and other attributes that contribute to consumer utility.  DOE is allowed to establish different standards for each product class."]
[null,null,"Product Class Distribution ","Market share/mix of each product class shipped in a given year."]
[null,null,"Product Lifetime","The average time a given class of products stays in the field as part of the installed stock.  Some products will last longer (delaying replacement) whereas others will fail and be retired earlier (accelerating replacement), but the lifetime represents the market average."]
[null,null,"Shipments ","Sales of products.  This may be presented by product class, efficiency distribution, or delineated by other metrics. Shipments may be attributed to new construction and/or replacements and retrofits. "]
[null,null,"Sixth Power Plan (6P)","The Pacific Northwest Resource Plan published by the Northwest Power Conservation Council. The 6P timeframe is from 2010-2015."]
[null,null,"Sixth Power Plan Baseline (6P Baseline)","The 6P assumes equipment efficiency and shipment units in the region.  When available, the 6P assumptions are the baseline for each standard impact analysis."]
[null,null,"Standard Compliance Year","The year when the appliance standard goes into effect. "]
[null,null,"Stock ","All units installed in previous years which remain in operation."]
[null,null,"Technical Support Document (TSD)","TSD's are published by the DOE as companion documents to Federal Register notices (e.g., ANOPRs/preliminary analyses and NOPRs).  The TSDs include technical detail that supports the notices.  The final rule TSD includes the discussion of the Manufacturer Impact Analysis (MIA) and National Impact Analysis (NIA)."]
[null,null,"Total First Year Savings through 2034","The sum of first year savings from 2010 through 2034"]
[null,null,"Trial Standard Level (TSL)","A proposed  efficiency standard evaluated by DOE during the NOPR and Final Rule phase analyses.  A TSL may specify different standard efficiency levels for each product class included in the rulemaking."]

{"sheet":"Floor Space","index":4,"n_rows":54,"n_cols":115,"rows_kept":54,"cut":false,"hidden":false,"merged":[[1,1,1,4],[3,14,3,16],[3,20,3,22],[3,26,3,28],[3,32,3,34],[3,38,3,40],[3,44,3,46],[3,8,3,10],[3,50,3,52],[3,56,3,58],[3,62,3,64],[3,68,3,70],[3,74,3,76],[3,110,3,112],[3,80,3,82],[3,86,3,88],[3,92,3,94],[3,98,3,100],[3,104,3,106]]}
[]
[null,"6th Plan Floor Space by Building Type"]
[]
["All units in millions of square feet"]
[null,"New SF reference",null,null,"Total",null,null,null,null,null,"Large off",null,null,null,null,null,"Medium off",null,null,null,null,null,"Small Off",null,null,null,null,null,"Big Box",null,null,null,null,null,"Small Box",null,null,null,null,null,"High End",null,null,null,null,null,"Anchor",null,null,null,null,null,"K-12",null,null,null,null,null,"University",null,null,null,null,null,"Warehouse",null,null,null,null,null,"Supermarket",null,null,null,null,null,"MIniMart",null,null,null,null,null,"Restaurant",null,null,null,null,null,"Lodging",null,null,null,null,null,"Hospital",null,null,null,null,null,"OtherHealth",null,null,null,null,null,"Assembly",null,null,null,null,null,"Other"]
[null,null,"Total","Beginning SF","New SF ","End of Year SF","Stock Growth",null,"Large Office","Beginning SF","New SF ","End of Year SF","Stock Growth",null,"Medium Office","Beginning SF","New SF ","End of Year SF","Stock Growth",null,"Small Office","Beginning SF","New SF ","End of Year SF","Stock Growth",null,"Big Box-Retail","Beginning SF","New SF ","End of Year SF","Stock Growth",null,"Small Box-Retail","Beginning SF","New SF ","End of Year SF","Stock Growth",null,"High End-Retail","Beginning SF","New SF ","End of Year SF","Stock Growth",null,"Anchor-Retail","Beginning SF","New SF ","End of Year SF","Stock Growth",null,"K-12","Beginning SF","New SF ","End of Year SF","Stock Growth",null,"University","Beginning SF","New SF ","End of Year SF","Stock Growth",null,"Warehouse","Beginning SF","New SF ","End of Year SF","Stock Growth",null,"Supermarket","Beginning SF","New SF ","End of Year SF","Stock Growth",null,"Mini Mart","Beginning SF","New SF ","End of Year SF","Stock Growth",null,"Restaurant","Beginning SF","New SF ","End of Year SF","Stock Growth",null,"Lodging","Beginning SF","New SF ","End of Year SF","Stock Growth",null,"Hospital","Beginning SF","New SF ","End of Year SF","Stock Growth",null,"Other Health","Beginning SF","New SF ","End of Year SF","Stock Growth",null,"Assembly","Beginning SF","New SF ","End of Year SF","Stock Growth",null,"Other ","Beginning SF","New SF ","End of Year SF","Stock Growth"]
[null,null,1987,null,null,{"$f":"L7+R7+X7+AD7+AJ7+AP7+AV7+BB7+BH7+BN7+BT7+BZ7+CF7+CL7+CR7+CX7+DD7+DJ7","v":1765.0138884567909},null,null,1987,null,null,170.15580037611485,null,null,1987,null,null,76.662160829304696,null,null,1987,null,null,89.953150067822321,null,null,1987,null,null,82.538729302993048,null,null,1987,null,null,152.44765719922231,null,null,1987,null,null,38.111914299805576,null,null,1987,null,null,73.583348719888932,null,null,1987,null,null,150.32171885381888,null,null,1987,null,null,76.192271602968432,null,null,1987,null,null,178.01059522869835,null,null,1987,null,null,36.04076502615861,null,null,1987,null,null,14.58413148714968,null,null,1987,null,null,34.541689971384308,null,null,1987,null,null,106.07377489890376,null,null,1987,null,null,38.875482557323267,null,null,1987,null,null,84.787236577886063,null,null,1987,null,null,123.12537689549825,null,null,1987,null,null,239.00808456184956]
[null,null,{"$f":"C7+1","v":1988},{"$f":"J8+P8+V8+AB8+AH8+AN8+AT8+AZ8+BF8+BL8+BR8+BX8+CD8+CJ8+CP8+CV8+DB8+DH8","v":1765.0138884567909},{"$f":"K8+Q8+W8+AC8+AI8+AO8+AU8+BA8+BG8+BM8+BS8+BY8+CE8+CK8+CQ8+CW8+DC8+DI8","v":36.2501319},{"$f":"L8+R8+X8+AD8+AJ8+AP8+AV8+BB8+BH8+BN8+BT8+BZ8+CF8+CL8+CR8+CX8+DD8+DJ8","v":1801.2640203567905},{"$f":"F8/F7-1","v":2.0538156746003899E-2},null,{"$f":"I7+1","v":1988},{"$f":"L7","v":170.15580037611485},2.386797452261777,{"$f":"J8+K8","v":172.54259782837664},{"$f":"L8/L7-1","v":1.4027129530618243E-2},null,{"$f":"O7+1","v":1988},{"$f":"R7","v":76.662160829304696},1.0753500600497421,{"$f":"P8+Q8","v":77.737510889354439},{"$f":"R8/R7-1","v":1.4027129530618243E-2},null,{"$f":"U7+1","v":1988},{"$f":"X7","v":89.953150067822321},1.2617844876884816,{"$f":"V8+W8","v":91.214934555510808},{"$f":"X8/X7-1","v":1.4027129530618243E-2},null,{"$f":"AA7+1","v":1988},{"$f":"AD7","v":82.538729302993048},1.8069654862610987,{"$f":"AB8+AC8","v":84.345694789254139},{"$f":"AD8/AD7-1","v":2.189233468361107E-2},null,{"$f":"AG7+1","v":1988},{"$f":"AJ7","v":152.44765719922231},3.3374351331377832,{"$f":"AH8+AI8","v":155.78509233236008},{"$f":"AJ8/AJ7-1","v":2.189233468361107E-2},null,{"$f":"AM7+1","v":1988},{"$f":"AP7","v":38.111914299805576},0.83435878328444579,{"$f":"AN8+AO8","v":38.94627308309002},{"$f":"AP8/AP7-1","v":2.189233468361107E-2},null,{"$f":"AS7+1","v":1988},{"$f":"AV7","v":73.583348719888932},1.6109112973166719,{"$f":"AT8+AU8","v":75.194260017205607},{"$f":"AV8/AV7-1","v":2.189233468361107E-2},null,{"$f":"AY7+1","v":1988},{"$f":"BB7","v":150.32171885381888},2.1257240399999997,{"$f":"AZ8+BA8","v":152.44744289381887},{"$f":"BB8/BB7-1","v":1.414116374006591E-2},null,{"$f":"BE7+1","v":1988},{"$f":"BH7","v":76.192271602968432},1.09506996,{"$f":"BF8+BG8","v":77.287341562968436},{"$f":"BH8/BH7-1","v":1.4372454541141888E-2},null,{"$f":"BK7+1","v":1988},{"$f":"BN7","v":178.01059522869835},6.1831019000000005,{"$f":"BL8+BM8","v":184.19369712869835},{"$f":"BN8/BN7-1","v":3.4734460002542544E-2},null,{"$f":"BQ7+1","v":1988},{"$f":"BT7","v":36.04076502615861},0.8688026290557529,{"$f":"BR8+BS8","v":36.90956765521436},{"$f":"BT8/BT7-1","v":2.4106109524178132E-2},null,{"$f":"BW7+1","v":1988},{"$f":"BZ7","v":14.58413148714968},0.35156667094424704,{"$f":"BX8+BY8","v":14.935698158093928},{"$f":"BZ8/BZ7-1","v":2.4106109524178354E-2},null,{"$f":"CC7+1","v":1988},{"$f":"CF7","v":34.541689971384308},0.30524199999999996,{"$f":"CD8+CE8","v":34.846931971384308},{"$f":"CF8/CF7-1","v":8.8369156301522089E-3},null,{"$f":"CI7+1","v":1988},{"$f":"CL7","v":106.07377489890376},3.2621880000000001,{"$f":"CJ8+CK8","v":109.33596289890376},{"$f":"CL8/CL7-1","v":3.0753954058004407E-2},null,{"$f":"CO7+1","v":1988},{"$f":"CR7","v":38.875482557323267},0.74494908399999993,{"$f":"CP8+CQ8","v":39.620431641323265},{"$f":"CR8/CR7-1","v":1.9162439537606879E-2},null,{"$f":"CU7+1","v":1988},{"$f":"CX7","v":84.787236577886063},1.5569769160000002,{"$f":"CV8+CW8","v":86.344213493886059},{"$f":"CX8/CX7-1","v":1.8363340743742018E-2},null,{"$f":"DA7+1","v":1988},{"$f":"DD7","v":123.12537689549825},2.3937992399999999,{"$f":"DB8+DC8","v":125.51917613549824},{"$f":"DD8/DD7-1","v":1.9441964770850806E-2},null,{"$f":"DG7+1","v":1988},{"$f":"DJ7","v":239.00808456184956},5.0491087600000002,{"$f":"DH8+DI8","v":244.05719332184955},{"$f":"DJ8/DJ7-1","v":2.1125263479082834E-2}]
[null,null,{"$f":"C8+1","v":1989},1801.2640203567905,35.311140000000002,1836.5751603567908,{"$f":"F9/F8-1","v":1.9603533741270107E-2},null,{"$f":"I8+1","v":1989},{"$f":"L8","v":172.54259782837664},3.2481486657565588,175.7907464941332,{"$f":"L9/L8-1","v":1.8825198569152102E-2},null,{"$f":"O8+1","v":1989},{"$f":"R8","v":77.737510889354439},1.4634240787637285,79.200934968118162,{"$f":"R9/R8-1","v":1.8825198569152102E-2},null,{"$f":"U8+1","v":1989},{"$f":"X8","v":91.214934555510808},1.7171392554797134,92.932073810990516,{"$f":"X9/X8-1","v":1.8825198569152102E-2},null,{"$f":"AA8+1","v":1989},{"$f":"AD8","v":84.345694789254139},1.5908803067956576,85.936575096049793,{"$f":"AD9/AD8-1","v":1.8861428680748027E-2},null,{"$f":"AG8+1","v":1989},{"$f":"AJ8","v":155.78509233236008},2.9383294085505565,158.72342174091062,{"$f":"AJ9/AJ8-1","v":1.8861428680748027E-2},null,{"$f":"AM8+1","v":1989},{"$f":"AP8","v":38.94627308309002},0.73458235213763912,39.680855435227656,{"$f":"AP9/AP8-1","v":1.8861428680748027E-2},null,{"$f":"AS8+1","v":1989},{"$f":"AV8","v":75.194260017205607},1.4182711725161468,76.61253118972175,{"$f":"AV9/AV8-1","v":1.8861428680748027E-2},null,{"$f":"AY8+1","v":1989},{"$f":"BB8","v":152.44744289381887},2.7588567599999996,155.20629965381886,{"$f":"BB9/BB8-1","v":1.8097100926261822E-2},null,{"$f":"BE8+1","v":1989},{"$f":"BH8","v":77.287341562968436},1.4212292400000002,78.708570802968438,{"$f":"BH9/BH8-1","v":1.8388900578784728E-2},null,{"$f":"BK8+1","v":1989},{"$f":"BN8","v":184.19369712869835},6.2198239999999991,190.41352112869833,{"$f":"BN9/BN8-1","v":3.3767843834819899E-2},null,{"$f":"BQ8+1","v":1989},{"$f":"BT8","v":36.90956765521436},0.75821293333746476,37.667780588551828,{"$f":"BT9/BT8-1","v":2.0542449600607915E-2},null,{"$f":"BW8+1","v":1989},{"$f":"BZ8","v":14.935698158093928},0.30681582666253521,15.242513984756464,{"$f":"BZ9/BZ8-1","v":2.0542449600607915E-2},null,{"$f":"CC8+1","v":1989},{"$f":"CF8","v":34.846931971384308},0.43199200000000004,35.278923971384309,{"$f":"CF9/CF8-1","v":1.2396844587487577E-2},null,{"$f":"CI8+1","v":1989},{"$f":"CL8","v":109.33596289890376},2.1680440000000001,111.50400689890375,{"$f":"CL9/CL8-1","v":1.9829193821658153E-2},null,{"$f":"CO8+1","v":1989},{"$f":"CR8","v":39.620431641323265},1.0448849520000001,40.665316593323261,{"$f":"CR9/CR8-1","v":2.6372376794355779E-2},null,{"$f":"CU8+1","v":1989},{"$f":"CX8","v":86.344213493886059},2.1697930479999998,88.514006541886062,{"$f":"CX9/CX8-1","v":2.5129571052884048E-2},null,{"$f":"DA8+1","v":1989},{"$f":"DD8","v":125.51917613549824},1.6002025199999999,127.11937865549824,{"$f":"DD9/DD8-1","v":1.2748669719378825E-2},null,{"$f":"DG8+1","v":1989},{"$f":"DJ8","v":244.05719332184955},3.3205094800000001,247.37770280184955,{"$f":"DJ9/DJ8-1","v":1.3605456306387431E-2}]
[null,null,1990,1836.5751603567908,38.08378290000001,1874.6589432567907,2.073630511947111E-2,null,1990,175.7907464941332,3.8765877382745595,179.66733423240777,2.2052285547373485E-2,null,1990,79.200934968118162,1.7465616335358951,80.947496601654052,2.2052285547373263E-2,null,1990,92.932073810990516,2.0493646281895472,94.981438439180067,2.2052285547373485E-2,null,1990,85.936575096049793,1.2768363376964171,87.213411433746217,1.4857891837896986E-2,null,1990,158.72342174091062,2.3582954323673526,161.08171717327798,1.4857891837896986E-2,null,1990,39.680855435227656,0.58957385809183815,40.270429293319495,1.4857891837896986E-2,null,1990,76.61253118972175,1.1383007018443929,77.750831891566136,1.4857891837896764E-2,null,1990,155.20629965381886,3.6954706800000001,158.90177033381886,2.3810055959343046E-2,null,1990,78.708570802968438,1.90372732,80.61229812296844,2.418703961434665E-2,null,1990,190.41352112869833,6.6104589000000011,197.02398002869833,3.4716331386635435E-2,null,1990,37.667780588551828,0.63136264347846904,38.299143232030296,1.6761344406640122E-2,null,1990,15.242513984756464,0.25548502652153093,15.497999011277994,1.6761344406640122E-2,null,1990,35.278923971384309,0.42220400000000002,35.701127971384309,1.1967598567985238E-2,null,1990,111.50400689890375,2.1620340000000002,113.66604089890376,1.9389742666021226E-2,null,1990,40.665316593323261,0.81870795199999991,41.484024545323258,2.0132831134392681E-2,null,1990,88.514006541886062,1.6847200480000002,90.198726589886064,1.9033372387259107E-2,null,1990,127.11937865549824,2.2772282000000006,129.39660685549825,1.7914091652158293E-2,null,1990,247.37770280184955,4.5868638000000006,251.96456660184955,1.8541945163401019E-2]
[null,null,1991,1874.6589432567907,33.930906399999998,1908.5898496567909,1.8099775706962973E-2,null,1991,179.66733423240777,2.6712518215560124,182.33858605396378,1.4867765656836784E-2,null,1991,80.947496601654052,1.2035084099809865,82.151005011635036,1.4867765656836784E-2,null,1991,94.981438439180067,1.412161768463001,96.393600207643061,1.4867765656836784E-2,null,1991,87.213411433746217,0.97466193755756714,88.188073371303787,1.1175596981411573E-2,null,1991,161.08171717327798,1.8001843522022551,162.88190152548023,1.1175596981411351E-2,null,1991,40.270429293319495,0.45004608805056379,40.720475381370058,1.1175596981411351E-2,null,1991,77.750831891566136,0.86891196218961408,78.61974385375575,1.1175596981411351E-2,null,1991,158.90177033381886,3.8088864000000004,162.71065673381887,2.3970069005514238E-2,null,1991,80.61229812296844,1.9621536000000002,82.574451722968433,2.4340623523806171E-2,null,1991,197.02398002869833,5.5759663999999995,202.59994642869833,2.8300953006775265E-2,null,1991,38.299143232030296,0.4271134191132529,38.726256651143551,1.1152035869983923E-2,null,1991,15.497999011277994,0.17283424088674715,15.670833252164741,1.1152035869983923E-2,null,1991,35.701127971384309,0.47081200000000001,36.171939971384312,1.3187594531393287E-2,null,1991,113.66604089890376,1.4439380000000002,115.10997889890376,1.2703336797700748E-2,null,1991,41.484024545323258,0.67203762799999989,42.156062173323257,1.6199913951592704E-2,null,1991,90.198726589886064,1.3927043719999999,91.591430961886061,1.5440399489588419E-2,null,1991,129.39660685549825,2.8839221600000005,132.28052901549825,2.2287463559385046E-2,null,1991,{"$f":"DJ10","v":251.96456660184955},5.7398118400000007,257.70437844184954,2.278023421074904E-2]
[null,null,1992,1908.5898496567909,35.308067983400008,1943.8979176401908,1.8499557665440314E-2,null,1992,182.33858605396378,2.1257364599339579,184.46432251389774,1.165818220892012E-2,null,1992,82.151005011635036,0.95773138507154565,83.108736396706576,1.1658182208919898E-2,null,1992,96.393600207643061,1.1237741549944966,97.517374362637554,1.165818220892012E-2,null,1992,88.188073371303787,1.2263060313931837,89.414379402696966,1.3905576848583401E-2,null,1992,162.88190152548023,2.2649667989059732,165.14686832438619,1.3905576848583401E-2,null,1992,40.720475381370058,0.5662416997264933,41.286717081096548,1.3905576848583401E-2,null,1992,78.61974385375575,1.0932528899743499,79.712996743730102,1.3905576848583401E-2,null,1992,162.71065673381887,4.5109904400000005,167.22164717381887,2.772400118438223E-2,null,1992,82.574451722968433,2.3238435600000003,84.898295282968434,2.8142403752147604E-2,null,1992,202.59994642869833,5.2320659000000003,207.83201232869834,2.5824616404039213E-2,null,1992,38.726256651143551,0.68841638393467397,39.414673035078224,1.7776476310016553E-2,null,1992,15.670833252164741,0.27857219606532602,15.949405448230067,1.7776476310016553E-2,null,1992,36.171939971384312,0.38802599999999998,36.559965971384315,1.072726539707225E-2,null,1992,115.10997889890376,0.89265600000000001,116.00263489890376,7.7548098656501363E-3,null,1992,42.156062173323257,1.2208778439999999,43.376940017323257,2.8960908136542729E-2,null,1992,91.591430961886061,2.5072881560000004,94.098719117886063,2.7374702302045639E-2,null,1992,132.28052901549825,2.6149933865960002,134.89552240209426,1.9768543458800636E-2,null,1992,257.70437844184954,5.2923286968040006,262.99670713865356,2.0536432981088204E-2]
[null,null,1993,1943.8979176401908,36.5213677992,1980.4192854393914,1.878769840112593E-2,null,1993,184.46432251389774,1.8959498358019768,186.36027234969973,1.0278138395348302E-2,null,1993,83.108736396706576,0.85420309454785848,83.962939491254431,1.027813839534808E-2,null,1993,97.517374362637554,1.0022970696501647,98.519671432287723,1.0278138395348302E-2,null,1993,89.414379402696966,1.8738351262429322,91.288214528939903,2.0956753698459618E-2,null,1993,165.14686832438619,3.4609422435460879,168.60781056793229,2.0956753698459618E-2,null,1993,41.286717081096548,0.86523556088652198,42.151952641983073,2.0956753698459618E-2,null,1993,79.712996743730102,1.6705256393244574,81.383522383054554,2.0956753698459396E-2,null,1993,167.22164717381887,3.85630608,171.07795325381886,2.3061045894324561E-2,null,1993,84.898295282968434,1.9865819200000001,86.88487720296844,2.3399550172104933E-2,null,1993,207.83201232869834,4.3775440000000003,212.20955632869834,2.1062895705771467E-2,null,1993,39.414673035078224,0.98390416791355428,40.398577202991781,2.496289052145384E-2,null,1993,15.949405448230067,0.39814326208644568,16.347548710316513,2.496289052145384E-2,null,1993,36.559965971384315,0.38741199999999998,36.947377971384313,1.0596618178015493E-2,null,1993,116.00263489890376,1.3440499999999997,117.34668489890376,1.1586374750636841E-2,null,1993,43.376940017323257,0.93560785199999996,44.312547869323254,2.1569245124860137E-2,null,1993,94.098719117886063,1.9614201480000002,96.060139265886065,2.0844281052782021E-2,null,1993,134.89552240209426,2.799922371728,137.69544477382226,2.0756229131031034E-2,null,1993,262.99670713865356,5.8674874274719997,268.86419456612555,2.2310117458537615E-2]
[null,null,1994,1980.4192854393914,42.017021862,2022.4363073013903,2.1216225357387763E-2,null,1994,186.36027234969973,2.9734629260577594,189.33373527575748,1.595545492913919E-2,null,1994,83.962939491254431,1.339666896770761,85.302606388025197,1.5955454929139412E-2,null,1994,98.519671432287723,1.5719261771714801,100.0915976094592,1.595545492913919E-2,null,1994,91.288214528939903,2.484082732018988,93.772297260958894,2.7211428603760135E-2,null,1994,168.60781056793229,4.5880593993056058,173.19586996723788,2.7211428603760135E-2,null,1994,42.151952641983073,1.1470148498264015,43.298967491809471,2.7211428603760135E-2,null,1994,81.383522383054554,2.2145619088490056,83.598084291903561,2.7211428603760135E-2,null,1994,171.07795325381886,3.71726256,174.79521581381886,2.1728472250804209E-2,null,1994,86.88487720296844,1.9149534400000001,88.799830642968445,2.2040123686042135E-2,null,1994,212.20955632869834,6.0105299999999993,218.22008632869833,2.8323559522880792E-2,null,1994,40.398577202991781,1.2594275199593656,41.658004722951148,3.117504642876634E-2,null,1994,16.347548710316513,0.50963559004063475,16.857184300357147,3.1175046428766118E-2,null,1994,36.947377971384313,0.47989799999999999,37.427275971384312,1.2988688950314131E-2,null,1994,117.34668489890376,1.4998339999999999,118.84651889890375,1.2781221738748849E-2,null,1994,44.312547869323254,0.94104376399999989,45.253591633323254,2.1236507699244012E-2,null,1994,96.060139265886065,1.9397522359999999,97.999891501886069,2.0193102475428937E-2,null,1994,137.69544477382226,2.4245703620000003,140.12001513582226,1.7608210394923329E-2,null,1994,268.86419456612555,5.0013395000000003,273.86553406612552,1.8601731286945089E-2]
[null,null,1995,2022.4363073013903,51.353250011999997,2073.7895573133906,2.5391776159577883E-2,null,1995,189.33373527575748,3.7193488771037,193.05308415286117,1.9644406590756835E-2,null,1995,85.302606388025197,1.6757190831376585,86.978325471162862,1.9644406590756835E-2,null,1995,100.0915976094592,1.9662400397586417,102.05783764921784,1.9644406590756835E-2,null,1995,93.772297260958894,2.2818435037451823,96.054140764704073,2.4333876532799836E-2,null,1995,173.19586996723788,4.2145269157736305,177.41039688301152,2.4333876532799836E-2,null,1995,43.298967491809471,1.0536317289434076,44.352599220752879,2.4333876532799836E-2,null,1995,83.598084291903561,2.0342654615377791,85.632349753441346,2.4333876532800058E-2,null,1995,174.79521581381886,4.9069970400000003,179.70221285381885,2.8072833785260043E-2,null,1995,88.799830642968445,2.5278469599999998,91.32767760296845,2.8466799336178461E-2,null,1995,218.22008632869833,9.7152919999999998,227.93537832869833,4.4520612943788063E-2,null,1995,41.658004722951148,1.1326970957006055,42.790701818651755,2.719038281438757E-2,null,1995,16.857184300357147,0.45835329429939436,17.31553759465654,2.7190382814387348E-2,null,1995,37.427275971384312,0.50527999999999995,37.932555971384311,1.3500314593728913E-2,null,1995,118.84651889890375,2.2762799999999999,121.12279889890375,1.9153106217072446E-2,null,1995,45.253591633323254,0.89322245200000006,46.146814085323257,1.9738156017262254E-2,null,1995,97.999891501886069,1.8183055480000001,99.818197049886066,1.8554158786645125E-2,null,1995,140.12001513582226,3.3899495320000002,143.50996466782226,2.4193185596747435E-2,null,1995,273.86553406612552,6.7834504800000008,280.64898454612552,2.4769274100632677E-2]
[null,null,1996,2073.7895573133906,50.782488999999998,2124.5720463133912,2.4487773516320477E-2,null,1996,193.05308415286117,4.286509428126215,197.33959358098738,2.220378631574782E-2,null,1996,86.978325471162862,1.9312481528632679,88.909573624026123,2.220378631574782E-2,null,1996,102.05783764921784,2.2660704190105179,104.32390806822836,2.220378631574782E-2,null,1996,96.054140764704073,1.2479912389490204,97.302132003653099,1.2992581361027655E-2,null,1996,177.41039688301152,2.3050190157947337,179.71541589880624,1.2992581361027655E-2,null,1996,44.352599220752879,0.57625475394868342,44.928853974701561,1.2992581361027655E-2,null,1996,85.632349753441346,1.1125852713075628,86.744935024748912,1.2992581361027655E-2,null,1996,179.70221285381885,3.5196612000000003,183.22187405381885,1.9586076009331599E-2,null,1996,91.32767760296845,1.8131588000000001,93.140836402968446,1.9853333048524435E-2,null,1996,227.93537832869833,11.074449,239.00982732869832,4.8585915364265597E-2,null,1996,42.790701818651755,0.70982029230481181,43.500522110956567,1.658819000709677E-2,null,1996,17.31553759465654,0.28723342769518817,17.602771022351728,1.658819000709677E-2,null,1996,37.932555971384311,0.43663000000000002,38.369185971384312,1.1510692828856195E-2,null,1996,121.12279889890375,2.7278519999999999,123.85065089890375,2.2521375205974525E-2,null,1996,46.146814085323257,0.76108143199999989,46.907895517323254,1.6492610531959828E-2,null,1996,99.818197049886066,1.5708165680000001,101.38901361788606,1.5736775602297692E-2,null,1996,143.50996466782226,4.6785530000000008,148.18851766782225,3.2600892982095564E-2,null,1996,280.64898454612552,9.4775549999999988,290.12653954612551,3.3770138222047663E-2]
[null,null,1997,2124.5720463133912,58.587085167999994,2183.1591314813909,2.7575946539286189E-2,null,1997,197.33959358098738,4.6817604896064466,202.02135407059382,2.3724384978451196E-2,null,1997,88.909573624026123,2.1093249529263494,91.018898576952466,2.3724384978451196E-2,null,1997,104.32390806822836,2.4750205574672042,106.79892862569557,2.3724384978451196E-2,null,1997,97.302132003653099,1.5570594781842337,98.859191481837328,1.6002316147869955E-2,null,1997,179.71541589880624,2.8758629018586359,182.59127880066487,1.6002316147869955E-2,null,1997,44.928853974701561,0.71896572546465898,45.647819700166217,1.6002316147869955E-2,null,1997,86.744935024748912,1.3881198744924714,88.133054899241387,1.6002316147869955E-2,null,1997,183.22187405381885,4.0716112799999999,187.29348533381886,2.2222299062414574E-2,null,1997,93.140836402968446,2.0974967200000001,95.238333122968442,2.2519625129038934E-2,null,1997,239.00982732869832,11.350850000000001,250.36067732869833,4.7491143468296526E-2,null,1997,43.500522110956567,0.83042080528730944,44.330942916243878,1.9089904327335594E-2,null,1997,17.602771022351728,0.33603521471269071,17.938806237064419,1.9089904327335594E-2,null,1997,38.369185971384312,0.69739799999999996,39.066583971384311,1.8175991550097415E-2,null,1997,123.85065089890375,4.7639320000000005,128.61458289890376,3.8465134946191748E-2,null,1997,46.907895517323254,1.1768313240000001,48.084726841323253,2.5088128789862107E-2,null,1997,101.38901361788606,2.4209046760000001,103.80991829388607,2.3877386608413875E-2,null,1997,148.18851766782225,4.9874039571199997,153.17592162494225,3.3655805696765961E-2,null,1997,290.12653954612551,10.048087210879999,300.17462675700551,3.4633464510345213E-2]
[null,null,1998,2183.1591314813909,68.922115891999994,2252.0812473733909,3.1569900195609124E-2,null,1998,202.02135407059382,6.6803996714431655,208.70175374203697,3.3067789799630765E-2,null,1998,91.018898576952466,3.009793805936571,94.028692382889034,3.3067789799630765E-2,null,1998,106.79892862569557,3.5316045226202641,110.33053314831584,3.3067789799630765E-2,null,1998,98.859191481837328,2.1570769966353129,101.01626847847264,2.1819690858301266E-2,null,1998,182.59127880066487,3.984085256852429,186.57536405751731,2.1819690858301488E-2,null,1998,45.647819700166217,0.99602131421310725,46.643841014379326,2.1819690858301488E-2,null,1998,88.133054899241387,1.9230360122991519,90.056090911540537,2.1819690858301266E-2,null,1998,187.29348533381886,3.6567550800000004,190.95024041381888,1.9524197937170529E-2,null,1998,95.238333122968442,1.8837829199999998,97.122116042968443,1.9779671254511744E-2,null,1998,250.36067732869833,11.832201999999999,262.19287932869833,4.7260624656584982E-2,null,1998,44.330942916243878,1.2098362585202422,45.540779174764118,2.7291011174881419E-2,null,1998,17.938806237064419,0.48956816147975779,18.428374398544179,2.7291011174881641E-2,null,1998,39.066583971384311,0.56613800000000003,39.632721971384314,1.4491617706188231E-2,null,1998,128.61458289890376,4.3796040000000005,132.99418689890376,3.4052157238207981E-2,null,1998,48.084726841323253,1.3754027199999999,49.460129561323249,2.8603733666591191E-2,null,1998,103.80991829388607,2.80197728,106.61189557388607,2.6991421687353689E-2,null,1998,153.17592162494225,6.0869563520000005,159.26287797694224,3.9738336726996559E-2,null,1998,300.17462675700551,12.35787554,312.53250229700552,4.1168954463309149E-2]
[null,null,1999,2252.0812473733909,78.095469414000007,2330.1767167873904,3.4677021313099798E-2,null,1999,208.70175374203697,7.9945466222164328,216.6963003642534,3.8306082622084681E-2,null,1999,94.028692382889034,3.6018708592655297,97.630563242154565,3.8306082622084681E-2,null,1999,110.33053314831584,4.2263305185180364,114.55686366683388,3.8306082622084681E-2,null,1999,101.01626847847264,2.7125937356934307,103.72886221416607,2.6853038392241846E-2,null,1999,186.57536405751731,5.0101154140830033,191.58547947160031,2.6853038392241846E-2,null,1999,46.643841014379326,1.2525288535207508,47.896369867900077,2.6853038392241846E-2,null,1999,90.056090911540537,2.4182796667028157,92.474370578243352,2.6853038392241846E-2,null,1999,190.95024041381888,4.47079512,195.42103553381887,2.3413403985829362E-2,null,1999,97.122116042968443,2.3031368800000003,99.42525292296844,2.3713825170170733E-2,null,1999,262.19287932869833,10.835366,273.02824532869835,4.1325935424875837E-2,null,1999,45.540779174764118,1.5462059649644653,47.086985139728583,3.3952119243082057E-2,null,1999,18.428374398544179,0.62568236503553487,19.054056763579712,3.3952119243082057E-2,null,1999,39.632721971384314,0.61709199999999997,40.249813971384313,1.557026540961659E-2,null,1999,132.99418689890376,3.3488799999999999,136.34306689890377,2.5180649456097548E-2,null,1999,49.460129561323249,2.1554128439999998,51.615542405323247,4.3578794942856103E-2,null,1999,106.61189557388607,4.3728531559999997,110.98474872988608,4.101655947923244E-2,null,1999,159.26287797694224,6.8160602740000016,166.07893825094223,4.2797545545967264E-2,null,1999,312.53250229700552,13.787719140000002,326.3202214370055,4.4116112847991884E-2]
[null,null,2000,2330.1767167873904,74.386856126000012,2404.5635729133905,3.1923268132451721E-2,null,2000,216.6963003642534,8.4841401919887467,225.18044055624216,3.9152215232689302E-2,null,2000,97.630563242154565,3.8224528253455246,101.45301606750009,3.9152215232689302E-2,null,2000,114.55686366683388,4.4851549826657289,119.04201864949961,3.9152215232689302E-2,null,2000,103.72886221416607,2.343536279640861,106.07239849380693,2.2592904516798962E-2,null,2000,191.58547947160031,4.3284724445070353,195.91395191610735,2.2592904516799184E-2,null,2000,47.896369867900077,1.0821181111267588,48.978487979026838,2.2592904516799184E-2,null,2000,92.474370578243352,2.0892646247253452,94.563635202968698,2.2592904516798962E-2,null,2000,195.42103553381887,4.03331412,199.45434965381887,2.063909910712769E-2,null,2000,99.42525292296844,2.0777678800000001,101.50302080296844,2.0897788226998948E-2,null,2000,273.02824532869835,9.4597900000000017,282.48803532869834,3.4647660679250958E-2,null,2000,47.086985139728583,1.2491569879619964,48.336142127690579,2.6528710306153114E-2,null,2000,19.054056763579712,0.50547955203800377,19.559536315617716,2.6528710306153114E-2,null,2000,40.249813971384313,0.62833000000000006,40.878143971384311,1.5610755380054853E-2,null,2000,136.34306689890377,3.4173979999999999,139.76046489890376,2.5064699494649956E-2,null,2000,51.615542405323247,1.9279356559999998,53.543478061323249,3.7351843381988159E-2,null,2000,110.98474872988608,3.9116983440000004,114.89644707388608,3.5245368293983059E-2,null,2000,166.07893825094223,6.7456084659999993,172.82454671694222,4.0616880966612978E-2,null,2000,326.3202214370055,13.795237659999998,340.1154590970055,4.2275154139238991E-2]
[null,null,2001,2404.5635729133905,62.325140000000005,2466.8887129133905,2.5919522653537586E-2,null,2001,225.18044055624216,5.6873038303622225,230.86774438660439,2.525665113858655E-2,null,2001,101.45301606750009,2.5623634337742605,104.01537950127435,2.525665113858655E-2,null,2001,119.04201864949961,3.006602735863519,122.04862138536313,2.525665113858655E-2,null,2001,106.07239849380693,2.1136870183093874,108.18608551211632,1.9926833448880688E-2,null,2001,195.91395191610735,3.9039446901442805,199.81789660625162,1.9926833448880688E-2,null,2001,48.978487979026838,0.97598617253607012,49.954474151562906,1.9926833448880688E-2,null,2001,94.563635202968698,1.8843538090102625,96.447989011978962,1.9926833448880688E-2,null,2001,199.45434965381887,4.6858574400000004,204.14020709381887,2.3493383063006412E-2,null,2001,101.50302080296844,2.4139265600000002,103.91694736296844,2.3781819899584722E-2,null,2001,282.48803532869834,10.408618000000001,292.89665332869833,3.6846226028258933E-2,null,2001,48.336142127690579,1.0974571075736754,49.433599235264253,2.270468968488415E-2,null,2001,19.559536315617716,0.44409320242632455,20.00362951804404,2.270468968488415E-2,null,2001,40.878143971384311,0.42196,41.30010397138431,1.0322386463910371E-2,null,2001,139.76046489890376,1.992464,141.75292889890378,1.4256277706583775E-2,null,2001,53.543478061323249,1.5705732439999998,55.114051305323251,2.9332671333028193E-2,null,2001,114.89644707388608,3.2137927560000001,118.11023982988608,2.797121092816135E-2,null,2001,172.82454671694222,5.2588167200000004,178.08336343694222,3.0428644656670611E-2,null,2001,340.1154590970055,10.683339280000002,350.79879837700548,3.1410919422374617E-2]
[null,null,2002,2466.8887129133905,48.618790336000004,2515.5075032493905,1.9708546267813265E-2,null,2002,230.86774438660439,3.932147968557191,234.79989235516157,1.7032037017577162E-2,null,2002,104.01537950127435,1.7715937940630431,105.78697329533739,1.7032037017577162E-2,null,2002,122.04862138536313,2.078736637379766,124.1273580227429,1.7032037017577162E-2,null,2002,108.18608551211632,1.7236521683155226,109.90973768043185,1.5932290739204991E-2,null,2002,199.81789660625162,3.1835568236271903,203.00145342987881,1.5932290739204991E-2,null,2002,49.954474151562906,0.79588920590679757,50.750363357469702,1.5932290739204991E-2,null,2002,96.447989011978962,1.5366374021504905,97.984626414129451,1.5932290739204991E-2,null,2002,204.14020709381887,5.7526960000000003,209.89290309381886,2.8180122288972598E-2,null,2002,103.91694736296844,2.7437279999999999,106.66067536296845,2.6403085056150744E-2,null,2002,292.89665332869833,5.8883679999999998,298.78502132869835,2.0103910144005255E-2,null,2002,49.433599235264253,0.63428231093167309,50.067881546195927,1.2830995936852663E-2,null,2002,20.00362951804404,0.2566664890683269,20.260296007112366,1.2830995936852441E-2,null,2002,41.30010397138431,1.309694736,42.609798707384307,3.1711657116104242E-2,null,2002,141.75292889890378,0.92853800000000009,142.68146689890378,6.5503972807661182E-3,null,2002,55.114051305323251,1.015875952,56.129927257323253,1.8432249633985487E-2,null,2002,118.11023982988608,3.1497368479999999,121.25997667788609,2.6667771164774257E-2,null,2002,178.08336343694222,4.6980940000000002,182.78145743694222,2.638143119788694E-2,null,2002,350.79879837700548,7.218896,358.01769437700545,2.0578451332783132E-2]
[null,null,2003,2515.5075032493905,52.033489802000005,2567.5409930513911,2.0685086303573685E-2,null,2003,234.79989235516157,3.5851141432747453,238.38500649843633,1.5268806588087713E-2,null,2003,105.78697329533739,1.6152408347856926,107.40221413012308,1.5268806588087713E-2,null,2003,124.1273580227429,1.8952766219395623,126.02263464468246,1.5268806588087491E-2,null,2003,109.90973768043185,1.6332557621148047,111.54299344254665,1.4859973252448144E-2,null,2003,203.00145342987881,3.0165961681760898,206.01804959805489,1.4859973252448144E-2,null,2003,50.750363357469702,0.75414904204402244,51.504512399513722,1.4859973252448144E-2,null,2003,97.984626414129451,1.4560489276650839,99.440675341794531,1.4859973252448144E-2,null,2003,209.89290309381886,6.4537399999999998,216.34664309381887,3.0747776150941597E-2,null,2003,106.66067536296845,3.1963559999999998,109.85703136296844,2.996752072985398E-2,null,2003,298.78502132869835,6.7872640000000004,305.57228532869834,2.2716212378441902E-2,null,2003,50.067881546195927,0.61988576676648377,50.687767312962414,1.2380906633617794E-2,null,2003,20.260296007112366,0.2508408332335163,20.511136840345884,1.2380906633617794E-2,null,2003,42.609798707384307,1.279968102,43.889766809384305,3.0039290041944611E-2,null,2003,142.68146689890378,1.653578,144.33504489890379,1.1589297726884551E-2,null,2003,56.129927257323253,1.0393507560000002,57.16927801332325,1.8516873382628418E-2,null,2003,121.25997667788609,3.2500108440000002,124.50998752188609,2.6802007826814078E-2,null,2003,182.78145743694222,4.057734,186.83919143694223,2.2199921463039507E-2,null,2003,358.01769437700545,9.4890799999999995,367.50677437700546,2.6504500054144398E-2]
[null,null,2004,2567.5409930513911,50.920794504000007,2618.4617875553913,1.9832514706409121E-2,null,2004,238.38500649843633,4.2338984812135259,242.61890497964984,1.7760758293501544E-2,null,2004,107.40221413012308,1.9075447653520141,109.3097588954751,1.7760758293501544E-2,null,2004,126.02263464468246,2.2382575534344609,128.26089219811692,1.7760758293501544E-2,null,2004,111.54299344254665,1.7651421816534603,113.3081356242001,1.5824769689031681E-2,null,2004,206.01804959805489,3.2601881866727043,209.27823778472759,1.5824769689031681E-2,null,2004,51.504512399513722,0.81504704666817607,52.319559446181898,1.5824769689031681E-2,null,2004,99.440675341794531,1.5736257850056599,101.01430112680019,1.5824769689031681E-2,null,2004,216.34664309381887,4.3188119999999994,220.66545509381888,1.9962463656656659E-2,null,2004,109.85703136296844,1.7006260000000002,111.55765736296844,1.5480356413246854E-2,null,2004,305.57228532869834,6.0839020000000001,311.65618732869837,1.9909861895543557E-2,null,2004,50.687767312962414,0.6687351457838574,51.35650245874627,1.31932255302325E-2,null,2004,20.511136840345884,0.27060805421614265,20.781744894562028,1.31932255302325E-2,null,2004,43.889766809384305,1.3808345039999999,45.270601313384304,3.1461422659114113E-2,null,2004,144.33504489890379,1.8652739999999999,146.20031889890379,1.2923223194384104E-2,null,2004,57.16927801332325,1.1281471359999999,58.297425149323253,1.9733450818411491E-2,null,2004,124.50998752188609,3.349797664,127.85978518588608,2.6903847078220799E-2,null,2004,186.83919143694223,5.6160840000000007,192.45527543694223,3.0058383130476152E-2,null,2004,367.50677437700546,8.7442700000000002,376.25104437700543,2.3793493371171648E-2]
[null,{"$f":"102357/F25","v":38.279768305375349},2005,2618.4617875553913,55.457218000000005,2673.9190055553904,2.1179311557482761E-2,null,2005,242.61890497964984,3.2732326310454303,245.89213761069527,1.3491251357020007E-2,null,2005,109.3097588954751,1.4747254330341177,110.78448432850922,1.3491251357020229E-2,null,2005,128.26089219811692,1.7303999359204525,129.99129213403737,1.3491251357020007E-2,null,2005,113.3081356242001,2.3898719656802436,115.69800758988035,2.1091794975839573E-2,null,2005,209.27823778472759,4.4140536842604607,213.69229146898806,2.1091794975839573E-2,null,2005,52.319559446181898,1.1035134210651152,53.423072867247015,2.1091794975839573E-2,null,2005,101.01430112680019,2.1305729289941819,103.14487405579438,2.1091794975839573E-2,null,2005,220.66545509381888,5.0149619999999997,225.68041709381887,2.272653867760055E-2,null,2005,111.55765736296844,2.22119,113.77884736296843,1.9910690601659287E-2,null,2005,311.65618732869837,9.4771180000000008,321.13330532869838,3.0408887695223763E-2,null,2005,51.35650245874627,9.9874992574795235E-2,51.456377451321067,1.9447389871423137E-3,null,2005,20.781744894562028,0.14080678043135381,20.922551674993382,6.7755032672063287E-3,null,2005,45.270601313384304,0.246814226993851,45.517415540378153,5.4519758923741168E-3,null,2005,146.20031889890379,2.3498099999999997,148.55012889890378,1.6072536761187584E-2,null,2005,58.297425149323253,3.6156619999999995,61.913087149323253,6.2020955312157122E-2,null,2005,127.85978518588608,4.039822,131.89960718588608,3.1595720219041556E-2,null,2005,192.45527543694223,3.38958,195.84485543694223,1.7612299752783889E-2,null,2005,376.25104437700543,8.3452079999999995,384.59625237700544,2.217989325137415E-2]
[null,null,2006,2673.9190055553904,64.906328000000002,2738.8253335553909,2.4273857160650669E-2,null,2006,245.89213761069527,6.0843748258345283,251.97651243652979,2.4744080412475444E-2,null,2006,110.78448432850922,2.7412601886792611,113.52574451718849,2.4744080412475444E-2,null,2006,129.99129213403737,3.2165149854862105,133.20780711952358,2.4744080412475444E-2,null,2006,115.69800758988035,3.0975341599431983,118.79554174982354,2.6772579964584597E-2,null,2006,213.69229146898806,5.7210939611688243,219.41338543015689,2.6772579964584819E-2,null,2006,53.423072867247015,1.4302734902922061,54.853346357539223,2.6772579964584819E-2,null,2006,103.14487405579438,2.7614543885957721,105.90632844439014,2.6772579964584597E-2,null,2006,225.68041709381887,4.8679199999999998,230.54833709381887,2.1569970769667268E-2,null,2006,113.77884736296843,1.9657319999999998,115.74457936296844,1.7276778993278841E-2,null,2006,321.13330532869838,9.0781299999999998,330.21143532869837,2.8269039210081282E-2,null,2006,51.456377451321067,0.10338118398871179,51.559758635309777,2.0091034213691739E-3,null,2006,20.922551674993382,0.13799197837558691,21.06054365336897,6.5953704174865901E-3,null,2006,45.517415540378153,0.25547883763570134,45.772894378013852,5.612771169071884E-3,null,2006,148.55012889890378,3.046338,151.59646689890377,2.0507138045455342E-2,null,2006,61.913087149323253,0.90778000000000003,62.820867149323256,1.466216662416775E-2,null,2006,131.89960718588608,3.5866579999999999,135.48626518588608,2.7192332687885346E-2,null,2006,195.84485543694223,4.0972619999999997,199.94211743694223,2.0920958024956748E-2,null,2006,384.59625237700544,11.80715,396.40340237700542,3.070011714109433E-2]
[null,null,2007,2738.8253335553909,59.714647977054156,2798.5399815324449,2.1803014323493075E-2,null,2007,251.97651243652979,4.5524239984635404,256.52893643499334,1.8066858511704531E-2,null,2007,113.52574451718849,2.0510535636279608,115.57679808081645,1.8066858511704531E-2,null,2007,133.20780711952358,2.4066466038828596,135.61445372340643,1.8066858511704531E-2,null,2007,118.79554174982354,2.5904072845780544,121.38594903440159,2.1805593429030212E-2,null,2007,219.41338543015689,4.7844390755771355,224.19782450573402,2.1805593429030212E-2,null,2007,54.853346357539223,1.1961097688942839,56.049456126433505,2.1805593429030212E-2,null,2007,105.90632844439014,2.309350339619725,108.21567878400987,2.1805593429030434E-2,null,2007,230.54833709381887,5.2661424456629407,235.81447953948182,2.2841814918491243E-2,null,2007,115.74457936296844,2.1753202822932782,117.91989964526172,1.8794143918149375E-2,null,2007,330.21143532869837,8.6966263539067192,338.90806168260508,2.6336539027638217E-2,null,2007,51.559758635309777,0.10503781969618683,51.664796455005963,2.0372054190387345E-3,null,2007,21.06054365336897,0.14369850126650802,21.20424215463548,6.8231145231392176E-3,null,2007,45.772894378013852,0.25957276796810819,46.032467145981961,5.670883860313447E-3,null,2007,151.59646689890377,2.9875239479581577,154.58399084686192,1.9707081629748435E-2,null,2007,62.820867149323256,1.5554510656592162,64.376318214982476,2.4760101798053213E-2,null,2007,135.48626518588608,2.9199413211407839,138.40620650702687,2.1551566995626104E-2,null,2007,199.94211743694223,4.2941969764456696,204.2363144133879,2.1477200659335782E-2,null,2007,396.40340237700542,11.420705860413033,407.82410823741844,2.8810816940342932E-2]
[null,null,2008,2798.5399815324449,58.484715311362116,2857.0246968438073,2.0898295431654557E-2,null,2008,256.52893643499334,4.7556247577737167,261.28456119276706,1.8538356038359849E-2,null,2008,115.57679808081645,2.1426038325958134,117.71940191341226,1.8538356038359849E-2,null,2008,135.61445372340643,2.5140690270721988,138.12852275047862,1.8538356038359849E-2,null,2008,121.38594903440159,2.4140376312865266,123.79998666568812,1.9887290501822141E-2,null,2008,224.19782450573402,4.458687265822082,228.6565117715561,1.9887290501822141E-2,null,2008,56.049456126433505,1.1146718164555205,57.164127942889024,1.9887290501822141E-2,null,2008,108.21567878400987,2.1521166408294796,110.36779542483934,1.9887290501822141E-2,null,2008,235.81447953948182,5.8151051108573002,241.62958465033913,2.4659660942845996E-2,null,2008,117.91989964526172,2.4282971292497639,120.34819677451149,2.0592767942940959E-2,null,2008,338.90806168260508,8.3947565775094848,347.30281826011458,2.4770011476951348E-2,null,2008,51.664796455005963,0.11593880588031409,51.780735260886274,2.2440581176252916E-3,null,2008,21.20424215463548,0.16150933459718797,21.365751489232668,7.6168406972225711E-3,null,2008,46.032467145981961,0.28651162832888488,46.31897877431085,6.2241206281705708E-3,null,2008,154.58399084686192,2.5152468679012001,157.09923771476312,1.6271069559802731E-2,null,2008,64.376318214982476,1.4987992352778012,65.875117450260277,2.3281841472707621E-2,null,2008,138.40620650702687,3.0499107945221988,141.45611730154906,2.2035939510901548E-2,null,2008,204.2363144133879,4.0827102724118589,208.31902468579977,1.9990129003935042E-2,null,2008,407.82410823741844,10.584118582990783,418.40822682040925,2.5952655493404864E-2]
[null,null,2009,2857.0246968438073,56.328611530106414,2913.3533083739135,1.9715829405441587E-2,null,2009,261.28456119276706,4.3894431708062802,265.67400436357332,1.6799473917511243E-2,null,2009,117.71940191341226,1.9776240220294015,119.69702593544166,1.6799473917511243E-2,null,2009,138.12852275047862,2.3204865152110346,140.44900926568965,1.6799473917511243E-2,null,2009,123.79998666568812,2.347165380152143,126.14715204584027,1.8959334676589945E-2,null,2009,228.6565117715561,4.335175332658542,232.99168710421463,1.8959334676589945E-2,null,2009,57.164127942889024,1.0837938331646355,58.247921776053659,1.8959334676589945E-2,null,2009,110.36779542483934,2.0924999709769327,112.46029539581627,1.8959334676589945E-2,null,2009,241.62958465033913,5.5738296168718229,247.20341426721095,2.3067662119842236E-2,null,2009,120.34819677451149,2.3061831251587757,122.65437989967027,1.9162589776726913E-2,null,2009,347.30281826011458,8.0719301830606156,355.37474844317518,2.3241764128199671E-2,null,2009,51.780735260886274,0.10002595211816016,51.880761213004433,1.9317213557166202E-3,null,2009,21.365751489232668,0.14161655855802657,21.507368047790695,6.6282039566638584E-3,null,2009,46.31897877431085,0.2471872829715529,46.566166057282402,5.3366306752136161E-3,null,2009,157.09923771476312,2.2685233292064217,159.36776104396955,1.4440065796660795E-2,null,2009,65.875117450260277,1.6286824626676455,67.503799912927917,2.4723788369673816E-2,null,2009,141.45611730154906,3.1854673717323534,144.64158467328141,2.2519120646735447E-2,null,2009,208.31902468579977,4.3500685671048611,212.66909325290464,2.0881763313100876E-2,null,2009,418.40822682040925,9.9089088556572058,428.31713567606647,2.368239489686319E-2]
[null,null,2010,2913.3533083739135,34.736805655908455,2948.090114029822,1.1923306917861254E-2,null,2010,265.67400436357332,3.4039253810175691,269.0779297445909,1.2812414180949805E-2,null,2010,119.69702593544166,1.5336078725127704,121.23063380795443,1.2812414180949805E-2,null,2010,140.44900926568965,1.7994908780160737,142.24850014370574,1.2812414180949805E-2,null,2010,126.14715204584027,1.0158937140637367,127.16304575990401,8.0532433557800598E-3,null,2010,232.99168710421463,1.8763387561239973,234.86802586033863,8.0532433557800598E-3,null,2010,58.247921776053659,0.46908468903099931,58.717006465084658,8.0532433557800598E-3,null,2010,112.46029539581627,0.90567012668541724,113.3659655225017,8.0532433557800598E-3,null,2010,247.20341426721095,1.0014610450272627,248.20487531223822,4.0511618660119542E-3,null,2010,122.65437989967027,0.73692984360696312,123.39130974327723,6.0081820495099247E-3,null,2010,355.37474844317518,8.0919113648804633,363.46665980805562,2.2770079754764527E-2,null,2010,51.880761213004433,0.45056495990607692,52.331326172910508,8.6846250781904555E-3,null,2010,21.507368047790695,0.11675945729999448,21.624127505090691,5.4288119792504919E-3,null,2010,46.566166057282402,0.85960400403336124,47.42577006131576,1.8459840627118362E-2,null,2010,159.36776104396955,1.3179149196499833,160.68567596361953,8.2696456988333722E-3,null,2010,67.503799912927917,0.55904052530212289,68.06284043823004,8.2816156427225618E-3,null,2010,144.64158467328141,2.217044311346422,146.85862898462784,1.5327848601453864E-2,null,2010,212.66909325290464,5.1662619559668252,217.83535520887148,2.4292490633903041E-2,null,2010,428.31713567606647,3.2153018514384102,431.5324375275049,7.5068251620689086E-3]
[null,null,2011,2948.090114029822,39.123947418812165,2987.2140614486343,1.3270946920049376E-2,null,2011,269.0779297445909,4.5858887234779182,273.66381846806883,1.704297609183647E-2,null,2011,121.23063380795443,2.0661307935871509,123.29676460154158,1.704297609183647E-2,null,2011,142.24850014370574,2.424337787048775,144.67283793075453,1.704297609183647E-2,null,2011,127.16304575990401,0.65021084337795099,127.81325660328196,5.1132059592660095E-3,null,2011,234.86802586033863,1.2009285894701149,236.06895444980876,5.1132059592660095E-3,null,2011,58.717006465084658,0.30023214736752873,59.017238612452189,5.1132059592660095E-3,null,2011,113.3659655225017,0.57966353048759489,113.94562905298929,5.1132059592660095E-3,null,2011,248.20487531223822,3.4795120517185234,251.68438736395674,1.4018709533168305E-2,null,2011,123.39130974327723,1.9161945530937585,125.30750429637099,1.5529412541940957E-2,null,2011,363.46665980805562,12.663822319653416,376.13048212770906,3.4841771529584342E-2,null,2011,52.331326172910508,0.18213093140375997,52.51345710431427,3.4803423632332464E-3,null,2011,21.624127505090691,0.19963740483681114,21.823764909927501,9.2321599930360598E-3,null,2011,47.42577006131576,0.84695248375626186,48.272722545072021,1.7858486697448495E-2,null,2011,160.68567596361953,1.8441045647054759,162.52978052832501,1.1476471400742705E-2,null,2011,68.06284043823004,0.66802061203958796,68.730861050269624,9.8147624715403392E-3,null,2011,146.85862898462784,2.4688300844313229,149.32745906905916,1.6810929677749664E-2,null,2011,217.83535520887148,2.2486044656089925,220.08395967448047,1.0322495462010473E-2,null,2011,431.5324375275049,0.79874553274721172,432.3311830602521,1.8509513150939405E-3]
[null,null,2012,2987.2140614486343,43.62783054300057,3030.8418919916344,1.4604855777172965E-2,null,2012,273.66381846806883,4.6205954485347469,278.28441391660357,1.6884202940674387E-2,null,2012,123.29676460154158,2.0817675954609851,125.37853219700257,1.6884202940674387E-2,null,2012,144.67283793075453,2.4426855556261531,147.11552348638068,1.6884202940674387E-2,null,2012,127.81325660328196,1.526620962879637,129.33987756616159,1.1944151987442808E-2,null,2012,236.06895444980876,2.8196434714652465,238.888597921274,1.1944151987442808E-2,null,2012,59.017238612452189,0.70491086786631163,59.7221494803185,1.1944151987442808E-2,null,2012,113.94562905298929,1.3609839117136913,115.30661296470298,1.1944151987442808E-2,null,2012,251.68438736395674,3.9105783058248464,255.5949656697816,1.553762768832323E-2,null,2012,125.30750429637099,2.0589602409888603,127.36646453735986,1.6431260462415054E-2,null,2012,376.13048212770906,12.931604058151063,389.0620861858601,3.4380632978744607E-2,null,2012,52.51345710431427,0.35847704795520674,52.871934152269475,6.8263844683300601E-3,null,2012,21.823764909927501,0.3212980162309565,22.145062926158456,1.4722391739327989E-2,null,2012,48.272722545072021,0.9388884501557212,49.211610995227744,1.9449668480560289E-2,null,2012,162.52978052832501,2.2336542602160825,164.76343478854108,1.374304606180643E-2,null,2012,68.730861050269624,0.99005774286131121,69.720918793130934,1.4404849986342949E-2,null,2012,149.32745906905916,3.0161674581908642,152.34362652725002,2.0198344477260433E-2,null,2012,220.08395967448047,0.94125336150236283,221.02521303598283,4.2767921973712042E-3,null,2012,432.3311830602521,0.3696837873765253,432.70086684762862,8.550939693030557E-4]
[null,null,2013,3030.8418919916344,44.254939381757808,3075.096831373392,1.4601533487672791E-2,null,2013,278.28441391660357,4.4728179333607274,282.75723184996428,1.6072829485524576E-2,null,2013,125.37853219700257,2.0151877691477829,127.39371996615036,1.6072829485524576E-2,null,2013,147.11552348638068,2.3645627236702911,149.48008621005098,1.6072829485524798E-2,null,2013,129.33987756616159,1.6663993789409619,131.00627694510254,1.2883879359546491E-2,null,2013,238.888597921274,3.0778118759889446,241.96640979726294,1.2883879359546713E-2,null,2013,59.7221494803185,0.76945296899723614,60.491602449315735,1.2883879359546713E-2,null,2013,115.30661296470298,1.4855964907951724,116.79220945549815,1.2883879359546713E-2,null,2013,255.5949656697816,3.7712676608869788,259.36623333066859,1.475485892691375E-2,null,2013,127.36646453735986,1.9929107534925741,129.35937529085243,1.5647060321031248E-2,null,2013,389.0620861858601,12.411331551857872,401.47341773771797,3.1900645147748596E-2,null,2013,52.871934152269475,0.35666948793290043,53.228603640202373,6.745913378271684E-3,null,2013,22.145062926158456,0.33452119080106635,22.479584116959522,1.5105903826803768E-2,null,2013,49.211610995227744,0.87682761842018542,50.088438613647931,1.781749470679217E-2,null,2013,164.76343478854108,2.0001745706799321,166.76360935922102,1.2139675124198446E-2,null,2013,69.720918793130934,1.0739249333591643,70.7948437264901,1.540319536731305E-2,null,2013,152.34362652725002,3.4611556712552365,155.80478219850525,2.2719399230240356E-2,null,2013,221.02521303598283,1.3732988310466148,222.39851186702944,6.2133130070687326E-3,null,2013,432.70086684762862,0.75102797112417141,433.45189481875281,1.7356747551620089E-3]
[null,null,2014,3075.096831373392,42.872960286547041,3117.9697916599398,1.3941987077980889E-2,null,2014,282.75723184996428,3.9720269545553868,286.72925880451965,1.4047481397975403E-2,null,2014,127.39371996615036,1.7895609114433828,129.18328087759375,1.4047481397975403E-2,null,2014,149.48008621005098,2.0998187304034479,151.57990494045444,1.4047481397975403E-2,null,2014,131.00627694510254,1.5991373222686867,132.60541426737123,1.2206570246544812E-2,null,2014,241.96640979726294,2.9535799784945178,244.91998977575747,1.2206570246544812E-2,null,2014,60.491602449315735,0.73839499462362945,61.229997443939368,1.2206570246544812E-2,null,2014,116.79220945549815,1.4256323089677032,118.21784176446586,1.2206570246544812E-2,null,2014,259.36623333066859,3.4028854092759691,262.76911873994459,1.3120001650090085E-2,null,2014,129.35937529085243,1.7803580132370795,131.1397333040895,1.3762883511412305E-2,null,2014,401.47341773771797,12.001423765399414,413.47484150311737,2.9893445581096856E-2,null,2014,53.228603640202373,0.23174480636417905,53.460348446566549,4.3537645272577752E-3,null,2014,22.479584116959522,0.3222767147269634,22.801860831686486,1.4336418016017705E-2,null,2014,50.088438613647931,0.77130776211943575,50.859746375767365,1.5398918063085132E-2,null,2014,166.76360935922102,1.3733040766637323,168.13691343588476,8.2350345014754467E-3,null,2014,70.7948437264901,0.97485146993350547,71.769695196423612,1.3770091416541064E-2,null,2014,155.80478219850525,3.3251436373948593,159.12992583590011,2.1341730276021931E-2,null,2014,222.39851186702944,2.5051458037452878,224.90365767077472,1.1264220172674033E-2,null,2014,433.45189481875281,1.606367626929865,435.05826244568266,3.7059882449044235E-3]
[null,null,2015,3117.9697916599398,42.275579917706153,3160.245371577646,1.3558688102362826E-2,null,2015,286.72925880451965,3.9136646831481641,290.64292348766782,1.3649338401897637E-2,null,2015,129.18328087759375,1.7632663165656632,130.94654719415942,1.3649338401897637E-2,null,2015,151.57990494045444,2.0689654174597312,153.64887035791418,1.3649338401897637E-2,null,2015,132.60541426737123,1.1621633136740499,133.76757758104529,8.7640713623562405E-3,null,2015,244.91998977575747,2.1464962684622924,247.06648604421977,8.7640713623562405E-3,null,2015,61.229997443939368,0.53662406711557309,61.766621511054943,8.7640713623562405E-3,null,2015,118.21784176446586,1.0360696015275135,119.25391136599337,8.7640713623562405E-3,null,2015,262.76911873994459,3.3262768357730703,266.09539557571765,1.2658553073982004E-2,null,2015,131.1397333040895,1.7132595125506385,132.85299281664015,1.3064381552293503E-2,null,2015,413.47484150311737,12.561971004551312,426.03681250766869,3.038146398190622E-2,null,2015,53.460348446566549,0.24532280859921143,53.705671255165761,4.5888741044104453E-3,null,2015,22.801860831686486,0.22221730157886632,23.024078133265352,9.7455774868191458E-3,null,2015,50.859746375767365,0.64531805368833894,51.505064429455707,1.2688188590649574E-2,null,2015,168.13691343588476,0.75649647108098472,168.89340990696576,4.4992884407233369E-3,null,2015,71.769695196423612,1.0637327854431771,72.833427981866791,1.4821475589827937E-2,null,2015,159.12992583590011,3.470682736613004,162.60060857251312,2.1810371106388171E-2,null,2015,224.90365767077472,3.2615767325429408,228.16523440331767,1.4502106218821087E-2,null,2015,435.05826244568266,2.3814760073316243,437.43973845301429,5.4739243289947392E-3]
[null,null,2016,3160.245371577646,38.501192859764096,3198.7465644374101,1.2182975792333517E-2,null,2016,290.64292348766782,3.6320695084222931,294.27499299609013,1.2496672772342343E-2,null,2016,130.94654719415942,1.6363961509534826,132.58294334511291,1.2496672772342343E-2,null,2016,153.64887035791418,1.9200996547028915,155.56897001261706,1.2496672772342121E-2,null,2016,133.76757758104529,0.82119884943391475,134.58877643047921,6.1389976875105834E-3,null,2016,247.06648604421977,1.5167405864868038,248.58322663070658,6.1389976875105834E-3,null,2016,61.766621511054943,0.37918514662170094,62.145806657676644,6.1389976875105834E-3,null,2016,119.25391136599337,0.73209948610241227,119.98601085209579,6.1389976875105834E-3,null,2016,266.09539557571765,3.0034956067325131,269.09889118245013,1.1287288907176229E-2,null,2016,132.85299281664015,1.5933167664675514,134.44630958310771,1.1993081470634159E-2,null,2016,426.03681250766869,12.445954974201687,438.48276748187038,2.9213332296203154E-2,null,2016,53.705671255165761,0.24517188206216728,53.950843137227928,4.565102275648103E-3,null,2016,23.024078133265352,0.13735275243712303,23.161430885702476,5.9656135477874628E-3,null,2016,51.505064429455707,0.55491491455882103,52.059979344014529,1.0773987387567852E-2,null,2016,168.89340990696576,0.72970068791532605,169.6231105948811,4.3204805226995102E-3,null,2016,72.833427981866791,0.9052761404667673,73.738704122333559,1.2429404540620359E-2,null,2016,162.60060857251312,3.1461542018442401,165.74676277435736,1.9348969413242934E-2,null,2016,228.16523440331767,2.8063428247038384,230.97157722802152,1.2299607484211217E-2,null,2016,437.43973845301429,2.2957227256505663,439.73546117866488,5.2480891054142997E-3]
[null,null,2017,3198.7465644374101,38.418856435106633,3237.1654208725167,1.2010597170227344E-2,null,2017,294.27499299609013,3.623825383507195,297.89881837959734,1.2314418383336356E-2,null,2017,132.58294334511291,1.6326818348458849,134.21562517995881,1.2314418383336356E-2,null,2017,155.56897001261706,1.9157413842000546,157.48471139681712,1.2314418383336356E-2,null,2017,134.58877643047921,0.74279865315210214,135.33157508363132,5.519023746648033E-3,null,2017,248.58322663070658,1.3719367307932306,249.95516336149981,5.519023746648033E-3,null,2017,62.145806657676644,0.34298418269830766,62.488790840374953,5.519023746648033E-3,null,2017,119.98601085209579,0.66220564315827124,120.64821649525406,5.519023746648033E-3,null,2017,269.09889118245013,3.0218383799757715,272.12072956242588,1.1229471688632531E-2,null,2017,134.44630958310771,1.6772851842037313,136.12359476731143,1.247550185203794E-2,null,2017,438.48276748187038,12.252594241349698,450.73536172322008,2.7943160256249433E-2,null,2017,53.950843137227928,0.22967846408249604,54.180521601310424,4.2571802538524661E-3,null,2017,23.161430885702476,0.12873960696772338,23.2901704926702,5.5583615538707942E-3,null,2017,52.059979344014529,0.48860498652306283,52.548584330537594,9.3854241334661026E-3,null,2017,169.6231105948811,0.62071992904585382,170.24383052392696,3.6594065918786889E-3,null,2017,73.738704122333559,1.0030421556288283,74.741746277962392,1.3602655044829159E-2,null,2017,165.74676277435736,3.4631657932320912,169.20992856758946,2.0894319353595758E-2,null,2017,230.97157722802152,2.8364784263650571,233.80805565438658,1.2280638424895018E-2,null,2017,439.73546117866488,2.4045354553772804,442.13999663404218,5.4681408884609262E-3]
[null,null,2018,3237.1654208725167,40.837990831696438,3278.0034117042128,1.2615354954795377E-2,null,2018,297.89881837959734,3.9104065423305419,301.80922492192786,1.3126626562673049E-2,null,2018,134.21562517995881,1.761798390613019,135.97742357057183,1.3126626562673049E-2,null,2018,157.48471139681712,2.0672429958363607,159.55195439265347,1.3126626562673049E-2,null,2018,135.33157508363132,0.73458221838138271,136.0661573020127,5.4280179472339096E-3,null,2018,249.95516336149981,1.3567611127300023,251.31192447422981,5.4280179472339096E-3,null,2018,62.488790840374953,0.33919027818250058,62.827981118557453,5.4280179472339096E-3,null,2018,120.64821649525406,0.65488068443799996,121.30309717969206,5.4280179472339096E-3,null,2018,272.12072956242588,3.1584932476577112,275.27922281008358,1.1606955680063757E-2,null,2018,136.12359476731143,1.7754777690969843,137.89907253640843,1.3043130194526409E-2,null,2018,450.73536172322008,13.543498779857753,464.27886050307785,3.0047562117334614E-2,null,2018,54.180521601310424,0.23905734290252667,54.419578944212951,4.412237753295134E-3,null,2018,23.2901704926702,0.10186561098841701,23.392036103658615,4.3737597807829154E-3,null,2018,52.548584330537594,0.465196932616051,53.013781263153646,8.852701524552975E-3,null,2018,170.24383052392696,0.63490399871780534,170.87873452264478,3.729380364409618E-3,null,2018,74.741746277962392,1.013621378227259,75.755367656189648,1.3561649663062836E-2,null,2018,169.20992856758946,3.6071580282201103,172.81708659580957,2.1317649967444119E-2,null,2018,233.80805565438658,3.0200999382270104,236.8281555926136,1.2917005488858324E-2,null,2018,442.13999663404218,2.4537555826729962,444.59375221671519,5.5497254293959131E-3]
[null,null,2019,3278.0034117042128,42.607138589457364,3320.6105502936707,1.2997893302163055E-2,null,2019,301.80922492192786,4.0729445982986352,305.88216952022651,1.349509644495539E-2,null,2019,135.97742357057183,1.8350284454214096,137.81245201599324,1.349509644495539E-2,null,2019,159.55195439265347,2.1531690125099736,161.70512340516345,1.349509644495539E-2,null,2019,136.0661573020127,0.7774845062419502,136.84364180825466,5.7140182515498239E-3,null,2019,251.31192447422981,1.4360009232778608,252.74792539750769,5.7140182515498239E-3,null,2019,62.827981118557453,0.35900023081946519,63.186981349376921,5.7140182515498239E-3,null,2019,121.30309717969206,0.69312811125428275,121.99622529094634,5.7140182515498239E-3,null,2019,275.27922281008358,3.0808796608766387,278.36010247096021,1.119183507359045E-2,null,2019,137.89907253640843,1.7660969025011548,139.66516943890957,1.2807170273279711E-2,null,2019,464.27886050307785,13.283652691900851,477.56251319497869,2.8611366620283185E-2,null,2019,54.419578944212951,0.22825062053358422,54.647829564746537,4.194273916885205E-3,null,2019,23.392036103658615,0.17551407148496781,23.567550175143584,7.5031549501378692E-3,null,2019,53.013781263153646,0.52219607589917982,53.535977339052828,9.8501948636160463E-3,null,2019,170.87873452264478,0.65077033606411527,171.52950485870889,3.8083752076116806E-3,null,2019,75.755367656189648,0.90322871904063606,76.658596375230289,1.1922966609308583E-2,null,2019,172.81708659580957,3.2554494596912598,176.07253605550082,1.8837543924723255E-2,null,2019,236.8281555926136,5.0934963454962556,241.92165193810985,2.1507140199402475E-2,null,2019,444.59375221671519,2.3208478781451403,446.9146000948603,5.2201540542877733E-3]
[null,null,2020,3320.6105502936707,44.734031208118182,3365.3445815017885,1.3471628343818098E-2,null,2020,305.88216952022651,4.8891556898985566,310.77132521012504,1.598378780158094E-2,null,2020,137.81245201599324,2.2027649894392121,140.01521700543245,1.598378780158094E-2,null,2020,161.70512340516345,2.5846603789366163,164.28978378410005,1.598378780158094E-2,null,2020,136.84364180825466,1.1518166262104066,137.99545843446506,8.4170269878107717E-3,null,2020,252.74792539750769,2.1273861091840369,254.87531150669173,8.4170269878109938E-3,null,2020,63.186981349376921,0.53184652729600923,63.718827876672933,8.4170269878109938E-3,null,2020,121.99622529094634,1.0268455206849534,123.0230708116313,8.4170269878109938E-3,null,2020,278.36010247096021,2.8482225631943083,281.20832503415454,1.0232150864693201E-2,null,2020,139.66516943890957,1.6979433003987077,141.36311273930829,1.215724226176107E-2,null,2020,477.56251319497869,12.506200737533756,490.06871393251242,2.6187567893185326E-2,null,2020,54.647829564746537,0.21598135866267154,54.863810923409211,3.9522403795886341E-3,null,2020,23.567550175143584,0.28687918950712266,23.854429364650706,1.2172635143456345E-2,null,2020,53.535977339052828,0.63439094944049579,54.170368288493322,1.1849806073825464E-2,null,2020,171.52950485870889,0.99670658122709699,172.52621143993599,5.810700509210287E-3,null,2020,76.658596375230289,0.97437059872211695,77.632966973952406,1.2710519691134792E-2,null,2020,176.07253605550082,3.2469989134896293,179.31953496899044,1.8441257144533374E-2,null,2020,241.92165193810985,4.5771469226543644,246.49879886076423,1.8919955638469821E-2,null,2020,446.9146000948603,2.2347142516381231,449.14931434649844,5.0003160585128104E-3]
[null,null,2021,3365.3445815017885,42.98191019970907,3408.3264917014981,1.2771919534174003E-2,null,2021,310.77132521012504,4.094118966332795,314.86544417645786,1.317405640164715E-2,null,2021,140.01521700543245,1.844568365918422,141.85978537135088,1.317405640164715E-2,null,2021,164.28978378410005,2.1643628777861377,166.4541466618862,1.317405640164715E-2,null,2021,137.99545843446506,1.2640631772951749,139.25952161176025,9.1601795568909683E-3,null,2021,254.87531150669173,2.3347036180197982,257.2100151247115,9.1601795568907463E-3,null,2021,63.718827876672933,0.58367590450494955,64.302503781177876,9.1601795568907463E-3,null,2021,123.0230708116313,1.126913418274647,124.14998422990595,9.1601795568909683E-3,null,2021,281.20832503415454,2.0407709107286394,283.24909594488315,7.257149696691112E-3,null,2021,141.36311273930829,1.3640295562580578,142.72714229556635,9.6491194189640694E-3,null,2021,490.06871393251242,12.889938004970974,502.95865193748341,2.6302307489773913E-2,null,2021,54.863810923409211,0.22547378825050896,55.089284711659722,4.1096997174563388E-3,null,2021,23.854429364650706,0.23944539376194168,24.093874758412646,1.0037774960015122E-2,null,2021,54.170368288493322,0.58836986126483626,54.758738149758159,1.0861470576152943E-2,null,2021,172.52621143993599,0.72149843717077511,173.24770987710676,4.1819641847404831E-3,null,2021,77.632966973952406,0.6969264598367042,78.32989343378911,8.9771972784518095E-3,null,2021,179.31953496899044,3.2156092983016626,182.53514426729211,1.7932286623751015E-2,null,2021,246.49879886076423,5.1195345801197263,251.61833344088396,2.0769004164647109E-2,null,2021,449.14931434649844,2.4679075809133169,451.61722192741178,5.4946261790560502E-3]
[null,null,2022,3408.3264917014981,42.234376137551507,3450.5608678390495,1.2391528875060009E-2,null,2022,314.86544417645786,4.3906114598445365,319.25605563630239,1.3944405589912723E-2,null,2022,141.85978537135088,1.978150384116077,143.83793575546696,1.3944405589912723E-2,null,2022,166.4541466618862,2.3211041331761502,168.77525079506236,1.3944405589912723E-2,null,2022,139.25952161176025,1.0741052103843647,140.33362682214462,7.7129750120703555E-3,null,2022,257.2100151247115,1.9838544195111132,259.19386954422259,7.7129750120701335E-3,null,2022,64.302503781177876,0.4959636048777783,64.798467386055648,7.7129750120701335E-3,null,2022,124.14998422990595,0.95756572611418111,125.10754995602014,7.7129750120703555E-3,null,2022,283.24909594488315,1.8204536669191558,285.0695496118023,6.4270414027143286E-3,null,2022,142.72714229556635,1.226625272752119,143.95376756831848,8.5941976629222427E-3,null,2022,502.95865193748341,13.708781217561036,516.66743315504448,2.7256278751250251E-2,null,2022,55.089284711659722,0.22425543617677446,55.313540147836498,4.0707632591445719E-3,null,2022,24.093874758412646,0.22593984852634547,24.319814606938991,9.3774808241440244E-3,null,2022,54.758738149758159,0.5226920768816774,55.281430226639834,9.5453638002427343E-3,null,2022,173.24770987710676,0.67228145721044552,173.91999133431722,3.8804637457392488E-3,null,2022,78.32989343378911,0.65049613833175202,78.980389572120856,8.304570704945391E-3,null,2022,182.53514426729211,2.8424059678213576,185.37755023511346,1.557182853324468E-2,null,2022,251.61833344088396,4.719862177162776,256.33819561804671,1.8758021772970812E-2,null,2022,451.61722192741178,2.4192279401838657,454.03644986759565,5.3568106412309469E-3]
[null,null,2023,3450.5608678390495,41.670101172732387,3492.2309690117818,1.207632694183669E-2,null,2023,319.25605563630239,4.579630478544372,323.83568611484674,1.4344694165367544E-2,null,2023,143.83793575546696,2.0633111977899796,145.90124695325693,1.4344694165367544E-2,null,2023,168.77525079506236,2.4210293553384004,171.19628015040075,1.4344694165367544E-2,null,2023,140.33362682214462,1.0270481345665217,141.36067495671114,7.3186174819537264E-3,null,2023,259.19386954422259,1.8969407848615885,261.09081032908421,7.3186174819539485E-3,null,2023,64.798467386055648,0.47423519621539711,65.272702582271052,7.3186174819539485E-3,null,2023,125.10754995602014,0.91561430223253149,126.02316425825266,7.3186174819537264E-3,null,2023,285.0695496118023,1.8428914298862955,286.91244104168862,6.4647081120936534E-3,null,2023,143.95376756831848,1.2031998211130583,145.15696738943154,8.3582377970208288E-3,null,2023,516.66743315504448,13.231921804979427,529.89935496002386,2.5610133242148114E-2,null,2023,55.313540147836498,0.22276630635054573,55.536306454187041,4.0273377143309474E-3,null,2023,24.319814606938991,0.22299788712187185,24.542812494060861,9.1693909154326736E-3,null,2023,55.281430226639834,0.52384618750079892,55.805276414140636,9.4759883265169709E-3,null,2023,173.91999133431722,0.67687998512926861,174.59687131944648,3.8919044322405227E-3,null,2023,78.980389572120856,0.6512352733135216,79.631624845434374,8.245531287470298E-3,null,2023,185.37755023511346,2.7723211034473563,188.14987133856081,1.495499913517695E-2,null,2023,256.33819561804671,4.5282503120994786,260.8664459301462,1.7665140776939703E-2,null,2023,454.03644986759565,2.4159816122419722,456.45243147983763,5.3211181898424886E-3]
[null,null,2024,3492.2309690117818,41.526250911966933,3533.7572199237493,1.1891037929750325E-2,null,2024,323.83568611484674,4.8884844995449495,328.72417061439171,1.5095570714251938E-2,null,2024,145.90124695325693,2.2024625906804181,148.10370954393736,1.5095570714251938E-2,null,2024,171.19628015040075,2.5843055530272521,173.78058570342802,1.5095570714251938E-2,null,2024,141.36067495671114,0.96844944609703787,142.32912440280816,6.8509113046721914E-3,null,2024,261.09081032908421,1.788709984029573,262.8795203131138,6.8509113046724135E-3,null,2024,65.272702582271052,0.44717749600739326,65.71988007827845,6.8509113046724135E-3,null,2024,126.02316425825266,0.86337352066743656,126.8865377789201,6.8509113046721914E-3,null,2024,286.91244104168862,1.8477204975155399,288.76016153920415,6.4400152562469337E-3,null,2024,145.15696738943154,1.2243771102353225,146.38134449966685,8.4348490620538286E-3,null,2024,529.89935496002386,12.912642543857565,542.81199750388146,2.4368103910660022E-2,null,2024,55.536306454187041,0.22211942275758864,55.758425876944628,3.9995353839530345E-3,null,2024,24.542812494060861,0.2244725809526894,24.76728507501355,9.1461637091108106E-3,null,2024,55.805276414140636,0.50494178266280931,56.310218196803447,9.0482802901208359E-3,null,2024,174.59687131944648,0.66356667418978388,175.26043799363626,3.8005645185685832E-3,null,2024,79.631624845434374,0.63993878583781483,80.271563631272187,8.0362392087307555E-3,null,2024,188.14987133856081,2.7357032472714593,190.88557458583227,1.4540021886854104E-2,null,2024,260.8664459301462,4.3624933337344558,265.22893926388065,1.6723091075126595E-2,null,2024,456.45243147983763,2.4453118428978433,458.89774332273549,5.3572106845176659E-3]
[null,null,2025,3533.7572199237493,41.288681199617905,3575.0459011233656,1.1684074097344732E-2,null,2025,328.72417061439171,5.1551506913580152,333.87932130574973,1.5682298876054546E-2,null,2025,148.10370954393736,2.3226066377203867,150.42631618165774,1.5682298876054546E-2,null,2025,173.78058570342802,2.7252790838569569,176.50586478728496,1.5682298876054324E-2,null,2025,142.32912440280816,0.88068485575384681,143.20980925856202,6.1876643972136325E-3,null,2025,262.8795203131138,1.6266102485980536,264.50613056171187,6.1876643972136325E-3,null,2025,65.71988007827845,0.4066525621495134,66.126532640427968,6.1876643972136325E-3,null,2025,126.8865377789201,0.78513131230032707,127.67166909122042,6.1876643972136325E-3,null,2025,288.76016153920415,1.9912483465995774,290.75140988580375,6.8958554946965123E-3,null,2025,146.38134449966685,1.2393792900285909,147.62072378969543,8.4667844407686488E-3,null,2025,542.81199750388146,13.232746902000743,556.04474440588217,2.4378140061110276E-2,null,2025,55.758425876944628,0.22457762962928574,55.983003506573915,4.027689557178693E-3,null,2025,24.76728507501355,0.20266598330746477,24.969951058321016,8.1828098111538239E-3,null,2025,56.310218196803447,0.508479033399025,56.818697230202474,9.0299602750942842E-3,null,2025,175.26043799363626,0.65372394610107121,175.91416193973734,3.7300143351508552E-3,null,2025,80.271563631272187,0.58050466265591805,80.852068293928099,7.2317597464832684E-3,null,2025,190.88557458583227,2.6265931364018744,193.51216772223415,1.3760039972118498E-2,null,2025,265.22893926388065,3.7044618303707133,268.93340109425134,1.3967034821509738E-2,null,2025,458.89774332273549,2.4221850473865496,461.31992837012206,5.2782675064999562E-3]
[null,null,2026,3575.0459011233656,39.536585955522142,3614.5824870788883,1.1059042890358306E-2,null,2026,333.87932130574973,5.2376136060505551,339.11693491180029,1.5687145839302197E-2,null,2026,150.42631618165774,2.3597595600106578,152.78607574166838,1.5687145839302197E-2,null,2026,176.50586478728496,2.768873242410304,179.27473802969527,1.5687145839302197E-2,null,2026,143.20980925856202,0.80013323866886377,144.0099424972309,5.5871398950351203E-3,null,2026,264.50613056171187,1.4778327545426755,265.98396331625457,5.5871398950351203E-3,null,2026,66.126532640427968,0.36945818863566887,66.495990829063643,5.5871398950351203E-3,null,2026,127.67166909122042,0.7133194758452639,128.38498856706568,5.5871398950348983E-3,null,2026,290.75140988580375,1.9401098965893173,292.69151978239307,6.6727445873824287E-3,null,2026,147.62072378969543,1.2064968141481405,148.82722060384359,8.172950133119361E-3,null,2026,556.04474440588217,12.260755083930938,568.30549948981309,2.2049943295536778E-2,null,2026,55.983003506573915,0.21794777162207102,56.200951278195987,3.8931060852509525E-3,null,2026,24.969951058321016,0.23122856243357687,25.201179620754594,9.2602729534194683E-3,null,2026,56.818697230202474,0.55437311135733847,57.37307034155981,9.7568782527919229E-3,null,2026,175.91416193973734,0.66782904405999433,176.58199098379734,3.7963347390346236E-3,null,2026,80.852068293928099,0.46153199253677479,81.313600286464876,5.7083510944819782E-3,null,2026,193.51216772223415,2.2539643023748077,195.76613202460896,1.164766189591826E-2,null,2026,268.93340109425134,3.7494884416305903,272.68288953588194,1.3942070514017413E-2,null,2026,461.31992837012206,2.265870868674603,463.58579923879665,4.9117125216768809E-3]
[null,null,2027,3614.5824870788883,40.918191723261934,3655.5006788021506,1.1320309294236219E-2,null,2027,339.11693491180029,5.1800514670003164,344.29698637880063,1.5275118797436704E-2,null,2027,152.78607574166838,2.3338254575481265,155.11990119921651,1.5275118797436704E-2,null,2027,179.27473802969527,2.7384429207829153,182.01318095047819,1.5275118797436482E-2,null,2027,144.0099424972309,0.92527266052466417,144.93521515775555,6.4250609678733195E-3,null,2027,265.98396331625457,1.7089631807835621,267.69292649703812,6.4250609678733195E-3,null,2027,66.495990829063643,0.42724079519589053,66.923231624259529,6.4250609678733195E-3,null,2027,128.38498856706568,0.8248813789031384,129.20986994596882,6.4250609678735415E-3,null,2027,292.69151978239307,1.9579188971849624,294.64943867957805,6.6893598374173635E-3,null,2027,148.82722060384359,1.254188417727425,150.08140902157101,8.4271439904524126E-3,null,2027,568.30549948981309,12.501618421691354,580.80711791150441,2.1998059904249523E-2,null,2027,56.200951278195987,0.22547324608332328,56.426424524279312,4.0119115594188237E-3,null,2027,25.201179620754594,0.20447160420095803,25.405651224955552,8.1135727484979991E-3,null,2027,57.37307034155981,0.61573234291559675,57.988802684475409,1.0732079340532996E-2,null,2027,176.58199098379734,0.8240133831486246,177.40600436694595,4.6664633157535995E-3,null,2027,81.313600286464876,0.55810804609133724,81.87170833255621,6.8636494279572524E-3,null,2027,195.76613202460896,2.4906768894111275,198.2568089140201,1.2722715945054475E-2,null,2027,272.68288953588194,3.8159714281153509,276.49886096399729,1.3994172625243495E-2,null,2027,463.58579923879665,2.3313411859532662,465.9171404247499,5.0289314076947811E-3]
[null,null,2028,3655.5006788021506,42.590681257181252,3698.0913600593321,1.1651121145773713E-2,null,2028,344.29698637880063,5.2189399284378712,349.51592630723849,1.5158250391119843E-2,null,2028,155.11990119921651,2.3513463030235098,157.47124750224003,1.5158250391120065E-2,null,2028,182.01318095047819,2.7590013713315695,184.77218232180977,1.5158250391120065E-2,null,2028,144.93521515775555,1.1134018620003823,146.04861701975594,7.6820658167064959E-3,null,2028,267.69292649703812,2.0564346800169977,269.74936117705511,7.6820658167064959E-3,null,2028,66.923231624259529,0.51410867000424942,67.437340294263777,7.6820658167064959E-3,null,2028,129.20986994596882,0.99259872509300784,130.20246867106184,7.6820658167064959E-3,null,2028,294.64943867957805,1.9721367941629311,296.62157547374096,6.6931632485054404E-3,null,2028,150.08140902157101,1.2833595960667425,151.36476861763774,8.5510897347871317E-3,null,2028,580.80711791150441,12.57826927871788,593.38538719022233,2.1656534313745146E-2,null,2028,56.426424524279312,0.22638660588365764,56.652811130162966,4.0120671793806295E-3,null,2028,25.405651224955552,0.26066044066561478,25.666311665621166,1.0259939348044478E-2,null,2028,57.988802684475409,0.64943529441213221,58.638237978887538,1.1199322357900554E-2,null,2028,177.40600436694595,0.92027847797674456,178.3262828449227,5.1874144917509746E-3,null,2028,81.87170833255621,0.6395665355098632,82.511274868066067,7.8118137331639748E-3,null,2028,198.2568089140201,2.6789433675989183,200.93575228161902,1.3512491108240932E-2,null,2028,276.49886096399729,3.9697768142066905,280.46863777820397,1.4357298978976862E-2,null,2028,465.9171404247499,2.4060365120724927,468.32317693682239,5.1640867083770914E-3]
[null,null,2029,3698.0913600593321,42.835776168200425,3740.9271362275322,1.158321198628065E-2,null,2029,349.51592630723849,5.4619595531512717,354.97788586038973,1.562721221564578E-2,null,2029,157.47124750224003,2.460836602580005,159.93208410482004,1.562721221564578E-2,null,2029,184.77218232180977,2.8874741046909378,187.6596564265007,1.5627212215646002E-2,null,2029,146.04861701975594,1.1813933860142301,147.23001040577017,8.0890419239945111E-3,null,2029,269.74936117705511,2.1820138915319474,271.93137506858704,8.0890419239945111E-3,null,2029,67.437340294263777,0.54550347288298684,67.982843767146761,8.0890419239945111E-3,null,2029,130.20246867106184,1.0532132276878068,131.25568189874966,8.0890419239947331E-3,null,2029,296.62157547374096,1.9490625548253275,298.57063802856629,6.5708725055231287E-3,null,2029,151.36476861763774,1.2304007565895052,152.59516937422725,8.1287129615850162E-3,null,2029,593.38538719022233,12.728972214975057,606.11435940519743,2.1451441996657383E-2,null,2029,56.652811130162966,0.21352183550867487,56.866332965671639,3.7689539362502078E-3,null,2029,25.666311665621166,0.26071545873877994,25.927027124359945,1.0157885641511877E-2,null,2029,58.638237978887538,0.72200061147652228,59.360238590364062,1.2312795137815691E-2,null,2029,178.3262828449227,1.1286492723131669,179.45493211723587,6.3291246489709518E-3,null,2029,82.511274868066067,0.5955885117629387,83.106863379829008,7.2182682029247047E-3,null,2029,200.93575228161902,2.6419349437561377,203.57768722537514,1.314815762629129E-2,null,2029,280.46863777820397,3.1675740305203037,283.63621180872428,1.1293861786519033E-2,null,2029,468.32317693682239,2.4249617391948091,470.74813867601722,5.177966538098433E-3]
[null,null,2030,3740.9271362275322,41.8656447349939,3782.7927809625253,1.1191248375185259E-2,null,2030,354.97788586038973,5.9879188802057612,360.9658047405955,1.6868427918241613E-2,null,2030,159.93208410482004,2.6978028325363015,162.62988693735633,1.6868427918241613E-2,null,2030,187.6596564265007,3.1655233875924011,190.8251798140931,1.6868427918241613E-2,null,2030,147.23001040577017,0.89000518153119768,148.12001558730137,6.0449984285018132E-3,null,2030,271.93137506858704,1.6438247349499673,273.57519980353703,6.0449984285020353E-3,null,2030,67.982843767146761,0.41095618373749182,68.393799950884258,6.0449984285020353E-3,null,2030,131.25568189874966,0.79344039080988582,132.04912228955953,6.0449984285018132E-3,null,2030,298.57063802856629,1.8009967054551801,300.37163473402148,6.0320623533076656E-3,null,2030,152.59516937422725,1.1823269420847144,153.77749631631198,7.7481282463480738E-3,null,2030,606.11435940519743,12.576675551232256,618.69103495642969,2.0749674308284449E-2,null,2030,56.866332965671639,0.21746831812110834,57.083801283792745,3.824201540345129E-3,null,2030,25.927027124359945,0.19564087032308575,26.122667994683031,7.5458273478361537E-3,null,2030,59.360238590364062,0.54973219746351432,59.909970787827575,9.260949930762985E-3,null,2030,179.45493211723587,0.675509178176112,180.13044129541197,3.7642274314020341E-3,null,2030,83.106863379829008,0.64036734865632561,83.747230728485334,7.7053485429912083E-3,null,2030,203.57768722537514,2.4087828515044878,205.98647007687964,1.1832253742217747E-2,null,2030,283.63621180872428,3.644742110495383,287.28095391921966,1.2850059191148899E-2,null,2030,470.74813867601722,2.3839310701187211,473.13206974613593,5.0641327585989604E-3]
[null,null,2031,{"$f":"J51+P51+V51+AB51+AH51+AN51+AT51+AZ51+BF51+BL51+BR51+BX51+CD51+CJ51+CP51+CV51+DB51+DH51","v":3782.7927809625253},{"$f":"K51+Q51+W51+AC51+AI51+AO51+AU51+BA51+BG51+BM51+BS51+BY51+CE51+CK51+CQ51+CW51+DC51+DI51","v":41.8656447349939},{"$f":"L51+R51+X51+AD51+AJ51+AP51+AV51+BB51+BH51+BN51+BT51+BZ51+CF51+CL51+CR51+CX51+DD51+DJ51","v":3824.6584256975202},{"$f":"F51/F50-1","v":1.1067390459686299E-2},null,2031,{"$f":"L50","v":360.9658047405955},{"$f":"K50","v":5.9879188802057612},{"$f":"J51+K51","v":366.95372362080127},{"$f":"L51/L50-1","v":1.6588604243299221E-2},null,2031,162.62988693735633,{"$f":"Q50","v":2.6978028325363015},165.32768976989263,1.6588604243299221E-2,null,2031,190.8251798140931,{"$f":"W50","v":3.1655233875924011},193.99070320168551,1.6588604243299221E-2,null,2031,148.12001558730137,{"$f":"AC50","v":0.89000518153119768},149.01002076883256,6.0086759915753962E-3,null,2031,273.57519980353703,{"$f":"AI50","v":1.6438247349499673},275.21902453848702,6.0086759915756183E-3,null,2031,68.393799950884258,{"$f":"AO50","v":0.41095618373749182},68.804756134621755,6.0086759915756183E-3,null,2031,132.04912228955953,{"$f":"AU50","v":0.79344039080988582},132.84256268036941,6.0086759915753962E-3,null,2031,300.37163473402148,{"$f":"BA50","v":1.8009967054551801},302.17263143947667,5.9958947423579545E-3,null,2031,153.77749631631198,{"$f":"BG50","v":1.1823269420847144},154.95982325839671,7.6885563259057044E-3,null,2031,618.69103495642969,{"$f":"BM50","v":12.576675551232256},631.26771050766195,2.0327877471374656E-2,null,2031,57.083801283792745,{"$f":"BS50","v":0.21746831812110834},57.301269601913852,3.8096327369643301E-3,null,2031,26.122667994683031,{"$f":"BY50","v":0.19564087032308575},26.318308865006117,7.4893142753607034E-3,null,2031,59.909970787827575,{"$f":"CE50","v":0.54973219746351432},60.459702985291088,9.1759717161339349E-3,null,2031,180.13044129541197,{"$f":"CK50","v":0.675509178176112},180.80595047358807,3.7501111601023762E-3,null,2031,83.747230728485334,{"$f":"CQ50","v":0.64036734865632561},84.387598077141661,7.6464301337013652E-3,null,2031,205.98647007687964,{"$f":"CW50","v":2.4087828515044878},208.39525292838414,1.1693888684074727E-2,null,2031,287.28095391921966,{"$f":"DC50","v":3.644742110495383},290.92569602971503,1.2687030103360808E-2,null,2031,473.13206974613593,{"$f":"DI50","v":2.3839310701187211},475.51600081625463,5.0386165355433832E-3]
[null,null,2032,3824.6584256975202,41.8656447349939,3866.5240704325142,1.0946244102140623E-2,null,2032,{"$f":"L51","v":366.95372362080127},{"$f":"K51","v":5.9879188802057612},{"$f":"J52+K52","v":372.94164250100704},{"$f":"L52/L51-1","v":1.6317912845036364E-2},null,2032,165.32768976989263,{"$f":"Q51","v":2.6978028325363015},168.02549260242893,1.6317912845036142E-2,null,2032,193.99070320168551,{"$f":"W51","v":3.1655233875924011},197.15622658927791,1.6317912845036364E-2,null,2032,149.01002076883256,{"$f":"AC51","v":0.89000518153119768},149.90002595036376,5.9727874470396625E-3,null,2032,275.21902453848702,{"$f":"AI51","v":1.6438247349499673},276.86284927343701,5.9727874470396625E-3,null,2032,68.804756134621755,{"$f":"AO51","v":0.41095618373749182},69.215712318359252,5.9727874470396625E-3,null,2032,132.84256268036941,{"$f":"AU51","v":0.79344039080988582},133.63600307117929,5.9727874470396625E-3,null,2032,302.17263143947667,{"$f":"BA51","v":1.8009967054551801},303.97362814493187,5.9601582607784476E-3,null,2032,154.95982325839671,{"$f":"BG51","v":1.1823269420847144},156.14215020048144,7.6298934602756496E-3,null,2032,631.26771050766195,{"$f":"BM51","v":12.576675551232256},643.8443860588942,1.9922887456287119E-2,null,2032,57.301269601913852,{"$f":"BS51","v":0.21746831812110834},57.518737920034958,3.7951745158861794E-3,null,2032,26.318308865006117,{"$f":"BY51","v":0.19564087032308575},26.513949735329202,7.4336413987152739E-3,null,2032,60.459702985291088,{"$f":"CE51","v":0.54973219746351432},61.009435182754601,9.0925388369382798E-3,null,2032,180.80595047358807,{"$f":"CK51","v":0.675509178176112},181.48145965176417,3.7361003684155403E-3,null,2032,84.387598077141661,{"$f":"CQ51","v":0.64036734865632561},85.027965425797987,7.5884059180229002E-3,null,2032,208.39525292838414,{"$f":"CW51","v":2.4087828515044878},210.80403577988864,1.1558722272489996E-2,null,2032,290.92569602971503,{"$f":"DC51","v":3.644742110495383},294.5704381402104,1.2528085900404884E-2,null,2032,475.51600081625463,{"$f":"DI51","v":2.3839310701187211},477.89993188637334,5.0133561563154849E-3]
[null,null,2033,3866.5240704325142,41.8656447349939,3908.3897151675083,1.0827721222568476E-2,null,2033,372.94164250100704,5.9879188802057612,378.92956138121281,1.6055913842309977E-2,null,2033,168.02549260242893,2.6978028325363015,170.72329543496522,1.6055913842309977E-2,null,2033,197.15622658927791,3.1655233875924011,200.32174997687031,1.6055913842309977E-2,null,2033,149.90002595036376,0.89000518153119768,150.79003113189495,5.9373250664138677E-3,null,2033,276.86284927343701,1.6438247349499673,278.50667400838699,5.9373250664140897E-3,null,2033,69.215712318359252,0.41095618373749182,69.626668502096749,5.9373250664140897E-3,null,2033,133.63600307117929,0.79344039080988582,134.42944346198917,5.9373250664138677E-3,null,2033,303.97362814493187,1.8009967054551801,305.77462485038706,5.9248452454450096E-3,null,2033,156.14215020048144,1.1823269420847144,157.32447714256617,7.5721189990445303E-3,null,2033,643.8443860588942,12.576675551232256,656.42106161012646,1.9533719363799662E-2,null,2033,57.518737920034958,0.21746831812110834,57.736206238156065,3.7808256228333281E-3,null,2033,26.513949735329202,0.19564087032308575,26.709590605652288,7.3787901190141003E-3,null,2033,61.009435182754601,0.54973219746351432,61.559167380218113,9.010609519933821E-3,null,2033,181.48145965176417,0.675509178176112,182.15696882994027,3.7221938784948172E-3,null,2033,85.027965425797987,0.64036734865632561,85.668332774454313,7.5312556927540353E-3,null,2033,210.80403577988864,2.4087828515044878,213.21281863139313,1.1426644858069102E-2,null,2033,294.5704381402104,3.644742110495383,298.21518025070577,1.2373074954522556E-2,null,2033,477.89993188637334,2.3839310701187211,480.28386295649204,4.9883477922016972E-3]
[null,null,2034,3908.3897151675083,41.8656447349939,3950.2553599025023,1.071173751494725E-2,null,2034,378.92956138121281,5.9879188802057612,384.91748026141858,1.580219515832848E-2,null,2034,170.72329543496522,2.6978028325363015,173.42109826750152,1.580219515832848E-2,null,2034,200.32174997687031,3.1655233875924011,203.48727336446271,1.580219515832848E-2,null,2034,150.79003113189495,0.89000518153119768,151.68003631342614,5.9022813036806454E-3,null,2034,278.50667400838699,1.6438247349499673,280.15049874333698,5.9022813036806454E-3,null,2034,69.626668502096749,0.41095618373749182,70.037624685834245,5.9022813036806454E-3,null,2034,134.42944346198917,0.79344039080988582,135.22288385279904,5.9022813036804234E-3,null,2034,305.77462485038706,1.8009967054551801,307.57562155584225,5.8899482137748649E-3,null,2034,157.32447714256617,1.1823269420847144,158.50680408465089,7.5152129125672928E-3,null,2034,656.42106161012646,12.576675551232256,668.99773716135871,1.9159463775252794E-2,null,2034,57.736206238156065,0.21746831812110834,57.953674556277171,3.7665848224262E-3,null,2034,26.709590605652288,0.19564087032308575,26.905231475975373,7.3247423822992985E-3,null,2034,61.559167380218113,0.54973219746351432,62.108899577681626,8.9301434840420857E-3,null,2034,182.15696882994027,0.675509178176112,182.83247800811637,3.7083905299650777E-3,null,2034,85.668332774454313,0.64036734865632561,86.30870012311064,7.4749598587644517E-3,null,2034,213.21281863139313,2.4087828515044878,215.62160148289763,1.1297551746496381E-2,null,2034,298.21518025070577,3.644742110495383,301.85992236120114,1.2221853050643716E-2,null,2034,480.28386295649204,2.3839310701187211,482.66779402661075,4.9635876905043119E-3]

{"sheet":"Saturation and Lifetime","index":5,"n_rows":60,"n_cols":22,"rows_kept":60,"cut":false,"hidden":false,"merged":[[35,16,35,17],[35,21,36,21],[35,2,35,4],[35,5,35,8],[35,9,35,10],[35,12,35,13],[56,21,57,21],[51,1,52,1],[51,2,51,4],[51,5,51,8],[51,9,51,10],[51,12,51,13],[51,16,51,17],[51,21,52,21],[56,1,57,1],[56,2,56,4],[56,5,56,8],[56,9,56,10],[56,12,56,13],[56,16,56,17],[5,21,6,21],[20,2,20,4],[20,5,20,8],[20,9,20,10],[20,12,20,13],[20,16,20,17],[20,21,21,21],[5,2,5,4],[5,5,5,8],[5,9,5,10],[5,12,5,13],[5,16,5,17]]}
[]
["Saturation and Lifetime Assumptions"]
[]
["To add new products, insert rows within existing formatted lines--do not add to end. This way index formulas can find them. ",null,null,null,null,null,null,null,null,null,null,null,null,null,null,null,null,null,null,null,null,1.4677369549289503]
["Saturation Assumptions","Units/million sq. ft"]
["1987 YE",null,"Office",null,null,"Retail",null,null,null,"School",null,"Warehouse","Grocery",null,"Restaurant","Lodging","Health",null,"Assembly","Other","Total","Data Source"]
["Long Product Name","Short Product Name","Large Off","Medium Off","Small Off","Big Box","Small Box","High End","Anchor","K-12","University","Warehouse","Supermarket","MIniMart","Restaurant","Lodging","Hospital","OtherHealth","Assembly","Other","TOTAL"]
["Automataic Commercial Icemakers","ACIM",{"$f":"52964/$U$59","v":17.965529529761259},17.965529529761259,17.965529529761259,17.965529529761259,17.965529529761259,17.965529529761259,17.965529529761259,17.965529529761259,17.965529529761259,17.965529529761259,17.965529529761259,17.965529529761259,17.965529529761259,17.965529529761259,17.965529529761259,17.965529529761259,17.965529529761259,17.965529529761259,{"$f":"SUMPRODUCT($C8:$T8,$C$55:$T$55)","v":17.965529529761259},"No historical data, this number is taken from previous BPA-Impact Analysis icemakers model - using 2010 as proxy for 1987 (model installed stock at year end). This saturation is PNW specific."]
[null,"CRE ",null,null,null,null,null,null,null,null,null,null,null,null,null,null,null,null,null,null,{"$f":"SUMPRODUCT($C9:$T9,$C$55:$T$55)","v":0}]
["Walk-in Coolers and Freezers","WICFs ",null,null,null,null,null,null,null,null,null,null,null,null,null,null,null,null,null,null,{"$f":"SUMPRODUCT($C10:$T10,$C$55:$T$55)","v":0}]
["Heating, Ventilation and Air Conditioning","HVAC",null,null,null,null,null,null,null,null,null,null,null,null,null,null,null,null,null,null,{"$f":"SUMPRODUCT($C11:$T11,$C$55:$T$55)","v":0}]
["Pre-rinse Spray Valves","Pre-rinse SV",{"$f":"C27","v":5.7664451704165351},{"$f":"D27","v":5.7664451704165351},5.7664451704165351,5.7664451704165351,5.7664451704165351,5.7664451704165351,5.7664451704165351,5.7664451704165351,5.7664451704165351,5.7664451704165351,5.7664451704165351,5.7664451704165351,5.7664451704165351,5.7664451704165351,5.7664451704165351,5.7664451704165351,5.7664451704165351,5.7664451704165351,{"$f":"SUMPRODUCT($C12:$T12,$C$55:$T$55)","v":5.7664451704165351},"No 1987 source; kept same as 2010, 6P pre-rinse spray valve supply curve workbook assumed 17,000 units in PNW"]
["Beverage Vending Machine","BVM",{"$f":"38.27*1.12","v":42.862400000000008},42.862400000000008,42.862400000000008,42.862400000000008,42.862400000000008,42.862400000000008,42.862400000000008,42.862400000000008,42.862400000000008,42.862400000000008,42.862400000000008,42.862400000000008,42.862400000000008,42.862400000000008,42.862400000000008,42.862400000000008,42.862400000000008,42.862400000000008,{"$f":"SUMPRODUCT($C13:$T13,$C$60:$T$60)","v":42.862400000000008},"From previous BPA-standards impact BVM model - using 2005 model installed stock at year end. This saturation is 6th Plan specific."]
[]
[null,null,null,null,null,null,null,null,null,null,null,null,null,null,null,null,null,null,null,null,{"$f":"SUMPRODUCT($C15:$T15,$C$55:$T$55)","v":0}]
[null,null,null,null,null,null,null,null,null,null,null,null,null,null,null,null,null,null,null,null,{"$f":"SUMPRODUCT($C16:$T16,$C$55:$T$55)","v":0}]
[null,null,null,null,null,null,null,null,null,null,null,null,null,null,null,null,null,null,null,null,{"$f":"SUMPRODUCT($C17:$T17,$C$55:$T$55)","v":0}]
[null,null,null,null,null,null,null,null,null,null,null,null,null,null,null,null,null,null,null,null,{"$f":"SUMPRODUCT($C18:$T18,$C$55:$T$55)","v":0}]
[]
[]
["2010 YE",null,"Office",null,null,"Retail",null,null,null,"School",null,"Warehouse","Grocery",null,"Restaurant","Lodging","Health",null,"Assembly","Other","Total","Data Source"]
["Long Product Name","Short Product Name","Large Off","Medium Off","Small Off","Big Box","Small Box","High End","Anchor","K-12","University","Warehouse","Supermarket","MIniMart","Restaurant","Lodging","Hospital","OtherHealth","Assembly","Other","TOTAL"]
["Automataic Commercial Icemakers","ACIM",{"$f":"52964/$U$59","v":17.965529529761259},17.965529529761259,17.965529529761259,17.965529529761259,17.965529529761259,17.965529529761259,17.965529529761259,17.965529529761259,17.965529529761259,17.965529529761259,17.965529529761259,17.965529529761259,17.965529529761259,17.965529529761259,17.965529529761259,17.965529529761259,17.965529529761259,17.965529529761259,{"$f":"SUMPRODUCT($C23:$T23,$C$60:$T$60)","v":17.965529529761259},"From previous BPA-standards impact ACIM model - using 2010 model installed stock at year end. This saturation is 6th Plan specific. The saturation allows 2010 shipment to match closely with 6P ACIM shipment units embedded in the commercial refrigeration products workbook "]
[null,"CRE ",null,null,null,null,null,null,null,null,null,null,null,null,null,null,null,null,null,null,0]
["Walk-in Coolers and Freezers","WICFs ",null,null,null,null,null,null,null,null,null,null,null,null,null,null,null,null,null,null,0]
["Heating, Ventilation and Air Conditioning","HVAC",null,null,null,null,null,null,null,null,null,null,null,null,null,null,null,null,null,null,0]
["Pre-rinse Spray Valves","Pre-rinse SV",{"$f":"17000/$U$59","v":5.7664451704165351},{"$f":"17000/$U$59","v":5.7664451704165351},5.7664451704165351,5.7664451704165351,5.7664451704165351,5.7664451704165351,5.7664451704165351,5.7664451704165351,5.7664451704165351,5.7664451704165351,5.7664451704165351,5.7664451704165351,5.7664451704165351,5.7664451704165351,5.7664451704165351,5.7664451704165351,5.7664451704165351,5.7664451704165351,5.7664451704165351,"No 1987 source; kept same as 2010, 6P pre-rinse spray valve supply curve workbook assumed 17,000 units in PNW"]
["Beverage Vending Machines","BVM",{"$f":"38.27*1.12","v":42.862400000000008},42.862400000000008,42.862400000000008,42.862400000000008,42.862400000000008,42.862400000000008,42.862400000000008,42.862400000000008,42.862400000000008,42.862400000000008,42.862400000000008,42.862400000000008,42.862400000000008,42.862400000000008,42.862400000000008,42.862400000000008,42.862400000000008,42.862400000000008,42.862400000000008,"From previous BPA-standards impact BVM model - using 2010 model installed stock at year end. This saturation is 6th Plan specific. The saturation allows 2010 shipment to match closely with 6P BVM shipment units embedded in the commercial refrigeration products workbook "]
[]
[null,null,null,null,null,null,null,null,null,null,null,null,null,null,null,null,null,null,null,null,0]
[null,null,null,null,null,null,null,null,null,null,null,null,null,null,null,null,null,null,null,null,0]
[null,null,null,null,null,null,null,null,null,null,null,null,null,null,null,null,null,null,null,null,0]
[null,null,null,null,null,null,null,null,null,null,null,null,null,null,null,null,null,null,null,null,0]
[]
[]
["Lifetime Assumptions",null,"Office",null,null,"Retail",null,null,null,"School",null,"Warehouse","Grocery",null,"Restaurant","Lodging","Health",null,"Assembly","Other","Total","Data Source"]
["Long Product Name","Short Product Name","Large Off","Medium Off","Small Off","Big Box","Small Box","High End","Anchor","K-12","University","Warehouse","Supermarket","MIniMart","Restaurant","Lodging","Hospital","OtherHealth","Assembly","Other","TOTAL"]
["Automatic Commercial Icemakers","ACIM",8.5,8.5,8.5,8.5,8.5,8.5,8.5,8.5,8.5,8.5,8.5,8.5,8.5,8.5,8.5,8.5,8.5,8.5,{"$f":"SUMPRODUCT($C38:$T38,$C$60:$T$60)","v":8.5},"Department of Energy: National Impact Analysis for Automatic Commercial Ice-Makers (tab: Lifetime Distribution)"]
[null,"CRE ",null,null,null,null,null,null,null,null,null,null,null,null,null,null,null,null,null,null,{"$f":"SUMPRODUCT($C39:$T39,$C$60:$T$60)","v":0}]
["Walk-in Coolers and Freezers","WICFs ",null,null,null,null,null,null,null,null,null,null,null,null,null,null,null,null,null,null,{"$f":"SUMPRODUCT($C40:$T40,$C$60:$T$60)","v":0}]
["Heating, Ventilation and Air Conditioning","HVAC",null,null,null,null,null,null,null,null,null,null,null,null,null,null,null,null,null,null,{"$f":"SUMPRODUCT($C41:$T41,$C$60:$T$60)","v":0}]
["Pre-rinse Spray Valves","Pre-rinse SV",5,5,5,5,5,5,5,5,5,5,5,5,5,5,5,5,5,5,5,"'Proposeddata_Prerinse_SprayValve.xlsx'"]
["Beverage Vending Machines","BVM",14,14,14,14,14,14,14,14,14,14,14,14,14,14,14,14,14,14,{"$f":"SUMPRODUCT($C43:$T43,$C$60:$T$60)","v":13.999999999999996},"Department of Energy: National Impact Analysis for Beverage Vending Machine"]
[null,null,null,null,null,null,null,null,null,null,null,null,null,null,null,null,null,null,null,null,0]
[null,null,null,null,null,null,null,null,null,null,null,null,null,null,null,null,null,null,null,null,0]
[null,null,null,null,null,null,null,null,null,null,null,null,null,null,null,null,null,null,null,null,0]
[null,null,null,null,null,null,null,null,null,null,null,null,null,null,null,null,null,null,null,null,0]
[null,null,null,null,null,null,null,null,null,null,null,null,null,null,null,null,null,null,null,null,0]
[]
[]
["Square Footage by Building Type"]
[null,"1987 YE","Office",null,null,"Retail",null,null,null,"School",null,"Warehouse","Grocery",null,"Restaurant","Lodging","Health",null,"Assembly","Other","Total","Data Source"]
[null,null,"Large Off","Medium Off","Small Off","Big Box","Small Box","High End","Anchor","K-12","University","Warehouse","Supermarket","MIniMart","Restaurant","Lodging","Hospital","OtherHealth","Assembly","Other","TOTAL"]
[null,"SF",{"$f":"'Floor Space'!L7","v":170.15580037611485},{"$f":"'Floor Space'!R7","v":76.662160829304696},{"$f":"'Floor Space'!X7","v":89.953150067822321},{"$f":"'Floor Space'!AD7","v":82.538729302993048},{"$f":"'Floor Space'!AJ7","v":152.44765719922231},{"$f":"'Floor Space'!AP7","v":38.111914299805576},{"$f":"'Floor Space'!AV7","v":73.583348719888932},{"$f":"'Floor Space'!BB7","v":150.32171885381888},{"$f":"'Floor Space'!BH7","v":76.192271602968432},{"$f":"'Floor Space'!BN7","v":178.01059522869835},{"$f":"'Floor Space'!BT7","v":36.04076502615861},{"$f":"'Floor Space'!BZ7","v":14.58413148714968},{"$f":"'Floor Space'!CF7","v":34.541689971384308},{"$f":"'Floor Space'!CL7","v":106.07377489890376},{"$f":"'Floor Space'!CR7","v":38.875482557323267},{"$f":"'Floor Space'!CX7","v":84.787236577886063},{"$f":"'Floor Space'!DD7","v":123.12537689549825},{"$f":"'Floor Space'!DJ7","v":239.00808456184956},{"$f":"SUM(C54:T54)","v":1765.0138884567909},"6P"]
[null,"%",{"$f":"C54/$U$54","v":9.6404794029630897E-2},{"$f":"D54/$U$54","v":4.3434310251424094E-2},5.096455651489025E-2,4.6763784604074328E-2,8.6371930666512914E-2,2.1592982666628228E-2,4.1689954510343963E-2,8.5167442498285409E-2,4.3168086155733205E-2,0.10085506770960245,2.0419536221140008E-2,8.262898996166574E-3,1.9570208595687161E-2,6.0097983133519425E-2,2.2025595838972897E-2,4.8037716378548333E-2,6.975887141780554E-2,0.13541427981103429,{"$f":"SUM(C55:T55)","v":1.0000000000000002},"calculated"]
[]
[null,"2010 YE","Office",null,null,"Retail",null,null,null,"School",null,"Warehouse","Grocery",null,"Restaurant","Lodging","Health",null,"Assembly","Other","Total","Data Source"]
[null,null,"Large Off","Medium Off","Small Off","Big Box","Small Box","High End","Anchor","K-12","University","Warehouse","Supermarket","MIniMart","Restaurant","Lodging","Hospital","OtherHealth","Assembly","Other","TOTAL"]
[null,"SF",{"$f":"'Floor Space'!L30","v":269.0779297445909},{"$f":"'Floor Space'!R30","v":121.23063380795443},{"$f":"'Floor Space'!X30","v":142.24850014370574},{"$f":"'Floor Space'!AD30","v":127.16304575990401},{"$f":"'Floor Space'!AJ30","v":234.86802586033863},{"$f":"'Floor Space'!AP30","v":58.717006465084658},{"$f":"'Floor Space'!AV30","v":113.3659655225017},{"$f":"'Floor Space'!BB30","v":248.20487531223822},{"$f":"'Floor Space'!BH30","v":123.39130974327723},{"$f":"'Floor Space'!BN30","v":363.46665980805562},{"$f":"'Floor Space'!BT30","v":52.331326172910508},{"$f":"'Floor Space'!BZ30","v":21.624127505090691},{"$f":"'Floor Space'!CF30","v":47.42577006131576},{"$f":"'Floor Space'!CL30","v":160.68567596361953},{"$f":"'Floor Space'!CR30","v":68.06284043823004},{"$f":"'Floor Space'!CX30","v":146.85862898462784},{"$f":"'Floor Space'!DD30","v":217.83535520887148},{"$f":"'Floor Space'!DJ30","v":431.5324375275049},{"$f":"SUM($C$59:$T$59)","v":2948.090114029822},"6P"]
[null,"%",{"$f":"C59/SUM($C$59:$T$59)","v":9.1271948731845645E-2},{"$f":"D59/SUM($C$59:$T$59)","v":4.1121753107553789E-2},4.8251069214862816E-2,4.3134043004567961E-2,7.9667858435742103E-2,1.9916964608935526E-2,3.8454036728049257E-2,8.4191753206946732E-2,4.1854660125911283E-2,0.12328885676809366,1.7750924886545425E-2,7.3349615068353871E-3,1.6086947219021139E-2,5.4505008242090015E-2,2.3087096325286053E-2,4.981483716720006E-2,7.3890331293539266E-2,0.14637694942697388,{"$f":"SUM(C60:T60)","v":1},"calculated"]

{"sheet":"Council Shipments","index":6,"n_rows":12,"n_cols":33,"rows_kept":12,"cut":false,"hidden":false,"merged":[]}
[]
[null,"Shipment Units in the Sixth Plan"]
[]
[]
[null,"Short Product Name",2005,{"$f":"C5+1","v":2006},{"$f":"D5+1","v":2007},2008,2009,2010,2011,2012,2013,2014,2015,2016,2017,2018,2019,2020,2021,2022,2023,2024,2025,2026,2027,2028,{"$f":"Z5+1","v":2029},2030,2031,2032,2033,{"$f":"AE5+1","v":2034},"Data Source"]
[null,"ACIM",5478.4248003779794,5607.4019033976392,5739.4154801683308,5871.4290569390214,6003.4426337097129,6135.4562104804045,6264.6891460923243,6395.8242003900714,6530.1693471216531,6650.7151336184979,6758.5542574517758,6854.741747226939,6940.4727261957105,7017.3518111085914,7087.3183956769226,7151.5697738907184,7212.346377378035,7272.0909417515741,7332.4181814594776,7394.2971262522769,7458.0399615871938,7523.764298145019,7591.4441682051065,7661.0969683072808,7732.8542410139971,7806.5615940178441,7882.1516818676864,7959.5250818940258,8041.0471833474112,8126.984237196918,"Sixth Power Plan; PC_Pack_Refrig_Equip_6P_D3 "]
[null,"CRE "]
[null,"WICFs "]
[null,"HVAC"]
[null,"Pre-rinse SV"]
[null,"BVM",9305.2184827228539,9524.2887751148919,9748.5165813361673,9972.7443875574445,10196.972193778722,10421.200000000001,10312.072216879278,10229.809664101904,10220.469859523302,10181.735259145209,10151.28196666899,10134.79560819749,10237.56352136072,10305.274793158334,10397.220290163101,10522.692696791084,10707.378550984586,10851.35812270596,10914.665286697278,10994.935393811453,11101.78930281813,11221.529089897454,11325.450072900498,11444.288675435213,11573.174449943919,11704.637939942791,11828.73069984165,11949.305314998483,12072.291422458455,12195.737252087623,"Sixth Power Plan; PC_Pack_Refrig_Equip_6P_D3 "]
[null,"SEM"]

{"sheet":"Pre-Rinse Spray Valves","index":7,"n_rows":59,"n_cols":209,"rows_kept":59,"cut":false,"hidden":false,"merged":[[4,18,4,21],[5,18,5,21],[6,18,6,21],[7,15,7,21],[3,15,3,21],[3,23,3,25],[6,23,6,24],[4,12,4,13],[5,12,5,13],[6,12,6,13],[7,12,7,13],[3,12,3,14],[4,15,4,16],[5,15,5,16],[6,15,6,16],[7,23,7,24],[7,26,7,32],[3,34,3,36],[3,37,3,43],[4,34,4,35],[4,37,4,38],[4,40,4,43],[5,34,5,35],[3,26,3,32],[4,23,4,24],[4,26,4,27],[4,29,4,32],[5,23,5,24],[5,26,5,27],[5,29,5,32],[5,37,5,38],[5,40,5,43],[6,34,6,35],[6,37,6,38],[6,40,6,43],[7,34,7,35],[7,37,7,43],[6,26,6,27],[6,29,6,32],[6,45,6,46],[6,48,6,49],[6,51,6,54],[7,45,7,46],[7,48,7,54],[3,56,3,58],[6,56,6,57],[3,45,3,47],[3,48,3,54],[4,45,4,46],[4,48,4,49],[4,51,4,54],[5,45,5,46],[5,48,5,49],[5,51,5,54],[7,56,7,57],[7,59,7,65],[3,67,3,69],[3,70,3,76],[4,67,4,68],[4,70,4,71],[4,73,4,76],[5,67,5,68],[3,59,3,65],[4,56,4,57],[4,59,4,60],[4,62,4,65],[5,56,5,57],[5,59,5,60],[5,62,5,65],[5,70,5,71],[5,73,5,76],[6,67,6,68],[6,70,6,71],[6,73,6,76],[7,67,7,68],[7,70,7,76],[6,59,6,60],[6,62,6,65],[6,78,6,79],[6,81,6,82],[6,84,6,87],[7,78,7,79],[7,81,7,87],[3,89,3,91],[6,89,6,90],[3,78,3,80],[3,81,3,87],[4,78,4,79],[4,81,4,82],[4,84,4,87],[5,78,5,79],[5,81,5,82],[5,84,5,87],[7,89,7,90],[7,92,7,98],[3,100,3,102],[3,103,3,109],[4,100,4,101],[4,103,4,104],[4,106,4,109],[5,100,5,101],[3,92,3,98],[4,89,4,90],[4,92,4,93],[4,95,4,98],[5,89,5,90],[5,92,5,93],[5,95,5,98],[5,103,5,104],[5,106,5,109],[6,100,6,101],[6,103,6,104],[6,106,6,109],[7,100,7,101],[7,103,7,109],[6,92,6,93],[6,95,6,98],[6,111,6,112],[6,114,6,115],[6,117,6,120],[7,111,7,112],[7,114,7,120],[3,122,3,124],[6,122,6,123],[3,111,3,113],[3,114,3,120],[4,111,4,112],[4,114,4,115],[4,117,4,120],[5,111,5,112],[5,114,5,115],[5,117,5,120],[7,122,7,123],[7,125,7,131],[3,133,3,135],[3,136,3,142],[4,133,4,134],[4,136,4,137],[4,139,4,142],[5,133,5,134],[3,125,3,131],[4,122,4,123],[4,125,4,126],[4,128,4,131],[5,122,5,123],[5,125,5,126],[5,128,5,131],[5,136,5,137],[5,139,5,142],[6,133,6,134],[6,136,6,137],[6,139,6,142],[7,133,7,134],[7,136,7,142],[6,125,6,126],[6,128,6,131],[7,144,7,145],[7,147,7,153],[3,144,3,146],[3,147,3,153],[4,144,4,145],[4,147,4,148],[4,150,4,153],[5,144,5,145],[5,147,5,148],[5,150,5,153],[3,155,3,157],[6,155,6,156],[3,158,3,164],[4,155,4,156],[4,158,4,159],[4,161,4,164],[5,155,5,156],[5,158,5,159],[5,161,5,164],[3,166,3,168],[3,169,3,175],[4,166,4,167],[4,169,4,170],[4,172,4,175],[5,166,5,167],[5,169,5,170],[5,172,5,175],[6,158,6,159],[6,161,6,164],[3,188,3,190],[3,191,3,197],[4,188,4,189],[4,191,4,192],[4,194,4,197],[5,188,5,189],[3,180,3,186],[4,177,4,178],[4,180,4,181],[4,183,4,186],[5,177,5,178],[5,180,5,181],[5,183,5,186],[3,177,3,179],[6,202,6,203],[6,205,6,208],[7,199,7,200],[7,202,7,208],[3,1,3,3],[3,4,3,10],[4,1,4,2],[4,4,4,5],[4,7,4,10],[3,199,3,201],[3,202,3,208],[4,199,4,200],[4,202,4,203],[4,205,4,208],[5,199,5,200],[5,202,5,203],[5,205,5,208],[5,191,5,192],[5,194,5,197],[6,188,6,189],[6,191,6,192],[6,194,6,197],[7,188,7,189],[7,191,7,197],[7,1,7,2],[7,4,7,10],[5,1,5,2],[5,4,5,5],[5,7,5,10],[6,1,6,2],[6,4,6,5],[6,7,6,10],[6,199,6,200],[6,180,6,181],[6,183,6,186],[7,177,7,178],[7,180,7,186],[6,166,6,167],[6,169,6,170],[6,172,6,175],[7,166,7,167],[7,169,7,175],[6,177,6,178],[7,155,7,156],[7,158,7,164],[6,144,6,145],[6,147,6,148],[6,150,6,153]]}
["Pre-rinse SV"]
[]
[null,null,null,null,null,null,null,null,null,null,null,null,"Building type level starts here. "]
[null,"Assumptions",null,null,"Calibration",null,null,null,null,null,null,null,"Assumptions",null,null,"Calibration",null,null,null,null,null,null,null,"Assumptions",null,null,"Calibration",null,null,null,null,null,null,null,"Assumptions",null,null,"Calibration",null,null,null,null,null,null,null,"Assumptions",null,null,"Calibration",null,null,null,null,null,null,null,"Assumptions",null,null,"Calibration",null,null,null,null,null,null,null,"Assumptions",null,null,"Calibration",null,null,null,null,null,null,null,"Assumptions",null,null,"Calibration",null,null,null,null,null,null,null,"Assumptions",null,null,"Calibration",null,null,null,null,null,null,null,"Assumptions",null,null,"Calibration",null,null,null,null,null,null,null,"Assumptions",null,null,"Calibration",null,null,null,null,null,null,null,"Assumptions",null,null,"Calibration",null,null,null,null,null,null,null,"Assumptions",null,null,"Calibration",null,null,null,null,null,null,null,"Assumptions",null,null,"Calibration",null,null,null,null,null,null,null,"Assumptions",null,null,"Calibration",null,null,null,null,null,null,null,"Assumptions",null,null,"Calibration",null,null,null,null,null,null,null,"Assumptions",null,null,"Calibration",null,null,null,null,null,null,null,"Assumptions",null,null,"Calibration",null,null,null,null,null,null,null,"Assumptions",null,null,"Calibration"]
[null,"Lifetime",null,{"$f":"INDEX('Saturation and Lifetime'!$B$37:$U$48,MATCH('Pre-Rinse Spray Valves'!$A$1,'Saturation and Lifetime'!$B$37:$B$48,0),MATCH('Pre-Rinse Spray Valves'!B10,'Saturation and Lifetime'!$B$37:$U$37,0))","v":5},"Check value:",null,{"$f":"SUM(OFFSET(G36,-D$6,0):G35)","v":16999.994215173258},"Sum of last \"lifetime\" years of shipments",null,null,null,null,"Lifetime",null,{"$f":"INDEX('Saturation and Lifetime'!$B$37:$T$48,MATCH('Pre-Rinse Spray Valves'!$A$1,'Saturation and Lifetime'!$B$37:$B$48,0),MATCH('Pre-Rinse Spray Valves'!M10,'Saturation and Lifetime'!$B$37:$T$37,0))","v":5},"Set cell:",null,{"$f":"SUM(OFFSET(R36,-O$6,0):R35)","v":1551.6198254013016},"Sum of last \"lifetime\" years of shipments",null,null,null,null,"Lifetime",null,{"$f":"INDEX('Saturation and Lifetime'!$B$37:$T$48,MATCH('Pre-Rinse Spray Valves'!$A$1,'Saturation and Lifetime'!$B$37:$B$48,0),MATCH('Pre-Rinse Spray Valves'!X10,'Saturation and Lifetime'!$B$37:$T$37,0))","v":5},"Set cell:",null,{"$f":"SUM(OFFSET(AC36,-Z$6,0):AC35)","v":699.06831467350673},"Sum of last \"lifetime\" years of shipments",null,null,null,null,"Lifetime",null,{"$f":"INDEX('Saturation and Lifetime'!$B$37:$T$48,MATCH('Pre-Rinse Spray Valves'!$A$1,'Saturation and Lifetime'!$B$37:$B$48,0),MATCH('Pre-Rinse Spray Valves'!AI10,'Saturation and Lifetime'!$B$37:$T$37,0))","v":5},"Set cell:",null,{"$f":"SUM(OFFSET(AN36,-AK$6,0):AN35)","v":820.2664304949767},"Sum of last \"lifetime\" years of shipments",null,null,null,null,"Lifetime",null,{"$f":"INDEX('Saturation and Lifetime'!$B$37:$T$48,MATCH('Pre-Rinse Spray Valves'!$A$1,'Saturation and Lifetime'!$B$37:$B$48,0),MATCH('Pre-Rinse Spray Valves'!AT10,'Saturation and Lifetime'!$B$37:$T$37,0))","v":5},"Set cell:",null,{"$f":"SUM(OFFSET(AY36,-AV$6,0):AY35)","v":733.27400732189187},"Sum of last \"lifetime\" years of shipments",null,null,null,null,"Lifetime",null,{"$f":"INDEX('Saturation and Lifetime'!$B$37:$T$48,MATCH('Pre-Rinse Spray Valves'!$A$1,'Saturation and Lifetime'!$B$37:$B$48,0),MATCH('Pre-Rinse Spray Valves'!BE10,'Saturation and Lifetime'!$B$37:$T$37,0))","v":5},"Set cell:",null,{"$f":"SUM(OFFSET(BJ36,-BG$6,0):BJ35)","v":1354.3448687094585},"Sum of last \"lifetime\" years of shipments",null,null,null,null,"Lifetime",null,{"$f":"INDEX('Saturation and Lifetime'!$B$37:$T$48,MATCH('Pre-Rinse Spray Valves'!$A$1,'Saturation and Lifetime'!$B$37:$B$48,0),MATCH('Pre-Rinse Spray Valves'!BP10,'Saturation and Lifetime'!$B$37:$T$37,0))","v":5},"Set cell:",null,{"$f":"SUM(OFFSET(BU36,-BR$6,0):BU35)","v":338.58621717736463},"Sum of last \"lifetime\" years of shipments",null,null,null,null,"Lifetime",null,{"$f":"INDEX('Saturation and Lifetime'!$B$37:$T$48,MATCH('Pre-Rinse Spray Valves'!$A$1,'Saturation and Lifetime'!$B$37:$B$48,0),MATCH('Pre-Rinse Spray Valves'!CA10,'Saturation and Lifetime'!$B$37:$T$37,0))","v":5},"Set cell:",null,{"$f":"SUM(OFFSET(CF36,-CC$6,0):CF35)","v":653.71441314447884},"Sum of last \"lifetime\" years of shipments",null,null,null,null,"Lifetime",null,{"$f":"INDEX('Saturation and Lifetime'!$B$37:$T$48,MATCH('Pre-Rinse Spray Valves'!$A$1,'Saturation and Lifetime'!$B$37:$B$48,0),MATCH('Pre-Rinse Spray Valves'!CL10,'Saturation and Lifetime'!$B$37:$T$37,0))","v":5},"Set cell:",null,{"$f":"SUM(OFFSET(CQ36,-CN$6,0):CQ35)","v":1431.2554210081246},"Sum of last \"lifetime\" years of shipments",null,null,null,null,"Lifetime",null,{"$f":"INDEX('Saturation and Lifetime'!$B$37:$T$48,MATCH('Pre-Rinse Spray Valves'!$A$1,'Saturation and Lifetime'!$B$37:$B$48,0),MATCH('Pre-Rinse Spray Valves'!CW10,'Saturation and Lifetime'!$B$37:$T$37,0))","v":5},"Set cell:",null,{"$f":"SUM(OFFSET(DB36,-CY$6,0):DB35)","v":711.5304162932423},"Sum of last \"lifetime\" years of shipments",null,null,null,null,"Lifetime",null,{"$f":"INDEX('Saturation and Lifetime'!$B$37:$T$48,MATCH('Pre-Rinse Spray Valves'!$A$1,'Saturation and Lifetime'!$B$37:$B$48,0),MATCH('Pre-Rinse Spray Valves'!DH10,'Saturation and Lifetime'!$B$37:$T$37,0))","v":5},"Set cell:",null,{"$f":"SUM(OFFSET(DM36,-DJ$6,0):DM35)","v":2095.9049536488965},"Sum of last \"lifetime\" years of shipments",null,null,null,null,"Lifetime",null,{"$f":"INDEX('Saturation and Lifetime'!$B$37:$T$48,MATCH('Pre-Rinse Spray Valves'!$A$1,'Saturation and Lifetime'!$B$37:$B$48,0),MATCH('Pre-Rinse Spray Valves'!DS10,'Saturation and Lifetime'!$B$37:$T$37,0))","v":5},"Set cell:",null,{"$f":"SUM(OFFSET(DX36,-DU$6,0):DX35)","v":301.76795268938895},"Sum of last \"lifetime\" years of shipments",null,null,null,null,"Lifetime",null,{"$f":"INDEX('Saturation and Lifetime'!$B$37:$T$48,MATCH('Pre-Rinse Spray Valves'!$A$1,'Saturation and Lifetime'!$B$37:$B$48,0),MATCH('Pre-Rinse Spray Valves'!ED10,'Saturation and Lifetime'!$B$37:$T$37,0))","v":5},"Set cell:",null,{"$f":"SUM(OFFSET(EI36,-EF$6,0):EI35)","v":124.69232084545487},"Sum of last \"lifetime\" years of shipments",null,null,null,null,"Lifetime",null,{"$f":"INDEX('Saturation and Lifetime'!$B$37:$T$48,MATCH('Pre-Rinse Spray Valves'!$A$1,'Saturation and Lifetime'!$B$37:$B$48,0),MATCH('Pre-Rinse Spray Valves'!EO10,'Saturation and Lifetime'!$B$37:$T$37,0))","v":5},"Set cell:",null,{"$f":"SUM(OFFSET(ET36,-EQ$6,0):ET35)","v":273.4745142213452},"Sum of last \"lifetime\" years of shipments",null,null,null,null,"Lifetime",null,{"$f":"INDEX('Saturation and Lifetime'!$B$37:$T$48,MATCH('Pre-Rinse Spray Valves'!$A$1,'Saturation and Lifetime'!$B$37:$B$48,0),MATCH('Pre-Rinse Spray Valves'!EZ10,'Saturation and Lifetime'!$B$37:$T$37,0))","v":5},"Set cell:",null,{"$f":"SUM(OFFSET(FE36,-FB$6,0):FE35)","v":926.58949022630975},"Sum of last \"lifetime\" years of shipments",null,null,null,null,"Lifetime",null,{"$f":"INDEX('Saturation and Lifetime'!$B$37:$T$48,MATCH('Pre-Rinse Spray Valves'!$A$1,'Saturation and Lifetime'!$B$37:$B$48,0),MATCH('Pre-Rinse Spray Valves'!FK10,'Saturation and Lifetime'!$B$37:$T$37,0))","v":5},"Set cell:",null,{"$f":"SUM(OFFSET(FP36,-FM$6,0):FP35)","v":392.47969387347848},"Sum of last \"lifetime\" years of shipments",null,null,null,null,"Lifetime",null,{"$f":"INDEX('Saturation and Lifetime'!$B$37:$T$48,MATCH('Pre-Rinse Spray Valves'!$A$1,'Saturation and Lifetime'!$B$37:$B$48,0),MATCH('Pre-Rinse Spray Valves'!FV10,'Saturation and Lifetime'!$B$37:$T$37,0))","v":5},"Set cell:",null,{"$f":"SUM(OFFSET(GA36,-FX$6,0):GA35)","v":846.84990143624339},"Sum of last \"lifetime\" years of shipments",null,null,null,null,"Lifetime",null,{"$f":"INDEX('Saturation and Lifetime'!$B$37:$T$48,MATCH('Pre-Rinse Spray Valves'!$A$1,'Saturation and Lifetime'!$B$37:$B$48,0),MATCH('Pre-Rinse Spray Valves'!GG10,'Saturation and Lifetime'!$B$37:$T$37,0))","v":5},"Set cell:",null,{"$f":"SUM(OFFSET(GL36,-GI$6,0):GL35)","v":1256.1724753425908},"Sum of last \"lifetime\" years of shipments",null,null,null,null,"Lifetime",null,{"$f":"INDEX('Saturation and Lifetime'!$B$37:$T$48,MATCH('Pre-Rinse Spray Valves'!$A$1,'Saturation and Lifetime'!$B$37:$B$48,0),MATCH('Pre-Rinse Spray Valves'!GR10,'Saturation and Lifetime'!$B$37:$T$37,0))","v":5},"Set cell:",null,{"$f":"SUM(OFFSET(GW36,-GT$6,0):GW35)","v":2488.4029986652049},"Sum of last \"lifetime\" years of shipments"]
[null,"Rounded Life",null,{"$f":"ROUND(D5,0)","v":5},"Equal to value: ",null,{"$f":"H35","v":17000},"2011 beginning stock",null,null,null,null,"Rounded Life",null,{"$f":"ROUND(O5,0)","v":5},"To value: ",null,{"$f":"S35","v":1551.6231284413759},"2011 beginning stock",null,null,null,null,"Rounded Life",null,{"$f":"ROUND(Z5,0)","v":5},"To value: ",null,{"$f":"AD35","v":699.06980282841437},"2011 beginning stock",null,null,null,null,"Rounded Life",null,{"$f":"ROUND(AK5,0)","v":5},"To value: ",null,{"$f":"AO35","v":820.26817665266776},"2011 beginning stock",null,null,null,null,"Rounded Life",null,{"$f":"ROUND(AV5,0)","v":5},"To value: ",null,{"$f":"AZ35","v":733.27873107765538},"2011 beginning stock",null,null,null,null,"Rounded Life",null,{"$f":"ROUND(BG5,0)","v":5},"To value: ",null,{"$f":"BK35","v":1354.3535934076156},"2011 beginning stock",null,null,null,null,"Rounded Life",null,{"$f":"ROUND(BR5,0)","v":5},"To value: ",null,{"$f":"BV35","v":338.58839835190389},"2011 beginning stock",null,null,null,null,"Rounded Life",null,{"$f":"ROUND(CC5,0)","v":5},"To value: ",null,{"$f":"CG35","v":653.7186243768374},"2011 beginning stock",null,null,null,null,"Rounded Life",null,{"$f":"ROUND(CN5,0)","v":5},"To value: ",null,{"$f":"CR35","v":1431.2598045180944},"2011 beginning stock",null,null,null,null,"Rounded Life",null,{"$f":"ROUND(CY5,0)","v":5},"To value: ",null,{"$f":"DC35","v":711.52922214049181},"2011 beginning stock",null,null,null,null,"Rounded Life",null,{"$f":"ROUND(DJ5,0)","v":5},"To value: ",null,{"$f":"DN35","v":2095.9105650575921},"2011 beginning stock",null,null,null,null,"Rounded Life",null,{"$f":"ROUND(DU5,0)","v":5},"To value: ",null,{"$f":"DY35","v":301.76572307127225},"2011 beginning stock",null,null,null,null,"Rounded Life",null,{"$f":"ROUND(EF5,0)","v":5},"To value: ",null,{"$f":"EJ35","v":124.69434561620157},"2011 beginning stock",null,null,null,null,"Rounded Life",null,{"$f":"ROUND(EQ5,0)","v":5},"To value: ",null,{"$f":"EU35","v":273.47810272335937},"2011 beginning stock",null,null,null,null,"Rounded Life",null,{"$f":"ROUND(FB5,0)","v":5},"To value: ",null,{"$f":"FF35","v":926.58514011553018},"2011 beginning stock",null,null,null,null,"Rounded Life",null,{"$f":"ROUND(FM5,0)","v":5},"To value: ",null,{"$f":"FQ35","v":392.48063752986286},"2011 beginning stock",null,null,null,null,"Rounded Life",null,{"$f":"ROUND(FX5,0)","v":5},"To value: ",null,{"$f":"GB35","v":846.85223184240101},"2011 beginning stock",null,null,null,null,"Rounded Life",null,{"$f":"ROUND(GI5,0)","v":5},"To value: ",null,{"$f":"GM35","v":1256.1356319901674},"2011 beginning stock",null,null,null,null,"Rounded Life",null,{"$f":"ROUND(GT5,0)","v":5},"To value: ",null,{"$f":"GX35","v":2488.4081402585557},"2011 beginning stock"]
[null,"Avg Stock Growth",null,{"$f":"AVERAGE(OFFSET(J36,-D$6,0):J35)","v":1.9722860647820317E-2},null,null,null,"Lifetime stock factor",null,null,null,null,"Avg Stock Growth",null,{"$f":"AVERAGE(OFFSET(U36,-O$6,0):U35)","v":1.8192236612200173E-2},"By changing: ",null,0.95904699952895978,"Lifetime stock factor",null,null,null,null,"Avg Stock Growth",null,{"$f":"AVERAGE(OFFSET(AF36,-Z$6,0):AF35)","v":1.8192236612200218E-2},"By changing: ",null,0.95904699952895978,"Lifetime stock factor",null,null,null,null,"Avg Stock Growth",null,{"$f":"AVERAGE(OFFSET(AQ36,-AK$6,0):AQ35)","v":1.8192236612200218E-2},"By changing: ",null,0.95904699952895978,"Lifetime stock factor",null,null,null,null,"Avg Stock Growth",null,{"$f":"AVERAGE(OFFSET(BB36,-AV$6,0):BB35)","v":1.9095608385561437E-2},"By changing: ",null,0.95411053470495244,"Lifetime stock factor",null,null,null,null,"Avg Stock Growth",null,{"$f":"AVERAGE(OFFSET(BM36,-BG$6,0):BM35)","v":1.9095608385561479E-2},"By changing: ",null,0.95411053470495244,"Lifetime stock factor",null,null,null,null,"Avg Stock Growth",null,{"$f":"AVERAGE(OFFSET(BX36,-BR$6,0):BX35)","v":1.9095608385561479E-2},"By changing: ",null,0.95411053470495244,"Lifetime stock factor",null,null,null,null,"Avg Stock Growth",null,{"$f":"AVERAGE(OFFSET(CI36,-CC$6,0):CI35)","v":1.9095608385561479E-2},"By changing: ",null,0.95411053470495244,"Lifetime stock factor",null,null,null,null,"Avg Stock Growth",null,{"$f":"AVERAGE(OFFSET(CT36,-CN$6,0):CT35)","v":1.9238054123371696E-2},"By changing: ",null,0.95489072994762481,"Lifetime stock factor",null,null,null,null,"Avg Stock Growth",null,{"$f":"AVERAGE(OFFSET(DE36,-CY$6,0):DE35)","v":1.6366892536121204E-2},"By changing: ",null,0.96313779293237567,"Lifetime stock factor",null,null,null,null,"Avg Stock Growth",null,{"$f":"AVERAGE(OFFSET(DP36,-DJ$6,0):DP35)","v":2.5077486719527097E-2},"By changing: ",null,0.94810359442894254,"Lifetime stock factor",null,null,null,null,"Avg Stock Growth",null,{"$f":"AVERAGE(OFFSET(EA36,-DU$6,0):EA35)","v":3.3813426783880552E-3},"By changing: ",null,0.99594727835159169,"Lifetime stock factor",null,null,null,null,"Avg Stock Growth",null,{"$f":"AVERAGE(OFFSET(EL36,-EF$6,0):EL35)","v":6.6184683147525458E-3},"By changing: ",null,0.98631637134054639,"Lifetime stock factor",null,null,null,null,"Avg Stock Growth",null,{"$f":"AVERAGE(OFFSET(EW36,-EQ$6,0):EW35)","v":8.2608493919774876E-3},"By changing: ",null,0.98881124100412654,"Lifetime stock factor",null,null,null,null,"Avg Stock Growth",null,{"$f":"AVERAGE(OFFSET(FH36,-FB$6,0):FH35)","v":1.5839000146100179E-2},"By changing: ",null,0.96265211321235833,"Lifetime stock factor",null,null,null,null,"Avg Stock Growth",null,{"$f":"AVERAGE(OFFSET(FS36,-FM$6,0):FS35)","v":1.9141902781464902E-2},"By changing: ",null,0.9596719112182035,"Lifetime stock factor",null,null,null,null,"Avg Stock Growth",null,{"$f":"AVERAGE(OFFSET(GD36,-FX$6,0):GD35)","v":2.1725361688520507E-2},"By changing: ",null,0.95269265414719051,"Lifetime stock factor",null,null,null,null,"Avg Stock Growth",null,{"$f":"AVERAGE(OFFSET(GO36,-GI$6,0):GO35)","v":2.1512508327046299E-2},"By changing: ",null,0.95924036768054055,"Lifetime stock factor",null,null,null,null,"Avg Stock Growth",null,{"$f":"AVERAGE(OFFSET(GZ36,-GT$6,0):GZ35)","v":2.3330561926754888E-2},"By changing: ",null,0.94350906088400455,"Lifetime stock factor"]
[null,"Shipment to Stock Saturation Factor",null,1,"This factor does not change anything if 1987 saturation = 2010 saturation",null,null,null,null,null,null,null,"Shipment to Stock Saturation Factor",null,1,"This factor does not change anything if 1987 saturation = 2010 saturation",null,null,null,null,null,null,null,"Shipment to Stock Saturation Factor",null,1,"This factor does not change anything if 1987 saturation = 2010 saturation",null,null,null,null,null,null,null,"Shipment to Stock Saturation Factor",null,1,"This factor does not change anything if 1987 saturation = 2010 saturation",null,null,null,null,null,null,null,"Shipment to Stock Saturation Factor",null,1,"This factor does not change anything if 1987 saturation = 2010 saturation",null,null,null,null,null,null,null,"Shipment to Stock Saturation Factor",null,1,"This factor does not change anything if 1987 saturation = 2010 saturation",null,null,null,null,null,null,null,"Shipment to Stock Saturation Factor",null,1,"This factor does not change anything if 1987 saturation = 2010 saturation",null,null,null,null,null,null,null,"Shipment to Stock Saturation Factor",null,1,"This factor does not change anything if 1987 saturation = 2010 saturation",null,null,null,null,null,null,null,"Shipment to Stock Saturation Factor",null,1,"This factor does not change anything if 1987 saturation = 2010 saturation",null,null,null,null,null,null,null,"Shipment to Stock Saturation Factor",null,1,"This factor does not change anything if 1987 saturation = 2010 saturation",null,null,null,null,null,null,null,"Shipment to Stock Saturation Factor",null,1,"This factor does not change anything if 1987 saturation = 2010 saturation",null,null,null,null,null,null,null,"Shipment to Stock Saturation Factor",null,1,"This factor does not change anything if 1987 saturation = 2010 saturation",null,null,null,null,null,null,null,"Shipment to Stock Saturation Factor",null,1,"This factor does not change anything if 1987 saturation = 2010 saturation",null,null,null,null,null,null,null,"Shipment to Stock Saturation Factor",null,1,"This factor does not change anything if 1987 saturation = 2010 saturation",null,null,null,null,null,null,null,"Shipment to Stock Saturation Factor",null,1,"This factor does not change anything if 1987 saturation = 2010 saturation",null,null,null,null,null,null,null,"Shipment to Stock Saturation Factor",null,1,"This factor does not change anything if 1987 saturation = 2010 saturation",null,null,null,null,null,null,null,"Shipment to Stock Saturation Factor",null,1,"This factor does not change anything if 1987 saturation = 2010 saturation",null,null,null,null,null,null,null,"Shipment to Stock Saturation Factor",null,1,"This factor does not change anything if 1987 saturation = 2010 saturation",null,null,null,null,null,null,null,"Shipment to Stock Saturation Factor",null,1,"This factor does not change anything if 1987 saturation = 2010 saturation"]
[]
[null,"TOTAL",null,null,null,null,null,null,null,null,null,null,"Large Off",null,null,null,null,null,null,null,null,null,null,"Medium Off",null,null,null,null,null,null,null,null,null,null,"Small Off",null,null,null,null,null,null,null,null,null,null,"Big Box",null,null,null,null,null,null,null,null,null,null,"Small Box",null,null,null,null,null,null,null,null,null,null,"High End",null,null,null,null,null,null,null,null,null,null,"Anchor",null,null,null,null,null,null,null,null,null,null,"K-12",null,null,null,null,null,null,null,null,null,null,"University",null,null,null,null,null,null,null,null,null,null,"Warehouse",null,null,null,null,null,null,null,null,null,null,"Supermarket",null,null,null,null,null,null,null,null,null,null,"MiniMart",null,null,null,null,null,null,null,null,null,null,"Restaurant",null,null,null,null,null,null,null,null,null,null,"Lodging",null,null,null,null,null,null,null,null,null,null,"Hospital",null,null,null,null,null,null,null,null,null,null,"OtherHealth",null,null,null,null,null,null,null,null,null,null,"Assembly",null,null,null,null,null,null,null,null,null,null,"Other"]
[null,null,"Beginning Stock ","Demolitions","Replacement Units","New Units","Total Shipments","End of Year Stock ","Density","Stock Growth","Stock Saturation",null,null,"Beginning Stock","Demolitions","Replacement Units","New Units","Total Shipments","End of Year Stock","Density","Stock Growth","Stock Saturation",null,null,"Beginning Stock ","Demolitions","Replacement Units","New Units","Total Shipments ","End of Year Stock ","Density","Stock Growth","Stock Saturation",null,null,"Beginning Stock ","Demolitions","Replacement Units","New Units","Total Shipments ","End of Year Stock ","Density","Stock Growth","Stock Saturation",null,null,"Beginning Stock ","Demolitions","Replacement Units","New Units","Total Shipments ","End of Year Stock ","Density","Stock Growth","Stock Saturation",null,null,"Beginning Stock ","Demolitions","Replacement Units","New Units","Total Shipments ","End of Year Stock ","Density","Stock Growth","Stock Saturation",null,null,"Beginning Stock ","Demolitions","Replacement Units","New Units","Total Shipments ","End of Year Stock ","Density","Stock Growth","Stock Saturation",null,null,"Beginning Stock ","Demolitions","Replacement Units","New Units","Total Shipments ","End of Year Stock ","Density","Stock Growth","Stock Saturation",null,null,"Beginning Stock ","Demolitions","Replacement Units","New Units","Total Shipments ","End of Year Stock ","Density","Stock Growth","Stock Saturation",null,null,"Beginning Stock ","Demolitions","Replacement Units","New Units","Total Shipments ","End of Year Stock ","Density","Stock Growth","Stock Saturation",null,null,"Beginning Stock ","Demolitions","Replacement Units","New Units","Total Shipments ","End of Year Stock ","Density","Stock Growth","Stock Saturation",null,null,"Beginning Stock ","Demolitions","Replacement Units","New Units","Total Shipments ","End of Year Stock ","Density","Stock Growth","Stock Saturation",null,null,"Beginning Stock ","Demolitions","Replacement Units","New Units","Total Shipments ","End of Year Stock ","Density","Stock Growth","Stock Saturation",null,null,"Beginning Stock ","Demolitions","Replacement Units","New Units","Total Shipments ","End of Year Stock ","Density","Stock Growth","Stock Saturation",null,null,"Beginning Stock ","Demolitions","Replacement Units","New Units","Total Shipments ","End of Year Stock ","Density","Stock Growth","Stock Saturation",null,null,"Beginning Stock ","Demolitions","Replacement Units","New Units","Total Shipments ","End of Year Stock ","Density","Stock Growth","Stock Saturation",null,null,"Beginning Stock ","Demolitions","Replacement Units","New Units","Total Shipments ","End of Year Stock ","Density","Stock Growth","Stock Saturation",null,null,"Beginning Stock ","Demolitions","Replacement Units","New Units","Total Shipments ","End of Year Stock ","Density","Stock Growth","Stock Saturation",null,null,"Beginning Stock ","Demolitions","Replacement Units","New Units","Total Shipments ","End of Year Stock ","Density","Stock Growth","Stock Saturation"]
[null,1987,null,null,null,null,null,{"$f":"SUM(S12,AD12,AO12,AZ12,BK12,BV12,CG12,CR12,DC12,DN12,DY12,EJ12,EU12,FF12,FQ12,GB12,GM12,GX12)","v":10177.85581280977},{"$f":"(K36-K12)/D$8+K12","v":5.7664451704165351},null,{"$f":"INDEX('Saturation and Lifetime'!$B$7:$U$18,MATCH('Pre-Rinse Spray Valves'!$A$1,'Saturation and Lifetime'!$B$7:$B$18,0),MATCH('Pre-Rinse Spray Valves'!B10,'Saturation and Lifetime'!$B$7:$U$7,0))","v":5.7664451704165351},null,1987,null,null,null,null,null,{"$f":"V36*HLOOKUP(M10,'Saturation and Lifetime'!$C$58:$T$59,2,FALSE)-SUM(Q13:Q35)","v":981.19409329720747},{"$f":"(V36-V12)/O$8+V12","v":5.7664451704165351},null,{"$f":"INDEX('Saturation and Lifetime'!$B$7:$U$18,MATCH('Pre-Rinse Spray Valves'!$A$1,'Saturation and Lifetime'!$B$7:$B$18,0),MATCH('Pre-Rinse Spray Valves'!M10,'Saturation and Lifetime'!$B$7:$U$7,0))","v":5.7664451704165351},null,1987,null,null,null,null,null,{"$f":"AG36*HLOOKUP(X10,'Saturation and Lifetime'!$C$58:$T$59,2,FALSE)-SUM(AB13:AB35)","v":442.06814706783962},{"$f":"(AG36-AG12)/Z$8+AG12","v":5.7664451704165351},null,{"$f":"INDEX('Saturation and Lifetime'!$B$7:$U$18,MATCH('Pre-Rinse Spray Valves'!$A$1,'Saturation and Lifetime'!$B$7:$B$18,0),MATCH('Pre-Rinse Spray Valves'!X10,'Saturation and Lifetime'!$B$7:$U$7,0))","v":5.7664451704165351},null,1987,null,null,null,null,null,{"$f":"AR36*HLOOKUP(AI10,'Saturation and Lifetime'!$C$58:$T$59,2,FALSE)-SUM(AM13:AM35)","v":518.70990777234783},{"$f":"(AR36-AR12)/AK$8+AR12","v":5.7664451704165351},null,{"$f":"INDEX('Saturation and Lifetime'!$B$7:$U$18,MATCH('Pre-Rinse Spray Valves'!$A$1,'Saturation and Lifetime'!$B$7:$B$18,0),MATCH('Pre-Rinse Spray Valves'!AI10,'Saturation and Lifetime'!$B$7:$U$7,0))","v":5.7664451704165351},null,1987,null,null,null,null,null,{"$f":"BC36*HLOOKUP(AT10,'Saturation and Lifetime'!$C$58:$T$59,2,FALSE)-SUM(AX13:AX35)","v":475.95505696156204},{"$f":"(BC36-BC12)/AV$8+BC12","v":5.7664451704165351},null,{"$f":"INDEX('Saturation and Lifetime'!$B$7:$U$18,MATCH('Pre-Rinse Spray Valves'!$A$1,'Saturation and Lifetime'!$B$7:$B$18,0),MATCH('Pre-Rinse Spray Valves'!AT10,'Saturation and Lifetime'!$B$7:$U$7,0))","v":5.7664451704165351},null,1987,null,null,null,null,null,{"$f":"BN36*HLOOKUP(BE10,'Saturation and Lifetime'!$C$58:$T$59,2,FALSE)-SUM(BI13:BI35)","v":879.0810565977705},{"$f":"(BN36-BN12)/BG$8+BN12","v":5.7664451704165351},null,{"$f":"INDEX('Saturation and Lifetime'!$B$7:$U$18,MATCH('Pre-Rinse Spray Valves'!$A$1,'Saturation and Lifetime'!$B$7:$B$18,0),MATCH('Pre-Rinse Spray Valves'!BE10,'Saturation and Lifetime'!$B$7:$U$7,0))","v":5.7664451704165351},null,1987,null,null,null,null,null,{"$f":"BY36*HLOOKUP(BP10,'Saturation and Lifetime'!$C$58:$T$59,2,FALSE)-SUM(BT13:BT35)","v":219.77026414944262},{"$f":"(BY36-BY12)/BR$8+BY12","v":5.7664451704165351},null,{"$f":"INDEX('Saturation and Lifetime'!$B$7:$U$18,MATCH('Pre-Rinse Spray Valves'!$A$1,'Saturation and Lifetime'!$B$7:$B$18,0),MATCH('Pre-Rinse Spray Valves'!BP10,'Saturation and Lifetime'!$B$7:$U$7,0))","v":5.7664451704165351},null,1987,null,null,null,null,null,{"$f":"CJ36*HLOOKUP(CA10,'Saturation and Lifetime'!$C$58:$T$59,2,FALSE)-SUM(CE13:CE35)","v":424.31434584887927},{"$f":"(CJ36-CJ12)/CC$8+CJ12","v":5.7664451704165351},null,{"$f":"INDEX('Saturation and Lifetime'!$B$7:$U$18,MATCH('Pre-Rinse Spray Valves'!$A$1,'Saturation and Lifetime'!$B$7:$B$18,0),MATCH('Pre-Rinse Spray Valves'!CA10,'Saturation and Lifetime'!$B$7:$U$7,0))","v":5.7664451704165351},null,1987,null,null,null,null,null,{"$f":"CU36*HLOOKUP(CL10,'Saturation and Lifetime'!$C$58:$T$59,2,FALSE)-SUM(CP13:CP35)","v":866.82194969331613},{"$f":"(CU36-CU12)/CN$8+CU12","v":5.7664451704165351},null,{"$f":"INDEX('Saturation and Lifetime'!$B$7:$U$18,MATCH('Pre-Rinse Spray Valves'!$A$1,'Saturation and Lifetime'!$B$7:$B$18,0),MATCH('Pre-Rinse Spray Valves'!CL10,'Saturation and Lifetime'!$B$7:$U$7,0))","v":5.7664451704165351},null,1987,null,null,null,null,null,{"$f":"DF36*HLOOKUP(CW10,'Saturation and Lifetime'!$C$58:$T$59,2,FALSE)-SUM(DA13:DA35)","v":439.35855660800246},{"$f":"(DF36-DF12)/CY$8+DF12","v":5.7664451704165351},null,{"$f":"INDEX('Saturation and Lifetime'!$B$7:$U$18,MATCH('Pre-Rinse Spray Valves'!$A$1,'Saturation and Lifetime'!$B$7:$B$18,0),MATCH('Pre-Rinse Spray Valves'!CW10,'Saturation and Lifetime'!$B$7:$U$7,0))","v":5.7664451704165351},null,1987,null,null,null,null,null,{"$f":"DQ36*HLOOKUP(DH10,'Saturation and Lifetime'!$C$58:$T$59,2,FALSE)-SUM(DL13:DL35)","v":1026.4883371395001},{"$f":"(DQ36-DQ12)/DJ$8+DQ12","v":5.7664451704165351},null,{"$f":"INDEX('Saturation and Lifetime'!$B$7:$U$18,MATCH('Pre-Rinse Spray Valves'!$A$1,'Saturation and Lifetime'!$B$7:$B$18,0),MATCH('Pre-Rinse Spray Valves'!DH10,'Saturation and Lifetime'!$B$7:$U$7,0))","v":5.7664451704165351},null,1987,null,null,null,null,null,{"$f":"EB36*HLOOKUP(DS10,'Saturation and Lifetime'!$C$58:$T$59,2,FALSE)-SUM(DW13:DW35)","v":207.82709542320953},{"$f":"(EB36-EB12)/DU$8+EB12","v":5.7664451704165351},null,{"$f":"INDEX('Saturation and Lifetime'!$B$7:$U$18,MATCH('Pre-Rinse Spray Valves'!$A$1,'Saturation and Lifetime'!$B$7:$B$18,0),MATCH('Pre-Rinse Spray Valves'!DS10,'Saturation and Lifetime'!$B$7:$U$7,0))","v":5.7664451704165351},null,1987,null,null,null,null,null,{"$f":"EM36*HLOOKUP(ED10,'Saturation and Lifetime'!$C$58:$T$59,2,FALSE)-SUM(EH13:EH35)","v":84.098594578794007},{"$f":"(EM36-EM12)/EF$8+EM12","v":5.7664451704165351},null,{"$f":"INDEX('Saturation and Lifetime'!$B$7:$U$18,MATCH('Pre-Rinse Spray Valves'!$A$1,'Saturation and Lifetime'!$B$7:$B$18,0),MATCH('Pre-Rinse Spray Valves'!ED10,'Saturation and Lifetime'!$B$7:$U$7,0))","v":5.7664451704165351},null,1987,null,null,null,null,null,{"$f":"EX36*HLOOKUP(EO10,'Saturation and Lifetime'!$C$58:$T$59,2,FALSE)-SUM(ES13:ES35)","v":199.18276131351428},{"$f":"(EX36-EX12)/EQ$8+EX12","v":5.7664451704165351},null,{"$f":"INDEX('Saturation and Lifetime'!$B$7:$U$18,MATCH('Pre-Rinse Spray Valves'!$A$1,'Saturation and Lifetime'!$B$7:$B$18,0),MATCH('Pre-Rinse Spray Valves'!EO10,'Saturation and Lifetime'!$B$7:$U$7,0))","v":5.7664451704165351},null,1987,null,null,null,null,null,{"$f":"FI36*HLOOKUP(EZ10,'Saturation and Lifetime'!$C$58:$T$59,2,FALSE)-SUM(FD13:FD35)","v":611.66860697363427},{"$f":"(FI36-FI12)/FB$8+FI12","v":5.7664451704165351},null,{"$f":"INDEX('Saturation and Lifetime'!$B$7:$U$18,MATCH('Pre-Rinse Spray Valves'!$A$1,'Saturation and Lifetime'!$B$7:$B$18,0),MATCH('Pre-Rinse Spray Valves'!EZ10,'Saturation and Lifetime'!$B$7:$U$7,0))","v":5.7664451704165351},null,1987,null,null,null,null,null,{"$f":"FT36*HLOOKUP(FK10,'Saturation and Lifetime'!$C$58:$T$59,2,FALSE)-SUM(FO13:FO35)","v":224.17333864028893},{"$f":"(FT36-FT12)/FM$8+FT12","v":5.7664451704165351},null,{"$f":"INDEX('Saturation and Lifetime'!$B$7:$U$18,MATCH('Pre-Rinse Spray Valves'!$A$1,'Saturation and Lifetime'!$B$7:$B$18,0),MATCH('Pre-Rinse Spray Valves'!FK10,'Saturation and Lifetime'!$B$7:$U$7,0))","v":5.7664451704165351},null,1987,null,null,null,null,null,{"$f":"GE36*HLOOKUP(FV10,'Saturation and Lifetime'!$C$58:$T$59,2,FALSE)-SUM(FZ13:FZ35)","v":488.92095087751539},{"$f":"(GE36-GE12)/FX$8+GE12","v":5.7664451704165351},null,{"$f":"INDEX('Saturation and Lifetime'!$B$7:$U$18,MATCH('Pre-Rinse Spray Valves'!$A$1,'Saturation and Lifetime'!$B$7:$B$18,0),MATCH('Pre-Rinse Spray Valves'!FV10,'Saturation and Lifetime'!$B$7:$U$7,0))","v":5.7664451704165351},null,1987,null,null,null,null,null,{"$f":"GP36*HLOOKUP(GG10,'Saturation and Lifetime'!$C$58:$T$59,2,FALSE)-SUM(GK13:GK35)","v":709.99573495476159},{"$f":"(GP36-GP12)/GI$8+GP12","v":5.7664451704165351},null,{"$f":"INDEX('Saturation and Lifetime'!$B$7:$U$18,MATCH('Pre-Rinse Spray Valves'!$A$1,'Saturation and Lifetime'!$B$7:$B$18,0),MATCH('Pre-Rinse Spray Valves'!GG10,'Saturation and Lifetime'!$B$7:$U$7,0))","v":5.7664451704165351},null,1987,null,null,null,null,null,{"$f":"HA36*HLOOKUP(GR10,'Saturation and Lifetime'!$C$58:$T$59,2,FALSE)-SUM(GV13:GV35)","v":1378.2270149121839},{"$f":"(HA36-HA12)/GT$8+HA12","v":5.7664451704165351},null,{"$f":"INDEX('Saturation and Lifetime'!$B$7:$U$18,MATCH('Pre-Rinse Spray Valves'!$A$1,'Saturation and Lifetime'!$B$7:$B$18,0),MATCH('Pre-Rinse Spray Valves'!GR10,'Saturation and Lifetime'!$B$7:$U$7,0))","v":5.7664451704165351}]
[null,{"$f":"B12+1","v":1988},{"$f":"SUM(N13,Y13,AJ13,AU13,BF13,BQ13,CB13,CM13,CX13,DI13,DT13,EE13,EP13,FA13,FL13,FW13,GH13,GS13)","v":10177.85581280977},0,1947.5094531166551,209.03439802171735,2156.5438511383718,10386.890210831487,{"$f":"(K$36-I$12)/(B$36-B$12)*D$8+I12","v":5.7664451704165351},{"$f":"H13/H12-1","v":2.0538156746004121E-2},null,null,{"$f":"M12+1","v":1988},{"$f":"S12","v":981.19409329720747},0,{"$f":"((N13/((1+O$7)^O$6))/O$6*R$7)+(N13/((1+O$7)^O$6))*O$7","v":188.29062520718321},{"$f":"INDEX('Floor Space'!$I$5:$DK$54,MATCH('Pre-Rinse Spray Valves'!M13,'Floor Space'!$I$5:$I$54,0),MATCH('Pre-Rinse Spray Valves'!M$10,'Floor Space'!$I$5:$DK$5,0))*'Pre-Rinse Spray Valves'!T13","v":13.763336641357414},{"$f":"Q13+P13","v":202.05396184854064},{"$f":"N13+Q13-O13","v":994.95742993856493},{"$f":"(V$36-T$12)/(M$36-M$12)*O$8+T12","v":5.7664451704165351},{"$f":"S13/S12-1","v":1.4027129530618243E-2},null,null,{"$f":"X12+1","v":1988},{"$f":"AD12","v":442.06814706783962},0,{"$f":"((Y13/((1+Z$7)^Z$6))/Z$6*AC$7)+(Y13/((1+Z$7)^Z$6))*Z$7","v":84.832642556860222},{"$f":"INDEX('Floor Space'!$I$5:$DK$50,MATCH('Pre-Rinse Spray Valves'!X13,'Floor Space'!$I$5:$I$50,0),MATCH('Pre-Rinse Spray Valves'!X$10,'Floor Space'!$I$5:$DK$5,0))*'Pre-Rinse Spray Valves'!AE13","v":6.2009471602809665},{"$f":"AB13+AA13","v":91.033589717141183},{"$f":"Y13+AB13-Z13","v":448.26909422812059},{"$f":"(AG$36-AE$12)/(X$36-X$12)*Z$8+AE12","v":5.7664451704165351},{"$f":"AD13/AD12-1","v":1.4027129530618243E-2},null,null,{"$f":"AI12+1","v":1988},{"$f":"AO12","v":518.70990777234783},0,{"$f":"((AJ13/((1+AK$7)^AK$6))/AK$6*AN$7)+(AJ13/((1+AK$7)^AK$6))*AK$7","v":99.540155717215129},{"$f":"INDEX('Floor Space'!$I$5:$DK$50,MATCH('Pre-Rinse Spray Valves'!AI13,'Floor Space'!$I$5:$I$50,0),MATCH('Pre-Rinse Spray Valves'!AI$10,'Floor Space'!$I$5:$DK$5,0))*'Pre-Rinse Spray Valves'!AP13","v":7.2760110651377472},{"$f":"AM13+AL13","v":106.81616678235288},{"$f":"AJ13+AM13-AK13","v":525.98591883748554},{"$f":"(AR$36-AP$12)/(AI$36-AI$12)*AK$8+AP12","v":5.7664451704165351},{"$f":"AO13/AO12-1","v":1.4027129530618243E-2},null,null,{"$f":"AT12+1","v":1988},{"$f":"AZ12","v":475.95505696156204},0,{"$f":"((AU13/((1+AV$7)^AV$6))/AV$6*AY$7)+(AU13/((1+AV$7)^AV$6))*AV$7","v":90.895082073122467},{"$f":"INDEX('Floor Space'!$I$5:$DK$50,MATCH('Pre-Rinse Spray Valves'!AT13,'Floor Space'!$I$5:$I$50,0),MATCH('Pre-Rinse Spray Valves'!AT$10,'Floor Space'!$I$5:$DK$5,0))*'Pre-Rinse Spray Valves'!BA13","v":10.419767401359678},{"$f":"AX13+AW13","v":101.31484947448214},{"$f":"AU13+AX13-AV13","v":486.37482436292169},{"$f":"(BC$36-BA$12)/(AT$36-AT$12)*AV$8+BA12","v":5.7664451704165351},{"$f":"AZ13/AZ12-1","v":2.189233468361107E-2},null,null,{"$f":"BE12+1","v":1988},{"$f":"BK12","v":879.0810565977705},0,{"$f":"((BF13/((1+BG$7)^BG$6))/BG$6*BJ$7)+(BF13/((1+BG$7)^BG$6))*BG$7","v":167.88170147509231},{"$f":"INDEX('Floor Space'!$I$5:$DK$50,MATCH('Pre-Rinse Spray Valves'!BE13,'Floor Space'!$I$5:$I$50,0),MATCH('Pre-Rinse Spray Valves'!BE$10,'Floor Space'!$I$5:$DK$5,0))*'Pre-Rinse Spray Valves'!BL13","v":19.245136705060837},{"$f":"BI13+BH13","v":187.12683818015316},{"$f":"BF13+BI13-BG13","v":898.32619330283137},{"$f":"(BN$36-BL$12)/(BE$36-BE$12)*BG$8+BL12","v":5.7664451704165351},{"$f":"BK13/BK12-1","v":2.189233468361107E-2},null,null,{"$f":"BP12+1","v":1988},{"$f":"BV12","v":219.77026414944262},0,{"$f":"((BQ13/((1+BR$7)^BR$6))/BR$6*BU$7)+(BQ13/((1+BR$7)^BR$6))*BR$7","v":41.970425368773078},{"$f":"INDEX('Floor Space'!$I$5:$DK$50,MATCH('Pre-Rinse Spray Valves'!BP13,'Floor Space'!$I$5:$I$50,0),MATCH('Pre-Rinse Spray Valves'!BP$10,'Floor Space'!$I$5:$DK$5,0))*'Pre-Rinse Spray Valves'!BW13","v":4.8112841762652092},{"$f":"BT13+BS13","v":46.781709545038289},{"$f":"BQ13+BT13-BR13","v":224.58154832570784},{"$f":"(BY$36-BW$12)/(BP$36-BP$12)*BR$8+BW12","v":5.7664451704165351},{"$f":"BV13/BV12-1","v":2.189233468361107E-2},null,null,{"$f":"CA12+1","v":1988},{"$f":"CG12","v":424.31434584887927},0,{"$f":"((CB13/((1+CC$7)^CC$6))/CC$6*CF$7)+(CB13/((1+CC$7)^CC$6))*CC$7","v":81.033044457917939},{"$f":"INDEX('Floor Space'!$I$5:$DK$50,MATCH('Pre-Rinse Spray Valves'!CA13,'Floor Space'!$I$5:$I$50,0),MATCH('Pre-Rinse Spray Valves'!CA$10,'Floor Space'!$I$5:$DK$5,0))*'Pre-Rinse Spray Valves'!CH13","v":9.2892316703811577},{"$f":"CE13+CD13","v":90.322276128299094},{"$f":"CB13+CE13-CC13","v":433.60357751926045},{"$f":"(CJ$36-CH$12)/(CA$36-CA$12)*CC$8+CH12","v":5.7664451704165351},{"$f":"CG13/CG12-1","v":2.189233468361107E-2},null,null,{"$f":"CL12+1","v":1988},{"$f":"CR12","v":866.82194969331613},0,{"$f":"((CM13/((1+CN$7)^CN$6))/CN$6*CQ$7)+(CM13/((1+CN$7)^CN$6))*CN$7","v":165.66010459707144},{"$f":"INDEX('Floor Space'!$I$5:$DK$50,MATCH('Pre-Rinse Spray Valves'!CL13,'Floor Space'!$I$5:$I$50,0),MATCH('Pre-Rinse Spray Valves'!CL$10,'Floor Space'!$I$5:$DK$5,0))*'Pre-Rinse Spray Valves'!CS13","v":12.257871124096324},{"$f":"CP13+CO13","v":177.91797572116775},{"$f":"CM13+CP13-CN13","v":879.0798208174125},{"$f":"(CU$36-CS$12)/(CL$36-CL$12)*CN$8+CS12","v":5.7664451704165351},{"$f":"CR13/CR12-1","v":1.414116374006591E-2},null,null,{"$f":"CW12+1","v":1988},{"$f":"DC12","v":439.35855660800246},0,{"$f":"((CX13/((1+CY$7)^CY$6))/CY$6*DB$7)+(CX13/((1+CY$7)^CY$6))*CY$7","v":84.66448979879641},{"$f":"INDEX('Floor Space'!$I$5:$DK$50,MATCH('Pre-Rinse Spray Valves'!CW13,'Floor Space'!$I$5:$I$50,0),MATCH('Pre-Rinse Spray Valves'!CW$10,'Floor Space'!$I$5:$DK$5,0))*'Pre-Rinse Spray Valves'!DD13","v":6.3146608821102284},{"$f":"DA13+CZ13","v":90.979150680906642},{"$f":"CX13+DA13-CY13","v":445.67321749011268},{"$f":"(DF$36-DD$12)/(CW$36-CW$12)*CY$8+DD12","v":5.7664451704165351},{"$f":"DC13/DC12-1","v":1.4372454541141888E-2},null,null,{"$f":"DH12+1","v":1988},{"$f":"DN12","v":1026.4883371395001},0,{"$f":"((DI13/((1+DJ$7)^DJ$6))/DJ$6*DM$7)+(DI13/((1+DJ$7)^DJ$6))*DJ$7","v":194.71479732686839},{"$f":"INDEX('Floor Space'!$I$5:$DK$50,MATCH('Pre-Rinse Spray Valves'!DH13,'Floor Space'!$I$5:$I$50,0),MATCH('Pre-Rinse Spray Valves'!DH$10,'Floor Space'!$I$5:$DK$5,0))*'Pre-Rinse Spray Valves'!DO13","v":35.654518089448302},{"$f":"DL13+DK13","v":230.36931541631668},{"$f":"DI13+DL13-DJ13","v":1062.1428552289485},{"$f":"(DQ$36-DO$12)/(DH$36-DH$12)*DJ$8+DO12","v":5.7664451704165351},{"$f":"DN13/DN12-1","v":3.4734460002542544E-2},null,null,{"$f":"DS12+1","v":1988},{"$f":"DY12","v":207.82709542320953},0,{"$f":"((DT13/((1+DU$7)^DU$6))/DU$6*DX$7)+(DT13/((1+DU$7)^DU$6))*DU$7","v":41.3950966730605},{"$f":"INDEX('Floor Space'!$I$5:$DK$50,MATCH('Pre-Rinse Spray Valves'!DS13,'Floor Space'!$I$5:$I$50,0),MATCH('Pre-Rinse Spray Valves'!DS$10,'Floor Space'!$I$5:$DK$5,0))*'Pre-Rinse Spray Valves'!DZ13","v":5.0099027243637346},{"$f":"DW13+DV13","v":46.404999397424234},{"$f":"DT13+DW13-DU13","v":212.83699814757327},{"$f":"(EB$36-DZ$12)/(DS$36-DS$12)*DU$8+DZ12","v":5.7664451704165351},{"$f":"DY13/DY12-1","v":2.4106109524178354E-2},null,null,{"$f":"ED12+1","v":1988},{"$f":"EJ12","v":84.098594578794007},0,{"$f":"((EE13/((1+EF$7)^EF$6))/EF$6*EI$7)+(EE13/((1+EF$7)^EF$6))*EF$7","v":16.589855548276457},{"$f":"INDEX('Floor Space'!$I$5:$DK$50,MATCH('Pre-Rinse Spray Valves'!ED13,'Floor Space'!$I$5:$I$50,0),MATCH('Pre-Rinse Spray Valves'!ED$10,'Floor Space'!$I$5:$DK$5,0))*'Pre-Rinse Spray Valves'!EK13","v":2.0272899317458726},{"$f":"EH13+EG13","v":18.61714548002233},{"$f":"EE13+EH13-EF13","v":86.125884510539876},{"$f":"(EM$36-EK$12)/(ED$36-ED$12)*EF$8+EK12","v":5.7664451704165351},{"$f":"EJ13/EJ12-1","v":2.4106109524178132E-2},null,null,{"$f":"EO12+1","v":1988},{"$f":"EU12","v":199.18276131351428},0,{"$f":"((EP13/((1+EQ$7)^EQ$6))/EQ$6*ET$7)+(EP13/((1+EQ$7)^EQ$6))*EQ$7","v":39.382487307974657},{"$f":"INDEX('Floor Space'!$I$5:$DK$50,MATCH('Pre-Rinse Spray Valves'!EO13,'Floor Space'!$I$5:$I$50,0),MATCH('Pre-Rinse Spray Valves'!EO$10,'Floor Space'!$I$5:$DK$5,0))*'Pre-Rinse Spray Valves'!EV13","v":1.7601612567082838},{"$f":"ES13+ER13","v":41.142648564682943},{"$f":"EP13+ES13-EQ13","v":200.94292257022255},{"$f":"(EX$36-EV$12)/(EO$36-EO$12)*EQ$8+EV12","v":5.7664451704165351},{"$f":"EU13/EU12-1","v":8.8369156301522089E-3},null,null,{"$f":"EZ12+1","v":1988},{"$f":"FF12","v":611.66860697363427},0,{"$f":"((FA13/((1+FB$7)^FB$6))/FB$6*FE$7)+(FA13/((1+FB$7)^FB$6))*FB$7","v":117.82183134622801},{"$f":"INDEX('Floor Space'!$I$5:$DK$50,MATCH('Pre-Rinse Spray Valves'!EZ13,'Floor Space'!$I$5:$I$50,0),MATCH('Pre-Rinse Spray Valves'!EZ$10,'Floor Space'!$I$5:$DK$5,0))*'Pre-Rinse Spray Valves'!FG13","v":18.811228237590775},{"$f":"FD13+FC13","v":136.63305958381878},{"$f":"FA13+FD13-FB13","v":630.47983521122501},{"$f":"(FI$36-FG$12)/(EZ$36-EZ$12)*FB$8+FG12","v":5.7664451704165351},{"$f":"FF13/FF12-1","v":3.0753954058004407E-2},null,null,{"$f":"FK12+1","v":1988},{"$f":"FQ12","v":224.17333864028893},0,{"$f":"((FL13/((1+FM$7)^FM$6))/FM$6*FP$7)+(FL13/((1+FM$7)^FM$6))*FM$7","v":43.037804684228846},{"$f":"INDEX('Floor Space'!$I$5:$DK$50,MATCH('Pre-Rinse Spray Valves'!FK13,'Floor Space'!$I$5:$I$50,0),MATCH('Pre-Rinse Spray Valves'!FK$10,'Floor Space'!$I$5:$DK$5,0))*'Pre-Rinse Spray Valves'!FR13","v":4.2957080476380209},{"$f":"FO13+FN13","v":47.333512731866868},{"$f":"FL13+FO13-FM13","v":228.46904668792695},{"$f":"(FT$36-FR$12)/(FK$36-FK$12)*FM$8+FR12","v":5.7664451704165351},{"$f":"FQ13/FQ12-1","v":1.9162439537606879E-2},null,null,{"$f":"FV12+1","v":1988},{"$f":"GB12","v":488.92095087751539},0,{"$f":"((FW13/((1+FX$7)^FX$6))/FX$6*GA$7)+(FW13/((1+FX$7)^FX$6))*FX$7","v":93.206007028218522},{"$f":"INDEX('Floor Space'!$I$5:$DK$50,MATCH('Pre-Rinse Spray Valves'!FV13,'Floor Space'!$I$5:$I$50,0),MATCH('Pre-Rinse Spray Valves'!FV$10,'Floor Space'!$I$5:$DK$5,0))*'Pre-Rinse Spray Valves'!GC13","v":8.9782220177182328},{"$f":"FZ13+FY13","v":102.18422904593676},{"$f":"FW13+FZ13-FX13","v":497.89917289523362},{"$f":"(GE$36-GC$12)/(FV$36-FV$12)*FX$8+GC12","v":5.7664451704165351},{"$f":"GB13/GB12-1","v":1.836334074374224E-2},null,null,{"$f":"GG12+1","v":1988},{"$f":"GM12","v":709.99573495476159},0,{"$f":"((GH13/((1+GI$7)^GI$6))/GI$6*GL$7)+(GH13/((1+GI$7)^GI$6))*GI$7","v":136.19196388304584},{"$f":"INDEX('Floor Space'!$I$5:$DK$50,MATCH('Pre-Rinse Spray Valves'!GG13,'Floor Space'!$I$5:$I$50,0),MATCH('Pre-Rinse Spray Valves'!GG$10,'Floor Space'!$I$5:$DK$5,0))*'Pre-Rinse Spray Valves'!GN13","v":13.803712066444772},{"$f":"GK13+GJ13","v":149.99567594949062},{"$f":"GH13+GK13-GI13","v":723.79944702120633},{"$f":"(GP$36-GN$12)/(GG$36-GG$12)*GI$8+GN12","v":5.7664451704165351},{"$f":"GM13/GM12-1","v":1.9441964770850806E-2},null,null,{"$f":"GR12+1","v":1988},{"$f":"GX12","v":1378.2270149121839},0,{"$f":"((GS13/((1+GT$7)^GT$6))/GT$6*GW$7)+(GS13/((1+GT$7)^GT$6))*GT$7","v":260.40133806672128},{"$f":"INDEX('Floor Space'!$I$5:$DK$50,MATCH('Pre-Rinse Spray Valves'!GR13,'Floor Space'!$I$5:$I$50,0),MATCH('Pre-Rinse Spray Valves'!GR$10,'Floor Space'!$I$5:$DK$5,0))*'Pre-Rinse Spray Valves'!GY13","v":29.115408824009823},{"$f":"GV13+GU13","v":289.5167468907311},{"$f":"GS13+GV13-GT13","v":1407.3424237361937},{"$f":"(HA$36-GY$12)/(GR$36-GR$12)*GT$8+GY12","v":5.7664451704165351},{"$f":"GX13/GX12-1","v":2.1125263479082834E-2}]
[null,{"$f":"B13+1","v":1989},{"$f":"SUM(N14,Y14,AJ14,AU14,BF14,BQ14,CB14,CM14,CX14,DI14,DT14,EE14,EP14,FA14,FL14,FW14,GH14,GS14)","v":10386.890210831487},{"$f":"SUM(O14,Z14,AK14,AV14,BG14,BR14,CC14,CN14,CY14,DJ14,DU14,EF14,EQ14,FB14,FM14,FX14,GI14,GT14)","v":0},{"$f":"SUM(P14,AA14,AL14,AW14,BH14,BS14,CD14,CO14,CZ14,DK14,DV14,EG14,ER14,FC14,FN14,FY14,GJ14,GU14)","v":1987.4721565987343},{"$f":"SUM(Q14,AB14,AM14,AX14,BI14,BT14,CE14,CP14,DA14,DL14,DW14,EH14,ES14,FD14,FO14,FZ14,GK14,GV14)","v":203.61975271490212},{"$f":"SUM(R14,AC14,AN14,AY14,BJ14,BU14,CF14,CQ14,DB14,DM14,DX14,EI14,ET14,FE14,FP14,GA14,GL14,GW14)","v":2191.0919093136363},{"$f":"SUM(S14,AD14,AO14,AZ14,BK14,BV14,CG14,CR14,DC14,DN14,DY14,EJ14,EU14,FF14,FQ14,GB14,GM14,GX14)","v":10590.50996354639},5.7664451704165351,{"$f":"H14/H13-1","v":1.9603533741270107E-2},null,null,{"$f":"M13+1","v":1989},{"$f":"S13","v":994.95742993856493},0,190.93180219636548,{"$f":"INDEX('Floor Space'!$I$5:$DK$54,MATCH('Pre-Rinse Spray Valves'!M14,'Floor Space'!$I$5:$I$54,0),MATCH('Pre-Rinse Spray Valves'!M$10,'Floor Space'!$I$5:$DK$5,0))*'Pre-Rinse Spray Valves'!T14","v":18.730271186446821},{"$f":"Q14+P14","v":209.66207338281231},{"$f":"N14+Q14-O14","v":1013.6877011250117},5.7664451704165351,{"$f":"S14/S13-1","v":1.8825198569152102E-2},null,null,{"$f":"X13+1","v":1989},{"$f":"AD13","v":448.26909422812059},0,86.022601022429939,{"$f":"INDEX('Floor Space'!$I$5:$DK$50,MATCH('Pre-Rinse Spray Valves'!X14,'Floor Space'!$I$5:$I$50,0),MATCH('Pre-Rinse Spray Valves'!X$10,'Floor Space'!$I$5:$DK$5,0))*'Pre-Rinse Spray Valves'!AE14","v":8.438754711258369},{"$f":"AB14+AA14","v":94.461355733688308},{"$f":"Y14+AB14-Z14","v":456.70784893937895},5.7664451704165351,{"$f":"AD14/AD13-1","v":1.8825198569152102E-2},null,null,{"$f":"AI13+1","v":1989},{"$f":"AO13","v":525.98591883748554},0,100.93641837495841,{"$f":"INDEX('Floor Space'!$I$5:$DK$50,MATCH('Pre-Rinse Spray Valves'!AI14,'Floor Space'!$I$5:$I$50,0),MATCH('Pre-Rinse Spray Valves'!AI$10,'Floor Space'!$I$5:$DK$5,0))*'Pre-Rinse Spray Valves'!AP14","v":9.9017893666936381},{"$f":"AM14+AL14","v":110.83820774165204},{"$f":"AJ14+AM14-AK14","v":535.88770820417915},5.7664451704165351,{"$f":"AO14/AO13-1","v":1.8825198569152102E-2},null,null,{"$f":"AT13+1","v":1989},{"$f":"AZ13","v":486.37482436292169},0,92.884987630961575,{"$f":"INDEX('Floor Space'!$I$5:$DK$50,MATCH('Pre-Rinse Spray Valves'!AT14,'Floor Space'!$I$5:$I$50,0),MATCH('Pre-Rinse Spray Valves'!AT$10,'Floor Space'!$I$5:$DK$5,0))*'Pre-Rinse Spray Valves'!BA14","v":9.1737240618325959},{"$f":"AX14+AW14","v":102.05871169279418},{"$f":"AU14+AX14-AV14","v":495.5485484247543},5.7664451704165351,{"$f":"AZ14/AZ13-1","v":1.8861428680748027E-2},null,null,{"$f":"BE13+1","v":1989},{"$f":"BK13","v":898.32619330283137},0,171.55702387103909,{"$f":"INDEX('Floor Space'!$I$5:$DK$50,MATCH('Pre-Rinse Spray Valves'!BE14,'Floor Space'!$I$5:$I$50,0),MATCH('Pre-Rinse Spray Valves'!BE$10,'Floor Space'!$I$5:$DK$5,0))*'Pre-Rinse Spray Valves'!BL14","v":16.943715427029229},{"$f":"BI14+BH14","v":188.50073929806831},{"$f":"BF14+BI14-BG14","v":915.26990872986062},5.7664451704165351,{"$f":"BK14/BK13-1","v":1.8861428680748027E-2},null,null,{"$f":"BP13+1","v":1989},{"$f":"BV13","v":224.58154832570784},0,42.889255967759773,{"$f":"INDEX('Floor Space'!$I$5:$DK$50,MATCH('Pre-Rinse Spray Valves'!BP14,'Floor Space'!$I$5:$I$50,0),MATCH('Pre-Rinse Spray Valves'!BP$10,'Floor Space'!$I$5:$DK$5,0))*'Pre-Rinse Spray Valves'!BW14","v":4.2359288567573072},{"$f":"BT14+BS14","v":47.125184824517078},{"$f":"BQ14+BT14-BR14","v":228.81747718246515},5.7664451704165351,{"$f":"BV14/BV13-1","v":1.8861428680748027E-2},null,null,{"$f":"CA13+1","v":1989},{"$f":"CG13","v":433.60357751926045},0,82.807046987622613,{"$f":"INDEX('Floor Space'!$I$5:$DK$50,MATCH('Pre-Rinse Spray Valves'!CA14,'Floor Space'!$I$5:$I$50,0),MATCH('Pre-Rinse Spray Valves'!CA$10,'Floor Space'!$I$5:$DK$5,0))*'Pre-Rinse Spray Valves'!CH14","v":8.1783829530967314},{"$f":"CE14+CD14","v":90.985429940719342},{"$f":"CB14+CE14-CC14","v":441.78196047235718},5.7664451704165351,{"$f":"CG14/CG13-1","v":1.8861428680748027E-2},null,null,{"$f":"CL13+1","v":1989},{"$f":"CR13","v":879.0798208174125},0,168.00273126137509,{"$f":"INDEX('Floor Space'!$I$5:$DK$50,MATCH('Pre-Rinse Spray Valves'!CL14,'Floor Space'!$I$5:$I$50,0),MATCH('Pre-Rinse Spray Valves'!CL$10,'Floor Space'!$I$5:$DK$5,0))*'Pre-Rinse Spray Valves'!CS14","v":15.908796239573007},{"$f":"CP14+CO14","v":183.9115275009481},{"$f":"CM14+CP14-CN14","v":894.9886170569855},5.7664451704165351,{"$f":"CR14/CR13-1","v":1.8097100926262044E-2},null,null,{"$f":"CW13+1","v":1989},{"$f":"DC13","v":445.67321749011268},0,85.881326329678586,{"$f":"INDEX('Floor Space'!$I$5:$DK$50,MATCH('Pre-Rinse Spray Valves'!CW14,'Floor Space'!$I$5:$I$50,0),MATCH('Pre-Rinse Spray Valves'!CW$10,'Floor Space'!$I$5:$DK$5,0))*'Pre-Rinse Spray Valves'!DD14","v":8.195440487052764},{"$f":"DA14+CZ14","v":94.07676681673135},{"$f":"CX14+DA14-CY14","v":453.86865797716541},5.7664451704165351,{"$f":"DC14/DC13-1","v":1.8388900578784506E-2},null,null,{"$f":"DH13+1","v":1989},{"$f":"DN13","v":1062.1428552289485},0,201.4781106665217,{"$f":"INDEX('Floor Space'!$I$5:$DK$50,MATCH('Pre-Rinse Spray Valves'!DH14,'Floor Space'!$I$5:$I$50,0),MATCH('Pre-Rinse Spray Valves'!DH$10,'Floor Space'!$I$5:$DK$5,0))*'Pre-Rinse Spray Valves'!DO14","v":35.866274065640852},{"$f":"DL14+DK14","v":237.34438473216255},{"$f":"DI14+DL14-DJ14","v":1098.0091292945895},5.7664451704165351,{"$f":"DN14/DN13-1","v":3.3767843834819899E-2},null,null,{"$f":"DS13+1","v":1989},{"$f":"DY13","v":212.83699814757327},0,42.392971407225247,{"$f":"INDEX('Floor Space'!$I$5:$DK$50,MATCH('Pre-Rinse Spray Valves'!DS14,'Floor Space'!$I$5:$I$50,0),MATCH('Pre-Rinse Spray Valves'!DS$10,'Floor Space'!$I$5:$DK$5,0))*'Pre-Rinse Spray Valves'!DZ14","v":4.3721933075911776},{"$f":"DW14+DV14","v":46.765164714816422},{"$f":"DT14+DW14-DU14","v":217.20919145516444},5.7664451704165351,{"$f":"DY14/DY13-1","v":2.0542449600607693E-2},null,null,{"$f":"ED13+1","v":1989},{"$f":"EJ13","v":86.125884510539876},0,16.989772423113504,{"$f":"INDEX('Floor Space'!$I$5:$DK$50,MATCH('Pre-Rinse Spray Valves'!ED14,'Floor Space'!$I$5:$I$50,0),MATCH('Pre-Rinse Spray Valves'!ED$10,'Floor Space'!$I$5:$DK$5,0))*'Pre-Rinse Spray Valves'!EK14","v":1.769236641865533},{"$f":"EH14+EG14","v":18.759009064979036},{"$f":"EE14+EH14-EF14","v":87.895121152405409},5.7664451704165351,{"$f":"EJ14/EJ13-1","v":2.0542449600607693E-2},null,null,{"$f":"EO13+1","v":1989},{"$f":"EU13","v":200.94292257022255},0,39.730507025620774,{"$f":"INDEX('Floor Space'!$I$5:$DK$50,MATCH('Pre-Rinse Spray Valves'!EO14,'Floor Space'!$I$5:$I$50,0),MATCH('Pre-Rinse Spray Valves'!EO$10,'Floor Space'!$I$5:$DK$5,0))*'Pre-Rinse Spray Valves'!EV14","v":2.49105818205858},{"$f":"ES14+ER14","v":42.221565207679355},{"$f":"EP14+ES14-EQ14","v":203.43398075228112},5.7664451704165351,{"$f":"EU14/EU13-1","v":1.2396844587487355E-2},null,null,{"$f":"EZ13+1","v":1989},{"$f":"FF13","v":630.47983521122501},0,121.44531853447984,{"$f":"INDEX('Floor Space'!$I$5:$DK$50,MATCH('Pre-Rinse Spray Valves'!EZ14,'Floor Space'!$I$5:$I$50,0),MATCH('Pre-Rinse Spray Valves'!EZ$10,'Floor Space'!$I$5:$DK$5,0))*'Pre-Rinse Spray Valves'!FG14","v":12.501906853050547},{"$f":"FD14+FC14","v":133.94722538753038},{"$f":"FA14+FD14-FB14","v":642.98174206427552},5.7664451704165351,{"$f":"FF14/FF13-1","v":1.9829193821658153E-2},null,null,{"$f":"FK13+1","v":1989},{"$f":"FQ13","v":228.46904668792695},0,43.862514014321718,{"$f":"INDEX('Floor Space'!$I$5:$DK$50,MATCH('Pre-Rinse Spray Valves'!FK14,'Floor Space'!$I$5:$I$50,0),MATCH('Pre-Rinse Spray Valves'!FK$10,'Floor Space'!$I$5:$DK$5,0))*'Pre-Rinse Spray Valves'!FR14","v":6.0252717851013138},{"$f":"FO14+FN14","v":49.887785799423028},{"$f":"FL14+FO14-FM14","v":234.49431847302827},5.7664451704165351,{"$f":"FQ14/FQ13-1","v":2.6372376794356001E-2},null,null,{"$f":"FV13+1","v":1989},{"$f":"GB13","v":497.89917289523362},0,94.91758069464133,{"$f":"INDEX('Floor Space'!$I$5:$DK$50,MATCH('Pre-Rinse Spray Valves'!FV14,'Floor Space'!$I$5:$I$50,0),MATCH('Pre-Rinse Spray Valves'!FV$10,'Floor Space'!$I$5:$DK$5,0))*'Pre-Rinse Spray Valves'!GC14","v":12.511992642442973},{"$f":"FZ14+FY14","v":107.42957333708431},{"$f":"FW14+FZ14-FX14","v":510.4111655376766},5.7664451704165351,{"$f":"GB14/GB13-1","v":2.5129571052884048E-2},null,null,{"$f":"GG13+1","v":1989},{"$f":"GM13","v":723.79944702120633},0,138.839803246933,{"$f":"INDEX('Floor Space'!$I$5:$DK$50,MATCH('Pre-Rinse Spray Valves'!GG14,'Floor Space'!$I$5:$I$50,0),MATCH('Pre-Rinse Spray Valves'!GG$10,'Floor Space'!$I$5:$DK$5,0))*'Pre-Rinse Spray Valves'!GN14","v":9.2274800931423684},{"$f":"GK14+GJ14","v":148.06728334007536},{"$f":"GH14+GK14-GI14","v":733.02692711434872},5.7664451704165351,{"$f":"GM14/GM13-1","v":1.2748669719378825E-2},null,null,{"$f":"GR13+1","v":1989},{"$f":"GX13","v":1407.3424237361937},0,265.90238494368657,{"$f":"INDEX('Floor Space'!$I$5:$DK$50,MATCH('Pre-Rinse Spray Valves'!GR14,'Floor Space'!$I$5:$I$50,0),MATCH('Pre-Rinse Spray Valves'!GR$10,'Floor Space'!$I$5:$DK$5,0))*'Pre-Rinse Spray Valves'!GY14","v":19.14753585426832},{"$f":"GV14+GU14","v":285.04992079795488},{"$f":"GS14+GV14-GT14","v":1426.4899595904621},5.7664451704165351,{"$f":"GX14/GX13-1","v":1.3605456306387653E-2}]
[null,1990,10590.50996354639,0,2026.4180048923531,219.60804597489681,2246.02605086725,10810.118009521286,5.7664451704165351,2.0736305119470888E-2,null,null,1990,{"$f":"S14","v":1013.6877011250117},0,194.52613128587814,{"$f":"INDEX('Floor Space'!$I$5:$DK$54,MATCH('Pre-Rinse Spray Valves'!M15,'Floor Space'!$I$5:$I$54,0),MATCH('Pre-Rinse Spray Valves'!M$10,'Floor Space'!$I$5:$DK$5,0))*'Pre-Rinse Spray Valves'!T15","v":22.354130641069293},216.88026192694744,1036.041831766081,5.7664451704165351,{"$f":"S15/S14-1","v":2.2052285547373485E-2},null,null,1990,{"$f":"AD14","v":456.70784893937895},0,87.641993568112127,{"$f":"INDEX('Floor Space'!$I$5:$DK$50,MATCH('Pre-Rinse Spray Valves'!X15,'Floor Space'!$I$5:$I$50,0),MATCH('Pre-Rinse Spray Valves'!X$10,'Floor Space'!$I$5:$DK$5,0))*'Pre-Rinse Spray Valves'!AE15","v":10.071451896537877},97.713445464650007,466.77930083591684,5.7664451704165351,{"$f":"AD15/AD14-1","v":2.2052285547373485E-2},null,null,1990,{"$f":"AO14","v":535.88770820417915},0,102.83656649372602,{"$f":"INDEX('Floor Space'!$I$5:$DK$50,MATCH('Pre-Rinse Spray Valves'!AI15,'Floor Space'!$I$5:$I$50,0),MATCH('Pre-Rinse Spray Valves'!AI$10,'Floor Space'!$I$5:$DK$5,0))*'Pre-Rinse Spray Valves'!AP15","v":11.817548762646092},114.65411525637212,547.70525696682523,5.7664451704165351,{"$f":"AO15/AO14-1","v":2.2052285547373485E-2},null,null,1990,{"$f":"AZ14","v":495.5485484247543},0,94.636931200675093,{"$f":"INDEX('Floor Space'!$I$5:$DK$50,MATCH('Pre-Rinse Spray Valves'!AT15,'Floor Space'!$I$5:$I$50,0),MATCH('Pre-Rinse Spray Valves'!AT$10,'Floor Space'!$I$5:$DK$5,0))*'Pre-Rinse Spray Valves'!BA15","v":7.3628067329218405},101.99973793359693,502.91135515767616,5.7664451704165351,{"$f":"AZ15/AZ14-1","v":1.4857891837896986E-2},null,null,1990,{"$f":"BK14","v":915.26990872986062},0,174.79283444146409,{"$f":"INDEX('Floor Space'!$I$5:$DK$50,MATCH('Pre-Rinse Spray Valves'!BE15,'Floor Space'!$I$5:$I$50,0),MATCH('Pre-Rinse Spray Valves'!BE$10,'Floor Space'!$I$5:$DK$5,0))*'Pre-Rinse Spray Valves'!BL15","v":13.598981306390096},188.3918157478542,928.86889003625072,5.7664451704165351,{"$f":"BK15/BK14-1","v":1.4857891837896986E-2},null,null,1990,{"$f":"BV14","v":228.81747718246515},0,43.698208610366024,{"$f":"INDEX('Floor Space'!$I$5:$DK$50,MATCH('Pre-Rinse Spray Valves'!BP15,'Floor Space'!$I$5:$I$50,0),MATCH('Pre-Rinse Spray Valves'!BP$10,'Floor Space'!$I$5:$DK$5,0))*'Pre-Rinse Spray Valves'!BW15","v":3.3997453265975239},47.097953936963549,232.21722250906268,5.7664451704165351,{"$f":"BV15/BV14-1","v":1.4857891837896986E-2},null,null,1990,{"$f":"CG14","v":441.78196047235718},0,84.368906198643018,{"$f":"INDEX('Floor Space'!$I$5:$DK$50,MATCH('Pre-Rinse Spray Valves'!CA15,'Floor Space'!$I$5:$I$50,0),MATCH('Pre-Rinse Spray Valves'!CA$10,'Floor Space'!$I$5:$DK$5,0))*'Pre-Rinse Spray Valves'!CH15","v":6.5639485846323522},90.932854783275374,448.34590905698951,5.7664451704165351,{"$f":"CG15/CG14-1","v":1.4857891837896986E-2},null,null,1990,{"$f":"CR14","v":894.9886170569855},0,171.04309364489987,{"$f":"INDEX('Floor Space'!$I$5:$DK$50,MATCH('Pre-Rinse Spray Valves'!CL15,'Floor Space'!$I$5:$I$50,0),MATCH('Pre-Rinse Spray Valves'!CL$10,'Floor Space'!$I$5:$DK$5,0))*'Pre-Rinse Spray Valves'!CS15","v":21.309729055101911},192.35282270000178,916.29834611208742,5.7664451704165351,{"$f":"CR15/CR14-1","v":2.3810055959343046E-2},null,null,1990,{"$f":"DC14","v":453.86865797716541},0,87.46058950112922,{"$f":"INDEX('Floor Space'!$I$5:$DK$50,MATCH('Pre-Rinse Spray Valves'!CW15,'Floor Space'!$I$5:$I$50,0),MATCH('Pre-Rinse Spray Valves'!CW$10,'Floor Space'!$I$5:$DK$5,0))*'Pre-Rinse Spray Valves'!DD15","v":10.977739210204014},98.438328711333241,464.8463971873694,5.7664451704165351,{"$f":"DC15/DC14-1","v":2.4187039614346428E-2},null,null,1990,{"$f":"DN14","v":1098.0091292945895},0,208.28159204364337,{"$f":"INDEX('Floor Space'!$I$5:$DK$50,MATCH('Pre-Rinse Spray Valves'!DH15,'Floor Space'!$I$5:$I$50,0),MATCH('Pre-Rinse Spray Valves'!DH$10,'Floor Space'!$I$5:$DK$5,0))*'Pre-Rinse Spray Valves'!DO15","v":38.118848798142011},246.40044084178538,1136.1279780927314,5.7664451704165351,{"$f":"DN15/DN14-1","v":3.4716331386635435E-2},null,null,1990,{"$f":"DY14","v":217.20919145516444},0,43.26382688577818,{"$f":"INDEX('Floor Space'!$I$5:$DK$50,MATCH('Pre-Rinse Spray Valves'!DS15,'Floor Space'!$I$5:$I$50,0),MATCH('Pre-Rinse Spray Valves'!DS$10,'Floor Space'!$I$5:$DK$5,0))*'Pre-Rinse Spray Valves'!DZ15","v":3.6407180662678345},46.904544952046017,220.84990952143227,5.7664451704165351,{"$f":"DY15/DY14-1","v":1.6761344406640122E-2},null,null,1990,{"$f":"EJ14","v":87.895121152405409},0,17.33878396684111,{"$f":"INDEX('Floor Space'!$I$5:$DK$50,MATCH('Pre-Rinse Spray Valves'!ED15,'Floor Space'!$I$5:$I$50,0),MATCH('Pre-Rinse Spray Valves'!ED$10,'Floor Space'!$I$5:$DK$5,0))*'Pre-Rinse Spray Valves'!EK15","v":1.4732403972988224},18.812024364139933,89.368361549704233,5.7664451704165351,{"$f":"EJ15/EJ14-1","v":1.6761344406640122E-2},null,null,1990,{"$f":"EU14","v":203.43398075228112},0,40.223039946599471,{"$f":"INDEX('Floor Space'!$I$5:$DK$50,MATCH('Pre-Rinse Spray Valves'!EO15,'Floor Space'!$I$5:$I$50,0),MATCH('Pre-Rinse Spray Valves'!EO$10,'Floor Space'!$I$5:$DK$5,0))*'Pre-Rinse Spray Valves'!EV15","v":2.434616216730543},42.657656163330017,205.86859696901166,5.7664451704165351,{"$f":"EU15/EU14-1","v":1.1967598567985238E-2},null,null,1990,{"$f":"FF14","v":642.98174206427552},0,123.85348129443305,{"$f":"INDEX('Floor Space'!$I$5:$DK$50,MATCH('Pre-Rinse Spray Valves'!EZ15,'Floor Space'!$I$5:$I$50,0),MATCH('Pre-Rinse Spray Valves'!EZ$10,'Floor Space'!$I$5:$DK$5,0))*'Pre-Rinse Spray Valves'!FG15","v":12.467250517576344},136.3207318120094,655.44899258185183,5.7664451704165351,{"$f":"FF15/FF14-1","v":1.9389742666021226E-2},null,null,1990,{"$f":"FQ14","v":234.49431847302827},0,45.019272761055127,{"$f":"INDEX('Floor Space'!$I$5:$DK$50,MATCH('Pre-Rinse Spray Valves'!FK15,'Floor Space'!$I$5:$I$50,0),MATCH('Pre-Rinse Spray Valves'!FK$10,'Floor Space'!$I$5:$DK$5,0))*'Pre-Rinse Spray Valves'!FR15","v":4.7210345157920122},49.74030727684714,239.21535298882029,5.7664451704165351,{"$f":"FQ15/FQ14-1","v":2.0132831134392903E-2},null,null,1990,{"$f":"GB14","v":510.4111655376766},0,97.302818782875178,{"$f":"INDEX('Floor Space'!$I$5:$DK$50,MATCH('Pre-Rinse Spray Valves'!FV15,'Floor Space'!$I$5:$I$50,0),MATCH('Pre-Rinse Spray Valves'!FV$10,'Floor Space'!$I$5:$DK$5,0))*'Pre-Rinse Spray Valves'!GC15","v":9.7148457842935141},107.01766456716869,520.12601132197005,5.7664451704165351,{"$f":"GB15/GB14-1","v":1.9033372387258884E-2},null,null,1990,{"$f":"GM14","v":733.02692711434872},0,140.60982604243168,{"$f":"INDEX('Floor Space'!$I$5:$DK$50,MATCH('Pre-Rinse Spray Valves'!GG15,'Floor Space'!$I$5:$I$50,0),MATCH('Pre-Rinse Spray Valves'!GG$10,'Floor Space'!$I$5:$DK$5,0))*'Pre-Rinse Spray Valves'!GN15","v":13.131511555826343},153.74133759825801,746.15843867017509,5.7664451704165351,{"$f":"GM15/GM14-1","v":1.7914091652158293E-2},null,null,1990,{"$f":"GX14","v":1426.4899595904621},0,269.52010822380208,{"$f":"INDEX('Floor Space'!$I$5:$DK$50,MATCH('Pre-Rinse Spray Valves'!GR15,'Floor Space'!$I$5:$I$50,0),MATCH('Pre-Rinse Spray Valves'!GR$10,'Floor Space'!$I$5:$DK$5,0))*'Pre-Rinse Spray Valves'!GY15","v":26.449898606868441},295.97000683067051,1452.9398581973305,5.7664451704165351,{"$f":"GX15/GX14-1","v":1.8541945163401019E-2}]
[null,1991,10810.118009521286,0,2068.4062672207519,195.66071133813554,2264.0669785588875,11005.778720859422,5.7664451704165351,1.8099775706962973E-2,null,null,1991,1036.041831766081,0,198.81587707942015,{"$f":"INDEX('Floor Space'!$I$5:$DK$54,MATCH('Pre-Rinse Spray Valves'!M16,'Floor Space'!$I$5:$I$54,0),MATCH('Pre-Rinse Spray Valves'!M$10,'Floor Space'!$I$5:$DK$5,0))*'Pre-Rinse Spray Valves'!T16","v":15.40362716537804},214.2195042447982,1051.4454589314591,5.7664451704165351,1.4867765656836784E-2,null,null,1991,466.77930083591684,0,89.574699836217206,{"$f":"INDEX('Floor Space'!$I$5:$DK$50,MATCH('Pre-Rinse Spray Valves'!X16,'Floor Space'!$I$5:$I$50,0),MATCH('Pre-Rinse Spray Valves'!X$10,'Floor Space'!$I$5:$DK$5,0))*'Pre-Rinse Spray Valves'!AE16","v":6.9399652582905427},96.514665094507748,473.7192660942074,5.7664451704165351,1.4867765656836784E-2,null,null,1991,547.70525696682523,0,105.10434782275712,{"$f":"INDEX('Floor Space'!$I$5:$DK$50,MATCH('Pre-Rinse Spray Valves'!AI16,'Floor Space'!$I$5:$I$50,0),MATCH('Pre-Rinse Spray Valves'!AI$10,'Floor Space'!$I$5:$DK$5,0))*'Pre-Rinse Spray Valves'!AP16","v":8.1431534096003464},113.24750123235746,555.84841037642559,5.7664451704165351,1.4867765656836784E-2,null,null,1991,502.91135515767616,0,96.043036488325242,{"$f":"INDEX('Floor Space'!$I$5:$DK$50,MATCH('Pre-Rinse Spray Valves'!AT16,'Floor Space'!$I$5:$I$50,0),MATCH('Pre-Rinse Spray Valves'!AT$10,'Floor Space'!$I$5:$DK$5,0))*'Pre-Rinse Spray Valves'!BA16","v":5.6203346226176558},101.6633711109429,508.53168978029379,5.7664451704165351,1.1175596981411351E-2,null,null,1991,928.86889003625072,0,177.38988746963477,{"$f":"INDEX('Floor Space'!$I$5:$DK$50,MATCH('Pre-Rinse Spray Valves'!BE16,'Floor Space'!$I$5:$I$50,0),MATCH('Pre-Rinse Spray Valves'!BE$10,'Floor Space'!$I$5:$DK$5,0))*'Pre-Rinse Spray Valves'!BL16","v":10.380664363616113},187.77055183325089,939.24955439986684,5.7664451704165351,1.1175596981411351E-2,null,null,1991,232.21722250906268,0,44.347471867408693,{"$f":"INDEX('Floor Space'!$I$5:$DK$50,MATCH('Pre-Rinse Spray Valves'!BP16,'Floor Space'!$I$5:$I$50,0),MATCH('Pre-Rinse Spray Valves'!BP$10,'Floor Space'!$I$5:$DK$5,0))*'Pre-Rinse Spray Valves'!BW16","v":2.5951660909040282},46.942637958312723,234.81238859996671,5.7664451704165351,1.1175596981411351E-2,null,null,1991,448.34590905698951,0,85.622450281424122,{"$f":"INDEX('Floor Space'!$I$5:$DK$50,MATCH('Pre-Rinse Spray Valves'!CA16,'Floor Space'!$I$5:$I$50,0),MATCH('Pre-Rinse Spray Valves'!CA$10,'Floor Space'!$I$5:$DK$5,0))*'Pre-Rinse Spray Valves'!CH16","v":5.0105331878854553},90.632983469309579,453.35644224487498,5.7664451704165351,1.1175596981411573E-2,null,null,1991,916.29834611208742,0,175.11563927604411,{"$f":"INDEX('Floor Space'!$I$5:$DK$50,MATCH('Pre-Rinse Spray Valves'!CL16,'Floor Space'!$I$5:$I$50,0),MATCH('Pre-Rinse Spray Valves'!CL$10,'Floor Space'!$I$5:$DK$5,0))*'Pre-Rinse Spray Valves'!CS16","v":21.963734585945225},197.07937386198932,938.26208069803261,5.7664451704165351,2.3970069005514016E-2,null,null,1991,464.8463971873694,0,89.576002244087121,{"$f":"INDEX('Floor Space'!$I$5:$DK$50,MATCH('Pre-Rinse Spray Valves'!CW16,'Floor Space'!$I$5:$I$50,0),MATCH('Pre-Rinse Spray Valves'!CW$10,'Floor Space'!$I$5:$DK$5,0))*'Pre-Rinse Spray Valves'!DD16","v":11.314651150335418},100.89065339442254,476.16104833770481,5.7664451704165351,2.4340623523806171E-2,null,null,1991,1136.1279780927314,0,215.51236481476647,{"$f":"INDEX('Floor Space'!$I$5:$DK$50,MATCH('Pre-Rinse Spray Valves'!DH16,'Floor Space'!$I$5:$I$50,0),MATCH('Pre-Rinse Spray Valves'!DH$10,'Floor Space'!$I$5:$DK$5,0))*'Pre-Rinse Spray Valves'!DO16","v":32.153504517684873},247.66586933245134,1168.2814826104163,5.7664451704165351,2.8300953006775265E-2,null,null,1991,220.84990952143227,0,43.988986788559963,{"$f":"INDEX('Floor Space'!$I$5:$DK$50,MATCH('Pre-Rinse Spray Valves'!DS16,'Floor Space'!$I$5:$I$50,0),MATCH('Pre-Rinse Spray Valves'!DS$10,'Floor Space'!$I$5:$DK$5,0))*'Pre-Rinse Spray Valves'!DZ16","v":2.4629261128657105},46.451912901425672,223.31283563429798,5.7664451704165351,1.1152035869983923E-2,null,null,1991,89.368361549704233,0,17.629405296501663,{"$f":"INDEX('Floor Space'!$I$5:$DK$50,MATCH('Pre-Rinse Spray Valves'!ED16,'Floor Space'!$I$5:$I$50,0),MATCH('Pre-Rinse Spray Valves'!ED$10,'Floor Space'!$I$5:$DK$5,0))*'Pre-Rinse Spray Valves'!EK16","v":0.99663917364399113},18.626044470145654,90.365000723348217,5.7664451704165351,1.1152035869983923E-2,null,null,1991,205.86859696901166,0,40.704413141864414,{"$f":"INDEX('Floor Space'!$I$5:$DK$50,MATCH('Pre-Rinse Spray Valves'!EO16,'Floor Space'!$I$5:$I$50,0),MATCH('Pre-Rinse Spray Valves'!EO$10,'Floor Space'!$I$5:$DK$5,0))*'Pre-Rinse Spray Valves'!EV16","v":2.7149115835741497},43.419324725438564,208.58350855258581,5.7664451704165351,1.3187594531393287E-2,null,null,1991,655.44899258185183,0,126.25496842502299,{"$f":"INDEX('Floor Space'!$I$5:$DK$50,MATCH('Pre-Rinse Spray Valves'!EZ16,'Floor Space'!$I$5:$I$50,0),MATCH('Pre-Rinse Spray Valves'!EZ$10,'Floor Space'!$I$5:$DK$5,0))*'Pre-Rinse Spray Valves'!FG16","v":8.3263893064809125},134.58135773150391,663.77538188833273,5.7664451704165351,1.2703336797700748E-2,null,null,1991,239.21535298882029,0,45.92563817734662,{"$f":"INDEX('Floor Space'!$I$5:$DK$50,MATCH('Pre-Rinse Spray Valves'!FK16,'Floor Space'!$I$5:$I$50,0),MATCH('Pre-Rinse Spray Valves'!FK$10,'Floor Space'!$I$5:$DK$5,0))*'Pre-Rinse Spray Valves'!FR16","v":3.8752681343187834},49.8009063116654,243.09062112313907,5.7664451704165351,1.6199913951592704E-2,null,null,1991,520.12601132197005,0,99.154819567099608,{"$f":"INDEX('Floor Space'!$I$5:$DK$50,MATCH('Pre-Rinse Spray Valves'!FV16,'Floor Space'!$I$5:$I$50,0),MATCH('Pre-Rinse Spray Valves'!FV$10,'Floor Space'!$I$5:$DK$5,0))*'Pre-Rinse Spray Valves'!GC16","v":8.0309533997373919},107.18577296683699,528.15696472170748,5.7664451704165351,1.5440399489588419E-2,null,null,1991,746.15843867017509,0,143.12872335334984,{"$f":"INDEX('Floor Space'!$I$5:$DK$50,MATCH('Pre-Rinse Spray Valves'!GG16,'Floor Space'!$I$5:$I$50,0),MATCH('Pre-Rinse Spray Valves'!GG$10,'Floor Space'!$I$5:$DK$5,0))*'Pre-Rinse Spray Valves'!GN16","v":16.629979011389224},159.75870236473907,762.78841768156428,5.7664451704165351,2.2287463559385046E-2,null,null,1991,1452.9398581973305,0,274.51753529092173,{"$f":"INDEX('Floor Space'!$I$5:$DK$50,MATCH('Pre-Rinse Spray Valves'!GR16,'Floor Space'!$I$5:$I$50,0),MATCH('Pre-Rinse Spray Valves'!GR$10,'Floor Space'!$I$5:$DK$5,0))*'Pre-Rinse Spray Valves'!GY16","v":33.098310263867653},307.61584555478936,1486.0381684611982,5.7664451704165351,2.278023421074904E-2]
[null,1992,11005.778720859422,0,2105.7883547601705,203.60203809961564,2309.3903928597861,11209.380758959036,5.7664451704165351,1.8499557665440314E-2,null,null,1992,1051.4454589314591,0,201.77182494869547,{"$f":"INDEX('Floor Space'!$I$5:$DK$54,MATCH('Pre-Rinse Spray Valves'!M17,'Floor Space'!$I$5:$I$54,0),MATCH('Pre-Rinse Spray Valves'!M$10,'Floor Space'!$I$5:$DK$5,0))*'Pre-Rinse Spray Valves'!T17","v":12.257942742964515},214.02976769165997,1063.7034016744237,5.7664451704165351,1.165818220892012E-2,null,null,1992,473.7192660942074,0,90.906475482163586,{"$f":"INDEX('Floor Space'!$I$5:$DK$50,MATCH('Pre-Rinse Spray Valves'!X17,'Floor Space'!$I$5:$I$50,0),MATCH('Pre-Rinse Spray Valves'!X$10,'Floor Space'!$I$5:$DK$5,0))*'Pre-Rinse Spray Valves'!AE17","v":5.5227055200021535},96.429181002165734,479.24197161420955,5.7664451704165351,1.165818220892012E-2,null,null,1992,555.84841037642559,0,106.66701463570053,{"$f":"INDEX('Floor Space'!$I$5:$DK$50,MATCH('Pre-Rinse Spray Valves'!AI17,'Floor Space'!$I$5:$I$50,0),MATCH('Pre-Rinse Spray Valves'!AI$10,'Floor Space'!$I$5:$DK$5,0))*'Pre-Rinse Spray Valves'!AP17","v":6.4801820487069381},113.14719668440746,562.32859242513257,5.7664451704165351,1.165818220892012E-2,null,null,1992,508.53168978029379,0,97.116374756989757,{"$f":"INDEX('Floor Space'!$I$5:$DK$50,MATCH('Pre-Rinse Spray Valves'!AT17,'Floor Space'!$I$5:$I$50,0),MATCH('Pre-Rinse Spray Valves'!AT$10,'Floor Space'!$I$5:$DK$5,0))*'Pre-Rinse Spray Valves'!BA17","v":7.0714264921798922},104.18780124916965,515.6031162724737,5.7664451704165351,1.3905576848583623E-2,null,null,1992,939.24955439986684,0,179.3723253605734,{"$f":"INDEX('Floor Space'!$I$5:$DK$50,MATCH('Pre-Rinse Spray Valves'!BE17,'Floor Space'!$I$5:$I$50,0),MATCH('Pre-Rinse Spray Valves'!BE$10,'Floor Space'!$I$5:$DK$5,0))*'Pre-Rinse Spray Valves'!BL17","v":13.060806858705149},192.43313221927855,952.31036125857202,5.7664451704165351,1.3905576848583623E-2,null,null,1992,234.81238859996671,0,44.84308134014335,{"$f":"INDEX('Floor Space'!$I$5:$DK$50,MATCH('Pre-Rinse Spray Valves'!BP17,'Floor Space'!$I$5:$I$50,0),MATCH('Pre-Rinse Spray Valves'!BP$10,'Floor Space'!$I$5:$DK$5,0))*'Pre-Rinse Spray Valves'!BW17","v":3.2652017146762873},48.108283054819637,238.077590314643,5.7664451704165351,1.3905576848583623E-2,null,null,1992,453.35644224487498,0,86.579332278330241,{"$f":"INDEX('Floor Space'!$I$5:$DK$50,MATCH('Pre-Rinse Spray Valves'!CA17,'Floor Space'!$I$5:$I$50,0),MATCH('Pre-Rinse Spray Valves'!CA$10,'Floor Space'!$I$5:$DK$5,0))*'Pre-Rinse Spray Valves'!CH17","v":6.3041828474365094},92.883515125766749,459.66062509231148,5.7664451704165351,1.3905576848583401E-2,null,null,1992,938.26208069803261,0,179.31317323343558,{"$f":"INDEX('Floor Space'!$I$5:$DK$50,MATCH('Pre-Rinse Spray Valves'!CL17,'Floor Space'!$I$5:$I$50,0),MATCH('Pre-Rinse Spray Valves'!CL$10,'Floor Space'!$I$5:$DK$5,0))*'Pre-Rinse Spray Valves'!CS17","v":26.012379036533165},205.32555226996874,964.27445973456577,5.7664451704165351,2.772400118438223E-2,null,null,1992,476.16104833770481,0,91.756337991478063,{"$f":"INDEX('Floor Space'!$I$5:$DK$50,MATCH('Pre-Rinse Spray Valves'!CW17,'Floor Space'!$I$5:$I$50,0),MATCH('Pre-Rinse Spray Valves'!CW$10,'Floor Space'!$I$5:$DK$5,0))*'Pre-Rinse Spray Valves'!DD17","v":13.400316473365569},105.15665446484363,489.5613648110704,5.7664451704165351,2.8142403752147604E-2,null,null,1992,1168.2814826104163,0,221.61157012376816,{"$f":"INDEX('Floor Space'!$I$5:$DK$50,MATCH('Pre-Rinse Spray Valves'!DH17,'Floor Space'!$I$5:$I$50,0),MATCH('Pre-Rinse Spray Valves'!DH$10,'Floor Space'!$I$5:$DK$5,0))*'Pre-Rinse Spray Valves'!DO17","v":30.170421140356044},251.7819912641242,1198.4519037507723,5.7664451704165351,2.5824616404038991E-2,null,null,1992,223.31283563429798,0,44.479553547110235,{"$f":"INDEX('Floor Space'!$I$5:$DK$50,MATCH('Pre-Rinse Spray Valves'!DS17,'Floor Space'!$I$5:$I$50,0),MATCH('Pre-Rinse Spray Valves'!DS$10,'Floor Space'!$I$5:$DK$5,0))*'Pre-Rinse Spray Valves'!DZ17","v":3.9697153323757157},48.449268879485949,227.28255096667371,5.7664451704165351,1.7776476310016553E-2,null,null,1992,90.365000723348217,0,17.82600905673473,{"$f":"INDEX('Floor Space'!$I$5:$DK$50,MATCH('Pre-Rinse Spray Valves'!ED17,'Floor Space'!$I$5:$I$50,0),MATCH('Pre-Rinse Spray Valves'!ED$10,'Floor Space'!$I$5:$DK$5,0))*'Pre-Rinse Spray Valves'!EK17","v":1.6063712946132274},19.432380351347959,91.971372017961443,5.7664451704165351,1.7776476310016553E-2,null,null,1992,208.58350855258581,0,41.241206438017642,{"$f":"INDEX('Floor Space'!$I$5:$DK$50,MATCH('Pre-Rinse Spray Valves'!EO17,'Floor Space'!$I$5:$I$50,0),MATCH('Pre-Rinse Spray Valves'!EO$10,'Floor Space'!$I$5:$DK$5,0))*'Pre-Rinse Spray Valves'!EV17","v":2.2375306536960462},43.47873709171369,210.82103920628185,5.7664451704165351,1.0727265397072028E-2,null,null,1992,663.77538188833273,0,127.85882781130913,{"$f":"INDEX('Floor Space'!$I$5:$DK$50,MATCH('Pre-Rinse Spray Valves'!EZ17,'Floor Space'!$I$5:$I$50,0),MATCH('Pre-Rinse Spray Valves'!EZ$10,'Floor Space'!$I$5:$DK$5,0))*'Pre-Rinse Spray Valves'!FG17","v":5.1474518800433424},133.00627969135246,668.92283376837611,5.7664451704165351,7.7548098656501363E-3,null,null,1992,243.09062112313907,0,46.66962956399162,{"$f":"INDEX('Floor Space'!$I$5:$DK$50,MATCH('Pre-Rinse Spray Valves'!FK17,'Floor Space'!$I$5:$I$50,0),MATCH('Pre-Rinse Spray Valves'!FK$10,'Floor Space'!$I$5:$DK$5,0))*'Pre-Rinse Spray Valves'!FR17","v":7.0401251472023514},53.709754711193973,250.13074627034143,5.7664451704165351,2.8960908136542729E-2,null,null,1992,528.15696472170748,0,100.6858095925337,{"$f":"INDEX('Floor Space'!$I$5:$DK$50,MATCH('Pre-Rinse Spray Valves'!FV17,'Floor Space'!$I$5:$I$50,0),MATCH('Pre-Rinse Spray Valves'!FV$10,'Floor Space'!$I$5:$DK$5,0))*'Pre-Rinse Spray Valves'!GC17","v":14.458139678008783},115.14394927054248,542.6151043997163,5.7664451704165351,2.7374702302045639E-2,null,null,1992,762.78841768156428,0,146.31869955938893,{"$f":"INDEX('Floor Space'!$I$5:$DK$50,MATCH('Pre-Rinse Spray Valves'!GG17,'Floor Space'!$I$5:$I$50,0),MATCH('Pre-Rinse Spray Valves'!GG$10,'Floor Space'!$I$5:$DK$5,0))*'Pre-Rinse Spray Valves'!GN17","v":15.079215984807686},161.39791554419662,777.86763366637194,5.7664451704165351,1.9768543458800414E-2,null,null,1992,1486.0381684611982,0,280.7711090398065,{"$f":"INDEX('Floor Space'!$I$5:$DK$50,MATCH('Pre-Rinse Spray Valves'!GR17,'Floor Space'!$I$5:$I$50,0),MATCH('Pre-Rinse Spray Valves'!GR$10,'Floor Space'!$I$5:$DK$5,0))*'Pre-Rinse Spray Valves'!GY17","v":30.517923253942264},311.28903229374879,1516.5560917151404,5.7664451704165351,2.0536432981087982E-2]
[null,1993,11209.380758959036,0,2144.700674050549,210.59846496270279,2355.299139013252,11419.979223921739,5.7664451704165351,1.8787698401125486E-2,null,null,1993,1063.7034016744237,0,204.1241176485737,{"$f":"INDEX('Floor Space'!$I$5:$DK$54,MATCH('Pre-Rinse Spray Valves'!M18,'Floor Space'!$I$5:$I$54,0),MATCH('Pre-Rinse Spray Valves'!M$10,'Floor Space'!$I$5:$DK$5,0))*'Pre-Rinse Spray Valves'!T18","v":10.932890774012332},215.05700842258602,1074.6362924484361,5.7664451704165351,1.027813839534808E-2,null,null,1993,479.24197161420955,0,91.966279737305371,{"$f":"INDEX('Floor Space'!$I$5:$DK$50,MATCH('Pre-Rinse Spray Valves'!X18,'Floor Space'!$I$5:$I$50,0),MATCH('Pre-Rinse Spray Valves'!X$10,'Floor Space'!$I$5:$DK$5,0))*'Pre-Rinse Spray Valves'!AE18","v":4.9257153091103572},96.89199504641573,484.16768692331988,5.7664451704165351,1.027813839534808E-2,null,null,1993,562.32859242513257,0,107.91055812800508,{"$f":"INDEX('Floor Space'!$I$5:$DK$50,MATCH('Pre-Rinse Spray Valves'!AI18,'Floor Space'!$I$5:$I$50,0),MATCH('Pre-Rinse Spray Valves'!AI$10,'Floor Space'!$I$5:$DK$5,0))*'Pre-Rinse Spray Valves'!AP18","v":5.7796910966068378},113.69024922461192,568.10828352173939,5.7664451704165351,1.027813839534808E-2,null,null,1993,515.6031162724737,0,98.466833969428905,{"$f":"INDEX('Floor Space'!$I$5:$DK$50,MATCH('Pre-Rinse Spray Valves'!AT18,'Floor Space'!$I$5:$I$50,0),MATCH('Pre-Rinse Spray Valves'!AT$10,'Floor Space'!$I$5:$DK$5,0))*'Pre-Rinse Spray Valves'!BA18","v":10.805367513880416},109.27220148330932,526.40848378635417,5.7664451704165351,2.0956753698459618E-2,null,null,1993,952.31036125857202,0,181.86660101538396,{"$f":"INDEX('Floor Space'!$I$5:$DK$50,MATCH('Pre-Rinse Spray Valves'!BE18,'Floor Space'!$I$5:$I$50,0),MATCH('Pre-Rinse Spray Valves'!BE$10,'Floor Space'!$I$5:$DK$5,0))*'Pre-Rinse Spray Valves'!BL18","v":19.957333685386907},201.82393470077088,972.26769494395887,5.7664451704165351,2.0956753698459396E-2,null,null,1993,238.077590314643,0,45.466650253845991,{"$f":"INDEX('Floor Space'!$I$5:$DK$50,MATCH('Pre-Rinse Spray Valves'!BP18,'Floor Space'!$I$5:$I$50,0),MATCH('Pre-Rinse Spray Valves'!BP$10,'Floor Space'!$I$5:$DK$5,0))*'Pre-Rinse Spray Valves'!BW18","v":4.9893334213467266},50.455983675192719,243.06692373598972,5.7664451704165351,2.0956753698459396E-2,null,null,1993,459.66062509231148,0,87.78326783682563,{"$f":"INDEX('Floor Space'!$I$5:$DK$50,MATCH('Pre-Rinse Spray Valves'!CA18,'Floor Space'!$I$5:$I$50,0),MATCH('Pre-Rinse Spray Valves'!CA$10,'Floor Space'!$I$5:$DK$5,0))*'Pre-Rinse Spray Valves'!CH18","v":9.6329945049395125},97.416262341765147,469.29361959725099,5.7664451704165351,2.0956753698459618E-2,null,null,1993,964.27445973456577,0,184.28445186053466,{"$f":"INDEX('Floor Space'!$I$5:$DK$50,MATCH('Pre-Rinse Spray Valves'!CL18,'Floor Space'!$I$5:$I$50,0),MATCH('Pre-Rinse Spray Valves'!CL$10,'Floor Space'!$I$5:$DK$5,0))*'Pre-Rinse Spray Valves'!CS18","v":22.237177570663921},206.52162943119859,986.51163730522967,5.7664451704165351,2.3061045894324561E-2,null,null,1993,489.5613648110704,0,94.338581902052766,{"$f":"INDEX('Floor Space'!$I$5:$DK$50,MATCH('Pre-Rinse Spray Valves'!CW18,'Floor Space'!$I$5:$I$50,0),MATCH('Pre-Rinse Spray Valves'!CW$10,'Floor Space'!$I$5:$DK$5,0))*'Pre-Rinse Spray Valves'!DD18","v":11.455515718220807},105.79409762027358,501.0168805292912,5.7664451704165351,2.3399550172104933E-2,null,null,1993,1198.4519037507723,0,227.33460391291132,{"$f":"INDEX('Floor Space'!$I$5:$DK$50,MATCH('Pre-Rinse Spray Valves'!DH18,'Floor Space'!$I$5:$I$50,0),MATCH('Pre-Rinse Spray Valves'!DH$10,'Floor Space'!$I$5:$DK$5,0))*'Pre-Rinse Spray Valves'!DO18","v":25.242867457085882},252.5774713699972,1223.6947712078581,5.7664451704165351,2.1062895705771467E-2,null,null,1993,227.28255096667371,0,45.270243277020548,{"$f":"INDEX('Floor Space'!$I$5:$DK$50,MATCH('Pre-Rinse Spray Valves'!DS18,'Floor Space'!$I$5:$I$50,0),MATCH('Pre-Rinse Spray Valves'!DS$10,'Floor Space'!$I$5:$DK$5,0))*'Pre-Rinse Spray Valves'!DZ18","v":5.6736294372178149},50.94387271423836,232.95618040389152,5.7664451704165351,2.496289052145384E-2,null,null,1993,91.971372017961443,0,18.142892684433917,{"$f":"INDEX('Floor Space'!$I$5:$DK$50,MATCH('Pre-Rinse Spray Valves'!ED18,'Floor Space'!$I$5:$I$50,0),MATCH('Pre-Rinse Spray Valves'!ED$10,'Floor Space'!$I$5:$DK$5,0))*'Pre-Rinse Spray Valves'!EK18","v":2.2958712907922694},20.438763975226188,94.267243308753706,5.7664451704165351,2.4962890521453618E-2,null,null,1993,210.82103920628185,0,41.68361180477369,{"$f":"INDEX('Floor Space'!$I$5:$DK$50,MATCH('Pre-Rinse Spray Valves'!EO18,'Floor Space'!$I$5:$I$50,0),MATCH('Pre-Rinse Spray Valves'!EO$10,'Floor Space'!$I$5:$DK$5,0))*'Pre-Rinse Spray Valves'!EV18","v":2.2339900563614106},43.917601861135104,213.05502926264327,5.7664451704165351,1.0596618178015493E-2,null,null,1993,668.92283376837611,0,128.85034871063075,{"$f":"INDEX('Floor Space'!$I$5:$DK$50,MATCH('Pre-Rinse Spray Valves'!EZ18,'Floor Space'!$I$5:$I$50,0),MATCH('Pre-Rinse Spray Valves'!EZ$10,'Floor Space'!$I$5:$DK$5,0))*'Pre-Rinse Spray Valves'!FG18","v":7.7503906312983428},136.60073934192908,676.6732243996745,5.7664451704165351,1.1586374750636841E-2,null,null,1993,250.13074627034143,0,48.021224418560863,{"$f":"INDEX('Floor Space'!$I$5:$DK$50,MATCH('Pre-Rinse Spray Valves'!FK18,'Floor Space'!$I$5:$I$50,0),MATCH('Pre-Rinse Spray Valves'!FK$10,'Floor Space'!$I$5:$DK$5,0))*'Pre-Rinse Spray Valves'!FR18","v":5.3951313795691878},53.416355798130049,255.52587764991063,5.7664451704165351,2.1569245124860137E-2,null,null,1993,542.6151043997163,0,103.44205365616975,{"$f":"INDEX('Floor Space'!$I$5:$DK$50,MATCH('Pre-Rinse Spray Valves'!FV18,'Floor Space'!$I$5:$I$50,0),MATCH('Pre-Rinse Spray Valves'!FV$10,'Floor Space'!$I$5:$DK$5,0))*'Pre-Rinse Spray Valves'!GC18","v":11.310421739592286},114.75247539576203,553.92552613930854,5.7664451704165351,2.0844281052781799E-2,null,null,1993,777.86763366637194,0,149.21120713046386,{"$f":"INDEX('Floor Space'!$I$5:$DK$50,MATCH('Pre-Rinse Spray Valves'!GG18,'Floor Space'!$I$5:$I$50,0),MATCH('Pre-Rinse Spray Valves'!GG$10,'Floor Space'!$I$5:$DK$5,0))*'Pre-Rinse Spray Valves'!GN18","v":16.145598837992136},165.356805968456,794.01323250436405,5.7664451704165351,2.0756229131031034E-2,null,null,1993,1516.5560917151404,0,286.53714610362823,{"$f":"INDEX('Floor Space'!$I$5:$DK$50,MATCH('Pre-Rinse Spray Valves'!GR18,'Floor Space'!$I$5:$I$50,0),MATCH('Pre-Rinse Spray Valves'!GR$10,'Floor Space'!$I$5:$DK$5,0))*'Pre-Rinse Spray Valves'!GY18","v":33.83454453862565},320.3716906422539,1550.3906362537659,5.7664451704165351,2.2310117458537615E-2]
[null,1994,11419.979223921739,0,2184.9652989880437,242.28885279141585,2427.2541517794593,11662.268076713155,5.7664451704165351,2.121622535738843E-2,null,null,1994,1074.6362924484361,0,206.2221335795941,{"$f":"INDEX('Floor Space'!$I$5:$DK$54,MATCH('Pre-Rinse Spray Valves'!M19,'Floor Space'!$I$5:$I$54,0),MATCH('Pre-Rinse Spray Valves'!M$10,'Floor Space'!$I$5:$DK$5,0))*'Pre-Rinse Spray Valves'!T19","v":17.146310929378387},223.36844450897249,1091.7826033778144,5.7664451704165351,1.5955454929139412E-2,null,null,1994,484.16768692331988,0,92.911521888150702,{"$f":"INDEX('Floor Space'!$I$5:$DK$50,MATCH('Pre-Rinse Spray Valves'!X19,'Floor Space'!$I$5:$I$50,0),MATCH('Pre-Rinse Spray Valves'!X$10,'Floor Space'!$I$5:$DK$5,0))*'Pre-Rinse Spray Valves'!AE19","v":7.7251157068506622},100.63663759500136,491.89280263017054,5.7664451704165351,1.5955454929139412E-2,null,null,1994,568.10828352173939,0,109.01967777876398,{"$f":"INDEX('Floor Space'!$I$5:$DK$50,MATCH('Pre-Rinse Spray Valves'!AI19,'Floor Space'!$I$5:$I$50,0),MATCH('Pre-Rinse Spray Valves'!AI$10,'Floor Space'!$I$5:$DK$5,0))*'Pre-Rinse Spray Valves'!AP19","v":9.064426112601808},118.08410389136579,577.17270963434123,5.7664451704165351,1.5955454929139412E-2,null,null,1994,526.40848378635417,0,100.53037915639334,{"$f":"INDEX('Floor Space'!$I$5:$DK$50,MATCH('Pre-Rinse Spray Valves'!AT19,'Floor Space'!$I$5:$I$50,0),MATCH('Pre-Rinse Spray Valves'!AT$10,'Floor Space'!$I$5:$DK$5,0))*'Pre-Rinse Spray Valves'!BA19","v":14.324326872966006},114.85470602935935,540.73281065932019,5.7664451704165351,2.7211428603760135E-2,null,null,1994,972.26769494395887,0,185.67793457883934,{"$f":"INDEX('Floor Space'!$I$5:$DK$50,MATCH('Pre-Rinse Spray Valves'!BE19,'Floor Space'!$I$5:$I$50,0),MATCH('Pre-Rinse Spray Valves'!BE$10,'Floor Space'!$I$5:$DK$5,0))*'Pre-Rinse Spray Valves'!BL19","v":26.456792964710001},212.13472754354933,998.72448790866883,5.7664451704165351,2.7211428603760135E-2,null,null,1994,243.06692373598972,0,46.419483644709835,{"$f":"INDEX('Floor Space'!$I$5:$DK$50,MATCH('Pre-Rinse Spray Valves'!BP19,'Floor Space'!$I$5:$I$50,0),MATCH('Pre-Rinse Spray Valves'!BP$10,'Floor Space'!$I$5:$DK$5,0))*'Pre-Rinse Spray Valves'!BW19","v":6.6141982411775002},53.033681885887333,249.68112197716721,5.7664451704165351,2.7211428603760135E-2,null,null,1994,469.29361959725099,0,89.622920159727883,{"$f":"INDEX('Floor Space'!$I$5:$DK$50,MATCH('Pre-Rinse Spray Valves'!CA19,'Floor Space'!$I$5:$I$50,0),MATCH('Pre-Rinse Spray Valves'!CA$10,'Floor Space'!$I$5:$DK$5,0))*'Pre-Rinse Spray Valves'!CH19","v":12.770149823870771},102.39306998359865,482.06376942112178,5.7664451704165351,2.7211428603760135E-2,null,null,1994,986.51163730522967,0,188.53424406250093,{"$f":"INDEX('Floor Space'!$I$5:$DK$50,MATCH('Pre-Rinse Spray Valves'!CL19,'Floor Space'!$I$5:$I$50,0),MATCH('Pre-Rinse Spray Valves'!CL$10,'Floor Space'!$I$5:$DK$5,0))*'Pre-Rinse Spray Valves'!CS19","v":21.435390736282205},209.96963479878315,1007.9470280415119,5.7664451704165351,2.1728472250804209E-2,null,null,1994,501.0168805292912,0,96.546062282435059,{"$f":"INDEX('Floor Space'!$I$5:$DK$50,MATCH('Pre-Rinse Spray Valves'!CW19,'Floor Space'!$I$5:$I$50,0),MATCH('Pre-Rinse Spray Valves'!CW$10,'Floor Space'!$I$5:$DK$5,0))*'Pre-Rinse Spray Valves'!DD19","v":11.042474015660531},107.58853629809559,512.0593545449517,5.7664451704165351,2.2040123686041913E-2,null,null,1994,1223.6947712078581,0,232.12292896544184,{"$f":"INDEX('Floor Space'!$I$5:$DK$50,MATCH('Pre-Rinse Spray Valves'!DH19,'Floor Space'!$I$5:$I$50,0),MATCH('Pre-Rinse Spray Valves'!DH$10,'Floor Space'!$I$5:$DK$5,0))*'Pre-Rinse Spray Valves'!DO19","v":34.659391690143693},266.78232065558552,1258.3541628980017,5.7664451704165351,2.832355952288057E-2,null,null,1994,232.95618040389152,0,46.40031940382439,{"$f":"INDEX('Floor Space'!$I$5:$DK$50,MATCH('Pre-Rinse Spray Valves'!DS19,'Floor Space'!$I$5:$I$50,0),MATCH('Pre-Rinse Spray Valves'!DS$10,'Floor Space'!$I$5:$DK$5,0))*'Pre-Rinse Spray Valves'!DZ19","v":7.2624197399593582},53.662739143783746,240.21860014385089,5.7664451704165351,3.117504642876634E-2,null,null,1994,94.267243308753706,0,18.595791728257925,{"$f":"INDEX('Floor Space'!$I$5:$DK$50,MATCH('Pre-Rinse Spray Valves'!ED19,'Floor Space'!$I$5:$I$50,0),MATCH('Pre-Rinse Spray Valves'!ED$10,'Floor Space'!$I$5:$DK$5,0))*'Pre-Rinse Spray Valves'!EK19","v":2.9387856868621993},21.534577415120125,97.20602899561591,5.7664451704165351,3.117504642876634E-2,null,null,1994,213.05502926264327,0,42.125317123349497,{"$f":"INDEX('Floor Space'!$I$5:$DK$50,MATCH('Pre-Rinse Spray Valves'!EO19,'Floor Space'!$I$5:$I$50,0),MATCH('Pre-Rinse Spray Valves'!EO$10,'Floor Space'!$I$5:$DK$5,0))*'Pre-Rinse Spray Valves'!EV19","v":2.7673055043925543},44.89262262774205,215.82233476703584,5.7664451704165351,1.2988688950314131E-2,null,null,1994,676.6732243996745,0,130.34325713754234,{"$f":"INDEX('Floor Space'!$I$5:$DK$50,MATCH('Pre-Rinse Spray Valves'!EZ19,'Floor Space'!$I$5:$I$50,0),MATCH('Pre-Rinse Spray Valves'!EZ$10,'Floor Space'!$I$5:$DK$5,0))*'Pre-Rinse Spray Valves'!FG19","v":8.6487105257265124},138.99196766326884,685.32193492540102,5.7664451704165351,1.2781221738749071E-2,null,null,1994,255.52587764991063,0,49.057005979240721,{"$f":"INDEX('Floor Space'!$I$5:$DK$50,MATCH('Pre-Rinse Spray Valves'!FK19,'Floor Space'!$I$5:$I$50,0),MATCH('Pre-Rinse Spray Valves'!FK$10,'Floor Space'!$I$5:$DK$5,0))*'Pre-Rinse Spray Valves'!FR19","v":5.426477268068397},54.483483247309117,260.95235491797905,5.7664451704165351,2.1236507699244012E-2,null,null,1994,553.92552613930854,0,105.59822889525589,{"$f":"INDEX('Floor Space'!$I$5:$DK$50,MATCH('Pre-Rinse Spray Valves'!FV19,'Floor Space'!$I$5:$I$50,0),MATCH('Pre-Rinse Spray Valves'!FV$10,'Floor Space'!$I$5:$DK$5,0))*'Pre-Rinse Spray Valves'!GC19","v":11.185474913086875},116.78370380834276,565.11100105239541,5.7664451704165351,2.0193102475428715E-2,null,null,1994,794.01323250436405,0,152.30826913458154,{"$f":"INDEX('Floor Space'!$I$5:$DK$50,MATCH('Pre-Rinse Spray Valves'!GG19,'Floor Space'!$I$5:$I$50,0),MATCH('Pre-Rinse Spray Valves'!GG$10,'Floor Space'!$I$5:$DK$5,0))*'Pre-Rinse Spray Valves'!GN19","v":13.981152054289971},166.2894211888715,807.99438455865402,5.7664451704165351,1.7608210394923329E-2,null,null,1994,1550.3906362537659,0,292.92982348943434,{"$f":"INDEX('Floor Space'!$I$5:$DK$50,MATCH('Pre-Rinse Spray Valves'!GR19,'Floor Space'!$I$5:$I$50,0),MATCH('Pre-Rinse Spray Valves'!GR$10,'Floor Space'!$I$5:$DK$5,0))*'Pre-Rinse Spray Valves'!GY19","v":28.839950005388449},321.7697734948228,1579.2305862591543,5.7664451704165351,1.8601731286945089E-2]
[null,1995,11662.268076713155,0,2231.3110009414581,296.12570051689028,2527.4367014583486,11958.393777230045,5.7664451704165351,2.5391776159577661E-2,null,null,1995,1091.7826033778144,0,209.51250153731428,{"$f":"INDEX('Floor Space'!$I$5:$DK$54,MATCH('Pre-Rinse Spray Valves'!M20,'Floor Space'!$I$5:$I$54,0),MATCH('Pre-Rinse Spray Valves'!M$10,'Floor Space'!$I$5:$DK$5,0))*'Pre-Rinse Spray Valves'!T20","v":21.447421369468795},230.95992290678308,1113.2300247472833,5.7664451704165351,1.9644406590756835E-2,null,null,1995,491.89280263017054,0,94.393967488034818,{"$f":"INDEX('Floor Space'!$I$5:$DK$50,MATCH('Pre-Rinse Spray Valves'!X20,'Floor Space'!$I$5:$I$50,0),MATCH('Pre-Rinse Spray Valves'!X$10,'Floor Space'!$I$5:$DK$5,0))*'Pre-Rinse Spray Valves'!AE20","v":9.6629422139339756},104.05690970196879,501.55574484410454,5.7664451704165351,1.9644406590756835E-2,null,null,1995,577.17270963434123,0,110.75913633395234,{"$f":"INDEX('Floor Space'!$I$5:$DK$50,MATCH('Pre-Rinse Spray Valves'!AI20,'Floor Space'!$I$5:$I$50,0),MATCH('Pre-Rinse Spray Valves'!AI$10,'Floor Space'!$I$5:$DK$5,0))*'Pre-Rinse Spray Valves'!AP20","v":11.338215381145835},122.09735171509817,588.51092501548703,5.7664451704165351,1.9644406590756835E-2,null,null,1995,540.73281065932019,0,103.26595439131647,{"$f":"INDEX('Floor Space'!$I$5:$DK$50,MATCH('Pre-Rinse Spray Valves'!AT20,'Floor Space'!$I$5:$I$50,0),MATCH('Pre-Rinse Spray Valves'!AT$10,'Floor Space'!$I$5:$DK$5,0))*'Pre-Rinse Spray Valves'!BA20","v":13.158125451817751},116.42407984313422,553.89093611113799,5.7664451704165351,2.4333876532800058E-2,null,null,1995,998.72448790866883,0,190.73049643892509,{"$f":"INDEX('Floor Space'!$I$5:$DK$50,MATCH('Pre-Rinse Spray Valves'!BE20,'Floor Space'!$I$5:$I$50,0),MATCH('Pre-Rinse Spray Valves'!BE$10,'Floor Space'!$I$5:$DK$5,0))*'Pre-Rinse Spray Valves'!BL20","v":24.302838379053348},215.03333481797844,1023.0273262877222,5.7664451704165351,2.4333876532799836E-2,null,null,1995,249.68112197716721,0,47.682624109731272,{"$f":"INDEX('Floor Space'!$I$5:$DK$50,MATCH('Pre-Rinse Spray Valves'!BP20,'Floor Space'!$I$5:$I$50,0),MATCH('Pre-Rinse Spray Valves'!BP$10,'Floor Space'!$I$5:$DK$5,0))*'Pre-Rinse Spray Valves'!BW20","v":6.0757095947633371},53.758333704494611,255.75683157193055,5.7664451704165351,2.4333876532799836E-2,null,null,1995,482.06376942112178,0,92.061687852914815,{"$f":"INDEX('Floor Space'!$I$5:$DK$50,MATCH('Pre-Rinse Spray Valves'!CA20,'Floor Space'!$I$5:$I$50,0),MATCH('Pre-Rinse Spray Valves'!CA$10,'Floor Space'!$I$5:$DK$5,0))*'Pre-Rinse Spray Valves'!CH20","v":11.730480246029691},103.7921680989445,493.79424966715146,5.7664451704165351,2.4333876532799836E-2,null,null,1995,1007.9470280415119,0,192.63080515293933,{"$f":"INDEX('Floor Space'!$I$5:$DK$50,MATCH('Pre-Rinse Spray Valves'!CL20,'Floor Space'!$I$5:$I$50,0),MATCH('Pre-Rinse Spray Valves'!CL$10,'Floor Space'!$I$5:$DK$5,0))*'Pre-Rinse Spray Valves'!CS20","v":28.295929382556235},220.92673453549557,1036.2429574240682,5.7664451704165351,2.8072833785260265E-2,null,null,1995,512.0593545449517,0,98.673949436540255,{"$f":"INDEX('Floor Space'!$I$5:$DK$50,MATCH('Pre-Rinse Spray Valves'!CW20,'Floor Space'!$I$5:$I$50,0),MATCH('Pre-Rinse Spray Valves'!CW$10,'Floor Space'!$I$5:$DK$5,0))*'Pre-Rinse Spray Valves'!DD20","v":14.57669089404412},113.25064033058437,526.63604543899578,5.7664451704165351,2.8466799336178239E-2,null,null,1995,1258.3541628980017,0,238.69747656061995,{"$f":"INDEX('Floor Space'!$I$5:$DK$50,MATCH('Pre-Rinse Spray Valves'!DH20,'Floor Space'!$I$5:$I$50,0),MATCH('Pre-Rinse Spray Valves'!DH$10,'Floor Space'!$I$5:$DK$5,0))*'Pre-Rinse Spray Valves'!DO20","v":56.022698632586398},294.72017519320633,1314.376861530588,5.7664451704165351,4.4520612943788063E-2,null,null,1995,240.21860014385089,0,47.846851515548202,{"$f":"INDEX('Floor Space'!$I$5:$DK$50,MATCH('Pre-Rinse Spray Valves'!DS20,'Floor Space'!$I$5:$I$50,0),MATCH('Pre-Rinse Spray Valves'!DS$10,'Floor Space'!$I$5:$DK$5,0))*'Pre-Rinse Spray Valves'!DZ20","v":6.5316356970475926},54.378487212595793,246.75023584089848,5.7664451704165351,2.719038281438757E-2,null,null,1995,97.20602899561591,0,19.175516398766035,{"$f":"INDEX('Floor Space'!$I$5:$DK$50,MATCH('Pre-Rinse Spray Valves'!ED20,'Floor Space'!$I$5:$I$50,0),MATCH('Pre-Rinse Spray Valves'!ED$10,'Floor Space'!$I$5:$DK$5,0))*'Pre-Rinse Spray Valves'!EK20","v":2.6430691402572513},21.818585539023285,99.849098135873163,5.7664451704165351,2.719038281438757E-2,null,null,1995,215.82233476703584,0,42.672469764398031,{"$f":"INDEX('Floor Space'!$I$5:$DK$50,MATCH('Pre-Rinse Spray Valves'!EO20,'Floor Space'!$I$5:$I$50,0),MATCH('Pre-Rinse Spray Valves'!EO$10,'Floor Space'!$I$5:$DK$5,0))*'Pre-Rinse Spray Valves'!EV20","v":2.9136694157080667},45.586139180106095,218.7360041827439,5.7664451704165351,1.3500314593728913E-2,null,null,1995,685.32193492540102,0,132.00920320916805,{"$f":"INDEX('Floor Space'!$I$5:$DK$50,MATCH('Pre-Rinse Spray Valves'!EZ20,'Floor Space'!$I$5:$I$50,0),MATCH('Pre-Rinse Spray Valves'!EZ$10,'Floor Space'!$I$5:$DK$5,0))*'Pre-Rinse Spray Valves'!FG20","v":13.12604381251575},145.1352470216838,698.44797873791674,5.7664451704165351,1.9153106217072224E-2,null,null,1995,260.95235491797905,0,50.098805464420735,{"$f":"INDEX('Floor Space'!$I$5:$DK$50,MATCH('Pre-Rinse Spray Valves'!FK20,'Floor Space'!$I$5:$I$50,0),MATCH('Pre-Rinse Spray Valves'!FK$10,'Floor Space'!$I$5:$DK$5,0))*'Pre-Rinse Spray Valves'!FR20","v":5.1507182944430161},55.249523758863752,266.10307321242209,5.7664451704165351,1.9738156017262254E-2,null,null,1995,565.11100105239541,0,107.7305847525616,{"$f":"INDEX('Floor Space'!$I$5:$DK$50,MATCH('Pre-Rinse Spray Valves'!FV20,'Floor Space'!$I$5:$I$50,0),MATCH('Pre-Rinse Spray Valves'!FV$10,'Floor Space'!$I$5:$DK$5,0))*'Pre-Rinse Spray Valves'!GC20","v":10.485159245606193},118.2157439981678,575.59616029800156,5.7664451704165351,1.8554158786645125E-2,null,null,1995,807.99438455865402,0,154.99014518238985,{"$f":"INDEX('Floor Space'!$I$5:$DK$50,MATCH('Pre-Rinse Spray Valves'!GG20,'Floor Space'!$I$5:$I$50,0),MATCH('Pre-Rinse Spray Valves'!GG$10,'Floor Space'!$I$5:$DK$5,0))*'Pre-Rinse Spray Valves'!GN20","v":19.547958106757193},174.53810328914705,827.54234266541118,5.7664451704165351,2.4193185596747435E-2,null,null,1995,1579.2305862591543,0,298.37882535191704,{"$f":"INDEX('Floor Space'!$I$5:$DK$50,MATCH('Pre-Rinse Spray Valves'!GR20,'Floor Space'!$I$5:$I$50,0),MATCH('Pre-Rinse Spray Valves'!GR$10,'Floor Space'!$I$5:$DK$5,0))*'Pre-Rinse Spray Valves'!GY20","v":39.11639525915573},337.4952206110728,1618.34698151831,5.7664451704165351,2.4769274100632677E-2]
[null,1996,11958.393777230045,0,2287.9099194902619,292.83443843578084,2580.7443579260425,12251.228215665828,5.7664451704165351,2.4487773516320255E-2,null,null,1996,1113.2300247472833,0,213.62825030335983,{"$f":"INDEX('Floor Space'!$I$5:$DK$54,MATCH('Pre-Rinse Spray Valves'!M21,'Floor Space'!$I$5:$I$54,0),MATCH('Pre-Rinse Spray Valves'!M$10,'Floor Space'!$I$5:$DK$5,0))*'Pre-Rinse Spray Valves'!T21","v":24.717921589763357},238.3461718931232,1137.9479463370467,5.7664451704165351,2.220378631574782E-2,null,null,1996,501.55574484410454,0,96.248280965084476,{"$f":"INDEX('Floor Space'!$I$5:$DK$50,MATCH('Pre-Rinse Spray Valves'!X21,'Floor Space'!$I$5:$I$50,0),MATCH('Pre-Rinse Spray Valves'!X$10,'Floor Space'!$I$5:$DK$5,0))*'Pre-Rinse Spray Valves'!AE21","v":11.136436583954245},107.38471754903873,512.6921814280588,5.7664451704165351,2.220378631574782E-2,null,null,1996,588.51092501548703,0,112.93493384173756,{"$f":"INDEX('Floor Space'!$I$5:$DK$50,MATCH('Pre-Rinse Spray Valves'!AI21,'Floor Space'!$I$5:$I$50,0),MATCH('Pre-Rinse Spray Valves'!AI$10,'Floor Space'!$I$5:$DK$5,0))*'Pre-Rinse Spray Valves'!AP21","v":13.067170823526975},126.00210466526454,601.57809583901405,5.7664451704165351,2.220378631574782E-2,null,null,1996,553.89093611113799,0,105.77881537551652,{"$f":"INDEX('Floor Space'!$I$5:$DK$50,MATCH('Pre-Rinse Spray Valves'!AT21,'Floor Space'!$I$5:$I$50,0),MATCH('Pre-Rinse Spray Valves'!AT$10,'Floor Space'!$I$5:$DK$5,0))*'Pre-Rinse Spray Valves'!BA21","v":7.1964730525597265},112.97528842807624,561.08740916369777,5.7664451704165351,1.2992581361027655E-2,null,null,1996,1023.0273262877222,0,195.3717087903095,{"$f":"INDEX('Floor Space'!$I$5:$DK$50,MATCH('Pre-Rinse Spray Valves'!BE21,'Floor Space'!$I$5:$I$50,0),MATCH('Pre-Rinse Spray Valves'!BE$10,'Floor Space'!$I$5:$DK$5,0))*'Pre-Rinse Spray Valves'!BL21","v":13.291765771347817},208.66347456165732,1036.31909205907,5.7664451704165351,1.2992581361027655E-2,null,null,1996,255.75683157193055,0,48.842927197577374,{"$f":"INDEX('Floor Space'!$I$5:$DK$50,MATCH('Pre-Rinse Spray Valves'!BP21,'Floor Space'!$I$5:$I$50,0),MATCH('Pre-Rinse Spray Valves'!BP$10,'Floor Space'!$I$5:$DK$5,0))*'Pre-Rinse Spray Valves'!BW21","v":3.3229414428369544},52.165868640414331,259.07977301476751,5.7664451704165351,1.2992581361027655E-2,null,null,1996,493.79424966715146,0,94.301905598528805,{"$f":"INDEX('Floor Space'!$I$5:$DK$50,MATCH('Pre-Rinse Spray Valves'!CA21,'Floor Space'!$I$5:$I$50,0),MATCH('Pre-Rinse Spray Valves'!CA$10,'Floor Space'!$I$5:$DK$5,0))*'Pre-Rinse Spray Valves'!CH21","v":6.4156619644080664},100.71756756293686,500.20991163155952,5.7664451704165351,1.2992581361027655E-2,null,null,1996,1036.2429574240682,0,198.03849772791864,{"$f":"INDEX('Floor Space'!$I$5:$DK$50,MATCH('Pre-Rinse Spray Valves'!CL21,'Floor Space'!$I$5:$I$50,0),MATCH('Pre-Rinse Spray Valves'!CL$10,'Floor Space'!$I$5:$DK$5,0))*'Pre-Rinse Spray Valves'!CS21","v":20.295933328242469},218.33443105616112,1056.5388907523106,5.7664451704165351,1.9586076009331599E-2,null,null,1996,526.63604543899578,0,101.48288095485844,{"$f":"INDEX('Floor Space'!$I$5:$DK$50,MATCH('Pre-Rinse Spray Valves'!CW21,'Floor Space'!$I$5:$I$50,0),MATCH('Pre-Rinse Spray Valves'!CW$10,'Floor Space'!$I$5:$DK$5,0))*'Pre-Rinse Spray Valves'!DD21","v":10.45548080545824},111.93836176031668,537.09152624445403,5.7664451704165351,1.9853333048524435E-2,null,null,1996,1314.376861530588,0,249.32443452523421,{"$f":"INDEX('Floor Space'!$I$5:$DK$50,MATCH('Pre-Rinse Spray Valves'!DH21,'Floor Space'!$I$5:$I$50,0),MATCH('Pre-Rinse Spray Valves'!DH$10,'Floor Space'!$I$5:$DK$5,0))*'Pre-Rinse Spray Valves'!DO21","v":63.860202951074221},313.18463747630841,1378.2370644816622,5.7664451704165351,4.8585915364265597E-2,null,null,1996,246.75023584089848,0,49.147825724719112,{"$f":"INDEX('Floor Space'!$I$5:$DK$50,MATCH('Pre-Rinse Spray Valves'!DS21,'Floor Space'!$I$5:$I$50,0),MATCH('Pre-Rinse Spray Valves'!DS$10,'Floor Space'!$I$5:$DK$5,0))*'Pre-Rinse Spray Valves'!DZ21","v":4.0931397964247349},53.240965521143849,250.84337563732322,5.7664451704165351,1.658819000709677E-2,null,null,1996,99.849098135873163,0,19.696906030312046,{"$f":"INDEX('Floor Space'!$I$5:$DK$50,MATCH('Pre-Rinse Spray Valves'!ED21,'Floor Space'!$I$5:$I$50,0),MATCH('Pre-Rinse Spray Valves'!ED$10,'Floor Space'!$I$5:$DK$5,0))*'Pre-Rinse Spray Valves'!EK21","v":1.6563158119151049},21.35322184222715,101.50541394778827,5.7664451704165351,1.658819000709677E-2,null,null,1996,218.7360041827439,0,43.248561530708791,{"$f":"INDEX('Floor Space'!$I$5:$DK$50,MATCH('Pre-Rinse Spray Valves'!EO21,'Floor Space'!$I$5:$I$50,0),MATCH('Pre-Rinse Spray Valves'!EO$10,'Floor Space'!$I$5:$DK$5,0))*'Pre-Rinse Spray Valves'!EV21","v":2.517802954758972},45.766364485467761,221.25380713750286,5.7664451704165351,1.1510692828856195E-2,null,null,1996,698.44797873791674,0,134.53758949986434,{"$f":"INDEX('Floor Space'!$I$5:$DK$50,MATCH('Pre-Rinse Spray Valves'!EZ21,'Floor Space'!$I$5:$I$50,0),MATCH('Pre-Rinse Spray Valves'!EZ$10,'Floor Space'!$I$5:$DK$5,0))*'Pre-Rinse Spray Valves'!FG21","v":15.730008991011086},150.26759849087543,714.17798772892786,5.7664451704165351,2.2521375205974525E-2,null,null,1996,266.10307321242209,0,51.087663502955941,{"$f":"INDEX('Floor Space'!$I$5:$DK$50,MATCH('Pre-Rinse Spray Valves'!FK21,'Floor Space'!$I$5:$I$50,0),MATCH('Pre-Rinse Spray Valves'!FK$10,'Floor Space'!$I$5:$DK$5,0))*'Pre-Rinse Spray Valves'!FR21","v":4.3887343478501002},55.476397850806038,270.49180756027221,5.7664451704165351,1.649261053196005E-2,null,null,1996,575.59616029800156,0,109.72943512823875,{"$f":"INDEX('Floor Space'!$I$5:$DK$50,MATCH('Pre-Rinse Spray Valves'!FV21,'Floor Space'!$I$5:$I$50,0),MATCH('Pre-Rinse Spray Valves'!FV$10,'Floor Space'!$I$5:$DK$5,0))*'Pre-Rinse Spray Valves'!GC21","v":9.058027612153877},118.78746274039263,584.65418791015543,5.7664451704165351,1.5736775602297692E-2,null,null,1996,827.54234266541118,0,158.73985053045419,{"$f":"INDEX('Floor Space'!$I$5:$DK$50,MATCH('Pre-Rinse Spray Valves'!GG21,'Floor Space'!$I$5:$I$50,0),MATCH('Pre-Rinse Spray Valves'!GG$10,'Floor Space'!$I$5:$DK$5,0))*'Pre-Rinse Spray Valves'!GN21","v":26.978619351387795},185.718469881842,854.52096201679899,5.7664451704165351,3.2600892982095564E-2,null,null,1996,1618.34698151831,0,305.76945226288342,{"$f":"INDEX('Floor Space'!$I$5:$DK$50,MATCH('Pre-Rinse Spray Valves'!GR21,'Floor Space'!$I$5:$I$50,0),MATCH('Pre-Rinse Spray Valves'!GR$10,'Floor Space'!$I$5:$DK$5,0))*'Pre-Rinse Spray Valves'!GY21","v":54.651801257107081},360.4212535199905,1672.9987827754171,5.7664451704165351,3.3770138222047663E-2]
[null,1997,12251.228215665828,0,2343.8178007764518,337.83921431579586,2681.657015092248,12589.067429981622,5.7664451704165351,2.7575946539286189E-2,null,null,1997,1137.9479463370467,0,218.37160632410271,{"$f":"INDEX('Floor Space'!$I$5:$DK$54,MATCH('Pre-Rinse Spray Valves'!M22,'Floor Space'!$I$5:$I$54,0),MATCH('Pre-Rinse Spray Valves'!M$10,'Floor Space'!$I$5:$DK$5,0))*'Pre-Rinse Spray Valves'!T22","v":26.997115164338048},245.36872148844077,1164.9450615013848,5.7664451704165351,2.3724384978451196E-2,null,null,1997,512.6921814280588,0,98.385357228891266,{"$f":"INDEX('Floor Space'!$I$5:$DK$50,MATCH('Pre-Rinse Spray Valves'!X22,'Floor Space'!$I$5:$I$50,0),MATCH('Pre-Rinse Spray Valves'!X$10,'Floor Space'!$I$5:$DK$5,0))*'Pre-Rinse Spray Valves'!AE22","v":12.163306687641233},110.5486639165325,524.85548811570004,5.7664451704165351,2.3724384978451196E-2,null,null,1997,601.57809583901405,0,115.44251698034262,{"$f":"INDEX('Floor Space'!$I$5:$DK$50,MATCH('Pre-Rinse Spray Valves'!AI22,'Floor Space'!$I$5:$I$50,0),MATCH('Pre-Rinse Spray Valves'!AI$10,'Floor Space'!$I$5:$DK$5,0))*'Pre-Rinse Spray Valves'!AP22","v":14.272070340288399},129.71458732063101,615.85016617930251,5.7664451704165351,2.3724384978451418E-2,null,null,1997,561.08740916369777,0,107.15315524055605,{"$f":"INDEX('Floor Space'!$I$5:$DK$50,MATCH('Pre-Rinse Spray Valves'!AT22,'Floor Space'!$I$5:$I$50,0),MATCH('Pre-Rinse Spray Valves'!AT$10,'Floor Space'!$I$5:$DK$5,0))*'Pre-Rinse Spray Valves'!BA22","v":8.9786981080267658},116.13185334858281,570.06610727172449,5.7664451704165351,1.6002316147869955E-2,null,null,1997,1036.31909205907,0,197.91009161241058,{"$f":"INDEX('Floor Space'!$I$5:$DK$50,MATCH('Pre-Rinse Spray Valves'!BE22,'Floor Space'!$I$5:$I$50,0),MATCH('Pre-Rinse Spray Valves'!BE$10,'Floor Space'!$I$5:$DK$5,0))*'Pre-Rinse Spray Valves'!BL22","v":16.583505741202814},214.49359735361338,1052.9025978002728,5.7664451704165351,1.6002316147869955E-2,null,null,1997,259.07977301476751,0,49.477522903102646,{"$f":"INDEX('Floor Space'!$I$5:$DK$50,MATCH('Pre-Rinse Spray Valves'!BP22,'Floor Space'!$I$5:$I$50,0),MATCH('Pre-Rinse Spray Valves'!BP$10,'Floor Space'!$I$5:$DK$5,0))*'Pre-Rinse Spray Valves'!BW22","v":4.1458764353007034},53.623399338403345,263.2256494500682,5.7664451704165351,1.6002316147869955E-2,null,null,1997,500.20991163155952,0,95.527130779517648,{"$f":"INDEX('Floor Space'!$I$5:$DK$50,MATCH('Pre-Rinse Spray Valves'!CA22,'Floor Space'!$I$5:$I$50,0),MATCH('Pre-Rinse Spray Valves'!CA$10,'Floor Space'!$I$5:$DK$5,0))*'Pre-Rinse Spray Valves'!CH22","v":8.004517146226318},103.53164792574397,508.21442877778583,5.7664451704165351,1.6002316147869955E-2,null,null,1997,1056.5388907523106,0,201.91729479719152,{"$f":"INDEX('Floor Space'!$I$5:$DK$50,MATCH('Pre-Rinse Spray Valves'!CL22,'Floor Space'!$I$5:$I$50,0),MATCH('Pre-Rinse Spray Valves'!CL$10,'Floor Space'!$I$5:$DK$5,0))*'Pre-Rinse Spray Valves'!CS22","v":23.478723201369487},225.39601799856101,1080.0176139536802,5.7664451704165351,2.2222299062414574E-2,null,null,1997,537.09152624445403,0,103.497654389179,{"$f":"INDEX('Floor Space'!$I$5:$DK$50,MATCH('Pre-Rinse Spray Valves'!CW22,'Floor Space'!$I$5:$I$50,0),MATCH('Pre-Rinse Spray Valves'!CW$10,'Floor Space'!$I$5:$DK$5,0))*'Pre-Rinse Spray Valves'!DD22","v":12.095099831008524},115.59275422018753,549.18662607546253,5.7664451704165351,2.2519625129038934E-2,null,null,1997,1378.2370644816622,0,261.43809039932063,{"$f":"INDEX('Floor Space'!$I$5:$DK$50,MATCH('Pre-Rinse Spray Valves'!DH22,'Floor Space'!$I$5:$I$50,0),MATCH('Pre-Rinse Spray Valves'!DH$10,'Floor Space'!$I$5:$DK$5,0))*'Pre-Rinse Spray Valves'!DO22","v":65.454054162622541},326.89214456194316,1443.6911186442846,5.7664451704165351,4.7491143468296526E-2,null,null,1997,250.84337563732322,0,49.963099196276424,{"$f":"INDEX('Floor Space'!$I$5:$DK$50,MATCH('Pre-Rinse Spray Valves'!DS22,'Floor Space'!$I$5:$I$50,0),MATCH('Pre-Rinse Spray Valves'!DS$10,'Floor Space'!$I$5:$DK$5,0))*'Pre-Rinse Spray Valves'!DZ22","v":4.7885760420624157},54.751675238338841,255.63195167938562,5.7664451704165351,1.9089904327335594E-2,null,null,1997,101.50541394778827,0,20.023642050094793,{"$f":"INDEX('Floor Space'!$I$5:$DK$50,MATCH('Pre-Rinse Spray Valves'!ED22,'Floor Space'!$I$5:$I$50,0),MATCH('Pre-Rinse Spray Valves'!ED$10,'Floor Space'!$I$5:$DK$5,0))*'Pre-Rinse Spray Valves'!EK22","v":1.9377286409698788},21.961370691064673,103.44314258875815,5.7664451704165351,1.9089904327335594E-2,null,null,1997,221.25380713750286,0,43.746382437778664,{"$f":"INDEX('Floor Space'!$I$5:$DK$50,MATCH('Pre-Rinse Spray Valves'!EO22,'Floor Space'!$I$5:$I$50,0),MATCH('Pre-Rinse Spray Valves'!EO$10,'Floor Space'!$I$5:$DK$5,0))*'Pre-Rinse Spray Valves'!EV22","v":4.0215073289581502},47.767889766736815,225.275314466461,5.7664451704165351,1.8175991550097415E-2,null,null,1997,714.17798772892786,0,137.56756103229816,{"$f":"INDEX('Floor Space'!$I$5:$DK$50,MATCH('Pre-Rinse Spray Valves'!EZ22,'Floor Space'!$I$5:$I$50,0),MATCH('Pre-Rinse Spray Valves'!EZ$10,'Floor Space'!$I$5:$DK$5,0))*'Pre-Rinse Spray Valves'!FG22","v":27.470952673592787},165.03851370589095,741.64894040252068,5.7664451704165351,3.8465134946191748E-2,null,null,1997,270.49180756027221,0,51.930232440098017,{"$f":"INDEX('Floor Space'!$I$5:$DK$50,MATCH('Pre-Rinse Spray Valves'!FK22,'Floor Space'!$I$5:$I$50,0),MATCH('Pre-Rinse Spray Valves'!FK$10,'Floor Space'!$I$5:$DK$5,0))*'Pre-Rinse Spray Valves'!FR22","v":6.7861333046746974},58.716365744772716,277.27794086494691,5.7664451704165351,2.5088128789862107E-2,null,null,1997,584.65418791015543,0,111.45622262581873,{"$f":"INDEX('Floor Space'!$I$5:$DK$50,MATCH('Pre-Rinse Spray Valves'!FV22,'Floor Space'!$I$5:$I$50,0),MATCH('Pre-Rinse Spray Valves'!FV$10,'Floor Space'!$I$5:$DK$5,0))*'Pre-Rinse Spray Valves'!GC22","v":13.960014076959007},125.41623670277774,598.61420198711448,5.7664451704165351,2.3877386608413875E-2,null,null,1997,854.52096201679899,0,163.91491140959138,{"$f":"INDEX('Floor Space'!$I$5:$DK$50,MATCH('Pre-Rinse Spray Valves'!GG22,'Floor Space'!$I$5:$I$50,0),MATCH('Pre-Rinse Spray Valves'!GG$10,'Floor Space'!$I$5:$DK$5,0))*'Pre-Rinse Spray Valves'!GN22","v":28.759591461450938},192.67450287104231,883.28055347824989,5.7664451704165351,3.3655805696765961E-2,null,null,1997,1672.9987827754171,0,316.09532892988091,{"$f":"INDEX('Floor Space'!$I$5:$DK$50,MATCH('Pre-Rinse Spray Valves'!GR22,'Floor Space'!$I$5:$I$50,0),MATCH('Pre-Rinse Spray Valves'!GR$10,'Floor Space'!$I$5:$DK$5,0))*'Pre-Rinse Spray Valves'!GY22","v":57.941743969103122},374.03707289898404,1730.9405267445202,5.7664451704165351,3.4633464510345213E-2]
[null,1998,12589.067429981622,0,2408.3583945352721,397.43560232031211,2805.7939968555847,12986.503032301933,5.7664451704165351,3.1569900195608902E-2,null,null,1998,1164.9450615013848,0,223.5523383808985,{"$f":"INDEX('Floor Space'!$I$5:$DK$54,MATCH('Pre-Rinse Spray Valves'!M23,'Floor Space'!$I$5:$I$54,0),MATCH('Pre-Rinse Spray Valves'!M$10,'Floor Space'!$I$5:$DK$5,0))*'Pre-Rinse Spray Valves'!T23","v":38.522158421845653},262.07449680274414,1203.4672199232305,5.7664451704165351,3.3067789799630765E-2,null,null,1998,524.85548811570004,0,100.71948932003194,{"$f":"INDEX('Floor Space'!$I$5:$DK$50,MATCH('Pre-Rinse Spray Valves'!X23,'Floor Space'!$I$5:$I$50,0),MATCH('Pre-Rinse Spray Valves'!X$10,'Floor Space'!$I$5:$DK$5,0))*'Pre-Rinse Spray Valves'!AE23","v":17.355810956192542},118.07530027622448,542.21129907189254,5.7664451704165351,3.3067789799630543E-2,null,null,1998,615.85016617930251,0,118.18131969606569,{"$f":"INDEX('Floor Space'!$I$5:$DK$50,MATCH('Pre-Rinse Spray Valves'!AI23,'Floor Space'!$I$5:$I$50,0),MATCH('Pre-Rinse Spray Valves'!AI$10,'Floor Space'!$I$5:$DK$5,0))*'Pre-Rinse Spray Valves'!AP23","v":20.364803843284815},138.5461235393505,636.21497002258729,5.7664451704165351,3.3067789799630765E-2,null,null,1998,570.06610727172449,0,108.86785390695722,{"$f":"INDEX('Floor Space'!$I$5:$DK$50,MATCH('Pre-Rinse Spray Valves'!AT23,'Floor Space'!$I$5:$I$50,0),MATCH('Pre-Rinse Spray Valves'!AT$10,'Floor Space'!$I$5:$DK$5,0))*'Pre-Rinse Spray Valves'!BA23","v":12.438666229464305},121.30652013642153,582.50477350118877,5.7664451704165351,2.1819690858301266E-2,null,null,1998,1052.9025978002728,0,201.07711146724631,{"$f":"INDEX('Floor Space'!$I$5:$DK$50,MATCH('Pre-Rinse Spray Valves'!BE23,'Floor Space'!$I$5:$I$50,0),MATCH('Pre-Rinse Spray Valves'!BE$10,'Floor Space'!$I$5:$DK$5,0))*'Pre-Rinse Spray Valves'!BL23","v":22.974009187904411},224.05112065515073,1075.8766069881772,5.7664451704165351,2.1819690858301266E-2,null,null,1998,263.2256494500682,0,50.269277866811578,{"$f":"INDEX('Floor Space'!$I$5:$DK$50,MATCH('Pre-Rinse Spray Valves'!BP23,'Floor Space'!$I$5:$I$50,0),MATCH('Pre-Rinse Spray Valves'!BP$10,'Floor Space'!$I$5:$DK$5,0))*'Pre-Rinse Spray Valves'!BW23","v":5.7435022969761027},56.012780163787681,268.96915174704429,5.7664451704165351,2.1819690858301266E-2,null,null,1998,508.21442877778583,0,97.055786126950409,{"$f":"INDEX('Floor Space'!$I$5:$DK$50,MATCH('Pre-Rinse Spray Valves'!CA23,'Floor Space'!$I$5:$I$50,0),MATCH('Pre-Rinse Spray Valves'!CA$10,'Floor Space'!$I$5:$DK$5,0))*'Pre-Rinse Spray Valves'!CH23","v":11.089081725659517},108.14486785260992,519.3035105034453,5.7664451704165351,2.1819690858301266E-2,null,null,1998,1080.0176139536802,0,206.40436130804841,{"$f":"INDEX('Floor Space'!$I$5:$DK$50,MATCH('Pre-Rinse Spray Valves'!CL23,'Floor Space'!$I$5:$I$50,0),MATCH('Pre-Rinse Spray Valves'!CL$10,'Floor Space'!$I$5:$DK$5,0))*'Pre-Rinse Spray Valves'!CS23","v":21.086477670462134},227.49083897851054,1101.1040916241423,5.7664451704165351,1.9524197937170307E-2,null,null,1998,549.18662607546253,0,105.82838276775814,{"$f":"INDEX('Floor Space'!$I$5:$DK$50,MATCH('Pre-Rinse Spray Valves'!CW23,'Floor Space'!$I$5:$I$50,0),MATCH('Pre-Rinse Spray Valves'!CW$10,'Floor Space'!$I$5:$DK$5,0))*'Pre-Rinse Spray Valves'!DD23","v":10.862730921147158},116.6911136889053,560.04935699660973,5.7664451704165351,1.9779671254511966E-2,null,null,1998,1443.6911186442846,0,273.85408425855218,{"$f":"INDEX('Floor Space'!$I$5:$DK$50,MATCH('Pre-Rinse Spray Valves'!DH23,'Floor Space'!$I$5:$I$50,0),MATCH('Pre-Rinse Spray Valves'!DH$10,'Floor Space'!$I$5:$DK$5,0))*'Pre-Rinse Spray Valves'!DO23","v":68.229744078292867},342.08382833684504,1511.9208627225776,5.7664451704165351,4.7260624656584982E-2,null,null,1998,255.63195167938562,0,50.916889979830522,{"$f":"INDEX('Floor Space'!$I$5:$DK$50,MATCH('Pre-Rinse Spray Valves'!DS23,'Floor Space'!$I$5:$I$50,0),MATCH('Pre-Rinse Spray Valves'!DS$10,'Floor Space'!$I$5:$DK$5,0))*'Pre-Rinse Spray Valves'!DZ23","v":6.9764544499388617},57.893344429769385,262.60840612932446,5.7664451704165351,2.7291011174881419E-2,null,null,1998,103.44314258875815,0,20.405891461115914,{"$f":"INDEX('Floor Space'!$I$5:$DK$50,MATCH('Pre-Rinse Spray Valves'!ED23,'Floor Space'!$I$5:$I$50,0),MATCH('Pre-Rinse Spray Valves'!ED$10,'Floor Space'!$I$5:$DK$5,0))*'Pre-Rinse Spray Valves'!EK23","v":2.8230679603546518},23.228959421470567,106.2662105491128,5.7664451704165351,2.7291011174881419E-2,null,null,1998,225.275314466461,0,44.541516315315057,{"$f":"INDEX('Floor Space'!$I$5:$DK$50,MATCH('Pre-Rinse Spray Valves'!EO23,'Floor Space'!$I$5:$I$50,0),MATCH('Pre-Rinse Spray Valves'!EO$10,'Floor Space'!$I$5:$DK$5,0))*'Pre-Rinse Spray Valves'!EV23","v":3.2646037358892768},47.806120051204331,228.53991820235026,5.7664451704165351,1.4491617706188231E-2,null,null,1998,741.64894040252068,0,142.85911583162397,{"$f":"INDEX('Floor Space'!$I$5:$DK$50,MATCH('Pre-Rinse Spray Valves'!EZ23,'Floor Space'!$I$5:$I$50,0),MATCH('Pre-Rinse Spray Valves'!EZ$10,'Floor Space'!$I$5:$DK$5,0))*'Pre-Rinse Spray Valves'!FG23","v":25.254746334136943},168.11386216576091,766.90368673665762,5.7664451704165351,3.4052157238207981E-2,null,null,1998,277.27794086494691,0,53.233064799642662,{"$f":"INDEX('Floor Space'!$I$5:$DK$50,MATCH('Pre-Rinse Spray Valves'!FK23,'Floor Space'!$I$5:$I$50,0),MATCH('Pre-Rinse Spray Valves'!FK$10,'Floor Space'!$I$5:$DK$5,0))*'Pre-Rinse Spray Valves'!FR23","v":7.9311843721217654},61.164249171764425,285.20912523706869,5.7664451704165351,2.8603733666591191E-2,null,null,1998,598.61420198711448,0,114.11750594336885,{"$f":"INDEX('Floor Space'!$I$5:$DK$50,MATCH('Pre-Rinse Spray Valves'!FV23,'Floor Space'!$I$5:$I$50,0),MATCH('Pre-Rinse Spray Valves'!FV$10,'Floor Space'!$I$5:$DK$5,0))*'Pre-Rinse Spray Valves'!GC23","v":16.157448353872859},130.27495429724172,614.77165034098732,5.7664451704165351,2.6991421687353467E-2,null,null,1998,883.28055347824989,0,169.43159981879521,{"$f":"INDEX('Floor Space'!$I$5:$DK$50,MATCH('Pre-Rinse Spray Valves'!GG23,'Floor Space'!$I$5:$I$50,0),MATCH('Pre-Rinse Spray Valves'!GG$10,'Floor Space'!$I$5:$DK$5,0))*'Pre-Rinse Spray Valves'!GN23","v":35.100100058526657},204.53169987732187,918.38065353677655,5.7664451704165351,3.9738336726996559E-2,null,null,1998,1730.9405267445202,0,327.04280528625975,{"$f":"INDEX('Floor Space'!$I$5:$DK$50,MATCH('Pre-Rinse Spray Valves'!GR23,'Floor Space'!$I$5:$I$50,0),MATCH('Pre-Rinse Spray Valves'!GR$10,'Floor Space'!$I$5:$DK$5,0))*'Pre-Rinse Spray Valves'!GY23","v":71.261011724241627},398.30381701050135,1802.2015384687618,5.7664451704165351,4.1168954463309149E-2]
[null,1999,12986.503032301933,0,2484.2888871856107,450.33324243377257,2934.6221296193839,13436.836274735711,5.7664451704165351,3.4677021313100465E-2,null,null,1999,1203.4672199232305,0,230.94472011569403,{"$f":"INDEX('Floor Space'!$I$5:$DK$54,MATCH('Pre-Rinse Spray Valves'!M24,'Floor Space'!$I$5:$I$54,0),MATCH('Pre-Rinse Spray Valves'!M$10,'Floor Space'!$I$5:$DK$5,0))*'Pre-Rinse Spray Valves'!T24","v":46.100114759349772},277.04483487504382,1249.5673346825802,5.7664451704165351,3.8306082622084681E-2,null,null,1999,542.21129907189254,0,104.05006022159289,{"$f":"INDEX('Floor Space'!$I$5:$DK$50,MATCH('Pre-Rinse Spray Valves'!X24,'Floor Space'!$I$5:$I$50,0),MATCH('Pre-Rinse Spray Valves'!X$10,'Floor Space'!$I$5:$DK$5,0))*'Pre-Rinse Spray Valves'!AE24","v":20.769990820875769},124.82005104246866,562.98128989276836,5.7664451704165351,3.8306082622084681E-2,null,null,1999,636.21497002258729,0,122.08931473401816,{"$f":"INDEX('Floor Space'!$I$5:$DK$50,MATCH('Pre-Rinse Spray Valves'!AI24,'Floor Space'!$I$5:$I$50,0),MATCH('Pre-Rinse Spray Valves'!AI$10,'Floor Space'!$I$5:$DK$5,0))*'Pre-Rinse Spray Valves'!AP24","v":24.370903207092343},146.4602179411105,660.58587322967969,5.7664451704165351,3.8306082622084681E-2,null,null,1999,582.50477350118877,0,111.24331682361375,{"$f":"INDEX('Floor Space'!$I$5:$DK$50,MATCH('Pre-Rinse Spray Valves'!AT24,'Floor Space'!$I$5:$I$50,0),MATCH('Pre-Rinse Spray Valves'!AT$10,'Floor Space'!$I$5:$DK$5,0))*'Pre-Rinse Spray Valves'!BA24","v":15.642023046491531},126.88533987010528,598.14679654768031,5.7664451704165351,2.6853038392241846E-2,null,null,1999,1075.8766069881772,0,205.46455187814183,{"$f":"INDEX('Floor Space'!$I$5:$DK$50,MATCH('Pre-Rinse Spray Valves'!BE24,'Floor Space'!$I$5:$I$50,0),MATCH('Pre-Rinse Spray Valves'!BE$10,'Floor Space'!$I$5:$DK$5,0))*'Pre-Rinse Spray Valves'!BL24","v":28.890555832768374},234.3551077109102,1104.7671628209455,5.7664451704165351,2.6853038392241846E-2,null,null,1999,268.96915174704429,0,51.366137969535458,{"$f":"INDEX('Floor Space'!$I$5:$DK$50,MATCH('Pre-Rinse Spray Valves'!BP24,'Floor Space'!$I$5:$I$50,0),MATCH('Pre-Rinse Spray Valves'!BP$10,'Floor Space'!$I$5:$DK$5,0))*'Pre-Rinse Spray Valves'!BW24","v":7.2226389581920936},58.588776927727551,276.19179070523637,5.7664451704165351,2.6853038392241846E-2,null,null,1999,519.3035105034453,0,99.173513376249872,{"$f":"INDEX('Floor Space'!$I$5:$DK$50,MATCH('Pre-Rinse Spray Valves'!CA24,'Floor Space'!$I$5:$I$50,0),MATCH('Pre-Rinse Spray Valves'!CA$10,'Floor Space'!$I$5:$DK$5,0))*'Pre-Rinse Spray Valves'!CH24","v":13.94487710477496},113.11839048102483,533.24838760822024,5.7664451704165351,2.6853038392241846E-2,null,null,1999,1101.1040916241423,0,210.43424091332199,{"$f":"INDEX('Floor Space'!$I$5:$DK$50,MATCH('Pre-Rinse Spray Valves'!CL24,'Floor Space'!$I$5:$I$50,0),MATCH('Pre-Rinse Spray Valves'!CL$10,'Floor Space'!$I$5:$DK$5,0))*'Pre-Rinse Spray Valves'!CS24","v":25.780594927645815},236.21483584096779,1126.884686551788,5.7664451704165351,2.3413403985829362E-2,null,null,1999,560.04935699660973,0,107.92163338830105,{"$f":"INDEX('Floor Space'!$I$5:$DK$50,MATCH('Pre-Rinse Spray Valves'!CW24,'Floor Space'!$I$5:$I$50,0),MATCH('Pre-Rinse Spray Valves'!CW$10,'Floor Space'!$I$5:$DK$5,0))*'Pre-Rinse Spray Valves'!DD24","v":13.280912538484209},121.20254592678526,573.33026953509398,5.7664451704165351,2.3713825170170955E-2,null,null,1999,1511.9208627225776,0,286.79659934536846,{"$f":"INDEX('Floor Space'!$I$5:$DK$50,MATCH('Pre-Rinse Spray Valves'!DH24,'Floor Space'!$I$5:$I$50,0),MATCH('Pre-Rinse Spray Valves'!DH$10,'Floor Space'!$I$5:$DK$5,0))*'Pre-Rinse Spray Valves'!DO24","v":62.481543940395532},349.27814328576397,1574.4024066629731,5.7664451704165351,4.1325935424875615E-2,null,null,1999,262.60840612932446,0,52.30646339326028,{"$f":"INDEX('Floor Space'!$I$5:$DK$50,MATCH('Pre-Rinse Spray Valves'!DS24,'Floor Space'!$I$5:$I$50,0),MATCH('Pre-Rinse Spray Valves'!DS$10,'Floor Space'!$I$5:$DK$5,0))*'Pre-Rinse Spray Valves'!DZ24","v":8.9161119191385794},61.22257531239886,271.52451804846305,5.7664451704165351,3.3952119243082279E-2,null,null,1999,106.2662105491128,0,20.962788873014645,{"$f":"INDEX('Floor Space'!$I$5:$DK$50,MATCH('Pre-Rinse Spray Valves'!ED24,'Floor Space'!$I$5:$I$50,0),MATCH('Pre-Rinse Spray Valves'!ED$10,'Floor Space'!$I$5:$DK$5,0))*'Pre-Rinse Spray Valves'!EK24","v":3.6079630520739556},24.570751925088601,109.87417360118675,5.7664451704165351,3.3952119243082279E-2,null,null,1999,228.53991820235026,0,45.186994941810539,{"$f":"INDEX('Floor Space'!$I$5:$DK$50,MATCH('Pre-Rinse Spray Valves'!EO24,'Floor Space'!$I$5:$I$50,0),MATCH('Pre-Rinse Spray Valves'!EO$10,'Floor Space'!$I$5:$DK$5,0))*'Pre-Rinse Spray Valves'!EV24","v":3.5584271831026801},48.745422124913219,232.09834538545294,5.7664451704165351,1.557026540961659E-2,null,null,1999,766.90368673665762,0,147.72377690683379,{"$f":"INDEX('Floor Space'!$I$5:$DK$50,MATCH('Pre-Rinse Spray Valves'!EZ24,'Floor Space'!$I$5:$I$50,0),MATCH('Pre-Rinse Spray Valves'!EZ$10,'Floor Space'!$I$5:$DK$5,0))*'Pre-Rinse Spray Valves'!FG24","v":19.311132902304525},167.03490980913833,786.21481963896213,5.7664451704165351,2.5180649456097326E-2,null,null,1999,285.20912523706869,0,54.755729207428047,{"$f":"INDEX('Floor Space'!$I$5:$DK$50,MATCH('Pre-Rinse Spray Valves'!FK24,'Floor Space'!$I$5:$I$50,0),MATCH('Pre-Rinse Spray Valves'!FK$10,'Floor Space'!$I$5:$DK$5,0))*'Pre-Rinse Spray Valves'!FR24","v":12.429069984537568},67.18479919196561,297.63819522160628,5.7664451704165351,4.3578794942856103E-2,null,null,1999,614.77165034098732,0,117.1976996681954,{"$f":"INDEX('Floor Space'!$I$5:$DK$50,MATCH('Pre-Rinse Spray Valves'!FV24,'Floor Space'!$I$5:$I$50,0),MATCH('Pre-Rinse Spray Valves'!FV$10,'Floor Space'!$I$5:$DK$5,0))*'Pre-Rinse Spray Valves'!GC24","v":25.215817962356901},142.41351763055229,639.98746830334426,5.7664451704165351,4.101655947923244E-2,null,null,1999,918.38065353677655,0,176.16452978458824,{"$f":"INDEX('Floor Space'!$I$5:$DK$50,MATCH('Pre-Rinse Spray Valves'!GG24,'Floor Space'!$I$5:$I$50,0),MATCH('Pre-Rinse Spray Valves'!GG$10,'Floor Space'!$I$5:$DK$5,0))*'Pre-Rinse Spray Valves'!GN24","v":39.304437848275313},215.46896763286355,957.68509138505192,5.7664451704165351,4.2797545545967264E-2,null,null,1999,1802.2015384687618,0,340.5068156446427,{"$f":"INDEX('Floor Space'!$I$5:$DK$50,MATCH('Pre-Rinse Spray Valves'!GR24,'Floor Space'!$I$5:$I$50,0),MATCH('Pre-Rinse Spray Valves'!GR$10,'Floor Space'!$I$5:$DK$5,0))*'Pre-Rinse Spray Valves'!GY24","v":79.506126445912628},420.01294209055533,1881.7076649146743,5.7664451704165351,4.4116112847991884E-2]
[null,2000,13436.836274735711,0,2570.3488405195958,428.94772725024234,2999.2965677698376,13865.78400198595,5.7664451704165351,3.1923268132451499E-2,null,null,2000,1249.5673346825802,0,239.79130764557996,{"$f":"INDEX('Floor Space'!$I$5:$DK$54,MATCH('Pre-Rinse Spray Valves'!M25,'Floor Space'!$I$5:$I$54,0),MATCH('Pre-Rinse Spray Valves'!M$10,'Floor Space'!$I$5:$DK$5,0))*'Pre-Rinse Spray Valves'!T25","v":48.923329235230327},288.7146368808103,1298.4906639178105,5.7664451704165351,3.9152215232689302E-2,null,null,2000,562.98128989276836,0,108.03581042527412,{"$f":"INDEX('Floor Space'!$I$5:$DK$50,MATCH('Pre-Rinse Spray Valves'!X25,'Floor Space'!$I$5:$I$50,0),MATCH('Pre-Rinse Spray Valves'!X$10,'Floor Space'!$I$5:$DK$5,0))*'Pre-Rinse Spray Valves'!AE25","v":22.04196463385874},130.07777505913288,585.02325452662706,5.7664451704165351,3.9152215232689302E-2,null,null,2000,660.58587322967969,0,126.76607811149317,{"$f":"INDEX('Floor Space'!$I$5:$DK$50,MATCH('Pre-Rinse Spray Valves'!AI25,'Floor Space'!$I$5:$I$50,0),MATCH('Pre-Rinse Spray Valves'!AI$10,'Floor Space'!$I$5:$DK$5,0))*'Pre-Rinse Spray Valves'!AP25","v":25.863400288362449},152.62947839985563,686.44927351804211,5.7664451704165351,3.9152215232689302E-2,null,null,2000,598.14679654768031,0,114.23053788115857,{"$f":"INDEX('Floor Space'!$I$5:$DK$50,MATCH('Pre-Rinse Spray Valves'!AT25,'Floor Space'!$I$5:$I$50,0),MATCH('Pre-Rinse Spray Valves'!AT$10,'Floor Space'!$I$5:$DK$5,0))*'Pre-Rinse Spray Valves'!BA25","v":13.513873461430977},127.74441134258954,611.6606700091113,5.7664451704165351,2.2592904516799184E-2,null,null,2000,1104.7671628209455,0,210.98189937797031,{"$f":"INDEX('Floor Space'!$I$5:$DK$50,MATCH('Pre-Rinse Spray Valves'!BE25,'Floor Space'!$I$5:$I$50,0),MATCH('Pre-Rinse Spray Valves'!BE$10,'Floor Space'!$I$5:$DK$5,0))*'Pre-Rinse Spray Valves'!BL25","v":24.959899022908647},235.94179840087895,1129.7270618438542,5.7664451704165351,2.2592904516799184E-2,null,null,2000,276.19179070523637,0,52.745474844492577,{"$f":"INDEX('Floor Space'!$I$5:$DK$50,MATCH('Pre-Rinse Spray Valves'!BP25,'Floor Space'!$I$5:$I$50,0),MATCH('Pre-Rinse Spray Valves'!BP$10,'Floor Space'!$I$5:$DK$5,0))*'Pre-Rinse Spray Valves'!BW25","v":6.2399747557271619},58.985449600219738,282.43176546096356,5.7664451704165351,2.2592904516799184E-2,null,null,2000,533.24838760822024,0,101.8366235384358,{"$f":"INDEX('Floor Space'!$I$5:$DK$50,MATCH('Pre-Rinse Spray Valves'!CA25,'Floor Space'!$I$5:$I$50,0),MATCH('Pre-Rinse Spray Valves'!CA$10,'Floor Space'!$I$5:$DK$5,0))*'Pre-Rinse Spray Valves'!CH25","v":12.047629904969583},113.88425344340538,545.29601751318978,5.7664451704165351,2.2592904516798962E-2,null,null,2000,1126.884686551788,0,215.36122280827698,{"$f":"INDEX('Floor Space'!$I$5:$DK$50,MATCH('Pre-Rinse Spray Valves'!CL25,'Floor Space'!$I$5:$I$50,0),MATCH('Pre-Rinse Spray Valves'!CL$10,'Floor Space'!$I$5:$DK$5,0))*'Pre-Rinse Spray Valves'!CS25","v":23.257884728046818},238.61910753632378,1150.1425712798348,5.7664451704165351,2.0639099107127468E-2,null,null,2000,573.33026953509398,0,110.48086813455052,{"$f":"INDEX('Floor Space'!$I$5:$DK$50,MATCH('Pre-Rinse Spray Valves'!CW25,'Floor Space'!$I$5:$I$50,0),MATCH('Pre-Rinse Spray Valves'!CW$10,'Floor Space'!$I$5:$DK$5,0))*'Pre-Rinse Spray Valves'!DD25","v":11.981334556872604},122.46220269142313,585.31160409196661,5.7664451704165351,2.0897788226998948E-2,null,null,2000,1574.4024066629731,0,298.64873708998908,{"$f":"INDEX('Floor Space'!$I$5:$DK$50,MATCH('Pre-Rinse Spray Valves'!DH25,'Floor Space'!$I$5:$I$50,0),MATCH('Pre-Rinse Spray Valves'!DH$10,'Floor Space'!$I$5:$DK$5,0))*'Pre-Rinse Spray Valves'!DO25","v":54.549360358654646},353.19809744864375,1628.9517670216278,5.7664451704165351,3.4647660679250958E-2,null,null,2000,271.52451804846305,0,54.082378675572173,{"$f":"INDEX('Floor Space'!$I$5:$DK$50,MATCH('Pre-Rinse Spray Valves'!DS25,'Floor Space'!$I$5:$I$50,0),MATCH('Pre-Rinse Spray Valves'!DS$10,'Floor Space'!$I$5:$DK$5,0))*'Pre-Rinse Spray Valves'!DZ25","v":7.2031952803255201},61.285573955897689,278.72771332878858,5.7664451704165351,2.6528710306153114E-2,null,null,2000,109.87417360118675,0,21.6745199804988,{"$f":"INDEX('Floor Space'!$I$5:$DK$50,MATCH('Pre-Rinse Spray Valves'!ED25,'Floor Space'!$I$5:$I$50,0),MATCH('Pre-Rinse Spray Valves'!ED$10,'Floor Space'!$I$5:$DK$5,0))*'Pre-Rinse Spray Valves'!EK25","v":2.9148201215938605},24.58934010209266,112.78899372278062,5.7664451704165351,2.6528710306153114E-2,null,null,2000,232.09834538545294,0,45.890568446117548,{"$f":"INDEX('Floor Space'!$I$5:$DK$50,MATCH('Pre-Rinse Spray Valves'!EO25,'Floor Space'!$I$5:$I$50,0),MATCH('Pre-Rinse Spray Valves'!EO$10,'Floor Space'!$I$5:$DK$5,0))*'Pre-Rinse Spray Valves'!EV25","v":3.6232304939278217},49.513798940045369,235.72157587938077,5.7664451704165351,1.5610755380055075E-2,null,null,2000,786.21481963896213,0,151.44355754945551,{"$f":"INDEX('Floor Space'!$I$5:$DK$50,MATCH('Pre-Rinse Spray Valves'!EZ25,'Floor Space'!$I$5:$I$50,0),MATCH('Pre-Rinse Spray Valves'!EZ$10,'Floor Space'!$I$5:$DK$5,0))*'Pre-Rinse Spray Valves'!FG25","v":19.706238192491124},171.14979574194663,805.92105783145325,5.7664451704165351,2.5064699494650178E-2,null,null,2000,297.63819522160628,0,57.141917902505106,{"$f":"INDEX('Floor Space'!$I$5:$DK$50,MATCH('Pre-Rinse Spray Valves'!FK25,'Floor Space'!$I$5:$I$50,0),MATCH('Pre-Rinse Spray Valves'!FK$10,'Floor Space'!$I$5:$DK$5,0))*'Pre-Rinse Spray Valves'!FR25","v":11.117335252415034},68.259253154920145,308.75553047402133,5.7664451704165351,3.7351843381988159E-2,null,null,2000,639.98746830334426,0,122.00474608746514,{"$f":"INDEX('Floor Space'!$I$5:$DK$50,MATCH('Pre-Rinse Spray Valves'!FV25,'Floor Space'!$I$5:$I$50,0),MATCH('Pre-Rinse Spray Valves'!FV$10,'Floor Space'!$I$5:$DK$5,0))*'Pre-Rinse Spray Valves'!GC25","v":22.556594023885161},144.56134011135029,662.54406232722943,5.7664451704165351,3.5245368293983059E-2,null,null,2000,957.68509138505192,0,183.70393927162803,{"$f":"INDEX('Floor Space'!$I$5:$DK$50,MATCH('Pre-Rinse Spray Valves'!GG25,'Floor Space'!$I$5:$I$50,0),MATCH('Pre-Rinse Spray Valves'!GG$10,'Floor Space'!$I$5:$DK$5,0))*'Pre-Rinse Spray Valves'!GN25","v":38.898181360286586},222.6021206319146,996.58327274533849,5.7664451704165351,4.0616880966612978E-2,null,null,2000,1881.7076649146743,0,355.52865274913211,{"$f":"INDEX('Floor Space'!$I$5:$DK$50,MATCH('Pre-Rinse Spray Valves'!GR25,'Floor Space'!$I$5:$I$50,0),MATCH('Pre-Rinse Spray Valves'!GR$10,'Floor Space'!$I$5:$DK$5,0))*'Pre-Rinse Spray Valves'!GY25","v":79.549481579255286},435.07813432838736,1961.2571464939297,5.7664451704165351,4.2275154139238991E-2]
[null,2001,13865.78400198595,0,2652.3192894523718,359.39450254853443,3011.7137920009059,14225.178504534484,5.7664451704165351,2.5919522653537586E-2,null,null,2001,1298.4906639178105,0,249.17966853344777,{"$f":"INDEX('Floor Space'!$I$5:$DK$54,MATCH('Pre-Rinse Spray Valves'!M26,'Floor Space'!$I$5:$I$54,0),MATCH('Pre-Rinse Spray Valves'!M$10,'Floor Space'!$I$5:$DK$5,0))*'Pre-Rinse Spray Valves'!T26","v":32.795525705283701},281.97519423873149,1331.2861896230943,5.7664451704165351,2.525665113858655E-2,null,null,2001,585.02325452662706,0,112.26565172788249,{"$f":"INDEX('Floor Space'!$I$5:$DK$50,MATCH('Pre-Rinse Spray Valves'!X26,'Floor Space'!$I$5:$I$50,0),MATCH('Pre-Rinse Spray Valves'!X$10,'Floor Space'!$I$5:$DK$5,0))*'Pre-Rinse Spray Valves'!AE26","v":14.775728247539513},127.041379975422,599.79898277416657,5.7664451704165351,2.525665113858655E-2,null,null,2001,686.44927351804211,0,131.72925088591822,{"$f":"INDEX('Floor Space'!$I$5:$DK$50,MATCH('Pre-Rinse Spray Valves'!AI26,'Floor Space'!$I$5:$I$50,0),MATCH('Pre-Rinse Spray Valves'!AI$10,'Floor Space'!$I$5:$DK$5,0))*'Pre-Rinse Spray Valves'!AP26","v":17.337409825581332},149.06666071149954,703.78668334362339,5.7664451704165351,2.5256651138586328E-2,null,null,2001,611.6606700091113,0,116.81133751641016,{"$f":"INDEX('Floor Space'!$I$5:$DK$50,MATCH('Pre-Rinse Spray Valves'!AT26,'Floor Space'!$I$5:$I$50,0),MATCH('Pre-Rinse Spray Valves'!AT$10,'Floor Space'!$I$5:$DK$5,0))*'Pre-Rinse Spray Valves'!BA26","v":12.188460298502294},128.99979781491245,623.84913030761356,5.7664451704165351,1.9926833448880688E-2,null,null,2001,1129.7270618438542,0,215.74859328538972,{"$f":"INDEX('Floor Space'!$I$5:$DK$50,MATCH('Pre-Rinse Spray Valves'!BE26,'Floor Space'!$I$5:$I$50,0),MATCH('Pre-Rinse Spray Valves'!BE$10,'Floor Space'!$I$5:$DK$5,0))*'Pre-Rinse Spray Valves'!BL26","v":22.511883004055761},238.26047628944548,1152.23894484791,5.7664451704165351,1.9926833448880688E-2,null,null,2001,282.43176546096356,0,53.937148321347429,{"$f":"INDEX('Floor Space'!$I$5:$DK$50,MATCH('Pre-Rinse Spray Valves'!BP26,'Floor Space'!$I$5:$I$50,0),MATCH('Pre-Rinse Spray Valves'!BP$10,'Floor Space'!$I$5:$DK$5,0))*'Pre-Rinse Spray Valves'!BW26","v":5.6279707510139403},59.565119072361369,288.05973621197751,5.7664451704165351,1.9926833448880688E-2,null,null,2001,545.29601751318978,0,104.1374086503529,{"$f":"INDEX('Floor Space'!$I$5:$DK$50,MATCH('Pre-Rinse Spray Valves'!CA26,'Floor Space'!$I$5:$I$50,0),MATCH('Pre-Rinse Spray Valves'!CA$10,'Floor Space'!$I$5:$DK$5,0))*'Pre-Rinse Spray Valves'!CH26","v":10.86602292132323},115.00343157167613,556.16204043451296,5.7664451704165351,1.9926833448880465E-2,null,null,2001,1150.1425712798348,0,219.80608442964919,{"$f":"INDEX('Floor Space'!$I$5:$DK$50,MATCH('Pre-Rinse Spray Valves'!CL26,'Floor Space'!$I$5:$I$50,0),MATCH('Pre-Rinse Spray Valves'!CL$10,'Floor Space'!$I$5:$DK$5,0))*'Pre-Rinse Spray Valves'!CS26","v":27.02074000414839},246.82682443379758,1177.1633112839831,5.7664451704165351,2.3493383063006412E-2,null,null,2001,585.31160409196661,0,112.78967391996136,{"$f":"INDEX('Floor Space'!$I$5:$DK$50,MATCH('Pre-Rinse Spray Valves'!CW26,'Floor Space'!$I$5:$I$50,0),MATCH('Pre-Rinse Spray Valves'!CW$10,'Floor Space'!$I$5:$DK$5,0))*'Pre-Rinse Spray Valves'!DD26","v":13.919775153652202},126.70944907361356,599.23137924561877,5.7664451704165351,2.3781819899584722E-2,null,null,2001,1628.9517670216278,0,308.99621719496986,{"$f":"INDEX('Floor Space'!$I$5:$DK$50,MATCH('Pre-Rinse Spray Valves'!DH26,'Floor Space'!$I$5:$I$50,0),MATCH('Pre-Rinse Spray Valves'!DH$10,'Floor Space'!$I$5:$DK$5,0))*'Pre-Rinse Spray Valves'!DO26","v":60.020724996810621},369.01694219178046,1688.9724920184385,5.7664451704165351,3.6846226028258933E-2,null,null,2001,278.72771332878858,0,55.517114432124103,{"$f":"INDEX('Floor Space'!$I$5:$DK$50,MATCH('Pre-Rinse Spray Valves'!DS26,'Floor Space'!$I$5:$I$50,0),MATCH('Pre-Rinse Spray Valves'!DS$10,'Floor Space'!$I$5:$DK$5,0))*'Pre-Rinse Spray Valves'!DZ26","v":6.3284262377075207},61.845540669831621,285.05613956649609,5.7664451704165351,2.270468968488415E-2,null,null,2001,112.78899372278062,0,22.249517042086374,{"$f":"INDEX('Floor Space'!$I$5:$DK$50,MATCH('Pre-Rinse Spray Valves'!ED26,'Floor Space'!$I$5:$I$50,0),MATCH('Pre-Rinse Spray Valves'!ED$10,'Floor Space'!$I$5:$DK$5,0))*'Pre-Rinse Spray Valves'!EK26","v":2.5608391023460921},24.810356144432468,115.34983282512671,5.7664451704165351,2.2704689684884372E-2,null,null,2001,235.72157587938077,0,46.606954884381544,{"$f":"INDEX('Floor Space'!$I$5:$DK$50,MATCH('Pre-Rinse Spray Valves'!EO26,'Floor Space'!$I$5:$I$50,0),MATCH('Pre-Rinse Spray Valves'!EO$10,'Floor Space'!$I$5:$DK$5,0))*'Pre-Rinse Spray Valves'!EV26","v":2.433209204108961},49.040164088490506,238.15478508348971,5.7664451704165351,1.0322386463910371E-2,null,null,2001,805.92105783145325,0,155.23944480983337,{"$f":"INDEX('Floor Space'!$I$5:$DK$50,MATCH('Pre-Rinse Spray Valves'!EZ26,'Floor Space'!$I$5:$I$50,0),MATCH('Pre-Rinse Spray Valves'!EZ$10,'Floor Space'!$I$5:$DK$5,0))*'Pre-Rinse Spray Valves'!FG26","v":11.489434410028812},166.72887921986219,817.41049224148207,5.7664451704165351,1.4256277706583553E-2,null,null,2001,308.75553047402133,0,59.276273870545893,{"$f":"INDEX('Floor Space'!$I$5:$DK$50,MATCH('Pre-Rinse Spray Valves'!FK26,'Floor Space'!$I$5:$I$50,0),MATCH('Pre-Rinse Spray Valves'!FK$10,'Floor Space'!$I$5:$DK$5,0))*'Pre-Rinse Spray Valves'!FR26","v":9.0566244976492296},68.332898368195117,317.81215497167057,5.7664451704165351,2.9332671333028193E-2,null,null,2001,662.54406232722943,0,126.30484829693175,{"$f":"INDEX('Floor Space'!$I$5:$DK$50,MATCH('Pre-Rinse Spray Valves'!FV26,'Floor Space'!$I$5:$I$50,0),MATCH('Pre-Rinse Spray Valves'!FV$10,'Floor Space'!$I$5:$DK$5,0))*'Pre-Rinse Spray Valves'!GC26","v":18.532159716555846},144.8370080134876,681.07622204378526,5.7664451704165351,2.797121092816135E-2,null,null,2001,996.58327274533849,0,191.16542030612169,{"$f":"INDEX('Floor Space'!$I$5:$DK$50,MATCH('Pre-Rinse Spray Valves'!GG26,'Floor Space'!$I$5:$I$50,0),MATCH('Pre-Rinse Spray Valves'!GG$10,'Floor Space'!$I$5:$DK$5,0))*'Pre-Rinse Spray Valves'!GN26","v":30.324678277149726},221.49009858327142,1026.9079510224883,5.7664451704165351,3.0428644656670611E-2,null,null,2001,1961.2571464939297,0,370.5586813450177,{"$f":"INDEX('Floor Space'!$I$5:$DK$50,MATCH('Pre-Rinse Spray Valves'!GR26,'Floor Space'!$I$5:$I$50,0),MATCH('Pre-Rinse Spray Valves'!GR$10,'Floor Space'!$I$5:$DK$5,0))*'Pre-Rinse Spray Valves'!GY26","v":61.604890195077274},432.16357154009495,2022.862036689007,5.7664451704165351,3.1410919422374617E-2]
[null,2002,14225.178504534484,0,2720.9717193921138,280.35758872452129,3001.3293081166362,14505.536093259003,5.7664451704165351,1.9708546267813043E-2,null,null,2002,1331.2861896230943,0,255.47311249242566,{"$f":"INDEX('Floor Space'!$I$5:$DK$54,MATCH('Pre-Rinse Spray Valves'!M27,'Floor Space'!$I$5:$I$54,0),MATCH('Pre-Rinse Spray Valves'!M$10,'Floor Space'!$I$5:$DK$5,0))*'Pre-Rinse Spray Valves'!T27","v":22.674515662649803},278.14762815507544,{"$f":"N27+Q27-O27","v":1353.9607052857441},5.7664451704165351,1.7032037017577162E-2,null,null,2002,599.79898277416657,0,115.10110612841964,{"$f":"INDEX('Floor Space'!$I$5:$DK$50,MATCH('Pre-Rinse Spray Valves'!X27,'Floor Space'!$I$5:$I$50,0),MATCH('Pre-Rinse Spray Valves'!X$10,'Floor Space'!$I$5:$DK$5,0))*'Pre-Rinse Spray Valves'!AE27","v":10.21579847771474},125.31690460613439,{"$f":"Y27+AB27-Z27","v":610.01478125188135},5.7664451704165351,1.7032037017577162E-2,null,null,2002,703.78668334362339,0,135.05629062029118,{"$f":"INDEX('Floor Space'!$I$5:$DK$50,MATCH('Pre-Rinse Spray Valves'!AI27,'Floor Space'!$I$5:$I$50,0),MATCH('Pre-Rinse Spray Valves'!AI$10,'Floor Space'!$I$5:$DK$5,0))*'Pre-Rinse Spray Valves'!AP27","v":11.986920843186461},147.04321146347763,{"$f":"AJ27+AM27-AK27","v":715.77360418680985},5.7664451704165351,1.7032037017577162E-2,null,null,2002,623.84913030761356,0,119.13901758404066,{"$f":"INDEX('Floor Space'!$I$5:$DK$50,MATCH('Pre-Rinse Spray Valves'!AT27,'Floor Space'!$I$5:$I$50,0),MATCH('Pre-Rinse Spray Valves'!AT$10,'Floor Space'!$I$5:$DK$5,0))*'Pre-Rinse Spray Valves'!BA27","v":9.9393457214610343},129.07836330550168,{"$f":"AU27+AX27-AV27","v":633.78847602907456},5.7664451704165351,1.5932290739204769E-2,null,null,2002,1152.23894484791,0,220.04777957061802,{"$f":"INDEX('Floor Space'!$I$5:$DK$50,MATCH('Pre-Rinse Spray Valves'!BE27,'Floor Space'!$I$5:$I$50,0),MATCH('Pre-Rinse Spray Valves'!BE$10,'Floor Space'!$I$5:$DK$5,0))*'Pre-Rinse Spray Valves'!BL27","v":18.357805870351616},238.40558544096965,{"$f":"BF27+BI27-BG27","v":1170.5967507182615},5.7664451704165351,1.5932290739204769E-2,null,null,2002,288.05973621197751,0,55.011944892654505,{"$f":"INDEX('Floor Space'!$I$5:$DK$50,MATCH('Pre-Rinse Spray Valves'!BP27,'Floor Space'!$I$5:$I$50,0),MATCH('Pre-Rinse Spray Valves'!BP$10,'Floor Space'!$I$5:$DK$5,0))*'Pre-Rinse Spray Valves'!BW27","v":4.5894514675879039},59.601396360242411,{"$f":"BQ27+BT27-BR27","v":292.64918767956539},5.7664451704165351,1.5932290739204769E-2,null,null,2002,556.16204043451296,0,106.21253744832649,{"$f":"INDEX('Floor Space'!$I$5:$DK$50,MATCH('Pre-Rinse Spray Valves'!CA27,'Floor Space'!$I$5:$I$50,0),MATCH('Pre-Rinse Spray Valves'!CA$10,'Floor Space'!$I$5:$DK$5,0))*'Pre-Rinse Spray Valves'!CH27","v":8.8609353263121076},115.07347277463859,{"$f":"CB27+CE27-CC27","v":565.02297576082503},5.7664451704165351,1.5932290739204769E-2,null,null,2002,1177.1633112839831,0,224.97007297073446,{"$f":"INDEX('Floor Space'!$I$5:$DK$50,MATCH('Pre-Rinse Spray Valves'!CL27,'Floor Space'!$I$5:$I$50,0),MATCH('Pre-Rinse Spray Valves'!CL$10,'Floor Space'!$I$5:$DK$5,0))*'Pre-Rinse Spray Valves'!CS27","v":33.172606066074522},258.142679036809,{"$f":"CM27+CP27-CN27","v":1210.3359173500576},5.7664451704165351,2.8180122288972376E-2,null,null,2002,599.23137924561877,0,115.47201763165876,{"$f":"INDEX('Floor Space'!$I$5:$DK$50,MATCH('Pre-Rinse Spray Valves'!CW27,'Floor Space'!$I$5:$I$50,0),MATCH('Pre-Rinse Spray Valves'!CW$10,'Floor Space'!$I$5:$DK$5,0))*'Pre-Rinse Spray Valves'!DD27","v":15.821557074536619},131.29357470619539,{"$f":"CX27+DA27-CY27","v":615.05293632015537},5.7664451704165351,2.6403085056150744E-2,null,null,2002,1688.9724920184385,0,320.3815616556127,{"$f":"INDEX('Floor Space'!$I$5:$DK$50,MATCH('Pre-Rinse Spray Valves'!DH27,'Floor Space'!$I$5:$I$50,0),MATCH('Pre-Rinse Spray Valves'!DH$10,'Floor Space'!$I$5:$DK$5,0))*'Pre-Rinse Spray Valves'!DO27","v":33.954951215235269},354.33651287084797,{"$f":"DI27+DL27-DJ27","v":1722.9274432336738},5.7664451704165351,2.0103910144005255E-2,null,null,2002,285.05613956649609,0,56.77761328750568,{"$f":"INDEX('Floor Space'!$I$5:$DK$50,MATCH('Pre-Rinse Spray Valves'!DS27,'Floor Space'!$I$5:$I$50,0),MATCH('Pre-Rinse Spray Valves'!DS$10,'Floor Space'!$I$5:$DK$5,0))*'Pre-Rinse Spray Valves'!DZ27","v":3.6575541685525854},60.435167456058267,{"$f":"DT27+DW27-DU27","v":288.71369373504865},5.7664451704165351,1.2830995936852441E-2,null,null,2002,115.34983282512671,0,22.754685422165494,{"$f":"INDEX('Floor Space'!$I$5:$DK$50,MATCH('Pre-Rinse Spray Valves'!ED27,'Floor Space'!$I$5:$I$50,0),MATCH('Pre-Rinse Spray Valves'!ED$10,'Floor Space'!$I$5:$DK$5,0))*'Pre-Rinse Spray Valves'!EK27","v":1.4800532362958221},24.234738658461318,{"$f":"EE27+EH27-EF27","v":116.82988606142253},5.7664451704165351,1.2830995936852441E-2,null,null,2002,238.15478508348971,0,47.088049884604168,{"$f":"INDEX('Floor Space'!$I$5:$DK$50,MATCH('Pre-Rinse Spray Valves'!EO27,'Floor Space'!$I$5:$I$50,0),MATCH('Pre-Rinse Spray Valves'!EO$10,'Floor Space'!$I$5:$DK$5,0))*'Pre-Rinse Spray Valves'!EV27","v":7.5522828851271591},54.64033276973133,{"$f":"EP27+ES27-EQ27","v":245.70706796861688},5.7664451704165351,3.1711657116104464E-2,null,null,2002,817.41049224148207,0,157.45258144605819,{"$f":"INDEX('Floor Space'!$I$5:$DK$50,MATCH('Pre-Rinse Spray Valves'!EZ27,'Floor Space'!$I$5:$I$50,0),MATCH('Pre-Rinse Spray Valves'!EZ$10,'Floor Space'!$I$5:$DK$5,0))*'Pre-Rinse Spray Valves'!FG27","v":5.3543634656482295},162.80694491170641,{"$f":"FA27+FD27-FB27","v":822.76485570713032},5.7664451704165351,6.5503972807661182E-3,null,null,2002,317.81215497167057,0,61.015005329837194,{"$f":"INDEX('Floor Space'!$I$5:$DK$50,MATCH('Pre-Rinse Spray Valves'!FK27,'Floor Space'!$I$5:$I$50,0),MATCH('Pre-Rinse Spray Valves'!FK$10,'Floor Space'!$I$5:$DK$5,0))*'Pre-Rinse Spray Valves'!FR27","v":5.8579929771527004},66.872998306989899,{"$f":"FL27+FO27-FM27","v":323.67014794882328},5.7664451704165351,1.8432249633985487E-2,null,null,2002,681.07622204378526,0,129.83774784989464,{"$f":"INDEX('Floor Space'!$I$5:$DK$50,MATCH('Pre-Rinse Spray Valves'!FV27,'Floor Space'!$I$5:$I$50,0),MATCH('Pre-Rinse Spray Valves'!FV$10,'Floor Space'!$I$5:$DK$5,0))*'Pre-Rinse Spray Valves'!GC27","v":18.1627848352326},148.00053268512724,{"$f":"FW27+FZ27-FX27","v":699.23900687901789},5.7664451704165351,2.6667771164774257E-2,null,null,2002,1026.9079510224883,0,196.98232495125976,{"$f":"INDEX('Floor Space'!$I$5:$DK$50,MATCH('Pre-Rinse Spray Valves'!GG27,'Floor Space'!$I$5:$I$50,0),MATCH('Pre-Rinse Spray Valves'!GG$10,'Floor Space'!$I$5:$DK$5,0))*'Pre-Rinse Spray Valves'!GN27","v":27.091301456462901},224.07362640772266,{"$f":"GH27+GK27-GI27","v":1053.9992524789511},5.7664451704165351,2.638143119788694E-2,null,null,2002,2022.862036689007,0,382.19827022600748,{"$f":"INDEX('Floor Space'!$I$5:$DK$50,MATCH('Pre-Rinse Spray Valves'!GR27,'Floor Space'!$I$5:$I$50,0),MATCH('Pre-Rinse Spray Valves'!GR$10,'Floor Space'!$I$5:$DK$5,0))*'Pre-Rinse Spray Valves'!GY27","v":41.627367974939247},423.82563820094674,{"$f":"GS27+GV27-GT27","v":2064.4894046639461},5.7664451704165351,2.057845133278291E-2]
[null,2003,14505.536093259003,0,2774.5797057042,300.04826596866093,3074.6279716728609,14805.584359227665,5.7664451704165351,2.0685086303573463E-2,null,null,2003,1353.9607052857441,0,259.82434000139233,{"$f":"INDEX('Floor Space'!$I$5:$DK$54,MATCH('Pre-Rinse Spray Valves'!M28,'Floor Space'!$I$5:$I$54,0),MATCH('Pre-Rinse Spray Valves'!M$10,'Floor Space'!$I$5:$DK$5,0))*'Pre-Rinse Spray Valves'!T28","v":20.673364136878668},280.49770413827099,1374.6340694226228,5.7664451704165351,1.5268806588087713E-2,null,null,2003,610.01478125188135,0,117.06151242876298,{"$f":"INDEX('Floor Space'!$I$5:$DK$50,MATCH('Pre-Rinse Spray Valves'!X28,'Floor Space'!$I$5:$I$50,0),MATCH('Pre-Rinse Spray Valves'!X$10,'Floor Space'!$I$5:$DK$5,0))*'Pre-Rinse Spray Valves'!AE28","v":9.3141977108095304},126.3757101395725,{"$f":"Y28+AB28-Z28","v":619.32897896269083},5.7664451704165351,1.5268806588087491E-2,null,null,2003,715.77360418680985,0,137.35657436159264,{"$f":"INDEX('Floor Space'!$I$5:$DK$50,MATCH('Pre-Rinse Spray Valves'!AI28,'Floor Space'!$I$5:$I$50,0),MATCH('Pre-Rinse Spray Valves'!AI$10,'Floor Space'!$I$5:$DK$5,0))*'Pre-Rinse Spray Valves'!AP28","v":10.929008723186755},148.28558308477938,{"$f":"AJ28+AM28-AK28","v":726.70261290999656},5.7664451704165351,1.5268806588087491E-2,null,null,2003,633.78847602907456,0,121.03717505057283,{"$f":"INDEX('Floor Space'!$I$5:$DK$50,MATCH('Pre-Rinse Spray Valves'!AT28,'Floor Space'!$I$5:$I$50,0),MATCH('Pre-Rinse Spray Valves'!AT$10,'Floor Space'!$I$5:$DK$5,0))*'Pre-Rinse Spray Valves'!BA28","v":9.4180798015018929},130.45525485207472,{"$f":"AU28+AX28-AV28","v":643.20655583057646},5.7664451704165351,1.4859973252448144E-2,null,null,2003,1170.5967507182615,0,223.55364477125352,{"$f":"INDEX('Floor Space'!$I$5:$DK$50,MATCH('Pre-Rinse Spray Valves'!BE28,'Floor Space'!$I$5:$I$50,0),MATCH('Pre-Rinse Spray Valves'!BE$10,'Floor Space'!$I$5:$DK$5,0))*'Pre-Rinse Spray Valves'!BL28","v":17.395036405076038},240.94868117632956,{"$f":"BF28+BI28-BG28","v":1187.9917871233376},5.7664451704165351,1.4859973252448144E-2,null,null,2003,292.64918767956539,0,55.888411192813379,{"$f":"INDEX('Floor Space'!$I$5:$DK$50,MATCH('Pre-Rinse Spray Valves'!BP28,'Floor Space'!$I$5:$I$50,0),MATCH('Pre-Rinse Spray Valves'!BP$10,'Floor Space'!$I$5:$DK$5,0))*'Pre-Rinse Spray Valves'!BW28","v":4.3487591012690094},60.237170294082389,{"$f":"BQ28+BT28-BR28","v":296.99794678083441},5.7664451704165351,1.4859973252448144E-2,null,null,2003,565.02297576082503,0,107.90474647510192,{"$f":"INDEX('Floor Space'!$I$5:$DK$50,MATCH('Pre-Rinse Spray Valves'!CA28,'Floor Space'!$I$5:$I$50,0),MATCH('Pre-Rinse Spray Valves'!CA$10,'Floor Space'!$I$5:$DK$5,0))*'Pre-Rinse Spray Valves'!CH28","v":8.3962263068244987},116.30097278192642,{"$f":"CB28+CE28-CC28","v":573.41920206764951},5.7664451704165351,1.4859973252448144E-2,null,null,2003,1210.3359173500576,0,231.3097571384088,{"$f":"INDEX('Floor Space'!$I$5:$DK$50,MATCH('Pre-Rinse Spray Valves'!CL28,'Floor Space'!$I$5:$I$50,0),MATCH('Pre-Rinse Spray Valves'!CL$10,'Floor Space'!$I$5:$DK$5,0))*'Pre-Rinse Spray Valves'!CS28","v":37.215137854124009},268.52489499253284,{"$f":"CM28+CP28-CN28","v":1247.5510552041815},5.7664451704165351,3.0747776150941375E-2,null,null,2003,615.05293632015537,0,118.52083513479278,{"$f":"INDEX('Floor Space'!$I$5:$DK$50,MATCH('Pre-Rinse Spray Valves'!CW28,'Floor Space'!$I$5:$I$50,0),MATCH('Pre-Rinse Spray Valves'!CW$10,'Floor Space'!$I$5:$DK$5,0))*'Pre-Rinse Spray Valves'!DD28","v":18.431611619131914},136.95244675392468,{"$f":"CX28+DA28-CY28","v":633.48454793928727},5.7664451704165351,2.9967520729854202E-2,null,null,2003,1722.9274432336738,0,326.82248378293315,{"$f":"INDEX('Floor Space'!$I$5:$DK$50,MATCH('Pre-Rinse Spray Valves'!DH28,'Floor Space'!$I$5:$I$50,0),MATCH('Pre-Rinse Spray Valves'!DH$10,'Floor Space'!$I$5:$DK$5,0))*'Pre-Rinse Spray Valves'!DO28","v":39.138385713142014},365.96086949607513,{"$f":"DI28+DL28-DJ28","v":1762.0658289468158},5.7664451704165351,2.2716212378441902E-2,null,null,2003,288.71369373504865,0,57.506126612901845,{"$f":"INDEX('Floor Space'!$I$5:$DK$50,MATCH('Pre-Rinse Spray Valves'!DS28,'Floor Space'!$I$5:$I$50,0),MATCH('Pre-Rinse Spray Valves'!DS$10,'Floor Space'!$I$5:$DK$5,0))*'Pre-Rinse Spray Valves'!DZ28","v":3.5745372859805409},61.080663898882385,{"$f":"DT28+DW28-DU28","v":292.28823102102922},5.7664451704165351,1.2380906633617794E-2,null,null,2003,116.82988606142253,0,23.046650698361656,{"$f":"INDEX('Floor Space'!$I$5:$DK$50,MATCH('Pre-Rinse Spray Valves'!ED28,'Floor Space'!$I$5:$I$50,0),MATCH('Pre-Rinse Spray Valves'!ED$10,'Floor Space'!$I$5:$DK$5,0))*'Pre-Rinse Spray Valves'!EK28","v":1.4464599113426695},24.493110609704324,{"$f":"EE28+EH28-EF28","v":118.2763459727652},5.7664451704165351,1.2380906633617794E-2,null,null,2003,245.70706796861688,0,48.581289976810766,{"$f":"INDEX('Floor Space'!$I$5:$DK$50,MATCH('Pre-Rinse Spray Valves'!EO28,'Floor Space'!$I$5:$I$50,0),MATCH('Pre-Rinse Spray Valves'!EO$10,'Floor Space'!$I$5:$DK$5,0))*'Pre-Rinse Spray Valves'!EV28","v":7.3808658800651195},55.962155856875881,{"$f":"EP28+ES28-EQ28","v":253.08793384868201},5.7664451704165351,3.0039290041944833E-2,null,null,2003,822.76485570713032,0,158.48395840741208,{"$f":"INDEX('Floor Space'!$I$5:$DK$50,MATCH('Pre-Rinse Spray Valves'!EZ28,'Floor Space'!$I$5:$I$50,0),MATCH('Pre-Rinse Spray Valves'!EZ$10,'Floor Space'!$I$5:$DK$5,0))*'Pre-Rinse Spray Valves'!FG28","v":9.5352668720070337},168.01922527941912,{"$f":"FA28+FD28-FB28","v":832.30012257913734},5.7664451704165351,1.1589297726884329E-2,null,null,2003,323.67014794882328,0,62.139649139495717,{"$f":"INDEX('Floor Space'!$I$5:$DK$50,MATCH('Pre-Rinse Spray Valves'!FK28,'Floor Space'!$I$5:$I$50,0),MATCH('Pre-Rinse Spray Valves'!FK$10,'Floor Space'!$I$5:$DK$5,0))*'Pre-Rinse Spray Valves'!FR28","v":5.9933591473049752},68.133008286800688,{"$f":"FL28+FO28-FM28","v":329.66350709612828},5.7664451704165351,1.8516873382628418E-2,null,null,2003,699.23900687901789,0,133.30023119810528,{"$f":"INDEX('Floor Space'!$I$5:$DK$50,MATCH('Pre-Rinse Spray Valves'!FV28,'Floor Space'!$I$5:$I$50,0),MATCH('Pre-Rinse Spray Valves'!FV$10,'Floor Space'!$I$5:$DK$5,0))*'Pre-Rinse Spray Valves'!GC28","v":18.741009335185169},152.04124053329045,{"$f":"FW28+FZ28-FX28","v":717.98001621420303},5.7664451704165351,2.6802007826814078E-2,null,null,2003,1053.9992524789511,0,202.17900060416119,{"$f":"INDEX('Floor Space'!$I$5:$DK$50,MATCH('Pre-Rinse Spray Valves'!GG28,'Floor Space'!$I$5:$I$50,0),MATCH('Pre-Rinse Spray Valves'!GG$10,'Floor Space'!$I$5:$DK$5,0))*'Pre-Rinse Spray Valves'!GN28","v":23.398700627134968},225.57770123129615,{"$f":"GH28+GK28-GI28","v":1077.3979531060861},5.7664451704165351,2.2199921463039507E-2,null,null,2003,2064.4894046639461,0,390.06331872932719,{"$f":"INDEX('Floor Space'!$I$5:$DK$50,MATCH('Pre-Rinse Spray Valves'!GR28,'Floor Space'!$I$5:$I$50,0),MATCH('Pre-Rinse Spray Valves'!GR$10,'Floor Space'!$I$5:$DK$5,0))*'Pre-Rinse Spray Valves'!GY28","v":54.718259537696134},444.78157826702335,{"$f":"GS28+GV28-GT28","v":2119.2076642016423},5.7664451704165351,2.6504500054144398E-2]
[null,2004,14805.584359227665,0,2831.9178700316747,293.63196954136367,3125.5498395730392,15099.216328769027,5.7664451704165351,1.9832514706409121E-2,null,null,2004,1374.6340694226228,0,263.79154759575113,{"$f":"INDEX('Floor Space'!$I$5:$DK$54,MATCH('Pre-Rinse Spray Valves'!M29,'Floor Space'!$I$5:$I$54,0),MATCH('Pre-Rinse Spray Valves'!M$10,'Floor Space'!$I$5:$DK$5,0))*'Pre-Rinse Spray Valves'!T29","v":24.41454344902764},288.20609104477876,1399.0486128716504,5.7664451704165351,1.7760758293501544E-2,null,null,2004,619.32897896269083,0,118.84890202094675,{"$f":"INDEX('Floor Space'!$I$5:$DK$50,MATCH('Pre-Rinse Spray Valves'!X29,'Floor Space'!$I$5:$I$50,0),MATCH('Pre-Rinse Spray Valves'!X$10,'Floor Space'!$I$5:$DK$5,0))*'Pre-Rinse Spray Valves'!AE29","v":10.999752299517464},129.84865432046422,630.32873126220829,5.7664451704165351,1.7760758293501544E-2,null,null,2004,726.70261290999656,0,139.45384532912203,{"$f":"INDEX('Floor Space'!$I$5:$DK$50,MATCH('Pre-Rinse Spray Valves'!AI29,'Floor Space'!$I$5:$I$50,0),MATCH('Pre-Rinse Spray Valves'!AI$10,'Floor Space'!$I$5:$DK$5,0))*'Pre-Rinse Spray Valves'!AP29","v":12.906789459150477},152.36063478827251,739.60940236914701,5.7664451704165351,1.7760758293501544E-2,null,null,2004,643.20655583057646,0,122.83578423437621,{"$f":"INDEX('Floor Space'!$I$5:$DK$50,MATCH('Pre-Rinse Spray Valves'!AT29,'Floor Space'!$I$5:$I$50,0),MATCH('Pre-Rinse Spray Valves'!AT$10,'Floor Space'!$I$5:$DK$5,0))*'Pre-Rinse Spray Valves'!BA29","v":10.178595608494103},133.01437984287031,653.38515143907057,5.7664451704165351,1.5824769689031681E-2,null,null,2004,1187.9917871233376,0,226.87564595304167,{"$f":"INDEX('Floor Space'!$I$5:$DK$50,MATCH('Pre-Rinse Spray Valves'!BE29,'Floor Space'!$I$5:$I$50,0),MATCH('Pre-Rinse Spray Valves'!BE$10,'Floor Space'!$I$5:$DK$5,0))*'Pre-Rinse Spray Valves'!BL29","v":18.799696423687855},245.67534237672953,1206.7914835470256,5.7664451704165351,1.5824769689031681E-2,null,null,2004,296.99794678083441,0,56.718911488260417,{"$f":"INDEX('Floor Space'!$I$5:$DK$50,MATCH('Pre-Rinse Spray Valves'!BP29,'Floor Space'!$I$5:$I$50,0),MATCH('Pre-Rinse Spray Valves'!BP$10,'Floor Space'!$I$5:$DK$5,0))*'Pre-Rinse Spray Valves'!BW29","v":4.6999241059219639},61.418835594182383,301.69787088675639,5.7664451704165351,1.5824769689031681E-2,null,null,2004,573.41920206764951,0,109.50820812153412,{"$f":"INDEX('Floor Space'!$I$5:$DK$50,MATCH('Pre-Rinse Spray Valves'!CA29,'Floor Space'!$I$5:$I$50,0),MATCH('Pre-Rinse Spray Valves'!CA$10,'Floor Space'!$I$5:$DK$5,0))*'Pre-Rinse Spray Valves'!CH29","v":9.0742268079888166},118.58243492952295,582.4934288756383,5.7664451704165351,1.5824769689031459E-2,null,null,2004,1247.5510552041815,0,238.42201777242923,{"$f":"INDEX('Floor Space'!$I$5:$DK$50,MATCH('Pre-Rinse Spray Valves'!CL29,'Floor Space'!$I$5:$I$50,0),MATCH('Pre-Rinse Spray Valves'!CL$10,'Floor Space'!$I$5:$DK$5,0))*'Pre-Rinse Spray Valves'!CS29","v":24.904192599336973},263.32621037176619,1272.4552478035184,5.7664451704165351,1.9962463656656437E-2,null,null,2004,633.48454793928727,0,122.07261071861431,{"$f":"INDEX('Floor Space'!$I$5:$DK$50,MATCH('Pre-Rinse Spray Valves'!CW29,'Floor Space'!$I$5:$I$50,0),MATCH('Pre-Rinse Spray Valves'!CW$10,'Floor Space'!$I$5:$DK$5,0))*'Pre-Rinse Spray Valves'!DD29","v":9.8065665843847913},131.8791773029991,643.29111452367204,5.7664451704165351,1.5480356413246854E-2,null,null,2004,1762.0658289468158,0,334.24665273459618,{"$f":"INDEX('Floor Space'!$I$5:$DK$50,MATCH('Pre-Rinse Spray Valves'!DH29,'Floor Space'!$I$5:$I$50,0),MATCH('Pre-Rinse Spray Valves'!DH$10,'Floor Space'!$I$5:$DK$5,0))*'Pre-Rinse Spray Valves'!DO29","v":35.082487305187499},369.32914003978368,1797.1483162520033,5.7664451704165351,1.9909861895543557E-2,null,null,2004,292.28823102102922,0,58.218104597357197,{"$f":"INDEX('Floor Space'!$I$5:$DK$50,MATCH('Pre-Rinse Spray Valves'!DS29,'Floor Space'!$I$5:$I$50,0),MATCH('Pre-Rinse Spray Valves'!DS$10,'Floor Space'!$I$5:$DK$5,0))*'Pre-Rinse Spray Valves'!DZ29","v":3.8562245516931219},62.074329149050321,296.14445557272234,5.7664451704165351,1.31932255302325E-2,null,null,2004,118.2763459727652,0,23.331989128875669,{"$f":"INDEX('Floor Space'!$I$5:$DK$50,MATCH('Pre-Rinse Spray Valves'!ED29,'Floor Space'!$I$5:$I$50,0),MATCH('Pre-Rinse Spray Valves'!ED$10,'Floor Space'!$I$5:$DK$5,0))*'Pre-Rinse Spray Valves'!EK29","v":1.5604465073104916},24.892435636186161,119.83679248007569,5.7664451704165351,1.31932255302325E-2,null,null,2004,253.08793384868201,0,50.040637437036011,{"$f":"INDEX('Floor Space'!$I$5:$DK$50,MATCH('Pre-Rinse Spray Valves'!EO29,'Floor Space'!$I$5:$I$50,0),MATCH('Pre-Rinse Spray Valves'!EO$10,'Floor Space'!$I$5:$DK$5,0))*'Pre-Rinse Spray Valves'!EV29","v":7.9625064567353112},58.003143893771323,261.05044030541734,5.7664451704165351,3.1461422659114335E-2,null,null,2004,832.30012257913734,0,160.32067618633073,{"$f":"INDEX('Floor Space'!$I$5:$DK$50,MATCH('Pre-Rinse Spray Valves'!EZ29,'Floor Space'!$I$5:$I$50,0),MATCH('Pre-Rinse Spray Valves'!EZ$10,'Floor Space'!$I$5:$DK$5,0))*'Pre-Rinse Spray Valves'!FG29","v":10.756000248803531},171.07667643513426,843.05612282794084,5.7664451704165351,1.2923223194384104E-2,null,null,2004,329.66350709612828,0,63.29028115465271,{"$f":"INDEX('Floor Space'!$I$5:$DK$50,MATCH('Pre-Rinse Spray Valves'!FK29,'Floor Space'!$I$5:$I$50,0),MATCH('Pre-Rinse Spray Valves'!FK$10,'Floor Space'!$I$5:$DK$5,0))*'Pre-Rinse Spray Valves'!FR29","v":6.5053986039064453},69.79567975855916,336.16890570003471,5.7664451704165351,1.9733450818411269E-2,null,null,2004,717.98001621420303,0,136.87294503799302,{"$f":"INDEX('Floor Space'!$I$5:$DK$50,MATCH('Pre-Rinse Spray Valves'!FV29,'Floor Space'!$I$5:$I$50,0),MATCH('Pre-Rinse Spray Valves'!FV$10,'Floor Space'!$I$5:$DK$5,0))*'Pre-Rinse Spray Valves'!GC29","v":19.316424561445391},156.18936959943841,737.29644077564842,5.7664451704165351,2.6903847078220799E-2,null,null,2004,1077.3979531060861,0,206.66735853904939,{"$f":"INDEX('Floor Space'!$I$5:$DK$50,MATCH('Pre-Rinse Spray Valves'!GG29,'Floor Space'!$I$5:$I$50,0),MATCH('Pre-Rinse Spray Valves'!GG$10,'Floor Space'!$I$5:$DK$5,0))*'Pre-Rinse Spray Valves'!GN29","v":32.384840458453581},239.05219899750296,1109.7827935645396,5.7664451704165351,3.0058383130476152E-2,null,null,2004,2119.2076642016423,0,400.4017519817084,{"$f":"INDEX('Floor Space'!$I$5:$DK$50,MATCH('Pre-Rinse Spray Valves'!GR29,'Floor Space'!$I$5:$I$50,0),MATCH('Pre-Rinse Spray Valves'!GR$10,'Floor Space'!$I$5:$DK$5,0))*'Pre-Rinse Spray Valves'!GY29","v":50.423353510318194},450.82510549202658,2169.6310177119603,5.7664451704165351,2.3793493371171648E-2]
[null,2005,15099.216328769027,0,2888.0517982289198,319.79100690083698,3207.842805129756,15419.007335669863,5.7664451704165351,2.1179311557483205E-2,null,null,2005,1399.0486128716504,0,268.47668551246795,{"$f":"INDEX('Floor Space'!$I$5:$DK$54,MATCH('Pre-Rinse Spray Valves'!M30,'Floor Space'!$I$5:$I$54,0),MATCH('Pre-Rinse Spray Valves'!M$10,'Floor Space'!$I$5:$DK$5,0))*'Pre-Rinse Spray Valves'!T30","v":18.874916496941729},287.3516020094097,1417.9235293685922,5.7664451704165351,1.3491251357020007E-2,null,null,2005,630.32873126220829,0,120.95974864318885,{"$f":"INDEX('Floor Space'!$I$5:$DK$50,MATCH('Pre-Rinse Spray Valves'!X30,'Floor Space'!$I$5:$I$50,0),MATCH('Pre-Rinse Spray Valves'!X$10,'Floor Space'!$I$5:$DK$5,0))*'Pre-Rinse Spray Valves'!AE30","v":8.5039233510100214},129.46367199419888,638.83265461321832,5.7664451704165351,1.3491251357020007E-2,null,null,2005,739.60940236914701,0,141.93065136911196,{"$f":"INDEX('Floor Space'!$I$5:$DK$50,MATCH('Pre-Rinse Spray Valves'!AI30,'Floor Space'!$I$5:$I$50,0),MATCH('Pre-Rinse Spray Valves'!AI$10,'Floor Space'!$I$5:$DK$5,0))*'Pre-Rinse Spray Valves'!AP30","v":9.9782563533775743},151.90890772248952,749.58765872252457,5.7664451704165351,1.3491251357020007E-2,null,null,2005,653.38515143907057,0,124.77963222945681,{"$f":"INDEX('Floor Space'!$I$5:$DK$50,MATCH('Pre-Rinse Spray Valves'!AT30,'Floor Space'!$I$5:$I$50,0),MATCH('Pre-Rinse Spray Valves'!AT$10,'Floor Space'!$I$5:$DK$5,0))*'Pre-Rinse Spray Valves'!BA30","v":13.781065654410712},138.56069788386753,667.16621709348124,5.7664451704165351,2.1091794975839351E-2,null,null,2005,1206.7914835470256,0,230.46590079829886,{"$f":"INDEX('Floor Space'!$I$5:$DK$50,MATCH('Pre-Rinse Spray Valves'!BE30,'Floor Space'!$I$5:$I$50,0),MATCH('Pre-Rinse Spray Valves'!BE$10,'Floor Space'!$I$5:$DK$5,0))*'Pre-Rinse Spray Valves'!BL30","v":25.453398549563047},255.91929934786191,1232.2448820965885,5.7664451704165351,2.1091794975839351E-2,null,null,2005,301.69787088675639,0,57.616475199574715,{"$f":"INDEX('Floor Space'!$I$5:$DK$50,MATCH('Pre-Rinse Spray Valves'!BP30,'Floor Space'!$I$5:$I$50,0),MATCH('Pre-Rinse Spray Valves'!BP$10,'Floor Space'!$I$5:$DK$5,0))*'Pre-Rinse Spray Valves'!BW30","v":6.3633496373907619},63.979824836965477,308.06122052414713,5.7664451704165351,2.1091794975839351E-2,null,null,2005,582.4934288756383,0,111.24115029411593,{"$f":"INDEX('Floor Space'!$I$5:$DK$50,MATCH('Pre-Rinse Spray Valves'!CA30,'Floor Space'!$I$5:$I$50,0),MATCH('Pre-Rinse Spray Valves'!CA$10,'Floor Space'!$I$5:$DK$5,0))*'Pre-Rinse Spray Valves'!CH30","v":12.285831976618711},123.52698227073463,594.77926085225704,5.7664451704165351,2.1091794975839573E-2,null,null,2005,1272.4552478035184,0,243.18150863715809,{"$f":"INDEX('Floor Space'!$I$5:$DK$50,MATCH('Pre-Rinse Spray Valves'!CL30,'Floor Space'!$I$5:$I$50,0),MATCH('Pre-Rinse Spray Valves'!CL$10,'Floor Space'!$I$5:$DK$5,0))*'Pre-Rinse Spray Valves'!CS30","v":28.918503404722447},272.10001204188052,1301.3737512082409,5.7664451704165351,2.272653867760055E-2,null,null,2005,643.29111452367204,0,123.962338240834,{"$f":"INDEX('Floor Space'!$I$5:$DK$50,MATCH('Pre-Rinse Spray Valves'!CW30,'Floor Space'!$I$5:$I$50,0),MATCH('Pre-Rinse Spray Valves'!CW$10,'Floor Space'!$I$5:$DK$5,0))*'Pre-Rinse Spray Valves'!DD30","v":12.808370348077503},136.7707085889115,656.0994848717495,5.7664451704165351,1.9910690601659287E-2,null,null,2005,1797.1483162520033,0,340.90145742958964,{"$f":"INDEX('Floor Space'!$I$5:$DK$50,MATCH('Pre-Rinse Spray Valves'!DH30,'Floor Space'!$I$5:$I$50,0),MATCH('Pre-Rinse Spray Valves'!DH$10,'Floor Space'!$I$5:$DK$5,0))*'Pre-Rinse Spray Valves'!DO30","v":54.649281320567617},395.55073875015728,1851.7975975725708,5.7664451704165351,3.0408887695223763E-2,null,null,2005,296.14445557272234,0,58.986189181252783,{"$f":"INDEX('Floor Space'!$I$5:$DK$50,MATCH('Pre-Rinse Spray Valves'!DS30,'Floor Space'!$I$5:$I$50,0),MATCH('Pre-Rinse Spray Valves'!DS$10,'Floor Space'!$I$5:$DK$5,0))*'Pre-Rinse Spray Valves'!DZ30","v":0.57592366857831534},59.562112849831095,296.72037924130063,5.7664451704165351,1.9447389871423137E-3,null,null,2005,119.83679248007569,0,23.63981332352186,{"$f":"INDEX('Floor Space'!$I$5:$DK$50,MATCH('Pre-Rinse Spray Valves'!ED30,'Floor Space'!$I$5:$I$50,0),MATCH('Pre-Rinse Spray Valves'!ED$10,'Floor Space'!$I$5:$DK$5,0))*'Pre-Rinse Spray Valves'!EK30","v":0.81195457898028167},24.451767902502141,120.64874705905596,5.7664451704165351,6.7755032672063287E-3,null,null,2005,261.05044030541734,0,51.614987081574085,{"$f":"INDEX('Floor Space'!$I$5:$DK$50,MATCH('Pre-Rinse Spray Valves'!EO30,'Floor Space'!$I$5:$I$50,0),MATCH('Pre-Rinse Spray Valves'!EO$10,'Floor Space'!$I$5:$DK$5,0))*'Pre-Rinse Spray Valves'!EV30","v":1.4232407072387825},53.038227788812868,262.47368101265613,5.7664451704165351,5.4519758923741168E-3,null,null,2005,843.05612282794084,0,162.39253606736128,{"$f":"INDEX('Floor Space'!$I$5:$DK$50,MATCH('Pre-Rinse Spray Valves'!EZ30,'Floor Space'!$I$5:$I$50,0),MATCH('Pre-Rinse Spray Valves'!EZ$10,'Floor Space'!$I$5:$DK$5,0))*'Pre-Rinse Spray Valves'!FG30","v":13.550050525896477},175.94258659325774,856.60617335383733,5.7664451704165351,1.6072536761187806E-2,null,null,2005,336.16890570003471,0,64.539216805101461,{"$f":"INDEX('Floor Space'!$I$5:$DK$50,MATCH('Pre-Rinse Spray Valves'!FK30,'Floor Space'!$I$5:$I$50,0),MATCH('Pre-Rinse Spray Valves'!FK$10,'Floor Space'!$I$5:$DK$5,0))*'Pre-Rinse Spray Valves'!FR30","v":20.849516677758587},85.388733482860047,357.01842237779329,5.7664451704165351,6.20209553121569E-2,null,null,2005,737.29644077564842,0,140.55535382044093,{"$f":"INDEX('Floor Space'!$I$5:$DK$50,MATCH('Pre-Rinse Spray Valves'!FV30,'Floor Space'!$I$5:$I$50,0),MATCH('Pre-Rinse Spray Valves'!FV$10,'Floor Space'!$I$5:$DK$5,0))*'Pre-Rinse Spray Valves'!GC30","v":23.29541206124247},163.8507658816834,760.59185283689089,5.7664451704165351,3.1595720219041556E-2,null,null,2005,1109.7827935645396,0,212.87944518257962,{"$f":"INDEX('Floor Space'!$I$5:$DK$50,MATCH('Pre-Rinse Spray Valves'!GG30,'Floor Space'!$I$5:$I$50,0),MATCH('Pre-Rinse Spray Valves'!GG$10,'Floor Space'!$I$5:$DK$5,0))*'Pre-Rinse Spray Valves'!GN30","v":19.545827220740481},232.42527240332009,1129.32862078528,5.7664451704165351,1.7612299752783667E-2,null,null,2005,2169.6310177119603,0,409.92870841329074,{"$f":"INDEX('Floor Space'!$I$5:$DK$50,MATCH('Pre-Rinse Spray Valves'!GR30,'Floor Space'!$I$5:$I$50,0),MATCH('Pre-Rinse Spray Valves'!GR$10,'Floor Space'!$I$5:$DK$5,0))*'Pre-Rinse Spray Valves'!GY30","v":48.122184367721431},458.05089278101218,2217.7532020796816,5.7664451704165351,2.2179893251373928E-2]
[null,2006,15419.007335669863,0,2949.0877165212555,374.27878162507147,3323.3664981463271,15793.286117294934,5.7664451704165351,2.4273857160650447E-2,null,null,2006,1417.9235293685922,0,272.09877196021631,{"$f":"INDEX('Floor Space'!$I$5:$DK$54,MATCH('Pre-Rinse Spray Valves'!M31,'Floor Space'!$I$5:$I$54,0),MATCH('Pre-Rinse Spray Valves'!M$10,'Floor Space'!$I$5:$DK$5,0))*'Pre-Rinse Spray Valves'!T31","v":35.085213829437464},307.18398578965378,1453.0087431980296,5.7664451704165351,2.4744080412475444E-2,null,null,2006,638.83265461321832,0,122.59164701621607,{"$f":"INDEX('Floor Space'!$I$5:$DK$50,MATCH('Pre-Rinse Spray Valves'!X31,'Floor Space'!$I$5:$I$50,0),MATCH('Pre-Rinse Spray Valves'!X$10,'Floor Space'!$I$5:$DK$5,0))*'Pre-Rinse Spray Valves'!AE31","v":15.807326575864645},138.39897359208072,654.63998118908296,5.7664451704165351,2.4744080412475444E-2,null,null,2006,749.58765872252457,0,143.84547346199821,{"$f":"INDEX('Floor Space'!$I$5:$DK$50,MATCH('Pre-Rinse Spray Valves'!AI31,'Floor Space'!$I$5:$I$50,0),MATCH('Pre-Rinse Spray Valves'!AI$10,'Floor Space'!$I$5:$DK$5,0))*'Pre-Rinse Spray Valves'!AP31","v":18.547857303629371},162.39333076562758,768.13551602615394,5.7664451704165351,2.4744080412475444E-2,null,null,2006,667.16621709348124,0,127.41145864960113,{"$f":"INDEX('Floor Space'!$I$5:$DK$50,MATCH('Pre-Rinse Spray Valves'!AT31,'Floor Space'!$I$5:$I$50,0),MATCH('Pre-Rinse Spray Valves'!AT$10,'Floor Space'!$I$5:$DK$5,0))*'Pre-Rinse Spray Valves'!BA31","v":17.861760896804697},145.27321954640581,685.02797799028599,5.7664451704165351,2.6772579964584819E-2,null,null,2006,1232.2448820965885,0,235.3268403268587,{"$f":"INDEX('Floor Space'!$I$5:$DK$50,MATCH('Pre-Rinse Spray Valves'!BE31,'Floor Space'!$I$5:$I$50,0),MATCH('Pre-Rinse Spray Valves'!BE$10,'Floor Space'!$I$5:$DK$5,0))*'Pre-Rinse Spray Valves'!BL31","v":32.990374641881168},268.31721496873985,1265.2352567384696,5.7664451704165351,2.6772579964584597E-2,null,null,2006,308.06122052414713,0,58.831710081714675,{"$f":"INDEX('Floor Space'!$I$5:$DK$50,MATCH('Pre-Rinse Spray Valves'!BP31,'Floor Space'!$I$5:$I$50,0),MATCH('Pre-Rinse Spray Valves'!BP$10,'Floor Space'!$I$5:$DK$5,0))*'Pre-Rinse Spray Valves'!BW31","v":8.247593660470292},67.079303742184962,316.3088141846174,5.7664451704165351,2.6772579964584597E-2,null,null,2006,594.77926085225704,0,113.58742582899598,{"$f":"INDEX('Floor Space'!$I$5:$DK$50,MATCH('Pre-Rinse Spray Valves'!CA31,'Floor Space'!$I$5:$I$50,0),MATCH('Pre-Rinse Spray Valves'!CA$10,'Floor Space'!$I$5:$DK$5,0))*'Pre-Rinse Spray Valves'!CH31","v":15.923775322443635},129.51120115143962,610.70303617470063,5.7664451704165351,2.6772579964584597E-2,null,null,2006,1301.3737512082409,0,248.7081825988777,{"$f":"INDEX('Floor Space'!$I$5:$DK$50,MATCH('Pre-Rinse Spray Valves'!CL31,'Floor Space'!$I$5:$I$50,0),MATCH('Pre-Rinse Spray Valves'!CL$10,'Floor Space'!$I$5:$DK$5,0))*'Pre-Rinse Spray Valves'!CS31","v":28.070593773974057},276.77877637285178,1329.4443449822149,5.7664451704165351,2.1569970769667268E-2,null,null,2006,656.0994848717495,0,126.4305140038055,{"$f":"INDEX('Floor Space'!$I$5:$DK$50,MATCH('Pre-Rinse Spray Valves'!CW31,'Floor Space'!$I$5:$I$50,0),MATCH('Pre-Rinse Spray Valves'!CW$10,'Floor Space'!$I$5:$DK$5,0))*'Pre-Rinse Spray Valves'!DD31","v":11.335285797733235},137.76579980153872,667.43477066948276,5.7664451704165351,1.7276778993278841E-2,null,null,2006,1851.7975975725708,0,351.2678915637041,{"$f":"INDEX('Floor Space'!$I$5:$DK$50,MATCH('Pre-Rinse Spray Valves'!DH31,'Floor Space'!$I$5:$I$50,0),MATCH('Pre-Rinse Spray Valves'!DH$10,'Floor Space'!$I$5:$DK$5,0))*'Pre-Rinse Spray Valves'!DO31","v":52.34853889491346},403.61643045861757,1904.1461364674842,5.7664451704165351,2.8269039210081282E-2,null,null,2006,296.72037924130063,0,59.100901923056512,{"$f":"INDEX('Floor Space'!$I$5:$DK$50,MATCH('Pre-Rinse Spray Valves'!DS31,'Floor Space'!$I$5:$I$50,0),MATCH('Pre-Rinse Spray Valves'!DS$10,'Floor Space'!$I$5:$DK$5,0))*'Pre-Rinse Spray Valves'!DZ31","v":0.59614192912365038},59.697043852180165,297.31652117042427,5.7664451704165351,2.0091034213691739E-3,null,null,2006,120.64874705905596,0,23.799984955931528,{"$f":"INDEX('Floor Space'!$I$5:$DK$50,MATCH('Pre-Rinse Spray Valves'!ED31,'Floor Space'!$I$5:$I$50,0),MATCH('Pre-Rinse Spray Valves'!ED$10,'Floor Space'!$I$5:$DK$5,0))*'Pre-Rinse Spray Valves'!EK31","v":0.79572317726012609},24.595708133191653,121.44447023631609,5.7664451704165351,6.5953704174865901E-3,null,null,2006,262.47368101265613,0,51.896390746828033,{"$f":"INDEX('Floor Space'!$I$5:$DK$50,MATCH('Pre-Rinse Spray Valves'!EO31,'Floor Space'!$I$5:$I$50,0),MATCH('Pre-Rinse Spray Valves'!EO$10,'Floor Space'!$I$5:$DK$5,0))*'Pre-Rinse Spray Valves'!EV31","v":1.4732047094280201},53.36959545625605,263.94688572208418,5.7664451704165351,5.612771169072106E-3,null,null,2006,856.60617335383733,0,165.00259607304645,{"$f":"INDEX('Floor Space'!$I$5:$DK$50,MATCH('Pre-Rinse Spray Valves'!EZ31,'Floor Space'!$I$5:$I$50,0),MATCH('Pre-Rinse Spray Valves'!EZ$10,'Floor Space'!$I$5:$DK$5,0))*'Pre-Rinse Spray Valves'!FG31","v":17.566541047556367},182.56913712060282,874.1727144013937,5.7664451704165351,2.0507138045455342E-2,null,null,2006,357.01842237779329,0,68.542000686452283,{"$f":"INDEX('Floor Space'!$I$5:$DK$50,MATCH('Pre-Rinse Spray Valves'!FK31,'Floor Space'!$I$5:$I$50,0),MATCH('Pre-Rinse Spray Valves'!FK$10,'Floor Space'!$I$5:$DK$5,0))*'Pre-Rinse Spray Valves'!FR31","v":5.234663596800722},73.776664283253012,362.253085974594,5.7664451704165351,1.466216662416775E-2,null,null,2006,760.59185283689089,0,144.99630145503994,{"$f":"INDEX('Floor Space'!$I$5:$DK$50,MATCH('Pre-Rinse Spray Valves'!FV31,'Floor Space'!$I$5:$I$50,0),MATCH('Pre-Rinse Spray Valves'!FV$10,'Floor Space'!$I$5:$DK$5,0))*'Pre-Rinse Spray Valves'!GC31","v":20.682266702035829},165.67856815707577,781.2741195389267,5.7664451704165351,2.7192332687885346E-2,null,null,2006,1129.32862078528,0,216.62874178234151,{"$f":"INDEX('Floor Space'!$I$5:$DK$50,MATCH('Pre-Rinse Spray Valves'!GG31,'Floor Space'!$I$5:$I$50,0),MATCH('Pre-Rinse Spray Valves'!GG$10,'Floor Space'!$I$5:$DK$5,0))*'Pre-Rinse Spray Valves'!GN31","v":23.626636671831193},240.2553784541727,1152.9552574571112,5.7664451704165351,2.0920958024956748E-2,null,null,2006,2217.7532020796816,0,419.02088340657116,{"$f":"INDEX('Floor Space'!$I$5:$DK$50,MATCH('Pre-Rinse Spray Valves'!GR31,'Floor Space'!$I$5:$I$50,0),MATCH('Pre-Rinse Spray Valves'!GR$10,'Floor Space'!$I$5:$DK$5,0))*'Pre-Rinse Spray Valves'!GY31","v":68.085283093883589},487.10616650045472,2285.838485173565,5.7664451704165351,3.070011714109433E-2]
[null,2007,15793.286117294934,0,3020.5143392887949,344.34124343040747,3364.8555827192022,16137.627360725342,5.7664451704165351,2.1803014323493297E-2,null,null,2007,1453.0087431980296,0,278.83160585373571,{"$f":"INDEX('Floor Space'!$I$5:$DK$54,MATCH('Pre-Rinse Spray Valves'!M32,'Floor Space'!$I$5:$I$54,0),MATCH('Pre-Rinse Spray Valves'!M$10,'Floor Space'!$I$5:$DK$5,0))*'Pre-Rinse Spray Valves'!T32","v":26.251303379628414},305.08290923336415,1479.2600465776579,5.7664451704165351,1.8066858511704531E-2,null,null,2007,654.63998118908296,0,125.62506458788313,{"$f":"INDEX('Floor Space'!$I$5:$DK$50,MATCH('Pre-Rinse Spray Valves'!X32,'Floor Space'!$I$5:$I$50,0),MATCH('Pre-Rinse Spray Valves'!X$10,'Floor Space'!$I$5:$DK$5,0))*'Pre-Rinse Spray Valves'!AE32","v":11.827287916248078},137.4523525041312,666.46726910533107,5.7664451704165351,1.8066858511704531E-2,null,null,2007,768.13551602615394,0,147.40479742431253,{"$f":"INDEX('Floor Space'!$I$5:$DK$50,MATCH('Pre-Rinse Spray Valves'!AI32,'Floor Space'!$I$5:$I$50,0),MATCH('Pre-Rinse Spray Valves'!AI$10,'Floor Space'!$I$5:$DK$5,0))*'Pre-Rinse Spray Valves'!AP32","v":13.877795685859672},161.2825931101722,782.01331171201366,5.7664451704165351,1.8066858511704531E-2,null,null,2007,685.02797799028599,0,130.82259211470199,{"$f":"INDEX('Floor Space'!$I$5:$DK$50,MATCH('Pre-Rinse Spray Valves'!AT32,'Floor Space'!$I$5:$I$50,0),MATCH('Pre-Rinse Spray Valves'!AT$10,'Floor Space'!$I$5:$DK$5,0))*'Pre-Rinse Spray Valves'!BA32","v":14.937441575566933},145.76003369026893,699.96541956585293,5.7664451704165351,2.1805593429030434E-2,null,null,2007,1265.2352567384696,0,241.62714697732255,{"$f":"INDEX('Floor Space'!$I$5:$DK$50,MATCH('Pre-Rinse Spray Valves'!BE32,'Floor Space'!$I$5:$I$50,0),MATCH('Pre-Rinse Spray Valves'!BE$10,'Floor Space'!$I$5:$DK$5,0))*'Pre-Rinse Spray Valves'!BL32","v":27.589205600513925},269.21635257783646,1292.8244623389835,5.7664451704165351,2.1805593429030434E-2,null,null,2007,316.3088141846174,0,60.406786744330638,{"$f":"INDEX('Floor Space'!$I$5:$DK$50,MATCH('Pre-Rinse Spray Valves'!BP32,'Floor Space'!$I$5:$I$50,0),MATCH('Pre-Rinse Spray Valves'!BP$10,'Floor Space'!$I$5:$DK$5,0))*'Pre-Rinse Spray Valves'!BW32","v":6.8973014001284811},67.304088144459115,323.20611558474587,5.7664451704165351,2.1805593429030434E-2,null,null,2007,610.70303617470063,0,116.6284542699741,{"$f":"INDEX('Floor Space'!$I$5:$DK$50,MATCH('Pre-Rinse Spray Valves'!CA32,'Floor Space'!$I$5:$I$50,0),MATCH('Pre-Rinse Spray Valves'!CA$10,'Floor Space'!$I$5:$DK$5,0))*'Pre-Rinse Spray Valves'!CH32","v":13.316742112699949},129.94519638267406,624.01977828740053,5.7664451704165351,2.1805593429030212E-2,null,null,2007,1329.4443449822149,0,254.07281082771252,{"$f":"INDEX('Floor Space'!$I$5:$DK$50,MATCH('Pre-Rinse Spray Valves'!CL32,'Floor Space'!$I$5:$I$50,0),MATCH('Pre-Rinse Spray Valves'!CL$10,'Floor Space'!$I$5:$DK$5,0))*'Pre-Rinse Spray Valves'!CS32","v":30.366921672518586},284.43973250023112,1359.8112666547336,5.7664451704165351,2.2841814918491243E-2,null,null,2007,667.43477066948276,0,128.61482605225589,{"$f":"INDEX('Floor Space'!$I$5:$DK$50,MATCH('Pre-Rinse Spray Valves'!CW32,'Floor Space'!$I$5:$I$50,0),MATCH('Pre-Rinse Spray Valves'!CW$10,'Floor Space'!$I$5:$DK$5,0))*'Pre-Rinse Spray Valves'!DD32","v":12.543865135939209},141.15869118819509,679.97863580542196,5.7664451704165351,1.8794143918149153E-2,null,null,2007,1904.1461364674842,0,361.19789736356114,{"$f":"INDEX('Floor Space'!$I$5:$DK$50,MATCH('Pre-Rinse Spray Valves'!DH32,'Floor Space'!$I$5:$I$50,0),MATCH('Pre-Rinse Spray Valves'!DH$10,'Floor Space'!$I$5:$DK$5,0))*'Pre-Rinse Spray Valves'!DO32","v":50.148619037402561},411.34651640096371,1954.2947555048868,5.7664451704165351,2.6336539027638217E-2,null,null,2007,297.31652117042427,0,59.219641747316139,{"$f":"INDEX('Floor Space'!$I$5:$DK$50,MATCH('Pre-Rinse Spray Valves'!DS32,'Floor Space'!$I$5:$I$50,0),MATCH('Pre-Rinse Spray Valves'!DS$10,'Floor Space'!$I$5:$DK$5,0))*'Pre-Rinse Spray Valves'!DZ32","v":0.60569482809815933},59.825336575414298,297.9222159985224,5.7664451704165351,2.0372054190387345E-3,null,null,2007,121.44447023631609,0,23.956954672646511,{"$f":"INDEX('Floor Space'!$I$5:$DK$50,MATCH('Pre-Rinse Spray Valves'!ED32,'Floor Space'!$I$5:$I$50,0),MATCH('Pre-Rinse Spray Valves'!ED$10,'Floor Space'!$I$5:$DK$5,0))*'Pre-Rinse Spray Valves'!EK32","v":0.82862952862434947},24.785584201270861,122.27309976494044,5.7664451704165351,6.8231145231392176E-3,null,null,2007,263.94688572208418,0,52.187673312590732,{"$f":"INDEX('Floor Space'!$I$5:$DK$50,MATCH('Pre-Rinse Spray Valves'!EO32,'Floor Space'!$I$5:$I$50,0),MATCH('Pre-Rinse Spray Valves'!EO$10,'Floor Space'!$I$5:$DK$5,0))*'Pre-Rinse Spray Valves'!EV32","v":1.4968121342213494},53.684485446812083,265.4436978563055,5.7664451704165351,5.670883860313225E-3,null,null,2007,874.1727144013937,0,168.38632708857492,{"$f":"INDEX('Floor Space'!$I$5:$DK$50,MATCH('Pre-Rinse Spray Valves'!EZ32,'Floor Space'!$I$5:$I$50,0),MATCH('Pre-Rinse Spray Valves'!EZ$10,'Floor Space'!$I$5:$DK$5,0))*'Pre-Rinse Spray Valves'!FG32","v":17.227393041207058},185.61372012978197,891.40010744260076,5.7664451704165351,1.9707081629748435E-2,null,null,2007,362.253085974594,0,69.546974921270873,{"$f":"INDEX('Floor Space'!$I$5:$DK$50,MATCH('Pre-Rinse Spray Valves'!FK32,'Floor Space'!$I$5:$I$50,0),MATCH('Pre-Rinse Spray Valves'!FK$10,'Floor Space'!$I$5:$DK$5,0))*'Pre-Rinse Spray Valves'!FR32","v":8.9694232853898406},78.51639820666071,371.22250925998384,5.7664451704165351,2.4760101798053213E-2,null,null,2007,781.2741195389267,0,148.93908912271831,{"$f":"INDEX('Floor Space'!$I$5:$DK$50,MATCH('Pre-Rinse Spray Valves'!FV32,'Floor Space'!$I$5:$I$50,0),MATCH('Pre-Rinse Spray Valves'!FV$10,'Floor Space'!$I$5:$DK$5,0))*'Pre-Rinse Spray Valves'!GC32","v":16.837681529191951},165.77677065191025,798.11180106811867,5.7664451704165351,2.1551566995626104E-2,null,null,2007,1152.9552574571112,0,221.16082259616906,{"$f":"INDEX('Floor Space'!$I$5:$DK$50,MATCH('Pre-Rinse Spray Valves'!GG32,'Floor Space'!$I$5:$I$50,0),MATCH('Pre-Rinse Spray Valves'!GG$10,'Floor Space'!$I$5:$DK$5,0))*'Pre-Rinse Spray Valves'!GN32","v":24.762251415642417},245.92307401181148,1177.7175088727536,5.7664451704165351,2.147720065933556E-2,null,null,2007,2285.838485173565,0,431.88487361171775,{"$f":"INDEX('Floor Space'!$I$5:$DK$50,MATCH('Pre-Rinse Spray Valves'!GR32,'Floor Space'!$I$5:$I$50,0),MATCH('Pre-Rinse Spray Valves'!GR$10,'Floor Space'!$I$5:$DK$5,0))*'Pre-Rinse Spray Valves'!GY32","v":65.856874151526554},497.74174776324429,2351.6953593250914,5.7664451704165351,2.8810816940342932E-2]
[null,2008,16137.627360725342,0,3086.2231698926525,337.24890415039005,3423.4720740430416,16474.876264875737,5.7664451704165351,2.0898295431654779E-2,null,null,2008,1479.2600465776579,0,283.8692170252865,{"$f":"INDEX('Floor Space'!$I$5:$DK$54,MATCH('Pre-Rinse Spray Valves'!M33,'Floor Space'!$I$5:$I$54,0),MATCH('Pre-Rinse Spray Valves'!M$10,'Floor Space'!$I$5:$DK$5,0))*'Pre-Rinse Spray Valves'!T33","v":27.423049416777555},311.29226644206403,1506.6830959944355,5.7664451704165351,1.8538356038359849E-2,null,null,2008,666.46726910533107,0,127.89471485531618,{"$f":"INDEX('Floor Space'!$I$5:$DK$50,MATCH('Pre-Rinse Spray Valves'!X33,'Floor Space'!$I$5:$I$50,0),MATCH('Pre-Rinse Spray Valves'!X$10,'Floor Space'!$I$5:$DK$5,0))*'Pre-Rinse Spray Valves'!AE33","v":12.355207522588087},140.24992237790426,678.82247662791917,5.7664451704165351,1.8538356038360071E-2,null,null,2008,782.01331171201366,0,150.06793904332406,{"$f":"INDEX('Floor Space'!$I$5:$DK$50,MATCH('Pre-Rinse Spray Valves'!AI33,'Floor Space'!$I$5:$I$50,0),MATCH('Pre-Rinse Spray Valves'!AI$10,'Floor Space'!$I$5:$DK$5,0))*'Pre-Rinse Spray Valves'!AP33","v":14.497241199254278},164.56518024257835,796.51055291126795,5.7664451704165351,1.8538356038360071E-2,null,null,2008,699.96541956585293,0,133.67525636968702,{"$f":"INDEX('Floor Space'!$I$5:$DK$50,MATCH('Pre-Rinse Spray Valves'!AT33,'Floor Space'!$I$5:$I$50,0),MATCH('Pre-Rinse Spray Valves'!AT$10,'Floor Space'!$I$5:$DK$5,0))*'Pre-Rinse Spray Valves'!BA33","v":13.920415640135964},147.59567200982298,713.88583520598888,5.7664451704165351,1.9887290501822141E-2,null,null,2008,1292.8244623389835,0,246.89597030572662,{"$f":"INDEX('Floor Space'!$I$5:$DK$50,MATCH('Pre-Rinse Spray Valves'!BE33,'Floor Space'!$I$5:$I$50,0),MATCH('Pre-Rinse Spray Valves'!BE$10,'Floor Space'!$I$5:$DK$5,0))*'Pre-Rinse Spray Valves'!BL33","v":25.710775650397451},272.60674595612409,1318.5352379893809,5.7664451704165351,1.9887290501822141E-2,null,null,2008,323.20611558474587,0,61.723992576431655,{"$f":"INDEX('Floor Space'!$I$5:$DK$50,MATCH('Pre-Rinse Spray Valves'!BP33,'Floor Space'!$I$5:$I$50,0),MATCH('Pre-Rinse Spray Valves'!BP$10,'Floor Space'!$I$5:$DK$5,0))*'Pre-Rinse Spray Valves'!BW33","v":6.4276939125993628},68.151686489031022,329.63380949734523,5.7664451704165351,1.9887290501822141E-2,null,null,2008,624.01977828740053,0,119.17160692604142,{"$f":"INDEX('Floor Space'!$I$5:$DK$50,MATCH('Pre-Rinse Spray Valves'!CA33,'Floor Space'!$I$5:$I$50,0),MATCH('Pre-Rinse Spray Valves'!CA$10,'Floor Space'!$I$5:$DK$5,0))*'Pre-Rinse Spray Valves'!CH33","v":12.410062609684211},131.58166953572564,636.42984089708477,5.7664451704165351,1.9887290501822141E-2,null,null,2008,1359.8112666547336,0,259.87629494845999,{"$f":"INDEX('Floor Space'!$I$5:$DK$50,MATCH('Pre-Rinse Spray Valves'!CL33,'Floor Space'!$I$5:$I$50,0),MATCH('Pre-Rinse Spray Valves'!CL$10,'Floor Space'!$I$5:$DK$5,0))*'Pre-Rinse Spray Valves'!CS33","v":33.53248478196759},293.40877973042757,1393.3437514367013,5.7664451704165351,2.4659660942845996E-2,null,null,2008,679.97863580542196,0,131.03203160308971,{"$f":"INDEX('Floor Space'!$I$5:$DK$50,MATCH('Pre-Rinse Spray Valves'!CW33,'Floor Space'!$I$5:$I$50,0),MATCH('Pre-Rinse Spray Valves'!CW$10,'Floor Space'!$I$5:$DK$5,0))*'Pre-Rinse Spray Valves'!DD33","v":14.002642253298639},145.03467385638834,693.98127805872059,5.7664451704165351,2.0592767942940959E-2,null,null,2008,1954.2947555048868,0,370.71059988417744,{"$f":"INDEX('Floor Space'!$I$5:$DK$50,MATCH('Pre-Rinse Spray Valves'!DH33,'Floor Space'!$I$5:$I$50,0),MATCH('Pre-Rinse Spray Valves'!DH$10,'Floor Space'!$I$5:$DK$5,0))*'Pre-Rinse Spray Valves'!DO33","v":48.407903523202009},419.11850340737942,2002.7026590280889,5.7664451704165351,2.477001147695157E-2,null,null,2008,297.9222159985224,0,59.340284322397295,{"$f":"INDEX('Floor Space'!$I$5:$DK$50,MATCH('Pre-Rinse Spray Valves'!DS33,'Floor Space'!$I$5:$I$50,0),MATCH('Pre-Rinse Spray Valves'!DS$10,'Floor Space'!$I$5:$DK$5,0))*'Pre-Rinse Spray Valves'!DZ33","v":0.66855476723239737},60.008839089629696,298.59077076575483,5.7664451704165351,2.2440581176252916E-3,null,null,2008,122.27309976494044,0,24.120415718003631,{"$f":"INDEX('Floor Space'!$I$5:$DK$50,MATCH('Pre-Rinse Spray Valves'!ED33,'Floor Space'!$I$5:$I$50,0),MATCH('Pre-Rinse Spray Valves'!ED$10,'Floor Space'!$I$5:$DK$5,0))*'Pre-Rinse Spray Valves'!EK33","v":0.93133472246514282},25.051750440468773,123.20443448740558,5.7664451704165351,7.616840697222349E-3,null,null,2008,265.4436978563055,0,52.483623546886413,{"$f":"INDEX('Floor Space'!$I$5:$DK$50,MATCH('Pre-Rinse Spray Valves'!EO33,'Floor Space'!$I$5:$I$50,0),MATCH('Pre-Rinse Spray Valves'!EO$10,'Floor Space'!$I$5:$DK$5,0))*'Pre-Rinse Spray Valves'!EV33","v":1.6521535954452755},54.13577714233169,267.09585145175078,5.7664451704165351,6.2241206281703487E-3,null,null,2008,891.40010744260076,0,171.70473018184293,{"$f":"INDEX('Floor Space'!$I$5:$DK$50,MATCH('Pre-Rinse Spray Valves'!EZ33,'Floor Space'!$I$5:$I$50,0),MATCH('Pre-Rinse Spray Valves'!EZ$10,'Floor Space'!$I$5:$DK$5,0))*'Pre-Rinse Spray Valves'!FG33","v":14.504033153814191},186.20876333565712,905.90414059641489,5.7664451704165351,1.6271069559802731E-2,null,null,2008,371.22250925998384,0,71.268965100068186,{"$f":"INDEX('Floor Space'!$I$5:$DK$50,MATCH('Pre-Rinse Spray Valves'!FK33,'Floor Space'!$I$5:$I$50,0),MATCH('Pre-Rinse Spray Valves'!FK$10,'Floor Space'!$I$5:$DK$5,0))*'Pre-Rinse Spray Valves'!FR33","v":8.6427436116916727},79.911708711759857,379.86525287167552,5.7664451704165351,2.3281841472707621E-2,null,null,2008,798.11180106811867,0,152.14895988021411,{"$f":"INDEX('Floor Space'!$I$5:$DK$50,MATCH('Pre-Rinse Spray Valves'!FV33,'Floor Space'!$I$5:$I$50,0),MATCH('Pre-Rinse Spray Valves'!FV$10,'Floor Space'!$I$5:$DK$5,0))*'Pre-Rinse Spray Valves'!GC33","v":17.58714337127379},169.73610325148789,815.69894443939245,5.7664451704165351,2.2035939510901548E-2,null,null,2008,1177.7175088727536,0,225.91073796105073,{"$f":"INDEX('Floor Space'!$I$5:$DK$50,MATCH('Pre-Rinse Spray Valves'!GG33,'Floor Space'!$I$5:$I$50,0),MATCH('Pre-Rinse Spray Valves'!GG$10,'Floor Space'!$I$5:$DK$5,0))*'Pre-Rinse Spray Valves'!GN33","v":23.542724932559342},249.45346289361007,1201.260233805313,5.7664451704165351,1.9990129003935042E-2,null,null,2008,2351.6953593250914,0,444.32782964464809,{"$f":"INDEX('Floor Space'!$I$5:$DK$50,MATCH('Pre-Rinse Spray Valves'!GR33,'Floor Space'!$I$5:$I$50,0),MATCH('Pre-Rinse Spray Valves'!GR$10,'Floor Space'!$I$5:$DK$5,0))*'Pre-Rinse Spray Valves'!GY33","v":61.032739486003102},505.36056913065119,2412.7280988110947,5.7664451704165351,2.5952655493404864E-2]
[null,2009,16474.876264875737,0,3150.5908007144103,324.81584991405128,3475.4066506284621,16799.692114789788,5.7664451704165351,1.9715829405441809E-2,null,null,2009,1506.6830959944355,0,289.13168563883164,{"$f":"INDEX('Floor Space'!$I$5:$DK$54,MATCH('Pre-Rinse Spray Valves'!M34,'Floor Space'!$I$5:$I$54,0),MATCH('Pre-Rinse Spray Valves'!M$10,'Floor Space'!$I$5:$DK$5,0))*'Pre-Rinse Spray Valves'!T34","v":25.311483373113717},314.44316901194537,1531.9945793675492,5.7664451704165351,1.6799473917511465E-2,null,null,2009,678.82247662791917,0,130.26567261472854,{"$f":"INDEX('Floor Space'!$I$5:$DK$50,MATCH('Pre-Rinse Spray Valves'!X34,'Floor Space'!$I$5:$I$50,0),MATCH('Pre-Rinse Spray Valves'!X$10,'Floor Space'!$I$5:$DK$5,0))*'Pre-Rinse Spray Valves'!AE34","v":11.403860490731166},141.66953310545972,690.22633711865035,5.7664451704165351,1.6799473917511243E-2,null,null,2009,796.51055291126795,0,152.84995192725208,{"$f":"INDEX('Floor Space'!$I$5:$DK$50,MATCH('Pre-Rinse Spray Valves'!AI34,'Floor Space'!$I$5:$I$50,0),MATCH('Pre-Rinse Spray Valves'!AI$10,'Floor Space'!$I$5:$DK$5,0))*'Pre-Rinse Spray Valves'!AP34","v":13.380958258655365},166.23091018590745,809.89151116992332,5.7664451704165351,1.6799473917511243E-2,null,null,2009,713.88583520598888,0,136.33369502601658,{"$f":"INDEX('Floor Space'!$I$5:$DK$50,MATCH('Pre-Rinse Spray Valves'!AT34,'Floor Space'!$I$5:$I$50,0),MATCH('Pre-Rinse Spray Valves'!AT$10,'Floor Space'!$I$5:$DK$5,0))*'Pre-Rinse Spray Valves'!BA34","v":13.534800470547216},149.86849549656381,727.42063567653611,5.7664451704165351,1.8959334676589945E-2,null,null,2009,1318.5352379893809,0,251.80606219092584,{"$f":"INDEX('Floor Space'!$I$5:$DK$50,MATCH('Pre-Rinse Spray Valves'!BE34,'Floor Space'!$I$5:$I$50,0),MATCH('Pre-Rinse Spray Valves'!BE$10,'Floor Space'!$I$5:$DK$5,0))*'Pre-Rinse Spray Valves'!BL34","v":24.998550859917746},276.80461305084361,1343.5337888492986,5.7664451704165351,1.8959334676589945E-2,null,null,2009,329.63380949734523,0,62.951515547731461,{"$f":"INDEX('Floor Space'!$I$5:$DK$50,MATCH('Pre-Rinse Spray Valves'!BP34,'Floor Space'!$I$5:$I$50,0),MATCH('Pre-Rinse Spray Valves'!BP$10,'Floor Space'!$I$5:$DK$5,0))*'Pre-Rinse Spray Valves'!BW34","v":6.2496377149794364},69.201153262710903,335.88344721232465,5.7664451704165351,1.8959334676589945E-2,null,null,2009,636.42984089708477,0,121.54160729254855,{"$f":"INDEX('Floor Space'!$I$5:$DK$50,MATCH('Pre-Rinse Spray Valves'!CA34,'Floor Space'!$I$5:$I$50,0),MATCH('Pre-Rinse Spray Valves'!CA$10,'Floor Space'!$I$5:$DK$5,0))*'Pre-Rinse Spray Valves'!CH34","v":12.066286351736673},133.60789364428521,648.49612724882149,5.7664451704165351,1.8959334676589945E-2,null,null,2009,1393.3437514367013,0,266.2847562689721,{"$f":"INDEX('Floor Space'!$I$5:$DK$50,MATCH('Pre-Rinse Spray Valves'!CL34,'Floor Space'!$I$5:$I$50,0),MATCH('Pre-Rinse Spray Valves'!CL$10,'Floor Space'!$I$5:$DK$5,0))*'Pre-Rinse Spray Valves'!CS34","v":32.141182874935168},298.42593914390727,1425.4849343116364,5.7664451704165351,2.3067662119842014E-2,null,null,2009,693.98127805872059,0,133.73034382298422,{"$f":"INDEX('Floor Space'!$I$5:$DK$50,MATCH('Pre-Rinse Spray Valves'!CW34,'Floor Space'!$I$5:$I$50,0),MATCH('Pre-Rinse Spray Valves'!CW$10,'Floor Space'!$I$5:$DK$5,0))*'Pre-Rinse Spray Valves'!DD34","v":13.298478544167933},147.02882236715215,707.27975660288848,5.7664451704165351,1.9162589776726913E-2,null,null,2009,2002.7026590280889,0,379.89310569793605,{"$f":"INDEX('Floor Space'!$I$5:$DK$50,MATCH('Pre-Rinse Spray Valves'!DH34,'Floor Space'!$I$5:$I$50,0),MATCH('Pre-Rinse Spray Valves'!DH$10,'Floor Space'!$I$5:$DK$5,0))*'Pre-Rinse Spray Valves'!DO34","v":46.546342820049347},426.4394485179854,2049.2490018481381,5.7664451704165351,2.3241764128199671E-2,null,null,2009,298.59077076575483,0,59.473447369133169,{"$f":"INDEX('Floor Space'!$I$5:$DK$50,MATCH('Pre-Rinse Spray Valves'!DS34,'Floor Space'!$I$5:$I$50,0),MATCH('Pre-Rinse Spray Valves'!DS$10,'Floor Space'!$I$5:$DK$5,0))*'Pre-Rinse Spray Valves'!DZ34","v":0.5767941685080803},60.050241537641249,299.16756493426288,5.7664451704165351,1.9317213557163981E-3,null,null,2009,123.20443448740558,0,24.304137082078444,{"$f":"INDEX('Floor Space'!$I$5:$DK$50,MATCH('Pre-Rinse Spray Valves'!ED34,'Floor Space'!$I$5:$I$50,0),MATCH('Pre-Rinse Spray Valves'!ED$10,'Floor Space'!$I$5:$DK$5,0))*'Pre-Rinse Spray Valves'!EK34","v":0.81662412014794272},25.120761202226387,124.02105860755353,5.7664451704165351,6.6282039566638584E-3,null,null,2009,267.09585145175078,0,52.810287950845719,{"$f":"INDEX('Floor Space'!$I$5:$DK$50,MATCH('Pre-Rinse Spray Valves'!EO34,'Floor Space'!$I$5:$I$50,0),MATCH('Pre-Rinse Spray Valves'!EO$10,'Floor Space'!$I$5:$DK$5,0))*'Pre-Rinse Spray Valves'!EV34","v":1.4253919140796967},54.235679864925416,268.52124336583046,5.7664451704165351,5.3366306752133941E-3,null,null,2009,905.90414059641489,0,174.49854979037889,{"$f":"INDEX('Floor Space'!$I$5:$DK$50,MATCH('Pre-Rinse Spray Valves'!EZ34,'Floor Space'!$I$5:$I$50,0),MATCH('Pre-Rinse Spray Valves'!EZ$10,'Floor Space'!$I$5:$DK$5,0))*'Pre-Rinse Spray Valves'!FG34","v":13.08131539567961},187.5798651860585,918.98545599209456,5.7664451704165351,1.4440065796660795E-2,null,null,2009,379.86525287167552,0,72.928237847451896,{"$f":"INDEX('Floor Space'!$I$5:$DK$50,MATCH('Pre-Rinse Spray Valves'!FK34,'Floor Space'!$I$5:$I$50,0),MATCH('Pre-Rinse Spray Valves'!FK$10,'Floor Space'!$I$5:$DK$5,0))*'Pre-Rinse Spray Valves'!FR34","v":9.3917081209919537},82.319945968443847,389.25696099266747,5.7664451704165351,2.4723788369673816E-2,null,null,2009,815.69894443939245,0,155.5017051567811,{"$f":"INDEX('Floor Space'!$I$5:$DK$50,MATCH('Pre-Rinse Spray Valves'!FV34,'Floor Space'!$I$5:$I$50,0),MATCH('Pre-Rinse Spray Valves'!FV$10,'Floor Space'!$I$5:$DK$5,0))*'Pre-Rinse Spray Valves'!GC34","v":18.368822941245483},173.87052809802657,834.06776738063797,5.7664451704165351,2.2519120646735669E-2,null,null,2009,1201.260233805313,0,230.42672275626632,{"$f":"INDEX('Floor Space'!$I$5:$DK$50,MATCH('Pre-Rinse Spray Valves'!GG34,'Floor Space'!$I$5:$I$50,0),MATCH('Pre-Rinse Spray Valves'!GG$10,'Floor Space'!$I$5:$DK$5,0))*'Pre-Rinse Spray Valves'!GN34","v":25.084431879762604},255.51115463602892,1226.3446656850756,5.7664451704165351,2.0881763313100876E-2,null,null,2009,2412.7280988110947,0,455.85931673354798,{"$f":"INDEX('Floor Space'!$I$5:$DK$50,MATCH('Pre-Rinse Spray Valves'!GR34,'Floor Space'!$I$5:$I$50,0),MATCH('Pre-Rinse Spray Valves'!GR$10,'Floor Space'!$I$5:$DK$5,0))*'Pre-Rinse Spray Valves'!GY34","v":57.139179614802131},512.99849634835016,2469.867278425897,5.7664451704165351,2.368239489686319E-2]
[null,2010,16799.692114789788,0,3212.5855244260138,200.30788521021105,3412.8934096362254,17000,5.7664451704165351,1.1923306917861254E-2,null,null,2010,1531.9945793675492,0,293.98894585044735,{"$f":"INDEX('Floor Space'!$I$5:$DK$54,MATCH('Pre-Rinse Spray Valves'!M35,'Floor Space'!$I$5:$I$54,0),MATCH('Pre-Rinse Spray Valves'!M$10,'Floor Space'!$I$5:$DK$5,0))*'Pre-Rinse Spray Valves'!T35","v":19.628549073827024},313.61749492427435,{"$f":"HLOOKUP(M10,'Saturation and Lifetime'!$C$58:$T$59,2,FALSE)*'Pre-Rinse Spray Valves'!V36","v":1551.6231284413759},5.7664451704165351,1.2812414180949583E-2,null,null,2010,690.22633711865035,0,132.45406738416676,{"$f":"INDEX('Floor Space'!$I$5:$DK$50,MATCH('Pre-Rinse Spray Valves'!X35,'Floor Space'!$I$5:$I$50,0),MATCH('Pre-Rinse Spray Valves'!X$10,'Floor Space'!$I$5:$DK$5,0))*'Pre-Rinse Spray Valves'!AE35","v":8.8434657097640414},141.29753309393081,{"$f":"HLOOKUP(X10,'Saturation and Lifetime'!$C$58:$T$59,2,FALSE)*'Pre-Rinse Spray Valves'!AG36","v":699.06980282841437},5.7664451704165351,1.2812414180949805E-2,null,null,2010,809.89151116992332,0,155.41775070794685,{"$f":"INDEX('Floor Space'!$I$5:$DK$50,MATCH('Pre-Rinse Spray Valves'!AI35,'Floor Space'!$I$5:$I$50,0),MATCH('Pre-Rinse Spray Valves'!AI$10,'Floor Space'!$I$5:$DK$5,0))*'Pre-Rinse Spray Valves'!AP35","v":10.376665482744398},165.79441619069124,{"$f":"HLOOKUP(AI10,'Saturation and Lifetime'!$C$58:$T$59,2,FALSE)*'Pre-Rinse Spray Valves'!AR36","v":820.26817665266776},5.7664451704165351,1.2812414180949805E-2,null,null,2010,727.42063567653611,0,138.91849117771099,{"$f":"INDEX('Floor Space'!$I$5:$DK$50,MATCH('Pre-Rinse Spray Valves'!AT35,'Floor Space'!$I$5:$I$50,0),MATCH('Pre-Rinse Spray Valves'!AT$10,'Floor Space'!$I$5:$DK$5,0))*'Pre-Rinse Spray Valves'!BA35","v":5.8580954011193516},144.77658657883035,{"$f":"HLOOKUP(AT10,'Saturation and Lifetime'!$C$58:$T$59,2,FALSE)*'Pre-Rinse Spray Valves'!BC36","v":733.27873107765538},5.7664451704165351,8.0532433557798377E-3,null,null,2010,1343.5337888492986,0,256.5801375975978,{"$f":"INDEX('Floor Space'!$I$5:$DK$50,MATCH('Pre-Rinse Spray Valves'!BE35,'Floor Space'!$I$5:$I$50,0),MATCH('Pre-Rinse Spray Valves'!BE$10,'Floor Space'!$I$5:$DK$5,0))*'Pre-Rinse Spray Valves'!BL35","v":10.819804558316592},267.3999421559144,{"$f":"HLOOKUP(BE10,'Saturation and Lifetime'!$C$58:$T$59,2,FALSE)*'Pre-Rinse Spray Valves'!BN36","v":1354.3535934076156},5.7664451704165351,8.0532433557802818E-3,null,null,2010,335.88344721232465,0,64.145034399399449,{"$f":"INDEX('Floor Space'!$I$5:$DK$50,MATCH('Pre-Rinse Spray Valves'!BP35,'Floor Space'!$I$5:$I$50,0),MATCH('Pre-Rinse Spray Valves'!BP$10,'Floor Space'!$I$5:$DK$5,0))*'Pre-Rinse Spray Valves'!BW35","v":2.7049511395791481},66.849985538978601,{"$f":"HLOOKUP(BP10,'Saturation and Lifetime'!$C$58:$T$59,2,FALSE)*'Pre-Rinse Spray Valves'!BY36","v":338.58839835190389},5.7664451704165351,8.0532433557802818E-3,null,null,2010,648.49612724882149,0,123.84595530233865,{"$f":"INDEX('Floor Space'!$I$5:$DK$50,MATCH('Pre-Rinse Spray Valves'!CA35,'Floor Space'!$I$5:$I$50,0),MATCH('Pre-Rinse Spray Valves'!CA$10,'Floor Space'!$I$5:$DK$5,0))*'Pre-Rinse Spray Valves'!CH35","v":5.2224971280156556},129.06845243035431,{"$f":"HLOOKUP(CA10,'Saturation and Lifetime'!$C$58:$T$59,2,FALSE)*'Pre-Rinse Spray Valves'!CJ36","v":653.7186243768374},5.7664451704165351,8.0532433557805039E-3,null,null,2010,1425.4849343116364,0,272.4273230542492,{"$f":"INDEX('Floor Space'!$I$5:$DK$50,MATCH('Pre-Rinse Spray Valves'!CL35,'Floor Space'!$I$5:$I$50,0),MATCH('Pre-Rinse Spray Valves'!CL$10,'Floor Space'!$I$5:$DK$5,0))*'Pre-Rinse Spray Valves'!CS35","v":5.7748702064577557},278.20219326070696,{"$f":"HLOOKUP(CL10,'Saturation and Lifetime'!$C$58:$T$59,2,FALSE)*'Pre-Rinse Spray Valves'!CU36","v":1431.2598045180944},5.7664451704165351,4.0511618660119542E-3,null,null,2010,707.27975660288848,0,136.29296354236473,{"$f":"INDEX('Floor Space'!$I$5:$DK$50,MATCH('Pre-Rinse Spray Valves'!CW35,'Floor Space'!$I$5:$I$50,0),MATCH('Pre-Rinse Spray Valves'!CW$10,'Floor Space'!$I$5:$DK$5,0))*'Pre-Rinse Spray Valves'!DD35","v":4.2494655376031849},140.54242907996792,{"$f":"HLOOKUP(CW10,'Saturation and Lifetime'!$C$58:$T$59,2,FALSE)*'Pre-Rinse Spray Valves'!DF36","v":711.52922214049181},5.7664451704165351,6.0081820495101468E-3,null,null,2010,2049.2490018481381,0,388.72249165449671,{"$f":"INDEX('Floor Space'!$I$5:$DK$50,MATCH('Pre-Rinse Spray Valves'!DH35,'Floor Space'!$I$5:$I$50,0),MATCH('Pre-Rinse Spray Valves'!DH$10,'Floor Space'!$I$5:$DK$5,0))*'Pre-Rinse Spray Valves'!DO35","v":46.661563209453618},435.38405486395033,{"$f":"HLOOKUP(DH10,'Saturation and Lifetime'!$C$58:$T$59,2,FALSE)*'Pre-Rinse Spray Valves'!DQ36","v":2095.9105650575921},5.7664451704165351,2.2770079754764749E-2,null,null,2010,299.16756493426288,0,59.588333497514206,{"$f":"INDEX('Floor Space'!$I$5:$DK$50,MATCH('Pre-Rinse Spray Valves'!DS35,'Floor Space'!$I$5:$I$50,0),MATCH('Pre-Rinse Spray Valves'!DS$10,'Floor Space'!$I$5:$DK$5,0))*'Pre-Rinse Spray Valves'!DZ35","v":2.598158137009317},62.18649163452352,{"$f":"HLOOKUP(DS10,'Saturation and Lifetime'!$C$58:$T$59,2,FALSE)*'Pre-Rinse Spray Valves'!EB36","v":301.76572307127225},5.7664451704165351,8.6846250781906775E-3,null,null,2010,124.02105860755353,0,24.465229859649174,{"$f":"INDEX('Floor Space'!$I$5:$DK$50,MATCH('Pre-Rinse Spray Valves'!ED35,'Floor Space'!$I$5:$I$50,0),MATCH('Pre-Rinse Spray Valves'!ED$10,'Floor Space'!$I$5:$DK$5,0))*'Pre-Rinse Spray Valves'!EK35","v":0.67328700864800883},25.138516868297184,{"$f":"HLOOKUP(ED10,'Saturation and Lifetime'!$C$58:$T$59,2,FALSE)*'Pre-Rinse Spray Valves'!EM36","v":124.69434561620157},5.7664451704165351,5.4288119792507139E-3,null,null,2010,268.52124336583046,0,53.092116953491058,{"$f":"INDEX('Floor Space'!$I$5:$DK$50,MATCH('Pre-Rinse Spray Valves'!EO35,'Floor Space'!$I$5:$I$50,0),MATCH('Pre-Rinse Spray Valves'!EO$10,'Floor Space'!$I$5:$DK$5,0))*'Pre-Rinse Spray Valves'!EV35","v":4.9568593575288915},58.048976311019949,{"$f":"HLOOKUP(EO10,'Saturation and Lifetime'!$C$58:$T$59,2,FALSE)*'Pre-Rinse Spray Valves'!EX36","v":273.47810272335937},5.7664451704165351,1.8459840627118362E-2,null,null,2010,918.98545599209456,0,177.01832033077386,{"$f":"INDEX('Floor Space'!$I$5:$DK$50,MATCH('Pre-Rinse Spray Valves'!EZ35,'Floor Space'!$I$5:$I$50,0),MATCH('Pre-Rinse Spray Valves'!EZ$10,'Floor Space'!$I$5:$DK$5,0))*'Pre-Rinse Spray Valves'!FG35","v":7.5996841234355426},184.6180044542094,{"$f":"HLOOKUP(EZ10,'Saturation and Lifetime'!$C$58:$T$59,2,FALSE)*'Pre-Rinse Spray Valves'!FI36","v":926.58514011553018},5.7664451704165351,8.2696456988335942E-3,null,null,2010,389.25696099266747,0,74.731300166165539,{"$f":"INDEX('Floor Space'!$I$5:$DK$50,MATCH('Pre-Rinse Spray Valves'!FK35,'Floor Space'!$I$5:$I$50,0),MATCH('Pre-Rinse Spray Valves'!FK$10,'Floor Space'!$I$5:$DK$5,0))*'Pre-Rinse Spray Valves'!FR35","v":3.2236765371955496},77.954976703361083,{"$f":"HLOOKUP(FK10,'Saturation and Lifetime'!$C$58:$T$59,2,FALSE)*'Pre-Rinse Spray Valves'!FT36","v":392.48063752986286},5.7664451704165351,8.2816156427221177E-3,null,null,2010,834.06776738063797,0,159.00346681597975,{"$f":"INDEX('Floor Space'!$I$5:$DK$50,MATCH('Pre-Rinse Spray Valves'!FV35,'Floor Space'!$I$5:$I$50,0),MATCH('Pre-Rinse Spray Valves'!FV$10,'Floor Space'!$I$5:$DK$5,0))*'Pre-Rinse Spray Valves'!GC35","v":12.784464461763028},171.78793127774279,{"$f":"HLOOKUP(FV10,'Saturation and Lifetime'!$C$58:$T$59,2,FALSE)*'Pre-Rinse Spray Valves'!GE36","v":846.85223184240101},5.7664451704165351,1.5327848601453864E-2,null,null,2010,1226.3446656850756,0,235.23843904187618,{"$f":"INDEX('Floor Space'!$I$5:$DK$50,MATCH('Pre-Rinse Spray Valves'!GG35,'Floor Space'!$I$5:$I$50,0),MATCH('Pre-Rinse Spray Valves'!GG$10,'Floor Space'!$I$5:$DK$5,0))*'Pre-Rinse Spray Valves'!GN35","v":29.790966305091583},265.02940534696774,{"$f":"HLOOKUP(GG10,'Saturation and Lifetime'!$C$58:$T$59,2,FALSE)*'Pre-Rinse Spray Valves'!GP36","v":1256.1356319901674},5.7664451704165351,2.4292490633903263E-2,null,null,2010,2469.867278425897,0,466.65515708984611,{"$f":"INDEX('Floor Space'!$I$5:$DK$50,MATCH('Pre-Rinse Spray Valves'!GR35,'Floor Space'!$I$5:$I$50,0),MATCH('Pre-Rinse Spray Valves'!GR$10,'Floor Space'!$I$5:$DK$5,0))*'Pre-Rinse Spray Valves'!GY35","v":18.540861832658365},485.19601892250449,{"$f":"HLOOKUP(GR10,'Saturation and Lifetime'!$C$58:$T$59,2,FALSE)*'Pre-Rinse Spray Valves'!HA36","v":2488.4081402585557},5.7664451704165351,7.5068251620691306E-3]
[null,2011,17000,0,3323.3664981463271,225.60609764083983,3548.9725957871669,17225.606097640837,{"$f":"I35","v":5.7664451704165351},1.3270946920049154E-2,{"$f":"INDEX('Saturation and Lifetime'!$B$22:$U$33,MATCH('Pre-Rinse Spray Valves'!$A$1,'Saturation and Lifetime'!$B$22:$B$33,0),MATCH('Pre-Rinse Spray Valves'!B10,'Saturation and Lifetime'!$B$22:$U$22,0))","v":5.7664451704165351},null,2011,1551.6231284413759,0,{"$f":"OFFSET(R36,-O$6,0)","v":307.18398578965378},{"$f":"INDEX('Floor Space'!$I$5:$DK$54,MATCH('Pre-Rinse Spray Valves'!M36,'Floor Space'!$I$5:$I$54,0),MATCH('Pre-Rinse Spray Valves'!M$10,'Floor Space'!$I$5:$DK$5,0))*'Pre-Rinse Spray Valves'!T36","v":26.444275881566892},333.62826167122068,1578.0674043229428,{"$f":"T35","v":5.7664451704165351},1.704297609183647E-2,{"$f":"INDEX('Saturation and Lifetime'!$B$22:$U$33,MATCH('Pre-Rinse Spray Valves'!$A$1,'Saturation and Lifetime'!$B$22:$B$33,0),MATCH('Pre-Rinse Spray Valves'!M10,'Saturation and Lifetime'!$B$22:$U$22,0))","v":5.7664451704165351},null,2011,699.06980282841437,0,{"$f":"OFFSET(AC36,-Z$6,0)","v":138.39897359208072},{"$f":"INDEX('Floor Space'!$I$5:$DK$50,MATCH('Pre-Rinse Spray Valves'!X36,'Floor Space'!$I$5:$I$50,0),MATCH('Pre-Rinse Spray Valves'!X$10,'Floor Space'!$I$5:$DK$5,0))*'Pre-Rinse Spray Valves'!AE36","v":11.914229936129509},150.31320352821024,{"$f":"Y36+AB36-Z36","v":710.98403276454383},{"$f":"AE35","v":5.7664451704165351},1.704297609183647E-2,{"$f":"INDEX('Saturation and Lifetime'!$B$22:$U$33,MATCH('Pre-Rinse Spray Valves'!$A$1,'Saturation and Lifetime'!$B$22:$B$33,0),MATCH('Pre-Rinse Spray Valves'!X10,'Saturation and Lifetime'!$B$22:$U$22,0))","v":5.7664451704165351},null,2011,820.26817665266776,0,{"$f":"OFFSET(AN36,-AK$6,0)","v":162.39333076562758},{"$f":"INDEX('Floor Space'!$I$5:$DK$50,MATCH('Pre-Rinse Spray Valves'!AI36,'Floor Space'!$I$5:$I$50,0),MATCH('Pre-Rinse Spray Valves'!AI$10,'Floor Space'!$I$5:$DK$5,0))*'Pre-Rinse Spray Valves'!AP36","v":13.979810923585719},176.3731416892133,{"$f":"AJ36+AM36-AK36","v":834.24798757625354},{"$f":"AP35","v":5.7664451704165351},1.704297609183647E-2,{"$f":"INDEX('Saturation and Lifetime'!$B$22:$U$33,MATCH('Pre-Rinse Spray Valves'!$A$1,'Saturation and Lifetime'!$B$22:$B$33,0),MATCH('Pre-Rinse Spray Valves'!AI10,'Saturation and Lifetime'!$B$22:$U$22,0))","v":5.7664451704165351},null,2011,733.27873107765538,0,{"$f":"OFFSET(AY36,-AV$6,0)","v":145.27321954640581},{"$f":"INDEX('Floor Space'!$I$5:$DK$50,MATCH('Pre-Rinse Spray Valves'!AT36,'Floor Space'!$I$5:$I$50,0),MATCH('Pre-Rinse Spray Valves'!AT$10,'Floor Space'!$I$5:$DK$5,0))*'Pre-Rinse Spray Valves'!BA36","v":3.7494051775492476},149.02262472395506,{"$f":"AU36+AX36-AV36","v":737.02813625520457},{"$f":"BA35","v":5.7664451704165351},5.1132059592657875E-3,{"$f":"INDEX('Saturation and Lifetime'!$B$22:$U$33,MATCH('Pre-Rinse Spray Valves'!$A$1,'Saturation and Lifetime'!$B$22:$B$33,0),MATCH('Pre-Rinse Spray Valves'!AT10,'Saturation and Lifetime'!$B$22:$U$22,0))","v":5.7664451704165351},null,2011,1354.3535934076156,0,{"$f":"OFFSET(BJ36,-BG$6,0)","v":268.31721496873985},{"$f":"INDEX('Floor Space'!$I$5:$DK$50,MATCH('Pre-Rinse Spray Valves'!BE36,'Floor Space'!$I$5:$I$50,0),MATCH('Pre-Rinse Spray Valves'!BE$10,'Floor Space'!$I$5:$DK$5,0))*'Pre-Rinse Spray Valves'!BL36","v":6.9250888647650859},275.24230383350493,{"$f":"BF36+BI36-BG36","v":1361.2786822723806},{"$f":"BL35","v":5.7664451704165351},5.1132059592660095E-3,{"$f":"INDEX('Saturation and Lifetime'!$B$22:$U$33,MATCH('Pre-Rinse Spray Valves'!$A$1,'Saturation and Lifetime'!$B$22:$B$33,0),MATCH('Pre-Rinse Spray Valves'!BE10,'Saturation and Lifetime'!$B$22:$U$22,0))","v":5.7664451704165351},null,2011,338.58839835190389,0,{"$f":"OFFSET(BU36,-BR$6,0)","v":67.079303742184962},{"$f":"INDEX('Floor Space'!$I$5:$DK$50,MATCH('Pre-Rinse Spray Valves'!BP36,'Floor Space'!$I$5:$I$50,0),MATCH('Pre-Rinse Spray Valves'!BP$10,'Floor Space'!$I$5:$DK$5,0))*'Pre-Rinse Spray Valves'!BW36","v":1.7312722161912715},68.810575958376234,{"$f":"BQ36+BT36-BR36","v":340.31967056809515},{"$f":"BW35","v":5.7664451704165351},5.1132059592660095E-3,{"$f":"INDEX('Saturation and Lifetime'!$B$22:$U$33,MATCH('Pre-Rinse Spray Valves'!$A$1,'Saturation and Lifetime'!$B$22:$B$33,0),MATCH('Pre-Rinse Spray Valves'!BP10,'Saturation and Lifetime'!$B$22:$U$22,0))","v":5.7664451704165351},null,2011,653.7186243768374,0,{"$f":"OFFSET(CF36,-CC$6,0)","v":129.51120115143962},{"$f":"INDEX('Floor Space'!$I$5:$DK$50,MATCH('Pre-Rinse Spray Valves'!CA36,'Floor Space'!$I$5:$I$50,0),MATCH('Pre-Rinse Spray Valves'!CA$10,'Floor Space'!$I$5:$DK$5,0))*'Pre-Rinse Spray Valves'!CH36","v":3.3425979658467897},132.8537991172864,{"$f":"CB36+CE36-CC36","v":657.06122234268423},{"$f":"CH35","v":5.7664451704165351},5.1132059592660095E-3,{"$f":"INDEX('Saturation and Lifetime'!$B$22:$U$33,MATCH('Pre-Rinse Spray Valves'!$A$1,'Saturation and Lifetime'!$B$22:$B$33,0),MATCH('Pre-Rinse Spray Valves'!CA10,'Saturation and Lifetime'!$B$22:$U$22,0))","v":5.7664451704165351},null,2011,1431.2598045180944,0,{"$f":"OFFSET(CQ36,-CN$6,0)","v":276.77877637285178},{"$f":"INDEX('Floor Space'!$I$5:$DK$50,MATCH('Pre-Rinse Spray Valves'!CL36,'Floor Space'!$I$5:$I$50,0),MATCH('Pre-Rinse Spray Valves'!CL$10,'Floor Space'!$I$5:$DK$5,0))*'Pre-Rinse Spray Valves'!CS36","v":20.064415466038408},296.84319183889016,{"$f":"CM36+CP36-CN36","v":1451.3242199841327},{"$f":"CS35","v":5.7664451704165351},1.4018709533168305E-2,{"$f":"INDEX('Saturation and Lifetime'!$B$22:$U$33,MATCH('Pre-Rinse Spray Valves'!$A$1,'Saturation and Lifetime'!$B$22:$B$33,0),MATCH('Pre-Rinse Spray Valves'!CL10,'Saturation and Lifetime'!$B$22:$U$22,0))","v":5.7664451704165351},null,2011,711.52922214049181,0,{"$f":"OFFSET(DB36,-CY$6,0)","v":137.76579980153872},{"$f":"INDEX('Floor Space'!$I$5:$DK$50,MATCH('Pre-Rinse Spray Valves'!CW36,'Floor Space'!$I$5:$I$50,0),MATCH('Pre-Rinse Spray Valves'!CW$10,'Floor Space'!$I$5:$DK$5,0))*'Pre-Rinse Spray Valves'!DD36","v":11.049630826265975},148.81543062780469,{"$f":"CX36+DA36-CY36","v":722.57885296675784},{"$f":"DD35","v":5.7664451704165351},1.5529412541940957E-2,{"$f":"INDEX('Saturation and Lifetime'!$B$22:$U$33,MATCH('Pre-Rinse Spray Valves'!$A$1,'Saturation and Lifetime'!$B$22:$B$33,0),MATCH('Pre-Rinse Spray Valves'!CW10,'Saturation and Lifetime'!$B$22:$U$22,0))","v":5.7664451704165351},null,2011,2095.9105650575921,0,{"$f":"OFFSET(DM36,-DJ$6,0)","v":403.61643045861757},{"$f":"INDEX('Floor Space'!$I$5:$DK$50,MATCH('Pre-Rinse Spray Valves'!DH36,'Floor Space'!$I$5:$I$50,0),MATCH('Pre-Rinse Spray Valves'!DH$10,'Floor Space'!$I$5:$DK$5,0))*'Pre-Rinse Spray Valves'!DO36","v":73.025237054178561},476.64166751279612,{"$f":"DI36+DL36-DJ36","v":2168.9358021117705},{"$f":"DO35","v":5.7664451704165351},3.4841771529584342E-2,{"$f":"INDEX('Saturation and Lifetime'!$B$22:$U$33,MATCH('Pre-Rinse Spray Valves'!$A$1,'Saturation and Lifetime'!$B$22:$B$33,0),MATCH('Pre-Rinse Spray Valves'!DH10,'Saturation and Lifetime'!$B$22:$U$22,0))","v":5.7664451704165351},null,2011,301.76572307127225,0,{"$f":"OFFSET(DX36,-DU$6,0)","v":59.697043852180165},{"$f":"INDEX('Floor Space'!$I$5:$DK$50,MATCH('Pre-Rinse Spray Valves'!DS36,'Floor Space'!$I$5:$I$50,0),MATCH('Pre-Rinse Spray Valves'!DS$10,'Floor Space'!$I$5:$DK$5,0))*'Pre-Rinse Spray Valves'!DZ36","v":1.050248029776677},60.747291881956841,{"$f":"DT36+DW36-DU36","v":302.81597110104894},{"$f":"DZ35","v":5.7664451704165351},3.4803423632334685E-3,{"$f":"INDEX('Saturation and Lifetime'!$B$22:$U$33,MATCH('Pre-Rinse Spray Valves'!$A$1,'Saturation and Lifetime'!$B$22:$B$33,0),MATCH('Pre-Rinse Spray Valves'!DS10,'Saturation and Lifetime'!$B$22:$U$22,0))","v":5.7664451704165351},null,2011,124.69434561620157,0,{"$f":"OFFSET(EI36,-EF$6,0)","v":24.595708133191653},{"$f":"INDEX('Floor Space'!$I$5:$DK$50,MATCH('Pre-Rinse Spray Valves'!ED36,'Floor Space'!$I$5:$I$50,0),MATCH('Pre-Rinse Spray Valves'!ED$10,'Floor Space'!$I$5:$DK$5,0))*'Pre-Rinse Spray Valves'!EK36","v":1.1511981489557201},25.746906282147375,{"$f":"EE36+EH36-EF36","v":125.84554376515729},{"$f":"EK35","v":5.7664451704165351},9.2321599930360598E-3,{"$f":"INDEX('Saturation and Lifetime'!$B$22:$U$33,MATCH('Pre-Rinse Spray Valves'!$A$1,'Saturation and Lifetime'!$B$22:$B$33,0),MATCH('Pre-Rinse Spray Valves'!ED10,'Saturation and Lifetime'!$B$22:$U$22,0))","v":5.7664451704165351},null,2011,273.47810272335937,0,{"$f":"OFFSET(ET36,-EQ$6,0)","v":53.36959545625605},{"$f":"INDEX('Floor Space'!$I$5:$DK$50,MATCH('Pre-Rinse Spray Valves'!EO36,'Floor Space'!$I$5:$I$50,0),MATCH('Pre-Rinse Spray Valves'!EO$10,'Floor Space'!$I$5:$DK$5,0))*'Pre-Rinse Spray Valves'!EV36","v":4.8839050595285851},58.253500515784637,{"$f":"EP36+ES36-EQ36","v":278.36200778288793},{"$f":"EV35","v":5.7664451704165351},1.7858486697448495E-2,{"$f":"INDEX('Saturation and Lifetime'!$B$22:$U$33,MATCH('Pre-Rinse Spray Valves'!$A$1,'Saturation and Lifetime'!$B$22:$B$33,0),MATCH('Pre-Rinse Spray Valves'!EO10,'Saturation and Lifetime'!$B$22:$U$22,0))","v":5.7664451704165351},null,2011,926.58514011553018,0,{"$f":"OFFSET(FE36,-FB$6,0)","v":182.56913712060282},{"$f":"INDEX('Floor Space'!$I$5:$DK$50,MATCH('Pre-Rinse Spray Valves'!EZ36,'Floor Space'!$I$5:$I$50,0),MATCH('Pre-Rinse Spray Valves'!EZ$10,'Floor Space'!$I$5:$DK$5,0))*'Pre-Rinse Spray Valves'!FG36","v":10.633927860888978},193.20306498149179,{"$f":"FA36+FD36-FB36","v":937.21906797641918},{"$f":"FG35","v":5.7664451704165351},1.1476471400742705E-2,{"$f":"INDEX('Saturation and Lifetime'!$B$22:$U$33,MATCH('Pre-Rinse Spray Valves'!$A$1,'Saturation and Lifetime'!$B$22:$B$33,0),MATCH('Pre-Rinse Spray Valves'!EZ10,'Saturation and Lifetime'!$B$22:$U$22,0))","v":5.7664451704165351},null,2011,392.48063752986286,0,{"$f":"OFFSET(FP36,-FM$6,0)","v":73.776664283253012},{"$f":"INDEX('Floor Space'!$I$5:$DK$50,MATCH('Pre-Rinse Spray Valves'!FK36,'Floor Space'!$I$5:$I$50,0),MATCH('Pre-Rinse Spray Valves'!FK$10,'Floor Space'!$I$5:$DK$5,0))*'Pre-Rinse Spray Valves'!FR36","v":3.8521042320343799},77.628768515287391,{"$f":"FL36+FO36-FM36","v":396.33274176189724},{"$f":"FR35","v":5.7664451704165351},9.8147624715405613E-3,{"$f":"INDEX('Saturation and Lifetime'!$B$22:$U$33,MATCH('Pre-Rinse Spray Valves'!$A$1,'Saturation and Lifetime'!$B$22:$B$33,0),MATCH('Pre-Rinse Spray Valves'!FK10,'Saturation and Lifetime'!$B$22:$U$22,0))","v":5.7664451704165351},null,2011,846.85223184240101,0,{"$f":"OFFSET(GA36,-FX$6,0)","v":165.67856815707577},{"$f":"INDEX('Floor Space'!$I$5:$DK$50,MATCH('Pre-Rinse Spray Valves'!FV36,'Floor Space'!$I$5:$I$50,0),MATCH('Pre-Rinse Spray Valves'!FV$10,'Floor Space'!$I$5:$DK$5,0))*'Pre-Rinse Spray Valves'!GC36","v":14.236373316948049},179.91494147402383,{"$f":"FW36+FZ36-FX36","v":861.08860515934907},{"$f":"GC35","v":5.7664451704165351},1.6810929677749886E-2,{"$f":"INDEX('Saturation and Lifetime'!$B$22:$U$33,MATCH('Pre-Rinse Spray Valves'!$A$1,'Saturation and Lifetime'!$B$22:$B$33,0),MATCH('Pre-Rinse Spray Valves'!FV10,'Saturation and Lifetime'!$B$22:$U$22,0))","v":5.7664451704165351},null,2011,1256.1356319901674,0,{"$f":"OFFSET(GL36,-GI$6,0)","v":240.2553784541727},{"$f":"INDEX('Floor Space'!$I$5:$DK$50,MATCH('Pre-Rinse Spray Valves'!GG36,'Floor Space'!$I$5:$I$50,0),MATCH('Pre-Rinse Spray Valves'!GG$10,'Floor Space'!$I$5:$DK$5,0))*'Pre-Rinse Spray Valves'!GN36","v":12.966454360888029},253.22183281506074,{"$f":"GH36+GK36-GI36","v":1269.1020863510555},{"$f":"GN35","v":5.7664451704165351},1.0322495462010473E-2,{"$f":"INDEX('Saturation and Lifetime'!$B$22:$U$33,MATCH('Pre-Rinse Spray Valves'!$A$1,'Saturation and Lifetime'!$B$22:$B$33,0),MATCH('Pre-Rinse Spray Valves'!GG10,'Saturation and Lifetime'!$B$22:$U$22,0))","v":5.7664451704165351},null,2011,2488.4081402585557,0,{"$f":"OFFSET(GW36,-GT$6,0)","v":487.10616650045472},{"$f":"INDEX('Floor Space'!$I$5:$DK$50,MATCH('Pre-Rinse Spray Valves'!GR36,'Floor Space'!$I$5:$I$50,0),MATCH('Pre-Rinse Spray Valves'!GR$10,'Floor Space'!$I$5:$DK$5,0))*'Pre-Rinse Spray Valves'!GY36","v":4.605922319701941},491.71208882015668,{"$f":"GS36+GV36-GT36","v":2493.0140625782578},{"$f":"GY35","v":5.7664451704165351},1.8509513150939405E-3,{"$f":"INDEX('Saturation and Lifetime'!$B$22:$U$33,MATCH('Pre-Rinse Spray Valves'!$A$1,'Saturation and Lifetime'!$B$22:$B$33,0),MATCH('Pre-Rinse Spray Valves'!GR10,'Saturation and Lifetime'!$B$22:$U$22,0))","v":5.7664451704165351}]
[null,2012,17225.606097640837,0,3364.8555827192022,251.57749273043666,3616.4330754496382,17477.183590371278,{"$f":"I36","v":5.7664451704165351},1.4604855777173187E-2,null,null,2012,1578.0674043229428,0,305.08290923336415,{"$f":"INDEX('Floor Space'!$I$5:$DK$54,MATCH('Pre-Rinse Spray Valves'!M37,'Floor Space'!$I$5:$I$54,0),MATCH('Pre-Rinse Spray Valves'!M$10,'Floor Space'!$I$5:$DK$5,0))*'Pre-Rinse Spray Valves'!T37","v":26.644410308651814},331.72731954201595,1604.7118146315947,{"$f":"T36","v":5.7664451704165351},1.6884202940674387E-2,null,null,2012,710.98403276454383,0,137.4523525041312,{"$f":"INDEX('Floor Space'!$I$5:$DK$50,MATCH('Pre-Rinse Spray Valves'!X37,'Floor Space'!$I$5:$I$50,0),MATCH('Pre-Rinse Spray Valves'!X$10,'Floor Space'!$I$5:$DK$5,0))*'Pre-Rinse Spray Valves'!AE37","v":12.004398696775642},149.45675120090684,722.98843146131946,{"$f":"AE36","v":5.7664451704165351},1.6884202940674387E-2,null,null,2012,834.24798757625354,0,161.2825931101722,{"$f":"INDEX('Floor Space'!$I$5:$DK$50,MATCH('Pre-Rinse Spray Valves'!AI37,'Floor Space'!$I$5:$I$50,0),MATCH('Pre-Rinse Spray Valves'!AI$10,'Floor Space'!$I$5:$DK$5,0))*'Pre-Rinse Spray Valves'!AP37","v":14.085612325086661},175.36820543525886,848.33359990134022,{"$f":"AP36","v":5.7664451704165351},1.6884202940674387E-2,null,null,2012,737.02813625520457,0,145.76003369026893,{"$f":"INDEX('Floor Space'!$I$5:$DK$50,MATCH('Pre-Rinse Spray Valves'!AT37,'Floor Space'!$I$5:$I$50,0),MATCH('Pre-Rinse Spray Valves'!AT$10,'Floor Space'!$I$5:$DK$5,0))*'Pre-Rinse Spray Valves'!BA37","v":8.803176078453923},154.56320976872286,745.8313123336585,{"$f":"BA36","v":5.7664451704165351},1.1944151987442808E-2,null,null,2012,1361.2786822723806,0,269.21635257783646,{"$f":"INDEX('Floor Space'!$I$5:$DK$50,MATCH('Pre-Rinse Spray Valves'!BE37,'Floor Space'!$I$5:$I$50,0),MATCH('Pre-Rinse Spray Valves'!BE$10,'Floor Space'!$I$5:$DK$5,0))*'Pre-Rinse Spray Valves'!BL37","v":16.259319478327285},285.47567205616372,1377.538001750708,{"$f":"BL36","v":5.7664451704165351},1.194415198744303E-2,null,null,2012,340.31967056809515,0,67.304088144459115,{"$f":"INDEX('Floor Space'!$I$5:$DK$50,MATCH('Pre-Rinse Spray Valves'!BP37,'Floor Space'!$I$5:$I$50,0),MATCH('Pre-Rinse Spray Valves'!BP$10,'Floor Space'!$I$5:$DK$5,0))*'Pre-Rinse Spray Valves'!BW37","v":4.0648298695818212},71.368918014040929,344.38450043767699,{"$f":"BW36","v":5.7664451704165351},1.194415198744303E-2,null,null,2012,657.06122234268423,0,129.94519638267406,{"$f":"INDEX('Floor Space'!$I$5:$DK$50,MATCH('Pre-Rinse Spray Valves'!CA37,'Floor Space'!$I$5:$I$50,0),MATCH('Pre-Rinse Spray Valves'!CA$10,'Floor Space'!$I$5:$DK$5,0))*'Pre-Rinse Spray Valves'!CH37","v":7.848039104716019},137.79323548739006,664.90926144740024,{"$f":"CH36","v":5.7664451704165351},1.1944151987442808E-2,null,null,2012,1451.3242199841327,0,284.43973250023112,{"$f":"INDEX('Floor Space'!$I$5:$DK$50,MATCH('Pre-Rinse Spray Valves'!CL37,'Floor Space'!$I$5:$I$50,0),MATCH('Pre-Rinse Spray Valves'!CL$10,'Floor Space'!$I$5:$DK$5,0))*'Pre-Rinse Spray Valves'!CS37","v":22.550135385159361},306.98986788539048,1473.8743553692921,{"$f":"CS36","v":5.7664451704165351},1.5537627688323008E-2,null,null,2012,722.57885296675784,0,141.15869118819509,{"$f":"INDEX('Floor Space'!$I$5:$DK$50,MATCH('Pre-Rinse Spray Valves'!CW37,'Floor Space'!$I$5:$I$50,0),MATCH('Pre-Rinse Spray Valves'!CW$10,'Floor Space'!$I$5:$DK$5,0))*'Pre-Rinse Spray Valves'!DD37","v":11.872881337729879},153.03157252592496,734.45173430448767,{"$f":"DD36","v":5.7664451704165351},1.6431260462415054E-2,null,null,2012,2168.9358021117705,0,411.34651640096371,{"$f":"INDEX('Floor Space'!$I$5:$DK$50,MATCH('Pre-Rinse Spray Valves'!DH37,'Floor Space'!$I$5:$I$50,0),MATCH('Pre-Rinse Spray Valves'!DH$10,'Floor Space'!$I$5:$DK$5,0))*'Pre-Rinse Spray Valves'!DO37","v":74.569385766864059},485.91590216782777,2243.5051878786344,{"$f":"DO36","v":5.7664451704165351},3.4380632978744607E-2,null,null,2012,302.81597110104894,0,59.825336575414298,{"$f":"INDEX('Floor Space'!$I$5:$DK$50,MATCH('Pre-Rinse Spray Valves'!DS37,'Floor Space'!$I$5:$I$50,0),MATCH('Pre-Rinse Spray Valves'!DS$10,'Floor Space'!$I$5:$DK$5,0))*'Pre-Rinse Spray Valves'!DZ37","v":2.0671382418864788},61.89247481730078,304.88310934293543,{"$f":"DZ36","v":5.7664451704165351},6.8263844683300601E-3,null,null,2012,125.84554376515729,0,24.785584201270861,{"$f":"INDEX('Floor Space'!$I$5:$DK$50,MATCH('Pre-Rinse Spray Valves'!ED37,'Floor Space'!$I$5:$I$50,0),MATCH('Pre-Rinse Spray Valves'!ED$10,'Floor Space'!$I$5:$DK$5,0))*'Pre-Rinse Spray Valves'!EK37","v":1.8527473939594126},26.638331595230273,127.69829115911671,{"$f":"EK36","v":5.7664451704165351},1.4722391739328211E-2,null,null,2012,278.36200778288793,0,53.684485446812083,{"$f":"INDEX('Floor Space'!$I$5:$DK$50,MATCH('Pre-Rinse Spray Valves'!EO37,'Floor Space'!$I$5:$I$50,0),MATCH('Pre-Rinse Spray Valves'!EO$10,'Floor Space'!$I$5:$DK$5,0))*'Pre-Rinse Spray Valves'!EV37","v":5.4140487689603241},59.098534215772403,283.77605655184823,{"$f":"EV36","v":5.7664451704165351},1.9449668480560289E-2,null,null,2012,937.21906797641918,0,185.61372012978197,{"$f":"INDEX('Floor Space'!$I$5:$DK$50,MATCH('Pre-Rinse Spray Valves'!EZ37,'Floor Space'!$I$5:$I$50,0),MATCH('Pre-Rinse Spray Valves'!EZ$10,'Floor Space'!$I$5:$DK$5,0))*'Pre-Rinse Spray Valves'!FG37","v":12.880244821203348},198.49396495098532,950.09931279762259,{"$f":"FG36","v":5.7664451704165351},1.3743046061806652E-2,null,null,2012,396.33274176189724,0,78.51639820666071,{"$f":"INDEX('Floor Space'!$I$5:$DK$50,MATCH('Pre-Rinse Spray Valves'!FK37,'Floor Space'!$I$5:$I$50,0),MATCH('Pre-Rinse Spray Valves'!FK$10,'Floor Space'!$I$5:$DK$5,0))*'Pre-Rinse Spray Valves'!FR37","v":5.7091136897561041},84.225511896416819,402.04185545165336,{"$f":"FR36","v":5.7664451704165351},1.4404849986342949E-2,null,null,2012,861.08860515934907,0,165.77677065191025,{"$f":"INDEX('Floor Space'!$I$5:$DK$50,MATCH('Pre-Rinse Spray Valves'!FV37,'Floor Space'!$I$5:$I$50,0),MATCH('Pre-Rinse Spray Valves'!FV$10,'Floor Space'!$I$5:$DK$5,0))*'Pre-Rinse Spray Valves'!GC37","v":17.392564272452226},183.16933492436249,878.48116943180128,{"$f":"GC36","v":5.7664451704165351},2.0198344477260433E-2,null,null,2012,1269.1020863510555,0,245.92307401181148,{"$f":"INDEX('Floor Space'!$I$5:$DK$50,MATCH('Pre-Rinse Spray Valves'!GG37,'Floor Space'!$I$5:$I$50,0),MATCH('Pre-Rinse Spray Valves'!GG$10,'Floor Space'!$I$5:$DK$5,0))*'Pre-Rinse Spray Valves'!GN37","v":5.4276859005736293},251.35075991238512,1274.5297722516291,{"$f":"GN36","v":5.7664451704165351},4.2767921973712042E-3,null,null,2012,2493.0140625782578,0,497.74174776324429,{"$f":"INDEX('Floor Space'!$I$5:$DK$50,MATCH('Pre-Rinse Spray Valves'!GR37,'Floor Space'!$I$5:$I$50,0),MATCH('Pre-Rinse Spray Valves'!GR$10,'Floor Space'!$I$5:$DK$5,0))*'Pre-Rinse Spray Valves'!GY37","v":2.1317612902986576},499.87350905354293,2495.1458238685564,{"$f":"GY36","v":5.7664451704165351},8.550939693030557E-4]
[null,2013,17477.183590371278,0,3423.4720740430416,255.19368146501392,3678.6657555080556,17732.377271836289,5.7664451704165351,1.4601533487672791E-2,null,null,2013,1604.7118146315947,0,311.29226644206403,{"$f":"INDEX('Floor Space'!$I$5:$DK$54,MATCH('Pre-Rinse Spray Valves'!M38,'Floor Space'!$I$5:$I$54,0),MATCH('Pre-Rinse Spray Valves'!M$10,'Floor Space'!$I$5:$DK$5,0))*'Pre-Rinse Spray Valves'!T38","v":25.792259369980435},337.08452581204449,1630.5040740015752,5.7664451704165351,1.6072829485524576E-2,null,null,2013,722.98843146131946,0,140.24992237790426,{"$f":"INDEX('Floor Space'!$I$5:$DK$50,MATCH('Pre-Rinse Spray Valves'!X38,'Floor Space'!$I$5:$I$50,0),MATCH('Pre-Rinse Spray Valves'!X$10,'Floor Space'!$I$5:$DK$5,0))*'Pre-Rinse Spray Valves'!AE38","v":11.620469778884704},151.87039215678897,734.6089012402042,5.7664451704165351,1.6072829485524798E-2,null,null,2013,848.33359990134022,0,164.56518024257835,{"$f":"INDEX('Floor Space'!$I$5:$DK$50,MATCH('Pre-Rinse Spray Valves'!AI38,'Floor Space'!$I$5:$I$50,0),MATCH('Pre-Rinse Spray Valves'!AI$10,'Floor Space'!$I$5:$DK$5,0))*'Pre-Rinse Spray Valves'!AP38","v":13.635121298055518},178.20030154063386,861.96872119939576,5.7664451704165351,1.6072829485524576E-2,null,null,2013,745.8313123336585,0,147.59567200982298,{"$f":"INDEX('Floor Space'!$I$5:$DK$50,MATCH('Pre-Rinse Spray Valves'!AT38,'Floor Space'!$I$5:$I$50,0),MATCH('Pre-Rinse Spray Valves'!AT$10,'Floor Space'!$I$5:$DK$5,0))*'Pre-Rinse Spray Valves'!BA38","v":9.6092006506792238},157.20487266050219,755.44051298433772,5.7664451704165351,1.2883879359546713E-2,null,null,2013,1377.538001750708,0,272.60674595612409,{"$f":"INDEX('Floor Space'!$I$5:$DK$50,MATCH('Pre-Rinse Spray Valves'!BE38,'Floor Space'!$I$5:$I$50,0),MATCH('Pre-Rinse Spray Valves'!BE$10,'Floor Space'!$I$5:$DK$5,0))*'Pre-Rinse Spray Valves'!BL38","v":17.748033427747107},290.35477938387118,1395.286035178455,5.7664451704165351,1.2883879359546713E-2,null,null,2013,344.38450043767699,0,68.151686489031022,{"$f":"INDEX('Floor Space'!$I$5:$DK$50,MATCH('Pre-Rinse Spray Valves'!BP38,'Floor Space'!$I$5:$I$50,0),MATCH('Pre-Rinse Spray Valves'!BP$10,'Floor Space'!$I$5:$DK$5,0))*'Pre-Rinse Spray Valves'!BW38","v":4.4370083569367766},72.588694845967794,348.82150879461375,5.7664451704165351,1.2883879359546713E-2,null,null,2013,664.90926144740024,0,131.58166953572564,{"$f":"INDEX('Floor Space'!$I$5:$DK$50,MATCH('Pre-Rinse Spray Valves'!CA38,'Floor Space'!$I$5:$I$50,0),MATCH('Pre-Rinse Spray Valves'!CA$10,'Floor Space'!$I$5:$DK$5,0))*'Pre-Rinse Spray Valves'!CH38","v":8.566610709533574},140.1482802452592,673.47587215693386,5.7664451704165351,1.2883879359546713E-2,null,null,2013,1473.8743553692921,0,293.40877973042757,{"$f":"INDEX('Floor Space'!$I$5:$DK$50,MATCH('Pre-Rinse Spray Valves'!CL38,'Floor Space'!$I$5:$I$50,0),MATCH('Pre-Rinse Spray Valves'!CL$10,'Floor Space'!$I$5:$DK$5,0))*'Pre-Rinse Spray Valves'!CS38","v":21.746808189469782},315.15558791989736,1495.6211635587617,5.7664451704165351,1.4754858926913528E-2,null,null,2013,734.45173430448767,0,145.03467385638834,{"$f":"INDEX('Floor Space'!$I$5:$DK$50,MATCH('Pre-Rinse Spray Valves'!CW38,'Floor Space'!$I$5:$I$50,0),MATCH('Pre-Rinse Spray Valves'!CW$10,'Floor Space'!$I$5:$DK$5,0))*'Pre-Rinse Spray Valves'!DD38","v":11.492010589548432},156.52668444593678,745.94374489403606,5.7664451704165351,1.5647060321031248E-2,null,null,2013,2243.5051878786344,0,419.11850340737942,{"$f":"INDEX('Floor Space'!$I$5:$DK$50,MATCH('Pre-Rinse Spray Valves'!DH38,'Floor Space'!$I$5:$I$50,0),MATCH('Pre-Rinse Spray Valves'!DH$10,'Floor Space'!$I$5:$DK$5,0))*'Pre-Rinse Spray Valves'!DO38","v":71.569262885649181},490.68776629302863,2315.0744507642835,5.7664451704165351,3.1900645147748374E-2,null,null,2013,304.88310934293543,0,60.008839089629696,{"$f":"INDEX('Floor Space'!$I$5:$DK$50,MATCH('Pre-Rinse Spray Valves'!DS38,'Floor Space'!$I$5:$I$50,0),MATCH('Pre-Rinse Spray Valves'!DS$10,'Floor Space'!$I$5:$DK$5,0))*'Pre-Rinse Spray Valves'!DZ38","v":2.0567150461256123},62.065554135755306,306.93982438906102,5.7664451704165351,6.745913378271684E-3,null,null,2013,127.69829115911671,0,25.051750440468773,{"$f":"INDEX('Floor Space'!$I$5:$DK$50,MATCH('Pre-Rinse Spray Valves'!ED38,'Floor Space'!$I$5:$I$50,0),MATCH('Pre-Rinse Spray Valves'!ED$10,'Floor Space'!$I$5:$DK$5,0))*'Pre-Rinse Spray Valves'!EK38","v":1.9289981050967973},26.980748545565572,129.62728926421352,5.7664451704165351,1.5105903826803768E-2,null,null,2013,283.77605655184823,0,54.13577714233169,{"$f":"INDEX('Floor Space'!$I$5:$DK$50,MATCH('Pre-Rinse Spray Valves'!EO38,'Floor Space'!$I$5:$I$50,0),MATCH('Pre-Rinse Spray Valves'!EO$10,'Floor Space'!$I$5:$DK$5,0))*'Pre-Rinse Spray Valves'!EV38","v":5.0561783855269109},59.191955527858603,288.83223493737512,5.7664451704165351,1.781749470679217E-2,null,null,2013,950.09931279762259,0,186.20876333565712,{"$f":"INDEX('Floor Space'!$I$5:$DK$50,MATCH('Pre-Rinse Spray Valves'!EZ38,'Floor Space'!$I$5:$I$50,0),MATCH('Pre-Rinse Spray Valves'!EZ$10,'Floor Space'!$I$5:$DK$5,0))*'Pre-Rinse Spray Valves'!FG38","v":11.533896993087261},197.74266032874439,961.63320979070988,5.7664451704165351,1.2139675124198446E-2,null,null,2013,402.04185545165336,0,79.911708711759857,{"$f":"INDEX('Floor Space'!$I$5:$DK$50,MATCH('Pre-Rinse Spray Valves'!FK38,'Floor Space'!$I$5:$I$50,0),MATCH('Pre-Rinse Spray Valves'!FK$10,'Floor Space'!$I$5:$DK$5,0))*'Pre-Rinse Spray Valves'!FR38","v":6.1927292453588523},86.104437957118705,408.23458469701222,5.7664451704165351,1.540319536731305E-2,null,null,2013,878.48116943180128,0,169.73610325148789,{"$f":"INDEX('Floor Space'!$I$5:$DK$50,MATCH('Pre-Rinse Spray Valves'!FV38,'Floor Space'!$I$5:$I$50,0),MATCH('Pre-Rinse Spray Valves'!FV$10,'Floor Space'!$I$5:$DK$5,0))*'Pre-Rinse Spray Valves'!GC38","v":19.958564404569561},189.69466765605745,898.43973383637081,5.7664451704165351,2.2719399230240356E-2,null,null,2013,1274.5297722516291,0,249.45346289361007,{"$f":"INDEX('Floor Space'!$I$5:$DK$50,MATCH('Pre-Rinse Spray Valves'!GG38,'Floor Space'!$I$5:$I$50,0),MATCH('Pre-Rinse Spray Valves'!GG$10,'Floor Space'!$I$5:$DK$5,0))*'Pre-Rinse Spray Valves'!GN38","v":7.9190524118274253},257.3725153054375,1282.4488246634564,5.7664451704165351,6.2133130070687326E-3,null,null,2013,2495.1458238685564,0,505.36056913065119,{"$f":"INDEX('Floor Space'!$I$5:$DK$50,MATCH('Pre-Rinse Spray Valves'!GR38,'Floor Space'!$I$5:$I$50,0),MATCH('Pre-Rinse Spray Valves'!GR$10,'Floor Space'!$I$5:$DK$5,0))*'Pre-Rinse Spray Valves'!GY38","v":4.3307616169367069},509.69133074758787,2499.4765854854932,5.7664451704165351,1.7356747551620089E-3]
[null,2014,17732.377271836289,0,3475.4066506284621,247.22457478581913,3722.6312254142813,17979.601846622107,5.7664451704165351,1.3941987077980666E-2,null,null,2014,1630.5040740015752,0,314.44316901194537,{"$f":"INDEX('Floor Space'!$I$5:$DK$54,MATCH('Pre-Rinse Spray Valves'!M39,'Floor Space'!$I$5:$I$54,0),MATCH('Pre-Rinse Spray Valves'!M$10,'Floor Space'!$I$5:$DK$5,0))*'Pre-Rinse Spray Valves'!T39","v":22.90447564886021},337.3476446608056,1653.4085496504354,5.7664451704165351,1.4047481397975403E-2,null,null,2014,734.6089012402042,0,141.66953310545972,{"$f":"INDEX('Floor Space'!$I$5:$DK$50,MATCH('Pre-Rinse Spray Valves'!X39,'Floor Space'!$I$5:$I$50,0),MATCH('Pre-Rinse Spray Valves'!X$10,'Floor Space'!$I$5:$DK$5,0))*'Pre-Rinse Spray Valves'!AE39","v":10.319404874958908},151.98893798041863,744.92830611516308,5.7664451704165351,1.4047481397975403E-2,null,null,2014,861.96872119939576,0,166.23091018590745,{"$f":"INDEX('Floor Space'!$I$5:$DK$50,MATCH('Pre-Rinse Spray Valves'!AI39,'Floor Space'!$I$5:$I$50,0),MATCH('Pre-Rinse Spray Valves'!AI$10,'Floor Space'!$I$5:$DK$5,0))*'Pre-Rinse Spray Valves'!AP39","v":12.108489576685143},178.33939976259259,874.07721077608085,5.7664451704165351,1.4047481397975403E-2,null,null,2014,755.44051298433772,0,149.86849549656381,{"$f":"INDEX('Floor Space'!$I$5:$DK$50,MATCH('Pre-Rinse Spray Valves'!AT39,'Floor Space'!$I$5:$I$50,0),MATCH('Pre-Rinse Spray Valves'!AT$10,'Floor Space'!$I$5:$DK$5,0))*'Pre-Rinse Spray Valves'!BA39","v":9.2213376888290988},159.08983318539291,764.66185067316678,5.7664451704165351,1.220657024654459E-2,null,null,2014,1395.286035178455,0,276.80461305084361,{"$f":"INDEX('Floor Space'!$I$5:$DK$50,MATCH('Pre-Rinse Spray Valves'!BE39,'Floor Space'!$I$5:$I$50,0),MATCH('Pre-Rinse Spray Valves'!BE$10,'Floor Space'!$I$5:$DK$5,0))*'Pre-Rinse Spray Valves'!BL39","v":17.031657002428688},293.8362700532723,1412.3176921808836,5.7664451704165351,1.220657024654459E-2,null,null,2014,348.82150879461375,0,69.201153262710903,{"$f":"INDEX('Floor Space'!$I$5:$DK$50,MATCH('Pre-Rinse Spray Valves'!BP39,'Floor Space'!$I$5:$I$50,0),MATCH('Pre-Rinse Spray Valves'!BP$10,'Floor Space'!$I$5:$DK$5,0))*'Pre-Rinse Spray Valves'!BW39","v":4.2579142506071719},73.459067513318075,353.07942304522089,5.7664451704165351,1.220657024654459E-2,null,null,2014,673.47587215693386,0,133.60789364428521,{"$f":"INDEX('Floor Space'!$I$5:$DK$50,MATCH('Pre-Rinse Spray Valves'!CA39,'Floor Space'!$I$5:$I$50,0),MATCH('Pre-Rinse Spray Valves'!CA$10,'Floor Space'!$I$5:$DK$5,0))*'Pre-Rinse Spray Valves'!CH39","v":8.2208305428365858},141.82872418712179,681.69670269977041,5.7664451704165351,1.220657024654459E-2,null,null,2014,1495.6211635587617,0,298.42593914390727,{"$f":"INDEX('Floor Space'!$I$5:$DK$50,MATCH('Pre-Rinse Spray Valves'!CL39,'Floor Space'!$I$5:$I$50,0),MATCH('Pre-Rinse Spray Valves'!CL$10,'Floor Space'!$I$5:$DK$5,0))*'Pre-Rinse Spray Valves'!CS39","v":19.622552133800305},318.04849127770757,1515.2437156925621,5.7664451704165351,1.3120001650089863E-2,null,null,2014,745.94374489403606,0,147.02882236715215,{"$f":"INDEX('Floor Space'!$I$5:$DK$50,MATCH('Pre-Rinse Spray Valves'!CW39,'Floor Space'!$I$5:$I$50,0),MATCH('Pre-Rinse Spray Valves'!CW$10,'Floor Space'!$I$5:$DK$5,0))*'Pre-Rinse Spray Valves'!DD39","v":10.266336867043336},157.29515923419547,756.21008176107944,5.7664451704165351,1.3762883511412527E-2,null,null,2014,2315.0744507642835,0,426.4394485179854,{"$f":"INDEX('Floor Space'!$I$5:$DK$50,MATCH('Pre-Rinse Spray Valves'!DH39,'Floor Space'!$I$5:$I$50,0),MATCH('Pre-Rinse Spray Valves'!DH$10,'Floor Space'!$I$5:$DK$5,0))*'Pre-Rinse Spray Valves'!DO39","v":69.205552110109679},495.64500062809509,2384.2800028743932,5.7664451704165351,2.9893445581096856E-2,null,null,2014,306.93982438906102,0,60.050241537641249,{"$f":"INDEX('Floor Space'!$I$5:$DK$50,MATCH('Pre-Rinse Spray Valves'!DS39,'Floor Space'!$I$5:$I$50,0),MATCH('Pre-Rinse Spray Valves'!DS$10,'Floor Space'!$I$5:$DK$5,0))*'Pre-Rinse Spray Valves'!DZ39","v":1.3363437194278354},61.386585257069086,308.27616810848883,5.7664451704165351,4.3537645272577752E-3,null,null,2014,129.62728926421352,0,25.120761202226387,{"$f":"INDEX('Floor Space'!$I$5:$DK$50,MATCH('Pre-Rinse Spray Valves'!ED39,'Floor Space'!$I$5:$I$50,0),MATCH('Pre-Rinse Spray Valves'!ED$10,'Floor Space'!$I$5:$DK$5,0))*'Pre-Rinse Spray Valves'!EK39","v":1.8583910051750054},26.979152207401391,131.48568026938852,5.7664451704165351,1.4336418016017705E-2,null,null,2014,288.83223493737512,0,54.235679864925416,{"$f":"INDEX('Floor Space'!$I$5:$DK$50,MATCH('Pre-Rinse Spray Valves'!EO39,'Floor Space'!$I$5:$I$50,0),MATCH('Pre-Rinse Spray Valves'!EO$10,'Floor Space'!$I$5:$DK$5,0))*'Pre-Rinse Spray Valves'!EV39","v":4.4477039197784061},58.683383784703821,293.27993885715352,5.7664451704165351,1.5398918063085132E-2,null,null,2014,961.63320979070988,0,187.5798651860585,{"$f":"INDEX('Floor Space'!$I$5:$DK$50,MATCH('Pre-Rinse Spray Valves'!EZ39,'Floor Space'!$I$5:$I$50,0),MATCH('Pre-Rinse Spray Valves'!EZ$10,'Floor Space'!$I$5:$DK$5,0))*'Pre-Rinse Spray Valves'!FG39","v":7.9190826603909183},195.49894784644943,969.55229245110081,5.7664451704165351,8.2350345014752246E-3,null,null,2014,408.23458469701222,0,82.319945968443847,{"$f":"INDEX('Floor Space'!$I$5:$DK$50,MATCH('Pre-Rinse Spray Valves'!FK39,'Floor Space'!$I$5:$I$50,0),MATCH('Pre-Rinse Spray Valves'!FK$10,'Floor Space'!$I$5:$DK$5,0))*'Pre-Rinse Spray Valves'!FR39","v":5.6214275506715223},87.941373519115373,413.85601224768374,5.7664451704165351,1.3770091416541064E-2,null,null,2014,898.43973383637081,0,173.87052809802657,{"$f":"INDEX('Floor Space'!$I$5:$DK$50,MATCH('Pre-Rinse Spray Valves'!FV39,'Floor Space'!$I$5:$I$50,0),MATCH('Pre-Rinse Spray Valves'!FV$10,'Floor Space'!$I$5:$DK$5,0))*'Pre-Rinse Spray Valves'!GC39","v":19.174258468796857},193.04478656682343,917.6139923051677,5.7664451704165351,2.1341730276022153E-2,null,null,2014,1282.4488246634564,0,255.51115463602892,{"$f":"INDEX('Floor Space'!$I$5:$DK$50,MATCH('Pre-Rinse Spray Valves'!GG39,'Floor Space'!$I$5:$I$50,0),MATCH('Pre-Rinse Spray Valves'!GG$10,'Floor Space'!$I$5:$DK$5,0))*'Pre-Rinse Spray Valves'!GN39","v":14.445785921196265},269.95694055722521,1296.8946105846528,5.7664451704165351,1.1264220172674255E-2,null,null,2014,2499.4765854854932,0,512.99849634835016,{"$f":"INDEX('Floor Space'!$I$5:$DK$50,MATCH('Pre-Rinse Spray Valves'!GR39,'Floor Space'!$I$5:$I$50,0),MATCH('Pre-Rinse Spray Valves'!GR$10,'Floor Space'!$I$5:$DK$5,0))*'Pre-Rinse Spray Valves'!GY39","v":9.2630308442231915},522.26152719257334,2508.7396163297162,5.7664451704165351,3.7059882449044235E-3]
[null,2015,17979.601846622107,0,3412.8934096362254,243.77981364301493,3656.6732232792401,18223.381660265124,5.7664451704165351,1.3558688102362826E-2,null,null,2015,1653.4085496504354,0,313.61749492427435,{"$f":"INDEX('Floor Space'!$I$5:$DK$54,MATCH('Pre-Rinse Spray Valves'!M40,'Floor Space'!$I$5:$I$54,0),MATCH('Pre-Rinse Spray Valves'!M$10,'Floor Space'!$I$5:$DK$5,0))*'Pre-Rinse Spray Valves'!T40","v":22.567932810769491},336.18542773504385,1675.9764824612048,5.7664451704165351,1.3649338401897637E-2,null,null,2015,744.92830611516308,0,141.29753309393081,{"$f":"INDEX('Floor Space'!$I$5:$DK$50,MATCH('Pre-Rinse Spray Valves'!X40,'Floor Space'!$I$5:$I$50,0),MATCH('Pre-Rinse Spray Valves'!X$10,'Floor Space'!$I$5:$DK$5,0))*'Pre-Rinse Spray Valves'!AE40","v":10.167778535318222},151.46531162924904,755.09608465048132,5.7664451704165351,1.3649338401897637E-2,null,null,2015,874.07721077608085,0,165.79441619069124,{"$f":"INDEX('Floor Space'!$I$5:$DK$50,MATCH('Pre-Rinse Spray Valves'!AI40,'Floor Space'!$I$5:$I$50,0),MATCH('Pre-Rinse Spray Valves'!AI$10,'Floor Space'!$I$5:$DK$5,0))*'Pre-Rinse Spray Valves'!AP40","v":11.930575639269497},177.72499182996074,886.00778641535032,5.7664451704165351,1.3649338401897637E-2,null,null,2015,764.66185067316678,0,144.77658657883035,{"$f":"INDEX('Floor Space'!$I$5:$DK$50,MATCH('Pre-Rinse Spray Valves'!AT40,'Floor Space'!$I$5:$I$50,0),MATCH('Pre-Rinse Spray Valves'!AT$10,'Floor Space'!$I$5:$DK$5,0))*'Pre-Rinse Spray Valves'!BA40","v":6.7015510273710017},151.47813760620136,771.36340170053779,5.7664451704165351,8.7640713623562405E-3,null,null,2015,1412.3176921808836,0,267.3999421559144,{"$f":"INDEX('Floor Space'!$I$5:$DK$50,MATCH('Pre-Rinse Spray Valves'!BE40,'Floor Space'!$I$5:$I$50,0),MATCH('Pre-Rinse Spray Valves'!BE$10,'Floor Space'!$I$5:$DK$5,0))*'Pre-Rinse Spray Valves'!BL40","v":12.3776530405915},279.7775951965059,1424.695345221475,5.7664451704165351,8.7640713623562405E-3,null,null,2015,353.07942304522089,0,66.849985538978601,{"$f":"INDEX('Floor Space'!$I$5:$DK$50,MATCH('Pre-Rinse Spray Valves'!BP40,'Floor Space'!$I$5:$I$50,0),MATCH('Pre-Rinse Spray Valves'!BP$10,'Floor Space'!$I$5:$DK$5,0))*'Pre-Rinse Spray Valves'!BW40","v":3.0944132601478751},69.944398799126475,356.17383630536875,5.7664451704165351,8.7640713623562405E-3,null,null,2015,681.69670269977041,0,129.06845243035431,{"$f":"INDEX('Floor Space'!$I$5:$DK$50,MATCH('Pre-Rinse Spray Valves'!CA40,'Floor Space'!$I$5:$I$50,0),MATCH('Pre-Rinse Spray Valves'!CA$10,'Floor Space'!$I$5:$DK$5,0))*'Pre-Rinse Spray Valves'!CH40","v":5.9744385499437138},135.04289098029804,687.67114124971408,5.7664451704165351,8.7640713623562405E-3,null,null,2015,1515.2437156925621,0,278.20219326070696,{"$f":"INDEX('Floor Space'!$I$5:$DK$50,MATCH('Pre-Rinse Spray Valves'!CL40,'Floor Space'!$I$5:$I$50,0),MATCH('Pre-Rinse Spray Valves'!CL$10,'Floor Space'!$I$5:$DK$5,0))*'Pre-Rinse Spray Valves'!CS40","v":19.180792995112014},297.38298625581899,1534.424508687674,5.7664451704165351,1.2658553073982004E-2,null,null,2015,756.21008176107944,0,140.54242907996792,{"$f":"INDEX('Floor Space'!$I$5:$DK$50,MATCH('Pre-Rinse Spray Valves'!CW40,'Floor Space'!$I$5:$I$50,0),MATCH('Pre-Rinse Spray Valves'!CW$10,'Floor Space'!$I$5:$DK$5,0))*'Pre-Rinse Spray Valves'!DD40","v":9.8794170418178169},150.42184612178573,766.0894988028972,5.7664451704165351,1.3064381552293503E-2,null,null,2015,2384.2800028743932,0,435.38405486395033,{"$f":"INDEX('Floor Space'!$I$5:$DK$50,MATCH('Pre-Rinse Spray Valves'!DH40,'Floor Space'!$I$5:$I$50,0),MATCH('Pre-Rinse Spray Valves'!DH$10,'Floor Space'!$I$5:$DK$5,0))*'Pre-Rinse Spray Valves'!DO40","v":72.437917030107457},507.82197189405781,2456.7179199045008,5.7664451704165351,3.038146398190622E-2,null,null,2015,308.27616810848883,0,62.18649163452352,{"$f":"INDEX('Floor Space'!$I$5:$DK$50,MATCH('Pre-Rinse Spray Valves'!DS40,'Floor Space'!$I$5:$I$50,0),MATCH('Pre-Rinse Spray Valves'!DS$10,'Floor Space'!$I$5:$DK$5,0))*'Pre-Rinse Spray Valves'!DZ40","v":1.4146405248399427},63.601132159363466,309.6908086333288,5.7664451704165351,4.5888741044106673E-3,null,null,2015,131.48568026938852,0,25.138516868297184,{"$f":"INDEX('Floor Space'!$I$5:$DK$50,MATCH('Pre-Rinse Spray Valves'!ED40,'Floor Space'!$I$5:$I$50,0),MATCH('Pre-Rinse Spray Valves'!ED$10,'Floor Space'!$I$5:$DK$5,0))*'Pre-Rinse Spray Valves'!EK40","v":1.2814038854724483},26.419920753769631,132.76708415486098,5.7664451704165351,9.7455774868191458E-3,null,null,2015,293.27993885715352,0,58.048976311019949,{"$f":"INDEX('Floor Space'!$I$5:$DK$50,MATCH('Pre-Rinse Spray Valves'!EO40,'Floor Space'!$I$5:$I$50,0),MATCH('Pre-Rinse Spray Valves'!EO$10,'Floor Space'!$I$5:$DK$5,0))*'Pre-Rinse Spray Valves'!EV40","v":3.7211911740737205},61.770167485093673,297.00113003122726,5.7664451704165351,1.2688188590649574E-2,null,null,2015,969.55229245110081,0,184.6180044542094,{"$f":"INDEX('Floor Space'!$I$5:$DK$50,MATCH('Pre-Rinse Spray Valves'!EZ40,'Floor Space'!$I$5:$I$50,0),MATCH('Pre-Rinse Spray Valves'!EZ$10,'Floor Space'!$I$5:$DK$5,0))*'Pre-Rinse Spray Valves'!FG40","v":4.362295422102096},188.98029987631151,973.91458787320289,5.7664451704165351,4.4992884407233369E-3,null,null,2015,413.85601224768374,0,77.954976703361083,{"$f":"INDEX('Floor Space'!$I$5:$DK$50,MATCH('Pre-Rinse Spray Valves'!FK40,'Floor Space'!$I$5:$I$50,0),MATCH('Pre-Rinse Spray Valves'!FK$10,'Floor Space'!$I$5:$DK$5,0))*'Pre-Rinse Spray Valves'!FR40","v":6.133956783232537},84.088933486593618,419.98996903091626,5.7664451704165351,1.4821475589827715E-2,null,null,2015,917.6139923051677,0,171.78793127774279,{"$f":"INDEX('Floor Space'!$I$5:$DK$50,MATCH('Pre-Rinse Spray Valves'!FV40,'Floor Space'!$I$5:$I$50,0),MATCH('Pre-Rinse Spray Valves'!FV$10,'Floor Space'!$I$5:$DK$5,0))*'Pre-Rinse Spray Valves'!GC40","v":20.013501704590102},191.8014329823329,937.62749400975781,5.7664451704165351,2.1810371106388171E-2,null,null,2015,1296.8946105846528,0,265.02940534696774,{"$f":"INDEX('Floor Space'!$I$5:$DK$50,MATCH('Pre-Rinse Spray Valves'!GG40,'Floor Space'!$I$5:$I$50,0),MATCH('Pre-Rinse Spray Valves'!GG$10,'Floor Space'!$I$5:$DK$5,0))*'Pre-Rinse Spray Valves'!GN40","v":18.807703397315183},283.83710874428294,1315.702313981968,5.7664451704165351,1.4502106218821087E-2,null,null,2015,2508.7396163297162,0,485.19601892250449,{"$f":"INDEX('Floor Space'!$I$5:$DK$50,MATCH('Pre-Rinse Spray Valves'!GR40,'Floor Space'!$I$5:$I$50,0),MATCH('Pre-Rinse Spray Valves'!GR$10,'Floor Space'!$I$5:$DK$5,0))*'Pre-Rinse Spray Valves'!GY40","v":13.732650820940298},498.9286697434448,2522.4722671506565,5.7664451704165351,5.4739243289947392E-3]
[null,2016,18223.381660265124,0,3548.9725957871669,222.01501762146231,3770.9876134086289,18445.396677886583,5.7664451704165351,1.2182975792333295E-2,null,null,2016,1675.9764824612048,0,333.62826167122068,{"$f":"INDEX('Floor Space'!$I$5:$DK$54,MATCH('Pre-Rinse Spray Valves'!M41,'Floor Space'!$I$5:$I$54,0),MATCH('Pre-Rinse Spray Valves'!M$10,'Floor Space'!$I$5:$DK$5,0))*'Pre-Rinse Spray Valves'!T41","v":20.944129675458893},354.57239134667958,1696.9206121366637,5.7664451704165351,1.2496672772342343E-2,null,null,2016,755.09608465048132,0,150.31320352821024,{"$f":"INDEX('Floor Space'!$I$5:$DK$50,MATCH('Pre-Rinse Spray Valves'!X41,'Floor Space'!$I$5:$I$50,0),MATCH('Pre-Rinse Spray Valves'!X$10,'Floor Space'!$I$5:$DK$5,0))*'Pre-Rinse Spray Valves'!AE41","v":9.4361886815539169},159.74939220976415,764.53227333203529,5.7664451704165351,1.2496672772342343E-2,null,null,2016,886.00778641535032,0,176.3731416892133,{"$f":"INDEX('Floor Space'!$I$5:$DK$50,MATCH('Pre-Rinse Spray Valves'!AI41,'Floor Space'!$I$5:$I$50,0),MATCH('Pre-Rinse Spray Valves'!AI$10,'Floor Space'!$I$5:$DK$5,0))*'Pre-Rinse Spray Valves'!AP41","v":11.072149380579946},187.44529106979326,897.07993579593028,5.7664451704165351,1.2496672772342343E-2,null,null,2016,771.36340170053779,0,149.02262472395506,{"$f":"INDEX('Floor Space'!$I$5:$DK$50,MATCH('Pre-Rinse Spray Valves'!AT41,'Floor Space'!$I$5:$I$50,0),MATCH('Pre-Rinse Spray Valves'!AT$10,'Floor Space'!$I$5:$DK$5,0))*'Pre-Rinse Spray Valves'!BA41","v":4.7353981392698135},153.75802286322488,776.09879983980761,5.7664451704165351,6.1389976875105834E-3,null,null,2016,1424.695345221475,0,275.24230383350493,{"$f":"INDEX('Floor Space'!$I$5:$DK$50,MATCH('Pre-Rinse Spray Valves'!BE41,'Floor Space'!$I$5:$I$50,0),MATCH('Pre-Rinse Spray Valves'!BE$10,'Floor Space'!$I$5:$DK$5,0))*'Pre-Rinse Spray Valves'!BL41","v":8.7462014297215731},283.9885052632265,1433.4415466511966,5.7664451704165351,6.1389976875105834E-3,null,null,2016,356.17383630536875,0,68.810575958376234,{"$f":"INDEX('Floor Space'!$I$5:$DK$50,MATCH('Pre-Rinse Spray Valves'!BP41,'Floor Space'!$I$5:$I$50,0),MATCH('Pre-Rinse Spray Valves'!BP$10,'Floor Space'!$I$5:$DK$5,0))*'Pre-Rinse Spray Valves'!BW41","v":2.1865503574303933},70.997126315806625,358.36038666279916,5.7664451704165351,6.1389976875105834E-3,null,null,2016,687.67114124971408,0,132.8537991172864,{"$f":"INDEX('Floor Space'!$I$5:$DK$50,MATCH('Pre-Rinse Spray Valves'!CA41,'Floor Space'!$I$5:$I$50,0),MATCH('Pre-Rinse Spray Valves'!CA$10,'Floor Space'!$I$5:$DK$5,0))*'Pre-Rinse Spray Valves'!CH41","v":4.2216115458996821},137.07541066318609,691.89275279561377,5.7664451704165351,6.1389976875105834E-3,null,null,2016,1534.424508687674,0,296.84319183889016,{"$f":"INDEX('Floor Space'!$I$5:$DK$50,MATCH('Pre-Rinse Spray Valves'!CL41,'Floor Space'!$I$5:$I$50,0),MATCH('Pre-Rinse Spray Valves'!CL$10,'Floor Space'!$I$5:$DK$5,0))*'Pre-Rinse Spray Valves'!CS41","v":17.31949273580998},314.16268457470017,1551.744001423484,5.7664451704165351,1.1287288907176452E-2,null,null,2016,766.0894988028972,0,148.81543062780469,{"$f":"INDEX('Floor Space'!$I$5:$DK$50,MATCH('Pre-Rinse Spray Valves'!CW41,'Floor Space'!$I$5:$I$50,0),MATCH('Pre-Rinse Spray Valves'!CW$10,'Floor Space'!$I$5:$DK$5,0))*'Pre-Rinse Spray Valves'!DD41","v":9.1877737729405027},158.00320440074518,775.27727257583774,5.7664451704165351,1.1993081470634381E-2,null,null,2016,2456.7179199045008,0,476.64166751279612,{"$f":"INDEX('Floor Space'!$I$5:$DK$50,MATCH('Pre-Rinse Spray Valves'!DH41,'Floor Space'!$I$5:$I$50,0),MATCH('Pre-Rinse Spray Valves'!DH$10,'Floor Space'!$I$5:$DK$5,0))*'Pre-Rinse Spray Valves'!DO41","v":71.768916952206965},548.41058446500313,2528.4868368567077,5.7664451704165351,2.9213332296202932E-2,null,null,2016,309.6908086333288,0,60.747291881956841,{"$f":"INDEX('Floor Space'!$I$5:$DK$50,MATCH('Pre-Rinse Spray Valves'!DS41,'Floor Space'!$I$5:$I$50,0),MATCH('Pre-Rinse Spray Valves'!DS$10,'Floor Space'!$I$5:$DK$5,0))*'Pre-Rinse Spray Valves'!DZ41","v":1.4137702152393168},62.161062097196158,311.10457884856811,5.7664451704165351,4.565102275648103E-3,null,null,2016,132.76708415486098,0,25.746906282147375,{"$f":"INDEX('Floor Space'!$I$5:$DK$50,MATCH('Pre-Rinse Spray Valves'!ED41,'Floor Space'!$I$5:$I$50,0),MATCH('Pre-Rinse Spray Valves'!ED$10,'Floor Space'!$I$5:$DK$5,0))*'Pre-Rinse Spray Valves'!EK41","v":0.79203711593446602},26.538943398081841,133.55912127079546,5.7664451704165351,5.9656135477874628E-3,null,null,2016,297.00113003122726,0,58.253500515784637,{"$f":"INDEX('Floor Space'!$I$5:$DK$50,MATCH('Pre-Rinse Spray Valves'!EO41,'Floor Space'!$I$5:$I$50,0),MATCH('Pre-Rinse Spray Valves'!EO$10,'Floor Space'!$I$5:$DK$5,0))*'Pre-Rinse Spray Valves'!EV41","v":3.1998864290498177},61.453386944834456,300.20101646027706,5.7664451704165351,1.077398738756763E-2,null,null,2016,973.91458787320289,0,193.20306498149179,{"$f":"INDEX('Floor Space'!$I$5:$DK$50,MATCH('Pre-Rinse Spray Valves'!EZ41,'Floor Space'!$I$5:$I$50,0),MATCH('Pre-Rinse Spray Valves'!EZ$10,'Floor Space'!$I$5:$DK$5,0))*'Pre-Rinse Spray Valves'!FG41","v":4.2077790076789556},197.41084398917076,978.12236688088183,5.7664451704165351,4.3204805226992882E-3,null,null,2016,419.98996903091626,0,77.628768515287391,{"$f":"INDEX('Floor Space'!$I$5:$DK$50,MATCH('Pre-Rinse Spray Valves'!FK41,'Floor Space'!$I$5:$I$50,0),MATCH('Pre-Rinse Spray Valves'!FK$10,'Floor Space'!$I$5:$DK$5,0))*'Pre-Rinse Spray Valves'!FR41","v":5.2202252280879113},82.848993743375303,425.21019425900414,5.7664451704165351,1.2429404540620359E-2,null,null,2016,937.62749400975781,0,179.91494147402383,{"$f":"INDEX('Floor Space'!$I$5:$DK$50,MATCH('Pre-Rinse Spray Valves'!FV41,'Floor Space'!$I$5:$I$50,0),MATCH('Pre-Rinse Spray Valves'!FV$10,'Floor Space'!$I$5:$DK$5,0))*'Pre-Rinse Spray Valves'!GC41","v":18.142125702610407},198.05706717663423,955.76961971236824,5.7664451704165351,1.9348969413242934E-2,null,null,2016,1315.702313981968,0,253.22183281506074,{"$f":"INDEX('Floor Space'!$I$5:$DK$50,MATCH('Pre-Rinse Spray Valves'!GG41,'Floor Space'!$I$5:$I$50,0),MATCH('Pre-Rinse Spray Valves'!GG$10,'Floor Space'!$I$5:$DK$5,0))*'Pre-Rinse Spray Valves'!GN41","v":16.182622028046545},269.40445484310726,1331.8849360100146,5.7664451704165351,1.2299607484211217E-2,null,null,2016,2522.4722671506565,0,491.71208882015668,{"$f":"INDEX('Floor Space'!$I$5:$DK$50,MATCH('Pre-Rinse Spray Valves'!GR41,'Floor Space'!$I$5:$I$50,0),MATCH('Pre-Rinse Spray Valves'!GR$10,'Floor Space'!$I$5:$DK$5,0))*'Pre-Rinse Spray Valves'!GY41","v":13.238159223943192},504.95024804409985,2535.7104263745996,5.7664451704165351,5.2480891054142997E-3]
[null,2017,18445.396677886583,0,3616.4330754496382,221.54022914314692,3837.9733045927856,18666.936907029733,5.7664451704165351,1.2010597170227566E-2,null,null,2017,1696.9206121366637,0,331.72731954201595,{"$f":"INDEX('Floor Space'!$I$5:$DK$54,MATCH('Pre-Rinse Spray Valves'!M42,'Floor Space'!$I$5:$I$54,0),MATCH('Pre-Rinse Spray Valves'!M$10,'Floor Space'!$I$5:$DK$5,0))*'Pre-Rinse Spray Valves'!T42","v":20.896590381157914},352.62390992317387,1717.8172025178217,5.7664451704165351,1.2314418383336134E-2,null,null,2017,764.53227333203529,0,149.45675120090684,{"$f":"INDEX('Floor Space'!$I$5:$DK$50,MATCH('Pre-Rinse Spray Valves'!X42,'Floor Space'!$I$5:$I$50,0),MATCH('Pre-Rinse Spray Valves'!X$10,'Floor Space'!$I$5:$DK$5,0))*'Pre-Rinse Spray Valves'!AE42","v":9.4147702813738601},158.87152148228068,773.94704361340916,5.7664451704165351,1.2314418383336356E-2,null,null,2017,897.07993579593028,0,175.36820543525886,{"$f":"INDEX('Floor Space'!$I$5:$DK$50,MATCH('Pre-Rinse Spray Valves'!AI42,'Floor Space'!$I$5:$I$50,0),MATCH('Pre-Rinse Spray Valves'!AI$10,'Floor Space'!$I$5:$DK$5,0))*'Pre-Rinse Spray Valves'!AP42","v":11.047017652687492},186.41522308794634,908.12695344861777,5.7664451704165351,1.2314418383336134E-2,null,null,2017,776.09879983980761,0,154.56320976872286,{"$f":"INDEX('Floor Space'!$I$5:$DK$50,MATCH('Pre-Rinse Spray Valves'!AT42,'Floor Space'!$I$5:$I$50,0),MATCH('Pre-Rinse Spray Valves'!AT$10,'Floor Space'!$I$5:$DK$5,0))*'Pre-Rinse Spray Valves'!BA42","v":4.283307706060846},158.8465174747837,780.38210754586851,5.7664451704165351,5.519023746648033E-3,null,null,2017,1433.4415466511966,0,285.47567205616372,{"$f":"INDEX('Floor Space'!$I$5:$DK$50,MATCH('Pre-Rinse Spray Valves'!BE42,'Floor Space'!$I$5:$I$50,0),MATCH('Pre-Rinse Spray Valves'!BE$10,'Floor Space'!$I$5:$DK$5,0))*'Pre-Rinse Spray Valves'!BL42","v":7.9111979353996746},293.3868699915634,1441.3527445865964,5.7664451704165351,5.519023746648033E-3,null,null,2017,358.36038666279916,0,71.368918014040929,{"$f":"INDEX('Floor Space'!$I$5:$DK$50,MATCH('Pre-Rinse Spray Valves'!BP42,'Floor Space'!$I$5:$I$50,0),MATCH('Pre-Rinse Spray Valves'!BP$10,'Floor Space'!$I$5:$DK$5,0))*'Pre-Rinse Spray Valves'!BW42","v":1.9777994838499187},73.34671749789085,360.33818614664909,5.7664451704165351,5.519023746648033E-3,null,null,2017,691.89275279561377,0,137.79323548739006,{"$f":"INDEX('Floor Space'!$I$5:$DK$50,MATCH('Pre-Rinse Spray Valves'!CA42,'Floor Space'!$I$5:$I$50,0),MATCH('Pre-Rinse Spray Valves'!CA$10,'Floor Space'!$I$5:$DK$5,0))*'Pre-Rinse Spray Valves'!CH42","v":3.8185725328125888},141.61180802020266,695.71132532842637,5.7664451704165351,5.519023746648033E-3,null,null,2017,1551.744001423484,0,306.98986788539048,{"$f":"INDEX('Floor Space'!$I$5:$DK$50,MATCH('Pre-Rinse Spray Valves'!CL42,'Floor Space'!$I$5:$I$50,0),MATCH('Pre-Rinse Spray Valves'!CL$10,'Floor Space'!$I$5:$DK$5,0))*'Pre-Rinse Spray Valves'!CS42","v":17.425265331990616},324.41513321738108,1569.1692667554746,5.7664451704165351,1.1229471688632753E-2,null,null,2017,775.27727257583774,0,153.03157252592496,{"$f":"INDEX('Floor Space'!$I$5:$DK$50,MATCH('Pre-Rinse Spray Valves'!CW42,'Floor Space'!$I$5:$I$50,0),MATCH('Pre-Rinse Spray Valves'!CW$10,'Floor Space'!$I$5:$DK$5,0))*'Pre-Rinse Spray Valves'!DD42","v":9.6719730498628156},162.70354557578779,784.94924562570054,5.7664451704165351,1.247550185203794E-2,null,null,2017,2528.4868368567077,0,485.91590216782777,{"$f":"INDEX('Floor Space'!$I$5:$DK$50,MATCH('Pre-Rinse Spray Valves'!DH42,'Floor Space'!$I$5:$I$50,0),MATCH('Pre-Rinse Spray Valves'!DH$10,'Floor Space'!$I$5:$DK$5,0))*'Pre-Rinse Spray Valves'!DO42","v":70.653912888104415},556.56981505593217,2599.1407497448122,5.7664451704165351,2.7943160256249655E-2,null,null,2017,311.10457884856811,0,61.89247481730078,{"$f":"INDEX('Floor Space'!$I$5:$DK$50,MATCH('Pre-Rinse Spray Valves'!DS42,'Floor Space'!$I$5:$I$50,0),MATCH('Pre-Rinse Spray Valves'!DS$10,'Floor Space'!$I$5:$DK$5,0))*'Pre-Rinse Spray Valves'!DZ42","v":1.324428269957197},63.216903087257975,312.42900711852531,5.7664451704165351,4.2571802538524661E-3,null,null,2017,133.55912127079546,0,26.638331595230273,{"$f":"INDEX('Floor Space'!$I$5:$DK$50,MATCH('Pre-Rinse Spray Valves'!ED42,'Floor Space'!$I$5:$I$50,0),MATCH('Pre-Rinse Spray Valves'!ED$10,'Floor Space'!$I$5:$DK$5,0))*'Pre-Rinse Spray Valves'!EK42","v":0.74236988484035138},27.380701480070623,134.3014911556358,5.7664451704165351,5.5583615538707942E-3,null,null,2017,300.20101646027706,0,59.098534215772403,{"$f":"INDEX('Floor Space'!$I$5:$DK$50,MATCH('Pre-Rinse Spray Valves'!EO42,'Floor Space'!$I$5:$I$50,0),MATCH('Pre-Rinse Spray Valves'!EO$10,'Floor Space'!$I$5:$DK$5,0))*'Pre-Rinse Spray Valves'!EV42","v":2.8175138647773519},61.916048080549757,303.01853032505443,5.7664451704165351,9.3854241334661026E-3,null,null,2017,978.12236688088183,0,198.49396495098532,{"$f":"INDEX('Floor Space'!$I$5:$DK$50,MATCH('Pre-Rinse Spray Valves'!EZ42,'Floor Space'!$I$5:$I$50,0),MATCH('Pre-Rinse Spray Valves'!EZ$10,'Floor Space'!$I$5:$DK$5,0))*'Pre-Rinse Spray Valves'!FG42","v":3.5793474370277583},202.07331238801308,981.70171431790959,5.7664451704165351,3.6594065918784668E-3,null,null,2017,425.21019425900414,0,84.225511896416819,{"$f":"INDEX('Floor Space'!$I$5:$DK$50,MATCH('Pre-Rinse Spray Valves'!FK42,'Floor Space'!$I$5:$I$50,0),MATCH('Pre-Rinse Spray Valves'!FK$10,'Floor Space'!$I$5:$DK$5,0))*'Pre-Rinse Spray Valves'!FR42","v":5.7839875940500471},90.009499490466865,430.99418185305422,5.7664451704165351,1.3602655044829159E-2,null,null,2017,955.76961971236824,0,183.16933492436249,{"$f":"INDEX('Floor Space'!$I$5:$DK$50,MATCH('Pre-Rinse Spray Valves'!FV42,'Floor Space'!$I$5:$I$50,0),MATCH('Pre-Rinse Spray Valves'!FV$10,'Floor Space'!$I$5:$DK$5,0))*'Pre-Rinse Spray Valves'!GC42","v":19.970155662734943},203.13949058709744,975.73977537510314,5.7664451704165351,2.0894319353595758E-2,null,null,2017,1331.8849360100146,0,251.35075991238512,{"$f":"INDEX('Floor Space'!$I$5:$DK$50,MATCH('Pre-Rinse Spray Valves'!GG42,'Floor Space'!$I$5:$I$50,0),MATCH('Pre-Rinse Spray Valves'!GG$10,'Floor Space'!$I$5:$DK$5,0))*'Pre-Rinse Spray Valves'!GN42","v":16.356397322703476},267.70715723508857,1348.2413333327181,5.7664451704165351,1.2280638424895018E-2,null,null,2017,2535.7104263745996,0,499.87350905354293,{"$f":"INDEX('Floor Space'!$I$5:$DK$50,MATCH('Pre-Rinse Spray Valves'!GR42,'Floor Space'!$I$5:$I$50,0),MATCH('Pre-Rinse Spray Valves'!GR$10,'Floor Space'!$I$5:$DK$5,0))*'Pre-Rinse Spray Valves'!GY42","v":13.865621863755642},513.73913091729855,2549.5760482383553,5.7664451704165351,5.4681408884609262E-3]
[null,2018,18666.936907029733,0,3678.6657555080556,235.4900350009506,3914.1557905090067,18902.426942030681,5.7664451704165351,1.2615354954795377E-2,null,null,2018,1717.8172025178217,0,337.08452581204449,{"$f":"INDEX('Floor Space'!$I$5:$DK$54,MATCH('Pre-Rinse Spray Valves'!M43,'Floor Space'!$I$5:$I$54,0),MATCH('Pre-Rinse Spray Valves'!M$10,'Floor Space'!$I$5:$DK$5,0))*'Pre-Rinse Spray Valves'!T43","v":22.549144920387175},359.63367073243165,1740.3663474382088,5.7664451704165351,1.3126626562673049E-2,null,null,2018,773.94704361340916,0,151.87039215678897,{"$f":"INDEX('Floor Space'!$I$5:$DK$50,MATCH('Pre-Rinse Spray Valves'!X43,'Floor Space'!$I$5:$I$50,0),MATCH('Pre-Rinse Spray Valves'!X$10,'Floor Space'!$I$5:$DK$5,0))*'Pre-Rinse Spray Valves'!AE43","v":10.159313820798069},162.02970597758704,784.10635743420721,5.7664451704165351,1.3126626562673049E-2,null,null,2018,908.12695344861777,0,178.20030154063386,{"$f":"INDEX('Floor Space'!$I$5:$DK$50,MATCH('Pre-Rinse Spray Valves'!AI43,'Floor Space'!$I$5:$I$50,0),MATCH('Pre-Rinse Spray Valves'!AI$10,'Floor Space'!$I$5:$DK$5,0))*'Pre-Rinse Spray Valves'!AP43","v":11.920643389417991},190.12094493005185,920.04759683803582,5.7664451704165351,1.3126626562673049E-2,null,null,2018,780.38210754586851,0,157.20487266050219,{"$f":"INDEX('Floor Space'!$I$5:$DK$50,MATCH('Pre-Rinse Spray Valves'!AT43,'Floor Space'!$I$5:$I$50,0),MATCH('Pre-Rinse Spray Valves'!AT$10,'Floor Space'!$I$5:$DK$5,0))*'Pre-Rinse Spray Valves'!BA43","v":4.2359280854591885},161.44080074596138,784.61803563132764,5.7664451704165351,5.4280179472339096E-3,null,null,2018,1441.3527445865964,0,290.35477938387118,{"$f":"INDEX('Floor Space'!$I$5:$DK$50,MATCH('Pre-Rinse Spray Valves'!BE43,'Floor Space'!$I$5:$I$50,0),MATCH('Pre-Rinse Spray Valves'!BE$10,'Floor Space'!$I$5:$DK$5,0))*'Pre-Rinse Spray Valves'!BL43","v":7.8236885659108859},298.17846794978209,1449.1764331525073,5.7664451704165351,5.4280179472339096E-3,null,null,2018,360.33818614664909,0,72.588694845967794,{"$f":"INDEX('Floor Space'!$I$5:$DK$50,MATCH('Pre-Rinse Spray Valves'!BP43,'Floor Space'!$I$5:$I$50,0),MATCH('Pre-Rinse Spray Valves'!BP$10,'Floor Space'!$I$5:$DK$5,0))*'Pre-Rinse Spray Valves'!BW43","v":1.9559221414777215},74.544616987445522,362.29410828812684,5.7664451704165351,5.4280179472339096E-3,null,null,2018,695.71132532842637,0,140.1482802452592,{"$f":"INDEX('Floor Space'!$I$5:$DK$50,MATCH('Pre-Rinse Spray Valves'!CA43,'Floor Space'!$I$5:$I$50,0),MATCH('Pre-Rinse Spray Valves'!CA$10,'Floor Space'!$I$5:$DK$5,0))*'Pre-Rinse Spray Valves'!CH43","v":3.7763335599765799},143.92461380523579,699.48765888840296,5.7664451704165351,5.4280179472339096E-3,null,null,2018,1569.1692667554746,0,315.15558791989736,{"$f":"INDEX('Floor Space'!$I$5:$DK$50,MATCH('Pre-Rinse Spray Valves'!CL43,'Floor Space'!$I$5:$I$50,0),MATCH('Pre-Rinse Spray Valves'!CL$10,'Floor Space'!$I$5:$DK$5,0))*'Pre-Rinse Spray Valves'!CS43","v":18.213278133749046},333.3688660536464,1587.3825448892237,5.7664451704165351,1.1606955680063757E-2,null,null,2018,784.94924562570054,0,156.52668444593678,{"$f":"INDEX('Floor Space'!$I$5:$DK$50,MATCH('Pre-Rinse Spray Valves'!CW43,'Floor Space'!$I$5:$I$50,0),MATCH('Pre-Rinse Spray Valves'!CW$10,'Floor Space'!$I$5:$DK$5,0))*'Pre-Rinse Spray Valves'!DD43","v":10.238195206791229},166.76487965272801,795.1874408324918,5.7664451704165351,1.3043130194526409E-2,null,null,2018,2599.1407497448122,0,490.68776629302863,{"$f":"INDEX('Floor Space'!$I$5:$DK$50,MATCH('Pre-Rinse Spray Valves'!DH43,'Floor Space'!$I$5:$I$50,0),MATCH('Pre-Rinse Spray Valves'!DH$10,'Floor Space'!$I$5:$DK$5,0))*'Pre-Rinse Spray Valves'!DO43","v":78.097843129652972},568.78560942268155,2677.2385928744652,5.7664451704165351,3.0047562117334614E-2,null,null,2018,312.42900711852531,0,62.065554135755306,{"$f":"INDEX('Floor Space'!$I$5:$DK$50,MATCH('Pre-Rinse Spray Valves'!DS43,'Floor Space'!$I$5:$I$50,0),MATCH('Pre-Rinse Spray Valves'!DS$10,'Floor Space'!$I$5:$DK$5,0))*'Pre-Rinse Spray Valves'!DZ43","v":1.3785110604328845},63.444065196188191,313.80751817895816,5.7664451704165351,4.412237753295134E-3,null,null,2018,134.3014911556358,0,26.980748545565572,{"$f":"INDEX('Floor Space'!$I$5:$DK$50,MATCH('Pre-Rinse Spray Valves'!ED43,'Floor Space'!$I$5:$I$50,0),MATCH('Pre-Rinse Spray Valves'!ED$10,'Floor Space'!$I$5:$DK$5,0))*'Pre-Rinse Spray Valves'!EK43","v":0.58740246051568679},27.568151006081258,134.88889361615148,5.7664451704165351,4.3737597807826933E-3,null,null,2018,303.01853032505443,0,59.191955527858603,{"$f":"INDEX('Floor Space'!$I$5:$DK$50,MATCH('Pre-Rinse Spray Valves'!EO43,'Floor Space'!$I$5:$I$50,0),MATCH('Pre-Rinse Spray Valves'!EO$10,'Floor Space'!$I$5:$DK$5,0))*'Pre-Rinse Spray Valves'!EV43","v":2.6825326053764136},61.874488133235019,305.70106293043085,5.7664451704165351,8.852701524552975E-3,null,null,2018,981.70171431790959,0,197.74266032874439,{"$f":"INDEX('Floor Space'!$I$5:$DK$50,MATCH('Pre-Rinse Spray Valves'!EZ43,'Floor Space'!$I$5:$I$50,0),MATCH('Pre-Rinse Spray Valves'!EZ$10,'Floor Space'!$I$5:$DK$5,0))*'Pre-Rinse Spray Valves'!FG43","v":3.6611390970844346},201.40379942582882,985.36285341499399,5.7664451704165351,3.729380364409618E-3,null,null,2018,430.99418185305422,0,86.104437957118705,{"$f":"INDEX('Floor Space'!$I$5:$DK$50,MATCH('Pre-Rinse Spray Valves'!FK43,'Floor Space'!$I$5:$I$50,0),MATCH('Pre-Rinse Spray Valves'!FK$10,'Floor Space'!$I$5:$DK$5,0))*'Pre-Rinse Spray Valves'!FR43","v":5.8449921011095292},91.949430058228231,436.83917395416375,5.7664451704165351,1.3561649663062836E-2,null,null,2018,975.73977537510314,0,189.69466765605745,{"$f":"INDEX('Floor Space'!$I$5:$DK$50,MATCH('Pre-Rinse Spray Valves'!FV43,'Floor Space'!$I$5:$I$50,0),MATCH('Pre-Rinse Spray Valves'!FV$10,'Floor Space'!$I$5:$DK$5,0))*'Pre-Rinse Spray Valves'!GC43","v":20.800478990759085},210.49514664681652,996.54025436586221,5.7664451704165351,2.1317649967444119E-2,null,null,2018,1348.2413333327181,0,257.3725153054375,{"$f":"INDEX('Floor Space'!$I$5:$DK$50,MATCH('Pre-Rinse Spray Valves'!GG43,'Floor Space'!$I$5:$I$50,0),MATCH('Pre-Rinse Spray Valves'!GG$10,'Floor Space'!$I$5:$DK$5,0))*'Pre-Rinse Spray Valves'!GN43","v":17.415240702964422},274.78775600840191,1365.6565740356825,5.7664451704165351,1.2917005488858324E-2,null,null,2018,2549.5760482383553,0,509.69133074758787,{"$f":"INDEX('Floor Space'!$I$5:$DK$50,MATCH('Pre-Rinse Spray Valves'!GR43,'Floor Space'!$I$5:$I$50,0),MATCH('Pre-Rinse Spray Valves'!GR$10,'Floor Space'!$I$5:$DK$5,0))*'Pre-Rinse Spray Valves'!GY43","v":14.149447029087311},523.84077777667517,2563.7254952674425,5.7664451704165351,5.5497254293959131E-3]
[null,2019,18902.426942030681,0,3722.6312254142813,245.6917285444444,3968.3229539587251,19148.118670575128,5.7664451704165351,1.2997893302163055E-2,null,null,2019,1740.3663474382088,0,337.3476446608056,{"$f":"INDEX('Floor Space'!$I$5:$DK$54,MATCH('Pre-Rinse Spray Valves'!M44,'Floor Space'!$I$5:$I$54,0),MATCH('Pre-Rinse Spray Valves'!M$10,'Floor Space'!$I$5:$DK$5,0))*'Pre-Rinse Spray Valves'!T44","v":23.48641170823328},360.83405636903888,1763.8527591464422,5.7664451704165351,1.349509644495539E-2,null,null,2019,784.10635743420721,0,151.98893798041863,{"$f":"INDEX('Floor Space'!$I$5:$DK$50,MATCH('Pre-Rinse Spray Valves'!X44,'Floor Space'!$I$5:$I$50,0),MATCH('Pre-Rinse Spray Valves'!X$10,'Floor Space'!$I$5:$DK$5,0))*'Pre-Rinse Spray Valves'!AE44","v":10.58159091667725},162.57052889709587,794.68794835088443,5.7664451704165351,1.349509644495539E-2,null,null,2019,920.04759683803582,0,178.33939976259259,{"$f":"INDEX('Floor Space'!$I$5:$DK$50,MATCH('Pre-Rinse Spray Valves'!AI44,'Floor Space'!$I$5:$I$50,0),MATCH('Pre-Rinse Spray Valves'!AI$10,'Floor Space'!$I$5:$DK$5,0))*'Pre-Rinse Spray Valves'!AP44","v":12.416131053278677},190.75553081587128,932.46372789131453,5.7664451704165351,1.349509644495539E-2,null,null,2019,784.61803563132764,0,159.08983318539291,{"$f":"INDEX('Floor Space'!$I$5:$DK$50,MATCH('Pre-Rinse Spray Valves'!AT44,'Floor Space'!$I$5:$I$50,0),MATCH('Pre-Rinse Spray Valves'!AT$10,'Floor Space'!$I$5:$DK$5,0))*'Pre-Rinse Spray Valves'!BA44","v":4.4833217760925779},163.57315496148547,789.10135740742021,5.7664451704165351,5.7140182515498239E-3,null,null,2019,1449.1764331525073,0,293.8362700532723,{"$f":"INDEX('Floor Space'!$I$5:$DK$50,MATCH('Pre-Rinse Spray Valves'!BE44,'Floor Space'!$I$5:$I$50,0),MATCH('Pre-Rinse Spray Valves'!BE$10,'Floor Space'!$I$5:$DK$5,0))*'Pre-Rinse Spray Valves'!BL44","v":8.2806205887493061},302.11689064202159,1457.4570537412567,5.7664451704165351,5.7140182515498239E-3,null,null,2019,362.29410828812684,0,73.459067513318075,{"$f":"INDEX('Floor Space'!$I$5:$DK$50,MATCH('Pre-Rinse Spray Valves'!BP44,'Floor Space'!$I$5:$I$50,0),MATCH('Pre-Rinse Spray Valves'!BP$10,'Floor Space'!$I$5:$DK$5,0))*'Pre-Rinse Spray Valves'!BW44","v":2.0701551471873265},75.529222660505397,364.36426343531417,5.7664451704165351,5.7140182515498239E-3,null,null,2019,699.48765888840296,0,141.82872418712179,{"$f":"INDEX('Floor Space'!$I$5:$DK$50,MATCH('Pre-Rinse Spray Valves'!CA44,'Floor Space'!$I$5:$I$50,0),MATCH('Pre-Rinse Spray Valves'!CA$10,'Floor Space'!$I$5:$DK$5,0))*'Pre-Rinse Spray Valves'!CH44","v":3.9968852496221938},145.82560943674397,703.48454413802517,5.7664451704165351,5.7140182515498239E-3,null,null,2019,1587.3825448892237,0,318.04849127770757,{"$f":"INDEX('Floor Space'!$I$5:$DK$50,MATCH('Pre-Rinse Spray Valves'!CL44,'Floor Space'!$I$5:$I$50,0),MATCH('Pre-Rinse Spray Valves'!CL$10,'Floor Space'!$I$5:$DK$5,0))*'Pre-Rinse Spray Valves'!CS44","v":17.765723641096624},335.81421491880417,1605.1482685303204,5.7664451704165351,1.119183507359045E-2,null,null,2019,795.1874408324918,0,157.29515923419547,{"$f":"INDEX('Floor Space'!$I$5:$DK$50,MATCH('Pre-Rinse Spray Valves'!CW44,'Floor Space'!$I$5:$I$50,0),MATCH('Pre-Rinse Spray Valves'!CW$10,'Floor Space'!$I$5:$DK$5,0))*'Pre-Rinse Spray Valves'!DD44","v":10.184100953915387},167.47926018811086,805.37154178640719,5.7664451704165351,1.2807170273279933E-2,null,null,2019,2677.2385928744652,0,495.64500062809509,{"$f":"INDEX('Floor Space'!$I$5:$DK$50,MATCH('Pre-Rinse Spray Valves'!DH44,'Floor Space'!$I$5:$I$50,0),MATCH('Pre-Rinse Spray Valves'!DH$10,'Floor Space'!$I$5:$DK$5,0))*'Pre-Rinse Spray Valves'!DO44","v":76.599454910702264},572.24445553879741,2753.8380477851674,5.7664451704165351,2.8611366620283185E-2,null,null,2019,313.80751817895816,0,61.386585257069086,{"$f":"INDEX('Floor Space'!$I$5:$DK$50,MATCH('Pre-Rinse Spray Valves'!DS44,'Floor Space'!$I$5:$I$50,0),MATCH('Pre-Rinse Spray Valves'!DS$10,'Floor Space'!$I$5:$DK$5,0))*'Pre-Rinse Spray Valves'!DZ44","v":1.3161946884204641},62.702779945489553,315.12371286737863,5.7664451704165351,4.194273916885205E-3,null,null,2019,134.88889361615148,0,26.979152207401391,{"$f":"INDEX('Floor Space'!$I$5:$DK$50,MATCH('Pre-Rinse Spray Valves'!ED44,'Floor Space'!$I$5:$I$50,0),MATCH('Pre-Rinse Spray Valves'!ED$10,'Floor Space'!$I$5:$DK$5,0))*'Pre-Rinse Spray Valves'!EK44","v":1.0120922698546351},27.991244477256025,135.90098588600611,5.7664451704165351,7.5031549501378692E-3,null,null,2019,305.70106293043085,0,58.683383784703821,{"$f":"INDEX('Floor Space'!$I$5:$DK$50,MATCH('Pre-Rinse Spray Valves'!EO44,'Floor Space'!$I$5:$I$50,0),MATCH('Pre-Rinse Spray Valves'!EO$10,'Floor Space'!$I$5:$DK$5,0))*'Pre-Rinse Spray Valves'!EV44","v":3.0112150398792918},61.69459882458311,308.71227797031014,5.7664451704165351,9.8501948636160463E-3,null,null,2019,985.36285341499399,0,195.49894784644943,{"$f":"INDEX('Floor Space'!$I$5:$DK$50,MATCH('Pre-Rinse Spray Valves'!EZ44,'Floor Space'!$I$5:$I$50,0),MATCH('Pre-Rinse Spray Valves'!EZ$10,'Floor Space'!$I$5:$DK$5,0))*'Pre-Rinse Spray Valves'!FG44","v":3.7526314614472631},199.25157930789669,989.1154848764412,5.7664451704165351,3.8083752076116806E-3,null,null,2019,436.83917395416375,0,87.941373519115373,{"$f":"INDEX('Floor Space'!$I$5:$DK$50,MATCH('Pre-Rinse Spray Valves'!FK44,'Floor Space'!$I$5:$I$50,0),MATCH('Pre-Rinse Spray Valves'!FK$10,'Floor Space'!$I$5:$DK$5,0))*'Pre-Rinse Spray Valves'!FR44","v":5.2084188846933896},93.14979240380876,442.04759283885716,5.7664451704165351,1.1922966609308583E-2,null,null,2019,996.54025436586221,0,193.04478656682343,{"$f":"INDEX('Floor Space'!$I$5:$DK$50,MATCH('Pre-Rinse Spray Valves'!FV44,'Floor Space'!$I$5:$I$50,0),MATCH('Pre-Rinse Spray Valves'!FV$10,'Floor Space'!$I$5:$DK$5,0))*'Pre-Rinse Spray Valves'!GC44","v":18.772370814371783},211.81715738119522,1015.312625180234,5.7664451704165351,1.8837543924723255E-2,null,null,2019,1365.6565740356825,0,269.95694055722521,{"$f":"INDEX('Floor Space'!$I$5:$DK$50,MATCH('Pre-Rinse Spray Valves'!GG44,'Floor Space'!$I$5:$I$50,0),MATCH('Pre-Rinse Spray Valves'!GG$10,'Floor Space'!$I$5:$DK$5,0))*'Pre-Rinse Spray Valves'!GN44","v":29.371367402021153},299.32830795924639,1395.0279414377037,5.7664451704165351,2.1507140199402475E-2,null,null,2019,2563.7254952674425,0,522.26152719257334,{"$f":"INDEX('Floor Space'!$I$5:$DK$50,MATCH('Pre-Rinse Spray Valves'!GR44,'Floor Space'!$I$5:$I$50,0),MATCH('Pre-Rinse Spray Valves'!GR$10,'Floor Space'!$I$5:$DK$5,0))*'Pre-Rinse Spray Valves'!GY44","v":13.383042038201507},535.64456923077489,2577.1085373056439,5.7664451704165351,5.2201540542877733E-3]
[null,2020,19148.118670575128,0,3656.6732232792401,257.95633821331563,3914.6295614925566,19406.075008788444,5.7664451704165351,1.347162834381832E-2,null,null,2020,1763.8527591464422,0,336.18542773504385,{"$f":"INDEX('Floor Space'!$I$5:$DK$54,MATCH('Pre-Rinse Spray Valves'!M45,'Floor Space'!$I$5:$I$54,0),MATCH('Pre-Rinse Spray Valves'!M$10,'Floor Space'!$I$5:$DK$5,0))*'Pre-Rinse Spray Valves'!T45","v":28.193048215430053},364.3784759504739,1792.0458073618722,5.7664451704165351,1.5983787801581162E-2,null,null,2020,794.68794835088443,0,151.46531162924904,{"$f":"INDEX('Floor Space'!$I$5:$DK$50,MATCH('Pre-Rinse Spray Valves'!X45,'Floor Space'!$I$5:$I$50,0),MATCH('Pre-Rinse Spray Valves'!X$10,'Floor Space'!$I$5:$DK$5,0))*'Pre-Rinse Spray Valves'!AE45","v":12.702123534914374},164.16743516416341,807.39007188579876,5.7664451704165351,1.598378780158094E-2,null,null,2020,932.46372789131453,0,177.72499182996074,{"$f":"INDEX('Floor Space'!$I$5:$DK$50,MATCH('Pre-Rinse Spray Valves'!AI45,'Floor Space'!$I$5:$I$50,0),MATCH('Pre-Rinse Spray Valves'!AI$10,'Floor Space'!$I$5:$DK$5,0))*'Pre-Rinse Spray Valves'!AP45","v":14.904302359286023},192.62929418924676,947.36803025060055,5.7664451704165351,1.5983787801581162E-2,null,null,2020,789.10135740742021,0,151.47813760620136,{"$f":"INDEX('Floor Space'!$I$5:$DK$50,MATCH('Pre-Rinse Spray Valves'!AT45,'Floor Space'!$I$5:$I$50,0),MATCH('Pre-Rinse Spray Valves'!AT$10,'Floor Space'!$I$5:$DK$5,0))*'Pre-Rinse Spray Valves'!BA45","v":6.6418874214164667},158.12002502761783,795.74324482883662,5.7664451704165351,8.4170269878107717E-3,null,null,2020,1457.4570537412567,0,279.7775951965059,{"$f":"INDEX('Floor Space'!$I$5:$DK$50,MATCH('Pre-Rinse Spray Valves'!BE45,'Floor Space'!$I$5:$I$50,0),MATCH('Pre-Rinse Spray Valves'!BE$10,'Floor Space'!$I$5:$DK$5,0))*'Pre-Rinse Spray Valves'!BL45","v":12.267455354915514},292.04505055142141,1469.7245090961721,5.7664451704165351,8.4170269878107717E-3,null,null,2020,364.36426343531417,0,69.944398799126475,{"$f":"INDEX('Floor Space'!$I$5:$DK$50,MATCH('Pre-Rinse Spray Valves'!BP45,'Floor Space'!$I$5:$I$50,0),MATCH('Pre-Rinse Spray Valves'!BP$10,'Floor Space'!$I$5:$DK$5,0))*'Pre-Rinse Spray Valves'!BW45","v":3.0668638387288785},73.011262637855353,367.43112727404304,5.7664451704165351,8.4170269878107717E-3,null,null,2020,703.48454413802517,0,135.04289098029804,{"$f":"INDEX('Floor Space'!$I$5:$DK$50,MATCH('Pre-Rinse Spray Valves'!CA45,'Floor Space'!$I$5:$I$50,0),MATCH('Pre-Rinse Spray Valves'!CA$10,'Floor Space'!$I$5:$DK$5,0))*'Pre-Rinse Spray Valves'!CH45","v":5.9212483935176019},140.96413937381564,709.40579253154283,5.7664451704165351,8.4170269878109938E-3,null,null,2020,1605.1482685303204,0,297.38298625581899,{"$f":"INDEX('Floor Space'!$I$5:$DK$50,MATCH('Pre-Rinse Spray Valves'!CL45,'Floor Space'!$I$5:$I$50,0),MATCH('Pre-Rinse Spray Valves'!CL$10,'Floor Space'!$I$5:$DK$5,0))*'Pre-Rinse Spray Valves'!CS45","v":16.424119243803222},313.8071054996222,1621.5723877741236,5.7664451704165351,1.0232150864693201E-2,null,null,2020,805.37154178640719,0,150.42184612178573,{"$f":"INDEX('Floor Space'!$I$5:$DK$50,MATCH('Pre-Rinse Spray Valves'!CW45,'Floor Space'!$I$5:$I$50,0),MATCH('Pre-Rinse Spray Valves'!CW$10,'Floor Space'!$I$5:$DK$5,0))*'Pre-Rinse Spray Valves'!DD45","v":9.7910969442252398},160.21294306601098,815.16263873063247,5.7664451704165351,1.2157242261760848E-2,null,null,2020,2753.8380477851674,0,507.82197189405781,{"$f":"INDEX('Floor Space'!$I$5:$DK$50,MATCH('Pre-Rinse Spray Valves'!DH45,'Floor Space'!$I$5:$I$50,0),MATCH('Pre-Rinse Spray Valves'!DH$10,'Floor Space'!$I$5:$DK$5,0))*'Pre-Rinse Spray Valves'!DO45","v":72.116320843211241},579.93829273726908,2825.9543686283787,5.7664451704165351,2.6187567893185326E-2,null,null,2020,315.12371286737863,0,63.601132159363466,{"$f":"INDEX('Floor Space'!$I$5:$DK$50,MATCH('Pre-Rinse Spray Valves'!DS45,'Floor Space'!$I$5:$I$50,0),MATCH('Pre-Rinse Spray Valves'!DS$10,'Floor Space'!$I$5:$DK$5,0))*'Pre-Rinse Spray Valves'!DZ45","v":1.2454446625603639},64.846576821923833,316.369157529939,5.7664451704165351,3.9522403795886341E-3,null,null,2020,135.90098588600611,0,26.419920753769631,{"$f":"INDEX('Floor Space'!$I$5:$DK$50,MATCH('Pre-Rinse Spray Valves'!ED45,'Floor Space'!$I$5:$I$50,0),MATCH('Pre-Rinse Spray Valves'!ED$10,'Floor Space'!$I$5:$DK$5,0))*'Pre-Rinse Spray Valves'!EK45","v":1.6542731168263574},28.074193870595987,137.55525900283246,5.7664451704165351,1.2172635143456123E-2,null,null,2020,308.71227797031014,0,61.770167485093673,{"$f":"INDEX('Floor Space'!$I$5:$DK$50,MATCH('Pre-Rinse Spray Valves'!EO45,'Floor Space'!$I$5:$I$50,0),MATCH('Pre-Rinse Spray Valves'!EO$10,'Floor Space'!$I$5:$DK$5,0))*'Pre-Rinse Spray Valves'!EV45","v":3.6581806265571073},65.428348111650777,312.37045859686725,5.7664451704165351,1.1849806073825686E-2,null,null,2020,989.1154848764412,0,188.98029987631151,{"$f":"INDEX('Floor Space'!$I$5:$DK$50,MATCH('Pre-Rinse Spray Valves'!EZ45,'Floor Space'!$I$5:$I$50,0),MATCH('Pre-Rinse Spray Valves'!EZ$10,'Floor Space'!$I$5:$DK$5,0))*'Pre-Rinse Spray Valves'!FG45","v":5.7474538516393698},194.72775372795087,994.86293872808062,5.7664451704165351,5.810700509210287E-3,null,null,2020,442.04759283885716,0,84.088933486593618,{"$f":"INDEX('Floor Space'!$I$5:$DK$50,MATCH('Pre-Rinse Spray Valves'!FK45,'Floor Space'!$I$5:$I$50,0),MATCH('Pre-Rinse Spray Valves'!FK$10,'Floor Space'!$I$5:$DK$5,0))*'Pre-Rinse Spray Valves'!FR45","v":5.6186546331970195},89.707588119790643,447.66624747205418,5.7664451704165351,1.2710519691134792E-2,null,null,2020,1015.312625180234,0,191.8014329823329,{"$f":"INDEX('Floor Space'!$I$5:$DK$50,MATCH('Pre-Rinse Spray Valves'!FV45,'Floor Space'!$I$5:$I$50,0),MATCH('Pre-Rinse Spray Valves'!FV$10,'Floor Space'!$I$5:$DK$5,0))*'Pre-Rinse Spray Valves'!GC45","v":18.72364120304001},210.52507418537292,1034.0362663832741,5.7664451704165351,1.8441257144533596E-2,null,null,2020,1395.0279414377037,0,283.83710874428294,{"$f":"INDEX('Floor Space'!$I$5:$DK$50,MATCH('Pre-Rinse Spray Valves'!GG45,'Floor Space'!$I$5:$I$50,0),MATCH('Pre-Rinse Spray Valves'!GG$10,'Floor Space'!$I$5:$DK$5,0))*'Pre-Rinse Spray Valves'!GN45","v":26.393866766427166},310.2309755107101,1421.4218082041309,5.7664451704165351,1.8919955638469821E-2,null,null,2020,2577.1085373056439,0,498.9286697434448,{"$f":"INDEX('Floor Space'!$I$5:$DK$50,MATCH('Pre-Rinse Spray Valves'!GR45,'Floor Space'!$I$5:$I$50,0),MATCH('Pre-Rinse Spray Valves'!GR$10,'Floor Space'!$I$5:$DK$5,0))*'Pre-Rinse Spray Valves'!GY45","v":12.886357203619657},511.81502694706444,2589.9948945092638,5.7664451704165351,5.0003160585128104E-3]
[null,2021,19406.075008788444,0,3770.9876134086289,247.85282848638954,4018.8404418950186,19653.92783727483,5.7664451704165351,1.2771919534173781E-2,null,null,2021,1792.0458073618722,0,354.57239134667958,{"$f":"INDEX('Floor Space'!$I$5:$DK$54,MATCH('Pre-Rinse Spray Valves'!M46,'Floor Space'!$I$5:$I$54,0),MATCH('Pre-Rinse Spray Valves'!M$10,'Floor Space'!$I$5:$DK$5,0))*'Pre-Rinse Spray Valves'!T46","v":23.608512540520483},378.18090388720009,1815.6543199023927,5.7664451704165351,1.317405640164715E-2,null,null,2021,807.39007188579876,0,159.74939220976415,{"$f":"INDEX('Floor Space'!$I$5:$DK$50,MATCH('Pre-Rinse Spray Valves'!X46,'Floor Space'!$I$5:$I$50,0),MATCH('Pre-Rinse Spray Valves'!X$10,'Floor Space'!$I$5:$DK$5,0))*'Pre-Rinse Spray Valves'!AE46","v":10.636602345153404},170.38599455491754,818.02667423095215,5.7664451704165351,1.317405640164715E-2,null,null,2021,947.36803025060055,0,187.44529106979326,{"$f":"INDEX('Floor Space'!$I$5:$DK$50,MATCH('Pre-Rinse Spray Valves'!AI46,'Floor Space'!$I$5:$I$50,0),MATCH('Pre-Rinse Spray Valves'!AI$10,'Floor Space'!$I$5:$DK$5,0))*'Pre-Rinse Spray Valves'!AP46","v":12.480679863638708},199.92597093343196,959.84871011423922,5.7664451704165351,1.317405640164715E-2,null,null,2021,795.74324482883662,0,153.75802286322488,{"$f":"INDEX('Floor Space'!$I$5:$DK$50,MATCH('Pre-Rinse Spray Valves'!AT46,'Floor Space'!$I$5:$I$50,0),MATCH('Pre-Rinse Spray Valves'!AT$10,'Floor Space'!$I$5:$DK$5,0))*'Pre-Rinse Spray Valves'!BA46","v":7.2891510038151415},161.04717386704002,803.03239583265179,5.7664451704165351,9.1601795568909683E-3,null,null,2021,1469.7245090961721,0,283.9885052632265,{"$f":"INDEX('Floor Space'!$I$5:$DK$50,MATCH('Pre-Rinse Spray Valves'!BE46,'Floor Space'!$I$5:$I$50,0),MATCH('Pre-Rinse Spray Valves'!BE$10,'Floor Space'!$I$5:$DK$5,0))*'Pre-Rinse Spray Valves'!BL46","v":13.462940402484277},297.45144566571076,1483.1874494986564,5.7664451704165351,9.1601795568909683E-3,null,null,2021,367.43112727404304,0,70.997126315806625,{"$f":"INDEX('Floor Space'!$I$5:$DK$50,MATCH('Pre-Rinse Spray Valves'!BP46,'Floor Space'!$I$5:$I$50,0),MATCH('Pre-Rinse Spray Valves'!BP$10,'Floor Space'!$I$5:$DK$5,0))*'Pre-Rinse Spray Valves'!BW46","v":3.3657351006210692},74.362861416427691,370.7968623746641,5.7664451704165351,9.1601795568909683E-3,null,null,2021,709.40579253154283,0,137.07541066318609,{"$f":"INDEX('Floor Space'!$I$5:$DK$50,MATCH('Pre-Rinse Spray Valves'!CA46,'Floor Space'!$I$5:$I$50,0),MATCH('Pre-Rinse Spray Valves'!CA$10,'Floor Space'!$I$5:$DK$5,0))*'Pre-Rinse Spray Valves'!CH46","v":6.4982844382874267},143.5736951014735,715.90407696983027,5.7664451704165351,9.1601795568909683E-3,null,null,2021,1621.5723877741236,0,314.16268457470017,{"$f":"INDEX('Floor Space'!$I$5:$DK$50,MATCH('Pre-Rinse Spray Valves'!CL46,'Floor Space'!$I$5:$I$50,0),MATCH('Pre-Rinse Spray Valves'!CL$10,'Floor Space'!$I$5:$DK$5,0))*'Pre-Rinse Spray Valves'!CS46","v":11.767993562097717},325.93067813679789,1633.3403813362213,5.7664451704165351,7.257149696691112E-3,null,null,2021,815.16263873063247,0,158.00320440074518,{"$f":"INDEX('Floor Space'!$I$5:$DK$50,MATCH('Pre-Rinse Spray Valves'!CW46,'Floor Space'!$I$5:$I$50,0),MATCH('Pre-Rinse Spray Valves'!CW$10,'Floor Space'!$I$5:$DK$5,0))*'Pre-Rinse Spray Valves'!DD46","v":7.8656016469896866},165.86880604773486,823.02824037762218,5.7664451704165351,9.6491194189640694E-3,null,null,2021,2825.9543686283787,0,548.41058446500313,{"$f":"INDEX('Floor Space'!$I$5:$DK$50,MATCH('Pre-Rinse Spray Valves'!DH46,'Floor Space'!$I$5:$I$50,0),MATCH('Pre-Rinse Spray Valves'!DH$10,'Floor Space'!$I$5:$DK$5,0))*'Pre-Rinse Spray Valves'!DO46","v":74.329120755733413},622.7397052207366,2900.2834893841123,5.7664451704165351,2.6302307489773913E-2,null,null,2021,316.369157529939,0,62.161062097196158,{"$f":"INDEX('Floor Space'!$I$5:$DK$50,MATCH('Pre-Rinse Spray Valves'!DS46,'Floor Space'!$I$5:$I$50,0),MATCH('Pre-Rinse Spray Valves'!DS$10,'Floor Space'!$I$5:$DK$5,0))*'Pre-Rinse Spray Valves'!DZ46","v":1.3001822373126679},63.461244334508827,317.66933976725164,5.7664451704165351,4.1096997174561167E-3,null,null,2021,137.55525900283246,0,26.538943398081841,{"$f":"INDEX('Floor Space'!$I$5:$DK$50,MATCH('Pre-Rinse Spray Valves'!ED46,'Floor Space'!$I$5:$I$50,0),MATCH('Pre-Rinse Spray Valves'!ED$10,'Floor Space'!$I$5:$DK$5,0))*'Pre-Rinse Spray Valves'!EK46","v":1.3807487344370342},27.919692132518875,138.93600773726948,5.7664451704165351,1.0037774960015122E-2,null,null,2021,312.37045859686725,0,61.453386944834456,{"$f":"INDEX('Floor Space'!$I$5:$DK$50,MATCH('Pre-Rinse Spray Valves'!EO46,'Floor Space'!$I$5:$I$50,0),MATCH('Pre-Rinse Spray Valves'!EO$10,'Floor Space'!$I$5:$DK$5,0))*'Pre-Rinse Spray Valves'!EV46","v":3.3928025449092618},64.846189489743722,315.76326114177652,5.7664451704165351,1.0861470576152943E-2,null,null,2021,994.86293872808062,0,197.41084398917076,{"$f":"INDEX('Floor Space'!$I$5:$DK$50,MATCH('Pre-Rinse Spray Valves'!EZ46,'Floor Space'!$I$5:$I$50,0),MATCH('Pre-Rinse Spray Valves'!EZ$10,'Floor Space'!$I$5:$DK$5,0))*'Pre-Rinse Spray Valves'!FG46","v":4.1604811784864939},201.57132516765725,999.02341990656714,5.7664451704165351,4.1819641847404831E-3,null,null,2021,447.66624747205418,0,82.848993743375303,{"$f":"INDEX('Floor Space'!$I$5:$DK$50,MATCH('Pre-Rinse Spray Valves'!FK46,'Floor Space'!$I$5:$I$50,0),MATCH('Pre-Rinse Spray Valves'!FK$10,'Floor Space'!$I$5:$DK$5,0))*'Pre-Rinse Spray Valves'!FR46","v":4.0187882184608563},86.867781961836158,451.68503569051506,5.7664451704165351,8.9771972784518095E-3,null,null,2021,1034.0362663832741,0,198.05706717663423,{"$f":"INDEX('Floor Space'!$I$5:$DK$50,MATCH('Pre-Rinse Spray Valves'!FV46,'Floor Space'!$I$5:$I$50,0),MATCH('Pre-Rinse Spray Valves'!FV$10,'Floor Space'!$I$5:$DK$5,0))*'Pre-Rinse Spray Valves'!GC46","v":18.542634708138127},216.59970188477237,1052.5789010914123,5.7664451704165351,1.7932286623751015E-2,null,null,2021,1421.4218082041309,0,269.40445484310726,{"$f":"INDEX('Floor Space'!$I$5:$DK$50,MATCH('Pre-Rinse Spray Valves'!GG46,'Floor Space'!$I$5:$I$50,0),MATCH('Pre-Rinse Spray Valves'!GG$10,'Floor Space'!$I$5:$DK$5,0))*'Pre-Rinse Spray Valves'!GN46","v":29.521515454311839},298.9259702974191,1450.9433236584428,5.7664451704165351,2.0769004164647109E-2,null,null,2021,2589.9948945092638,0,504.95024804409985,{"$f":"INDEX('Floor Space'!$I$5:$DK$50,MATCH('Pre-Rinse Spray Valves'!GR46,'Floor Space'!$I$5:$I$50,0),MATCH('Pre-Rinse Spray Valves'!GR$10,'Floor Space'!$I$5:$DK$5,0))*'Pre-Rinse Spray Valves'!GY46","v":14.231053750991951},519.18130179509183,2604.2259482602558,5.7664451704165351,5.4946261790560502E-3]
[null,2022,19653.92783727483,0,3837.9733045927856,243.54221430393929,4081.5155188967242,19897.470051578774,5.7664451704165351,1.2391528875060231E-2,null,null,2022,1815.6543199023927,0,352.62390992317387,{"$f":"INDEX('Floor Space'!$I$5:$DK$54,MATCH('Pre-Rinse Spray Valves'!M47,'Floor Space'!$I$5:$I$54,0),MATCH('Pre-Rinse Spray Valves'!M$10,'Floor Space'!$I$5:$DK$5,0))*'Pre-Rinse Spray Valves'!T47","v":25.31822024779602},377.9421301709699,1840.9725401501887,5.7664451704165351,1.3944405589912723E-2,null,null,2022,818.02667423095215,0,158.87152148228068,{"$f":"INDEX('Floor Space'!$I$5:$DK$50,MATCH('Pre-Rinse Spray Valves'!X47,'Floor Space'!$I$5:$I$50,0),MATCH('Pre-Rinse Spray Valves'!X$10,'Floor Space'!$I$5:$DK$5,0))*'Pre-Rinse Spray Valves'!AE47","v":11.406895728843766},170.27841721112446,829.43356995979593,5.7664451704165351,1.3944405589912723E-2,null,null,2022,959.84871011423922,0,186.41522308794634,{"$f":"INDEX('Floor Space'!$I$5:$DK$50,MATCH('Pre-Rinse Spray Valves'!AI47,'Floor Space'!$I$5:$I$50,0),MATCH('Pre-Rinse Spray Valves'!AI$10,'Floor Space'!$I$5:$DK$5,0))*'Pre-Rinse Spray Valves'!AP47","v":13.38451971878747},199.7997428067338,973.23322983302671,5.7664451704165351,1.3944405589912723E-2,null,null,2022,803.03239583265179,0,158.8465174747837,{"$f":"INDEX('Floor Space'!$I$5:$DK$50,MATCH('Pre-Rinse Spray Valves'!AT47,'Floor Space'!$I$5:$I$50,0),MATCH('Pre-Rinse Spray Valves'!AT$10,'Floor Space'!$I$5:$DK$5,0))*'Pre-Rinse Spray Valves'!BA47","v":6.1937688029401565},165.04028627772385,809.226164635592,5.7664451704165351,7.7129750120703555E-3,null,null,2022,1483.1874494986564,0,293.3868699915634,{"$f":"INDEX('Floor Space'!$I$5:$DK$50,MATCH('Pre-Rinse Spray Valves'!BE47,'Floor Space'!$I$5:$I$50,0),MATCH('Pre-Rinse Spray Valves'!BE$10,'Floor Space'!$I$5:$DK$5,0))*'Pre-Rinse Spray Valves'!BL47","v":11.439787736199358},304.82665772776278,1494.6272372348558,5.7664451704165351,7.7129750120703555E-3,null,null,2022,370.7968623746641,0,73.34671749789085,{"$f":"INDEX('Floor Space'!$I$5:$DK$50,MATCH('Pre-Rinse Spray Valves'!BP47,'Floor Space'!$I$5:$I$50,0),MATCH('Pre-Rinse Spray Valves'!BP$10,'Floor Space'!$I$5:$DK$5,0))*'Pre-Rinse Spray Valves'!BW47","v":2.8599469340498396},76.206664431940695,373.65680930871395,5.7664451704165351,7.7129750120703555E-3,null,null,2022,715.90407696983027,0,141.61180802020266,{"$f":"INDEX('Floor Space'!$I$5:$DK$50,MATCH('Pre-Rinse Spray Valves'!CA47,'Floor Space'!$I$5:$I$50,0),MATCH('Pre-Rinse Spray Valves'!CA$10,'Floor Space'!$I$5:$DK$5,0))*'Pre-Rinse Spray Valves'!CH47","v":5.5217502567075227},147.13355827691018,721.42582722653776,5.7664451704165351,7.7129750120701335E-3,null,null,2022,1633.3403813362213,0,324.41513321738108,{"$f":"INDEX('Floor Space'!$I$5:$DK$50,MATCH('Pre-Rinse Spray Valves'!CL47,'Floor Space'!$I$5:$I$50,0),MATCH('Pre-Rinse Spray Valves'!CL$10,'Floor Space'!$I$5:$DK$5,0))*'Pre-Rinse Spray Valves'!CS47","v":10.497546255573038},334.9126794729541,1643.8379275917944,5.7664451704165351,6.4270414027143286E-3,null,null,2022,823.02824037762218,0,162.70354557578779,{"$f":"INDEX('Floor Space'!$I$5:$DK$50,MATCH('Pre-Rinse Spray Valves'!CW47,'Floor Space'!$I$5:$I$50,0),MATCH('Pre-Rinse Spray Valves'!CW$10,'Floor Space'!$I$5:$DK$5,0))*'Pre-Rinse Spray Valves'!DD47","v":7.0732673799723216},169.77681295576011,830.1015077575945,5.7664451704165351,8.5941976629222427E-3,null,null,2022,2900.2834893841123,0,556.56981505593217,{"$f":"INDEX('Floor Space'!$I$5:$DK$50,MATCH('Pre-Rinse Spray Valves'!DH47,'Floor Space'!$I$5:$I$50,0),MATCH('Pre-Rinse Spray Valves'!DH$10,'Floor Space'!$I$5:$DK$5,0))*'Pre-Rinse Spray Valves'!DO47","v":79.050935244301741},635.62075030023391,2979.3344246284141,5.7664451704165351,2.7256278751250251E-2,null,null,2022,317.66933976725164,0,63.216903087257975,{"$f":"INDEX('Floor Space'!$I$5:$DK$50,MATCH('Pre-Rinse Spray Valves'!DS47,'Floor Space'!$I$5:$I$50,0),MATCH('Pre-Rinse Spray Valves'!DS$10,'Floor Space'!$I$5:$DK$5,0))*'Pre-Rinse Spray Valves'!DZ47","v":1.2931566768812146},64.510059764139186,318.96249644413285,5.7664451704165351,4.0707632591445719E-3,null,null,2022,138.93600773726948,0,27.380701480070623,{"$f":"INDEX('Floor Space'!$I$5:$DK$50,MATCH('Pre-Rinse Spray Valves'!ED47,'Floor Space'!$I$5:$I$50,0),MATCH('Pre-Rinse Spray Valves'!ED$10,'Floor Space'!$I$5:$DK$5,0))*'Pre-Rinse Spray Valves'!EK47","v":1.3028697483393883},28.683571228410013,140.23887748560887,5.7664451704165351,9.3774808241442464E-3,null,null,2022,315.76326114177652,0,61.916048080549757,{"$f":"INDEX('Floor Space'!$I$5:$DK$50,MATCH('Pre-Rinse Spray Valves'!EO47,'Floor Space'!$I$5:$I$50,0),MATCH('Pre-Rinse Spray Valves'!EO$10,'Floor Space'!$I$5:$DK$5,0))*'Pre-Rinse Spray Valves'!EV47","v":3.0140752023493369},64.930123282899089,318.77733634412584,5.7664451704165351,9.5453638002427343E-3,null,null,2022,999.02341990656714,0,202.07331238801308,{"$f":"INDEX('Floor Space'!$I$5:$DK$50,MATCH('Pre-Rinse Spray Valves'!EZ47,'Floor Space'!$I$5:$I$50,0),MATCH('Pre-Rinse Spray Valves'!EZ$10,'Floor Space'!$I$5:$DK$5,0))*'Pre-Rinse Spray Valves'!FG47","v":3.876674162091764},205.94998655010485,1002.9000940686589,5.7664451704165351,3.8804637457390267E-3,null,null,2022,451.68503569051506,0,90.009499490466865,{"$f":"INDEX('Floor Space'!$I$5:$DK$50,MATCH('Pre-Rinse Spray Valves'!FK47,'Floor Space'!$I$5:$I$50,0),MATCH('Pre-Rinse Spray Valves'!FK$10,'Floor Space'!$I$5:$DK$5,0))*'Pre-Rinse Spray Valves'!FR47","v":3.7510503152577379},93.760549805724608,455.43608600577278,5.7664451704165351,8.304570704945391E-3,null,null,2022,1052.5789010914123,0,203.13949058709744,{"$f":"INDEX('Floor Space'!$I$5:$DK$50,MATCH('Pre-Rinse Spray Valves'!FV47,'Floor Space'!$I$5:$I$50,0),MATCH('Pre-Rinse Spray Valves'!FV$10,'Floor Space'!$I$5:$DK$5,0))*'Pre-Rinse Spray Valves'!GC47","v":16.390578165506604},219.53006875260405,1068.9694792569189,5.7664451704165351,1.557182853324468E-2,null,null,2022,1450.9433236584428,0,267.70715723508857,{"$f":"INDEX('Floor Space'!$I$5:$DK$50,MATCH('Pre-Rinse Spray Valves'!GG47,'Floor Space'!$I$5:$I$50,0),MATCH('Pre-Rinse Spray Valves'!GG$10,'Floor Space'!$I$5:$DK$5,0))*'Pre-Rinse Spray Valves'!GN47","v":27.216826456531962},294.92398369162055,1478.1601501149746,5.7664451704165351,1.8758021772970812E-2,null,null,2022,2604.2259482602558,0,513.73913091729855,{"$f":"INDEX('Floor Space'!$I$5:$DK$50,MATCH('Pre-Rinse Spray Valves'!GR47,'Floor Space'!$I$5:$I$50,0),MATCH('Pre-Rinse Spray Valves'!GR$10,'Floor Space'!$I$5:$DK$5,0))*'Pre-Rinse Spray Valves'!GY47","v":13.950345271809995},527.68947618910852,2618.1762935320658,5.7664451704165351,5.3568106412307248E-3]
[null,2023,19897.470051578774,0,3914.1557905090067,240.28835365827109,4154.444144167277,20137.758405237044,5.7664451704165351,1.207632694183669E-2,null,null,2023,1840.9725401501887,0,359.63367073243165,{"$f":"INDEX('Floor Space'!$I$5:$DK$54,MATCH('Pre-Rinse Spray Valves'!M48,'Floor Space'!$I$5:$I$54,0),MATCH('Pre-Rinse Spray Valves'!M$10,'Floor Space'!$I$5:$DK$5,0))*'Pre-Rinse Spray Valves'!T48","v":26.408188055294559},386.0418587877262,1867.3807282054834,5.7664451704165351,1.4344694165367766E-2,null,null,2023,829.43356995979593,0,162.02970597758704,{"$f":"INDEX('Floor Space'!$I$5:$DK$50,MATCH('Pre-Rinse Spray Valves'!X48,'Floor Space'!$I$5:$I$50,0),MATCH('Pre-Rinse Spray Valves'!X$10,'Floor Space'!$I$5:$DK$5,0))*'Pre-Rinse Spray Valves'!AE48","v":11.897970891562384},173.92767686914942,841.33154085135834,5.7664451704165351,1.4344694165367766E-2,null,null,2023,973.23322983302671,0,190.12094493005185,{"$f":"INDEX('Floor Space'!$I$5:$DK$50,MATCH('Pre-Rinse Spray Valves'!AI48,'Floor Space'!$I$5:$I$50,0),MATCH('Pre-Rinse Spray Valves'!AI$10,'Floor Space'!$I$5:$DK$5,0))*'Pre-Rinse Spray Valves'!AP48","v":13.960733033527776},204.08167796357964,987.19396286655444,5.7664451704165351,1.4344694165367544E-2,null,null,2023,809.226164635592,0,161.44080074596138,{"$f":"INDEX('Floor Space'!$I$5:$DK$50,MATCH('Pre-Rinse Spray Valves'!AT48,'Floor Space'!$I$5:$I$50,0),MATCH('Pre-Rinse Spray Valves'!AT$10,'Floor Space'!$I$5:$DK$5,0))*'Pre-Rinse Spray Valves'!BA48","v":5.9224167553564309},167.36321750131782,815.14858139094838,5.7664451704165351,7.3186174819537264E-3,null,null,2023,1494.6272372348558,0,298.17846794978209,{"$f":"INDEX('Floor Space'!$I$5:$DK$50,MATCH('Pre-Rinse Spray Valves'!BE48,'Floor Space'!$I$5:$I$50,0),MATCH('Pre-Rinse Spray Valves'!BE$10,'Floor Space'!$I$5:$DK$5,0))*'Pre-Rinse Spray Valves'!BL48","v":10.938605027431258},309.11707297721335,1505.5658422622871,5.7664451704165351,7.3186174819537264E-3,null,null,2023,373.65680930871395,0,74.544616987445522,{"$f":"INDEX('Floor Space'!$I$5:$DK$50,MATCH('Pre-Rinse Spray Valves'!BP48,'Floor Space'!$I$5:$I$50,0),MATCH('Pre-Rinse Spray Valves'!BP$10,'Floor Space'!$I$5:$DK$5,0))*'Pre-Rinse Spray Valves'!BW48","v":2.7346512568578145},77.279268244303339,376.39146056557178,5.7664451704165351,7.3186174819537264E-3,null,null,2023,721.42582722653776,0,143.92461380523579,{"$f":"INDEX('Floor Space'!$I$5:$DK$50,MATCH('Pre-Rinse Spray Valves'!CA48,'Floor Space'!$I$5:$I$50,0),MATCH('Pre-Rinse Spray Valves'!CA$10,'Floor Space'!$I$5:$DK$5,0))*'Pre-Rinse Spray Valves'!CH48","v":5.2798396710730868},149.20445347630888,726.70566689761085,5.7664451704165351,7.3186174819537264E-3,null,null,2023,1643.8379275917944,0,333.3688660536464,{"$f":"INDEX('Floor Space'!$I$5:$DK$50,MATCH('Pre-Rinse Spray Valves'!CL48,'Floor Space'!$I$5:$I$50,0),MATCH('Pre-Rinse Spray Valves'!CL$10,'Floor Space'!$I$5:$DK$5,0))*'Pre-Rinse Spray Valves'!CS48","v":10.626932385469852},343.99579843911624,1654.4648599772643,5.7664451704165351,6.4647081120936534E-3,null,null,2023,830.1015077575945,0,166.76487965272801,{"$f":"INDEX('Floor Space'!$I$5:$DK$50,MATCH('Pre-Rinse Spray Valves'!CW48,'Floor Space'!$I$5:$I$50,0),MATCH('Pre-Rinse Spray Valves'!CW$10,'Floor Space'!$I$5:$DK$5,0))*'Pre-Rinse Spray Valves'!DD48","v":6.9381857975034347},173.70306545023143,837.03969355509798,5.7664451704165351,8.3582377970208288E-3,null,null,2023,2979.3344246284141,0,568.78560942268155,{"$f":"INDEX('Floor Space'!$I$5:$DK$50,MATCH('Pre-Rinse Spray Valves'!DH48,'Floor Space'!$I$5:$I$50,0),MATCH('Pre-Rinse Spray Valves'!DH$10,'Floor Space'!$I$5:$DK$5,0))*'Pre-Rinse Spray Valves'!DO48","v":76.301151587652853},645.08676101033438,3055.635576216067,5.7664451704165351,2.5610133242148336E-2,null,null,2023,318.96249644413285,0,63.444065196188191,{"$f":"INDEX('Floor Space'!$I$5:$DK$50,MATCH('Pre-Rinse Spray Valves'!DS48,'Floor Space'!$I$5:$I$50,0),MATCH('Pre-Rinse Spray Valves'!DS$10,'Floor Space'!$I$5:$DK$5,0))*'Pre-Rinse Spray Valves'!DZ48","v":1.2845696913866347},64.728634887574827,320.2470661355195,5.7664451704165351,4.0273377143311695E-3,null,null,2023,140.23887748560887,0,27.568151006081258,{"$f":"INDEX('Floor Space'!$I$5:$DK$50,MATCH('Pre-Rinse Spray Valves'!ED48,'Floor Space'!$I$5:$I$50,0),MATCH('Pre-Rinse Spray Valves'!ED$10,'Floor Space'!$I$5:$DK$5,0))*'Pre-Rinse Spray Valves'!EK48","v":1.2859050892070096},28.854056095288268,141.52478257481587,5.7664451704165351,9.1693909154326736E-3,null,null,2023,318.77733634412584,0,61.874488133235019,{"$f":"INDEX('Floor Space'!$I$5:$DK$50,MATCH('Pre-Rinse Spray Valves'!EO48,'Floor Space'!$I$5:$I$50,0),MATCH('Pre-Rinse Spray Valves'!EO$10,'Floor Space'!$I$5:$DK$5,0))*'Pre-Rinse Spray Valves'!EV48","v":3.0207303179550968},64.895218451190118,321.79806666208094,5.7664451704165351,9.4759883265169709E-3,null,null,2023,1002.9000940686589,0,201.40379942582882,{"$f":"INDEX('Floor Space'!$I$5:$DK$50,MATCH('Pre-Rinse Spray Valves'!EZ48,'Floor Space'!$I$5:$I$50,0),MATCH('Pre-Rinse Spray Valves'!EZ$10,'Floor Space'!$I$5:$DK$5,0))*'Pre-Rinse Spray Valves'!FG48","v":3.9031913212002873},205.30699074702912,1006.8032853898592,5.7664451704165351,3.8919044322405227E-3,null,null,2023,455.43608600577278,0,91.949430058228231,{"$f":"INDEX('Floor Space'!$I$5:$DK$50,MATCH('Pre-Rinse Spray Valves'!FK48,'Floor Space'!$I$5:$I$50,0),MATCH('Pre-Rinse Spray Valves'!FK$10,'Floor Space'!$I$5:$DK$5,0))*'Pre-Rinse Spray Valves'!FR48","v":3.7553124966036489},95.704742554831881,459.19139850237644,5.7664451704165351,8.24553128747052E-3,null,null,2023,1068.9694792569189,0,210.49514664681652,{"$f":"INDEX('Floor Space'!$I$5:$DK$50,MATCH('Pre-Rinse Spray Valves'!FV48,'Floor Space'!$I$5:$I$50,0),MATCH('Pre-Rinse Spray Valves'!FV$10,'Floor Space'!$I$5:$DK$5,0))*'Pre-Rinse Spray Valves'!GC48","v":15.986437637817847},226.48158428463438,1084.9559168947367,5.7664451704165351,1.495499913517695E-2,null,null,2023,1478.1601501149746,0,274.78775600840191,{"$f":"INDEX('Floor Space'!$I$5:$DK$50,MATCH('Pre-Rinse Spray Valves'!GG48,'Floor Space'!$I$5:$I$50,0),MATCH('Pre-Rinse Spray Valves'!GG$10,'Floor Space'!$I$5:$DK$5,0))*'Pre-Rinse Spray Valves'!GN48","v":26.111907142643208},300.8996631510451,1504.2720572576179,5.7664451704165351,1.7665140776939703E-2,null,null,2023,2618.1762935320658,0,523.84077777667517,{"$f":"INDEX('Floor Space'!$I$5:$DK$50,MATCH('Pre-Rinse Spray Valves'!GR48,'Floor Space'!$I$5:$I$50,0),MATCH('Pre-Rinse Spray Valves'!GR$10,'Floor Space'!$I$5:$DK$5,0))*'Pre-Rinse Spray Valves'!GY48","v":13.931625499727874},537.772403276403,2632.1079190317937,5.7664451704165351,5.3211181898424886E-3]
[null,2024,20137.758405237044,0,3968.3229539587251,239.45884901681697,4207.7818029755417,20377.217254253865,5.7664451704165351,1.1891037929750325E-2,null,null,2024,1867.3807282054834,0,360.83405636903888,{"$f":"INDEX('Floor Space'!$I$5:$DK$54,MATCH('Pre-Rinse Spray Valves'!M49,'Floor Space'!$I$5:$I$54,0),MATCH('Pre-Rinse Spray Valves'!M$10,'Floor Space'!$I$5:$DK$5,0))*'Pre-Rinse Spray Valves'!T49","v":28.189177833057066},389.02323420209592,1895.5699060385405,5.7664451704165351,1.5095570714251938E-2,null,null,2024,841.33154085135834,0,162.57052889709587,{"$f":"INDEX('Floor Space'!$I$5:$DK$50,MATCH('Pre-Rinse Spray Valves'!X49,'Floor Space'!$I$5:$I$50,0),MATCH('Pre-Rinse Spray Valves'!X$10,'Floor Space'!$I$5:$DK$5,0))*'Pre-Rinse Spray Valves'!AE49","v":12.700379769052187},175.27090866614805,854.03192062041057,5.7664451704165351,1.5095570714251938E-2,null,null,2024,987.19396286655444,0,190.75553081587128,{"$f":"INDEX('Floor Space'!$I$5:$DK$50,MATCH('Pre-Rinse Spray Valves'!AI49,'Floor Space'!$I$5:$I$50,0),MATCH('Pre-Rinse Spray Valves'!AI$10,'Floor Space'!$I$5:$DK$5,0))*'Pre-Rinse Spray Valves'!AP49","v":14.902256275134631},205.6577870910059,1002.0962191416891,5.7664451704165351,1.5095570714251938E-2,null,null,2024,815.14858139094838,0,163.57315496148547,{"$f":"INDEX('Floor Space'!$I$5:$DK$50,MATCH('Pre-Rinse Spray Valves'!AT49,'Floor Space'!$I$5:$I$50,0),MATCH('Pre-Rinse Spray Valves'!AT$10,'Floor Space'!$I$5:$DK$5,0))*'Pre-Rinse Spray Valves'!BA49","v":5.5845106312388326},169.1576655927243,820.73309202218718,5.7664451704165351,6.8509113046721914E-3,null,null,2024,1505.5658422622871,0,302.11689064202159,{"$f":"INDEX('Floor Space'!$I$5:$DK$50,MATCH('Pre-Rinse Spray Valves'!BE49,'Floor Space'!$I$5:$I$50,0),MATCH('Pre-Rinse Spray Valves'!BE$10,'Floor Space'!$I$5:$DK$5,0))*'Pre-Rinse Spray Valves'!BL49","v":10.31449804868317},312.43138869070475,1515.8803403109703,5.7664451704165351,6.8509113046721914E-3,null,null,2024,376.39146056557178,0,75.529222660505397,{"$f":"INDEX('Floor Space'!$I$5:$DK$50,MATCH('Pre-Rinse Spray Valves'!BP49,'Floor Space'!$I$5:$I$50,0),MATCH('Pre-Rinse Spray Valves'!BP$10,'Floor Space'!$I$5:$DK$5,0))*'Pre-Rinse Spray Valves'!BW49","v":2.5786245121707925},78.107847172676188,378.97008507774257,5.7664451704165351,6.8509113046721914E-3,null,null,2024,726.70566689761085,0,145.82560943674397,{"$f":"INDEX('Floor Space'!$I$5:$DK$50,MATCH('Pre-Rinse Spray Valves'!CA49,'Floor Space'!$I$5:$I$50,0),MATCH('Pre-Rinse Spray Valves'!CA$10,'Floor Space'!$I$5:$DK$5,0))*'Pre-Rinse Spray Valves'!CH49","v":4.97859606851826},150.80420550526225,731.68426296612915,5.7664451704165351,6.8509113046724135E-3,null,null,2024,1654.4648599772643,0,335.81421491880417,{"$f":"INDEX('Floor Space'!$I$5:$DK$50,MATCH('Pre-Rinse Spray Valves'!CL49,'Floor Space'!$I$5:$I$50,0),MATCH('Pre-Rinse Spray Valves'!CL$10,'Floor Space'!$I$5:$DK$5,0))*'Pre-Rinse Spray Valves'!CS49","v":10.654778939178122},346.4689938579823,1665.1196389164425,5.7664451704165351,6.4400152562469337E-3,null,null,2024,837.03969355509798,0,167.47926018811086,{"$f":"INDEX('Floor Space'!$I$5:$DK$50,MATCH('Pre-Rinse Spray Valves'!CW49,'Floor Space'!$I$5:$I$50,0),MATCH('Pre-Rinse Spray Valves'!CW$10,'Floor Space'!$I$5:$DK$5,0))*'Pre-Rinse Spray Valves'!DD49","v":7.0603034740850292},174.53956366219589,844.09999702918299,5.7664451704165351,8.4348490620538286E-3,null,null,2024,3055.635576216067,0,572.24445553879741,{"$f":"INDEX('Floor Space'!$I$5:$DK$50,MATCH('Pre-Rinse Spray Valves'!DH49,'Floor Space'!$I$5:$I$50,0),MATCH('Pre-Rinse Spray Valves'!DH$10,'Floor Space'!$I$5:$DK$5,0))*'Pre-Rinse Spray Valves'!DO49","v":74.460045234342545},646.7045007731399,3130.0956214504095,5.7664451704165351,2.4368103910660022E-2,null,null,2024,320.2470661355195,0,62.702779945489553,{"$f":"INDEX('Floor Space'!$I$5:$DK$50,MATCH('Pre-Rinse Spray Valves'!DS49,'Floor Space'!$I$5:$I$50,0),MATCH('Pre-Rinse Spray Valves'!DS$10,'Floor Space'!$I$5:$DK$5,0))*'Pre-Rinse Spray Valves'!DZ49","v":1.2808394726162056},63.983619418105761,321.52790560813571,5.7664451704165351,3.9995353839532566E-3,null,null,2024,141.52478257481587,0,27.991244477256025,{"$f":"INDEX('Floor Space'!$I$5:$DK$50,MATCH('Pre-Rinse Spray Valves'!ED49,'Floor Space'!$I$5:$I$50,0),MATCH('Pre-Rinse Spray Valves'!ED$10,'Floor Space'!$I$5:$DK$5,0))*'Pre-Rinse Spray Valves'!EK49","v":1.2944088303255705},29.285653307581594,142.81919140514145,5.7664451704165351,9.1461637091108106E-3,null,null,2024,321.79806666208094,0,61.69459882458311,{"$f":"INDEX('Floor Space'!$I$5:$DK$50,MATCH('Pre-Rinse Spray Valves'!EO49,'Floor Space'!$I$5:$I$50,0),MATCH('Pre-Rinse Spray Valves'!EO$10,'Floor Space'!$I$5:$DK$5,0))*'Pre-Rinse Spray Valves'!EV49","v":2.9117191039774726},64.606317928560586,324.70978576605842,5.7664451704165351,9.0482802901208359E-3,null,null,2024,1006.8032853898592,0,199.25157930789669,{"$f":"INDEX('Floor Space'!$I$5:$DK$50,MATCH('Pre-Rinse Spray Valves'!EZ49,'Floor Space'!$I$5:$I$50,0),MATCH('Pre-Rinse Spray Valves'!EZ$10,'Floor Space'!$I$5:$DK$5,0))*'Pre-Rinse Spray Valves'!FG49","v":3.8264208436310416},203.07800015152773,1010.6297062334902,5.7664451704165351,3.8005645185685832E-3,null,null,2024,459.19139850237644,0,93.14979240380876,{"$f":"INDEX('Floor Space'!$I$5:$DK$50,MATCH('Pre-Rinse Spray Valves'!FK49,'Floor Space'!$I$5:$I$50,0),MATCH('Pre-Rinse Spray Valves'!FK$10,'Floor Space'!$I$5:$DK$5,0))*'Pre-Rinse Spray Valves'!FR49","v":3.6901719209566886},96.839964324765447,462.88157042333313,5.7664451704165351,8.0362392087307555E-3,null,null,2024,1084.9559168947367,0,211.81715738119522,{"$f":"INDEX('Floor Space'!$I$5:$DK$50,MATCH('Pre-Rinse Spray Valves'!FV49,'Floor Space'!$I$5:$I$50,0),MATCH('Pre-Rinse Spray Valves'!FV$10,'Floor Space'!$I$5:$DK$5,0))*'Pre-Rinse Spray Valves'!GC49","v":15.775282777921339},227.59244015911656,1100.731199672658,5.7664451704165351,1.4540021886854104E-2,null,null,2024,1504.2720572576179,0,299.32830795924639,{"$f":"INDEX('Floor Space'!$I$5:$DK$50,MATCH('Pre-Rinse Spray Valves'!GG49,'Floor Space'!$I$5:$I$50,0),MATCH('Pre-Rinse Spray Valves'!GG$10,'Floor Space'!$I$5:$DK$5,0))*'Pre-Rinse Spray Valves'!GN49","v":25.156078615287381},324.48438657453374,1529.4281358729054,5.7664451704165351,1.6723091075126817E-2,null,null,2024,2632.1079190317937,0,535.64456923077489,{"$f":"INDEX('Floor Space'!$I$5:$DK$50,MATCH('Pre-Rinse Spray Valves'!GR49,'Floor Space'!$I$5:$I$50,0),MATCH('Pre-Rinse Spray Valves'!GR$10,'Floor Space'!$I$5:$DK$5,0))*'Pre-Rinse Spray Valves'!GY49","v":14.100756666640626},549.74532589741557,2646.2086756984345,5.7664451704165351,5.3572106845176659E-3]
[null,2025,20377.217254253865,0,3914.6295614925566,238.08891629640468,4152.7184777889615,20615.306170550266,5.7664451704165351,1.1684074097345176E-2,null,null,2025,1895.5699060385405,0,364.3784759504739,{"$f":"INDEX('Floor Space'!$I$5:$DK$54,MATCH('Pre-Rinse Spray Valves'!M50,'Floor Space'!$I$5:$I$54,0),MATCH('Pre-Rinse Spray Valves'!M$10,'Floor Space'!$I$5:$DK$5,0))*'Pre-Rinse Spray Valves'!T50","v":29.726893806950891},394.1053697574248,1925.2967998454913,5.7664451704165351,1.5682298876054324E-2,null,null,2025,854.03192062041057,0,164.16743516416341,{"$f":"INDEX('Floor Space'!$I$5:$DK$50,MATCH('Pre-Rinse Spray Valves'!X50,'Floor Space'!$I$5:$I$50,0),MATCH('Pre-Rinse Spray Valves'!X$10,'Floor Space'!$I$5:$DK$5,0))*'Pre-Rinse Spray Valves'!AE50","v":13.39318382886011},177.56061899302352,867.42510444927063,5.7664451704165351,1.5682298876054324E-2,null,null,2025,1002.0962191416891,0,192.62929418924676,{"$f":"INDEX('Floor Space'!$I$5:$DK$50,MATCH('Pre-Rinse Spray Valves'!AI50,'Floor Space'!$I$5:$I$50,0),MATCH('Pre-Rinse Spray Valves'!AI$10,'Floor Space'!$I$5:$DK$5,0))*'Pre-Rinse Spray Valves'!AP50","v":15.715172411144149},208.34446660039092,1017.8113915528332,5.7664451704165351,1.5682298876054546E-2,null,null,2025,820.73309202218718,0,158.12002502761783,{"$f":"INDEX('Floor Space'!$I$5:$DK$50,MATCH('Pre-Rinse Spray Valves'!AT50,'Floor Space'!$I$5:$I$50,0),MATCH('Pre-Rinse Spray Valves'!AT$10,'Floor Space'!$I$5:$DK$5,0))*'Pre-Rinse Spray Valves'!BA50","v":5.0784209331207526},163.19844596073858,825.81151295530788,5.7664451704165351,6.1876643972136325E-3,null,null,2025,1515.8803403109703,0,292.04505055142141,{"$f":"INDEX('Floor Space'!$I$5:$DK$50,MATCH('Pre-Rinse Spray Valves'!BE50,'Floor Space'!$I$5:$I$50,0),MATCH('Pre-Rinse Spray Valves'!BE$10,'Floor Space'!$I$5:$DK$5,0))*'Pre-Rinse Spray Valves'!BL50","v":9.3797588121782862},301.42480936359971,1525.2600991231486,5.7664451704165351,6.1876643972136325E-3,null,null,2025,378.97008507774257,0,73.011262637855353,{"$f":"INDEX('Floor Space'!$I$5:$DK$50,MATCH('Pre-Rinse Spray Valves'!BP50,'Floor Space'!$I$5:$I$50,0),MATCH('Pre-Rinse Spray Valves'!BP$10,'Floor Space'!$I$5:$DK$5,0))*'Pre-Rinse Spray Valves'!BW50","v":2.3449397030445716},75.356202340899927,381.31502478078716,5.7664451704165351,6.1876643972136325E-3,null,null,2025,731.68426296612915,0,140.96413937381564,{"$f":"INDEX('Floor Space'!$I$5:$DK$50,MATCH('Pre-Rinse Spray Valves'!CA50,'Floor Space'!$I$5:$I$50,0),MATCH('Pre-Rinse Spray Valves'!CA$10,'Floor Space'!$I$5:$DK$5,0))*'Pre-Rinse Spray Valves'!CH50","v":4.527416663957017},145.49155603777265,736.21167963008622,5.7664451704165351,6.1876643972136325E-3,null,null,2025,1665.1196389164425,0,313.8071054996222,{"$f":"INDEX('Floor Space'!$I$5:$DK$50,MATCH('Pre-Rinse Spray Valves'!CL50,'Floor Space'!$I$5:$I$50,0),MATCH('Pre-Rinse Spray Valves'!CL$10,'Floor Space'!$I$5:$DK$5,0))*'Pre-Rinse Spray Valves'!CS50","v":11.482424411349044},325.28952991097123,1676.6020633277915,5.7664451704165351,6.8958554946965123E-3,null,null,2025,844.09999702918299,0,160.21294306601098,{"$f":"INDEX('Floor Space'!$I$5:$DK$50,MATCH('Pre-Rinse Spray Valves'!CW50,'Floor Space'!$I$5:$I$50,0),MATCH('Pre-Rinse Spray Valves'!CW$10,'Floor Space'!$I$5:$DK$5,0))*'Pre-Rinse Spray Valves'!DD50","v":7.146812721299642},167.35975578731063,851.24680975048261,5.7664451704165351,8.4667844407686488E-3,null,null,2025,3130.0956214504095,0,579.93829273726908,{"$f":"INDEX('Floor Space'!$I$5:$DK$50,MATCH('Pre-Rinse Spray Valves'!DH50,'Floor Space'!$I$5:$I$50,0),MATCH('Pre-Rinse Spray Valves'!DH$10,'Floor Space'!$I$5:$DK$5,0))*'Pre-Rinse Spray Valves'!DO50","v":76.305909464386559},656.24420220165564,3206.4015309147962,5.7664451704165351,2.4378140061110498E-2,null,null,2025,321.52790560813571,0,64.846576821923833,{"$f":"INDEX('Floor Space'!$I$5:$DK$50,MATCH('Pre-Rinse Spray Valves'!DS50,'Floor Space'!$I$5:$I$50,0),MATCH('Pre-Rinse Spray Valves'!DS$10,'Floor Space'!$I$5:$DK$5,0))*'Pre-Rinse Spray Valves'!DZ50","v":1.2950145877593882},66.141591409683215,322.82292019589511,5.7664451704165351,4.027689557178693E-3,null,null,2025,142.81919140514145,0,28.074193870595987,{"$f":"INDEX('Floor Space'!$I$5:$DK$50,MATCH('Pre-Rinse Spray Valves'!ED50,'Floor Space'!$I$5:$I$50,0),MATCH('Pre-Rinse Spray Valves'!ED$10,'Floor Space'!$I$5:$DK$5,0))*'Pre-Rinse Spray Valves'!EK50","v":1.1686622806510483},29.242856151247036,143.98785368579249,5.7664451704165351,8.1828098111538239E-3,null,null,2025,324.70978576605842,0,65.428348111650777,{"$f":"INDEX('Floor Space'!$I$5:$DK$50,MATCH('Pre-Rinse Spray Valves'!EO50,'Floor Space'!$I$5:$I$50,0),MATCH('Pre-Rinse Spray Valves'!EO$10,'Floor Space'!$I$5:$DK$5,0))*'Pre-Rinse Spray Valves'!EV50","v":2.932116466401876},68.360464578052657,327.64190223246027,5.7664451704165351,9.0299602750942842E-3,null,null,2025,1010.6297062334902,0,194.72775372795087,{"$f":"INDEX('Floor Space'!$I$5:$DK$50,MATCH('Pre-Rinse Spray Valves'!EZ50,'Floor Space'!$I$5:$I$50,0),MATCH('Pre-Rinse Spray Valves'!EZ$10,'Floor Space'!$I$5:$DK$5,0))*'Pre-Rinse Spray Valves'!FG50","v":3.7696632917801614},198.49741701973102,1014.3993695252703,5.7664451704165351,3.7300143351508552E-3,null,null,2025,462.88157042333313,0,89.707588119790643,{"$f":"INDEX('Floor Space'!$I$5:$DK$50,MATCH('Pre-Rinse Spray Valves'!FK50,'Floor Space'!$I$5:$I$50,0),MATCH('Pre-Rinse Spray Valves'!FK$10,'Floor Space'!$I$5:$DK$5,0))*'Pre-Rinse Spray Valves'!FR50","v":3.3474483083764985},93.055036428167142,466.22901873170963,5.7664451704165351,7.2317597464834904E-3,null,null,2025,1100.731199672658,0,210.52507418537292,{"$f":"INDEX('Floor Space'!$I$5:$DK$50,MATCH('Pre-Rinse Spray Valves'!FV50,'Floor Space'!$I$5:$I$50,0),MATCH('Pre-Rinse Spray Valves'!FV$10,'Floor Space'!$I$5:$DK$5,0))*'Pre-Rinse Spray Valves'!GC50","v":15.146105306053808},225.67117949142673,1115.8773049787119,5.7664451704165351,1.3760039972118721E-2,null,null,2025,1529.4281358729054,0,310.2309755107101,{"$f":"INDEX('Floor Space'!$I$5:$DK$50,MATCH('Pre-Rinse Spray Valves'!GG50,'Floor Space'!$I$5:$I$50,0),MATCH('Pre-Rinse Spray Valves'!GG$10,'Floor Space'!$I$5:$DK$5,0))*'Pre-Rinse Spray Valves'!GN50","v":21.361576030733598},331.5925515414437,1550.789711903639,5.7664451704165351,1.3967034821509738E-2,null,null,2025,2646.2086756984345,0,511.81502694706444,{"$f":"INDEX('Floor Space'!$I$5:$DK$50,MATCH('Pre-Rinse Spray Valves'!GR50,'Floor Space'!$I$5:$I$50,0),MATCH('Pre-Rinse Spray Valves'!GR$10,'Floor Space'!$I$5:$DK$5,0))*'Pre-Rinse Spray Valves'!GY50","v":13.967397268357315},525.78242421542177,2660.1760729667917,5.7664451704165351,5.2782675064999562E-3]
[null,2026,20615.306170550266,0,4018.8404418950186,227.98555513797885,4246.8259970329982,20843.29172568825,5.7664451704165351,1.1059042890358306E-2,null,null,2026,1925.2967998454913,0,378.18090388720009,{"$f":"INDEX('Floor Space'!$I$5:$DK$54,MATCH('Pre-Rinse Spray Valves'!M51,'Floor Space'!$I$5:$I$54,0),MATCH('Pre-Rinse Spray Valves'!M$10,'Floor Space'!$I$5:$DK$5,0))*'Pre-Rinse Spray Valves'!T51","v":30.202411683118157},408.38331557031825,1955.4992115286095,5.7664451704165351,1.5687145839302419E-2,null,null,2026,867.42510444927063,0,170.38599455491754,{"$f":"INDEX('Floor Space'!$I$5:$DK$50,MATCH('Pre-Rinse Spray Valves'!X51,'Floor Space'!$I$5:$I$50,0),MATCH('Pre-Rinse Spray Valves'!X$10,'Floor Space'!$I$5:$DK$5,0))*'Pre-Rinse Spray Valves'!AE51","v":13.607424118167705},183.99341867308524,881.03252856743836,5.7664451704165351,1.5687145839302197E-2,null,null,2026,1017.8113915528332,0,199.92597093343196,{"$f":"INDEX('Floor Space'!$I$5:$DK$50,MATCH('Pre-Rinse Spray Valves'!AI51,'Floor Space'!$I$5:$I$50,0),MATCH('Pre-Rinse Spray Valves'!AI$10,'Floor Space'!$I$5:$DK$5,0))*'Pre-Rinse Spray Valves'!AP51","v":15.96655573619247},215.89252666962443,1033.7779472890256,5.7664451704165351,1.5687145839302197E-2,null,null,2026,825.81151295530788,0,161.04717386704002,{"$f":"INDEX('Floor Space'!$I$5:$DK$50,MATCH('Pre-Rinse Spray Valves'!AT51,'Floor Space'!$I$5:$I$50,0),MATCH('Pre-Rinse Spray Valves'!AT$10,'Floor Space'!$I$5:$DK$5,0))*'Pre-Rinse Spray Valves'!BA51","v":4.6139244498118099},165.66109831685182,830.42543740511974,5.7664451704165351,5.5871398950351203E-3,null,null,2026,1525.2600991231486,0,297.45144566571076,{"$f":"INDEX('Floor Space'!$I$5:$DK$50,MATCH('Pre-Rinse Spray Valves'!BE51,'Floor Space'!$I$5:$I$50,0),MATCH('Pre-Rinse Spray Valves'!BE$10,'Floor Space'!$I$5:$DK$5,0))*'Pre-Rinse Spray Valves'!BL51","v":8.5218415501159761},305.97328721582676,1533.7819406732647,5.7664451704165351,5.5871398950351203E-3,null,null,2026,381.31502478078716,0,74.362861416427691,{"$f":"INDEX('Floor Space'!$I$5:$DK$50,MATCH('Pre-Rinse Spray Valves'!BP51,'Floor Space'!$I$5:$I$50,0),MATCH('Pre-Rinse Spray Valves'!BP$10,'Floor Space'!$I$5:$DK$5,0))*'Pre-Rinse Spray Valves'!BW51","v":2.130460387528994},76.49332180395669,383.44548516831617,5.7664451704165351,5.5871398950351203E-3,null,null,2026,736.21167963008622,0,143.5736951014735,{"$f":"INDEX('Floor Space'!$I$5:$DK$50,MATCH('Pre-Rinse Spray Valves'!CA51,'Floor Space'!$I$5:$I$50,0),MATCH('Pre-Rinse Spray Valves'!CA$10,'Floor Space'!$I$5:$DK$5,0))*'Pre-Rinse Spray Valves'!CH51","v":4.1133176464519767},147.68701274792548,740.32499727653817,5.7664451704165351,5.5871398950348983E-3,null,null,2026,1676.6020633277915,0,325.93067813679789,{"$f":"INDEX('Floor Space'!$I$5:$DK$50,MATCH('Pre-Rinse Spray Valves'!CL51,'Floor Space'!$I$5:$I$50,0),MATCH('Pre-Rinse Spray Valves'!CL$10,'Floor Space'!$I$5:$DK$5,0))*'Pre-Rinse Spray Valves'!CS51","v":11.187537343264792},337.1182154800627,1687.7896006710562,5.7664451704165351,6.6727445873824287E-3,null,null,2026,851.24680975048261,0,165.86880604773486,{"$f":"INDEX('Floor Space'!$I$5:$DK$50,MATCH('Pre-Rinse Spray Valves'!CW51,'Floor Space'!$I$5:$I$50,0),MATCH('Pre-Rinse Spray Valves'!CW$10,'Floor Space'!$I$5:$DK$5,0))*'Pre-Rinse Spray Valves'!DD51","v":6.9571977270674807},172.82600377480236,858.20400747755014,5.7664451704165351,8.172950133119139E-3,null,null,2026,3206.4015309147962,0,622.7397052207366,{"$f":"INDEX('Floor Space'!$I$5:$DK$50,MATCH('Pre-Rinse Spray Valves'!DH51,'Floor Space'!$I$5:$I$50,0),MATCH('Pre-Rinse Spray Valves'!DH$10,'Floor Space'!$I$5:$DK$5,0))*'Pre-Rinse Spray Valves'!DO51","v":70.70097193939354},693.44067716013012,3277.1025028541899,5.7664451704165351,2.2049943295536778E-2,null,null,2026,322.82292019589511,0,63.461244334508827,{"$f":"INDEX('Floor Space'!$I$5:$DK$50,MATCH('Pre-Rinse Spray Valves'!DS51,'Floor Space'!$I$5:$I$50,0),MATCH('Pre-Rinse Spray Valves'!DS$10,'Floor Space'!$I$5:$DK$5,0))*'Pre-Rinse Spray Valves'!DZ51","v":1.2567838750731375},64.718028209581959,324.07970407096826,5.7664451704165351,3.8931060852509525E-3,null,null,2026,143.98785368579249,0,27.919692132518875,{"$f":"INDEX('Floor Space'!$I$5:$DK$50,MATCH('Pre-Rinse Spray Valves'!ED51,'Floor Space'!$I$5:$I$50,0),MATCH('Pre-Rinse Spray Valves'!ED$10,'Floor Space'!$I$5:$DK$5,0))*'Pre-Rinse Spray Valves'!EK51","v":1.3333668271074577},29.253058959626333,145.32122051289994,5.7664451704165351,9.2602729534194683E-3,null,null,2026,327.64190223246027,0,64.846189489743722,{"$f":"INDEX('Floor Space'!$I$5:$DK$50,MATCH('Pre-Rinse Spray Valves'!EO51,'Floor Space'!$I$5:$I$50,0),MATCH('Pre-Rinse Spray Valves'!EO$10,'Floor Space'!$I$5:$DK$5,0))*'Pre-Rinse Spray Valves'!EV51","v":3.1967621505953123},68.042951640339041,330.83866438305557,5.7664451704165351,9.7568782527919229E-3,null,null,2026,1014.3993695252703,0,201.57132516765725,{"$f":"INDEX('Floor Space'!$I$5:$DK$50,MATCH('Pre-Rinse Spray Valves'!EZ51,'Floor Space'!$I$5:$I$50,0),MATCH('Pre-Rinse Spray Valves'!EZ$10,'Floor Space'!$I$5:$DK$5,0))*'Pre-Rinse Spray Valves'!FG51","v":3.8509995657836456},205.42232473344089,1018.250369091054,5.7664451704165351,3.7963347390346236E-3,null,null,2026,466.22901873170963,0,86.867781961836158,{"$f":"INDEX('Floor Space'!$I$5:$DK$50,MATCH('Pre-Rinse Spray Valves'!FK51,'Floor Space'!$I$5:$I$50,0),MATCH('Pre-Rinse Spray Valves'!FK$10,'Floor Space'!$I$5:$DK$5,0))*'Pre-Rinse Spray Valves'!FR51","v":2.6613989293564053},89.529180891192567,468.89041766106601,5.7664451704165351,5.7083510944819782E-3,null,null,2026,1115.8773049787119,0,216.59970188477237,{"$f":"INDEX('Floor Space'!$I$5:$DK$50,MATCH('Pre-Rinse Spray Valves'!FV51,'Floor Space'!$I$5:$I$50,0),MATCH('Pre-Rinse Spray Valves'!FV$10,'Floor Space'!$I$5:$DK$5,0))*'Pre-Rinse Spray Valves'!GC51","v":12.997361565720485},229.59706345049287,1128.8746665444323,5.7664451704165351,1.164766189591826E-2,null,null,2026,1550.789711903639,0,298.9259702974191,{"$f":"INDEX('Floor Space'!$I$5:$DK$50,MATCH('Pre-Rinse Spray Valves'!GG51,'Floor Space'!$I$5:$I$50,0),MATCH('Pre-Rinse Spray Valves'!GG$10,'Floor Space'!$I$5:$DK$5,0))*'Pre-Rinse Spray Valves'!GN51","v":21.621219515773337},320.54718981319246,1572.4109314194125,5.7664451704165351,1.3942070514017413E-2,null,null,2026,2660.1760729667917,0,519.18130179509183,{"$f":"INDEX('Floor Space'!$I$5:$DK$50,MATCH('Pre-Rinse Spray Valves'!GR51,'Floor Space'!$I$5:$I$50,0),MATCH('Pre-Rinse Spray Valves'!GR$10,'Floor Space'!$I$5:$DK$5,0))*'Pre-Rinse Spray Valves'!GY51","v":13.066020127456184},532.24732192254805,2673.242093094248,5.7664451704165351,4.9117125216768809E-3]
[null,2027,20843.29172568825,0,4081.5155188967242,235.95250904478166,4317.4680279415061,21079.244234733029,5.7664451704165351,1.1320309294235997E-2,null,null,2027,1955.4992115286095,0,377.9421301709699,{"$f":"INDEX('Floor Space'!$I$5:$DK$54,MATCH('Pre-Rinse Spray Valves'!M52,'Floor Space'!$I$5:$I$54,0),MATCH('Pre-Rinse Spray Valves'!M$10,'Floor Space'!$I$5:$DK$5,0))*'Pre-Rinse Spray Valves'!T52","v":29.870482764393063},407.81261293536295,1985.3696942930026,5.7664451704165351,1.5275118797436482E-2,null,null,2027,881.03252856743836,0,170.27841721112446,{"$f":"INDEX('Floor Space'!$I$5:$DK$50,MATCH('Pre-Rinse Spray Valves'!X52,'Floor Space'!$I$5:$I$50,0),MATCH('Pre-Rinse Spray Valves'!X$10,'Floor Space'!$I$5:$DK$5,0))*'Pre-Rinse Spray Valves'!AE52","v":13.457876538273554},183.73629374939802,894.49040510571194,5.7664451704165351,1.5275118797436704E-2,null,null,2027,1033.7779472890256,0,199.7997428067338,{"$f":"INDEX('Floor Space'!$I$5:$DK$50,MATCH('Pre-Rinse Spray Valves'!AI52,'Floor Space'!$I$5:$I$50,0),MATCH('Pre-Rinse Spray Valves'!AI$10,'Floor Space'!$I$5:$DK$5,0))*'Pre-Rinse Spray Valves'!AP52","v":15.791080955009992},215.59082376174379,1049.5690282440357,5.7664451704165351,1.5275118797436704E-2,null,null,2027,830.42543740511974,0,165.04028627772385,{"$f":"INDEX('Floor Space'!$I$5:$DK$50,MATCH('Pre-Rinse Spray Valves'!AT52,'Floor Space'!$I$5:$I$50,0),MATCH('Pre-Rinse Spray Valves'!AT$10,'Floor Space'!$I$5:$DK$5,0))*'Pre-Rinse Spray Valves'!BA52","v":5.3355340646009077},170.37582034232477,835.76097146972063,5.7664451704165351,6.4250609678735415E-3,null,null,2027,1533.7819406732647,0,304.82665772776278,{"$f":"INDEX('Floor Space'!$I$5:$DK$50,MATCH('Pre-Rinse Spray Valves'!BE52,'Floor Space'!$I$5:$I$50,0),MATCH('Pre-Rinse Spray Valves'!BE$10,'Floor Space'!$I$5:$DK$5,0))*'Pre-Rinse Spray Valves'!BL52","v":9.8546424802490513},314.68130020801181,1543.6365831535138,5.7664451704165351,6.4250609678735415E-3,null,null,2027,383.44548516831617,0,76.206664431940695,{"$f":"INDEX('Floor Space'!$I$5:$DK$50,MATCH('Pre-Rinse Spray Valves'!BP52,'Floor Space'!$I$5:$I$50,0),MATCH('Pre-Rinse Spray Valves'!BP$10,'Floor Space'!$I$5:$DK$5,0))*'Pre-Rinse Spray Valves'!BW52","v":2.4636606200622628},78.670325052002951,385.90914578837845,5.7664451704165351,6.4250609678735415E-3,null,null,2027,740.32499727653817,0,147.13355827691018,{"$f":"INDEX('Floor Space'!$I$5:$DK$50,MATCH('Pre-Rinse Spray Valves'!CA52,'Floor Space'!$I$5:$I$50,0),MATCH('Pre-Rinse Spray Valves'!CA$10,'Floor Space'!$I$5:$DK$5,0))*'Pre-Rinse Spray Valves'!CH52","v":4.7566332435425345},151.8901915204527,745.08163052008069,5.7664451704165351,6.4250609678735415E-3,null,null,2027,1687.7896006710562,0,334.9126794729541,{"$f":"INDEX('Floor Space'!$I$5:$DK$50,MATCH('Pre-Rinse Spray Valves'!CL52,'Floor Space'!$I$5:$I$50,0),MATCH('Pre-Rinse Spray Valves'!CL$10,'Floor Space'!$I$5:$DK$5,0))*'Pre-Rinse Spray Valves'!CS52","v":11.290231968739494},346.20291144169357,1699.0798326397958,5.7664451704165351,6.6893598374173635E-3,null,null,2027,858.20400747755014,0,169.77681295576011,{"$f":"INDEX('Floor Space'!$I$5:$DK$50,MATCH('Pre-Rinse Spray Valves'!CW52,'Floor Space'!$I$5:$I$50,0),MATCH('Pre-Rinse Spray Valves'!CW$10,'Floor Space'!$I$5:$DK$5,0))*'Pre-Rinse Spray Valves'!DD52","v":7.2322087441966652},177.00902169995678,865.4362162217468,5.7664451704165351,8.4271439904524126E-3,null,null,2027,3277.1025028541899,0,635.62075030023391,{"$f":"INDEX('Floor Space'!$I$5:$DK$50,MATCH('Pre-Rinse Spray Valves'!DH52,'Floor Space'!$I$5:$I$50,0),MATCH('Pre-Rinse Spray Valves'!DH$10,'Floor Space'!$I$5:$DK$5,0))*'Pre-Rinse Spray Valves'!DO52","v":72.089897170152497},707.71064747038645,3349.1924000243425,5.7664451704165351,2.1998059904249523E-2,null,null,2027,324.07970407096826,0,64.510059764139186,{"$f":"INDEX('Floor Space'!$I$5:$DK$50,MATCH('Pre-Rinse Spray Valves'!DS52,'Floor Space'!$I$5:$I$50,0),MATCH('Pre-Rinse Spray Valves'!DS$10,'Floor Space'!$I$5:$DK$5,0))*'Pre-Rinse Spray Valves'!DZ52","v":1.3001791109353185},65.810238875074504,325.37988318190361,5.7664451704165351,4.0119115594188237E-3,null,null,2027,145.32122051289994,0,28.683571228410013,{"$f":"INDEX('Floor Space'!$I$5:$DK$50,MATCH('Pre-Rinse Spray Valves'!ED52,'Floor Space'!$I$5:$I$50,0),MATCH('Pre-Rinse Spray Valves'!ED$10,'Floor Space'!$I$5:$DK$5,0))*'Pre-Rinse Spray Valves'!EK52","v":1.1790742945319357},29.86264552294195,146.50029480743189,5.7664451704165351,8.1135727484979991E-3,null,null,2027,330.83866438305557,0,64.930123282899089,{"$f":"INDEX('Floor Space'!$I$5:$DK$50,MATCH('Pre-Rinse Spray Valves'!EO52,'Floor Space'!$I$5:$I$50,0),MATCH('Pre-Rinse Spray Valves'!EO$10,'Floor Space'!$I$5:$DK$5,0))*'Pre-Rinse Spray Valves'!EV52","v":3.5505867950749006},68.480710077973995,334.38925117813045,5.7664451704165351,1.0732079340532774E-2,null,null,2027,1018.250369091054,0,205.94998655010485,{"$f":"INDEX('Floor Space'!$I$5:$DK$50,MATCH('Pre-Rinse Spray Valves'!EZ52,'Floor Space'!$I$5:$I$50,0),MATCH('Pre-Rinse Spray Valves'!EZ$10,'Floor Space'!$I$5:$DK$5,0))*'Pre-Rinse Spray Valves'!FG52","v":4.7516279936159762},210.70161454372084,1023.0019970846701,5.7664451704165351,4.6664633157535995E-3,null,null,2027,468.89041766106601,0,93.760549805724608,{"$f":"INDEX('Floor Space'!$I$5:$DK$50,MATCH('Pre-Rinse Spray Valves'!FK52,'Floor Space'!$I$5:$I$50,0),MATCH('Pre-Rinse Spray Valves'!FK$10,'Floor Space'!$I$5:$DK$5,0))*'Pre-Rinse Spray Valves'!FR52","v":3.2182994469540005},96.978849252678614,472.10871710802002,5.7664451704165351,6.8636494279572524E-3,null,null,2027,1128.8746665444323,0,219.53006875260405,{"$f":"INDEX('Floor Space'!$I$5:$DK$50,MATCH('Pre-Rinse Spray Valves'!FV52,'Floor Space'!$I$5:$I$50,0),MATCH('Pre-Rinse Spray Valves'!FV$10,'Floor Space'!$I$5:$DK$5,0))*'Pre-Rinse Spray Valves'!GC52","v":14.362351720012875},233.89242047261692,1143.2370182644452,5.7664451704165351,1.2722715945054475E-2,null,null,2027,1572.4109314194125,0,294.92398369162055,{"$f":"INDEX('Floor Space'!$I$5:$DK$50,MATCH('Pre-Rinse Spray Valves'!GG52,'Floor Space'!$I$5:$I$50,0),MATCH('Pre-Rinse Spray Valves'!GG$10,'Floor Space'!$I$5:$DK$5,0))*'Pre-Rinse Spray Valves'!GN52","v":22.004590012103254},316.92857370372383,1594.4155214315158,5.7664451704165351,1.3994172625243495E-2,null,null,2027,2673.242093094248,0,527.68947618910852,{"$f":"INDEX('Floor Space'!$I$5:$DK$50,MATCH('Pre-Rinse Spray Valves'!GR52,'Floor Space'!$I$5:$I$50,0),MATCH('Pre-Rinse Spray Valves'!GR$10,'Floor Space'!$I$5:$DK$5,0))*'Pre-Rinse Spray Valves'!GY52","v":13.443551122333369},541.13302731144188,2686.6856442165813,5.7664451704165351,5.0289314076947811E-3]
[null,2028,21079.244234733029,0,4154.444144167277,245.59682824022286,4400.0409724074998,21324.84106297325,5.7664451704165351,1.1651121145773491E-2,null,null,2028,1985.3696942930026,0,386.0418587877262,{"$f":"INDEX('Floor Space'!$I$5:$DK$54,MATCH('Pre-Rinse Spray Valves'!M53,'Floor Space'!$I$5:$I$54,0),MATCH('Pre-Rinse Spray Valves'!M$10,'Floor Space'!$I$5:$DK$5,0))*'Pre-Rinse Spray Valves'!T53","v":30.094730945034581},416.1365897327608,2015.4644252380372,5.7664451704165351,1.5158250391119843E-2,null,null,2028,894.49040510571194,0,173.92767686914942,{"$f":"INDEX('Floor Space'!$I$5:$DK$50,MATCH('Pre-Rinse Spray Valves'!X53,'Floor Space'!$I$5:$I$50,0),MATCH('Pre-Rinse Spray Valves'!X$10,'Floor Space'!$I$5:$DK$5,0))*'Pre-Rinse Spray Valves'!AE53","v":13.558909533046693},187.48658640219611,908.04931463875869,5.7664451704165351,1.5158250391120065E-2,null,null,2028,1049.5690282440357,0,204.08167796357964,{"$f":"INDEX('Floor Space'!$I$5:$DK$50,MATCH('Pre-Rinse Spray Valves'!AI53,'Floor Space'!$I$5:$I$50,0),MATCH('Pre-Rinse Spray Valves'!AI$10,'Floor Space'!$I$5:$DK$5,0))*'Pre-Rinse Spray Valves'!AP53","v":15.909630132887527},219.99130809646715,1065.4786583769232,5.7664451704165351,1.5158250391119843E-2,null,null,2028,835.76097146972063,0,167.36321750131782,{"$f":"INDEX('Floor Space'!$I$5:$DK$50,MATCH('Pre-Rinse Spray Valves'!AT53,'Floor Space'!$I$5:$I$50,0),MATCH('Pre-Rinse Spray Valves'!AT$10,'Floor Space'!$I$5:$DK$5,0))*'Pre-Rinse Spray Valves'!BA53","v":6.4203707898648821},173.7835882911827,842.18134225958556,5.7664451704165351,7.6820658167064959E-3,null,null,2028,1543.6365831535138,0,309.11707297721335,{"$f":"INDEX('Floor Space'!$I$5:$DK$50,MATCH('Pre-Rinse Spray Valves'!BE53,'Floor Space'!$I$5:$I$50,0),MATCH('Pre-Rinse Spray Valves'!BE$10,'Floor Space'!$I$5:$DK$5,0))*'Pre-Rinse Spray Valves'!BL53","v":11.85831782886109},320.97539080607442,1555.4949009823749,5.7664451704165351,7.6820658167064959E-3,null,null,2028,385.90914578837845,0,77.279268244303339,{"$f":"INDEX('Floor Space'!$I$5:$DK$50,MATCH('Pre-Rinse Spray Valves'!BP53,'Floor Space'!$I$5:$I$50,0),MATCH('Pre-Rinse Spray Valves'!BP$10,'Floor Space'!$I$5:$DK$5,0))*'Pre-Rinse Spray Valves'!BW53","v":2.9645794572152724},80.243847701518604,388.87372524559373,5.7664451704165351,7.6820658167064959E-3,null,null,2028,745.08163052008069,0,149.20445347630888,{"$f":"INDEX('Floor Space'!$I$5:$DK$50,MATCH('Pre-Rinse Spray Valves'!CA53,'Floor Space'!$I$5:$I$50,0),MATCH('Pre-Rinse Spray Valves'!CA$10,'Floor Space'!$I$5:$DK$5,0))*'Pre-Rinse Spray Valves'!CH53","v":5.7237661244741851},154.92821960078308,750.80539664455489,5.7664451704165351,7.6820658167064959E-3,null,null,2028,1699.0798326397958,0,343.99579843911624,{"$f":"INDEX('Floor Space'!$I$5:$DK$50,MATCH('Pre-Rinse Spray Valves'!CL53,'Floor Space'!$I$5:$I$50,0),MATCH('Pre-Rinse Spray Valves'!CL$10,'Floor Space'!$I$5:$DK$5,0))*'Pre-Rinse Spray Valves'!CS53","v":11.372218692101583},355.36801713121781,1710.4520513318973,5.7664451704165351,6.6931632485054404E-3,null,null,2028,865.4362162217468,0,173.70306545023143,{"$f":"INDEX('Floor Space'!$I$5:$DK$50,MATCH('Pre-Rinse Spray Valves'!CW53,'Floor Space'!$I$5:$I$50,0),MATCH('Pre-Rinse Spray Valves'!CW$10,'Floor Space'!$I$5:$DK$5,0))*'Pre-Rinse Spray Valves'!DD53","v":7.4004227446467832},181.10348819487822,872.83663896639359,5.7664451704165351,8.5510897347871317E-3,null,null,2028,3349.1924000243425,0,645.08676101033438,{"$f":"INDEX('Floor Space'!$I$5:$DK$50,MATCH('Pre-Rinse Spray Valves'!DH53,'Floor Space'!$I$5:$I$50,0),MATCH('Pre-Rinse Spray Valves'!DH$10,'Floor Space'!$I$5:$DK$5,0))*'Pre-Rinse Spray Valves'!DO53","v":72.531900134461395},717.61866114479574,3421.724300158804,5.7664451704165351,2.1656534313745146E-2,null,null,2028,325.37988318190361,0,64.728634887574827,{"$f":"INDEX('Floor Space'!$I$5:$DK$50,MATCH('Pre-Rinse Spray Valves'!DS53,'Floor Space'!$I$5:$I$50,0),MATCH('Pre-Rinse Spray Valves'!DS$10,'Floor Space'!$I$5:$DK$5,0))*'Pre-Rinse Spray Valves'!DZ53","v":1.3054459501448092},66.034080837719642,326.68532913204842,5.7664451704165351,4.0120671793806295E-3,null,null,2028,146.50029480743189,0,28.854056095288268,{"$f":"INDEX('Floor Space'!$I$5:$DK$50,MATCH('Pre-Rinse Spray Valves'!ED53,'Floor Space'!$I$5:$I$50,0),MATCH('Pre-Rinse Spray Valves'!ED$10,'Floor Space'!$I$5:$DK$5,0))*'Pre-Rinse Spray Valves'!EK53","v":1.5030841391948802},30.357140234483147,148.00337894662675,5.7664451704165351,1.0259939348044256E-2,null,null,2028,334.38925117813045,0,64.895218451190118,{"$f":"INDEX('Floor Space'!$I$5:$DK$50,MATCH('Pre-Rinse Spray Valves'!EO53,'Floor Space'!$I$5:$I$50,0),MATCH('Pre-Rinse Spray Valves'!EO$10,'Floor Space'!$I$5:$DK$5,0))*'Pre-Rinse Spray Valves'!EV53","v":3.7449330169608803},68.640151468151004,338.13418419509134,5.7664451704165351,1.1199322357900554E-2,null,null,2028,1023.0019970846701,0,205.30699074702912,{"$f":"INDEX('Floor Space'!$I$5:$DK$50,MATCH('Pre-Rinse Spray Valves'!EZ53,'Floor Space'!$I$5:$I$50,0),MATCH('Pre-Rinse Spray Valves'!EZ$10,'Floor Space'!$I$5:$DK$5,0))*'Pre-Rinse Spray Valves'!FG53","v":5.3067353847672782},210.6137261317964,1028.3087324694372,5.7664451704165351,5.1874144917509746E-3,null,null,2028,472.10871710802002,0,95.704742554831881,{"$f":"INDEX('Floor Space'!$I$5:$DK$50,MATCH('Pre-Rinse Spray Valves'!FK53,'Floor Space'!$I$5:$I$50,0),MATCH('Pre-Rinse Spray Valves'!FK$10,'Floor Space'!$I$5:$DK$5,0))*'Pre-Rinse Spray Valves'!FR53","v":3.6880253598508861},99.392767914682764,475.7967424678709,5.7664451704165351,7.8118137331639748E-3,null,null,2028,1143.2370182644452,0,226.48158428463438,{"$f":"INDEX('Floor Space'!$I$5:$DK$50,MATCH('Pre-Rinse Spray Valves'!FV53,'Floor Space'!$I$5:$I$50,0),MATCH('Pre-Rinse Spray Valves'!FV$10,'Floor Space'!$I$5:$DK$5,0))*'Pre-Rinse Spray Valves'!GC53","v":15.44798004391019},241.92956432854456,1158.6849983083553,5.7664451704165351,1.3512491108240932E-2,null,null,2028,1594.4155214315158,0,300.8996631510451,{"$f":"INDEX('Floor Space'!$I$5:$DK$50,MATCH('Pre-Rinse Spray Valves'!GG53,'Floor Space'!$I$5:$I$50,0),MATCH('Pre-Rinse Spray Valves'!GG$10,'Floor Space'!$I$5:$DK$5,0))*'Pre-Rinse Spray Valves'!GN53","v":22.891500337913708},323.79116348895883,1617.3070217694294,5.7664451704165351,1.4357298978976862E-2,null,null,2028,2686.6856442165813,0,537.772403276403,{"$f":"INDEX('Floor Space'!$I$5:$DK$50,MATCH('Pre-Rinse Spray Valves'!GR53,'Floor Space'!$I$5:$I$50,0),MATCH('Pre-Rinse Spray Valves'!GR$10,'Floor Space'!$I$5:$DK$5,0))*'Pre-Rinse Spray Valves'!GY53","v":13.874277624886272},551.6466809012893,2700.5599218414677,5.7664451704165351,5.1640867083770914E-3]
[null,2029,21324.84106297325,0,4207.7818029755417,247.01015460616293,4454.7919575817059,21571.851217579409,5.7664451704165351,1.158321198628065E-2,null,null,2029,2015.4644252380372,0,389.02323420209592,{"$f":"INDEX('Floor Space'!$I$5:$DK$54,MATCH('Pre-Rinse Spray Valves'!M54,'Floor Space'!$I$5:$I$54,0),MATCH('Pre-Rinse Spray Valves'!M$10,'Floor Space'!$I$5:$DK$5,0))*'Pre-Rinse Spray Valves'!T54","v":31.496090286279607},420.5193244883755,2046.9605155243169,5.7664451704165351,1.5627212215646002E-2,null,null,2029,908.04931463875869,0,175.27090866614805,{"$f":"INDEX('Floor Space'!$I$5:$DK$50,MATCH('Pre-Rinse Spray Valves'!X54,'Floor Space'!$I$5:$I$50,0),MATCH('Pre-Rinse Spray Valves'!X$10,'Floor Space'!$I$5:$DK$5,0))*'Pre-Rinse Spray Valves'!AE54","v":14.190279342131705},189.46118800827975,922.23959398089039,5.7664451704165351,1.5627212215646002E-2,null,null,2029,1065.4786583769232,0,205.6577870910059,{"$f":"INDEX('Floor Space'!$I$5:$DK$50,MATCH('Pre-Rinse Spray Valves'!AI54,'Floor Space'!$I$5:$I$50,0),MATCH('Pre-Rinse Spray Valves'!AI$10,'Floor Space'!$I$5:$DK$5,0))*'Pre-Rinse Spray Valves'!AP54","v":16.650461105697868},222.30824819670377,1082.129119482621,5.7664451704165351,1.562721221564578E-2,null,null,2029,842.18134225958556,0,169.1576655927243,{"$f":"INDEX('Floor Space'!$I$5:$DK$50,MATCH('Pre-Rinse Spray Valves'!AT54,'Floor Space'!$I$5:$I$50,0),MATCH('Pre-Rinse Spray Valves'!AT$10,'Floor Space'!$I$5:$DK$5,0))*'Pre-Rinse Spray Valves'!BA54","v":6.8124401851437941},175.9701057778681,848.99378244472939,5.7664451704165351,8.0890419239945111E-3,null,null,2029,1555.4949009823749,0,312.43138869070475,{"$f":"INDEX('Floor Space'!$I$5:$DK$50,MATCH('Pre-Rinse Spray Valves'!BE54,'Floor Space'!$I$5:$I$50,0),MATCH('Pre-Rinse Spray Valves'!BE$10,'Floor Space'!$I$5:$DK$5,0))*'Pre-Rinse Spray Valves'!BL54","v":12.582463466606187},325.01385215731096,1568.0773644489811,5.7664451704165351,8.0890419239945111E-3,null,null,2029,388.87372524559373,0,78.107847172676188,{"$f":"INDEX('Floor Space'!$I$5:$DK$50,MATCH('Pre-Rinse Spray Valves'!BP54,'Floor Space'!$I$5:$I$50,0),MATCH('Pre-Rinse Spray Valves'!BP$10,'Floor Space'!$I$5:$DK$5,0))*'Pre-Rinse Spray Valves'!BW54","v":3.1456158666515468},81.253463039327741,392.01934111224529,5.7664451704165351,8.0890419239945111E-3,null,null,2029,750.80539664455489,0,150.80420550526225,{"$f":"INDEX('Floor Space'!$I$5:$DK$50,MATCH('Pre-Rinse Spray Valves'!CA54,'Floor Space'!$I$5:$I$50,0),MATCH('Pre-Rinse Spray Valves'!CA$10,'Floor Space'!$I$5:$DK$5,0))*'Pre-Rinse Spray Valves'!CH54","v":6.073296330219164},156.87750183548141,756.87869297477403,5.7664451704165351,8.0890419239945111E-3,null,null,2029,1710.4520513318973,0,346.4689938579823,{"$f":"INDEX('Floor Space'!$I$5:$DK$50,MATCH('Pre-Rinse Spray Valves'!CL54,'Floor Space'!$I$5:$I$50,0),MATCH('Pre-Rinse Spray Valves'!CL$10,'Floor Space'!$I$5:$DK$5,0))*'Pre-Rinse Spray Valves'!CS54","v":11.239162356112223},357.70815621409452,1721.6912136880096,5.7664451704165351,6.5708725055231287E-3,null,null,2029,872.83663896639359,0,174.53956366219589,{"$f":"INDEX('Floor Space'!$I$5:$DK$50,MATCH('Pre-Rinse Spray Valves'!CW54,'Floor Space'!$I$5:$I$50,0),MATCH('Pre-Rinse Spray Valves'!CW$10,'Floor Space'!$I$5:$DK$5,0))*'Pre-Rinse Spray Valves'!DD54","v":7.0950385005124028},181.63460216270829,879.93167746690597,5.7664451704165351,8.1287129615850162E-3,null,null,2029,3421.724300158804,0,646.7045007731399,{"$f":"INDEX('Floor Space'!$I$5:$DK$50,MATCH('Pre-Rinse Spray Valves'!DH54,'Floor Space'!$I$5:$I$50,0),MATCH('Pre-Rinse Spray Valves'!DH$10,'Floor Space'!$I$5:$DK$5,0))*'Pre-Rinse Spray Valves'!DO54","v":73.400920353409177},720.10542112654912,3495.1252205122132,5.7664451704165351,2.1451441996657161E-2,null,null,2029,326.68532913204842,0,63.983619418105761,{"$f":"INDEX('Floor Space'!$I$5:$DK$50,MATCH('Pre-Rinse Spray Valves'!DS54,'Floor Space'!$I$5:$I$50,0),MATCH('Pre-Rinse Spray Valves'!DS$10,'Floor Space'!$I$5:$DK$5,0))*'Pre-Rinse Spray Valves'!DZ54","v":1.2312619571474721},65.214881375253228,327.91659108919589,5.7664451704165351,3.7689539362504298E-3,null,null,2029,148.00337894662675,0,29.285653307581594,{"$f":"INDEX('Floor Space'!$I$5:$DK$50,MATCH('Pre-Rinse Spray Valves'!ED54,'Floor Space'!$I$5:$I$50,0),MATCH('Pre-Rinse Spray Valves'!ED$10,'Floor Space'!$I$5:$DK$5,0))*'Pre-Rinse Spray Valves'!EK54","v":1.503401397897169},30.789054705478762,149.50678034452392,5.7664451704165351,1.0157885641511655E-2,null,null,2029,338.13418419509134,0,64.606317928560586,{"$f":"INDEX('Floor Space'!$I$5:$DK$50,MATCH('Pre-Rinse Spray Valves'!EO54,'Floor Space'!$I$5:$I$50,0),MATCH('Pre-Rinse Spray Valves'!EO$10,'Floor Space'!$I$5:$DK$5,0))*'Pre-Rinse Spray Valves'!EV54","v":4.1633769390865769},68.769694867647161,342.2975611341779,5.7664451704165351,1.2312795137815691E-2,null,null,2029,1028.3087324694372,0,203.07800015152773,{"$f":"INDEX('Floor Space'!$I$5:$DK$50,MATCH('Pre-Rinse Spray Valves'!EZ54,'Floor Space'!$I$5:$I$50,0),MATCH('Pre-Rinse Spray Valves'!EZ$10,'Floor Space'!$I$5:$DK$5,0))*'Pre-Rinse Spray Valves'!FG54","v":6.5082941454243981},209.58629429695213,1034.8170266148616,5.7664451704165351,6.3291246489709518E-3,null,null,2029,475.7967424678709,0,96.839964324765447,{"$f":"INDEX('Floor Space'!$I$5:$DK$50,MATCH('Pre-Rinse Spray Valves'!FK54,'Floor Space'!$I$5:$I$50,0),MATCH('Pre-Rinse Spray Valves'!FK$10,'Floor Space'!$I$5:$DK$5,0))*'Pre-Rinse Spray Valves'!FR54","v":3.4344284972109698},100.27439282197642,479.23117096508184,5.7664451704165351,7.2182682029247047E-3,null,null,2029,1158.6849983083553,0,227.59244015911656,{"$f":"INDEX('Floor Space'!$I$5:$DK$50,MATCH('Pre-Rinse Spray Valves'!FV54,'Floor Space'!$I$5:$I$50,0),MATCH('Pre-Rinse Spray Valves'!FV$10,'Floor Space'!$I$5:$DK$5,0))*'Pre-Rinse Spray Valves'!GC54","v":15.23457299697726},242.82701315609381,1173.9195713053325,5.7664451704165351,1.314815762629129E-2,null,null,2029,1617.3070217694294,0,324.48438657453374,{"$f":"INDEX('Floor Space'!$I$5:$DK$50,MATCH('Pre-Rinse Spray Valves'!GG54,'Floor Space'!$I$5:$I$50,0),MATCH('Pre-Rinse Spray Valves'!GG$10,'Floor Space'!$I$5:$DK$5,0))*'Pre-Rinse Spray Valves'!GN54","v":18.265641970230643},342.7500285447644,1635.5726637396601,5.7664451704165351,1.1293861786519033E-2,null,null,2029,2700.5599218414677,0,549.74532589741557,{"$f":"INDEX('Floor Space'!$I$5:$DK$50,MATCH('Pre-Rinse Spray Valves'!GR54,'Floor Space'!$I$5:$I$50,0),MATCH('Pre-Rinse Spray Valves'!GR$10,'Floor Space'!$I$5:$DK$5,0))*'Pre-Rinse Spray Valves'!GY54","v":13.983408909424789},563.72873480684041,2714.5433307508924,5.7664451704165351,5.177966538098433E-3]
[null,2030,21571.851217579409,0,4152.7184777889615,241.41594488848,4394.1344226774409,21813.267162467891,5.7664451704165351,1.1191248375185703E-2,null,null,2030,2046.9605155243169,0,394.1053697574248,{"$f":"INDEX('Floor Space'!$I$5:$DK$54,MATCH('Pre-Rinse Spray Valves'!M55,'Floor Space'!$I$5:$I$54,0),MATCH('Pre-Rinse Spray Valves'!M$10,'Floor Space'!$I$5:$DK$5,0))*'Pre-Rinse Spray Valves'!T55","v":34.5290059076085},428.6343756650333,2081.4895214319254,5.7664451704165351,1.6868427918241613E-2,null,null,2030,922.23959398089039,0,177.56061899302352,{"$f":"INDEX('Floor Space'!$I$5:$DK$50,MATCH('Pre-Rinse Spray Valves'!X55,'Floor Space'!$I$5:$I$50,0),MATCH('Pre-Rinse Spray Valves'!X$10,'Floor Space'!$I$5:$DK$5,0))*'Pre-Rinse Spray Valves'!AE55","v":15.556732114415004},193.11735110743854,937.7963260953054,5.7664451704165351,1.6868427918241613E-2,null,null,2030,1082.129119482621,0,208.34446660039092,{"$f":"INDEX('Floor Space'!$I$5:$DK$50,MATCH('Pre-Rinse Spray Valves'!AI55,'Floor Space'!$I$5:$I$50,0),MATCH('Pre-Rinse Spray Valves'!AI$10,'Floor Space'!$I$5:$DK$5,0))*'Pre-Rinse Spray Valves'!AP55","v":18.253817050222793},226.59828365061372,1100.3829365328438,5.7664451704165351,1.6868427918241613E-2,null,null,2030,848.99378244472939,0,163.19844596073858,{"$f":"INDEX('Floor Space'!$I$5:$DK$50,MATCH('Pre-Rinse Spray Valves'!AT55,'Floor Space'!$I$5:$I$50,0),MATCH('Pre-Rinse Spray Valves'!AT$10,'Floor Space'!$I$5:$DK$5,0))*'Pre-Rinse Spray Valves'!BA55","v":5.1321660806862663},168.33061204142484,854.12594852541565,5.7664451704165351,6.0449984285018132E-3,null,null,2030,1568.0773644489811,0,301.42480936359971,{"$f":"INDEX('Floor Space'!$I$5:$DK$50,MATCH('Pre-Rinse Spray Valves'!BE55,'Floor Space'!$I$5:$I$50,0),MATCH('Pre-Rinse Spray Valves'!BE$10,'Floor Space'!$I$5:$DK$5,0))*'Pre-Rinse Spray Valves'!BL55","v":9.479025203863479},310.90383456746321,1577.5563896528447,5.7664451704165351,6.0449984285020353E-3,null,null,2030,392.01934111224529,0,75.356202340899927,{"$f":"INDEX('Floor Space'!$I$5:$DK$50,MATCH('Pre-Rinse Spray Valves'!BP55,'Floor Space'!$I$5:$I$50,0),MATCH('Pre-Rinse Spray Valves'!BP$10,'Floor Space'!$I$5:$DK$5,0))*'Pre-Rinse Spray Valves'!BW55","v":2.3697563009658698},77.725958641865802,394.38909741321118,5.7664451704165351,6.0449984285020353E-3,null,null,2030,756.87869297477403,0,145.49155603777265,{"$f":"INDEX('Floor Space'!$I$5:$DK$50,MATCH('Pre-Rinse Spray Valves'!CA55,'Floor Space'!$I$5:$I$50,0),MATCH('Pre-Rinse Spray Valves'!CA$10,'Floor Space'!$I$5:$DK$5,0))*'Pre-Rinse Spray Valves'!CH55","v":4.5753305095990742},150.06688654737172,761.45402348437312,5.7664451704165351,6.0449984285018132E-3,null,null,2030,1721.6912136880096,0,325.28952991097123,{"$f":"INDEX('Floor Space'!$I$5:$DK$50,MATCH('Pre-Rinse Spray Valves'!CL55,'Floor Space'!$I$5:$I$50,0),MATCH('Pre-Rinse Spray Valves'!CL$10,'Floor Space'!$I$5:$DK$5,0))*'Pre-Rinse Spray Valves'!CS55","v":10.385348754108115},335.67487866507935,1732.0765624421176,5.7664451704165351,6.0320623533076656E-3,null,null,2030,879.93167746690597,0,167.35975578731063,{"$f":"INDEX('Floor Space'!$I$5:$DK$50,MATCH('Pre-Rinse Spray Valves'!CW55,'Floor Space'!$I$5:$I$50,0),MATCH('Pre-Rinse Spray Valves'!CW$10,'Floor Space'!$I$5:$DK$5,0))*'Pre-Rinse Spray Valves'!DD55","v":6.8178234850377519},174.1775792723484,886.74950095194367,5.7664451704165351,7.7481282463480738E-3,null,null,2030,3495.1252205122132,0,656.24420220165564,{"$f":"INDEX('Floor Space'!$I$5:$DK$50,MATCH('Pre-Rinse Spray Valves'!DH55,'Floor Space'!$I$5:$I$50,0),MATCH('Pre-Rinse Spray Valves'!DH$10,'Floor Space'!$I$5:$DK$5,0))*'Pre-Rinse Spray Valves'!DO55","v":72.522709992298957},728.76691219395457,3567.6479305045123,5.7664451704165351,2.0749674308284449E-2,null,null,2030,327.91659108919589,0,66.141591409683215,{"$f":"INDEX('Floor Space'!$I$5:$DK$50,MATCH('Pre-Rinse Spray Valves'!DS55,'Floor Space'!$I$5:$I$50,0),MATCH('Pre-Rinse Spray Valves'!DS$10,'Floor Space'!$I$5:$DK$5,0))*'Pre-Rinse Spray Valves'!DZ55","v":1.2540191327480719},67.395610542431285,329.17061022194395,5.7664451704165351,3.824201540345129E-3,null,null,2030,149.50678034452392,0,29.242856151247036,{"$f":"INDEX('Floor Space'!$I$5:$DK$50,MATCH('Pre-Rinse Spray Valves'!ED55,'Floor Space'!$I$5:$I$50,0),MATCH('Pre-Rinse Spray Valves'!ED$10,'Floor Space'!$I$5:$DK$5,0))*'Pre-Rinse Spray Valves'!EK55","v":1.1281523518106455},30.371008503057681,150.63493269633457,5.7664451704165351,7.5458273478361537E-3,null,null,2030,342.2975611341779,0,68.360464578052657,{"$f":"INDEX('Floor Space'!$I$5:$DK$50,MATCH('Pre-Rinse Spray Valves'!EO55,'Floor Space'!$I$5:$I$50,0),MATCH('Pre-Rinse Spray Valves'!EO$10,'Floor Space'!$I$5:$DK$5,0))*'Pre-Rinse Spray Valves'!EV55","v":3.1700005750859512},71.530465153138607,345.46756170926386,5.7664451704165351,9.260949930763207E-3,null,null,2030,1034.8170266148616,0,198.49741701973102,{"$f":"INDEX('Floor Space'!$I$5:$DK$50,MATCH('Pre-Rinse Spray Valves'!EZ55,'Floor Space'!$I$5:$I$50,0),MATCH('Pre-Rinse Spray Valves'!EZ$10,'Floor Space'!$I$5:$DK$5,0))*'Pre-Rinse Spray Valves'!FG55","v":3.8952866380656839},202.39270365779669,1038.7123132529273,5.7664451704165351,3.7642274314022561E-3,null,null,2030,479.23117096508184,0,93.055036428167142,{"$f":"INDEX('Floor Space'!$I$5:$DK$50,MATCH('Pre-Rinse Spray Valves'!FK55,'Floor Space'!$I$5:$I$50,0),MATCH('Pre-Rinse Spray Valves'!FK$10,'Floor Space'!$I$5:$DK$5,0))*'Pre-Rinse Spray Valves'!FR55","v":3.6926432049517102},96.74767963311885,482.92381417003355,5.7664451704165351,7.7053485429909863E-3,null,null,2030,1173.9195713053325,0,225.67117949142673,{"$f":"INDEX('Floor Space'!$I$5:$DK$50,MATCH('Pre-Rinse Spray Valves'!FV55,'Floor Space'!$I$5:$I$50,0),MATCH('Pre-Rinse Spray Valves'!FV$10,'Floor Space'!$I$5:$DK$5,0))*'Pre-Rinse Spray Valves'!GC55","v":13.890114240640223},239.56129373206696,1187.8096855459728,5.7664451704165351,1.1832253742217747E-2,null,null,2030,1635.5726637396601,0,331.5925515414437,{"$f":"INDEX('Floor Space'!$I$5:$DK$50,MATCH('Pre-Rinse Spray Valves'!GG55,'Floor Space'!$I$5:$I$50,0),MATCH('Pre-Rinse Spray Valves'!GG$10,'Floor Space'!$I$5:$DK$5,0))*'Pre-Rinse Spray Valves'!GN55","v":21.017205540479871},352.60975708192359,1656.58986928014,5.7664451704165351,1.2850059191148899E-2,null,null,2030,2714.5433307508924,0,525.78242421542177,{"$f":"INDEX('Floor Space'!$I$5:$DK$50,MATCH('Pre-Rinse Spray Valves'!GR55,'Floor Space'!$I$5:$I$50,0),MATCH('Pre-Rinse Spray Valves'!GR$10,'Floor Space'!$I$5:$DK$5,0))*'Pre-Rinse Spray Valves'!GY55","v":13.746807805892022},539.52923202131376,2728.2901385567843,5.7664451704165351,5.0641327585989604E-3]
[null,2031,{"$f":"SUM(N56,Y56,AJ56,AU56,BF56,BQ56,CB56,CM56,CX56,DI56,DT56,EE56,EP56,FA56,FL56,FW56,GH56,GS56)","v":21813.267162467891},{"$f":"SUM(O56,Z56,AK56,AV56,BG56,BR56,CC56,CN56,CY56,DJ56,DU56,EF56,EQ56,FB56,FM56,FX56,GI56,GT56)","v":0},{"$f":"SUM(P56,AA56,AL56,AW56,BH56,BS56,CD56,CO56,CZ56,DK56,DV56,EG56,ER56,FC56,FN56,FY56,GJ56,GU56)","v":4246.8259970329982},{"$f":"SUM(Q56,AB56,AM56,AX56,BI56,BT56,CE56,CP56,DA56,DL56,DW56,EH56,ES56,FD56,FO56,FZ56,GK56,GV56)","v":241.41594488848},{"$f":"SUM(R56,AC56,AN56,AY56,BJ56,BU56,CF56,CQ56,DB56,DM56,DX56,EI56,ET56,FE56,FP56,GA56,GL56,GW56)","v":4488.2419419214784},{"$f":"SUM(S56,AD56,AO56,AZ56,BK56,BV56,CG56,CR56,DC56,DN56,DY56,EJ56,EU56,FF56,FQ56,GB56,GM56,GX56)","v":22054.683107356374},5.7664451704165351,{"$f":"H56/H55-1","v":1.1067390459686077E-2},null,null,2031,{"$f":"S55","v":2081.4895214319254},0,{"$f":"OFFSET(R56,-O$6,0)","v":408.38331557031825},{"$f":"INDEX('Floor Space'!$I$5:$DK$54,MATCH('Pre-Rinse Spray Valves'!M56,'Floor Space'!$I$5:$I$54,0),MATCH('Pre-Rinse Spray Valves'!M$10,'Floor Space'!$I$5:$DK$5,0))*'Pre-Rinse Spray Valves'!T56","v":34.5290059076085},{"$f":"Q56+P56","v":442.91232147792675},{"$f":"N56+Q56-O56","v":2116.0185273395336},5.7664451704165351,{"$f":"S56/S55-1","v":1.6588604243299221E-2},null,null,2031,937.7963260953054,0,183.99341867308524,{"$f":"INDEX('Floor Space'!$I$5:$DK$54,MATCH('Pre-Rinse Spray Valves'!X56,'Floor Space'!$I$5:$I$54,0),MATCH('Pre-Rinse Spray Valves'!X$10,'Floor Space'!$I$5:$DK$5,0))*'Pre-Rinse Spray Valves'!AE56","v":15.556732114415004},199.55015078750026,953.35305820972042,5.7664451704165351,1.6588604243299221E-2,null,null,2031,1100.3829365328438,0,215.89252666962443,{"$f":"INDEX('Floor Space'!$I$5:$DK$54,MATCH('Pre-Rinse Spray Valves'!AI56,'Floor Space'!$I$5:$I$54,0),MATCH('Pre-Rinse Spray Valves'!AI$10,'Floor Space'!$I$5:$DK$5,0))*'Pre-Rinse Spray Valves'!AP56","v":18.253817050222793},234.14634371984721,1118.6367535830666,5.7664451704165351,1.6588604243299221E-2,null,null,2031,854.12594852541565,0,165.66109831685182,{"$f":"INDEX('Floor Space'!$I$5:$DK$54,MATCH('Pre-Rinse Spray Valves'!AT56,'Floor Space'!$I$5:$I$54,0),MATCH('Pre-Rinse Spray Valves'!AT$10,'Floor Space'!$I$5:$DK$5,0))*'Pre-Rinse Spray Valves'!BA56","v":5.1321660806862663},170.79326439753808,859.25811460610191,5.7664451704165351,6.0086759915753962E-3,null,null,2031,1577.5563896528447,0,305.97328721582676,{"$f":"INDEX('Floor Space'!$I$5:$DK$54,MATCH('Pre-Rinse Spray Valves'!BE56,'Floor Space'!$I$5:$I$54,0),MATCH('Pre-Rinse Spray Valves'!BE$10,'Floor Space'!$I$5:$DK$5,0))*'Pre-Rinse Spray Valves'!BL56","v":9.479025203863479},315.45231241969026,1587.0354148567083,5.7664451704165351,6.0086759915753962E-3,null,null,2031,394.38909741321118,0,76.49332180395669,{"$f":"INDEX('Floor Space'!$I$5:$DK$54,MATCH('Pre-Rinse Spray Valves'!BP56,'Floor Space'!$I$5:$I$54,0),MATCH('Pre-Rinse Spray Valves'!BP$10,'Floor Space'!$I$5:$DK$5,0))*'Pre-Rinse Spray Valves'!BW56","v":2.3697563009658698},78.863078104922565,396.75885371417706,5.7664451704165351,6.0086759915753962E-3,null,null,2031,761.45402348437312,0,147.68701274792548,{"$f":"INDEX('Floor Space'!$I$5:$DK$54,MATCH('Pre-Rinse Spray Valves'!CA56,'Floor Space'!$I$5:$I$54,0),MATCH('Pre-Rinse Spray Valves'!CA$10,'Floor Space'!$I$5:$DK$5,0))*'Pre-Rinse Spray Valves'!CH56","v":4.5753305095990742},152.26234325752455,766.02935399397222,5.7664451704165351,6.0086759915753962E-3,null,null,2031,1732.0765624421176,0,337.1182154800627,{"$f":"INDEX('Floor Space'!$I$5:$DK$54,MATCH('Pre-Rinse Spray Valves'!CL56,'Floor Space'!$I$5:$I$54,0),MATCH('Pre-Rinse Spray Valves'!CL$10,'Floor Space'!$I$5:$DK$5,0))*'Pre-Rinse Spray Valves'!CS56","v":10.385348754108115},347.50356423417082,1742.4619111962256,5.7664451704165351,5.9958947423579545E-3,null,null,2031,886.74950095194367,0,172.82600377480236,{"$f":"INDEX('Floor Space'!$I$5:$DK$54,MATCH('Pre-Rinse Spray Valves'!CW56,'Floor Space'!$I$5:$I$54,0),MATCH('Pre-Rinse Spray Valves'!CW$10,'Floor Space'!$I$5:$DK$5,0))*'Pre-Rinse Spray Valves'!DD56","v":6.8178234850377519},179.64382725984012,893.56732443698138,5.7664451704165351,7.6885563259057044E-3,null,null,2031,3567.6479305045123,0,693.44067716013012,{"$f":"INDEX('Floor Space'!$I$5:$DK$54,MATCH('Pre-Rinse Spray Valves'!DH56,'Floor Space'!$I$5:$I$54,0),MATCH('Pre-Rinse Spray Valves'!DH$10,'Floor Space'!$I$5:$DK$5,0))*'Pre-Rinse Spray Valves'!DO56","v":72.522709992298957},765.96338715242905,3640.1706404968113,5.7664451704165351,2.0327877471374656E-2,null,null,2031,329.17061022194395,0,64.718028209581959,{"$f":"INDEX('Floor Space'!$I$5:$DK$54,MATCH('Pre-Rinse Spray Valves'!DS56,'Floor Space'!$I$5:$I$54,0),MATCH('Pre-Rinse Spray Valves'!DS$10,'Floor Space'!$I$5:$DK$5,0))*'Pre-Rinse Spray Valves'!DZ56","v":1.2540191327480719},65.972047342330029,330.424629354692,5.7664451704165351,3.8096327369643301E-3,null,null,2031,150.63493269633457,0,29.253058959626333,{"$f":"INDEX('Floor Space'!$I$5:$DK$54,MATCH('Pre-Rinse Spray Valves'!ED56,'Floor Space'!$I$5:$I$54,0),MATCH('Pre-Rinse Spray Valves'!ED$10,'Floor Space'!$I$5:$DK$5,0))*'Pre-Rinse Spray Valves'!EK56","v":1.1281523518106455},30.381211311436978,151.76308504814523,5.7664451704165351,7.4893142753607034E-3,null,null,2031,345.46756170926386,0,68.042951640339041,{"$f":"INDEX('Floor Space'!$I$5:$DK$54,MATCH('Pre-Rinse Spray Valves'!EO56,'Floor Space'!$I$5:$I$54,0),MATCH('Pre-Rinse Spray Valves'!EO$10,'Floor Space'!$I$5:$DK$5,0))*'Pre-Rinse Spray Valves'!EV56","v":3.1700005750859512},71.212952215424991,348.63756228434983,5.7664451704165351,9.1759717161339349E-3,null,null,2031,1038.7123132529273,0,205.42232473344089,{"$f":"INDEX('Floor Space'!$I$5:$DK$54,MATCH('Pre-Rinse Spray Valves'!EZ56,'Floor Space'!$I$5:$I$54,0),MATCH('Pre-Rinse Spray Valves'!EZ$10,'Floor Space'!$I$5:$DK$5,0))*'Pre-Rinse Spray Valves'!FG56","v":3.8952866380656839},209.31761137150656,1042.607599890993,5.7664451704165351,3.7501111601025983E-3,null,null,2031,482.92381417003355,0,89.529180891192567,{"$f":"INDEX('Floor Space'!$I$5:$DK$54,MATCH('Pre-Rinse Spray Valves'!FK56,'Floor Space'!$I$5:$I$54,0),MATCH('Pre-Rinse Spray Valves'!FK$10,'Floor Space'!$I$5:$DK$5,0))*'Pre-Rinse Spray Valves'!FR56","v":3.6926432049517102},93.221824096144275,486.61645737498526,5.7664451704165351,7.6464301337013652E-3,null,null,2031,1187.8096855459728,0,229.59706345049287,{"$f":"INDEX('Floor Space'!$I$5:$DK$54,MATCH('Pre-Rinse Spray Valves'!FV56,'Floor Space'!$I$5:$I$54,0),MATCH('Pre-Rinse Spray Valves'!FV$10,'Floor Space'!$I$5:$DK$5,0))*'Pre-Rinse Spray Valves'!GC56","v":13.890114240640223},243.4871776911331,1201.6997997866131,5.7664451704165351,1.1693888684074727E-2,null,null,2031,1656.58986928014,0,320.54718981319246,{"$f":"INDEX('Floor Space'!$I$5:$DK$54,MATCH('Pre-Rinse Spray Valves'!GG56,'Floor Space'!$I$5:$I$54,0),MATCH('Pre-Rinse Spray Valves'!GG$10,'Floor Space'!$I$5:$DK$5,0))*'Pre-Rinse Spray Valves'!GN56","v":21.017205540479871},341.56439535367235,1677.6070748206198,5.7664451704165351,1.2687030103360808E-2,null,null,2031,2728.2901385567843,0,532.24732192254805,{"$f":"INDEX('Floor Space'!$I$5:$DK$54,MATCH('Pre-Rinse Spray Valves'!GR56,'Floor Space'!$I$5:$I$54,0),MATCH('Pre-Rinse Spray Valves'!GR$10,'Floor Space'!$I$5:$DK$5,0))*'Pre-Rinse Spray Valves'!GY56","v":13.746807805892022},545.99412972844004,2742.0369463626762,5.7664451704165351,5.0386165355433832E-3]
[null,2032,22054.683107356374,0,4317.4680279415061,241.41594488848,4558.8839728299863,22296.099052244852,5.7664451704165351,1.0946244102140623E-2,null,null,2032,2116.0185273395336,0,407.81261293536295,{"$f":"INDEX('Floor Space'!$I$5:$DK$54,MATCH('Pre-Rinse Spray Valves'!M57,'Floor Space'!$I$5:$I$54,0),MATCH('Pre-Rinse Spray Valves'!M$10,'Floor Space'!$I$5:$DK$5,0))*'Pre-Rinse Spray Valves'!T57","v":34.5290059076085},442.34161884297146,2150.5475332471419,5.7664451704165351,1.6317912845036142E-2,null,null,2032,953.35305820972042,0,183.73629374939802,{"$f":"INDEX('Floor Space'!$I$5:$DK$54,MATCH('Pre-Rinse Spray Valves'!X57,'Floor Space'!$I$5:$I$54,0),MATCH('Pre-Rinse Spray Valves'!X$10,'Floor Space'!$I$5:$DK$5,0))*'Pre-Rinse Spray Valves'!AE57","v":15.556732114415004},199.29302586381303,968.90979032413543,5.7664451704165351,1.6317912845036364E-2,null,null,2032,1118.6367535830666,0,215.59082376174379,{"$f":"INDEX('Floor Space'!$I$5:$DK$54,MATCH('Pre-Rinse Spray Valves'!AI57,'Floor Space'!$I$5:$I$54,0),MATCH('Pre-Rinse Spray Valves'!AI$10,'Floor Space'!$I$5:$DK$5,0))*'Pre-Rinse Spray Valves'!AP57","v":18.253817050222793},233.8446408119666,1136.8905706332894,5.7664451704165351,1.6317912845036364E-2,null,null,2032,859.25811460610191,0,170.37582034232477,{"$f":"INDEX('Floor Space'!$I$5:$DK$54,MATCH('Pre-Rinse Spray Valves'!AT57,'Floor Space'!$I$5:$I$54,0),MATCH('Pre-Rinse Spray Valves'!AT$10,'Floor Space'!$I$5:$DK$5,0))*'Pre-Rinse Spray Valves'!BA57","v":5.1321660806862663},175.50798642301103,864.39028068678817,5.7664451704165351,5.9727874470396625E-3,null,null,2032,1587.0354148567083,0,314.68130020801181,{"$f":"INDEX('Floor Space'!$I$5:$DK$54,MATCH('Pre-Rinse Spray Valves'!BE57,'Floor Space'!$I$5:$I$54,0),MATCH('Pre-Rinse Spray Valves'!BE$10,'Floor Space'!$I$5:$DK$5,0))*'Pre-Rinse Spray Valves'!BL57","v":9.479025203863479},324.16032541187531,1596.5144400605718,5.7664451704165351,5.9727874470396625E-3,null,null,2032,396.75885371417706,0,78.670325052002951,{"$f":"INDEX('Floor Space'!$I$5:$DK$54,MATCH('Pre-Rinse Spray Valves'!BP57,'Floor Space'!$I$5:$I$54,0),MATCH('Pre-Rinse Spray Valves'!BP$10,'Floor Space'!$I$5:$DK$5,0))*'Pre-Rinse Spray Valves'!BW57","v":2.3697563009658698},81.040081352968826,399.12861001514295,5.7664451704165351,5.9727874470396625E-3,null,null,2032,766.02935399397222,0,151.8901915204527,{"$f":"INDEX('Floor Space'!$I$5:$DK$54,MATCH('Pre-Rinse Spray Valves'!CA57,'Floor Space'!$I$5:$I$54,0),MATCH('Pre-Rinse Spray Valves'!CA$10,'Floor Space'!$I$5:$DK$5,0))*'Pre-Rinse Spray Valves'!CH57","v":4.5753305095990742},156.46552203005177,770.60468450357132,5.7664451704165351,5.9727874470396625E-3,null,null,2032,1742.4619111962256,0,346.20291144169357,{"$f":"INDEX('Floor Space'!$I$5:$DK$54,MATCH('Pre-Rinse Spray Valves'!CL57,'Floor Space'!$I$5:$I$54,0),MATCH('Pre-Rinse Spray Valves'!CL$10,'Floor Space'!$I$5:$DK$5,0))*'Pre-Rinse Spray Valves'!CS57","v":10.385348754108115},356.58826019580169,1752.8472599503336,5.7664451704165351,5.9601582607784476E-3,null,null,2032,893.56732443698138,0,177.00902169995678,{"$f":"INDEX('Floor Space'!$I$5:$DK$54,MATCH('Pre-Rinse Spray Valves'!CW57,'Floor Space'!$I$5:$I$54,0),MATCH('Pre-Rinse Spray Valves'!CW$10,'Floor Space'!$I$5:$DK$5,0))*'Pre-Rinse Spray Valves'!DD57","v":6.8178234850377519},183.82684518499454,900.38514792201909,5.7664451704165351,7.6298934602756496E-3,null,null,2032,3640.1706404968113,0,707.71064747038645,{"$f":"INDEX('Floor Space'!$I$5:$DK$54,MATCH('Pre-Rinse Spray Valves'!DH57,'Floor Space'!$I$5:$I$54,0),MATCH('Pre-Rinse Spray Valves'!DH$10,'Floor Space'!$I$5:$DK$5,0))*'Pre-Rinse Spray Valves'!DO57","v":72.522709992298957},780.23335746268538,3712.6933504891103,5.7664451704165351,1.9922887456287341E-2,null,null,2032,330.424629354692,0,65.810238875074504,{"$f":"INDEX('Floor Space'!$I$5:$DK$54,MATCH('Pre-Rinse Spray Valves'!DS57,'Floor Space'!$I$5:$I$54,0),MATCH('Pre-Rinse Spray Valves'!DS$10,'Floor Space'!$I$5:$DK$5,0))*'Pre-Rinse Spray Valves'!DZ57","v":1.2540191327480719},67.064258007822573,331.67864848744006,5.7664451704165351,3.7951745158861794E-3,null,null,2032,151.76308504814523,0,29.86264552294195,{"$f":"INDEX('Floor Space'!$I$5:$DK$54,MATCH('Pre-Rinse Spray Valves'!ED57,'Floor Space'!$I$5:$I$54,0),MATCH('Pre-Rinse Spray Valves'!ED$10,'Floor Space'!$I$5:$DK$5,0))*'Pre-Rinse Spray Valves'!EK57","v":1.1281523518106455},30.990797874752595,152.89123739995588,5.7664451704165351,7.4336413987152739E-3,null,null,2032,348.63756228434983,0,68.480710077973995,{"$f":"INDEX('Floor Space'!$I$5:$DK$54,MATCH('Pre-Rinse Spray Valves'!EO57,'Floor Space'!$I$5:$I$54,0),MATCH('Pre-Rinse Spray Valves'!EO$10,'Floor Space'!$I$5:$DK$5,0))*'Pre-Rinse Spray Valves'!EV57","v":3.1700005750859512},71.650710653059946,351.80756285943579,5.7664451704165351,9.0925388369382798E-3,null,null,2032,1042.607599890993,0,210.70161454372084,{"$f":"INDEX('Floor Space'!$I$5:$DK$54,MATCH('Pre-Rinse Spray Valves'!EZ57,'Floor Space'!$I$5:$I$54,0),MATCH('Pre-Rinse Spray Valves'!EZ$10,'Floor Space'!$I$5:$DK$5,0))*'Pre-Rinse Spray Valves'!FG57","v":3.8952866380656839},214.59690118178651,1046.5028865290587,5.7664451704165351,3.7361003684157623E-3,null,null,2032,486.61645737498526,0,96.978849252678614,{"$f":"INDEX('Floor Space'!$I$5:$DK$54,MATCH('Pre-Rinse Spray Valves'!FK57,'Floor Space'!$I$5:$I$54,0),MATCH('Pre-Rinse Spray Valves'!FK$10,'Floor Space'!$I$5:$DK$5,0))*'Pre-Rinse Spray Valves'!FR57","v":3.6926432049517102},100.67149245763032,490.30910057993697,5.7664451704165351,7.5884059180229002E-3,null,null,2032,1201.6997997866131,0,233.89242047261692,{"$f":"INDEX('Floor Space'!$I$5:$DK$54,MATCH('Pre-Rinse Spray Valves'!FV57,'Floor Space'!$I$5:$I$54,0),MATCH('Pre-Rinse Spray Valves'!FV$10,'Floor Space'!$I$5:$DK$5,0))*'Pre-Rinse Spray Valves'!GC57","v":13.890114240640223},247.78253471325715,1215.5899140272534,5.7664451704165351,1.1558722272489996E-2,null,null,2032,1677.6070748206198,0,316.92857370372383,{"$f":"INDEX('Floor Space'!$I$5:$DK$54,MATCH('Pre-Rinse Spray Valves'!GG57,'Floor Space'!$I$5:$I$54,0),MATCH('Pre-Rinse Spray Valves'!GG$10,'Floor Space'!$I$5:$DK$5,0))*'Pre-Rinse Spray Valves'!GN57","v":21.017205540479871},337.94577924420372,1698.6242803610996,5.7664451704165351,1.2528085900404884E-2,null,null,2032,2742.0369463626762,0,541.13302731144188,{"$f":"INDEX('Floor Space'!$I$5:$DK$54,MATCH('Pre-Rinse Spray Valves'!GR57,'Floor Space'!$I$5:$I$54,0),MATCH('Pre-Rinse Spray Valves'!GR$10,'Floor Space'!$I$5:$DK$5,0))*'Pre-Rinse Spray Valves'!GY57","v":13.746807805892022},554.87983511733387,2755.7837541685681,5.7664451704165351,5.0133561563154849E-3]
[null,2033,22296.099052244852,0,4400.0409724074998,241.41594488848,4641.45691729598,22537.514997133334,5.7664451704165351,1.0827721222568476E-2,null,null,2033,2150.5475332471419,0,416.1365897327608,{"$f":"INDEX('Floor Space'!$I$5:$DK$54,MATCH('Pre-Rinse Spray Valves'!M58,'Floor Space'!$I$5:$I$54,0),MATCH('Pre-Rinse Spray Valves'!M$10,'Floor Space'!$I$5:$DK$5,0))*'Pre-Rinse Spray Valves'!T58","v":34.5290059076085},450.6655956403693,2185.0765391547502,5.7664451704165351,1.6055913842309977E-2,null,null,2033,968.90979032413543,0,187.48658640219611,{"$f":"INDEX('Floor Space'!$I$5:$DK$54,MATCH('Pre-Rinse Spray Valves'!X58,'Floor Space'!$I$5:$I$54,0),MATCH('Pre-Rinse Spray Valves'!X$10,'Floor Space'!$I$5:$DK$5,0))*'Pre-Rinse Spray Valves'!AE58","v":15.556732114415004},203.04331851661112,984.46652243855044,5.7664451704165351,1.6055913842309977E-2,null,null,2033,1136.8905706332894,0,219.99130809646715,{"$f":"INDEX('Floor Space'!$I$5:$DK$54,MATCH('Pre-Rinse Spray Valves'!AI58,'Floor Space'!$I$5:$I$54,0),MATCH('Pre-Rinse Spray Valves'!AI$10,'Floor Space'!$I$5:$DK$5,0))*'Pre-Rinse Spray Valves'!AP58","v":18.253817050222793},238.24512514668993,1155.1443876835122,5.7664451704165351,1.6055913842309977E-2,null,null,2033,864.39028068678817,0,173.7835882911827,{"$f":"INDEX('Floor Space'!$I$5:$DK$54,MATCH('Pre-Rinse Spray Valves'!AT58,'Floor Space'!$I$5:$I$54,0),MATCH('Pre-Rinse Spray Valves'!AT$10,'Floor Space'!$I$5:$DK$5,0))*'Pre-Rinse Spray Valves'!BA58","v":5.1321660806862663},178.91575437186896,869.52244676747443,5.7664451704165351,5.9373250664138677E-3,null,null,2033,1596.5144400605718,0,320.97539080607442,{"$f":"INDEX('Floor Space'!$I$5:$DK$54,MATCH('Pre-Rinse Spray Valves'!BE58,'Floor Space'!$I$5:$I$54,0),MATCH('Pre-Rinse Spray Valves'!BE$10,'Floor Space'!$I$5:$DK$5,0))*'Pre-Rinse Spray Valves'!BL58","v":9.479025203863479},330.45441600993792,1605.9934652644354,5.7664451704165351,5.9373250664140897E-3,null,null,2033,399.12861001514295,0,80.243847701518604,{"$f":"INDEX('Floor Space'!$I$5:$DK$54,MATCH('Pre-Rinse Spray Valves'!BP58,'Floor Space'!$I$5:$I$54,0),MATCH('Pre-Rinse Spray Valves'!BP$10,'Floor Space'!$I$5:$DK$5,0))*'Pre-Rinse Spray Valves'!BW58","v":2.3697563009658698},82.613604002484479,401.49836631610884,5.7664451704165351,5.9373250664140897E-3,null,null,2033,770.60468450357132,0,154.92821960078308,{"$f":"INDEX('Floor Space'!$I$5:$DK$54,MATCH('Pre-Rinse Spray Valves'!CA58,'Floor Space'!$I$5:$I$54,0),MATCH('Pre-Rinse Spray Valves'!CA$10,'Floor Space'!$I$5:$DK$5,0))*'Pre-Rinse Spray Valves'!CH58","v":4.5753305095990742},159.50355011038215,775.18001501317042,5.7664451704165351,5.9373250664140897E-3,null,null,2033,1752.8472599503336,0,355.36801713121781,{"$f":"INDEX('Floor Space'!$I$5:$DK$54,MATCH('Pre-Rinse Spray Valves'!CL58,'Floor Space'!$I$5:$I$54,0),MATCH('Pre-Rinse Spray Valves'!CL$10,'Floor Space'!$I$5:$DK$5,0))*'Pre-Rinse Spray Valves'!CS58","v":10.385348754108115},365.75336588532593,1763.2326087044416,5.7664451704165351,5.9248452454450096E-3,null,null,2033,900.38514792201909,0,181.10348819487822,{"$f":"INDEX('Floor Space'!$I$5:$DK$54,MATCH('Pre-Rinse Spray Valves'!CW58,'Floor Space'!$I$5:$I$54,0),MATCH('Pre-Rinse Spray Valves'!CW$10,'Floor Space'!$I$5:$DK$5,0))*'Pre-Rinse Spray Valves'!DD58","v":6.8178234850377519},187.92131167991599,907.20297140705679,5.7664451704165351,7.5721189990443083E-3,null,null,2033,3712.6933504891103,0,717.61866114479574,{"$f":"INDEX('Floor Space'!$I$5:$DK$54,MATCH('Pre-Rinse Spray Valves'!DH58,'Floor Space'!$I$5:$I$54,0),MATCH('Pre-Rinse Spray Valves'!DH$10,'Floor Space'!$I$5:$DK$5,0))*'Pre-Rinse Spray Valves'!DO58","v":72.522709992298957},790.14137113709467,3785.2160604814094,5.7664451704165351,1.9533719363799662E-2,null,null,2033,331.67864848744006,0,66.034080837719642,{"$f":"INDEX('Floor Space'!$I$5:$DK$54,MATCH('Pre-Rinse Spray Valves'!DS58,'Floor Space'!$I$5:$I$54,0),MATCH('Pre-Rinse Spray Valves'!DS$10,'Floor Space'!$I$5:$DK$5,0))*'Pre-Rinse Spray Valves'!DZ58","v":1.2540191327480719},67.288099970467712,332.93266762018811,5.7664451704165351,3.7808256228333281E-3,null,null,2033,152.89123739995588,0,30.357140234483147,{"$f":"INDEX('Floor Space'!$I$5:$DK$54,MATCH('Pre-Rinse Spray Valves'!ED58,'Floor Space'!$I$5:$I$54,0),MATCH('Pre-Rinse Spray Valves'!ED$10,'Floor Space'!$I$5:$DK$5,0))*'Pre-Rinse Spray Valves'!EK58","v":1.1281523518106455},31.485292586293792,154.01938975176654,5.7664451704165351,7.3787901190143224E-3,null,null,2033,351.80756285943579,0,68.640151468151004,{"$f":"INDEX('Floor Space'!$I$5:$DK$54,MATCH('Pre-Rinse Spray Valves'!EO58,'Floor Space'!$I$5:$I$54,0),MATCH('Pre-Rinse Spray Valves'!EO$10,'Floor Space'!$I$5:$DK$5,0))*'Pre-Rinse Spray Valves'!EV58","v":3.1700005750859512},71.810152043236954,354.97756343452176,5.7664451704165351,9.010609519933821E-3,null,null,2033,1046.5028865290587,0,210.6137261317964,{"$f":"INDEX('Floor Space'!$I$5:$DK$54,MATCH('Pre-Rinse Spray Valves'!EZ58,'Floor Space'!$I$5:$I$54,0),MATCH('Pre-Rinse Spray Valves'!EZ$10,'Floor Space'!$I$5:$DK$5,0))*'Pre-Rinse Spray Valves'!FG58","v":3.8952866380656839},214.50901276986207,1050.3981731671245,5.7664451704165351,3.7221938784948172E-3,null,null,2033,490.30910057993697,0,99.392767914682764,{"$f":"INDEX('Floor Space'!$I$5:$DK$54,MATCH('Pre-Rinse Spray Valves'!FK58,'Floor Space'!$I$5:$I$54,0),MATCH('Pre-Rinse Spray Valves'!FK$10,'Floor Space'!$I$5:$DK$5,0))*'Pre-Rinse Spray Valves'!FR58","v":3.6926432049517102},103.08541111963447,494.00174378488867,5.7664451704165351,7.5312556927540353E-3,null,null,2033,1215.5899140272534,0,241.92956432854456,{"$f":"INDEX('Floor Space'!$I$5:$DK$54,MATCH('Pre-Rinse Spray Valves'!FV58,'Floor Space'!$I$5:$I$54,0),MATCH('Pre-Rinse Spray Valves'!FV$10,'Floor Space'!$I$5:$DK$5,0))*'Pre-Rinse Spray Valves'!GC58","v":13.890114240640223},255.81967856918479,1229.4800282678937,5.7664451704165351,1.1426644858069102E-2,null,null,2033,1698.6242803610996,0,323.79116348895883,{"$f":"INDEX('Floor Space'!$I$5:$DK$54,MATCH('Pre-Rinse Spray Valves'!GG58,'Floor Space'!$I$5:$I$54,0),MATCH('Pre-Rinse Spray Valves'!GG$10,'Floor Space'!$I$5:$DK$5,0))*'Pre-Rinse Spray Valves'!GN58","v":21.017205540479871},344.80836902943872,1719.6414859015795,5.7664451704165351,1.2373074954522556E-2,null,null,2033,2755.7837541685681,0,551.6466809012893,{"$f":"INDEX('Floor Space'!$I$5:$DK$54,MATCH('Pre-Rinse Spray Valves'!GR58,'Floor Space'!$I$5:$I$54,0),MATCH('Pre-Rinse Spray Valves'!GR$10,'Floor Space'!$I$5:$DK$5,0))*'Pre-Rinse Spray Valves'!GY58","v":13.746807805892022},565.39348870718129,2769.5305619744599,5.7664451704165351,4.9883477922016972E-3]
[null,2034,22537.514997133334,0,4454.7919575817059,241.41594488848,4696.2079024701861,22778.930942021812,5.7664451704165351,1.071173751494725E-2,null,null,2034,2185.0765391547502,0,420.5193244883755,{"$f":"INDEX('Floor Space'!$I$5:$DK$54,MATCH('Pre-Rinse Spray Valves'!M59,'Floor Space'!$I$5:$I$54,0),MATCH('Pre-Rinse Spray Valves'!M$10,'Floor Space'!$I$5:$DK$5,0))*'Pre-Rinse Spray Valves'!T59","v":34.5290059076085},455.04833039598401,2219.6055450623585,5.7664451704165351,1.580219515832848E-2,null,null,2034,984.46652243855044,0,189.46118800827975,{"$f":"INDEX('Floor Space'!$I$5:$DK$54,MATCH('Pre-Rinse Spray Valves'!X59,'Floor Space'!$I$5:$I$54,0),MATCH('Pre-Rinse Spray Valves'!X$10,'Floor Space'!$I$5:$DK$5,0))*'Pre-Rinse Spray Valves'!AE59","v":15.556732114415004},205.01792012269476,1000.0232545529655,5.7664451704165351,1.580219515832848E-2,null,null,2034,1155.1443876835122,0,222.30824819670377,{"$f":"INDEX('Floor Space'!$I$5:$DK$54,MATCH('Pre-Rinse Spray Valves'!AI59,'Floor Space'!$I$5:$I$54,0),MATCH('Pre-Rinse Spray Valves'!AI$10,'Floor Space'!$I$5:$DK$5,0))*'Pre-Rinse Spray Valves'!AP59","v":18.253817050222793},240.56206524692658,1173.3982047337349,5.7664451704165351,1.580219515832848E-2,null,null,2034,869.52244676747443,0,175.9701057778681,{"$f":"INDEX('Floor Space'!$I$5:$DK$54,MATCH('Pre-Rinse Spray Valves'!AT59,'Floor Space'!$I$5:$I$54,0),MATCH('Pre-Rinse Spray Valves'!AT$10,'Floor Space'!$I$5:$DK$5,0))*'Pre-Rinse Spray Valves'!BA59","v":5.1321660806862663},181.10227185855436,874.6546128481607,5.7664451704165351,5.9022813036806454E-3,null,null,2034,1605.9934652644354,0,325.01385215731096,{"$f":"INDEX('Floor Space'!$I$5:$DK$54,MATCH('Pre-Rinse Spray Valves'!BE59,'Floor Space'!$I$5:$I$54,0),MATCH('Pre-Rinse Spray Valves'!BE$10,'Floor Space'!$I$5:$DK$5,0))*'Pre-Rinse Spray Valves'!BL59","v":9.479025203863479},334.49287736117446,1615.4724904682989,5.7664451704165351,5.9022813036806454E-3,null,null,2034,401.49836631610884,0,81.253463039327741,{"$f":"INDEX('Floor Space'!$I$5:$DK$54,MATCH('Pre-Rinse Spray Valves'!BP59,'Floor Space'!$I$5:$I$54,0),MATCH('Pre-Rinse Spray Valves'!BP$10,'Floor Space'!$I$5:$DK$5,0))*'Pre-Rinse Spray Valves'!BW59","v":2.3697563009658698},83.623219340293616,403.86812261707473,5.7664451704165351,5.9022813036806454E-3,null,null,2034,775.18001501317042,0,156.87750183548141,{"$f":"INDEX('Floor Space'!$I$5:$DK$54,MATCH('Pre-Rinse Spray Valves'!CA59,'Floor Space'!$I$5:$I$54,0),MATCH('Pre-Rinse Spray Valves'!CA$10,'Floor Space'!$I$5:$DK$5,0))*'Pre-Rinse Spray Valves'!CH59","v":4.5753305095990742},161.45283234508048,779.75534552276952,5.7664451704165351,5.9022813036806454E-3,null,null,2034,1763.2326087044416,0,357.70815621409452,{"$f":"INDEX('Floor Space'!$I$5:$DK$54,MATCH('Pre-Rinse Spray Valves'!CL59,'Floor Space'!$I$5:$I$54,0),MATCH('Pre-Rinse Spray Valves'!CL$10,'Floor Space'!$I$5:$DK$5,0))*'Pre-Rinse Spray Valves'!CS59","v":10.385348754108115},368.09350496820264,1773.6179574585497,5.7664451704165351,5.8899482137746428E-3,null,null,2034,907.20297140705679,0,181.63460216270829,{"$f":"INDEX('Floor Space'!$I$5:$DK$54,MATCH('Pre-Rinse Spray Valves'!CW59,'Floor Space'!$I$5:$I$54,0),MATCH('Pre-Rinse Spray Valves'!CW$10,'Floor Space'!$I$5:$DK$5,0))*'Pre-Rinse Spray Valves'!DD59","v":6.8178234850377519},188.45242564774605,914.0207948920945,5.7664451704165351,7.5152129125672928E-3,null,null,2034,3785.2160604814094,0,720.10542112654912,{"$f":"INDEX('Floor Space'!$I$5:$DK$54,MATCH('Pre-Rinse Spray Valves'!DH59,'Floor Space'!$I$5:$I$54,0),MATCH('Pre-Rinse Spray Valves'!DH$10,'Floor Space'!$I$5:$DK$5,0))*'Pre-Rinse Spray Valves'!DO59","v":72.522709992298957},792.62813111884805,3857.7387704737084,5.7664451704165351,1.9159463775252794E-2,null,null,2034,332.93266762018811,0,65.214881375253228,{"$f":"INDEX('Floor Space'!$I$5:$DK$54,MATCH('Pre-Rinse Spray Valves'!DS59,'Floor Space'!$I$5:$I$54,0),MATCH('Pre-Rinse Spray Valves'!DS$10,'Floor Space'!$I$5:$DK$5,0))*'Pre-Rinse Spray Valves'!DZ59","v":1.2540191327480719},66.468900508001298,334.18668675293617,5.7664451704165351,3.7665848224262E-3,null,null,2034,154.01938975176654,0,30.789054705478762,{"$f":"INDEX('Floor Space'!$I$5:$DK$54,MATCH('Pre-Rinse Spray Valves'!ED59,'Floor Space'!$I$5:$I$54,0),MATCH('Pre-Rinse Spray Valves'!ED$10,'Floor Space'!$I$5:$DK$5,0))*'Pre-Rinse Spray Valves'!EK59","v":1.1281523518106455},31.917207057289406,155.14754210357719,5.7664451704165351,7.3247423822992985E-3,null,null,2034,354.97756343452176,0,68.769694867647161,{"$f":"INDEX('Floor Space'!$I$5:$DK$54,MATCH('Pre-Rinse Spray Valves'!EO59,'Floor Space'!$I$5:$I$54,0),MATCH('Pre-Rinse Spray Valves'!EO$10,'Floor Space'!$I$5:$DK$5,0))*'Pre-Rinse Spray Valves'!EV59","v":3.1700005750859512},71.939695442733111,358.14756400960772,5.7664451704165351,8.9301434840420857E-3,null,null,2034,1050.3981731671245,0,209.58629429695213,{"$f":"INDEX('Floor Space'!$I$5:$DK$54,MATCH('Pre-Rinse Spray Valves'!EZ59,'Floor Space'!$I$5:$I$54,0),MATCH('Pre-Rinse Spray Valves'!EZ$10,'Floor Space'!$I$5:$DK$5,0))*'Pre-Rinse Spray Valves'!FG59","v":3.8952866380656839},213.4815809350178,1054.2934598051902,5.7664451704165351,3.7083905299652997E-3,null,null,2034,494.00174378488867,0,100.27439282197642,{"$f":"INDEX('Floor Space'!$I$5:$DK$54,MATCH('Pre-Rinse Spray Valves'!FK59,'Floor Space'!$I$5:$I$54,0),MATCH('Pre-Rinse Spray Valves'!FK$10,'Floor Space'!$I$5:$DK$5,0))*'Pre-Rinse Spray Valves'!FR59","v":3.6926432049517102},103.96703602692813,497.69438698984038,5.7664451704165351,7.4749598587644517E-3,null,null,2034,1229.4800282678937,0,242.82701315609381,{"$f":"INDEX('Floor Space'!$I$5:$DK$54,MATCH('Pre-Rinse Spray Valves'!FV59,'Floor Space'!$I$5:$I$54,0),MATCH('Pre-Rinse Spray Valves'!FV$10,'Floor Space'!$I$5:$DK$5,0))*'Pre-Rinse Spray Valves'!GC59","v":13.890114240640223},256.71712739673404,1243.3701425085339,5.7664451704165351,1.1297551746496381E-2,null,null,2034,1719.6414859015795,0,342.7500285447644,{"$f":"INDEX('Floor Space'!$I$5:$DK$54,MATCH('Pre-Rinse Spray Valves'!GG59,'Floor Space'!$I$5:$I$54,0),MATCH('Pre-Rinse Spray Valves'!GG$10,'Floor Space'!$I$5:$DK$5,0))*'Pre-Rinse Spray Valves'!GN59","v":21.017205540479871},363.7672340852443,1740.6586914420593,5.7664451704165351,1.2221853050643716E-2,null,null,2034,2769.5305619744599,0,563.72873480684041,{"$f":"INDEX('Floor Space'!$I$5:$DK$54,MATCH('Pre-Rinse Spray Valves'!GR59,'Floor Space'!$I$5:$I$54,0),MATCH('Pre-Rinse Spray Valves'!GR$10,'Floor Space'!$I$5:$DK$5,0))*'Pre-Rinse Spray Valves'!GY59","v":13.746807805892022},577.4755426127324,2783.2773697803518,5.7664451704165351,4.9635876905043119E-3]

{"sheet":"ACIM","index":8,"n_rows":59,"n_cols":209,"rows_kept":59,"cut":false,"hidden":false,"merged":[[7,202,7,208],[7,169,7,175],[7,177,7,178],[7,180,7,186],[7,188,7,189],[7,191,7,197],[7,199,7,200],[7,136,7,142],[7,144,7,145],[7,147,7,153],[7,155,7,156],[7,158,7,164],[7,166,7,167],[7,103,7,109],[7,111,7,112],[7,114,7,120],[7,122,7,123],[7,125,7,131],[7,133,7,134],[7,70,7,76],[7,78,7,79],[7,81,7,87],[7,89,7,90],[7,92,7,98],[7,100,7,101],[7,37,7,43],[7,45,7,46],[7,48,7,54],[7,56,7,57],[7,59,7,65],[7,67,7,68],[6,199,6,200],[6,202,6,203],[6,205,6,208],[6,183,6,186],[6,188,6,189],[6,191,6,192],[6,194,6,197],[6,122,6,123],[6,125,6,126],[6,128,6,131],[6,89,6,90],[6,92,6,93],[6,95,6,98],[6,100,6,101],[6,103,6,104],[6,106,6,109],[6,67,6,68],[6,70,6,71],[7,1,7,2],[7,4,7,10],[7,12,7,13],[7,15,7,21],[7,23,7,24],[7,26,7,32],[7,34,7,35],[6,177,6,178],[6,180,6,181],[6,155,6,156],[6,158,6,159],[6,161,6,164],[6,166,6,167],[6,169,6,170],[6,172,6,175],[6,133,6,134],[6,136,6,137],[6,139,6,142],[6,144,6,145],[6,147,6,148],[6,150,6,153],[6,111,6,112],[6,114,6,115],[6,117,6,120],[6,73,6,76],[6,78,6,79],[6,81,6,82],[6,84,6,87],[6,45,6,46],[6,48,6,49],[6,51,6,54],[6,56,6,57],[6,59,6,60],[6,62,6,65],[6,23,6,24],[6,26,6,27],[6,29,6,32],[6,34,6,35],[6,37,6,38],[6,40,6,43],[6,1,6,2],[6,4,6,5],[6,7,6,10],[6,12,6,13],[6,15,6,16],[6,18,6,21],[5,188,5,189],[5,191,5,192],[5,194,5,197],[5,199,5,200],[5,202,5,203],[5,205,5,208],[5,166,5,167],[5,169,5,170],[5,172,5,175],[5,177,5,178],[5,180,5,181],[5,183,5,186],[5,144,5,145],[5,147,5,148],[5,150,5,153],[5,155,5,156],[5,158,5,159],[5,161,5,164],[5,122,5,123],[5,125,5,126],[5,128,5,131],[5,133,5,134],[5,136,5,137],[5,139,5,142],[5,100,5,101],[5,103,5,104],[5,106,5,109],[5,111,5,112],[5,114,5,115],[5,117,5,120],[5,78,5,79],[5,81,5,82],[5,84,5,87],[5,89,5,90],[5,92,5,93],[5,95,5,98],[5,56,5,57],[5,59,5,60],[5,62,5,65],[5,67,5,68],[5,70,5,71],[5,73,5,76],[5,34,5,35],[5,37,5,38],[5,40,5,43],[5,45,5,46],[5,48,5,49],[5,51,5,54],[4,205,4,208],[5,1,5,2],[5,4,5,5],[5,7,5,10],[5,12,5,13],[5,15,5,16],[5,18,5,21],[5,23,5,24],[5,26,5,27],[5,29,5,32],[4,183,4,186],[4,188,4,189],[4,191,4,192],[4,194,4,197],[4,199,4,200],[4,202,4,203],[4,161,4,164],[4,166,4,167],[4,169,4,170],[4,172,4,175],[4,177,4,178],[4,180,4,181],[4,139,4,142],[4,144,4,145],[4,147,4,148],[4,150,4,153],[4,155,4,156],[4,158,4,159],[4,117,4,120],[4,122,4,123],[4,125,4,126],[4,128,4,131],[4,133,4,134],[4,136,4,137],[4,95,4,98],[4,100,4,101],[4,103,4,104],[4,106,4,109],[4,111,4,112],[4,114,4,115],[4,73,4,76],[4,78,4,79],[4,81,4,82],[4,84,4,87],[4,89,4,90],[4,92,4,93],[4,51,4,54],[4,56,4,57],[4,59,4,60],[4,62,4,65],[4,67,4,68],[4,70,4,71],[4,29,4,32],[4,34,4,35],[4,37,4,38],[4,40,4,43],[4,45,4,46],[4,48,4,49],[3,199,3,201],[3,202,3,208],[4,1,4,2],[4,4,4,5],[4,7,4,10],[4,12,4,13],[4,15,4,16],[4,18,4,21],[4,23,4,24],[4,26,4,27],[3,166,3,168],[3,169,3,175],[3,177,3,179],[3,180,3,186],[3,188,3,190],[3,191,3,197],[3,133,3,135],[3,136,3,142],[3,144,3,146],[3,147,3,153],[3,155,3,157],[3,158,3,164],[3,100,3,102],[3,103,3,109],[3,111,3,113],[3,114,3,120],[3,122,3,124],[3,125,3,131],[3,67,3,69],[3,70,3,76],[3,78,3,80],[3,81,3,87],[3,89,3,91],[3,92,3,98],[3,34,3,36],[3,37,3,43],[3,45,3,47],[3,48,3,54],[3,56,3,58],[3,59,3,65],[3,1,3,3],[3,4,3,10],[3,12,3,14],[3,15,3,21],[3,23,3,25],[3,26,3,32]]}
["ACIM"]
[]
[null,"Total is mainly for QC purposes at this point. ",null,null,null,null,null,null,null,null,null,null,"Building type level starts here. "]
[null,"Assumptions",null,null,"Calibration",null,null,null,null,null,null,null,"Assumptions",null,null,"Calibration",null,null,null,null,null,null,null,"Assumptions",null,null,"Calibration",null,null,null,null,null,null,null,"Assumptions",null,null,"Calibration",null,null,null,null,null,null,null,"Assumptions",null,null,"Calibration",null,null,null,null,null,null,null,"Assumptions",null,null,"Calibration",null,null,null,null,null,null,null,"Assumptions",null,null,"Calibration",null,null,null,null,null,null,null,"Assumptions",null,null,"Calibration",null,null,null,null,null,null,null,"Assumptions",null,null,"Calibration",null,null,null,null,null,null,null,"Assumptions",null,null,"Calibration",null,null,null,null,null,null,null,"Assumptions",null,null,"Calibration",null,null,null,null,null,null,null,"Assumptions",null,null,"Calibration",null,null,null,null,null,null,null,"Assumptions",null,null,"Calibration",null,null,null,null,null,null,null,"Assumptions",null,null,"Calibration",null,null,null,null,null,null,null,"Assumptions",null,null,"Calibration",null,null,null,null,null,null,null,"Assumptions",null,null,"Calibration",null,null,null,null,null,null,null,"Assumptions",null,null,"Calibration",null,null,null,null,null,null,null,"Assumptions",null,null,"Calibration",null,null,null,null,null,null,null,"Assumptions",null,null,"Calibration"]
[null,"Lifetime",null,{"$f":"INDEX('Saturation and Lifetime'!$B$37:$U$48,MATCH(ACIM!$A$1,'Saturation and Lifetime'!$B$37:$B$48,0),MATCH(ACIM!B10,'Saturation and Lifetime'!$B$37:$U$37,0))","v":8.5},"Check value:",null,{"$f":"SUM(OFFSET(G36,-D$6,0):G35)","v":54210.328910527707},"Sum of last \"lifetime\" years of shipments",null,null,null,null,"Lifetime",null,{"$f":"INDEX('Saturation and Lifetime'!$B$37:$T$48,MATCH(ACIM!$A$1,'Saturation and Lifetime'!$B$37:$B$48,0),MATCH(ACIM!M10,'Saturation and Lifetime'!$B$37:$T$37,0))","v":8.5},"Set cell:",null,{"$f":"SUM(OFFSET(R36,-O$6,0):R35)","v":4834.1238192418705},"Sum of last \"lifetime\" years of shipments",null,null,null,null,"Lifetime",null,{"$f":"INDEX('Saturation and Lifetime'!$B$37:$T$48,MATCH(ACIM!$A$1,'Saturation and Lifetime'!$B$37:$B$48,0),MATCH(ACIM!X10,'Saturation and Lifetime'!$B$37:$T$37,0))","v":8.5},"Set cell:",null,{"$f":"SUM(OFFSET(AC36,-Z$6,0):AC35)","v":2177.9708765750306},"Sum of last \"lifetime\" years of shipments",null,null,null,null,"Lifetime",null,{"$f":"INDEX('Saturation and Lifetime'!$B$37:$T$48,MATCH(ACIM!$A$1,'Saturation and Lifetime'!$B$37:$B$48,0),MATCH(ACIM!AI10,'Saturation and Lifetime'!$B$37:$T$37,0))","v":8.5},"Set cell:",null,{"$f":"SUM(OFFSET(AN36,-AK$6,0):AN35)","v":2555.5676879513444},"Sum of last \"lifetime\" years of shipments",null,null,null,null,"Lifetime",null,{"$f":"INDEX('Saturation and Lifetime'!$B$37:$T$48,MATCH(ACIM!$A$1,'Saturation and Lifetime'!$B$37:$B$48,0),MATCH(ACIM!AT10,'Saturation and Lifetime'!$B$37:$T$37,0))","v":8.5},"Set cell:",null,{"$f":"SUM(OFFSET(AY36,-AV$6,0):AY35)","v":2292.1871022237929},"Sum of last \"lifetime\" years of shipments",null,null,null,null,"Lifetime",null,{"$f":"INDEX('Saturation and Lifetime'!$B$37:$T$48,MATCH(ACIM!$A$1,'Saturation and Lifetime'!$B$37:$B$48,0),MATCH(ACIM!BE10,'Saturation and Lifetime'!$B$37:$T$37,0))","v":8.5},"Set cell:",null,{"$f":"SUM(OFFSET(BJ36,-BG$6,0):BJ35)","v":4304.8411330754288},"Sum of last \"lifetime\" years of shipments",null,null,null,null,"Lifetime",null,{"$f":"INDEX('Saturation and Lifetime'!$B$37:$T$48,MATCH(ACIM!$A$1,'Saturation and Lifetime'!$B$37:$B$48,0),MATCH(ACIM!BP10,'Saturation and Lifetime'!$B$37:$T$37,0))","v":8.5},"Set cell:",null,{"$f":"SUM(OFFSET(BU36,-BR$6,0):BU35)","v":1076.2102832688572},"Sum of last \"lifetime\" years of shipments",null,null,null,null,"Lifetime",null,{"$f":"INDEX('Saturation and Lifetime'!$B$37:$T$48,MATCH(ACIM!$A$1,'Saturation and Lifetime'!$B$37:$B$48,0),MATCH(ACIM!CA10,'Saturation and Lifetime'!$B$37:$T$37,0))","v":8.5},"Set cell:",null,{"$f":"SUM(OFFSET(CF36,-CC$6,0):CF35)","v":2077.8582767254698},"Sum of last \"lifetime\" years of shipments",null,null,null,null,"Lifetime",null,{"$f":"INDEX('Saturation and Lifetime'!$B$37:$T$48,MATCH(ACIM!$A$1,'Saturation and Lifetime'!$B$37:$B$48,0),MATCH(ACIM!CL10,'Saturation and Lifetime'!$B$37:$T$37,0))","v":8.5},"Set cell:",null,{"$f":"SUM(OFFSET(CQ36,-CN$6,0):CQ35)","v":4636.1800086632138},"Sum of last \"lifetime\" years of shipments",null,null,null,null,"Lifetime",null,{"$f":"INDEX('Saturation and Lifetime'!$B$37:$T$48,MATCH(ACIM!$A$1,'Saturation and Lifetime'!$B$37:$B$48,0),MATCH(ACIM!CW10,'Saturation and Lifetime'!$B$37:$T$37,0))","v":8.5},"Set cell:",null,{"$f":"SUM(OFFSET(DB36,-CY$6,0):DB35)","v":2303.3943575439189},"Sum of last \"lifetime\" years of shipments",null,null,null,null,"Lifetime",null,{"$f":"INDEX('Saturation and Lifetime'!$B$37:$T$48,MATCH(ACIM!$A$1,'Saturation and Lifetime'!$B$37:$B$48,0),MATCH(ACIM!DH10,'Saturation and Lifetime'!$B$37:$T$37,0))","v":8.5},"Set cell:",null,{"$f":"SUM(OFFSET(DM36,-DJ$6,0):DM35)","v":6713.2709223301172},"Sum of last \"lifetime\" years of shipments",null,null,null,null,"Lifetime",null,{"$f":"INDEX('Saturation and Lifetime'!$B$37:$T$48,MATCH(ACIM!$A$1,'Saturation and Lifetime'!$B$37:$B$48,0),MATCH(ACIM!DS10,'Saturation and Lifetime'!$B$37:$T$37,0))","v":8.5},"Set cell:",null,{"$f":"SUM(OFFSET(DX36,-DU$6,0):DX35)","v":965.27779889629915},"Sum of last \"lifetime\" years of shipments",null,null,null,null,"Lifetime",null,{"$f":"INDEX('Saturation and Lifetime'!$B$37:$T$48,MATCH(ACIM!$A$1,'Saturation and Lifetime'!$B$37:$B$48,0),MATCH(ACIM!ED10,'Saturation and Lifetime'!$B$37:$T$37,0))","v":8.5},"Set cell:",null,{"$f":"SUM(OFFSET(EI36,-EF$6,0):EI35)","v":397.92581167124752},"Sum of last \"lifetime\" years of shipments",null,null,null,null,"Lifetime",null,{"$f":"INDEX('Saturation and Lifetime'!$B$37:$T$48,MATCH(ACIM!$A$1,'Saturation and Lifetime'!$B$37:$B$48,0),MATCH(ACIM!EO10,'Saturation and Lifetime'!$B$37:$T$37,0))","v":8.5},"Set cell:",null,{"$f":"SUM(OFFSET(ET36,-EQ$6,0):ET35)","v":900.89651663038421},"Sum of last \"lifetime\" years of shipments",null,null,null,null,"Lifetime",null,{"$f":"INDEX('Saturation and Lifetime'!$B$37:$T$48,MATCH(ACIM!$A$1,'Saturation and Lifetime'!$B$37:$B$48,0),MATCH(ACIM!EZ10,'Saturation and Lifetime'!$B$37:$T$37,0))","v":8.5},"Set cell:",null,{"$f":"SUM(OFFSET(FE36,-FB$6,0):FE35)","v":2921.4123689213147},"Sum of last \"lifetime\" years of shipments",null,null,null,null,"Lifetime",null,{"$f":"INDEX('Saturation and Lifetime'!$B$37:$T$48,MATCH(ACIM!$A$1,'Saturation and Lifetime'!$B$37:$B$48,0),MATCH(ACIM!FK10,'Saturation and Lifetime'!$B$37:$T$37,0))","v":8.5},"Set cell:",null,{"$f":"SUM(OFFSET(FP36,-FM$6,0):FP35)","v":1273.992027228787},"Sum of last \"lifetime\" years of shipments",null,null,null,null,"Lifetime",null,{"$f":"INDEX('Saturation and Lifetime'!$B$37:$T$48,MATCH(ACIM!$A$1,'Saturation and Lifetime'!$B$37:$B$48,0),MATCH(ACIM!FV10,'Saturation and Lifetime'!$B$37:$T$37,0))","v":8.5},"Set cell:",null,{"$f":"SUM(OFFSET(GA36,-FX$6,0):GA35)","v":2745.7871170753851},"Sum of last \"lifetime\" years of shipments",null,null,null,null,"Lifetime",null,{"$f":"INDEX('Saturation and Lifetime'!$B$37:$T$48,MATCH(ACIM!$A$1,'Saturation and Lifetime'!$B$37:$B$48,0),MATCH(ACIM!GG10,'Saturation and Lifetime'!$B$37:$T$37,0))","v":8.5},"Set cell:",null,{"$f":"SUM(OFFSET(GL36,-GI$6,0):GL35)","v":4056.6626428874256},"Sum of last \"lifetime\" years of shipments",null,null,null,null,"Lifetime",null,{"$f":"INDEX('Saturation and Lifetime'!$B$37:$T$48,MATCH(ACIM!$A$1,'Saturation and Lifetime'!$B$37:$B$48,0),MATCH(ACIM!GR10,'Saturation and Lifetime'!$B$37:$T$37,0))","v":8.5},"Set cell:",null,{"$f":"SUM(OFFSET(GW36,-GT$6,0):GW35)","v":7976.7701596178113},"Sum of last \"lifetime\" years of shipments"]
[null,"Rounded Life",null,{"$f":"ROUND(D5,0)","v":9},"Equal to value: ",null,{"$f":"H35","v":52964},"2011 beginning stock",null,null,null,null,"Rounded Life",null,{"$f":"ROUND(O5,0)","v":9},"To value: ",null,{"$f":"S35","v":4834.1274926334736},"2011 beginning stock",null,null,null,null,"Rounded Life",null,{"$f":"ROUND(Z5,0)","v":9},"To value: ",null,{"$f":"AD35","v":2177.9725315884789},"2011 beginning stock",null,null,null,null,"Rounded Life",null,{"$f":"ROUND(AK5,0)","v":9},"To value: ",null,{"$f":"AO35","v":2555.5696298959942},"2011 beginning stock",null,null,null,null,"Rounded Life",null,{"$f":"ROUND(AV5,0)","v":9},"To value: ",null,{"$f":"AZ35","v":2284.5514536939377},"2011 beginning stock",null,null,null,null,"Rounded Life",null,{"$f":"ROUND(BG5,0)","v":9},"To value: ",null,{"$f":"BK35","v":4219.5284541906449},"2011 beginning stock",null,null,null,null,"Rounded Life",null,{"$f":"ROUND(BR5,0)","v":9},"To value: ",null,{"$f":"BV35","v":1054.8821135476612},"2011 beginning stock",null,null,null,null,"Rounded Life",null,{"$f":"ROUND(CC5,0)","v":9},"To value: ",null,{"$f":"CG35","v":2036.6796012644011},"2011 beginning stock",null,null,null,null,"Rounded Life",null,{"$f":"ROUND(CN5,0)","v":9},"To value: ",null,{"$f":"CR35","v":4459.1320168527272},"2011 beginning stock",null,null,null,null,"Rounded Life",null,{"$f":"ROUND(CY5,0)","v":9},"To value: ",null,{"$f":"DC35","v":2216.7902189087654},"2011 beginning stock",null,null,null,null,"Rounded Life",null,{"$f":"ROUND(DJ5,0)","v":9},"To value: ",null,{"$f":"DN35","v":6529.8710098653128},"2011 beginning stock",null,null,null,null,"Rounded Life",null,{"$f":"ROUND(DU5,0)","v":9},"To value: ",null,{"$f":"DY35","v":940.15998569099202},"2011 beginning stock",null,null,null,null,"Rounded Life",null,{"$f":"ROUND(EF5,0)","v":9},"To value: ",null,{"$f":"EJ35","v":388.48890124802944},"2011 beginning stock",null,null,null,null,"Rounded Life",null,{"$f":"ROUND(EQ5,0)","v":9},"To value: ",null,{"$f":"EU35","v":852.02907250823569},"2011 beginning stock",null,null,null,null,"Rounded Life",null,{"$f":"ROUND(FB5,0)","v":9},"To value: ",null,{"$f":"FF35","v":2886.8032565340554},"2011 beginning stock",null,null,null,null,"Rounded Life",null,{"$f":"ROUND(FM5,0)","v":9},"To value: ",null,{"$f":"FQ35","v":1222.7849697724505},"2011 beginning stock",null,null,null,null,"Rounded Life",null,{"$f":"ROUND(FX5,0)","v":9},"To value: ",null,{"$f":"GB35","v":2638.393035723584},"2011 beginning stock",null,null,null,null,"Rounded Life",null,{"$f":"ROUND(GI5,0)","v":9},"To value: ",null,{"$f":"GM35","v":3913.5275066310137},"2011 beginning stock",null,null,null,null,"Rounded Life",null,{"$f":"ROUND(GT5,0)","v":9},"To value: ",null,{"$f":"GX35","v":7752.7087494502448},"2011 beginning stock"]
[null,"Avg Stock Growth",null,{"$f":"AVERAGE(OFFSET(J36,-D$6,0):J35)","v":2.0002195786042194E-2},null,null,null,"Lifetime stock factor",null,null,null,null,"Avg Stock Growth",null,{"$f":"AVERAGE(OFFSET(U36,-O$6,0):U35)","v":1.7168226257465304E-2},"By changing: ",null,0.93246174520710479,"Lifetime stock factor",null,null,null,null,"Avg Stock Growth",null,{"$f":"AVERAGE(OFFSET(AF36,-Z$6,0):AF35)","v":1.7168226257465256E-2},"By changing: ",null,0.93246174520710479,"Lifetime stock factor",null,null,null,null,"Avg Stock Growth",null,{"$f":"AVERAGE(OFFSET(AQ36,-AK$6,0):AQ35)","v":1.7168226257465304E-2},"By changing: ",null,0.93246174520710479,"Lifetime stock factor",null,null,null,null,"Avg Stock Growth",null,{"$f":"AVERAGE(OFFSET(BB36,-AV$6,0):BB35)","v":1.8131874509370149E-2},"By changing: ",null,0.93246174520710479,"Lifetime stock factor",null,null,null,null,"Avg Stock Growth",null,{"$f":"AVERAGE(OFFSET(BM36,-BG$6,0):BM35)","v":1.8131874509370149E-2},"By changing: ",null,0.95411053470495244,"Lifetime stock factor",null,null,null,null,"Avg Stock Growth",null,{"$f":"AVERAGE(OFFSET(BX36,-BR$6,0):BX35)","v":1.8131874509370149E-2},"By changing: ",null,0.95411053470495244,"Lifetime stock factor",null,null,null,null,"Avg Stock Growth",null,{"$f":"AVERAGE(OFFSET(CI36,-CC$6,0):CI35)","v":1.8131874509370174E-2},"By changing: ",null,0.95411053470495244,"Lifetime stock factor",null,null,null,null,"Avg Stock Growth",null,{"$f":"AVERAGE(OFFSET(CT36,-CN$6,0):CT35)","v":2.1978574599003271E-2},"By changing: ",null,0.95489072994762481,"Lifetime stock factor",null,null,null,null,"Avg Stock Growth",null,{"$f":"AVERAGE(OFFSET(DE36,-CY$6,0):DE35)","v":1.9288457275724171E-2},"By changing: ",null,0.96313779293237567,"Lifetime stock factor",null,null,null,null,"Avg Stock Growth",null,{"$f":"AVERAGE(OFFSET(DP36,-DJ$6,0):DP35)","v":2.4280700634538813E-2},"By changing: ",null,0.94810359442894254,"Lifetime stock factor",null,null,null,null,"Avg Stock Growth",null,{"$f":"AVERAGE(OFFSET(EA36,-DU$6,0):EA35)","v":6.3618422755317271E-3},"By changing: ",null,0.99594727835159169,"Lifetime stock factor",null,null,null,null,"Avg Stock Growth",null,{"$f":"AVERAGE(OFFSET(EL36,-EF$6,0):EL35)","v":8.6969969935190641E-3},"By changing: ",null,0.98631637134054639,"Lifetime stock factor",null,null,null,null,"Avg Stock Growth",null,{"$f":"AVERAGE(OFFSET(EW36,-EQ$6,0):EW35)","v":1.5552065852158355E-2},"By changing: ",null,0.98881124100412654,"Lifetime stock factor",null,null,null,null,"Avg Stock Growth",null,{"$f":"AVERAGE(OFFSET(FH36,-FB$6,0):FH35)","v":1.4036717299302583E-2},"By changing: ",null,0.96265211321235833,"Lifetime stock factor",null,null,null,null,"Avg Stock Growth",null,{"$f":"AVERAGE(OFFSET(FS36,-FM$6,0):FS35)","v":2.3823671450500856E-2},"By changing: ",null,0.9596719112182035,"Lifetime stock factor",null,null,null,null,"Avg Stock Growth",null,{"$f":"AVERAGE(OFFSET(GD36,-FX$6,0):GD35)","v":2.4510683859050284E-2},"By changing: ",null,0.95269265414719051,"Lifetime stock factor",null,null,null,null,"Avg Stock Growth",null,{"$f":"AVERAGE(OFFSET(GO36,-GI$6,0):GO35)","v":2.2646064131046442E-2},"By changing: ",null,0.95924036768054055,"Lifetime stock factor",null,null,null,null,"Avg Stock Growth",null,{"$f":"AVERAGE(OFFSET(GZ36,-GT$6,0):GZ35)","v":2.3301016404805308E-2},"By changing: ",null,0.94350906088400455,"Lifetime stock factor"]
[null,"Shipment to Stock Saturation Factor",null,1,"This factor does not change anything if 1987 saturation = 2010 saturation",null,null,null,null,null,null,null,"Shipment to Stock Saturation Factor",null,1,"This factor does not change anything if 1987 saturation = 2010 saturation",null,null,null,null,null,null,null,"Shipment to Stock Saturation Factor",null,1,"This factor does not change anything if 1987 saturation = 2010 saturation",null,null,null,null,null,null,null,"Shipment to Stock Saturation Factor",null,1,"This factor does not change anything if 1987 saturation = 2010 saturation",null,null,null,null,null,null,null,"Shipment to Stock Saturation Factor",null,1,"This factor does not change anything if 1987 saturation = 2010 saturation",null,null,null,null,null,null,null,"Shipment to Stock Saturation Factor",null,1,"This factor does not change anything if 1987 saturation = 2010 saturation",null,null,null,null,null,null,null,"Shipment to Stock Saturation Factor",null,1,"This factor does not change anything if 1987 saturation = 2010 saturation",null,null,null,null,null,null,null,"Shipment to Stock Saturation Factor",null,1,"This factor does not change anything if 1987 saturation = 2010 saturation",null,null,null,null,null,null,null,"Shipment to Stock Saturation Factor",null,1,"This factor does not change anything if 1987 saturation = 2010 saturation",null,null,null,null,null,null,null,"Shipment to Stock Saturation Factor",null,1,"This factor does not change anything if 1987 saturation = 2010 saturation",null,null,null,null,null,null,null,"Shipment to Stock Saturation Factor",null,1,"This factor does not change anything if 1987 saturation = 2010 saturation",null,null,null,null,null,null,null,"Shipment to Stock Saturation Factor",null,1,"This factor does not change anything if 1987 saturation = 2010 saturation",null,null,null,null,null,null,null,"Shipment to Stock Saturation Factor",null,1,"This factor does not change anything if 1987 saturation = 2010 saturation",null,null,null,null,null,null,null,"Shipment to Stock Saturation Factor",null,1,"This factor does not change anything if 1987 saturation = 2010 saturation",null,null,null,null,null,null,null,"Shipment to Stock Saturation Factor",null,1,"This factor does not change anything if 1987 saturation = 2010 saturation",null,null,null,null,null,null,null,"Shipment to Stock Saturation Factor",null,1,"This factor does not change anything if 1987 saturation = 2010 saturation",null,null,null,null,null,null,null,"Shipment to Stock Saturation Factor",null,1,"This factor does not change anything if 1987 saturation = 2010 saturation",null,null,null,null,null,null,null,"Shipment to Stock Saturation Factor",null,1,"This factor does not change anything if 1987 saturation = 2010 saturation",null,null,null,null,null,null,null,"Shipment to Stock Saturation Factor",null,1,"This factor does not change anything if 1987 saturation = 2010 saturation"]
[]
[null,"TOTAL",null,null,null,null,null,null,null,null,null,null,"Large Off",null,null,null,null,null,null,null,null,null,null,"Medium Off",null,null,null,null,null,null,null,null,null,null,"Small Off",null,null,null,null,null,null,null,null,null,null,"Big Box",null,null,null,null,null,null,null,null,null,null,"Small Box",null,null,null,null,null,null,null,null,null,null,"High End",null,null,null,null,null,null,null,null,null,null,"Anchor",null,null,null,null,null,null,null,null,null,null,"K-12",null,null,null,null,null,null,null,null,null,null,"University",null,null,null,null,null,null,null,null,null,null,"Warehouse",null,null,null,null,null,null,null,null,null,null,"Supermarket",null,null,null,null,null,null,null,null,null,null,"MiniMart",null,null,null,null,null,null,null,null,null,null,"Restaurant",null,null,null,null,null,null,null,null,null,null,"Lodging",null,null,null,null,null,null,null,null,null,null,"Hospital",null,null,null,null,null,null,null,null,null,null,"OtherHealth",null,null,null,null,null,null,null,null,null,null,"Assembly",null,null,null,null,null,null,null,null,null,null,"Other"]
[null,null,"Beginning Stock ","Demolitions","Replacement Units","New Units","Total Shipments","End of Year Stock ","Density","Stock Growth","Stock Saturation",null,null,"Beginning Stock","Demolitions","Replacement Units","New Units","Total Shipments","End of Year Stock","Density","Stock Growth","Stock Saturation",null,null,"Beginning Stock ","Demolitions","Replacement Units","New Units","Total Shipments ","End of Year Stock ","Density","Stock Growth","Stock Saturation",null,null,"Beginning Stock ","Demolitions","Replacement Units","New Units","Total Shipments ","End of Year Stock ","Density","Stock Growth","Stock Saturation",null,null,"Beginning Stock ","Demolitions","Replacement Units","New Units","Total Shipments ","End of Year Stock ","Density","Stock Growth","Stock Saturation",null,null,"Beginning Stock ","Demolitions","Replacement Units","New Units","Total Shipments ","End of Year Stock ","Density","Stock Growth","Stock Saturation",null,null,"Beginning Stock ","Demolitions","Replacement Units","New Units","Total Shipments ","End of Year Stock ","Density","Stock Growth","Stock Saturation",null,null,"Beginning Stock ","Demolitions","Replacement Units","New Units","Total Shipments ","End of Year Stock ","Density","Stock Growth","Stock Saturation",null,null,"Beginning Stock ","Demolitions","Replacement Units","New Units","Total Shipments ","End of Year Stock ","Density","Stock Growth","Stock Saturation",null,null,"Beginning Stock ","Demolitions","Replacement Units","New Units","Total Shipments ","End of Year Stock ","Density","Stock Growth","Stock Saturation",null,null,"Beginning Stock ","Demolitions","Replacement Units","New Units","Total Shipments ","End of Year Stock ","Density","Stock Growth","Stock Saturation",null,null,"Beginning Stock ","Demolitions","Replacement Units","New Units","Total Shipments ","End of Year Stock ","Density","Stock Growth","Stock Saturation",null,null,"Beginning Stock ","Demolitions","Replacement Units","New Units","Total Shipments ","End of Year Stock ","Density","Stock Growth","Stock Saturation",null,null,"Beginning Stock ","Demolitions","Replacement Units","New Units","Total Shipments ","End of Year Stock ","Density","Stock Growth","Stock Saturation",null,null,"Beginning Stock ","Demolitions","Replacement Units","New Units","Total Shipments ","End of Year Stock ","Density","Stock Growth","Stock Saturation",null,null,"Beginning Stock ","Demolitions","Replacement Units","New Units","Total Shipments ","End of Year Stock ","Density","Stock Growth","Stock Saturation",null,null,"Beginning Stock ","Demolitions","Replacement Units","New Units","Total Shipments ","End of Year Stock ","Density","Stock Growth","Stock Saturation",null,null,"Beginning Stock ","Demolitions","Replacement Units","New Units","Total Shipments ","End of Year Stock ","Density","Stock Growth","Stock Saturation",null,null,"Beginning Stock ","Demolitions","Replacement Units","New Units","Total Shipments ","End of Year Stock ","Density","Stock Growth","Stock Saturation"]
[null,1987,null,null,null,null,null,{"$f":"SUM(S12,AD12,AO12,AZ12,BK12,BV12,CG12,CR12,DC12,DN12,DY12,EJ12,EU12,FF12,FQ12,GB12,GM12,GX12)","v":31709.409133509216},{"$f":"(K36-K12)/D$8+K12","v":17.965529529761259},null,{"$f":"INDEX('Saturation and Lifetime'!$B$7:$U$18,MATCH($A$1,'Saturation and Lifetime'!$B$7:$B$18,0),MATCH('Pre-Rinse Spray Valves'!B10,'Saturation and Lifetime'!$B$7:$U$7,0))","v":17.965529529761259},null,1987,null,null,null,null,null,{"$f":"V36*HLOOKUP(M10,'Saturation and Lifetime'!$C$58:$T$59,2,FALSE)-SUM(Q13:Q35)","v":3056.9390563172528},{"$f":"(V36-V12)/O$8+V12","v":17.965529529761259},null,{"$f":"INDEX('Saturation and Lifetime'!$B$7:$U$18,MATCH($A$1,'Saturation and Lifetime'!$B$7:$B$18,0),MATCH('Pre-Rinse Spray Valves'!M10,'Saturation and Lifetime'!$B$7:$U$7,0))","v":17.965529529761259},null,1987,null,null,null,null,null,{"$f":"AG36*HLOOKUP(X10,'Saturation and Lifetime'!$C$58:$T$59,2,FALSE)-SUM(AB13:AB35)","v":1377.27631419418},{"$f":"(AG36-AG12)/Z$8+AG12","v":17.965529529761259},null,{"$f":"INDEX('Saturation and Lifetime'!$B$7:$U$18,MATCH($A$1,'Saturation and Lifetime'!$B$7:$B$18,0),MATCH('Pre-Rinse Spray Valves'!X10,'Saturation and Lifetime'!$B$7:$U$7,0))","v":17.965529529761259},null,1987,null,null,null,null,null,{"$f":"AR36*HLOOKUP(AI10,'Saturation and Lifetime'!$C$58:$T$59,2,FALSE)-SUM(AM13:AM35)","v":1616.055973838508},{"$f":"(AR36-AR12)/AK$8+AR12","v":17.965529529761259},null,{"$f":"INDEX('Saturation and Lifetime'!$B$7:$U$18,MATCH($A$1,'Saturation and Lifetime'!$B$7:$B$18,0),MATCH('Pre-Rinse Spray Valves'!AI10,'Saturation and Lifetime'!$B$7:$U$7,0))","v":17.965529529761259},null,1987,null,null,null,null,null,{"$f":"BC36*HLOOKUP(AT10,'Saturation and Lifetime'!$C$58:$T$59,2,FALSE)-SUM(AX13:AX35)","v":1482.8519786418924},{"$f":"(BC36-BC12)/AV$8+BC12","v":17.965529529761259},null,{"$f":"INDEX('Saturation and Lifetime'!$B$7:$U$18,MATCH($A$1,'Saturation and Lifetime'!$B$7:$B$18,0),MATCH('Pre-Rinse Spray Valves'!AT10,'Saturation and Lifetime'!$B$7:$U$7,0))","v":17.965529529761259},null,1987,null,null,null,null,null,{"$f":"BN36*HLOOKUP(BE10,'Saturation and Lifetime'!$C$58:$T$59,2,FALSE)-SUM(BI13:BI35)","v":2738.8028871555489},{"$f":"(BN36-BN12)/BG$8+BN12","v":17.965529529761259},null,{"$f":"INDEX('Saturation and Lifetime'!$B$7:$U$18,MATCH($A$1,'Saturation and Lifetime'!$B$7:$B$18,0),MATCH('Pre-Rinse Spray Valves'!BE10,'Saturation and Lifetime'!$B$7:$U$7,0))","v":17.965529529761259},null,1987,null,null,null,null,null,{"$f":"BY36*HLOOKUP(BP10,'Saturation and Lifetime'!$C$58:$T$59,2,FALSE)-SUM(BT13:BT35)","v":684.70072178888722},{"$f":"(BY36-BY12)/BR$8+BY12","v":17.965529529761259},null,{"$f":"INDEX('Saturation and Lifetime'!$B$7:$U$18,MATCH($A$1,'Saturation and Lifetime'!$B$7:$B$18,0),MATCH('Pre-Rinse Spray Valves'!BP10,'Saturation and Lifetime'!$B$7:$U$7,0))","v":17.965529529761259},null,1987,null,null,null,null,null,{"$f":"CJ36*HLOOKUP(CA10,'Saturation and Lifetime'!$C$58:$T$59,2,FALSE)-SUM(CE13:CE35)","v":1321.9638243258851},{"$f":"(CJ36-CJ12)/CC$8+CJ12","v":17.965529529761259},null,{"$f":"INDEX('Saturation and Lifetime'!$B$7:$U$18,MATCH($A$1,'Saturation and Lifetime'!$B$7:$B$18,0),MATCH('Pre-Rinse Spray Valves'!CA10,'Saturation and Lifetime'!$B$7:$U$7,0))","v":17.965529529761259},null,1987,null,null,null,null,null,{"$f":"CU36*HLOOKUP(CL10,'Saturation and Lifetime'!$C$58:$T$59,2,FALSE)-SUM(CP13:CP35)","v":2700.609279032753},{"$f":"(CU36-CU12)/CN$8+CU12","v":17.965529529761259},null,{"$f":"INDEX('Saturation and Lifetime'!$B$7:$U$18,MATCH($A$1,'Saturation and Lifetime'!$B$7:$B$18,0),MATCH('Pre-Rinse Spray Valves'!CL10,'Saturation and Lifetime'!$B$7:$U$7,0))","v":17.965529529761259},null,1987,null,null,null,null,null,{"$f":"DF36*HLOOKUP(CW10,'Saturation and Lifetime'!$C$58:$T$59,2,FALSE)-SUM(DA13:DA35)","v":1368.8345054227198},{"$f":"(DF36-DF12)/CY$8+DF12","v":17.965529529761259},null,{"$f":"INDEX('Saturation and Lifetime'!$B$7:$U$18,MATCH($A$1,'Saturation and Lifetime'!$B$7:$B$18,0),MATCH('Pre-Rinse Spray Valves'!CW10,'Saturation and Lifetime'!$B$7:$U$7,0))","v":17.965529529761259},null,1987,null,null,null,null,null,{"$f":"DQ36*HLOOKUP(DH10,'Saturation and Lifetime'!$C$58:$T$59,2,FALSE)-SUM(DL13:DL35)","v":3198.0546051915585},{"$f":"(DQ36-DQ12)/DJ$8+DQ12","v":17.965529529761259},null,{"$f":"INDEX('Saturation and Lifetime'!$B$7:$U$18,MATCH($A$1,'Saturation and Lifetime'!$B$7:$B$18,0),MATCH('Pre-Rinse Spray Valves'!DH10,'Saturation and Lifetime'!$B$7:$U$7,0))","v":17.965529529761259},null,1987,null,null,null,null,null,{"$f":"EB36*HLOOKUP(DS10,'Saturation and Lifetime'!$C$58:$T$59,2,FALSE)-SUM(DW13:DW35)","v":647.49142835263933},{"$f":"(EB36-EB12)/DU$8+EB12","v":17.965529529761259},null,{"$f":"INDEX('Saturation and Lifetime'!$B$7:$U$18,MATCH($A$1,'Saturation and Lifetime'!$B$7:$B$18,0),MATCH('Pre-Rinse Spray Valves'!DS10,'Saturation and Lifetime'!$B$7:$U$7,0))","v":17.965529529761259},null,1987,null,null,null,null,null,{"$f":"EM36*HLOOKUP(ED10,'Saturation and Lifetime'!$C$58:$T$59,2,FALSE)-SUM(EH13:EH35)","v":262.01164489830865},{"$f":"(EM36-EM12)/EF$8+EM12","v":17.965529529761259},null,{"$f":"INDEX('Saturation and Lifetime'!$B$7:$U$18,MATCH($A$1,'Saturation and Lifetime'!$B$7:$B$18,0),MATCH('Pre-Rinse Spray Valves'!ED10,'Saturation and Lifetime'!$B$7:$U$7,0))","v":17.965529529761259},null,1987,null,null,null,null,null,{"$f":"EX36*HLOOKUP(EO10,'Saturation and Lifetime'!$C$58:$T$59,2,FALSE)-SUM(ES13:ES35)","v":620.5597511887629},{"$f":"(EX36-EX12)/EQ$8+EX12","v":17.965529529761259},null,{"$f":"INDEX('Saturation and Lifetime'!$B$7:$U$18,MATCH($A$1,'Saturation and Lifetime'!$B$7:$B$18,0),MATCH('Pre-Rinse Spray Valves'!EO10,'Saturation and Lifetime'!$B$7:$U$7,0))","v":17.965529529761259},null,1987,null,null,null,null,null,{"$f":"FI36*HLOOKUP(EZ10,'Saturation and Lifetime'!$C$58:$T$59,2,FALSE)-SUM(FD13:FD35)","v":1905.671535279504},{"$f":"(FI36-FI12)/FB$8+FI12","v":17.965529529761259},null,{"$f":"INDEX('Saturation and Lifetime'!$B$7:$U$18,MATCH($A$1,'Saturation and Lifetime'!$B$7:$B$18,0),MATCH('Pre-Rinse Spray Valves'!EZ10,'Saturation and Lifetime'!$B$7:$U$7,0))","v":17.965529529761259},null,1987,null,null,null,null,null,{"$f":"FT36*HLOOKUP(FK10,'Saturation and Lifetime'!$C$58:$T$59,2,FALSE)-SUM(FO13:FO35)","v":698.41862986730962},{"$f":"(FT36-FT12)/FM$8+FT12","v":17.965529529761259},null,{"$f":"INDEX('Saturation and Lifetime'!$B$7:$U$18,MATCH($A$1,'Saturation and Lifetime'!$B$7:$B$18,0),MATCH('Pre-Rinse Spray Valves'!FK10,'Saturation and Lifetime'!$B$7:$U$7,0))","v":17.965529529761259},null,1987,null,null,null,null,null,{"$f":"GE36*HLOOKUP(FV10,'Saturation and Lifetime'!$C$58:$T$59,2,FALSE)-SUM(FZ13:FZ35)","v":1523.2476024868663},{"$f":"(GE36-GE12)/FX$8+GE12","v":17.965529529761259},null,{"$f":"INDEX('Saturation and Lifetime'!$B$7:$U$18,MATCH($A$1,'Saturation and Lifetime'!$B$7:$B$18,0),MATCH('Pre-Rinse Spray Valves'!FV10,'Saturation and Lifetime'!$B$7:$U$7,0))","v":17.965529529761259},null,1987,null,null,null,null,null,{"$f":"GP36*HLOOKUP(GG10,'Saturation and Lifetime'!$C$58:$T$59,2,FALSE)-SUM(GK13:GK35)","v":2212.0125944790589},{"$f":"(GP36-GP12)/GI$8+GP12","v":17.965529529761259},null,{"$f":"INDEX('Saturation and Lifetime'!$B$7:$U$18,MATCH($A$1,'Saturation and Lifetime'!$B$7:$B$18,0),MATCH('Pre-Rinse Spray Valves'!GG10,'Saturation and Lifetime'!$B$7:$U$7,0))","v":17.965529529761259},null,1987,null,null,null,null,null,{"$f":"HA36*HLOOKUP(GR10,'Saturation and Lifetime'!$C$58:$T$59,2,FALSE)-SUM(GV13:GV35)","v":4293.906801047583},{"$f":"(HA36-HA12)/GT$8+HA12","v":17.965529529761259},null,{"$f":"INDEX('Saturation and Lifetime'!$B$7:$U$18,MATCH($A$1,'Saturation and Lifetime'!$B$7:$B$18,0),MATCH('Pre-Rinse Spray Valves'!GR10,'Saturation and Lifetime'!$B$7:$U$7,0))","v":17.965529529761259}]
[null,{"$f":"B12+1","v":1988},{"$f":"SUM(N13,Y13,AJ13,AU13,BF13,BQ13,CB13,CM13,CX13,DI13,DT13,EE13,EP13,FA13,FL13,FW13,GH13,GS13)","v":31709.409133509216},0,3331.3277972988067,651.2528151071906,3982.5806124059968,32360.661948616409,{"$f":"(K$36-I$12)/(B$36-B$12)*D$8+I12","v":17.965529529761259},{"$f":"H13/H12-1","v":2.0538156746004343E-2},null,null,{"$f":"M12+1","v":1988},{"$f":"S12","v":3056.9390563172528},0,{"$f":"((N13/((1+O$7)^O$6))/O$6*R$7)+(N13/((1+O$7)^O$6))*O$7","v":316.75907778369947},{"$f":"INDEX('Floor Space'!$I$5:$DK$54,MATCH(ACIM!M13,'Floor Space'!$I$5:$I$54,0),MATCH(ACIM!M$10,'Floor Space'!$I$5:$DK$5,0))*ACIM!T13","v":42.880080110167896},{"$f":"Q13+P13","v":359.63915789386738},{"$f":"N13+Q13-O13","v":3099.8191364274207},{"$f":"(V$36-T$12)/(M$36-M$12)*O$8+T12","v":17.965529529761259},{"$f":"S13/S12-1","v":1.4027129530618243E-2},null,null,{"$f":"X12+1","v":1988},{"$f":"AD12","v":1377.27631419418},0,{"$f":"((Y13/((1+Z$7)^Z$6))/Z$6*AC$7)+(Y13/((1+Z$7)^Z$6))*Z$7","v":142.71294491001618},{"$f":"INDEX('Floor Space'!$I$5:$DK$50,MATCH(ACIM!X13,'Floor Space'!$I$5:$I$50,0),MATCH(ACIM!X$10,'Floor Space'!$I$5:$DK$5,0))*ACIM!AE13","v":19.319233258654183},{"$f":"AB13+AA13","v":162.03217816867036},{"$f":"Y13+AB13-Z13","v":1396.5955474528341},{"$f":"(AG$36-AE$12)/(X$36-X$12)*Z$8+AE12","v":17.965529529761259},{"$f":"AD13/AD12-1","v":1.4027129530618243E-2},null,null,{"$f":"AI12+1","v":1988},{"$f":"AO12","v":1616.055973838508},0,{"$f":"((AJ13/((1+AK$7)^AK$6))/AK$6*AN$7)+(AJ13/((1+AK$7)^AK$6))*AK$7","v":167.45521925341203},{"$f":"INDEX('Floor Space'!$I$5:$DK$50,MATCH(ACIM!AI13,'Floor Space'!$I$5:$I$50,0),MATCH(ACIM!AI$10,'Floor Space'!$I$5:$DK$5,0))*ACIM!AP13","v":22.668626473762099},{"$f":"AM13+AL13","v":190.12384572717411},{"$f":"AJ13+AM13-AK13","v":1638.72460031227},{"$f":"(AR$36-AP$12)/(AI$36-AI$12)*AK$8+AP12","v":17.965529529761259},{"$f":"AO13/AO12-1","v":1.4027129530618243E-2},null,null,{"$f":"AT12+1","v":1988},{"$f":"AZ12","v":1482.8519786418924},0,{"$f":"((AU13/((1+AV$7)^AV$6))/AV$6*AY$7)+(AU13/((1+AV$7)^AV$6))*AV$7","v":153.56430532429474},{"$f":"INDEX('Floor Space'!$I$5:$DK$50,MATCH(ACIM!AT13,'Floor Space'!$I$5:$I$50,0),MATCH(ACIM!AT$10,'Floor Space'!$I$5:$DK$5,0))*ACIM!BA13","v":32.463091802683181},{"$f":"AX13+AW13","v":186.02739712697792},{"$f":"AU13+AX13-AV13","v":1515.3150704445757},{"$f":"(BC$36-BA$12)/(AT$36-AT$12)*AV$8+BA12","v":17.965529529761259},{"$f":"AZ13/AZ12-1","v":2.189233468361107E-2},null,null,{"$f":"BE12+1","v":1988},{"$f":"BK12","v":2738.8028871555489},0,{"$f":"((BF13/((1+BG$7)^BG$6))/BG$6*BJ$7)+(BF13/((1+BG$7)^BG$6))*BG$7","v":289.23493739835214},{"$f":"INDEX('Floor Space'!$I$5:$DK$50,MATCH(ACIM!BE13,'Floor Space'!$I$5:$I$50,0),MATCH(ACIM!BE$10,'Floor Space'!$I$5:$DK$5,0))*ACIM!BL13","v":59.958789438049543},{"$f":"BI13+BH13","v":349.19372683640171},{"$f":"BF13+BI13-BG13","v":2798.7616765935986},{"$f":"(BN$36-BL$12)/(BE$36-BE$12)*BG$8+BL12","v":17.965529529761259},{"$f":"BK13/BK12-1","v":2.189233468361107E-2},null,null,{"$f":"BP12+1","v":1988},{"$f":"BV12","v":684.70072178888722},0,{"$f":"((BQ13/((1+BR$7)^BR$6))/BR$6*BU$7)+(BQ13/((1+BR$7)^BR$6))*BR$7","v":72.308734349588036},{"$f":"INDEX('Floor Space'!$I$5:$DK$50,MATCH(ACIM!BP13,'Floor Space'!$I$5:$I$50,0),MATCH(ACIM!BP$10,'Floor Space'!$I$5:$DK$5,0))*ACIM!BW13","v":14.989697359512386},{"$f":"BT13+BS13","v":87.298431709100427},{"$f":"BQ13+BT13-BR13","v":699.69041914839966},{"$f":"(BY$36-BW$12)/(BP$36-BP$12)*BR$8+BW12","v":17.965529529761259},{"$f":"BV13/BV12-1","v":2.189233468361107E-2},null,null,{"$f":"CA12+1","v":1988},{"$f":"CG12","v":1321.9638243258851},0,{"$f":"((CB13/((1+CC$7)^CC$6))/CC$6*CF$7)+(CB13/((1+CC$7)^CC$6))*CC$7","v":139.6077555507805},{"$f":"INDEX('Floor Space'!$I$5:$DK$50,MATCH(ACIM!CA13,'Floor Space'!$I$5:$I$50,0),MATCH(ACIM!CA$10,'Floor Space'!$I$5:$DK$5,0))*ACIM!CH13","v":28.940874481768688},{"$f":"CE13+CD13","v":168.54863003254917},{"$f":"CB13+CE13-CC13","v":1350.9046988076539},{"$f":"(CJ$36-CH$12)/(CA$36-CA$12)*CC$8+CH12","v":17.965529529761259},{"$f":"CG13/CG12-1","v":2.189233468361107E-2},null,null,{"$f":"CL12+1","v":1988},{"$f":"CR12","v":2700.609279032753},0,{"$f":"((CM13/((1+CN$7)^CN$6))/CN$6*CQ$7)+(CM13/((1+CN$7)^CN$6))*CN$7","v":284.41901555983014},{"$f":"INDEX('Floor Space'!$I$5:$DK$50,MATCH(ACIM!CL13,'Floor Space'!$I$5:$I$50,0),MATCH(ACIM!CL$10,'Floor Space'!$I$5:$DK$5,0))*ACIM!CS13","v":38.189758012743397},{"$f":"CP13+CO13","v":322.60877357257357},{"$f":"CM13+CP13-CN13","v":2738.7990370454963},{"$f":"(CU$36-CS$12)/(CL$36-CL$12)*CN$8+CS12","v":17.965529529761259},{"$f":"CR13/CR12-1","v":1.414116374006591E-2},null,null,{"$f":"CW12+1","v":1988},{"$f":"DC12","v":1368.8345054227198},0,{"$f":"((CX13/((1+CY$7)^CY$6))/CY$6*DB$7)+(CX13/((1+CY$7)^CY$6))*CY$7","v":145.57717736973163},{"$f":"INDEX('Floor Space'!$I$5:$DK$50,MATCH(ACIM!CW13,'Floor Space'!$I$5:$I$50,0),MATCH(ACIM!CW$10,'Floor Space'!$I$5:$DK$5,0))*ACIM!DD13","v":19.67351170353448},{"$f":"DA13+CZ13","v":165.2506890732661},{"$f":"CX13+DA13-CY13","v":1388.5080171262543},{"$f":"(DF$36-DD$12)/(CW$36-CW$12)*CY$8+DD12","v":17.965529529761259},{"$f":"DC13/DC12-1","v":1.4372454541141888E-2},null,null,{"$f":"DH12+1","v":1988},{"$f":"DN12","v":3198.0546051915585},0,{"$f":"((DI13/((1+DJ$7)^DJ$6))/DJ$6*DM$7)+(DI13/((1+DJ$7)^DJ$6))*DJ$7","v":334.04544913528025},{"$f":"INDEX('Floor Space'!$I$5:$DK$50,MATCH(ACIM!DH13,'Floor Space'!$I$5:$I$50,0),MATCH(ACIM!DH$10,'Floor Space'!$I$5:$DK$5,0))*ACIM!DO13","v":111.08269976997296},{"$f":"DL13+DK13","v":445.12814890525323},{"$f":"DI13+DL13-DJ13","v":3309.1373049615313},{"$f":"(DQ$36-DO$12)/(DH$36-DH$12)*DJ$8+DO12","v":17.965529529761259},{"$f":"DN13/DN12-1","v":3.4734460002542322E-2},null,null,{"$f":"DS12+1","v":1988},{"$f":"DY12","v":647.49142835263933},0,{"$f":"((DT13/((1+DU$7)^DU$6))/DU$6*DX$7)+(DT13/((1+DU$7)^DU$6))*DU$7","v":71.567608047730147},{"$f":"INDEX('Floor Space'!$I$5:$DK$50,MATCH(ACIM!DS13,'Floor Space'!$I$5:$I$50,0),MATCH(ACIM!DS$10,'Floor Space'!$I$5:$DK$5,0))*ACIM!DZ13","v":15.608499287835345},{"$f":"DW13+DV13","v":87.17610733556549},{"$f":"DT13+DW13-DU13","v":663.09992764047468},{"$f":"(EB$36-DZ$12)/(DS$36-DS$12)*DU$8+DZ12","v":17.965529529761259},{"$f":"DY13/DY12-1","v":2.4106109524178354E-2},null,null,{"$f":"ED12+1","v":1988},{"$f":"EJ12","v":262.01164489830865},0,{"$f":"((EE13/((1+EF$7)^EF$6))/EF$6*EI$7)+(EE13/((1+EF$7)^EF$6))*EF$7","v":28.66907284381865},{"$f":"INDEX('Floor Space'!$I$5:$DK$50,MATCH(ACIM!ED13,'Floor Space'!$I$5:$I$50,0),MATCH(ACIM!ED$10,'Floor Space'!$I$5:$DK$5,0))*ACIM!EK13","v":6.3160814085287296},{"$f":"EH13+EG13","v":34.985154252347378},{"$f":"EE13+EH13-EF13","v":268.32772630683735},{"$f":"(EM$36-EK$12)/(ED$36-ED$12)*EF$8+EK12","v":17.965529529761259},{"$f":"EJ13/EJ12-1","v":2.4106109524178132E-2},null,null,{"$f":"EO12+1","v":1988},{"$f":"EU12","v":620.5597511887629},0,{"$f":"((EP13/((1+EQ$7)^EQ$6))/EQ$6*ET$7)+(EP13/((1+EQ$7)^EQ$6))*EQ$7","v":67.737722603820131},{"$f":"INDEX('Floor Space'!$I$5:$DK$50,MATCH(ACIM!EO13,'Floor Space'!$I$5:$I$50,0),MATCH(ACIM!EO$10,'Floor Space'!$I$5:$DK$5,0))*ACIM!EV13","v":5.483834164723385},{"$f":"ES13+ER13","v":73.221556768543522},{"$f":"EP13+ES13-EQ13","v":626.04358535348626},{"$f":"(EX$36-EV$12)/(EO$36-EO$12)*EQ$8+EV12","v":17.965529529761259},{"$f":"EU13/EU12-1","v":8.8369156301522089E-3},null,null,{"$f":"EZ12+1","v":1988},{"$f":"FF12","v":1905.671535279504},0,{"$f":"((FA13/((1+FB$7)^FB$6))/FB$6*FE$7)+(FA13/((1+FB$7)^FB$6))*FB$7","v":203.39643645282243},{"$f":"INDEX('Floor Space'!$I$5:$DK$50,MATCH(ACIM!EZ13,'Floor Space'!$I$5:$I$50,0),MATCH(ACIM!EZ$10,'Floor Space'!$I$5:$DK$5,0))*ACIM!FG13","v":58.606934845632821},{"$f":"FD13+FC13","v":262.00337129845525},{"$f":"FA13+FD13-FB13","v":1964.2784701251369},{"$f":"(FI$36-FG$12)/(EZ$36-EZ$12)*FB$8+FG12","v":17.965529529761259},{"$f":"FF13/FF12-1","v":3.0753954058004629E-2},null,null,{"$f":"FK12+1","v":1988},{"$f":"FQ12","v":698.41862986730962},0,{"$f":"((FL13/((1+FM$7)^FM$6))/FM$6*FP$7)+(FL13/((1+FM$7)^FM$6))*FM$7","v":73.713380795154208},{"$f":"INDEX('Floor Space'!$I$5:$DK$50,MATCH(ACIM!FK13,'Floor Space'!$I$5:$I$50,0),MATCH(ACIM!FK$10,'Floor Space'!$I$5:$DK$5,0))*ACIM!FR13","v":13.3834047667706},{"$f":"FO13+FN13","v":87.096785561924804},{"$f":"FL13+FO13-FM13","v":711.8020346340802},{"$f":"(FT$36-FR$12)/(FK$36-FK$12)*FM$8+FR12","v":17.965529529761259},{"$f":"FQ13/FQ12-1","v":1.9162439537606879E-2},null,null,{"$f":"FV12+1","v":1988},{"$f":"GB12","v":1523.2476024868663},0,{"$f":"((FW13/((1+FX$7)^FX$6))/FX$6*GA$7)+(FW13/((1+FX$7)^FX$6))*FX$7","v":159.69249153104357},{"$f":"INDEX('Floor Space'!$I$5:$DK$50,MATCH(ACIM!FV13,'Floor Space'!$I$5:$I$50,0),MATCH(ACIM!FV$10,'Floor Space'!$I$5:$DK$5,0))*ACIM!GC13","v":27.971914761554618},{"$f":"FZ13+FY13","v":187.66440629259819},{"$f":"FW13+FZ13-FX13","v":1551.219517248421},{"$f":"(GE$36-GC$12)/(FV$36-FV$12)*FX$8+GC12","v":17.965529529761259},{"$f":"GB13/GB12-1","v":1.836334074374224E-2},null,null,{"$f":"GG12+1","v":1988},{"$f":"GM12","v":2212.0125944790589},0,{"$f":"((GH13/((1+GI$7)^GI$6))/GI$6*GL$7)+(GH13/((1+GI$7)^GI$6))*GI$7","v":233.67763955540801},{"$f":"INDEX('Floor Space'!$I$5:$DK$50,MATCH(ACIM!GG13,'Floor Space'!$I$5:$I$50,0),MATCH(ACIM!GG$10,'Floor Space'!$I$5:$DK$5,0))*ACIM!GN13","v":43.005870934540056},{"$f":"GK13+GJ13","v":276.68351048994805},{"$f":"GH13+GK13-GI13","v":2255.0184654135987},{"$f":"(GP$36-GN$12)/(GG$36-GG$12)*GI$8+GN12","v":17.965529529761259},{"$f":"GM13/GM12-1","v":1.9441964770850584E-2},null,null,{"$f":"GR12+1","v":1988},{"$f":"GX12","v":4293.906801047583},0,{"$f":"((GS13/((1+GT$7)^GT$6))/GT$6*GW$7)+(GS13/((1+GT$7)^GT$6))*GT$7","v":447.18882883402432},{"$f":"INDEX('Floor Space'!$I$5:$DK$50,MATCH(ACIM!GR13,'Floor Space'!$I$5:$I$50,0),MATCH(ACIM!GR$10,'Floor Space'!$I$5:$DK$5,0))*ACIM!GY13","v":90.709912526756256},{"$f":"GV13+GU13","v":537.8987413607806},{"$f":"GS13+GV13-GT13","v":4384.616713574339},{"$f":"(HA$36-GY$12)/(GR$36-GR$12)*GT$8+GY12","v":17.965529529761259},{"$f":"GX13/GX12-1","v":2.1125263479082834E-2}]
[null,{"$f":"B13+1","v":1989},{"$f":"SUM(N14,Y14,AJ14,AU14,BF14,BQ14,CB14,CM14,CX14,DI14,DT14,EE14,EP14,FA14,FL14,FW14,GH14,GS14)","v":32360.661948616409},0,3399.7775521134627,634.38332839953398,4034.1608805129968,32995.045277015939,17.965529529761259,{"$f":"H14/H13-1","v":1.9603533741269885E-2},null,null,{"$f":"M13+1","v":1989},{"$f":"S13","v":3099.8191364274207},0,321.20229839777051,{"$f":"INDEX('Floor Space'!$I$5:$DK$54,MATCH(ACIM!M14,'Floor Space'!$I$5:$I$54,0),MATCH(ACIM!M$10,'Floor Space'!$I$5:$DK$5,0))*ACIM!T14","v":58.354710771704092},{"$f":"Q14+P14","v":379.55700916947461},{"$f":"N14+Q14-O14","v":3158.1738471991248},17.965529529761259,{"$f":"S14/S13-1","v":1.8825198569152102E-2},null,null,{"$f":"X13+1","v":1989},{"$f":"AD13","v":1396.5955474528341},0,144.71479787396493,{"$f":"INDEX('Floor Space'!$I$5:$DK$50,MATCH(ACIM!X14,'Floor Space'!$I$5:$I$50,0),MATCH(ACIM!X$10,'Floor Space'!$I$5:$DK$5,0))*ACIM!AE14","v":26.291188501593432},{"$f":"AB14+AA14","v":171.00598637555836},{"$f":"Y14+AB14-Z14","v":1422.8867359544276},17.965529529761259,{"$f":"AD14/AD13-1","v":1.8825198569152324E-2},null,null,{"$f":"AI13+1","v":1989},{"$f":"AO13","v":1638.72460031227},0,169.80413530445773,{"$f":"INDEX('Floor Space'!$I$5:$DK$50,MATCH(ACIM!AI14,'Floor Space'!$I$5:$I$50,0),MATCH(ACIM!AI$10,'Floor Space'!$I$5:$DK$5,0))*ACIM!AP14","v":30.849316001033053},{"$f":"AM14+AL14","v":200.65345130549079},{"$f":"AJ14+AM14-AK14","v":1669.573916313303},17.965529529761259,{"$f":"AO14/AO13-1","v":1.8825198569152102E-2},null,null,{"$f":"AT13+1","v":1989},{"$f":"AZ13","v":1515.3150704445757},0,156.92618649191047,{"$f":"INDEX('Floor Space'!$I$5:$DK$50,MATCH(ACIM!AT14,'Floor Space'!$I$5:$I$50,0),MATCH(ACIM!AT$10,'Floor Space'!$I$5:$DK$5,0))*ACIM!BA14","v":28.581007130053038},{"$f":"AX14+AW14","v":185.50719362196349},{"$f":"AU14+AX14-AV14","v":1543.8960775746286},17.965529529761259,{"$f":"AZ14/AZ13-1","v":1.8861428680748027E-2},null,null,{"$f":"BE13+1","v":1989},{"$f":"BK13","v":2798.7616765935986},0,295.56696545007026,{"$f":"INDEX('Floor Space'!$I$5:$DK$50,MATCH(ACIM!BE14,'Floor Space'!$I$5:$I$50,0),MATCH(ACIM!BE$10,'Floor Space'!$I$5:$DK$5,0))*ACIM!BL14","v":52.788643757480955},{"$f":"BI14+BH14","v":348.3556092075512},{"$f":"BF14+BI14-BG14","v":2851.5503203510798},17.965529529761259,{"$f":"BK14/BK13-1","v":1.8861428680748027E-2},null,null,{"$f":"BP13+1","v":1989},{"$f":"BV13","v":699.69041914839966},0,73.891741362517564,{"$f":"INDEX('Floor Space'!$I$5:$DK$50,MATCH(ACIM!BP14,'Floor Space'!$I$5:$I$50,0),MATCH(ACIM!BP$10,'Floor Space'!$I$5:$DK$5,0))*ACIM!BW14","v":13.197160939370239},{"$f":"BT14+BS14","v":87.088902301887799},{"$f":"BQ14+BT14-BR14","v":712.88758008776995},17.965529529761259,{"$f":"BV14/BV13-1","v":1.8861428680748027E-2},null,null,{"$f":"CA13+1","v":1989},{"$f":"CG13","v":1350.9046988076539},0,142.66409525972594,{"$f":"INDEX('Floor Space'!$I$5:$DK$50,MATCH(ACIM!CA14,'Floor Space'!$I$5:$I$50,0),MATCH(ACIM!CA$10,'Floor Space'!$I$5:$DK$5,0))*ACIM!CH14","v":25.47999263104796},{"$f":"CE14+CD14","v":168.1440878907739},{"$f":"CB14+CE14-CC14","v":1376.3846914387018},17.965529529761259,{"$f":"CG14/CG13-1","v":1.8861428680748027E-2},null,null,{"$f":"CL13+1","v":1989},{"$f":"CR13","v":2738.7990370454963},0,288.44103142965008,{"$f":"INDEX('Floor Space'!$I$5:$DK$50,MATCH(ACIM!CL14,'Floor Space'!$I$5:$I$50,0),MATCH(ACIM!CL$10,'Floor Space'!$I$5:$DK$5,0))*ACIM!CS14","v":49.56432259016146},{"$f":"CP14+CO14","v":338.00535401981153},{"$f":"CM14+CP14-CN14","v":2788.3633596356576},17.965529529761259,{"$f":"CR14/CR13-1","v":1.8097100926261822E-2},null,null,{"$f":"CW13+1","v":1989},{"$f":"DC13","v":1388.5080171262543},0,147.66947873370586,{"$f":"INDEX('Floor Space'!$I$5:$DK$50,MATCH(ACIM!CW14,'Floor Space'!$I$5:$I$50,0),MATCH(ACIM!CW$10,'Floor Space'!$I$5:$DK$5,0))*ACIM!DD14","v":25.533135879780154},{"$f":"DA14+CZ14","v":173.20261461348602},{"$f":"CX14+DA14-CY14","v":1414.0411530060344},17.965529529761259,{"$f":"DC14/DC13-1","v":1.8388900578784506E-2},null,null,{"$f":"DH13+1","v":1989},{"$f":"DN13","v":3309.1373049615313},0,345.64833742730099,{"$f":"INDEX('Floor Space'!$I$5:$DK$50,MATCH(ACIM!DH14,'Floor Space'!$I$5:$I$50,0),MATCH(ACIM!DH$10,'Floor Space'!$I$5:$DK$5,0))*ACIM!DO14","v":111.74243174191778},{"$f":"DL14+DK14","v":457.39076916921874},{"$f":"DI14+DL14-DJ14","v":3420.879736703449},17.965529529761259,{"$f":"DN14/DN13-1","v":3.3767843834819899E-2},null,null,{"$f":"DS13+1","v":1989},{"$f":"DY13","v":663.09992764047468},0,73.292824645712201,{"$f":"INDEX('Floor Space'!$I$5:$DK$50,MATCH(ACIM!DS14,'Floor Space'!$I$5:$I$50,0),MATCH(ACIM!DS$10,'Floor Space'!$I$5:$DK$5,0))*ACIM!DZ14","v":13.621696843721129},{"$f":"DW14+DV14","v":86.914521489433326},{"$f":"DT14+DW14-DU14","v":676.72162448419579},17.965529529761259,{"$f":"DY14/DY13-1","v":2.0542449600607693E-2},null,null,{"$f":"ED13+1","v":1989},{"$f":"EJ13","v":268.32772630683735},0,29.360172653748382,{"$f":"INDEX('Floor Space'!$I$5:$DK$50,MATCH(ACIM!ED14,'Floor Space'!$I$5:$I$50,0),MATCH(ACIM!ED$10,'Floor Space'!$I$5:$DK$5,0))*ACIM!EK14","v":5.512108794103888},{"$f":"EH14+EG14","v":34.872281447852274},{"$f":"EE14+EH14-EF14","v":273.83983510094123},17.965529529761259,{"$f":"EJ14/EJ13-1","v":2.0542449600607693E-2},null,null,{"$f":"EO13+1","v":1989},{"$f":"EU13","v":626.04358535348626},0,68.336315143448758,{"$f":"INDEX('Floor Space'!$I$5:$DK$50,MATCH(ACIM!EO14,'Floor Space'!$I$5:$I$50,0),MATCH(ACIM!EO$10,'Floor Space'!$I$5:$DK$5,0))*ACIM!EV14","v":7.7609650326206268},{"$f":"ES14+ER14","v":76.09728017606939},{"$f":"EP14+ES14-EQ14","v":633.80455038610694},17.965529529761259,{"$f":"EU14/EU13-1","v":1.2396844587487577E-2},null,null,{"$f":"EZ13+1","v":1989},{"$f":"FF13","v":1964.2784701251369},0,209.6516811150544,{"$f":"INDEX('Floor Space'!$I$5:$DK$50,MATCH(ACIM!EZ14,'Floor Space'!$I$5:$I$50,0),MATCH(ACIM!EZ$10,'Floor Space'!$I$5:$DK$5,0))*ACIM!FG14","v":38.950058503821722},{"$f":"FD14+FC14","v":248.60173961887614},{"$f":"FA14+FD14-FB14","v":2003.2285286289587},17.965529529761259,{"$f":"FF14/FF13-1","v":1.9829193821658375E-2},null,null,{"$f":"FK13+1","v":1989},{"$f":"FQ13","v":711.8020346340802},0,75.125908997753925,{"$f":"INDEX('Floor Space'!$I$5:$DK$50,MATCH(ACIM!FK14,'Floor Space'!$I$5:$I$50,0),MATCH(ACIM!FK$10,'Floor Space'!$I$5:$DK$5,0))*ACIM!FR14","v":18.771911460359178},{"$f":"FO14+FN14","v":93.897820458113102},{"$f":"FL14+FO14-FM14","v":730.57394609443941},17.965529529761259,{"$f":"FQ14/FQ13-1","v":2.6372376794356001E-2},null,null,{"$f":"FV13+1","v":1989},{"$f":"GB13","v":1551.219517248421},0,162.6249791672453,{"$f":"INDEX('Floor Space'!$I$5:$DK$50,MATCH(ACIM!FV14,'Floor Space'!$I$5:$I$50,0),MATCH(ACIM!FV$10,'Floor Space'!$I$5:$DK$5,0))*ACIM!GC14","v":38.981481077314683},{"$f":"FZ14+FY14","v":201.60646024455997},{"$f":"FW14+FZ14-FX14","v":1590.2009983257356},17.965529529761259,{"$f":"GB14/GB13-1","v":2.5129571052884048E-2},null,null,{"$f":"GG13+1","v":1989},{"$f":"GM13","v":2255.0184654135987},0,238.22079199137977,{"$f":"INDEX('Floor Space'!$I$5:$DK$50,MATCH(ACIM!GG14,'Floor Space'!$I$5:$I$50,0),MATCH(ACIM!GG$10,'Floor Space'!$I$5:$DK$5,0))*ACIM!GN14","v":28.748485626658379},{"$f":"GK14+GJ14","v":266.96927761803818},{"$f":"GH14+GK14-GI14","v":2283.766951040257},17.965529529761259,{"$f":"GM14/GM13-1","v":1.2748669719378825E-2},null,null,{"$f":"GR13+1","v":1989},{"$f":"GX13","v":4384.616713574339},0,456.63581066804556,{"$f":"INDEX('Floor Space'!$I$5:$DK$50,MATCH(ACIM!GR14,'Floor Space'!$I$5:$I$50,0),MATCH(ACIM!GR$10,'Floor Space'!$I$5:$DK$5,0))*ACIM!GY14","v":59.654711116792207},{"$f":"GV14+GU14","v":516.29052178483778},{"$f":"GS14+GV14-GT14","v":4444.271424691131},17.965529529761259,{"$f":"GX14/GX13-1","v":1.3605456306387431E-2}]
[null,1990,32995.045277015939,0,3466.4023792514481,684.195326294967,4150.5977055464164,33679.240603310915,17.965529529761259,2.0736305119471332E-2,null,null,1990,{"$f":"S14","v":3158.1738471991248},0,327.24899544597662,{"$f":"INDEX('Floor Space'!$I$5:$DK$54,MATCH(ACIM!M15,'Floor Space'!$I$5:$I$54,0),MATCH(ACIM!M$10,'Floor Space'!$I$5:$DK$5,0))*ACIM!T15","v":69.644951486682004},396.89394693265865,3227.818798685807,17.965529529761259,{"$f":"S15/S14-1","v":2.2052285547373485E-2},null,null,1990,{"$f":"AD14","v":1422.8867359544276},0,147.43908267983707,{"$f":"INDEX('Floor Space'!$I$5:$DK$50,MATCH(ACIM!X15,'Floor Space'!$I$5:$I$50,0),MATCH(ACIM!X$10,'Floor Space'!$I$5:$DK$5,0))*ACIM!AE15","v":31.377904602837187},178.81698728267426,1454.2646405572648,17.965529529761259,{"$f":"AD15/AD14-1","v":2.2052285547373485E-2},null,null,1990,{"$f":"AO14","v":1669.573916313303},0,173.00073186942728,{"$f":"INDEX('Floor Space'!$I$5:$DK$50,MATCH(ACIM!AI15,'Floor Space'!$I$5:$I$50,0),MATCH(ACIM!AI$10,'Floor Space'!$I$5:$DK$5,0))*ACIM!AP15","v":36.817920744987511},209.81865261441479,1706.3918370582905,17.965529529761259,{"$f":"AO15/AO14-1","v":2.2052285547373485E-2},null,null,1990,{"$f":"AZ14","v":1543.8960775746286},0,159.8860385665694,{"$f":"INDEX('Floor Space'!$I$5:$DK$50,MATCH(ACIM!AT15,'Floor Space'!$I$5:$I$50,0),MATCH(ACIM!AT$10,'Floor Space'!$I$5:$DK$5,0))*ACIM!BA15","v":22.939040929557201},182.82507949612659,1566.8351185041859,17.965529529761259,{"$f":"AZ15/AZ14-1","v":1.4857891837896986E-2},null,null,1990,{"$f":"BK14","v":2851.5503203510798},0,301.14178068929186,{"$f":"INDEX('Floor Space'!$I$5:$DK$50,MATCH(ACIM!BE15,'Floor Space'!$I$5:$I$50,0),MATCH(ACIM!BE$10,'Floor Space'!$I$5:$DK$5,0))*ACIM!BL15","v":42.368026230096767},343.50980691938861,2893.9183465811766,17.965529529761259,{"$f":"BK15/BK14-1","v":1.4857891837896986E-2},null,null,1990,{"$f":"BV14","v":712.88758008776995},0,75.285445172322966,{"$f":"INDEX('Floor Space'!$I$5:$DK$50,MATCH(ACIM!BP15,'Floor Space'!$I$5:$I$50,0),MATCH(ACIM!BP$10,'Floor Space'!$I$5:$DK$5,0))*ACIM!BW15","v":10.592006557524192},85.877451729847152,723.47958664529415,17.965529529761259,{"$f":"BV15/BV14-1","v":1.4857891837896986E-2},null,null,1990,{"$f":"CG14","v":1376.3846914387018},0,145.3549439177707,{"$f":"INDEX('Floor Space'!$I$5:$DK$50,MATCH(ACIM!CA15,'Floor Space'!$I$5:$I$50,0),MATCH(ACIM!CA$10,'Floor Space'!$I$5:$DK$5,0))*ACIM!CH15","v":20.450174872733406},165.80511879050411,1396.8348663114352,17.965529529761259,{"$f":"CG15/CG14-1","v":1.4857891837896986E-2},null,null,1990,{"$f":"CR14","v":2788.3633596356576},0,293.66097788670754,{"$f":"INDEX('Floor Space'!$I$5:$DK$50,MATCH(ACIM!CL15,'Floor Space'!$I$5:$I$50,0),MATCH(ACIM!CL$10,'Floor Space'!$I$5:$DK$5,0))*ACIM!CS15","v":66.391087627906927},360.05206551461447,2854.7544472635645,17.965529529761259,{"$f":"CR15/CR14-1","v":2.3810055959343046E-2},null,null,1990,{"$f":"DC14","v":1414.0411530060344},0,150.38495809666094,{"$f":"INDEX('Floor Space'!$I$5:$DK$50,MATCH(ACIM!CW15,'Floor Space'!$I$5:$I$50,0),MATCH(ACIM!CW$10,'Floor Space'!$I$5:$DK$5,0))*ACIM!DD15","v":34.201469384073263},184.58642748073419,1448.2426223901077,17.965529529761259,{"$f":"DC15/DC14-1","v":2.418703961434665E-2},null,null,1990,{"$f":"DN14","v":3420.879736703449},0,357.32013650731119,{"$f":"INDEX('Floor Space'!$I$5:$DK$50,MATCH(ACIM!DH15,'Floor Space'!$I$5:$I$50,0),MATCH(ACIM!DH$10,'Floor Space'!$I$5:$DK$5,0))*ACIM!DO15","v":118.76039457322315},476.08053108053434,3539.640131276672,17.965529529761259,{"$f":"DN15/DN14-1","v":3.4716331386635435E-2},null,null,1990,{"$f":"DY14","v":676.72162448419579},0,74.798438802082913,{"$f":"INDEX('Floor Space'!$I$5:$DK$50,MATCH(ACIM!DS15,'Floor Space'!$I$5:$I$50,0),MATCH(ACIM!DS$10,'Floor Space'!$I$5:$DK$5,0))*ACIM!DZ15","v":11.342764215400566},86.141203017483477,688.06438869959641,17.965529529761259,{"$f":"DY15/DY14-1","v":1.6761344406640122E-2},null,null,1990,{"$f":"EJ14","v":273.83983510094123},0,29.963302520753153,{"$f":"INDEX('Floor Space'!$I$5:$DK$50,MATCH(ACIM!ED15,'Floor Space'!$I$5:$I$50,0),MATCH(ACIM!ED$10,'Floor Space'!$I$5:$DK$5,0))*ACIM!EK15","v":4.589923788384402},34.553226309137557,278.42975888932563,17.965529529761259,{"$f":"EJ15/EJ14-1","v":1.6761344406640122E-2},null,null,1990,{"$f":"EU14","v":633.80455038610694},0,69.183469821963669,{"$f":"INDEX('Floor Space'!$I$5:$DK$50,MATCH(ACIM!EO15,'Floor Space'!$I$5:$I$50,0),MATCH(ACIM!EO$10,'Floor Space'!$I$5:$DK$5,0))*ACIM!EV15","v":7.5851184295833232},76.768588251546987,641.38966881569024,17.965529529761259,{"$f":"EU15/EU14-1","v":1.1967598567985238E-2},null,null,1990,{"$f":"FF14","v":2003.2285286289587},0,213.80890493492132,{"$f":"INDEX('Floor Space'!$I$5:$DK$50,MATCH(ACIM!EZ15,'Floor Space'!$I$5:$I$50,0),MATCH(ACIM!EZ$10,'Floor Space'!$I$5:$DK$5,0))*ACIM!FG15","v":38.84208567134786},252.65099060626918,2042.0706143003065,17.965529529761259,{"$f":"FF15/FF14-1","v":1.9389742666021226E-2},null,null,1990,{"$f":"FQ14","v":730.57394609443941},0,77.1071577768612,{"$f":"INDEX('Floor Space'!$I$5:$DK$50,MATCH(ACIM!FK15,'Floor Space'!$I$5:$I$50,0),MATCH(ACIM!FK$10,'Floor Space'!$I$5:$DK$5,0))*ACIM!FR15","v":14.708521887906361},91.815679664767558,745.28246798234579,17.965529529761259,{"$f":"FQ15/FQ14-1","v":2.0132831134392903E-2},null,null,1990,{"$f":"GB14","v":1590.2009983257356},0,166.71167513620239,{"$f":"INDEX('Floor Space'!$I$5:$DK$50,MATCH(ACIM!FV15,'Floor Space'!$I$5:$I$50,0),MATCH(ACIM!FV$10,'Floor Space'!$I$5:$DK$5,0))*ACIM!GC15","v":30.266887771724811},196.9785629079272,1620.4678860974605,17.965529529761259,{"$f":"GB15/GB14-1","v":1.9033372387259107E-2},null,null,1990,{"$f":"GM14","v":2283.766951040257},0,241.25779018876671,{"$f":"INDEX('Floor Space'!$I$5:$DK$50,MATCH(ACIM!GG15,'Floor Space'!$I$5:$I$50,0),MATCH(ACIM!GG$10,'Floor Space'!$I$5:$DK$5,0))*ACIM!GN15","v":40.911610473105085},282.1694006618718,2324.6785615133622,17.965529529761259,{"$f":"GM15/GM14-1","v":1.7914091652158293E-2},null,null,1990,{"$f":"GX14","v":4444.271424691131},0,462.84854923802152,{"$f":"INDEX('Floor Space'!$I$5:$DK$50,MATCH(ACIM!GR15,'Floor Space'!$I$5:$I$50,0),MATCH(ACIM!GR$10,'Floor Space'!$I$5:$DK$5,0))*ACIM!GY15","v":82.405437047892946},545.25398628591449,4526.6768617390235,17.965529529761259,{"$f":"GX15/GX14-1","v":1.8541945163400797E-2}]
[null,1991,33679.240603310915,0,3538.2069505026161,609.58670090076532,4147.7936514033827,34288.827304211678,17.965529529761259,1.8099775706962751E-2,null,null,1991,3227.818798685807,0,334.46558373864247,{"$f":"INDEX('Floor Space'!$I$5:$DK$54,MATCH(ACIM!M16,'Floor Space'!$I$5:$I$54,0),MATCH(ACIM!M$10,'Floor Space'!$I$5:$DK$5,0))*ACIM!T16","v":47.990453481593093},382.45603722023554,3275.8092521674002,17.965529529761259,1.4867765656836784E-2,null,null,1991,1454.2646405572648,0,150.69045143193563,{"$f":"INDEX('Floor Space'!$I$5:$DK$50,MATCH(ACIM!X16,'Floor Space'!$I$5:$I$50,0),MATCH(ACIM!X$10,'Floor Space'!$I$5:$DK$5,0))*ACIM!AE16","v":21.621665878829432},172.31211731076507,1475.8863064360942,17.965529529761259,1.4867765656836784E-2,null,null,1991,1706.3918370582905,0,176.81579340851653,{"$f":"INDEX('Floor Space'!$I$5:$DK$50,MATCH(ACIM!AI16,'Floor Space'!$I$5:$I$50,0),MATCH(ACIM!AI$10,'Floor Space'!$I$5:$DK$5,0))*ACIM!AP16","v":25.370233952121925},202.18602736063846,1731.7620710104125,17.965529529761259,1.4867765656836784E-2,null,null,1991,1566.8351185041859,0,162.26160803398128,{"$f":"INDEX('Floor Space'!$I$5:$DK$50,MATCH(ACIM!AT16,'Floor Space'!$I$5:$I$50,0),MATCH(ACIM!AT$10,'Floor Space'!$I$5:$DK$5,0))*ACIM!BA16","v":17.510317820724797},179.77192585470607,1584.3454363249107,17.965529529761259,1.1175596981411351E-2,null,null,1991,2893.9183465811766,0,305.61611269464504,{"$f":"INDEX('Floor Space'!$I$5:$DK$50,MATCH(ACIM!BE16,'Floor Space'!$I$5:$I$50,0),MATCH(ACIM!BE$10,'Floor Space'!$I$5:$DK$5,0))*ACIM!BL16","v":32.341265138503758},337.95737783314883,2926.2596117196804,17.965529529761259,1.1175596981411351E-2,null,null,1991,723.47958664529415,0,76.40402817366126,{"$f":"INDEX('Floor Space'!$I$5:$DK$50,MATCH(ACIM!BP16,'Floor Space'!$I$5:$I$50,0),MATCH(ACIM!BP$10,'Floor Space'!$I$5:$DK$5,0))*ACIM!BW16","v":8.0853162846259394},84.489344458287206,731.56490292992009,17.965529529761259,1.1175596981411351E-2,null,null,1991,1396.8348663114352,0,147.51461195260453,{"$f":"INDEX('Floor Space'!$I$5:$DK$50,MATCH(ACIM!CA16,'Floor Space'!$I$5:$I$50,0),MATCH(ACIM!CA$10,'Floor Space'!$I$5:$DK$5,0))*ACIM!CH16","v":15.61046351548031},163.12507546808484,1412.4453298269154,17.965529529761259,1.1175596981411351E-2,null,null,1991,2854.7544472635645,0,300.65306220326539,{"$f":"INDEX('Floor Space'!$I$5:$DK$50,MATCH(ACIM!CL16,'Floor Space'!$I$5:$I$50,0),MATCH(ACIM!CL$10,'Floor Space'!$I$5:$DK$5,0))*ACIM!CS16","v":68.428661094706058},369.08172329797145,2923.1831083582706,17.965529529761259,2.3970069005514238E-2,null,null,1991,1448.2426223901077,0,154.02232503554674,{"$f":"INDEX('Floor Space'!$I$5:$DK$50,MATCH(ACIM!CW16,'Floor Space'!$I$5:$I$50,0),MATCH(ACIM!CW$10,'Floor Space'!$I$5:$DK$5,0))*ACIM!DD16","v":35.251128442727364},189.27345347827412,1483.4937508328351,17.965529529761259,2.4340623523806171E-2,null,null,1991,3539.640131276672,0,369.72498077741676,{"$f":"INDEX('Floor Space'!$I$5:$DK$50,MATCH(ACIM!DH16,'Floor Space'!$I$5:$I$50,0),MATCH(ACIM!DH$10,'Floor Space'!$I$5:$DK$5,0))*ACIM!DO16","v":100.17518901615657},469.90016979357335,3639.8153202928288,17.965529529761259,2.8300953006775265E-2,null,null,1991,688.06438869959641,0,76.052161195923645,{"$f":"INDEX('Floor Space'!$I$5:$DK$50,MATCH(ACIM!DS16,'Floor Space'!$I$5:$I$50,0),MATCH(ACIM!DS$10,'Floor Space'!$I$5:$DK$5,0))*ACIM!DZ16","v":7.6733187436364423},83.725479939560088,695.73770744323281,17.965529529761259,1.1152035869983923E-2,null,null,1991,278.42975888932563,0,30.465527753863839,{"$f":"INDEX('Floor Space'!$I$5:$DK$50,MATCH(ACIM!ED16,'Floor Space'!$I$5:$I$50,0),MATCH(ACIM!ED$10,'Floor Space'!$I$5:$DK$5,0))*ACIM!EK16","v":3.1050586584047268},33.570586412268568,281.53481754773037,17.965529529761259,1.1152035869983923E-2,null,null,1991,641.38966881569024,0,70.011429816333248,{"$f":"INDEX('Floor Space'!$I$5:$DK$50,MATCH(ACIM!EO16,'Floor Space'!$I$5:$I$50,0),MATCH(ACIM!EO$10,'Floor Space'!$I$5:$DK$5,0))*ACIM!EV16","v":8.4583868889659577},78.469816705299209,649.84805570465619,17.965529529761259,1.3187594531393287E-2,null,null,1991,2042.0706143003065,0,217.95460458131325,{"$f":"INDEX('Floor Space'!$I$5:$DK$50,MATCH(ACIM!EZ16,'Floor Space'!$I$5:$I$50,0),MATCH(ACIM!EZ$10,'Floor Space'!$I$5:$DK$5,0))*ACIM!FG16","v":25.941110778144417},243.89571535945765,2068.011725078451,17.965529529761259,1.2703336797700748E-2,null,null,1991,745.28246798234579,0,78.659543163635746,{"$f":"INDEX('Floor Space'!$I$5:$DK$50,MATCH(ACIM!FK16,'Floor Space'!$I$5:$I$50,0),MATCH(ACIM!FK$10,'Floor Space'!$I$5:$DK$5,0))*ACIM!FR16","v":12.07351185094471},90.733055014580458,757.35597983329046,17.965529529761259,1.6199913951592704E-2,null,null,1991,1620.4678860974605,0,169.88476053037346,{"$f":"INDEX('Floor Space'!$I$5:$DK$50,MATCH(ACIM!FV16,'Floor Space'!$I$5:$I$50,0),MATCH(ACIM!FV$10,'Floor Space'!$I$5:$DK$5,0))*ACIM!GC16","v":25.020671521393606},194.90543205176706,1645.488557618854,17.965529529761259,1.5440399489588419E-2,null,null,1991,2324.6785615133622,0,245.57970435400546,{"$f":"INDEX('Floor Space'!$I$5:$DK$50,MATCH(ACIM!GG16,'Floor Space'!$I$5:$I$50,0),MATCH(ACIM!GG$10,'Floor Space'!$I$5:$DK$5,0))*ACIM!GN16","v":51.811188727012883},297.39089308101836,2376.4897502403751,17.965529529761259,2.2287463559385046E-2,null,null,1991,4526.6768617390235,0,471.43066165695257,{"$f":"INDEX('Floor Space'!$I$5:$DK$50,MATCH(ACIM!GR16,'Floor Space'!$I$5:$I$50,0),MATCH(ACIM!GR$10,'Floor Space'!$I$5:$DK$5,0))*ACIM!GY16","v":103.11875910679332},574.54942076374584,4629.7956208458172,17.965529529761259,2.278023421074904E-2]
[null,1992,34288.827304211678,0,3602.1894114100105,634.32813799459075,4236.5175494046025,34923.155442206269,17.965529529761259,1.8499557665440314E-2,null,null,1992,3275.8092521674002,0,339.43833965794573,{"$f":"INDEX('Floor Space'!$I$5:$DK$54,MATCH(ACIM!M17,'Floor Space'!$I$5:$I$54,0),MATCH(ACIM!M$10,'Floor Space'!$I$5:$DK$5,0))*ACIM!T17","v":38.189981143433684},377.6283208013794,3313.9992333108339,17.965529529761259,1.165818220892012E-2,null,null,1992,1475.8863064360942,0,152.93088175054862,{"$f":"INDEX('Floor Space'!$I$5:$DK$50,MATCH(ACIM!X17,'Floor Space'!$I$5:$I$50,0),MATCH(ACIM!X$10,'Floor Space'!$I$5:$DK$5,0))*ACIM!AE17","v":17.206151480082006},170.13703323063064,1493.0924579161763,17.965529529761259,1.165818220892012E-2,null,null,1992,1731.7620710104125,0,179.44464918934202,{"$f":"INDEX('Floor Space'!$I$5:$DK$50,MATCH(ACIM!AI17,'Floor Space'!$I$5:$I$50,0),MATCH(ACIM!AI$10,'Floor Space'!$I$5:$DK$5,0))*ACIM!AP17","v":20.189197766336136},199.63384695567817,1751.9512687767485,17.965529529761259,1.165818220892012E-2,null,null,1992,1584.3454363249107,0,164.07497837092481,{"$f":"INDEX('Floor Space'!$I$5:$DK$50,MATCH(ACIM!AT17,'Floor Space'!$I$5:$I$50,0),MATCH(ACIM!AT$10,'Floor Space'!$I$5:$DK$5,0))*ACIM!BA17","v":22.03123721951858},186.10621559044338,1606.3766735444292,17.965529529761259,1.3905576848583401E-2,null,null,1992,2926.2596117196804,0,309.03155520114598,{"$f":"INDEX('Floor Space'!$I$5:$DK$50,MATCH(ACIM!BE17,'Floor Space'!$I$5:$I$50,0),MATCH(ACIM!BE$10,'Floor Space'!$I$5:$DK$5,0))*ACIM!BL17","v":40.691327909674094},349.72288311082008,2966.9509396293543,17.965529529761259,1.3905576848583401E-2,null,null,1992,731.56490292992009,0,77.257888800286494,{"$f":"INDEX('Floor Space'!$I$5:$DK$50,MATCH(ACIM!BP17,'Floor Space'!$I$5:$I$50,0),MATCH(ACIM!BP$10,'Floor Space'!$I$5:$DK$5,0))*ACIM!BW17","v":10.172831977418523},87.430720777705019,741.73773490733856,17.965529529761259,1.3905576848583401E-2,null,null,1992,1412.4453298269154,0,149.16317580465611,{"$f":"INDEX('Floor Space'!$I$5:$DK$50,MATCH(ACIM!CA17,'Floor Space'!$I$5:$I$50,0),MATCH(ACIM!CA$10,'Floor Space'!$I$5:$DK$5,0))*ACIM!CH17","v":19.64086707833102},168.80404288298712,1432.0861969052464,17.965529529761259,1.3905576848583401E-2,null,null,1992,2923.1831083582706,0,307.85973685099691,{"$f":"INDEX('Floor Space'!$I$5:$DK$50,MATCH(ACIM!CL17,'Floor Space'!$I$5:$I$50,0),MATCH(ACIM!CL$10,'Floor Space'!$I$5:$DK$5,0))*ACIM!CS17","v":81.042331958290745},388.90206880928764,3004.2254403165612,17.965529529761259,2.772400118438223E-2,null,null,1992,1483.4937508328351,0,157.77132446349827,{"$f":"INDEX('Floor Space'!$I$5:$DK$50,MATCH(ACIM!CW17,'Floor Space'!$I$5:$I$50,0),MATCH(ACIM!CW$10,'Floor Space'!$I$5:$DK$5,0))*ACIM!DD17","v":41.749080099725532},199.52040456322379,1525.2428309325605,17.965529529761259,2.8142403752147604E-2,null,null,1992,3639.8153202928288,0,380.18855008382934,{"$f":"INDEX('Floor Space'!$I$5:$DK$50,MATCH(ACIM!DH17,'Floor Space'!$I$5:$I$50,0),MATCH(ACIM!DH$10,'Floor Space'!$I$5:$DK$5,0))*ACIM!DO17","v":93.996834428106922},474.18538451193626,3733.8121547209357,17.965529529761259,2.5824616404038991E-2,null,null,1992,695.73770744323281,0,76.90029762557036,{"$f":"INDEX('Floor Space'!$I$5:$DK$50,MATCH(ACIM!DS17,'Floor Space'!$I$5:$I$50,0),MATCH(ACIM!DS$10,'Floor Space'!$I$5:$DK$5,0))*ACIM!DZ17","v":12.367764874349849},89.268062499920205,708.10547231758267,17.965529529761259,1.7776476310016553E-2,null,null,1992,281.53481754773037,0,30.805280412172923,{"$f":"INDEX('Floor Space'!$I$5:$DK$50,MATCH(ACIM!ED17,'Floor Space'!$I$5:$I$50,0),MATCH(ACIM!ED$10,'Floor Space'!$I$5:$DK$5,0))*ACIM!EK17","v":5.0046970145820575},35.809977426754983,286.53951456231243,17.965529529761259,1.7776476310016553E-2,null,null,1992,649.84805570465619,0,70.934712165314153,{"$f":"INDEX('Floor Space'!$I$5:$DK$50,MATCH(ACIM!EO17,'Floor Space'!$I$5:$I$50,0),MATCH(ACIM!EO$10,'Floor Space'!$I$5:$DK$5,0))*ACIM!EV17","v":6.9710925613151415},77.905804726629299,656.81914826597131,17.965529529761259,1.0727265397072028E-2,null,null,1992,2068.011725078451,0,220.72335532991937,{"$f":"INDEX('Floor Space'!$I$5:$DK$50,MATCH(ACIM!EZ17,'Floor Space'!$I$5:$I$50,0),MATCH(ACIM!EZ$10,'Floor Space'!$I$5:$DK$5,0))*ACIM!FG17","v":16.037037727918566},236.76039305783794,2084.0487628063697,17.965529529761259,7.7548098656501363E-3,null,null,1992,757.35597983329046,0,79.933820994358229,{"$f":"INDEX('Floor Space'!$I$5:$DK$50,MATCH(ACIM!FK17,'Floor Space'!$I$5:$I$50,0),MATCH(ACIM!FK$10,'Floor Space'!$I$5:$DK$5,0))*ACIM!FR17","v":21.933716958613257},101.86753795297149,779.28969679190368,17.965529529761259,2.8960908136542729E-2,null,null,1992,1645.488557618854,0,172.50784910015551,{"$f":"INDEX('Floor Space'!$I$5:$DK$50,MATCH(ACIM!FV17,'Floor Space'!$I$5:$I$50,0),MATCH(ACIM!FV$10,'Floor Space'!$I$5:$DK$5,0))*ACIM!GC17","v":45.044759406238661},217.55260850639417,1690.5333170250926,17.965529529761259,2.7374702302045639E-2,null,null,1992,2376.4897502403751,0,251.05305306571989,{"$f":"INDEX('Floor Space'!$I$5:$DK$50,MATCH(ACIM!GG17,'Floor Space'!$I$5:$I$50,0),MATCH(ACIM!GG$10,'Floor Space'!$I$5:$DK$5,0))*ACIM!GN17","v":46.97974090702084},298.03279397274071,2423.4694911473957,17.965529529761259,1.9768543458800414E-2,null,null,1992,4629.7956208458172,0,482.16996254362641,{"$f":"INDEX('Floor Space'!$I$5:$DK$50,MATCH(ACIM!GR17,'Floor Space'!$I$5:$I$50,0),MATCH(ACIM!GR$10,'Floor Space'!$I$5:$DK$5,0))*ACIM!GY17","v":95.079487483635191},577.24945002726156,4724.8751083294528,17.965529529761259,2.0536432981088204E-2]
[null,1993,34923.155442206269,0,3668.8318063530101,656.12571166379962,4324.9575180168085,35579.281153870063,17.965529529761259,1.8787698401125486E-2,null,null,1993,3313.9992333108339,0,343.39557367037139,{"$f":"INDEX('Floor Space'!$I$5:$DK$54,MATCH(ACIM!M18,'Floor Space'!$I$5:$I$54,0),MATCH(ACIM!M$10,'Floor Space'!$I$5:$DK$5,0))*ACIM!T18","v":34.061742762046428},377.45731643241783,3348.0609760728803,17.965529529761259,1.027813839534808E-2,null,null,1993,1493.0924579161763,0,154.7137778353673,{"$f":"INDEX('Floor Space'!$I$5:$DK$50,MATCH(ACIM!X18,'Floor Space'!$I$5:$I$50,0),MATCH(ACIM!X$10,'Floor Space'!$I$5:$DK$5,0))*ACIM!AE18","v":15.346210919513},170.05998875488029,1508.4386688356892,17.965529529761259,1.027813839534808E-2,null,null,1993,1751.9512687767485,0,181.53664760600708,{"$f":"INDEX('Floor Space'!$I$5:$DK$50,MATCH(ACIM!AI18,'Floor Space'!$I$5:$I$50,0),MATCH(ACIM!AI$10,'Floor Space'!$I$5:$DK$5,0))*ACIM!AP18","v":18.006797602393213},199.5434452084003,1769.9580663791417,17.965529529761259,1.027813839534808E-2,null,null,1993,1606.3766735444292,0,166.35653559159138,{"$f":"INDEX('Floor Space'!$I$5:$DK$50,MATCH(ACIM!AT18,'Floor Space'!$I$5:$I$50,0),MATCH(ACIM!AT$10,'Floor Space'!$I$5:$DK$5,0))*ACIM!BA18","v":33.664440294421318},200.02097588601271,1640.0411138388506,17.965529529761259,2.0956753698459618E-2,null,null,1993,2966.9509396293543,0,313.32881724063276,{"$f":"INDEX('Floor Space'!$I$5:$DK$50,MATCH(ACIM!BE18,'Floor Space'!$I$5:$I$50,0),MATCH(ACIM!BE$10,'Floor Space'!$I$5:$DK$5,0))*ACIM!BL18","v":62.177660077225426},375.50647731785818,3029.1285997065797,17.965529529761259,2.0956753698459618E-2,null,null,1993,741.73773490733856,0,78.33220431015819,{"$f":"INDEX('Floor Space'!$I$5:$DK$50,MATCH(ACIM!BP18,'Floor Space'!$I$5:$I$50,0),MATCH(ACIM!BP$10,'Floor Space'!$I$5:$DK$5,0))*ACIM!BW18","v":15.544415019306356},93.876619329464546,757.28214992664493,17.965529529761259,2.0956753698459618E-2,null,null,1993,1432.0861969052464,0,151.23737580878654,{"$f":"INDEX('Floor Space'!$I$5:$DK$50,MATCH(ACIM!CA18,'Floor Space'!$I$5:$I$50,0),MATCH(ACIM!CA$10,'Floor Space'!$I$5:$DK$5,0))*ACIM!CH18","v":30.011877703506848},181.24925351229339,1462.0980746087532,17.965529529761259,2.0956753698459396E-2,null,null,1993,3004.2254403165612,0,316.39484056007745,{"$f":"INDEX('Floor Space'!$I$5:$DK$50,MATCH(ACIM!CL18,'Floor Space'!$I$5:$I$50,0),MATCH(ACIM!CL$10,'Floor Space'!$I$5:$DK$5,0))*ACIM!CS18","v":69.280580756037878},385.67542131611532,3073.5060210725992,17.965529529761259,2.3061045894324783E-2,null,null,1993,1525.2428309325605,0,162.2113887770611,{"$f":"INDEX('Floor Space'!$I$5:$DK$50,MATCH(ACIM!CW18,'Floor Space'!$I$5:$I$50,0),MATCH(ACIM!CW$10,'Floor Space'!$I$5:$DK$5,0))*ACIM!DD18","v":35.689996147049818},197.90138492411091,1560.9328270796104,17.965529529761259,2.3399550172104933E-2,null,null,1993,3733.8121547209357,0,390.006773550952,{"$f":"INDEX('Floor Space'!$I$5:$DK$50,MATCH(ACIM!DH18,'Floor Space'!$I$5:$I$50,0),MATCH(ACIM!DH$10,'Floor Space'!$I$5:$DK$5,0))*ACIM!DO18","v":78.644895999829231},468.65166955078121,3812.457050720765,17.965529529761259,2.1062895705771467E-2,null,null,1993,708.10547231758267,0,78.26731394454454,{"$f":"INDEX('Floor Space'!$I$5:$DK$50,MATCH(ACIM!DS18,'Floor Space'!$I$5:$I$50,0),MATCH(ACIM!DS$10,'Floor Space'!$I$5:$DK$5,0))*ACIM!DZ18","v":17.676359383106139},95.943673327650686,725.78183170068883,17.965529529761259,2.496289052145384E-2,null,null,1993,286.53951456231243,0,31.352889749643335,{"$f":"INDEX('Floor Space'!$I$5:$DK$50,MATCH(ACIM!ED18,'Floor Space'!$I$5:$I$50,0),MATCH(ACIM!ED$10,'Floor Space'!$I$5:$DK$5,0))*ACIM!EK18","v":7.152854532089516},38.505744281732852,293.69236909440195,17.965529529761259,2.496289052145384E-2,null,null,1993,656.81914826597131,0,71.695647648576383,{"$f":"INDEX('Floor Space'!$I$5:$DK$50,MATCH(ACIM!EO18,'Floor Space'!$I$5:$I$50,0),MATCH(ACIM!EO$10,'Floor Space'!$I$5:$DK$5,0))*ACIM!EV18","v":6.9600617261838682},78.655709374760249,663.77920999215519,17.965529529761259,1.0596618178015493E-2,null,null,1993,2084.0487628063697,0,222.43502298341122,{"$f":"INDEX('Floor Space'!$I$5:$DK$50,MATCH(ACIM!EZ18,'Floor Space'!$I$5:$I$50,0),MATCH(ACIM!EZ$10,'Floor Space'!$I$5:$DK$5,0))*ACIM!FG18","v":24.146569964475617},246.58159294788683,2108.1953327708452,17.965529529761259,1.1586374750636841E-2,null,null,1993,779.28969679190368,0,82.248777041178684,{"$f":"INDEX('Floor Space'!$I$5:$DK$50,MATCH(ACIM!FK18,'Floor Space'!$I$5:$I$50,0),MATCH(ACIM!FK$10,'Floor Space'!$I$5:$DK$5,0))*ACIM!FR18","v":16.8086904933825},99.057467534561184,796.09838728528621,17.965529529761259,2.1569245124860137E-2,null,null,1993,1690.5333170250926,0,177.23020011403847,{"$f":"INDEX('Floor Space'!$I$5:$DK$50,MATCH(ACIM!FV18,'Floor Space'!$I$5:$I$50,0),MATCH(ACIM!FV$10,'Floor Space'!$I$5:$DK$5,0))*ACIM!GC18","v":35.237951589162705},212.46815170320116,1725.7712686142554,17.965529529761259,2.0844281052782021E-2,null,null,1993,2423.4694911473957,0,256.0160062557141,{"$f":"INDEX('Floor Space'!$I$5:$DK$50,MATCH(ACIM!GG18,'Floor Space'!$I$5:$I$50,0),MATCH(ACIM!GG$10,'Floor Space'!$I$5:$DK$5,0))*ACIM!GN18","v":50.302088050318567},306.31809430603266,2473.7715791977143,17.965529529761259,2.0756229131031034E-2,null,null,1993,4724.8751083294528,0,492.07201366489733,{"$f":"INDEX('Floor Space'!$I$5:$DK$50,MATCH(ACIM!GR18,'Floor Space'!$I$5:$I$50,0),MATCH(ACIM!GR$10,'Floor Space'!$I$5:$DK$5,0))*ACIM!GY18","v":105.41251864375113},597.48453230864845,4830.2876269732042,17.965529529761259,2.2310117458537837E-2]
[null,1994,35579.281153870063,0,3737.8214999221909,754.85804701438553,4492.679546936577,36334.139200884456,17.965529529761259,2.121622535738843E-2,null,null,1994,3348.0609760728803,0,346.9250409009054,{"$f":"INDEX('Floor Space'!$I$5:$DK$54,MATCH(ACIM!M19,'Floor Space'!$I$5:$I$54,0),MATCH(ACIM!M$10,'Floor Space'!$I$5:$DK$5,0))*ACIM!T19","v":53.419836003740997},400.34487690464641,3401.4808120766211,17.965529529761259,1.595545492913919E-2,null,null,1994,1508.4386688356892,0,156.30394745562637,{"$f":"INDEX('Floor Space'!$I$5:$DK$50,MATCH(ACIM!X19,'Floor Space'!$I$5:$I$50,0),MATCH(ACIM!X$10,'Floor Space'!$I$5:$DK$5,0))*ACIM!AE19","v":24.067825193978734},180.37177264960511,1532.5064940296679,17.965529529761259,1.595545492913919E-2,null,null,1994,1769.9580663791417,0,183.40250639392914,{"$f":"INDEX('Floor Space'!$I$5:$DK$50,MATCH(ACIM!AI19,'Floor Space'!$I$5:$I$50,0),MATCH(ACIM!AI$10,'Floor Space'!$I$5:$DK$5,0))*ACIM!AP19","v":28.240486154578953},211.64299254850809,1798.1985525337207,17.965529529761259,1.5955454929139412E-2,null,null,1994,1640.0411138388506,0,169.84282853411338,{"$f":"INDEX('Floor Space'!$I$5:$DK$50,MATCH(ACIM!AT19,'Floor Space'!$I$5:$I$50,0),MATCH(ACIM!AT$10,'Floor Space'!$I$5:$DK$5,0))*ACIM!BA19","v":44.627861676457151},214.47069021057052,1684.6689755153077,17.965529529761259,2.7211428603760135E-2,null,null,1994,3029.1285997065797,0,319.89517209017436,{"$f":"INDEX('Floor Space'!$I$5:$DK$50,MATCH(ACIM!BE19,'Floor Space'!$I$5:$I$50,0),MATCH(ACIM!BE$10,'Floor Space'!$I$5:$DK$5,0))*ACIM!BL19","v":82.426916622523564},402.32208871269791,3111.5555163291033,17.965529529761259,2.7211428603760135E-2,null,null,1994,757.28214992664493,0,79.973793022543589,{"$f":"INDEX('Floor Space'!$I$5:$DK$50,MATCH(ACIM!BP19,'Floor Space'!$I$5:$I$50,0),MATCH(ACIM!BP$10,'Floor Space'!$I$5:$DK$5,0))*ACIM!BW19","v":20.606729155630891},100.58052217817448,777.88887908227582,17.965529529761259,2.7211428603760135E-2,null,null,1994,1462.0980746087532,0,154.40682024361263,{"$f":"INDEX('Floor Space'!$I$5:$DK$50,MATCH(ACIM!CA19,'Floor Space'!$I$5:$I$50,0),MATCH(ACIM!CA$10,'Floor Space'!$I$5:$DK$5,0))*ACIM!CH19","v":39.785777368911269},194.19259761252391,1501.8838519776646,17.965529529761259,2.7211428603760135E-2,null,null,1994,3073.5060210725992,0,323.6912364989609,{"$f":"INDEX('Floor Space'!$I$5:$DK$50,MATCH(ACIM!CL19,'Floor Space'!$I$5:$I$50,0),MATCH(ACIM!CL$10,'Floor Space'!$I$5:$DK$5,0))*ACIM!CS19","v":66.782590291555934},390.47382679051685,3140.2886113641553,17.965529529761259,2.1728472250804431E-2,null,null,1994,1560.9328270796104,0,166.00706230723679,{"$f":"INDEX('Floor Space'!$I$5:$DK$50,MATCH(ACIM!CW19,'Floor Space'!$I$5:$I$50,0),MATCH(ACIM!CW$10,'Floor Space'!$I$5:$DK$5,0))*ACIM!DD19","v":34.403152574437904},200.4102148816747,1595.3359796540483,17.965529529761259,2.2040123686041913E-2,null,null,1994,3812.457050720765,0,398.22144554680017,{"$f":"INDEX('Floor Space'!$I$5:$DK$50,MATCH(ACIM!DH19,'Floor Space'!$I$5:$I$50,0),MATCH(ACIM!DH$10,'Floor Space'!$I$5:$DK$5,0))*ACIM!DO19","v":107.98235420451593},506.20379975131607,3920.439404925281,17.965529529761259,2.8323559522880792E-2,null,null,1994,725.78183170068883,0,80.221092333950466,{"$f":"INDEX('Floor Space'!$I$5:$DK$50,MATCH(ACIM!DS19,'Floor Space'!$I$5:$I$50,0),MATCH(ACIM!DS$10,'Floor Space'!$I$5:$DK$5,0))*ACIM!DZ19","v":22.62628230042397},102.84737463437443,748.40811400111284,17.965529529761259,3.117504642876634E-2,null,null,1994,293.69236909440195,0,32.135548503994897,{"$f":"INDEX('Floor Space'!$I$5:$DK$50,MATCH(ACIM!ED19,'Floor Space'!$I$5:$I$50,0),MATCH(ACIM!ED$10,'Floor Space'!$I$5:$DK$5,0))*ACIM!EK19","v":9.1558732422923264},41.291421746287227,302.84824233669428,17.965529529761259,3.117504642876634E-2,null,null,1994,663.77920999215519,0,72.455379051733885,{"$f":"INDEX('Floor Space'!$I$5:$DK$50,MATCH(ACIM!EO19,'Floor Space'!$I$5:$I$50,0),MATCH(ACIM!EO$10,'Floor Space'!$I$5:$DK$5,0))*ACIM!EV19","v":8.6216216902733684},81.077000742007257,672.40083168242859,17.965529529761259,1.2988688950314131E-2,null,null,1994,2108.1953327708452,0,225.01223851736356,{"$f":"INDEX('Floor Space'!$I$5:$DK$50,MATCH(ACIM!EZ19,'Floor Space'!$I$5:$I$50,0),MATCH(ACIM!EZ$10,'Floor Space'!$I$5:$DK$5,0))*ACIM!FG19","v":26.945312016739948},251.95755053410352,2135.1406447875852,17.965529529761259,1.2781221738749071E-2,null,null,1994,796.09838728528621,0,84.022821074399843,{"$f":"INDEX('Floor Space'!$I$5:$DK$50,MATCH(ACIM!FK19,'Floor Space'!$I$5:$I$50,0),MATCH(ACIM!FK$10,'Floor Space'!$I$5:$DK$5,0))*ACIM!FR19","v":16.906349530939682},100.92917060533952,813.00473681622589,17.965529529761259,2.1236507699244012E-2,null,null,1994,1725.7712686142554,0,180.92443621625625,{"$f":"INDEX('Floor Space'!$I$5:$DK$50,MATCH(ACIM!FV19,'Floor Space'!$I$5:$I$50,0),MATCH(ACIM!FV$10,'Floor Space'!$I$5:$DK$5,0))*ACIM!GC19","v":34.84867607627843},215.77311229253468,1760.6199446905339,17.965529529761259,2.0193102475428937E-2,null,null,1994,2473.7715791977143,0,261.32993314276922,{"$f":"INDEX('Floor Space'!$I$5:$DK$50,MATCH(ACIM!GG19,'Floor Space'!$I$5:$I$50,0),MATCH(ACIM!GG$10,'Floor Space'!$I$5:$DK$5,0))*ACIM!GN19","v":43.558690435494952},304.88862357826417,2517.3302696332094,17.965529529761259,1.7608210394923329E-2,null,null,1994,4830.2876269732042,0,503.05019808782038,{"$f":"INDEX('Floor Space'!$I$5:$DK$50,MATCH(ACIM!GR19,'Floor Space'!$I$5:$I$50,0),MATCH(ACIM!GR$10,'Floor Space'!$I$5:$DK$5,0))*ACIM!GY19","v":89.851712475611421},592.90191056343178,4920.1393394488159,17.965529529761259,1.8601731286945311E-2]
[null,1995,36334.139200884456,0,3817.1691900163123,922.58832953979868,4739.7575195561112,37256.72753042425,17.965529529761259,2.5391776159577661E-2,null,null,1995,3401.4808120766211,0,352.46038775478956,{"$f":"INDEX('Floor Space'!$I$5:$DK$54,MATCH(ACIM!M20,'Floor Space'!$I$5:$I$54,0),MATCH(ACIM!M$10,'Floor Space'!$I$5:$DK$5,0))*ACIM!T20","v":66.820072083090906},419.28045983788047,3468.300884159712,17.965529529761259,1.9644406590756835E-2,null,null,1995,1532.5064940296679,0,158.79784804450117,{"$f":"INDEX('Floor Space'!$I$5:$DK$50,MATCH(ACIM!X20,'Floor Space'!$I$5:$I$50,0),MATCH(ACIM!X$10,'Floor Space'!$I$5:$DK$5,0))*ACIM!AE20","v":30.105180671694065},188.90302871619522,1562.6116747013621,17.965529529761259,1.9644406590756835E-2,null,null,1995,1798.1985525337207,0,186.32877681858869,{"$f":"INDEX('Floor Space'!$I$5:$DK$50,MATCH(ACIM!AI20,'Floor Space'!$I$5:$I$50,0),MATCH(ACIM!AI$10,'Floor Space'!$I$5:$DK$5,0))*ACIM!AP20","v":35.324543496882832},221.65332031547152,1833.5230960306035,17.965529529761259,1.9644406590756835E-2,null,null,1995,1684.6689755153077,0,174.4644945366301,{"$f":"INDEX('Floor Space'!$I$5:$DK$50,MATCH(ACIM!AT20,'Floor Space'!$I$5:$I$50,0),MATCH(ACIM!AT$10,'Floor Space'!$I$5:$DK$5,0))*ACIM!BA20","v":40.994526848827967},215.45902138545807,1725.6635023641356,17.965529529761259,2.4333876532799836E-2,null,null,1995,3111.5555163291033,0,328.59997672619374,{"$f":"INDEX('Floor Space'!$I$5:$DK$50,MATCH(ACIM!BE20,'Floor Space'!$I$5:$I$50,0),MATCH(ACIM!BE$10,'Floor Space'!$I$5:$DK$5,0))*ACIM!BL20","v":75.716207759304794},404.31618448549852,3187.2717240884081,17.965529529761259,2.4333876532799836E-2,null,null,1995,777.88887908227582,0,82.149994181548436,{"$f":"INDEX('Floor Space'!$I$5:$DK$50,MATCH(ACIM!BP20,'Floor Space'!$I$5:$I$50,0),MATCH(ACIM!BP$10,'Floor Space'!$I$5:$DK$5,0))*ACIM!BW20","v":18.929051939826198},101.07904612137463,796.81793102210202,17.965529529761259,2.4333876532799836E-2,null,null,1995,1501.8838519776646,0,158.60845040860531,{"$f":"INDEX('Floor Space'!$I$5:$DK$50,MATCH(ACIM!CA20,'Floor Space'!$I$5:$I$50,0),MATCH(ACIM!CA$10,'Floor Space'!$I$5:$DK$5,0))*ACIM!CH20","v":36.546656220630389},195.15510662923569,1538.430508198295,17.965529529761259,2.4333876532799836E-2,null,null,1995,3140.2886113641553,0,330.72455254905719,{"$f":"INDEX('Floor Space'!$I$5:$DK$50,MATCH(ACIM!CL20,'Floor Space'!$I$5:$I$50,0),MATCH(ACIM!CL$10,'Floor Space'!$I$5:$DK$5,0))*ACIM!CS20","v":88.1568002245711},418.88135277362829,3228.4454115887265,17.965529529761259,2.8072833785260043E-2,null,null,1995,1595.3359796540483,0,169.66587849324478,{"$f":"INDEX('Floor Space'!$I$5:$DK$50,MATCH(ACIM!CW20,'Floor Space'!$I$5:$I$50,0),MATCH(ACIM!CW$10,'Floor Space'!$I$5:$DK$5,0))*ACIM!DD20","v":45.414109206597224},215.07998769984201,1640.7500888606455,17.965529529761259,2.8466799336178239E-2,null,null,1995,3920.439404925281,0,409.5004943630326,{"$f":"INDEX('Floor Space'!$I$5:$DK$50,MATCH(ACIM!DH20,'Floor Space'!$I$5:$I$50,0),MATCH(ACIM!DH$10,'Floor Space'!$I$5:$DK$5,0))*ACIM!DO20","v":174.54036531625331},584.04085967928586,4094.9797702415344,17.965529529761259,4.4520612943788063E-2,null,null,1995,748.40811400111284,0,82.721988612027729,{"$f":"INDEX('Floor Space'!$I$5:$DK$50,MATCH(ACIM!DS20,'Floor Space'!$I$5:$I$50,0),MATCH(ACIM!DS$10,'Floor Space'!$I$5:$DK$5,0))*ACIM!DZ20","v":20.349503121084044},103.07149173311177,768.75761712219685,17.965529529761259,2.719038281438757E-2,null,null,1995,302.84824233669428,0,33.137375720620803,{"$f":"INDEX('Floor Space'!$I$5:$DK$50,MATCH(ACIM!ED20,'Floor Space'!$I$5:$I$50,0),MATCH(ACIM!ED$10,'Floor Space'!$I$5:$DK$5,0))*ACIM!EK20","v":8.2345596437991215},41.371935364419926,311.0828019804934,17.965529529761259,2.719038281438757E-2,null,null,1995,672.40083168242859,0,73.396479433013965,{"$f":"INDEX('Floor Space'!$I$5:$DK$50,MATCH(ACIM!EO20,'Floor Space'!$I$5:$I$50,0),MATCH(ACIM!EO$10,'Floor Space'!$I$5:$DK$5,0))*ACIM!EV20","v":9.0776227607977678},82.474102193811731,681.47845444322638,17.965529529761259,1.3500314593728913E-2,null,null,1995,2135.1406447875852,0,227.88816983178626,{"$f":"INDEX('Floor Space'!$I$5:$DK$50,MATCH(ACIM!EZ20,'Floor Space'!$I$5:$I$50,0),MATCH(ACIM!EZ$10,'Floor Space'!$I$5:$DK$5,0))*ACIM!FG20","v":40.894575558004959},268.78274538979122,2176.03522034559,17.965529529761259,1.9153106217072224E-2,null,null,1995,813.00473681622589,0,85.807172361058534,{"$f":"INDEX('Floor Space'!$I$5:$DK$50,MATCH(ACIM!FK20,'Floor Space'!$I$5:$I$50,0),MATCH(ACIM!FK$10,'Floor Space'!$I$5:$DK$5,0))*ACIM!FR20","v":16.047214338051759},101.85438669911029,829.05195115427762,17.965529529761259,1.9738156017262032E-2,null,null,1995,1760.6199446905339,0,184.57786189708031,{"$f":"INDEX('Floor Space'!$I$5:$DK$50,MATCH(ACIM!FV20,'Floor Space'!$I$5:$I$50,0),MATCH(ACIM!FV$10,'Floor Space'!$I$5:$DK$5,0))*ACIM!GC20","v":32.666822016722733},217.24468391380304,1793.2867667072567,17.965529529761259,1.8554158786645347E-2,null,null,1995,2517.3302696332094,0,265.9314855880383,{"$f":"INDEX('Floor Space'!$I$5:$DK$50,MATCH(ACIM!GG20,'Floor Space'!$I$5:$I$50,0),MATCH(ACIM!GG$10,'Floor Space'!$I$5:$DK$5,0))*ACIM!GN20","v":60.902238421546365},326.83372400958467,2578.2325080547557,17.965529529761259,2.4193185596747435E-2,null,null,1995,4920.1393394488159,0,512.40780269649463,{"$f":"INDEX('Floor Space'!$I$5:$DK$50,MATCH(ACIM!GR20,'Floor Space'!$I$5:$I$50,0),MATCH(ACIM!GR$10,'Floor Space'!$I$5:$DK$5,0))*ACIM!GY20","v":121.86827991211319},634.27608260860779,5042.0076193609293,17.965529529761259,2.4769274100632677E-2]
[null,1996,37256.72753042425,0,3914.068364611147,912.33430572427608,4826.402670335423,38169.061836148518,17.965529529761259,2.4487773516319811E-2,null,null,1996,3468.300884159712,0,359.38426291898048,{"$f":"INDEX('Floor Space'!$I$5:$DK$54,MATCH(ACIM!M21,'Floor Space'!$I$5:$I$54,0),MATCH(ACIM!M$10,'Floor Space'!$I$5:$DK$5,0))*ACIM!T21","v":77.009411710601569},436.39367462958205,3545.3102958703134,17.965529529761259,2.220378631574782E-2,null,null,1996,1562.6116747013621,0,161.91733753722454,{"$f":"INDEX('Floor Space'!$I$5:$DK$50,MATCH(ACIM!X21,'Floor Space'!$I$5:$I$50,0),MATCH(ACIM!X$10,'Floor Space'!$I$5:$DK$5,0))*ACIM!AE21","v":34.695895719561925},196.61323325678646,1597.3075704209241,17.965529529761259,2.220378631574782E-2,null,null,1996,1833.5230960306035,0,189.98909506997146,{"$f":"INDEX('Floor Space'!$I$5:$DK$50,MATCH(ACIM!AI21,'Floor Space'!$I$5:$I$50,0),MATCH(ACIM!AI$10,'Floor Space'!$I$5:$DK$5,0))*ACIM!AP21","v":40.711155029251927},230.70025009922338,1874.2342510598555,17.965529529761259,2.220378631574782E-2,null,null,1996,1725.6635023641356,0,178.70989200604174,{"$f":"INDEX('Floor Space'!$I$5:$DK$50,MATCH(ACIM!AT21,'Floor Space'!$I$5:$I$50,0),MATCH(ACIM!AT$10,'Floor Space'!$I$5:$DK$5,0))*ACIM!BA21","v":22.420823456221967},201.13071546226371,1748.0843258203577,17.965529529761259,1.2992581361027655E-2,null,null,1996,3187.2717240884081,0,336.59608798852986,{"$f":"INDEX('Floor Space'!$I$5:$DK$50,MATCH(ACIM!BE21,'Floor Space'!$I$5:$I$50,0),MATCH(ACIM!BE$10,'Floor Space'!$I$5:$DK$5,0))*ACIM!BL21","v":41.410887194921521},378.0069751834514,3228.6826112833296,17.965529529761259,1.2992581361027655E-2,null,null,1996,796.81793102210202,0,84.149021997132465,{"$f":"INDEX('Floor Space'!$I$5:$DK$50,MATCH(ACIM!BP21,'Floor Space'!$I$5:$I$50,0),MATCH(ACIM!BP$10,'Floor Space'!$I$5:$DK$5,0))*ACIM!BW21","v":10.35272179873038},94.501743795862851,807.1706528208324,17.965529529761259,1.2992581361027655E-2,null,null,1996,1538.430508198295,0,162.46800885790705,{"$f":"INDEX('Floor Space'!$I$5:$DK$50,MATCH(ACIM!CA21,'Floor Space'!$I$5:$I$50,0),MATCH(ACIM!CA$10,'Floor Space'!$I$5:$DK$5,0))*ACIM!CH21","v":19.98818354605346},182.4561924039605,1558.4186917443485,17.965529529761259,1.2992581361027655E-2,null,null,1996,3228.4454115887265,0,340.00892794147143,{"$f":"INDEX('Floor Space'!$I$5:$DK$50,MATCH(ACIM!CL21,'Floor Space'!$I$5:$I$50,0),MATCH(ACIM!CL$10,'Floor Space'!$I$5:$DK$5,0))*ACIM!CS21","v":63.232577223354951},403.24150516482638,3291.6779888120814,17.965529529761259,1.9586076009331599E-2,null,null,1996,1640.7500888606455,0,174.49572301050841,{"$f":"INDEX('Floor Space'!$I$5:$DK$50,MATCH(ACIM!CW21,'Floor Space'!$I$5:$I$50,0),MATCH(ACIM!CW$10,'Floor Space'!$I$5:$DK$5,0))*ACIM!DD21","v":32.57435796354649},207.07008097405492,1673.3244468241919,17.965529529761259,1.9853333048524435E-2,null,null,1996,4094.9797702415344,0,427.73170737285909,{"$f":"INDEX('Floor Space'!$I$5:$DK$50,MATCH(ACIM!DH21,'Floor Space'!$I$5:$I$50,0),MATCH(ACIM!DH$10,'Floor Space'!$I$5:$DK$5,0))*ACIM!DO21","v":198.95834053533503},626.69004790819417,4293.9381107768695,17.965529529761259,4.8585915364265597E-2,null,null,1996,768.75761712219685,0,84.971231149556147,{"$f":"INDEX('Floor Space'!$I$5:$DK$50,MATCH(ACIM!DS21,'Floor Space'!$I$5:$I$50,0),MATCH(ACIM!DS$10,'Floor Space'!$I$5:$DK$5,0))*ACIM!DZ21","v":12.752297422225865},97.723528571782012,781.50991454442271,17.965529529761259,1.6588190007096548E-2,null,null,1996,311.0828019804934,0,34.038393651928672,{"$f":"INDEX('Floor Space'!$I$5:$DK$50,MATCH(ACIM!ED21,'Floor Space'!$I$5:$I$50,0),MATCH(ACIM!ED$10,'Floor Space'!$I$5:$DK$5,0))*ACIM!EK21","v":5.1603006271924485},39.198694279121121,316.24310260768584,17.965529529761259,1.6588190007096548E-2,null,null,1996,681.47845444322638,0,74.387354995431835,{"$f":"INDEX('Floor Space'!$I$5:$DK$50,MATCH(ACIM!EO21,'Floor Space'!$I$5:$I$50,0),MATCH(ACIM!EO$10,'Floor Space'!$I$5:$DK$5,0))*ACIM!EV21","v":7.8442891585796586},82.231644154011491,689.322743601806,17.965529529761259,1.1510692828856195E-2,null,null,1996,2176.03522034559,0,232.25293615418863,{"$f":"INDEX('Floor Space'!$I$5:$DK$50,MATCH(ACIM!EZ21,'Floor Space'!$I$5:$I$50,0),MATCH(ACIM!EZ$10,'Floor Space'!$I$5:$DK$5,0))*ACIM!FG21","v":49.007305658818311},281.26024181300693,2225.0425260044085,17.965529529761259,2.2521375205974525E-2,null,null,1996,829.05195115427762,0,87.500847716521179,{"$f":"INDEX('Floor Space'!$I$5:$DK$50,MATCH(ACIM!FK21,'Floor Space'!$I$5:$I$50,0),MATCH(ACIM!FK$10,'Floor Space'!$I$5:$DK$5,0))*ACIM!FR21","v":13.673230941148983},101.17407865767017,842.72518209542659,17.965529529761259,1.6492610531959828E-2,null,null,1996,1793.2867667072567,0,188.00254885521827,{"$f":"INDEX('Floor Space'!$I$5:$DK$50,MATCH(ACIM!FV21,'Floor Space'!$I$5:$I$50,0),MATCH(ACIM!FV$10,'Floor Space'!$I$5:$DK$5,0))*ACIM!GC21","v":28.220551438242236},216.2231002934605,1821.5073181454989,17.965529529761259,1.5736775602297692E-2,null,null,1996,2578.2325080547557,0,272.36521537488852,{"$f":"INDEX('Floor Space'!$I$5:$DK$50,MATCH(ACIM!GG21,'Floor Space'!$I$5:$I$50,0),MATCH(ACIM!GG$10,'Floor Space'!$I$5:$DK$5,0))*ACIM!GN21","v":84.052682078053138},356.41789745294165,2662.285190132809,17.965529529761259,3.2600892982095786E-2,null,null,1996,5042.0076193609293,0,525.09977201278696,{"$f":"INDEX('Floor Space'!$I$5:$DK$50,MATCH(ACIM!GR21,'Floor Space'!$I$5:$I$50,0),MATCH(ACIM!GR$10,'Floor Space'!$I$5:$DK$5,0))*ACIM!GY21","v":170.26929422243646},695.36906623522339,5212.276913583366,17.965529529761259,3.3770138222047885E-2]
[null,1997,38169.061836148518,0,4009.7413291030271,1052.5480086483419,5062.2893377513683,39221.609844796876,17.965529529761259,2.7575946539286633E-2,null,null,1997,3545.3102958703134,0,367.36395429807607,{"$f":"INDEX('Floor Space'!$I$5:$DK$54,MATCH(ACIM!M22,'Floor Space'!$I$5:$I$54,0),MATCH(ACIM!M$10,'Floor Space'!$I$5:$DK$5,0))*ACIM!T22","v":84.11030632729414},451.47426062537022,3629.4206021976074,17.965529529761259,2.3724384978451196E-2,null,null,1997,1597.3075704209241,0,165.51251550071592,{"$f":"INDEX('Floor Space'!$I$5:$DK$50,MATCH(ACIM!X22,'Floor Space'!$I$5:$I$50,0),MATCH(ACIM!X$10,'Floor Space'!$I$5:$DK$5,0))*ACIM!AE22","v":37.895139729660606},203.40765523037652,1635.2027101505846,17.965529529761259,2.3724384978451196E-2,null,null,1997,1874.2342510598555,0,194.20757233922737,{"$f":"INDEX('Floor Space'!$I$5:$DK$50,MATCH(ACIM!AI22,'Floor Space'!$I$5:$I$50,0),MATCH(ACIM!AI$10,'Floor Space'!$I$5:$DK$5,0))*ACIM!AP22","v":44.465054911943227},238.67262725117058,1918.6993059717988,17.965529529761259,2.3724384978451196E-2,null,null,1997,1748.0843258203577,0,181.03179481795073,{"$f":"INDEX('Floor Space'!$I$5:$DK$50,MATCH(ACIM!AT22,'Floor Space'!$I$5:$I$50,0),MATCH(ACIM!AT$10,'Floor Space'!$I$5:$DK$5,0))*ACIM!BA22","v":27.973398034913508},209.00519285286424,1776.0577238552712,17.965529529761259,1.6002316147869955E-2,null,null,1997,3228.6826112833296,0,340.96934004752444,{"$f":"INDEX('Floor Space'!$I$5:$DK$50,MATCH(ACIM!BE22,'Floor Space'!$I$5:$I$50,0),MATCH(ACIM!BE$10,'Floor Space'!$I$5:$DK$5,0))*ACIM!BL22","v":51.666399886886232},392.63573993441065,3280.3490111702158,17.965529529761259,1.6002316147869955E-2,null,null,1997,807.1706528208324,0,85.24233501188111,{"$f":"INDEX('Floor Space'!$I$5:$DK$50,MATCH(ACIM!BP22,'Floor Space'!$I$5:$I$50,0),MATCH(ACIM!BP$10,'Floor Space'!$I$5:$DK$5,0))*ACIM!BW22","v":12.916599971721558},98.158934983602663,820.08725279255395,17.965529529761259,1.6002316147869955E-2,null,null,1997,1558.4186917443485,0,164.57888768155755,{"$f":"INDEX('Floor Space'!$I$5:$DK$50,MATCH(ACIM!CA22,'Floor Space'!$I$5:$I$50,0),MATCH(ACIM!CA$10,'Floor Space'!$I$5:$DK$5,0))*ACIM!CH22","v":24.938308596042987},189.51719627760053,1583.3570003403916,17.965529529761259,1.6002316147869955E-2,null,null,1997,3291.6779888120814,0,346.66836864798438,{"$f":"INDEX('Floor Space'!$I$5:$DK$50,MATCH(ACIM!CL22,'Floor Space'!$I$5:$I$50,0),MATCH(ACIM!CL$10,'Floor Space'!$I$5:$DK$5,0))*ACIM!CS22","v":73.148652684549035},419.81702133253339,3364.8266414966306,17.965529529761259,2.2222299062414574E-2,null,null,1997,1673.3244468241919,0,177.96004471497906,{"$f":"INDEX('Floor Space'!$I$5:$DK$50,MATCH(ACIM!CW22,'Floor Space'!$I$5:$I$50,0),MATCH(ACIM!CW$10,'Floor Space'!$I$5:$DK$5,0))*ACIM!DD22","v":37.682639261737386},215.64268397671646,1711.0070860859294,17.965529529761259,2.2519625129039156E-2,null,null,1997,4293.9381107768695,0,448.51344390588963,{"$f":"INDEX('Floor Space'!$I$5:$DK$50,MATCH(ACIM!DH22,'Floor Space'!$I$5:$I$50,0),MATCH(ACIM!DH$10,'Floor Space'!$I$5:$DK$5,0))*ACIM!DO22","v":203.92403086289062},652.43747476878025,4497.86214163976,17.965529529761259,4.7491143468296526E-2,null,null,1997,781.50991454442271,0,86.38075007700192,{"$f":"INDEX('Floor Space'!$I$5:$DK$50,MATCH(ACIM!DS22,'Floor Space'!$I$5:$I$50,0),MATCH(ACIM!DS$10,'Floor Space'!$I$5:$DK$5,0))*ACIM!DZ22","v":14.918949499517282},101.2996995765192,796.42886404393994,17.965529529761259,1.9089904327335594E-2,null,null,1997,316.24310260768584,0,34.603028993363218,{"$f":"INDEX('Floor Space'!$I$5:$DK$50,MATCH(ACIM!ED22,'Floor Space'!$I$5:$I$50,0),MATCH(ACIM!ED$10,'Floor Space'!$I$5:$DK$5,0))*ACIM!EK22","v":6.03705057296051},40.640079566323728,322.28015318064638,17.965529529761259,1.9089904327335816E-2,null,null,1997,689.322743601806,0,75.243604989135292,{"$f":"INDEX('Floor Space'!$I$5:$DK$50,MATCH(ACIM!EO22,'Floor Space'!$I$5:$I$50,0),MATCH(ACIM!EO$10,'Floor Space'!$I$5:$DK$5,0))*ACIM!EV22","v":12.529124362996441},87.772729352131734,701.85186796480241,17.965529529761259,1.8175991550097415E-2,null,null,1997,2225.0425260044085,0,237.48359167200638,{"$f":"INDEX('Floor Space'!$I$5:$DK$50,MATCH(ACIM!EZ22,'Floor Space'!$I$5:$I$50,0),MATCH(ACIM!EZ$10,'Floor Space'!$I$5:$DK$5,0))*ACIM!FG22","v":85.586561023774621},323.07015269578102,2310.6290870281832,17.965529529761259,3.8465134946191748E-2,null,null,1997,842.72518209542659,0,88.943965119126119,{"$f":"INDEX('Floor Space'!$I$5:$DK$50,MATCH(ACIM!FK22,'Floor Space'!$I$5:$I$50,0),MATCH(ACIM!FK$10,'Floor Space'!$I$5:$DK$5,0))*ACIM!FR22","v":21.142397902870041},110.08636302199616,863.86757999829661,17.965529529761259,2.5088128789862107E-2,null,null,1997,1821.5073181454989,0,190.96110277921281,{"$f":"INDEX('Floor Space'!$I$5:$DK$50,MATCH(ACIM!FV22,'Floor Space'!$I$5:$I$50,0),MATCH(ACIM!FV$10,'Floor Space'!$I$5:$DK$5,0))*ACIM!GC22","v":43.492834445415113},234.45393722462791,1865.000152590914,17.965529529761259,2.3877386608413875E-2,null,null,1997,2662.285190132809,0,281.24456461337064,{"$f":"INDEX('Floor Space'!$I$5:$DK$50,MATCH(ACIM!GG22,'Floor Space'!$I$5:$I$50,0),MATCH(ACIM!GG$10,'Floor Space'!$I$5:$DK$5,0))*ACIM!GN22","v":89.601353068487512},370.84591768185817,2751.8865432012967,17.965529529761259,3.3655805696765961E-2,null,null,1997,5212.276913583366,0,542.83246389402461,{"$f":"INDEX('Floor Space'!$I$5:$DK$50,MATCH(ACIM!GR22,'Floor Space'!$I$5:$I$50,0),MATCH(ACIM!GR$10,'Floor Space'!$I$5:$DK$5,0))*ACIM!GY22","v":180.51920750468105},723.35167139870566,5392.7961210880467,17.965529529761259,3.4633464510345213E-2]
[null,1998,39221.609844796876,0,4120.2224794972672,1238.2223083113538,5358.4447878086203,40459.832153108226,17.965529529761259,3.1569900195608902E-2,null,null,1998,3629.4206021976074,0,376.07943817704978,{"$f":"INDEX('Floor Space'!$I$5:$DK$54,MATCH(ACIM!M23,'Floor Space'!$I$5:$I$54,0),MATCH(ACIM!M$10,'Floor Space'!$I$5:$DK$5,0))*ACIM!T23","v":120.01691756791961},496.0963557449694,3749.4375197655272,17.965529529761259,3.3067789799630765E-2,null,null,1998,1635.2027101505846,0,169.43919813720677,{"$f":"INDEX('Floor Space'!$I$5:$DK$50,MATCH(ACIM!X23,'Floor Space'!$I$5:$I$50,0),MATCH(ACIM!X$10,'Floor Space'!$I$5:$DK$5,0))*ACIM!AE23","v":54.072539499045995},223.51173763625278,1689.2752496496305,17.965529529761259,3.3067789799630543E-2,null,null,1998,1918.6993059717988,0,198.81502755113365,{"$f":"INDEX('Floor Space'!$I$5:$DK$50,MATCH(ACIM!AI23,'Floor Space'!$I$5:$I$50,0),MATCH(ACIM!AI$10,'Floor Space'!$I$5:$DK$5,0))*ACIM!AP23","v":63.447145338572767},262.26217288970645,1982.1464513103715,17.965529529761259,3.3067789799630765E-2,null,null,1998,1776.0577238552712,0,183.92872283144391,{"$f":"INDEX('Floor Space'!$I$5:$DK$50,MATCH(ACIM!AT23,'Floor Space'!$I$5:$I$50,0),MATCH(ACIM!AT$10,'Floor Space'!$I$5:$DK$5,0))*ACIM!BA23","v":38.753030481020446},222.68175331246437,1814.8107543362917,17.965529529761259,2.1819690858301488E-2,null,null,1998,3280.3490111702158,0,346.42563922369555,{"$f":"INDEX('Floor Space'!$I$5:$DK$50,MATCH(ACIM!BE23,'Floor Space'!$I$5:$I$50,0),MATCH(ACIM!BE$10,'Floor Space'!$I$5:$DK$5,0))*ACIM!BL23","v":71.576201331068788},418.00184055476433,3351.9252125012845,17.965529529761259,2.1819690858301266E-2,null,null,1998,820.08725279255395,0,86.606409805923889,{"$f":"INDEX('Floor Space'!$I$5:$DK$50,MATCH(ACIM!BP23,'Floor Space'!$I$5:$I$50,0),MATCH(ACIM!BP$10,'Floor Space'!$I$5:$DK$5,0))*ACIM!BW23","v":17.894050332767197},104.50046013869108,837.98130312532112,17.965529529761259,2.1819690858301266E-2,null,null,1998,1583.3570003403916,0,167.21253107350262,{"$f":"INDEX('Floor Space'!$I$5:$DK$50,MATCH(ACIM!CA23,'Floor Space'!$I$5:$I$50,0),MATCH(ACIM!CA$10,'Floor Space'!$I$5:$DK$5,0))*ACIM!CH23","v":34.548360265754752},201.76089133925737,1617.9053606061464,17.965529529761259,2.1819690858301488E-2,null,null,1998,3364.8266414966306,0,354.37213681155936,{"$f":"INDEX('Floor Space'!$I$5:$DK$50,MATCH(ACIM!CL23,'Floor Space'!$I$5:$I$50,0),MATCH(ACIM!CL$10,'Floor Space'!$I$5:$DK$5,0))*ACIM!CS23","v":65.695541372844502},420.06767818440386,3430.5221828694753,17.965529529761259,1.9524197937170529E-2,null,null,1998,1711.0070860859294,0,181.96763820990742,{"$f":"INDEX('Floor Space'!$I$5:$DK$50,MATCH(ACIM!CW23,'Floor Space'!$I$5:$I$50,0),MATCH(ACIM!CW$10,'Floor Space'!$I$5:$DK$5,0))*ACIM!DD23","v":33.843157676919887},215.81079588682729,1744.8502437628492,17.965529529761259,1.9779671254511744E-2,null,null,1998,4497.86214163976,0,469.81386021788398,{"$f":"INDEX('Floor Space'!$I$5:$DK$50,MATCH(ACIM!DH23,'Floor Space'!$I$5:$I$50,0),MATCH(ACIM!DH$10,'Floor Space'!$I$5:$DK$5,0))*ACIM!DO23","v":212.57177443310022},682.38563465098423,4710.4339160728605,17.965529529761259,4.7260624656584982E-2,null,null,1998,796.42886404393994,0,88.029750331695368,{"$f":"INDEX('Floor Space'!$I$5:$DK$50,MATCH(ACIM!DS23,'Floor Space'!$I$5:$I$50,0),MATCH(ACIM!DS$10,'Floor Space'!$I$5:$DK$5,0))*ACIM!DZ23","v":21.73534902862129},109.76509936031665,818.16421307256121,17.965529529761259,2.7291011174881419E-2,null,null,1998,322.28015318064638,0,35.263597506282537,{"$f":"INDEX('Floor Space'!$I$5:$DK$50,MATCH(ACIM!ED23,'Floor Space'!$I$5:$I$50,0),MATCH(ACIM!ED$10,'Floor Space'!$I$5:$DK$5,0))*ACIM!EK23","v":8.795351261895517},44.058948768178055,331.0755044425419,17.965529529761259,2.7291011174881419E-2,null,null,1998,701.85186796480241,0,76.611232117616709,{"$f":"INDEX('Floor Space'!$I$5:$DK$50,MATCH(ACIM!EO23,'Floor Space'!$I$5:$I$50,0),MATCH(ACIM!EO$10,'Floor Space'!$I$5:$DK$5,0))*ACIM!EV23","v":10.17096895691998},86.782201074536687,712.02283692172239,17.965529529761259,1.4491617706188231E-2,null,null,1998,2310.6290870281832,0,246.6184300731764,{"$f":"INDEX('Floor Space'!$I$5:$DK$50,MATCH(ACIM!EZ23,'Floor Space'!$I$5:$I$50,0),MATCH(ACIM!EZ$10,'Floor Space'!$I$5:$DK$5,0))*ACIM!FG23","v":78.681904990660541},325.30033506383694,2389.3109920188435,17.965529529761259,3.4052157238207759E-2,null,null,1998,863.86757999829661,0,91.175402771115742,{"$f":"INDEX('Floor Space'!$I$5:$DK$50,MATCH(ACIM!FK23,'Floor Space'!$I$5:$I$50,0),MATCH(ACIM!FK$10,'Floor Space'!$I$5:$DK$5,0))*ACIM!FR23","v":24.709838181473955},115.8852409525897,888.57741817977058,17.965529529761259,2.8603733666591191E-2,null,null,1998,1865.000152590914,0,195.52075485744115,{"$f":"INDEX('Floor Space'!$I$5:$DK$50,MATCH(ACIM!FV23,'Floor Space'!$I$5:$I$50,0),MATCH(ACIM!FV$10,'Floor Space'!$I$5:$DK$5,0))*ACIM!GC23","v":50.339005565560129},245.85976042300126,1915.3391581564742,17.965529529761259,2.6991421687353689E-2,null,null,1998,2751.8865432012967,0,290.71007703326978,{"$f":"INDEX('Floor Space'!$I$5:$DK$50,MATCH(ACIM!GG23,'Floor Space'!$I$5:$I$50,0),MATCH(ACIM!GG$10,'Floor Space'!$I$5:$DK$5,0))*ACIM!GN23","v":109.35539408822387},400.06547112149366,2861.2419372895206,17.965529529761259,3.9738336726996559E-2,null,null,1998,5392.7961210880467,0,561.63263276736154,{"$f":"INDEX('Floor Space'!$I$5:$DK$50,MATCH(ACIM!GR23,'Floor Space'!$I$5:$I$50,0),MATCH(ACIM!GR$10,'Floor Space'!$I$5:$DK$5,0))*ACIM!GY23","v":222.01577793898437},783.64841070634589,5614.8118990270314,17.965529529761259,4.1168954463309371E-2]
[null,1999,40459.832153108226,0,4250.1005696711763,1403.0264618977844,5653.1270315689617,41862.858615006007,17.965529529761259,3.467702131310002E-2,null,null,1999,3749.4375197655272,0,388.5155539866517,{"$f":"INDEX('Floor Space'!$I$5:$DK$54,MATCH(ACIM!M24,'Floor Space'!$I$5:$I$54,0),MATCH(ACIM!M$10,'Floor Space'!$I$5:$DK$5,0))*ACIM!T24","v":143.62626341848244},532.14181740513413,3893.0637831840095,17.965529529761259,3.8306082622084681E-2,null,null,1999,1689.2752496496305,0,175.0421779250259,{"$f":"INDEX('Floor Space'!$I$5:$DK$50,MATCH(ACIM!X24,'Floor Space'!$I$5:$I$50,0),MATCH(ACIM!X$10,'Floor Space'!$I$5:$DK$5,0))*ACIM!AE24","v":64.709517284521439},239.75169520954734,1753.984766934152,17.965529529761259,3.8306082622084681E-2,null,null,1999,1982.1464513103715,0,205.38940109120233,{"$f":"INDEX('Floor Space'!$I$5:$DK$50,MATCH(ACIM!AI24,'Floor Space'!$I$5:$I$50,0),MATCH(ACIM!AI$10,'Floor Space'!$I$5:$DK$5,0))*ACIM!AP24","v":75.928265732966992},281.31766682416935,2058.0747170433383,17.965529529761259,3.8306082622084459E-2,null,null,1999,1814.8107543362917,0,187.94199070358826,{"$f":"INDEX('Floor Space'!$I$5:$DK$50,MATCH(ACIM!AT24,'Floor Space'!$I$5:$I$50,0),MATCH(ACIM!AT$10,'Floor Space'!$I$5:$DK$5,0))*ACIM!BA24","v":48.733182860845737},236.675173564434,1863.5439371971374,17.965529529761259,2.6853038392241846E-2,null,null,1999,3351.9252125012845,0,353.98453957694596,{"$f":"INDEX('Floor Space'!$I$5:$DK$50,MATCH(ACIM!BE24,'Floor Space'!$I$5:$I$50,0),MATCH(ACIM!BE$10,'Floor Space'!$I$5:$DK$5,0))*ACIM!BL24","v":90.00937641922026},443.99391599616621,3441.9345889205047,17.965529529761259,2.6853038392241846E-2,null,null,1999,837.98130312532112,0,88.496134894236491,{"$f":"INDEX('Floor Space'!$I$5:$DK$50,MATCH(ACIM!BP24,'Floor Space'!$I$5:$I$50,0),MATCH(ACIM!BP$10,'Floor Space'!$I$5:$DK$5,0))*ACIM!BW24","v":22.502344104805065},110.99847899904155,860.48364723012617,17.965529529761259,2.6853038392241846E-2,null,null,1999,1617.9053606061464,0,170.86105680916057,{"$f":"INDEX('Floor Space'!$I$5:$DK$50,MATCH(ACIM!CA24,'Floor Space'!$I$5:$I$50,0),MATCH(ACIM!CA$10,'Floor Space'!$I$5:$DK$5,0))*ACIM!CH24","v":43.445674763370647},214.30673157253122,1661.3510353695169,17.965529529761259,2.6853038392241846E-2,null,null,1999,3430.5221828694753,0,361.29096855408619,{"$f":"INDEX('Floor Space'!$I$5:$DK$50,MATCH(ACIM!CL24,'Floor Space'!$I$5:$I$50,0),MATCH(ACIM!CL$10,'Floor Space'!$I$5:$DK$5,0))*ACIM!CS24","v":80.320201749872538},441.61117030395872,3510.8423846193477,17.965529529761259,2.3413403985829362E-2,null,null,1999,1744.8502437628492,0,185.56689827265936,{"$f":"INDEX('Floor Space'!$I$5:$DK$50,MATCH(ACIM!CW24,'Floor Space'!$I$5:$I$50,0),MATCH(ACIM!CW$10,'Floor Space'!$I$5:$DK$5,0))*ACIM!DD24","v":41.377073628722215},226.94397190138159,1786.2273173915714,17.965529529761259,2.3713825170170955E-2,null,null,1999,4710.4339160728605,0,492.01755672410275,{"$f":"INDEX('Floor Space'!$I$5:$DK$50,MATCH(ACIM!DH24,'Floor Space'!$I$5:$I$50,0),MATCH(ACIM!DH$10,'Floor Space'!$I$5:$DK$5,0))*ACIM!DO24","v":194.66308783877113},686.68064456287391,4905.0970039116319,17.965529529761259,4.1325935424875615E-2,null,null,1999,818.16421307256121,0,90.432171231719678,{"$f":"INDEX('Floor Space'!$I$5:$DK$50,MATCH(ACIM!DS24,'Floor Space'!$I$5:$I$50,0),MATCH(ACIM!DS$10,'Floor Space'!$I$5:$DK$5,0))*ACIM!DZ24","v":27.778408922662102},118.21058015438177,845.94262199522336,17.965529529761259,3.3952119243082279E-2,null,null,1999,331.0755044425419,0,36.225976739893028,{"$f":"INDEX('Floor Space'!$I$5:$DK$50,MATCH(ACIM!ED24,'Floor Space'!$I$5:$I$50,0),MATCH(ACIM!ED$10,'Floor Space'!$I$5:$DK$5,0))*ACIM!EK24","v":11.240715005296765},47.466691745189792,342.31621944783865,17.965529529761259,3.3952119243082057E-2,null,null,1999,712.02283692172239,0,77.721452805465248,{"$f":"INDEX('Floor Space'!$I$5:$DK$50,MATCH(ACIM!EO24,'Floor Space'!$I$5:$I$50,0),MATCH(ACIM!EO$10,'Floor Space'!$I$5:$DK$5,0))*ACIM!EV24","v":11.086384548579435},88.807837354044679,723.1092214703018,17.965529529761259,1.557026540961659E-2,null,null,1999,2389.3109920188435,0,255.01631963186813,{"$f":"INDEX('Floor Space'!$I$5:$DK$50,MATCH(ACIM!EZ24,'Floor Space'!$I$5:$I$50,0),MATCH(ACIM!EZ$10,'Floor Space'!$I$5:$DK$5,0))*ACIM!FG24","v":60.164402531626884},315.18072216349503,2449.4753945504704,17.965529529761259,2.5180649456097326E-2,null,null,1999,888.57741817977058,0,93.783359708924934,{"$f":"INDEX('Floor Space'!$I$5:$DK$50,MATCH(ACIM!FK24,'Floor Space'!$I$5:$I$50,0),MATCH(ACIM!FK$10,'Floor Space'!$I$5:$DK$5,0))*ACIM!FR24","v":38.723133097708697},132.50649280663362,927.30055127747926,17.965529529761259,4.3578794942856103E-2,null,null,1999,1915.3391581564742,0,200.79813800042803,{"$f":"INDEX('Floor Space'!$I$5:$DK$50,MATCH(ACIM!FV24,'Floor Space'!$I$5:$I$50,0),MATCH(ACIM!FV$10,'Floor Space'!$I$5:$DK$5,0))*ACIM!GC24","v":78.560622503427709},279.35876050385571,1993.899780659902,17.965529529761259,4.1016559479232217E-2,null,null,1999,2861.2419372895206,0,302.26241196434904,{"$f":"INDEX('Floor Space'!$I$5:$DK$50,MATCH(ACIM!GG24,'Floor Space'!$I$5:$I$50,0),MATCH(ACIM!GG$10,'Floor Space'!$I$5:$DK$5,0))*ACIM!GN24","v":122.45413212917964},424.71654409352868,2983.6960694187001,17.965529529761259,4.2797545545967042E-2,null,null,1999,5614.8118990270314,0,584.75446105086939,{"$f":"INDEX('Floor Space'!$I$5:$DK$50,MATCH(ACIM!GR24,'Floor Space'!$I$5:$I$50,0),MATCH(ACIM!GR$10,'Floor Space'!$I$5:$DK$5,0))*ACIM!GY24","v":247.70367535772453},832.45813640859387,5862.5155743847563,17.965529529761259,4.4116112847992106E-2]
[null,2000,41862.858615006007,0,4397.2535932416586,1336.3992603577551,5733.6528535994139,43199.257875363764,17.965529529761259,3.1923268132451721E-2,null,null,2000,3893.0637831840095,0,403.3980628976293,{"$f":"INDEX('Floor Space'!$I$5:$DK$54,MATCH(ACIM!M25,'Floor Space'!$I$5:$I$54,0),MATCH(ACIM!M$10,'Floor Space'!$I$5:$DK$5,0))*ACIM!T25","v":152.42207115380819},555.82013405143744,4045.4858543378177,17.965529529761259,3.9152215232689302E-2,null,null,2000,1753.984766934152,0,181.74735805497158,{"$f":"INDEX('Floor Space'!$I$5:$DK$50,MATCH(ACIM!X25,'Floor Space'!$I$5:$I$50,0),MATCH(ACIM!X$10,'Floor Space'!$I$5:$DK$5,0))*ACIM!AE25","v":68.672389109864383},250.41974716483597,1822.6571560440163,17.965529529761259,3.9152215232689302E-2,null,null,2000,2058.0747170433383,0,213.25706445910239,{"$f":"INDEX('Floor Space'!$I$5:$DK$50,MATCH(ACIM!AI25,'Floor Space'!$I$5:$I$50,0),MATCH(ACIM!AI$10,'Floor Space'!$I$5:$DK$5,0))*ACIM!AP25","v":80.578184286636997},293.83524874573936,2138.6529013299751,17.965529529761259,3.9152215232689302E-2,null,null,2000,1863.5439371971374,0,192.98880419546603,{"$f":"INDEX('Floor Space'!$I$5:$DK$50,MATCH(ACIM!AT25,'Floor Space'!$I$5:$I$50,0),MATCH(ACIM!AT$10,'Floor Space'!$I$5:$DK$5,0))*ACIM!BA25","v":42.102870235954725},235.09167443142076,1905.6468074330921,17.965529529761259,2.2592904516798962E-2,null,null,2000,3441.9345889205047,0,363.49010000846579,{"$f":"INDEX('Floor Space'!$I$5:$DK$50,MATCH(ACIM!BE25,'Floor Space'!$I$5:$I$50,0),MATCH(ACIM!BE$10,'Floor Space'!$I$5:$DK$5,0))*ACIM!BL25","v":77.76329952054904},441.25339952901481,3519.6978884410537,17.965529529761259,2.2592904516798962E-2,null,null,2000,860.48364723012617,0,90.872525002116447,{"$f":"INDEX('Floor Space'!$I$5:$DK$50,MATCH(ACIM!BP25,'Floor Space'!$I$5:$I$50,0),MATCH(ACIM!BP$10,'Floor Space'!$I$5:$DK$5,0))*ACIM!BW25","v":19.44082488013726},110.3133498822537,879.92447211026342,17.965529529761259,2.2592904516798962E-2,null,null,2000,1661.3510353695169,0,175.44919532739596,{"$f":"INDEX('Floor Space'!$I$5:$DK$50,MATCH(ACIM!CA25,'Floor Space'!$I$5:$I$50,0),MATCH(ACIM!CA$10,'Floor Space'!$I$5:$DK$5,0))*ACIM!CH25","v":37.534745310988768},212.98394063838472,1698.8857806805056,17.965529529761259,2.2592904516798962E-2,null,null,2000,3510.8423846193477,0,369.75001995727462,{"$f":"INDEX('Floor Space'!$I$5:$DK$50,MATCH(ACIM!CL25,'Floor Space'!$I$5:$I$50,0),MATCH(ACIM!CL$10,'Floor Space'!$I$5:$DK$5,0))*ACIM!CS25","v":72.460623925663043},442.21064388293769,3583.3030085450109,17.965529529761259,2.063909910712769E-2,null,null,2000,1786.2273173915714,0,189.96739925566806,{"$f":"INDEX('Floor Space'!$I$5:$DK$50,MATCH(ACIM!CW25,'Floor Space'!$I$5:$I$50,0),MATCH(ACIM!CW$10,'Floor Space'!$I$5:$DK$5,0))*ACIM!DD25","v":37.328200204129452},227.2955994597975,1823.5555175957008,17.965529529761259,2.0897788226998948E-2,null,null,2000,4905.0970039116319,0,512.35064250118819,{"$f":"INDEX('Floor Space'!$I$5:$DK$50,MATCH(ACIM!DH25,'Floor Space'!$I$5:$I$50,0),MATCH(ACIM!DH$10,'Floor Space'!$I$5:$DK$5,0))*ACIM!DO25","v":169.95013659034029},682.30077909152851,5075.0471405019725,17.965529529761259,3.4647660679250958E-2,null,null,2000,845.94262199522336,0,93.50253509278987,{"$f":"INDEX('Floor Space'!$I$5:$DK$50,MATCH(ACIM!DS25,'Floor Space'!$I$5:$I$50,0),MATCH(ACIM!DS$10,'Floor Space'!$I$5:$DK$5,0))*ACIM!DZ25","v":22.441766754538875},115.94430184732875,868.38438874976225,17.965529529761259,2.6528710306153114E-2,null,null,2000,342.31621944783865,0,37.455925421862986,{"$f":"INDEX('Floor Space'!$I$5:$DK$50,MATCH(ACIM!ED25,'Floor Space'!$I$5:$I$50,0),MATCH(ACIM!ED$10,'Floor Space'!$I$5:$DK$5,0))*ACIM!EK25","v":9.0812078188292489},46.537133240692235,351.39742726666788,17.965529529761259,2.6528710306153114E-2,null,null,2000,723.1092214703018,0,78.931596453667325,{"$f":"INDEX('Floor Space'!$I$5:$DK$50,MATCH(ACIM!EO25,'Floor Space'!$I$5:$I$50,0),MATCH(ACIM!EO$10,'Floor Space'!$I$5:$DK$5,0))*ACIM!EV25","v":11.288281169434892},90.219877623102221,734.39750263973667,17.965529529761259,1.5610755380054853E-2,null,null,2000,2449.4753945504704,0,261.43779618210232,{"$f":"INDEX('Floor Space'!$I$5:$DK$50,MATCH(ACIM!EZ25,'Floor Space'!$I$5:$I$50,0),MATCH(ACIM!EZ$10,'Floor Space'!$I$5:$DK$5,0))*ACIM!FG25","v":61.395364683947065},322.83316086604941,2510.8707592344176,17.965529529761259,2.5064699494650178E-2,null,null,2000,927.30055127747926,0,97.870325510732286,{"$f":"INDEX('Floor Space'!$I$5:$DK$50,MATCH(ACIM!FK25,'Floor Space'!$I$5:$I$50,0),MATCH(ACIM!FK$10,'Floor Space'!$I$5:$DK$5,0))*ACIM!FR25","v":34.636384959347644},132.50671047007992,961.93693623682691,17.965529529761259,3.7351843381988159E-2,null,null,2000,1993.899780659902,0,209.03418677104168,{"$f":"INDEX('Floor Space'!$I$5:$DK$50,MATCH(ACIM!FV25,'Floor Space'!$I$5:$I$50,0),MATCH(ACIM!FV$10,'Floor Space'!$I$5:$DK$5,0))*ACIM!GC25","v":70.275732110650225},279.30991888169189,2064.1755127705524,17.965529529761259,3.5245368293983059E-2,null,null,2000,2983.6960694187001,0,315.19850130722716,{"$f":"INDEX('Floor Space'!$I$5:$DK$50,MATCH(ACIM!GG25,'Floor Space'!$I$5:$I$50,0),MATCH(ACIM!GG$10,'Floor Space'!$I$5:$DK$5,0))*ACIM!GN25","v":121.18842809213054},436.38692939935771,3104.8844975108304,17.965529529761259,4.0616880966612978E-2,null,null,2000,5862.5155743847563,0,610.55155484295631,{"$f":"INDEX('Floor Space'!$I$5:$DK$50,MATCH(ACIM!GR25,'Floor Space'!$I$5:$I$50,0),MATCH(ACIM!GR$10,'Floor Space'!$I$5:$DK$5,0))*ACIM!GY25","v":247.83874955080458},858.39030439376086,6110.3543239355613,17.965529529761259,4.2275154139238991E-2]
[null,2001,43199.257875363764,0,4537.3510979072398,1119.7041431165051,5657.0552410237433,44318.962018480277,17.965529529761259,2.5919522653537808E-2,null,null,2001,4045.4858543378177,0,419.19199068064728,{"$f":"INDEX('Floor Space'!$I$5:$DK$54,MATCH(ACIM!M26,'Floor Space'!$I$5:$I$54,0),MATCH(ACIM!M$10,'Floor Space'!$I$5:$DK$5,0))*ACIM!T26","v":102.17542490909683},521.36741558974416,4147.661279246915,17.965529529761259,2.525665113858655E-2,null,null,2001,1822.6571560440163,0,188.86316973551249,{"$f":"INDEX('Floor Space'!$I$5:$DK$50,MATCH(ACIM!X26,'Floor Space'!$I$5:$I$50,0),MATCH(ACIM!X$10,'Floor Space'!$I$5:$DK$5,0))*ACIM!AE26","v":46.034215935451932},234.89738567096441,1868.6913719794684,17.965529529761259,2.525665113858655E-2,null,null,2001,2138.6529013299751,0,221.60655094669661,{"$f":"INDEX('Floor Space'!$I$5:$DK$50,MATCH(ACIM!AI26,'Floor Space'!$I$5:$I$50,0),MATCH(ACIM!AI$10,'Floor Space'!$I$5:$DK$5,0))*ACIM!AP26","v":54.015210235417044},275.62176118211369,2192.6681115653919,17.965529529761259,2.5256651138586328E-2,null,null,2001,1905.6468074330921,0,197.34898182146543,{"$f":"INDEX('Floor Space'!$I$5:$DK$50,MATCH(ACIM!AT26,'Floor Space'!$I$5:$I$50,0),MATCH(ACIM!AT$10,'Floor Space'!$I$5:$DK$5,0))*ACIM!BA26","v":37.973506544110329},235.32248836557577,1943.6203139772024,17.965529529761259,1.9926833448880688E-2,null,null,2001,3519.6978884410537,0,371.70239713075875,{"$f":"INDEX('Floor Space'!$I$5:$DK$50,MATCH(ACIM!BE26,'Floor Space'!$I$5:$I$50,0),MATCH(ACIM!BE$10,'Floor Space'!$I$5:$DK$5,0))*ACIM!BL26","v":70.136433613341737},441.83883074410051,3589.8343220543952,17.965529529761259,1.9926833448880465E-2,null,null,2001,879.92447211026342,0,92.925599282689689,{"$f":"INDEX('Floor Space'!$I$5:$DK$50,MATCH(ACIM!BP26,'Floor Space'!$I$5:$I$50,0),MATCH(ACIM!BP$10,'Floor Space'!$I$5:$DK$5,0))*ACIM!BW26","v":17.534108403335434},110.45970768602513,897.4585805135988,17.965529529761259,1.9926833448880465E-2,null,null,2001,1698.8857806805056,0,179.41310224497704,{"$f":"INDEX('Floor Space'!$I$5:$DK$50,MATCH(ACIM!CA26,'Floor Space'!$I$5:$I$50,0),MATCH(ACIM!CA$10,'Floor Space'!$I$5:$DK$5,0))*ACIM!CH26","v":33.853414000291977},213.26651624526903,1732.7391946807975,17.965529529761259,1.9926833448880465E-2,null,null,2001,3583.3030085450109,0,377.38132726403529,{"$f":"INDEX('Floor Space'!$I$5:$DK$50,MATCH(ACIM!CL26,'Floor Space'!$I$5:$I$50,0),MATCH(ACIM!CL$10,'Floor Space'!$I$5:$DK$5,0))*ACIM!CS26","v":84.183910210571497},461.56523747460676,3667.4869187555823,17.965529529761259,2.3493383063006412E-2,null,null,2001,1823.5555175957008,0,193.93729773534673,{"$f":"INDEX('Floor Space'!$I$5:$DK$50,MATCH(ACIM!CW26,'Floor Space'!$I$5:$I$50,0),MATCH(ACIM!CW$10,'Floor Space'!$I$5:$DK$5,0))*ACIM!DD26","v":43.367468896355014},237.30476663170174,1866.9229864920558,17.965529529761259,2.3781819899584722E-2,null,null,2001,5075.0471405019725,0,530.10239371136549,{"$f":"INDEX('Floor Space'!$I$5:$DK$50,MATCH(ACIM!DH26,'Floor Space'!$I$5:$I$50,0),MATCH(ACIM!DH$10,'Floor Space'!$I$5:$DK$5,0))*ACIM!DO26","v":186.99633404300459},717.09872775437009,5262.0434745449775,17.965529529761259,3.6846226028258933E-2,null,null,2001,868.38438874976225,0,95.9830367591574,{"$f":"INDEX('Floor Space'!$I$5:$DK$50,MATCH(ACIM!DS26,'Floor Space'!$I$5:$I$50,0),MATCH(ACIM!DS$10,'Floor Space'!$I$5:$DK$5,0))*ACIM!DZ26","v":19.716398073761244},115.69943483291864,888.10078682352355,17.965529529761259,2.2704689684884372E-2,null,null,2001,351.39742726666788,0,38.449582816628464,{"$f":"INDEX('Floor Space'!$I$5:$DK$50,MATCH(ACIM!ED26,'Floor Space'!$I$5:$I$50,0),MATCH(ACIM!ED$10,'Floor Space'!$I$5:$DK$5,0))*ACIM!EK26","v":7.9783695421563783},46.427952358784843,359.37579680882425,17.965529529761259,2.270468968488415E-2,null,null,2001,734.39750263973667,0,80.163778297662759,{"$f":"INDEX('Floor Space'!$I$5:$DK$50,MATCH(ACIM!EO26,'Floor Space'!$I$5:$I$50,0),MATCH(ACIM!EO$10,'Floor Space'!$I$5:$DK$5,0))*ACIM!EV26","v":7.580734840378061},87.744513138040816,741.97823748011479,17.965529529761259,1.0322386463910593E-2,null,null,2001,2510.8707592344176,0,267.99065597995036,{"$f":"INDEX('Floor Space'!$I$5:$DK$50,MATCH(ACIM!EZ26,'Floor Space'!$I$5:$I$50,0),MATCH(ACIM!EZ$10,'Floor Space'!$I$5:$DK$5,0))*ACIM!FG26","v":35.795670828986239},303.78632680893662,2546.6664300634038,17.965529529761259,1.4256277706583553E-2,null,null,2001,961.93693623682691,0,101.52596258095335,{"$f":"INDEX('Floor Space'!$I$5:$DK$50,MATCH(ACIM!FK26,'Floor Space'!$I$5:$I$50,0),MATCH(ACIM!FK$10,'Floor Space'!$I$5:$DK$5,0))*ACIM!FR26","v":28.216179993734929},129.74214257468827,990.15311623056186,17.965529529761259,2.9332671333028193E-2,null,null,2001,2064.1755127705524,0,216.4016736698203,{"$f":"INDEX('Floor Space'!$I$5:$DK$50,MATCH(ACIM!FV26,'Floor Space'!$I$5:$I$50,0),MATCH(ACIM!FV$10,'Floor Space'!$I$5:$DK$5,0))*ACIM!GC26","v":57.737488660450822},274.13916233027112,2121.9130014310031,17.965529529761259,2.797121092816135E-2,null,null,2001,3104.8844975108304,0,328.00088131567759,{"$f":"INDEX('Floor Space'!$I$5:$DK$50,MATCH(ACIM!GG26,'Floor Space'!$I$5:$I$50,0),MATCH(ACIM!GG$10,'Floor Space'!$I$5:$DK$5,0))*ACIM!GN26","v":94.477427074762261},422.47830839043985,3199.3619245855925,17.965529529761259,3.0428644656670611E-2,null,null,2001,6110.3543239355613,0,636.36271593389438,{"$f":"INDEX('Floor Space'!$I$5:$DK$50,MATCH(ACIM!GR26,'Floor Space'!$I$5:$I$50,0),MATCH(ACIM!GR$10,'Floor Space'!$I$5:$DK$5,0))*ACIM!GY26","v":191.93184731129841},828.29456324519276,6302.2861712468593,17.965529529761259,3.1410919422374617E-2]
[null,2002,44318.962018480277,0,4654.7829193342659,873.46231348267941,5528.2452328169456,45192.424331962946,17.965529529761259,1.9708546267813043E-2,null,null,2002,4147.661279246915,0,429.77937654935801,{"$f":"INDEX('Floor Space'!$I$5:$DK$54,MATCH(ACIM!M27,'Floor Space'!$I$5:$I$54,0),MATCH(ACIM!M$10,'Floor Space'!$I$5:$DK$5,0))*ACIM!T27","v":70.643120444504959},500.42249699386298,{"$f":"N27+Q27-O27","v":4218.3043996914203},17.965529529761259,1.7032037017577162E-2,null,null,2002,1868.6913719794684,0,193.63322092644998,{"$f":"INDEX('Floor Space'!$I$5:$DK$50,MATCH(ACIM!X27,'Floor Space'!$I$5:$I$50,0),MATCH(ACIM!X$10,'Floor Space'!$I$5:$DK$5,0))*ACIM!AE27","v":31.827620621981385},225.46084154843138,{"$f":"Y27+AB27-Z27","v":1900.5189926014498},17.965529529761259,1.7032037017577162E-2,null,null,2002,2192.6681115653919,0,227.20359029398273,{"$f":"INDEX('Floor Space'!$I$5:$DK$50,MATCH(ACIM!AI27,'Floor Space'!$I$5:$I$50,0),MATCH(ACIM!AI$10,'Floor Space'!$I$5:$DK$5,0))*ACIM!AP27","v":37.345604443442809},264.54919473742552,{"$f":"AJ27+AM27-AK27","v":2230.0137160088348},17.965529529761259,1.7032037017577162E-2,null,null,2002,1943.6203139772024,0,201.28152211352796,{"$f":"INDEX('Floor Space'!$I$5:$DK$50,MATCH(ACIM!AT27,'Floor Space'!$I$5:$I$50,0),MATCH(ACIM!AT$10,'Floor Space'!$I$5:$DK$5,0))*ACIM!BA27","v":30.966323928909546},232.24784604243752,{"$f":"AU27+AX27-AV27","v":1974.5866379061119},17.965529529761259,1.5932290739204991E-2,null,null,2002,3589.8343220543952,0,379.10924889093315,{"$f":"INDEX('Floor Space'!$I$5:$DK$50,MATCH(ACIM!BE27,'Floor Space'!$I$5:$I$50,0),MATCH(ACIM!BE$10,'Floor Space'!$I$5:$DK$5,0))*ACIM!BL27","v":57.194284124547245},436.30353301548041,{"$f":"BF27+BI27-BG27","v":3647.0286061789425},17.965529529761259,1.5932290739204991E-2,null,null,2002,897.4585805135988,0,94.777312222733286,{"$f":"INDEX('Floor Space'!$I$5:$DK$50,MATCH(ACIM!BP27,'Floor Space'!$I$5:$I$50,0),MATCH(ACIM!BP$10,'Floor Space'!$I$5:$DK$5,0))*ACIM!BW27","v":14.298571031136811},109.0758832538701,{"$f":"BQ27+BT27-BR27","v":911.75715154473562},17.965529529761259,1.5932290739204991E-2,null,null,2002,1732.7391946807975,0,182.98823725195967,{"$f":"INDEX('Floor Space'!$I$5:$DK$50,MATCH(ACIM!CA27,'Floor Space'!$I$5:$I$50,0),MATCH(ACIM!CA$10,'Floor Space'!$I$5:$DK$5,0))*ACIM!CH27","v":27.606504624870265},210.59474187682994,{"$f":"CB27+CE27-CC27","v":1760.3456993056677},17.965529529761259,1.5932290739204991E-2,null,null,2002,3667.4869187555823,0,386.24729134627506,{"$f":"INDEX('Floor Space'!$I$5:$DK$50,MATCH(ACIM!CL27,'Floor Space'!$I$5:$I$50,0),MATCH(ACIM!CL$10,'Floor Space'!$I$5:$DK$5,0))*ACIM!CS27","v":103.35022986373949},489.59752121001452,{"$f":"CM27+CP27-CN27","v":3770.8371486193219},17.965529529761259,2.8180122288972598E-2,null,null,2002,1866.9229864920558,0,198.5494796219009,{"$f":"INDEX('Floor Space'!$I$5:$DK$50,MATCH(ACIM!CW27,'Floor Space'!$I$5:$I$50,0),MATCH(ACIM!CW$10,'Floor Space'!$I$5:$DK$5,0))*ACIM!DD27","v":49.292526405632799},247.8420060275337,{"$f":"CX27+DA27-CY27","v":1916.2155128976885},17.965529529761259,2.6403085056150744E-2,null,null,2002,5262.0434745449775,0,549.63466632817551,{"$f":"INDEX('Floor Space'!$I$5:$DK$50,MATCH(ACIM!DH27,'Floor Space'!$I$5:$I$50,0),MATCH(ACIM!DH$10,'Floor Space'!$I$5:$DK$5,0))*ACIM!DO27","v":105.78764918610125},655.42231551427676,{"$f":"DI27+DL27-DJ27","v":5367.8311237310791},17.965529529761259,2.0103910144005255E-2,null,null,2002,888.10078682352355,0,98.162301823786919,{"$f":"INDEX('Floor Space'!$I$5:$DK$50,MATCH(ACIM!DS27,'Floor Space'!$I$5:$I$50,0),MATCH(ACIM!DS$10,'Floor Space'!$I$5:$DK$5,0))*ACIM!DZ27","v":11.395217587248185},109.5575194110351,{"$f":"DT27+DW27-DU27","v":899.49600441077177},17.965529529761259,1.2830995936852663E-2,null,null,2002,359.37579680882425,0,39.322568662993277,{"$f":"INDEX('Floor Space'!$I$5:$DK$50,MATCH(ACIM!ED27,'Floor Space'!$I$5:$I$50,0),MATCH(ACIM!ED$10,'Floor Space'!$I$5:$DK$5,0))*ACIM!EK27","v":4.6111493886571724},43.933718051650452,{"$f":"EE27+EH27-EF27","v":363.98694619748142},17.965529529761259,1.2830995936852441E-2,null,null,2002,741.97823748011479,0,80.991259797658486,{"$f":"INDEX('Floor Space'!$I$5:$DK$50,MATCH(ACIM!EO27,'Floor Space'!$I$5:$I$50,0),MATCH(ACIM!EO$10,'Floor Space'!$I$5:$DK$5,0))*ACIM!EV27","v":23.529359454580877},104.52061925223936,{"$f":"EP27+ES27-EQ27","v":765.5075969346957},17.965529529761259,3.1711657116104464E-2,null,null,2002,2546.6664300634038,0,271.81120519436996,{"$f":"INDEX('Floor Space'!$I$5:$DK$50,MATCH(ACIM!EZ27,'Floor Space'!$I$5:$I$50,0),MATCH(ACIM!EZ$10,'Floor Space'!$I$5:$DK$5,0))*ACIM!FG27","v":16.681676858505462},288.49288205287542,{"$f":"FA27+FD27-FB27","v":2563.3481069219092},17.965529529761259,6.5503972807661182E-3,null,null,2002,990.15311623056186,0,104.50399027310978,{"$f":"INDEX('Floor Space'!$I$5:$DK$50,MATCH(ACIM!FK27,'Floor Space'!$I$5:$I$50,0),MATCH(ACIM!FK$10,'Floor Space'!$I$5:$DK$5,0))*ACIM!FR27","v":18.250749414230331},122.75473968734011,{"$f":"FL27+FO27-FM27","v":1008.4038656447922},17.965529529761259,1.8432249633985487E-2,null,null,2002,2121.9130014310031,0,222.45469052924602,{"$f":"INDEX('Floor Space'!$I$5:$DK$50,MATCH(ACIM!FV27,'Floor Space'!$I$5:$I$50,0),MATCH(ACIM!FV$10,'Floor Space'!$I$5:$DK$5,0))*ACIM!GC27","v":56.586690353721146},279.04138088296719,{"$f":"FW27+FZ27-FX27","v":2178.4996917847243},17.965529529761259,2.6667771164774257E-2,null,null,2002,3199.3619245855925,0,337.98150358030716,{"$f":"INDEX('Floor Space'!$I$5:$DK$50,MATCH(ACIM!GG27,'Floor Space'!$I$5:$I$50,0),MATCH(ACIM!GG$10,'Floor Space'!$I$5:$DK$5,0))*ACIM!GN27","v":84.403746490594202},422.38525007090135,{"$f":"GH27+GK27-GI27","v":3283.7656710761867},17.965529529761259,2.638143119788694E-2,null,null,2002,6302.2861712468593,0,656.35145392749746,{"$f":"INDEX('Floor Space'!$I$5:$DK$50,MATCH(ACIM!GR27,'Floor Space'!$I$5:$I$50,0),MATCH(ACIM!GR$10,'Floor Space'!$I$5:$DK$5,0))*ACIM!GY27","v":129.69128926027543},786.04274318777288,{"$f":"GS27+GV27-GT27","v":6431.9774605071343},17.965529529761259,2.0578451332783132E-2]
[null,2003,45192.424331962946,0,4746.5143152826195,934.80919757436232,5681.3235128569822,46127.233529537298,17.965529529761259,2.0685086303573241E-2,null,null,2003,4218.3043996914203,0,437.09939480013799,{"$f":"INDEX('Floor Space'!$I$5:$DK$54,MATCH(ACIM!M28,'Floor Space'!$I$5:$I$54,0),MATCH(ACIM!M$10,'Floor Space'!$I$5:$DK$5,0))*ACIM!T28","v":64.408474008567168},501.50786880870515,4282.7128736999875,17.965529529761259,1.5268806588087713E-2,null,null,2003,1900.5189926014498,0,196.93118911310196,{"$f":"INDEX('Floor Space'!$I$5:$DK$50,MATCH(ACIM!X28,'Floor Space'!$I$5:$I$50,0),MATCH(ACIM!X$10,'Floor Space'!$I$5:$DK$5,0))*ACIM!AE28","v":29.018656915018585},225.94984602812056,{"$f":"Y28+AB28-Z28","v":1929.5376495164683},17.965529529761259,1.5268806588087491E-2,null,null,2003,2230.0137160088348,0,231.07333025439627,{"$f":"INDEX('Floor Space'!$I$5:$DK$50,MATCH(ACIM!AI28,'Floor Space'!$I$5:$I$50,0),MATCH(ACIM!AI$10,'Floor Space'!$I$5:$DK$5,0))*ACIM!AP28","v":34.049648118521368},265.12297837291766,{"$f":"AJ28+AM28-AK28","v":2264.0633641273562},17.965529529761259,1.5268806588087713E-2,null,null,2003,1974.5866379061119,0,204.48839784427037,{"$f":"INDEX('Floor Space'!$I$5:$DK$50,MATCH(ACIM!AT28,'Floor Space'!$I$5:$I$50,0),MATCH(ACIM!AT$10,'Floor Space'!$I$5:$DK$5,0))*ACIM!BA28","v":29.342304623926253},233.83070246819662,{"$f":"AU28+AX28-AV28","v":2003.9289425300383},17.965529529761259,1.4859973252448144E-2,null,null,2003,3647.0286061789425,0,385.149327666185,{"$f":"INDEX('Floor Space'!$I$5:$DK$50,MATCH(ACIM!BE28,'Floor Space'!$I$5:$I$50,0),MATCH(ACIM!BE$10,'Floor Space'!$I$5:$DK$5,0))*ACIM!BL28","v":54.194747538732202},439.3440752049172,{"$f":"BF28+BI28-BG28","v":3701.2233537176749},17.965529529761259,1.4859973252448144E-2,null,null,2003,911.75715154473562,0,96.28733191654625,{"$f":"INDEX('Floor Space'!$I$5:$DK$50,MATCH(ACIM!BP28,'Floor Space'!$I$5:$I$50,0),MATCH(ACIM!BP$10,'Floor Space'!$I$5:$DK$5,0))*ACIM!BW28","v":13.54868688468305},109.8360188012293,{"$f":"BQ28+BT28-BR28","v":925.30583842941871},17.965529529761259,1.4859973252448144E-2,null,null,2003,1760.3456993056677,0,185.90365904971247,{"$f":"INDEX('Floor Space'!$I$5:$DK$50,MATCH(ACIM!CA28,'Floor Space'!$I$5:$I$50,0),MATCH(ACIM!CA$10,'Floor Space'!$I$5:$DK$5,0))*ACIM!CH28","v":26.15869000674428},212.06234905645675,{"$f":"CB28+CE28-CC28","v":1786.5043893124121},17.965529529761259,1.4859973252448144E-2,null,null,2003,3770.8371486193219,0,397.13178725019748,{"$f":"INDEX('Floor Space'!$I$5:$DK$50,MATCH(ACIM!CL28,'Floor Space'!$I$5:$I$50,0),MATCH(ACIM!CL$10,'Floor Space'!$I$5:$DK$5,0))*ACIM!CS28","v":115.94485654740143},513.07664379759888,{"$f":"CM28+CP28-CN28","v":3886.7820051667231},17.965529529761259,3.0747776150941375E-2,null,null,2003,1916.2155128976885,0,203.79179842021244,{"$f":"INDEX('Floor Space'!$I$5:$DK$50,MATCH(ACIM!CW28,'Floor Space'!$I$5:$I$50,0),MATCH(ACIM!CW$10,'Floor Space'!$I$5:$DK$5,0))*ACIM!DD28","v":57.424228105629574},261.21602652584204,{"$f":"CX28+DA28-CY28","v":1973.639741003318},17.965529529761259,2.9967520729854202E-2,null,null,2003,5367.8311237310791,0,560.68447227206752,{"$f":"INDEX('Floor Space'!$I$5:$DK$50,MATCH(ACIM!DH28,'Floor Space'!$I$5:$I$50,0),MATCH(ACIM!DH$10,'Floor Space'!$I$5:$DK$5,0))*ACIM!DO28","v":121.93679181828553},682.62126409035307,{"$f":"DI28+DL28-DJ28","v":5489.7679155493643},17.965529529761259,2.2716212378441902E-2,null,null,2003,899.49600441077177,0,99.421821919640024,{"$f":"INDEX('Floor Space'!$I$5:$DK$50,MATCH(ACIM!DS28,'Floor Space'!$I$5:$I$50,0),MATCH(ACIM!DS$10,'Floor Space'!$I$5:$DK$5,0))*ACIM!DZ28","v":11.136576047921965},110.55839796756199,{"$f":"DT28+DW28-DU28","v":910.63258045869372},17.965529529761259,1.2380906633617794E-2,null,null,2003,363.98694619748142,0,39.827116381734747,{"$f":"INDEX('Floor Space'!$I$5:$DK$50,MATCH(ACIM!ED28,'Floor Space'!$I$5:$I$50,0),MATCH(ACIM!ED$10,'Floor Space'!$I$5:$DK$5,0))*ACIM!EK28","v":4.5064883967266569},44.333604778461407,{"$f":"EE28+EH28-EF28","v":368.49343459420805},17.965529529761259,1.2380906633617572E-2,null,null,2003,765.5075969346957,0,83.559626857763149,{"$f":"INDEX('Floor Space'!$I$5:$DK$50,MATCH(ACIM!EO28,'Floor Space'!$I$5:$I$50,0),MATCH(ACIM!EO$10,'Floor Space'!$I$5:$DK$5,0))*ACIM!EV28","v":22.995304733633471},106.55493159139662,{"$f":"EP28+ES28-EQ28","v":788.50290166832917},17.965529529761259,3.0039290041944833E-2,null,null,2003,2563.3481069219092,0,273.5916765737569,{"$f":"INDEX('Floor Space'!$I$5:$DK$50,MATCH(ACIM!EZ28,'Floor Space'!$I$5:$I$50,0),MATCH(ACIM!EZ$10,'Floor Space'!$I$5:$DK$5,0))*ACIM!FG28","v":29.707404388763564},303.29908096252046,{"$f":"FA28+FD28-FB28","v":2593.055511310673},17.965529529761259,1.1589297726884551E-2,null,null,2003,1008.4038656447922,0,106.43023390957131,{"$f":"INDEX('Floor Space'!$I$5:$DK$50,MATCH(ACIM!FK28,'Floor Space'!$I$5:$I$50,0),MATCH(ACIM!FK$10,'Floor Space'!$I$5:$DK$5,0))*ACIM!FR28","v":18.672486698697693},125.10272060826901,{"$f":"FL28+FO28-FM28","v":1027.0763523434898},17.965529529761259,1.8516873382628418E-2,null,null,2003,2178.4996917847243,0,228.38706131081057,{"$f":"INDEX('Floor Space'!$I$5:$DK$50,MATCH(ACIM!FV28,'Floor Space'!$I$5:$I$50,0),MATCH(ACIM!FV$10,'Floor Space'!$I$5:$DK$5,0))*ACIM!GC28","v":58.388165789926319},286.77522710073686,{"$f":"FW28+FZ28-FX28","v":2236.8878575746508},17.965529529761259,2.6802007826814078E-2,null,null,2003,3283.7656710761867,0,346.89793936316937,{"$f":"INDEX('Floor Space'!$I$5:$DK$50,MATCH(ACIM!GG28,'Floor Space'!$I$5:$I$50,0),MATCH(ACIM!GG$10,'Floor Space'!$I$5:$DK$5,0))*ACIM!GN28","v":72.899340000916268},419.79727936408563,{"$f":"GH28+GK28-GI28","v":3356.6650110771029},17.965529529761259,2.2199921463039507E-2,null,null,2003,6431.9774605071343,0,669.85815037934594,{"$f":"INDEX('Floor Space'!$I$5:$DK$50,MATCH(ACIM!GR28,'Floor Space'!$I$5:$I$50,0),MATCH(ACIM!GR$10,'Floor Space'!$I$5:$DK$5,0))*ACIM!GY28","v":170.47634695026696},840.33449732961287,{"$f":"GS28+GV28-GT28","v":6602.4538074574011},17.965529529761259,2.6504500054144398E-2]
[null,2004,46127.233529537298,0,4844.6856375532161,914.81903734051684,5759.504674893733,47042.052566877828,17.965529529761259,1.9832514706409343E-2,null,null,2004,4282.7128736999875,0,443.77338091911139,{"$f":"INDEX('Floor Space'!$I$5:$DK$54,MATCH(ACIM!M29,'Floor Space'!$I$5:$I$54,0),MATCH(ACIM!M$10,'Floor Space'!$I$5:$DK$5,0))*ACIM!T29","v":76.064228190252948},519.83760910936439,4358.7771018902404,17.965529529761259,1.7760758293501544E-2,null,null,2004,1929.5376495164683,0,199.93809335083202,{"$f":"INDEX('Floor Space'!$I$5:$DK$50,MATCH(ACIM!X29,'Floor Space'!$I$5:$I$50,0),MATCH(ACIM!X$10,'Floor Space'!$I$5:$DK$5,0))*ACIM!AE29","v":34.27005181127312},234.20814516210515,1963.8077013277414,17.965529529761259,1.7760758293501544E-2,null,null,2004,2264.0633641273562,0,234.60154424171594,{"$f":"INDEX('Floor Space'!$I$5:$DK$50,MATCH(ACIM!AI29,'Floor Space'!$I$5:$I$50,0),MATCH(ACIM!AI$10,'Floor Space'!$I$5:$DK$5,0))*ACIM!AP29","v":40.211482171437993},274.81302641315392,2304.2748462987943,17.965529529761259,1.7760758293501544E-2,null,null,2004,2003.9289425300383,0,207.52708996667224,{"$f":"INDEX('Floor Space'!$I$5:$DK$50,MATCH(ACIM!AT29,'Floor Space'!$I$5:$I$50,0),MATCH(ACIM!AT$10,'Floor Space'!$I$5:$DK$5,0))*ACIM!BA29","v":31.711713988722451},239.2388039553947,2035.6406565187608,17.965529529761259,1.5824769689031681E-2,null,null,2004,3701.2233537176749,0,390.87263637350293,{"$f":"INDEX('Floor Space'!$I$5:$DK$50,MATCH(ACIM!BE29,'Floor Space'!$I$5:$I$50,0),MATCH(ACIM!BE$10,'Floor Space'!$I$5:$DK$5,0))*ACIM!BL29","v":58.571007140247282},449.4436435137502,3759.7943608579221,17.965529529761259,1.5824769689031681E-2,null,null,2004,925.30583842941871,0,97.718159093375732,{"$f":"INDEX('Floor Space'!$I$5:$DK$50,MATCH(ACIM!BP29,'Floor Space'!$I$5:$I$50,0),MATCH(ACIM!BP$10,'Floor Space'!$I$5:$DK$5,0))*ACIM!BW29","v":14.642751785061821},112.36091087843755,939.94859021448053,17.965529529761259,1.5824769689031681E-2,null,null,2004,1786.5043893124121,0,188.66618245072351,{"$f":"INDEX('Floor Space'!$I$5:$DK$50,MATCH(ACIM!CA29,'Floor Space'!$I$5:$I$50,0),MATCH(ACIM!CA$10,'Floor Space'!$I$5:$DK$5,0))*ACIM!CH29","v":28.271020509312926},216.93720296003644,1814.7754098217249,17.965529529761259,1.5824769689031459E-2,null,null,2004,3886.7820051667231,0,409.34270654698986,{"$f":"INDEX('Floor Space'!$I$5:$DK$50,MATCH(ACIM!CL29,'Floor Space'!$I$5:$I$50,0),MATCH(ACIM!CL$10,'Floor Space'!$I$5:$DK$5,0))*ACIM!CS29","v":77.589744519487269},486.93245106647714,3964.3717496862105,17.965529529761259,1.9962463656656437E-2,null,null,2004,1973.639741003318,0,209.89893336394442,{"$f":"INDEX('Floor Space'!$I$5:$DK$50,MATCH(ACIM!CW29,'Floor Space'!$I$5:$I$50,0),MATCH(ACIM!CW$10,'Floor Space'!$I$5:$DK$5,0))*ACIM!DD29","v":30.552646622079774},240.4515799860242,2004.1923876253977,17.965529529761259,1.5480356413246854E-2,null,null,2004,5489.7679155493643,0,573.42109982149452,{"$f":"INDEX('Floor Space'!$I$5:$DK$50,MATCH(ACIM!DH29,'Floor Space'!$I$5:$I$50,0),MATCH(ACIM!DH$10,'Floor Space'!$I$5:$DK$5,0))*ACIM!DO29","v":109.30052103717358},682.72162085866808,5599.0684365865382,17.965529529761259,1.9909861895543557E-2,null,null,2004,910.63258045869372,0,100.65275421417125,{"$f":"INDEX('Floor Space'!$I$5:$DK$50,MATCH(ACIM!DS29,'Floor Space'!$I$5:$I$50,0),MATCH(ACIM!DS$10,'Floor Space'!$I$5:$DK$5,0))*ACIM!DZ29","v":12.014181009169091},112.66693522334035,922.6467614678628,17.965529529761259,1.31932255302325E-2,null,null,2004,368.49343459420805,0,40.320212191143227,{"$f":"INDEX('Floor Space'!$I$5:$DK$50,MATCH(ACIM!ED29,'Floor Space'!$I$5:$I$50,0),MATCH(ACIM!ED$10,'Floor Space'!$I$5:$DK$5,0))*ACIM!EK29","v":4.8616169890113463},45.181829180154573,373.35505158321939,17.965529529761259,1.31932255302325E-2,null,null,2004,788.50290166832917,0,86.069698724740178,{"$f":"INDEX('Floor Space'!$I$5:$DK$50,MATCH(ACIM!EO29,'Floor Space'!$I$5:$I$50,0),MATCH(ACIM!EO$10,'Floor Space'!$I$5:$DK$5,0))*ACIM!EV29","v":24.807423057325238},110.87712178206542,813.31032472565437,17.965529529761259,3.1461422659114113E-2,null,null,2004,2593.055511310673,0,276.76241196916766,{"$f":"INDEX('Floor Space'!$I$5:$DK$50,MATCH(ACIM!EZ29,'Floor Space'!$I$5:$I$50,0),MATCH(ACIM!EZ$10,'Floor Space'!$I$5:$DK$5,0))*ACIM!FG29","v":33.510635128095899},310.27304709726354,2626.566146438769,17.965529529761259,1.2923223194384326E-2,null,null,2004,1027.0763523434898,0,108.40098907495839,{"$f":"INDEX('Floor Space'!$I$5:$DK$50,MATCH(ACIM!FK29,'Floor Space'!$I$5:$I$50,0),MATCH(ACIM!FK$10,'Floor Space'!$I$5:$DK$5,0))*ACIM!FR29","v":20.267760685723591},128.66874976068198,1047.3441130292133,17.965529529761259,1.9733450818411269E-2,null,null,2004,2236.8878575746508,0,234.50829311560602,{"$f":"INDEX('Floor Space'!$I$5:$DK$50,MATCH(ACIM!FV29,'Floor Space'!$I$5:$I$50,0),MATCH(ACIM!FV$10,'Floor Space'!$I$5:$DK$5,0))*ACIM!GC29","v":60.180888851317285},294.68918196692329,2297.0687464259681,17.965529529761259,2.6903847078220799E-2,null,null,2004,3356.6650110771029,0,354.59904637272194,{"$f":"INDEX('Floor Space'!$I$5:$DK$50,MATCH(ACIM!GG29,'Floor Space'!$I$5:$I$50,0),MATCH(ACIM!GG$10,'Floor Space'!$I$5:$DK$5,0))*ACIM!GN29","v":100.89592294361974},455.49496931634167,3457.5609340207225,17.965529529761259,3.0058383130476152E-2,null,null,2004,6602.4538074574011,0,687.61240576234434,{"$f":"INDEX('Floor Space'!$I$5:$DK$50,MATCH(ACIM!GR29,'Floor Space'!$I$5:$I$50,0),MATCH(ACIM!GR$10,'Floor Space'!$I$5:$DK$5,0))*ACIM!GY29","v":157.09544090120548},844.70784666354984,6759.5492483586067,17.965529529761259,2.379349337117187E-2]
[null,2005,47042.052566877828,0,4940.7362827730776,996.31828761740769,5937.0545703904863,48038.370854495239,17.965529529761259,2.1179311557483205E-2,null,null,2005,4358.7771018902404,0,451.65513267470573,{"$f":"INDEX('Floor Space'!$I$5:$DK$54,MATCH(ACIM!M30,'Floor Space'!$I$5:$I$54,0),MATCH(ACIM!M$10,'Floor Space'!$I$5:$DK$5,0))*ACIM!T30","v":58.805357490824818},510.46049016553053,4417.5824593810648,17.965529529761259,1.3491251357020007E-2,null,null,2005,1963.8077013277414,0,203.48914550049969,{"$f":"INDEX('Floor Space'!$I$5:$DK$50,MATCH(ACIM!X30,'Floor Space'!$I$5:$I$50,0),MATCH(ACIM!X$10,'Floor Space'!$I$5:$DK$5,0))*ACIM!AE30","v":26.494223315464403},229.9833688159641,1990.3019246432057,17.965529529761259,1.3491251357020007E-2,null,null,2005,2304.2748462987943,0,238.76824556427528,{"$f":"INDEX('Floor Space'!$I$5:$DK$50,MATCH(ACIM!AI30,'Floor Space'!$I$5:$I$50,0),MATCH(ACIM!AI$10,'Floor Space'!$I$5:$DK$5,0))*ACIM!AP30","v":31.087551147075878},269.85579671135116,2335.3623974458701,17.965529529761259,1.3491251357020007E-2,null,null,2005,2035.6406565187608,0,210.81115836962974,{"$f":"INDEX('Floor Space'!$I$5:$DK$50,MATCH(ACIM!AT30,'Floor Space'!$I$5:$I$50,0),MATCH(ACIM!AT$10,'Floor Space'!$I$5:$DK$5,0))*ACIM!BA30","v":42.935315371777001},253.74647374140673,2078.5759718905379,17.965529529761259,2.1091794975839573E-2,null,null,2005,3759.7943608579221,0,397.05810582185819,{"$f":"INDEX('Floor Space'!$I$5:$DK$50,MATCH(ACIM!BE30,'Floor Space'!$I$5:$I$50,0),MATCH(ACIM!BE$10,'Floor Space'!$I$5:$DK$5,0))*ACIM!BL30","v":79.300811810532792},476.35891763239101,3839.0951726684548,17.965529529761259,2.1091794975839351E-2,null,null,2005,939.94859021448053,0,99.264526455464548,{"$f":"INDEX('Floor Space'!$I$5:$DK$50,MATCH(ACIM!BP30,'Floor Space'!$I$5:$I$50,0),MATCH(ACIM!BP$10,'Floor Space'!$I$5:$DK$5,0))*ACIM!BW30","v":19.825202952633198},119.08972940809775,959.77379316711369,17.965529529761259,2.1091794975839351E-2,null,null,2005,1814.7754098217249,0,191.65178133611496,{"$f":"INDEX('Floor Space'!$I$5:$DK$50,MATCH(ACIM!CA30,'Floor Space'!$I$5:$I$50,0),MATCH(ACIM!CA$10,'Floor Space'!$I$5:$DK$5,0))*ACIM!CH30","v":38.276870871154912},229.92865220726986,1853.0522806928798,17.965529529761259,2.1091794975839573E-2,null,null,2005,3964.3717496862105,0,417.51419544955155,{"$f":"INDEX('Floor Space'!$I$5:$DK$50,MATCH(ACIM!CL30,'Floor Space'!$I$5:$I$50,0),MATCH(ACIM!CL$10,'Floor Space'!$I$5:$DK$5,0))*ACIM!CS30","v":90.096447901630583},507.61064335118215,4054.4681975878411,17.965529529761259,2.272653867760055E-2,null,null,2005,2004.1923876253977,0,213.14824366317859,{"$f":"INDEX('Floor Space'!$I$5:$DK$50,MATCH(ACIM!CW30,'Floor Space'!$I$5:$I$50,0),MATCH(ACIM!CW$10,'Floor Space'!$I$5:$DK$5,0))*ACIM!DD30","v":39.904854536210408},253.05309819938901,2044.0972421616082,17.965529529761259,1.9910690601659509E-2,null,null,2005,5599.0684365865382,0,584.83783472693108,{"$f":"INDEX('Floor Space'!$I$5:$DK$50,MATCH(ACIM!DH30,'Floor Space'!$I$5:$I$50,0),MATCH(ACIM!DH$10,'Floor Space'!$I$5:$DK$5,0))*ACIM!DO30","v":170.26144328603198},755.09927801296305,5769.32987987257,17.965529529761259,3.0408887695223763E-2,null,null,2005,922.6467614678628,0,101.98068870075787,{"$f":"INDEX('Floor Space'!$I$5:$DK$50,MATCH(ACIM!DS30,'Floor Space'!$I$5:$I$50,0),MATCH(ACIM!DS$10,'Floor Space'!$I$5:$DK$5,0))*ACIM!DZ30","v":1.7943071283871703},103.77499582914504,924.44106859624992,17.965529529761259,1.9447389871423137E-3,null,null,2005,373.35505158321939,0,40.852165844007807,{"$f":"INDEX('Floor Space'!$I$5:$DK$50,MATCH(ACIM!ED30,'Floor Space'!$I$5:$I$50,0),MATCH(ACIM!ED$10,'Floor Space'!$I$5:$DK$5,0))*ACIM!EK30","v":2.5296683718300965},43.381834215837905,375.88471995504949,17.965529529761259,6.7755032672063287E-3,null,null,2005,813.31032472565437,0,88.777573894461824,{"$f":"INDEX('Floor Space'!$I$5:$DK$50,MATCH(ACIM!EO30,'Floor Space'!$I$5:$I$50,0),MATCH(ACIM!EO$10,'Floor Space'!$I$5:$DK$5,0))*ACIM!EV30","v":4.4341482834232284},93.211722177885051,817.74447300907764,17.965529529761259,5.4519758923741168E-3,null,null,2005,2626.566146438769,0,280.33907439086136,{"$f":"INDEX('Floor Space'!$I$5:$DK$50,MATCH(ACIM!EZ30,'Floor Space'!$I$5:$I$50,0),MATCH(ACIM!EZ$10,'Floor Space'!$I$5:$DK$5,0))*ACIM!FG30","v":42.215580944328302},322.55465533518964,2668.7817273830974,17.965529529761259,1.6072536761187806E-2,null,null,2005,1047.3441130292133,0,110.54011466153619,{"$f":"INDEX('Floor Space'!$I$5:$DK$50,MATCH(ACIM!FK30,'Floor Space'!$I$5:$I$50,0),MATCH(ACIM!FK$10,'Floor Space'!$I$5:$DK$5,0))*ACIM!FR30","v":64.957282430635644},175.49739709217184,1112.3013954598489,17.965529529761259,6.2020955312157122E-2,null,null,2005,2297.0687464259681,0,240.81746837216286,{"$f":"INDEX('Floor Space'!$I$5:$DK$50,MATCH(ACIM!FV30,'Floor Space'!$I$5:$I$50,0),MATCH(ACIM!FV$10,'Floor Space'!$I$5:$DK$5,0))*ACIM!GC30","v":72.577541435979185},313.39500980814205,2369.6462878619473,17.965529529761259,3.1595720219041334E-2,null,null,2005,3457.5609340207225,0,365.25772036629468,{"$f":"INDEX('Floor Space'!$I$5:$DK$50,MATCH(ACIM!GG30,'Floor Space'!$I$5:$I$50,0),MATCH(ACIM!GG$10,'Floor Space'!$I$5:$DK$5,0))*ACIM!GN30","v":60.89559958348817},426.15331994978283,3518.4565336042106,17.965529529761259,1.7612299752783889E-2,null,null,2005,6759.5492483586067,0,703.97310698078604,{"$f":"INDEX('Floor Space'!$I$5:$DK$50,MATCH(ACIM!GR30,'Floor Space'!$I$5:$I$50,0),MATCH(ACIM!GR$10,'Floor Space'!$I$5:$DK$5,0))*ACIM!GY30","v":149.92608075599989},853.89918773678596,6909.4753291146062,17.965529529761259,2.2179893251373928E-2]
[null,2006,48038.370854495239,0,5045.2467063776212,1166.0765523523701,6211.3232587299917,49204.447406847605,17.965529529761259,2.4273857160650447E-2,null,null,2006,4417.5824593810648,0,457.74852559630835,{"$f":"INDEX('Floor Space'!$I$5:$DK$54,MATCH(ACIM!M31,'Floor Space'!$I$5:$I$54,0),MATCH(ACIM!M$10,'Floor Space'!$I$5:$DK$5,0))*ACIM!T31","v":109.30901560366624},567.05754119997459,4526.8914749847308,17.965529529761259,2.4744080412475444E-2,null,null,2006,1990.3019246432057,0,206.23446871087216,{"$f":"INDEX('Floor Space'!$I$5:$DK$50,MATCH(ACIM!X31,'Floor Space'!$I$5:$I$50,0),MATCH(ACIM!X$10,'Floor Space'!$I$5:$DK$5,0))*ACIM!AE31","v":49.248190868476186},255.48265957934836,2039.550115511682,17.965529529761259,2.4744080412475444E-2,null,null,2006,2335.3623974458701,0,241.9895279812576,{"$f":"INDEX('Floor Space'!$I$5:$DK$50,MATCH(ACIM!AI31,'Floor Space'!$I$5:$I$50,0),MATCH(ACIM!AI$10,'Floor Space'!$I$5:$DK$5,0))*ACIM!AP31","v":57.786394954672119},299.77592293592971,2393.1487924005423,17.965529529761259,2.4744080412475444E-2,null,null,2006,2078.5759718905379,0,215.25754410058124,{"$f":"INDEX('Floor Space'!$I$5:$DK$50,MATCH(ACIM!AT31,'Floor Space'!$I$5:$I$50,0),MATCH(ACIM!AT$10,'Floor Space'!$I$5:$DK$5,0))*ACIM!BA31","v":55.648841419903761},270.906385520485,2134.2248133104417,17.965529529761259,2.6772579964584819E-2,null,null,2006,3839.0951726684548,0,405.432773983348,{"$f":"INDEX('Floor Space'!$I$5:$DK$50,MATCH(ACIM!BE31,'Floor Space'!$I$5:$I$50,0),MATCH(ACIM!BE$10,'Floor Space'!$I$5:$DK$5,0))*ACIM!BL31","v":102.78248250191733},508.21525648526534,3941.8776551703722,17.965529529761259,2.6772579964584819E-2,null,null,2006,959.77379316711369,0,101.358193495837,{"$f":"INDEX('Floor Space'!$I$5:$DK$50,MATCH(ACIM!BP31,'Floor Space'!$I$5:$I$50,0),MATCH(ACIM!BP$10,'Floor Space'!$I$5:$DK$5,0))*ACIM!BW31","v":25.695620625479332},127.05381412131634,985.46941379259306,17.965529529761259,2.6772579964584819E-2,null,null,2006,1853.0522806928798,0,195.6940614148107,{"$f":"INDEX('Floor Space'!$I$5:$DK$50,MATCH(ACIM!CA31,'Floor Space'!$I$5:$I$50,0),MATCH(ACIM!CA$10,'Floor Space'!$I$5:$DK$5,0))*ACIM!CH31","v":49.610990363406167},245.30505177821686,1902.663271056286,17.965529529761259,2.6772579964584819E-2,null,null,2006,4054.4681975878411,0,427.00284796088317,{"$f":"INDEX('Floor Space'!$I$5:$DK$50,MATCH(ACIM!CL31,'Floor Space'!$I$5:$I$50,0),MATCH(ACIM!CL$10,'Floor Space'!$I$5:$DK$5,0))*ACIM!CS31","v":87.45476050851542},514.45760846939856,4141.9229580963565,17.965529529761259,2.1569970769667268E-2,null,null,2006,2044.0972421616082,0,217.3921723950433,{"$f":"INDEX('Floor Space'!$I$5:$DK$50,MATCH(ACIM!CW31,'Floor Space'!$I$5:$I$50,0),MATCH(ACIM!CW$10,'Floor Space'!$I$5:$DK$5,0))*ACIM!DD31","v":35.315416293596655},252.70758868863996,2079.412658455205,17.965529529761259,1.7276778993278841E-2,null,null,2006,5769.32987987257,0,602.62210276306018,{"$f":"INDEX('Floor Space'!$I$5:$DK$50,MATCH(ACIM!DH31,'Floor Space'!$I$5:$I$50,0),MATCH(ACIM!DH$10,'Floor Space'!$I$5:$DK$5,0))*ACIM!DO31","v":163.09341259001158},765.71551535307174,5932.4232924625812,17.965529529761259,2.8269039210081282E-2,null,null,2006,924.44106859624992,0,102.17901452200987,{"$f":"INDEX('Floor Space'!$I$5:$DK$50,MATCH(ACIM!DS31,'Floor Space'!$I$5:$I$50,0),MATCH(ACIM!DS$10,'Floor Space'!$I$5:$DK$5,0))*ACIM!DZ31","v":1.8572977137708837},104.03631223578076,926.29836631002081,17.965529529761259,2.0091034213691739E-3,null,null,2006,375.88471995504949,0,41.128959827156336,{"$f":"INDEX('Floor Space'!$I$5:$DK$50,MATCH(ACIM!ED31,'Floor Space'!$I$5:$I$50,0),MATCH(ACIM!ED$10,'Floor Space'!$I$5:$DK$5,0))*ACIM!EK31","v":2.4790989623767836},43.608058789533118,378.36381891742627,17.965529529761259,6.5953704174865901E-3,null,null,2006,817.74447300907764,0,89.261587087117917,{"$f":"INDEX('Floor Space'!$I$5:$DK$50,MATCH(ACIM!EO31,'Floor Space'!$I$5:$I$50,0),MATCH(ACIM!EO$10,'Floor Space'!$I$5:$DK$5,0))*ACIM!EV31","v":4.5898126017732741},93.851399688891192,822.33428561085088,17.965529529761259,5.612771169071884E-3,null,null,2006,2668.7817273830974,0,284.84483446960576,{"$f":"INDEX('Floor Space'!$I$5:$DK$50,MATCH(ACIM!EZ31,'Floor Space'!$I$5:$I$50,0),MATCH(ACIM!EZ$10,'Floor Space'!$I$5:$DK$5,0))*ACIM!FG31","v":54.729075296633852},339.57390976623958,2723.5108026797311,17.965529529761259,2.0507138045455342E-2,null,null,2006,1112.3013954598489,0,117.39591817316006,{"$f":"INDEX('Floor Space'!$I$5:$DK$50,MATCH(ACIM!FK31,'Floor Space'!$I$5:$I$50,0),MATCH(ACIM!FK$10,'Floor Space'!$I$5:$DK$5,0))*ACIM!FR31","v":16.308748396526678},133.70466656968674,1128.6101438563755,17.965529529761259,1.466216662416775E-2,null,null,2006,2369.6462878619473,0,248.4262697267076,{"$f":"INDEX('Floor Space'!$I$5:$DK$50,MATCH(ACIM!FV31,'Floor Space'!$I$5:$I$50,0),MATCH(ACIM!FV$10,'Floor Space'!$I$5:$DK$5,0))*ACIM!GC31","v":64.43621021215445},312.86247993886207,2434.0824980741017,17.965529529761259,2.7192332687885346E-2,null,null,2006,3518.4565336042106,0,371.69074882440441,{"$f":"INDEX('Floor Space'!$I$5:$DK$50,MATCH(ACIM!GG31,'Floor Space'!$I$5:$I$50,0),MATCH(ACIM!GG$10,'Floor Space'!$I$5:$DK$5,0))*ACIM!GN31","v":73.609481452168666},445.30023027657307,3592.066015056379,17.965529529761259,2.0920958024956748E-2,null,null,2006,6909.4753291146062,0,719.58715534545797,{"$f":"INDEX('Floor Space'!$I$5:$DK$50,MATCH(ACIM!GR31,'Floor Space'!$I$5:$I$50,0),MATCH(ACIM!GR$10,'Floor Space'!$I$5:$DK$5,0))*ACIM!GY31","v":212.12170198732065},931.70885733277862,7121.5970311019264,17.965529529761259,3.070011714109433E-2]
[null,2007,49204.447406847605,0,5167.3993340032594,1072.8052715910649,6240.2046055943247,50277.252678438672,17.965529529761259,2.1803014323493297E-2,null,null,2007,4526.8914749847308,0,469.07509192235551,{"$f":"INDEX('Floor Space'!$I$5:$DK$54,MATCH(ACIM!M32,'Floor Space'!$I$5:$I$54,0),MATCH(ACIM!M$10,'Floor Space'!$I$5:$DK$5,0))*ACIM!T32","v":81.786707776390557},550.86179969874604,4608.6781827611212,17.965529529761259,1.8066858511704531E-2,null,null,2007,2039.550115511682,0,211.33755098847817,{"$f":"INDEX('Floor Space'!$I$5:$DK$50,MATCH(ACIM!X32,'Floor Space'!$I$5:$I$50,0),MATCH(ACIM!X$10,'Floor Space'!$I$5:$DK$5,0))*ACIM!AE32","v":36.848263364480189},248.18581435295835,2076.398378876162,17.965529529761259,1.8066858511704531E-2,null,null,2007,2393.1487924005423,0,247.97733632060283,{"$f":"INDEX('Floor Space'!$I$5:$DK$50,MATCH(ACIM!AI32,'Floor Space'!$I$5:$I$50,0),MATCH(ACIM!AI$10,'Floor Space'!$I$5:$DK$5,0))*ACIM!AP32","v":43.23668062975716},291.21401695036002,2436.3854730302996,17.965529529761259,1.8066858511704531E-2,null,null,2007,2134.2248133104417,0,221.02054391299413,{"$f":"INDEX('Floor Space'!$I$5:$DK$50,MATCH(ACIM!AT32,'Floor Space'!$I$5:$I$50,0),MATCH(ACIM!AT$10,'Floor Space'!$I$5:$DK$5,0))*ACIM!BA32","v":46.538038565195713},267.55858247818986,2180.7628518756374,17.965529529761259,2.1805593429030212E-2,null,null,2007,3941.8776551703722,0,416.28725534508067,{"$f":"INDEX('Floor Space'!$I$5:$DK$50,MATCH(ACIM!BE32,'Floor Space'!$I$5:$I$50,0),MATCH(ACIM!BE$10,'Floor Space'!$I$5:$DK$5,0))*ACIM!BL32","v":85.954981495624693},502.24223684070535,4027.8326366659971,17.965529529761259,2.1805593429030434E-2,null,null,2007,985.46941379259306,0,104.07181383627017,{"$f":"INDEX('Floor Space'!$I$5:$DK$50,MATCH(ACIM!BP32,'Floor Space'!$I$5:$I$50,0),MATCH(ACIM!BP$10,'Floor Space'!$I$5:$DK$5,0))*ACIM!BW32","v":21.488745373906173},125.56055921017634,1006.9581591664993,17.965529529761259,2.1805593429030434E-2,null,null,2007,1902.663271056286,0,200.93329632263311,{"$f":"INDEX('Floor Space'!$I$5:$DK$50,MATCH(ACIM!CA32,'Floor Space'!$I$5:$I$50,0),MATCH(ACIM!CA$10,'Floor Space'!$I$5:$DK$5,0))*ACIM!CH32","v":41.488701721002364},242.42199804363548,1944.1519727772884,17.965529529761259,2.1805593429030434E-2,null,null,2007,4141.9229580963565,0,436.21328690996404,{"$f":"INDEX('Floor Space'!$I$5:$DK$50,MATCH(ACIM!CL32,'Floor Space'!$I$5:$I$50,0),MATCH(ACIM!CL$10,'Floor Space'!$I$5:$DK$5,0))*ACIM!CS32","v":94.609037615486741},530.82232452545077,4236.5319957118436,17.965529529761259,2.2841814918491243E-2,null,null,2007,2079.412658455205,0,221.14800891238121,{"$f":"INDEX('Floor Space'!$I$5:$DK$50,MATCH(ACIM!CW32,'Floor Space'!$I$5:$I$50,0),MATCH(ACIM!CW$10,'Floor Space'!$I$5:$DK$5,0))*ACIM!DD32","v":39.080780768228486},260.22878968060968,2118.4934392234336,17.965529529761259,1.8794143918149375E-2,null,null,2007,5932.4232924625812,0,619.65765061493084,{"$f":"INDEX('Floor Space'!$I$5:$DK$50,MATCH(ACIM!DH32,'Floor Space'!$I$5:$I$50,0),MATCH(ACIM!DH$10,'Floor Space'!$I$5:$DK$5,0))*ACIM!DO32","v":156.23949757041115},775.89714818534196,6088.6627900329922,17.965529529761259,2.6336539027638217E-2,null,null,2007,926.29836631002081,0,102.38430272967815,{"$f":"INDEX('Floor Space'!$I$5:$DK$50,MATCH(ACIM!DS32,'Floor Space'!$I$5:$I$50,0),MATCH(ACIM!DS$10,'Floor Space'!$I$5:$DK$5,0))*ACIM!DZ32","v":1.8870600514935834},104.27136278117173,928.18542636151437,17.965529529761259,2.0372054190387345E-3,null,null,2007,378.36381891742627,0,41.400220552102361,{"$f":"INDEX('Floor Space'!$I$5:$DK$50,MATCH(ACIM!ED32,'Floor Space'!$I$5:$I$50,0),MATCH(ACIM!ED$10,'Floor Space'!$I$5:$DK$5,0))*ACIM!EK32","v":2.5816196678858856},43.98184021998825,380.94543858531216,17.965529529761259,6.8231145231392176E-3,null,null,2007,822.33428561085088,0,89.762591949626071,{"$f":"INDEX('Floor Space'!$I$5:$DK$50,MATCH(ACIM!EO32,'Floor Space'!$I$5:$I$50,0),MATCH(ACIM!EO$10,'Floor Space'!$I$5:$DK$5,0))*ACIM!EV32","v":4.6633622280529154},94.425954177678989,826.99764783890384,17.965529529761259,5.670883860313447E-3,null,null,2007,2723.5108026797311,0,290.68618681160882,{"$f":"INDEX('Floor Space'!$I$5:$DK$50,MATCH(ACIM!EZ32,'Floor Space'!$I$5:$I$50,0),MATCH(ACIM!EZ$10,'Floor Space'!$I$5:$DK$5,0))*ACIM!FG32","v":53.67244970791122},344.35863651952002,2777.1832523876424,17.965529529761259,1.9707081629748435E-2,null,null,2007,1128.6101438563755,0,119.1171966864121,{"$f":"INDEX('Floor Space'!$I$5:$DK$50,MATCH(ACIM!FK32,'Floor Space'!$I$5:$I$50,0),MATCH(ACIM!FK$10,'Floor Space'!$I$5:$DK$5,0))*ACIM!FR32","v":27.944502052199269},147.06169873861137,1156.5546459085749,17.965529529761259,2.4760101798053213E-2,null,null,2007,2434.0824980741017,0,255.18155950152652,{"$f":"INDEX('Floor Space'!$I$5:$DK$50,MATCH(ACIM!FV32,'Floor Space'!$I$5:$I$50,0),MATCH(ACIM!FV$10,'Floor Space'!$I$5:$DK$5,0))*ACIM!GC32","v":52.458292030124859},307.6398515316514,2486.5407901042267,17.965529529761259,2.1551566995626104E-2,null,null,2007,3592.066015056379,0,379.46687537882451,{"$f":"INDEX('Floor Space'!$I$5:$DK$50,MATCH(ACIM!GG32,'Floor Space'!$I$5:$I$50,0),MATCH(ACIM!GG$10,'Floor Space'!$I$5:$DK$5,0))*ACIM!GN32","v":77.147522586946195},456.61439796577071,3669.2135376433253,17.965529529761259,2.1477200659335782E-2,null,null,2007,7121.5970311019264,0,741.67856530779034,{"$f":"INDEX('Floor Space'!$I$5:$DK$50,MATCH(ACIM!GR32,'Floor Space'!$I$5:$I$50,0),MATCH(ACIM!GR$10,'Floor Space'!$I$5:$DK$5,0))*ACIM!GY32","v":205.17902838596783},946.85759369375819,7326.7760594878946,17.965529529761259,2.8810816940343154E-2]
[null,2008,50277.252678438672,0,5279.855779097662,1050.7088799659566,6330.5646590636188,51327.961558404619,17.965529529761259,2.0898295431654335E-2,null,null,2008,4608.6781827611212,0,477.54980523948149,{"$f":"INDEX('Floor Space'!$I$5:$DK$54,MATCH(ACIM!M33,'Floor Space'!$I$5:$I$54,0),MATCH(ACIM!M$10,'Floor Space'!$I$5:$DK$5,0))*ACIM!T33","v":85.437317018247441},562.98712225772897,4694.1154997793683,17.965529529761259,1.8538356038359849E-2,null,null,2008,2076.398378876162,0,215.15575662039714,{"$f":"INDEX('Floor Space'!$I$5:$DK$50,MATCH(ACIM!X33,'Floor Space'!$I$5:$I$50,0),MATCH(ACIM!X$10,'Floor Space'!$I$5:$DK$5,0))*ACIM!AE33","v":38.493012425079733},253.64876904547688,2114.8913913012416,17.965529529761259,1.8538356038359849E-2,null,null,2008,2436.3854730302996,0,252.4575077700166,{"$f":"INDEX('Floor Space'!$I$5:$DK$50,MATCH(ACIM!AI33,'Floor Space'!$I$5:$I$50,0),MATCH(ACIM!AI$10,'Floor Space'!$I$5:$DK$5,0))*ACIM!AP33","v":45.166581345723749},297.62408911574033,2481.5520543760235,17.965529529761259,1.8538356038360071E-2,null,null,2008,2180.7628518756374,0,225.840028033024,{"$f":"INDEX('Floor Space'!$I$5:$DK$50,MATCH(ACIM!AT33,'Floor Space'!$I$5:$I$50,0),MATCH(ACIM!AT$10,'Floor Space'!$I$5:$DK$5,0))*ACIM!BA33","v":43.369464350833013},269.20949238385703,2224.1323162264703,17.965529529761259,1.9887290501822141E-2,null,null,2008,4027.8326366659971,0,425.3646459848224,{"$f":"INDEX('Floor Space'!$I$5:$DK$50,MATCH(ACIM!BE33,'Floor Space'!$I$5:$I$50,0),MATCH(ACIM!BE$10,'Floor Space'!$I$5:$DK$5,0))*ACIM!BL33","v":80.1026777380971},505.4673237229195,4107.9353144040942,17.965529529761259,1.9887290501822141E-2,null,null,2008,1006.9581591664993,0,106.3411614962056,{"$f":"INDEX('Floor Space'!$I$5:$DK$50,MATCH(ACIM!BP33,'Floor Space'!$I$5:$I$50,0),MATCH(ACIM!BP$10,'Floor Space'!$I$5:$DK$5,0))*ACIM!BW33","v":20.025669434524275},126.36683093072988,1026.9838286010236,17.965529529761259,1.9887290501822141E-2,null,null,2008,1944.1519727772884,0,205.31476608859936,{"$f":"INDEX('Floor Space'!$I$5:$DK$50,MATCH(ACIM!CA33,'Floor Space'!$I$5:$I$50,0),MATCH(ACIM!CA$10,'Floor Space'!$I$5:$DK$5,0))*ACIM!CH33","v":38.663915062312618},243.97868115091197,1982.8158878396009,17.965529529761259,1.9887290501822141E-2,null,null,2008,4236.5319957118436,0,446.17719007454821,{"$f":"INDEX('Floor Space'!$I$5:$DK$50,MATCH(ACIM!CL33,'Floor Space'!$I$5:$I$50,0),MATCH(ACIM!CL$10,'Floor Space'!$I$5:$DK$5,0))*ACIM!CS33","v":104.47144258777244},550.64863266232067,4341.0034382996164,17.965529529761259,2.4659660942845996E-2,null,null,2008,2118.4934392234336,0,225.30429641909268,{"$f":"INDEX('Floor Space'!$I$5:$DK$50,MATCH(ACIM!CW33,'Floor Space'!$I$5:$I$50,0),MATCH(ACIM!CW$10,'Floor Space'!$I$5:$DK$5,0))*ACIM!DD33","v":43.625643782571125},268.92994020166378,2162.1190830060045,17.965529529761259,2.0592767942940959E-2,null,null,2008,6088.6627900329922,0,635.97728851412535,{"$f":"INDEX('Floor Space'!$I$5:$DK$50,MATCH(ACIM!DH33,'Floor Space'!$I$5:$I$50,0),MATCH(ACIM!DH$10,'Floor Space'!$I$5:$DK$5,0))*ACIM!DO33","v":150.81624718840422},786.79353570252954,6239.4790372213965,17.965529529761259,2.4770011476951348E-2,null,null,2008,928.18542636151437,0,102.59288058602357,{"$f":"INDEX('Floor Space'!$I$5:$DK$50,MATCH(ACIM!DS33,'Floor Space'!$I$5:$I$50,0),MATCH(ACIM!DS$10,'Floor Space'!$I$5:$DK$5,0))*ACIM!DZ33","v":2.0829020406880412},104.67578262671161,930.26832840220243,17.965529529761259,2.2440581176252916E-3,null,null,2008,380.94543858531216,0,41.682698998212572,{"$f":"INDEX('Floor Space'!$I$5:$DK$50,MATCH(ACIM!ED33,'Floor Space'!$I$5:$I$50,0),MATCH(ACIM!ED$10,'Floor Space'!$I$5:$DK$5,0))*ACIM!EK33","v":2.9016007200378722},44.584299718250442,383.84703930535005,17.965529529761259,7.6168406972225711E-3,null,null,2008,826.99764783890384,0,90.271625183573121,{"$f":"INDEX('Floor Space'!$I$5:$DK$50,MATCH(ACIM!EO33,'Floor Space'!$I$5:$I$50,0),MATCH(ACIM!EO$10,'Floor Space'!$I$5:$DK$5,0))*ACIM!EV33","v":5.147333119362564},95.418958302935692,832.14498095826639,17.965529529761259,6.2241206281703487E-3,null,null,2008,2777.1832523876424,0,296.41476322374558,{"$f":"INDEX('Floor Space'!$I$5:$DK$50,MATCH(ACIM!EZ33,'Floor Space'!$I$5:$I$50,0),MATCH(ACIM!EZ$10,'Floor Space'!$I$5:$DK$5,0))*ACIM!FG33","v":45.187741879918526},341.6025051036641,2822.3709942675609,17.965529529761259,1.6271069559802731E-2,null,null,2008,1156.5546459085749,0,122.06655060226637,{"$f":"INDEX('Floor Space'!$I$5:$DK$50,MATCH(ACIM!FK33,'Floor Space'!$I$5:$I$50,0),MATCH(ACIM!FK$10,'Floor Space'!$I$5:$DK$5,0))*ACIM!FR33","v":26.92672192056693},148.99327252283331,1183.4813678291418,17.965529529761259,2.3281841472707621E-2,null,null,2008,2486.5407901042267,0,260.68112197717204,{"$f":"INDEX('Floor Space'!$I$5:$DK$50,MATCH(ACIM!FV33,'Floor Space'!$I$5:$I$50,0),MATCH(ACIM!FV$10,'Floor Space'!$I$5:$DK$5,0))*ACIM!GC33","v":54.793262442126185},315.47438441929825,2541.3340525463527,17.965529529761259,2.2035939510901548E-2,null,null,2008,3669.2135376433253,0,387.61676160490663,{"$f":"INDEX('Floor Space'!$I$5:$DK$50,MATCH(ACIM!GG33,'Floor Space'!$I$5:$I$50,0),MATCH(ACIM!GG$10,'Floor Space'!$I$5:$DK$5,0))*ACIM!GN33","v":73.348051960474891},460.96481356538152,3742.5615896038003,17.965529529761259,1.9990129003935042E-2,null,null,2008,7326.7760594878946,0,763.04693068144945,{"$f":"INDEX('Floor Space'!$I$5:$DK$50,MATCH(ACIM!GR33,'Floor Space'!$I$5:$I$50,0),MATCH(ACIM!GR$10,'Floor Space'!$I$5:$DK$5,0))*ACIM!GY33","v":190.1492949492158},953.19622563066525,7516.9253544371104,17.965529529761259,2.5952655493404864E-2]
[null,2009,51327.961558404619,0,5389.992071431162,1011.9733338145772,6401.9654052457399,52339.934892219193,17.965529529761259,1.9715829405441587E-2,null,null,2009,4694.1154997793683,0,486.40279355506044,{"$f":"INDEX('Floor Space'!$I$5:$DK$54,MATCH(ACIM!M34,'Floor Space'!$I$5:$I$54,0),MATCH(ACIM!M$10,'Floor Space'!$I$5:$DK$5,0))*ACIM!T34","v":78.858670904329117},565.26146445938957,4772.9741706836976,17.965529529761259,1.6799473917511465E-2,null,null,2009,2114.8913913012416,0,219.14439064032877,{"$f":"INDEX('Floor Space'!$I$5:$DK$50,MATCH(ACIM!X34,'Floor Space'!$I$5:$I$50,0),MATCH(ACIM!X$10,'Floor Space'!$I$5:$DK$5,0))*ACIM!AE34","v":35.529062766534445},254.67345340686322,2150.4204540677761,17.965529529761259,1.6799473917511243E-2,null,null,2009,2481.5520543760235,0,257.13765493361421,{"$f":"INDEX('Floor Space'!$I$5:$DK$50,MATCH(ACIM!AI34,'Floor Space'!$I$5:$I$50,0),MATCH(ACIM!AI$10,'Floor Space'!$I$5:$DK$5,0))*ACIM!AP34","v":41.688769012436637},298.82642394605085,2523.2408233884603,17.965529529761259,1.6799473917511465E-2,null,null,2009,2224.1323162264703,0,230.33137427745643,{"$f":"INDEX('Floor Space'!$I$5:$DK$50,MATCH(ACIM!AT34,'Floor Space'!$I$5:$I$50,0),MATCH(ACIM!AT$10,'Floor Space'!$I$5:$DK$5,0))*ACIM!BA34","v":42.168068948356634},272.49944322581308,2266.3003851748267,17.965529529761259,1.8959334676589723E-2,null,null,2009,4107.9353144040942,0,433.82399626872729,{"$f":"INDEX('Floor Space'!$I$5:$DK$50,MATCH(ACIM!BE34,'Floor Space'!$I$5:$I$50,0),MATCH(ACIM!BE$10,'Floor Space'!$I$5:$DK$5,0))*ACIM!BL34","v":77.88372045556963},511.70771672429692,4185.8190348596636,17.965529529761259,1.8959334676589723E-2,null,null,2009,1026.9838286010236,0,108.45599906718182,{"$f":"INDEX('Floor Space'!$I$5:$DK$50,MATCH(ACIM!BP34,'Floor Space'!$I$5:$I$50,0),MATCH(ACIM!BP$10,'Floor Space'!$I$5:$DK$5,0))*ACIM!BW34","v":19.470930113892408},127.92692918107423,1046.4547587149159,17.965529529761259,1.8959334676589723E-2,null,null,2009,1982.8158878396009,0,209.39792048611696,{"$f":"INDEX('Floor Space'!$I$5:$DK$50,MATCH(ACIM!CA34,'Floor Space'!$I$5:$I$50,0),MATCH(ACIM!CA$10,'Floor Space'!$I$5:$DK$5,0))*ACIM!CH34","v":37.592870019610665},246.99079050572763,2020.4087578592116,17.965529529761259,1.8959334676589945E-2,null,null,2009,4341.0034382996164,0,457.17976830221829,{"$f":"INDEX('Floor Space'!$I$5:$DK$50,MATCH(ACIM!CL34,'Floor Space'!$I$5:$I$50,0),MATCH(ACIM!CL$10,'Floor Space'!$I$5:$DK$5,0))*ACIM!CS34","v":100.13680057576862},557.31656887798692,4441.140238875385,17.965529529761259,2.3067662119842236E-2,null,null,2009,2162.1190830060045,0,229.94393551179866,{"$f":"INDEX('Floor Space'!$I$5:$DK$50,MATCH(ACIM!CW34,'Floor Space'!$I$5:$I$50,0),MATCH(ACIM!CW$10,'Floor Space'!$I$5:$DK$5,0))*ACIM!DD34","v":41.43180103607709},271.37573654787576,2203.5508840420816,17.965529529761259,1.9162589776726913E-2,null,null,2009,6239.4790372213965,0,651.73045324970076,{"$f":"INDEX('Floor Space'!$I$5:$DK$50,MATCH(ACIM!DH34,'Floor Space'!$I$5:$I$50,0),MATCH(ACIM!DH$10,'Floor Space'!$I$5:$DK$5,0))*ACIM!DO34","v":145.0165000659467},796.74695331564749,6384.4955372873428,17.965529529761259,2.3241764128199671E-2,null,null,2009,930.26832840220243,0,102.82310497251321,{"$f":"INDEX('Floor Space'!$I$5:$DK$50,MATCH(ACIM!DS34,'Floor Space'!$I$5:$I$50,0),MATCH(ACIM!DS$10,'Floor Space'!$I$5:$DK$5,0))*ACIM!DZ34","v":1.7970191965212923},104.6201241690345,932.06534759872375,17.965529529761259,1.9317213557166202E-3,null,null,2009,383.84703930535005,0,42.000189476312229,{"$f":"INDEX('Floor Space'!$I$5:$DK$50,MATCH(ACIM!ED34,'Floor Space'!$I$5:$I$50,0),MATCH(ACIM!ED$10,'Floor Space'!$I$5:$DK$5,0))*ACIM!EK34","v":2.5442164646773908},44.54440594098962,386.39125577002744,17.965529529761259,6.6282039566638584E-3,null,null,2009,832.14498095826639,0,90.833486668016661,{"$f":"INDEX('Floor Space'!$I$5:$DK$50,MATCH(ACIM!EO34,'Floor Space'!$I$5:$I$50,0),MATCH(ACIM!EO$10,'Floor Space'!$I$5:$DK$5,0))*ACIM!EV34","v":4.4408504316068864},95.274337099623551,836.58583138987331,17.965529529761259,5.3366306752136161E-3,null,null,2009,2822.3709942675609,0,301.23774845471166,{"$f":"INDEX('Floor Space'!$I$5:$DK$50,MATCH(ACIM!EZ34,'Floor Space'!$I$5:$I$50,0),MATCH(ACIM!EZ$10,'Floor Space'!$I$5:$DK$5,0))*ACIM!FG34","v":40.755222859810289},341.99297131452192,2863.1262171273711,17.965529529761259,1.4440065796660573E-2,null,null,2009,1183.4813678291418,0,124.9084846825086,{"$f":"INDEX('Floor Space'!$I$5:$DK$50,MATCH(ACIM!FK34,'Floor Space'!$I$5:$I$50,0),MATCH(ACIM!FK$10,'Floor Space'!$I$5:$DK$5,0))*ACIM!FR34","v":29.260142877659874},154.16862756016849,1212.7415107068018,17.965529529761259,2.4723788369674038E-2,null,null,2009,2541.3340525463527,0,266.42547541269494,{"$f":"INDEX('Floor Space'!$I$5:$DK$50,MATCH(ACIM!FV34,'Floor Space'!$I$5:$I$50,0),MATCH(ACIM!FV$10,'Floor Space'!$I$5:$DK$5,0))*ACIM!GC34","v":57.22860813294858},323.65408354564352,2598.5626606793012,17.965529529761259,2.2519120646735447E-2,null,null,2009,3742.5615896038003,0,395.36527067347623,{"$f":"INDEX('Floor Space'!$I$5:$DK$50,MATCH(ACIM!GG34,'Floor Space'!$I$5:$I$50,0),MATCH(ACIM!GG$10,'Floor Space'!$I$5:$DK$5,0))*ACIM!GN34","v":78.151285298808631},473.51655597228489,3820.7128749026087,17.965529529761259,2.0881763313100654E-2,null,null,2009,7516.9253544371104,0,782.85002479872514,{"$f":"INDEX('Floor Space'!$I$5:$DK$50,MATCH(ACIM!GR34,'Floor Space'!$I$5:$I$50,0),MATCH(ACIM!GR$10,'Floor Space'!$I$5:$DK$5,0))*ACIM!GY34","v":178.01879465402237},960.86881945274752,7694.9441490911331,17.965529529761259,2.368239489686319E-2]
[null,2010,52339.934892219193,0,5496.0778831550779,624.06510778080121,6120.1429909358794,52964,17.965529529761259,1.1923306917861254E-2,null,null,2010,4772.9741706836976,0,494.57410459879338,{"$f":"INDEX('Floor Space'!$I$5:$DK$54,MATCH(ACIM!M35,'Floor Space'!$I$5:$I$54,0),MATCH(ACIM!M$10,'Floor Space'!$I$5:$DK$5,0))*ACIM!T35","v":61.153321949774984},555.72742654856836,{"$f":"HLOOKUP(M10,'Saturation and Lifetime'!$C$58:$T$59,2,FALSE)*ACIM!V36","v":4834.1274926334736},17.965529529761259,1.2812414180950027E-2,null,null,2010,2150.4204540677761,0,222.82590111505985,{"$f":"INDEX('Floor Space'!$I$5:$DK$50,MATCH(ACIM!X35,'Floor Space'!$I$5:$I$50,0),MATCH(ACIM!X$10,'Floor Space'!$I$5:$DK$5,0))*ACIM!AE35","v":27.552077520702518},250.37797863576236,{"$f":"HLOOKUP(X10,'Saturation and Lifetime'!$C$58:$T$59,2,FALSE)*ACIM!AG36","v":2177.9725315884789},17.965529529761259,1.2812414180950027E-2,null,null,2010,2523.2408233884603,0,261.45743226088149,{"$f":"INDEX('Floor Space'!$I$5:$DK$50,MATCH(ACIM!AI35,'Floor Space'!$I$5:$I$50,0),MATCH(ACIM!AI$10,'Floor Space'!$I$5:$DK$5,0))*ACIM!AP35","v":32.328806507533784},293.78623876841527,{"$f":"HLOOKUP(AI10,'Saturation and Lifetime'!$C$58:$T$59,2,FALSE)*ACIM!AR36","v":2555.5696298959942},17.965529529761259,1.2812414180949805E-2,null,null,2010,2266.3003851748267,0,234.69830388890162,{"$f":"INDEX('Floor Space'!$I$5:$DK$50,MATCH(ACIM!AT35,'Floor Space'!$I$5:$I$50,0),MATCH(ACIM!AT$10,'Floor Space'!$I$5:$DK$5,0))*ACIM!BA35","v":18.251068519110902},252.94937240801252,{"$f":"HLOOKUP(AT10,'Saturation and Lifetime'!$C$58:$T$59,2,FALSE)*ACIM!BC36","v":2284.5514536939377},17.965529529761259,8.0532433557800598E-3,null,null,2010,4185.8190348596636,0,442.04901060472179,{"$f":"INDEX('Floor Space'!$I$5:$DK$50,MATCH(ACIM!BE35,'Floor Space'!$I$5:$I$50,0),MATCH(ACIM!BE$10,'Floor Space'!$I$5:$DK$5,0))*ACIM!BL35","v":33.709419330981184},475.75842993570296,{"$f":"HLOOKUP(BE10,'Saturation and Lifetime'!$C$58:$T$59,2,FALSE)*ACIM!BN36","v":4219.5284541906449},17.965529529761259,8.0532433557800598E-3,null,null,2010,1046.4547587149159,0,110.51225265118045,{"$f":"INDEX('Floor Space'!$I$5:$DK$50,MATCH(ACIM!BP35,'Floor Space'!$I$5:$I$50,0),MATCH(ACIM!BP$10,'Floor Space'!$I$5:$DK$5,0))*ACIM!BW35","v":8.4273548327452961},118.93960748392574,{"$f":"HLOOKUP(BP10,'Saturation and Lifetime'!$C$58:$T$59,2,FALSE)*ACIM!BY36","v":1054.8821135476612},17.965529529761259,8.0532433557800598E-3,null,null,2010,2020.4087578592116,0,213.36796574119521,{"$f":"INDEX('Floor Space'!$I$5:$DK$50,MATCH(ACIM!CA35,'Floor Space'!$I$5:$I$50,0),MATCH(ACIM!CA$10,'Floor Space'!$I$5:$DK$5,0))*ACIM!CH35","v":16.270843405189485},229.63880914638469,{"$f":"HLOOKUP(CA10,'Saturation and Lifetime'!$C$58:$T$59,2,FALSE)*ACIM!CJ36","v":2036.6796012644011},17.965529529761259,8.0532433557800598E-3,null,null,2010,4441.140238875385,0,467.72583672544158,{"$f":"INDEX('Floor Space'!$I$5:$DK$50,MATCH(ACIM!CL35,'Floor Space'!$I$5:$I$50,0),MATCH(ACIM!CL$10,'Floor Space'!$I$5:$DK$5,0))*ACIM!CS35","v":17.99177797734286},485.71761470278443,{"$f":"HLOOKUP(CL10,'Saturation and Lifetime'!$C$58:$T$59,2,FALSE)*ACIM!CU36","v":4459.1320168527272},17.965529529761259,4.0511618660117321E-3,null,null,2010,2203.5508840420816,0,234.35025681965737,{"$f":"INDEX('Floor Space'!$I$5:$DK$50,MATCH(ACIM!CW35,'Floor Space'!$I$5:$I$50,0),MATCH(ACIM!CW$10,'Floor Space'!$I$5:$DK$5,0))*ACIM!DD35","v":13.239334866683242},247.58959168634061,{"$f":"HLOOKUP(CW10,'Saturation and Lifetime'!$C$58:$T$59,2,FALSE)*ACIM!DF36","v":2216.7902189087654},17.965529529761259,6.0081820495101468E-3,null,null,2010,6384.4955372873428,0,666.87781871929508,{"$f":"INDEX('Floor Space'!$I$5:$DK$50,MATCH(ACIM!DH35,'Floor Space'!$I$5:$I$50,0),MATCH(ACIM!DH$10,'Floor Space'!$I$5:$DK$5,0))*ACIM!DO35","v":145.3754725779707},812.25329129726583,{"$f":"HLOOKUP(DH10,'Saturation and Lifetime'!$C$58:$T$59,2,FALSE)*ACIM!DQ36","v":6529.8710098653128},17.965529529761259,2.2770079754764305E-2,null,null,2010,932.06534759872375,0,103.02173056024969,{"$f":"INDEX('Floor Space'!$I$5:$DK$50,MATCH(ACIM!DS35,'Floor Space'!$I$5:$I$50,0),MATCH(ACIM!DS$10,'Floor Space'!$I$5:$DK$5,0))*ACIM!DZ35","v":8.0946380922683225},111.11636865251802,{"$f":"HLOOKUP(DS10,'Saturation and Lifetime'!$C$58:$T$59,2,FALSE)*ACIM!EB36","v":940.15998569099202},17.965529529761259,8.6846250781904555E-3,null,null,2010,386.39125577002744,0,42.278575298379764,{"$f":"INDEX('Floor Space'!$I$5:$DK$50,MATCH(ACIM!ED35,'Floor Space'!$I$5:$I$50,0),MATCH(ACIM!ED$10,'Floor Space'!$I$5:$DK$5,0))*ACIM!EK35","v":2.0976454780019496},44.376220776381714,{"$f":"HLOOKUP(ED10,'Saturation and Lifetime'!$C$58:$T$59,2,FALSE)*ACIM!EM36","v":388.48890124802944},17.965529529761259,5.4288119792504919E-3,null,null,2010,836.58583138987331,0,91.318231439305819,{"$f":"INDEX('Floor Space'!$I$5:$DK$50,MATCH(ACIM!EO35,'Floor Space'!$I$5:$I$50,0),MATCH(ACIM!EO$10,'Floor Space'!$I$5:$DK$5,0))*ACIM!EV35","v":15.443241118362367},106.76147255766818,{"$f":"HLOOKUP(EO10,'Saturation and Lifetime'!$C$58:$T$59,2,FALSE)*ACIM!EX36","v":852.02907250823569},17.965529529761259,1.8459840627118362E-2,null,null,2010,2863.1262171273711,0,305.58764136283554,{"$f":"INDEX('Floor Space'!$I$5:$DK$50,MATCH(ACIM!EZ35,'Floor Space'!$I$5:$I$50,0),MATCH(ACIM!EZ$10,'Floor Space'!$I$5:$DK$5,0))*ACIM!FG35","v":23.677039406684713},329.26468076952028,{"$f":"HLOOKUP(EZ10,'Saturation and Lifetime'!$C$58:$T$59,2,FALSE)*ACIM!FI36","v":2886.8032565340554},17.965529529761259,8.2696456988333722E-3,null,null,2010,1212.7415107068018,0,127.99669562337562,{"$f":"INDEX('Floor Space'!$I$5:$DK$50,MATCH(ACIM!FK35,'Floor Space'!$I$5:$I$50,0),MATCH(ACIM!FK$10,'Floor Space'!$I$5:$DK$5,0))*ACIM!FR35","v":10.043459065648536},138.04015468902415,{"$f":"HLOOKUP(FK10,'Saturation and Lifetime'!$C$58:$T$59,2,FALSE)*ACIM!FT36","v":1222.7849697724505},17.965529529761259,8.2816156427227838E-3,null,null,2010,2598.5626606793012,0,272.42514283687728,{"$f":"INDEX('Floor Space'!$I$5:$DK$50,MATCH(ACIM!FV35,'Floor Space'!$I$5:$I$50,0),MATCH(ACIM!FV$10,'Floor Space'!$I$5:$DK$5,0))*ACIM!GC35","v":39.830375044283358},312.25551788116064,{"$f":"HLOOKUP(FV10,'Saturation and Lifetime'!$C$58:$T$59,2,FALSE)*ACIM!GE36","v":2638.393035723584},17.965529529761259,1.5327848601453642E-2,null,null,2010,3820.7128749026087,0,403.62119467789978,{"$f":"INDEX('Floor Space'!$I$5:$DK$50,MATCH(ACIM!GG35,'Floor Space'!$I$5:$I$50,0),MATCH(ACIM!GG$10,'Floor Space'!$I$5:$DK$5,0))*ACIM!GN35","v":92.814631728404166},496.43582640630393,{"$f":"HLOOKUP(GG10,'Saturation and Lifetime'!$C$58:$T$59,2,FALSE)*ACIM!GP36","v":3913.5275066310137},17.965529529761259,2.4292490633903263E-2,null,null,2010,7694.9441490911331,0,801.38978823102764,{"$f":"INDEX('Floor Space'!$I$5:$DK$50,MATCH(ACIM!GR35,'Floor Space'!$I$5:$I$50,0),MATCH(ACIM!GR$10,'Floor Space'!$I$5:$DK$5,0))*ACIM!GY35","v":57.764600359112805},859.15438859014046,{"$f":"HLOOKUP(GR10,'Saturation and Lifetime'!$C$58:$T$59,2,FALSE)*ACIM!HA36","v":7752.7087494502448},17.965529529761259,7.5068251620689086E-3]
[null,2011,52964,0,5528.2452328169456,702.88243267349674,6231.1276654904414,53666.882432673498,{"$f":"I35","v":17.965529529761259},1.3270946920049376E-2,{"$f":"INDEX('Saturation and Lifetime'!$B$22:$U$33,MATCH($A$1,'Saturation and Lifetime'!$B$22:$B$33,0),MATCH('Pre-Rinse Spray Valves'!B10,'Saturation and Lifetime'!$B$22:$U$22,0))","v":17.965529529761259},null,2011,4834.1274926334736,0,{"$f":"OFFSET(R36,-O$6,0)","v":500.42249699386298},{"$f":"INDEX('Floor Space'!$I$5:$DK$54,MATCH(ACIM!M36,'Floor Space'!$I$5:$I$54,0),MATCH(ACIM!M$10,'Floor Space'!$I$5:$DK$5,0))*ACIM!T36","v":82.387919281841704},582.81041627570471,4916.5154119153149,{"$f":"T35","v":17.965529529761259},1.704297609183647E-2,{"$f":"INDEX('Saturation and Lifetime'!$B$22:$U$33,MATCH($A$1,'Saturation and Lifetime'!$B$22:$B$33,0),MATCH('Pre-Rinse Spray Valves'!M10,'Saturation and Lifetime'!$B$22:$U$22,0))","v":17.965529529761259},null,2011,2177.9725315884789,0,{"$f":"OFFSET(AC36,-Z$6,0)","v":225.46084154843138},{"$f":"INDEX('Floor Space'!$I$5:$DK$50,MATCH(ACIM!X36,'Floor Space'!$I$5:$I$50,0),MATCH(ACIM!X$10,'Floor Space'!$I$5:$DK$5,0))*ACIM!AE36","v":37.119133784539024},262.57997533297038,{"$f":"Y36+AB36-Z36","v":2215.0916653730178},{"$f":"AE35","v":17.965529529761259},1.704297609183647E-2,{"$f":"INDEX('Saturation and Lifetime'!$B$22:$U$33,MATCH($A$1,'Saturation and Lifetime'!$B$22:$B$33,0),MATCH('Pre-Rinse Spray Valves'!X10,'Saturation and Lifetime'!$B$22:$U$22,0))","v":17.965529529761259},null,2011,2555.5696298959942,0,{"$f":"OFFSET(AN36,-AK$6,0)","v":264.54919473742552},{"$f":"INDEX('Floor Space'!$I$5:$DK$50,MATCH(ACIM!AI36,'Floor Space'!$I$5:$I$50,0),MATCH(ACIM!AI$10,'Floor Space'!$I$5:$DK$5,0))*ACIM!AP36","v":43.554512103340826},308.10370684076634,{"$f":"AJ36+AM36-AK36","v":2599.1241419993353},{"$f":"AP35","v":17.965529529761259},1.704297609183647E-2,{"$f":"INDEX('Saturation and Lifetime'!$B$22:$U$33,MATCH($A$1,'Saturation and Lifetime'!$B$22:$B$33,0),MATCH('Pre-Rinse Spray Valves'!AI10,'Saturation and Lifetime'!$B$22:$U$22,0))","v":17.965529529761259},null,2011,2284.5514536939377,0,{"$f":"OFFSET(AY36,-AV$6,0)","v":232.24784604243752},{"$f":"INDEX('Floor Space'!$I$5:$DK$50,MATCH(ACIM!AT36,'Floor Space'!$I$5:$I$50,0),MATCH(ACIM!AT$10,'Floor Space'!$I$5:$DK$5,0))*ACIM!BA36","v":11.681382107277551},243.92922814971507,{"$f":"AU36+AX36-AV36","v":2296.2328358012151},{"$f":"BA35","v":17.965529529761259},5.1132059592657875E-3,{"$f":"INDEX('Saturation and Lifetime'!$B$22:$U$33,MATCH($A$1,'Saturation and Lifetime'!$B$22:$B$33,0),MATCH('Pre-Rinse Spray Valves'!AT10,'Saturation and Lifetime'!$B$22:$U$22,0))","v":17.965529529761259},null,2011,4219.5284541906449,0,{"$f":"OFFSET(BJ36,-BG$6,0)","v":436.30353301548041},{"$f":"INDEX('Floor Space'!$I$5:$DK$50,MATCH(ACIM!BE36,'Floor Space'!$I$5:$I$50,0),MATCH(ACIM!BE$10,'Floor Space'!$I$5:$DK$5,0))*ACIM!BL36","v":21.575318037259887},457.87885105274029,{"$f":"BF36+BI36-BG36","v":4241.1037722279052},{"$f":"BL35","v":17.965529529761259},5.1132059592660095E-3,{"$f":"INDEX('Saturation and Lifetime'!$B$22:$U$33,MATCH($A$1,'Saturation and Lifetime'!$B$22:$B$33,0),MATCH('Pre-Rinse Spray Valves'!BE10,'Saturation and Lifetime'!$B$22:$U$22,0))","v":17.965529529761259},null,2011,1054.8821135476612,0,{"$f":"OFFSET(BU36,-BR$6,0)","v":109.0758832538701},{"$f":"INDEX('Floor Space'!$I$5:$DK$50,MATCH(ACIM!BP36,'Floor Space'!$I$5:$I$50,0),MATCH(ACIM!BP$10,'Floor Space'!$I$5:$DK$5,0))*ACIM!BW36","v":5.3938295093149717},114.46971276318507,{"$f":"BQ36+BT36-BR36","v":1060.2759430569763},{"$f":"BW35","v":17.965529529761259},5.1132059592660095E-3,{"$f":"INDEX('Saturation and Lifetime'!$B$22:$U$33,MATCH($A$1,'Saturation and Lifetime'!$B$22:$B$33,0),MATCH('Pre-Rinse Spray Valves'!BP10,'Saturation and Lifetime'!$B$22:$U$22,0))","v":17.965529529761259},null,2011,2036.6796012644011,0,{"$f":"OFFSET(CF36,-CC$6,0)","v":210.59474187682994},{"$f":"INDEX('Floor Space'!$I$5:$DK$50,MATCH(ACIM!CA36,'Floor Space'!$I$5:$I$50,0),MATCH(ACIM!CA$10,'Floor Space'!$I$5:$DK$5,0))*ACIM!CH36","v":10.413962274300552},221.0087041511305,{"$f":"CB36+CE36-CC36","v":2047.0935635387016},{"$f":"CH35","v":17.965529529761259},5.1132059592660095E-3,{"$f":"INDEX('Saturation and Lifetime'!$B$22:$U$33,MATCH($A$1,'Saturation and Lifetime'!$B$22:$B$33,0),MATCH('Pre-Rinse Spray Valves'!CA10,'Saturation and Lifetime'!$B$22:$U$22,0))","v":17.965529529761259},null,2011,4459.1320168527272,0,{"$f":"OFFSET(CQ36,-CN$6,0)","v":489.59752121001452},{"$f":"INDEX('Floor Space'!$I$5:$DK$50,MATCH(ACIM!CL36,'Floor Space'!$I$5:$I$50,0),MATCH(ACIM!CL$10,'Floor Space'!$I$5:$DK$5,0))*ACIM!CS36","v":62.511276514309316},552.10879772432384,{"$f":"CM36+CP36-CN36","v":4521.6432933670367},{"$f":"CS35","v":17.965529529761259},1.4018709533168305E-2,{"$f":"INDEX('Saturation and Lifetime'!$B$22:$U$33,MATCH($A$1,'Saturation and Lifetime'!$B$22:$B$33,0),MATCH('Pre-Rinse Spray Valves'!CL10,'Saturation and Lifetime'!$B$22:$U$22,0))","v":17.965529529761259},null,2011,2216.7902189087654,0,{"$f":"OFFSET(DB36,-CY$6,0)","v":247.8420060275337},{"$f":"INDEX('Floor Space'!$I$5:$DK$50,MATCH(ACIM!CW36,'Floor Space'!$I$5:$I$50,0),MATCH(ACIM!CW$10,'Floor Space'!$I$5:$DK$5,0))*ACIM!DD36","v":34.425449828373594},282.26745585590731,{"$f":"CX36+DA36-CY36","v":2251.2156687371389},{"$f":"DD35","v":17.965529529761259},1.5529412541940735E-2,{"$f":"INDEX('Saturation and Lifetime'!$B$22:$U$33,MATCH($A$1,'Saturation and Lifetime'!$B$22:$B$33,0),MATCH('Pre-Rinse Spray Valves'!CW10,'Saturation and Lifetime'!$B$22:$U$22,0))","v":17.965529529761259},null,2011,6529.8710098653128,0,{"$f":"OFFSET(DM36,-DJ$6,0)","v":655.42231551427676},{"$f":"INDEX('Floor Space'!$I$5:$DK$50,MATCH(ACIM!DH36,'Floor Space'!$I$5:$I$50,0),MATCH(ACIM!DH$10,'Floor Space'!$I$5:$DK$5,0))*ACIM!DO36","v":227.51227384338318},882.93458935765989,{"$f":"DI36+DL36-DJ36","v":6757.3832837086957},{"$f":"DO35","v":17.965529529761259},3.4841771529584342E-2,{"$f":"INDEX('Saturation and Lifetime'!$B$22:$U$33,MATCH($A$1,'Saturation and Lifetime'!$B$22:$B$33,0),MATCH('Pre-Rinse Spray Valves'!DH10,'Saturation and Lifetime'!$B$22:$U$22,0))","v":17.965529529761259},null,2011,940.15998569099202,0,{"$f":"OFFSET(DX36,-DU$6,0)","v":109.5575194110351},{"$f":"INDEX('Floor Space'!$I$5:$DK$50,MATCH(ACIM!DS36,'Floor Space'!$I$5:$I$50,0),MATCH(ACIM!DS$10,'Floor Space'!$I$5:$DK$5,0))*ACIM!DZ36","v":3.272078626417172},112.82959803745227,{"$f":"DT36+DW36-DU36","v":943.43206431740919},{"$f":"DZ35","v":17.965529529761259},3.4803423632332464E-3,{"$f":"INDEX('Saturation and Lifetime'!$B$22:$U$33,MATCH($A$1,'Saturation and Lifetime'!$B$22:$B$33,0),MATCH('Pre-Rinse Spray Valves'!DS10,'Saturation and Lifetime'!$B$22:$U$22,0))","v":17.965529529761259},null,2011,388.48890124802944,0,{"$f":"OFFSET(EI36,-EF$6,0)","v":43.933718051650452},{"$f":"INDEX('Floor Space'!$I$5:$DK$50,MATCH(ACIM!ED36,'Floor Space'!$I$5:$I$50,0),MATCH(ACIM!ED$10,'Floor Space'!$I$5:$DK$5,0))*ACIM!EK36","v":3.5865916918406335},47.520309743491083,{"$f":"EE36+EH36-EF36","v":392.07549293987006},{"$f":"EK35","v":17.965529529761259},9.2321599930360598E-3,{"$f":"INDEX('Saturation and Lifetime'!$B$22:$U$33,MATCH($A$1,'Saturation and Lifetime'!$B$22:$B$33,0),MATCH('Pre-Rinse Spray Valves'!ED10,'Saturation and Lifetime'!$B$22:$U$22,0))","v":17.965529529761259},null,2011,852.02907250823569,0,{"$f":"OFFSET(ET36,-EQ$6,0)","v":104.52061925223936},{"$f":"INDEX('Floor Space'!$I$5:$DK$50,MATCH(ACIM!EO36,'Floor Space'!$I$5:$I$50,0),MATCH(ACIM!EO$10,'Floor Space'!$I$5:$DK$5,0))*ACIM!EV36","v":15.215949857227766},119.73656910946713,{"$f":"EP36+ES36-EQ36","v":867.24502236546346},{"$f":"EV35","v":17.965529529761259},1.7858486697448495E-2,{"$f":"INDEX('Saturation and Lifetime'!$B$22:$U$33,MATCH($A$1,'Saturation and Lifetime'!$B$22:$B$33,0),MATCH('Pre-Rinse Spray Valves'!EO10,'Saturation and Lifetime'!$B$22:$U$22,0))","v":17.965529529761259},null,2011,2886.8032565340554,0,{"$f":"OFFSET(FE36,-FB$6,0)","v":288.49288205287542},{"$f":"INDEX('Floor Space'!$I$5:$DK$50,MATCH(ACIM!EZ36,'Floor Space'!$I$5:$I$50,0),MATCH(ACIM!EZ$10,'Floor Space'!$I$5:$DK$5,0))*ACIM!FG36","v":33.130315013183761},321.62319706605916,{"$f":"FA36+FD36-FB36","v":2919.9335715472394},{"$f":"FG35","v":17.965529529761259},1.1476471400742705E-2,{"$f":"INDEX('Saturation and Lifetime'!$B$22:$U$33,MATCH($A$1,'Saturation and Lifetime'!$B$22:$B$33,0),MATCH('Pre-Rinse Spray Valves'!EZ10,'Saturation and Lifetime'!$B$22:$U$22,0))","v":17.965529529761259},null,2011,1222.7849697724505,0,{"$f":"OFFSET(FP36,-FM$6,0)","v":122.75473968734011},{"$f":"INDEX('Floor Space'!$I$5:$DK$50,MATCH(ACIM!FK36,'Floor Space'!$I$5:$I$50,0),MATCH(ACIM!FK$10,'Floor Space'!$I$5:$DK$5,0))*ACIM!FR36","v":12.001344032086408},134.7560837194265,{"$f":"FL36+FO36-FM36","v":1234.7863138045368},{"$f":"FR35","v":17.965529529761259},9.8147624715403392E-3,{"$f":"INDEX('Saturation and Lifetime'!$B$22:$U$33,MATCH($A$1,'Saturation and Lifetime'!$B$22:$B$33,0),MATCH('Pre-Rinse Spray Valves'!FK10,'Saturation and Lifetime'!$B$22:$U$22,0))","v":17.965529529761259},null,2011,2638.393035723584,0,{"$f":"OFFSET(GA36,-FX$6,0)","v":279.04138088296719},{"$f":"INDEX('Floor Space'!$I$5:$DK$50,MATCH(ACIM!FV36,'Floor Space'!$I$5:$I$50,0),MATCH(ACIM!FV$10,'Floor Space'!$I$5:$DK$5,0))*ACIM!GC36","v":44.353839785813911},323.39522066878112,{"$f":"FW36+FZ36-FX36","v":2682.7468755093978},{"$f":"GC35","v":17.965529529761259},1.6810929677749664E-2,{"$f":"INDEX('Saturation and Lifetime'!$B$22:$U$33,MATCH($A$1,'Saturation and Lifetime'!$B$22:$B$33,0),MATCH('Pre-Rinse Spray Valves'!FV10,'Saturation and Lifetime'!$B$22:$U$22,0))","v":17.965529529761259},null,2011,3913.5275066310137,0,{"$f":"OFFSET(GL36,-GI$6,0)","v":422.38525007090135},{"$f":"INDEX('Floor Space'!$I$5:$DK$50,MATCH(ACIM!GG36,'Floor Space'!$I$5:$I$50,0),MATCH(ACIM!GG$10,'Floor Space'!$I$5:$DK$5,0))*ACIM!GN36","v":40.39736992765139},462.78261999855272,{"$f":"GH36+GK36-GI36","v":3953.9248765586649},{"$f":"GN35","v":17.965529529761259},1.032249546201025E-2,{"$f":"INDEX('Saturation and Lifetime'!$B$22:$U$33,MATCH($A$1,'Saturation and Lifetime'!$B$22:$B$33,0),MATCH('Pre-Rinse Spray Valves'!GG10,'Saturation and Lifetime'!$B$22:$U$22,0))","v":17.965529529761259},null,2011,7752.7087494502448,0,{"$f":"OFFSET(GW36,-GT$6,0)","v":786.04274318777288},{"$f":"INDEX('Floor Space'!$I$5:$DK$50,MATCH(ACIM!GR36,'Floor Space'!$I$5:$I$50,0),MATCH(ACIM!GR$10,'Floor Space'!$I$5:$DK$5,0))*ACIM!GY36","v":14.349886455334921},800.39262964310785,{"$f":"GS36+GV36-GT36","v":7767.0586359055796},{"$f":"GY35","v":17.965529529761259},1.8509513150939405E-3,{"$f":"INDEX('Saturation and Lifetime'!$B$22:$U$33,MATCH($A$1,'Saturation and Lifetime'!$B$22:$B$33,0),MATCH('Pre-Rinse Spray Valves'!GR10,'Saturation and Lifetime'!$B$22:$U$22,0))","v":17.965529529761259}]
[null,2012,53666.882432673498,0,5681.3235128569822,783.79707793969703,6465.1205907966787,54450.679510613183,{"$f":"I36","v":17.965529529761259},1.4604855777172743E-2,null,null,2012,4916.5154119153149,0,501.50786880870515,{"$f":"INDEX('Floor Space'!$I$5:$DK$54,MATCH(ACIM!M37,'Floor Space'!$I$5:$I$54,0),MATCH(ACIM!M$10,'Floor Space'!$I$5:$DK$5,0))*ACIM!T37","v":83.011443975731467},584.51931278443658,4999.5268558910466,{"$f":"T36","v":17.965529529761259},1.6884202940674387E-2,null,null,2012,2215.0916653730178,0,225.94984602812056,{"$f":"INDEX('Floor Space'!$I$5:$DK$50,MATCH(ACIM!X37,'Floor Space'!$I$5:$I$50,0),MATCH(ACIM!X$10,'Floor Space'!$I$5:$DK$5,0))*ACIM!AE37","v":37.400057210354419},263.34990323847501,2252.4917225833724,{"$f":"AE36","v":17.965529529761259},1.6884202940674387E-2,null,null,2012,2599.1241419993353,0,265.12297837291766,{"$f":"INDEX('Floor Space'!$I$5:$DK$50,MATCH(ACIM!AI37,'Floor Space'!$I$5:$I$50,0),MATCH(ACIM!AI$10,'Floor Space'!$I$5:$DK$5,0))*ACIM!AP37","v":43.884139481522944},309.00711785444059,2643.0082814808584,{"$f":"AP36","v":17.965529529761259},1.6884202940674387E-2,null,null,2012,2296.2328358012151,0,233.83070246819662,{"$f":"INDEX('Floor Space'!$I$5:$DK$50,MATCH(ACIM!AT37,'Floor Space'!$I$5:$I$50,0),MATCH(ACIM!AT$10,'Floor Space'!$I$5:$DK$5,0))*ACIM!BA37","v":27.426553989366685},261.2572564575633,2323.6593897905818,{"$f":"BA36","v":17.965529529761259},1.1944151987442808E-2,null,null,2012,4241.1037722279052,0,439.3440752049172,{"$f":"INDEX('Floor Space'!$I$5:$DK$50,MATCH(ACIM!BE37,'Floor Space'!$I$5:$I$50,0),MATCH(ACIM!BE$10,'Floor Space'!$I$5:$DK$5,0))*ACIM!BL37","v":50.656388050007436},490.00046325492463,4291.7601602779123,{"$f":"BL36","v":17.965529529761259},1.1944151987442808E-2,null,null,2012,1060.2759430569763,0,109.8360188012293,{"$f":"INDEX('Floor Space'!$I$5:$DK$50,MATCH(ACIM!BP37,'Floor Space'!$I$5:$I$50,0),MATCH(ACIM!BP$10,'Floor Space'!$I$5:$DK$5,0))*ACIM!BW37","v":12.664097012501859},122.50011581373116,1072.9400400694781,{"$f":"BW36","v":17.965529529761259},1.1944151987442808E-2,null,null,2012,2047.0935635387016,0,212.06234905645675,{"$f":"INDEX('Floor Space'!$I$5:$DK$50,MATCH(ACIM!CA37,'Floor Space'!$I$5:$I$50,0),MATCH(ACIM!CA$10,'Floor Space'!$I$5:$DK$5,0))*ACIM!CH37","v":24.450796655422309},236.51314571187908,2071.5443601941238,{"$f":"CH36","v":17.965529529761259},1.1944151987442808E-2,null,null,2012,4521.6432933670367,0,513.07664379759888,{"$f":"INDEX('Floor Space'!$I$5:$DK$50,MATCH(ACIM!CL37,'Floor Space'!$I$5:$I$50,0),MATCH(ACIM!CL$10,'Floor Space'!$I$5:$DK$5,0))*ACIM!CS37","v":70.255610031740034},583.33225382933892,4591.8989033987764,{"$f":"CS36","v":17.965529529761259},1.5537627688323008E-2,null,null,2012,2251.2156687371389,0,261.21602652584204,{"$f":"INDEX('Floor Space'!$I$5:$DK$50,MATCH(ACIM!CW37,'Floor Space'!$I$5:$I$50,0),MATCH(ACIM!CW$10,'Floor Space'!$I$5:$DK$5,0))*ACIM!DD37","v":36.990311010089727},298.20633753593177,2288.2059797472284,{"$f":"DD36","v":17.965529529761259},1.6431260462414832E-2,null,null,2012,6757.3832837086957,0,682.62126409035307,{"$f":"INDEX('Floor Space'!$I$5:$DK$50,MATCH(ACIM!DH37,'Floor Space'!$I$5:$I$50,0),MATCH(ACIM!DH$10,'Floor Space'!$I$5:$DK$5,0))*ACIM!DO37","v":232.32311457389346},914.94437866424653,6989.7063982825894,{"$f":"DO36","v":17.965529529761259},3.4380632978744829E-2,null,null,2012,943.43206431740919,0,110.55839796756199,{"$f":"INDEX('Floor Space'!$I$5:$DK$50,MATCH(ACIM!DS37,'Floor Space'!$I$5:$I$50,0),MATCH(ACIM!DS$10,'Floor Space'!$I$5:$DK$5,0))*ACIM!DZ37","v":6.4402299907809093},116.99862795834289,949.87229430819013,{"$f":"DZ36","v":17.965529529761259},6.8263844683300601E-3,null,null,2012,392.07549293987006,0,44.333604778461407,{"$f":"INDEX('Floor Space'!$I$5:$DK$50,MATCH(ACIM!ED37,'Floor Space'!$I$5:$I$50,0),MATCH(ACIM!ED$10,'Floor Space'!$I$5:$DK$5,0))*ACIM!EK37","v":5.7722889984509616},50.105893776912367,397.84778193832102,{"$f":"EK36","v":17.965529529761259},1.4722391739328211E-2,null,null,2012,867.24502236546346,0,106.55493159139662,{"$f":"INDEX('Floor Space'!$I$5:$DK$50,MATCH(ACIM!EO37,'Floor Space'!$I$5:$I$50,0),MATCH(ACIM!EO$10,'Floor Space'!$I$5:$DK$5,0))*ACIM!EV37","v":16.86762817642439},123.42255976782101,884.11265054188789,{"$f":"EV36","v":17.965529529761259},1.9449668480560289E-2,null,null,2012,2919.9335715472394,0,303.29908096252046,{"$f":"INDEX('Floor Space'!$I$5:$DK$50,MATCH(ACIM!EZ37,'Floor Space'!$I$5:$I$50,0),MATCH(ACIM!EZ$10,'Floor Space'!$I$5:$DK$5,0))*ACIM!FG37","v":40.128781571189066},343.42786253370951,2960.0623531184283,{"$f":"FG36","v":17.965529529761259},1.374304606180643E-2,null,null,2012,1234.7863138045368,0,125.10272060826901,{"$f":"INDEX('Floor Space'!$I$5:$DK$50,MATCH(ACIM!FK37,'Floor Space'!$I$5:$I$50,0),MATCH(ACIM!FK$10,'Floor Space'!$I$5:$DK$5,0))*ACIM!FR37","v":17.786911615543666},142.88963222381267,1252.5732254200805,{"$f":"FR36","v":17.965529529761259},1.4404849986342949E-2,null,null,2012,2682.7468755093978,0,286.77522710073686,{"$f":"INDEX('Floor Space'!$I$5:$DK$50,MATCH(ACIM!FV37,'Floor Space'!$I$5:$I$50,0),MATCH(ACIM!FV$10,'Floor Space'!$I$5:$DK$5,0))*ACIM!GC37","v":54.187045536832926},340.96227263756975,2736.9339210462308,{"$f":"GC36","v":17.965529529761259},2.0198344477260433E-2,null,null,2012,3953.9248765586649,0,419.79727936408563,{"$f":"INDEX('Floor Space'!$I$5:$DK$50,MATCH(ACIM!GG37,'Floor Space'!$I$5:$I$50,0),MATCH(ACIM!GG$10,'Floor Space'!$I$5:$DK$5,0))*ACIM!GN37","v":16.910115061057748},436.70739442514338,3970.8349916197226,{"$f":"GN36","v":17.965529529761259},4.2767921973712042E-3,null,null,2012,7767.0586359055796,0,840.33449732961287,{"$f":"INDEX('Floor Space'!$I$5:$DK$50,MATCH(ACIM!GR37,'Floor Space'!$I$5:$I$50,0),MATCH(ACIM!GR$10,'Floor Space'!$I$5:$DK$5,0))*ACIM!GY37","v":6.6415649987869481},846.97606232839985,7773.7002009043663,{"$f":"GY36","v":17.965529529761259},8.550939693030557E-4]
[null,2013,54450.679510613183,0,5759.504674893733,795.06342030076462,6554.5680951944969,55245.742930913962,17.965529529761259,1.4601533487673235E-2,null,null,2013,4999.5268558910466,0,519.83760910936439,{"$f":"INDEX('Floor Space'!$I$5:$DK$54,MATCH(ACIM!M38,'Floor Space'!$I$5:$I$54,0),MATCH(ACIM!M$10,'Floor Space'!$I$5:$DK$5,0))*ACIM!T38","v":80.356542663037871},600.19415177240228,5079.8833985540841,17.965529529761259,1.6072829485524576E-2,null,null,2013,2252.4917225833724,0,234.20814516210515,{"$f":"INDEX('Floor Space'!$I$5:$DK$50,MATCH(ACIM!X38,'Floor Space'!$I$5:$I$50,0),MATCH(ACIM!X$10,'Floor Space'!$I$5:$DK$5,0))*ACIM!AE38","v":36.203915374638207},270.41206053674335,2288.6956379580106,17.965529529761259,1.6072829485524576E-2,null,null,2013,2643.0082814808584,0,274.81302641315392,{"$f":"INDEX('Floor Space'!$I$5:$DK$50,MATCH(ACIM!AI38,'Floor Space'!$I$5:$I$50,0),MATCH(ACIM!AI$10,'Floor Space'!$I$5:$DK$5,0))*ACIM!AP38","v":42.480621437071328},317.29364785022523,2685.4889029179299,17.965529529761259,1.6072829485524798E-2,null,null,2013,2323.6593897905818,0,239.2388039553947,{"$f":"INDEX('Floor Space'!$I$5:$DK$50,MATCH(ACIM!AT38,'Floor Space'!$I$5:$I$50,0),MATCH(ACIM!AT$10,'Floor Space'!$I$5:$DK$5,0))*ACIM!BA38","v":29.937747250739672},269.17655120613438,2353.5971370413213,17.965529529761259,1.2883879359546491E-2,null,null,2013,4291.7601602779123,0,449.4436435137502,{"$f":"INDEX('Floor Space'!$I$5:$DK$50,MATCH(ACIM!BE38,'Floor Space'!$I$5:$I$50,0),MATCH(ACIM!BE$10,'Floor Space'!$I$5:$DK$5,0))*ACIM!BL38","v":55.294520145129283},504.7381636588795,4347.0546804230416,17.965529529761259,1.2883879359546713E-2,null,null,2013,1072.9400400694781,0,112.36091087843755,{"$f":"INDEX('Floor Space'!$I$5:$DK$50,MATCH(ACIM!BP38,'Floor Space'!$I$5:$I$50,0),MATCH(ACIM!BP$10,'Floor Space'!$I$5:$DK$5,0))*ACIM!BW38","v":13.823630036282321},126.18454091471988,1086.7636701057604,17.965529529761259,1.2883879359546713E-2,null,null,2013,2071.5443601941238,0,216.93720296003644,{"$f":"INDEX('Floor Space'!$I$5:$DK$50,MATCH(ACIM!CA38,'Floor Space'!$I$5:$I$50,0),MATCH(ACIM!CA$10,'Floor Space'!$I$5:$DK$5,0))*ACIM!CH38","v":26.689527624690371},243.62673058472683,2098.2338878188143,17.965529529761259,1.2883879359546713E-2,null,null,2013,4591.8989033987764,0,486.93245106647714,{"$f":"INDEX('Floor Space'!$I$5:$DK$50,MATCH(ACIM!CL38,'Floor Space'!$I$5:$I$50,0),MATCH(ACIM!CL$10,'Floor Space'!$I$5:$DK$5,0))*ACIM!CS38","v":67.752820526298692},554.68527159277585,4659.6517239250752,17.965529529761259,1.475485892691375E-2,null,null,2013,2288.2059797472284,0,240.4515799860242,{"$f":"INDEX('Floor Space'!$I$5:$DK$50,MATCH(ACIM!CW38,'Floor Space'!$I$5:$I$50,0),MATCH(ACIM!CW$10,'Floor Space'!$I$5:$DK$5,0))*ACIM!DD38","v":35.803696992049602},276.25527697807382,2324.0096767392779,17.965529529761259,1.5647060321031248E-2,null,null,2013,6989.7063982825894,0,682.72162085866808,{"$f":"INDEX('Floor Space'!$I$5:$DK$50,MATCH(ACIM!DH38,'Floor Space'!$I$5:$I$50,0),MATCH(ACIM!DH$10,'Floor Space'!$I$5:$DK$5,0))*ACIM!DO38","v":222.97614349856022},905.69776435722827,7212.6825417811497,17.965529529761259,3.1900645147748596E-2,null,null,2013,949.87229430819013,0,112.66693522334035,{"$f":"INDEX('Floor Space'!$I$5:$DK$50,MATCH(ACIM!DS38,'Floor Space'!$I$5:$I$50,0),MATCH(ACIM!DS$10,'Floor Space'!$I$5:$DK$5,0))*ACIM!DZ38","v":6.4077562178233496},119.07469144116369,956.2800505260135,17.965529529761259,6.7459133782719061E-3,null,null,2013,397.84778193832102,0,45.181829180154573,{"$f":"INDEX('Floor Space'!$I$5:$DK$50,MATCH(ACIM!ED38,'Floor Space'!$I$5:$I$50,0),MATCH(ACIM!ED$10,'Floor Space'!$I$5:$DK$5,0))*ACIM!EK38","v":6.0098503316674581},51.191679511822031,403.85763226998847,17.965529529761259,1.5105903826803768E-2,null,null,2013,884.11265054188789,0,110.87712178206542,{"$f":"INDEX('Floor Space'!$I$5:$DK$50,MATCH(ACIM!EO38,'Floor Space'!$I$5:$I$50,0),MATCH(ACIM!EO$10,'Floor Space'!$I$5:$DK$5,0))*ACIM!EV38","v":15.752672471238078},126.62979425330349,899.86532301312593,17.965529529761259,1.781749470679217E-2,null,null,2013,2960.0623531184283,0,310.27304709726354,{"$f":"INDEX('Floor Space'!$I$5:$DK$50,MATCH(ACIM!EZ38,'Floor Space'!$I$5:$I$50,0),MATCH(ACIM!EZ$10,'Floor Space'!$I$5:$DK$5,0))*ACIM!FG38","v":35.934195314227871},346.20724241149139,2995.9965484326563,17.965529529761259,1.2139675124198446E-2,null,null,2013,1252.5732254200805,0,128.66874976068198,{"$f":"INDEX('Floor Space'!$I$5:$DK$50,MATCH(ACIM!FK38,'Floor Space'!$I$5:$I$50,0),MATCH(ACIM!FK$10,'Floor Space'!$I$5:$DK$5,0))*ACIM!FR38","v":19.293630103010958},147.96237986369295,1271.8668555230913,17.965529529761259,1.540319536731305E-2,null,null,2013,2736.9339210462308,0,294.68918196692329,{"$f":"INDEX('Floor Space'!$I$5:$DK$50,MATCH(ACIM!FV38,'Floor Space'!$I$5:$I$50,0),MATCH(ACIM!FV$10,'Floor Space'!$I$5:$DK$5,0))*ACIM!GC38","v":62.181494419036603},356.87067638595988,2799.1154154652672,17.965529529761259,2.2719399230240356E-2,null,null,2013,3970.8349916197226,0,455.49496931634167,{"$f":"INDEX('Floor Space'!$I$5:$DK$50,MATCH(ACIM!GG38,'Floor Space'!$I$5:$I$50,0),MATCH(ACIM!GG$10,'Floor Space'!$I$5:$DK$5,0))*ACIM!GN38","v":24.672040702354575},480.16701001869626,3995.5070323220771,17.965529529761259,6.2133130070687326E-3,null,null,2013,7773.7002009043663,0,844.70784666354984,{"$f":"INDEX('Floor Space'!$I$5:$DK$50,MATCH(ACIM!GR38,'Floor Space'!$I$5:$I$50,0),MATCH(ACIM!GR$10,'Floor Space'!$I$5:$DK$5,0))*ACIM!GY38","v":13.492615192907987},858.20046185645788,7787.1928160972739,17.965529529761259,1.7356747551620089E-3]
[null,2014,55245.742930913962,0,5937.0545703904863,770.23543405624264,6707.2900044467287,56015.978364970193,17.965529529761259,1.3941987077980444E-2,null,null,2014,5079.8833985540841,0,510.46049016553053,{"$f":"INDEX('Floor Space'!$I$5:$DK$54,MATCH(ACIM!M39,'Floor Space'!$I$5:$I$54,0),MATCH(ACIM!M$10,'Floor Space'!$I$5:$DK$5,0))*ACIM!T39","v":71.35956754507248},581.82005771060301,5151.2429660991565,17.965529529761259,1.4047481397975403E-2,null,null,2014,2288.6956379580106,0,229.9833688159641,{"$f":"INDEX('Floor Space'!$I$5:$DK$50,MATCH(ACIM!X39,'Floor Space'!$I$5:$I$50,0),MATCH(ACIM!X$10,'Floor Space'!$I$5:$DK$5,0))*ACIM!AE39","v":32.150409399842566},262.13377821580667,2320.846047357853,17.965529529761259,1.4047481397975403E-2,null,null,2014,2685.4889029179299,0,269.85579671135116,{"$f":"INDEX('Floor Space'!$I$5:$DK$50,MATCH(ACIM!AI39,'Floor Space'!$I$5:$I$50,0),MATCH(ACIM!AI$10,'Floor Space'!$I$5:$DK$5,0))*ACIM!AP39","v":37.724355408208936},307.58015211956013,2723.2132583261387,17.965529529761259,1.4047481397975403E-2,null,null,2014,2353.5971370413213,0,253.74647374140673,{"$f":"INDEX('Floor Space'!$I$5:$DK$50,MATCH(ACIM!AT39,'Floor Space'!$I$5:$I$50,0),MATCH(ACIM!AT$10,'Floor Space'!$I$5:$DK$5,0))*ACIM!BA39","v":28.729348785361438},282.47582252676818,2382.3264858266825,17.965529529761259,1.220657024654459E-2,null,null,2014,4347.0546804230416,0,476.35891763239101,{"$f":"INDEX('Floor Space'!$I$5:$DK$50,MATCH(ACIM!BE39,'Floor Space'!$I$5:$I$50,0),MATCH(ACIM!BE$10,'Floor Space'!$I$5:$DK$5,0))*ACIM!BL39","v":53.062628322154886},529.42154595454588,4400.1173087451962,17.965529529761259,1.220657024654459E-2,null,null,2014,1086.7636701057604,0,119.08972940809775,{"$f":"INDEX('Floor Space'!$I$5:$DK$50,MATCH(ACIM!BP39,'Floor Space'!$I$5:$I$50,0),MATCH(ACIM!BP$10,'Floor Space'!$I$5:$DK$5,0))*ACIM!BW39","v":13.265657080538722},132.35538648863647,1100.029327186299,17.965529529761259,1.220657024654459E-2,null,null,2014,2098.2338878188143,0,229.92865220726986,{"$f":"INDEX('Floor Space'!$I$5:$DK$50,MATCH(ACIM!CA39,'Floor Space'!$I$5:$I$50,0),MATCH(ACIM!CA$10,'Floor Space'!$I$5:$DK$5,0))*ACIM!CH39","v":25.612239345340999},255.54089155261087,2123.8461271641554,17.965529529761259,1.2206570246544812E-2,null,null,2014,4659.6517239250752,0,507.61064335118215,{"$f":"INDEX('Floor Space'!$I$5:$DK$50,MATCH(ACIM!CL39,'Floor Space'!$I$5:$I$50,0),MATCH(ACIM!CL$10,'Floor Space'!$I$5:$DK$5,0))*ACIM!CS39","v":61.134638306741152},568.74528165792333,4720.7863622318164,17.965529529761259,1.3120001650089863E-2,null,null,2014,2324.0096767392779,0,253.05309819938901,{"$f":"INDEX('Floor Space'!$I$5:$DK$50,MATCH(ACIM!CW39,'Floor Space'!$I$5:$I$50,0),MATCH(ACIM!CW$10,'Floor Space'!$I$5:$DK$5,0))*ACIM!DD39","v":31.98507446035784},285.03817265974686,2355.9947511996356,17.965529529761259,1.3762883511412305E-2,null,null,2014,7212.6825417811497,0,755.09927801296305,{"$f":"INDEX('Floor Space'!$I$5:$DK$50,MATCH(ACIM!DH39,'Floor Space'!$I$5:$I$50,0),MATCH(ACIM!DH$10,'Floor Space'!$I$5:$DK$5,0))*ACIM!DO39","v":215.61193305646174},970.71121106942473,7428.2944748376112,17.965529529761259,2.9893445581096856E-2,null,null,2014,956.2800505260135,0,103.77499582914504,{"$f":"INDEX('Floor Space'!$I$5:$DK$50,MATCH(ACIM!DS39,'Floor Space'!$I$5:$I$50,0),MATCH(ACIM!DS$10,'Floor Space'!$I$5:$DK$5,0))*ACIM!DZ39","v":4.1634181621044632},107.9384139912495,960.44346868811795,17.965529529761259,4.3537645272577752E-3,null,null,2014,403.85763226998847,0,43.381834215837905,{"$f":"INDEX('Floor Space'!$I$5:$DK$50,MATCH(ACIM!ED39,'Floor Space'!$I$5:$I$50,0),MATCH(ACIM!ED$10,'Floor Space'!$I$5:$DK$5,0))*ACIM!EK39","v":5.7898718351817058},49.171706051019612,409.64750410517019,17.965529529761259,1.4336418016017705E-2,null,null,2014,899.86532301312593,0,93.211722177885051,{"$f":"INDEX('Floor Space'!$I$5:$DK$50,MATCH(ACIM!EO39,'Floor Space'!$I$5:$I$50,0),MATCH(ACIM!EO$10,'Floor Space'!$I$5:$DK$5,0))*ACIM!EV39","v":13.856952376890796},107.06867455477584,913.72227539001676,17.965529529761259,1.5398918063085132E-2,null,null,2014,2995.9965484326563,0,322.55465533518964,{"$f":"INDEX('Floor Space'!$I$5:$DK$50,MATCH(ACIM!EZ39,'Floor Space'!$I$5:$I$50,0),MATCH(ACIM!EZ$10,'Floor Space'!$I$5:$DK$5,0))*ACIM!FG39","v":24.672134942643805},347.22679027783346,3020.6686833753001,17.965529529761259,8.2350345014752246E-3,null,null,2014,1271.8668555230913,0,175.49739709217184,{"$f":"INDEX('Floor Space'!$I$5:$DK$50,MATCH(ACIM!FK39,'Floor Space'!$I$5:$I$50,0),MATCH(ACIM!FK$10,'Floor Space'!$I$5:$DK$5,0))*ACIM!FR39","v":17.513722870221564},193.01111996239339,1289.3805783933128,17.965529529761259,1.3770091416541064E-2,null,null,2014,2799.1154154652672,0,313.39500980814205,{"$f":"INDEX('Floor Space'!$I$5:$DK$50,MATCH(ACIM!FV39,'Floor Space'!$I$5:$I$50,0),MATCH(ACIM!FV$10,'Floor Space'!$I$5:$DK$5,0))*ACIM!GC39","v":59.737966208315108},373.13297601645718,2858.8533816735821,17.965529529761259,2.1341730276021931E-2,null,null,2014,3995.5070323220771,0,426.15331994978283,{"$f":"INDEX('Floor Space'!$I$5:$DK$50,MATCH(ACIM!GG39,'Floor Space'!$I$5:$I$50,0),MATCH(ACIM!GG$10,'Floor Space'!$I$5:$DK$5,0))*ACIM!GN39","v":45.006270913543474},471.15959086332629,4040.5133032356207,17.965529529761259,1.1264220172674033E-2,null,null,2014,7787.1928160972739,0,853.89918773678596,{"$f":"INDEX('Floor Space'!$I$5:$DK$50,MATCH(ACIM!GR39,'Floor Space'!$I$5:$I$50,0),MATCH(ACIM!GR$10,'Floor Space'!$I$5:$DK$5,0))*ACIM!GY39","v":28.859245037261008},882.75843277404692,7816.0520611345346,17.965529529761259,3.7059882449044235E-3]
[null,2015,56015.978364970193,0,6211.3232587299917,759.50317939933223,6970.8264381293238,56775.481544369533,17.965529529761259,1.3558688102362826E-2,null,null,2015,5151.2429660991565,0,567.05754119997459,{"$f":"INDEX('Floor Space'!$I$5:$DK$54,MATCH(ACIM!M40,'Floor Space'!$I$5:$I$54,0),MATCH(ACIM!M$10,'Floor Space'!$I$5:$DK$5,0))*ACIM!T40","v":70.311058434682081},637.36859963465668,5221.5540245338389,17.965529529761259,1.3649338401897637E-2,null,null,2015,2320.846047357853,0,255.48265957934836,{"$f":"INDEX('Floor Space'!$I$5:$DK$50,MATCH(ACIM!X40,'Floor Space'!$I$5:$I$50,0),MATCH(ACIM!X$10,'Floor Space'!$I$5:$DK$5,0))*ACIM!AE40","v":31.678013079093787},287.16067265844214,2352.5240604369469,17.965529529761259,1.3649338401897637E-2,null,null,2015,2723.2132583261387,0,299.77592293592971,{"$f":"INDEX('Floor Space'!$I$5:$DK$50,MATCH(ACIM!AI40,'Floor Space'!$I$5:$I$50,0),MATCH(ACIM!AI$10,'Floor Space'!$I$5:$DK$5,0))*ACIM!AP40","v":37.170059303427628},336.94598223935736,2760.3833176295661,17.965529529761259,1.3649338401897637E-2,null,null,2015,2382.3264858266825,0,270.906385520485,{"$f":"INDEX('Floor Space'!$I$5:$DK$50,MATCH(ACIM!AT40,'Floor Space'!$I$5:$I$50,0),MATCH(ACIM!AT$10,'Floor Space'!$I$5:$DK$5,0))*ACIM!BA40","v":20.878879330216339},291.78526485070137,2403.205365156899,17.965529529761259,8.7640713623562405E-3,null,null,2015,4400.1173087451962,0,508.21525648526534,{"$f":"INDEX('Floor Space'!$I$5:$DK$50,MATCH(ACIM!BE40,'Floor Space'!$I$5:$I$50,0),MATCH(ACIM!BE$10,'Floor Space'!$I$5:$DK$5,0))*ACIM!BL40","v":38.562942096581665},546.77819858184705,4438.6802508417777,17.965529529761259,8.7640713623562405E-3,null,null,2015,1100.029327186299,0,127.05381412131634,{"$f":"INDEX('Floor Space'!$I$5:$DK$50,MATCH(ACIM!BP40,'Floor Space'!$I$5:$I$50,0),MATCH(ACIM!BP$10,'Floor Space'!$I$5:$DK$5,0))*ACIM!BW40","v":9.6407355241454162},136.69454964546176,1109.6700627104444,17.965529529761259,8.7640713623562405E-3,null,null,2015,2123.8461271641554,0,245.30505177821686,{"$f":"INDEX('Floor Space'!$I$5:$DK$50,MATCH(ACIM!CA40,'Floor Space'!$I$5:$I$50,0),MATCH(ACIM!CA$10,'Floor Space'!$I$5:$DK$5,0))*ACIM!CH40","v":18.613539021130524},263.91859079934738,2142.4596661852861,17.965529529761259,8.7640713623562405E-3,null,null,2015,4720.7863622318164,0,514.45760846939856,{"$f":"INDEX('Floor Space'!$I$5:$DK$50,MATCH(ACIM!CL40,'Floor Space'!$I$5:$I$50,0),MATCH(ACIM!CL$10,'Floor Space'!$I$5:$DK$5,0))*ACIM!CS40","v":59.758324717241933},574.21593318664054,4780.5446869490579,17.965529529761259,1.2658553073982004E-2,null,null,2015,2355.9947511996356,0,252.70758868863996,{"$f":"INDEX('Floor Space'!$I$5:$DK$50,MATCH(ACIM!CW40,'Floor Space'!$I$5:$I$50,0),MATCH(ACIM!CW$10,'Floor Space'!$I$5:$DK$5,0))*ACIM!DD40","v":30.779614364872877},283.48720305351281,2386.7743655645086,17.965529529761259,1.3064381552293503E-2,null,null,2015,7428.2944748376112,0,765.71551535307174,{"$f":"INDEX('Floor Space'!$I$5:$DK$50,MATCH(ACIM!DH40,'Floor Space'!$I$5:$I$50,0),MATCH(ACIM!DH$10,'Floor Space'!$I$5:$DK$5,0))*ACIM!DO40","v":225.68246103427131},991.39797638734308,7653.9769358718822,17.965529529761259,3.0381463981905998E-2,null,null,2015,960.44346868811795,0,104.03631223578076,{"$f":"INDEX('Floor Space'!$I$5:$DK$50,MATCH(ACIM!DS40,'Floor Space'!$I$5:$I$50,0),MATCH(ACIM!DS$10,'Floor Space'!$I$5:$DK$5,0))*ACIM!DZ40","v":4.4073541622131023},108.44366639799385,964.85082285033104,17.965529529761259,4.5888741044104453E-3,null,null,2015,409.64750410517019,0,43.608058789533118,{"$f":"INDEX('Floor Space'!$I$5:$DK$50,MATCH(ACIM!ED40,'Floor Space'!$I$5:$I$50,0),MATCH(ACIM!ED$10,'Floor Space'!$I$5:$DK$5,0))*ACIM!EK40","v":3.9922514935389861},47.600310283072105,413.63975559870914,17.965529529761259,9.7455774868191458E-3,null,null,2015,913.72227539001676,0,93.851399688891192,{"$f":"INDEX('Floor Space'!$I$5:$DK$50,MATCH(ACIM!EO40,'Floor Space'!$I$5:$I$50,0),MATCH(ACIM!EO$10,'Floor Space'!$I$5:$DK$5,0))*ACIM!EV40","v":11.593480549625914},105.4448802385171,925.31575593964271,17.965529529761259,1.2688188590649574E-2,null,null,2015,3020.6686833753001,0,339.57390976623958,{"$f":"INDEX('Floor Space'!$I$5:$DK$50,MATCH(ACIM!EZ40,'Floor Space'!$I$5:$I$50,0),MATCH(ACIM!EZ$10,'Floor Space'!$I$5:$DK$5,0))*ACIM!FG40","v":13.590859690365615},353.1647694566052,3034.2595430656656,17.965529529761259,4.4992884407233369E-3,null,null,2015,1289.3805783933128,0,133.70466656968674,{"$f":"INDEX('Floor Space'!$I$5:$DK$50,MATCH(ACIM!FK40,'Floor Space'!$I$5:$I$50,0),MATCH(ACIM!FK$10,'Floor Space'!$I$5:$DK$5,0))*ACIM!FR40","v":19.110522768654594},152.81518933834133,1308.4911011619674,17.965529529761259,1.4821475589827937E-2,null,null,2015,2858.8533816735821,0,312.86247993886207,{"$f":"INDEX('Floor Space'!$I$5:$DK$50,MATCH(ACIM!FV40,'Floor Space'!$I$5:$I$50,0),MATCH(ACIM!FV$10,'Floor Space'!$I$5:$DK$5,0))*ACIM!GC40","v":62.352653193053541},375.21513313191559,2921.2060348666355,17.965529529761259,2.1810371106388171E-2,null,null,2015,4040.5133032356207,0,445.30023027657307,{"$f":"INDEX('Floor Space'!$I$5:$DK$50,MATCH(ACIM!GG40,'Floor Space'!$I$5:$I$50,0),MATCH(ACIM!GG$10,'Floor Space'!$I$5:$DK$5,0))*ACIM!GN40","v":58.59595310208244},503.89618337865551,4099.1092563377033,17.965529529761259,1.4502106218821087E-2,null,null,2015,7816.0520611345346,0,931.70885733277862,{"$f":"INDEX('Floor Space'!$I$5:$DK$50,MATCH(ACIM!GR40,'Floor Space'!$I$5:$I$50,0),MATCH(ACIM!GR$10,'Floor Space'!$I$5:$DK$5,0))*ACIM!GY40","v":42.78447753413424},974.49333486691285,7858.8365386686692,17.965529529761259,5.4739243289947392E-3]
[null,2016,56775.481544369533,0,6240.2046055943247,691.69431725312506,6931.8989228474502,57467.175861622651,17.965529529761259,1.2182975792333295E-2,null,null,2016,5221.5540245338389,0,550.86179969874604,{"$f":"INDEX('Floor Space'!$I$5:$DK$54,MATCH(ACIM!M41,'Floor Space'!$I$5:$I$54,0),MATCH(ACIM!M$10,'Floor Space'!$I$5:$DK$5,0))*ACIM!T41","v":65.252052007706169},616.11385170645224,5286.8060765415448,17.965529529761259,1.2496672772342121E-2,null,null,2016,2352.5240604369469,0,248.18581435295835,{"$f":"INDEX('Floor Space'!$I$5:$DK$50,MATCH(ACIM!X41,'Floor Space'!$I$5:$I$50,0),MATCH(ACIM!X$10,'Floor Space'!$I$5:$DK$5,0))*ACIM!AE41","v":29.398723372342452},277.58453772530078,2381.9227838092893,17.965529529761259,1.2496672772342121E-2,null,null,2016,2760.3833176295661,0,291.21401695036002,{"$f":"INDEX('Floor Space'!$I$5:$DK$50,MATCH(ACIM!AI41,'Floor Space'!$I$5:$I$50,0),MATCH(ACIM!AI$10,'Floor Space'!$I$5:$DK$5,0))*ACIM!AP41","v":34.495607046649191},325.7096239970092,2794.8789246762153,17.965529529761259,1.2496672772342343E-2,null,null,2016,2403.205365156899,0,267.55858247818986,{"$f":"INDEX('Floor Space'!$I$5:$DK$50,MATCH(ACIM!AT41,'Floor Space'!$I$5:$I$50,0),MATCH(ACIM!AT$10,'Floor Space'!$I$5:$DK$5,0))*ACIM!BA41","v":14.753272179310965},282.31185465750082,2417.9586373362099,17.965529529761259,6.1389976875103613E-3,null,null,2016,4438.6802508417777,0,502.24223684070535,{"$f":"INDEX('Floor Space'!$I$5:$DK$50,MATCH(ACIM!BE41,'Floor Space'!$I$5:$I$50,0),MATCH(ACIM!BE$10,'Floor Space'!$I$5:$DK$5,0))*ACIM!BL41","v":27.249047795516084},529.49128463622139,4465.9292986372939,17.965529529761259,6.1389976875105834E-3,null,null,2016,1109.6700627104444,0,125.56055921017634,{"$f":"INDEX('Floor Space'!$I$5:$DK$50,MATCH(ACIM!BP41,'Floor Space'!$I$5:$I$50,0),MATCH(ACIM!BP$10,'Floor Space'!$I$5:$DK$5,0))*ACIM!BW41","v":6.812261948879021},132.37282115905535,1116.4823246593235,17.965529529761259,6.1389976875105834E-3,null,null,2016,2142.4596661852861,0,242.42199804363548,{"$f":"INDEX('Floor Space'!$I$5:$DK$50,MATCH(ACIM!CA41,'Floor Space'!$I$5:$I$50,0),MATCH(ACIM!CA$10,'Floor Space'!$I$5:$DK$5,0))*ACIM!CH41","v":13.15255493629593},255.57455297993141,2155.612221121582,17.965529529761259,6.1389976875103613E-3,null,null,2016,4780.5446869490579,0,530.82232452545077,{"$f":"INDEX('Floor Space'!$I$5:$DK$50,MATCH(ACIM!CL41,'Floor Space'!$I$5:$I$50,0),MATCH(ACIM!CL$10,'Floor Space'!$I$5:$DK$5,0))*ACIM!CS41","v":53.959389015261173},584.78171354071196,4834.5040759643189,17.965529529761259,1.1287288907176452E-2,null,null,2016,2386.7743655645086,0,260.22878968060968,{"$f":"INDEX('Floor Space'!$I$5:$DK$50,MATCH(ACIM!CW41,'Floor Space'!$I$5:$I$50,0),MATCH(ACIM!CW$10,'Floor Space'!$I$5:$DK$5,0))*ACIM!DD41","v":28.624779418236518},288.85356909884621,2415.3991449827449,17.965529529761259,1.1993081470634159E-2,null,null,2016,7653.9769358718822,0,775.89714818534196,{"$f":"INDEX('Floor Space'!$I$5:$DK$50,MATCH(ACIM!DH41,'Floor Space'!$I$5:$I$50,0),MATCH(ACIM!DH$10,'Floor Space'!$I$5:$DK$5,0))*ACIM!DO41","v":223.59817161509943},999.49531980044139,7877.5751074869813,17.965529529761259,2.9213332296202932E-2,null,null,2016,964.85082285033104,0,104.27136278117173,{"$f":"INDEX('Floor Space'!$I$5:$DK$50,MATCH(ACIM!DS41,'Floor Space'!$I$5:$I$50,0),MATCH(ACIM!DS$10,'Floor Space'!$I$5:$DK$5,0))*ACIM!DZ41","v":4.4046426870550111},108.67600546822675,969.25546553738604,17.965529529761259,4.565102275648103E-3,null,null,2016,413.63975559870914,0,43.98184021998825,{"$f":"INDEX('Floor Space'!$I$5:$DK$50,MATCH(ACIM!ED41,'Floor Space'!$I$5:$I$50,0),MATCH(ACIM!ED$10,'Floor Space'!$I$5:$DK$5,0))*ACIM!EK41","v":2.4676149299031214},46.449455149891371,416.10737052861225,17.965529529761259,5.9656135477872407E-3,null,null,2016,925.31575593964271,0,94.425954177678989,{"$f":"INDEX('Floor Space'!$I$5:$DK$50,MATCH(ACIM!EO41,'Floor Space'!$I$5:$I$50,0),MATCH(ACIM!EO$10,'Floor Space'!$I$5:$DK$5,0))*ACIM!EV41","v":9.9693402840114445},104.39529446169044,935.28509622365414,17.965529529761259,1.0773987387567852E-2,null,null,2016,3034.2595430656656,0,344.35863651952002,{"$f":"INDEX('Floor Space'!$I$5:$DK$50,MATCH(ACIM!EZ41,'Floor Space'!$I$5:$I$50,0),MATCH(ACIM!EZ$10,'Floor Space'!$I$5:$DK$5,0))*ACIM!FG41","v":13.109459256629895},357.46809577614994,3047.3690023222957,17.965529529761259,4.3204805226995102E-3,null,null,2016,1308.4911011619674,0,147.06169873861137,{"$f":"INDEX('Floor Space'!$I$5:$DK$50,MATCH(ACIM!FK41,'Floor Space'!$I$5:$I$50,0),MATCH(ACIM!FK$10,'Floor Space'!$I$5:$DK$5,0))*ACIM!FR41","v":16.26376523414401},163.32546397275539,1324.7548663961115,17.965529529761259,1.2429404540620581E-2,null,null,2016,2921.2060348666355,0,307.6398515316514,{"$f":"INDEX('Floor Space'!$I$5:$DK$50,MATCH(ACIM!FV41,'Floor Space'!$I$5:$I$50,0),MATCH(ACIM!FV$10,'Floor Space'!$I$5:$DK$5,0))*ACIM!GC41","v":56.522326218415159},364.16217775006658,2977.7283610850504,17.965529529761259,1.9348969413242934E-2,null,null,2016,4099.1092563377033,0,456.61439796577071,{"$f":"INDEX('Floor Space'!$I$5:$DK$50,MATCH(ACIM!GG41,'Floor Space'!$I$5:$I$50,0),MATCH(ACIM!GG$10,'Floor Space'!$I$5:$DK$5,0))*ACIM!GN41","v":50.417434887850433},507.03183285362115,4149.5266912255538,17.965529529761259,1.2299607484211217E-2,null,null,2016,7858.8365386686692,0,946.85759369375819,{"$f":"INDEX('Floor Space'!$I$5:$DK$50,MATCH(ACIM!GR41,'Floor Space'!$I$5:$I$50,0),MATCH(ACIM!GR$10,'Floor Space'!$I$5:$DK$5,0))*ACIM!GY41","v":41.243874419819257},988.10146811357743,7900.0804130884881,17.965529529761259,5.2480891054142997E-3]
[null,2017,57467.175861622651,0,6330.5646590636188,690.21509978456663,7020.7797588481853,58157.390961407211,17.965529529761259,1.2010597170227344E-2,null,null,2017,5286.8060765415448,0,562.98712225772897,{"$f":"INDEX('Floor Space'!$I$5:$DK$54,MATCH(ACIM!M42,'Floor Space'!$I$5:$I$54,0),MATCH(ACIM!M$10,'Floor Space'!$I$5:$DK$5,0))*ACIM!T42","v":65.103941938096924},628.09106419582588,5351.9100184796416,17.965529529761259,1.2314418383336134E-2,null,null,2017,2381.9227838092893,0,253.64876904547688,{"$f":"INDEX('Floor Space'!$I$5:$DK$50,MATCH(ACIM!X42,'Floor Space'!$I$5:$I$50,0),MATCH(ACIM!X$10,'Floor Space'!$I$5:$DK$5,0))*ACIM!AE42","v":29.331993716628542},282.98076276210543,2411.2547775259177,17.965529529761259,1.2314418383336134E-2,null,null,2017,2794.8789246762153,0,297.62408911574033,{"$f":"INDEX('Floor Space'!$I$5:$DK$50,MATCH(ACIM!AI42,'Floor Space'!$I$5:$I$50,0),MATCH(ACIM!AI$10,'Floor Space'!$I$5:$DK$5,0))*ACIM!AP42","v":34.417308409231786},332.04139752497213,2829.2962330854471,17.965529529761259,1.2314418383336134E-2,null,null,2017,2417.9586373362099,0,269.20949238385703,{"$f":"INDEX('Floor Space'!$I$5:$DK$50,MATCH(ACIM!AT42,'Floor Space'!$I$5:$I$50,0),MATCH(ACIM!AT$10,'Floor Space'!$I$5:$DK$5,0))*ACIM!BA42","v":13.344771137870982},282.55426352172799,2431.3034084740807,17.965529529761259,5.5190237466478109E-3,null,null,2017,4465.9292986372939,0,505.4673237229195,{"$f":"INDEX('Floor Space'!$I$5:$DK$50,MATCH(ACIM!BE42,'Floor Space'!$I$5:$I$50,0),MATCH(ACIM!BE$10,'Floor Space'!$I$5:$DK$5,0))*ACIM!BL42","v":24.647569850029907},530.11489357294943,4490.5768684873237,17.965529529761259,5.5190237466478109E-3,null,null,2017,1116.4823246593235,0,126.36683093072988,{"$f":"INDEX('Floor Space'!$I$5:$DK$50,MATCH(ACIM!BP42,'Floor Space'!$I$5:$I$50,0),MATCH(ACIM!BP$10,'Floor Space'!$I$5:$DK$5,0))*ACIM!BW42","v":6.1618924625074767},132.52872339323736,1122.6442171218309,17.965529529761259,5.5190237466478109E-3,null,null,2017,2155.612221121582,0,243.97868115091197,{"$f":"INDEX('Floor Space'!$I$5:$DK$50,MATCH(ACIM!CA42,'Floor Space'!$I$5:$I$50,0),MATCH(ACIM!CA$10,'Floor Space'!$I$5:$DK$5,0))*ACIM!CH42","v":11.896875036934469},255.87555618784643,2167.5090961585165,17.965529529761259,5.519023746648033E-3,null,null,2017,4834.5040759643189,0,550.64863266232067,{"$f":"INDEX('Floor Space'!$I$5:$DK$50,MATCH(ACIM!CL42,'Floor Space'!$I$5:$I$50,0),MATCH(ACIM!CL$10,'Floor Space'!$I$5:$DK$5,0))*ACIM!CS42","v":54.288926649620649},604.9375593119413,4888.7930026139393,17.965529529761259,1.1229471688632531E-2,null,null,2017,2415.3991449827449,0,268.92994020166378,{"$f":"INDEX('Floor Space'!$I$5:$DK$50,MATCH(ACIM!CW42,'Floor Space'!$I$5:$I$50,0),MATCH(ACIM!CW$10,'Floor Space'!$I$5:$DK$5,0))*ACIM!DD42","v":30.133316506643187},299.06325670830699,2445.532461489388,17.965529529761259,1.247550185203794E-2,null,null,2017,7877.5751074869813,0,786.79353570252954,{"$f":"INDEX('Floor Space'!$I$5:$DK$50,MATCH(ACIM!DH42,'Floor Space'!$I$5:$I$50,0),MATCH(ACIM!DH$10,'Floor Space'!$I$5:$DK$5,0))*ACIM!DO42","v":220.12434365915075},1006.9178793616803,8097.6994511461317,17.965529529761259,2.7943160256249433E-2,null,null,2017,969.25546553738604,0,104.67578262671161,{"$f":"INDEX('Floor Space'!$I$5:$DK$50,MATCH(ACIM!DS42,'Floor Space'!$I$5:$I$50,0),MATCH(ACIM!DS$10,'Floor Space'!$I$5:$DK$5,0))*ACIM!DZ42","v":4.1262952288242936},108.8020778555359,973.38176076621039,17.965529529761259,4.2571802538524661E-3,null,null,2017,416.10737052861225,0,44.584299718250442,{"$f":"INDEX('Floor Space'!$I$5:$DK$50,MATCH(ACIM!ED42,'Floor Space'!$I$5:$I$50,0),MATCH(ACIM!ED$10,'Floor Space'!$I$5:$DK$5,0))*ACIM!EK42","v":2.3128752106284929},46.897174928878933,418.42024573924073,17.965529529761259,5.5583615538707942E-3,null,null,2017,935.28509622365414,0,95.418958302935692,{"$f":"INDEX('Floor Space'!$I$5:$DK$50,MATCH(ACIM!EO42,'Floor Space'!$I$5:$I$50,0),MATCH(ACIM!EO$10,'Floor Space'!$I$5:$DK$5,0))*ACIM!EV42","v":8.7780473137686865},104.19700561670437,944.06314353742277,17.965529529761259,9.3854241334661026E-3,null,null,2017,3047.3690023222957,0,341.6025051036641,{"$f":"INDEX('Floor Space'!$I$5:$DK$50,MATCH(ACIM!EZ42,'Floor Space'!$I$5:$I$50,0),MATCH(ACIM!EZ$10,'Floor Space'!$I$5:$DK$5,0))*ACIM!FG42","v":11.151562214984601},352.75406731864871,3058.5205645372803,17.965529529761259,3.6594065918784668E-3,null,null,2017,1324.7548663961115,0,148.99327252283331,{"$f":"INDEX('Floor Space'!$I$5:$DK$50,MATCH(ACIM!FK42,'Floor Space'!$I$5:$I$50,0),MATCH(ACIM!FK$10,'Floor Space'!$I$5:$DK$5,0))*ACIM!FR42","v":18.020183466545102},167.0134559893784,1342.7750498626567,17.965529529761259,1.3602655044829159E-2,null,null,2017,2977.7283610850504,0,315.47438441929825,{"$f":"INDEX('Floor Space'!$I$5:$DK$50,MATCH(ACIM!FV42,'Floor Space'!$I$5:$I$50,0),MATCH(ACIM!FV$10,'Floor Space'!$I$5:$DK$5,0))*ACIM!GC42","v":62.217607324770206},377.69199174406845,3039.9459684098206,17.965529529761259,2.0894319353595758E-2,null,null,2017,4149.5266912255538,0,460.96481356538152,{"$f":"INDEX('Floor Space'!$I$5:$DK$50,MATCH(ACIM!GG42,'Floor Space'!$I$5:$I$50,0),MATCH(ACIM!GG$10,'Floor Space'!$I$5:$DK$5,0))*ACIM!GN42","v":50.958836929392177},511.92365049477371,4200.4855281549462,17.965529529761259,1.2280638424895018E-2,null,null,2017,7900.0804130884881,0,953.19622563066525,{"$f":"INDEX('Floor Space'!$I$5:$DK$50,MATCH(ACIM!GR42,'Floor Space'!$I$5:$I$50,0),MATCH(ACIM!GR$10,'Floor Space'!$I$5:$DK$5,0))*ACIM!GY42","v":43.198752728938466},996.39497835960367,7943.2791658174265,17.965529529761259,5.4681408884609262E-3]
[null,2018,58157.390961407211,0,6401.9654052457399,733.67613022296177,7135.6415354687015,58891.067091630182,17.965529529761259,1.2615354954795599E-2,null,null,2018,5351.9100184796416,0,565.26146445938957,{"$f":"INDEX('Floor Space'!$I$5:$DK$54,MATCH(ACIM!M43,'Floor Space'!$I$5:$I$54,0),MATCH(ACIM!M$10,'Floor Space'!$I$5:$DK$5,0))*ACIM!T43","v":70.252524209610968},635.51398866900058,5422.1625426892524,17.965529529761259,1.3126626562673049E-2,null,null,2018,2411.2547775259177,0,254.67345340686322,{"$f":"INDEX('Floor Space'!$I$5:$DK$50,MATCH(ACIM!X43,'Floor Space'!$I$5:$I$50,0),MATCH(ACIM!X$10,'Floor Space'!$I$5:$DK$5,0))*ACIM!AE43","v":31.651641012044053},286.32509441890727,2442.9064185379616,17.965529529761259,1.3126626562673049E-2,null,null,2018,2829.2962330854471,0,298.82642394605085,{"$f":"INDEX('Floor Space'!$I$5:$DK$50,MATCH(ACIM!AI43,'Floor Space'!$I$5:$I$50,0),MATCH(ACIM!AI$10,'Floor Space'!$I$5:$DK$5,0))*ACIM!AP43","v":37.139115086890271},335.96553903294114,2866.4353481723374,17.965529529761259,1.3126626562673049E-2,null,null,2018,2431.3034084740807,0,272.49944322581308,{"$f":"INDEX('Floor Space'!$I$5:$DK$50,MATCH(ACIM!AT43,'Floor Space'!$I$5:$I$50,0),MATCH(ACIM!AT$10,'Floor Space'!$I$5:$DK$5,0))*ACIM!BA43","v":13.197158536368265},285.69660176218133,2444.5005670104488,17.965529529761259,5.4280179472339096E-3,null,null,2018,4490.5768684873237,0,511.70771672429692,{"$f":"INDEX('Floor Space'!$I$5:$DK$50,MATCH(ACIM!BE43,'Floor Space'!$I$5:$I$50,0),MATCH(ACIM!BE$10,'Floor Space'!$I$5:$DK$5,0))*ACIM!BL43","v":24.374931835582601},536.08264855987954,4514.9518003229059,17.965529529761259,5.4280179472339096E-3,null,null,2018,1122.6442171218309,0,127.92692918107423,{"$f":"INDEX('Floor Space'!$I$5:$DK$50,MATCH(ACIM!BP43,'Floor Space'!$I$5:$I$50,0),MATCH(ACIM!BP$10,'Floor Space'!$I$5:$DK$5,0))*ACIM!BW43","v":6.0937329588956501},134.02066213996989,1128.7379500807265,17.965529529761259,5.4280179472339096E-3,null,null,2018,2167.5090961585165,0,246.99079050572763,{"$f":"INDEX('Floor Space'!$I$5:$DK$50,MATCH(ACIM!CA43,'Floor Space'!$I$5:$I$50,0),MATCH(ACIM!CA$10,'Floor Space'!$I$5:$DK$5,0))*ACIM!CH43","v":11.765278274741153},258.75606878046881,2179.2743744332579,17.965529529761259,5.4280179472339096E-3,null,null,2018,4888.7930026139393,0,557.31656887798692,{"$f":"INDEX('Floor Space'!$I$5:$DK$50,MATCH(ACIM!CL43,'Floor Space'!$I$5:$I$50,0),MATCH(ACIM!CL$10,'Floor Space'!$I$5:$DK$5,0))*ACIM!CS43","v":56.744003710346149},614.06057258833312,4945.5370063242854,17.965529529761259,1.1606955680063757E-2,null,null,2018,2445.532461489388,0,271.37573654787576,{"$f":"INDEX('Floor Space'!$I$5:$DK$50,MATCH(ACIM!CW43,'Floor Space'!$I$5:$I$50,0),MATCH(ACIM!CW$10,'Floor Space'!$I$5:$DK$5,0))*ACIM!DD43","v":31.897398290146512},303.27313483802226,2477.4298597795346,17.965529529761259,1.3043130194526409E-2,null,null,2018,8097.6994511461317,0,796.74695331564749,{"$f":"INDEX('Floor Space'!$I$5:$DK$50,MATCH(ACIM!DH43,'Floor Space'!$I$5:$I$50,0),MATCH(ACIM!DH$10,'Floor Space'!$I$5:$DK$5,0))*ACIM!DO43","v":243.31612726582003},1040.0630805814676,8341.0155784119524,17.965529529761259,3.0047562117334836E-2,null,null,2018,973.38176076621039,0,104.6201241690345,{"$f":"INDEX('Floor Space'!$I$5:$DK$50,MATCH(ACIM!DS43,'Floor Space'!$I$5:$I$50,0),MATCH(ACIM!DS$10,'Floor Space'!$I$5:$DK$5,0))*ACIM!DZ43","v":4.294791753221606},108.9149159222561,977.67655251943199,17.965529529761259,4.412237753295134E-3,null,null,2018,418.42024573924073,0,44.54440594098962,{"$f":"INDEX('Floor Space'!$I$5:$DK$50,MATCH(ACIM!ED43,'Floor Space'!$I$5:$I$50,0),MATCH(ACIM!ED$10,'Floor Space'!$I$5:$DK$5,0))*ACIM!EK43","v":1.8300696422795788},46.374475583269202,420.25031538152029,17.965529529761259,4.3737597807829154E-3,null,null,2018,944.06314353742277,0,95.274337099623551,{"$f":"INDEX('Floor Space'!$I$5:$DK$50,MATCH(ACIM!EO43,'Floor Space'!$I$5:$I$50,0),MATCH(ACIM!EO$10,'Floor Space'!$I$5:$DK$5,0))*ACIM!EV43","v":8.3575092300680218},103.63184632969157,952.42065276749076,17.965529529761259,8.852701524552975E-3,null,null,2018,3058.5205645372803,0,341.99297131452192,{"$f":"INDEX('Floor Space'!$I$5:$DK$50,MATCH(ACIM!EZ43,'Floor Space'!$I$5:$I$50,0),MATCH(ACIM!EZ$10,'Floor Space'!$I$5:$DK$5,0))*ACIM!FG43","v":11.406386537528237},353.39935785205017,3069.9269510748086,17.965529529761259,3.729380364409618E-3,null,null,2018,1342.7750498626567,0,154.16862756016849,{"$f":"INDEX('Floor Space'!$I$5:$DK$50,MATCH(ACIM!FK43,'Floor Space'!$I$5:$I$50,0),MATCH(ACIM!FK$10,'Floor Space'!$I$5:$DK$5,0))*ACIM!FR43","v":18.210244802539126},172.37887236270763,1360.9852946651959,17.965529529761259,1.3561649663062836E-2,null,null,2018,3039.9459684098206,0,323.65408354564352,{"$f":"INDEX('Floor Space'!$I$5:$DK$50,MATCH(ACIM!FV43,'Floor Space'!$I$5:$I$50,0),MATCH(ACIM!FV$10,'Floor Space'!$I$5:$DK$5,0))*ACIM!GC43","v":64.804504074503782},388.45858762014728,3104.7504724843243,17.965529529761259,2.1317649967444119E-2,null,null,2018,4200.4855281549462,0,473.51655597228489,{"$f":"INDEX('Floor Space'!$I$5:$DK$50,MATCH(ACIM!GG43,'Floor Space'!$I$5:$I$50,0),MATCH(ACIM!GG$10,'Floor Space'!$I$5:$DK$5,0))*ACIM!GN43","v":54.257694623047506},527.77425059533243,4254.7432227779937,17.965529529761259,1.2917005488858324E-2,null,null,2018,7943.2791658174265,0,960.86881945274752,{"$f":"INDEX('Floor Space'!$I$5:$DK$50,MATCH(ACIM!GR43,'Floor Space'!$I$5:$I$50,0),MATCH(ACIM!GR$10,'Floor Space'!$I$5:$DK$5,0))*ACIM!GY43","v":44.083018379328259},1004.9518378320757,7987.3621841967552,17.965529529761259,5.5497254293961351E-3]
[null,2019,58891.067091630182,0,6120.1429909358794,765.45980650752676,6885.6027974434073,59656.526898137716,17.965529529761259,1.2997893302163055E-2,null,null,2019,5422.1625426892524,0,555.72742654856836,{"$f":"INDEX('Floor Space'!$I$5:$DK$54,MATCH(ACIM!M44,'Floor Space'!$I$5:$I$54,0),MATCH(ACIM!M$10,'Floor Space'!$I$5:$DK$5,0))*ACIM!T44","v":73.172606453815746},628.90003300238413,5495.3351491430685,17.965529529761259,1.349509644495539E-2,null,null,2019,2442.9064185379616,0,250.37797863576236,{"$f":"INDEX('Floor Space'!$I$5:$DK$50,MATCH(ACIM!X44,'Floor Space'!$I$5:$I$50,0),MATCH(ACIM!X$10,'Floor Space'!$I$5:$DK$5,0))*ACIM!AE44","v":32.967257724170231},283.34523635993258,2475.873676262132,17.965529529761259,1.349509644495539E-2,null,null,2019,2866.4353481723374,0,293.78623876841527,{"$f":"INDEX('Floor Space'!$I$5:$DK$50,MATCH(ACIM!AI44,'Floor Space'!$I$5:$I$50,0),MATCH(ACIM!AI$10,'Floor Space'!$I$5:$DK$5,0))*ACIM!AP44","v":38.682821476814823},332.46906024523008,2905.1181696491522,17.965529529761259,1.349509644495539E-2,null,null,2019,2444.5005670104488,0,252.94937240801252,{"$f":"INDEX('Floor Space'!$I$5:$DK$50,MATCH(ACIM!AT44,'Floor Space'!$I$5:$I$50,0),MATCH(ACIM!AT$10,'Floor Space'!$I$5:$DK$5,0))*ACIM!BA44","v":13.967920855821609},266.91729326383415,2458.4684878662706,17.965529529761259,5.7140182515498239E-3,null,null,2019,4514.9518003229059,0,475.75842993570296,{"$f":"INDEX('Floor Space'!$I$5:$DK$50,MATCH(ACIM!BE44,'Floor Space'!$I$5:$I$50,0),MATCH(ACIM!BE$10,'Floor Space'!$I$5:$DK$5,0))*ACIM!BL44","v":25.798516991912841},501.5569469276158,4540.7503173148189,17.965529529761259,5.7140182515498239E-3,null,null,2019,1128.7379500807265,0,118.93960748392574,{"$f":"INDEX('Floor Space'!$I$5:$DK$50,MATCH(ACIM!BP44,'Floor Space'!$I$5:$I$50,0),MATCH(ACIM!BP$10,'Floor Space'!$I$5:$DK$5,0))*ACIM!BW44","v":6.4496292479782102},125.38923673190395,1135.1875793287047,17.965529529761259,5.7140182515498239E-3,null,null,2019,2179.2743744332579,0,229.63880914638469,{"$f":"INDEX('Floor Space'!$I$5:$DK$50,MATCH(ACIM!CA44,'Floor Space'!$I$5:$I$50,0),MATCH(ACIM!CA$10,'Floor Space'!$I$5:$DK$5,0))*ACIM!CH44","v":12.452413550646463},242.09122269703116,2191.7267879839042,17.965529529761259,5.7140182515498239E-3,null,null,2019,4945.5370063242854,0,485.71761470278443,{"$f":"INDEX('Floor Space'!$I$5:$DK$50,MATCH(ACIM!CL44,'Floor Space'!$I$5:$I$50,0),MATCH(ACIM!CL$10,'Floor Space'!$I$5:$DK$5,0))*ACIM!CS44","v":55.349634525120102},541.06724922790454,5000.886640849405,17.965529529761259,1.119183507359045E-2,null,null,2019,2477.4298597795346,0,247.58959168634061,{"$f":"INDEX('Floor Space'!$I$5:$DK$50,MATCH(ACIM!CW44,'Floor Space'!$I$5:$I$50,0),MATCH(ACIM!CW$10,'Floor Space'!$I$5:$DK$5,0))*ACIM!DD44","v":31.728866054304387},279.31845774064499,2509.1587258338391,17.965529529761259,1.2807170273279933E-2,null,null,2019,8341.0155784119524,0,812.25329129726583,{"$f":"INDEX('Floor Space'!$I$5:$DK$50,MATCH(ACIM!DH44,'Floor Space'!$I$5:$I$50,0),MATCH(ACIM!DH$10,'Floor Space'!$I$5:$DK$5,0))*ACIM!DO44","v":238.64785469943737},1050.9011459967032,8579.6634331113892,17.965529529761259,2.8611366620282963E-2,null,null,2019,977.67655251943199,0,111.11636865251802,{"$f":"INDEX('Floor Space'!$I$5:$DK$50,MATCH(ACIM!DS44,'Floor Space'!$I$5:$I$50,0),MATCH(ACIM!DS$10,'Floor Space'!$I$5:$DK$5,0))*ACIM!DZ44","v":4.1006432633824392},115.21701191590046,981.77719578281449,17.965529529761259,4.194273916885205E-3,null,null,2019,420.25031538152029,0,44.376220776381714,{"$f":"INDEX('Floor Space'!$I$5:$DK$50,MATCH(ACIM!ED44,'Floor Space'!$I$5:$I$50,0),MATCH(ACIM!ED$10,'Floor Space'!$I$5:$DK$5,0))*ACIM!EK44","v":3.1532032341518179},47.529424010533532,423.40351861567211,17.965529529761259,7.5031549501378692E-3,null,null,2019,952.42065276749076,0,106.76147255766818,{"$f":"INDEX('Floor Space'!$I$5:$DK$50,MATCH(ACIM!EO44,'Floor Space'!$I$5:$I$50,0),MATCH(ACIM!EO$10,'Floor Space'!$I$5:$DK$5,0))*ACIM!EV44","v":9.3815290218921668},116.14300157956035,961.80218178938298,17.965529529761259,9.8501948636160463E-3,null,null,2019,3069.9269510748086,0,329.26468076952028,{"$f":"INDEX('Floor Space'!$I$5:$DK$50,MATCH(ACIM!EZ44,'Floor Space'!$I$5:$I$50,0),MATCH(ACIM!EZ$10,'Floor Space'!$I$5:$DK$5,0))*ACIM!FG44","v":11.691433689652522},340.9561144591728,3081.6183847644611,17.965529529761259,3.8083752076116806E-3,null,null,2019,1360.9852946651959,0,138.04015468902415,{"$f":"INDEX('Floor Space'!$I$5:$DK$50,MATCH(ACIM!FK44,'Floor Space'!$I$5:$I$50,0),MATCH(ACIM!FK$10,'Floor Space'!$I$5:$DK$5,0))*ACIM!FR44","v":16.226982224052982},154.26713691307714,1377.2122768892489,17.965529529761259,1.1922966609308583E-2,null,null,2019,3104.7504724843243,0,312.25551788116064,{"$f":"INDEX('Floor Space'!$I$5:$DK$50,MATCH(ACIM!FV44,'Floor Space'!$I$5:$I$50,0),MATCH(ACIM!FV$10,'Floor Space'!$I$5:$DK$5,0))*ACIM!GC44","v":58.485873400728664},370.74139128188932,3163.2363458850527,17.965529529761259,1.8837543924723255E-2,null,null,2019,4254.7432227779937,0,496.43582640630393,{"$f":"INDEX('Floor Space'!$I$5:$DK$50,MATCH(ACIM!GG44,'Floor Space'!$I$5:$I$50,0),MATCH(ACIM!GG$10,'Floor Space'!$I$5:$DK$5,0))*ACIM!GN44","v":91.507359004744032},587.94318541104792,4346.2505817827378,17.965529529761259,2.1507140199402475E-2,null,null,2019,7987.3621841967552,0,859.15438859014046,{"$f":"INDEX('Floor Space'!$I$5:$DK$50,MATCH(ACIM!GR44,'Floor Space'!$I$5:$I$50,0),MATCH(ACIM!GR$10,'Floor Space'!$I$5:$DK$5,0))*ACIM!GY44","v":41.695261088900274},900.84964967904068,8029.0574452856554,17.965529529761259,5.2201540542877733E-3]
[null,2020,59656.526898137716,0,6231.1276654904414,803.670558654709,7034.79822414515,60460.197456792404,17.965529529761259,1.3471628343817876E-2,null,null,2020,5495.3351491430685,0,582.81041627570471,{"$f":"INDEX('Floor Space'!$I$5:$DK$54,MATCH(ACIM!M45,'Floor Space'!$I$5:$I$54,0),MATCH(ACIM!M$10,'Floor Space'!$I$5:$DK$5,0))*ACIM!T45","v":87.836270922472806},670.64668719817746,5583.1714200655415,17.965529529761259,1.5983787801581162E-2,null,null,2020,2475.873676262132,0,262.57997533297038,{"$f":"INDEX('Floor Space'!$I$5:$DK$50,MATCH(ACIM!X45,'Floor Space'!$I$5:$I$50,0),MATCH(ACIM!X$10,'Floor Space'!$I$5:$DK$5,0))*ACIM!AE45","v":39.573839464894412},302.15381479786481,2515.4475157270263,17.965529529761259,1.598378780158094E-2,null,null,2020,2905.1181696491522,0,308.10370684076634,{"$f":"INDEX('Floor Space'!$I$5:$DK$50,MATCH(ACIM!AI45,'Floor Space'!$I$5:$I$50,0),MATCH(ACIM!AI$10,'Floor Space'!$I$5:$DK$5,0))*ACIM!AP45","v":46.434792362189704},354.53849920295602,2951.5529620113421,17.965529529761259,1.5983787801581162E-2,null,null,2020,2458.4684878662706,0,243.92922814971507,{"$f":"INDEX('Floor Space'!$I$5:$DK$50,MATCH(ACIM!AT45,'Floor Space'!$I$5:$I$50,0),MATCH(ACIM!AT$10,'Floor Space'!$I$5:$DK$5,0))*ACIM!BA45","v":20.692995611053046},264.62222376076812,2479.1614834773236,17.965529529761259,8.4170269878107717E-3,null,null,2020,4540.7503173148189,0,457.87885105274029,{"$f":"INDEX('Floor Space'!$I$5:$DK$50,MATCH(ACIM!BE45,'Floor Space'!$I$5:$I$50,0),MATCH(ACIM!BE$10,'Floor Space'!$I$5:$DK$5,0))*ACIM!BL45","v":38.219617965749727},496.09846901848999,4578.9699352805683,17.965529529761259,8.4170269878107717E-3,null,null,2020,1135.1875793287047,0,114.46971276318507,{"$f":"INDEX('Floor Space'!$I$5:$DK$50,MATCH(ACIM!BP45,'Floor Space'!$I$5:$I$50,0),MATCH(ACIM!BP$10,'Floor Space'!$I$5:$DK$5,0))*ACIM!BW45","v":9.5549044914374317},124.0246172546225,1144.7424838201421,17.965529529761259,8.4170269878107717E-3,null,null,2020,2191.7267879839042,0,221.0087041511305,{"$f":"INDEX('Floor Space'!$I$5:$DK$50,MATCH(ACIM!CA45,'Floor Space'!$I$5:$I$50,0),MATCH(ACIM!CA$10,'Floor Space'!$I$5:$DK$5,0))*ACIM!CH45","v":18.447823524368605},239.4565276754991,2210.1746115082728,17.965529529761259,8.4170269878109938E-3,null,null,2020,5000.886640849405,0,552.10879772432384,{"$f":"INDEX('Floor Space'!$I$5:$DK$50,MATCH(ACIM!CL45,'Floor Space'!$I$5:$I$50,0),MATCH(ACIM!CL$10,'Floor Space'!$I$5:$DK$5,0))*ACIM!CS45","v":51.169826566399649},603.27862429072343,5052.0564674158049,17.965529529761259,1.0232150864693201E-2,null,null,2020,2509.1587258338391,0,282.26745585590731,{"$f":"INDEX('Floor Space'!$I$5:$DK$50,MATCH(ACIM!CW45,'Floor Space'!$I$5:$I$50,0),MATCH(ACIM!CW$10,'Floor Space'!$I$5:$DK$5,0))*ACIM!DD45","v":30.504450503173274},312.77190635908062,2539.6631763370124,17.965529529761259,1.2157242261760848E-2,null,null,2020,8579.6634331113892,0,882.93458935765989,{"$f":"INDEX('Floor Space'!$I$5:$DK$50,MATCH(ACIM!DH45,'Floor Space'!$I$5:$I$50,0),MATCH(ACIM!DH$10,'Floor Space'!$I$5:$DK$5,0))*ACIM!DO45","v":224.68051865528474},1107.6151080129446,8804.3439517666739,17.965529529761259,2.6187567893185326E-2,null,null,2020,981.77719578281449,0,112.82959803745227,{"$f":"INDEX('Floor Space'!$I$5:$DK$50,MATCH(ACIM!DS45,'Floor Space'!$I$5:$I$50,0),MATCH(ACIM!DS$10,'Floor Space'!$I$5:$DK$5,0))*ACIM!DZ45","v":3.8802194769321834},116.70981751438445,985.6574152597467,17.965529529761259,3.9522403795886341E-3,null,null,2020,423.40351861567211,0,47.520309743491083,{"$f":"INDEX('Floor Space'!$I$5:$DK$50,MATCH(ACIM!ED45,'Floor Space'!$I$5:$I$50,0),MATCH(ACIM!ED$10,'Floor Space'!$I$5:$DK$5,0))*ACIM!EK45","v":5.1539365505641888},52.674246294055273,428.55745516623631,17.965529529761259,1.2172635143456345E-2,null,null,2020,961.80218178938298,0,119.73656910946713,{"$f":"INDEX('Floor Space'!$I$5:$DK$50,MATCH(ACIM!EO45,'Floor Space'!$I$5:$I$50,0),MATCH(ACIM!EO$10,'Floor Space'!$I$5:$DK$5,0))*ACIM!EV45","v":11.39716933558651},131.13373844505364,973.19935112496944,17.965529529761259,1.1849806073825464E-2,null,null,2020,3081.6183847644611,0,321.62319706605916,{"$f":"INDEX('Floor Space'!$I$5:$DK$50,MATCH(ACIM!EZ45,'Floor Space'!$I$5:$I$50,0),MATCH(ACIM!EZ$10,'Floor Space'!$I$5:$DK$5,0))*ACIM!FG45","v":17.906361517542798},339.52955858360195,3099.5247462820039,17.965529529761259,5.810700509210287E-3,null,null,2020,1377.2122768892489,0,134.7560837194265,{"$f":"INDEX('Floor Space'!$I$5:$DK$50,MATCH(ACIM!FK45,'Floor Space'!$I$5:$I$50,0),MATCH(ACIM!FK$10,'Floor Space'!$I$5:$DK$5,0))*ACIM!FR45","v":17.505083764273351},152.26116748369986,1394.7173606535223,17.965529529761259,1.2710519691134792E-2,null,null,2020,3163.2363458850527,0,323.39522066878112,{"$f":"INDEX('Floor Space'!$I$5:$DK$50,MATCH(ACIM!FV45,'Floor Space'!$I$5:$I$50,0),MATCH(ACIM!FV$10,'Floor Space'!$I$5:$DK$5,0))*ACIM!GC45","v":58.334054863400659},381.72927553218176,3221.5704007484533,17.965529529761259,1.8441257144533374E-2,null,null,2020,4346.2505817827378,0,462.78261999855272,{"$f":"INDEX('Floor Space'!$I$5:$DK$50,MATCH(ACIM!GG45,'Floor Space'!$I$5:$I$50,0),MATCH(ACIM!GG$10,'Floor Space'!$I$5:$DK$5,0))*ACIM!GN45","v":82.230868201002863},545.01348819955558,4428.4814499837403,17.965529529761259,1.8919955638469599E-2,null,null,2020,8029.0574452856554,0,800.39262964310785,{"$f":"INDEX('Floor Space'!$I$5:$DK$50,MATCH(ACIM!GR45,'Floor Space'!$I$5:$I$50,0),MATCH(ACIM!GR$10,'Floor Space'!$I$5:$DK$5,0))*ACIM!GY45","v":40.147824878383034},840.54045452149091,8069.2052701640387,17.965529529761259,5.0003160585128104E-3]
[null,2021,60460.197456792404,0,6465.1205907966787,772.19277693841991,7237.3133677350979,61232.390233730832,17.965529529761259,1.2771919534174003E-2,null,null,2021,5583.1714200655415,0,584.51931278443658,{"$f":"INDEX('Floor Space'!$I$5:$DK$54,MATCH(ACIM!M46,'Floor Space'!$I$5:$I$54,0),MATCH(ACIM!M$10,'Floor Space'!$I$5:$DK$5,0))*ACIM!T46","v":73.553015188007464},658.0723279724441,5656.724435253549,17.965529529761259,1.317405640164715E-2,null,null,2021,2515.4475157270263,0,263.34990323847501,{"$f":"INDEX('Floor Space'!$I$5:$DK$50,MATCH(ACIM!X46,'Floor Space'!$I$5:$I$50,0),MATCH(ACIM!X$10,'Floor Space'!$I$5:$DK$5,0))*ACIM!AE46","v":33.138647447570882},296.48855068604587,2548.586163174597,17.965529529761259,1.3174056401646927E-2,null,null,2021,2951.5529620113421,0,309.00711785444059,{"$f":"INDEX('Floor Space'!$I$5:$DK$50,MATCH(ACIM!AI46,'Floor Space'!$I$5:$I$50,0),MATCH(ACIM!AI$10,'Floor Space'!$I$5:$DK$5,0))*ACIM!AP46","v":38.883925193985917},347.89104304842652,2990.4368872053278,17.965529529761259,1.3174056401646927E-2,null,null,2021,2479.1614834773236,0,261.2572564575633,{"$f":"INDEX('Floor Space'!$I$5:$DK$50,MATCH(ACIM!AT46,'Floor Space'!$I$5:$I$50,0),MATCH(ACIM!AT$10,'Floor Space'!$I$5:$DK$5,0))*ACIM!BA46","v":22.709564339180307},283.9668207967436,2501.871047816504,17.965529529761259,9.1601795568909683E-3,null,null,2021,4578.9699352805683,0,490.00046325492463,{"$f":"INDEX('Floor Space'!$I$5:$DK$50,MATCH(ACIM!BE46,'Floor Space'!$I$5:$I$50,0),MATCH(ACIM!BE$10,'Floor Space'!$I$5:$DK$5,0))*ACIM!BL46","v":41.944186792775135},531.94465004769972,4620.9141220733436,17.965529529761259,9.1601795568909683E-3,null,null,2021,1144.7424838201421,0,122.50011581373116,{"$f":"INDEX('Floor Space'!$I$5:$DK$50,MATCH(ACIM!BP46,'Floor Space'!$I$5:$I$50,0),MATCH(ACIM!BP$10,'Floor Space'!$I$5:$DK$5,0))*ACIM!BW46","v":10.486046698193784},132.98616251192493,1155.2285305183359,17.965529529761259,9.1601795568909683E-3,null,null,2021,2210.1746115082728,0,236.51314571187908,{"$f":"INDEX('Floor Space'!$I$5:$DK$50,MATCH(ACIM!CA46,'Floor Space'!$I$5:$I$50,0),MATCH(ACIM!CA$10,'Floor Space'!$I$5:$DK$5,0))*ACIM!CH46","v":20.245596293497371},256.75874200537646,2230.4202078017702,17.965529529761259,9.1601795568909683E-3,null,null,2021,5052.0564674158049,0,583.33225382933892,{"$f":"INDEX('Floor Space'!$I$5:$DK$50,MATCH(ACIM!CL46,'Floor Space'!$I$5:$I$50,0),MATCH(ACIM!CL$10,'Floor Space'!$I$5:$DK$5,0))*ACIM!CS46","v":36.663530060173152},619.99578388951204,5088.7199974759778,17.965529529761259,7.257149696691112E-3,null,null,2021,2539.6631763370124,0,298.20633753593177,{"$f":"INDEX('Floor Space'!$I$5:$DK$50,MATCH(ACIM!CW46,'Floor Space'!$I$5:$I$50,0),MATCH(ACIM!CW$10,'Floor Space'!$I$5:$DK$5,0))*ACIM!DD46","v":24.505513272421283},322.71185080835306,2564.1686896094338,17.965529529761259,9.6491194189640694E-3,null,null,2021,8804.3439517666739,0,914.94437866424653,{"$f":"INDEX('Floor Space'!$I$5:$DK$50,MATCH(ACIM!DH46,'Floor Space'!$I$5:$I$50,0),MATCH(ACIM!DH$10,'Floor Space'!$I$5:$DK$5,0))*ACIM!DO46","v":231.57456186509796},1146.5189405293445,9035.9185136317719,17.965529529761259,2.6302307489773913E-2,null,null,2021,985.6574152597467,0,116.99862795834289,{"$f":"INDEX('Floor Space'!$I$5:$DK$50,MATCH(ACIM!DS46,'Floor Space'!$I$5:$I$50,0),MATCH(ACIM!DS$10,'Floor Space'!$I$5:$DK$5,0))*ACIM!DZ46","v":4.0507560010016554},121.04938395934455,989.70817126074837,17.965529529761259,4.1096997174563388E-3,null,null,2021,428.55745516623631,0,50.105893776912367,{"$f":"INDEX('Floor Space'!$I$5:$DK$50,MATCH(ACIM!ED46,'Floor Space'!$I$5:$I$50,0),MATCH(ACIM!ED$10,'Floor Space'!$I$5:$DK$5,0))*ACIM!EK46","v":4.3017632923954761},54.407657069307845,432.8592184586318,17.965529529761259,1.0037774960015122E-2,null,null,2021,973.19935112496944,0,123.42255976782101,{"$f":"INDEX('Floor Space'!$I$5:$DK$50,MATCH(ACIM!EO46,'Floor Space'!$I$5:$I$50,0),MATCH(ACIM!EO$10,'Floor Space'!$I$5:$DK$5,0))*ACIM!EV46","v":10.57037611697495},133.99293588479597,983.76972724194434,17.965529529761259,1.0861470576152943E-2,null,null,2021,3099.5247462820039,0,343.42786253370951,{"$f":"INDEX('Floor Space'!$I$5:$DK$50,MATCH(ACIM!EZ46,'Floor Space'!$I$5:$I$50,0),MATCH(ACIM!EZ$10,'Floor Space'!$I$5:$DK$5,0))*ACIM!FG46","v":12.962101478668158},356.38996401237767,3112.4868477606719,17.965529529761259,4.1819641847404831E-3,null,null,2021,1394.7173606535223,0,142.88963222381267,{"$f":"INDEX('Floor Space'!$I$5:$DK$50,MATCH(ACIM!FK46,'Floor Space'!$I$5:$I$50,0),MATCH(ACIM!FK$10,'Floor Space'!$I$5:$DK$5,0))*ACIM!FR46","v":12.520652894268283},155.41028511808096,1407.2380135477906,17.965529529761259,8.9771972784518095E-3,null,null,2021,3221.5704007484533,0,340.96227263756975,{"$f":"INDEX('Floor Space'!$I$5:$DK$50,MATCH(ACIM!FV46,'Floor Space'!$I$5:$I$50,0),MATCH(ACIM!FV$10,'Floor Space'!$I$5:$DK$5,0))*ACIM!GC46","v":57.770123804813402},398.73239644238316,3279.3405245532667,17.965529529761259,1.7932286623751015E-2,null,null,2021,4428.4814499837403,0,436.70739442514338,{"$f":"INDEX('Floor Space'!$I$5:$DK$50,MATCH(ACIM!GG46,'Floor Space'!$I$5:$I$50,0),MATCH(ACIM!GG$10,'Floor Space'!$I$5:$DK$5,0))*ACIM!GN46","v":91.975149677774851},528.6825441029182,4520.4565996615147,17.965529529761259,2.0769004164647109E-2,null,null,2021,8069.2052701640387,0,846.97606232839985,{"$f":"INDEX('Floor Space'!$I$5:$DK$50,MATCH(ACIM!GR46,'Floor Space'!$I$5:$I$50,0),MATCH(ACIM!GR$10,'Floor Space'!$I$5:$DK$5,0))*ACIM!GY46","v":44.337266521619867},891.31332885001973,8113.5425366856589,17.965529529761259,5.4946261790560502E-3]
[null,2022,61232.390233730832,0,6554.5680951944969,758.76293167022595,7313.3310268647228,61991.153165401069,17.965529529761259,1.2391528875060231E-2,null,null,2022,5656.724435253549,0,600.19415177240228,{"$f":"INDEX('Floor Space'!$I$5:$DK$54,MATCH(ACIM!M47,'Floor Space'!$I$5:$I$54,0),MATCH(ACIM!M$10,'Floor Space'!$I$5:$DK$5,0))*ACIM!T47","v":78.879659835545212},679.0738116079475,5735.6040950890938,17.965529529761259,1.3944405589912501E-2,null,null,2022,2548.586163174597,0,270.41206053674335,{"$f":"INDEX('Floor Space'!$I$5:$DK$50,MATCH(ACIM!X47,'Floor Space'!$I$5:$I$50,0),MATCH(ACIM!X$10,'Floor Space'!$I$5:$DK$5,0))*ACIM!AE47","v":35.538519140145958},305.95057967688933,2584.124682314743,17.965529529761259,1.3944405589912723E-2,null,null,2022,2990.4368872053278,0,317.29364785022523,{"$f":"INDEX('Floor Space'!$I$5:$DK$50,MATCH(ACIM!AI47,'Floor Space'!$I$5:$I$50,0),MATCH(ACIM!AI$10,'Floor Space'!$I$5:$DK$5,0))*ACIM!AP47","v":41.699864846227037},358.99351269645229,3032.136752051555,17.965529529761259,1.3944405589912723E-2,null,null,2022,2501.871047816504,0,269.17655120613438,{"$f":"INDEX('Floor Space'!$I$5:$DK$50,MATCH(ACIM!AT47,'Floor Space'!$I$5:$I$50,0),MATCH(ACIM!AT$10,'Floor Space'!$I$5:$DK$5,0))*ACIM!BA47","v":19.296868875230732},288.47342008136513,2521.1679166917347,17.965529529761259,7.7129750120703555E-3,null,null,2022,4620.9141220733436,0,504.7381636588795,{"$f":"INDEX('Floor Space'!$I$5:$DK$50,MATCH(ACIM!BE47,'Floor Space'!$I$5:$I$50,0),MATCH(ACIM!BE$10,'Floor Space'!$I$5:$DK$5,0))*ACIM!BL47","v":35.640995156474283},540.37915881535378,4656.5551172298183,17.965529529761259,7.7129750120703555E-3,null,null,2022,1155.2285305183359,0,126.18454091471988,{"$f":"INDEX('Floor Space'!$I$5:$DK$50,MATCH(ACIM!BP47,'Floor Space'!$I$5:$I$50,0),MATCH(ACIM!BP$10,'Floor Space'!$I$5:$DK$5,0))*ACIM!BW47","v":8.9102487891185707},135.09478970383844,1164.1387793074546,17.965529529761259,7.7129750120703555E-3,null,null,2022,2230.4202078017702,0,243.62673058472683,{"$f":"INDEX('Floor Space'!$I$5:$DK$50,MATCH(ACIM!CA47,'Floor Space'!$I$5:$I$50,0),MATCH(ACIM!CA$10,'Floor Space'!$I$5:$DK$5,0))*ACIM!CH47","v":17.203175329191602},260.82990591391842,2247.6233831309619,17.965529529761259,7.7129750120703555E-3,null,null,2022,5088.7199974759778,0,554.68527159277585,{"$f":"INDEX('Floor Space'!$I$5:$DK$50,MATCH(ACIM!CL47,'Floor Space'!$I$5:$I$50,0),MATCH(ACIM!CL$10,'Floor Space'!$I$5:$DK$5,0))*ACIM!CS47","v":32.705414110598262},587.39068570337406,5121.425411586576,17.965529529761259,6.4270414027143286E-3,null,null,2022,2564.1686896094338,0,276.25527697807382,{"$f":"INDEX('Floor Space'!$I$5:$DK$50,MATCH(ACIM!CW47,'Floor Space'!$I$5:$I$50,0),MATCH(ACIM!CW$10,'Floor Space'!$I$5:$DK$5,0))*ACIM!DD47","v":22.036972559579652},298.29224953765345,2586.2056621690135,17.965529529761259,8.5941976629222427E-3,null,null,2022,9035.9185136317719,0,905.69776435722827,{"$f":"INDEX('Floor Space'!$I$5:$DK$50,MATCH(ACIM!DH47,'Floor Space'!$I$5:$I$50,0),MATCH(ACIM!DH$10,'Floor Space'!$I$5:$DK$5,0))*ACIM!DO47","v":246.28551378112931},1151.9832781383575,9282.2040274129013,17.965529529761259,2.7256278751250029E-2,null,null,2022,989.70817126074837,0,119.07469144116369,{"$f":"INDEX('Floor Space'!$I$5:$DK$50,MATCH(ACIM!DS47,'Floor Space'!$I$5:$I$50,0),MATCH(ACIM!DS$10,'Floor Space'!$I$5:$DK$5,0))*ACIM!DZ47","v":4.0288676608433329},123.10355910200703,993.73703892159176,17.965529529761259,4.0707632591445719E-3,null,null,2022,432.8592184586318,0,51.191679511822031,{"$f":"INDEX('Floor Space'!$I$5:$DK$50,MATCH(ACIM!ED47,'Floor Space'!$I$5:$I$50,0),MATCH(ACIM!ED$10,'Floor Space'!$I$5:$DK$5,0))*ACIM!EK47","v":4.0591290206498449},55.250808532471879,436.91834747928164,17.965529529761259,9.3774808241440244E-3,null,null,2022,983.76972724194434,0,126.62979425330349,{"$f":"INDEX('Floor Space'!$I$5:$DK$50,MATCH(ACIM!EO47,'Floor Space'!$I$5:$I$50,0),MATCH(ACIM!EO$10,'Floor Space'!$I$5:$DK$5,0))*ACIM!EV47","v":9.3904399421900173},136.02023419549352,993.16016718413437,17.965529529761259,9.5453638002427343E-3,null,null,2022,3112.4868477606719,0,346.20724241149139,{"$f":"INDEX('Floor Space'!$I$5:$DK$50,MATCH(ACIM!EZ47,'Floor Space'!$I$5:$I$50,0),MATCH(ACIM!EZ$10,'Floor Space'!$I$5:$DK$5,0))*ACIM!FG47","v":12.07789237182519},358.28513478331661,3124.5647401324973,17.965529529761259,3.8804637457392488E-3,null,null,2022,1407.2380135477906,0,147.96237986369295,{"$f":"INDEX('Floor Space'!$I$5:$DK$50,MATCH(ACIM!FK47,'Floor Space'!$I$5:$I$50,0),MATCH(ACIM!FK$10,'Floor Space'!$I$5:$DK$5,0))*ACIM!FR47","v":11.686507582194755},159.64888744588771,1418.9245211299854,17.965529529761259,8.304570704945613E-3,null,null,2022,3279.3405245532667,0,356.87067638595988,{"$f":"INDEX('Floor Space'!$I$5:$DK$50,MATCH(ACIM!FV47,'Floor Space'!$I$5:$I$50,0),MATCH(ACIM!FV$10,'Floor Space'!$I$5:$DK$5,0))*ACIM!GC47","v":51.065328350464227},407.93600473642414,3330.4058529037311,17.965529529761259,1.557182853324468E-2,null,null,2022,4520.4565996615147,0,480.16701001869626,{"$f":"INDEX('Floor Space'!$I$5:$DK$50,MATCH(ACIM!GG47,'Floor Space'!$I$5:$I$50,0),MATCH(ACIM!GG$10,'Floor Space'!$I$5:$DK$5,0))*ACIM!GN47","v":84.794823320221113},564.96183333891736,4605.2514229817361,17.965529529761259,1.8758021772971034E-2,null,null,2022,8113.5425366856589,0,858.20046185645788,{"$f":"INDEX('Floor Space'!$I$5:$DK$50,MATCH(ACIM!GR47,'Floor Space'!$I$5:$I$50,0),MATCH(ACIM!GR$10,'Floor Space'!$I$5:$DK$5,0))*ACIM!GY47","v":43.462710998596741},901.66317285505465,8157.0052476842557,17.965529529761259,5.3568106412309469E-3]
[null,2023,61991.153165401069,0,6707.2900044467287,748.62543312686296,7455.9154375735907,62739.778598527941,17.965529529761259,1.2076326941836912E-2,null,null,2023,5735.6040950890938,0,581.82005771060301,{"$f":"INDEX('Floor Space'!$I$5:$DK$54,MATCH(ACIM!M48,'Floor Space'!$I$5:$I$54,0),MATCH(ACIM!M$10,'Floor Space'!$I$5:$DK$5,0))*ACIM!T48","v":82.275486597683596},664.09554430828666,5817.8795816867778,17.965529529761259,1.4344694165367766E-2,null,null,2023,2584.124682314743,0,262.13377821580667,{"$f":"INDEX('Floor Space'!$I$5:$DK$50,MATCH(ACIM!X48,'Floor Space'!$I$5:$I$50,0),MATCH(ACIM!X$10,'Floor Space'!$I$5:$DK$5,0))*ACIM!AE48","v":37.068478252982949},299.20225646878964,2621.193160567726,17.965529529761259,1.4344694165367766E-2,null,null,2023,3032.136752051555,0,307.58015211956013,{"$f":"INDEX('Floor Space'!$I$5:$DK$50,MATCH(ACIM!AI48,'Floor Space'!$I$5:$I$50,0),MATCH(ACIM!AI$10,'Floor Space'!$I$5:$DK$5,0))*ACIM!AP48","v":43.495074375750896},351.07522649531103,3075.6318264273059,17.965529529761259,1.4344694165367766E-2,null,null,2023,2521.1679166917347,0,282.47582252676818,{"$f":"INDEX('Floor Space'!$I$5:$DK$50,MATCH(ACIM!AT48,'Floor Space'!$I$5:$I$50,0),MATCH(ACIM!AT$10,'Floor Space'!$I$5:$DK$5,0))*ACIM!BA48","v":18.451463590041062},300.92728611680923,2539.6193802817756,17.965529529761259,7.3186174819537264E-3,null,null,2023,4656.5551172298183,0,529.42154595454588,{"$f":"INDEX('Floor Space'!$I$5:$DK$50,MATCH(ACIM!BE48,'Floor Space'!$I$5:$I$50,0),MATCH(ACIM!BE$10,'Floor Space'!$I$5:$DK$5,0))*ACIM!BL48","v":34.079545686639364},563.50109164118521,4690.6346629164573,17.965529529761259,7.3186174819537264E-3,null,null,2023,1164.1387793074546,0,132.35538648863647,{"$f":"INDEX('Floor Space'!$I$5:$DK$50,MATCH(ACIM!BP48,'Floor Space'!$I$5:$I$50,0),MATCH(ACIM!BP$10,'Floor Space'!$I$5:$DK$5,0))*ACIM!BW48","v":8.5198864216598409},140.8752729102963,1172.6586657291143,17.965529529761259,7.3186174819537264E-3,null,null,2023,2247.6233831309619,0,255.54089155261087,{"$f":"INDEX('Floor Space'!$I$5:$DK$50,MATCH(ACIM!CA48,'Floor Space'!$I$5:$I$50,0),MATCH(ACIM!CA$10,'Floor Space'!$I$5:$DK$5,0))*ACIM!CH48","v":16.449495784630294},271.99038733724115,2264.0728789155924,17.965529529761259,7.3186174819537264E-3,null,null,2023,5121.425411586576,0,568.74528165792333,{"$f":"INDEX('Floor Space'!$I$5:$DK$50,MATCH(ACIM!CL48,'Floor Space'!$I$5:$I$50,0),MATCH(ACIM!CL$10,'Floor Space'!$I$5:$DK$5,0))*ACIM!CS48","v":33.108520403766192},601.85380206168952,5154.5339319903424,17.965529529761259,6.4647081120936534E-3,null,null,2023,2586.2056621690135,0,285.03817265974686,{"$f":"INDEX('Floor Space'!$I$5:$DK$50,MATCH(ACIM!CW48,'Floor Space'!$I$5:$I$50,0),MATCH(ACIM!CW$10,'Floor Space'!$I$5:$DK$5,0))*ACIM!DD48","v":21.616121916410115},306.65429457615699,2607.8217840854236,17.965529529761259,8.3582377970208288E-3,null,null,2023,9282.2040274129013,0,970.71121106942473,{"$f":"INDEX('Floor Space'!$I$5:$DK$50,MATCH(ACIM!DH48,'Floor Space'!$I$5:$I$50,0),MATCH(ACIM!DH$10,'Floor Space'!$I$5:$DK$5,0))*ACIM!DO48","v":237.7184819228498},1208.4296929922746,9519.9225093357509,17.965529529761259,2.5610133242148336E-2,null,null,2023,993.73703892159176,0,107.9384139912495,{"$f":"INDEX('Floor Space'!$I$5:$DK$50,MATCH(ACIM!DS48,'Floor Space'!$I$5:$I$50,0),MATCH(ACIM!DS$10,'Floor Space'!$I$5:$DK$5,0))*ACIM!DZ48","v":4.0021146549765723},111.94052864622607,997.73915357656836,17.965529529761259,4.0273377143309474E-3,null,null,2023,436.91834747928164,0,49.171706051019612,{"$f":"INDEX('Floor Space'!$I$5:$DK$50,MATCH(ACIM!ED48,'Floor Space'!$I$5:$I$50,0),MATCH(ACIM!ED$10,'Floor Space'!$I$5:$DK$5,0))*ACIM!EK48","v":4.0062751261623566},53.177981177181969,440.92462260544397,17.965529529761259,9.1693909154326736E-3,null,null,2023,993.16016718413437,0,107.06867455477584,{"$f":"INDEX('Floor Space'!$I$5:$DK$50,MATCH(ACIM!EO48,'Floor Space'!$I$5:$I$50,0),MATCH(ACIM!EO$10,'Floor Space'!$I$5:$DK$5,0))*ACIM!EV48","v":9.4111741505984572},116.47984870537429,1002.5713413347328,17.965529529761259,9.4759883265169709E-3,null,null,2023,3124.5647401324973,0,347.22679027783346,{"$f":"INDEX('Floor Space'!$I$5:$DK$50,MATCH(ACIM!EZ48,'Floor Space'!$I$5:$I$50,0),MATCH(ACIM!EZ$10,'Floor Space'!$I$5:$DK$5,0))*ACIM!FG48","v":12.160507360944237},359.38729763877768,3136.7252474934417,17.965529529761259,3.8919044322405227E-3,null,null,2023,1418.9245211299854,0,193.01111996239339,{"$f":"INDEX('Floor Space'!$I$5:$DK$50,MATCH(ACIM!FK48,'Floor Space'!$I$5:$I$50,0),MATCH(ACIM!FK$10,'Floor Space'!$I$5:$DK$5,0))*ACIM!FR48","v":11.699786533536217},204.71090649592961,1430.6243076635217,17.965529529761259,8.24553128747052E-3,null,null,2023,3330.4058529037311,0,373.13297601645718,{"$f":"INDEX('Floor Space'!$I$5:$DK$50,MATCH(ACIM!FV48,'Floor Space'!$I$5:$I$50,0),MATCH(ACIM!FV$10,'Floor Space'!$I$5:$DK$5,0))*ACIM!GC48","v":49.806216649963794},422.93919266642098,3380.2120695536951,17.965529529761259,1.4954999135177172E-2,null,null,2023,4605.2514229817361,0,471.15959086332629,{"$f":"INDEX('Floor Space'!$I$5:$DK$50,MATCH(ACIM!GG48,'Floor Space'!$I$5:$I$50,0),MATCH(ACIM!GG$10,'Floor Space'!$I$5:$DK$5,0))*ACIM!GN48","v":81.352414700173824},552.51200556350011,4686.6038376819097,17.965529529761259,1.7665140776939481E-2,null,null,2023,8157.0052476842557,0,882.75843277404692,{"$f":"INDEX('Floor Space'!$I$5:$DK$50,MATCH(ACIM!GR48,'Floor Space'!$I$5:$I$50,0),MATCH(ACIM!GR$10,'Floor Space'!$I$5:$DK$5,0))*ACIM!GY48","v":43.404388998093367},926.16282177214032,8200.4096366823487,17.965529529761259,5.3211181898424886E-3]
[null,2024,62739.778598527941,0,6970.8264381293238,746.04108701921723,7716.8675251485392,63485.81968554714,17.965529529761259,1.1891037929749881E-2,null,null,2024,5817.8795816867778,0,637.36859963465668,{"$f":"INDEX('Floor Space'!$I$5:$DK$54,MATCH(ACIM!M49,'Floor Space'!$I$5:$I$54,0),MATCH(ACIM!M$10,'Floor Space'!$I$5:$DK$5,0))*ACIM!T49","v":87.824212632354985},725.19281226701162,5905.7037943191326,17.965529529761259,1.5095570714251938E-2,null,null,2024,2621.193160567726,0,287.16067265844214,{"$f":"INDEX('Floor Space'!$I$5:$DK$50,MATCH(ACIM!X49,'Floor Space'!$I$5:$I$50,0),MATCH(ACIM!X$10,'Floor Space'!$I$5:$DK$5,0))*ACIM!AE49","v":39.568406711063538},326.72907936950565,2660.7615672787897,17.965529529761259,1.5095570714251938E-2,null,null,2024,3075.6318264273059,0,336.94598223935736,{"$f":"INDEX('Floor Space'!$I$5:$DK$50,MATCH(ACIM!AI49,'Floor Space'!$I$5:$I$50,0),MATCH(ACIM!AI$10,'Floor Space'!$I$5:$DK$5,0))*ACIM!AP49","v":46.428417726837097},383.37439996619446,3122.0602441541432,17.965529529761259,1.5095570714251938E-2,null,null,2024,2539.6193802817756,0,291.78526485070137,{"$f":"INDEX('Floor Space'!$I$5:$DK$50,MATCH(ACIM!AT49,'Floor Space'!$I$5:$I$50,0),MATCH(ACIM!AT$10,'Floor Space'!$I$5:$DK$5,0))*ACIM!BA49","v":17.398707121937267},309.18397197263863,2557.0180874037128,17.965529529761259,6.8509113046721914E-3,null,null,2024,4690.6346629164573,0,546.77819858184705,{"$f":"INDEX('Floor Space'!$I$5:$DK$50,MATCH(ACIM!BE49,'Floor Space'!$I$5:$I$50,0),MATCH(ACIM!BE$10,'Floor Space'!$I$5:$DK$5,0))*ACIM!BL49","v":32.135122038262082},578.91332062010918,4722.7697849547194,17.965529529761259,6.8509113046724135E-3,null,null,2024,1172.6586657291143,0,136.69454964546176,{"$f":"INDEX('Floor Space'!$I$5:$DK$50,MATCH(ACIM!BP49,'Floor Space'!$I$5:$I$50,0),MATCH(ACIM!BP$10,'Floor Space'!$I$5:$DK$5,0))*ACIM!BW49","v":8.0337805095655206},144.72833015502729,1180.6924462386798,17.965529529761259,6.8509113046724135E-3,null,null,2024,2264.0728789155924,0,263.91859079934738,{"$f":"INDEX('Floor Space'!$I$5:$DK$50,MATCH(ACIM!CA49,'Floor Space'!$I$5:$I$50,0),MATCH(ACIM!CA$10,'Floor Space'!$I$5:$DK$5,0))*ACIM!CH49","v":15.510962480764775},279.42955328011215,2279.583841396357,17.965529529761259,6.8509113046721914E-3,null,null,2024,5154.5339319903424,0,574.21593318664054,{"$f":"INDEX('Floor Space'!$I$5:$DK$50,MATCH(ACIM!CL49,'Floor Space'!$I$5:$I$50,0),MATCH(ACIM!CL$10,'Floor Space'!$I$5:$DK$5,0))*ACIM!CS49","v":33.195277160860599},607.41121034750108,5187.7292091512027,17.965529529761259,6.4400152562469337E-3,null,null,2024,2607.8217840854236,0,283.48720305351281,{"$f":"INDEX('Floor Space'!$I$5:$DK$50,MATCH(ACIM!CW49,'Floor Space'!$I$5:$I$50,0),MATCH(ACIM!CW$10,'Floor Space'!$I$5:$DK$5,0))*ACIM!DD49","v":21.996583129496443},305.48378618300927,2629.8183672149198,17.965529529761259,8.4348490620538286E-3,null,null,2024,9519.9225093357509,0,991.39797638734308,{"$f":"INDEX('Floor Space'!$I$5:$DK$50,MATCH(ACIM!DH49,'Floor Space'!$I$5:$I$50,0),MATCH(ACIM!DH$10,'Floor Space'!$I$5:$DK$5,0))*ACIM!DO49","v":231.98246092892464},1223.3804373162677,9751.9049702646753,17.965529529761259,2.4368103910660022E-2,null,null,2024,997.73915357656836,0,108.44366639799385,{"$f":"INDEX('Floor Space'!$I$5:$DK$50,MATCH(ACIM!DS49,'Floor Space'!$I$5:$I$50,0),MATCH(ACIM!DS$10,'Floor Space'!$I$5:$DK$5,0))*ACIM!DZ49","v":3.9904930486849839},112.43415944667883,1001.7296466252534,17.965529529761259,3.9995353839532566E-3,null,null,2024,440.92462260544397,0,47.600310283072105,{"$f":"INDEX('Floor Space'!$I$5:$DK$50,MATCH(ACIM!ED49,'Floor Space'!$I$5:$I$50,0),MATCH(ACIM!ED$10,'Floor Space'!$I$5:$DK$5,0))*ACIM!EK49","v":4.0327687817272659},51.633079064799368,444.95739138717124,17.965529529761259,9.1461637091108106E-3,null,null,2024,1002.5713413347328,0,105.4448802385171,{"$f":"INDEX('Floor Space'!$I$5:$DK$50,MATCH(ACIM!EO49,'Floor Space'!$I$5:$I$50,0),MATCH(ACIM!EO$10,'Floor Space'!$I$5:$DK$5,0))*ACIM!EV49","v":9.0715465072389918},114.51642674575609,1011.6428878419717,17.965529529761259,9.0482802901208359E-3,null,null,2024,3136.7252474934417,0,353.1647694566052,{"$f":"INDEX('Floor Space'!$I$5:$DK$50,MATCH(ACIM!EZ49,'Floor Space'!$I$5:$I$50,0),MATCH(ACIM!EZ$10,'Floor Space'!$I$5:$DK$5,0))*ACIM!FG49","v":11.92132668012203},365.08609613672724,3148.6465741735637,17.965529529761259,3.8005645185685832E-3,null,null,2024,1430.6243076635217,0,152.81518933834133,{"$f":"INDEX('Floor Space'!$I$5:$DK$50,MATCH(ACIM!FK49,'Floor Space'!$I$5:$I$50,0),MATCH(ACIM!FK$10,'Floor Space'!$I$5:$DK$5,0))*ACIM!FR49","v":11.496839154208828},164.31202849255016,1442.1211468177305,17.965529529761259,8.0362392087307555E-3,null,null,2024,3380.2120695536951,0,375.21513313191559,{"$f":"INDEX('Floor Space'!$I$5:$DK$50,MATCH(ACIM!FV49,'Floor Space'!$I$5:$I$50,0),MATCH(ACIM!FV$10,'Floor Space'!$I$5:$DK$5,0))*ACIM!GC49","v":49.14835747351917},424.36349060543478,3429.3604270272144,17.965529529761259,1.4540021886854104E-2,null,null,2024,4686.6038376819097,0,503.89618337865551,{"$f":"INDEX('Floor Space'!$I$5:$DK$50,MATCH(ACIM!GG49,'Floor Space'!$I$5:$I$50,0),MATCH(ACIM!GG$10,'Floor Space'!$I$5:$DK$5,0))*ACIM!GN49","v":78.374502810593},582.27068618924852,4764.9783404925029,17.965529529761259,1.6723091075126817E-2,null,null,2024,8200.4096366823487,0,974.49333486691285,{"$f":"INDEX('Floor Space'!$I$5:$DK$50,MATCH(ACIM!GR49,'Floor Space'!$I$5:$I$50,0),MATCH(ACIM!GR$10,'Floor Space'!$I$5:$DK$5,0))*ACIM!GY49","v":43.931322123056127},1018.424656989969,8244.3409588054055,17.965529529761259,5.3572106845176659E-3]
[null,2025,63485.81968554714,0,6931.8989228474502,741.77302133663409,7673.6719441840833,64227.592706883777,17.965529529761259,1.1684074097345398E-2,null,null,2025,5905.7037943191326,0,616.11385170645224,{"$f":"INDEX('Floor Space'!$I$5:$DK$54,MATCH(ACIM!M50,'Floor Space'!$I$5:$I$54,0),MATCH(ACIM!M$10,'Floor Space'!$I$5:$DK$5,0))*ACIM!T50","v":92.615011975961593},708.72886368241382,5998.318806295094,17.965529529761259,1.5682298876054546E-2,null,null,2025,2660.7615672787897,0,277.58453772530078,{"$f":"INDEX('Floor Space'!$I$5:$DK$50,MATCH(ACIM!X50,'Floor Space'!$I$5:$I$50,0),MATCH(ACIM!X$10,'Floor Space'!$I$5:$DK$5,0))*ACIM!AE50","v":41.726858135985118},319.31139586128592,2702.4884254147746,17.965529529761259,1.5682298876054324E-2,null,null,2025,3122.0602441541432,0,325.7096239970092,{"$f":"INDEX('Floor Space'!$I$5:$DK$50,MATCH(ACIM!AI50,'Floor Space'!$I$5:$I$50,0),MATCH(ACIM!AI$10,'Floor Space'!$I$5:$DK$5,0))*ACIM!AP50","v":48.96108185787287},374.67070585488204,3171.0213260120163,17.965529529761259,1.5682298876054546E-2,null,null,2025,2557.0180874037128,0,282.31185465750082,{"$f":"INDEX('Floor Space'!$I$5:$DK$50,MATCH(ACIM!AT50,'Floor Space'!$I$5:$I$50,0),MATCH(ACIM!AT$10,'Floor Space'!$I$5:$DK$5,0))*ACIM!BA50","v":15.82196978245927},298.13382443996011,2572.8400571861721,17.965529529761259,6.1876643972136325E-3,null,null,2025,4722.7697849547194,0,529.49128463622139,{"$f":"INDEX('Floor Space'!$I$5:$DK$50,MATCH(ACIM!BE50,'Floor Space'!$I$5:$I$50,0),MATCH(ACIM!BE$10,'Floor Space'!$I$5:$DK$5,0))*ACIM!BL50","v":29.222914454600634},558.71419909082204,4751.9926994093203,17.965529529761259,6.1876643972136325E-3,null,null,2025,1180.6924462386798,0,132.37282115905535,{"$f":"INDEX('Floor Space'!$I$5:$DK$50,MATCH(ACIM!BP50,'Floor Space'!$I$5:$I$50,0),MATCH(ACIM!BP$10,'Floor Space'!$I$5:$DK$5,0))*ACIM!BW50","v":7.3057286136501585},139.67854977270551,1187.9981748523301,17.965529529761259,6.1876643972136325E-3,null,null,2025,2279.583841396357,0,255.57455297993141,{"$f":"INDEX('Floor Space'!$I$5:$DK$50,MATCH(ACIM!CA50,'Floor Space'!$I$5:$I$50,0),MATCH(ACIM!CA$10,'Floor Space'!$I$5:$DK$5,0))*ACIM!CH50","v":14.105299775871735},269.67985275580315,2293.6891411722286,17.965529529761259,6.1876643972136325E-3,null,null,2025,5187.7292091512027,0,584.78171354071196,{"$f":"INDEX('Floor Space'!$I$5:$DK$50,MATCH(ACIM!CL50,'Floor Space'!$I$5:$I$50,0),MATCH(ACIM!CL$10,'Floor Space'!$I$5:$DK$5,0))*ACIM!CS50","v":35.77383097192299},620.55554451263492,5223.5030401231261,17.965529529761259,6.8958554946965123E-3,null,null,2025,2629.8183672149198,0,288.85356909884621,{"$f":"INDEX('Floor Space'!$I$5:$DK$50,MATCH(ACIM!CW50,'Floor Space'!$I$5:$I$50,0),MATCH(ACIM!CW$10,'Floor Space'!$I$5:$DK$5,0))*ACIM!DD50","v":22.266105233583193},311.11967433242938,2652.0844724485032,17.965529529761259,8.4667844407688708E-3,null,null,2025,9751.9049702646753,0,999.49531980044139,{"$f":"INDEX('Floor Space'!$I$5:$DK$50,MATCH(ACIM!DH50,'Floor Space'!$I$5:$I$50,0),MATCH(ACIM!DH$10,'Floor Space'!$I$5:$DK$5,0))*ACIM!DO50","v":237.73330522775117},1237.2286250281925,9989.6382754924271,17.965529529761259,2.4378140061110498E-2,null,null,2025,1001.7296466252534,0,108.67600546822675,{"$f":"INDEX('Floor Space'!$I$5:$DK$50,MATCH(ACIM!DS50,'Floor Space'!$I$5:$I$50,0),MATCH(ACIM!DS$10,'Floor Space'!$I$5:$DK$5,0))*ACIM!DZ50","v":4.0346560368287196},112.71066150505547,1005.7643026620821,17.965529529761259,4.027689557178471E-3,null,null,2025,444.95739138717124,0,46.449455149891371,{"$f":"INDEX('Floor Space'!$I$5:$DK$50,MATCH(ACIM!ED50,'Floor Space'!$I$5:$I$50,0),MATCH(ACIM!ED$10,'Floor Space'!$I$5:$DK$5,0))*ACIM!EK50","v":3.6410017077883605},50.090456857679733,448.59839309495959,17.965529529761259,8.1828098111538239E-3,null,null,2025,1011.6428878419717,0,104.39529446169044,{"$f":"INDEX('Floor Space'!$I$5:$DK$50,MATCH(ACIM!EO50,'Floor Space'!$I$5:$I$50,0),MATCH(ACIM!EO$10,'Floor Space'!$I$5:$DK$5,0))*ACIM!EV50","v":9.1350950897946444},113.53038955148509,1020.7779829317664,17.965529529761259,9.0299602750942842E-3,null,null,2025,3148.6465741735637,0,357.46809577614994,{"$f":"INDEX('Floor Space'!$I$5:$DK$50,MATCH(ACIM!EZ50,'Floor Space'!$I$5:$I$50,0),MATCH(ACIM!EZ$10,'Floor Space'!$I$5:$DK$5,0))*ACIM!FG50","v":11.744496857990852},369.21259263414078,3160.3910710315545,17.965529529761259,3.7300143351508552E-3,null,null,2025,1442.1211468177305,0,163.32546397275539,{"$f":"INDEX('Floor Space'!$I$5:$DK$50,MATCH(ACIM!FK50,'Floor Space'!$I$5:$I$50,0),MATCH(ACIM!FK$10,'Floor Space'!$I$5:$DK$5,0))*ACIM!FR50","v":10.429073659108994},173.75453763186437,1452.5502204768395,17.965529529761259,7.2317597464834904E-3,null,null,2025,3429.3604270272144,0,364.16217775006658,{"$f":"INDEX('Floor Space'!$I$5:$DK$50,MATCH(ACIM!FV50,'Floor Space'!$I$5:$I$50,0),MATCH(ACIM!FV$10,'Floor Space'!$I$5:$DK$5,0))*ACIM!GC50","v":47.188136554696115},411.35031430476272,3476.5485635819105,17.965529529761259,1.3760039972118498E-2,null,null,2025,4764.9783404925029,0,507.03183285362115,{"$f":"INDEX('Floor Space'!$I$5:$DK$50,MATCH(ACIM!GG50,'Floor Space'!$I$5:$I$50,0),MATCH(ACIM!GG$10,'Floor Space'!$I$5:$DK$5,0))*ACIM!GN50","v":66.552618405398491},573.5844512590196,4831.5309588979017,17.965529529761259,1.3967034821509738E-2,null,null,2025,8244.3409588054055,0,988.10146811357743,{"$f":"INDEX('Floor Space'!$I$5:$DK$50,MATCH(ACIM!GR50,'Floor Space'!$I$5:$I$50,0),MATCH(ACIM!GR$10,'Floor Space'!$I$5:$DK$5,0))*ACIM!GY50","v":43.515836995369234},1031.6173051089468,8287.8567958007752,17.965529529761259,5.2782675064999562E-3]
[null,2026,64227.592706883777,0,7020.7797588481853,710.29570248987727,7731.0754613380623,64937.888409373678,17.965529529761259,1.1059042890358528E-2,null,null,2026,5998.318806295094,0,628.09106419582588,{"$f":"INDEX('Floor Space'!$I$5:$DK$54,MATCH(ACIM!M51,'Floor Space'!$I$5:$I$54,0),MATCH(ACIM!M$10,'Floor Space'!$I$5:$DK$5,0))*ACIM!T51","v":94.096501904980599},722.18756610080652,6092.4153082000748,17.965529529761259,1.5687145839302419E-2,null,null,2026,2702.4884254147746,0,282.98076276210543,{"$f":"INDEX('Floor Space'!$I$5:$DK$50,MATCH(ACIM!X51,'Floor Space'!$I$5:$I$50,0),MATCH(ACIM!X$10,'Floor Space'!$I$5:$DK$5,0))*ACIM!AE51","v":42.394330058507911},325.37509282061336,2744.8827554732825,17.965529529761259,1.5687145839302197E-2,null,null,2026,3171.0213260120163,0,332.04139752497213,{"$f":"INDEX('Floor Space'!$I$5:$DK$50,MATCH(ACIM!AI51,'Floor Space'!$I$5:$I$50,0),MATCH(ACIM!AI$10,'Floor Space'!$I$5:$DK$5,0))*ACIM!AP51","v":49.744274000688122},381.78567152566023,3220.7656000127045,17.965529529761259,1.5687145839302197E-2,null,null,2026,2572.8400571861721,0,282.55426352172799,{"$f":"INDEX('Floor Space'!$I$5:$DK$50,MATCH(ACIM!AT51,'Floor Space'!$I$5:$I$50,0),MATCH(ACIM!AT$10,'Floor Space'!$I$5:$DK$5,0))*ACIM!BA51","v":14.374817327048985},296.92908084877695,2587.2148745132213,17.965529529761259,5.5871398950351203E-3,null,null,2026,4751.9926994093203,0,530.11489357294943,{"$f":"INDEX('Floor Space'!$I$5:$DK$50,MATCH(ACIM!BE51,'Floor Space'!$I$5:$I$50,0),MATCH(ACIM!BE$10,'Floor Space'!$I$5:$DK$5,0))*ACIM!BL51","v":26.550047991784858},556.66494156473425,4778.5427474011049,17.965529529761259,5.5871398950348983E-3,null,null,2026,1187.9981748523301,0,132.52872339323736,{"$f":"INDEX('Floor Space'!$I$5:$DK$50,MATCH(ACIM!BP51,'Floor Space'!$I$5:$I$50,0),MATCH(ACIM!BP$10,'Floor Space'!$I$5:$DK$5,0))*ACIM!BW51","v":6.6375119979462145},139.16623539118356,1194.6356868502762,17.965529529761259,5.5871398950348983E-3,null,null,2026,2293.6891411722286,0,255.87555618784643,{"$f":"INDEX('Floor Space'!$I$5:$DK$50,MATCH(ACIM!CA51,'Floor Space'!$I$5:$I$50,0),MATCH(ACIM!CA$10,'Floor Space'!$I$5:$DK$5,0))*ACIM!CH51","v":12.815162107451911},268.69071829529832,2306.5043032796807,17.965529529761259,5.5871398950351203E-3,null,null,2026,5223.5030401231261,0,604.9375593119413,{"$f":"INDEX('Floor Space'!$I$5:$DK$50,MATCH(ACIM!CL51,'Floor Space'!$I$5:$I$50,0),MATCH(ACIM!CL$10,'Floor Space'!$I$5:$DK$5,0))*ACIM!CS51","v":34.855101638157443},639.79266095009871,5258.3581417612832,17.965529529761259,6.6727445873824287E-3,null,null,2026,2652.0844724485032,0,299.06325670830699,{"$f":"INDEX('Floor Space'!$I$5:$DK$50,MATCH(ACIM!CW51,'Floor Space'!$I$5:$I$50,0),MATCH(ACIM!CW$10,'Floor Space'!$I$5:$DK$5,0))*ACIM!DD51","v":21.675354142141298},320.73861085044831,2673.7598265906445,17.965529529761259,8.172950133119139E-3,null,null,2026,9989.6382754924271,0,1006.9178793616803,{"$f":"INDEX('Floor Space'!$I$5:$DK$50,MATCH(ACIM!DH51,'Floor Space'!$I$5:$I$50,0),MATCH(ACIM!DH$10,'Floor Space'!$I$5:$DK$5,0))*ACIM!DO51","v":220.27095751753174},1227.188836879212,10209.909233009959,17.965529529761259,2.2049943295536778E-2,null,null,2026,1005.7643026620821,0,108.8020778555359,{"$f":"INDEX('Floor Space'!$I$5:$DK$50,MATCH(ACIM!DS51,'Floor Space'!$I$5:$I$50,0),MATCH(ACIM!DS$10,'Floor Space'!$I$5:$DK$5,0))*ACIM!DZ51","v":3.9155471270219797},112.71762498255788,1009.6798497891041,17.965529529761259,3.8931060852509525E-3,null,null,2026,448.59839309495959,0,46.897174928878933,{"$f":"INDEX('Floor Space'!$I$5:$DK$50,MATCH(ACIM!ED51,'Floor Space'!$I$5:$I$50,0),MATCH(ACIM!ED$10,'Floor Space'!$I$5:$DK$5,0))*ACIM!EK51","v":4.1541435665246702},51.051318495403606,452.75253666148427,17.965529529761259,9.2602729534194683E-3,null,null,2026,1020.7779829317664,0,104.19700561670437,{"$f":"INDEX('Floor Space'!$I$5:$DK$50,MATCH(ACIM!EO51,'Floor Space'!$I$5:$I$50,0),MATCH(ACIM!EO$10,'Floor Space'!$I$5:$DK$5,0))*ACIM!EV51","v":9.9596065025958911},114.15661211930026,1030.7375894343622,17.965529529761259,9.7568782527921449E-3,null,null,2026,3160.3910710315545,0,352.75406731864871,{"$f":"INDEX('Floor Space'!$I$5:$DK$50,MATCH(ACIM!EZ51,'Floor Space'!$I$5:$I$50,0),MATCH(ACIM!EZ$10,'Floor Space'!$I$5:$DK$5,0))*ACIM!FG51","v":11.997902411892062},364.75196973054079,3172.3889734434465,17.965529529761259,3.7963347390346236E-3,null,null,2026,1452.5502204768395,0,167.0134559893784,{"$f":"INDEX('Floor Space'!$I$5:$DK$50,MATCH(ACIM!FK51,'Floor Space'!$I$5:$I$50,0),MATCH(ACIM!FK$10,'Floor Space'!$I$5:$DK$5,0))*ACIM!FR51","v":8.2916666408489803},175.30512263022737,1460.8418871176884,17.965529529761259,5.7083510944819782E-3,null,null,2026,3476.5485635819105,0,377.69199174406845,{"$f":"INDEX('Floor Space'!$I$5:$DK$50,MATCH(ACIM!FV51,'Floor Space'!$I$5:$I$50,0),MATCH(ACIM!FV$10,'Floor Space'!$I$5:$DK$5,0))*ACIM!GC51","v":40.493662233342341},418.18565397741077,3517.042225815253,17.965529529761259,1.164766189591826E-2,null,null,2026,4831.5309588979017,0,511.92365049477371,{"$f":"INDEX('Floor Space'!$I$5:$DK$50,MATCH(ACIM!GG51,'Floor Space'!$I$5:$I$50,0),MATCH(ACIM!GG$10,'Floor Space'!$I$5:$DK$5,0))*ACIM!GN51","v":67.361545319612887},579.28519581438661,4898.8925042175142,17.965529529761259,1.3942070514017413E-2,null,null,2026,8287.8567958007752,0,996.39497835960367,{"$f":"INDEX('Floor Space'!$I$5:$DK$50,MATCH(ACIM!GR51,'Floor Space'!$I$5:$I$50,0),MATCH(ACIM!GR$10,'Floor Space'!$I$5:$DK$5,0))*ACIM!GY51","v":40.707570001799375},1037.102548361403,8328.5643658025747,17.965529529761259,4.9117125216768809E-3]
[null,2027,64937.888409373678,0,7135.6415354687015,735.11698170869499,7870.7585171773962,65673.005391082348,17.965529529761259,1.1320309294235553E-2,null,null,2027,6092.4153082000748,0,635.51398866900058,{"$f":"INDEX('Floor Space'!$I$5:$DK$54,MATCH(ACIM!M52,'Floor Space'!$I$5:$I$54,0),MATCH(ACIM!M$10,'Floor Space'!$I$5:$DK$5,0))*ACIM!T52","v":93.062367596077308},728.57635626507795,6185.4776757961517,17.965529529761259,1.5275118797436482E-2,null,null,2027,2744.8827554732825,0,286.32509441890727,{"$f":"INDEX('Floor Space'!$I$5:$DK$50,MATCH(ACIM!X52,'Floor Space'!$I$5:$I$50,0),MATCH(ACIM!X$10,'Floor Space'!$I$5:$DK$5,0))*ACIM!AE52","v":41.92841017488945},328.25350459379672,2786.8111656481719,17.965529529761259,1.5275118797436482E-2,null,null,2027,3220.7656000127045,0,335.96553903294114,{"$f":"INDEX('Floor Space'!$I$5:$DK$50,MATCH(ACIM!AI52,'Floor Space'!$I$5:$I$50,0),MATCH(ACIM!AI$10,'Floor Space'!$I$5:$DK$5,0))*ACIM!AP52","v":49.197577158891136},385.16311619183227,3269.9631771715958,17.965529529761259,1.5275118797436704E-2,null,null,2027,2587.2148745132213,0,285.69660176218133,{"$f":"INDEX('Floor Space'!$I$5:$DK$50,MATCH(ACIM!AT52,'Floor Space'!$I$5:$I$50,0),MATCH(ACIM!AT$10,'Floor Space'!$I$5:$DK$5,0))*ACIM!BA52","v":16.62301330573662},302.31961506791794,2603.8378878189578,17.965529529761259,6.4250609678735415E-3,null,null,2027,4778.5427474011049,0,536.08264855987954,{"$f":"INDEX('Floor Space'!$I$5:$DK$50,MATCH(ACIM!BE52,'Floor Space'!$I$5:$I$50,0),MATCH(ACIM!BE$10,'Floor Space'!$I$5:$DK$5,0))*ACIM!BL52","v":30.702428489641814},566.78507704952131,4809.2451758907464,17.965529529761259,6.4250609678735415E-3,null,null,2027,1194.6356868502762,0,134.02066213996989,{"$f":"INDEX('Floor Space'!$I$5:$DK$50,MATCH(ACIM!BP52,'Floor Space'!$I$5:$I$50,0),MATCH(ACIM!BP$10,'Floor Space'!$I$5:$DK$5,0))*ACIM!BW52","v":7.6756071224104536},141.69626926238033,1202.3112939726866,17.965529529761259,6.4250609678735415E-3,null,null,2027,2306.5043032796807,0,258.75606878046881,{"$f":"INDEX('Floor Space'!$I$5:$DK$50,MATCH(ACIM!CA52,'Floor Space'!$I$5:$I$50,0),MATCH(ACIM!CA$10,'Floor Space'!$I$5:$DK$5,0))*ACIM!CH52","v":14.819430771234519},273.57549955170333,2321.3237340509154,17.965529529761259,6.4250609678735415E-3,null,null,2027,5258.3581417612832,0,614.06057258833312,{"$f":"INDEX('Floor Space'!$I$5:$DK$50,MATCH(ACIM!CL52,'Floor Space'!$I$5:$I$50,0),MATCH(ACIM!CL$10,'Floor Space'!$I$5:$DK$5,0))*ACIM!CS52","v":35.175049764254041},649.23562235258714,5293.5331915255374,17.965529529761259,6.6893598374173635E-3,null,null,2027,2673.7598265906445,0,303.27313483802226,{"$f":"INDEX('Floor Space'!$I$5:$DK$50,MATCH(ACIM!CW52,'Floor Space'!$I$5:$I$50,0),MATCH(ACIM!CW$10,'Floor Space'!$I$5:$DK$5,0))*ACIM!DD52","v":22.532159054566602},325.80529389258885,2696.2919856452113,17.965529529761259,8.4271439904526346E-3,null,null,2027,10209.909233009959,0,1040.0630805814676,{"$f":"INDEX('Floor Space'!$I$5:$DK$50,MATCH(ACIM!DH52,'Floor Space'!$I$5:$I$50,0),MATCH(ACIM!DH$10,'Floor Space'!$I$5:$DK$5,0))*ACIM!DO52","v":224.59819492470336},1264.661275506171,10434.507427934663,17.965529529761259,2.1998059904249523E-2,null,null,2027,1009.6798497891041,0,108.9149159222561,{"$f":"INDEX('Floor Space'!$I$5:$DK$50,MATCH(ACIM!DS52,'Floor Space'!$I$5:$I$50,0),MATCH(ACIM!DS$10,'Floor Space'!$I$5:$DK$5,0))*ACIM!DZ52","v":4.0507462606810716},112.96566218293717,1013.7305960497852,17.965529529761259,4.0119115594188237E-3,null,null,2027,452.75253666148427,0,46.374475583269202,{"$f":"INDEX('Floor Space'!$I$5:$DK$50,MATCH(ACIM!ED52,'Floor Space'!$I$5:$I$50,0),MATCH(ACIM!ED$10,'Floor Space'!$I$5:$DK$5,0))*ACIM!EK52","v":3.6734406432699678},50.047916226539172,456.42597730475421,17.965529529761259,8.1135727484979991E-3,null,null,2027,1030.7375894343622,0,103.63184632969157,{"$f":"INDEX('Floor Space'!$I$5:$DK$50,MATCH(ACIM!EO52,'Floor Space'!$I$5:$I$50,0),MATCH(ACIM!EO$10,'Floor Space'!$I$5:$DK$5,0))*ACIM!EV52","v":11.061957589079238},114.69380391877081,1041.7995470234414,17.965529529761259,1.0732079340532774E-2,null,null,2027,3172.3889734434465,0,353.39935785205017,{"$f":"INDEX('Floor Space'!$I$5:$DK$50,MATCH(ACIM!EZ52,'Floor Space'!$I$5:$I$50,0),MATCH(ACIM!EZ$10,'Floor Space'!$I$5:$DK$5,0))*ACIM!FG52","v":14.803836767875094},368.20319461992528,3187.1928102113216,17.965529529761259,4.6664633157535995E-3,null,null,2027,1460.8418871176884,0,172.37887236270763,{"$f":"INDEX('Floor Space'!$I$5:$DK$50,MATCH(ACIM!FK52,'Floor Space'!$I$5:$I$50,0),MATCH(ACIM!FK$10,'Floor Space'!$I$5:$DK$5,0))*ACIM!FR52","v":10.026706582851277},182.40557894555891,1470.8685937005398,17.965529529761259,6.8636494279572524E-3,null,null,2027,3517.042225815253,0,388.45858762014728,{"$f":"INDEX('Floor Space'!$I$5:$DK$50,MATCH(ACIM!FV52,'Floor Space'!$I$5:$I$50,0),MATCH(ACIM!FV$10,'Floor Space'!$I$5:$DK$5,0))*ACIM!GC52","v":44.746329205809531},433.20491682595684,3561.7885550210626,17.965529529761259,1.2722715945054475E-2,null,null,2027,4898.8925042175142,0,527.77425059533243,{"$f":"INDEX('Floor Space'!$I$5:$DK$50,MATCH(ACIM!GG52,'Floor Space'!$I$5:$I$50,0),MATCH(ACIM!GG$10,'Floor Space'!$I$5:$DK$5,0))*ACIM!GN52","v":68.555947376531577},596.33019797186398,4967.4484515940458,17.965529529761259,1.3994172625243495E-2,null,null,2027,8328.5643658025747,0,1004.9518378320757,{"$f":"INDEX('Floor Space'!$I$5:$DK$50,MATCH(ACIM!GR52,'Floor Space'!$I$5:$I$50,0),MATCH(ACIM!GR$10,'Floor Space'!$I$5:$DK$5,0))*ACIM!GY52","v":41.883778920192036},1046.8356167522677,8370.4481447227663,17.965529529761259,5.0289314076947811E-3]
[null,2028,65673.005391082348,0,6885.6027974434073,765.16414181853906,7650.7669392619473,66438.169532900894,17.965529529761259,1.1651121145773713E-2,null,null,2028,6185.4776757961517,0,628.90003300238413,{"$f":"INDEX('Floor Space'!$I$5:$DK$54,MATCH(ACIM!M53,'Floor Space'!$I$5:$I$54,0),MATCH(ACIM!M$10,'Floor Space'!$I$5:$DK$5,0))*ACIM!T53","v":93.761019398400691},722.6610524007848,6279.2386951945527,17.965529529761259,1.5158250391120065E-2,null,null,2028,2786.8111656481719,0,283.34523635993258,{"$f":"INDEX('Floor Space'!$I$5:$DK$50,MATCH(ACIM!X53,'Floor Space'!$I$5:$I$50,0),MATCH(ACIM!X$10,'Floor Space'!$I$5:$DK$5,0))*ACIM!AE53","v":42.243181441663829},325.58841780159639,2829.0543470898356,17.965529529761259,1.5158250391119843E-2,null,null,2028,3269.9631771715958,0,332.46906024523008,{"$f":"INDEX('Floor Space'!$I$5:$DK$50,MATCH(ACIM!AI53,'Floor Space'!$I$5:$I$50,0),MATCH(ACIM!AI$10,'Floor Space'!$I$5:$DK$5,0))*ACIM!AP53","v":49.566920609309122},382.03598085453922,3319.5300977809047,17.965529529761259,1.5158250391119843E-2,null,null,2028,2603.8378878189578,0,266.91729326383415,{"$f":"INDEX('Floor Space'!$I$5:$DK$50,MATCH(ACIM!AT53,'Floor Space'!$I$5:$I$50,0),MATCH(ACIM!AT$10,'Floor Space'!$I$5:$DK$5,0))*ACIM!BA53","v":20.002854030259037},286.92014729409317,2623.840741849217,17.965529529761259,7.6820658167064959E-3,null,null,2028,4809.2451758907464,0,501.5569469276158,{"$f":"INDEX('Floor Space'!$I$5:$DK$50,MATCH(ACIM!BE53,'Floor Space'!$I$5:$I$50,0),MATCH(ACIM!BE$10,'Floor Space'!$I$5:$DK$5,0))*ACIM!BL53","v":36.944937969870516},538.50188489748632,4846.1901138606172,17.965529529761259,7.6820658167064959E-3,null,null,2028,1202.3112939726866,0,125.38923673190395,{"$f":"INDEX('Floor Space'!$I$5:$DK$50,MATCH(ACIM!BP53,'Floor Space'!$I$5:$I$50,0),MATCH(ACIM!BP$10,'Floor Space'!$I$5:$DK$5,0))*ACIM!BW53","v":9.236234492467629},134.62547122437158,1211.5475284651543,17.965529529761259,7.6820658167064959E-3,null,null,2028,2321.3237340509154,0,242.09122269703116,{"$f":"INDEX('Floor Space'!$I$5:$DK$50,MATCH(ACIM!CA53,'Floor Space'!$I$5:$I$50,0),MATCH(ACIM!CA$10,'Floor Space'!$I$5:$DK$5,0))*ACIM!CH53","v":17.83256170686181},259.92378440389297,2339.1562957577771,17.965529529761259,7.6820658167062739E-3,null,null,2028,5293.5331915255374,0,541.06724922790454,{"$f":"INDEX('Floor Space'!$I$5:$DK$50,MATCH(ACIM!CL53,'Floor Space'!$I$5:$I$50,0),MATCH(ACIM!CL$10,'Floor Space'!$I$5:$DK$5,0))*ACIM!CS53","v":35.43048181226284},576.49773104016742,5328.9636733378002,17.965529529761259,6.6931632485054404E-3,null,null,2028,2696.2919856452113,0,279.31845774064499,{"$f":"INDEX('Floor Space'!$I$5:$DK$50,MATCH(ACIM!CW53,'Floor Space'!$I$5:$I$50,0),MATCH(ACIM!CW$10,'Floor Space'!$I$5:$DK$5,0))*ACIM!DD53","v":23.056234720439544},302.37469246108452,2719.3482203656508,17.965529529761259,8.5510897347871317E-3,null,null,2028,10434.507427934663,0,1050.9011459967032,{"$f":"INDEX('Floor Space'!$I$5:$DK$50,MATCH(ACIM!DH53,'Floor Space'!$I$5:$I$50,0),MATCH(ACIM!DH$10,'Floor Space'!$I$5:$DK$5,0))*ACIM!DO53","v":225.97526816009491},1276.8764141567981,10660.482696094758,17.965529529761259,2.1656534313745146E-2,null,null,2028,1013.7305960497852,0,115.21701191590046,{"$f":"INDEX('Floor Space'!$I$5:$DK$50,MATCH(ACIM!DS53,'Floor Space'!$I$5:$I$50,0),MATCH(ACIM!DS$10,'Floor Space'!$I$5:$DK$5,0))*ACIM!DZ53","v":4.067155253145275},119.28416716904573,1017.7977513029305,17.965529529761259,4.0120671793806295E-3,null,null,2028,456.42597730475421,0,47.529424010533532,{"$f":"INDEX('Floor Space'!$I$5:$DK$50,MATCH(ACIM!ED53,'Floor Space'!$I$5:$I$50,0),MATCH(ACIM!ED$10,'Floor Space'!$I$5:$DK$5,0))*ACIM!EK53","v":4.6829028440186846},52.212326854552217,461.10888014877287,17.965529529761259,1.0259939348044478E-2,null,null,2028,1041.7995470234414,0,116.14300157956035,{"$f":"INDEX('Floor Space'!$I$5:$DK$50,MATCH(ACIM!EO53,'Floor Space'!$I$5:$I$50,0),MATCH(ACIM!EO$10,'Floor Space'!$I$5:$DK$5,0))*ACIM!EV53","v":11.667448959430358},127.81045053899071,1053.4669959828718,17.965529529761259,1.1199322357900776E-2,null,null,2028,3187.1928102113216,0,340.9561144591728,{"$f":"INDEX('Floor Space'!$I$5:$DK$50,MATCH(ACIM!EZ53,'Floor Space'!$I$5:$I$50,0),MATCH(ACIM!EZ$10,'Floor Space'!$I$5:$DK$5,0))*ACIM!FG53","v":16.533290171694951},357.48940463086774,3203.7261003830167,17.965529529761259,5.1874144917511966E-3,null,null,2028,1470.8685937005398,0,154.26713691307714,{"$f":"INDEX('Floor Space'!$I$5:$DK$50,MATCH(ACIM!FK53,'Floor Space'!$I$5:$I$50,0),MATCH(ACIM!FK$10,'Floor Space'!$I$5:$DK$5,0))*ACIM!FR53","v":11.490151479949549},165.7572883930267,1482.3587451804894,17.965529529761259,7.8118137331641968E-3,null,null,2028,3561.7885550210626,0,370.74139128188932,{"$f":"INDEX('Floor Space'!$I$5:$DK$50,MATCH(ACIM!FV53,'Floor Space'!$I$5:$I$50,0),MATCH(ACIM!FV$10,'Floor Space'!$I$5:$DK$5,0))*ACIM!GC53","v":48.128636179156437},418.87002746104577,3609.9171912002189,17.965529529761259,1.3512491108240932E-2,null,null,2028,4967.4484515940458,0,587.94318541104792,{"$f":"INDEX('Floor Space'!$I$5:$DK$50,MATCH(ACIM!GG53,'Floor Space'!$I$5:$I$50,0),MATCH(ACIM!GG$10,'Floor Space'!$I$5:$DK$5,0))*ACIM!GN53","v":71.319142582191873},659.26232799323975,5038.7675941762373,17.965529529761259,1.4357298978976862E-2,null,null,2028,8370.4481447227663,0,900.84964967904068,{"$f":"INDEX('Floor Space'!$I$5:$DK$50,MATCH(ACIM!GR53,'Floor Space'!$I$5:$I$50,0),MATCH(ACIM!GR$10,'Floor Space'!$I$5:$DK$5,0))*ACIM!GY53","v":43.225720007322153},944.07536968636282,8413.6738647300881,17.965529529761259,5.1640867083770914E-3]
[null,2029,66438.169532900894,0,7034.79822414515,769.56740168004819,7804.3656258251976,67207.736934580942,17.965529529761259,1.158321198628065E-2,null,null,2029,6279.2386951945527,0,670.64668719817746,{"$f":"INDEX('Floor Space'!$I$5:$DK$54,MATCH(ACIM!M54,'Floor Space'!$I$5:$I$54,0),MATCH(ACIM!M$10,'Floor Space'!$I$5:$DK$5,0))*ACIM!T54","v":98.126995642500788},768.77368284067825,6377.365690837054,17.965529529761259,1.5627212215646002E-2,null,null,2029,2829.0543470898356,0,302.15381479786481,{"$f":"INDEX('Floor Space'!$I$5:$DK$50,MATCH(ACIM!X54,'Floor Space'!$I$5:$I$50,0),MATCH(ACIM!X$10,'Floor Space'!$I$5:$DK$5,0))*ACIM!AE54","v":44.210232651568454},346.36404744943326,2873.2645797414038,17.965529529761259,1.562721221564578E-2,null,null,2029,3319.5300977809047,0,354.53849920295602,{"$f":"INDEX('Floor Space'!$I$5:$DK$50,MATCH(ACIM!AI54,'Floor Space'!$I$5:$I$50,0),MATCH(ACIM!AI$10,'Floor Space'!$I$5:$DK$5,0))*ACIM!AP54","v":51.875001294245997},406.41350049720199,3371.4050990751507,17.965529529761259,1.5627212215646002E-2,null,null,2029,2623.840741849217,0,264.62222376076812,{"$f":"INDEX('Floor Space'!$I$5:$DK$50,MATCH(ACIM!AT54,'Floor Space'!$I$5:$I$50,0),MATCH(ACIM!AT$10,'Floor Space'!$I$5:$DK$5,0))*ACIM!BA54","v":21.224357762703292},285.8465815234714,2645.0650996119202,17.965529529761259,8.0890419239945111E-3,null,null,2029,4846.1901138606172,0,496.09846901848999,{"$f":"INDEX('Floor Space'!$I$5:$DK$50,MATCH(ACIM!BE54,'Floor Space'!$I$5:$I$50,0),MATCH(ACIM!BE$10,'Floor Space'!$I$5:$DK$5,0))*ACIM!BL54","v":39.20103500266648},535.29950402115651,4885.3911488632839,17.965529529761259,8.0890419239945111E-3,null,null,2029,1211.5475284651543,0,124.0246172546225,{"$f":"INDEX('Floor Space'!$I$5:$DK$50,MATCH(ACIM!BP54,'Floor Space'!$I$5:$I$50,0),MATCH(ACIM!BP$10,'Floor Space'!$I$5:$DK$5,0))*ACIM!BW54","v":9.8002587506666199},133.82487600528913,1221.347787215821,17.965529529761259,8.0890419239945111E-3,null,null,2029,2339.1562957577771,0,239.4565276754991,{"$f":"INDEX('Floor Space'!$I$5:$DK$50,MATCH(ACIM!CA54,'Floor Space'!$I$5:$I$50,0),MATCH(ACIM!CA$10,'Floor Space'!$I$5:$DK$5,0))*ACIM!CH54","v":18.921533343160462},258.37806101865954,2358.0778291009374,17.965529529761259,8.0890419239945111E-3,null,null,2029,5328.9636733378002,0,603.27862429072343,{"$f":"INDEX('Floor Space'!$I$5:$DK$50,MATCH(ACIM!CL54,'Floor Space'!$I$5:$I$50,0),MATCH(ACIM!CL$10,'Floor Space'!$I$5:$DK$5,0))*ACIM!CS54","v":35.015940884066346},638.2945651747898,5363.9796142218665,17.965529529761259,6.5708725055231287E-3,null,null,2029,2719.3482203656508,0,312.77190635908062,{"$f":"INDEX('Floor Space'!$I$5:$DK$50,MATCH(ACIM!CW54,'Floor Space'!$I$5:$I$50,0),MATCH(ACIM!CW$10,'Floor Space'!$I$5:$DK$5,0))*ACIM!DD54","v":22.104801125949351},334.87670748502995,2741.4530214916003,17.965529529761259,8.1287129615850162E-3,null,null,2029,10660.482696094758,0,1107.6151080129446,{"$f":"INDEX('Floor Space'!$I$5:$DK$50,MATCH(ACIM!DH54,'Floor Space'!$I$5:$I$50,0),MATCH(ACIM!DH$10,'Floor Space'!$I$5:$DK$5,0))*ACIM!DO54","v":228.68272621164496},1336.2978342245895,10889.165422306403,17.965529529761259,2.1451441996657383E-2,null,null,2029,1017.7977513029305,0,116.70981751438445,{"$f":"INDEX('Floor Space'!$I$5:$DK$50,MATCH(ACIM!DS54,'Floor Space'!$I$5:$I$50,0),MATCH(ACIM!DS$10,'Floor Space'!$I$5:$DK$5,0))*ACIM!DZ54","v":3.8360328410799247},120.54585035546438,1021.6337841440104,17.965529529761259,3.7689539362504298E-3,null,null,2029,461.10888014877287,0,52.674246294055273,{"$f":"INDEX('Floor Space'!$I$5:$DK$50,MATCH(ACIM!ED54,'Floor Space'!$I$5:$I$50,0),MATCH(ACIM!ED$10,'Floor Space'!$I$5:$DK$5,0))*ACIM!EK54","v":4.6838912728368038},57.358137566892076,465.7927714216097,17.965529529761259,1.0157885641511877E-2,null,null,2029,1053.4669959828718,0,131.13373844505364,{"$f":"INDEX('Floor Space'!$I$5:$DK$50,MATCH(ACIM!EO54,'Floor Space'!$I$5:$I$50,0),MATCH(ACIM!EO$10,'Floor Space'!$I$5:$DK$5,0))*ACIM!EV54","v":12.971123305987147},144.10486175104077,1066.4381192888591,17.965529529761259,1.2312795137815691E-2,null,null,2029,3203.7261003830167,0,339.52955858360195,{"$f":"INDEX('Floor Space'!$I$5:$DK$50,MATCH(ACIM!EZ54,'Floor Space'!$I$5:$I$50,0),MATCH(ACIM!EZ$10,'Floor Space'!$I$5:$DK$5,0))*ACIM!FG54","v":20.276781830485756},359.80634041408769,3224.0028822135023,17.965529529761259,6.3291246489709518E-3,null,null,2029,1482.3587451804894,0,152.26116748369986,{"$f":"INDEX('Floor Space'!$I$5:$DK$50,MATCH(ACIM!FK54,'Floor Space'!$I$5:$I$50,0),MATCH(ACIM!FK$10,'Floor Space'!$I$5:$DK$5,0))*ACIM!FR54","v":10.700062995663636},162.96123047936351,1493.058808176153,17.965529529761259,7.2182682029247047E-3,null,null,2029,3609.9171912002189,0,381.72927553218176,{"$f":"INDEX('Floor Space'!$I$5:$DK$50,MATCH(ACIM!FV54,'Floor Space'!$I$5:$I$50,0),MATCH(ACIM!FV$10,'Floor Space'!$I$5:$DK$5,0))*ACIM!GC54","v":47.463760247759041},429.19303577994083,3657.3809514479781,17.965529529761259,1.314815762629129E-2,null,null,2029,5038.7675941762373,0,545.01348819955558,{"$f":"INDEX('Floor Space'!$I$5:$DK$50,MATCH(ACIM!GG54,'Floor Space'!$I$5:$I$50,0),MATCH(ACIM!GG$10,'Floor Space'!$I$5:$DK$5,0))*ACIM!GN54","v":56.907144783017408},601.92063298257301,5095.6747389592547,17.965529529761259,1.1293861786519033E-2,null,null,2029,8413.6738647300881,0,840.54045452149091,{"$f":"INDEX('Floor Space'!$I$5:$DK$50,MATCH(ACIM!GR54,'Floor Space'!$I$5:$I$50,0),MATCH(ACIM!GR$10,'Floor Space'!$I$5:$DK$5,0))*ACIM!GY54","v":43.56572173404556},884.10617625553652,8457.239586464133,17.965529529761259,5.177966538098433E-3]
[null,2030,67207.736934580942,0,7237.3133677350979,752.13847676902697,7989.4518445041249,67959.87541134996,17.965529529761259,1.1191248375185481E-2,null,null,2030,6377.365690837054,0,658.0723279724441,{"$f":"INDEX('Floor Space'!$I$5:$DK$54,MATCH(ACIM!M55,'Floor Space'!$I$5:$I$54,0),MATCH(ACIM!M$10,'Floor Space'!$I$5:$DK$5,0))*ACIM!T55","v":107.57613346415157},765.64846143659565,6484.941824301206,17.965529529761259,1.6868427918241613E-2,null,null,2030,2873.2645797414038,0,296.48855068604587,{"$f":"INDEX('Floor Space'!$I$5:$DK$50,MATCH(ACIM!X55,'Floor Space'!$I$5:$I$50,0),MATCH(ACIM!X$10,'Floor Space'!$I$5:$DK$5,0))*ACIM!AE55","v":48.467456453404495},344.95600713945038,2921.7320361948082,17.965529529761259,1.6868427918241613E-2,null,null,2030,3371.4050990751507,0,347.89104304842652,{"$f":"INDEX('Floor Space'!$I$5:$DK$50,MATCH(ACIM!AI55,'Floor Space'!$I$5:$I$50,0),MATCH(ACIM!AI$10,'Floor Space'!$I$5:$DK$5,0))*ACIM!AP55","v":56.870303896941181},404.76134694536768,3428.2754029720918,17.965529529761259,1.6868427918241613E-2,null,null,2030,2645.0650996119202,0,283.9668207967436,{"$f":"INDEX('Floor Space'!$I$5:$DK$50,MATCH(ACIM!AT55,'Floor Space'!$I$5:$I$50,0),MATCH(ACIM!AT$10,'Floor Space'!$I$5:$DK$5,0))*ACIM!BA55","v":15.989414370439262},299.95623516718285,2661.0545139823594,17.965529529761259,6.0449984285018132E-3,null,null,2030,4885.3911488632839,0,531.94465004769972,{"$f":"INDEX('Floor Space'!$I$5:$DK$50,MATCH(ACIM!BE55,'Floor Space'!$I$5:$I$50,0),MATCH(ACIM!BE$10,'Floor Space'!$I$5:$DK$5,0))*ACIM!BL55","v":29.532181817495612},561.47683186519532,4914.9233306807791,17.965529529761259,6.0449984285018132E-3,null,null,2030,1221.347787215821,0,132.98616251192493,{"$f":"INDEX('Floor Space'!$I$5:$DK$50,MATCH(ACIM!BP55,'Floor Space'!$I$5:$I$50,0),MATCH(ACIM!BP$10,'Floor Space'!$I$5:$DK$5,0))*ACIM!BW55","v":7.383045454373903},140.36920796629883,1228.7308326701948,17.965529529761259,6.0449984285018132E-3,null,null,2030,2358.0778291009374,0,256.75874200537646,{"$f":"INDEX('Floor Space'!$I$5:$DK$50,MATCH(ACIM!CA55,'Floor Space'!$I$5:$I$50,0),MATCH(ACIM!CA$10,'Floor Space'!$I$5:$DK$5,0))*ACIM!CH55","v":14.254576771200318},271.0133187765768,2372.3324058721378,17.965529529761259,6.0449984285018132E-3,null,null,2030,5363.9796142218665,0,619.99578388951204,{"$f":"INDEX('Floor Space'!$I$5:$DK$50,MATCH(ACIM!CL55,'Floor Space'!$I$5:$I$50,0),MATCH(ACIM!CL$10,'Floor Space'!$I$5:$DK$5,0))*ACIM!CS55","v":32.355859494857775},652.35164338436982,5396.3354737167247,17.965529529761259,6.0320623533078876E-3,null,null,2030,2741.4530214916003,0,322.71185080835306,{"$f":"INDEX('Floor Space'!$I$5:$DK$50,MATCH(ACIM!CW55,'Floor Space'!$I$5:$I$50,0),MATCH(ACIM!CW$10,'Floor Space'!$I$5:$DK$5,0))*ACIM!DD55","v":21.241129591855266},343.95298040020833,2762.6941510834554,17.965529529761259,7.7481282463480738E-3,null,null,2030,10889.165422306403,0,1146.5189405293445,{"$f":"INDEX('Floor Space'!$I$5:$DK$50,MATCH(ACIM!DH55,'Floor Space'!$I$5:$I$50,0),MATCH(ACIM!DH$10,'Floor Space'!$I$5:$DK$5,0))*ACIM!DO55","v":225.94663600188954},1372.4655765312341,11115.112058308292,17.965529529761259,2.0749674308284227E-2,null,null,2030,1021.6337841440104,0,121.04938395934455,{"$f":"INDEX('Floor Space'!$I$5:$DK$50,MATCH(ACIM!DS55,'Floor Space'!$I$5:$I$50,0),MATCH(ACIM!DS$10,'Floor Space'!$I$5:$DK$5,0))*ACIM!DZ55","v":3.9069334909922873},124.95631745033684,1025.5407176350027,17.965529529761259,3.8242015403453511E-3,null,null,2030,465.7927714216097,0,54.407657069307845,{"$f":"INDEX('Floor Space'!$I$5:$DK$50,MATCH(ACIM!ED55,'Floor Space'!$I$5:$I$50,0),MATCH(ACIM!ED$10,'Floor Space'!$I$5:$DK$5,0))*ACIM!EK55","v":3.5147918330175902},57.922448902325435,469.30756325462727,17.965529529761259,7.5458273478361537E-3,null,null,2030,1066.4381192888591,0,133.99293588479597,{"$f":"INDEX('Floor Space'!$I$5:$DK$50,MATCH(ACIM!EO55,'Floor Space'!$I$5:$I$50,0),MATCH(ACIM!EO$10,'Floor Space'!$I$5:$DK$5,0))*ACIM!EV55","v":9.8762300269913137},143.86916591178729,1076.3143493158504,17.965529529761259,9.260949930763207E-3,null,null,2030,3224.0028822135023,0,356.38996401237767,{"$f":"INDEX('Floor Space'!$I$5:$DK$50,MATCH(ACIM!EZ55,'Floor Space'!$I$5:$I$50,0),MATCH(ACIM!EZ$10,'Floor Space'!$I$5:$DK$5,0))*ACIM!FG55","v":12.135880088147699},368.52584410052538,3236.1387623016499,17.965529529761259,3.7642274314020341E-3,null,null,2030,1493.058808176153,0,155.41028511808096,{"$f":"INDEX('Floor Space'!$I$5:$DK$50,MATCH(ACIM!FK55,'Floor Space'!$I$5:$I$50,0),MATCH(ACIM!FK$10,'Floor Space'!$I$5:$DK$5,0))*ACIM!FR55","v":11.504538512180142},166.91482363026111,1504.563346688333,17.965529529761259,7.7053485429909863E-3,null,null,2030,3657.3809514479781,0,398.73239644238316,{"$f":"INDEX('Floor Space'!$I$5:$DK$50,MATCH(ACIM!FV55,'Floor Space'!$I$5:$I$50,0),MATCH(ACIM!FV$10,'Floor Space'!$I$5:$DK$5,0))*ACIM!GC55","v":43.275059449486406},442.00745589186954,3700.6560108974645,17.965529529761259,1.1832253742217747E-2,null,null,2030,5095.6747389592547,0,528.6825441029182,{"$f":"INDEX('Floor Space'!$I$5:$DK$50,MATCH(ACIM!GG55,'Floor Space'!$I$5:$I$50,0),MATCH(ACIM!GG$10,'Floor Space'!$I$5:$DK$5,0))*ACIM!GN55","v":65.479722014469175},594.16226611738739,5161.1544609737239,17.965529529761259,1.2850059191148899E-2,null,null,2030,8457.239586464133,0,891.31332885001973,{"$f":"INDEX('Floor Space'!$I$5:$DK$50,MATCH(ACIM!GR55,'Floor Space'!$I$5:$I$50,0),MATCH(ACIM!GR$10,'Floor Space'!$I$5:$DK$5,0))*ACIM!GY55","v":42.82858403713324},934.14191288715301,8500.0681705012666,17.965529529761259,5.0641327585989604E-3]
[null,2031,{"$f":"SUM(N56,Y56,AJ56,AU56,BF56,BQ56,CB56,CM56,CX56,DI56,DT56,EE56,EP56,FA56,FL56,FW56,GH56,GS56)","v":67959.87541134996},0,7313.3310268647228,752.13847676902697,8065.4695036337498,68712.013888118992,17.965529529761259,1.1067390459686077E-2,null,null,2031,6484.941824301206,0,679.0738116079475,{"$f":"INDEX('Floor Space'!$I$5:$DK$54,MATCH(ACIM!M56,'Floor Space'!$I$5:$I$54,0),MATCH(ACIM!M$10,'Floor Space'!$I$5:$DK$5,0))*ACIM!T56","v":107.57613346415157},786.64994507209906,6592.517957765358,17.965529529761259,1.6588604243299221E-2,null,null,2031,2921.7320361948082,0,305.95057967688933,{"$f":"INDEX('Floor Space'!$I$5:$DK$54,MATCH(ACIM!X56,'Floor Space'!$I$5:$I$54,0),MATCH(ACIM!X$10,'Floor Space'!$I$5:$DK$5,0))*ACIM!AE56","v":48.467456453404495},354.41803613029384,2970.1994926482125,17.965529529761259,1.6588604243299221E-2,null,null,2031,3428.2754029720918,0,358.99351269645229,{"$f":"INDEX('Floor Space'!$I$5:$DK$54,MATCH(ACIM!AI56,'Floor Space'!$I$5:$I$54,0),MATCH(ACIM!AI$10,'Floor Space'!$I$5:$DK$5,0))*ACIM!AP56","v":56.870303896941181},415.86381659339349,3485.1457068690329,17.965529529761259,1.6588604243299221E-2,null,null,2031,2661.0545139823594,0,288.47342008136513,{"$f":"INDEX('Floor Space'!$I$5:$DK$54,MATCH(ACIM!AT56,'Floor Space'!$I$5:$I$54,0),MATCH(ACIM!AT$10,'Floor Space'!$I$5:$DK$5,0))*ACIM!BA56","v":15.989414370439262},304.46283445180438,2677.0439283527985,17.965529529761259,6.0086759915753962E-3,null,null,2031,4914.9233306807791,0,540.37915881535378,{"$f":"INDEX('Floor Space'!$I$5:$DK$54,MATCH(ACIM!BE56,'Floor Space'!$I$5:$I$54,0),MATCH(ACIM!BE$10,'Floor Space'!$I$5:$DK$5,0))*ACIM!BL56","v":29.532181817495612},569.91134063284937,4944.4555124982744,17.965529529761259,6.0086759915753962E-3,null,null,2031,1228.7308326701948,0,135.09478970383844,{"$f":"INDEX('Floor Space'!$I$5:$DK$54,MATCH(ACIM!BP56,'Floor Space'!$I$5:$I$54,0),MATCH(ACIM!BP$10,'Floor Space'!$I$5:$DK$5,0))*ACIM!BW56","v":7.383045454373903},142.47783515821234,1236.1138781245686,17.965529529761259,6.0086759915753962E-3,null,null,2031,2372.3324058721378,0,260.82990591391842,{"$f":"INDEX('Floor Space'!$I$5:$DK$54,MATCH(ACIM!CA56,'Floor Space'!$I$5:$I$54,0),MATCH(ACIM!CA$10,'Floor Space'!$I$5:$DK$5,0))*ACIM!CH56","v":14.254576771200318},275.08448268511876,2386.5869826433382,17.965529529761259,6.0086759915753962E-3,null,null,2031,5396.3354737167247,0,587.39068570337406,{"$f":"INDEX('Floor Space'!$I$5:$DK$54,MATCH(ACIM!CL56,'Floor Space'!$I$5:$I$54,0),MATCH(ACIM!CL$10,'Floor Space'!$I$5:$DK$5,0))*ACIM!CS56","v":32.355859494857775},619.74654519823184,5428.6913332115828,17.965529529761259,5.9958947423579545E-3,null,null,2031,2762.6941510834554,0,298.29224953765345,{"$f":"INDEX('Floor Space'!$I$5:$DK$54,MATCH(ACIM!CW56,'Floor Space'!$I$5:$I$54,0),MATCH(ACIM!CW$10,'Floor Space'!$I$5:$DK$5,0))*ACIM!DD56","v":21.241129591855266},319.53337912950872,2783.9352806753104,17.965529529761259,7.6885563259054823E-3,null,null,2031,11115.112058308292,0,1151.9832781383575,{"$f":"INDEX('Floor Space'!$I$5:$DK$54,MATCH(ACIM!DH56,'Floor Space'!$I$5:$I$54,0),MATCH(ACIM!DH$10,'Floor Space'!$I$5:$DK$5,0))*ACIM!DO56","v":225.94663600188954},1377.9299141402471,11341.058694310181,17.965529529761259,2.0327877471374656E-2,null,null,2031,1025.5407176350027,0,123.10355910200703,{"$f":"INDEX('Floor Space'!$I$5:$DK$54,MATCH(ACIM!DS56,'Floor Space'!$I$5:$I$54,0),MATCH(ACIM!DS$10,'Floor Space'!$I$5:$DK$5,0))*ACIM!DZ56","v":3.9069334909922873},127.01049259299931,1029.447651125995,17.965529529761259,3.8096327369643301E-3,null,null,2031,469.30756325462727,0,55.250808532471879,{"$f":"INDEX('Floor Space'!$I$5:$DK$54,MATCH(ACIM!ED56,'Floor Space'!$I$5:$I$54,0),MATCH(ACIM!ED$10,'Floor Space'!$I$5:$DK$5,0))*ACIM!EK56","v":3.5147918330175902},58.765600365489469,472.82235508764484,17.965529529761259,7.4893142753604813E-3,null,null,2031,1076.3143493158504,0,136.02023419549352,{"$f":"INDEX('Floor Space'!$I$5:$DK$54,MATCH(ACIM!EO56,'Floor Space'!$I$5:$I$54,0),MATCH(ACIM!EO$10,'Floor Space'!$I$5:$DK$5,0))*ACIM!EV56","v":9.8762300269913137},145.89646422248484,1086.1905793428418,17.965529529761259,9.1759717161339349E-3,null,null,2031,3236.1387623016499,0,358.28513478331661,{"$f":"INDEX('Floor Space'!$I$5:$DK$54,MATCH(ACIM!EZ56,'Floor Space'!$I$5:$I$54,0),MATCH(ACIM!EZ$10,'Floor Space'!$I$5:$DK$5,0))*ACIM!FG56","v":12.135880088147699},370.42101487146431,3248.2746423897975,17.965529529761259,3.7501111601023762E-3,null,null,2031,1504.563346688333,0,159.64888744588771,{"$f":"INDEX('Floor Space'!$I$5:$DK$54,MATCH(ACIM!FK56,'Floor Space'!$I$5:$I$54,0),MATCH(ACIM!FK$10,'Floor Space'!$I$5:$DK$5,0))*ACIM!FR56","v":11.504538512180142},171.15342595806786,1516.067885200513,17.965529529761259,7.6464301337011431E-3,null,null,2031,3700.6560108974645,0,407.93600473642414,{"$f":"INDEX('Floor Space'!$I$5:$DK$54,MATCH(ACIM!FV56,'Floor Space'!$I$5:$I$54,0),MATCH(ACIM!FV$10,'Floor Space'!$I$5:$DK$5,0))*ACIM!GC56","v":43.275059449486406},451.21106418591057,3743.9310703469509,17.965529529761259,1.1693888684074505E-2,null,null,2031,5161.1544609737239,0,564.96183333891736,{"$f":"INDEX('Floor Space'!$I$5:$DK$54,MATCH(ACIM!GG56,'Floor Space'!$I$5:$I$54,0),MATCH(ACIM!GG$10,'Floor Space'!$I$5:$DK$5,0))*ACIM!GN56","v":65.479722014469175},630.44155535338655,5226.6341829881931,17.965529529761259,1.268703010336103E-2,null,null,2031,8500.0681705012666,0,901.66317285505465,{"$f":"INDEX('Floor Space'!$I$5:$DK$54,MATCH(ACIM!GR56,'Floor Space'!$I$5:$I$54,0),MATCH(ACIM!GR$10,'Floor Space'!$I$5:$DK$5,0))*ACIM!GY56","v":42.82858403713324},944.49175689218794,8542.8967545384003,17.965529529761259,5.0386165355433832E-3]
[null,2032,68712.013888118992,0,7455.9154375735907,752.13847676902697,8208.0539143426176,69464.152364888025,17.965529529761259,1.0946244102140623E-2,null,null,2032,6592.517957765358,0,664.09554430828666,{"$f":"INDEX('Floor Space'!$I$5:$DK$54,MATCH(ACIM!M57,'Floor Space'!$I$5:$I$54,0),MATCH(ACIM!M$10,'Floor Space'!$I$5:$DK$5,0))*ACIM!T57","v":107.57613346415157},771.67167777243822,6700.09409122951,17.965529529761259,1.6317912845036364E-2,null,null,2032,2970.1994926482125,0,299.20225646878964,{"$f":"INDEX('Floor Space'!$I$5:$DK$54,MATCH(ACIM!X57,'Floor Space'!$I$5:$I$54,0),MATCH(ACIM!X$10,'Floor Space'!$I$5:$DK$5,0))*ACIM!AE57","v":48.467456453404495},347.66971292219415,3018.6669491016169,17.965529529761259,1.6317912845036142E-2,null,null,2032,3485.1457068690329,0,351.07522649531103,{"$f":"INDEX('Floor Space'!$I$5:$DK$54,MATCH(ACIM!AI57,'Floor Space'!$I$5:$I$54,0),MATCH(ACIM!AI$10,'Floor Space'!$I$5:$DK$5,0))*ACIM!AP57","v":56.870303896941181},407.94553039225218,3542.016010765974,17.965529529761259,1.6317912845036142E-2,null,null,2032,2677.0439283527985,0,300.92728611680923,{"$f":"INDEX('Floor Space'!$I$5:$DK$54,MATCH(ACIM!AT57,'Floor Space'!$I$5:$I$54,0),MATCH(ACIM!AT$10,'Floor Space'!$I$5:$DK$5,0))*ACIM!BA57","v":15.989414370439262},316.91670048724848,2693.0333427232376,17.965529529761259,5.9727874470396625E-3,null,null,2032,4944.4555124982744,0,563.50109164118521,{"$f":"INDEX('Floor Space'!$I$5:$DK$54,MATCH(ACIM!BE57,'Floor Space'!$I$5:$I$54,0),MATCH(ACIM!BE$10,'Floor Space'!$I$5:$DK$5,0))*ACIM!BL57","v":29.532181817495612},593.03327345868081,4973.9876943157697,17.965529529761259,5.9727874470396625E-3,null,null,2032,1236.1138781245686,0,140.8752729102963,{"$f":"INDEX('Floor Space'!$I$5:$DK$54,MATCH(ACIM!BP57,'Floor Space'!$I$5:$I$54,0),MATCH(ACIM!BP$10,'Floor Space'!$I$5:$DK$5,0))*ACIM!BW57","v":7.383045454373903},148.2583183646702,1243.4969235789424,17.965529529761259,5.9727874470396625E-3,null,null,2032,2386.5869826433382,0,271.99038733724115,{"$f":"INDEX('Floor Space'!$I$5:$DK$54,MATCH(ACIM!CA57,'Floor Space'!$I$5:$I$54,0),MATCH(ACIM!CA$10,'Floor Space'!$I$5:$DK$5,0))*ACIM!CH57","v":14.254576771200318},286.24496410844148,2400.8415594145386,17.965529529761259,5.9727874470396625E-3,null,null,2032,5428.6913332115828,0,601.85380206168952,{"$f":"INDEX('Floor Space'!$I$5:$DK$54,MATCH(ACIM!CL57,'Floor Space'!$I$5:$I$54,0),MATCH(ACIM!CL$10,'Floor Space'!$I$5:$DK$5,0))*ACIM!CS57","v":32.355859494857775},634.2096615565473,5461.0471927064409,17.965529529761259,5.9601582607786696E-3,null,null,2032,2783.9352806753104,0,306.65429457615699,{"$f":"INDEX('Floor Space'!$I$5:$DK$54,MATCH(ACIM!CW57,'Floor Space'!$I$5:$I$54,0),MATCH(ACIM!CW$10,'Floor Space'!$I$5:$DK$5,0))*ACIM!DD57","v":21.241129591855266},327.89542416801225,2805.1764102671655,17.965529529761259,7.6298934602756496E-3,null,null,2032,11341.058694310181,0,1208.4296929922746,{"$f":"INDEX('Floor Space'!$I$5:$DK$54,MATCH(ACIM!DH57,'Floor Space'!$I$5:$I$54,0),MATCH(ACIM!DH$10,'Floor Space'!$I$5:$DK$5,0))*ACIM!DO57","v":225.94663600188954},1434.3763289941642,11567.005330312069,17.965529529761259,1.9922887456287119E-2,null,null,2032,1029.447651125995,0,111.94052864622607,{"$f":"INDEX('Floor Space'!$I$5:$DK$54,MATCH(ACIM!DS57,'Floor Space'!$I$5:$I$54,0),MATCH(ACIM!DS$10,'Floor Space'!$I$5:$DK$5,0))*ACIM!DZ57","v":3.9069334909922873},115.84746213721836,1033.3545846169873,17.965529529761259,3.7951745158861794E-3,null,null,2032,472.82235508764484,0,53.177981177181969,{"$f":"INDEX('Floor Space'!$I$5:$DK$54,MATCH(ACIM!ED57,'Floor Space'!$I$5:$I$54,0),MATCH(ACIM!ED$10,'Floor Space'!$I$5:$DK$5,0))*ACIM!EK57","v":3.5147918330175902},56.692773010199559,476.33714692066241,17.965529529761259,7.4336413987152739E-3,null,null,2032,1086.1905793428418,0,116.47984870537429,{"$f":"INDEX('Floor Space'!$I$5:$DK$54,MATCH(ACIM!EO57,'Floor Space'!$I$5:$I$54,0),MATCH(ACIM!EO$10,'Floor Space'!$I$5:$DK$5,0))*ACIM!EV57","v":9.8762300269913137},126.3560787323656,1096.0668093698332,17.965529529761259,9.0925388369382798E-3,null,null,2032,3248.2746423897975,0,359.38729763877768,{"$f":"INDEX('Floor Space'!$I$5:$DK$54,MATCH(ACIM!EZ57,'Floor Space'!$I$5:$I$54,0),MATCH(ACIM!EZ$10,'Floor Space'!$I$5:$DK$5,0))*ACIM!FG57","v":12.135880088147699},371.52317772692538,3260.4105224779451,17.965529529761259,3.7361003684155403E-3,null,null,2032,1516.067885200513,0,204.71090649592961,{"$f":"INDEX('Floor Space'!$I$5:$DK$54,MATCH(ACIM!FK57,'Floor Space'!$I$5:$I$54,0),MATCH(ACIM!FK$10,'Floor Space'!$I$5:$DK$5,0))*ACIM!FR57","v":11.504538512180142},216.21544500810975,1527.5724237126931,17.965529529761259,7.5884059180229002E-3,null,null,2032,3743.9310703469509,0,422.93919266642098,{"$f":"INDEX('Floor Space'!$I$5:$DK$54,MATCH(ACIM!FV57,'Floor Space'!$I$5:$I$54,0),MATCH(ACIM!FV$10,'Floor Space'!$I$5:$DK$5,0))*ACIM!GC57","v":43.275059449486406},466.21425211590736,3787.2061297964374,17.965529529761259,1.1558722272489996E-2,null,null,2032,5226.6341829881931,0,552.51200556350011,{"$f":"INDEX('Floor Space'!$I$5:$DK$54,MATCH(ACIM!GG57,'Floor Space'!$I$5:$I$54,0),MATCH(ACIM!GG$10,'Floor Space'!$I$5:$DK$5,0))*ACIM!GN57","v":65.479722014469175},617.9917275779693,5292.1139050026622,17.965529529761259,1.2528085900405106E-2,null,null,2032,8542.8967545384003,0,926.16282177214032,{"$f":"INDEX('Floor Space'!$I$5:$DK$54,MATCH(ACIM!GR57,'Floor Space'!$I$5:$I$54,0),MATCH(ACIM!GR$10,'Floor Space'!$I$5:$DK$5,0))*ACIM!GY57","v":42.82858403713324},968.9914058092736,8585.7253385755339,17.965529529761259,5.013356156315707E-3]
[null,2033,69464.152364888025,0,7716.8675251485392,752.13847676902697,8469.0060019175671,70216.290841657043,17.965529529761259,1.0827721222568254E-2,null,null,2033,6700.09409122951,0,725.19281226701162,{"$f":"INDEX('Floor Space'!$I$5:$DK$54,MATCH(ACIM!M58,'Floor Space'!$I$5:$I$54,0),MATCH(ACIM!M$10,'Floor Space'!$I$5:$DK$5,0))*ACIM!T58","v":107.57613346415157},832.76894573116317,6807.670224693662,17.965529529761259,1.6055913842310199E-2,null,null,2033,3018.6669491016169,0,326.72907936950565,{"$f":"INDEX('Floor Space'!$I$5:$DK$54,MATCH(ACIM!X58,'Floor Space'!$I$5:$I$54,0),MATCH(ACIM!X$10,'Floor Space'!$I$5:$DK$5,0))*ACIM!AE58","v":48.467456453404495},375.19653582291016,3067.1344055550212,17.965529529761259,1.6055913842309977E-2,null,null,2033,3542.016010765974,0,383.37439996619446,{"$f":"INDEX('Floor Space'!$I$5:$DK$54,MATCH(ACIM!AI58,'Floor Space'!$I$5:$I$54,0),MATCH(ACIM!AI$10,'Floor Space'!$I$5:$DK$5,0))*ACIM!AP58","v":56.870303896941181},440.24470386313567,3598.8863146629151,17.965529529761259,1.6055913842309977E-2,null,null,2033,2693.0333427232376,0,309.18397197263863,{"$f":"INDEX('Floor Space'!$I$5:$DK$54,MATCH(ACIM!AT58,'Floor Space'!$I$5:$I$54,0),MATCH(ACIM!AT$10,'Floor Space'!$I$5:$DK$5,0))*ACIM!BA58","v":15.989414370439262},325.17338634307788,2709.0227570936768,17.965529529761259,5.9373250664138677E-3,null,null,2033,4973.9876943157697,0,578.91332062010918,{"$f":"INDEX('Floor Space'!$I$5:$DK$54,MATCH(ACIM!BE58,'Floor Space'!$I$5:$I$54,0),MATCH(ACIM!BE$10,'Floor Space'!$I$5:$DK$5,0))*ACIM!BL58","v":29.532181817495612},608.44550243760477,5003.5198761332649,17.965529529761259,5.9373250664138677E-3,null,null,2033,1243.4969235789424,0,144.72833015502729,{"$f":"INDEX('Floor Space'!$I$5:$DK$54,MATCH(ACIM!BP58,'Floor Space'!$I$5:$I$54,0),MATCH(ACIM!BP$10,'Floor Space'!$I$5:$DK$5,0))*ACIM!BW58","v":7.383045454373903},152.11137560940119,1250.8799690333162,17.965529529761259,5.9373250664138677E-3,null,null,2033,2400.8415594145386,0,279.42955328011215,{"$f":"INDEX('Floor Space'!$I$5:$DK$54,MATCH(ACIM!CA58,'Floor Space'!$I$5:$I$54,0),MATCH(ACIM!CA$10,'Floor Space'!$I$5:$DK$5,0))*ACIM!CH58","v":14.254576771200318},293.68413005131248,2415.0961361857389,17.965529529761259,5.9373250664140897E-3,null,null,2033,5461.0471927064409,0,607.41121034750108,{"$f":"INDEX('Floor Space'!$I$5:$DK$54,MATCH(ACIM!CL58,'Floor Space'!$I$5:$I$54,0),MATCH(ACIM!CL$10,'Floor Space'!$I$5:$DK$5,0))*ACIM!CS58","v":32.355859494857775},639.76706984235886,5493.403052201299,17.965529529761259,5.9248452454450096E-3,null,null,2033,2805.1764102671655,0,305.48378618300927,{"$f":"INDEX('Floor Space'!$I$5:$DK$54,MATCH(ACIM!CW58,'Floor Space'!$I$5:$I$54,0),MATCH(ACIM!CW$10,'Floor Space'!$I$5:$DK$5,0))*ACIM!DD58","v":21.241129591855266},326.72491577486454,2826.4175398590205,17.965529529761259,7.5721189990443083E-3,null,null,2033,11567.005330312069,0,1223.3804373162677,{"$f":"INDEX('Floor Space'!$I$5:$DK$54,MATCH(ACIM!DH58,'Floor Space'!$I$5:$I$54,0),MATCH(ACIM!DH$10,'Floor Space'!$I$5:$DK$5,0))*ACIM!DO58","v":225.94663600188954},1449.3270733181573,11792.951966313958,17.965529529761259,1.953371936379944E-2,null,null,2033,1033.3545846169873,0,112.43415944667883,{"$f":"INDEX('Floor Space'!$I$5:$DK$54,MATCH(ACIM!DS58,'Floor Space'!$I$5:$I$54,0),MATCH(ACIM!DS$10,'Floor Space'!$I$5:$DK$5,0))*ACIM!DZ58","v":3.9069334909922873},116.34109293767112,1037.2615181079796,17.965529529761259,3.7808256228333281E-3,null,null,2033,476.33714692066241,0,51.633079064799368,{"$f":"INDEX('Floor Space'!$I$5:$DK$54,MATCH(ACIM!ED58,'Floor Space'!$I$5:$I$54,0),MATCH(ACIM!ED$10,'Floor Space'!$I$5:$DK$5,0))*ACIM!EK58","v":3.5147918330175902},55.147870897816958,479.85193875367997,17.965529529761259,7.3787901190141003E-3,null,null,2033,1096.0668093698332,0,114.51642674575609,{"$f":"INDEX('Floor Space'!$I$5:$DK$54,MATCH(ACIM!EO58,'Floor Space'!$I$5:$I$54,0),MATCH(ACIM!EO$10,'Floor Space'!$I$5:$DK$5,0))*ACIM!EV58","v":9.8762300269913137},124.3926567727474,1105.9430393968246,17.965529529761259,9.010609519933821E-3,null,null,2033,3260.4105224779451,0,365.08609613672724,{"$f":"INDEX('Floor Space'!$I$5:$DK$54,MATCH(ACIM!EZ58,'Floor Space'!$I$5:$I$54,0),MATCH(ACIM!EZ$10,'Floor Space'!$I$5:$DK$5,0))*ACIM!FG58","v":12.135880088147699},377.22197622487494,3272.5464025660926,17.965529529761259,3.7221938784948172E-3,null,null,2033,1527.5724237126931,0,164.31202849255016,{"$f":"INDEX('Floor Space'!$I$5:$DK$54,MATCH(ACIM!FK58,'Floor Space'!$I$5:$I$54,0),MATCH(ACIM!FK$10,'Floor Space'!$I$5:$DK$5,0))*ACIM!FR58","v":11.504538512180142},175.8165670047303,1539.0769622248731,17.965529529761259,7.5312556927538132E-3,null,null,2033,3787.2061297964374,0,424.36349060543478,{"$f":"INDEX('Floor Space'!$I$5:$DK$54,MATCH(ACIM!FV58,'Floor Space'!$I$5:$I$54,0),MATCH(ACIM!FV$10,'Floor Space'!$I$5:$DK$5,0))*ACIM!GC58","v":43.275059449486406},467.63855005492121,3830.4811892459238,17.965529529761259,1.1426644858069102E-2,null,null,2033,5292.1139050026622,0,582.27068618924852,{"$f":"INDEX('Floor Space'!$I$5:$DK$54,MATCH(ACIM!GG58,'Floor Space'!$I$5:$I$54,0),MATCH(ACIM!GG$10,'Floor Space'!$I$5:$DK$5,0))*ACIM!GN58","v":65.479722014469175},647.75040820371771,5357.5936270171314,17.965529529761259,1.2373074954522556E-2,null,null,2033,8585.7253385755339,0,1018.424656989969,{"$f":"INDEX('Floor Space'!$I$5:$DK$54,MATCH(ACIM!GR58,'Floor Space'!$I$5:$I$54,0),MATCH(ACIM!GR$10,'Floor Space'!$I$5:$DK$5,0))*ACIM!GY58","v":42.82858403713324},1061.2532410271021,8628.5539226126675,17.965529529761259,4.9883477922016972E-3]
[null,2034,70216.290841657043,0,7673.6719441840833,752.13847676902697,8425.8104209531102,70968.429318426075,17.965529529761259,1.071173751494725E-2,null,null,2034,6807.670224693662,0,708.72886368241382,{"$f":"INDEX('Floor Space'!$I$5:$DK$54,MATCH(ACIM!M59,'Floor Space'!$I$5:$I$54,0),MATCH(ACIM!M$10,'Floor Space'!$I$5:$DK$5,0))*ACIM!T59","v":107.57613346415157},816.30499714656537,6915.246358157814,17.965529529761259,1.5802195158328702E-2,null,null,2034,3067.1344055550212,0,319.31139586128592,{"$f":"INDEX('Floor Space'!$I$5:$DK$54,MATCH(ACIM!X59,'Floor Space'!$I$5:$I$54,0),MATCH(ACIM!X$10,'Floor Space'!$I$5:$DK$5,0))*ACIM!AE59","v":48.467456453404495},367.77885231469043,3115.6018620084255,17.965529529761259,1.580219515832848E-2,null,null,2034,3598.8863146629151,0,374.67070585488204,{"$f":"INDEX('Floor Space'!$I$5:$DK$54,MATCH(ACIM!AI59,'Floor Space'!$I$5:$I$54,0),MATCH(ACIM!AI$10,'Floor Space'!$I$5:$DK$5,0))*ACIM!AP59","v":56.870303896941181},431.54100975182325,3655.7566185598562,17.965529529761259,1.580219515832848E-2,null,null,2034,2709.0227570936768,0,298.13382443996011,{"$f":"INDEX('Floor Space'!$I$5:$DK$54,MATCH(ACIM!AT59,'Floor Space'!$I$5:$I$54,0),MATCH(ACIM!AT$10,'Floor Space'!$I$5:$DK$5,0))*ACIM!BA59","v":15.989414370439262},314.12323881039936,2725.0121714641159,17.965529529761259,5.9022813036806454E-3,null,null,2034,5003.5198761332649,0,558.71419909082204,{"$f":"INDEX('Floor Space'!$I$5:$DK$54,MATCH(ACIM!BE59,'Floor Space'!$I$5:$I$54,0),MATCH(ACIM!BE$10,'Floor Space'!$I$5:$DK$5,0))*ACIM!BL59","v":29.532181817495612},588.24638090831763,5033.0520579507602,17.965529529761259,5.9022813036804234E-3,null,null,2034,1250.8799690333162,0,139.67854977270551,{"$f":"INDEX('Floor Space'!$I$5:$DK$54,MATCH(ACIM!BP59,'Floor Space'!$I$5:$I$54,0),MATCH(ACIM!BP$10,'Floor Space'!$I$5:$DK$5,0))*ACIM!BW59","v":7.383045454373903},147.06159522707941,1258.26301448769,17.965529529761259,5.9022813036804234E-3,null,null,2034,2415.0961361857389,0,269.67985275580315,{"$f":"INDEX('Floor Space'!$I$5:$DK$54,MATCH(ACIM!CA59,'Floor Space'!$I$5:$I$54,0),MATCH(ACIM!CA$10,'Floor Space'!$I$5:$DK$5,0))*ACIM!CH59","v":14.254576771200318},283.93442952700349,2429.3507129569393,17.965529529761259,5.9022813036806454E-3,null,null,2034,5493.403052201299,0,620.55554451263492,{"$f":"INDEX('Floor Space'!$I$5:$DK$54,MATCH(ACIM!CL59,'Floor Space'!$I$5:$I$54,0),MATCH(ACIM!CL$10,'Floor Space'!$I$5:$DK$5,0))*ACIM!CS59","v":32.355859494857775},652.91140400749271,5525.7589116961572,17.965529529761259,5.8899482137748649E-3,null,null,2034,2826.4175398590205,0,311.11967433242938,{"$f":"INDEX('Floor Space'!$I$5:$DK$54,MATCH(ACIM!CW59,'Floor Space'!$I$5:$I$54,0),MATCH(ACIM!CW$10,'Floor Space'!$I$5:$DK$5,0))*ACIM!DD59","v":21.241129591855266},332.36080392428465,2847.6586694508755,17.965529529761259,7.5152129125672928E-3,null,null,2034,11792.951966313958,0,1237.2286250281925,{"$f":"INDEX('Floor Space'!$I$5:$DK$54,MATCH(ACIM!DH59,'Floor Space'!$I$5:$I$54,0),MATCH(ACIM!DH$10,'Floor Space'!$I$5:$DK$5,0))*ACIM!DO59","v":225.94663600188954},1463.1752610300821,12018.898602315847,17.965529529761259,1.9159463775252794E-2,null,null,2034,1037.2615181079796,0,112.71066150505547,{"$f":"INDEX('Floor Space'!$I$5:$DK$54,MATCH(ACIM!DS59,'Floor Space'!$I$5:$I$54,0),MATCH(ACIM!DS$10,'Floor Space'!$I$5:$DK$5,0))*ACIM!DZ59","v":3.9069334909922873},116.61759499604776,1041.1684515989718,17.965529529761259,3.7665848224262E-3,null,null,2034,479.85193875367997,0,50.090456857679733,{"$f":"INDEX('Floor Space'!$I$5:$DK$54,MATCH(ACIM!ED59,'Floor Space'!$I$5:$I$54,0),MATCH(ACIM!ED$10,'Floor Space'!$I$5:$DK$5,0))*ACIM!EK59","v":3.5147918330175902},53.605248690697323,483.36673058669754,17.965529529761259,7.3247423822992985E-3,null,null,2034,1105.9430393968246,0,113.53038955148509,{"$f":"INDEX('Floor Space'!$I$5:$DK$54,MATCH(ACIM!EO59,'Floor Space'!$I$5:$I$54,0),MATCH(ACIM!EO$10,'Floor Space'!$I$5:$DK$5,0))*ACIM!EV59","v":9.8762300269913137},123.40661957847639,1115.819269423816,17.965529529761259,8.9301434840423077E-3,null,null,2034,3272.5464025660926,0,369.21259263414078,{"$f":"INDEX('Floor Space'!$I$5:$DK$54,MATCH(ACIM!EZ59,'Floor Space'!$I$5:$I$54,0),MATCH(ACIM!EZ$10,'Floor Space'!$I$5:$DK$5,0))*ACIM!FG59","v":12.135880088147699},381.34847272228848,3284.6822826542402,17.965529529761259,3.7083905299650777E-3,null,null,2034,1539.0769622248731,0,173.75453763186437,{"$f":"INDEX('Floor Space'!$I$5:$DK$54,MATCH(ACIM!FK59,'Floor Space'!$I$5:$I$54,0),MATCH(ACIM!FK$10,'Floor Space'!$I$5:$DK$5,0))*ACIM!FR59","v":11.504538512180142},185.25907614404451,1550.5815007370531,17.965529529761259,7.4749598587644517E-3,null,null,2034,3830.4811892459238,0,411.35031430476272,{"$f":"INDEX('Floor Space'!$I$5:$DK$54,MATCH(ACIM!FV59,'Floor Space'!$I$5:$I$54,0),MATCH(ACIM!FV$10,'Floor Space'!$I$5:$DK$5,0))*ACIM!GC59","v":43.275059449486406},454.62537375424915,3873.7562486954102,17.965529529761259,1.1297551746496381E-2,null,null,2034,5357.5936270171314,0,573.5844512590196,{"$f":"INDEX('Floor Space'!$I$5:$DK$54,MATCH(ACIM!GG59,'Floor Space'!$I$5:$I$54,0),MATCH(ACIM!GG$10,'Floor Space'!$I$5:$DK$5,0))*ACIM!GN59","v":65.479722014469175},639.06417327348879,5423.0733490316006,17.965529529761259,1.2221853050643716E-2,null,null,2034,8628.5539226126675,0,1031.6173051089468,{"$f":"INDEX('Floor Space'!$I$5:$DK$54,MATCH(ACIM!GR59,'Floor Space'!$I$5:$I$54,0),MATCH(ACIM!GR$10,'Floor Space'!$I$5:$DK$5,0))*ACIM!GY59","v":42.82858403713324},1074.4458891460799,8671.3825066498011,17.965529529761259,4.9635876905043119E-3]

{"sheet":"BVM","index":9,"n_rows":59,"n_cols":209,"rows_kept":59,"cut":false,"hidden":false,"merged":[[7,202,7,208],[7,169,7,175],[7,177,7,178],[7,180,7,186],[7,188,7,189],[7,191,7,197],[7,199,7,200],[7,136,7,142],[7,144,7,145],[7,147,7,153],[7,155,7,156],[7,158,7,164],[7,166,7,167],[7,103,7,109],[7,111,7,112],[7,114,7,120],[7,122,7,123],[7,125,7,131],[7,133,7,134],[7,70,7,76],[7,78,7,79],[7,81,7,87],[7,89,7,90],[7,92,7,98],[7,100,7,101],[7,37,7,43],[7,45,7,46],[7,48,7,54],[7,56,7,57],[7,59,7,65],[7,67,7,68],[6,199,6,200],[6,202,6,203],[6,205,6,208],[6,183,6,186],[6,188,6,189],[6,191,6,192],[6,194,6,197],[6,122,6,123],[6,125,6,126],[6,128,6,131],[6,89,6,90],[6,92,6,93],[6,95,6,98],[6,100,6,101],[6,103,6,104],[6,106,6,109],[6,67,6,68],[6,70,6,71],[7,1,7,2],[7,4,7,10],[7,12,7,13],[7,15,7,21],[7,23,7,24],[7,26,7,32],[7,34,7,35],[6,177,6,178],[6,180,6,181],[6,155,6,156],[6,158,6,159],[6,161,6,164],[6,166,6,167],[6,169,6,170],[6,172,6,175],[6,133,6,134],[6,136,6,137],[6,139,6,142],[6,144,6,145],[6,147,6,148],[6,150,6,153],[6,111,6,112],[6,114,6,115],[6,117,6,120],[6,73,6,76],[6,78,6,79],[6,81,6,82],[6,84,6,87],[6,45,6,46],[6,48,6,49],[6,51,6,54],[6,56,6,57],[6,59,6,60],[6,62,6,65],[6,23,6,24],[6,26,6,27],[6,29,6,32],[6,34,6,35],[6,37,6,38],[6,40,6,43],[6,1,6,2],[6,4,6,5],[6,7,6,10],[6,12,6,13],[6,15,6,16],[6,18,6,21],[5,188,5,189],[5,191,5,192],[5,194,5,197],[5,199,5,200],[5,202,5,203],[5,205,5,208],[5,166,5,167],[5,169,5,170],[5,172,5,175],[5,177,5,178],[5,180,5,181],[5,183,5,186],[5,144,5,145],[5,147,5,148],[5,150,5,153],[5,155,5,156],[5,158,5,159],[5,161,5,164],[5,122,5,123],[5,125,5,126],[5,128,5,131],[5,133,5,134],[5,136,5,137],[5,139,5,142],[5,100,5,101],[5,103,5,104],[5,106,5,109],[5,111,5,112],[5,114,5,115],[5,117,5,120],[5,78,5,79],[5,81,5,82],[5,84,5,87],[5,89,5,90],[5,92,5,93],[5,95,5,98],[5,56,5,57],[5,59,5,60],[5,62,5,65],[5,67,5,68],[5,70,5,71],[5,73,5,76],[5,34,5,35],[5,37,5,38],[5,40,5,43],[5,45,5,46],[5,48,5,49],[5,51,5,54],[4,205,4,208],[5,1,5,2],[5,4,5,5],[5,7,5,10],[5,12,5,13],[5,15,5,16],[5,18,5,21],[5,23,5,24],[5,26,5,27],[5,29,5,32],[4,183,4,186],[4,188,4,189],[4,191,4,192],[4,194,4,197],[4,199,4,200],[4,202,4,203],[4,161,4,164],[4,166,4,167],[4,169,4,170],[4,172,4,175],[4,177,4,178],[4,180,4,181],[4,139,4,142],[4,144,4,145],[4,147,4,148],[4,150,4,153],[4,155,4,156],[4,158,4,159],[4,117,4,120],[4,122,4,123],[4,125,4,126],[4,128,4,131],[4,133,4,134],[4,136,4,137],[4,95,4,98],[4,100,4,101],[4,103,4,104],[4,106,4,109],[4,111,4,112],[4,114,4,115],[4,73,4,76],[4,78,4,79],[4,81,4,82],[4,84,4,87],[4,89,4,90],[4,92,4,93],[4,51,4,54],[4,56,4,57],[4,59,4,60],[4,62,4,65],[4,67,4,68],[4,70,4,71],[4,29,4,32],[4,34,4,35],[4,37,4,38],[4,40,4,43],[4,45,4,46],[4,48,4,49],[3,199,3,201],[3,202,3,208],[4,1,4,2],[4,4,4,5],[4,7,4,10],[4,12,4,13],[4,15,4,16],[4,18,4,21],[4,23,4,24],[4,26,4,27],[3,166,3,168],[3,169,3,175],[3,177,3,179],[3,180,3,186],[3,188,3,190],[3,191,3,197],[3,133,3,135],[3,136,3,142],[3,144,3,146],[3,147,3,153],[3,155,3,157],[3,158,3,164],[3,100,3,102],[3,103,3,109],[3,111,3,113],[3,114,3,120],[3,122,3,124],[3,125,3,131],[3,67,3,69],[3,70,3,76],[3,78,3,80],[3,81,3,87],[3,89,3,91],[3,92,3,98],[3,34,3,36],[3,37,3,43],[3,45,3,47],[3,48,3,54],[3,56,3,58],[3,59,3,65],[3,1,3,3],[3,4,3,10],[3,12,3,14],[3,15,3,21],[3,23,3,25],[3,26,3,32]]}
["BVM"]
[]
[null,"Total is mainly for QC purposes at this point. ",null,null,null,null,null,null,null,null,null,null,"Building type level starts here. "]
[null,"Assumptions",null,null,"Calibration",null,null,null,null,null,null,null,"Assumptions",null,null,"Calibration",null,null,null,null,null,null,null,"Assumptions",null,null,"Calibration",null,null,null,null,null,null,null,"Assumptions",null,null,"Calibration",null,null,null,null,null,null,null,"Assumptions",null,null,"Calibration",null,null,null,null,null,null,null,"Assumptions",null,null,"Calibration",null,null,null,null,null,null,null,"Assumptions",null,null,"Calibration",null,null,null,null,null,null,null,"Assumptions",null,null,"Calibration",null,null,null,null,null,null,null,"Assumptions",null,null,"Calibration",null,null,null,null,null,null,null,"Assumptions",null,null,"Calibration",null,null,null,null,null,null,null,"Assumptions",null,null,"Calibration",null,null,null,null,null,null,null,"Assumptions",null,null,"Calibration",null,null,null,null,null,null,null,"Assumptions",null,null,"Calibration",null,null,null,null,null,null,null,"Assumptions",null,null,"Calibration",null,null,null,null,null,null,null,"Assumptions",null,null,"Calibration",null,null,null,null,null,null,null,"Assumptions",null,null,"Calibration",null,null,null,null,null,null,null,"Assumptions",null,null,"Calibration",null,null,null,null,null,null,null,"Assumptions",null,null,"Calibration",null,null,null,null,null,null,null,"Assumptions",null,null,"Calibration"]
[null,"Lifetime",null,{"$f":"INDEX('Saturation and Lifetime'!$B$37:$U$48,MATCH(BVM!$A$1,'Saturation and Lifetime'!$B$37:$B$48,0),MATCH(BVM!B10,'Saturation and Lifetime'!$B$37:$U$37,0))","v":13.999999999999996},"Check value:",null,{"$f":"SUM(OFFSET(G36,-D$6,0):G35)","v":128031.42914330401},"Sum of last \"lifetime\" years of shipments",null,null,null,null,"Lifetime",null,{"$f":"INDEX('Saturation and Lifetime'!$B$37:$T$48,MATCH(BVM!$A$1,'Saturation and Lifetime'!$B$37:$B$48,0),MATCH(BVM!M10,'Saturation and Lifetime'!$B$37:$T$37,0))","v":14},"Set cell:",null,{"$f":"SUM(OFFSET(R36,-O$6,0):R35)","v":11682.350495090686},"Sum of last \"lifetime\" years of shipments",null,null,null,null,"Lifetime",null,{"$f":"INDEX('Saturation and Lifetime'!$B$37:$T$48,MATCH(BVM!$A$1,'Saturation and Lifetime'!$B$37:$B$48,0),MATCH(BVM!X10,'Saturation and Lifetime'!$B$37:$T$37,0))","v":14},"Set cell:",null,{"$f":"SUM(OFFSET(AC36,-Z$6,0):AC35)","v":5263.3776253252345},"Sum of last \"lifetime\" years of shipments",null,null,null,null,"Lifetime",null,{"$f":"INDEX('Saturation and Lifetime'!$B$37:$T$48,MATCH(BVM!$A$1,'Saturation and Lifetime'!$B$37:$B$48,0),MATCH(BVM!AI10,'Saturation and Lifetime'!$B$37:$T$37,0))","v":14},"Set cell:",null,{"$f":"SUM(OFFSET(AN36,-AK$6,0):AN35)","v":6175.8942387326551},"Sum of last \"lifetime\" years of shipments",null,null,null,null,"Lifetime",null,{"$f":"INDEX('Saturation and Lifetime'!$B$37:$T$48,MATCH(BVM!$A$1,'Saturation and Lifetime'!$B$37:$B$48,0),MATCH(BVM!AT10,'Saturation and Lifetime'!$B$37:$T$37,0))","v":14},"Set cell:",null,{"$f":"SUM(OFFSET(AY36,-AV$6,0):AY35)","v":5384.4868448707248},"Sum of last \"lifetime\" years of shipments",null,null,null,null,"Lifetime",null,{"$f":"INDEX('Saturation and Lifetime'!$B$37:$T$48,MATCH(BVM!$A$1,'Saturation and Lifetime'!$B$37:$B$48,0),MATCH(BVM!BE10,'Saturation and Lifetime'!$B$37:$T$37,0))","v":14},"Set cell:",null,{"$f":"SUM(OFFSET(BJ36,-BG$6,0):BJ35)","v":9945.057449422211},"Sum of last \"lifetime\" years of shipments",null,null,null,null,"Lifetime",null,{"$f":"INDEX('Saturation and Lifetime'!$B$37:$T$48,MATCH(BVM!$A$1,'Saturation and Lifetime'!$B$37:$B$48,0),MATCH(BVM!BP10,'Saturation and Lifetime'!$B$37:$T$37,0))","v":14},"Set cell:",null,{"$f":"SUM(OFFSET(BU36,-BR$6,0):BU35)","v":2486.2643623555527},"Sum of last \"lifetime\" years of shipments",null,null,null,null,"Lifetime",null,{"$f":"INDEX('Saturation and Lifetime'!$B$37:$T$48,MATCH(BVM!$A$1,'Saturation and Lifetime'!$B$37:$B$48,0),MATCH(BVM!CA10,'Saturation and Lifetime'!$B$37:$T$37,0))","v":14},"Set cell:",null,{"$f":"SUM(OFFSET(CF36,-CC$6,0):CF35)","v":4800.274689586352},"Sum of last \"lifetime\" years of shipments",null,null,null,null,"Lifetime",null,{"$f":"INDEX('Saturation and Lifetime'!$B$37:$T$48,MATCH(BVM!$A$1,'Saturation and Lifetime'!$B$37:$B$48,0),MATCH(BVM!CL10,'Saturation and Lifetime'!$B$37:$T$37,0))","v":14},"Set cell:",null,{"$f":"SUM(OFFSET(CQ36,-CN$6,0):CQ35)","v":10638.655999999819},"Sum of last \"lifetime\" years of shipments",null,null,null,null,"Lifetime",null,{"$f":"INDEX('Saturation and Lifetime'!$B$37:$T$48,MATCH(BVM!$A$1,'Saturation and Lifetime'!$B$37:$B$48,0),MATCH(BVM!CW10,'Saturation and Lifetime'!$B$37:$T$37,0))","v":14},"Set cell:",null,{"$f":"SUM(OFFSET(DB36,-CY$6,0):DB35)","v":5272.0538605916008},"Sum of last \"lifetime\" years of shipments",null,null,null,null,"Lifetime",null,{"$f":"INDEX('Saturation and Lifetime'!$B$37:$T$48,MATCH(BVM!$A$1,'Saturation and Lifetime'!$B$37:$B$48,0),MATCH(BVM!DH10,'Saturation and Lifetime'!$B$37:$T$37,0))","v":14},"Set cell:",null,{"$f":"SUM(OFFSET(DM36,-DJ$6,0):DM35)","v":16192.477611273898},"Sum of last \"lifetime\" years of shipments",null,null,null,null,"Lifetime",null,{"$f":"INDEX('Saturation and Lifetime'!$B$37:$T$48,MATCH(BVM!$A$1,'Saturation and Lifetime'!$B$37:$B$48,0),MATCH(BVM!DS10,'Saturation and Lifetime'!$B$37:$T$37,0))","v":14},"Set cell:",null,{"$f":"SUM(OFFSET(DX36,-DU$6,0):DX35)","v":2204.8371018027242},"Sum of last \"lifetime\" years of shipments",null,null,null,null,"Lifetime",null,{"$f":"INDEX('Saturation and Lifetime'!$B$37:$T$48,MATCH(BVM!$A$1,'Saturation and Lifetime'!$B$37:$B$48,0),MATCH(BVM!ED10,'Saturation and Lifetime'!$B$37:$T$37,0))","v":14},"Set cell:",null,{"$f":"SUM(OFFSET(EI36,-EF$6,0):EI35)","v":914.85976274291261},"Sum of last \"lifetime\" years of shipments",null,null,null,null,"Lifetime",null,{"$f":"INDEX('Saturation and Lifetime'!$B$37:$T$48,MATCH(BVM!$A$1,'Saturation and Lifetime'!$B$37:$B$48,0),MATCH(BVM!EO10,'Saturation and Lifetime'!$B$37:$T$37,0))","v":14},"Set cell:",null,{"$f":"SUM(OFFSET(ET36,-EQ$6,0):ET35)","v":1981.5332681246064},"Sum of last \"lifetime\" years of shipments",null,null,null,null,"Lifetime",null,{"$f":"INDEX('Saturation and Lifetime'!$B$37:$T$48,MATCH(BVM!$A$1,'Saturation and Lifetime'!$B$37:$B$48,0),MATCH(BVM!EZ10,'Saturation and Lifetime'!$B$37:$T$37,0))","v":14},"Set cell:",null,{"$f":"SUM(OFFSET(FE36,-FB$6,0):FE35)","v":6879.2574016700546},"Sum of last \"lifetime\" years of shipments",null,null,null,null,"Lifetime",null,{"$f":"INDEX('Saturation and Lifetime'!$B$37:$T$48,MATCH(BVM!$A$1,'Saturation and Lifetime'!$B$37:$B$48,0),MATCH(BVM!FK10,'Saturation and Lifetime'!$B$37:$T$37,0))","v":14},"Set cell:",null,{"$f":"SUM(OFFSET(FP36,-FM$6,0):FP35)","v":2984.9895991871772},"Sum of last \"lifetime\" years of shipments",null,null,null,null,"Lifetime",null,{"$f":"INDEX('Saturation and Lifetime'!$B$37:$T$48,MATCH(BVM!$A$1,'Saturation and Lifetime'!$B$37:$B$48,0),MATCH(BVM!FV10,'Saturation and Lifetime'!$B$37:$T$37,0))","v":14},"Set cell:",null,{"$f":"SUM(OFFSET(GA36,-FX$6,0):GA35)","v":6429.1810253300901},"Sum of last \"lifetime\" years of shipments",null,null,null,null,"Lifetime",null,{"$f":"INDEX('Saturation and Lifetime'!$B$37:$T$48,MATCH(BVM!$A$1,'Saturation and Lifetime'!$B$37:$B$48,0),MATCH(BVM!GG10,'Saturation and Lifetime'!$B$37:$T$37,0))","v":14},"Set cell:",null,{"$f":"SUM(OFFSET(GL36,-GI$6,0):GL35)","v":9633.1922085399237},"Sum of last \"lifetime\" years of shipments",null,null,null,null,"Lifetime",null,{"$f":"INDEX('Saturation and Lifetime'!$B$37:$T$48,MATCH(BVM!$A$1,'Saturation and Lifetime'!$B$37:$B$48,0),MATCH(BVM!GR10,'Saturation and Lifetime'!$B$37:$T$37,0))","v":14},"Set cell:",null,{"$f":"SUM(OFFSET(GW36,-GT$6,0):GW35)","v":19162.685598657783},"Sum of last \"lifetime\" years of shipments"]
[null,"Rounded Life",null,{"$f":"ROUND(D5,0)","v":14},"Equal to value: ",null,{"$f":"H35","v":126362.21770359186},"2011 beginning stock",null,null,null,null,"Rounded Life",null,{"$f":"ROUND(O5,0)","v":14},"To value: ",null,{"$f":"S35","v":11533.325855884555},"2011 beginning stock",null,null,null,null,"Rounded Life",null,{"$f":"ROUND(Z5,0)","v":14},"To value: ",null,{"$f":"AD35","v":5196.2359185300675},"2011 beginning stock",null,null,null,null,"Rounded Life",null,{"$f":"ROUND(AK5,0)","v":14},"To value: ",null,{"$f":"AO35","v":6097.1121125595737},"2011 beginning stock",null,null,null,null,"Rounded Life",null,{"$f":"ROUND(AV5,0)","v":14},"To value: ",null,{"$f":"AZ35","v":5450.5133325793104},"2011 beginning stock",null,null,null,null,"Rounded Life",null,{"$f":"ROUND(BG5,0)","v":14},"To value: ",null,{"$f":"BK35","v":10067.007271636181},"2011 beginning stock",null,null,null,null,"Rounded Life",null,{"$f":"ROUND(BR5,0)","v":14},"To value: ",null,{"$f":"BV35","v":2516.7518179090453},"2011 beginning stock",null,null,null,null,"Rounded Life",null,{"$f":"ROUND(CC5,0)","v":14},"To value: ",null,{"$f":"CG35","v":4859.1373606116777},"2011 beginning stock",null,null,null,null,"Rounded Life",null,{"$f":"ROUND(CN5,0)","v":14},"To value: ",null,{"$f":"CR35","v":10638.656647583281},"2011 beginning stock",null,null,null,null,"Rounded Life",null,{"$f":"ROUND(CY5,0)","v":14},"To value: ",null,{"$f":"DC35","v":5288.8476747402474},"2011 beginning stock",null,null,null,null,"Rounded Life",null,{"$f":"ROUND(DJ5,0)","v":14},"To value: ",null,{"$f":"DN35","v":15579.053359356807},"2011 beginning stock",null,null,null,null,"Rounded Life",null,{"$f":"ROUND(DU5,0)","v":14},"To value: ",null,{"$f":"DY35","v":2243.0462349537597},"2011 beginning stock",null,null,null,null,"Rounded Life",null,{"$f":"ROUND(EF5,0)","v":14},"To value: ",null,{"$f":"EJ35","v":926.86200277419937},"2011 beginning stock",null,null,null,null,"Rounded Life",null,{"$f":"ROUND(EQ5,0)","v":14},"To value: ",null,{"$f":"EU35","v":2032.7823266761409},"2011 beginning stock",null,null,null,null,"Rounded Life",null,{"$f":"ROUND(FB5,0)","v":14},"To value: ",null,{"$f":"FF35","v":6887.3737174230473},"2011 beginning stock",null,null,null,null,"Rounded Life",null,{"$f":"ROUND(FM5,0)","v":14},"To value: ",null,{"$f":"FQ35","v":2917.3366919995919},"2011 beginning stock",null,null,null,null,"Rounded Life",null,{"$f":"ROUND(FX5,0)","v":14},"To value: ",null,{"$f":"GB35","v":6294.7132989907132},"2011 beginning stock",null,null,null,null,"Rounded Life",null,{"$f":"ROUND(GI5,0)","v":14},"To value: ",null,{"$f":"GM35","v":9336.9461291047337},"2011 beginning stock",null,null,null,null,"Rounded Life",null,{"$f":"ROUND(GT5,0)","v":14},"To value: ",null,{"$f":"GX35","v":18496.515950278928},"2011 beginning stock"]
[null,"Avg Stock Growth",null,{"$f":"AVERAGE(OFFSET(J36,-D$6,0):J35)","v":2.3691815779168901E-2},null,null,null,"Lifetime stock factor",null,null,null,null,"Avg Stock Growth",null,{"$f":"AVERAGE(OFFSET(U36,-O$6,0):U35)","v":2.2430082863473526E-2},"By changing: ",null,0.85599889138033591,"Lifetime stock factor",null,null,null,null,"Avg Stock Growth",null,{"$f":"AVERAGE(OFFSET(AF36,-Z$6,0):AF35)","v":2.2430082863473588E-2},"By changing: ",null,0.85599889138033591,"Lifetime stock factor",null,null,null,null,"Avg Stock Growth",null,{"$f":"AVERAGE(OFFSET(AQ36,-AK$6,0):AQ35)","v":2.2430082863473588E-2},"By changing: ",null,0.85599889138033591,"Lifetime stock factor",null,null,null,null,"Avg Stock Growth",null,{"$f":"AVERAGE(OFFSET(BB36,-AV$6,0):BB35)","v":1.9312975282030291E-2},"By changing: ",null,0.85599889138033591,"Lifetime stock factor",null,null,null,null,"Avg Stock Growth",null,{"$f":"AVERAGE(OFFSET(BM36,-BG$6,0):BM35)","v":1.9312975282030305E-2},"By changing: ",null,0.85599889138033591,"Lifetime stock factor",null,null,null,null,"Avg Stock Growth",null,{"$f":"AVERAGE(OFFSET(BX36,-BR$6,0):BX35)","v":1.9312975282030305E-2},"By changing: ",null,0.85599889138033591,"Lifetime stock factor",null,null,null,null,"Avg Stock Growth",null,{"$f":"AVERAGE(OFFSET(CI36,-CC$6,0):CI35)","v":1.9312975282030305E-2},"By changing: ",null,0.85599889138033591,"Lifetime stock factor",null,null,null,null,"Avg Stock Growth",null,{"$f":"AVERAGE(OFFSET(CT36,-CN$6,0):CT35)","v":2.19356824676127E-2},"By changing: ",null,0.85599889138033591,"Lifetime stock factor",null,null,null,null,"Avg Stock Growth",null,{"$f":"AVERAGE(OFFSET(DE36,-CY$6,0):DE35)","v":2.0306346082987332E-2},"By changing: ",null,0.85599889138033591,"Lifetime stock factor",null,null,null,null,"Avg Stock Growth",null,{"$f":"AVERAGE(OFFSET(DP36,-DJ$6,0):DP35)","v":3.0435563997722594E-2},"By changing: ",null,0.85599889138033591,"Lifetime stock factor",null,null,null,null,"Avg Stock Growth",null,{"$f":"AVERAGE(OFFSET(EA36,-DU$6,0):EA35)","v":1.3344501086865896E-2},"By changing: ",null,0.85599889138033591,"Lifetime stock factor",null,null,null,null,"Avg Stock Growth",null,{"$f":"AVERAGE(OFFSET(EL36,-EF$6,0):EL35)","v":1.4845671977000565E-2},"By changing: ",null,0.85599889138033591,"Lifetime stock factor",null,null,null,null,"Avg Stock Growth",null,{"$f":"AVERAGE(OFFSET(EW36,-EQ$6,0):EW35)","v":1.5295686369949522E-2},"By changing: ",null,0.85599889138033591,"Lifetime stock factor",null,null,null,null,"Avg Stock Growth",null,{"$f":"AVERAGE(OFFSET(FH36,-FB$6,0):FH35)","v":1.8810669609675274E-2},"By changing: ",null,0.85599889138033591,"Lifetime stock factor",null,null,null,null,"Avg Stock Growth",null,{"$f":"AVERAGE(OFFSET(FS36,-FM$6,0):FS35)","v":2.7026301083488073E-2},"By changing: ",null,0.85599889138033591,"Lifetime stock factor",null,null,null,null,"Avg Stock Growth",null,{"$f":"AVERAGE(OFFSET(GD36,-FX$6,0):GD35)","v":2.6835578694899768E-2},"By changing: ",null,0.85599889138033591,"Lifetime stock factor",null,null,null,null,"Avg Stock Growth",null,{"$f":"AVERAGE(OFFSET(GO36,-GI$6,0):GO35)","v":2.7932270769459349E-2},"By changing: ",null,0.85599889138033591,"Lifetime stock factor",null,null,null,null,"Avg Stock Growth",null,{"$f":"AVERAGE(OFFSET(GZ36,-GT$6,0):GZ35)","v":2.8808125216179131E-2},"By changing: ",null,0.85599889138033591,"Lifetime stock factor"]
[null,"Shipment to Stock Saturation Factor",null,1,"This factor does not change anything if 1987 saturation = 2010 saturation",null,null,null,null,null,null,null,"Shipment to Stock Saturation Factor",null,1,"This factor does not change anything if 1987 saturation = 2010 saturation",null,null,null,null,null,null,null,"Shipment to Stock Saturation Factor",null,1,"This factor does not change anything if 1987 saturation = 2010 saturation",null,null,null,null,null,null,null,"Shipment to Stock Saturation Factor",null,1,"This factor does not change anything if 1987 saturation = 2010 saturation",null,null,null,null,null,null,null,"Shipment to Stock Saturation Factor",null,1,"This factor does not change anything if 1987 saturation = 2010 saturation",null,null,null,null,null,null,null,"Shipment to Stock Saturation Factor",null,1,"This factor does not change anything if 1987 saturation = 2010 saturation",null,null,null,null,null,null,null,"Shipment to Stock Saturation Factor",null,1,"This factor does not change anything if 1987 saturation = 2010 saturation",null,null,null,null,null,null,null,"Shipment to Stock Saturation Factor",null,1,"This factor does not change anything if 1987 saturation = 2010 saturation",null,null,null,null,null,null,null,"Shipment to Stock Saturation Factor",null,1,"This factor does not change anything if 1987 saturation = 2010 saturation",null,null,null,null,null,null,null,"Shipment to Stock Saturation Factor",null,1,"This factor does not change anything if 1987 saturation = 2010 saturation",null,null,null,null,null,null,null,"Shipment to Stock Saturation Factor",null,1,"This factor does not change anything if 1987 saturation = 2010 saturation",null,null,null,null,null,null,null,"Shipment to Stock Saturation Factor",null,1,"This factor does not change anything if 1987 saturation = 2010 saturation",null,null,null,null,null,null,null,"Shipment to Stock Saturation Factor",null,1,"This factor does not change anything if 1987 saturation = 2010 saturation",null,null,null,null,null,null,null,"Shipment to Stock Saturation Factor",null,1,"This factor does not change anything if 1987 saturation = 2010 saturation",null,null,null,null,null,null,null,"Shipment to Stock Saturation Factor",null,1,"This factor does not change anything if 1987 saturation = 2010 saturation",null,null,null,null,null,null,null,"Shipment to Stock Saturation Factor",null,1,"This factor does not change anything if 1987 saturation = 2010 saturation",null,null,null,null,null,null,null,"Shipment to Stock Saturation Factor",null,1,"This factor does not change anything if 1987 saturation = 2010 saturation",null,null,null,null,null,null,null,"Shipment to Stock Saturation Factor",null,1,"This factor does not change anything if 1987 saturation = 2010 saturation",null,null,null,null,null,null,null,"Shipment to Stock Saturation Factor",null,1,"This factor does not change anything if 1987 saturation = 2010 saturation"]
[]
[null,"TOTAL",null,null,null,null,null,null,null,null,null,null,"Large Off",null,null,null,null,null,null,null,null,null,null,"Medium Off",null,null,null,null,null,null,null,null,null,null,"Small Off",null,null,null,null,null,null,null,null,null,null,"Big Box",null,null,null,null,null,null,null,null,null,null,"Small Box",null,null,null,null,null,null,null,null,null,null,"High End",null,null,null,null,null,null,null,null,null,null,"Anchor",null,null,null,null,null,null,null,null,null,null,"K-12",null,null,null,null,null,null,null,null,null,null,"University",null,null,null,null,null,null,null,null,null,null,"Warehouse",null,null,null,null,null,null,null,null,null,null,"Supermarket",null,null,null,null,null,null,null,null,null,null,"MiniMart",null,null,null,null,null,null,null,null,null,null,"Restaurant",null,null,null,null,null,null,null,null,null,null,"Lodging",null,null,null,null,null,null,null,null,null,null,"Hospital",null,null,null,null,null,null,null,null,null,null,"OtherHealth",null,null,null,null,null,null,null,null,null,null,"Assembly",null,null,null,null,null,null,null,null,null,null,"Other"]
[null,null,"Beginning Stock ","Demolitions","Replacement Units","New Units","Total Shipments","End of Year Stock ","Density","Stock Growth","Stock Saturation",null,null,"Beginning Stock","Demolitions","Replacement Units","New Units","Total Shipments","End of Year Stock","Density","Stock Growth","Stock Saturation",null,null,"Beginning Stock ","Demolitions","Replacement Units","New Units","Total Shipments ","End of Year Stock ","Density","Stock Growth","Stock Saturation",null,null,"Beginning Stock ","Demolitions","Replacement Units","New Units","Total Shipments ","End of Year Stock ","Density","Stock Growth","Stock Saturation",null,null,"Beginning Stock ","Demolitions","Replacement Units","New Units","Total Shipments ","End of Year Stock ","Density","Stock Growth","Stock Saturation",null,null,"Beginning Stock ","Demolitions","Replacement Units","New Units","Total Shipments ","End of Year Stock ","Density","Stock Growth","Stock Saturation",null,null,"Beginning Stock ","Demolitions","Replacement Units","New Units","Total Shipments ","End of Year Stock ","Density","Stock Growth","Stock Saturation",null,null,"Beginning Stock ","Demolitions","Replacement Units","New Units","Total Shipments ","End of Year Stock ","Density","Stock Growth","Stock Saturation",null,null,"Beginning Stock ","Demolitions","Replacement Units","New Units","Total Shipments ","End of Year Stock ","Density","Stock Growth","Stock Saturation",null,null,"Beginning Stock ","Demolitions","Replacement Units","New Units","Total Shipments ","End of Year Stock ","Density","Stock Growth","Stock Saturation",null,null,"Beginning Stock ","Demolitions","Replacement Units","New Units","Total Shipments ","End of Year Stock ","Density","Stock Growth","Stock Saturation",null,null,"Beginning Stock ","Demolitions","Replacement Units","New Units","Total Shipments ","End of Year Stock ","Density","Stock Growth","Stock Saturation",null,null,"Beginning Stock ","Demolitions","Replacement Units","New Units","Total Shipments ","End of Year Stock ","Density","Stock Growth","Stock Saturation",null,null,"Beginning Stock ","Demolitions","Replacement Units","New Units","Total Shipments ","End of Year Stock ","Density","Stock Growth","Stock Saturation",null,null,"Beginning Stock ","Demolitions","Replacement Units","New Units","Total Shipments ","End of Year Stock ","Density","Stock Growth","Stock Saturation",null,null,"Beginning Stock ","Demolitions","Replacement Units","New Units","Total Shipments ","End of Year Stock ","Density","Stock Growth","Stock Saturation",null,null,"Beginning Stock ","Demolitions","Replacement Units","New Units","Total Shipments ","End of Year Stock ","Density","Stock Growth","Stock Saturation",null,null,"Beginning Stock ","Demolitions","Replacement Units","New Units","Total Shipments ","End of Year Stock ","Density","Stock Growth","Stock Saturation",null,null,"Beginning Stock ","Demolitions","Replacement Units","New Units","Total Shipments ","End of Year Stock ","Density","Stock Growth","Stock Saturation"]
[null,1987,null,null,null,null,null,{"$f":"SUM(S12,AD12,AO12,AZ12,BK12,BV12,CG12,CR12,DC12,DN12,DY12,EJ12,EU12,FF12,FQ12,GB12,GM12,GX12)","v":75652.731292590353},{"$f":"(K36-K12)/D$8+K12","v":42.862400000000008},null,{"$f":"INDEX('Saturation and Lifetime'!$B$7:$U$18,MATCH($A$1,'Saturation and Lifetime'!$B$7:$B$18,0),MATCH(B10,'Saturation and Lifetime'!$B$7:$U$7,0))","v":42.862400000000008},null,1987,null,null,null,null,null,{"$f":"V36*HLOOKUP(M10,'Saturation and Lifetime'!$C$58:$T$59,2,FALSE)-SUM(Q13:Q35)","v":7293.2859780411864},{"$f":"(V36-V12)/O$8+V12","v":42.862400000000008},null,{"$f":"INDEX('Saturation and Lifetime'!$B$7:$U$18,MATCH($A$1,'Saturation and Lifetime'!$B$7:$B$18,0),MATCH(M10,'Saturation and Lifetime'!$B$7:$U$7,0))","v":42.862400000000008},null,1987,null,null,null,null,null,{"$f":"AG36*HLOOKUP(X10,'Saturation and Lifetime'!$C$58:$T$59,2,FALSE)-SUM(AB13:AB35)","v":3285.9242023299894},{"$f":"(AG36-AG12)/Z$8+AG12","v":42.862400000000008},null,{"$f":"INDEX('Saturation and Lifetime'!$B$7:$U$18,MATCH($A$1,'Saturation and Lifetime'!$B$7:$B$18,0),MATCH(X10,'Saturation and Lifetime'!$B$7:$U$7,0))","v":42.862400000000008},null,1987,null,null,null,null,null,{"$f":"AR36*HLOOKUP(AI10,'Saturation and Lifetime'!$C$58:$T$59,2,FALSE)-SUM(AM13:AM35)","v":3855.6078994670279},{"$f":"(AR36-AR12)/AK$8+AR12","v":42.862400000000008},null,{"$f":"INDEX('Saturation and Lifetime'!$B$7:$U$18,MATCH($A$1,'Saturation and Lifetime'!$B$7:$B$18,0),MATCH(AI10,'Saturation and Lifetime'!$B$7:$U$7,0))","v":42.862400000000008},null,1987,null,null,null,null,null,{"$f":"BC36*HLOOKUP(AT10,'Saturation and Lifetime'!$C$58:$T$59,2,FALSE)-SUM(AX13:AX35)","v":3537.8080308766098},{"$f":"(BC36-BC12)/AV$8+BC12","v":42.862400000000008},null,{"$f":"INDEX('Saturation and Lifetime'!$B$7:$U$18,MATCH($A$1,'Saturation and Lifetime'!$B$7:$B$18,0),MATCH(AT10,'Saturation and Lifetime'!$B$7:$U$7,0))","v":42.862400000000008},null,1987,null,null,null,null,null,{"$f":"BN36*HLOOKUP(BE10,'Saturation and Lifetime'!$C$58:$T$59,2,FALSE)-SUM(BI13:BI35)","v":6534.272461935946},{"$f":"(BN36-BN12)/BG$8+BN12","v":42.862400000000008},null,{"$f":"INDEX('Saturation and Lifetime'!$B$7:$U$18,MATCH($A$1,'Saturation and Lifetime'!$B$7:$B$18,0),MATCH(BE10,'Saturation and Lifetime'!$B$7:$U$7,0))","v":42.862400000000008},null,1987,null,null,null,null,null,{"$f":"BY36*HLOOKUP(BP10,'Saturation and Lifetime'!$C$58:$T$59,2,FALSE)-SUM(BT13:BT35)","v":1633.5681154839865},{"$f":"(BY36-BY12)/BR$8+BY12","v":42.862400000000008},null,{"$f":"INDEX('Saturation and Lifetime'!$B$7:$U$18,MATCH($A$1,'Saturation and Lifetime'!$B$7:$B$18,0),MATCH(BP10,'Saturation and Lifetime'!$B$7:$U$7,0))","v":42.862400000000008},null,1987,null,null,null,null,null,{"$f":"CJ36*HLOOKUP(CA10,'Saturation and Lifetime'!$C$58:$T$59,2,FALSE)-SUM(CE13:CE35)","v":3153.9589261713681},{"$f":"(CJ36-CJ12)/CC$8+CJ12","v":42.862400000000008},null,{"$f":"INDEX('Saturation and Lifetime'!$B$7:$U$18,MATCH($A$1,'Saturation and Lifetime'!$B$7:$B$18,0),MATCH(CA10,'Saturation and Lifetime'!$B$7:$U$7,0))","v":42.862400000000008},null,1987,null,null,null,null,null,{"$f":"CU36*HLOOKUP(CL10,'Saturation and Lifetime'!$C$58:$T$59,2,FALSE)-SUM(CP13:CP35)","v":6443.1496421999273},{"$f":"(CU36-CU12)/CN$8+CU12","v":42.862400000000008},null,{"$f":"INDEX('Saturation and Lifetime'!$B$7:$U$18,MATCH($A$1,'Saturation and Lifetime'!$B$7:$B$18,0),MATCH(CL10,'Saturation and Lifetime'!$B$7:$U$7,0))","v":42.862400000000008},null,1987,null,null,null,null,null,{"$f":"DF36*HLOOKUP(CW10,'Saturation and Lifetime'!$C$58:$T$59,2,FALSE)-SUM(DA13:DA35)","v":3265.7836223550757},{"$f":"(DF36-DF12)/CY$8+DF12","v":42.862400000000008},null,{"$f":"INDEX('Saturation and Lifetime'!$B$7:$U$18,MATCH($A$1,'Saturation and Lifetime'!$B$7:$B$18,0),MATCH(CW10,'Saturation and Lifetime'!$B$7:$U$7,0))","v":42.862400000000008},null,1987,null,null,null,null,null,{"$f":"DQ36*HLOOKUP(DH10,'Saturation and Lifetime'!$C$58:$T$59,2,FALSE)-SUM(DL13:DL35)","v":7629.9613369305616},{"$f":"(DQ36-DQ12)/DJ$8+DQ12","v":42.862400000000008},null,{"$f":"INDEX('Saturation and Lifetime'!$B$7:$U$18,MATCH($A$1,'Saturation and Lifetime'!$B$7:$B$18,0),MATCH(DH10,'Saturation and Lifetime'!$B$7:$U$7,0))","v":42.862400000000008},null,1987,null,null,null,null,null,{"$f":"EB36*HLOOKUP(DS10,'Saturation and Lifetime'!$C$58:$T$59,2,FALSE)-SUM(DW13:DW35)","v":1544.7936868572208},{"$f":"(EB36-EB12)/DU$8+EB12","v":42.862400000000008},null,{"$f":"INDEX('Saturation and Lifetime'!$B$7:$U$18,MATCH($A$1,'Saturation and Lifetime'!$B$7:$B$18,0),MATCH(DS10,'Saturation and Lifetime'!$B$7:$U$7,0))","v":42.862400000000008},null,1987,null,null,null,null,null,{"$f":"EM36*HLOOKUP(ED10,'Saturation and Lifetime'!$C$58:$T$59,2,FALSE)-SUM(EH13:EH35)","v":625.11087745480472},{"$f":"(EM36-EM12)/EF$8+EM12","v":42.862400000000008},null,{"$f":"INDEX('Saturation and Lifetime'!$B$7:$U$18,MATCH($A$1,'Saturation and Lifetime'!$B$7:$B$18,0),MATCH(ED10,'Saturation and Lifetime'!$B$7:$U$7,0))","v":42.862400000000008},null,1987,null,null,null,null,null,{"$f":"EX36*HLOOKUP(EO10,'Saturation and Lifetime'!$C$58:$T$59,2,FALSE)-SUM(ES13:ES35)","v":1480.5397322294625},{"$f":"(EX36-EX12)/EQ$8+EX12","v":42.862400000000008},null,{"$f":"INDEX('Saturation and Lifetime'!$B$7:$U$18,MATCH($A$1,'Saturation and Lifetime'!$B$7:$B$18,0),MATCH(EO10,'Saturation and Lifetime'!$B$7:$U$7,0))","v":42.862400000000008},null,1987,null,null,null,null,null,{"$f":"FI36*HLOOKUP(EZ10,'Saturation and Lifetime'!$C$58:$T$59,2,FALSE)-SUM(FD13:FD35)","v":4546.5765692267742},{"$f":"(FI36-FI12)/FB$8+FI12","v":42.862400000000008},null,{"$f":"INDEX('Saturation and Lifetime'!$B$7:$U$18,MATCH($A$1,'Saturation and Lifetime'!$B$7:$B$18,0),MATCH(EZ10,'Saturation and Lifetime'!$B$7:$U$7,0))","v":42.862400000000008},null,1987,null,null,null,null,null,{"$f":"FT36*HLOOKUP(FK10,'Saturation and Lifetime'!$C$58:$T$59,2,FALSE)-SUM(FO13:FO35)","v":1666.296483565013},{"$f":"(FT36-FT12)/FM$8+FT12","v":42.862400000000008},null,{"$f":"INDEX('Saturation and Lifetime'!$B$7:$U$18,MATCH($A$1,'Saturation and Lifetime'!$B$7:$B$18,0),MATCH(FK10,'Saturation and Lifetime'!$B$7:$U$7,0))","v":42.862400000000008},null,1987,null,null,null,null,null,{"$f":"GE36*HLOOKUP(FV10,'Saturation and Lifetime'!$C$58:$T$59,2,FALSE)-SUM(FZ13:FZ35)","v":3634.1844490959843},{"$f":"(GE36-GE12)/FX$8+GE12","v":42.862400000000008},null,{"$f":"INDEX('Saturation and Lifetime'!$B$7:$U$18,MATCH($A$1,'Saturation and Lifetime'!$B$7:$B$18,0),MATCH(FV10,'Saturation and Lifetime'!$B$7:$U$7,0))","v":42.862400000000008},null,1987,null,null,null,null,null,{"$f":"GP36*HLOOKUP(GG10,'Saturation and Lifetime'!$C$58:$T$59,2,FALSE)-SUM(GK13:GK35)","v":5277.4491546456047},{"$f":"(GP36-GP12)/GI$8+GP12","v":42.862400000000008},null,{"$f":"INDEX('Saturation and Lifetime'!$B$7:$U$18,MATCH($A$1,'Saturation and Lifetime'!$B$7:$B$18,0),MATCH(GG10,'Saturation and Lifetime'!$B$7:$U$7,0))","v":42.862400000000008},null,1987,null,null,null,null,null,{"$f":"HA36*HLOOKUP(GR10,'Saturation and Lifetime'!$C$58:$T$59,2,FALSE)-SUM(GV13:GV35)","v":10244.460123723817},{"$f":"(HA36-HA12)/GT$8+HA12","v":42.862400000000008},null,{"$f":"INDEX('Saturation and Lifetime'!$B$7:$U$18,MATCH($A$1,'Saturation and Lifetime'!$B$7:$B$18,0),MATCH(GR10,'Saturation and Lifetime'!$B$7:$U$7,0))","v":42.862400000000008}]
[null,{"$f":"B12+1","v":1988},{"$f":"SUM(N13,Y13,AJ13,AU13,BF13,BQ13,CB13,CM13,CX13,DI13,DT13,EE13,EP13,FA13,FL13,FW13,GH13,GS13)","v":75652.731292590353},0,4620.4056418250757,1553.7676535505602,6174.1732953756355,77206.498946140928,{"$f":"(K$36-I$12)/(B$36-B$12)*D$8+I12","v":42.862400000000008},{"$f":"H13/H12-1","v":2.0538156746004343E-2},null,null,{"$f":"M12+1","v":1988},{"$f":"S12","v":7293.2859780411864},0,{"$f":"((N13/((1+O$7)^O$6))/O$6*R$7)+(N13/((1+O$7)^O$6))*O$7","v":446.80481342074285},{"$f":"INDEX('Floor Space'!$I$5:$DK$54,MATCH(BVM!M13,'Floor Space'!$I$5:$I$54,0),MATCH(BVM!M$10,'Floor Space'!$I$5:$DK$5,0))*BVM!T13","v":102.30386711782521},{"$f":"Q13+P13","v":549.10868053856802},{"$f":"N13+Q13-O13","v":7395.5898451590119},{"$f":"(V$36-T$12)/(M$36-M$12)*O$8+T12","v":42.862400000000008},{"$f":"S13/S12-1","v":1.4027129530618243E-2},null,null,{"$f":"X12+1","v":1988},{"$f":"AD12","v":3285.9242023299894},0,{"$f":"((Y13/((1+Z$7)^Z$6))/Z$6*AC$7)+(Y13/((1+Z$7)^Z$6))*Z$7","v":201.30387791691561},{"$f":"INDEX('Floor Space'!$I$5:$DK$50,MATCH(BVM!X13,'Floor Space'!$I$5:$I$50,0),MATCH(BVM!X$10,'Floor Space'!$I$5:$DK$5,0))*BVM!AE13","v":46.092084413876073},{"$f":"AB13+AA13","v":247.39596233079169},{"$f":"Y13+AB13-Z13","v":3332.0162867438653},{"$f":"(AG$36-AE$12)/(X$36-X$12)*Z$8+AE12","v":42.862400000000008},{"$f":"AD13/AD12-1","v":1.4027129530618243E-2},null,null,{"$f":"AI12+1","v":1988},{"$f":"AO12","v":3855.6078994670279},0,{"$f":"((AJ13/((1+AK$7)^AK$6))/AK$6*AN$7)+(AJ13/((1+AK$7)^AK$6))*AK$7","v":236.20411613251846},{"$f":"INDEX('Floor Space'!$I$5:$DK$50,MATCH(BVM!AI13,'Floor Space'!$I$5:$I$50,0),MATCH(BVM!AI$10,'Floor Space'!$I$5:$DK$5,0))*BVM!AP13","v":54.083111425098785},{"$f":"AM13+AL13","v":290.28722755761726},{"$f":"AJ13+AM13-AK13","v":3909.6910108921265},{"$f":"(AR$36-AP$12)/(AI$36-AI$12)*AK$8+AP12","v":42.862400000000008},{"$f":"AO13/AO12-1","v":1.4027129530618243E-2},null,null,{"$f":"AT12+1","v":1988},{"$f":"AZ12","v":3537.8080308766098},0,{"$f":"((AU13/((1+AV$7)^AV$6))/AV$6*AY$7)+(AU13/((1+AV$7)^AV$6))*AV$7","v":217.76377300037103},{"$f":"INDEX('Floor Space'!$I$5:$DK$50,MATCH(BVM!AT13,'Floor Space'!$I$5:$I$50,0),MATCH(BVM!AT$10,'Floor Space'!$I$5:$DK$5,0))*BVM!BA13","v":77.450877458317734},{"$f":"AX13+AW13","v":295.21465045868877},{"$f":"AU13+AX13-AV13","v":3615.2589083349276},{"$f":"(BC$36-BA$12)/(AT$36-AT$12)*AV$8+BA12","v":42.862400000000008},{"$f":"AZ13/AZ12-1","v":2.189233468361107E-2},null,null,{"$f":"BE12+1","v":1988},{"$f":"BK12","v":6534.272461935946},0,{"$f":"((BF13/((1+BG$7)^BG$6))/BG$6*BJ$7)+(BF13/((1+BG$7)^BG$6))*BG$7","v":402.20605886606495},{"$f":"INDEX('Floor Space'!$I$5:$DK$50,MATCH(BVM!BE13,'Floor Space'!$I$5:$I$50,0),MATCH(BVM!BE$10,'Floor Space'!$I$5:$DK$5,0))*BVM!BL13","v":143.05047965060496},{"$f":"BI13+BH13","v":545.25653851666993},{"$f":"BF13+BI13-BG13","v":6677.3229415865508},{"$f":"(BN$36-BL$12)/(BE$36-BE$12)*BG$8+BL12","v":42.862400000000008},{"$f":"BK13/BK12-1","v":2.189233468361107E-2},null,null,{"$f":"BP12+1","v":1988},{"$f":"BV12","v":1633.5681154839865},0,{"$f":"((BQ13/((1+BR$7)^BR$6))/BR$6*BU$7)+(BQ13/((1+BR$7)^BR$6))*BR$7","v":100.55151471651624},{"$f":"INDEX('Floor Space'!$I$5:$DK$50,MATCH(BVM!BP13,'Floor Space'!$I$5:$I$50,0),MATCH(BVM!BP$10,'Floor Space'!$I$5:$DK$5,0))*BVM!BW13","v":35.762619912651239},{"$f":"BT13+BS13","v":136.31413462916748},{"$f":"BQ13+BT13-BR13","v":1669.3307353966377},{"$f":"(BY$36-BW$12)/(BP$36-BP$12)*BR$8+BW12","v":42.862400000000008},{"$f":"BV13/BV12-1","v":2.189233468361107E-2},null,null,{"$f":"CA12+1","v":1988},{"$f":"CG12","v":3153.9589261713681},0,{"$f":"((CB13/((1+CC$7)^CC$6))/CC$6*CF$7)+(CB13/((1+CC$7)^CC$6))*CC$7","v":194.13659239195459},{"$f":"INDEX('Floor Space'!$I$5:$DK$50,MATCH(BVM!CA13,'Floor Space'!$I$5:$I$50,0),MATCH(BVM!CA$10,'Floor Space'!$I$5:$DK$5,0))*BVM!CH13","v":69.047524390106133},{"$f":"CE13+CD13","v":263.18411678206076},{"$f":"CB13+CE13-CC13","v":3223.0064505614741},{"$f":"(CJ$36-CH$12)/(CA$36-CA$12)*CC$8+CH12","v":42.862400000000008},{"$f":"CG13/CG12-1","v":2.189233468361107E-2},null,null,{"$f":"CL12+1","v":1988},{"$f":"CR12","v":6443.1496421999273},0,{"$f":"((CM13/((1+CN$7)^CN$6))/CN$6*CQ$7)+(CM13/((1+CN$7)^CN$6))*CN$7","v":395.05427790819903},{"$f":"INDEX('Floor Space'!$I$5:$DK$50,MATCH(BVM!CL13,'Floor Space'!$I$5:$I$50,0),MATCH(BVM!CL$10,'Floor Space'!$I$5:$DK$5,0))*BVM!CS13","v":91.113634092096007},{"$f":"CP13+CO13","v":486.16791200029502},{"$f":"CM13+CP13-CN13","v":6534.263276292023},{"$f":"(CU$36-CS$12)/(CL$36-CL$12)*CN$8+CS12","v":42.862400000000008},{"$f":"CR13/CR12-1","v":1.414116374006591E-2},null,null,{"$f":"CW12+1","v":1988},{"$f":"DC12","v":3265.7836223550757},0,{"$f":"((CX13/((1+CY$7)^CY$6))/CY$6*DB$7)+(CX13/((1+CY$7)^CY$6))*CY$7","v":200.74539632267346},{"$f":"INDEX('Floor Space'!$I$5:$DK$50,MATCH(BVM!CW13,'Floor Space'!$I$5:$I$50,0),MATCH(BVM!CW$10,'Floor Space'!$I$5:$DK$5,0))*BVM!DD13","v":46.937326653504009},{"$f":"DA13+CZ13","v":247.68272297617747},{"$f":"CX13+DA13-CY13","v":3312.7209490085797},{"$f":"(DF$36-DD$12)/(CW$36-CW$12)*CY$8+DD12","v":42.862400000000008},{"$f":"DC13/DC12-1","v":1.4372454541141888E-2},null,null,{"$f":"DH12+1","v":1988},{"$f":"DN12","v":7629.9613369305616},0,{"$f":"((DI13/((1+DJ$7)^DJ$6))/DJ$6*DM$7)+(DI13/((1+DJ$7)^DJ$6))*DJ$7","v":459.22271622075539},{"$f":"INDEX('Floor Space'!$I$5:$DK$50,MATCH(BVM!DH13,'Floor Space'!$I$5:$I$50,0),MATCH(BVM!DH$10,'Floor Space'!$I$5:$DK$5,0))*BVM!DO13","v":265.02258687856005},{"$f":"DL13+DK13","v":724.24530309931538},{"$f":"DI13+DL13-DJ13","v":7894.9839238091217},{"$f":"(DQ$36-DO$12)/(DH$36-DH$12)*DJ$8+DO12","v":42.862400000000008},{"$f":"DN13/DN12-1","v":3.4734460002542544E-2},null,null,{"$f":"DS12+1","v":1988},{"$f":"DY12","v":1544.7936868572208},0,{"$f":"((DT13/((1+DU$7)^DU$6))/DU$6*DX$7)+(DT13/((1+DU$7)^DU$6))*DU$7","v":95.576909660514616},{"$f":"INDEX('Floor Space'!$I$5:$DK$50,MATCH(BVM!DS13,'Floor Space'!$I$5:$I$50,0),MATCH(BVM!DS$10,'Floor Space'!$I$5:$DK$5,0))*BVM!DZ13","v":37.23896580763931},{"$f":"DW13+DV13","v":132.81587546815393},{"$f":"DT13+DW13-DU13","v":1582.0326526648601},{"$f":"(EB$36-DZ$12)/(DS$36-DS$12)*DU$8+DZ12","v":42.862400000000008},{"$f":"DY13/DY12-1","v":2.4106109524178132E-2},null,null,{"$f":"ED12+1","v":1988},{"$f":"EJ12","v":625.11087745480472},0,{"$f":"((EE13/((1+EF$7)^EF$6))/EF$6*EI$7)+(EE13/((1+EF$7)^EF$6))*EF$7","v":38.646003309702436},{"$f":"INDEX('Floor Space'!$I$5:$DK$50,MATCH(BVM!ED13,'Floor Space'!$I$5:$I$50,0),MATCH(BVM!ED$10,'Floor Space'!$I$5:$DK$5,0))*BVM!EK13","v":15.068991276680697},{"$f":"EH13+EG13","v":53.714994586383135},{"$f":"EE13+EH13-EF13","v":640.17986873148539},{"$f":"(EM$36-EK$12)/(ED$36-ED$12)*EF$8+EK12","v":42.862400000000008},{"$f":"EJ13/EJ12-1","v":2.4106109524178132E-2},null,null,{"$f":"EO12+1","v":1988},{"$f":"EU12","v":1480.5397322294625},0,{"$f":"((EP13/((1+EQ$7)^EQ$6))/EQ$6*ET$7)+(EP13/((1+EQ$7)^EQ$6))*EQ$7","v":91.503234447898109},{"$f":"INDEX('Floor Space'!$I$5:$DK$50,MATCH(BVM!EO13,'Floor Space'!$I$5:$I$50,0),MATCH(BVM!EO$10,'Floor Space'!$I$5:$DK$5,0))*BVM!EV13","v":13.083404700800001},{"$f":"ES13+ER13","v":104.58663914869811},{"$f":"EP13+ES13-EQ13","v":1493.6231369302625},{"$f":"(EX$36-EV$12)/(EO$36-EO$12)*EQ$8+EV12","v":42.862400000000008},{"$f":"EU13/EU12-1","v":8.8369156301522089E-3},null,null,{"$f":"EZ12+1","v":1988},{"$f":"FF12","v":4546.5765692267742},0,{"$f":"((FA13/((1+FB$7)^FB$6))/FB$6*FE$7)+(FA13/((1+FB$7)^FB$6))*FB$7","v":280.03539116391681},{"$f":"INDEX('Floor Space'!$I$5:$DK$50,MATCH(BVM!EZ13,'Floor Space'!$I$5:$I$50,0),MATCH(BVM!EZ$10,'Floor Space'!$I$5:$DK$5,0))*BVM!FG13","v":139.82520693120003},{"$f":"FD13+FC13","v":419.86059809511687},{"$f":"FA13+FD13-FB13","v":4686.4017761579744},{"$f":"(FI$36-FG$12)/(EZ$36-EZ$12)*FB$8+FG12","v":42.862400000000008},{"$f":"FF13/FF12-1","v":3.0753954058004629E-2},null,null,{"$f":"FK12+1","v":1988},{"$f":"FQ12","v":1666.296483565013},0,{"$f":"((FL13/((1+FM$7)^FM$6))/FM$6*FP$7)+(FL13/((1+FM$7)^FM$6))*FM$7","v":101.14086515045112},{"$f":"INDEX('Floor Space'!$I$5:$DK$50,MATCH(BVM!FK13,'Floor Space'!$I$5:$I$50,0),MATCH(BVM!FK$10,'Floor Space'!$I$5:$DK$5,0))*BVM!FR13","v":31.930305618041604},{"$f":"FO13+FN13","v":133.07117076849272},{"$f":"FL13+FO13-FM13","v":1698.2267891830545},{"$f":"(FT$36-FR$12)/(FK$36-FK$12)*FM$8+FR12","v":42.862400000000008},{"$f":"FQ13/FQ12-1","v":1.9162439537606879E-2},null,null,{"$f":"FV12+1","v":1988},{"$f":"GB12","v":3634.1844490959843},0,{"$f":"((FW13/((1+FX$7)^FX$6))/FX$6*GA$7)+(FW13/((1+FX$7)^FX$6))*FX$7","v":220.6836194081647},{"$f":"INDEX('Floor Space'!$I$5:$DK$50,MATCH(BVM!FV13,'Floor Space'!$I$5:$I$50,0),MATCH(BVM!FV$10,'Floor Space'!$I$5:$DK$5,0))*BVM!GC13","v":66.735767364358423},{"$f":"FZ13+FY13","v":287.41938677252313},{"$f":"FW13+FZ13-FX13","v":3700.9202164603425},{"$f":"(GE$36-GC$12)/(FV$36-FV$12)*FX$8+GC12","v":42.862400000000008},{"$f":"GB13/GB12-1","v":1.8363340743742018E-2},null,null,{"$f":"GG12+1","v":1988},{"$f":"GM12","v":5277.4491546456047},0,{"$f":"((GH13/((1+GI$7)^GI$6))/GI$6*GL$7)+(GH13/((1+GI$7)^GI$6))*GI$7","v":319.65177472236019},{"$f":"INDEX('Floor Space'!$I$5:$DK$50,MATCH(BVM!GG13,'Floor Space'!$I$5:$I$50,0),MATCH(BVM!GG$10,'Floor Space'!$I$5:$DK$5,0))*BVM!GN13","v":102.60398054457602},{"$f":"GK13+GJ13","v":422.25575526693621},{"$f":"GH13+GK13-GI13","v":5380.0531351901809},{"$f":"(GP$36-GN$12)/(GG$36-GG$12)*GI$8+GN12","v":42.862400000000008},{"$f":"GM13/GM12-1","v":1.9441964770850806E-2},null,null,{"$f":"GR12+1","v":1988},{"$f":"GX12","v":10244.460123723817},0,{"$f":"((GS13/((1+GT$7)^GT$6))/GT$6*GW$7)+(GS13/((1+GT$7)^GT$6))*GT$7","v":619.17470706535596},{"$f":"INDEX('Floor Space'!$I$5:$DK$50,MATCH(BVM!GR13,'Floor Space'!$I$5:$I$50,0),MATCH(BVM!GR$10,'Floor Space'!$I$5:$DK$5,0))*BVM!GY13","v":216.41691931462404},{"$f":"GV13+GU13","v":835.59162637997997},{"$f":"GS13+GV13-GT13","v":10460.877043038441},{"$f":"(HA$36-GY$12)/(GR$36-GR$12)*GT$8+GY12","v":42.862400000000008},{"$f":"GX13/GX12-1","v":2.1125263479083056E-2}]
[null,{"$f":"B13+1","v":1989},{"$f":"SUM(N14,Y14,AJ14,AU14,BF14,BQ14,CB14,CM14,CX14,DI14,DT14,EE14,EP14,FA14,FL14,FW14,GH14,GS14)","v":77206.498946140928},0,4715.1984699643372,1513.5202071360004,6228.7186771003371,78720.019153276909,42.862400000000008,{"$f":"H14/H13-1","v":1.9603533741269663E-2},null,null,{"$f":"M13+1","v":1989},{"$f":"S13","v":7395.5898451590119},0,453.07220241349938,{"$f":"INDEX('Floor Space'!$I$5:$DK$54,MATCH(BVM!M14,'Floor Space'!$I$5:$I$54,0),MATCH(BVM!M$10,'Floor Space'!$I$5:$DK$5,0))*BVM!T14","v":139.22344737112394},{"$f":"Q14+P14","v":592.29564978462327},{"$f":"N14+Q14-O14","v":7534.8132925301361},42.862400000000008,{"$f":"S14/S13-1","v":1.8825198569152324E-2},null,null,{"$f":"X13+1","v":1989},{"$f":"AD13","v":3332.0162867438653},0,204.12759348747193,{"$f":"INDEX('Floor Space'!$I$5:$DK$50,MATCH(BVM!X14,'Floor Space'!$I$5:$I$50,0),MATCH(BVM!X$10,'Floor Space'!$I$5:$DK$5,0))*BVM!AE14","v":62.725868233602448},{"$f":"AB14+AA14","v":266.85346172107438},{"$f":"Y14+AB14-Z14","v":3394.7421549774676},42.862400000000008,{"$f":"AD14/AD13-1","v":1.8825198569152102E-2},null,null,{"$f":"AI13+1","v":1989},{"$f":"AO13","v":3909.6910108921265},0,239.51738186517451,{"$f":"INDEX('Floor Space'!$I$5:$DK$50,MATCH(BVM!AI14,'Floor Space'!$I$5:$I$50,0),MATCH(BVM!AI$10,'Floor Space'!$I$5:$DK$5,0))*BVM!AP14","v":73.600709624073673},{"$f":"AM14+AL14","v":313.11809148924817},{"$f":"AJ14+AM14-AK14","v":3983.2917205162003},42.862400000000008,{"$f":"AO14/AO13-1","v":1.8825198569152102E-2},null,null,{"$f":"AT13+1","v":1989},{"$f":"AZ13","v":3615.2589083349276},0,222.53113040086106,{"$f":"INDEX('Floor Space'!$I$5:$DK$50,MATCH(BVM!AT14,'Floor Space'!$I$5:$I$50,0),MATCH(BVM!AT$10,'Floor Space'!$I$5:$DK$5,0))*BVM!BA14","v":68.188948061998204},{"$f":"AX14+AW14","v":290.72007846285925},{"$f":"AU14+AX14-AV14","v":3683.447856396926},42.862400000000008,{"$f":"AZ14/AZ13-1","v":1.8861428680748027E-2},null,null,{"$f":"BE13+1","v":1989},{"$f":"BK13","v":6677.3229415865508},0,411.01128851853701,{"$f":"INDEX('Floor Space'!$I$5:$DK$50,MATCH(BVM!BE14,'Floor Space'!$I$5:$I$50,0),MATCH(BVM!BE$10,'Floor Space'!$I$5:$DK$5,0))*BVM!BL14","v":125.94385044105739},{"$f":"BI14+BH14","v":536.95513895959436},{"$f":"BF14+BI14-BG14","v":6803.2667920276081},42.862400000000008,{"$f":"BK14/BK13-1","v":1.8861428680748027E-2},null,null,{"$f":"BP13+1","v":1989},{"$f":"BV13","v":1669.3307353966377},0,102.75282212963425,{"$f":"INDEX('Floor Space'!$I$5:$DK$50,MATCH(BVM!BP14,'Floor Space'!$I$5:$I$50,0),MATCH(BVM!BP$10,'Floor Space'!$I$5:$DK$5,0))*BVM!BW14","v":31.485962610264348},{"$f":"BT14+BS14","v":134.23878473989859},{"$f":"BQ14+BT14-BR14","v":1700.816698006902},42.862400000000008,{"$f":"BV14/BV13-1","v":1.8861428680748027E-2},null,null,{"$f":"CA13+1","v":1989},{"$f":"CG13","v":3223.0064505614741},0,198.38669564693504,{"$f":"INDEX('Floor Space'!$I$5:$DK$50,MATCH(BVM!CA14,'Floor Space'!$I$5:$I$50,0),MATCH(BVM!CA$10,'Floor Space'!$I$5:$DK$5,0))*BVM!CH14","v":60.790506304856102},{"$f":"CE14+CD14","v":259.17720195179112},{"$f":"CB14+CE14-CC14","v":3283.7969568663302},42.862400000000008,{"$f":"CG14/CG13-1","v":1.8861428680748027E-2},null,null,{"$f":"CL13+1","v":1989},{"$f":"CR13","v":6534.263276292023},0,400.64080513831232,{"$f":"INDEX('Floor Space'!$I$5:$DK$50,MATCH(BVM!CL14,'Floor Space'!$I$5:$I$50,0),MATCH(BVM!CL$10,'Floor Space'!$I$5:$DK$5,0))*BVM!CS14","v":118.251221989824},{"$f":"CP14+CO14","v":518.89202712813631},{"$f":"CM14+CP14-CN14","v":6652.5144982818474},42.862400000000008,{"$f":"CR14/CR13-1","v":1.8097100926262044E-2},null,null,{"$f":"CW13+1","v":1989},{"$f":"DC13","v":3312.7209490085797},0,203.63060040566458,{"$f":"INDEX('Floor Space'!$I$5:$DK$50,MATCH(BVM!CW14,'Floor Space'!$I$5:$I$50,0),MATCH(BVM!CW$10,'Floor Space'!$I$5:$DK$5,0))*BVM!DD14","v":60.917296176576016},{"$f":"DA14+CZ14","v":264.54789658224058},{"$f":"CX14+DA14-CY14","v":3373.6382451851559},42.862400000000008,{"$f":"DC14/DC13-1","v":1.8388900578784728E-2},null,null,{"$f":"DH13+1","v":1989},{"$f":"DN13","v":7894.9839238091217},0,475.17356928958407,{"$f":"INDEX('Floor Space'!$I$5:$DK$50,MATCH(BVM!DH14,'Floor Space'!$I$5:$I$50,0),MATCH(BVM!DH$10,'Floor Space'!$I$5:$DK$5,0))*BVM!DO14","v":266.59658421760003},{"$f":"DL14+DK14","v":741.77015350718409},{"$f":"DI14+DL14-DJ14","v":8161.5805080267219},42.862400000000008,{"$f":"DN14/DN13-1","v":3.3767843834819899E-2},null,null,{"$f":"DS13+1","v":1989},{"$f":"DY13","v":1582.0326526648601},0,97.880897112773454,{"$f":"INDEX('Floor Space'!$I$5:$DK$50,MATCH(BVM!DS14,'Floor Space'!$I$5:$I$50,0),MATCH(BVM!DS$10,'Floor Space'!$I$5:$DK$5,0))*BVM!DZ14","v":32.498826033883752},{"$f":"DW14+DV14","v":130.3797231466572},{"$f":"DT14+DW14-DU14","v":1614.5314786987437},42.862400000000008,{"$f":"DY14/DY13-1","v":2.0542449600607693E-2},null,null,{"$f":"ED13+1","v":1989},{"$f":"EJ13","v":640.17986873148539},0,39.577608098157881,{"$f":"INDEX('Floor Space'!$I$5:$DK$50,MATCH(BVM!ED14,'Floor Space'!$I$5:$I$50,0),MATCH(BVM!ED$10,'Floor Space'!$I$5:$DK$5,0))*BVM!EK14","v":13.150862688740251},{"$f":"EH14+EG14","v":52.728470786898129},{"$f":"EE14+EH14-EF14","v":653.33073142022567},42.862400000000008,{"$f":"EJ14/EJ13-1","v":2.0542449600607915E-2},null,null,{"$f":"EO13+1","v":1989},{"$f":"EU13","v":1493.6231369302625},0,92.311840810600231,{"$f":"INDEX('Floor Space'!$I$5:$DK$50,MATCH(BVM!EO14,'Floor Space'!$I$5:$I$50,0),MATCH(BVM!EO$10,'Floor Space'!$I$5:$DK$5,0))*BVM!EV14","v":18.516213900800004},{"$f":"ES14+ER14","v":110.82805471140023},{"$f":"EP14+ES14-EQ14","v":1512.1393508310625},42.862400000000008,{"$f":"EU14/EU13-1","v":1.2396844587487577E-2},null,null,{"$f":"EZ13+1","v":1989},{"$f":"FF13","v":4686.4017761579744},0,288.64758671838723,{"$f":"INDEX('Floor Space'!$I$5:$DK$50,MATCH(BVM!EZ14,'Floor Space'!$I$5:$I$50,0),MATCH(BVM!EZ$10,'Floor Space'!$I$5:$DK$5,0))*BVM!FG14","v":92.927569145600017},{"$f":"FD14+FC14","v":381.57515586398722},{"$f":"FA14+FD14-FB14","v":4779.329345303574},42.862400000000008,{"$f":"FF14/FF13-1","v":1.9829193821658153E-2},null,null,{"$f":"FK13+1","v":1989},{"$f":"FQ13","v":1698.2267891830545},0,103.07897086367788,{"$f":"INDEX('Floor Space'!$I$5:$DK$50,MATCH(BVM!FK14,'Floor Space'!$I$5:$I$50,0),MATCH(BVM!FK$10,'Floor Space'!$I$5:$DK$5,0))*BVM!FR14","v":44.786276766604814},{"$f":"FO14+FN14","v":147.86524763028268},{"$f":"FL14+FO14-FM14","v":1743.0130659496592},42.862400000000008,{"$f":"FQ14/FQ13-1","v":2.6372376794356001E-2},null,null,{"$f":"FV13+1","v":1989},{"$f":"GB13","v":3700.9202164603425},0,224.73610790791915,{"$f":"INDEX('Floor Space'!$I$5:$DK$50,MATCH(BVM!FV14,'Floor Space'!$I$5:$I$50,0),MATCH(BVM!FV$10,'Floor Space'!$I$5:$DK$5,0))*BVM!GC14","v":93.002537540595213},{"$f":"FZ14+FY14","v":317.73864544851438},{"$f":"FW14+FZ14-FX14","v":3793.9227540009379},42.862400000000008,{"$f":"GB14/GB13-1","v":2.5129571052884048E-2},null,null,{"$f":"GG13+1","v":1989},{"$f":"GM13","v":5380.0531351901809},0,325.86643326545226,{"$f":"INDEX('Floor Space'!$I$5:$DK$50,MATCH(BVM!GG14,'Floor Space'!$I$5:$I$50,0),MATCH(BVM!GG$10,'Floor Space'!$I$5:$DK$5,0))*BVM!GN14","v":68.588520493248012},{"$f":"GK14+GJ14","v":394.4549537587003},{"$f":"GH14+GK14-GI14","v":5448.6416556834292},42.862400000000008,{"$f":"GM14/GM13-1","v":1.2748669719378825E-2},null,null,{"$f":"GR13+1","v":1989},{"$f":"GX13","v":10460.877043038441},0,632.2549358916956,{"$f":"INDEX('Floor Space'!$I$5:$DK$50,MATCH(BVM!GR14,'Floor Space'!$I$5:$I$50,0),MATCH(BVM!GR$10,'Floor Space'!$I$5:$DK$5,0))*BVM!GY14","v":142.32500553555204},{"$f":"GV14+GU14","v":774.5799414272476},{"$f":"GS14+GV14-GT14","v":10603.202048573994},42.862400000000008,{"$f":"GX14/GX13-1","v":1.3605456306387653E-2}]
[null,1990,78720.019153276909,0,4807.5635512068548,1632.3623361729606,6439.9258873798135,80352.381489449879,42.862400000000008,2.0736305119471332E-2,null,null,1990,{"$f":"S14","v":7534.8132925301361},0,461.60137659009666,{"$f":"INDEX('Floor Space'!$I$5:$DK$54,MATCH(BVM!M15,'Floor Space'!$I$5:$I$54,0),MATCH(BVM!M$10,'Floor Space'!$I$5:$DK$5,0))*BVM!T15","v":166.1598542730195},627.76123086311623,7700.9731468031559,42.862400000000008,{"$f":"S15/S14-1","v":2.2052285547373485E-2},null,null,1990,{"$f":"AD14","v":3394.7421549774676},0,207.97033596831676,{"$f":"INDEX('Floor Space'!$I$5:$DK$50,MATCH(BVM!X15,'Floor Space'!$I$5:$I$50,0),MATCH(BVM!X$10,'Floor Space'!$I$5:$DK$5,0))*BVM!AE15","v":74.861823361268961},282.83215932958569,3469.6039783387364,42.862400000000008,{"$f":"AD15/AD14-1","v":2.2052285547373485E-2},null,null,1990,{"$f":"AO14","v":3983.2917205162003},0,244.02634413954985,{"$f":"INDEX('Floor Space'!$I$5:$DK$50,MATCH(BVM!AI15,'Floor Space'!$I$5:$I$50,0),MATCH(BVM!AI$10,'Floor Space'!$I$5:$DK$5,0))*BVM!AP15","v":87.840686439311668},331.86703057886155,4071.1324069555121,42.862400000000008,{"$f":"AO15/AO14-1","v":2.2052285547373485E-2},null,null,1990,{"$f":"AZ14","v":3683.447856396926},0,226.72838544616317,{"$f":"INDEX('Floor Space'!$I$5:$DK$50,MATCH(BVM!AT15,'Floor Space'!$I$5:$I$50,0),MATCH(BVM!AT$10,'Floor Space'!$I$5:$DK$5,0))*BVM!BA15","v":54.728269840878923},281.45665528704211,3738.176126237805,42.862400000000008,{"$f":"AZ15/AZ14-1","v":1.4857891837896986E-2},null,null,1990,{"$f":"BK14","v":6803.2667920276081},0,418.76354862391179,{"$f":"INDEX('Floor Space'!$I$5:$DK$50,MATCH(BVM!BE15,'Floor Space'!$I$5:$I$50,0),MATCH(BVM!BE$10,'Floor Space'!$I$5:$DK$5,0))*BVM!BL15","v":101.08220214030243},519.84575076421424,6904.3489941679109,42.862400000000008,{"$f":"BK15/BK14-1","v":1.4857891837896986E-2},null,null,1990,{"$f":"BV14","v":1700.816698006902},0,104.69088715597795,{"$f":"INDEX('Floor Space'!$I$5:$DK$50,MATCH(BVM!BP15,'Floor Space'!$I$5:$I$50,0),MATCH(BVM!BP$10,'Floor Space'!$I$5:$DK$5,0))*BVM!BW15","v":25.270550535075607},129.96143769105356,1726.0872485419777,42.862400000000008,{"$f":"BV15/BV14-1","v":1.4857891837896986E-2},null,null,1990,{"$f":"CG14","v":3283.7969568663302},0,202.12855215808898,{"$f":"INDEX('Floor Space'!$I$5:$DK$50,MATCH(BVM!CA15,'Floor Space'!$I$5:$I$50,0),MATCH(BVM!CA$10,'Floor Space'!$I$5:$DK$5,0))*BVM!CH15","v":48.790300002735115},250.91885216082409,3332.5872568690652,42.862400000000008,{"$f":"CG15/CG14-1","v":1.4857891837896986E-2},null,null,1990,{"$f":"CR14","v":6652.5144982818474},0,407.89124222407929,{"$f":"INDEX('Floor Space'!$I$5:$DK$50,MATCH(BVM!CL15,'Floor Space'!$I$5:$I$50,0),MATCH(BVM!CL$10,'Floor Space'!$I$5:$DK$5,0))*BVM!CS15","v":158.39674247443205},566.28798469851131,6810.9112407562798,42.862400000000008,{"$f":"CR15/CR14-1","v":2.3810055959343046E-2},null,null,1990,{"$f":"DC14","v":3373.6382451851559},0,207.3751432713226,{"$f":"INDEX('Floor Space'!$I$5:$DK$50,MATCH(BVM!CW15,'Floor Space'!$I$5:$I$50,0),MATCH(BVM!CW$10,'Floor Space'!$I$5:$DK$5,0))*BVM!DD15","v":81.598321880768012},288.97346515209063,3455.2365670659237,42.862400000000008,{"$f":"DC15/DC14-1","v":2.4187039614346428E-2},null,null,1990,{"$f":"DN14","v":8161.5805080267219},0,491.21915617178882,{"$f":"INDEX('Floor Space'!$I$5:$DK$50,MATCH(BVM!DH15,'Floor Space'!$I$5:$I$50,0),MATCH(BVM!DH$10,'Floor Space'!$I$5:$DK$5,0))*BVM!DO15","v":283.34013355536013},774.55928972714901,8444.9206415820827,42.862400000000008,{"$f":"DN15/DN14-1","v":3.4716331386635435E-2},null,null,1990,{"$f":"DY14","v":1614.5314786987437},0,99.8916105085749,{"$f":"INDEX('Floor Space'!$I$5:$DK$50,MATCH(BVM!DS15,'Floor Space'!$I$5:$I$50,0),MATCH(BVM!DS$10,'Floor Space'!$I$5:$DK$5,0))*BVM!DZ15","v":27.061718169831536},126.95332867840644,1641.5931968685752,42.862400000000008,{"$f":"DY15/DY14-1","v":1.6761344406640122E-2},null,null,1990,{"$f":"EJ14","v":653.33073142022567},0,40.390629117826897,{"$f":"INDEX('Floor Space'!$I$5:$DK$50,MATCH(BVM!ED15,'Floor Space'!$I$5:$I$50,0),MATCH(BVM!ED$10,'Floor Space'!$I$5:$DK$5,0))*BVM!EK15","v":10.95070140077647},51.341330518603371,664.28143282100211,42.862400000000008,{"$f":"EJ15/EJ14-1","v":1.6761344406640122E-2},null,null,1990,{"$f":"EU14","v":1512.1393508310625},0,93.456216354714115,{"$f":"INDEX('Floor Space'!$I$5:$DK$50,MATCH(BVM!EO15,'Floor Space'!$I$5:$I$50,0),MATCH(BVM!EO$10,'Floor Space'!$I$5:$DK$5,0))*BVM!EV15","v":18.096676729600006},111.55289308431412,1530.2360275606625,42.862400000000008,{"$f":"EU15/EU14-1","v":1.1967598567985238E-2},null,null,1990,{"$f":"FF14","v":4779.329345303574},0,294.37123566158004,{"$f":"INDEX('Floor Space'!$I$5:$DK$50,MATCH(BVM!EZ15,'Floor Space'!$I$5:$I$50,0),MATCH(BVM!EZ$10,'Floor Space'!$I$5:$DK$5,0))*BVM!FG15","v":92.669966121600027},387.0412017831801,4871.9993114251738,42.862400000000008,{"$f":"FF15/FF14-1","v":1.9389742666021226E-2},null,null,1990,{"$f":"FQ14","v":1743.0130659496592},0,105.79740832286922,{"$f":"INDEX('Floor Space'!$I$5:$DK$50,MATCH(BVM!FK15,'Floor Space'!$I$5:$I$50,0),MATCH(BVM!FK$10,'Floor Space'!$I$5:$DK$5,0))*BVM!FR15","v":35.091787721804799},140.88919604467401,1778.1048536714641,42.862400000000008,{"$f":"FQ15/FQ14-1","v":2.0132831134392903E-2},null,null,1990,{"$f":"GB14","v":3793.9227540009379},0,230.38362989973979,{"$f":"INDEX('Floor Space'!$I$5:$DK$50,MATCH(BVM!FV15,'Floor Space'!$I$5:$I$50,0),MATCH(BVM!FV$10,'Floor Space'!$I$5:$DK$5,0))*BVM!GC15","v":72.211144585395218},302.59477448513502,3866.1338985863331,42.862400000000008,{"$f":"GB15/GB14-1","v":1.9033372387259107E-2},null,null,1990,{"$f":"GM14","v":5448.6416556834292},0,330.02079679578549,{"$f":"INDEX('Floor Space'!$I$5:$DK$50,MATCH(BVM!GG15,'Floor Space'!$I$5:$I$50,0),MATCH(BVM!GG$10,'Floor Space'!$I$5:$DK$5,0))*BVM!GN15","v":97.607465999680045},427.6282627954655,5546.2491216831095,42.862400000000008,{"$f":"GM15/GM14-1","v":1.7914091652158293E-2},null,null,1990,{"$f":"GX14","v":10603.202048573994},0,640.857052796468,{"$f":"INDEX('Floor Space'!$I$5:$DK$50,MATCH(BVM!GR15,'Floor Space'!$I$5:$I$50,0),MATCH(BVM!GR$10,'Floor Space'!$I$5:$DK$5,0))*BVM!GY15","v":196.60399094112006},837.46104373758806,10799.806039515113,42.862400000000008,{"$f":"GX15/GX14-1","v":1.8541945163401019E-2}]
[null,1991,80352.381489449879,0,4907.1281327563283,1454.3600824793605,6361.4882152356895,81806.741571929248,42.862400000000008,1.8099775706962973E-2,null,null,1991,7700.9731468031559,0,471.78074195572219,{"$f":"INDEX('Floor Space'!$I$5:$DK$54,MATCH(BVM!M16,'Floor Space'!$I$5:$I$54,0),MATCH(BVM!M$10,'Floor Space'!$I$5:$DK$5,0))*BVM!T16","v":114.49626407626245},586.27700603198468,7815.4694108794183,42.862400000000008,1.4867765656836784E-2,null,null,1991,3469.6039783387364,0,212.55655720247324,{"$f":"INDEX('Floor Space'!$I$5:$DK$50,MATCH(BVM!X16,'Floor Space'!$I$5:$I$50,0),MATCH(BVM!X$10,'Floor Space'!$I$5:$DK$5,0))*BVM!AE16","v":51.585258871969046},264.14181607444232,3521.1892372107054,42.862400000000008,1.4867765656836784E-2,null,null,1991,4071.1324069555121,0,249.40768276159687,{"$f":"INDEX('Floor Space'!$I$5:$DK$50,MATCH(BVM!AI16,'Floor Space'!$I$5:$I$50,0),MATCH(BVM!AI$10,'Floor Space'!$I$5:$DK$5,0))*BVM!AP16","v":60.528642584568544},309.9363253461654,4131.661049540081,42.862400000000008,1.4867765656836784E-2,null,null,1991,3738.176126237805,0,230.09709127370326,{"$f":"INDEX('Floor Space'!$I$5:$DK$50,MATCH(BVM!AT16,'Floor Space'!$I$5:$I$50,0),MATCH(BVM!AT$10,'Floor Space'!$I$5:$DK$5,0))*BVM!BA16","v":41.776349832367472},271.87344110607074,3779.9524760701725,42.862400000000008,1.1175596981411351E-2,null,null,1991,6904.3489941679109,0,424.9854921350198,{"$f":"INDEX('Floor Space'!$I$5:$DK$50,MATCH(BVM!BE16,'Floor Space'!$I$5:$I$50,0),MATCH(BVM!BE$10,'Floor Space'!$I$5:$DK$5,0))*BVM!BL16","v":77.160221777833954},502.14571391285375,6981.5092159457445,42.862400000000008,1.1175596981411351E-2,null,null,1991,1726.0872485419777,0,106.24637303375495,{"$f":"INDEX('Floor Space'!$I$5:$DK$50,MATCH(BVM!BP16,'Floor Space'!$I$5:$I$50,0),MATCH(BVM!BP$10,'Floor Space'!$I$5:$DK$5,0))*BVM!BW16","v":19.290055444458488},125.53642847821344,1745.3773039864361,42.862400000000008,1.1175596981411351E-2,null,null,1991,3332.5872568690652,0,205.13175632340455,{"$f":"INDEX('Floor Space'!$I$5:$DK$50,MATCH(BVM!CA16,'Floor Space'!$I$5:$I$50,0),MATCH(BVM!CA$10,'Floor Space'!$I$5:$DK$5,0))*BVM!CH16","v":37.243652088156125},242.37540841156067,3369.8309089572213,42.862400000000008,1.1175596981411351E-2,null,null,1991,6810.9112407562798,0,417.60315552676059,{"$f":"INDEX('Floor Space'!$I$5:$DK$50,MATCH(BVM!CL16,'Floor Space'!$I$5:$I$50,0),MATCH(BVM!CL$10,'Floor Space'!$I$5:$DK$5,0))*BVM!CS16","v":163.25801243136004},580.86116795812063,6974.1692531876397,42.862400000000008,2.3970069005514238E-2,null,null,1991,3455.2365670659237,0,212.39093407665681,{"$f":"INDEX('Floor Space'!$I$5:$DK$50,MATCH(BVM!CW16,'Floor Space'!$I$5:$I$50,0),MATCH(BVM!CW$10,'Floor Space'!$I$5:$DK$5,0))*BVM!DD16","v":84.102612464640018},296.49354654129684,3539.3391795305638,42.862400000000008,2.4340623523806171E-2,null,null,1991,8444.9206415820827,0,508.2724831809121,{"$f":"INDEX('Floor Space'!$I$5:$DK$50,MATCH(BVM!DH16,'Floor Space'!$I$5:$I$50,0),MATCH(BVM!DH$10,'Floor Space'!$I$5:$DK$5,0))*BVM!DO16","v":238.99930222336002},747.27178540427212,8683.919943805442,42.862400000000008,2.8300953006775043E-2,null,null,1991,1641.5931968685752,0,101.56592819564307,{"$f":"INDEX('Floor Space'!$I$5:$DK$50,MATCH(BVM!DS16,'Floor Space'!$I$5:$I$50,0),MATCH(BVM!DS$10,'Floor Space'!$I$5:$DK$5,0))*BVM!DZ16","v":18.307106215399894},119.87303441104297,1659.9003030839751,42.862400000000008,1.1152035869983923E-2,null,null,1991,664.28143282100211,0,41.067630363271661,{"$f":"INDEX('Floor Space'!$I$5:$DK$50,MATCH(BVM!ED16,'Floor Space'!$I$5:$I$50,0),MATCH(BVM!ED$10,'Floor Space'!$I$5:$DK$5,0))*BVM!EK16","v":7.408090366584112},48.475720729855773,671.68952318758625,42.862400000000008,1.1152035869983923E-2,null,null,1991,1530.2360275606625,0,94.574662835730123,{"$f":"INDEX('Floor Space'!$I$5:$DK$50,MATCH(BVM!EO16,'Floor Space'!$I$5:$I$50,0),MATCH(BVM!EO$10,'Floor Space'!$I$5:$DK$5,0))*BVM!EV16","v":20.180132268800005},114.75479510453013,1550.4161598294625,42.862400000000008,1.3187594531393287E-2,null,null,1991,4871.9993114251738,0,300.07901816933673,{"$f":"INDEX('Floor Space'!$I$5:$DK$50,MATCH(BVM!EZ16,'Floor Space'!$I$5:$I$50,0),MATCH(BVM!EZ$10,'Floor Space'!$I$5:$DK$5,0))*BVM!FG16","v":61.890648131200017},361.96966630053674,4933.8899595563735,42.862400000000008,1.2703336797700748E-2,null,null,1991,1778.1048536714641,0,107.92740967908998,{"$f":"INDEX('Floor Space'!$I$5:$DK$50,MATCH(BVM!FK16,'Floor Space'!$I$5:$I$50,0),MATCH(BVM!FK$10,'Floor Space'!$I$5:$DK$5,0))*BVM!FR16","v":28.805145626387201},136.73255530547718,1806.9099992978513,42.862400000000008,1.6199913951592704E-2,null,null,1991,3866.1338985863331,0,234.76860731955003,{"$f":"INDEX('Floor Space'!$I$5:$DK$50,MATCH(BVM!FV16,'Floor Space'!$I$5:$I$50,0),MATCH(BVM!FV$10,'Floor Space'!$I$5:$DK$5,0))*BVM!GC16","v":59.694651874412806},294.46325919396281,3925.8285504607461,42.862400000000008,1.5440399489588419E-2,null,null,1991,5546.2491216831095,0,335.93281959670344,{"$f":"INDEX('Floor Space'!$I$5:$DK$50,MATCH(BVM!GG16,'Floor Space'!$I$5:$I$50,0),MATCH(BVM!GG$10,'Floor Space'!$I$5:$DK$5,0))*BVM!GN16","v":123.61182519078405},459.54464478748747,5669.8609468738932,42.862400000000008,2.2287463559385046E-2,null,null,1991,10799.806039515113,0,652.73978912699874,{"$f":"INDEX('Floor Space'!$I$5:$DK$50,MATCH(BVM!GR16,'Floor Space'!$I$5:$I$50,0),MATCH(BVM!GR$10,'Floor Space'!$I$5:$DK$5,0))*BVM!GY16","v":246.02211101081608},898.76190013781479,11045.828150525929,42.862400000000008,2.278023421074904E-2]
[null,1992,81806.741571929248,0,4995.7557729233258,1513.3885331316844,6509.14430605501,83320.130105060918,42.862400000000008,1.8499557665440314E-2,null,null,1992,7815.4694108794183,0,478.79506746852837,{"$f":"INDEX('Floor Space'!$I$5:$DK$54,MATCH(BVM!M17,'Floor Space'!$I$5:$I$54,0),MATCH(BVM!M$10,'Floor Space'!$I$5:$DK$5,0))*BVM!T17","v":91.114166440273294},569.90923390880164,7906.5835773196914,42.862400000000008,1.165818220892012E-2,null,null,1992,3521.1892372107054,0,215.71679828378365,{"$f":"INDEX('Floor Space'!$I$5:$DK$50,MATCH(BVM!X17,'Floor Space'!$I$5:$I$50,0),MATCH(BVM!X$10,'Floor Space'!$I$5:$DK$5,0))*BVM!AE17","v":41.050665719490624},256.76746400327426,3562.239902930196,42.862400000000008,1.165818220892012E-2,null,null,1992,4131.661049540081,0,253.11581774191097,{"$f":"INDEX('Floor Space'!$I$5:$DK$50,MATCH(BVM!AI17,'Floor Space'!$I$5:$I$50,0),MATCH(BVM!AI$10,'Floor Space'!$I$5:$DK$5,0))*BVM!AP17","v":48.167657341036119},301.28347508294712,4179.8287068811169,42.862400000000008,1.1658182208919898E-2,null,null,1992,3779.9524760701725,0,232.66856363237321,{"$f":"INDEX('Floor Space'!$I$5:$DK$50,MATCH(BVM!AT17,'Floor Space'!$I$5:$I$50,0),MATCH(BVM!AT$10,'Floor Space'!$I$5:$DK$5,0))*BVM!BA17","v":52.562419639987205},285.23098327236039,3832.5148957101596,42.862400000000008,1.3905576848583401E-2,null,null,1992,6981.5092159457445,0,429.7349587180675,{"$f":"INDEX('Floor Space'!$I$5:$DK$50,MATCH(BVM!BE17,'Floor Space'!$I$5:$I$50,0),MATCH(BVM!BE$10,'Floor Space'!$I$5:$DK$5,0))*BVM!BL17","v":97.081912921427403},526.81687163949493,7078.5911288671723,42.862400000000008,1.3905576848583623E-2,null,null,1992,1745.3773039864361,0,107.43373967951688,{"$f":"INDEX('Floor Space'!$I$5:$DK$50,MATCH(BVM!BP17,'Floor Space'!$I$5:$I$50,0),MATCH(BVM!BP$10,'Floor Space'!$I$5:$DK$5,0))*BVM!BW17","v":24.270478230356851},131.70421790987373,1769.6477822167931,42.862400000000008,1.3905576848583623E-2,null,null,1992,3369.8309089572213,0,207.42422616016401,{"$f":"INDEX('Floor Space'!$I$5:$DK$50,MATCH(BVM!CA17,'Floor Space'!$I$5:$I$50,0),MATCH(BVM!CA$10,'Floor Space'!$I$5:$DK$5,0))*BVM!CH17","v":46.859442671236586},254.2836688314006,3416.6903516284578,42.862400000000008,1.3905576848583401E-2,null,null,1992,6974.1692531876397,0,427.61313198165749,{"$f":"INDEX('Floor Space'!$I$5:$DK$50,MATCH(BVM!CL17,'Floor Space'!$I$5:$I$50,0),MATCH(BVM!CL$10,'Floor Space'!$I$5:$DK$5,0))*BVM!CS17","v":193.35187663545605},620.96500861711354,7167.5211298230961,42.862400000000008,2.772400118438223E-2,null,null,1992,3539.3391795305638,0,217.56066184288625,{"$f":"INDEX('Floor Space'!$I$5:$DK$50,MATCH(BVM!CW17,'Floor Space'!$I$5:$I$50,0),MATCH(BVM!CW$10,'Floor Space'!$I$5:$DK$5,0))*BVM!DD17","v":99.605512206144027},317.16617404903025,3638.9446917367077,42.862400000000008,2.8142403752147604E-2,null,null,1992,8683.919943805442,0,522.65707884205199,{"$f":"INDEX('Floor Space'!$I$5:$DK$50,MATCH(BVM!DH17,'Floor Space'!$I$5:$I$50,0),MATCH(BVM!DH$10,'Floor Space'!$I$5:$DK$5,0))*BVM!DO17","v":224.25890143216006},746.91598027421207,8908.1788452376022,42.862400000000008,2.5824616404038991E-2,null,null,1992,1659.9003030839751,0,102.69859507004908,{"$f":"INDEX('Floor Space'!$I$5:$DK$50,MATCH(BVM!DS17,'Floor Space'!$I$5:$I$50,0),MATCH(BVM!DS$10,'Floor Space'!$I$5:$DK$5,0))*BVM!DZ17","v":29.507178414761576},132.20577348481066,1689.4074814987366,42.862400000000008,1.7776476310016553E-2,null,null,1992,671.68952318758625,0,41.525618050178103,{"$f":"INDEX('Floor Space'!$I$5:$DK$50,MATCH(BVM!ED17,'Floor Space'!$I$5:$I$50,0),MATCH(BVM!ED$10,'Floor Space'!$I$5:$DK$5,0))*BVM!EK17","v":11.940272896630432},53.465890946808535,683.62979608421665,42.862400000000008,1.7776476310016553E-2,null,null,1992,1550.4161598294625,0,95.821875142150958,{"$f":"INDEX('Floor Space'!$I$5:$DK$50,MATCH(BVM!EO17,'Floor Space'!$I$5:$I$50,0),MATCH(BVM!EO$10,'Floor Space'!$I$5:$DK$5,0))*BVM!EV17","v":16.631725622400001},112.45360076455096,1567.0478854518624,42.862400000000008,1.0727265397072028E-2,null,null,1992,4933.8899595563735,0,303.89102300306519,{"$f":"INDEX('Floor Space'!$I$5:$DK$50,MATCH(BVM!EZ17,'Floor Space'!$I$5:$I$50,0),MATCH(BVM!EZ$10,'Floor Space'!$I$5:$DK$5,0))*BVM!FG17","v":38.261378534400009},342.15240153746521,4972.1513380907736,42.862400000000008,7.7548098656501363E-3,null,null,1992,1806.9099992978513,0,109.67582442890952,{"$f":"INDEX('Floor Space'!$I$5:$DK$50,MATCH(BVM!FK17,'Floor Space'!$I$5:$I$50,0),MATCH(BVM!FK$10,'Floor Space'!$I$5:$DK$5,0))*BVM!FR17","v":52.329754500665608},162.00557892957514,1859.2397537985169,42.862400000000008,2.8960908136542729E-2,null,null,1992,3925.8285504607461,0,238.3935284041782,{"$f":"INDEX('Floor Space'!$I$5:$DK$50,MATCH(BVM!FV17,'Floor Space'!$I$5:$I$50,0),MATCH(BVM!FV$10,'Floor Space'!$I$5:$DK$5,0))*BVM!GC17","v":107.46838785773444},345.86191626191265,4033.2969383184804,42.862400000000008,2.7374702302045639E-2,null,null,1992,5669.8609468738932,0,343.41991007186652,{"$f":"INDEX('Floor Space'!$I$5:$DK$50,MATCH(BVM!GG17,'Floor Space'!$I$5:$I$50,0),MATCH(BVM!GG$10,'Floor Space'!$I$5:$DK$5,0))*BVM!GN17","v":112.08489253363243},455.50480260549898,5781.9458394075255,42.862400000000008,1.9768543458800414E-2,null,null,1992,11045.828150525929,0,667.60935440198671,{"$f":"INDEX('Floor Space'!$I$5:$DK$50,MATCH(BVM!GR17,'Floor Space'!$I$5:$I$50,0),MATCH(BVM!GR$10,'Floor Space'!$I$5:$DK$5,0))*BVM!GY17","v":226.84190953389185},894.45126393587861,11272.670060059821,42.862400000000008,2.0536432981088204E-2]
[null,1993,83320.130105060918,0,5088.017831009146,1565.3934751564304,6653.4113061655771,84885.523580217341,42.862400000000008,1.8787698401125486E-2,null,null,1993,7906.5835773196914,0,484.37694760580865,{"$f":"INDEX('Floor Space'!$I$5:$DK$54,MATCH(BVM!M18,'Floor Space'!$I$5:$I$54,0),MATCH(BVM!M$10,'Floor Space'!$I$5:$DK$5,0))*BVM!T18","v":81.264960242078672},565.6419078478873,7987.8485375617702,42.862400000000008,1.027813839534808E-2,null,null,1993,3562.239902930196,0,218.23166402370086,{"$f":"INDEX('Floor Space'!$I$5:$DK$50,MATCH(BVM!X18,'Floor Space'!$I$5:$I$50,0),MATCH(BVM!X$10,'Floor Space'!$I$5:$DK$5,0))*BVM!AE18","v":36.613194719748137},254.84485874344898,3598.8530976499442,42.862400000000008,1.027813839534808E-2,null,null,1993,4179.8287068811169,0,256.06668806510601,{"$f":"INDEX('Floor Space'!$I$5:$DK$50,MATCH(BVM!AI18,'Floor Space'!$I$5:$I$50,0),MATCH(BVM!AI$10,'Floor Space'!$I$5:$DK$5,0))*BVM!AP18","v":42.960857918173232},299.02754598327925,4222.78956479929,42.862400000000008,1.027813839534808E-2,null,null,1993,3832.5148957101596,0,235.90395422421273,{"$f":"INDEX('Floor Space'!$I$5:$DK$50,MATCH(BVM!AT18,'Floor Space'!$I$5:$I$50,0),MATCH(BVM!AT$10,'Floor Space'!$I$5:$DK$5,0))*BVM!BA18","v":80.317070715075076},316.22102493928782,3912.8319664252349,42.862400000000008,2.0956753698459618E-2,null,null,1993,7078.5911288671723,0,435.71067121104448,{"$f":"INDEX('Floor Space'!$I$5:$DK$50,MATCH(BVM!BE18,'Floor Space'!$I$5:$I$50,0),MATCH(BVM!BE$10,'Floor Space'!$I$5:$DK$5,0))*BVM!BL18","v":148.34429081976987},584.05496203081429,7226.9354196869426,42.862400000000008,2.0956753698459618E-2,null,null,1993,1769.6477822167931,0,108.92766780276112,{"$f":"INDEX('Floor Space'!$I$5:$DK$50,MATCH(BVM!BP18,'Floor Space'!$I$5:$I$50,0),MATCH(BVM!BP$10,'Floor Space'!$I$5:$DK$5,0))*BVM!BW18","v":37.086072704942467},146.01374050770357,1806.7338549217357,42.862400000000008,2.0956753698459618E-2,null,null,1993,3416.6903516284578,0,210.30857967729213,{"$f":"INDEX('Floor Space'!$I$5:$DK$50,MATCH(BVM!CA18,'Floor Space'!$I$5:$I$50,0),MATCH(BVM!CA$10,'Floor Space'!$I$5:$DK$5,0))*BVM!CH18","v":71.602738162980643},281.91131784027277,3488.2930897914384,42.862400000000008,2.0956753698459396E-2,null,null,1993,7167.5211298230961,0,439.46827895917431,{"$f":"INDEX('Floor Space'!$I$5:$DK$50,MATCH(BVM!CL18,'Floor Space'!$I$5:$I$50,0),MATCH(BVM!CL$10,'Floor Space'!$I$5:$DK$5,0))*BVM!CS18","v":165.29053372339203},604.75881268256637,7332.8116635464885,42.862400000000008,2.3061045894324783E-2,null,null,1993,3638.9446917367077,0,223.68334182905323,{"$f":"INDEX('Floor Space'!$I$5:$DK$50,MATCH(BVM!CW18,'Floor Space'!$I$5:$I$50,0),MATCH(BVM!CW$10,'Floor Space'!$I$5:$DK$5,0))*BVM!DD18","v":85.149668887808019},308.83301071686128,3724.0943606245155,42.862400000000008,2.3399550172104933E-2,null,null,1993,8908.1788452376022,0,536.15449741400357,{"$f":"INDEX('Floor Space'!$I$5:$DK$50,MATCH(BVM!DH18,'Floor Space'!$I$5:$I$50,0),MATCH(BVM!DH$10,'Floor Space'!$I$5:$DK$5,0))*BVM!DO18","v":187.63204194560004},723.78653935960358,9095.8108871832028,42.862400000000008,2.1062895705771689E-2,null,null,1993,1689.4074814987366,0,104.52421421238378,{"$f":"INDEX('Floor Space'!$I$5:$DK$50,MATCH(BVM!DS18,'Floor Space'!$I$5:$I$50,0),MATCH(BVM!DS$10,'Floor Space'!$I$5:$DK$5,0))*BVM!DZ18","v":42.172494006777939},146.69670821916174,1731.5799755055145,42.862400000000008,2.496289052145384E-2,null,null,1993,683.62979608421665,0,42.263797215705878,{"$f":"INDEX('Floor Space'!$I$5:$DK$50,MATCH(BVM!ED18,'Floor Space'!$I$5:$I$50,0),MATCH(BVM!ED$10,'Floor Space'!$I$5:$DK$5,0))*BVM!EK18","v":17.065375756854074},59.329172972559952,700.69517184107076,42.862400000000008,2.496289052145384E-2,null,null,1993,1567.0478854518624,0,96.849781827645899,{"$f":"INDEX('Floor Space'!$I$5:$DK$50,MATCH(BVM!EO18,'Floor Space'!$I$5:$I$50,0),MATCH(BVM!EO$10,'Floor Space'!$I$5:$DK$5,0))*BVM!EV18","v":16.605408108800003},113.4551899364459,1583.6532935606624,42.862400000000008,1.0596618178015493E-2,null,null,1993,4972.1513380907736,0,306.24764010633186,{"$f":"INDEX('Floor Space'!$I$5:$DK$50,MATCH(BVM!EZ18,'Floor Space'!$I$5:$I$50,0),MATCH(BVM!EZ$10,'Floor Space'!$I$5:$DK$5,0))*BVM!FG18","v":57.609208719999998},363.85684882633188,5029.760546810774,42.862400000000008,1.1586374750636841E-2,null,null,1993,1859.2397537985169,0,112.85213590499477,{"$f":"INDEX('Floor Space'!$I$5:$DK$50,MATCH(BVM!FK18,'Floor Space'!$I$5:$I$50,0),MATCH(BVM!FK$10,'Floor Space'!$I$5:$DK$5,0))*BVM!FR18","v":40.102397995564807},152.95453390055957,1899.3421517940817,42.862400000000008,2.1569245124860137E-2,null,null,1993,4033.2969383184804,0,244.91948027497685,{"$f":"INDEX('Floor Space'!$I$5:$DK$50,MATCH(BVM!FV18,'Floor Space'!$I$5:$I$50,0),MATCH(BVM!FV$10,'Floor Space'!$I$5:$DK$5,0))*BVM!GC18","v":84.071174951635228},328.99065522661209,4117.3681132701158,42.862400000000008,2.0844281052782021E-2,null,null,1993,5781.9458394075255,0,350.20882148873955,{"$f":"INDEX('Floor Space'!$I$5:$DK$50,MATCH(BVM!GG18,'Floor Space'!$I$5:$I$50,0),MATCH(BVM!GG$10,'Floor Space'!$I$5:$DK$5,0))*BVM!GN18","v":120.01139266595425},470.22021415469379,5901.9572320734796,42.862400000000008,2.0756229131031034E-2,null,null,1993,11272.670060059821,0,681.3196691662107,{"$f":"INDEX('Floor Space'!$I$5:$DK$50,MATCH(BVM!GR18,'Floor Space'!$I$5:$I$50,0),MATCH(BVM!GR$10,'Floor Space'!$I$5:$DK$5,0))*BVM!GY18","v":251.49459311127589},932.81426227748659,11524.164653171098,42.862400000000008,2.2310117458537615E-2]
[null,1994,84885.523580217341,0,5183.5453754977352,1800.9503978577893,6984.4957733555248,86686.473978075141,42.862400000000008,2.121622535738843E-2,null,null,1994,7987.8485375617702,0,489.35544090881746,{"$f":"INDEX('Floor Space'!$I$5:$DK$54,MATCH(BVM!M19,'Floor Space'!$I$5:$I$54,0),MATCH(BVM!M$10,'Floor Space'!$I$5:$DK$5,0))*BVM!T19","v":127.44975732185813},616.80519823067561,8115.2982948836279,42.862400000000008,1.595545492913919E-2,null,null,1994,3598.8530976499442,0,220.47467926878358,{"$f":"INDEX('Floor Space'!$I$5:$DK$50,MATCH(BVM!X19,'Floor Space'!$I$5:$I$50,0),MATCH(BVM!X$10,'Floor Space'!$I$5:$DK$5,0))*BVM!AE19","v":57.421338396147078},277.89601766493064,3656.2744360460911,42.862400000000008,1.595545492913919E-2,null,null,1994,4222.78956479929,0,258.69857692347756,{"$f":"INDEX('Floor Space'!$I$5:$DK$50,MATCH(BVM!AI19,'Floor Space'!$I$5:$I$50,0),MATCH(BVM!AI$10,'Floor Space'!$I$5:$DK$5,0))*BVM!AP19","v":67.376528576394861},326.07510549987239,4290.1660933756848,42.862400000000008,1.595545492913919E-2,null,null,1994,3912.8319664252349,0,240.84773528938223,{"$f":"INDEX('Floor Space'!$I$5:$DK$50,MATCH(BVM!AT19,'Floor Space'!$I$5:$I$50,0),MATCH(BVM!AT$10,'Floor Space'!$I$5:$DK$5,0))*BVM!BA19","v":106.4737476928907},347.32148298227293,4019.3057141181257,42.862400000000008,2.7211428603760135E-2,null,null,1994,7226.9354196869426,0,444.84175243140481,{"$f":"INDEX('Floor Space'!$I$5:$DK$50,MATCH(BVM!BE19,'Floor Space'!$I$5:$I$50,0),MATCH(BVM!BE$10,'Floor Space'!$I$5:$DK$5,0))*BVM!BL19","v":196.65523719679663},641.49698962820139,7423.590656883739,42.862400000000008,2.7211428603760135E-2,null,null,1994,1806.7338549217357,0,111.2104381078512,{"$f":"INDEX('Floor Space'!$I$5:$DK$50,MATCH(BVM!BP19,'Floor Space'!$I$5:$I$50,0),MATCH(BVM!BP$10,'Floor Space'!$I$5:$DK$5,0))*BVM!BW19","v":49.163809299199158},160.37424740705035,1855.8976642209348,42.862400000000008,2.7211428603760135E-2,null,null,1994,3488.2930897914384,0,214.71596478226201,{"$f":"INDEX('Floor Space'!$I$5:$DK$50,MATCH(BVM!CA19,'Floor Space'!$I$5:$I$50,0),MATCH(BVM!CA$10,'Floor Space'!$I$5:$DK$5,0))*BVM!CH19","v":94.921438361849638},309.63740314411166,3583.214528153288,42.862400000000008,2.7211428603760135E-2,null,null,1994,7332.8116635464885,0,449.60287710935177,{"$f":"INDEX('Floor Space'!$I$5:$DK$50,MATCH(BVM!CL19,'Floor Space'!$I$5:$I$50,0),MATCH(BVM!CL$10,'Floor Space'!$I$5:$DK$5,0))*BVM!CS19","v":159.33079475174404},608.93367186109583,7492.1424582982327,42.862400000000008,2.1728472250804431E-2,null,null,1994,3724.0943606245155,0,228.9174314088462,{"$f":"INDEX('Floor Space'!$I$5:$DK$50,MATCH(BVM!CW19,'Floor Space'!$I$5:$I$50,0),MATCH(BVM!CW$10,'Floor Space'!$I$5:$DK$5,0))*BVM!DD19","v":82.079500326656017},310.99693173550224,3806.1738609511717,42.862400000000008,2.2040123686042135E-2,null,null,1994,9095.8108871832028,0,547.44746367521509,{"$f":"INDEX('Floor Space'!$I$5:$DK$50,MATCH(BVM!DH19,'Floor Space'!$I$5:$I$50,0),MATCH(BVM!DH$10,'Floor Space'!$I$5:$DK$5,0))*BVM!DO19","v":257.62574107200004},805.07320474721519,9353.4366282552037,42.862400000000008,2.8323559522880792E-2,null,null,1994,1731.5799755055145,0,107.13344072860852,{"$f":"INDEX('Floor Space'!$I$5:$DK$50,MATCH(BVM!DS19,'Floor Space'!$I$5:$I$50,0),MATCH(BVM!DS$10,'Floor Space'!$I$5:$DK$5,0))*BVM!DZ19","v":53.982086131506321},161.11552686011484,1785.5620616370209,42.862400000000008,3.117504642876634E-2,null,null,1994,700.69517184107076,0,43.318823758622479,{"$f":"INDEX('Floor Space'!$I$5:$DK$50,MATCH(BVM!ED19,'Floor Space'!$I$5:$I$50,0),MATCH(BVM!ED$10,'Floor Space'!$I$5:$DK$5,0))*BVM!EK19","v":21.844204514557706},65.163028273180188,722.53937635562852,42.862400000000008,3.117504642876634E-2,null,null,1994,1583.6532935606624,0,97.8760619862976,{"$f":"INDEX('Floor Space'!$I$5:$DK$50,MATCH(BVM!EO19,'Floor Space'!$I$5:$I$50,0),MATCH(BVM!EO$10,'Floor Space'!$I$5:$DK$5,0))*BVM!EV19","v":20.569580035200005},118.4456420214976,1604.2228735958624,42.862400000000008,1.2988688950314131E-2,null,null,1994,5029.760546810774,0,309.79594003110202,{"$f":"INDEX('Floor Space'!$I$5:$DK$50,MATCH(BVM!EZ19,'Floor Space'!$I$5:$I$50,0),MATCH(BVM!EZ$10,'Floor Space'!$I$5:$DK$5,0))*BVM!FG19","v":64.286484841600014},374.08242487270206,5094.0470316523742,42.862400000000008,1.2781221738749071E-2,null,null,1994,1899.3421517940817,0,115.28627128719361,{"$f":"INDEX('Floor Space'!$I$5:$DK$50,MATCH(BVM!FK19,'Floor Space'!$I$5:$I$50,0),MATCH(BVM!FK$10,'Floor Space'!$I$5:$DK$5,0))*BVM!FR19","v":40.335394230073604},155.62166551726722,1939.6775460241554,42.862400000000008,2.1236507699244012E-2,null,null,1994,4117.3681132701158,0,250.02465075712973,{"$f":"INDEX('Floor Space'!$I$5:$DK$50,MATCH(BVM!FV19,'Floor Space'!$I$5:$I$50,0),MATCH(BVM!FV$10,'Floor Space'!$I$5:$DK$5,0))*BVM!GC19","v":83.142436240326418},333.16708699745618,4200.5105495104426,42.862400000000008,2.0193102475428937E-2,null,null,1994,5901.9572320734796,0,357.47783603126817,{"$f":"INDEX('Floor Space'!$I$5:$DK$50,MATCH(BVM!GG19,'Floor Space'!$I$5:$I$50,0),MATCH(BVM!GG$10,'Floor Space'!$I$5:$DK$5,0))*BVM!GN19","v":103.92290468418884},461.400740715457,6005.8801367576689,42.862400000000008,1.7608210394923329E-2,null,null,1994,11524.164653171098,0,696.51999101212084,{"$f":"INDEX('Floor Space'!$I$5:$DK$50,MATCH(BVM!GR19,'Floor Space'!$I$5:$I$50,0),MATCH(BVM!GR$10,'Floor Space'!$I$5:$DK$5,0))*BVM!GY19","v":214.36941418480006},910.88940519692096,11738.534067355899,42.862400000000008,1.8601731286945311E-2]
[null,1995,86686.473978075141,0,5293.5157005159563,2201.1235433143488,7494.6392438303046,88887.5975213895,42.862400000000008,2.5391776159577883E-2,null,null,1995,8115.2982948836279,0,497.16332959056717,{"$f":"INDEX('Floor Space'!$I$5:$DK$54,MATCH(BVM!M20,'Floor Space'!$I$5:$I$54,0),MATCH(BVM!M$10,'Floor Space'!$I$5:$DK$5,0))*BVM!T20","v":159.42021930996967},656.58354890053681,8274.718514193597,42.862400000000008,1.9644406590756835E-2,null,null,1995,3656.2744360460911,0,223.99245307687312,{"$f":"INDEX('Floor Space'!$I$5:$DK$50,MATCH(BVM!X20,'Floor Space'!$I$5:$I$50,0),MATCH(BVM!X$10,'Floor Space'!$I$5:$DK$5,0))*BVM!AE20","v":71.825341629079588},295.81779470595268,3728.0997776751706,42.862400000000008,1.9644406590756835E-2,null,null,1995,4290.1660933756848,0,262.82623040781266,{"$f":"INDEX('Floor Space'!$I$5:$DK$50,MATCH(BVM!AI20,'Floor Space'!$I$5:$I$50,0),MATCH(BVM!AI$10,'Floor Space'!$I$5:$DK$5,0))*BVM!AP20","v":84.277767080150824},347.10399748796351,4374.4438604558354,42.862400000000008,1.9644406590756835E-2,null,null,1995,4019.3057141181257,0,247.40154624258656,{"$f":"INDEX('Floor Space'!$I$5:$DK$50,MATCH(BVM!AT20,'Floor Space'!$I$5:$I$50,0),MATCH(BVM!AT$10,'Floor Space'!$I$5:$DK$5,0))*BVM!BA20","v":97.805288994927523},345.2068352375141,4117.1110031130529,42.862400000000008,2.4333876532799836E-2,null,null,1995,7423.590656883739,0,456.94653201766357,{"$f":"INDEX('Floor Space'!$I$5:$DK$50,MATCH(BVM!BE20,'Floor Space'!$I$5:$I$50,0),MATCH(BVM!BE$10,'Floor Space'!$I$5:$DK$5,0))*BVM!BL20","v":180.6447384746557},637.59127049231927,7604.2353953583952,42.862400000000008,2.4333876532799836E-2,null,null,1995,1855.8976642209348,0,114.23663300441589,{"$f":"INDEX('Floor Space'!$I$5:$DK$50,MATCH(BVM!BP20,'Floor Space'!$I$5:$I$50,0),MATCH(BVM!BP$10,'Floor Space'!$I$5:$DK$5,0))*BVM!BW20","v":45.161184618663924},159.39781762307982,1901.0588488395988,42.862400000000008,2.4333876532799836E-2,null,null,1995,3583.214528153288,0,220.558692928022,{"$f":"INDEX('Floor Space'!$I$5:$DK$50,MATCH(BVM!CA20,'Floor Space'!$I$5:$I$50,0),MATCH(BVM!CA$10,'Floor Space'!$I$5:$DK$5,0))*BVM!CH20","v":87.193499918616922},307.75219284663893,3670.4080280719049,42.862400000000008,2.4333876532799836E-2,null,null,1995,7492.1424582982327,0,459.37206074850405,{"$f":"INDEX('Floor Space'!$I$5:$DK$50,MATCH(BVM!CL20,'Floor Space'!$I$5:$I$50,0),MATCH(BVM!CL$10,'Floor Space'!$I$5:$DK$5,0))*BVM!CS20","v":210.32566992729605},669.69773067580013,7702.4681282255287,42.862400000000008,2.8072833785260043E-2,null,null,1995,3806.1738609511717,0,233.96279991098828,{"$f":"INDEX('Floor Space'!$I$5:$DK$50,MATCH(BVM!CW20,'Floor Space'!$I$5:$I$50,0),MATCH(BVM!CW$10,'Floor Space'!$I$5:$DK$5,0))*BVM!DD20","v":108.34958753830401},342.31238744929226,3914.5234484894759,42.862400000000008,2.8466799336178239E-2,null,null,1995,9353.4366282552037,0,562.9531244982702,{"$f":"INDEX('Floor Space'!$I$5:$DK$50,MATCH(BVM!DH20,'Floor Space'!$I$5:$I$50,0),MATCH(BVM!DH$10,'Floor Space'!$I$5:$DK$5,0))*BVM!DO20","v":416.42073182080009},979.37385631907023,9769.8573600760046,42.862400000000008,4.4520612943788063E-2,null,null,1995,1785.5620616370209,0,110.47333071739635,{"$f":"INDEX('Floor Space'!$I$5:$DK$50,MATCH(BVM!DS20,'Floor Space'!$I$5:$I$50,0),MATCH(BVM!DS$10,'Floor Space'!$I$5:$DK$5,0))*BVM!DZ20","v":48.55011599475764},159.023446712154,1834.1121776317784,42.862400000000008,2.719038281438757E-2,null,null,1995,722.53937635562852,0,44.669290100537069,{"$f":"INDEX('Floor Space'!$I$5:$DK$50,MATCH(BVM!ED20,'Floor Space'!$I$5:$I$50,0),MATCH(BVM!ED$10,'Floor Space'!$I$5:$DK$5,0))*BVM!EK20","v":19.646122241578365},64.315412342115437,742.1854985972069,42.862400000000008,2.719038281438757E-2,null,null,1995,1604.2228735958624,0,99.147343711119262,{"$f":"INDEX('Floor Space'!$I$5:$DK$50,MATCH(BVM!EO20,'Floor Space'!$I$5:$I$50,0),MATCH(BVM!EO$10,'Floor Space'!$I$5:$DK$5,0))*BVM!EV20","v":21.657513472000002},120.80485718311927,1625.8803870678623,42.862400000000008,1.3500314593728913E-2,null,null,1995,5094.0470316523742,0,313.75551063440372,{"$f":"INDEX('Floor Space'!$I$5:$DK$50,MATCH(BVM!EZ20,'Floor Space'!$I$5:$I$50,0),MATCH(BVM!EZ$10,'Floor Space'!$I$5:$DK$5,0))*BVM!FG20","v":97.566823872000015},411.32233450640376,5191.6138555243742,42.862400000000008,1.9153106217072446E-2,null,null,1995,1939.6775460241554,0,117.73454907500125,{"$f":"INDEX('Floor Space'!$I$5:$DK$50,MATCH(BVM!FK20,'Floor Space'!$I$5:$I$50,0),MATCH(BVM!FK$10,'Floor Space'!$I$5:$DK$5,0))*BVM!FR20","v":38.285658026604807},156.02020710160605,1977.9632040507602,42.862400000000008,1.9738156017262032E-2,null,null,1995,4200.5105495104426,0,255.0734241512518,{"$f":"INDEX('Floor Space'!$I$5:$DK$50,MATCH(BVM!FV20,'Floor Space'!$I$5:$I$50,0),MATCH(BVM!FV$10,'Floor Space'!$I$5:$DK$5,0))*BVM!GC20","v":77.93693972059522},333.01036387184701,4278.4474892310382,42.862400000000008,1.8554158786645347E-2,null,null,1995,6005.8801367576689,0,363.77238097962862,{"$f":"INDEX('Floor Space'!$I$5:$DK$50,MATCH(BVM!GG20,'Floor Space'!$I$5:$I$50,0),MATCH(BVM!GG$10,'Floor Space'!$I$5:$DK$5,0))*BVM!GN20","v":145.30137282039684},509.07375380002543,6151.1815095780657,42.862400000000008,2.4193185596747435E-2,null,null,1995,11738.534067355899,0,709.47646872091377,{"$f":"INDEX('Floor Space'!$I$5:$DK$50,MATCH(BVM!GR20,'Floor Space'!$I$5:$I$50,0),MATCH(BVM!GR$10,'Floor Space'!$I$5:$DK$5,0))*BVM!GY20","v":290.75496785395211},1000.2314365748659,12029.289035209851,42.862400000000008,2.4769274100632677E-2]
[null,1996,88887.5975213895,0,5427.7477620671616,2176.6593565136009,7604.4071185807607,91064.256877903113,42.862400000000008,2.4487773516320255E-2,null,null,1996,8274.718514193597,0,506.92980817905868,{"$f":"INDEX('Floor Space'!$I$5:$DK$54,MATCH(BVM!M21,'Floor Space'!$I$5:$I$54,0),MATCH(BVM!M$10,'Floor Space'!$I$5:$DK$5,0))*BVM!T21","v":183.73008171211711},690.65988989117579,8458.4485959057147,42.862400000000008,2.220378631574782E-2,null,null,1996,3728.0997776751706,0,228.39265189837619,{"$f":"INDEX('Floor Space'!$I$5:$DK$50,MATCH(BVM!X21,'Floor Space'!$I$5:$I$50,0),MATCH(BVM!X$10,'Floor Space'!$I$5:$DK$5,0))*BVM!AE21","v":82.777930827286553},311.17058272566271,3810.8777085024572,42.862400000000008,2.220378631574782E-2,null,null,1996,4374.4438604558354,0,267.9892957406596,{"$f":"INDEX('Floor Space'!$I$5:$DK$50,MATCH(BVM!AI21,'Floor Space'!$I$5:$I$50,0),MATCH(BVM!AI$10,'Floor Space'!$I$5:$DK$5,0))*BVM!AP21","v":97.129216727796432},365.11851246845606,4471.5730771836315,42.862400000000008,2.220378631574782E-2,null,null,1996,4117.1110031130529,0,253.42178492287741,{"$f":"INDEX('Floor Space'!$I$5:$DK$50,MATCH(BVM!AT21,'Floor Space'!$I$5:$I$50,0),MATCH(BVM!AT$10,'Floor Space'!$I$5:$DK$5,0))*BVM!BA21","v":53.491899680328501},306.91368460320592,4170.602902793381,42.862400000000008,1.2992581361027433E-2,null,null,1996,7604.2353953583952,0,468.06581250987244,{"$f":"INDEX('Floor Space'!$I$5:$DK$50,MATCH(BVM!BE21,'Floor Space'!$I$5:$I$50,0),MATCH(BVM!BE$10,'Floor Space'!$I$5:$DK$5,0))*BVM!BL21","v":98.79864706260021},566.8644595724727,7703.0340424209953,42.862400000000008,1.2992581361027655E-2,null,null,1996,1901.0588488395988,0,117.01645312746811,{"$f":"INDEX('Floor Space'!$I$5:$DK$50,MATCH(BVM!BP21,'Floor Space'!$I$5:$I$50,0),MATCH(BVM!BP$10,'Floor Space'!$I$5:$DK$5,0))*BVM!BW21","v":24.699661765650053},141.71611489311817,1925.7585106052488,42.862400000000008,1.2992581361027655E-2,null,null,1996,3670.4080280719049,0,225.92574092996824,{"$f":"INDEX('Floor Space'!$I$5:$DK$50,MATCH(BVM!CA21,'Floor Space'!$I$5:$I$50,0),MATCH(BVM!CA$10,'Floor Space'!$I$5:$DK$5,0))*BVM!CH21","v":47.688074932893286},273.61381586286154,3718.0961030047984,42.862400000000008,1.2992581361027655E-2,null,null,1996,7702.4681282255287,0,472.26793625548925,{"$f":"INDEX('Floor Space'!$I$5:$DK$50,MATCH(BVM!CL21,'Floor Space'!$I$5:$I$50,0),MATCH(BVM!CL$10,'Floor Space'!$I$5:$DK$5,0))*BVM!CS21","v":150.86112621888003},623.12906247436922,7853.3292544444084,42.862400000000008,1.9586076009331599E-2,null,null,1996,3914.5234484894759,0,240.62297198818482,{"$f":"INDEX('Floor Space'!$I$5:$DK$50,MATCH(BVM!CW21,'Floor Space'!$I$5:$I$50,0),MATCH(BVM!CW$10,'Floor Space'!$I$5:$DK$5,0))*BVM!DD21","v":77.716337749120015},318.3393097373048,3992.239786238596,42.862400000000008,1.9853333048524435E-2,null,null,1996,9769.8573600760046,0,588.01614265955391,{"$f":"INDEX('Floor Space'!$I$5:$DK$50,MATCH(BVM!DH21,'Floor Space'!$I$5:$I$50,0),MATCH(BVM!DH$10,'Floor Space'!$I$5:$DK$5,0))*BVM!DO21","v":474.67746281760009},1062.6936054771541,10244.534822893605,42.862400000000008,4.8585915364265597E-2,null,null,1996,1834.1121776317784,0,113.47714287038278,{"$f":"INDEX('Floor Space'!$I$5:$DK$50,MATCH(BVM!DS21,'Floor Space'!$I$5:$I$50,0),MATCH(BVM!DS$10,'Floor Space'!$I$5:$DK$5,0))*BVM!DZ21","v":30.424601296885772},143.90174416726856,1864.5367789286643,42.862400000000008,1.658819000709677E-2,null,null,1996,742.1854985972069,0,45.88386519841761,{"$f":"INDEX('Floor Space'!$I$5:$DK$50,MATCH(BVM!ED21,'Floor Space'!$I$5:$I$50,0),MATCH(BVM!ED$10,'Floor Space'!$I$5:$DK$5,0))*BVM!EK21","v":12.311514071242236},58.195379269659846,754.49701266844909,42.862400000000008,1.6588190007096548E-2,null,null,1996,1625.8803870678623,0,100.48586404235195,{"$f":"INDEX('Floor Space'!$I$5:$DK$50,MATCH(BVM!EO21,'Floor Space'!$I$5:$I$50,0),MATCH(BVM!EO$10,'Floor Space'!$I$5:$DK$5,0))*BVM!EV21","v":18.715009712000004},119.20087375435196,1644.5953967798623,42.862400000000008,1.1510692828856195E-2,null,null,1996,5191.6138555243742,0,319.76490325577623,{"$f":"INDEX('Floor Space'!$I$5:$DK$50,MATCH(BVM!EZ21,'Floor Space'!$I$5:$I$50,0),MATCH(BVM!EZ$10,'Floor Space'!$I$5:$DK$5,0))*BVM!FG21","v":116.92228356480003},436.68718682057624,5308.536139089174,42.862400000000008,2.2521375205974303E-2,null,null,1996,1977.9632040507602,0,120.05841197326561,{"$f":"INDEX('Floor Space'!$I$5:$DK$50,MATCH(BVM!FK21,'Floor Space'!$I$5:$I$50,0),MATCH(BVM!FK$10,'Floor Space'!$I$5:$DK$5,0))*BVM!FR21","v":32.621776770956799},152.68018874422239,2010.584980821717,42.862400000000008,1.6492610531959828E-2,null,null,1996,4278.4474892310382,0,259.80609696520742,{"$f":"INDEX('Floor Space'!$I$5:$DK$50,MATCH(BVM!FV21,'Floor Space'!$I$5:$I$50,0),MATCH(BVM!FV$10,'Floor Space'!$I$5:$DK$5,0))*BVM!GC21","v":67.328968064243213},327.13506502945063,4345.776457295281,42.862400000000008,1.5736775602297692E-2,null,null,1996,6151.1815095780657,0,372.57319370763958,{"$f":"INDEX('Floor Space'!$I$5:$DK$50,MATCH(BVM!GG21,'Floor Space'!$I$5:$I$50,0),MATCH(BVM!GG$10,'Floor Space'!$I$5:$DK$5,0))*BVM!GN21","v":200.53401010720006},573.10720381483964,6351.7155196852655,42.862400000000008,3.2600892982095564E-2,null,null,1996,12029.289035209851,0,727.0496858426111,{"$f":"INDEX('Floor Space'!$I$5:$DK$50,MATCH(BVM!GR21,'Floor Space'!$I$5:$I$50,0),MATCH(BVM!GR$10,'Floor Space'!$I$5:$DK$5,0))*BVM!GY21","v":406.23075343200003},1133.2804392746111,12435.519788641852,42.862400000000008,3.3770138222047885E-2]
[null,1997,91064.256877903113,0,5560.2202108480178,2511.1830793048839,8071.4032901529008,93575.439957208,42.862400000000008,2.7575946539286189E-2,null,null,1997,8458.4485959057147,0,518.18556931694957,{"$f":"INDEX('Floor Space'!$I$5:$DK$54,MATCH(BVM!M22,'Floor Space'!$I$5:$I$54,0),MATCH(BVM!M$10,'Floor Space'!$I$5:$DK$5,0))*BVM!T22","v":200.67149080970739},718.85706012665696,8659.1200867154221,42.862400000000008,2.3724384978451196E-2,null,null,1997,3810.8777085024572,0,233.46383353721475,{"$f":"INDEX('Floor Space'!$I$5:$DK$50,MATCH(BVM!X22,'Floor Space'!$I$5:$I$50,0),MATCH(BVM!X$10,'Floor Space'!$I$5:$DK$5,0))*BVM!AE22","v":90.410729862310376},323.87456339952513,3901.2884383647674,42.862400000000008,2.3724384978451196E-2,null,null,1997,4471.5730771836315,0,273.93967279819299,{"$f":"INDEX('Floor Space'!$I$5:$DK$50,MATCH(BVM!AI22,'Floor Space'!$I$5:$I$50,0),MATCH(BVM!AI$10,'Floor Space'!$I$5:$DK$5,0))*BVM!AP22","v":106.08532114238231},380.02499394057531,4577.6583983260134,42.862400000000008,2.3724384978451196E-2,null,null,1997,4170.602902793381,0,256.71438808214475,{"$f":"INDEX('Floor Space'!$I$5:$DK$50,MATCH(BVM!AT22,'Floor Space'!$I$5:$I$50,0),MATCH(BVM!AT$10,'Floor Space'!$I$5:$DK$5,0))*BVM!BA22","v":66.739306177723918},323.45369425986866,4237.3422089711048,42.862400000000008,1.6002316147869955E-2,null,null,1997,7703.0340424209953,0,474.1471956612225,{"$f":"INDEX('Floor Space'!$I$5:$DK$50,MATCH(BVM!BE22,'Floor Space'!$I$5:$I$50,0),MATCH(BVM!BE$10,'Floor Space'!$I$5:$DK$5,0))*BVM!BL22","v":123.26638604462562},597.41358170584817,7826.3004284656208,42.862400000000008,1.6002316147869955E-2,null,null,1997,1925.7585106052488,0,118.53679891530562,{"$f":"INDEX('Floor Space'!$I$5:$DK$50,MATCH(BVM!BP22,'Floor Space'!$I$5:$I$50,0),MATCH(BVM!BP$10,'Floor Space'!$I$5:$DK$5,0))*BVM!BW22","v":30.816596511156405},149.35339542646204,1956.5751071164052,42.862400000000008,1.6002316147869955E-2,null,null,1997,3718.0961030047984,0,228.86109950055129,{"$f":"INDEX('Floor Space'!$I$5:$DK$50,MATCH(BVM!CA22,'Floor Space'!$I$5:$I$50,0),MATCH(BVM!CA$10,'Floor Space'!$I$5:$DK$5,0))*BVM!CH22","v":59.498149308446116},288.35924880899739,3777.5942523132444,42.862400000000008,1.6002316147869955E-2,null,null,1997,7853.3292544444084,0,481.51781195175948,{"$f":"INDEX('Floor Space'!$I$5:$DK$50,MATCH(BVM!CL22,'Floor Space'!$I$5:$I$50,0),MATCH(BVM!CL$10,'Floor Space'!$I$5:$DK$5,0))*BVM!CS22","v":174.51903132787203},656.03684327963151,8027.8482857722802,42.862400000000008,2.2222299062414352E-2,null,null,1997,3992.239786238596,0,245.40013999019203,{"$f":"INDEX('Floor Space'!$I$5:$DK$50,MATCH(BVM!CW22,'Floor Space'!$I$5:$I$50,0),MATCH(BVM!CW$10,'Floor Space'!$I$5:$DK$5,0))*BVM!DD22","v":89.903743411328023},335.30388340152007,4082.1435296499239,42.862400000000008,2.2519625129038934E-2,null,null,1997,10244.534822893605,0,616.58544519963289,{"$f":"INDEX('Floor Space'!$I$5:$DK$50,MATCH(BVM!DH22,'Floor Space'!$I$5:$I$50,0),MATCH(BVM!DH$10,'Floor Space'!$I$5:$DK$5,0))*BVM!DO22","v":486.52467304000015},1103.110118239633,10731.059495933605,42.862400000000008,4.7491143468296526E-2,null,null,1997,1864.5367789286643,0,115.35952327777915,{"$f":"INDEX('Floor Space'!$I$5:$DK$50,MATCH(BVM!DS22,'Floor Space'!$I$5:$I$50,0),MATCH(BVM!DS$10,'Floor Space'!$I$5:$DK$5,0))*BVM!DZ22","v":35.593828724546782},150.95335200232591,1900.130607653211,42.862400000000008,1.9089904327335594E-2,null,null,1997,754.49701266844909,0,46.644995472588974,{"$f":"INDEX('Floor Space'!$I$5:$DK$50,MATCH(BVM!ED22,'Floor Space'!$I$5:$I$50,0),MATCH(BVM!ED$10,'Floor Space'!$I$5:$DK$5,0))*BVM!EK22","v":14.403275787101236},61.04827125969021,768.90028845555037,42.862400000000008,1.9089904327335594E-2,null,null,1997,1644.5953967798623,0,101.64252595698566,{"$f":"INDEX('Floor Space'!$I$5:$DK$50,MATCH(BVM!EO22,'Floor Space'!$I$5:$I$50,0),MATCH(BVM!EO$10,'Floor Space'!$I$5:$DK$5,0))*BVM!EV22","v":29.892152035200002},131.53467799218566,1674.4875488150624,42.862400000000008,1.8175991550097637E-2,null,null,1997,5308.536139089174,0,326.96644861970162,{"$f":"INDEX('Floor Space'!$I$5:$DK$50,MATCH(BVM!EZ22,'Floor Space'!$I$5:$I$50,0),MATCH(BVM!EZ$10,'Floor Space'!$I$5:$DK$5,0))*BVM!FG22","v":204.19355895680005},531.1600075765017,5512.7296980459741,42.862400000000008,3.8465134946191526E-2,null,null,1997,2010.584980821717,0,122.03848860302628,{"$f":"INDEX('Floor Space'!$I$5:$DK$50,MATCH(BVM!FK22,'Floor Space'!$I$5:$I$50,0),MATCH(BVM!FK$10,'Floor Space'!$I$5:$DK$5,0))*BVM!FR22","v":50.441814941817611},172.48030354484388,2061.0267957635347,42.862400000000008,2.5088128789862107E-2,null,null,1997,4345.776457295281,0,263.8946072132577,{"$f":"INDEX('Floor Space'!$I$5:$DK$50,MATCH(BVM!FV22,'Floor Space'!$I$5:$I$50,0),MATCH(BVM!FV$10,'Floor Space'!$I$5:$DK$5,0))*BVM!GC22","v":103.76578458458242},367.66039179784013,4449.5422418798635,42.862400000000008,2.3877386608413875E-2,null,null,1997,6351.7155196852655,0,384.71941252369987,{"$f":"INDEX('Floor Space'!$I$5:$DK$50,MATCH(BVM!GG22,'Floor Space'!$I$5:$I$50,0),MATCH(BVM!GG$10,'Floor Space'!$I$5:$DK$5,0))*BVM!GN22","v":213.77210337166031},598.49151589536018,6565.4876230569262,42.862400000000008,3.3655805696765961E-2,null,null,1997,12435.519788641852,0,751.60225422781241,{"$f":"INDEX('Floor Space'!$I$5:$DK$50,MATCH(BVM!GR22,'Floor Space'!$I$5:$I$50,0),MATCH(BVM!GR$10,'Floor Space'!$I$5:$DK$5,0))*BVM!GY22","v":430.68513326762292},1182.2873874954353,12866.204921909475,42.862400000000008,3.4633464510345213E-2]
[null,1998,93575.439957208,0,5713.1738055487067,2954.1673002092607,8667.3411057579688,96529.607257417229,42.862400000000008,3.156990019560868E-2,null,null,1998,8659.1200867154221,0,530.47920325370274,{"$f":"INDEX('Floor Space'!$I$5:$DK$54,MATCH(BVM!M23,'Floor Space'!$I$5:$I$54,0),MATCH(BVM!M$10,'Floor Space'!$I$5:$DK$5,0))*BVM!T23","v":286.33796287726557},816.8171661309683,8945.4580495926875,42.862400000000008,3.3067789799630765E-2,null,null,1998,3901.2884383647674,0,239.00261940259668,{"$f":"INDEX('Floor Space'!$I$5:$DK$50,MATCH(BVM!X23,'Floor Space'!$I$5:$I$50,0),MATCH(BVM!X$10,'Floor Space'!$I$5:$DK$5,0))*BVM!AE23","v":129.00698602757569},368.00960543017237,4030.2954243923432,42.862400000000008,3.3067789799630765E-2,null,null,1998,4577.6583983260134,0,280.43872305652826,{"$f":"INDEX('Floor Space'!$I$5:$DK$50,MATCH(BVM!AI23,'Floor Space'!$I$5:$I$50,0),MATCH(BVM!AI$10,'Floor Space'!$I$5:$DK$5,0))*BVM!AP23","v":151.37304569035885},431.81176874688708,4729.031444016372,42.862400000000008,3.3067789799630765E-2,null,null,1998,4237.3422089711048,0,260.82241287994219,{"$f":"INDEX('Floor Space'!$I$5:$DK$50,MATCH(BVM!AT23,'Floor Space'!$I$5:$I$50,0),MATCH(BVM!AT$10,'Floor Space'!$I$5:$DK$5,0))*BVM!BA23","v":92.45749706058146},353.27990994052368,4329.7997060316866,42.862400000000008,2.1819690858301488E-2,null,null,1998,7826.3004284656208,0,481.73464898681937,{"$f":"INDEX('Floor Space'!$I$5:$DK$50,MATCH(BVM!BE23,'Floor Space'!$I$5:$I$50,0),MATCH(BVM!BE$10,'Floor Space'!$I$5:$DK$5,0))*BVM!BL23","v":170.76745591331158},652.50210490013092,7997.0678843789328,42.862400000000008,2.1819690858301488E-2,null,null,1998,1956.5751071164052,0,120.43366224670484,{"$f":"INDEX('Floor Space'!$I$5:$DK$50,MATCH(BVM!BP23,'Floor Space'!$I$5:$I$50,0),MATCH(BVM!BP$10,'Floor Space'!$I$5:$DK$5,0))*BVM!BW23","v":42.691863978327895},163.12552622503273,1999.2669710947332,42.862400000000008,2.1819690858301488E-2,null,null,1998,3777.5942523132444,0,232.52340716870822,{"$f":"INDEX('Floor Space'!$I$5:$DK$50,MATCH(BVM!CA23,'Floor Space'!$I$5:$I$50,0),MATCH(BVM!CA$10,'Floor Space'!$I$5:$DK$5,0))*BVM!CH23","v":82.42593877357119},314.94934594227942,3860.0201910868154,42.862400000000008,2.1819690858301266E-2,null,null,1998,8027.8482857722802,0,492.21824477283087,{"$f":"INDEX('Floor Space'!$I$5:$DK$50,MATCH(BVM!CL23,'Floor Space'!$I$5:$I$50,0),MATCH(BVM!CL$10,'Floor Space'!$I$5:$DK$5,0))*BVM!CS23","v":156.73729894099205},648.95554371382286,8184.5855847132725,42.862400000000008,1.9524197937170529E-2,null,null,1998,4082.1435296499239,0,250.92645914938487,{"$f":"INDEX('Floor Space'!$I$5:$DK$50,MATCH(BVM!CW23,'Floor Space'!$I$5:$I$50,0),MATCH(BVM!CW$10,'Floor Space'!$I$5:$DK$5,0))*BVM!DD23","v":80.743457030208006},331.66991617959286,4162.8869866801324,42.862400000000008,1.9779671254511966E-2,null,null,1998,10731.059495933605,0,645.86779303807214,{"$f":"INDEX('Floor Space'!$I$5:$DK$50,MATCH(BVM!DH23,'Floor Space'!$I$5:$I$50,0),MATCH(BVM!DH$10,'Floor Space'!$I$5:$DK$5,0))*BVM!DO23","v":507.15657500480006},1153.0243680428721,11238.216070938404,42.862400000000008,4.7260624656584982E-2,null,null,1998,1900.130607653211,0,117.56172554039902,{"$f":"INDEX('Floor Space'!$I$5:$DK$50,MATCH(BVM!DS23,'Floor Space'!$I$5:$I$50,0),MATCH(BVM!DS$10,'Floor Space'!$I$5:$DK$5,0))*BVM!DZ23","v":51.856485647198042},169.41821118759708,1951.987093300409,42.862400000000008,2.7291011174881419E-2,null,null,1998,768.90028845555037,0,47.5354439735097,{"$f":"INDEX('Floor Space'!$I$5:$DK$50,MATCH(BVM!ED23,'Floor Space'!$I$5:$I$50,0),MATCH(BVM!ED$10,'Floor Space'!$I$5:$DK$5,0))*BVM!EK23","v":20.984066364609973},68.519510338119673,789.8843548201603,42.862400000000008,2.7291011174881419E-2,null,null,1998,1674.4875488150624,0,103.48997964991041,{"$f":"INDEX('Floor Space'!$I$5:$DK$50,MATCH(BVM!EO23,'Floor Space'!$I$5:$I$50,0),MATCH(BVM!EO$10,'Floor Space'!$I$5:$DK$5,0))*BVM!EV23","v":24.266033411200006},127.75601306111042,1698.7535822262623,42.862400000000008,1.4491617706188231E-2,null,null,1998,5512.7296980459741,0,339.54325718873554,{"$f":"INDEX('Floor Space'!$I$5:$DK$50,MATCH(BVM!EZ23,'Floor Space'!$I$5:$I$50,0),MATCH(BVM!EZ$10,'Floor Space'!$I$5:$DK$5,0))*BVM!FG23","v":187.72033848960007},527.26359567833561,5700.4500365355743,42.862400000000008,3.4052157238207981E-2,null,null,1998,2061.0267957635347,0,125.10020592241912,{"$f":"INDEX('Floor Space'!$I$5:$DK$50,MATCH(BVM!FK23,'Floor Space'!$I$5:$I$50,0),MATCH(BVM!FK$10,'Floor Space'!$I$5:$DK$5,0))*BVM!FR23","v":58.953061545728005},184.05326746814711,2119.9798573092626,42.862400000000008,2.8603733666591191E-2,null,null,1998,4449.5422418798635,0,270.19572077356418,{"$f":"INDEX('Floor Space'!$I$5:$DK$50,MATCH(BVM!FV23,'Floor Space'!$I$5:$I$50,0),MATCH(BVM!FV$10,'Floor Space'!$I$5:$DK$5,0))*BVM!GC23","v":120.09947096627202},390.29519173983618,4569.6417128461353,42.862400000000008,2.6991421687353467E-2,null,null,1998,6565.4876230569262,0,397.66745431937147,{"$f":"INDEX('Floor Space'!$I$5:$DK$50,MATCH(BVM!GG23,'Floor Space'!$I$5:$I$50,0),MATCH(BVM!GG$10,'Floor Space'!$I$5:$DK$5,0))*BVM!GN23","v":260.90155794196488},658.56901226133641,6826.3891809988909,42.862400000000008,3.9738336726996559E-2,null,null,1998,12866.204921909475,0,777.63284422550691,{"$f":"INDEX('Floor Space'!$I$5:$DK$50,MATCH(BVM!GR23,'Floor Space'!$I$5:$I$50,0),MATCH(BVM!GR$10,'Floor Space'!$I$5:$DK$5,0))*BVM!GY23","v":529.68820454569607},1307.3210487712031,13395.893126455172,42.862400000000008,4.1168954463309371E-2]
[null,1999,96529.607257417229,0,5893.1495220611232,3347.3592482106346,9240.5087702717592,99876.966505627905,42.862400000000008,3.4677021313100465E-2,null,null,1999,8945.4580495926875,0,548.02097803997185,{"$f":"INDEX('Floor Space'!$I$5:$DK$54,MATCH(BVM!M24,'Floor Space'!$I$5:$I$54,0),MATCH(BVM!M$10,'Floor Space'!$I$5:$DK$5,0))*BVM!T24","v":342.6654551400897},890.68643318006161,9288.1235047327773,42.862400000000008,3.8306082622084681E-2,null,null,1999,4030.2954243923432,0,246.90590778256288,{"$f":"INDEX('Floor Space'!$I$5:$DK$50,MATCH(BVM!X24,'Floor Space'!$I$5:$I$50,0),MATCH(BVM!X$10,'Floor Space'!$I$5:$DK$5,0))*BVM!AE24","v":154.38482951818287},401.29073730074572,4184.6802539105265,42.862400000000008,3.8306082622084681E-2,null,null,1999,4729.031444016372,0,289.7122118022383,{"$f":"INDEX('Floor Space'!$I$5:$DK$50,MATCH(BVM!AI24,'Floor Space'!$I$5:$I$50,0),MATCH(BVM!AI$10,'Floor Space'!$I$5:$DK$5,0))*BVM!AP24","v":181.15066921692753},470.8628810191658,4910.1821132332998,42.862400000000008,3.8306082622084681E-2,null,null,1999,4329.7997060316866,0,266.51347729789882,{"$f":"INDEX('Floor Space'!$I$5:$DK$50,MATCH(BVM!AT24,'Floor Space'!$I$5:$I$50,0),MATCH(BVM!AT$10,'Floor Space'!$I$5:$DK$5,0))*BVM!BA24","v":116.26827773678612},382.78175503468492,4446.0679837684729,42.862400000000008,2.6853038392241846E-2,null,null,1999,7997.0678843789328,0,492.2459501034441,{"$f":"INDEX('Floor Space'!$I$5:$DK$50,MATCH(BVM!BE24,'Floor Space'!$I$5:$I$50,0),MATCH(BVM!BE$10,'Floor Space'!$I$5:$DK$5,0))*BVM!BL24","v":214.74557092459136},706.99152102803544,8211.8134553035234,42.862400000000008,2.6853038392241624E-2,null,null,1999,1999.2669710947332,0,123.06148752586103,{"$f":"INDEX('Floor Space'!$I$5:$DK$50,MATCH(BVM!BP24,'Floor Space'!$I$5:$I$50,0),MATCH(BVM!BP$10,'Floor Space'!$I$5:$DK$5,0))*BVM!BW24","v":53.686392731147841},176.74788025700886,2052.9533638258808,42.862400000000008,2.6853038392241624E-2,null,null,1999,3860.0201910868154,0,237.59699603044837,{"$f":"INDEX('Floor Space'!$I$5:$DK$50,MATCH(BVM!CA24,'Floor Space'!$I$5:$I$50,0),MATCH(BVM!CA$10,'Floor Space'!$I$5:$DK$5,0))*BVM!CH24","v":103.65327038608278},341.25026641653113,3963.673461472898,42.862400000000008,2.6853038392241846E-2,null,null,1999,8184.5855847132725,0,501.82841121206218,{"$f":"INDEX('Floor Space'!$I$5:$DK$50,MATCH(BVM!CL24,'Floor Space'!$I$5:$I$50,0),MATCH(BVM!CL$10,'Floor Space'!$I$5:$DK$5,0))*BVM!CS24","v":191.62900875148804},693.45741996355025,8376.2145934647597,42.862400000000008,2.3413403985829362E-2,null,null,1999,4162.8869866801324,0,255.88970202041838,{"$f":"INDEX('Floor Space'!$I$5:$DK$50,MATCH(BVM!CW24,'Floor Space'!$I$5:$I$50,0),MATCH(BVM!CW$10,'Floor Space'!$I$5:$DK$5,0))*BVM!DD24","v":98.717974205312032},354.60767622573042,4261.6049608854446,42.862400000000008,2.3713825170170955E-2,null,null,1999,11238.216070938404,0,676.39190838262141,{"$f":"INDEX('Floor Space'!$I$5:$DK$50,MATCH(BVM!DH24,'Floor Space'!$I$5:$I$50,0),MATCH(BVM!DH$10,'Floor Space'!$I$5:$DK$5,0))*BVM!DO24","v":464.4297916384001},1140.8217000210216,11702.645862576805,42.862400000000008,4.1325935424875615E-2,null,null,1999,1951.987093300409,0,120.7701039058604,{"$f":"INDEX('Floor Space'!$I$5:$DK$50,MATCH(BVM!DS24,'Floor Space'!$I$5:$I$50,0),MATCH(BVM!DS$10,'Floor Space'!$I$5:$DK$5,0))*BVM!DZ24","v":66.274098552692905},187.04420245855329,2018.261191853102,42.862400000000008,3.3952119243082279E-2,null,null,1999,789.8843548201603,0,48.8327343061937,{"$f":"INDEX('Floor Space'!$I$5:$DK$50,MATCH(BVM!ED24,'Floor Space'!$I$5:$I$50,0),MATCH(BVM!ED$10,'Floor Space'!$I$5:$DK$5,0))*BVM!EK24","v":26.818247803099116},75.650982109292812,816.70260262325939,42.862400000000008,3.3952119243082057E-2,null,null,1999,1698.7535822262623,0,104.98971687141811,{"$f":"INDEX('Floor Space'!$I$5:$DK$50,MATCH(BVM!EO24,'Floor Space'!$I$5:$I$50,0),MATCH(BVM!EO$10,'Floor Space'!$I$5:$DK$5,0))*BVM!EV24","v":26.450044140800003},131.43976101221813,1725.2036263670623,42.862400000000008,1.557026540961659E-2,null,null,1999,5700.4500365355743,0,351.10543757169961,{"$f":"INDEX('Floor Space'!$I$5:$DK$50,MATCH(BVM!EZ24,'Floor Space'!$I$5:$I$50,0),MATCH(BVM!EZ$10,'Floor Space'!$I$5:$DK$5,0))*BVM!FG24","v":143.54103411200003},494.64647168369964,5843.9910706475748,42.862400000000008,2.5180649456097548E-2,null,null,1999,2119.9798573092626,0,128.6785388942597,{"$f":"INDEX('Floor Space'!$I$5:$DK$50,MATCH(BVM!FK24,'Floor Space'!$I$5:$I$50,0),MATCH(BVM!FK$10,'Floor Space'!$I$5:$DK$5,0))*BVM!FR24","v":92.386167484665606},221.06470637892531,2212.3660247939283,42.862400000000008,4.3578794942856103E-2,null,null,1999,4569.6417128461353,0,277.48868741108186,{"$f":"INDEX('Floor Space'!$I$5:$DK$50,MATCH(BVM!FV24,'Floor Space'!$I$5:$I$50,0),MATCH(BVM!FV$10,'Floor Space'!$I$5:$DK$5,0))*BVM!GC24","v":187.43098111373442},464.9196685248163,4757.0726939598699,42.862400000000008,4.1016559479232217E-2,null,null,1999,6826.3891809988909,0,413.47009752448218,{"$f":"INDEX('Floor Space'!$I$5:$DK$50,MATCH(BVM!GG24,'Floor Space'!$I$5:$I$50,0),MATCH(BVM!GG$10,'Floor Space'!$I$5:$DK$5,0))*BVM!GN24","v":292.15270188829771},705.62279941277984,7118.5418828871889,42.862400000000008,4.2797545545967264E-2,null,null,1999,13395.893126455172,0,809.64717537860042,{"$f":"INDEX('Floor Space'!$I$5:$DK$50,MATCH(BVM!GR24,'Floor Space'!$I$5:$I$50,0),MATCH(BVM!GR$10,'Floor Space'!$I$5:$DK$5,0))*BVM!GY24","v":590.97473286633624},1400.6219082449365,13986.867859321508,42.862400000000008,4.4116112847991884E-2]
[null,2000,99876.966505627905,0,6097.1651672856751,3188.3991820150627,9285.5643493007392,103065.36568764294,42.862400000000008,3.1923268132451499E-2,null,null,2000,9288.1235047327773,0,569.01351490340664,{"$f":"INDEX('Floor Space'!$I$5:$DK$54,MATCH(BVM!M25,'Floor Space'!$I$5:$I$54,0),MATCH(BVM!M$10,'Floor Space'!$I$5:$DK$5,0))*BVM!T25","v":363.65061056509853},932.66412546850518,9651.7741152978761,42.862400000000008,3.9152215232689302E-2,null,null,2000,4184.6802539105265,0,256.36390588596259,{"$f":"INDEX('Floor Space'!$I$5:$DK$50,MATCH(BVM!X25,'Floor Space'!$I$5:$I$50,0),MATCH(BVM!X$10,'Floor Space'!$I$5:$DK$5,0))*BVM!AE25","v":163.83950198109005},420.20340786705265,4348.519755891617,42.862400000000008,3.9152215232689525E-2,null,null,2000,4910.1821132332998,0,300.80995172416181,{"$f":"INDEX('Floor Space'!$I$5:$DK$50,MATCH(BVM!AI25,'Floor Space'!$I$5:$I$50,0),MATCH(BVM!AI$10,'Floor Space'!$I$5:$DK$5,0))*BVM!AP25","v":192.24450692901158},493.05445865317336,5102.4266201623113,42.862400000000008,3.9152215232689302E-2,null,null,2000,4446.0679837684729,0,273.67017393582915,{"$f":"INDEX('Floor Space'!$I$5:$DK$50,MATCH(BVM!AT25,'Floor Space'!$I$5:$I$50,0),MATCH(BVM!AT$10,'Floor Space'!$I$5:$DK$5,0))*BVM!BA25","v":100.44958943247846},374.11976336830764,4546.5175732009511,42.862400000000008,2.2592904516798962E-2,null,null,2000,8211.8134553035234,0,505.46424949999744,{"$f":"INDEX('Floor Space'!$I$5:$DK$50,MATCH(BVM!BE25,'Floor Space'!$I$5:$I$50,0),MATCH(BVM!BE$10,'Floor Space'!$I$5:$DK$5,0))*BVM!BL25","v":185.52871730543839},690.9929668054358,8397.3421726089618,42.862400000000008,2.2592904516799184E-2,null,null,2000,2052.9533638258808,0,126.36606237499936,{"$f":"INDEX('Floor Space'!$I$5:$DK$50,MATCH(BVM!BP25,'Floor Space'!$I$5:$I$50,0),MATCH(BVM!BP$10,'Floor Space'!$I$5:$DK$5,0))*BVM!BW25","v":46.382179326359598},172.74824170135895,2099.3355431522405,42.862400000000008,2.2592904516799184E-2,null,null,2000,3963.673461472898,0,243.97719728673533,{"$f":"INDEX('Floor Space'!$I$5:$DK$50,MATCH(BVM!CA25,'Floor Space'!$I$5:$I$50,0),MATCH(BVM!CA$10,'Floor Space'!$I$5:$DK$5,0))*BVM!CH25","v":89.55089605082766},333.52809333756301,4053.2243575237258,42.862400000000008,2.2592904516799184E-2,null,null,2000,8376.2145934647597,0,513.57792253533717,{"$f":"INDEX('Floor Space'!$I$5:$DK$50,MATCH(BVM!CL25,'Floor Space'!$I$5:$I$50,0),MATCH(BVM!CL$10,'Floor Space'!$I$5:$DK$5,0))*BVM!CS25","v":172.87752313708802},686.45544567242518,8549.092116601847,42.862400000000008,2.0639099107127468E-2,null,null,2000,4261.6049608854446,0,261.95782567697768,{"$f":"INDEX('Floor Space'!$I$5:$DK$50,MATCH(BVM!CW25,'Floor Space'!$I$5:$I$50,0),MATCH(BVM!CW$10,'Floor Space'!$I$5:$DK$5,0))*BVM!DD25","v":89.058117979712023},351.01594365668973,4350.6630788651564,42.862400000000008,2.0897788226998948E-2,null,null,2000,11702.645862576805,0,704.3444367103499,{"$f":"INDEX('Floor Space'!$I$5:$DK$50,MATCH(BVM!DH25,'Floor Space'!$I$5:$I$50,0),MATCH(BVM!DH$10,'Floor Space'!$I$5:$DK$5,0))*BVM!DO25","v":405.46930289600016},1109.8137396063501,12108.115165472806,42.862400000000008,3.4647660679250958E-2,null,null,2000,2018.261191853102,0,124.8705048746716,{"$f":"INDEX('Floor Space'!$I$5:$DK$50,MATCH(BVM!DS25,'Floor Space'!$I$5:$I$50,0),MATCH(BVM!DS$10,'Floor Space'!$I$5:$DK$5,0))*BVM!DZ25","v":53.541866480822286},178.41237135549389,2071.8030583339241,42.862400000000008,2.6528710306153114E-2,null,null,2000,816.70260262325939,0,50.490709124323338,{"$f":"INDEX('Floor Space'!$I$5:$DK$50,MATCH(BVM!ED25,'Floor Space'!$I$5:$I$50,0),MATCH(BVM!ED$10,'Floor Space'!$I$5:$DK$5,0))*BVM!EK25","v":21.666066751273735},72.156775875597077,838.36866937453317,42.862400000000008,2.6528710306153114E-2,null,null,2000,1725.2036263670623,0,106.6244346283866,{"$f":"INDEX('Floor Space'!$I$5:$DK$50,MATCH(BVM!EO25,'Floor Space'!$I$5:$I$50,0),MATCH(BVM!EO$10,'Floor Space'!$I$5:$DK$5,0))*BVM!EV25","v":26.931731792000008},133.5561664203866,1752.1353581590622,42.862400000000008,1.5610755380054853E-2,null,null,2000,5843.9910706475748,0,359.94650051732236,{"$f":"INDEX('Floor Space'!$I$5:$DK$50,MATCH(BVM!EZ25,'Floor Space'!$I$5:$I$50,0),MATCH(BVM!EZ$10,'Floor Space'!$I$5:$DK$5,0))*BVM!FG25","v":146.47788003520003},506.42438055252239,5990.4689506827744,42.862400000000008,2.5064699494649956E-2,null,null,2000,2212.3660247939283,0,134.28619455427901,{"$f":"INDEX('Floor Space'!$I$5:$DK$50,MATCH(BVM!FK25,'Floor Space'!$I$5:$I$50,0),MATCH(BVM!FK$10,'Floor Space'!$I$5:$DK$5,0))*BVM!FR25","v":82.63594926173441},216.92214381601343,2295.0019740556627,42.862400000000008,3.7351843381988159E-2,null,null,2000,4757.0726939598699,0,288.87031866309258,{"$f":"INDEX('Floor Space'!$I$5:$DK$50,MATCH(BVM!FV25,'Floor Space'!$I$5:$I$50,0),MATCH(BVM!FV$10,'Floor Space'!$I$5:$DK$5,0))*BVM!GC25","v":167.66477909986565},456.53509776295823,4924.7374730597357,42.862400000000008,3.5245368293983059E-2,null,null,2000,7118.5418828871889,0,431.1656028551817,{"$f":"INDEX('Floor Space'!$I$5:$DK$50,MATCH(BVM!GG25,'Floor Space'!$I$5:$I$50,0),MATCH(BVM!GG$10,'Floor Space'!$I$5:$DK$5,0))*BVM!GN25","v":289.13296831307844},720.2985711682602,7407.6748512002669,42.862400000000008,4.0616880966612978E-2,null,null,2000,13986.867859321508,0,845.36566153466083,{"$f":"INDEX('Floor Space'!$I$5:$DK$50,MATCH(BVM!GR25,'Floor Space'!$I$5:$I$50,0),MATCH(BVM!GR$10,'Floor Space'!$I$5:$DK$5,0))*BVM!GY25","v":591.296994677984},1436.6626562126448,14578.164853999493,42.862400000000008,4.2275154139238991E-2]
[null,2001,103065.36568764294,0,6291.4922380499283,2671.4050807360009,8962.8973187859301,105736.77076837898,42.862400000000008,2.591952265353803E-2,null,null,2001,9651.7741152978761,0,591.29165450921391,{"$f":"INDEX('Floor Space'!$I$5:$DK$54,MATCH(BVM!M26,'Floor Space'!$I$5:$I$54,0),MATCH(BVM!M$10,'Floor Space'!$I$5:$DK$5,0))*BVM!T26","v":243.77149169851776},835.06314620773173,9895.545606996393,42.862400000000008,2.5256651138586328E-2,null,null,2001,4348.519755891617,0,266.40112070710268,{"$f":"INDEX('Floor Space'!$I$5:$DK$50,MATCH(BVM!X26,'Floor Space'!$I$5:$I$50,0),MATCH(BVM!X$10,'Floor Space'!$I$5:$DK$5,0))*BVM!AE26","v":109.82904644380588},376.23016715090853,4458.348802335423,42.862400000000008,2.525665113858655E-2,null,null,2001,5102.4266201623113,0,312.58732769820108,{"$f":"INDEX('Floor Space'!$I$5:$DK$50,MATCH(BVM!AI26,'Floor Space'!$I$5:$I$50,0),MATCH(BVM!AI$10,'Floor Space'!$I$5:$DK$5,0))*BVM!AP26","v":128.87020910567651},441.45753680387759,5231.296829267988,42.862400000000008,2.525665113858655E-2,null,null,2001,4546.5175732009511,0,279.85317804465711,{"$f":"INDEX('Floor Space'!$I$5:$DK$50,MATCH(BVM!AT26,'Floor Space'!$I$5:$I$50,0),MATCH(BVM!AT$10,'Floor Space'!$I$5:$DK$5,0))*BVM!BA26","v":90.5976984535843},370.45087649824143,4637.1152716545357,42.862400000000008,1.9926833448880688E-2,null,null,2001,8397.3421726089618,0,516.88415502560633,{"$f":"INDEX('Floor Space'!$I$5:$DK$50,MATCH(BVM!BE26,'Floor Space'!$I$5:$I$50,0),MATCH(BVM!BE$10,'Floor Space'!$I$5:$DK$5,0))*BVM!BL26","v":167.33243888684024},684.21659391244657,8564.6746114958023,42.862400000000008,1.9926833448880688E-2,null,null,2001,2099.3355431522405,0,129.22103875640158,{"$f":"INDEX('Floor Space'!$I$5:$DK$50,MATCH(BVM!BP26,'Floor Space'!$I$5:$I$50,0),MATCH(BVM!BP$10,'Floor Space'!$I$5:$DK$5,0))*BVM!BW26","v":41.833109721710059},171.05414847811164,2141.1686528739506,42.862400000000008,1.9926833448880688E-2,null,null,2001,4053.2243575237258,0,249.48935080931079,{"$f":"INDEX('Floor Space'!$I$5:$DK$50,MATCH(BVM!CA26,'Floor Space'!$I$5:$I$50,0),MATCH(BVM!CA$10,'Floor Space'!$I$5:$DK$5,0))*BVM!CH26","v":80.767926703321493},330.2572775126323,4133.9922842270471,42.862400000000008,1.9926833448880688E-2,null,null,2001,8549.092116601847,0,524.17770817777659,{"$f":"INDEX('Floor Space'!$I$5:$DK$50,MATCH(BVM!CL26,'Floor Space'!$I$5:$I$50,0),MATCH(BVM!CL$10,'Floor Space'!$I$5:$DK$5,0))*BVM!CS26","v":200.84709593625607},725.02480411403269,8749.9392125381037,42.862400000000008,2.3493383063006634E-2,null,null,2001,4350.6630788651564,0,267.43216484238025,{"$f":"INDEX('Floor Space'!$I$5:$DK$50,MATCH(BVM!CW26,'Floor Space'!$I$5:$I$50,0),MATCH(BVM!CW$10,'Floor Space'!$I$5:$DK$5,0))*BVM!DD26","v":103.46668578534403},370.8988506277243,4454.1297646505009,42.862400000000008,2.3781819899584944E-2,null,null,2001,12108.115165472806,0,728.74832375480833,{"$f":"INDEX('Floor Space'!$I$5:$DK$50,MATCH(BVM!DH26,'Floor Space'!$I$5:$I$50,0),MATCH(BVM!DH$10,'Floor Space'!$I$5:$DK$5,0))*BVM!DO26","v":446.13834816320013},1174.8866719180085,12554.253513636006,42.862400000000008,3.6846226028258933E-2,null,null,2001,2071.8030583339241,0,128.18315832427481,{"$f":"INDEX('Floor Space'!$I$5:$DK$50,MATCH(BVM!DS26,'Floor Space'!$I$5:$I$50,0),MATCH(BVM!DS$10,'Floor Space'!$I$5:$DK$5,0))*BVM!DZ26","v":47.039645527665911},175.22280385194074,2118.8427038615901,42.862400000000008,2.2704689684884372E-2,null,null,2001,838.36866937453317,0,51.830162519834751,{"$f":"INDEX('Floor Space'!$I$5:$DK$50,MATCH(BVM!ED26,'Floor Space'!$I$5:$I$50,0),MATCH(BVM!ED$10,'Floor Space'!$I$5:$DK$5,0))*BVM!EK26","v":19.034900479678097},70.865062999512844,857.40356985421124,42.862400000000008,2.270468968488415E-2,null,null,2001,1752.1353581590622,0,108.28892259490701,{"$f":"INDEX('Floor Space'!$I$5:$DK$50,MATCH(BVM!EO26,'Floor Space'!$I$5:$I$50,0),MATCH(BVM!EO$10,'Floor Space'!$I$5:$DK$5,0))*BVM!EV26","v":18.086218304000003},126.37514089890701,1770.2215764630623,42.862400000000008,1.0322386463910593E-2,null,null,2001,5990.4689506827744,0,368.96845138693993,{"$f":"INDEX('Floor Space'!$I$5:$DK$50,MATCH(BVM!EZ26,'Floor Space'!$I$5:$I$50,0),MATCH(BVM!EZ$10,'Floor Space'!$I$5:$DK$5,0))*BVM!FG26","v":85.401788953600018},454.37024034053997,6075.8707396363743,42.862400000000008,1.4256277706583553E-2,null,null,2001,2295.0019740556627,0,139.30203146163359,{"$f":"INDEX('Floor Space'!$I$5:$DK$50,MATCH(BVM!FK26,'Floor Space'!$I$5:$I$50,0),MATCH(BVM!FK$10,'Floor Space'!$I$5:$DK$5,0))*BVM!FR26","v":67.318538613625606},206.6205700752592,2362.3205126692883,42.862400000000008,2.9332671333028193E-2,null,null,2001,4924.7374730597357,0,299.05165943357355,{"$f":"INDEX('Floor Space'!$I$5:$DK$50,MATCH(BVM!FV26,'Floor Space'!$I$5:$I$50,0),MATCH(BVM!FV$10,'Floor Space'!$I$5:$DK$5,0))*BVM!GC26","v":137.75087062477442},436.802530058348,5062.4883436845103,42.862400000000008,2.797121092816135E-2,null,null,2001,7407.6748512002669,0,448.67820482324856,{"$f":"INDEX('Floor Space'!$I$5:$DK$50,MATCH(BVM!GG26,'Floor Space'!$I$5:$I$50,0),MATCH(BVM!GG$10,'Floor Space'!$I$5:$DK$5,0))*BVM!GN26","v":225.40550577932805},674.08371060257662,7633.0803569795953,42.862400000000008,3.0428644656670611E-2,null,null,2001,14578.164853999493,0,881.10362518005832,{"$f":"INDEX('Floor Space'!$I$5:$DK$50,MATCH(BVM!GR26,'Floor Space'!$I$5:$I$50,0),MATCH(BVM!GR$10,'Floor Space'!$I$5:$DK$5,0))*BVM!GY26","v":457.91356155507219},1339.0171867351305,15036.078415554566,42.862400000000008,3.1410919422374617E-2]
[null,2002,105736.77076837898,0,6454.2438478542435,2083.918038897767,8538.1618867520119,107820.68880727669,42.862400000000008,1.9708546267812821E-2,null,null,2002,9895.545606996393,0,606.22570154831067,{"$f":"INDEX('Floor Space'!$I$5:$DK$54,MATCH(BVM!M27,'Floor Space'!$I$5:$I$54,0),MATCH(BVM!M$10,'Floor Space'!$I$5:$DK$5,0))*BVM!T27","v":168.54129908748578},774.76700063579642,{"$f":"N27+Q27-O27","v":10064.08690608388},42.862400000000008,1.7032037017577162E-2,null,null,2002,4458.348802335423,0,273.12952087573046,{"$f":"INDEX('Floor Space'!$I$5:$DK$50,MATCH(BVM!X27,'Floor Space'!$I$5:$I$50,0),MATCH(BVM!X$10,'Floor Space'!$I$5:$DK$5,0))*BVM!AE27","v":75.934761838647788},349.06428271437824,{"$f":"Y27+AB27-Z27","v":4534.2835641740712},42.862400000000008,1.7032037017577384E-2,null,null,2002,5231.296829267988,0,320.48223678421749,{"$f":"INDEX('Floor Space'!$I$5:$DK$50,MATCH(BVM!AI27,'Floor Space'!$I$5:$I$50,0),MATCH(BVM!AI$10,'Floor Space'!$I$5:$DK$5,0))*BVM!AP27","v":89.099641246026493},409.58187803024396,{"$f":"AJ27+AM27-AK27","v":5320.3964705140143},42.862400000000008,1.7032037017577162E-2,null,null,2002,4637.1152716545357,0,285.42976571369297,{"$f":"INDEX('Floor Space'!$I$5:$DK$50,MATCH(BVM!AT27,'Floor Space'!$I$5:$I$50,0),MATCH(BVM!AT$10,'Floor Space'!$I$5:$DK$5,0))*BVM!BA27","v":73.879868699207265},359.30963441290021,{"$f":"AU27+AX27-AV27","v":4710.9951403537434},42.862400000000008,1.5932290739204991E-2,null,null,2002,8564.6746114958023,0,527.18401949516704,{"$f":"INDEX('Floor Space'!$I$5:$DK$50,MATCH(BVM!BE27,'Floor Space'!$I$5:$I$50,0),MATCH(BVM!BE$10,'Floor Space'!$I$5:$DK$5,0))*BVM!BL27","v":136.4548859970381},663.63890549220514,{"$f":"BF27+BI27-BG27","v":8701.1294974928405},42.862400000000008,1.5932290739204991E-2,null,null,2002,2141.1686528739506,0,131.79600487379176,{"$f":"INDEX('Floor Space'!$I$5:$DK$50,MATCH(BVM!BP27,'Floor Space'!$I$5:$I$50,0),MATCH(BVM!BP$10,'Floor Space'!$I$5:$DK$5,0))*BVM!BW27","v":34.113721499259526},165.90972637305129,{"$f":"BQ27+BT27-BR27","v":2175.2823743732101},42.862400000000008,1.5932290739204991E-2,null,null,2002,4133.9922842270471,0,254.46088355015726,{"$f":"INDEX('Floor Space'!$I$5:$DK$50,MATCH(BVM!CA27,'Floor Space'!$I$5:$I$50,0),MATCH(BVM!CA$10,'Floor Space'!$I$5:$DK$5,0))*BVM!CH27","v":65.863966985935193},320.32485053609247,{"$f":"CB27+CE27-CC27","v":4199.856251212982},42.862400000000008,1.5932290739204769E-2,null,null,2002,8749.9392125381037,0,536.49241586908602,{"$f":"INDEX('Floor Space'!$I$5:$DK$50,MATCH(BVM!CL27,'Floor Space'!$I$5:$I$50,0),MATCH(BVM!CL$10,'Floor Space'!$I$5:$DK$5,0))*BVM!CS27","v":246.57435703040005},783.06677289948607,{"$f":"CM27+CP27-CN27","v":8996.513569568504},42.862400000000008,2.8180122288972598E-2,null,null,2002,4454.1297646505009,0,273.79218842201789,{"$f":"INDEX('Floor Space'!$I$5:$DK$50,MATCH(BVM!CW27,'Floor Space'!$I$5:$I$50,0),MATCH(BVM!CW$10,'Floor Space'!$I$5:$DK$5,0))*BVM!DD27","v":117.60276702720002},391.39495544921789,{"$f":"CX27+DA27-CY27","v":4571.7325316777005},42.862400000000008,2.6403085056150744E-2,null,null,2002,12554.253513636006,0,755.59994920959264,{"$f":"INDEX('Floor Space'!$I$5:$DK$50,MATCH(BVM!DH27,'Floor Space'!$I$5:$I$50,0),MATCH(BVM!DH$10,'Floor Space'!$I$5:$DK$5,0))*BVM!DO27","v":252.38958456320003},1007.9895337727927,{"$f":"DI27+DL27-DJ27","v":12806.643098199205},42.862400000000008,2.0103910144005255E-2,null,null,2002,2118.8427038615901,0,131.09351715685588,{"$f":"INDEX('Floor Space'!$I$5:$DK$50,MATCH(BVM!DS27,'Floor Space'!$I$5:$I$50,0),MATCH(BVM!DS$10,'Floor Space'!$I$5:$DK$5,0))*BVM!DZ27","v":27.186862124077749},158.28037928093363,{"$f":"DT27+DW27-DU27","v":2146.0295659856679},42.862400000000008,1.2830995936852663E-2,null,null,2002,857.40356985421124,0,53.006950276164716,{"$f":"INDEX('Floor Space'!$I$5:$DK$50,MATCH(BVM!ED27,'Floor Space'!$I$5:$I$50,0),MATCH(BVM!ED$10,'Floor Space'!$I$5:$DK$5,0))*BVM!EK27","v":11.001341721042257},64.008291997206967,{"$f":"EE27+EH27-EF27","v":868.40491157525355},42.862400000000008,1.2830995936852663E-2,null,null,2002,1770.2215764630623,0,109.40672270369214,{"$f":"INDEX('Floor Space'!$I$5:$DK$50,MATCH(BVM!EO27,'Floor Space'!$I$5:$I$50,0),MATCH(BVM!EO$10,'Floor Space'!$I$5:$DK$5,0))*BVM!EV27","v":56.136659652326408},165.54338235601855,{"$f":"EP27+ES27-EQ27","v":1826.3582361153888},42.862400000000008,3.1711657116104464E-2,null,null,2002,6075.8707396363743,0,374.22856809488019,{"$f":"INDEX('Floor Space'!$I$5:$DK$50,MATCH(BVM!EZ27,'Floor Space'!$I$5:$I$50,0),MATCH(BVM!EZ$10,'Floor Space'!$I$5:$DK$5,0))*BVM!FG27","v":39.799367171200011},414.02793526608019,{"$f":"FA27+FD27-FB27","v":6115.6701068075745},42.862400000000008,6.5503972807661182E-3,null,null,2002,2362.3205126692883,0,143.38813216652085,{"$f":"INDEX('Floor Space'!$I$5:$DK$50,MATCH(BVM!FK27,'Floor Space'!$I$5:$I$50,0),MATCH(BVM!FK$10,'Floor Space'!$I$5:$DK$5,0))*BVM!FR27","v":43.542881405004806},186.93101357152565,{"$f":"FL27+FO27-FM27","v":2405.863394074293},42.862400000000008,1.8432249633985487E-2,null,null,2002,5062.4883436845103,0,307.41649647800671,{"$f":"INDEX('Floor Space'!$I$5:$DK$50,MATCH(BVM!FV27,'Floor Space'!$I$5:$I$50,0),MATCH(BVM!FV$10,'Floor Space'!$I$5:$DK$5,0))*BVM!GC27","v":135.00528067371522},442.42177715172193,{"$f":"FW27+FZ27-FX27","v":5197.4936243582251},42.862400000000008,2.6667771164774035E-2,null,null,2002,7633.0803569795953,0,462.33087448300807,{"$f":"INDEX('Floor Space'!$I$5:$DK$50,MATCH(BVM!GG27,'Floor Space'!$I$5:$I$50,0),MATCH(BVM!GG$10,'Floor Space'!$I$5:$DK$5,0))*BVM!GN27","v":201.37158426560003},663.70245874860814,{"$f":"GH27+GK27-GI27","v":7834.4519412451955},42.862400000000008,2.638143119788694E-2,null,null,2002,15036.078415554566,0,908.77990015335149,{"$f":"INDEX('Floor Space'!$I$5:$DK$50,MATCH(BVM!GR27,'Floor Space'!$I$5:$I$50,0),MATCH(BVM!GR$10,'Floor Space'!$I$5:$DK$5,0))*BVM!GY27","v":309.41920791040008},1218.1991080637515,{"$f":"GS27+GV27-GT27","v":15345.497623464966},42.862400000000008,2.0578451332783132E-2]
[null,2003,107820.68880727669,0,6581.3404921655801,2230.2802532892451,8811.6207454548221,110050.96906056596,42.862400000000008,2.0685086303573463E-2,null,null,2003,10064.08690608388,0,616.55096013808827,{"$f":"INDEX('Floor Space'!$I$5:$DK$54,MATCH(BVM!M28,'Floor Space'!$I$5:$I$54,0),MATCH(BVM!M$10,'Floor Space'!$I$5:$DK$5,0))*BVM!T28","v":153.66659645469946},770.21755659278779,10217.753502538579,42.862400000000008,1.5268806588087491E-2,null,null,2003,4534.2835641740712,0,277.78147298587908,{"$f":"INDEX('Floor Space'!$I$5:$DK$50,MATCH(BVM!X28,'Floor Space'!$I$5:$I$50,0),MATCH(BVM!X$10,'Floor Space'!$I$5:$DK$5,0))*BVM!AE28","v":69.233098756918281},347.01457174279733,{"$f":"Y28+AB28-Z28","v":4603.5166629309897},42.862400000000008,1.5268806588087713E-2,null,null,2003,5320.3964705140143,0,325.94070210460222,{"$f":"INDEX('Floor Space'!$I$5:$DK$50,MATCH(BVM!AI28,'Floor Space'!$I$5:$I$50,0),MATCH(BVM!AI$10,'Floor Space'!$I$5:$DK$5,0))*BVM!AP28","v":81.236104680222311},407.17680678482452,{"$f":"AJ28+AM28-AK28","v":5401.6325751942368},42.862400000000008,1.5268806588087713E-2,null,null,2003,4710.9951403537434,0,289.97731572666669,{"$f":"INDEX('Floor Space'!$I$5:$DK$50,MATCH(BVM!AT28,'Floor Space'!$I$5:$I$50,0),MATCH(BVM!AT$10,'Floor Space'!$I$5:$DK$5,0))*BVM!BA28","v":70.005261778069624},359.9825775047363,{"$f":"AU28+AX28-AV28","v":4781.0004021318127},42.862400000000008,1.4859973252448144E-2,null,null,2003,8701.1294974928405,0,535.58326856682675,{"$f":"INDEX('Floor Space'!$I$5:$DK$50,MATCH(BVM!BE28,'Floor Space'!$I$5:$I$50,0),MATCH(BVM!BE$10,'Floor Space'!$I$5:$DK$5,0))*BVM!BL28","v":129.29855159883084},664.88182016565759,{"$f":"BF28+BI28-BG28","v":8830.4280490916717},42.862400000000008,1.4859973252448144E-2,null,null,2003,2175.2823743732101,0,133.89581714170669,{"$f":"INDEX('Floor Space'!$I$5:$DK$50,MATCH(BVM!BP28,'Floor Space'!$I$5:$I$50,0),MATCH(BVM!BP$10,'Floor Space'!$I$5:$DK$5,0))*BVM!BW28","v":32.32463789970771},166.2204550414144,{"$f":"BQ28+BT28-BR28","v":2207.6070122729179},42.862400000000008,1.4859973252448144E-2,null,null,2003,4199.856251212982,0,258.51502832863332,{"$f":"INDEX('Floor Space'!$I$5:$DK$50,MATCH(BVM!CA28,'Floor Space'!$I$5:$I$50,0),MATCH(BVM!CA$10,'Floor Space'!$I$5:$DK$5,0))*BVM!CH28","v":62.4097515571519},320.9247798857852,{"$f":"CB28+CE28-CC28","v":4262.266002770134},42.862400000000008,1.4859973252448144E-2,null,null,2003,8996.513569568504,0,551.61083775538327,{"$f":"INDEX('Floor Space'!$I$5:$DK$50,MATCH(BVM!CL28,'Floor Space'!$I$5:$I$50,0),MATCH(BVM!CL$10,'Floor Space'!$I$5:$DK$5,0))*BVM!CS28","v":276.62278537600002},828.2336231313833,{"$f":"CM28+CP28-CN28","v":9273.1363549445032},42.862400000000008,3.0747776150941375E-2,null,null,2003,4571.7325316777005,0,281.02114686063402,{"$f":"INDEX('Floor Space'!$I$5:$DK$50,MATCH(BVM!CW28,'Floor Space'!$I$5:$I$50,0),MATCH(BVM!CW$10,'Floor Space'!$I$5:$DK$5,0))*BVM!DD28","v":137.00348941440001},418.02463627503403,{"$f":"CX28+DA28-CY28","v":4708.7360210921006},42.862400000000008,2.9967520729854202E-2,null,null,2003,12806.643098199205,0,770.79046269331729,{"$f":"INDEX('Floor Space'!$I$5:$DK$50,MATCH(BVM!DH28,'Floor Space'!$I$5:$I$50,0),MATCH(BVM!DH$10,'Floor Space'!$I$5:$DK$5,0))*BVM!DO28","v":290.91842447360006},1061.7088871669173,{"$f":"DI28+DL28-DJ28","v":13097.561522672806},42.862400000000008,2.2716212378441902E-2,null,null,2003,2146.0295659856679,0,132.77557754284319,{"$f":"INDEX('Floor Space'!$I$5:$DK$50,MATCH(BVM!DS28,'Floor Space'!$I$5:$I$50,0),MATCH(BVM!DS$10,'Floor Space'!$I$5:$DK$5,0))*BVM!DZ28","v":26.569791689451741},159.34536923229493,{"$f":"DT28+DW28-DU28","v":2172.5993576751198},42.862400000000008,1.2380906633617794E-2,null,null,2003,868.40491157525355,0,53.68708223978313,{"$f":"INDEX('Floor Space'!$I$5:$DK$50,MATCH(BVM!ED28,'Floor Space'!$I$5:$I$50,0),MATCH(BVM!ED$10,'Floor Space'!$I$5:$DK$5,0))*BVM!EK28","v":10.751640130388271},64.438722370171405,{"$f":"EE28+EH28-EF28","v":879.15655170564185},42.862400000000008,1.2380906633617794E-2,null,null,2003,1826.3582361153888,0,112.87619118026832,{"$f":"INDEX('Floor Space'!$I$5:$DK$50,MATCH(BVM!EO28,'Floor Space'!$I$5:$I$50,0),MATCH(BVM!EO$10,'Floor Space'!$I$5:$DK$5,0))*BVM!EV28","v":54.862504775164808},167.73869595543312,{"$f":"EP28+ES28-EQ28","v":1881.2207408905535},42.862400000000008,3.0039290041944833E-2,null,null,2003,6115.6701068075745,0,376.67991388971393,{"$f":"INDEX('Floor Space'!$I$5:$DK$50,MATCH(BVM!EZ28,'Floor Space'!$I$5:$I$50,0),MATCH(BVM!EZ$10,'Floor Space'!$I$5:$DK$5,0))*BVM!FG28","v":70.876321667200017},447.55623555691398,{"$f":"FA28+FD28-FB28","v":6186.5464284747741},42.862400000000008,1.1589297726884329E-2,null,null,2003,2405.863394074293,0,146.03109801316504,{"$f":"INDEX('Floor Space'!$I$5:$DK$50,MATCH(BVM!FK28,'Floor Space'!$I$5:$I$50,0),MATCH(BVM!FK$10,'Floor Space'!$I$5:$DK$5,0))*BVM!FR28","v":44.549067843974413},190.58016585713943,{"$f":"FL28+FO28-FM28","v":2450.4124619182676},42.862400000000008,1.851687338262864E-2,null,null,2003,5197.4936243582251,0,315.61460925835883,{"$f":"INDEX('Floor Space'!$I$5:$DK$50,MATCH(BVM!FV28,'Floor Space'!$I$5:$I$50,0),MATCH(BVM!FV$10,'Floor Space'!$I$5:$DK$5,0))*BVM!GC28","v":139.30326479986564},454.91787405822447,{"$f":"FW28+FZ28-FX28","v":5336.7968891580904},42.862400000000008,2.6802007826814078E-2,null,null,2003,7834.4519412451955,0,474.52782463884046,{"$f":"INDEX('Floor Space'!$I$5:$DK$50,MATCH(BVM!GG28,'Floor Space'!$I$5:$I$50,0),MATCH(BVM!GG$10,'Floor Space'!$I$5:$DK$5,0))*BVM!GN28","v":173.92421780160004},648.45204244044044,{"$f":"GH28+GK28-GI28","v":8008.3761590467957},42.862400000000008,2.2199921463039507E-2,null,null,2003,15345.497623464966,0,927.48118310086852,{"$f":"INDEX('Floor Space'!$I$5:$DK$50,MATCH(BVM!GR28,'Floor Space'!$I$5:$I$50,0),MATCH(BVM!GR$10,'Floor Space'!$I$5:$DK$5,0))*BVM!GY28","v":406.72474259200004},1334.2059256928685,{"$f":"GS28+GV28-GT28","v":15752.222366056965},42.862400000000008,2.6504500054144398E-2]
[null,2004,110050.96906056596,0,6717.3081861592727,2182.58746234825,8899.8956485075196,112233.55652291418,42.862400000000008,1.9832514706408899E-2,null,null,2004,10217.753502538579,0,625.96495750013639,{"$f":"INDEX('Floor Space'!$I$5:$DK$54,MATCH(BVM!M29,'Floor Space'!$I$5:$I$54,0),MATCH(BVM!M$10,'Floor Space'!$I$5:$DK$5,0))*BVM!T29","v":181.47505026116667},807.44000776130304,10399.228552799745,42.862400000000008,1.7760758293501544E-2,null,null,2004,4603.5166629309897,0,282.02286457065452,{"$f":"INDEX('Floor Space'!$I$5:$DK$50,MATCH(BVM!X29,'Floor Space'!$I$5:$I$50,0),MATCH(BVM!X$10,'Floor Space'!$I$5:$DK$5,0))*BVM!AE29","v":81.761946750424187},363.78481132107868,4685.2786096814143,42.862400000000008,1.7760758293501544E-2,null,null,2004,5401.6325751942368,0,330.91742764422293,{"$f":"INDEX('Floor Space'!$I$5:$DK$50,MATCH(BVM!AI29,'Floor Space'!$I$5:$I$50,0),MATCH(BVM!AI$10,'Floor Space'!$I$5:$DK$5,0))*BVM!AP29","v":95.93709055832926},426.85451820255219,5497.5696657525659,42.862400000000008,1.7760758293501544E-2,null,null,2004,4781.0004021318127,0,294.28637088218159,{"$f":"INDEX('Floor Space'!$I$5:$DK$50,MATCH(BVM!AT29,'Floor Space'!$I$5:$I$50,0),MATCH(BVM!AT$10,'Floor Space'!$I$5:$DK$5,0))*BVM!BA29","v":75.658230246903287},369.94460112908484,4856.658632378716,42.862400000000008,1.5824769689031459E-2,null,null,2004,8830.4280490916717,0,543.54202161218859,{"$f":"INDEX('Floor Space'!$I$5:$DK$50,MATCH(BVM!BE29,'Floor Space'!$I$5:$I$50,0),MATCH(BVM!BE$10,'Floor Space'!$I$5:$DK$5,0))*BVM!BL29","v":139.73949013244015},683.28151174462869,8970.1675392241123,42.862400000000008,1.5824769689031681E-2,null,null,2004,2207.6070122729179,0,135.88550540304715,{"$f":"INDEX('Floor Space'!$I$5:$DK$50,MATCH(BVM!BP29,'Floor Space'!$I$5:$I$50,0),MATCH(BVM!BP$10,'Floor Space'!$I$5:$DK$5,0))*BVM!BW29","v":34.934872533110038},170.82037793615717,2242.5418848060281,42.862400000000008,1.5824769689031681E-2,null,null,2004,4262.266002770134,0,262.35655473495268,{"$f":"INDEX('Floor Space'!$I$5:$DK$50,MATCH(BVM!CA29,'Floor Space'!$I$5:$I$50,0),MATCH(BVM!CA$10,'Floor Space'!$I$5:$DK$5,0))*BVM!CH29","v":67.449377847226614},329.80593258217931,4329.715380617361,42.862400000000008,1.5824769689031681E-2,null,null,2004,9273.1363549445032,0,568.57164431711897,{"$f":"INDEX('Floor Space'!$I$5:$DK$50,MATCH(BVM!CL29,'Floor Space'!$I$5:$I$50,0),MATCH(BVM!CL$10,'Floor Space'!$I$5:$DK$5,0))*BVM!CS29","v":185.1146474688},753.68629178591891,9458.2510024133026,42.862400000000008,1.9962463656656437E-2,null,null,2004,4708.7360210921006,0,289.44265390470747,{"$f":"INDEX('Floor Space'!$I$5:$DK$50,MATCH(BVM!CW29,'Floor Space'!$I$5:$I$50,0),MATCH(BVM!CW$10,'Floor Space'!$I$5:$DK$5,0))*BVM!DD29","v":72.892911862400027},362.33556576710748,4781.6289329545007,42.862400000000008,1.5480356413246854E-2,null,null,2004,13097.561522672806,0,788.29990254313611,{"$f":"INDEX('Floor Space'!$I$5:$DK$50,MATCH(BVM!DH29,'Floor Space'!$I$5:$I$50,0),MATCH(BVM!DH$10,'Floor Space'!$I$5:$DK$5,0))*BVM!DO29","v":260.77064108480005},1049.0705436279361,13358.332163757606,42.862400000000008,1.9909861895543557E-2,null,null,2004,2172.5993576751198,0,134.41945957162582,{"$f":"INDEX('Floor Space'!$I$5:$DK$50,MATCH(BVM!DS29,'Floor Space'!$I$5:$I$50,0),MATCH(BVM!DS$10,'Floor Space'!$I$5:$DK$5,0))*BVM!DZ29","v":28.663593312646015},163.08305288427184,2201.2629509877656,42.862400000000008,1.3193225530232278E-2,null,null,2004,879.15655170564185,0,54.351776992425258,{"$f":"INDEX('Floor Space'!$I$5:$DK$50,MATCH(BVM!ED29,'Floor Space'!$I$5:$I$50,0),MATCH(BVM!ED$10,'Floor Space'!$I$5:$DK$5,0))*BVM!EK29","v":11.598910663033994},65.950687655459248,890.75546236867581,42.862400000000008,1.31932255302325E-2,null,null,2004,1881.2207408905535,0,116.26691182596241,{"$f":"INDEX('Floor Space'!$I$5:$DK$50,MATCH(BVM!EO29,'Floor Space'!$I$5:$I$50,0),MATCH(BVM!EO$10,'Floor Space'!$I$5:$DK$5,0))*BVM!EV29","v":59.185880844249603},175.45279267021201,1940.4066217348031,42.862400000000008,3.1461422659114113E-2,null,null,2004,6186.5464284747741,0,381.04536955951892,{"$f":"INDEX('Floor Space'!$I$5:$DK$50,MATCH(BVM!EZ29,'Floor Space'!$I$5:$I$50,0),MATCH(BVM!EZ$10,'Floor Space'!$I$5:$DK$5,0))*BVM!FG29","v":79.950120297600009},460.99548985711891,6266.4965487723739,42.862400000000008,1.2923223194384104E-2,null,null,2004,2450.4124619182676,0,148.73513736500104,{"$f":"INDEX('Floor Space'!$I$5:$DK$50,MATCH(BVM!FK29,'Floor Space'!$I$5:$I$50,0),MATCH(BVM!FK$10,'Floor Space'!$I$5:$DK$5,0))*BVM!FR29","v":48.355093802086408},197.09023116708744,2498.7675557203538,42.862400000000008,1.9733450818411269E-2,null,null,2004,5336.7968891580904,0,324.07371448595819,{"$f":"INDEX('Floor Space'!$I$5:$DK$50,MATCH(BVM!FV29,'Floor Space'!$I$5:$I$50,0),MATCH(BVM!FV$10,'Floor Space'!$I$5:$DK$5,0))*BVM!GC29","v":143.58036739343362},467.65408187939181,5480.3772565515237,42.862400000000008,2.6903847078220799E-2,null,null,2004,8008.3761590467957,0,485.06230507784971,{"$f":"INDEX('Floor Space'!$I$5:$DK$50,MATCH(BVM!GG29,'Floor Space'!$I$5:$I$50,0),MATCH(BVM!GG$10,'Floor Space'!$I$5:$DK$5,0))*BVM!GN29","v":240.71883884160007},725.78114391944973,8249.0949978883964,42.862400000000008,3.0058383130476374E-2,null,null,2004,15752.222366056965,0,952.06360816858319,{"$f":"INDEX('Floor Space'!$I$5:$DK$50,MATCH(BVM!GR29,'Floor Space'!$I$5:$I$50,0),MATCH(BVM!GR$10,'Floor Space'!$I$5:$DK$5,0))*BVM!GY29","v":374.80039844800007},1326.8640066165833,16127.022764504965,42.862400000000008,2.379349337117187E-2]
[null,2005,112233.55652291418,0,6850.3580747444448,2377.0294608032009,9227.3875355476466,114610.58598371742,42.862400000000008,2.1179311557483649E-2,null,null,2005,10399.228552799745,0,637.08256981049817,{"$f":"INDEX('Floor Space'!$I$5:$DK$54,MATCH(BVM!M30,'Floor Space'!$I$5:$I$54,0),MATCH(BVM!M$10,'Floor Space'!$I$5:$DK$5,0))*BVM!T30","v":140.29860632492168},777.38117613541988,10539.527159124666,42.862400000000008,1.3491251357020007E-2,null,null,2005,4685.2786096814143,0,287.03180450153491,{"$f":"INDEX('Floor Space'!$I$5:$DK$50,MATCH(BVM!X30,'Floor Space'!$I$5:$I$50,0),MATCH(BVM!X$10,'Floor Space'!$I$5:$DK$5,0))*BVM!AE30","v":63.210271400881581},350.2420759024165,4748.4888810822958,42.862400000000008,1.3491251357020007E-2,null,null,2005,5497.5696657525659,0,336.79477209171921,{"$f":"INDEX('Floor Space'!$I$5:$DK$50,MATCH(BVM!AI30,'Floor Space'!$I$5:$I$50,0),MATCH(BVM!AI$10,'Floor Space'!$I$5:$DK$5,0))*BVM!AP30","v":74.169094213396818},410.96386630511603,5571.7387599659623,42.862400000000008,1.3491251357020007E-2,null,null,2005,4856.658632378716,0,298.94338492401312,{"$f":"INDEX('Floor Space'!$I$5:$DK$50,MATCH(BVM!AT30,'Floor Space'!$I$5:$I$50,0),MATCH(BVM!AT$10,'Floor Space'!$I$5:$DK$5,0))*BVM!BA30","v":102.43564814177289},401.37903306578602,4959.0942805204886,42.862400000000008,2.1091794975839351E-2,null,null,2005,8970.1675392241123,0,552.14344892051201,{"$f":"INDEX('Floor Space'!$I$5:$DK$50,MATCH(BVM!BE30,'Floor Space'!$I$5:$I$50,0),MATCH(BVM!BE$10,'Floor Space'!$I$5:$DK$5,0))*BVM!BL30","v":189.1969346362456},741.34038355675762,9159.364473860358,42.862400000000008,2.1091794975839573E-2,null,null,2005,2242.5418848060281,0,138.035862230128,{"$f":"INDEX('Floor Space'!$I$5:$DK$50,MATCH(BVM!BP30,'Floor Space'!$I$5:$I$50,0),MATCH(BVM!BP$10,'Floor Space'!$I$5:$DK$5,0))*BVM!BW30","v":47.2992336590614},185.3350958891894,2289.8411184650895,42.862400000000008,2.1091794975839573E-2,null,null,2005,4329.715380617361,0,266.50828679004115,{"$f":"INDEX('Floor Space'!$I$5:$DK$50,MATCH(BVM!CA30,'Floor Space'!$I$5:$I$50,0),MATCH(BVM!CA$10,'Floor Space'!$I$5:$DK$5,0))*BVM!CH30","v":91.321469111720248},357.82975590176142,4421.036849729081,42.862400000000008,2.1091794975839351E-2,null,null,2005,9458.2510024133026,0,579.92173510300483,{"$f":"INDEX('Floor Space'!$I$5:$DK$50,MATCH(BVM!CL30,'Floor Space'!$I$5:$I$50,0),MATCH(BVM!CL$10,'Floor Space'!$I$5:$DK$5,0))*BVM!CS30","v":214.95330722880001},794.87504233180482,9673.2043096421021,42.862400000000008,2.272653867760055E-2,null,null,2005,4781.6289329545007,0,293.92332934834837,{"$f":"INDEX('Floor Space'!$I$5:$DK$50,MATCH(BVM!CW30,'Floor Space'!$I$5:$I$50,0),MATCH(BVM!CW$10,'Floor Space'!$I$5:$DK$5,0))*BVM!DD30","v":95.205534256000021},389.1288636043484,4876.8344672105004,42.862400000000008,1.9910690601659287E-2,null,null,2005,13358.332163757606,0,803.99484473504049,{"$f":"INDEX('Floor Space'!$I$5:$DK$50,MATCH(BVM!DH30,'Floor Space'!$I$5:$I$50,0),MATCH(BVM!DH$10,'Floor Space'!$I$5:$DK$5,0))*BVM!DO30","v":406.21202256320009},1210.2068672982405,13764.544186320807,42.862400000000008,3.0408887695223763E-2,null,null,2005,2201.2629509877656,0,136.19288581740625,{"$f":"INDEX('Floor Space'!$I$5:$DK$50,MATCH(BVM!DS30,'Floor Space'!$I$5:$I$50,0),MATCH(BVM!DS$10,'Floor Space'!$I$5:$DK$5,0))*BVM!DZ30","v":4.280881881737904},140.47376769914416,2205.5438328695036,42.862400000000008,1.9447389871423137E-3,null,null,2005,890.75546236867581,0,55.068852244255211,{"$f":"INDEX('Floor Space'!$I$5:$DK$50,MATCH(BVM!ED30,'Floor Space'!$I$5:$I$50,0),MATCH(BVM!ED$10,'Floor Space'!$I$5:$DK$5,0))*BVM!EK30","v":6.0353165455608604},61.104168789816072,896.79077891423663,42.862400000000008,6.7755032672063287E-3,null,null,2005,1940.4066217348031,0,119.92483428018896,{"$f":"INDEX('Floor Space'!$I$5:$DK$50,MATCH(BVM!EO30,'Floor Space'!$I$5:$I$50,0),MATCH(BVM!EO$10,'Floor Space'!$I$5:$DK$5,0))*BVM!EV30","v":10.579050123101242},130.50388440329021,1950.9856718579044,42.862400000000008,5.4519758923741168E-3,null,null,2005,6266.4965487723739,0,385.96970391752319,{"$f":"INDEX('Floor Space'!$I$5:$DK$50,MATCH(BVM!EZ30,'Floor Space'!$I$5:$I$50,0),MATCH(BVM!EZ$10,'Floor Space'!$I$5:$DK$5,0))*BVM!FG30","v":100.71849614400001},486.68820006152322,6367.2150449163737,42.862400000000008,1.6072536761187806E-2,null,null,2005,2498.7675557203538,0,151.67019488316294,{"$f":"INDEX('Floor Space'!$I$5:$DK$50,MATCH(BVM!FK30,'Floor Space'!$I$5:$I$50,0),MATCH(BVM!FK$10,'Floor Space'!$I$5:$DK$5,0))*BVM!FR30","v":154.9759509088},306.64614579196291,2653.7435066291537,42.862400000000008,6.20209553121569E-2,null,null,2005,5480.3772565515237,0,332.79254414255939,{"$f":"INDEX('Floor Space'!$I$5:$DK$50,MATCH(BVM!FV30,'Floor Space'!$I$5:$I$50,0),MATCH(BVM!FV$10,'Floor Space'!$I$5:$DK$5,0))*BVM!GC30","v":173.15646649280004},505.9490106353594,5653.5337230443238,42.862400000000008,3.1595720219041556E-2,null,null,2005,8249.0949978883964,0,499.64249368603168,{"$f":"INDEX('Floor Space'!$I$5:$DK$50,MATCH(BVM!GG30,'Floor Space'!$I$5:$I$50,0),MATCH(BVM!GG$10,'Floor Space'!$I$5:$DK$5,0))*BVM!GN30","v":145.28553379200002},644.92802747803171,8394.3805316803955,42.862400000000008,1.7612299752783667E-2,null,null,2005,16127.022764504965,0,974.71652731847644,{"$f":"INDEX('Floor Space'!$I$5:$DK$50,MATCH(BVM!GR30,'Floor Space'!$I$5:$I$50,0),MATCH(BVM!GR$10,'Floor Space'!$I$5:$DK$5,0))*BVM!GY30","v":357.69564337920002},1332.4121706976764,16484.718407884164,42.862400000000008,2.2179893251373928E-2]
[null,2006,114610.58598371742,0,6995.1690781404686,2782.0409932672005,9777.2100714076696,117392.62697698463,42.862400000000008,2.4273857160650447E-2,null,null,2006,10539.527159124666,0,645.67761089498788,{"$f":"INDEX('Floor Space'!$I$5:$DK$54,MATCH(BVM!M31,'Floor Space'!$I$5:$I$54,0),MATCH(BVM!M$10,'Floor Space'!$I$5:$DK$5,0))*BVM!T31","v":260.79090753484991},906.46851842983779,10800.318066659516,42.862400000000008,2.4744080412475444E-2,null,null,2006,4748.4888810822958,0,290.90422272352419,{"$f":"INDEX('Floor Space'!$I$5:$DK$50,MATCH(BVM!X31,'Floor Space'!$I$5:$I$50,0),MATCH(BVM!X$10,'Floor Space'!$I$5:$DK$5,0))*BVM!AE31","v":117.49699071124599},408.40121343477017,4865.9858717935422,42.862400000000008,2.4744080412475444E-2,null,null,2006,5571.7387599659623,0,341.33855501773888,{"$f":"INDEX('Floor Space'!$I$5:$DK$50,MATCH(BVM!AI31,'Floor Space'!$I$5:$I$50,0),MATCH(BVM!AI$10,'Floor Space'!$I$5:$DK$5,0))*BVM!AP31","v":137.86755191390418},479.20610693164303,5709.6063118798666,42.862400000000008,2.4744080412475444E-2,null,null,2006,4959.0942805204886,0,305.24863750821385,{"$f":"INDEX('Floor Space'!$I$5:$DK$50,MATCH(BVM!AT31,'Floor Space'!$I$5:$I$50,0),MATCH(BVM!AT$10,'Floor Space'!$I$5:$DK$5,0))*BVM!BA31","v":132.76774817714937},438.01638568536322,5091.8620286976384,42.862400000000008,2.6772579964584819E-2,null,null,2006,9159.364473860358,0,563.78914534239641,{"$f":"INDEX('Floor Space'!$I$5:$DK$50,MATCH(BVM!BE31,'Floor Space'!$I$5:$I$50,0),MATCH(BVM!BE$10,'Floor Space'!$I$5:$DK$5,0))*BVM!BL31","v":245.21981780120265},809.00896314359909,9404.5842916615602,42.862400000000008,2.6772579964584597E-2,null,null,2006,2289.8411184650895,0,140.9472863355991,{"$f":"INDEX('Floor Space'!$I$5:$DK$50,MATCH(BVM!BP31,'Floor Space'!$I$5:$I$50,0),MATCH(BVM!BP$10,'Floor Space'!$I$5:$DK$5,0))*BVM!BW31","v":61.304954450300663},202.25224078589977,2351.1460729153901,42.862400000000008,2.6772579964584597E-2,null,null,2006,4421.036849729081,0,272.1294249343789,{"$f":"INDEX('Floor Space'!$I$5:$DK$50,MATCH(BVM!CA31,'Floor Space'!$I$5:$I$50,0),MATCH(BVM!CA$10,'Floor Space'!$I$5:$DK$5,0))*BVM!CH31","v":118.36256258574744},390.49198752012637,4539.3994123148286,42.862400000000008,2.6772579964584819E-2,null,null,2006,9673.2043096421021,0,593.10134884580452,{"$f":"INDEX('Floor Space'!$I$5:$DK$50,MATCH(BVM!CL31,'Floor Space'!$I$5:$I$50,0),MATCH(BVM!CL$10,'Floor Space'!$I$5:$DK$5,0))*BVM!CS31","v":208.65073420800002},801.75208305380454,9881.8550438501024,42.862400000000008,2.1569970769667268E-2,null,null,2006,4876.8344672105004,0,299.775545819613,{"$f":"INDEX('Floor Space'!$I$5:$DK$50,MATCH(BVM!CW31,'Floor Space'!$I$5:$I$50,0),MATCH(BVM!CW$10,'Floor Space'!$I$5:$DK$5,0))*BVM!DD31","v":84.255991276800003},384.03153709641299,4961.0904584873006,42.862400000000008,1.7276778993278841E-2,null,null,2006,13764.544186320807,0,828.44343367612726,{"$f":"INDEX('Floor Space'!$I$5:$DK$50,MATCH(BVM!DH31,'Floor Space'!$I$5:$I$50,0),MATCH(BVM!DH$10,'Floor Space'!$I$5:$DK$5,0))*BVM!DO31","v":389.11043931200004},1217.5538729881273,14153.654625632807,42.862400000000008,2.8269039210081282E-2,null,null,2006,2205.5438328695036,0,136.45774543222677,{"$f":"INDEX('Floor Space'!$I$5:$DK$50,MATCH(BVM!DS31,'Floor Space'!$I$5:$I$50,0),MATCH(BVM!DS$10,'Floor Space'!$I$5:$DK$5,0))*BVM!DZ31","v":4.4311656605977614},140.88891109282454,2209.9749985301014,42.862400000000008,2.0091034213691739E-3,null,null,2006,896.79077891423663,0,55.441971432557466,{"$f":"INDEX('Floor Space'!$I$5:$DK$50,MATCH(BVM!ED31,'Floor Space'!$I$5:$I$50,0),MATCH(BVM!ED$10,'Floor Space'!$I$5:$DK$5,0))*BVM!EK31","v":5.9146673739257576},61.356638806483225,902.70544628816242,42.862400000000008,6.5953704174865901E-3,null,null,2006,1950.9856718579044,0,120.57866158558153,{"$f":"INDEX('Floor Space'!$I$5:$DK$50,MATCH(BVM!EO31,'Floor Space'!$I$5:$I$50,0),MATCH(BVM!EO$10,'Floor Space'!$I$5:$DK$5,0))*BVM!EV31","v":10.950436130276486},131.52909771585803,1961.936107988181,42.862400000000008,5.612771169071884E-3,null,null,2006,6367.2150449163737,0,392.17321617244227,{"$f":"INDEX('Floor Space'!$I$5:$DK$50,MATCH(BVM!EZ31,'Floor Space'!$I$5:$I$50,0),MATCH(BVM!EZ$10,'Floor Space'!$I$5:$DK$5,0))*BVM!FG31","v":130.57335789120003},522.74657406364236,6497.7884028075741,42.862400000000008,2.0507138045455342E-2,null,null,2006,2653.7435066291537,0,161.07692526219773,{"$f":"INDEX('Floor Space'!$I$5:$DK$50,MATCH(BVM!FK31,'Floor Space'!$I$5:$I$50,0),MATCH(BVM!FK$10,'Floor Space'!$I$5:$DK$5,0))*BVM!FR31","v":38.909629472000006},199.98655473419774,2692.6531361011539,42.862400000000008,1.4662166624167972E-2,null,null,2006,5653.5337230443238,0,343.3073642582707,{"$f":"INDEX('Floor Space'!$I$5:$DK$50,MATCH(BVM!FV31,'Floor Space'!$I$5:$I$50,0),MATCH(BVM!FV$10,'Floor Space'!$I$5:$DK$5,0))*BVM!GC31","v":153.73276985920003},497.04013411747076,5807.2664929035236,42.862400000000008,2.7192332687885346E-2,null,null,2006,8394.3805316803955,0,508.44234705405836,{"$f":"INDEX('Floor Space'!$I$5:$DK$50,MATCH(BVM!GG31,'Floor Space'!$I$5:$I$50,0),MATCH(BVM!GG$10,'Floor Space'!$I$5:$DK$5,0))*BVM!GN31","v":175.61848274880003},684.06082980285839,8569.9990144291951,42.862400000000008,2.0920958024956748E-2,null,null,2006,16484.718407884164,0,996.33563584475019,{"$f":"INDEX('Floor Space'!$I$5:$DK$50,MATCH(BVM!GR31,'Floor Space'!$I$5:$I$50,0),MATCH(BVM!GR$10,'Floor Space'!$I$5:$DK$5,0))*BVM!GY31","v":506.08278616000007},1502.4184220047503,16990.801194044165,42.862400000000008,3.0700117141094552E-2]
[null,2007,117392.62697698463,0,7164.7879256282649,2559.5131274516866,9724.3010530799511,119952.14010443629,42.862400000000008,2.1803014323492853E-2,null,null,2007,10800.318066659516,0,661.65430961950858,{"$f":"INDEX('Floor Space'!$I$5:$DK$54,MATCH(BVM!M32,'Floor Space'!$I$5:$I$54,0),MATCH(BVM!M$10,'Floor Space'!$I$5:$DK$5,0))*BVM!T32","v":195.12781839174369},856.78212801125233,10995.44588505126,42.862400000000008,1.8066858511704531E-2,null,null,2007,4865.9858717935422,0,298.10238020292371,{"$f":"INDEX('Floor Space'!$I$5:$DK$50,MATCH(BVM!X32,'Floor Space'!$I$5:$I$50,0),MATCH(BVM!X$10,'Floor Space'!$I$5:$DK$5,0))*BVM!AE32","v":87.913078265647115},386.01545846857084,4953.8989500591897,42.862400000000008,1.8066858511704531E-2,null,null,2007,5709.6063118798666,0,349.78466367097599,{"$f":"INDEX('Floor Space'!$I$5:$DK$50,MATCH(BVM!AI32,'Floor Space'!$I$5:$I$50,0),MATCH(BVM!AI$10,'Floor Space'!$I$5:$DK$5,0))*BVM!AP32","v":103.1546493942687},452.93931306524468,5812.7609612741353,42.862400000000008,1.8066858511704531E-2,null,null,2007,5091.8620286976384,0,313.42093106498305,{"$f":"INDEX('Floor Space'!$I$5:$DK$50,MATCH(BVM!AT32,'Floor Space'!$I$5:$I$50,0),MATCH(BVM!AT$10,'Floor Space'!$I$5:$DK$5,0))*BVM!BA32","v":111.03107319449842},424.45200425948144,5202.8931018921367,42.862400000000008,2.1805593429030434E-2,null,null,2007,9404.5842916615602,0,578.8832353192405,{"$f":"INDEX('Floor Space'!$I$5:$DK$50,MATCH(BVM!BE32,'Floor Space'!$I$5:$I$50,0),MATCH(BVM!BE$10,'Floor Space'!$I$5:$DK$5,0))*BVM!BL32","v":205.07254143301745},783.95577675225798,9609.6568330945775,42.862400000000008,2.1805593429030434E-2,null,null,2007,2351.1460729153901,0,144.72080882981012,{"$f":"INDEX('Floor Space'!$I$5:$DK$50,MATCH(BVM!BP32,'Floor Space'!$I$5:$I$50,0),MATCH(BVM!BP$10,'Floor Space'!$I$5:$DK$5,0))*BVM!BW32","v":51.268135358254362},195.98894418806449,2402.4142082736444,42.862400000000008,2.1805593429030434E-2,null,null,2007,4539.3994123148286,0,279.41503172415099,{"$f":"INDEX('Floor Space'!$I$5:$DK$50,MATCH(BVM!CA32,'Floor Space'!$I$5:$I$50,0),MATCH(BVM!CA$10,'Floor Space'!$I$5:$DK$5,0))*BVM!CH32","v":98.984297996916524},378.39932972106749,4638.3837103117448,42.862400000000008,2.1805593429030212E-2,null,null,2007,9881.8550438501024,0,605.89452760385871,{"$f":"INDEX('Floor Space'!$I$5:$DK$50,MATCH(BVM!CL32,'Floor Space'!$I$5:$I$50,0),MATCH(BVM!CL$10,'Floor Space'!$I$5:$DK$5,0))*BVM!CS32","v":225.71950396298328},831.61403156684196,10107.574547813087,42.862400000000008,2.2841814918491243E-2,null,null,2007,4961.0904584873006,0,304.95470167232799,{"$f":"INDEX('Floor Space'!$I$5:$DK$50,MATCH(BVM!CW32,'Floor Space'!$I$5:$I$50,0),MATCH(BVM!CW$10,'Floor Space'!$I$5:$DK$5,0))*BVM!DD32","v":93.239448067767427},398.19414974009544,5054.3299065550682,42.862400000000008,1.8794143918149375E-2,null,null,2007,14153.654625632807,0,851.86273358605195,{"$f":"INDEX('Floor Space'!$I$5:$DK$50,MATCH(BVM!DH32,'Floor Space'!$I$5:$I$50,0),MATCH(BVM!DH$10,'Floor Space'!$I$5:$DK$5,0))*BVM!DO32","v":372.75827743169145},1224.6210110177435,14526.412903064498,42.862400000000008,2.6336539027638217E-2,null,null,2007,2209.9749985301014,0,136.73190315544701,{"$f":"INDEX('Floor Space'!$I$5:$DK$50,MATCH(BVM!DS32,'Floor Space'!$I$5:$I$50,0),MATCH(BVM!DS$10,'Floor Space'!$I$5:$DK$5,0))*BVM!DZ32","v":4.5021730429458398},141.23407619839284,2214.4771715730471,42.862400000000008,2.0372054190387345E-3,null,null,2007,902.70544628816242,0,55.807631770830895,{"$f":"INDEX('Floor Space'!$I$5:$DK$50,MATCH(BVM!ED32,'Floor Space'!$I$5:$I$50,0),MATCH(BVM!ED$10,'Floor Space'!$I$5:$DK$5,0))*BVM!EK32","v":6.1592626406855739},61.966894411516471,908.86470892884802,42.862400000000008,6.8231145231392176E-3,null,null,2007,1961.936107988181,0,121.25544202093437,{"$f":"INDEX('Floor Space'!$I$5:$DK$50,MATCH(BVM!EO32,'Floor Space'!$I$5:$I$50,0),MATCH(BVM!EO$10,'Floor Space'!$I$5:$DK$5,0))*BVM!EV32","v":11.125911809756243},132.38135383069061,1973.0620197979372,42.862400000000008,5.670883860313447E-3,null,null,2007,6497.7884028075741,0,400.21556645422083,{"$f":"INDEX('Floor Space'!$I$5:$DK$50,MATCH(BVM!EZ32,'Floor Space'!$I$5:$I$50,0),MATCH(BVM!EZ$10,'Floor Space'!$I$5:$DK$5,0))*BVM!FG32","v":128.05244646696175},528.26801292118262,6625.8408492745357,42.862400000000008,1.9707081629748435E-2,null,null,2007,2692.6531361011539,0,163.4386619797007,{"$f":"INDEX('Floor Space'!$I$5:$DK$50,MATCH(BVM!FK32,'Floor Space'!$I$5:$I$50,0),MATCH(BVM!FK$10,'Floor Space'!$I$5:$DK$5,0))*BVM!FR32","v":66.670365756711604},230.10902773641232,2759.3235018578657,42.862400000000008,2.4760101798053213E-2,null,null,2007,5807.2664929035236,0,352.64269232138258,{"$f":"INDEX('Floor Space'!$I$5:$DK$50,MATCH(BVM!FV32,'Floor Space'!$I$5:$I$50,0),MATCH(BVM!FV$10,'Floor Space'!$I$5:$DK$5,0))*BVM!GC32","v":125.15569288326476},477.79838520464733,5932.4221857867888,42.862400000000008,2.1551566995626104E-2,null,null,2007,8569.9990144291951,0,519.07944805488683,{"$f":"INDEX('Floor Space'!$I$5:$DK$50,MATCH(BVM!GG32,'Floor Space'!$I$5:$I$50,0),MATCH(BVM!GG$10,'Floor Space'!$I$5:$DK$5,0))*BVM!GN32","v":184.05958848320489},703.13903653809166,8754.0586029124006,42.862400000000008,2.1477200659335782E-2,null,null,2007,16990.801194044165,0,1026.923256577031,{"$f":"INDEX('Floor Space'!$I$5:$DK$50,MATCH(BVM!GR32,'Floor Space'!$I$5:$I$50,0),MATCH(BVM!GR$10,'Floor Space'!$I$5:$DK$5,0))*BVM!GY32","v":489.51886287136767},1516.4421194483987,17480.320056915531,42.862400000000008,2.8810816940342932E-2]
[null,2008,119952.14010443629,0,7320.7748600248542,2506.7952615617282,9827.5701215865829,122458.93536599804,42.862400000000008,2.0898295431654779E-2,null,null,2008,10995.44588505126,0,673.60832441506375,{"$f":"INDEX('Floor Space'!$I$5:$DK$54,MATCH(BVM!M33,'Floor Space'!$I$5:$I$54,0),MATCH(BVM!M$10,'Floor Space'!$I$5:$DK$5,0))*BVM!T33","v":203.8374906176002},877.44581503266397,11199.28337566886,42.862400000000008,1.8538356038359849E-2,null,null,2008,4953.8989500591897,0,303.48815372805234,{"$f":"INDEX('Floor Space'!$I$5:$DK$50,MATCH(BVM!X33,'Floor Space'!$I$5:$I$50,0),MATCH(BVM!X$10,'Floor Space'!$I$5:$DK$5,0))*BVM!AE33","v":91.837142514254808},395.32529624230716,5045.7360925734447,42.862400000000008,1.8538356038360071E-2,null,null,2008,5812.7609612741353,0,356.10417369908373,{"$f":"INDEX('Floor Space'!$I$5:$DK$50,MATCH(BVM!AI33,'Floor Space'!$I$5:$I$50,0),MATCH(BVM!AI$10,'Floor Space'!$I$5:$DK$5,0))*BVM!AP33","v":107.75903226597943},463.86320596506317,5920.5199935401151,42.862400000000008,1.8538356038360071E-2,null,null,2008,5202.8931018921367,0,320.25526045993422,{"$f":"INDEX('Floor Space'!$I$5:$DK$50,MATCH(BVM!AT33,'Floor Space'!$I$5:$I$50,0),MATCH(BVM!AT$10,'Floor Space'!$I$5:$DK$5,0))*BVM!BA33","v":103.47144656725564},423.72670702718983,5306.3645484593926,42.862400000000008,1.9887290501822141E-2,null,null,2008,9609.6568330945775,0,591.50612779149367,{"$f":"INDEX('Floor Space'!$I$5:$DK$50,MATCH(BVM!BE33,'Floor Space'!$I$5:$I$50,0),MATCH(BVM!BE$10,'Floor Space'!$I$5:$DK$5,0))*BVM!BL33","v":191.11003706257245},782.61616485406614,9800.7668701571492,42.862400000000008,1.9887290501822141E-2,null,null,2008,2402.4142082736444,0,147.87653194787342,{"$f":"INDEX('Floor Space'!$I$5:$DK$50,MATCH(BVM!BP33,'Floor Space'!$I$5:$I$50,0),MATCH(BVM!BP$10,'Floor Space'!$I$5:$DK$5,0))*BVM!BW33","v":47.777509265643111},195.65404121351654,2450.1917175392873,42.862400000000008,1.9887290501822141E-2,null,null,2008,4638.3837103117448,0,285.50784230388746,{"$f":"INDEX('Floor Space'!$I$5:$DK$50,MATCH(BVM!CA33,'Floor Space'!$I$5:$I$50,0),MATCH(BVM!CA$10,'Floor Space'!$I$5:$DK$5,0))*BVM!CH33","v":92.244884305889499},377.75272660977697,4730.628594617634,42.862400000000008,1.9887290501822141E-2,null,null,2008,10107.574547813087,0,619.73425826351286,{"$f":"INDEX('Floor Space'!$I$5:$DK$50,MATCH(BVM!CL33,'Floor Space'!$I$5:$I$50,0),MATCH(BVM!CL$10,'Floor Space'!$I$5:$DK$5,0))*BVM!CS33","v":249.24936130360999},868.98361956712279,10356.823909116696,42.862400000000008,2.4659660942845774E-2,null,null,2008,5054.3299065550682,0,310.68606422407402,{"$f":"INDEX('Floor Space'!$I$5:$DK$50,MATCH(BVM!CW33,'Floor Space'!$I$5:$I$50,0),MATCH(BVM!CW$10,'Floor Space'!$I$5:$DK$5,0))*BVM!DD33","v":104.0826428727551},414.76870709682913,5158.4125494278233,42.862400000000008,2.0592767942940959E-2,null,null,2008,14526.412903064498,0,874.29784971533172,{"$f":"INDEX('Floor Space'!$I$5:$DK$50,MATCH(BVM!DH33,'Floor Space'!$I$5:$I$50,0),MATCH(BVM!DH$10,'Floor Space'!$I$5:$DK$5,0))*BVM!DO33","v":359.81941432784259},1234.1172640431744,14886.232317392341,42.862400000000008,2.4770011476951348E-2,null,null,2008,2214.4771715730471,0,137.01045412951075,{"$f":"INDEX('Floor Space'!$I$5:$DK$50,MATCH(BVM!DS33,'Floor Space'!$I$5:$I$50,0),MATCH(BVM!DS$10,'Floor Space'!$I$5:$DK$5,0))*BVM!DZ33","v":4.9694154731643758},141.97986960267514,2219.4465870462113,42.862400000000008,2.2440581176252916E-3,null,null,2008,908.86470892884802,0,56.188413633668461,{"$f":"INDEX('Floor Space'!$I$5:$DK$50,MATCH(BVM!ED33,'Floor Space'!$I$5:$I$50,0),MATCH(BVM!ED$10,'Floor Space'!$I$5:$DK$5,0))*BVM!EK33","v":6.9226777032385112},63.111091336906973,915.78738663208651,42.862400000000008,7.616840697222349E-3,null,null,2008,1973.0620197979372,0,121.94306755006602,{"$f":"INDEX('Floor Space'!$I$5:$DK$50,MATCH(BVM!EO33,'Floor Space'!$I$5:$I$50,0),MATCH(BVM!EO$10,'Floor Space'!$I$5:$DK$5,0))*BVM!EV33","v":12.280576018083998},134.22364356815001,1985.3425958160212,42.862400000000008,6.2241206281705708E-3,null,null,2008,6625.8408492745357,0,408.10264729183018,{"$f":"INDEX('Floor Space'!$I$5:$DK$50,MATCH(BVM!EZ33,'Floor Space'!$I$5:$I$50,0),MATCH(BVM!EZ$10,'Floor Space'!$I$5:$DK$5,0))*BVM!FG33","v":107.80951735072841},515.91216464255854,6733.6503666252638,42.862400000000008,1.6271069559802731E-2,null,null,2008,2759.3235018578657,0,167.48541988805573,{"$f":"INDEX('Floor Space'!$I$5:$DK$50,MATCH(BVM!FK33,'Floor Space'!$I$5:$I$50,0),MATCH(BVM!FK$10,'Floor Space'!$I$5:$DK$5,0))*BVM!FR33","v":64.242132342171246},231.72755223022699,2823.565634200037,42.862400000000008,2.3281841472707621E-2,null,null,2008,5932.4221857867888,0,360.24269493046484,{"$f":"INDEX('Floor Space'!$I$5:$DK$50,MATCH(BVM!FV33,'Floor Space'!$I$5:$I$50,0),MATCH(BVM!FV$10,'Floor Space'!$I$5:$DK$5,0))*BVM!GC33","v":130.72649643912831},490.96919136959315,6063.1486822259167,42.862400000000008,2.2035939510901548E-2,null,null,2008,8754.0586029124006,0,530.22782151889896,{"$f":"INDEX('Floor Space'!$I$5:$DK$50,MATCH(BVM!GG33,'Floor Space'!$I$5:$I$50,0),MATCH(BVM!GG$10,'Floor Space'!$I$5:$DK$5,0))*BVM!GN33","v":174.9947607802261},705.22258229912507,8929.0533636926266,42.862400000000008,1.9990129003935042E-2,null,null,2008,17480.320056915531,0,1056.5097545340525,{"$f":"INDEX('Floor Space'!$I$5:$DK$50,MATCH(BVM!GR33,'Floor Space'!$I$5:$I$50,0),MATCH(BVM!GR$10,'Floor Space'!$I$5:$DK$5,0))*BVM!GY33","v":453.66072435158424},1510.1704788856368,17933.980781267113,42.862400000000008,2.5952655493404864E-2]
[null,2009,122458.93536599804,0,7473.569107413643,2414.3794788480336,9887.9485862616748,124873.31484484607,42.862400000000008,1.9715829405441809E-2,null,null,2009,11199.28337566886,0,686.0959153634733,{"$f":"INDEX('Floor Space'!$I$5:$DK$54,MATCH(BVM!M34,'Floor Space'!$I$5:$I$54,0),MATCH(BVM!M$10,'Floor Space'!$I$5:$DK$5,0))*BVM!T34","v":188.14206896436713},874.23798432784042,11387.425444633227,42.862400000000008,1.6799473917511243E-2,null,null,2009,5045.7360925734447,0,309.11432517528749,{"$f":"INDEX('Floor Space'!$I$5:$DK$50,MATCH(BVM!X34,'Floor Space'!$I$5:$I$50,0),MATCH(BVM!X$10,'Floor Space'!$I$5:$DK$5,0))*BVM!AE34","v":84.765711881833028},393.88003705712049,5130.501804455278,42.862400000000008,1.6799473917511465E-2,null,null,2009,5920.5199935401151,0,362.70575965786327,{"$f":"INDEX('Floor Space'!$I$5:$DK$50,MATCH(BVM!AI34,'Floor Space'!$I$5:$I$50,0),MATCH(BVM!AI$10,'Floor Space'!$I$5:$DK$5,0))*BVM!AP34","v":99.461621209581466},462.16738086744476,6019.9816147496967,42.862400000000008,1.6799473917511243E-2,null,null,2009,5306.3645484593926,0,326.62426985943767,{"$f":"INDEX('Floor Space'!$I$5:$DK$50,MATCH(BVM!AT34,'Floor Space'!$I$5:$I$50,0),MATCH(BVM!AT$10,'Floor Space'!$I$5:$DK$5,0))*BVM!BA34","v":100.60514139023323},427.22941124967087,5406.9696898496259,42.862400000000008,1.8959334676589945E-2,null,null,2009,9800.7668701571492,0,603.26958198849093,{"$f":"INDEX('Floor Space'!$I$5:$DK$50,MATCH(BVM!BE34,'Floor Space'!$I$5:$I$50,0),MATCH(BVM!BE$10,'Floor Space'!$I$5:$DK$5,0))*BVM!BL34","v":185.81601917854354},789.0856011670345,9986.582889335692,42.862400000000008,1.8959334676589723E-2,null,null,2009,2450.1917175392873,0,150.81739549712273,{"$f":"INDEX('Floor Space'!$I$5:$DK$50,MATCH(BVM!BP34,'Floor Space'!$I$5:$I$50,0),MATCH(BVM!BP$10,'Floor Space'!$I$5:$DK$5,0))*BVM!BW34","v":46.454004794635885},197.27140029175862,2496.645722333923,42.862400000000008,1.8959334676589723E-2,null,null,2009,4730.628594617634,0,291.18581970433331,{"$f":"INDEX('Floor Space'!$I$5:$DK$50,MATCH(BVM!CA34,'Floor Space'!$I$5:$I$50,0),MATCH(BVM!CA$10,'Floor Space'!$I$5:$DK$5,0))*BVM!CH34","v":89.6895707560017},380.87539046033498,4820.3181653736356,42.862400000000008,1.8959334676589945E-2,null,null,2009,10356.823909116696,0,635.01669494695716,{"$f":"INDEX('Floor Space'!$I$5:$DK$50,MATCH(BVM!CL34,'Floor Space'!$I$5:$I$50,0),MATCH(BVM!CL$10,'Floor Space'!$I$5:$DK$5,0))*BVM!CS34","v":238.90771457020688},873.92440951716401,10595.731623686903,42.862400000000008,2.3067662119842236E-2,null,null,2009,5158.4125494278233,0,317.08395024774603,{"$f":"INDEX('Floor Space'!$I$5:$DK$50,MATCH(BVM!CW34,'Floor Space'!$I$5:$I$50,0),MATCH(BVM!CW$10,'Floor Space'!$I$5:$DK$5,0))*BVM!DD34","v":98.848543583805522},415.93249383155154,5257.2610930116289,42.862400000000008,1.9162589776726913E-2,null,null,2009,14886.232317392341,0,895.95421748705451,{"$f":"INDEX('Floor Space'!$I$5:$DK$50,MATCH(BVM!DH34,'Floor Space'!$I$5:$I$50,0),MATCH(BVM!DH$10,'Floor Space'!$I$5:$DK$5,0))*BVM!DO34","v":345.98230027841737},1241.9365177654718,15232.214617670759,42.862400000000008,2.3241764128199893E-2,null,null,2009,2219.4465870462113,0,137.31791355129957,{"$f":"INDEX('Floor Space'!$I$5:$DK$50,MATCH(BVM!DS34,'Floor Space'!$I$5:$I$50,0),MATCH(BVM!DS$10,'Floor Space'!$I$5:$DK$5,0))*BVM!DZ34","v":4.2873523700694287},141.60526592136901,2223.7339394162809,42.862400000000008,1.9317213557166202E-3,null,null,2009,915.78738663208651,0,56.616391829345758,{"$f":"INDEX('Floor Space'!$I$5:$DK$50,MATCH(BVM!ED34,'Floor Space'!$I$5:$I$50,0),MATCH(BVM!ED$10,'Floor Space'!$I$5:$DK$5,0))*BVM!EK34","v":6.0700255795375595},62.686417408883315,921.85741221162402,42.862400000000008,6.6282039566636364E-3,null,null,2009,1985.3425958160212,0,122.70205591226679,{"$f":"INDEX('Floor Space'!$I$5:$DK$50,MATCH(BVM!EO34,'Floor Space'!$I$5:$I$50,0),MATCH(BVM!EO$10,'Floor Space'!$I$5:$DK$5,0))*BVM!EV34","v":10.595040197639891},133.29709610990668,1995.9376360136612,42.862400000000008,5.3366306752136161E-3,null,null,2009,6733.6503666252638,0,414.74291385345515,{"$f":"INDEX('Floor Space'!$I$5:$DK$50,MATCH(BVM!EZ34,'Floor Space'!$I$5:$I$50,0),MATCH(BVM!EZ$10,'Floor Space'!$I$5:$DK$5,0))*BVM!FG34","v":97.234354345777348},511.97726819923253,6830.8847209710411,42.862400000000008,1.4440065796660795E-2,null,null,2009,2823.565634200037,0,171.38478888287929,{"$f":"INDEX('Floor Space'!$I$5:$DK$50,MATCH(BVM!FK34,'Floor Space'!$I$5:$I$50,0),MATCH(BVM!FK$10,'Floor Space'!$I$5:$DK$5,0))*BVM!FR34","v":69.809239187845705},241.19402807072498,2893.3748733878829,42.862400000000008,2.4723788369673816E-2,null,null,2009,6063.1486822259167,0,368.18098116519678,{"$f":"INDEX('Floor Space'!$I$5:$DK$50,MATCH(BVM!FV34,'Floor Space'!$I$5:$I$50,0),MATCH(BVM!FV$10,'Floor Space'!$I$5:$DK$5,0))*BVM!GC34","v":136.53677667414084},504.71775783933765,6199.6854589000577,42.862400000000008,2.2519120646735447E-2,null,null,2009,8929.0533636926266,0,540.82714407253718,{"$f":"INDEX('Floor Space'!$I$5:$DK$50,MATCH(BVM!GG34,'Floor Space'!$I$5:$I$50,0),MATCH(BVM!GG$10,'Floor Space'!$I$5:$DK$5,0))*BVM!GN34","v":186.45437895067545},727.28152302321269,9115.5077426433018,42.862400000000008,2.0881763313100654E-2,null,null,2009,17933.980781267113,0,1083.9289882188964,{"$f":"INDEX('Floor Space'!$I$5:$DK$50,MATCH(BVM!GR34,'Floor Space'!$I$5:$I$50,0),MATCH(BVM!GR$10,'Floor Space'!$I$5:$DK$5,0))*BVM!GY34","v":424.71961493472151},1508.6486031536178,18358.700396201835,42.862400000000008,2.368239489686319E-2]
[null,2010,124873.31484484607,0,7620.7158016910125,1488.9028587458106,9109.6186604368213,126362.21770359186,42.862400000000008,1.1923306917861032E-2,null,null,2010,11387.425444633227,0,697.6219657985331,{"$f":"INDEX('Floor Space'!$I$5:$DK$54,MATCH(BVM!M35,'Floor Space'!$I$5:$I$54,0),MATCH(BVM!M$10,'Floor Space'!$I$5:$DK$5,0))*BVM!T35","v":145.90041125132748},843.52237704986055,{"$f":"HLOOKUP(M10,'Saturation and Lifetime'!$C$58:$T$59,2,FALSE)*BVM!V36","v":11533.325855884555},42.862400000000008,1.2812414180949805E-2,null,null,2010,5130.501804455278,0,314.30728321859891,{"$f":"INDEX('Floor Space'!$I$5:$DK$50,MATCH(BVM!X35,'Floor Space'!$I$5:$I$50,0),MATCH(BVM!X$10,'Floor Space'!$I$5:$DK$5,0))*BVM!AE35","v":65.734114074791378},380.04139729339028,{"$f":"HLOOKUP(X10,'Saturation and Lifetime'!$C$58:$T$59,2,FALSE)*BVM!AG36","v":5196.2359185300675},42.862400000000008,1.2812414180949361E-2,null,null,2010,6019.9816147496967,0,368.79902560696672,{"$f":"INDEX('Floor Space'!$I$5:$DK$50,MATCH(BVM!AI35,'Floor Space'!$I$5:$I$50,0),MATCH(BVM!AI$10,'Floor Space'!$I$5:$DK$5,0))*BVM!AP35","v":77.130497809876175},445.92952341684293,{"$f":"HLOOKUP(AI10,'Saturation and Lifetime'!$C$58:$T$59,2,FALSE)*BVM!AR36","v":6097.1121125595737},42.862400000000008,1.2812414180950027E-2,null,null,2010,5406.9696898496259,0,332.81684870519956,{"$f":"INDEX('Floor Space'!$I$5:$DK$50,MATCH(BVM!AT35,'Floor Space'!$I$5:$I$50,0),MATCH(BVM!AT$10,'Floor Space'!$I$5:$DK$5,0))*BVM!BA35","v":43.543642729685516},376.36049143488509,{"$f":"HLOOKUP(AT10,'Saturation and Lifetime'!$C$58:$T$59,2,FALSE)*BVM!BC36","v":5450.5133325793104},42.862400000000008,8.0532433557798377E-3,null,null,2010,9986.582889335692,0,614.70717189361721,{"$f":"INDEX('Floor Space'!$I$5:$DK$50,MATCH(BVM!BE35,'Floor Space'!$I$5:$I$50,0),MATCH(BVM!BE$10,'Floor Space'!$I$5:$DK$5,0))*BVM!BL35","v":80.424382300489242},695.13155419410646,{"$f":"HLOOKUP(BE10,'Saturation and Lifetime'!$C$58:$T$59,2,FALSE)*BVM!BN36","v":10067.007271636181},42.862400000000008,8.0532433557800598E-3,null,null,2010,2496.645722333923,0,153.6767929734043,{"$f":"INDEX('Floor Space'!$I$5:$DK$50,MATCH(BVM!BP35,'Floor Space'!$I$5:$I$50,0),MATCH(BVM!BP$10,'Floor Space'!$I$5:$DK$5,0))*BVM!BW35","v":20.10609557512231},173.78288854852661,{"$f":"HLOOKUP(BP10,'Saturation and Lifetime'!$C$58:$T$59,2,FALSE)*BVM!BY36","v":2516.7518179090453},42.862400000000008,8.0532433557800598E-3,null,null,2010,4820.3181653736356,0,296.70650911318489,{"$f":"INDEX('Floor Space'!$I$5:$DK$50,MATCH(BVM!CA35,'Floor Space'!$I$5:$I$50,0),MATCH(BVM!CA$10,'Floor Space'!$I$5:$DK$5,0))*BVM!CH35","v":38.819195238041033},335.52570435122595,{"$f":"HLOOKUP(CA10,'Saturation and Lifetime'!$C$58:$T$59,2,FALSE)*BVM!CJ36","v":4859.1373606116777},42.862400000000008,8.0532433557802818E-3,null,null,2010,10595.731623686903,0,649.66504550645243,{"$f":"INDEX('Floor Space'!$I$5:$DK$50,MATCH(BVM!CL35,'Floor Space'!$I$5:$I$50,0),MATCH(BVM!CL$10,'Floor Space'!$I$5:$DK$5,0))*BVM!CS35","v":42.925023896376551},692.59006940282893,{"$f":"HLOOKUP(CL10,'Saturation and Lifetime'!$C$58:$T$59,2,FALSE)*BVM!CU36","v":10638.656647583281},42.862400000000008,4.0511618660119542E-3,null,null,2010,5257.2610930116289,0,323.16009991112765,{"$f":"INDEX('Floor Space'!$I$5:$DK$50,MATCH(BVM!CW35,'Floor Space'!$I$5:$I$50,0),MATCH(BVM!CW$10,'Floor Space'!$I$5:$DK$5,0))*BVM!DD35","v":31.586581728619102},354.74668163974673,{"$f":"HLOOKUP(CW10,'Saturation and Lifetime'!$C$58:$T$59,2,FALSE)*BVM!DF36","v":5288.8476747402474},42.862400000000008,6.0081820495097027E-3,null,null,2010,15232.214617670759,0,916.77777407955432,{"$f":"INDEX('Floor Space'!$I$5:$DK$50,MATCH(BVM!DH35,'Floor Space'!$I$5:$I$50,0),MATCH(BVM!DH$10,'Floor Space'!$I$5:$DK$5,0))*BVM!DO35","v":346.83874168605246},1263.6165157656069,{"$f":"HLOOKUP(DH10,'Saturation and Lifetime'!$C$58:$T$59,2,FALSE)*BVM!DQ36","v":15579.053359356807},42.862400000000008,2.2770079754764083E-2,null,null,2010,2223.7339394162809,0,137.5831734974291,{"$f":"INDEX('Floor Space'!$I$5:$DK$50,MATCH(BVM!DS35,'Floor Space'!$I$5:$I$50,0),MATCH(BVM!DS$10,'Floor Space'!$I$5:$DK$5,0))*BVM!DZ35","v":19.312295537478235},156.89546903490734,{"$f":"HLOOKUP(DS10,'Saturation and Lifetime'!$C$58:$T$59,2,FALSE)*BVM!EB36","v":2243.0462349537597},42.862400000000008,8.6846250781908996E-3,null,null,2010,921.85741221162402,0,56.991656821681048,{"$f":"INDEX('Floor Space'!$I$5:$DK$50,MATCH(BVM!ED35,'Floor Space'!$I$5:$I$50,0),MATCH(BVM!ED$10,'Floor Space'!$I$5:$DK$5,0))*BVM!EK35","v":5.0045905625752845},61.996247384256336,{"$f":"HLOOKUP(ED10,'Saturation and Lifetime'!$C$58:$T$59,2,FALSE)*BVM!EM36","v":926.86200277419937},42.862400000000008,5.4288119792504919E-3,null,null,2010,1995.9376360136612,0,123.35687146775996,{"$f":"INDEX('Floor Space'!$I$5:$DK$50,MATCH(BVM!EO35,'Floor Space'!$I$5:$I$50,0),MATCH(BVM!EO$10,'Floor Space'!$I$5:$DK$5,0))*BVM!EV35","v":36.84469066247955},160.20156213023949,{"$f":"HLOOKUP(EO10,'Saturation and Lifetime'!$C$58:$T$59,2,FALSE)*BVM!EX36","v":2032.7823266761409},42.862400000000008,1.8459840627118362E-2,null,null,2010,6830.8847209710411,0,420.73182881819781,{"$f":"INDEX('Floor Space'!$I$5:$DK$50,MATCH(BVM!EZ35,'Floor Space'!$I$5:$I$50,0),MATCH(BVM!EZ$10,'Floor Space'!$I$5:$DK$5,0))*BVM!FG35","v":56.488996452005452},477.22082527020325,{"$f":"HLOOKUP(EZ10,'Saturation and Lifetime'!$C$58:$T$59,2,FALSE)*BVM!FI36","v":6887.3737174230473},42.862400000000008,8.2696456988335942E-3,null,null,2010,2893.3748733878829,0,175.62207013300085,{"$f":"INDEX('Floor Space'!$I$5:$DK$50,MATCH(BVM!FK35,'Floor Space'!$I$5:$I$50,0),MATCH(BVM!FK$10,'Floor Space'!$I$5:$DK$5,0))*BVM!FR35","v":23.961818611709717},199.58388874471058,{"$f":"HLOOKUP(FK10,'Saturation and Lifetime'!$C$58:$T$59,2,FALSE)*BVM!FT36","v":2917.3366919995919},42.862400000000008,8.2816156427223397E-3,null,null,2010,6199.6854589000577,0,376.47209309988921,{"$f":"INDEX('Floor Space'!$I$5:$DK$50,MATCH(BVM!FV35,'Floor Space'!$I$5:$I$50,0),MATCH(BVM!FV$10,'Floor Space'!$I$5:$DK$5,0))*BVM!GC35","v":95.027840090654891},471.49993319054408,{"$f":"HLOOKUP(FV10,'Saturation and Lifetime'!$C$58:$T$59,2,FALSE)*BVM!GE36","v":6294.7132989907132},42.862400000000008,1.5327848601453864E-2,null,null,2010,9115.5077426433018,0,552.12056848836005,{"$f":"INDEX('Floor Space'!$I$5:$DK$50,MATCH(BVM!GG35,'Floor Space'!$I$5:$I$50,0),MATCH(BVM!GG$10,'Floor Space'!$I$5:$DK$5,0))*BVM!GN35","v":221.43838646143249},773.55895494979256,{"$f":"HLOOKUP(GG10,'Saturation and Lifetime'!$C$58:$T$59,2,FALSE)*BVM!GP36","v":9336.9461291047337},42.862400000000008,2.4292490633902819E-2,null,null,2010,18358.700396201835,0,1109.599022558054,{"$f":"INDEX('Floor Space'!$I$5:$DK$50,MATCH(BVM!GR35,'Floor Space'!$I$5:$I$50,0),MATCH(BVM!GR$10,'Floor Space'!$I$5:$DK$5,0))*BVM!GY35","v":137.81555407709374},1247.4145766351478,{"$f":"HLOOKUP(GR10,'Saturation and Lifetime'!$C$58:$T$59,2,FALSE)*BVM!HA36","v":18496.515950278928},42.862400000000008,7.5068251620689086E-3]
[null,2011,126362.21770359186,0,8071.4032901529008,1676.9462838440945,9748.3495739969949,128039.16398743595,{"$f":"I35","v":42.862400000000008},1.3270946920049376E-2,{"$f":"INDEX('Saturation and Lifetime'!$B$22:$U$33,MATCH($A$1,'Saturation and Lifetime'!$B$22:$B$33,0),MATCH(B10,'Saturation and Lifetime'!$B$22:$U$22,0))","v":42.862400000000008},null,2011,11533.325855884555,0,{"$f":"OFFSET(R36,-O$6,0)","v":718.85706012665696},{"$f":"INDEX('Floor Space'!$I$5:$DK$54,MATCH(BVM!M36,'Floor Space'!$I$5:$I$54,0),MATCH(BVM!M$10,'Floor Space'!$I$5:$DK$5,0))*BVM!T36","v":196.56219682119996},915.41925694785687,11729.888052705755,{"$f":"T35","v":42.862400000000008},1.704297609183647E-2,{"$f":"INDEX('Saturation and Lifetime'!$B$22:$U$33,MATCH($A$1,'Saturation and Lifetime'!$B$22:$B$33,0),MATCH(M10,'Saturation and Lifetime'!$B$22:$U$22,0))","v":42.862400000000008},null,2011,5196.2359185300675,0,{"$f":"OFFSET(AC36,-Z$6,0)","v":323.87456339952513},{"$f":"INDEX('Floor Space'!$I$5:$DK$50,MATCH(BVM!X36,'Floor Space'!$I$5:$I$50,0),MATCH(BVM!X$10,'Floor Space'!$I$5:$DK$5,0))*BVM!AE36","v":88.55932452704991},412.43388792657504,{"$f":"Y36+AB36-Z36","v":5284.7952430571177},{"$f":"AE35","v":42.862400000000008},1.704297609183647E-2,{"$f":"INDEX('Saturation and Lifetime'!$B$22:$U$33,MATCH($A$1,'Saturation and Lifetime'!$B$22:$B$33,0),MATCH(X10,'Saturation and Lifetime'!$B$22:$U$22,0))","v":42.862400000000008},null,2011,6097.1121125595737,0,{"$f":"OFFSET(AN36,-AK$6,0)","v":380.02499394057531},{"$f":"INDEX('Floor Space'!$I$5:$DK$50,MATCH(BVM!AI36,'Floor Space'!$I$5:$I$50,0),MATCH(BVM!AI$10,'Floor Space'!$I$5:$DK$5,0))*BVM!AP36","v":103.91293596359944},483.93792990417478,{"$f":"AJ36+AM36-AK36","v":6201.0250485231727},{"$f":"AP35","v":42.862400000000008},1.704297609183647E-2,{"$f":"INDEX('Saturation and Lifetime'!$B$22:$U$33,MATCH($A$1,'Saturation and Lifetime'!$B$22:$B$33,0),MATCH(AI10,'Saturation and Lifetime'!$B$22:$U$22,0))","v":42.862400000000008},null,2011,5450.5133325793104,0,{"$f":"OFFSET(AY36,-AV$6,0)","v":323.45369425986866},{"$f":"INDEX('Floor Space'!$I$5:$DK$50,MATCH(BVM!AT36,'Floor Space'!$I$5:$I$50,0),MATCH(BVM!AT$10,'Floor Space'!$I$5:$DK$5,0))*BVM!BA36","v":27.869597253203093},351.32329151307175,{"$f":"AU36+AX36-AV36","v":5478.3829298325136},{"$f":"BA35","v":42.862400000000008},5.1132059592660095E-3,{"$f":"INDEX('Saturation and Lifetime'!$B$22:$U$33,MATCH($A$1,'Saturation and Lifetime'!$B$22:$B$33,0),MATCH(AT10,'Saturation and Lifetime'!$B$22:$U$22,0))","v":42.862400000000008},null,2011,10067.007271636181,0,{"$f":"OFFSET(BJ36,-BG$6,0)","v":597.41358170584817},{"$f":"INDEX('Floor Space'!$I$5:$DK$50,MATCH(BVM!BE36,'Floor Space'!$I$5:$I$50,0),MATCH(BVM!BE$10,'Floor Space'!$I$5:$DK$5,0))*BVM!BL36","v":51.474681573303862},648.88826327915206,{"$f":"BF36+BI36-BG36","v":10118.481953209484},{"$f":"BL35","v":42.862400000000008},5.1132059592660095E-3,{"$f":"INDEX('Saturation and Lifetime'!$B$22:$U$33,MATCH($A$1,'Saturation and Lifetime'!$B$22:$B$33,0),MATCH(BE10,'Saturation and Lifetime'!$B$22:$U$22,0))","v":42.862400000000008},null,2011,2516.7518179090453,0,{"$f":"OFFSET(BU36,-BR$6,0)","v":149.35339542646204},{"$f":"INDEX('Floor Space'!$I$5:$DK$50,MATCH(BVM!BP36,'Floor Space'!$I$5:$I$50,0),MATCH(BVM!BP$10,'Floor Space'!$I$5:$DK$5,0))*BVM!BW36","v":12.868670393325965},162.22206581978801,{"$f":"BQ36+BT36-BR36","v":2529.6204883023711},{"$f":"BW35","v":42.862400000000008},5.1132059592660095E-3,{"$f":"INDEX('Saturation and Lifetime'!$B$22:$U$33,MATCH($A$1,'Saturation and Lifetime'!$B$22:$B$33,0),MATCH(BP10,'Saturation and Lifetime'!$B$22:$U$22,0))","v":42.862400000000008},null,2011,4859.1373606116777,0,{"$f":"OFFSET(CF36,-CC$6,0)","v":288.35924880899739},{"$f":"INDEX('Floor Space'!$I$5:$DK$50,MATCH(BVM!CA36,'Floor Space'!$I$5:$I$50,0),MATCH(BVM!CA$10,'Floor Space'!$I$5:$DK$5,0))*BVM!CH36","v":24.845770109171493},313.20501891816889,{"$f":"CB36+CE36-CC36","v":4883.9831307208487},{"$f":"CH35","v":42.862400000000008},5.1132059592657875E-3,{"$f":"INDEX('Saturation and Lifetime'!$B$22:$U$33,MATCH($A$1,'Saturation and Lifetime'!$B$22:$B$33,0),MATCH(CA10,'Saturation and Lifetime'!$B$22:$U$22,0))","v":42.862400000000008},null,2011,10638.656647583281,0,{"$f":"OFFSET(CQ36,-CN$6,0)","v":656.03684327963151},{"$f":"INDEX('Floor Space'!$I$5:$DK$50,MATCH(BVM!CL36,'Floor Space'!$I$5:$I$50,0),MATCH(BVM!CL$10,'Floor Space'!$I$5:$DK$5,0))*BVM!CS36","v":149.14023736558008},805.17708064521162,{"$f":"CM36+CP36-CN36","v":10787.796884948861},{"$f":"CS35","v":42.862400000000008},1.4018709533168305E-2,{"$f":"INDEX('Saturation and Lifetime'!$B$22:$U$33,MATCH($A$1,'Saturation and Lifetime'!$B$22:$B$33,0),MATCH(CL10,'Saturation and Lifetime'!$B$22:$U$22,0))","v":42.862400000000008},null,2011,5288.8476747402474,0,{"$f":"OFFSET(DB36,-CY$6,0)","v":335.30388340152007},{"$f":"INDEX('Floor Space'!$I$5:$DK$50,MATCH(BVM!CW36,'Floor Space'!$I$5:$I$50,0),MATCH(BVM!CW$10,'Floor Space'!$I$5:$DK$5,0))*BVM!DD36","v":82.132697412525928},417.43658081404601,{"$f":"CX36+DA36-CY36","v":5370.9803721527733},{"$f":"DD35","v":42.862400000000008},1.5529412541940957E-2,{"$f":"INDEX('Saturation and Lifetime'!$B$22:$U$33,MATCH($A$1,'Saturation and Lifetime'!$B$22:$B$33,0),MATCH(CW10,'Saturation and Lifetime'!$B$22:$U$22,0))","v":42.862400000000008},null,2011,15579.053359356807,0,{"$f":"OFFSET(DM36,-DJ$6,0)","v":1103.110118239633},{"$f":"INDEX('Floor Space'!$I$5:$DK$50,MATCH(BVM!DH36,'Floor Space'!$I$5:$I$50,0),MATCH(BVM!DH$10,'Floor Space'!$I$5:$DK$5,0))*BVM!DO36","v":542.80181779391273},1645.9119360335458,{"$f":"DI36+DL36-DJ36","v":16121.855177150719},{"$f":"DO35","v":42.862400000000008},3.4841771529584342E-2,{"$f":"INDEX('Saturation and Lifetime'!$B$22:$U$33,MATCH($A$1,'Saturation and Lifetime'!$B$22:$B$33,0),MATCH(DH10,'Saturation and Lifetime'!$B$22:$U$22,0))","v":42.862400000000008},null,2011,2243.0462349537597,0,{"$f":"OFFSET(DX36,-DU$6,0)","v":150.95335200232591},{"$f":"INDEX('Floor Space'!$I$5:$DK$50,MATCH(BVM!DS36,'Floor Space'!$I$5:$I$50,0),MATCH(BVM!DS$10,'Floor Space'!$I$5:$DK$5,0))*BVM!DZ36","v":7.8065688342005224},158.75992083652645,{"$f":"DT36+DW36-DU36","v":2250.8528037879601},{"$f":"DZ35","v":42.862400000000008},3.4803423632332464E-3,{"$f":"INDEX('Saturation and Lifetime'!$B$22:$U$33,MATCH($A$1,'Saturation and Lifetime'!$B$22:$B$33,0),MATCH(DS10,'Saturation and Lifetime'!$B$22:$U$22,0))","v":42.862400000000008},null,2011,926.86200277419937,0,{"$f":"OFFSET(EI36,-EF$6,0)","v":61.04827125969021},{"$f":"INDEX('Floor Space'!$I$5:$DK$50,MATCH(BVM!ED36,'Floor Space'!$I$5:$I$50,0),MATCH(BVM!ED$10,'Floor Space'!$I$5:$DK$5,0))*BVM!EK36","v":8.5569383010773361},69.605209560767548,{"$f":"EE36+EH36-EF36","v":935.41894107527673},{"$f":"EK35","v":42.862400000000008},9.2321599930362819E-3,{"$f":"INDEX('Saturation and Lifetime'!$B$22:$U$33,MATCH($A$1,'Saturation and Lifetime'!$B$22:$B$33,0),MATCH(ED10,'Saturation and Lifetime'!$B$22:$U$22,0))","v":42.862400000000008},null,2011,2032.7823266761409,0,{"$f":"OFFSET(ET36,-EQ$6,0)","v":131.53467799218566},{"$f":"INDEX('Floor Space'!$I$5:$DK$50,MATCH(BVM!EO36,'Floor Space'!$I$5:$I$50,0),MATCH(BVM!EO$10,'Floor Space'!$I$5:$DK$5,0))*BVM!EV36","v":36.302416139754406},167.83709413194006,{"$f":"EP36+ES36-EQ36","v":2069.0847428158954},{"$f":"EV35","v":42.862400000000008},1.7858486697448717E-2,{"$f":"INDEX('Saturation and Lifetime'!$B$22:$U$33,MATCH($A$1,'Saturation and Lifetime'!$B$22:$B$33,0),MATCH(EO10,'Saturation and Lifetime'!$B$22:$U$22,0))","v":42.862400000000008},null,2011,6887.3737174230473,0,{"$f":"OFFSET(FE36,-FB$6,0)","v":531.1600075765017},{"$f":"INDEX('Floor Space'!$I$5:$DK$50,MATCH(BVM!EZ36,'Floor Space'!$I$5:$I$50,0),MATCH(BVM!EZ$10,'Floor Space'!$I$5:$DK$5,0))*BVM!FG36","v":79.042747494232003},610.2027550707337,{"$f":"FA36+FD36-FB36","v":6966.416464917279},{"$f":"FG35","v":42.862400000000008},1.1476471400742483E-2,{"$f":"INDEX('Saturation and Lifetime'!$B$22:$U$33,MATCH($A$1,'Saturation and Lifetime'!$B$22:$B$33,0),MATCH(EZ10,'Saturation and Lifetime'!$B$22:$U$22,0))","v":42.862400000000008},null,2011,2917.3366919995919,0,{"$f":"OFFSET(FP36,-FM$6,0)","v":172.48030354484388},{"$f":"INDEX('Floor Space'!$I$5:$DK$50,MATCH(BVM!FK36,'Floor Space'!$I$5:$I$50,0),MATCH(BVM!FK$10,'Floor Space'!$I$5:$DK$5,0))*BVM!FR36","v":28.632966681485641},201.11327022632952,{"$f":"FL36+FO36-FM36","v":2945.9696586810778},{"$f":"FR35","v":42.862400000000008},9.8147624715405613E-3,{"$f":"INDEX('Saturation and Lifetime'!$B$22:$U$33,MATCH($A$1,'Saturation and Lifetime'!$B$22:$B$33,0),MATCH(FK10,'Saturation and Lifetime'!$B$22:$U$22,0))","v":42.862400000000008},null,2011,6294.7132989907132,0,{"$f":"OFFSET(GA36,-FX$6,0)","v":367.66039179784013},{"$f":"INDEX('Floor Space'!$I$5:$DK$50,MATCH(BVM!FV36,'Floor Space'!$I$5:$I$50,0),MATCH(BVM!FV$10,'Floor Space'!$I$5:$DK$5,0))*BVM!GC36","v":105.81998261092916},473.48037440876931,{"$f":"FW36+FZ36-FX36","v":6400.5332816016426},{"$f":"GC35","v":42.862400000000008},1.6810929677749886E-2,{"$f":"INDEX('Saturation and Lifetime'!$B$22:$U$33,MATCH($A$1,'Saturation and Lifetime'!$B$22:$B$33,0),MATCH(FV10,'Saturation and Lifetime'!$B$22:$U$22,0))","v":42.862400000000008},null,2011,9336.9461291047337,0,{"$f":"OFFSET(GL36,-GI$6,0)","v":598.49151589536018},{"$f":"INDEX('Floor Space'!$I$5:$DK$50,MATCH(BVM!GG36,'Floor Space'!$I$5:$I$50,0),MATCH(BVM!GG$10,'Floor Space'!$I$5:$DK$5,0))*BVM!GN36","v":96.380584046718894},694.8720999420791,{"$f":"GH36+GK36-GI36","v":9433.3267131514531},{"$f":"GN35","v":42.862400000000008},1.0322495462010473E-2,{"$f":"INDEX('Saturation and Lifetime'!$B$22:$U$33,MATCH($A$1,'Saturation and Lifetime'!$B$22:$B$33,0),MATCH(GG10,'Saturation and Lifetime'!$B$22:$U$22,0))","v":42.862400000000008},null,2011,18496.515950278928,0,{"$f":"OFFSET(GW36,-GT$6,0)","v":1182.2873874954353},{"$f":"INDEX('Floor Space'!$I$5:$DK$50,MATCH(BVM!GR36,'Floor Space'!$I$5:$I$50,0),MATCH(BVM!GR$10,'Floor Space'!$I$5:$DK$5,0))*BVM!GY36","v":34.236150522824097},1216.5235380182594,{"$f":"GS36+GV36-GT36","v":18530.752100801754},{"$f":"GY35","v":42.862400000000008},1.8509513150939405E-3,{"$f":"INDEX('Saturation and Lifetime'!$B$22:$U$33,MATCH($A$1,'Saturation and Lifetime'!$B$22:$B$33,0),MATCH(GR10,'Saturation and Lifetime'!$B$22:$U$22,0))","v":42.862400000000008}]
[null,2012,128039.16398743595,0,8667.3411057579688,1869.9935238663079,10537.334629624276,129909.15751130224,{"$f":"I36","v":42.862400000000008},1.4604855777172965E-2,null,null,2012,11729.888052705755,0,816.8171661309683,{"$f":"INDEX('Floor Space'!$I$5:$DK$54,MATCH(BVM!M37,'Floor Space'!$I$5:$I$54,0),MATCH(BVM!M$10,'Floor Space'!$I$5:$DK$5,0))*BVM!T37","v":198.04981035327577},1014.8669764842441,11927.937863059031,{"$f":"T36","v":42.862400000000008},1.6884202940674387E-2,null,null,2012,5284.7952430571177,0,368.00960543017237,{"$f":"INDEX('Floor Space'!$I$5:$DK$50,MATCH(BVM!X37,'Floor Space'!$I$5:$I$50,0),MATCH(BVM!X$10,'Floor Space'!$I$5:$DK$5,0))*BVM!AE37","v":89.229555383686943},457.23916081385931,5374.0247984408043,{"$f":"AE36","v":42.862400000000008},1.6884202940674387E-2,null,null,2012,6201.0250485231727,0,431.81176874688708,{"$f":"INDEX('Floor Space'!$I$5:$DK$50,MATCH(BVM!AI37,'Floor Space'!$I$5:$I$50,0),MATCH(BVM!AI$10,'Floor Space'!$I$5:$DK$5,0))*BVM!AP37","v":104.69936535947045},536.51113410635753,6305.7244138826427,{"$f":"AP36","v":42.862400000000008},1.6884202940674387E-2,null,null,2012,5478.3829298325136,0,353.27990994052368,{"$f":"INDEX('Floor Space'!$I$5:$DK$50,MATCH(BVM!AT37,'Floor Space'!$I$5:$I$50,0),MATCH(BVM!AT$10,'Floor Space'!$I$5:$DK$5,0))*BVM!BA37","v":65.434638359332169},418.71454829985584,5543.8175681918456,{"$f":"BA36","v":42.862400000000008},1.1944151987442808E-2,null,null,2012,10118.481953209484,0,652.50210490013092,{"$f":"INDEX('Floor Space'!$I$5:$DK$50,MATCH(BVM!BE37,'Floor Space'!$I$5:$I$50,0),MATCH(BVM!BE$10,'Floor Space'!$I$5:$DK$5,0))*BVM!BL37","v":120.856686331332},773.35879123146287,10239.338639540816,{"$f":"BL36","v":42.862400000000008},1.1944151987442808E-2,null,null,2012,2529.6204883023711,0,163.12552622503273,{"$f":"INDEX('Floor Space'!$I$5:$DK$50,MATCH(BVM!BP37,'Floor Space'!$I$5:$I$50,0),MATCH(BVM!BP$10,'Floor Space'!$I$5:$DK$5,0))*BVM!BW37","v":30.214171582833},193.33969780786572,2559.834659885204,{"$f":"BW36","v":42.862400000000008},1.1944151987442808E-2,null,null,2012,4883.9831307208487,0,314.94934594227942,{"$f":"INDEX('Floor Space'!$I$5:$DK$50,MATCH(BVM!CA37,'Floor Space'!$I$5:$I$50,0),MATCH(BVM!CA$10,'Floor Space'!$I$5:$DK$5,0))*BVM!CH37","v":58.335036817436929},373.28438275971632,4942.3181675382857,{"$f":"CH36","v":42.862400000000008},1.1944151987442808E-2,null,null,2012,10787.796884948861,0,648.95554371382286,{"$f":"INDEX('Floor Space'!$I$5:$DK$50,MATCH(BVM!CL37,'Floor Space'!$I$5:$I$50,0),MATCH(BVM!CL$10,'Floor Space'!$I$5:$DK$5,0))*BVM!CS37","v":167.61677157558694},816.57231528940974,10955.413656524448,{"$f":"CS36","v":42.862400000000008},1.553762768832323E-2,null,null,2012,5370.9803721527733,0,331.66991617959286,{"$f":"INDEX('Floor Space'!$I$5:$DK$50,MATCH(BVM!CW37,'Floor Space'!$I$5:$I$50,0),MATCH(BVM!CW$10,'Floor Space'!$I$5:$DK$5,0))*BVM!DD37","v":88.251977433360949},419.9218936129538,5459.2323495861347,{"$f":"DD36","v":42.862400000000008},1.6431260462415054E-2,null,null,2012,16121.855177150719,0,1153.0243680428721,{"$f":"INDEX('Floor Space'!$I$5:$DK$50,MATCH(BVM!DH37,'Floor Space'!$I$5:$I$50,0),MATCH(BVM!DH$10,'Floor Space'!$I$5:$DK$5,0))*BVM!DO37","v":554.27958578209416},1707.3039538249664,16676.134762932812,{"$f":"DO36","v":42.862400000000008},3.4380632978744607E-2,null,null,2012,2250.8528037879601,0,169.41821118759708,{"$f":"INDEX('Floor Space'!$I$5:$DK$50,MATCH(BVM!DS37,'Floor Space'!$I$5:$I$50,0),MATCH(BVM!DS$10,'Floor Space'!$I$5:$DK$5,0))*BVM!DZ37","v":15.365186620275257},184.78339780787235,2266.2179904082354,{"$f":"DZ36","v":42.862400000000008},6.8263844683300601E-3,null,null,2012,935.41894107527673,0,68.519510338119673,{"$f":"INDEX('Floor Space'!$I$5:$DK$50,MATCH(BVM!ED37,'Floor Space'!$I$5:$I$50,0),MATCH(BVM!ED$10,'Floor Space'!$I$5:$DK$5,0))*BVM!EK37","v":13.771604090897752},82.291114429017426,949.1905451661745,{"$f":"EK36","v":42.862400000000008},1.4722391739328211E-2,null,null,2012,2069.0847428158954,0,127.75601306111042,{"$f":"INDEX('Floor Space'!$I$5:$DK$50,MATCH(BVM!EO37,'Floor Space'!$I$5:$I$50,0),MATCH(BVM!EO$10,'Floor Space'!$I$5:$DK$5,0))*BVM!EV37","v":40.243012305954593},167.99902536706503,2109.3277551218498,{"$f":"EV36","v":42.862400000000008},1.9449668480560289E-2,null,null,2012,6966.416464917279,0,527.26359567833561,{"$f":"INDEX('Floor Space'!$I$5:$DK$50,MATCH(BVM!EZ37,'Floor Space'!$I$5:$I$50,0),MATCH(BVM!EZ$10,'Floor Space'!$I$5:$DK$5,0))*BVM!FG37","v":95.739782363085837},623.00337804142146,7062.1562472803644,{"$f":"FG36","v":42.862400000000008},1.374304606180643E-2,null,null,2012,2945.9696586810778,0,184.05326746814711,{"$f":"INDEX('Floor Space'!$I$5:$DK$50,MATCH(BVM!FK37,'Floor Space'!$I$5:$I$50,0),MATCH(BVM!FK$10,'Floor Space'!$I$5:$DK$5,0))*BVM!FR37","v":42.436250997618671},226.4895184657658,2988.4059096786964,{"$f":"FR36","v":42.862400000000008},1.4404849986342949E-2,null,null,2012,6400.5332816016426,0,390.29519173983618,{"$f":"INDEX('Floor Space'!$I$5:$DK$50,MATCH(BVM!FV37,'Floor Space'!$I$5:$I$50,0),MATCH(BVM!FV$10,'Floor Space'!$I$5:$DK$5,0))*BVM!GC37","v":129.28017605996013},519.57536779979637,6529.813457661603,{"$f":"GC36","v":42.862400000000008},2.0198344477260433E-2,null,null,2012,9433.3267131514531,0,658.56901226133641,{"$f":"INDEX('Floor Space'!$I$5:$DK$50,MATCH(BVM!GG37,'Floor Space'!$I$5:$I$50,0),MATCH(BVM!GG$10,'Floor Space'!$I$5:$DK$5,0))*BVM!GN37","v":40.344378082058881},698.91339034339535,9473.6710912335111,{"$f":"GN36","v":42.862400000000008},4.2767921973709822E-3,null,null,2012,18530.752100801754,0,1307.3210487712031,{"$f":"INDEX('Floor Space'!$I$5:$DK$50,MATCH(BVM!GR37,'Floor Space'!$I$5:$I$50,0),MATCH(BVM!GR$10,'Floor Space'!$I$5:$DK$5,0))*BVM!GY37","v":15.845534368047581},1323.1665831392506,18546.597635169801,{"$f":"GY36","v":42.862400000000008},8.550939693030557E-4]
[null,2013,129909.15751130224,0,9240.5087702717592,1896.8729137566565,11137.381684028416,131806.03042505888,42.862400000000008,1.4601533487672791E-2,null,null,2013,11927.937863059031,0,890.68643318006161,{"$f":"INDEX('Floor Space'!$I$5:$DK$54,MATCH(BVM!M38,'Floor Space'!$I$5:$I$54,0),MATCH(BVM!M$10,'Floor Space'!$I$5:$DK$5,0))*BVM!T38","v":191.71571138688088},1082.4021445669425,12119.653574445912,42.862400000000008,1.6072829485524798E-2,null,null,2013,5374.0247984408043,0,401.29073730074572,{"$f":"INDEX('Floor Space'!$I$5:$DK$50,MATCH(BVM!X38,'Floor Space'!$I$5:$I$50,0),MATCH(BVM!X$10,'Floor Space'!$I$5:$DK$5,0))*BVM!AE38","v":86.375784236319944},487.66652153706565,5460.4005826771245,42.862400000000008,1.6072829485524576E-2,null,null,2013,6305.7244138826427,0,470.8628810191658,{"$f":"INDEX('Floor Space'!$I$5:$DK$50,MATCH(BVM!AI38,'Floor Space'!$I$5:$I$50,0),MATCH(BVM!AI$10,'Floor Space'!$I$5:$DK$5,0))*BVM!AP38","v":101.3508332870455},572.21371430621127,6407.0752471696878,42.862400000000008,1.6072829485524576E-2,null,null,2013,5543.8175681918456,0,382.78175503468492,{"$f":"INDEX('Floor Space'!$I$5:$DK$50,MATCH(BVM!AT38,'Floor Space'!$I$5:$I$50,0),MATCH(BVM!AT$10,'Floor Space'!$I$5:$DK$5,0))*BVM!BA38","v":71.425876739919104},454.20763177460401,5615.2434449317643,42.862400000000008,1.2883879359546491E-2,null,null,2013,10239.338639540816,0,706.99152102803544,{"$f":"INDEX('Floor Space'!$I$5:$DK$50,MATCH(BVM!BE38,'Floor Space'!$I$5:$I$50,0),MATCH(BVM!BE$10,'Floor Space'!$I$5:$DK$5,0))*BVM!BL38","v":131.92240375338855},838.91392478142393,10371.261043294204,42.862400000000008,1.2883879359546491E-2,null,null,2013,2559.834659885204,0,176.74788025700886,{"$f":"INDEX('Floor Space'!$I$5:$DK$50,MATCH(BVM!BP38,'Floor Space'!$I$5:$I$50,0),MATCH(BVM!BP$10,'Floor Space'!$I$5:$DK$5,0))*BVM!BW38","v":32.980600938347138},209.72848119535598,2592.8152608235509,42.862400000000008,1.2883879359546491E-2,null,null,2013,4942.3181675382857,0,341.25026641653113,{"$f":"INDEX('Floor Space'!$I$5:$DK$50,MATCH(BVM!CA38,'Floor Space'!$I$5:$I$50,0),MATCH(BVM!CA$10,'Floor Space'!$I$5:$DK$5,0))*BVM!CH38","v":63.676231027059011},404.92649744359016,5005.9943985653445,42.862400000000008,1.2883879359546713E-2,null,null,2013,10955.413656524448,0,693.45741996355025,{"$f":"INDEX('Floor Space'!$I$5:$DK$50,MATCH(BVM!CL38,'Floor Space'!$I$5:$I$50,0),MATCH(BVM!CL$10,'Floor Space'!$I$5:$DK$5,0))*BVM!CS38","v":161.64558298800208},855.1030029515523,11117.059239512449,42.862400000000008,1.475485892691375E-2,null,null,2013,5459.2323495861347,0,354.60767622573042,{"$f":"INDEX('Floor Space'!$I$5:$DK$50,MATCH(BVM!CW38,'Floor Space'!$I$5:$I$50,0),MATCH(BVM!CW$10,'Floor Space'!$I$5:$DK$5,0))*BVM!DD38","v":85.420937880500119},440.02861410623052,5544.6532874666345,42.862400000000008,1.5647060321031248E-2,null,null,2013,16676.134762932812,0,1140.8217000210216,{"$f":"INDEX('Floor Space'!$I$5:$DK$50,MATCH(BVM!DH38,'Floor Space'!$I$5:$I$50,0),MATCH(BVM!DH$10,'Floor Space'!$I$5:$DK$5,0))*BVM!DO38","v":531.97945750835299},1672.8011575293744,17208.114220441166,42.862400000000008,3.1900645147748596E-2,null,null,2013,2266.2179904082354,0,187.04420245855329,{"$f":"INDEX('Floor Space'!$I$5:$DK$50,MATCH(BVM!DS38,'Floor Space'!$I$5:$I$50,0),MATCH(BVM!DS$10,'Floor Space'!$I$5:$DK$5,0))*BVM!DZ38","v":15.287710259575155},202.33191271812845,2281.5057006678107,42.862400000000008,6.7459133782719061E-3,null,null,2013,949.1905451661745,0,75.650982109292812,{"$f":"INDEX('Floor Space'!$I$5:$DK$50,MATCH(BVM!ED38,'Floor Space'!$I$5:$I$50,0),MATCH(BVM!ED$10,'Floor Space'!$I$5:$DK$5,0))*BVM!EK38","v":14.338381088591628},89.989363197884444,963.52892625476613,42.862400000000008,1.5105903826803768E-2,null,null,2013,2109.3277551218498,0,131.43976101221813,{"$f":"INDEX('Floor Space'!$I$5:$DK$50,MATCH(BVM!EO38,'Floor Space'!$I$5:$I$50,0),MATCH(BVM!EO$10,'Floor Space'!$I$5:$DK$5,0))*BVM!EV38","v":37.582936111773364},169.02269712399149,2146.9106912336233,42.862400000000008,1.781749470679217E-2,null,null,2013,7062.1562472803644,0,494.64647168369964,{"$f":"INDEX('Floor Space'!$I$5:$DK$50,MATCH(BVM!EZ38,'Floor Space'!$I$5:$I$50,0),MATCH(BVM!EZ$10,'Floor Space'!$I$5:$DK$5,0))*BVM!FG38","v":85.732282518311536},580.37875420201112,7147.8885297986762,42.862400000000008,1.2139675124198446E-2,null,null,2013,2988.4059096786964,0,221.06470637892531,{"$f":"INDEX('Floor Space'!$I$5:$DK$50,MATCH(BVM!FK38,'Floor Space'!$I$5:$I$50,0),MATCH(BVM!FK$10,'Floor Space'!$I$5:$DK$5,0))*BVM!FR38","v":46.031000063613853},267.09570644253915,3034.43690974231,42.862400000000008,1.540319536731305E-2,null,null,2013,6529.813457661603,0,464.9196685248163,{"$f":"INDEX('Floor Space'!$I$5:$DK$50,MATCH(BVM!FV38,'Floor Space'!$I$5:$I$50,0),MATCH(BVM!FV$10,'Floor Space'!$I$5:$DK$5,0))*BVM!GC38","v":148.35343884361049},613.27310736842674,6678.1668965052131,42.862400000000008,2.2719399230240356E-2,null,null,2013,9473.6710912335111,0,705.62279941277984,{"$f":"INDEX('Floor Space'!$I$5:$DK$50,MATCH(BVM!GG38,'Floor Space'!$I$5:$I$50,0),MATCH(BVM!GG$10,'Floor Space'!$I$5:$DK$5,0))*BVM!GN38","v":58.862883815852435},764.4856832286323,9532.533975049364,42.862400000000008,6.2133130070687326E-3,null,null,2013,18546.597635169801,0,1400.6219082449365,{"$f":"INDEX('Floor Space'!$I$5:$DK$50,MATCH(BVM!GR38,'Floor Space'!$I$5:$I$50,0),MATCH(BVM!GR$10,'Floor Space'!$I$5:$DK$5,0))*BVM!GY38","v":32.190861309512691},1432.8127695544492,18578.788496479312,42.862400000000008,1.7356747551620089E-3]
[null,2014,131806.03042505888,0,9285.5643493007392,1837.6379729860946,11123.202322286834,133643.66839804503,42.862400000000008,1.3941987077981111E-2,null,null,2014,12119.653574445912,0,932.66412546850518,{"$f":"INDEX('Floor Space'!$I$5:$DK$54,MATCH(BVM!M39,'Floor Space'!$I$5:$I$54,0),MATCH(BVM!M$10,'Floor Space'!$I$5:$DK$5,0))*BVM!T39","v":170.25060813693483},1102.91473360544,12289.904182582848,42.862400000000008,1.4047481397975403E-2,null,null,2014,5460.4005826771245,0,420.20340786705265,{"$f":"INDEX('Floor Space'!$I$5:$DK$50,MATCH(BVM!X39,'Floor Space'!$I$5:$I$50,0),MATCH(BVM!X$10,'Floor Space'!$I$5:$DK$5,0))*BVM!AE39","v":76.704875610650859},496.90828347770349,5537.105458287775,42.862400000000008,1.4047481397975403E-2,null,null,2014,6407.0752471696878,0,493.05445865317336,{"$f":"INDEX('Floor Space'!$I$5:$DK$50,MATCH(BVM!AI39,'Floor Space'!$I$5:$I$50,0),MATCH(BVM!AI$10,'Floor Space'!$I$5:$DK$5,0))*BVM!AP39","v":90.003270350044758},583.05772900321813,6497.0785175197325,42.862400000000008,1.4047481397975403E-2,null,null,2014,5615.2434449317643,0,374.11976336830764,{"$f":"INDEX('Floor Space'!$I$5:$DK$50,MATCH(BVM!AT39,'Floor Space'!$I$5:$I$50,0),MATCH(BVM!AT$10,'Floor Space'!$I$5:$DK$5,0))*BVM!BA39","v":68.542863562009373},442.662626930317,5683.7863084937735,42.862400000000008,1.220657024654459E-2,null,null,2014,10371.261043294204,0,690.9929668054358,{"$f":"INDEX('Floor Space'!$I$5:$DK$50,MATCH(BVM!BE39,'Floor Space'!$I$5:$I$50,0),MATCH(BVM!BE$10,'Floor Space'!$I$5:$DK$5,0))*BVM!BL39","v":126.59752647022344},817.59049327565924,10497.858569764427,42.862400000000008,1.220657024654459E-2,null,null,2014,2592.8152608235509,0,172.74824170135895,{"$f":"INDEX('Floor Space'!$I$5:$DK$50,MATCH(BVM!BP39,'Floor Space'!$I$5:$I$50,0),MATCH(BVM!BP$10,'Floor Space'!$I$5:$DK$5,0))*BVM!BW39","v":31.649381617555861},204.39762331891481,2624.4646424411067,42.862400000000008,1.220657024654459E-2,null,null,2014,5005.9943985653445,0,333.52809333756301,{"$f":"INDEX('Floor Space'!$I$5:$DK$50,MATCH(BVM!CA39,'Floor Space'!$I$5:$I$50,0),MATCH(BVM!CA$10,'Floor Space'!$I$5:$DK$5,0))*BVM!CH39","v":61.106022279897296},394.63411561746028,5067.1004208452414,42.862400000000008,1.220657024654459E-2,null,null,2014,11117.059239512449,0,686.45544567242518,{"$f":"INDEX('Floor Space'!$I$5:$DK$50,MATCH(BVM!CL39,'Floor Space'!$I$5:$I$50,0),MATCH(BVM!CL$10,'Floor Space'!$I$5:$DK$5,0))*BVM!CS39","v":145.85583556655033},832.31128123897554,11262.915075079,42.862400000000008,1.3120001650089863E-2,null,null,2014,5544.6532874666345,0,351.01594365668973,{"$f":"INDEX('Floor Space'!$I$5:$DK$50,MATCH(BVM!CW39,'Floor Space'!$I$5:$I$50,0),MATCH(BVM!CW$10,'Floor Space'!$I$5:$DK$5,0))*BVM!DD39","v":76.310417306573015},427.32636096326274,5620.9637047732076,42.862400000000008,1.3762883511412305E-2,null,null,2014,17208.114220441166,0,1109.8137396063501,{"$f":"INDEX('Floor Space'!$I$5:$DK$50,MATCH(BVM!DH39,'Floor Space'!$I$5:$I$50,0),MATCH(BVM!DH$10,'Floor Space'!$I$5:$DK$5,0))*BVM!DO39","v":514.40982600205598},1624.223565608406,17722.524046443221,42.862400000000008,2.9893445581096634E-2,null,null,2014,2281.5057006678107,0,178.41237135549389,{"$f":"INDEX('Floor Space'!$I$5:$DK$50,MATCH(BVM!DS39,'Floor Space'!$I$5:$I$50,0),MATCH(BVM!DS$10,'Floor Space'!$I$5:$DK$5,0))*BVM!DZ39","v":9.93313858830399},188.34550994379788,2291.4388392561145,42.862400000000008,4.3537645272577752E-3,null,null,2014,963.52892625476613,0,72.156775875597077,{"$f":"INDEX('Floor Space'!$I$5:$DK$50,MATCH(BVM!ED39,'Floor Space'!$I$5:$I$50,0),MATCH(BVM!ED$10,'Floor Space'!$I$5:$DK$5,0))*BVM!EK39","v":13.813553457312999},85.970329332910069,977.34247971207913,42.862400000000008,1.4336418016017705E-2,null,null,2014,2146.9106912336233,0,133.5561664203866,{"$f":"INDEX('Floor Space'!$I$5:$DK$50,MATCH(BVM!EO39,'Floor Space'!$I$5:$I$50,0),MATCH(BVM!EO$10,'Floor Space'!$I$5:$DK$5,0))*BVM!EV39","v":33.060101823068109},166.61626824345473,2179.9707930566915,42.862400000000008,1.5398918063085132E-2,null,null,2014,7147.8885297986762,0,506.42438055252239,{"$f":"INDEX('Floor Space'!$I$5:$DK$50,MATCH(BVM!EZ39,'Floor Space'!$I$5:$I$50,0),MATCH(BVM!EZ$10,'Floor Space'!$I$5:$DK$5,0))*BVM!FG39","v":58.863108655591574},565.28748920811393,7206.7516384542678,42.862400000000008,8.2350345014752246E-3,null,null,2014,3034.43690974231,0,216.92214381601343,{"$f":"INDEX('Floor Space'!$I$5:$DK$50,MATCH(BVM!FK39,'Floor Space'!$I$5:$I$50,0),MATCH(BVM!FK$10,'Floor Space'!$I$5:$DK$5,0))*BVM!FR39","v":41.784473644877892},258.70661746089132,3076.2213833871879,42.862400000000008,1.3770091416541064E-2,null,null,2014,6678.1668965052131,0,456.53509776295823,{"$f":"INDEX('Floor Space'!$I$5:$DK$50,MATCH(BVM!FV39,'Floor Space'!$I$5:$I$50,0),MATCH(BVM!FV$10,'Floor Space'!$I$5:$DK$5,0))*BVM!GC39","v":142.52363664347345},599.05873440643165,6820.6905331486869,42.862400000000008,2.1341730276022153E-2,null,null,2014,9532.533975049364,0,720.2985711682602,{"$f":"INDEX('Floor Space'!$I$5:$DK$50,MATCH(BVM!GG39,'Floor Space'!$I$5:$I$50,0),MATCH(BVM!GG$10,'Floor Space'!$I$5:$DK$5,0))*BVM!GN39","v":107.37656149845205},827.67513266671222,9639.9105365478154,42.862400000000008,1.1264220172674033E-2,null,null,2014,18578.788496479312,0,1436.6626562126448,{"$f":"INDEX('Floor Space'!$I$5:$DK$50,MATCH(BVM!GR39,'Floor Space'!$I$5:$I$50,0),MATCH(BVM!GR$10,'Floor Space'!$I$5:$DK$5,0))*BVM!GY39","v":68.852771772518665},1505.5154279851636,18647.641268251831,42.862400000000008,3.7059882449044235E-3]
[null,2015,133643.66839804503,0,8962.8973187859301,1812.0328166646887,10774.930135450621,135455.7012147097,42.862400000000008,1.3558688102362604E-2,null,null,2015,12289.904182582848,0,835.06314620773173,{"$f":"INDEX('Floor Space'!$I$5:$DK$54,MATCH(BVM!M40,'Floor Space'!$I$5:$I$54,0),MATCH(BVM!M$10,'Floor Space'!$I$5:$DK$5,0))*BVM!T40","v":167.74906111496989},1002.8122073227016,12457.653243697818,42.862400000000008,1.3649338401897637E-2,null,null,2015,5537.105458287775,0,376.23016715090853,{"$f":"INDEX('Floor Space'!$I$5:$DK$50,MATCH(BVM!X40,'Floor Space'!$I$5:$I$50,0),MATCH(BVM!X$10,'Floor Space'!$I$5:$DK$5,0))*BVM!AE40","v":75.577826167164105},451.80799331807265,5612.683284454939,42.862400000000008,1.3649338401897637E-2,null,null,2015,6497.0785175197325,0,441.45753680387759,{"$f":"INDEX('Floor Space'!$I$5:$DK$50,MATCH(BVM!AI40,'Floor Space'!$I$5:$I$50,0),MATCH(BVM!AI$10,'Floor Space'!$I$5:$DK$5,0))*BVM!AP40","v":88.680823309326001},530.13836011320359,6585.7593408290586,42.862400000000008,1.3649338401897637E-2,null,null,2015,5683.7863084937735,0,370.45087649824143,{"$f":"INDEX('Floor Space'!$I$5:$DK$50,MATCH(BVM!AT40,'Floor Space'!$I$5:$I$50,0),MATCH(BVM!AT$10,'Floor Space'!$I$5:$DK$5,0))*BVM!BA40","v":49.813108816022606},420.263985314264,5733.5994173097961,42.862400000000008,8.7640713623562405E-3,null,null,2015,10497.858569764427,0,684.21659391244657,{"$f":"INDEX('Floor Space'!$I$5:$DK$50,MATCH(BVM!BE40,'Floor Space'!$I$5:$I$50,0),MATCH(BVM!BE$10,'Floor Space'!$I$5:$DK$5,0))*BVM!BL40","v":92.003981657338173},776.22057556978473,10589.862551421766,42.862400000000008,8.7640713623562405E-3,null,null,2015,2624.4646424411067,0,171.05414847811164,{"$f":"INDEX('Floor Space'!$I$5:$DK$50,MATCH(BVM!BP40,'Floor Space'!$I$5:$I$50,0),MATCH(BVM!BP$10,'Floor Space'!$I$5:$DK$5,0))*BVM!BW40","v":23.000995414334543},194.05514389244618,2647.4656378554414,42.862400000000008,8.7640713623562405E-3,null,null,2015,5067.1004208452414,0,330.2572775126323,{"$f":"INDEX('Floor Space'!$I$5:$DK$50,MATCH(BVM!CA40,'Floor Space'!$I$5:$I$50,0),MATCH(BVM!CA$10,'Floor Space'!$I$5:$DK$5,0))*BVM!CH40","v":44.408429688512904},374.66570720114521,5111.5088505337544,42.862400000000008,8.7640713623562405E-3,null,null,2015,11262.915075079,0,725.02480411403269,{"$f":"INDEX('Floor Space'!$I$5:$DK$50,MATCH(BVM!CL40,'Floor Space'!$I$5:$I$50,0),MATCH(BVM!CL$10,'Floor Space'!$I$5:$DK$5,0))*BVM!CS40","v":142.57220824563967},867.59701235967236,11405.487283324639,42.862400000000008,1.2658553073982004E-2,null,null,2015,5620.9637047732076,0,370.8988506277243,{"$f":"INDEX('Floor Space'!$I$5:$DK$50,MATCH(BVM!CW40,'Floor Space'!$I$5:$I$50,0),MATCH(BVM!CW$10,'Floor Space'!$I$5:$DK$5,0))*BVM!DD40","v":73.434414530750502},444.33326515847477,5694.3981193039581,42.862400000000008,1.3064381552293503E-2,null,null,2015,17722.524046443221,0,1174.8866719180085,{"$f":"INDEX('Floor Space'!$I$5:$DK$50,MATCH(BVM!DH40,'Floor Space'!$I$5:$I$50,0),MATCH(BVM!DH$10,'Floor Space'!$I$5:$DK$5,0))*BVM!DO40","v":538.43622598548029},1713.3228979034889,18260.9602724287,42.862400000000008,3.0381463981905998E-2,null,null,2015,2291.4388392561145,0,175.22280385194074,{"$f":"INDEX('Floor Space'!$I$5:$DK$50,MATCH(BVM!DS40,'Floor Space'!$I$5:$I$50,0),MATCH(BVM!DS$10,'Floor Space'!$I$5:$DK$5,0))*BVM!DZ40","v":10.515124351302843},185.73792820324357,2301.9539636074173,42.862400000000008,4.5888741044104453E-3,null,null,2015,977.34247971207913,0,70.865062999512844,{"$f":"INDEX('Floor Space'!$I$5:$DK$50,MATCH(BVM!ED40,'Floor Space'!$I$5:$I$50,0),MATCH(BVM!ED$10,'Floor Space'!$I$5:$DK$5,0))*BVM!EK40","v":9.5247668671940016},80.389829866706847,986.86724657927311,42.862400000000008,9.7455774868191458E-3,null,null,2015,2179.9707930566915,0,126.37514089890701,{"$f":"INDEX('Floor Space'!$I$5:$DK$50,MATCH(BVM!EO40,'Floor Space'!$I$5:$I$50,0),MATCH(BVM!EO$10,'Floor Space'!$I$5:$DK$5,0))*BVM!EV40","v":27.659880544411063},154.03502144331807,2207.6306736011024,42.862400000000008,1.2688188590649352E-2,null,null,2015,7206.7516384542678,0,454.37024034053997,{"$f":"INDEX('Floor Space'!$I$5:$DK$50,MATCH(BVM!EZ40,'Floor Space'!$I$5:$I$50,0),MATCH(BVM!EZ$10,'Floor Space'!$I$5:$DK$5,0))*BVM!FG40","v":32.425254342061606},486.79549468260154,7239.1768927963294,42.862400000000008,4.4992884407233369E-3,null,null,2015,3076.2213833871879,0,206.6205700752592,{"$f":"INDEX('Floor Space'!$I$5:$DK$50,MATCH(BVM!FK40,'Floor Space'!$I$5:$I$50,0),MATCH(BVM!FK$10,'Floor Space'!$I$5:$DK$5,0))*BVM!FR40","v":45.594140142779644},252.21471021803885,3121.8155235299673,42.862400000000008,1.4821475589827715E-2,null,null,2015,6820.6905331486869,0,436.802530058348,{"$f":"INDEX('Floor Space'!$I$5:$DK$50,MATCH(BVM!FV40,'Floor Space'!$I$5:$I$50,0),MATCH(BVM!FV$10,'Floor Space'!$I$5:$DK$5,0))*BVM!GC40","v":148.76179172980125},585.5643217881493,6969.4523248784881,42.862400000000008,2.1810371106388171E-2,null,null,2015,9639.9105365478154,0,674.08371060257662,{"$f":"INDEX('Floor Space'!$I$5:$DK$50,MATCH(BVM!GG40,'Floor Space'!$I$5:$I$50,0),MATCH(BVM!GG$10,'Floor Space'!$I$5:$DK$5,0))*BVM!GN40","v":139.79900654094857},813.88271714352516,9779.7095430887639,42.862400000000008,1.4502106218821087E-2,null,null,2015,18647.641268251831,0,1339.0171867351305,{"$f":"INDEX('Floor Space'!$I$5:$DK$50,MATCH(BVM!GR40,'Floor Space'!$I$5:$I$50,0),MATCH(BVM!GR$10,'Floor Space'!$I$5:$DK$5,0))*BVM!GY40","v":102.07577721665103},1441.0929639517815,18749.717045468482,42.862400000000008,5.4739243289947392E-3]
[null,2016,135455.7012147097,0,8538.1618867520119,1650.2535288323529,10188.415415584363,137105.95474354204,42.862400000000008,1.2182975792333295E-2,null,null,2016,12457.653243697818,0,774.76700063579642,{"$f":"INDEX('Floor Space'!$I$5:$DK$54,MATCH(BVM!M41,'Floor Space'!$I$5:$I$54,0),MATCH(BVM!M$10,'Floor Space'!$I$5:$DK$5,0))*BVM!T41","v":155.67921609779972},930.4462167335962,12613.332459795618,42.862400000000008,1.2496672772342343E-2,null,null,2016,5612.683284454939,0,349.06428271437824,{"$f":"INDEX('Floor Space'!$I$5:$DK$50,MATCH(BVM!X41,'Floor Space'!$I$5:$I$50,0),MATCH(BVM!X$10,'Floor Space'!$I$5:$DK$5,0))*BVM!AE41","v":70.139866380628561},419.20414909500681,5682.8231508355675,42.862400000000008,1.2496672772342343E-2,null,null,2016,6585.7593408290586,0,409.58187803024396,{"$f":"INDEX('Floor Space'!$I$5:$DK$50,MATCH(BVM!AI41,'Floor Space'!$I$5:$I$50,0),MATCH(BVM!AI$10,'Floor Space'!$I$5:$DK$5,0))*BVM!AP41","v":82.300079439737232},491.88195746998122,6668.0594202687962,42.862400000000008,1.2496672772342343E-2,null,null,2016,5733.5994173097961,0,359.30963441290021,{"$f":"INDEX('Floor Space'!$I$5:$DK$50,MATCH(BVM!AT41,'Floor Space'!$I$5:$I$50,0),MATCH(BVM!AT$10,'Floor Space'!$I$5:$DK$5,0))*BVM!BA41","v":35.198553563976233},394.50818797687646,5768.7979708737721,42.862400000000008,6.1389976875103613E-3,null,null,2016,10589.862551421766,0,663.63890549220514,{"$f":"INDEX('Floor Space'!$I$5:$DK$50,MATCH(BVM!BE41,'Floor Space'!$I$5:$I$50,0),MATCH(BVM!BE$10,'Floor Space'!$I$5:$DK$5,0))*BVM!BL41","v":65.011141714231997},728.65004720643719,10654.873693135998,42.862400000000008,6.1389976875105834E-3,null,null,2016,2647.4656378554414,0,165.90972637305129,{"$f":"INDEX('Floor Space'!$I$5:$DK$50,MATCH(BVM!BP41,'Floor Space'!$I$5:$I$50,0),MATCH(BVM!BP$10,'Floor Space'!$I$5:$DK$5,0))*BVM!BW41","v":16.252785428557999},182.1625118016093,2663.7184232839995,42.862400000000008,6.1389976875105834E-3,null,null,2016,5111.5088505337544,0,320.32485053609247,{"$f":"INDEX('Floor Space'!$I$5:$DK$50,MATCH(BVM!CA41,'Floor Space'!$I$5:$I$50,0),MATCH(BVM!CA$10,'Floor Space'!$I$5:$DK$5,0))*BVM!CH41","v":31.379541013116043},351.70439154920854,5142.8883915468705,42.862400000000008,6.1389976875105834E-3,null,null,2016,11405.487283324639,0,783.06677289948607,{"$f":"INDEX('Floor Space'!$I$5:$DK$50,MATCH(BVM!CL41,'Floor Space'!$I$5:$I$50,0),MATCH(BVM!CL$10,'Floor Space'!$I$5:$DK$5,0))*BVM!CS41","v":128.73703009401169},911.80380299349781,11534.22431341865,42.862400000000008,1.1287288907176452E-2,null,null,2016,5694.3981193039581,0,391.39495544921789,{"$f":"INDEX('Floor Space'!$I$5:$DK$50,MATCH(BVM!CW41,'Floor Space'!$I$5:$I$50,0),MATCH(BVM!CW$10,'Floor Space'!$I$5:$DK$5,0))*BVM!DD41","v":68.293380571038782},459.68833602025666,5762.6914998749971,42.862400000000008,1.1993081470634381E-2,null,null,2016,18260.9602724287,0,1007.9895337727927,{"$f":"INDEX('Floor Space'!$I$5:$DK$50,MATCH(BVM!DH41,'Floor Space'!$I$5:$I$50,0),MATCH(BVM!DH$10,'Floor Space'!$I$5:$DK$5,0))*BVM!DO41","v":533.46350048622253},1541.4530342590151,18794.423772914921,42.862400000000008,2.9213332296202932E-2,null,null,2016,2301.9539636074173,0,158.28037928093363,{"$f":"INDEX('Floor Space'!$I$5:$DK$50,MATCH(BVM!DS41,'Floor Space'!$I$5:$I$50,0),MATCH(BVM!DS$10,'Floor Space'!$I$5:$DK$5,0))*BVM!DZ41","v":10.508655277701441},168.78903455863508,2312.4626188851189,42.862400000000008,4.565102275648103E-3,null,null,2016,986.86724657927311,0,64.008291997206967,{"$f":"INDEX('Floor Space'!$I$5:$DK$50,MATCH(BVM!ED41,'Floor Space'!$I$5:$I$50,0),MATCH(BVM!ED$10,'Floor Space'!$I$5:$DK$5,0))*BVM!EK41","v":5.8872686160609433},69.895560613267918,992.75451519533408,42.862400000000008,5.9656135477874628E-3,null,null,2016,2207.6306736011024,0,165.54338235601855,{"$f":"INDEX('Floor Space'!$I$5:$DK$50,MATCH(BVM!EO41,'Floor Space'!$I$5:$I$50,0),MATCH(BVM!EO$10,'Floor Space'!$I$5:$DK$5,0))*BVM!EV41","v":23.784985033786015},189.32836738980455,2231.4156586348886,42.862400000000008,1.0773987387567852E-2,null,null,2016,7239.1768927963294,0,414.02793526608019,{"$f":"INDEX('Floor Space'!$I$5:$DK$50,MATCH(BVM!EZ41,'Floor Space'!$I$5:$I$50,0),MATCH(BVM!EZ$10,'Floor Space'!$I$5:$DK$5,0))*BVM!FG41","v":31.276722765701876},445.30465803178208,7270.4536155620317,42.862400000000008,4.3204805226995102E-3,null,null,2016,3121.8155235299673,0,186.93101357152565,{"$f":"INDEX('Floor Space'!$I$5:$DK$50,MATCH(BVM!FK41,'Floor Space'!$I$5:$I$50,0),MATCH(BVM!FK$10,'Floor Space'!$I$5:$DK$5,0))*BVM!FR41","v":38.802308043142773},225.73332161466843,3160.6178315731099,42.862400000000008,1.2429404540620359E-2,null,null,2016,6969.4523248784881,0,442.42177715172193,{"$f":"INDEX('Floor Space'!$I$5:$DK$50,MATCH(BVM!FV41,'Floor Space'!$I$5:$I$50,0),MATCH(BVM!FV$10,'Floor Space'!$I$5:$DK$5,0))*BVM!GC41","v":134.85171986112857},577.2734970128505,7104.304044739617,42.862400000000008,1.9348969413242934E-2,null,null,2016,9779.7095430887639,0,663.70245874860814,{"$f":"INDEX('Floor Space'!$I$5:$DK$50,MATCH(BVM!GG41,'Floor Space'!$I$5:$I$50,0),MATCH(BVM!GG$10,'Floor Space'!$I$5:$DK$5,0))*BVM!GN41","v":120.28658868958583},783.98904743819401,9899.9961317783491,42.862400000000008,1.2299607484210995E-2,null,null,2016,18749.717045468482,0,1218.1991080637515,{"$f":"INDEX('Floor Space'!$I$5:$DK$50,MATCH(BVM!GR41,'Floor Space'!$I$5:$I$50,0),MATCH(BVM!GR$10,'Floor Space'!$I$5:$DK$5,0))*BVM!GY41","v":98.400185755924852},1316.5992938196764,18848.117231224405,42.862400000000008,5.2480891054142997E-3]
[null,2017,137105.95474354204,0,8811.6207454548221,1646.7243920641149,10458.34513751894,138752.67913560613,42.862400000000008,1.2010597170227344E-2,null,null,2017,12613.332459795618,0,770.21755659278779,{"$f":"INDEX('Floor Space'!$I$5:$DK$54,MATCH(BVM!M42,'Floor Space'!$I$5:$I$54,0),MATCH(BVM!M$10,'Floor Space'!$I$5:$DK$5,0))*BVM!T42","v":155.32585311803882},925.54340971082661,12768.658312913656,42.862400000000008,1.2314418383336134E-2,null,null,2017,5682.8231508355675,0,347.01457174279733,{"$f":"INDEX('Floor Space'!$I$5:$DK$50,MATCH(BVM!X42,'Floor Space'!$I$5:$I$50,0),MATCH(BVM!X$10,'Floor Space'!$I$5:$DK$5,0))*BVM!AE42","v":69.980661877898271},416.99523362069561,5752.803812713466,42.862400000000008,1.2314418383336356E-2,null,null,2017,6668.0594202687962,0,407.17680678482452,{"$f":"INDEX('Floor Space'!$I$5:$DK$50,MATCH(BVM!AI42,'Floor Space'!$I$5:$I$50,0),MATCH(BVM!AI$10,'Floor Space'!$I$5:$DK$5,0))*BVM!AP42","v":82.113273506136437},489.29008029096099,6750.1726937749327,42.862400000000008,1.2314418383336134E-2,null,null,2017,5768.7979708737721,0,359.9825775047363,{"$f":"INDEX('Floor Space'!$I$5:$DK$50,MATCH(BVM!AT42,'Floor Space'!$I$5:$I$50,0),MATCH(BVM!AT$10,'Floor Space'!$I$5:$DK$5,0))*BVM!BA42","v":31.838132990866669},391.82071049560295,5800.6361038646392,42.862400000000008,5.519023746648033E-3,null,null,2017,10654.873693135998,0,664.88182016565759,{"$f":"INDEX('Floor Space'!$I$5:$DK$50,MATCH(BVM!BE42,'Floor Space'!$I$5:$I$50,0),MATCH(BVM!BE$10,'Floor Space'!$I$5:$DK$5,0))*BVM!BL42","v":58.804500929951779},723.6863210956094,10713.678194065949,42.862400000000008,5.5190237466478109E-3,null,null,2017,2663.7184232839995,0,166.2204550414144,{"$f":"INDEX('Floor Space'!$I$5:$DK$50,MATCH(BVM!BP42,'Floor Space'!$I$5:$I$50,0),MATCH(BVM!BP$10,'Floor Space'!$I$5:$DK$5,0))*BVM!BW42","v":14.701125232487945},180.92158027390235,2678.4195485164873,42.862400000000008,5.5190237466478109E-3,null,null,2017,5142.8883915468705,0,320.9247798857852,{"$f":"INDEX('Floor Space'!$I$5:$DK$50,MATCH(BVM!CA42,'Floor Space'!$I$5:$I$50,0),MATCH(BVM!CA$10,'Floor Space'!$I$5:$DK$5,0))*BVM!CH42","v":28.383723159307092},349.30850304509227,5171.2721147061775,42.862400000000008,5.5190237466478109E-3,null,null,2017,11534.22431341865,0,828.2336231313833,{"$f":"INDEX('Floor Space'!$I$5:$DK$50,MATCH(BVM!CL42,'Floor Space'!$I$5:$I$50,0),MATCH(BVM!CL$10,'Floor Space'!$I$5:$DK$5,0))*BVM!CS42","v":129.52324537787354},957.75686850925683,11663.747558796524,42.862400000000008,1.1229471688632753E-2,null,null,2017,5762.6914998749971,0,418.02463627503403,{"$f":"INDEX('Floor Space'!$I$5:$DK$50,MATCH(BVM!CW42,'Floor Space'!$I$5:$I$50,0),MATCH(BVM!CW$10,'Floor Space'!$I$5:$DK$5,0))*BVM!DD42","v":71.892468479414021},489.91710475444802,5834.5839683544109,42.862400000000008,1.247550185203794E-2,null,null,2017,18794.423772914921,0,1061.7088871669173,{"$f":"INDEX('Floor Space'!$I$5:$DK$50,MATCH(BVM!DH42,'Floor Space'!$I$5:$I$50,0),MATCH(BVM!DH$10,'Floor Space'!$I$5:$DK$5,0))*BVM!DO42","v":525.17559541042738},1586.8844825773447,19319.599368325347,42.862400000000008,2.7943160256249433E-2,null,null,2017,2312.4626188851189,0,159.34536923229493,{"$f":"INDEX('Floor Space'!$I$5:$DK$50,MATCH(BVM!DS42,'Floor Space'!$I$5:$I$50,0),MATCH(BVM!DS$10,'Floor Space'!$I$5:$DK$5,0))*BVM!DZ42","v":9.8445701988895795},169.18993943118451,2322.3071890840083,42.862400000000008,4.2571802538522441E-3,null,null,2017,992.75451519533408,0,64.438722370171405,{"$f":"INDEX('Floor Space'!$I$5:$DK$50,MATCH(BVM!ED42,'Floor Space'!$I$5:$I$50,0),MATCH(BVM!ED$10,'Floor Space'!$I$5:$DK$5,0))*BVM!EK42","v":5.5180885296933475},69.956810899864749,998.27260372502747,42.862400000000008,5.5583615538707942E-3,null,null,2017,2231.4156586348886,0,167.73869595543312,{"$f":"INDEX('Floor Space'!$I$5:$DK$50,MATCH(BVM!EO42,'Floor Space'!$I$5:$I$50,0),MATCH(BVM!EO$10,'Floor Space'!$I$5:$DK$5,0))*BVM!EV42","v":20.942782374346134},188.68147832977925,2252.3584410092349,42.862400000000008,9.3854241334661026E-3,null,null,2017,7270.4536155620317,0,447.55623555691398,{"$f":"INDEX('Floor Space'!$I$5:$DK$50,MATCH(BVM!EZ42,'Floor Space'!$I$5:$I$50,0),MATCH(BVM!EZ$10,'Floor Space'!$I$5:$DK$5,0))*BVM!FG42","v":26.605545886735008},474.16178144364898,7297.0591614487666,42.862400000000008,3.6594065918784668E-3,null,null,2017,3160.6178315731099,0,190.58016585713943,{"$f":"INDEX('Floor Space'!$I$5:$DK$50,MATCH(BVM!FK42,'Floor Space'!$I$5:$I$50,0),MATCH(BVM!FK$10,'Floor Space'!$I$5:$DK$5,0))*BVM!FR42","v":42.992794091425097},233.57295994856452,3203.6106256645348,42.862400000000008,1.3602655044829159E-2,null,null,2017,7104.304044739617,0,454.91787405822447,{"$f":"INDEX('Floor Space'!$I$5:$DK$50,MATCH(BVM!FV42,'Floor Space'!$I$5:$I$50,0),MATCH(BVM!FV$10,'Floor Space'!$I$5:$DK$5,0))*BVM!GC42","v":148.43959749583121},603.35747155405568,7252.7436422354485,42.862400000000008,2.0894319353595758E-2,null,null,2017,9899.9961317783491,0,648.45204244044044,{"$f":"INDEX('Floor Space'!$I$5:$DK$50,MATCH(BVM!GG42,'Floor Space'!$I$5:$I$50,0),MATCH(BVM!GG$10,'Floor Space'!$I$5:$DK$5,0))*BVM!GN42","v":121.57827290222964},770.03031534267006,10021.574404680579,42.862400000000008,1.2280638424895018E-2,null,null,2017,18848.117231224405,0,1334.2059256928685,{"$f":"INDEX('Floor Space'!$I$5:$DK$50,MATCH(BVM!GR42,'Floor Space'!$I$5:$I$50,0),MATCH(BVM!GR$10,'Floor Space'!$I$5:$DK$5,0))*BVM!GY42","v":103.06416050256317},1437.2700861954318,18951.181391726968,42.862400000000008,5.4681408884609262E-3]
[null,2018,138752.67913560613,0,8899.8956485075196,1750.4142982245053,10650.309946732028,140503.09343383068,42.862400000000008,1.2615354954795821E-2,null,null,2018,12768.658312913656,0,807.44000776130304,{"$f":"INDEX('Floor Space'!$I$5:$DK$54,MATCH(BVM!M43,'Floor Space'!$I$5:$I$54,0),MATCH(BVM!M$10,'Floor Space'!$I$5:$DK$5,0))*BVM!T43","v":167.60940937998865},975.04941714129166,12936.267722293645,42.862400000000008,1.3126626562673049E-2,null,null,2018,5752.803812713466,0,363.78481132107868,{"$f":"INDEX('Floor Space'!$I$5:$DK$50,MATCH(BVM!X43,'Floor Space'!$I$5:$I$50,0),MATCH(BVM!X$10,'Floor Space'!$I$5:$DK$5,0))*BVM!AE43","v":75.514907337811479},439.29971865889013,5828.3187200512775,42.862400000000008,1.3126626562673049E-2,null,null,2018,6750.1726937749327,0,426.85451820255219,{"$f":"INDEX('Floor Space'!$I$5:$DK$50,MATCH(BVM!AI43,'Floor Space'!$I$5:$I$50,0),MATCH(BVM!AI$10,'Floor Space'!$I$5:$DK$5,0))*BVM!AP43","v":88.606996184736445},515.46151438728862,6838.7796899596688,42.862400000000008,1.3126626562673049E-2,null,null,2018,5800.6361038646392,0,369.94460112908484,{"$f":"INDEX('Floor Space'!$I$5:$DK$50,MATCH(BVM!AT43,'Floor Space'!$I$5:$I$50,0),MATCH(BVM!AT$10,'Floor Space'!$I$5:$DK$5,0))*BVM!BA43","v":31.485956877150183},401.430558006235,5832.122060741789,42.862400000000008,5.4280179472339096E-3,null,null,2018,10713.678194065949,0,683.28151174462869,{"$f":"INDEX('Floor Space'!$I$5:$DK$50,MATCH(BVM!BE43,'Floor Space'!$I$5:$I$50,0),MATCH(BVM!BE$10,'Floor Space'!$I$5:$DK$5,0))*BVM!BL43","v":58.154037518278464},741.4355492629071,10771.832231584227,42.862400000000008,5.4280179472339096E-3,null,null,2018,2678.4195485164873,0,170.82037793615717,{"$f":"INDEX('Floor Space'!$I$5:$DK$50,MATCH(BVM!BP43,'Floor Space'!$I$5:$I$50,0),MATCH(BVM!BP$10,'Floor Space'!$I$5:$DK$5,0))*BVM!BW43","v":14.538509379569616},185.35888731572678,2692.9580578960567,42.862400000000008,5.4280179472339096E-3,null,null,2018,5171.2721147061775,0,329.80593258217931,{"$f":"INDEX('Floor Space'!$I$5:$DK$50,MATCH(BVM!CA43,'Floor Space'!$I$5:$I$50,0),MATCH(BVM!CA$10,'Floor Space'!$I$5:$DK$5,0))*BVM!CH43","v":28.069757848655335},357.87569043083465,5199.3418725548327,42.862400000000008,5.4280179472339096E-3,null,null,2018,11663.747558796524,0,753.68629178591891,{"$f":"INDEX('Floor Space'!$I$5:$DK$50,MATCH(BVM!CL43,'Floor Space'!$I$5:$I$50,0),MATCH(BVM!CL$10,'Floor Space'!$I$5:$DK$5,0))*BVM!CS43","v":135.38060097840392},889.0668927643228,11799.128159774928,42.862400000000008,1.1606955680063757E-2,null,null,2018,5834.5839683544109,0,362.33556576710748,{"$f":"INDEX('Floor Space'!$I$5:$DK$50,MATCH(BVM!CW43,'Floor Space'!$I$5:$I$50,0),MATCH(BVM!CW$10,'Floor Space'!$I$5:$DK$5,0))*BVM!DD43","v":76.101238330142593},438.43680409725005,5910.6852066845531,42.862400000000008,1.3043130194526187E-2,null,null,2018,19319.599368325347,0,1049.0705436279361,{"$f":"INDEX('Floor Space'!$I$5:$DK$50,MATCH(BVM!DH43,'Floor Space'!$I$5:$I$50,0),MATCH(BVM!DH$10,'Floor Space'!$I$5:$DK$5,0))*BVM!DO43","v":580.50686210177503},1629.5774057297112,19900.106230427122,42.862400000000008,3.0047562117334614E-2,null,null,2018,2322.3071890840083,0,163.08305288427184,{"$f":"INDEX('Floor Space'!$I$5:$DK$50,MATCH(BVM!DS43,'Floor Space'!$I$5:$I$50,0),MATCH(BVM!DS$10,'Floor Space'!$I$5:$DK$5,0))*BVM!DZ43","v":10.246571454425261},173.3296243386971,2332.5537605384334,42.862400000000008,4.412237753295134E-3,null,null,2018,998.27260372502747,0,65.950687655459248,{"$f":"INDEX('Floor Space'!$I$5:$DK$50,MATCH(BVM!ED43,'Floor Space'!$I$5:$I$50,0),MATCH(BVM!ED$10,'Floor Space'!$I$5:$DK$5,0))*BVM!EK43","v":4.3662045644299257},70.316892219889169,1002.6388082894574,42.862400000000008,4.3737597807829154E-3,null,null,2018,2252.3584410092349,0,175.45279267021201,{"$f":"INDEX('Floor Space'!$I$5:$DK$50,MATCH(BVM!EO43,'Floor Space'!$I$5:$I$50,0),MATCH(BVM!EO$10,'Floor Space'!$I$5:$DK$5,0))*BVM!EV43","v":19.939457004562229},195.39224967477423,2272.2978980137973,42.862400000000008,8.852701524552975E-3,null,null,2018,7297.0591614487666,0,460.99548985711891,{"$f":"INDEX('Floor Space'!$I$5:$DK$50,MATCH(BVM!EZ43,'Floor Space'!$I$5:$I$50,0),MATCH(BVM!EZ$10,'Floor Space'!$I$5:$DK$5,0))*BVM!FG43","v":27.213509154642065},488.20899901176097,7324.2726706034091,42.862400000000008,3.729380364409618E-3,null,null,2018,3203.6106256645348,0,197.09023116708744,{"$f":"INDEX('Floor Space'!$I$5:$DK$50,MATCH(BVM!FK43,'Floor Space'!$I$5:$I$50,0),MATCH(BVM!FK$10,'Floor Space'!$I$5:$DK$5,0))*BVM!FR43","v":43.44624496212807},240.53647612921552,3247.0568706266631,42.862400000000008,1.3561649663062836E-2,null,null,2018,7252.7436422354485,0,467.65408187939181,{"$f":"INDEX('Floor Space'!$I$5:$DK$50,MATCH(BVM!FV43,'Floor Space'!$I$5:$I$50,0),MATCH(BVM!FV$10,'Floor Space'!$I$5:$DK$5,0))*BVM!GC43","v":154.61145026878168},622.26553214817352,7407.35509250423,42.862400000000008,2.1317649967444119E-2,null,null,2018,10021.574404680579,0,725.78114391944973,{"$f":"INDEX('Floor Space'!$I$5:$DK$50,MATCH(BVM!GG43,'Floor Space'!$I$5:$I$50,0),MATCH(BVM!GG$10,'Floor Space'!$I$5:$DK$5,0))*BVM!GN43","v":129.44873159226142},855.22987551171116,10151.023136272841,42.862400000000008,1.2917005488858324E-2,null,null,2018,18951.181391726968,0,1326.8640066165833,{"$f":"INDEX('Floor Space'!$I$5:$DK$50,MATCH(BVM!GR43,'Floor Space'!$I$5:$I$50,0),MATCH(BVM!GR$10,'Floor Space'!$I$5:$DK$5,0))*BVM!GY43","v":105.17385328676305},1432.0378599033463,19056.355245013732,42.862400000000008,5.5497254293961351E-3]
[null,2019,140503.09343383068,0,9227.3875355476466,1826.2442170767576,11053.631752624402,142329.33765090743,42.862400000000008,1.2997893302162833E-2,null,null,2019,12936.267722293645,0,777.38117613541988,{"$f":"INDEX('Floor Space'!$I$5:$DK$54,MATCH(BVM!M44,'Floor Space'!$I$5:$I$54,0),MATCH(BVM!M$10,'Floor Space'!$I$5:$DK$5,0))*BVM!T44","v":174.57618055011545},951.95735668553539,13110.843902843761,42.862400000000008,1.349509644495539E-2,null,null,2019,5828.3187200512775,0,350.2420759024165,{"$f":"INDEX('Floor Space'!$I$5:$DK$50,MATCH(BVM!X44,'Floor Space'!$I$5:$I$50,0),MATCH(BVM!X$10,'Floor Space'!$I$5:$DK$5,0))*BVM!AE44","v":78.65372323903064},428.89579914144713,5906.9724432903085,42.862400000000008,1.349509644495539E-2,null,null,2019,6838.7796899596688,0,410.96386630511603,{"$f":"INDEX('Floor Space'!$I$5:$DK$50,MATCH(BVM!AI44,'Floor Space'!$I$5:$I$50,0),MATCH(BVM!AI$10,'Floor Space'!$I$5:$DK$5,0))*BVM!AP44","v":92.289991481807505},503.2538577869235,6931.069681441476,42.862400000000008,1.349509644495539E-2,null,null,2019,5832.122060741789,0,401.37903306578602,{"$f":"INDEX('Floor Space'!$I$5:$DK$50,MATCH(BVM!AT44,'Floor Space'!$I$5:$I$50,0),MATCH(BVM!AT$10,'Floor Space'!$I$5:$DK$5,0))*BVM!BA44","v":33.324851900344974},434.703884966131,5865.4469126421336,42.862400000000008,5.7140182515498239E-3,null,null,2019,10771.832231584227,0,741.34038355675762,{"$f":"INDEX('Floor Space'!$I$5:$DK$50,MATCH(BVM!BE44,'Floor Space'!$I$5:$I$50,0),MATCH(BVM!BE$10,'Floor Space'!$I$5:$DK$5,0))*BVM!BL44","v":61.550445973904992},802.89082953066259,10833.382677558133,42.862400000000008,5.7140182515498239E-3,null,null,2019,2692.9580578960567,0,185.3350958891894,{"$f":"INDEX('Floor Space'!$I$5:$DK$50,MATCH(BVM!BP44,'Floor Space'!$I$5:$I$50,0),MATCH(BVM!BP$10,'Floor Space'!$I$5:$DK$5,0))*BVM!BW44","v":15.387611493476248},200.72270738266565,2708.3456693895332,42.862400000000008,5.7140182515498239E-3,null,null,2019,5199.3418725548327,0,357.82975590176142,{"$f":"INDEX('Floor Space'!$I$5:$DK$50,MATCH(BVM!CA44,'Floor Space'!$I$5:$I$50,0),MATCH(BVM!CA$10,'Floor Space'!$I$5:$DK$5,0))*BVM!CH44","v":29.709134355825576},387.53889025758701,5229.0510069106585,42.862400000000008,5.7140182515498239E-3,null,null,2019,11799.128159774928,0,794.87504233180482,{"$f":"INDEX('Floor Space'!$I$5:$DK$50,MATCH(BVM!CL44,'Floor Space'!$I$5:$I$50,0),MATCH(BVM!CL$10,'Floor Space'!$I$5:$DK$5,0))*BVM!CS44","v":132.05389637635886},926.92893870816374,11931.182056151287,42.862400000000008,1.1191835073590672E-2,null,null,2019,5910.6852066845531,0,389.1288636043484,{"$f":"INDEX('Floor Space'!$I$5:$DK$50,MATCH(BVM!CW44,'Floor Space'!$I$5:$I$50,0),MATCH(BVM!CW$10,'Floor Space'!$I$5:$DK$5,0))*BVM!DD44","v":75.699151873765516},464.82801547811391,5986.384358558319,42.862400000000008,1.2807170273279933E-2,null,null,2019,19900.106230427122,0,1210.2068672982405,{"$f":"INDEX('Floor Space'!$I$5:$DK$50,MATCH(BVM!DH44,'Floor Space'!$I$5:$I$50,0),MATCH(BVM!DH$10,'Floor Space'!$I$5:$DK$5,0))*BVM!DO44","v":569.36923514133116},1779.5761024395715,20469.475465568452,42.862400000000008,2.8611366620283185E-2,null,null,2019,2332.5537605384334,0,140.47376769914416,{"$f":"INDEX('Floor Space'!$I$5:$DK$50,MATCH(BVM!DS44,'Floor Space'!$I$5:$I$50,0),MATCH(BVM!DS$10,'Floor Space'!$I$5:$DK$5,0))*BVM!DZ44","v":9.7833693975587028},150.25713709670288,2342.3371299359919,42.862400000000008,4.194273916884983E-3,null,null,2019,1002.6388082894574,0,61.104168789816072,{"$f":"INDEX('Floor Space'!$I$5:$DK$50,MATCH(BVM!ED44,'Floor Space'!$I$5:$I$50,0),MATCH(BVM!ED$10,'Floor Space'!$I$5:$DK$5,0))*BVM!EK44","v":7.5229543376172856},68.62712312743335,1010.1617626270747,42.862400000000008,7.5031549501378692E-3,null,null,2019,2272.2978980137973,0,130.50388440329021,{"$f":"INDEX('Floor Space'!$I$5:$DK$50,MATCH(BVM!EO44,'Floor Space'!$I$5:$I$50,0),MATCH(BVM!EO$10,'Floor Space'!$I$5:$DK$5,0))*BVM!EV44","v":22.382577083621008},152.88646148691123,2294.6804750974184,42.862400000000008,9.8501948636160463E-3,null,null,2019,7324.2726706034091,0,486.68820006152322,{"$f":"INDEX('Floor Space'!$I$5:$DK$50,MATCH(BVM!EZ44,'Floor Space'!$I$5:$I$50,0),MATCH(BVM!EZ$10,'Floor Space'!$I$5:$DK$5,0))*BVM!FG44","v":27.893578452514539},514.58177851403775,7352.1662490559238,42.862400000000008,3.8083752076119026E-3,null,null,2019,3247.0568706266631,0,306.64614579196291,{"$f":"INDEX('Floor Space'!$I$5:$DK$50,MATCH(BVM!FK44,'Floor Space'!$I$5:$I$50,0),MATCH(BVM!FK$10,'Floor Space'!$I$5:$DK$5,0))*BVM!FR44","v":38.714550647007364},345.36069643897025,3285.7714212736705,42.862400000000008,1.1922966609308583E-2,null,null,2019,7407.35509250423,0,505.9490106353594,{"$f":"INDEX('Floor Space'!$I$5:$DK$50,MATCH(BVM!FV44,'Floor Space'!$I$5:$I$50,0),MATCH(BVM!FV$10,'Floor Space'!$I$5:$DK$5,0))*BVM!GC44","v":139.53637692107068},645.48538755643006,7546.8914694253008,42.862400000000008,1.8837543924723255E-2,null,null,2019,10151.023136272841,0,644.92802747803171,{"$f":"INDEX('Floor Space'!$I$5:$DK$50,MATCH(BVM!GG44,'Floor Space'!$I$5:$I$50,0),MATCH(BVM!GG$10,'Floor Space'!$I$5:$DK$5,0))*BVM!GN44","v":218.31947775919875},863.24750523723048,10369.342614032039,42.862400000000008,2.1507140199402475E-2,null,null,2019,19056.355245013732,0,1332.4121706976764,{"$f":"INDEX('Floor Space'!$I$5:$DK$50,MATCH(BVM!GR44,'Floor Space'!$I$5:$I$50,0),MATCH(BVM!GR$10,'Floor Space'!$I$5:$DK$5,0))*BVM!GY44","v":99.477110092208278},1431.8892807898847,19155.83235510594,42.862400000000008,5.2201540542877733E-3]
[null,2020,142329.33765090743,0,9777.2100714076696,1917.4079392548454,11694.618010662514,144246.74559016223,42.862400000000008,1.3471628343817876E-2,null,null,2020,13110.843902843761,0,906.46851842983779,{"$f":"INDEX('Floor Space'!$I$5:$DK$54,MATCH(BVM!M45,'Floor Space'!$I$5:$I$54,0),MATCH(BVM!M$10,'Floor Space'!$I$5:$DK$5,0))*BVM!T45","v":209.56094684270792},1116.0294652725456,13320.404849686469,42.862400000000008,1.5983787801581162E-2,null,null,2020,5906.9724432903085,0,408.40121343477017,{"$f":"INDEX('Floor Space'!$I$5:$DK$50,MATCH(BVM!X45,'Floor Space'!$I$5:$I$50,0),MATCH(BVM!X$10,'Floor Space'!$I$5:$DK$5,0))*BVM!AE45","v":94.415794083339307},502.81700751810945,6001.3882373736478,42.862400000000008,1.5983787801581162E-2,null,null,2020,6931.069681441476,0,479.20610693164303,{"$f":"INDEX('Floor Space'!$I$5:$DK$50,MATCH(BVM!AI45,'Floor Space'!$I$5:$I$50,0),MATCH(BVM!AI$10,'Floor Space'!$I$5:$DK$5,0))*BVM!AP45","v":110.78474702613285},589.99085395777593,7041.8544284676091,42.862400000000008,1.5983787801581162E-2,null,null,2020,5865.4469126421336,0,438.01638568536322,{"$f":"INDEX('Floor Space'!$I$5:$DK$50,MATCH(BVM!AT45,'Floor Space'!$I$5:$I$50,0),MATCH(BVM!AT$10,'Floor Space'!$I$5:$DK$5,0))*BVM!BA45","v":49.369624959280941},487.38601064464416,5914.8165376014149,42.862400000000008,8.4170269878109938E-3,null,null,2020,10833.382677558133,0,809.00896314359909,{"$f":"INDEX('Floor Space'!$I$5:$DK$50,MATCH(BVM!BE45,'Floor Space'!$I$5:$I$50,0),MATCH(BVM!BE$10,'Floor Space'!$I$5:$DK$5,0))*BVM!BL45","v":91.184874366289876},900.19383750988891,10924.567551924423,42.862400000000008,8.4170269878109938E-3,null,null,2020,2708.3456693895332,0,202.25224078589977,{"$f":"INDEX('Floor Space'!$I$5:$DK$50,MATCH(BVM!BP45,'Floor Space'!$I$5:$I$50,0),MATCH(BVM!BP$10,'Floor Space'!$I$5:$DK$5,0))*BVM!BW45","v":22.796218591572469},225.04845937747223,2731.1418879811058,42.862400000000008,8.4170269878109938E-3,null,null,2020,5229.0510069106585,0,390.49198752012637,{"$f":"INDEX('Floor Space'!$I$5:$DK$50,MATCH(BVM!CA45,'Floor Space'!$I$5:$I$50,0),MATCH(BVM!CA$10,'Floor Space'!$I$5:$DK$5,0))*BVM!CH45","v":44.013063445806758},434.50505096593315,5273.064070356465,42.862400000000008,8.4170269878107717E-3,null,null,2020,11931.182056151287,0,801.75208305380454,{"$f":"INDEX('Floor Space'!$I$5:$DK$50,MATCH(BVM!CL45,'Floor Space'!$I$5:$I$50,0),MATCH(BVM!CL$10,'Floor Space'!$I$5:$DK$5,0))*BVM!CS45","v":122.08165479265975},923.83373784646426,12053.263710943947,42.862400000000008,1.0232150864693201E-2,null,null,2020,5986.384358558319,0,384.03153709641299,{"$f":"INDEX('Floor Space'!$I$5:$DK$50,MATCH(BVM!CW45,'Floor Space'!$I$5:$I$50,0),MATCH(BVM!CW$10,'Floor Space'!$I$5:$DK$5,0))*BVM!DD45","v":72.777924919009578},456.80946201542258,6059.1622834773289,42.862400000000008,1.2157242261760848E-2,null,null,2020,20469.475465568452,0,1217.5538729881273,{"$f":"INDEX('Floor Space'!$I$5:$DK$50,MATCH(BVM!DH45,'Floor Space'!$I$5:$I$50,0),MATCH(BVM!DH$10,'Floor Space'!$I$5:$DK$5,0))*BVM!DO45","v":536.04577849246698},1753.5996514805943,21005.521244060918,42.862400000000008,2.6187567893185326E-2,null,null,2020,2342.3371299359919,0,140.88891109282454,{"$f":"INDEX('Floor Space'!$I$5:$DK$50,MATCH(BVM!DS45,'Floor Space'!$I$5:$I$50,0),MATCH(BVM!DS$10,'Floor Space'!$I$5:$DK$5,0))*BVM!DZ45","v":9.2574793875428938},150.14639048036744,2351.5946093235348,42.862400000000008,3.9522403795886341E-3,null,null,2020,1010.1617626270747,0,61.356638806483225,{"$f":"INDEX('Floor Space'!$I$5:$DK$50,MATCH(BVM!ED45,'Floor Space'!$I$5:$I$50,0),MATCH(BVM!ED$10,'Floor Space'!$I$5:$DK$5,0))*BVM!EK45","v":12.296330572330097},73.652969378813324,1022.4580931994049,42.862400000000008,1.2172635143456345E-2,null,null,2020,2294.6804750974184,0,131.52909771585803,{"$f":"INDEX('Floor Space'!$I$5:$DK$50,MATCH(BVM!EO45,'Floor Space'!$I$5:$I$50,0),MATCH(BVM!EO$10,'Floor Space'!$I$5:$DK$5,0))*BVM!EV45","v":27.191518631298312},158.72061634715635,2321.8719937287165,42.862400000000008,1.1849806073825464E-2,null,null,2020,7352.1662490559238,0,522.74657406364236,{"$f":"INDEX('Floor Space'!$I$5:$DK$50,MATCH(BVM!EZ45,'Floor Space'!$I$5:$I$50,0),MATCH(BVM!EZ$10,'Floor Space'!$I$5:$DK$5,0))*BVM!FG45","v":42.72123616718833},565.46781023083065,7394.887485223112,42.862400000000008,5.810700509210287E-3,null,null,2020,3285.7714212736705,0,199.98655473419774,{"$f":"INDEX('Floor Space'!$I$5:$DK$50,MATCH(BVM!FK45,'Floor Space'!$I$5:$I$50,0),MATCH(BVM!FK$10,'Floor Space'!$I$5:$DK$5,0))*BVM!FR45","v":41.763862350666876},241.75041708486461,3327.5352836243374,42.862400000000008,1.2710519691134792E-2,null,null,2020,7546.8914694253008,0,497.04013411747076,{"$f":"INDEX('Floor Space'!$I$5:$DK$50,MATCH(BVM!FV45,'Floor Space'!$I$5:$I$50,0),MATCH(BVM!FV$10,'Floor Space'!$I$5:$DK$5,0))*BVM!GC45","v":139.17416622955793},636.21430034702871,7686.0656356548589,42.862400000000008,1.8441257144533374E-2,null,null,2020,10369.342614032039,0,684.06082980285839,{"$f":"INDEX('Floor Space'!$I$5:$DK$50,MATCH(BVM!GG45,'Floor Space'!$I$5:$I$50,0),MATCH(BVM!GG$10,'Floor Space'!$I$5:$DK$5,0))*BVM!GN45","v":196.18750225758046},880.24833206043888,10565.530116289619,42.862400000000008,1.8919955638469821E-2,null,null,2020,19155.83235510594,0,1502.4184220047503,{"$f":"INDEX('Floor Space'!$I$5:$DK$50,MATCH(BVM!GR45,'Floor Space'!$I$5:$I$50,0),MATCH(BVM!GR$10,'Floor Space'!$I$5:$DK$5,0))*BVM!GY45","v":95.785216139413905},1598.2036381441642,19251.617571245355,42.862400000000008,5.0003160585128104E-3]
[null,2021,144246.74559016223,0,9724.3010530799511,1842.3078277440102,11566.608880823962,146089.05341790625,42.862400000000008,1.2771919534174003E-2,null,null,2021,13320.404849686469,0,856.78212801125233,{"$f":"INDEX('Floor Space'!$I$5:$DK$54,MATCH(BVM!M46,'Floor Space'!$I$5:$I$54,0),MATCH(BVM!M$10,'Floor Space'!$I$5:$DK$5,0))*BVM!T46","v":175.48376478254283},1032.265892793795,13495.888614469011,42.862400000000008,1.317405640164715E-2,null,null,2021,6001.3882373736478,0,386.01545846857084,{"$f":"INDEX('Floor Space'!$I$5:$DK$50,MATCH(BVM!X46,'Floor Space'!$I$5:$I$50,0),MATCH(BVM!X$10,'Floor Space'!$I$5:$DK$5,0))*BVM!AE46","v":79.062627127341784},465.07808559591263,6080.4508645009901,42.862400000000008,1.317405640164715E-2,null,null,2021,7041.8544284676091,0,452.93931306524468,{"$f":"INDEX('Floor Space'!$I$5:$DK$50,MATCH(BVM!AI46,'Floor Space'!$I$5:$I$50,0),MATCH(BVM!AI$10,'Floor Space'!$I$5:$DK$5,0))*BVM!AP46","v":92.769787412820563},545.70910047806524,7134.6242158804298,42.862400000000008,1.317405640164715E-2,null,null,2021,5914.8165376014149,0,424.45200425948144,{"$f":"INDEX('Floor Space'!$I$5:$DK$50,MATCH(BVM!AT46,'Floor Space'!$I$5:$I$50,0),MATCH(BVM!AT$10,'Floor Space'!$I$5:$DK$5,0))*BVM!BA46","v":54.180781530496716},478.63278578997813,5968.9973191319114,42.862400000000008,9.1601795568909683E-3,null,null,2021,10924.567551924423,0,783.95577675225798,{"$f":"INDEX('Floor Space'!$I$5:$DK$50,MATCH(BVM!BE46,'Floor Space'!$I$5:$I$50,0),MATCH(BVM!BE$10,'Floor Space'!$I$5:$DK$5,0))*BVM!BL46","v":100.07100035701181},884.0267771092698,11024.638552281434,42.862400000000008,9.1601795568907463E-3,null,null,2021,2731.1418879811058,0,195.98894418806449,{"$f":"INDEX('Floor Space'!$I$5:$DK$50,MATCH(BVM!BP46,'Floor Space'!$I$5:$I$50,0),MATCH(BVM!BP$10,'Floor Space'!$I$5:$DK$5,0))*BVM!BW46","v":25.017750089252953},221.00669427731745,2756.1596380703586,42.862400000000008,9.1601795568907463E-3,null,null,2021,5273.064070356465,0,378.39932972106749,{"$f":"INDEX('Floor Space'!$I$5:$DK$50,MATCH(BVM!CA46,'Floor Space'!$I$5:$I$50,0),MATCH(BVM!CA$10,'Floor Space'!$I$5:$DK$5,0))*BVM!CH46","v":48.302213699455237},426.70154342052274,5321.36628405592,42.862400000000008,9.1601795568909683E-3,null,null,2021,12053.263710943947,0,831.61403156684196,{"$f":"INDEX('Floor Space'!$I$5:$DK$50,MATCH(BVM!CL46,'Floor Space'!$I$5:$I$50,0),MATCH(BVM!CL$10,'Floor Space'!$I$5:$DK$5,0))*BVM!CS46","v":87.472339084015246},919.08637065085725,12140.736050027963,42.862400000000008,7.257149696691112E-3,null,null,2021,6059.1622834773289,0,398.19414974009544,{"$f":"INDEX('Floor Space'!$I$5:$DK$50,MATCH(BVM!CW46,'Floor Space'!$I$5:$I$50,0),MATCH(BVM!CW$10,'Floor Space'!$I$5:$DK$5,0))*BVM!DD46","v":58.465580452155386},456.65973019225083,6117.6278639294842,42.862400000000008,9.6491194189640694E-3,null,null,2021,21005.521244060918,0,1224.6210110177435,{"$f":"INDEX('Floor Space'!$I$5:$DK$50,MATCH(BVM!DH46,'Floor Space'!$I$5:$I$50,0),MATCH(BVM!DH$10,'Floor Space'!$I$5:$DK$5,0))*BVM!DO46","v":552.49367874426798},1777.1146897620115,21558.014922805185,42.862400000000008,2.6302307489773913E-2,null,null,2021,2351.5946093235348,0,141.23407619839284,{"$f":"INDEX('Floor Space'!$I$5:$DK$50,MATCH(BVM!DS46,'Floor Space'!$I$5:$I$50,0),MATCH(BVM!DS$10,'Floor Space'!$I$5:$DK$5,0))*BVM!DZ46","v":9.6643477015086177},150.89842389990145,2361.2589570250434,42.862400000000008,4.1096997174563388E-3,null,null,2021,1022.4580931994049,0,61.966894411516471,{"$f":"INDEX('Floor Space'!$I$5:$DK$50,MATCH(BVM!ED46,'Floor Space'!$I$5:$I$50,0),MATCH(BVM!ED$10,'Floor Space'!$I$5:$DK$5,0))*BVM!EK46","v":10.263204245581852},72.230098657098324,1032.7212974449867,42.862400000000008,1.0037774960015122E-2,null,null,2021,2321.8719937287165,0,132.38135383069061,{"$f":"INDEX('Floor Space'!$I$5:$DK$50,MATCH(BVM!EO46,'Floor Space'!$I$5:$I$50,0),MATCH(BVM!EO$10,'Floor Space'!$I$5:$DK$5,0))*BVM!EV46","v":25.218944341477922},157.60029817216855,2347.0909380701942,42.862400000000008,1.0861470576152721E-2,null,null,2021,7394.887485223112,0,528.26801292118262,{"$f":"INDEX('Floor Space'!$I$5:$DK$50,MATCH(BVM!EZ46,'Floor Space'!$I$5:$I$50,0),MATCH(BVM!EZ$10,'Floor Space'!$I$5:$DK$5,0))*BVM!FG46","v":30.925154613388639},559.19316753457122,7425.8126398365002,42.862400000000008,4.1819641847404831E-3,null,null,2021,3327.5352836243374,0,230.10902773641232,{"$f":"INDEX('Floor Space'!$I$5:$DK$50,MATCH(BVM!FK46,'Floor Space'!$I$5:$I$50,0),MATCH(BVM!FK$10,'Floor Space'!$I$5:$DK$5,0))*BVM!FR46","v":29.871940692104754},259.98096842851709,3357.4072243164419,42.862400000000008,8.9771972784518095E-3,null,null,2021,7686.0656356548589,0,477.79838520464733,{"$f":"INDEX('Floor Space'!$I$5:$DK$50,MATCH(BVM!FV46,'Floor Space'!$I$5:$I$50,0),MATCH(BVM!FV$10,'Floor Space'!$I$5:$DK$5,0))*BVM!GC46","v":137.8287319875252},615.62711719217259,7823.8943676423842,42.862400000000008,1.7932286623751015E-2,null,null,2021,10565.530116289619,0,703.13903653809166,{"$f":"INDEX('Floor Space'!$I$5:$DK$50,MATCH(BVM!GG46,'Floor Space'!$I$5:$I$50,0),MATCH(BVM!GG$10,'Floor Space'!$I$5:$DK$5,0))*BVM!GN46","v":219.4355389869238},922.57457552501546,10784.965655276543,42.862400000000008,2.0769004164647109E-2,null,null,2021,19251.617571245355,0,1516.4421194483987,{"$f":"INDEX('Floor Space'!$I$5:$DK$50,MATCH(BVM!GR46,'Floor Space'!$I$5:$I$50,0),MATCH(BVM!GR$10,'Floor Space'!$I$5:$DK$5,0))*BVM!GY46","v":105.78044189613897},1622.2225613445376,19357.398013141494,42.862400000000008,5.4946261790560502E-3]
[null,2022,146089.05341790625,0,9827.5701215865829,1810.2667237581882,11637.836845344769,147899.32014166447,42.862400000000008,1.2391528875060454E-2,null,null,2022,13495.888614469011,0,877.44581503266397,{"$f":"INDEX('Floor Space'!$I$5:$DK$54,MATCH(BVM!M47,'Floor Space'!$I$5:$I$54,0),MATCH(BVM!M$10,'Floor Space'!$I$5:$DK$5,0))*BVM!T47","v":188.1921446364405},1065.6379596691045,13684.080759105453,42.862400000000008,1.3944405589912723E-2,null,null,2022,6080.4508645009901,0,395.32529624230716,{"$f":"INDEX('Floor Space'!$I$5:$DK$50,MATCH(BVM!X47,'Floor Space'!$I$5:$I$50,0),MATCH(BVM!X$10,'Floor Space'!$I$5:$DK$5,0))*BVM!AE47","v":84.788273024136956},480.11356926644413,6165.2391375251273,42.862400000000008,1.3944405589912723E-2,null,null,2022,7134.6242158804298,0,463.86320596506317,{"$f":"INDEX('Floor Space'!$I$5:$DK$50,MATCH(BVM!AI47,'Floor Space'!$I$5:$I$50,0),MATCH(BVM!AI$10,'Floor Space'!$I$5:$DK$5,0))*BVM!AP47","v":99.488093797849444},563.35129976291262,7234.1123096782794,42.862400000000008,1.3944405589912723E-2,null,null,2022,5968.9973191319114,0,423.72670702718983,{"$f":"INDEX('Floor Space'!$I$5:$DK$50,MATCH(BVM!AT47,'Floor Space'!$I$5:$I$50,0),MATCH(BVM!AT$10,'Floor Space'!$I$5:$DK$5,0))*BVM!BA47","v":46.038727169578799},469.76543419676864,6015.0360463014904,42.862400000000008,7.7129750120703555E-3,null,null,2022,11024.638552281434,0,782.61616485406614,{"$f":"INDEX('Floor Space'!$I$5:$DK$50,MATCH(BVM!BE47,'Floor Space'!$I$5:$I$50,0),MATCH(BVM!BE$10,'Floor Space'!$I$5:$DK$5,0))*BVM!BL47","v":85.032761670853148},867.64892652491926,11109.671313952287,42.862400000000008,7.7129750120701335E-3,null,null,2022,2756.1596380703586,0,195.65404121351654,{"$f":"INDEX('Floor Space'!$I$5:$DK$50,MATCH(BVM!BP47,'Floor Space'!$I$5:$I$50,0),MATCH(BVM!BP$10,'Floor Space'!$I$5:$DK$5,0))*BVM!BW47","v":21.258190417713287},216.91223163122982,2777.4178284880718,42.862400000000008,7.7129750120701335E-3,null,null,2022,5321.36628405592,0,377.75272660977697,{"$f":"INDEX('Floor Space'!$I$5:$DK$50,MATCH(BVM!CA47,'Floor Space'!$I$5:$I$50,0),MATCH(BVM!CA$10,'Floor Space'!$I$5:$DK$5,0))*BVM!CH47","v":41.043565178996481},418.79629178877343,5362.4098492349167,42.862400000000008,7.7129750120703555E-3,null,null,2022,12140.736050027963,0,868.98361956712279,{"$f":"INDEX('Floor Space'!$I$5:$DK$50,MATCH(BVM!CL47,'Floor Space'!$I$5:$I$50,0),MATCH(BVM!CL$10,'Floor Space'!$I$5:$DK$5,0))*BVM!CS47","v":78.029013252955636},947.01263282007847,12218.765063280918,42.862400000000008,6.4270414027143286E-3,null,null,2022,6117.6278639294842,0,414.76870709682913,{"$f":"INDEX('Floor Space'!$I$5:$DK$50,MATCH(BVM!CW47,'Floor Space'!$I$5:$I$50,0),MATCH(BVM!CW$10,'Floor Space'!$I$5:$DK$5,0))*BVM!DD47","v":52.576103090810435},467.34481018763955,6170.2039670202948,42.862400000000008,8.5941976629222427E-3,null,null,2022,21558.014922805185,0,1234.1172640431744,{"$f":"INDEX('Floor Space'!$I$5:$DK$50,MATCH(BVM!DH47,'Floor Space'!$I$5:$I$50,0),MATCH(BVM!DH$10,'Floor Space'!$I$5:$DK$5,0))*BVM!DO47","v":587.5912640595883},1821.7085281027626,22145.606186864774,42.862400000000008,2.7256278751250251E-2,null,null,2022,2361.2589570250434,0,141.97986960267514,{"$f":"INDEX('Floor Space'!$I$5:$DK$50,MATCH(BVM!DS47,'Floor Space'!$I$5:$I$50,0),MATCH(BVM!DS$10,'Floor Space'!$I$5:$DK$5,0))*BVM!DZ47","v":9.6121262075833798},151.59199581025851,2370.8710832326269,42.862400000000008,4.0707632591445719E-3,null,null,2022,1032.7212974449867,0,63.111091336906973,{"$f":"INDEX('Floor Space'!$I$5:$DK$50,MATCH(BVM!ED47,'Floor Space'!$I$5:$I$50,0),MATCH(BVM!ED$10,'Floor Space'!$I$5:$DK$5,0))*BVM!EK47","v":9.6843241634756314},72.795415500382603,1042.4056216084623,42.862400000000008,9.3774808241440244E-3,null,null,2022,2347.0909380701942,0,134.22364356815001,{"$f":"INDEX('Floor Space'!$I$5:$DK$50,MATCH(BVM!EO47,'Floor Space'!$I$5:$I$50,0),MATCH(BVM!EO$10,'Floor Space'!$I$5:$DK$5,0))*BVM!EV47","v":22.403836876133212},156.62748044428321,2369.4947749463272,42.862400000000008,9.5453638002427343E-3,null,null,2022,7425.8126398365002,0,515.91216464255854,{"$f":"INDEX('Floor Space'!$I$5:$DK$50,MATCH(BVM!EZ47,'Floor Space'!$I$5:$I$50,0),MATCH(BVM!EZ$10,'Floor Space'!$I$5:$DK$5,0))*BVM!FG47","v":28.815596731537006},544.72776137409551,7454.6282365680372,42.862400000000008,3.8804637457390267E-3,null,null,2022,3357.4072243164419,0,231.72755223022699,{"$f":"INDEX('Floor Space'!$I$5:$DK$50,MATCH(BVM!FK47,'Floor Space'!$I$5:$I$50,0),MATCH(BVM!FK$10,'Floor Space'!$I$5:$DK$5,0))*BVM!FR47","v":27.881825679630893},259.60937790985787,3385.2890499960727,42.862400000000008,8.304570704945613E-3,null,null,2022,7823.8943676423842,0,490.96919136959315,{"$f":"INDEX('Floor Space'!$I$5:$DK$50,MATCH(BVM!FV47,'Floor Space'!$I$5:$I$50,0),MATCH(BVM!FV$10,'Floor Space'!$I$5:$DK$5,0))*BVM!GC47","v":121.83234155514619},612.80153292473938,7945.72670919753,42.862400000000008,1.557182853324468E-2,null,null,2022,10784.965655276543,0,705.22258229912507,{"$f":"INDEX('Floor Space'!$I$5:$DK$50,MATCH(BVM!GG47,'Floor Space'!$I$5:$I$50,0),MATCH(BVM!GG$10,'Floor Space'!$I$5:$DK$5,0))*BVM!GN47","v":202.30462058242182},907.52720288154683,10987.270275858964,42.862400000000008,1.8758021772971034E-2,null,null,2022,19357.398013141494,0,1510.1704788856368,{"$f":"INDEX('Floor Space'!$I$5:$DK$50,MATCH(BVM!GR47,'Floor Space'!$I$5:$I$50,0),MATCH(BVM!GR$10,'Floor Space'!$I$5:$DK$5,0))*BVM!GY47","v":103.69391566333694},1613.8643945489737,19461.091928804832,42.862400000000008,5.3568106412309469E-3]
[null,2023,147899.32014166447,0,9887.9485862616748,1786.0805445061249,11674.0291307678,149685.40068617061,42.862400000000008,1.2076326941836912E-2,null,null,2023,13684.080759105453,0,874.23798432784042,{"$f":"INDEX('Floor Space'!$I$5:$DK$54,MATCH(BVM!M48,'Floor Space'!$I$5:$I$54,0),MATCH(BVM!M$10,'Floor Space'!$I$5:$DK$5,0))*BVM!T48","v":196.29395342356034},1070.5319377514008,13880.374712529014,42.862400000000008,1.4344694165367766E-2,null,null,2023,6165.2391375251273,0,393.88003705712049,{"$f":"INDEX('Floor Space'!$I$5:$DK$50,MATCH(BVM!X48,'Floor Space'!$I$5:$I$50,0),MATCH(BVM!X$10,'Floor Space'!$I$5:$DK$5,0))*BVM!AE48","v":88.438469884153236},482.31850694127371,6253.6776074092804,42.862400000000008,1.4344694165367766E-2,null,null,2023,7234.1123096782794,0,462.16738086744476,{"$f":"INDEX('Floor Space'!$I$5:$DK$50,MATCH(BVM!AI48,'Floor Space'!$I$5:$I$50,0),MATCH(BVM!AI$10,'Floor Space'!$I$5:$DK$5,0))*BVM!AP48","v":103.77112864025668},565.93850950770138,7337.8834383185358,42.862400000000008,1.4344694165367766E-2,null,null,2023,6015.0360463014904,0,427.22941124967087,{"$f":"INDEX('Floor Space'!$I$5:$DK$50,MATCH(BVM!AT48,'Floor Space'!$I$5:$I$50,0),MATCH(BVM!AT$10,'Floor Space'!$I$5:$DK$5,0))*BVM!BA48","v":44.021747963044085},471.25115921271498,6059.0577942645341,42.862400000000008,7.3186174819537264E-3,null,null,2023,11109.671313952287,0,789.0856011670345,{"$f":"INDEX('Floor Space'!$I$5:$DK$50,MATCH(BVM!BE48,'Floor Space'!$I$5:$I$50,0),MATCH(BVM!BE$10,'Floor Space'!$I$5:$DK$5,0))*BVM!BL48","v":81.307434697051363},870.39303586408585,11190.978748649339,42.862400000000008,7.3186174819537264E-3,null,null,2023,2777.4178284880718,0,197.27140029175862,{"$f":"INDEX('Floor Space'!$I$5:$DK$50,MATCH(BVM!BP48,'Floor Space'!$I$5:$I$50,0),MATCH(BVM!BP$10,'Floor Space'!$I$5:$DK$5,0))*BVM!BW48","v":20.326858674262841},217.59825896602146,2797.7446871623347,42.862400000000008,7.3186174819537264E-3,null,null,2023,5362.4098492349167,0,380.87539046033498,{"$f":"INDEX('Floor Space'!$I$5:$DK$50,MATCH(BVM!CA48,'Floor Space'!$I$5:$I$50,0),MATCH(BVM!CA$10,'Floor Space'!$I$5:$DK$5,0))*BVM!CH48","v":39.245426468011665},420.12081692834664,5401.6552757029285,42.862400000000008,7.3186174819537264E-3,null,null,2023,12218.765063280918,0,873.92440951716401,{"$f":"INDEX('Floor Space'!$I$5:$DK$50,MATCH(BVM!CL48,'Floor Space'!$I$5:$I$50,0),MATCH(BVM!CL$10,'Floor Space'!$I$5:$DK$5,0))*BVM!CS48","v":78.990749624358372},952.91515914152239,12297.755812905276,42.862400000000008,6.4647081120936534E-3,null,null,2023,6170.2039670202948,0,415.93249383155154,{"$f":"INDEX('Floor Space'!$I$5:$DK$50,MATCH(BVM!CW48,'Floor Space'!$I$5:$I$50,0),MATCH(BVM!CW$10,'Floor Space'!$I$5:$DK$5,0))*BVM!DD48","v":51.572032012476363},467.50452584402791,6221.7759990327713,42.862400000000008,8.3582377970208288E-3,null,null,2023,22145.606186864774,0,1241.9365177654718,{"$f":"INDEX('Floor Space'!$I$5:$DK$50,MATCH(BVM!DH48,'Floor Space'!$I$5:$I$50,0),MATCH(BVM!DH$10,'Floor Space'!$I$5:$DK$5,0))*BVM!DO48","v":567.15192517375033},1809.0884429392222,22712.758112038526,42.862400000000008,2.5610133242148336E-2,null,null,2023,2370.8710832326269,0,141.60526592136901,{"$f":"INDEX('Floor Space'!$I$5:$DK$50,MATCH(BVM!DS48,'Floor Space'!$I$5:$I$50,0),MATCH(BVM!DS$10,'Floor Space'!$I$5:$DK$5,0))*BVM!DZ48","v":9.5482985293196325},151.15356445068863,2380.4193817619466,42.862400000000008,4.0273377143311695E-3,null,null,2023,1042.4056216084623,0,62.686417408883315,{"$f":"INDEX('Floor Space'!$I$5:$DK$50,MATCH(BVM!ED48,'Floor Space'!$I$5:$I$50,0),MATCH(BVM!ED$10,'Floor Space'!$I$5:$DK$5,0))*BVM!EK48","v":9.5582246369725219},72.244642045855841,1051.9638462454348,42.862400000000008,9.1693909154324515E-3,null,null,2023,2369.4947749463272,0,133.29709610990668,{"$f":"INDEX('Floor Space'!$I$5:$DK$50,MATCH(BVM!EO48,'Floor Space'!$I$5:$I$50,0),MATCH(BVM!EO$10,'Floor Space'!$I$5:$DK$5,0))*BVM!EV48","v":22.453304827134247},155.75040093704092,2391.9480797734614,42.862400000000008,9.4759883265169709E-3,null,null,2023,7454.6282365680372,0,511.97726819923253,{"$f":"INDEX('Floor Space'!$I$5:$DK$50,MATCH(BVM!EZ48,'Floor Space'!$I$5:$I$50,0),MATCH(BVM!EZ$10,'Floor Space'!$I$5:$DK$5,0))*BVM!FG48","v":29.012700674604769},540.98996887383726,7483.6409372426424,42.862400000000008,3.8919044322405227E-3,null,null,2023,3385.2890499960727,0,241.19402807072498,{"$f":"INDEX('Floor Space'!$I$5:$DK$50,MATCH(BVM!FK48,'Floor Space'!$I$5:$I$50,0),MATCH(BVM!FK$10,'Floor Space'!$I$5:$DK$5,0))*BVM!FR48","v":27.913506778873494},269.10753484959849,3413.2025567749461,42.862400000000008,8.245531287470298E-3,null,null,2023,7945.72670919753,0,504.71775783933765,{"$f":"INDEX('Floor Space'!$I$5:$DK$50,MATCH(BVM!FV48,'Floor Space'!$I$5:$I$50,0),MATCH(BVM!FV$10,'Floor Space'!$I$5:$DK$5,0))*BVM!GC48","v":118.82833606440198},623.54609390373957,8064.5550452619318,42.862400000000008,1.495499913517695E-2,null,null,2023,10987.270275858964,0,727.28152302321269,{"$f":"INDEX('Floor Space'!$I$5:$DK$50,MATCH(BVM!GG48,'Floor Space'!$I$5:$I$50,0),MATCH(BVM!GG$10,'Floor Space'!$I$5:$DK$5,0))*BVM!GN48","v":194.09167617733272},921.3731992005454,11181.361952036297,42.862400000000008,1.7665140776939703E-2,null,null,2023,19461.091928804832,0,1508.6486031536178,{"$f":"INDEX('Floor Space'!$I$5:$DK$50,MATCH(BVM!GR48,'Floor Space'!$I$5:$I$50,0),MATCH(BVM!GR$10,'Floor Space'!$I$5:$DK$5,0))*BVM!GY48","v":103.55477025656033},1612.2033734101781,19564.646699061392,42.862400000000008,5.3211181898424886E-3]
[null,2024,149685.40068617061,0,9109.6186604368213,1779.9147770890918,10889.533437525914,151465.3154632597,42.862400000000008,1.1891037929750103E-2,null,null,2024,13880.374712529014,0,843.52237704986055,{"$f":"INDEX('Floor Space'!$I$5:$DK$54,MATCH(BVM!M49,'Floor Space'!$I$5:$I$54,0),MATCH(BVM!M$10,'Floor Space'!$I$5:$DK$5,0))*BVM!T49","v":209.53217801329549},1053.0545550631559,14089.90689054231,42.862400000000008,1.5095570714251938E-2,null,null,2024,6253.6776074092804,0,380.04139729339028,{"$f":"INDEX('Floor Space'!$I$5:$DK$50,MATCH(BVM!X49,'Floor Space'!$I$5:$I$50,0),MATCH(BVM!X$10,'Floor Space'!$I$5:$DK$5,0))*BVM!AE49","v":94.402832546780374},474.44422984017064,6348.0804399560611,42.862400000000008,1.5095570714251938E-2,null,null,2024,7337.8834383185358,0,445.92952341684293,{"$f":"INDEX('Floor Space'!$I$5:$DK$50,MATCH(BVM!AI49,'Floor Space'!$I$5:$I$50,0),MATCH(BVM!AI$10,'Floor Space'!$I$5:$DK$5,0))*BVM!AP49","v":110.76953833607531},556.69906175291828,7448.6529766546109,42.862400000000008,1.5095570714251938E-2,null,null,2024,6059.0577942645341,0,376.36049143488509,{"$f":"INDEX('Floor Space'!$I$5:$DK$50,MATCH(BVM!AT49,'Floor Space'!$I$5:$I$50,0),MATCH(BVM!AT$10,'Floor Space'!$I$5:$DK$5,0))*BVM!BA49","v":41.510067538389684},417.8705589732748,6100.5678618029242,42.862400000000008,6.8509113046724135E-3,null,null,2024,11190.978748649339,0,695.13155419410646,{"$f":"INDEX('Floor Space'!$I$5:$DK$50,MATCH(BVM!BE49,'Floor Space'!$I$5:$I$50,0),MATCH(BVM!BE$10,'Floor Space'!$I$5:$DK$5,0))*BVM!BL49","v":76.668402819469179},771.79995701357564,11267.647151468807,42.862400000000008,6.8509113046721914E-3,null,null,2024,2797.7446871623347,0,173.78288854852661,{"$f":"INDEX('Floor Space'!$I$5:$DK$50,MATCH(BVM!BP49,'Floor Space'!$I$5:$I$50,0),MATCH(BVM!BP$10,'Floor Space'!$I$5:$DK$5,0))*BVM!BW49","v":19.167100704867295},192.94998925339391,2816.9117878672018,42.862400000000008,6.8509113046721914E-3,null,null,2024,5401.6552757029285,0,335.52570435122595,{"$f":"INDEX('Floor Space'!$I$5:$DK$50,MATCH(BVM!CA49,'Floor Space'!$I$5:$I$50,0),MATCH(BVM!CA$10,'Floor Space'!$I$5:$DK$5,0))*BVM!CH49","v":37.006261192255941},372.53196554348187,5438.6615368951843,42.862400000000008,6.8509113046721914E-3,null,null,2024,12297.755812905276,0,692.59006940282893,{"$f":"INDEX('Floor Space'!$I$5:$DK$50,MATCH(BVM!CL49,'Floor Space'!$I$5:$I$50,0),MATCH(BVM!CL$10,'Floor Space'!$I$5:$DK$5,0))*BVM!CS49","v":79.197735052710087},771.787804455539,12376.953547957986,42.862400000000008,6.4400152562469337E-3,null,null,2024,6221.7759990327713,0,354.74668163974673,{"$f":"INDEX('Floor Space'!$I$5:$DK$50,MATCH(BVM!CW49,'Floor Space'!$I$5:$I$50,0),MATCH(BVM!CW$10,'Floor Space'!$I$5:$DK$5,0))*BVM!DD49","v":52.479741449750499},407.22642308949725,6274.255740482522,42.862400000000008,8.4348490620538286E-3,null,null,2024,22712.758112038526,0,1263.6165157656069,{"$f":"INDEX('Floor Space'!$I$5:$DK$50,MATCH(BVM!DH49,'Floor Space'!$I$5:$I$50,0),MATCH(BVM!DH$10,'Floor Space'!$I$5:$DK$5,0))*BVM!DO49","v":553.46684977184066},1817.0833655374477,23266.224961810367,42.862400000000008,2.4368103910660022E-2,null,null,2024,2380.4193817619466,0,156.89546903490734,{"$f":"INDEX('Floor Space'!$I$5:$DK$50,MATCH(BVM!DS49,'Floor Space'!$I$5:$I$50,0),MATCH(BVM!DS$10,'Floor Space'!$I$5:$DK$5,0))*BVM!DZ49","v":9.5205715460048683},166.41604058091221,2389.9399533079513,42.862400000000008,3.9995353839530345E-3,null,null,2024,1051.9638462454348,0,61.996247384256336,{"$f":"INDEX('Floor Space'!$I$5:$DK$50,MATCH(BVM!ED49,'Floor Space'!$I$5:$I$50,0),MATCH(BVM!ED$10,'Floor Space'!$I$5:$DK$5,0))*BVM!EK49","v":9.6214335538265559},71.617680938082884,1061.5852797992613,42.862400000000008,9.1461637091108106E-3,null,null,2024,2391.9480797734614,0,160.20156213023949,{"$f":"INDEX('Floor Space'!$I$5:$DK$50,MATCH(BVM!EO49,'Floor Space'!$I$5:$I$50,0),MATCH(BVM!EO$10,'Floor Space'!$I$5:$DK$5,0))*BVM!EV49","v":21.643016665206403},181.8445787954459,2413.5910964386676,42.862400000000008,9.0482802901206139E-3,null,null,2024,7483.6409372426424,0,477.22082527020325,{"$f":"INDEX('Floor Space'!$I$5:$DK$50,MATCH(BVM!EZ49,'Floor Space'!$I$5:$I$50,0),MATCH(BVM!EZ$10,'Floor Space'!$I$5:$DK$5,0))*BVM!FG49","v":28.442060215792196},505.66288548599545,7512.0829974584349,42.862400000000008,3.8005645185685832E-3,null,null,2024,3413.2025567749461,0,199.58388874471058,{"$f":"INDEX('Floor Space'!$I$5:$DK$50,MATCH(BVM!FK49,'Floor Space'!$I$5:$I$50,0),MATCH(BVM!FK$10,'Floor Space'!$I$5:$DK$5,0))*BVM!FR49","v":27.429312214094761},227.01320095880533,3440.6318689890409,42.862400000000008,8.0362392087307555E-3,null,null,2024,8064.5550452619318,0,471.49993319054408,{"$f":"INDEX('Floor Space'!$I$5:$DK$50,MATCH(BVM!FV49,'Floor Space'!$I$5:$I$50,0),MATCH(BVM!FV$10,'Floor Space'!$I$5:$DK$5,0))*BVM!GC49","v":117.25880686584821},588.7587400563923,8181.8138521277797,42.862400000000008,1.4540021886854104E-2,null,null,2024,11181.361952036297,0,773.55895494979256,{"$f":"INDEX('Floor Space'!$I$5:$DK$50,MATCH(BVM!GG49,'Floor Space'!$I$5:$I$50,0),MATCH(BVM!GG$10,'Floor Space'!$I$5:$DK$5,0))*BVM!GN49","v":186.98693426785977},960.5458892176523,11368.348886304157,42.862400000000008,1.6723091075126595E-2,null,null,2024,19564.646699061392,0,1247.4145766351478,{"$f":"INDEX('Floor Space'!$I$5:$DK$50,MATCH(BVM!GR49,'Floor Space'!$I$5:$I$50,0),MATCH(BVM!GR$10,'Floor Space'!$I$5:$DK$5,0))*BVM!GY49","v":104.81193433502455},1352.2265109701723,19669.458633396418,42.862400000000008,5.3572106845176659E-3]
[null,2025,151465.3154632597,0,9748.3495739969949,1769.7319690505033,11518.081543047501,153235.04743231018,42.862400000000008,1.1684074097345176E-2,null,null,2025,14089.90689054231,0,915.41925694785687,{"$f":"INDEX('Floor Space'!$I$5:$DK$54,MATCH(BVM!M50,'Floor Space'!$I$5:$I$54,0),MATCH(BVM!M$10,'Floor Space'!$I$5:$DK$5,0))*BVM!T50","v":220.96213099326383},1136.3813879411207,14310.869021535575,42.862400000000008,1.5682298876054546E-2,null,null,2025,6348.0804399560611,0,412.43388792657504,{"$f":"INDEX('Floor Space'!$I$5:$DK$50,MATCH(BVM!X50,'Floor Space'!$I$5:$I$50,0),MATCH(BVM!X$10,'Floor Space'!$I$5:$DK$5,0))*BVM!AE50","v":99.552494748626316},511.98638267520136,6447.6329347046876,42.862400000000008,1.5682298876054546E-2,null,null,2025,7448.6529766546109,0,483.93792990417478,{"$f":"INDEX('Floor Space'!$I$5:$DK$50,MATCH(BVM!AI50,'Floor Space'!$I$5:$I$50,0),MATCH(BVM!AI$10,'Floor Space'!$I$5:$DK$5,0))*BVM!AP50","v":116.81200220391045},600.7499321080852,7565.4649788585211,42.862400000000008,1.5682298876054546E-2,null,null,2025,6100.5678618029242,0,351.32329151307175,{"$f":"INDEX('Floor Space'!$I$5:$DK$50,MATCH(BVM!AT50,'Floor Space'!$I$5:$I$50,0),MATCH(BVM!AT$10,'Floor Space'!$I$5:$DK$5,0))*BVM!BA50","v":37.748266561263691},389.07155807433543,6138.3161283641875,42.862400000000008,6.1876643972136325E-3,null,null,2025,11267.647151468807,0,648.88826327915206,{"$f":"INDEX('Floor Space'!$I$5:$DK$50,MATCH(BVM!BE50,'Floor Space'!$I$5:$I$50,0),MATCH(BVM!BE$10,'Floor Space'!$I$5:$DK$5,0))*BVM!BL50","v":69.720419119509231},718.60868239866124,11337.367570588316,42.862400000000008,6.1876643972136325E-3,null,null,2025,2816.9117878672018,0,162.22206581978801,{"$f":"INDEX('Floor Space'!$I$5:$DK$50,MATCH(BVM!BP50,'Floor Space'!$I$5:$I$50,0),MATCH(BVM!BP$10,'Floor Space'!$I$5:$DK$5,0))*BVM!BW50","v":17.430104779877308},179.65217059966531,2834.341892647079,42.862400000000008,6.1876643972136325E-3,null,null,2025,5438.6615368951843,0,313.20501891816889,{"$f":"INDEX('Floor Space'!$I$5:$DK$50,MATCH(BVM!CA50,'Floor Space'!$I$5:$I$50,0),MATCH(BVM!CA$10,'Floor Space'!$I$5:$DK$5,0))*BVM!CH50","v":33.652612360341543},346.85763127851044,5472.314149255526,42.862400000000008,6.1876643972136325E-3,null,null,2025,12376.953547957986,0,805.17708064521162,{"$f":"INDEX('Floor Space'!$I$5:$DK$50,MATCH(BVM!CL50,'Floor Space'!$I$5:$I$50,0),MATCH(BVM!CL$10,'Floor Space'!$I$5:$DK$5,0))*BVM!CS50","v":85.349683131289737},890.52676377650141,12462.303231089276,42.862400000000008,6.8958554946965123E-3,null,null,2025,6274.255740482522,0,417.43658081404601,{"$f":"INDEX('Floor Space'!$I$5:$DK$50,MATCH(BVM!CW50,'Floor Space'!$I$5:$I$50,0),MATCH(BVM!CW$10,'Floor Space'!$I$5:$DK$5,0))*BVM!DD50","v":53.122770880921486},470.55935169496752,6327.3785113634431,42.862400000000008,8.4667844407686488E-3,null,null,2025,23266.224961810367,0,1645.9119360335458,{"$f":"INDEX('Floor Space'!$I$5:$DK$50,MATCH(BVM!DH50,'Floor Space'!$I$5:$I$50,0),MATCH(BVM!DH$10,'Floor Space'!$I$5:$DK$5,0))*BVM!DO50","v":567.18729081231675},2213.0992268458626,23833.412252622682,42.862400000000008,2.4378140061110276E-2,null,null,2025,2389.9399533079513,0,158.75992083652645,{"$f":"INDEX('Floor Space'!$I$5:$DK$50,MATCH(BVM!DS50,'Floor Space'!$I$5:$I$50,0),MATCH(BVM!DS$10,'Floor Space'!$I$5:$DK$5,0))*BVM!DZ50","v":9.6259361922222979},168.38585702874875,2399.5658895001734,42.862400000000008,4.027689557178471E-3,null,null,2025,1061.5852797992613,0,69.605209560767548,{"$f":"INDEX('Floor Space'!$I$5:$DK$50,MATCH(BVM!ED50,'Floor Space'!$I$5:$I$50,0),MATCH(BVM!ED$10,'Floor Space'!$I$5:$DK$5,0))*BVM!EK50","v":8.6867504429178801},78.291960003685432,1070.2720302421792,42.862400000000008,8.1828098111538239E-3,null,null,2025,2413.5910964386676,0,167.83709413194006,{"$f":"INDEX('Floor Space'!$I$5:$DK$50,MATCH(BVM!EO50,'Floor Space'!$I$5:$I$50,0),MATCH(BVM!EO$10,'Floor Space'!$I$5:$DK$5,0))*BVM!EV50","v":21.794631721162375},189.63172585310244,2435.3857281598298,42.862400000000008,9.0299602750942842E-3,null,null,2025,7512.0829974584349,0,610.2027550707337,{"$f":"INDEX('Floor Space'!$I$5:$DK$50,MATCH(BVM!EZ50,'Floor Space'!$I$5:$I$50,0),MATCH(BVM!EZ$10,'Floor Space'!$I$5:$DK$5,0))*BVM!FG50","v":28.020177267362559},638.22293233809626,7540.1031747257975,42.862400000000008,3.7300143351508552E-3,null,null,2025,3440.6318689890409,0,201.11327022632952,{"$f":"INDEX('Floor Space'!$I$5:$DK$50,MATCH(BVM!FK50,'Floor Space'!$I$5:$I$50,0),MATCH(BVM!FK$10,'Floor Space'!$I$5:$DK$5,0))*BVM!FR50","v":24.881823052623027},225.99509327895254,3465.5136920416639,42.862400000000008,7.2317597464834904E-3,null,null,2025,8181.8138521277797,0,473.48037440876931,{"$f":"INDEX('Floor Space'!$I$5:$DK$50,MATCH(BVM!FV50,'Floor Space'!$I$5:$I$50,0),MATCH(BVM!FV$10,'Floor Space'!$I$5:$DK$5,0))*BVM!GC50","v":112.58208564971173},586.06246005848107,8294.3959377774918,42.862400000000008,1.3760039972118721E-2,null,null,2025,11368.348886304157,0,694.8720999420791,{"$f":"INDEX('Floor Space'!$I$5:$DK$50,MATCH(BVM!GG50,'Floor Space'!$I$5:$I$50,0),MATCH(BVM!GG$10,'Floor Space'!$I$5:$DK$5,0))*BVM!GN50","v":158.78212475808169},853.65422470016074,11527.131011062238,42.862400000000008,1.3967034821509738E-2,null,null,2025,19669.458633396418,0,1216.5235380182594,{"$f":"INDEX('Floor Space'!$I$5:$DK$50,MATCH(BVM!GR50,'Floor Space'!$I$5:$I$50,0),MATCH(BVM!GR$10,'Floor Space'!$I$5:$DK$5,0))*BVM!GY50","v":103.82066437510126},1320.3442023933605,19773.279297771518,42.862400000000008,5.2782675064999562E-3]
[null,2026,153235.04743231018,0,10537.334629624276,1694.632961859973,12231.967591484248,154929.68039417017,42.862400000000008,1.1059042890358084E-2,null,null,2026,14310.869021535575,0,1014.8669764842441,{"$f":"INDEX('Floor Space'!$I$5:$DK$54,MATCH(BVM!M51,'Floor Space'!$I$5:$I$54,0),MATCH(BVM!M$10,'Floor Space'!$I$5:$DK$5,0))*BVM!T51","v":224.49668942798135},1239.3636659122255,14535.365710963555,42.862400000000008,1.5687145839302197E-2,null,null,2026,6447.6329347046876,0,457.23916081385931,{"$f":"INDEX('Floor Space'!$I$5:$DK$50,MATCH(BVM!X51,'Floor Space'!$I$5:$I$50,0),MATCH(BVM!X$10,'Floor Space'!$I$5:$DK$5,0))*BVM!AE51","v":101.14495816500084},558.38411897886022,6548.777892869688,42.862400000000008,1.5687145839302197E-2,null,null,2026,7565.4649788585211,0,536.51113410635753,{"$f":"INDEX('Floor Space'!$I$5:$DK$50,MATCH(BVM!AI51,'Floor Space'!$I$5:$I$50,0),MATCH(BVM!AI$10,'Floor Space'!$I$5:$DK$5,0))*BVM!AP51","v":118.68055246548744},655.19168657184491,7684.1455313240085,42.862400000000008,1.5687145839302197E-2,null,null,2026,6138.3161283641875,0,418.71454829985584,{"$f":"INDEX('Floor Space'!$I$5:$DK$50,MATCH(BVM!AT51,'Floor Space'!$I$5:$I$50,0),MATCH(BVM!AT$10,'Floor Space'!$I$5:$DK$5,0))*BVM!BA51","v":34.295630929120314},453.01017922897614,6172.6117592933078,42.862400000000008,5.5871398950348983E-3,null,null,2026,11337.367570588316,0,773.35879123146287,{"$f":"INDEX('Floor Space'!$I$5:$DK$50,MATCH(BVM!BE51,'Floor Space'!$I$5:$I$50,0),MATCH(BVM!BE$10,'Floor Space'!$I$5:$DK$5,0))*BVM!BL51","v":63.343458658309984},836.70224988977282,11400.711029246626,42.862400000000008,5.5871398950348983E-3,null,null,2026,2834.341892647079,0,193.33969780786572,{"$f":"INDEX('Floor Space'!$I$5:$DK$50,MATCH(BVM!BP51,'Floor Space'!$I$5:$I$50,0),MATCH(BVM!BP$10,'Floor Space'!$I$5:$DK$5,0))*BVM!BW51","v":15.835864664577496},209.1755624724432,2850.1777573116565,42.862400000000008,5.5871398950348983E-3,null,null,2026,5472.314149255526,0,373.28438275971632,{"$f":"INDEX('Floor Space'!$I$5:$DK$50,MATCH(BVM!CA51,'Floor Space'!$I$5:$I$50,0),MATCH(BVM!CA$10,'Floor Space'!$I$5:$DK$5,0))*BVM!CH51","v":30.574584701470044},403.85896746118635,5502.8887339569965,42.862400000000008,5.5871398950351203E-3,null,null,2026,12462.303231089276,0,816.57231528940974,{"$f":"INDEX('Floor Space'!$I$5:$DK$50,MATCH(BVM!CL51,'Floor Space'!$I$5:$I$50,0),MATCH(BVM!CL$10,'Floor Space'!$I$5:$DK$5,0))*BVM!CS51","v":83.157766431569968},899.73008172097968,12545.460997520846,42.862400000000008,6.6727445873824287E-3,null,null,2026,6327.3785113634431,0,419.9218936129538,{"$f":"INDEX('Floor Space'!$I$5:$DK$50,MATCH(BVM!CW51,'Floor Space'!$I$5:$I$50,0),MATCH(BVM!CW$10,'Floor Space'!$I$5:$DK$5,0))*BVM!DD51","v":51.713349046743268},471.63524265969704,6379.0918604101862,42.862400000000008,8.172950133119139E-3,null,null,2026,23833.412252622682,0,1707.3039538249664,{"$f":"INDEX('Floor Space'!$I$5:$DK$50,MATCH(BVM!DH51,'Floor Space'!$I$5:$I$50,0),MATCH(BVM!DH$10,'Floor Space'!$I$5:$DK$5,0))*BVM!DO51","v":525.5253887094816},2232.8293425344482,24358.937641332162,42.862400000000008,2.2049943295536778E-2,null,null,2026,2399.5658895001734,0,184.78339780787235,{"$f":"INDEX('Floor Space'!$I$5:$DK$50,MATCH(BVM!DS51,'Floor Space'!$I$5:$I$50,0),MATCH(BVM!DS$10,'Floor Space'!$I$5:$DK$5,0))*BVM!DZ51","v":9.3417645663738593},194.1251623742462,2408.9076540665474,42.862400000000008,3.8931060852509525E-3,null,null,2026,1070.2720302421792,0,82.291114429017426,{"$f":"INDEX('Floor Space'!$I$5:$DK$50,MATCH(BVM!ED51,'Floor Space'!$I$5:$I$50,0),MATCH(BVM!ED$10,'Floor Space'!$I$5:$DK$5,0))*BVM!EK51","v":9.9110111344529468},92.202125563470375,1080.1830413766322,42.862400000000008,9.2602729534194683E-3,null,null,2026,2435.3857281598298,0,167.99902536706503,{"$f":"INDEX('Floor Space'!$I$5:$DK$50,MATCH(BVM!EO51,'Floor Space'!$I$5:$I$50,0),MATCH(BVM!EO$10,'Floor Space'!$I$5:$DK$5,0))*BVM!EV51","v":23.76176204824279},191.76078741530782,2459.1474902080727,42.862400000000008,9.7568782527921449E-3,null,null,2026,7540.1031747257975,0,623.00337804142146,{"$f":"INDEX('Floor Space'!$I$5:$DK$50,MATCH(BVM!EZ51,'Floor Space'!$I$5:$I$50,0),MATCH(BVM!EZ$10,'Floor Space'!$I$5:$DK$5,0))*BVM!FG51","v":28.624755618117106},651.62813365953855,7568.7279303439145,42.862400000000008,3.7963347390346236E-3,null,null,2026,3465.5136920416639,0,226.4895184657658,{"$f":"INDEX('Floor Space'!$I$5:$DK$50,MATCH(BVM!FK51,'Floor Space'!$I$5:$I$50,0),MATCH(BVM!FK$10,'Floor Space'!$I$5:$DK$5,0))*BVM!FR51","v":19.782368876908258},246.27188734267406,3485.296060918572,42.862400000000008,5.7083510944819782E-3,null,null,2026,8294.3959377774918,0,519.57536779979637,{"$f":"INDEX('Floor Space'!$I$5:$DK$50,MATCH(BVM!FV51,'Floor Space'!$I$5:$I$50,0),MATCH(BVM!FV$10,'Floor Space'!$I$5:$DK$5,0))*BVM!GC51","v":96.610319514109975},616.18568731390633,8391.0062572916013,42.862400000000008,1.164766189591826E-2,null,null,2026,11527.131011062238,0,698.91339034339535,{"$f":"INDEX('Floor Space'!$I$5:$DK$50,MATCH(BVM!GG51,'Floor Space'!$I$5:$I$50,0),MATCH(BVM!GG$10,'Floor Space'!$I$5:$DK$5,0))*BVM!GN51","v":160.71207338054705},859.6254637239424,11687.843084442786,42.862400000000008,1.3942070514017413E-2,null,null,2026,19773.279297771518,0,1323.1665831392506,{"$f":"INDEX('Floor Space'!$I$5:$DK$50,MATCH(BVM!GR51,'Floor Space'!$I$5:$I$50,0),MATCH(BVM!GR$10,'Floor Space'!$I$5:$DK$5,0))*BVM!GY51","v":97.12066352147832},1420.2872466607289,19870.399961292995,42.862400000000008,4.9117125216768809E-3]
[null,2027,154929.68039417017,0,11137.381684028416,1753.851900919143,12891.233584947557,156683.53229508927,42.862400000000008,1.1320309294235775E-2,null,null,2027,14535.365710963555,0,1082.4021445669425,{"$f":"INDEX('Floor Space'!$I$5:$DK$54,MATCH(BVM!M52,'Floor Space'!$I$5:$I$54,0),MATCH(BVM!M$10,'Floor Space'!$I$5:$DK$5,0))*BVM!T52","v":222.0294379991544},1304.4315825660969,14757.395148962709,42.862400000000008,1.5275118797436482E-2,null,null,2027,6548.777892869688,0,487.66652153706565,{"$f":"INDEX('Floor Space'!$I$5:$DK$50,MATCH(BVM!X52,'Floor Space'!$I$5:$I$50,0),MATCH(BVM!X$10,'Floor Space'!$I$5:$DK$5,0))*BVM!AE52","v":100.03336029161083},587.69988182867644,6648.8112531612987,42.862400000000008,1.5275118797436482E-2,null,null,2027,7684.1455313240085,0,572.21371430621127,{"$f":"INDEX('Floor Space'!$I$5:$DK$50,MATCH(BVM!AI52,'Floor Space'!$I$5:$I$50,0),MATCH(BVM!AI$10,'Floor Space'!$I$5:$DK$5,0))*BVM!AP52","v":117.37623584776566},689.58995015397693,7801.5217671717746,42.862400000000008,1.5275118797436704E-2,null,null,2027,6172.6117592933078,0,454.20763177460401,{"$f":"INDEX('Floor Space'!$I$5:$DK$50,MATCH(BVM!AT52,'Floor Space'!$I$5:$I$50,0),MATCH(BVM!AT$10,'Floor Space'!$I$5:$DK$5,0))*BVM!BA52","v":39.659406884472375},493.8670386590764,6212.2711661777803,42.862400000000008,6.4250609678735415E-3,null,null,2027,11400.711029246626,0,838.91392478142393,{"$f":"INDEX('Floor Space'!$I$5:$DK$50,MATCH(BVM!BE52,'Floor Space'!$I$5:$I$50,0),MATCH(BVM!BE$10,'Floor Space'!$I$5:$DK$5,0))*BVM!BL52","v":73.250263440017363},912.16418822144124,11473.961292686643,42.862400000000008,6.4250609678735415E-3,null,null,2027,2850.1777573116565,0,209.72848119535598,{"$f":"INDEX('Floor Space'!$I$5:$DK$50,MATCH(BVM!BP52,'Floor Space'!$I$5:$I$50,0),MATCH(BVM!BP$10,'Floor Space'!$I$5:$DK$5,0))*BVM!BW52","v":18.312565860004341},228.04104705536031,2868.4903231716607,42.862400000000008,6.4250609678735415E-3,null,null,2027,5502.8887339569965,0,404.92649744359016,{"$f":"INDEX('Floor Space'!$I$5:$DK$50,MATCH(BVM!CA52,'Floor Space'!$I$5:$I$50,0),MATCH(BVM!CA$10,'Floor Space'!$I$5:$DK$5,0))*BVM!CH52","v":35.356395615097888},440.28289305868805,5538.2451295720948,42.862400000000008,6.4250609678735415E-3,null,null,2027,12545.460997520846,0,855.1030029515523,{"$f":"INDEX('Floor Space'!$I$5:$DK$50,MATCH(BVM!CL52,'Floor Space'!$I$5:$I$50,0),MATCH(BVM!CL$10,'Floor Space'!$I$5:$DK$5,0))*BVM!CS52","v":83.921102938700741},939.02410589025305,12629.382100459547,42.862400000000008,6.6893598374173635E-3,null,null,2027,6379.0918604101862,0,440.02861410623052,{"$f":"INDEX('Floor Space'!$I$5:$DK$50,MATCH(BVM!CW52,'Floor Space'!$I$5:$I$50,0),MATCH(BVM!CW$10,'Floor Space'!$I$5:$DK$5,0))*BVM!DD52","v":53.75752563599999},493.78613974223049,6432.8493860461858,42.862400000000008,8.4271439904524126E-3,null,null,2027,24358.937641332162,0,1672.8011575293744,{"$f":"INDEX('Floor Space'!$I$5:$DK$50,MATCH(BVM!DH52,'Floor Space'!$I$5:$I$50,0),MATCH(BVM!DH$10,'Floor Space'!$I$5:$DK$5,0))*BVM!DO52","v":535.84936943790365},2208.650526967278,24894.787010770066,42.862400000000008,2.1998059904249523E-2,null,null,2027,2408.9076540665474,0,202.33191271812845,{"$f":"INDEX('Floor Space'!$I$5:$DK$50,MATCH(BVM!DS52,'Floor Space'!$I$5:$I$50,0),MATCH(BVM!DS$10,'Floor Space'!$I$5:$DK$5,0))*BVM!DZ52","v":9.6643244629218383},211.99623718105028,2418.5719785294691,42.862400000000008,4.0119115594186017E-3,null,null,2027,1080.1830413766322,0,89.989363197884444,{"$f":"INDEX('Floor Space'!$I$5:$DK$50,MATCH(BVM!ED52,'Floor Space'!$I$5:$I$50,0),MATCH(BVM!ED$10,'Floor Space'!$I$5:$DK$5,0))*BVM!EK52","v":8.7641436879031449},98.753506885787587,1088.9471850645355,42.862400000000008,8.1135727484979991E-3,null,null,2027,2459.1474902080727,0,169.02269712399149,{"$f":"INDEX('Floor Space'!$I$5:$DK$50,MATCH(BVM!EO52,'Floor Space'!$I$5:$I$50,0),MATCH(BVM!EO$10,'Floor Space'!$I$5:$DK$5,0))*BVM!EV52","v":26.391765974985478},195.41446309897697,2485.5392561830581,42.862400000000008,1.0732079340532996E-2,null,null,2027,7568.7279303439145,0,580.37875420201112,{"$f":"INDEX('Floor Space'!$I$5:$DK$50,MATCH(BVM!EZ52,'Floor Space'!$I$5:$I$50,0),MATCH(BVM!EZ$10,'Floor Space'!$I$5:$DK$5,0))*BVM!FG52","v":35.319191233869617},615.69794543588068,7604.0471215777843,42.862400000000008,4.6664633157535995E-3,null,null,2027,3485.296060918572,0,267.09570644253915,{"$f":"INDEX('Floor Space'!$I$5:$DK$50,MATCH(BVM!FK52,'Floor Space'!$I$5:$I$50,0),MATCH(BVM!FK$10,'Floor Space'!$I$5:$DK$5,0))*BVM!FR52","v":23.921850314785338},291.01755675732448,3509.2179112333574,42.862400000000008,6.8636494279572524E-3,null,null,2027,8391.0062572916013,0,613.27310736842674,{"$f":"INDEX('Floor Space'!$I$5:$DK$50,MATCH(BVM!FV52,'Floor Space'!$I$5:$I$50,0),MATCH(BVM!FV$10,'Floor Space'!$I$5:$DK$5,0))*BVM!GC52","v":106.75638910469553},720.02949647312221,8497.762646396297,42.862400000000008,1.2722715945054475E-2,null,null,2027,11687.843084442786,0,764.4856832286323,{"$f":"INDEX('Floor Space'!$I$5:$DK$50,MATCH(BVM!GG52,'Floor Space'!$I$5:$I$50,0),MATCH(BVM!GG$10,'Floor Space'!$I$5:$DK$5,0))*BVM!GN52","v":163.56169374045146},928.04737696908376,11851.404778183238,42.862400000000008,1.3994172625243717E-2,null,null,2027,19870.399961292995,0,1432.8127695544492,{"$f":"INDEX('Floor Space'!$I$5:$DK$50,MATCH(BVM!GR52,'Floor Space'!$I$5:$I$50,0),MATCH(BVM!GR$10,'Floor Space'!$I$5:$DK$5,0))*BVM!GY52","v":99.926878448803294},1532.7396480032526,19970.3268397418,42.862400000000008,5.0289314076947811E-3]
[null,2028,156683.53229508927,0,11123.202322286834,1825.5388163178061,12948.741138604639,158509.0711114071,42.862400000000008,1.1651121145773713E-2,null,null,2028,14757.395148962709,0,1102.91473360544,{"$f":"INDEX('Floor Space'!$I$5:$DK$54,MATCH(BVM!M53,'Floor Space'!$I$5:$I$54,0),MATCH(BVM!M$10,'Floor Space'!$I$5:$DK$5,0))*BVM!T53","v":223.69629078867544},1326.6110243941155,14981.091439751384,42.862400000000008,1.5158250391119843E-2,null,null,2028,6648.8112531612987,0,496.90828347770349,{"$f":"INDEX('Floor Space'!$I$5:$DK$50,MATCH(BVM!X53,'Floor Space'!$I$5:$I$50,0),MATCH(BVM!X$10,'Floor Space'!$I$5:$DK$5,0))*BVM!AE53","v":100.78434577871491},597.6926292564184,6749.5955989400136,42.862400000000008,1.5158250391119843E-2,null,null,2028,7801.5217671717746,0,583.05772900321813,{"$f":"INDEX('Floor Space'!$I$5:$DK$50,MATCH(BVM!AI53,'Floor Space'!$I$5:$I$50,0),MATCH(BVM!AI$10,'Floor Space'!$I$5:$DK$5,0))*BVM!AP53","v":118.25742037856229},701.31514938178043,7919.7791875503372,42.862400000000008,1.5158250391120065E-2,null,null,2028,6212.2711661777803,0,442.662626930317,{"$f":"INDEX('Floor Space'!$I$5:$DK$50,MATCH(BVM!AT53,'Floor Space'!$I$5:$I$50,0),MATCH(BVM!AT$10,'Floor Space'!$I$5:$DK$5,0))*BVM!BA53","v":47.723075969805194},490.38570290012217,6259.9942421475853,42.862400000000008,7.6820658167062739E-3,null,null,2028,11473.961292686643,0,817.59049327565924,{"$f":"INDEX('Floor Space'!$I$5:$DK$50,MATCH(BVM!BE53,'Floor Space'!$I$5:$I$50,0),MATCH(BVM!BE$10,'Floor Space'!$I$5:$DK$5,0))*BVM!BL53","v":88.14372582876058},905.73421910441982,11562.105018515404,42.862400000000008,7.6820658167064959E-3,null,null,2028,2868.4903231716607,0,204.39762331891481,{"$f":"INDEX('Floor Space'!$I$5:$DK$50,MATCH(BVM!BP53,'Floor Space'!$I$5:$I$50,0),MATCH(BVM!BP$10,'Floor Space'!$I$5:$DK$5,0))*BVM!BW53","v":22.035931457190145},226.43355477610496,2890.5262546288509,42.862400000000008,7.6820658167064959E-3,null,null,2028,5538.2451295720948,0,394.63411561746028,{"$f":"INDEX('Floor Space'!$I$5:$DK$50,MATCH(BVM!CA53,'Floor Space'!$I$5:$I$50,0),MATCH(BVM!CA$10,'Floor Space'!$I$5:$DK$5,0))*BVM!CH53","v":42.545163594426548},437.17927921188681,5580.7902931665212,42.862400000000008,7.6820658167062739E-3,null,null,2028,12629.382100459547,0,832.31128123897554,{"$f":"INDEX('Floor Space'!$I$5:$DK$50,MATCH(BVM!CL53,'Floor Space'!$I$5:$I$50,0),MATCH(BVM!CL$10,'Floor Space'!$I$5:$DK$5,0))*BVM!CS53","v":84.530516126129228},916.84179736510475,12713.912616585676,42.862400000000008,6.6931632485054404E-3,null,null,2028,6432.8493860461858,0,427.32636096326274,{"$f":"INDEX('Floor Space'!$I$5:$DK$50,MATCH(BVM!CW53,'Floor Space'!$I$5:$I$50,0),MATCH(BVM!CW$10,'Floor Space'!$I$5:$DK$5,0))*BVM!DD53","v":55.007872350451159},482.33423331371392,6487.857258396637,42.862400000000008,8.5510897347871317E-3,null,null,2028,24894.787010770066,0,1624.223565608406,{"$f":"INDEX('Floor Space'!$I$5:$DK$50,MATCH(BVM!DH53,'Floor Space'!$I$5:$I$50,0),MATCH(BVM!DH$10,'Floor Space'!$I$5:$DK$5,0))*BVM!DO53","v":539.13480913211731},2163.3583747405232,25433.921819902182,42.862400000000008,2.1656534313744924E-2,null,null,2028,2418.5719785294691,0,188.34550994379788,{"$f":"INDEX('Floor Space'!$I$5:$DK$50,MATCH(BVM!DS53,'Floor Space'!$I$5:$I$50,0),MATCH(BVM!DS$10,'Floor Space'!$I$5:$DK$5,0))*BVM!DZ53","v":9.7034732560276886},198.04898319982556,2428.2754517854969,42.862400000000008,4.0120671793806295E-3,null,null,2028,1088.9471850645355,0,85.970329332910069,{"$f":"INDEX('Floor Space'!$I$5:$DK$50,MATCH(BVM!ED53,'Floor Space'!$I$5:$I$50,0),MATCH(BVM!ED$10,'Floor Space'!$I$5:$DK$5,0))*BVM!EK53","v":11.172532071985849},97.14286140489591,1100.1197171365213,42.862400000000008,1.0259939348044478E-2,null,null,2028,2485.5392561830581,0,166.61626824345473,{"$f":"INDEX('Floor Space'!$I$5:$DK$50,MATCH(BVM!EO53,'Floor Space'!$I$5:$I$50,0),MATCH(BVM!EO$10,'Floor Space'!$I$5:$DK$5,0))*BVM!EV53","v":27.836355363210583},194.4526236066653,2513.3756115462688,42.862400000000008,1.1199322357900776E-2,null,null,2028,7604.0471215777843,0,565.28748920811393,{"$f":"INDEX('Floor Space'!$I$5:$DK$50,MATCH(BVM!EZ53,'Floor Space'!$I$5:$I$50,0),MATCH(BVM!EZ$10,'Floor Space'!$I$5:$DK$5,0))*BVM!FG53","v":39.445344234430422},604.73283344254435,7643.4924658122145,42.862400000000008,5.1874144917509746E-3,null,null,2028,3509.2179112333574,0,258.70661746089132,{"$f":"INDEX('Floor Space'!$I$5:$DK$50,MATCH(BVM!FK53,'Floor Space'!$I$5:$I$50,0),MATCH(BVM!FK$10,'Floor Space'!$I$5:$DK$5,0))*BVM!FR53","v":27.413356671637967},286.11997413252931,3536.6312679049952,42.862400000000008,7.8118137331639748E-3,null,null,2028,8497.762646396297,0,599.05873440643165,{"$f":"INDEX('Floor Space'!$I$5:$DK$50,MATCH(BVM!FV53,'Floor Space'!$I$5:$I$50,0),MATCH(BVM!FV$10,'Floor Space'!$I$5:$DK$5,0))*BVM!GC53","v":114.82594219937189},713.88467660580352,8612.5885885956686,42.862400000000008,1.3512491108240932E-2,null,null,2028,11851.404778183238,0,827.67513266671222,{"$f":"INDEX('Floor Space'!$I$5:$DK$50,MATCH(BVM!GG53,'Floor Space'!$I$5:$I$50,0),MATCH(BVM!GG$10,'Floor Space'!$I$5:$DK$5,0))*BVM!GN53","v":170.15416172125288},997.82929438796509,12021.558939904491,42.862400000000008,1.4357298978977084E-2,null,null,2028,19970.3268397418,0,1505.5154279851636,{"$f":"INDEX('Floor Space'!$I$5:$DK$50,MATCH(BVM!GR53,'Floor Space'!$I$5:$I$50,0),MATCH(BVM!GR$10,'Floor Space'!$I$5:$DK$5,0))*BVM!GY53","v":103.12849939505602},1608.6439273802196,20073.455339136857,42.862400000000008,5.1640867083770914E-3]
[null,2029,158509.0711114071,0,10774.930135450621,1836.0441724318734,12610.974307882492,160345.11528383894,42.862400000000008,1.1583211986280428E-2,null,null,2029,14981.091439751384,0,1002.8122073227016,{"$f":"INDEX('Floor Space'!$I$5:$DK$54,MATCH(BVM!M54,'Floor Space'!$I$5:$I$54,0),MATCH(BVM!M$10,'Floor Space'!$I$5:$DK$5,0))*BVM!T54","v":234.1126951509911},1236.9249024736928,15215.204134902375,42.862400000000008,1.562721221564578E-2,null,null,2029,6749.5955989400136,0,451.80799331807265,{"$f":"INDEX('Floor Space'!$I$5:$DK$50,MATCH(BVM!X54,'Floor Space'!$I$5:$I$50,0),MATCH(BVM!X$10,'Floor Space'!$I$5:$DK$5,0))*BVM!AE54","v":105.47736279442523},557.28535611249788,6855.0729617344386,42.862400000000008,1.562721221564578E-2,null,null,2029,7919.7791875503372,0,530.13836011320359,{"$f":"INDEX('Floor Space'!$I$5:$DK$50,MATCH(BVM!AI54,'Floor Space'!$I$5:$I$50,0),MATCH(BVM!AI$10,'Floor Space'!$I$5:$DK$5,0))*BVM!AP54","v":123.76407006490487},653.90243017810849,8043.5432576152416,42.862400000000008,1.562721221564578E-2,null,null,2029,6259.9942421475853,0,420.263985314264,{"$f":"INDEX('Floor Space'!$I$5:$DK$50,MATCH(BVM!AT54,'Floor Space'!$I$5:$I$50,0),MATCH(BVM!AT$10,'Floor Space'!$I$5:$DK$5,0))*BVM!BA54","v":50.637355868696346},470.90134118296032,6310.6315980162817,42.862400000000008,8.0890419239945111E-3,null,null,2029,11562.105018515404,0,776.22057556978473,{"$f":"INDEX('Floor Space'!$I$5:$DK$50,MATCH(BVM!BE54,'Floor Space'!$I$5:$I$50,0),MATCH(BVM!BE$10,'Floor Space'!$I$5:$DK$5,0))*BVM!BL54","v":93.526352224398963},869.74692779418365,11655.631370739802,42.862400000000008,8.0890419239945111E-3,null,null,2029,2890.5262546288509,0,194.05514389244618,{"$f":"INDEX('Floor Space'!$I$5:$DK$50,MATCH(BVM!BP54,'Floor Space'!$I$5:$I$50,0),MATCH(BVM!BP$10,'Floor Space'!$I$5:$DK$5,0))*BVM!BW54","v":23.381588056099741},217.43673194854591,2913.9078426849505,42.862400000000008,8.0890419239945111E-3,null,null,2029,5580.7902931665212,0,374.66570720114521,{"$f":"INDEX('Floor Space'!$I$5:$DK$50,MATCH(BVM!CA54,'Floor Space'!$I$5:$I$50,0),MATCH(BVM!CA$10,'Floor Space'!$I$5:$DK$5,0))*BVM!CH54","v":45.14324665044586},419.80895385159107,5625.9335398169669,42.862400000000008,8.0890419239945111E-3,null,null,2029,12713.912616585676,0,867.59701235967236,{"$f":"INDEX('Floor Space'!$I$5:$DK$50,MATCH(BVM!CL54,'Floor Space'!$I$5:$I$50,0),MATCH(BVM!CL$10,'Floor Space'!$I$5:$DK$5,0))*BVM!CS54","v":83.541498849945128},951.13851120961749,12797.454115435621,42.862400000000008,6.5708725055231287E-3,null,null,2029,6487.857258396637,0,444.33326515847477,{"$f":"INDEX('Floor Space'!$I$5:$DK$50,MATCH(BVM!CW54,'Floor Space'!$I$5:$I$50,0),MATCH(BVM!CW$10,'Floor Space'!$I$5:$DK$5,0))*BVM!DD54","v":52.737929389242019},497.0711945477168,6540.5951877858788,42.862400000000008,8.1287129615850162E-3,null,null,2029,25433.921819902182,0,1713.3228979034889,{"$f":"INDEX('Floor Space'!$I$5:$DK$50,MATCH(BVM!DH54,'Floor Space'!$I$5:$I$50,0),MATCH(BVM!DH$10,'Floor Space'!$I$5:$DK$5,0))*BVM!DO54","v":545.59429866714697},2258.917196570636,25979.516118569329,42.862400000000008,2.1451441996657161E-2,null,null,2029,2428.2754517854969,0,185.73792820324357,{"$f":"INDEX('Floor Space'!$I$5:$DK$50,MATCH(BVM!DS54,'Floor Space'!$I$5:$I$50,0),MATCH(BVM!DS$10,'Floor Space'!$I$5:$DK$5,0))*BVM!DZ54","v":9.1520583223070275},194.8899865255506,2437.4275101078038,42.862400000000008,3.7689539362502078E-3,null,null,2029,1100.1197171365213,0,80.389829866706847,{"$f":"INDEX('Floor Space'!$I$5:$DK$50,MATCH(BVM!ED54,'Floor Space'!$I$5:$I$50,0),MATCH(BVM!ED$10,'Floor Space'!$I$5:$DK$5,0))*BVM!EK54","v":11.174890278645083},91.564720145351927,1111.2946074151664,42.862400000000008,1.0157885641511877E-2,null,null,2029,2513.3756115462688,0,154.03502144331807,{"$f":"INDEX('Floor Space'!$I$5:$DK$50,MATCH(BVM!EO54,'Floor Space'!$I$5:$I$50,0),MATCH(BVM!EO$10,'Floor Space'!$I$5:$DK$5,0))*BVM!EV54","v":30.946679009351293},184.98170045266937,2544.3222905556199,42.862400000000008,1.2312795137815469E-2,null,null,2029,7643.4924658122145,0,486.79549468260154,{"$f":"INDEX('Floor Space'!$I$5:$DK$50,MATCH(BVM!EZ54,'Floor Space'!$I$5:$I$50,0),MATCH(BVM!EZ$10,'Floor Space'!$I$5:$DK$5,0))*BVM!FG54","v":48.376616569595896},535.1721112521974,7691.8690823818106,42.862400000000008,6.3291246489709518E-3,null,null,2029,3536.6312679049952,0,252.21471021803885,{"$f":"INDEX('Floor Space'!$I$5:$DK$50,MATCH(BVM!FK54,'Floor Space'!$I$5:$I$50,0),MATCH(BVM!FK$10,'Floor Space'!$I$5:$DK$5,0))*BVM!FR54","v":25.528353026587787},277.74306324462663,3562.159620931583,42.862400000000008,7.2182682029247047E-3,null,null,2029,8612.5885885956686,0,585.5643217881493,{"$f":"INDEX('Floor Space'!$I$5:$DK$50,MATCH(BVM!FV54,'Floor Space'!$I$5:$I$50,0),MATCH(BVM!FV$10,'Floor Space'!$I$5:$DK$5,0))*BVM!GC54","v":113.2396723332531},698.80399412140241,8725.8282609289217,42.862400000000008,1.314815762629129E-2,null,null,2029,12021.558939904491,0,813.88271714352516,{"$f":"INDEX('Floor Space'!$I$5:$DK$50,MATCH(BVM!GG54,'Floor Space'!$I$5:$I$50,0),MATCH(BVM!GG$10,'Floor Space'!$I$5:$DK$5,0))*BVM!GN54","v":135.76982512577348},949.65254226929869,12157.328765030265,42.862400000000008,1.1293861786519033E-2,null,null,2029,20073.455339136857,0,1441.0929639517815,{"$f":"INDEX('Floor Space'!$I$5:$DK$50,MATCH(BVM!GR54,'Floor Space'!$I$5:$I$50,0),MATCH(BVM!GR$10,'Floor Space'!$I$5:$DK$5,0))*BVM!GY54","v":103.9396800500636},1545.032644001845,20177.395019186923,42.862400000000008,5.177966538098433E-3]
[null,2030,160345.11528383894,0,10188.415415584363,1794.4620108892029,11982.877426473566,162139.57729472819,42.862400000000008,1.1191248375185925E-2,null,null,2030,15215.204134902375,0,930.4462167335962,{"$f":"INDEX('Floor Space'!$I$5:$DK$54,MATCH(BVM!M55,'Floor Space'!$I$5:$I$54,0),MATCH(BVM!M$10,'Floor Space'!$I$5:$DK$5,0))*BVM!T55","v":256.65657421093147},1187.1027909445277,15471.860709113305,42.862400000000008,1.6868427918241391E-2,null,null,2030,6855.0729617344386,0,419.20414909500681,{"$f":"INDEX('Floor Space'!$I$5:$DK$50,MATCH(BVM!X55,'Floor Space'!$I$5:$I$50,0),MATCH(BVM!X$10,'Floor Space'!$I$5:$DK$5,0))*BVM!AE55","v":115.63430412930398},534.8384532243108,6970.7072658637426,42.862400000000008,1.6868427918241613E-2,null,null,2030,8043.5432576152416,0,491.88195746998122,{"$f":"INDEX('Floor Space'!$I$5:$DK$50,MATCH(BVM!AI55,'Floor Space'!$I$5:$I$50,0),MATCH(BVM!AI$10,'Floor Space'!$I$5:$DK$5,0))*BVM!AP55","v":135.68192964834057},627.56388711832176,8179.2251872635825,42.862400000000008,1.6868427918241613E-2,null,null,2030,6310.6315980162817,0,394.50818797687646,{"$f":"INDEX('Floor Space'!$I$5:$DK$50,MATCH(BVM!AT55,'Floor Space'!$I$5:$I$50,0),MATCH(BVM!AT$10,'Floor Space'!$I$5:$DK$5,0))*BVM!BA55","v":38.147758092862816},432.65594606973929,6348.7793561091448,42.862400000000008,6.0449984285020353E-3,null,null,2030,11655.631370739802,0,728.65004720643719,{"$f":"INDEX('Floor Space'!$I$5:$DK$50,MATCH(BVM!BE55,'Floor Space'!$I$5:$I$50,0),MATCH(BVM!BE$10,'Floor Space'!$I$5:$DK$5,0))*BVM!BL55","v":70.458273319319488},799.10832052575665,11726.089644059122,42.862400000000008,6.0449984285020353E-3,null,null,2030,2913.9078426849505,0,182.1625118016093,{"$f":"INDEX('Floor Space'!$I$5:$DK$50,MATCH(BVM!BP55,'Floor Space'!$I$5:$I$50,0),MATCH(BVM!BP$10,'Floor Space'!$I$5:$DK$5,0))*BVM!BW55","v":17.614568329829872},199.77708013143916,2931.5224110147806,42.862400000000008,6.0449984285020353E-3,null,null,2030,5625.9335398169669,0,351.70439154920854,{"$f":"INDEX('Floor Space'!$I$5:$DK$50,MATCH(BVM!CA55,'Floor Space'!$I$5:$I$50,0),MATCH(BVM!CA$10,'Floor Space'!$I$5:$DK$5,0))*BVM!CH55","v":34.008759407049659},385.71315095625818,5659.942299224017,42.862400000000008,6.0449984285020353E-3,null,null,2030,12797.454115435621,0,911.80380299349781,{"$f":"INDEX('Floor Space'!$I$5:$DK$50,MATCH(BVM!CL55,'Floor Space'!$I$5:$I$50,0),MATCH(BVM!CL$10,'Floor Space'!$I$5:$DK$5,0))*BVM!CS55","v":77.19504118790212},988.99884418139993,12874.649156623524,42.862400000000008,6.0320623533076656E-3,null,null,2030,6540.5951877858788,0,459.68833602025666,{"$f":"INDEX('Floor Space'!$I$5:$DK$50,MATCH(BVM!CW55,'Floor Space'!$I$5:$I$50,0),MATCH(BVM!CW$10,'Floor Space'!$I$5:$DK$5,0))*BVM!DD55","v":50.677370322411875},510.36570634266855,6591.2725581082905,42.862400000000008,7.7481282463480738E-3,null,null,2030,25979.516118569329,0,1541.4530342590151,{"$f":"INDEX('Floor Space'!$I$5:$DK$50,MATCH(BVM!DH55,'Floor Space'!$I$5:$I$50,0),MATCH(BVM!DH$10,'Floor Space'!$I$5:$DK$5,0))*BVM!DO55","v":539.06649814713751},2080.5195324061524,26518.582616716467,42.862400000000008,2.0749674308284449E-2,null,null,2030,2437.4275101078038,0,168.78903455863508,{"$f":"INDEX('Floor Space'!$I$5:$DK$50,MATCH(BVM!DS55,'Floor Space'!$I$5:$I$50,0),MATCH(BVM!DS$10,'Floor Space'!$I$5:$DK$5,0))*BVM!DZ55","v":9.3212140386341957},178.11024859726928,2446.7487241464378,42.862400000000008,3.824201540345129E-3,null,null,2030,1111.2946074151664,0,69.895560613267918,{"$f":"INDEX('Floor Space'!$I$5:$DK$50,MATCH(BVM!ED55,'Floor Space'!$I$5:$I$50,0),MATCH(BVM!ED$10,'Floor Space'!$I$5:$DK$5,0))*BVM!EK55","v":8.3856372401362318},78.281197853404151,1119.6802446553027,42.862400000000008,7.5458273478361537E-3,null,null,2030,2544.3222905556199,0,189.32836738980455,{"$f":"INDEX('Floor Space'!$I$5:$DK$50,MATCH(BVM!EO55,'Floor Space'!$I$5:$I$50,0),MATCH(BVM!EO$10,'Floor Space'!$I$5:$DK$5,0))*BVM!EV55","v":23.562841340560141},212.8912087303647,2567.8851318961802,42.862400000000008,9.260949930763207E-3,null,null,2030,7691.8690823818106,0,445.30465803178208,{"$f":"INDEX('Floor Space'!$I$5:$DK$50,MATCH(BVM!EZ55,'Floor Space'!$I$5:$I$50,0),MATCH(BVM!EZ$10,'Floor Space'!$I$5:$DK$5,0))*BVM!FG55","v":28.953944598655788},474.25860263043785,7720.8230269804662,42.862400000000008,3.7642274314020341E-3,null,null,2030,3562.159620931583,0,225.73332161466843,{"$f":"INDEX('Floor Space'!$I$5:$DK$50,MATCH(BVM!FK55,'Floor Space'!$I$5:$I$50,0),MATCH(BVM!FK$10,'Floor Space'!$I$5:$DK$5,0))*BVM!FR55","v":27.447681445046896},253.18100305971532,3589.6073023766298,42.862400000000008,7.7053485429909863E-3,null,null,2030,8725.8282609289217,0,577.2734970128505,{"$f":"INDEX('Floor Space'!$I$5:$DK$50,MATCH(BVM!FV55,'Floor Space'!$I$5:$I$50,0),MATCH(BVM!FV$10,'Floor Space'!$I$5:$DK$5,0))*BVM!GC55","v":103.24621409432598},680.51971110717648,8829.0744750232479,42.862400000000008,1.1832253742217747E-2,null,null,2030,12157.328765030265,0,783.98904743819401,{"$f":"INDEX('Floor Space'!$I$5:$DK$50,MATCH(BVM!GG55,'Floor Space'!$I$5:$I$50,0),MATCH(BVM!GG$10,'Floor Space'!$I$5:$DK$5,0))*BVM!GN55","v":156.22239423689734},940.21144167509135,12313.551159267161,42.862400000000008,1.2850059191148899E-2,null,null,2030,20177.395019186923,0,1316.5992938196764,{"$f":"INDEX('Floor Space'!$I$5:$DK$50,MATCH(BVM!GR55,'Floor Space'!$I$5:$I$50,0),MATCH(BVM!GR$10,'Floor Space'!$I$5:$DK$5,0))*BVM!GY55","v":102.18100709985669},1418.7803009195331,20279.576026286781,42.862400000000008,5.0641327585989604E-3]
[null,2031,{"$f":"SUM(N56,Y56,AJ56,AU56,BF56,BQ56,CB56,CM56,CX56,DI56,DT56,EE56,EP56,FA56,FL56,FW56,GH56,GS56)","v":162139.57729472819},0,10458.34513751894,1794.4620108892029,12252.807148408141,163934.03930561739,42.862400000000008,1.1067390459686077E-2,null,null,2031,15471.860709113305,0,925.54340971082661,{"$f":"INDEX('Floor Space'!$I$5:$DK$54,MATCH(BVM!M56,'Floor Space'!$I$5:$I$54,0),MATCH(BVM!M$10,'Floor Space'!$I$5:$DK$5,0))*BVM!T56","v":256.65657421093147},1182.1999839217581,15728.517283324236,42.862400000000008,1.6588604243299221E-2,null,null,2031,6970.7072658637426,0,416.99523362069561,{"$f":"INDEX('Floor Space'!$I$5:$DK$54,MATCH(BVM!X56,'Floor Space'!$I$5:$I$54,0),MATCH(BVM!X$10,'Floor Space'!$I$5:$DK$5,0))*BVM!AE56","v":115.63430412930398},532.6295377499996,7086.3415699930465,42.862400000000008,1.6588604243299221E-2,null,null,2031,8179.2251872635825,0,489.29008029096099,{"$f":"INDEX('Floor Space'!$I$5:$DK$54,MATCH(BVM!AI56,'Floor Space'!$I$5:$I$54,0),MATCH(BVM!AI$10,'Floor Space'!$I$5:$DK$5,0))*BVM!AP56","v":135.68192964834057},624.97200993930153,8314.9071169119234,42.862400000000008,1.6588604243299221E-2,null,null,2031,6348.7793561091448,0,391.82071049560295,{"$f":"INDEX('Floor Space'!$I$5:$DK$54,MATCH(BVM!AT56,'Floor Space'!$I$5:$I$54,0),MATCH(BVM!AT$10,'Floor Space'!$I$5:$DK$5,0))*BVM!BA56","v":38.147758092862816},429.96846858846578,6386.9271142020079,42.862400000000008,6.0086759915753962E-3,null,null,2031,11726.089644059122,0,723.6863210956094,{"$f":"INDEX('Floor Space'!$I$5:$DK$54,MATCH(BVM!BE56,'Floor Space'!$I$5:$I$54,0),MATCH(BVM!BE$10,'Floor Space'!$I$5:$DK$5,0))*BVM!BL56","v":70.458273319319488},794.14459441492886,11796.547917378442,42.862400000000008,6.0086759915753962E-3,null,null,2031,2931.5224110147806,0,180.92158027390235,{"$f":"INDEX('Floor Space'!$I$5:$DK$54,MATCH(BVM!BP56,'Floor Space'!$I$5:$I$54,0),MATCH(BVM!BP$10,'Floor Space'!$I$5:$DK$5,0))*BVM!BW56","v":17.614568329829872},198.53614860373222,2949.1369793446106,42.862400000000008,6.0086759915753962E-3,null,null,2031,5659.942299224017,0,349.30850304509227,{"$f":"INDEX('Floor Space'!$I$5:$DK$54,MATCH(BVM!CA56,'Floor Space'!$I$5:$I$54,0),MATCH(BVM!CA$10,'Floor Space'!$I$5:$DK$5,0))*BVM!CH56","v":34.008759407049659},383.3172624521419,5693.9510586310671,42.862400000000008,6.0086759915756183E-3,null,null,2031,12874.649156623524,0,957.75686850925683,{"$f":"INDEX('Floor Space'!$I$5:$DK$54,MATCH(BVM!CL56,'Floor Space'!$I$5:$I$54,0),MATCH(BVM!CL$10,'Floor Space'!$I$5:$DK$5,0))*BVM!CS56","v":77.19504118790212},1034.951909697159,12951.844197811426,42.862400000000008,5.9958947423579545E-3,null,null,2031,6591.2725581082905,0,489.91710475444802,{"$f":"INDEX('Floor Space'!$I$5:$DK$54,MATCH(BVM!CW56,'Floor Space'!$I$5:$I$54,0),MATCH(BVM!CW$10,'Floor Space'!$I$5:$DK$5,0))*BVM!DD56","v":50.677370322411875},540.59447507685991,6641.9499284307021,42.862400000000008,7.6885563259057044E-3,null,null,2031,26518.582616716467,0,1586.8844825773447,{"$f":"INDEX('Floor Space'!$I$5:$DK$54,MATCH(BVM!DH56,'Floor Space'!$I$5:$I$54,0),MATCH(BVM!DH$10,'Floor Space'!$I$5:$DK$5,0))*BVM!DO56","v":539.06649814713751},2125.9509807244822,27057.649114863605,42.862400000000008,2.0327877471374656E-2,null,null,2031,2446.7487241464378,0,169.18993943118451,{"$f":"INDEX('Floor Space'!$I$5:$DK$54,MATCH(BVM!DS56,'Floor Space'!$I$5:$I$54,0),MATCH(BVM!DS$10,'Floor Space'!$I$5:$DK$5,0))*BVM!DZ56","v":9.3212140386341957},178.51115346981871,2456.0699381850718,42.862400000000008,3.8096327369643301E-3,null,null,2031,1119.6802446553027,0,69.956810899864749,{"$f":"INDEX('Floor Space'!$I$5:$DK$54,MATCH(BVM!ED56,'Floor Space'!$I$5:$I$54,0),MATCH(BVM!ED$10,'Floor Space'!$I$5:$DK$5,0))*BVM!EK56","v":8.3856372401362318},78.342448140000982,1128.0658818954389,42.862400000000008,7.4893142753607034E-3,null,null,2031,2567.8851318961802,0,188.68147832977925,{"$f":"INDEX('Floor Space'!$I$5:$DK$54,MATCH(BVM!EO56,'Floor Space'!$I$5:$I$54,0),MATCH(BVM!EO$10,'Floor Space'!$I$5:$DK$5,0))*BVM!EV56","v":23.562841340560141},212.24431967033939,2591.4479732367404,42.862400000000008,9.1759717161339349E-3,null,null,2031,7720.8230269804662,0,474.16178144364898,{"$f":"INDEX('Floor Space'!$I$5:$DK$54,MATCH(BVM!EZ56,'Floor Space'!$I$5:$I$54,0),MATCH(BVM!EZ$10,'Floor Space'!$I$5:$DK$5,0))*BVM!FG56","v":28.953944598655788},503.11572604230474,7749.7769715791219,42.862400000000008,3.7501111601023762E-3,null,null,2031,3589.6073023766298,0,233.57295994856452,{"$f":"INDEX('Floor Space'!$I$5:$DK$54,MATCH(BVM!FK56,'Floor Space'!$I$5:$I$54,0),MATCH(BVM!FK$10,'Floor Space'!$I$5:$DK$5,0))*BVM!FR56","v":27.447681445046896},261.02064139361141,3617.0549838216766,42.862400000000008,7.6464301337013652E-3,null,null,2031,8829.0744750232479,0,603.35747155405568,{"$f":"INDEX('Floor Space'!$I$5:$DK$54,MATCH(BVM!FV56,'Floor Space'!$I$5:$I$54,0),MATCH(BVM!FV$10,'Floor Space'!$I$5:$DK$5,0))*BVM!GC56","v":103.24621409432598},706.60368564838166,8932.3206891175741,42.862400000000008,1.1693888684074505E-2,null,null,2031,12313.551159267161,0,770.03031534267006,{"$f":"INDEX('Floor Space'!$I$5:$DK$54,MATCH(BVM!GG56,'Floor Space'!$I$5:$I$54,0),MATCH(BVM!GG$10,'Floor Space'!$I$5:$DK$5,0))*BVM!GN56","v":156.22239423689734},926.25270957956741,12469.773553504059,42.862400000000008,1.268703010336103E-2,null,null,2031,20279.576026286781,0,1437.2700861954318,{"$f":"INDEX('Floor Space'!$I$5:$DK$54,MATCH(BVM!GR56,'Floor Space'!$I$5:$I$54,0),MATCH(BVM!GR$10,'Floor Space'!$I$5:$DK$5,0))*BVM!GY56","v":102.18100709985669},1539.4510932952885,20381.757033386639,42.862400000000008,5.0386165355433832E-3]
[null,2032,163934.03930561739,0,10650.309946732028,1794.4620108892029,12444.771957621229,165728.50131650662,42.862400000000008,1.0946244102140845E-2,null,null,2032,15728.517283324236,0,975.04941714129166,{"$f":"INDEX('Floor Space'!$I$5:$DK$54,MATCH(BVM!M57,'Floor Space'!$I$5:$I$54,0),MATCH(BVM!M$10,'Floor Space'!$I$5:$DK$5,0))*BVM!T57","v":256.65657421093147},1231.705991352223,15985.173857535166,42.862400000000008,1.6317912845036142E-2,null,null,2032,7086.3415699930465,0,439.29971865889013,{"$f":"INDEX('Floor Space'!$I$5:$DK$54,MATCH(BVM!X57,'Floor Space'!$I$5:$I$54,0),MATCH(BVM!X$10,'Floor Space'!$I$5:$DK$5,0))*BVM!AE57","v":115.63430412930398},554.93402278819417,7201.9758741223504,42.862400000000008,1.6317912845036364E-2,null,null,2032,8314.9071169119234,0,515.46151438728862,{"$f":"INDEX('Floor Space'!$I$5:$DK$54,MATCH(BVM!AI57,'Floor Space'!$I$5:$I$54,0),MATCH(BVM!AI$10,'Floor Space'!$I$5:$DK$5,0))*BVM!AP57","v":135.68192964834057},651.14344403562916,8450.5890465602643,42.862400000000008,1.6317912845036364E-2,null,null,2032,6386.9271142020079,0,401.430558006235,{"$f":"INDEX('Floor Space'!$I$5:$DK$54,MATCH(BVM!AT57,'Floor Space'!$I$5:$I$54,0),MATCH(BVM!AT$10,'Floor Space'!$I$5:$DK$5,0))*BVM!BA57","v":38.147758092862816},439.57831609909783,6425.0748722948711,42.862400000000008,5.9727874470396625E-3,null,null,2032,11796.547917378442,0,741.4355492629071,{"$f":"INDEX('Floor Space'!$I$5:$DK$54,MATCH(BVM!BE57,'Floor Space'!$I$5:$I$54,0),MATCH(BVM!BE$10,'Floor Space'!$I$5:$DK$5,0))*BVM!BL57","v":70.458273319319488},811.89382258222656,11867.006190697763,42.862400000000008,5.9727874470396625E-3,null,null,2032,2949.1369793446106,0,185.35888731572678,{"$f":"INDEX('Floor Space'!$I$5:$DK$54,MATCH(BVM!BP57,'Floor Space'!$I$5:$I$54,0),MATCH(BVM!BP$10,'Floor Space'!$I$5:$DK$5,0))*BVM!BW57","v":17.614568329829872},202.97345564555664,2966.7515476744406,42.862400000000008,5.9727874470396625E-3,null,null,2032,5693.9510586310671,0,357.87569043083465,{"$f":"INDEX('Floor Space'!$I$5:$DK$54,MATCH(BVM!CA57,'Floor Space'!$I$5:$I$54,0),MATCH(BVM!CA$10,'Floor Space'!$I$5:$DK$5,0))*BVM!CH57","v":34.008759407049659},391.88444983788429,5727.9598180381172,42.862400000000008,5.9727874470396625E-3,null,null,2032,12951.844197811426,0,889.0668927643228,{"$f":"INDEX('Floor Space'!$I$5:$DK$54,MATCH(BVM!CL57,'Floor Space'!$I$5:$I$54,0),MATCH(BVM!CL$10,'Floor Space'!$I$5:$DK$5,0))*BVM!CS57","v":77.19504118790212},966.26193395222492,13029.039238999329,42.862400000000008,5.9601582607784476E-3,null,null,2032,6641.9499284307021,0,438.43680409725005,{"$f":"INDEX('Floor Space'!$I$5:$DK$54,MATCH(BVM!CW57,'Floor Space'!$I$5:$I$54,0),MATCH(BVM!CW$10,'Floor Space'!$I$5:$DK$5,0))*BVM!DD57","v":50.677370322411875},489.11417441966194,6692.6272987531138,42.862400000000008,7.6298934602756496E-3,null,null,2032,27057.649114863605,0,1629.5774057297112,{"$f":"INDEX('Floor Space'!$I$5:$DK$54,MATCH(BVM!DH57,'Floor Space'!$I$5:$I$54,0),MATCH(BVM!DH$10,'Floor Space'!$I$5:$DK$5,0))*BVM!DO57","v":539.06649814713751},2168.6439038768485,27596.715613010743,42.862400000000008,1.9922887456287341E-2,null,null,2032,2456.0699381850718,0,173.3296243386971,{"$f":"INDEX('Floor Space'!$I$5:$DK$54,MATCH(BVM!DS57,'Floor Space'!$I$5:$I$54,0),MATCH(BVM!DS$10,'Floor Space'!$I$5:$DK$5,0))*BVM!DZ57","v":9.3212140386341957},182.6508383773313,2465.3911522237058,42.862400000000008,3.7951745158861794E-3,null,null,2032,1128.0658818954389,0,70.316892219889169,{"$f":"INDEX('Floor Space'!$I$5:$DK$54,MATCH(BVM!ED57,'Floor Space'!$I$5:$I$54,0),MATCH(BVM!ED$10,'Floor Space'!$I$5:$DK$5,0))*BVM!EK57","v":8.3856372401362318},78.702529460025403,1136.4515191355752,42.862400000000008,7.4336413987152739E-3,null,null,2032,2591.4479732367404,0,195.39224967477423,{"$f":"INDEX('Floor Space'!$I$5:$DK$54,MATCH(BVM!EO57,'Floor Space'!$I$5:$I$54,0),MATCH(BVM!EO$10,'Floor Space'!$I$5:$DK$5,0))*BVM!EV57","v":23.562841340560141},218.95509101533438,2615.0108145773006,42.862400000000008,9.0925388369382798E-3,null,null,2032,7749.7769715791219,0,488.20899901176097,{"$f":"INDEX('Floor Space'!$I$5:$DK$54,MATCH(BVM!EZ57,'Floor Space'!$I$5:$I$54,0),MATCH(BVM!EZ$10,'Floor Space'!$I$5:$DK$5,0))*BVM!FG57","v":28.953944598655788},517.16294361041673,7778.7309161777775,42.862400000000008,3.7361003684155403E-3,null,null,2032,3617.0549838216766,0,240.53647612921552,{"$f":"INDEX('Floor Space'!$I$5:$DK$54,MATCH(BVM!FK57,'Floor Space'!$I$5:$I$54,0),MATCH(BVM!FK$10,'Floor Space'!$I$5:$DK$5,0))*BVM!FR57","v":27.447681445046896},267.98415757426244,3644.5026652667234,42.862400000000008,7.5884059180229002E-3,null,null,2032,8932.3206891175741,0,622.26553214817352,{"$f":"INDEX('Floor Space'!$I$5:$DK$54,MATCH(BVM!FV57,'Floor Space'!$I$5:$I$54,0),MATCH(BVM!FV$10,'Floor Space'!$I$5:$DK$5,0))*BVM!GC57","v":103.24621409432598},725.5117462424995,9035.5669032119004,42.862400000000008,1.1558722272489996E-2,null,null,2032,12469.773553504059,0,855.22987551171116,{"$f":"INDEX('Floor Space'!$I$5:$DK$54,MATCH(BVM!GG57,'Floor Space'!$I$5:$I$54,0),MATCH(BVM!GG$10,'Floor Space'!$I$5:$DK$5,0))*BVM!GN57","v":156.22239423689734},1011.4522697486085,12625.995947740957,42.862400000000008,1.2528085900405106E-2,null,null,2032,20381.757033386639,0,1432.0378599033463,{"$f":"INDEX('Floor Space'!$I$5:$DK$54,MATCH(BVM!GR57,'Floor Space'!$I$5:$I$54,0),MATCH(BVM!GR$10,'Floor Space'!$I$5:$DK$5,0))*BVM!GY57","v":102.18100709985669},1534.2188670032031,20483.938040486497,42.862400000000008,5.013356156315707E-3]
[null,2033,165728.50131650662,0,11053.631752624402,1794.4620108892029,12848.093763513605,167522.96332739579,42.862400000000008,1.0827721222568254E-2,null,null,2033,15985.173857535166,0,951.95735668553539,{"$f":"INDEX('Floor Space'!$I$5:$DK$54,MATCH(BVM!M58,'Floor Space'!$I$5:$I$54,0),MATCH(BVM!M$10,'Floor Space'!$I$5:$DK$5,0))*BVM!T58","v":256.65657421093147},1208.6139308964669,16241.830431746097,42.862400000000008,1.6055913842309977E-2,null,null,2033,7201.9758741223504,0,428.89579914144713,{"$f":"INDEX('Floor Space'!$I$5:$DK$54,MATCH(BVM!X58,'Floor Space'!$I$5:$I$54,0),MATCH(BVM!X$10,'Floor Space'!$I$5:$DK$5,0))*BVM!AE58","v":115.63430412930398},544.53010327075117,7317.6101782516544,42.862400000000008,1.6055913842309977E-2,null,null,2033,8450.5890465602643,0,503.2538577869235,{"$f":"INDEX('Floor Space'!$I$5:$DK$54,MATCH(BVM!AI58,'Floor Space'!$I$5:$I$54,0),MATCH(BVM!AI$10,'Floor Space'!$I$5:$DK$5,0))*BVM!AP58","v":135.68192964834057},638.93578743526405,8586.2709762086051,42.862400000000008,1.6055913842309977E-2,null,null,2033,6425.0748722948711,0,434.703884966131,{"$f":"INDEX('Floor Space'!$I$5:$DK$54,MATCH(BVM!AT58,'Floor Space'!$I$5:$I$54,0),MATCH(BVM!AT$10,'Floor Space'!$I$5:$DK$5,0))*BVM!BA58","v":38.147758092862816},472.85164305899383,6463.2226303877342,42.862400000000008,5.9373250664140897E-3,null,null,2033,11867.006190697763,0,802.89082953066259,{"$f":"INDEX('Floor Space'!$I$5:$DK$54,MATCH(BVM!BE58,'Floor Space'!$I$5:$I$54,0),MATCH(BVM!BE$10,'Floor Space'!$I$5:$DK$5,0))*BVM!BL58","v":70.458273319319488},873.34910284998205,11937.464464017083,42.862400000000008,5.9373250664140897E-3,null,null,2033,2966.7515476744406,0,200.72270738266565,{"$f":"INDEX('Floor Space'!$I$5:$DK$54,MATCH(BVM!BP58,'Floor Space'!$I$5:$I$54,0),MATCH(BVM!BP$10,'Floor Space'!$I$5:$DK$5,0))*BVM!BW58","v":17.614568329829872},218.33727571249551,2984.3661160042707,42.862400000000008,5.9373250664140897E-3,null,null,2033,5727.9598180381172,0,387.53889025758701,{"$f":"INDEX('Floor Space'!$I$5:$DK$54,MATCH(BVM!CA58,'Floor Space'!$I$5:$I$54,0),MATCH(BVM!CA$10,'Floor Space'!$I$5:$DK$5,0))*BVM!CH58","v":34.008759407049659},421.54764966463665,5761.9685774451673,42.862400000000008,5.9373250664140897E-3,null,null,2033,13029.039238999329,0,926.92893870816374,{"$f":"INDEX('Floor Space'!$I$5:$DK$54,MATCH(BVM!CL58,'Floor Space'!$I$5:$I$54,0),MATCH(BVM!CL$10,'Floor Space'!$I$5:$DK$5,0))*BVM!CS58","v":77.19504118790212},1004.1239798960659,13106.234280187231,42.862400000000008,5.9248452454450096E-3,null,null,2033,6692.6272987531138,0,464.82801547811391,{"$f":"INDEX('Floor Space'!$I$5:$DK$54,MATCH(BVM!CW58,'Floor Space'!$I$5:$I$54,0),MATCH(BVM!CW$10,'Floor Space'!$I$5:$DK$5,0))*BVM!DD58","v":50.677370322411875},515.5053858005258,6743.3046690755255,42.862400000000008,7.5721189990443083E-3,null,null,2033,27596.715613010743,0,1779.5761024395715,{"$f":"INDEX('Floor Space'!$I$5:$DK$54,MATCH(BVM!DH58,'Floor Space'!$I$5:$I$54,0),MATCH(BVM!DH$10,'Floor Space'!$I$5:$DK$5,0))*BVM!DO58","v":539.06649814713751},2318.6426005867088,28135.782111157881,42.862400000000008,1.9533719363799662E-2,null,null,2033,2465.3911522237058,0,150.25713709670288,{"$f":"INDEX('Floor Space'!$I$5:$DK$54,MATCH(BVM!DS58,'Floor Space'!$I$5:$I$54,0),MATCH(BVM!DS$10,'Floor Space'!$I$5:$DK$5,0))*BVM!DZ58","v":9.3212140386341957},159.57835113533707,2474.7123662623399,42.862400000000008,3.7808256228333281E-3,null,null,2033,1136.4515191355752,0,68.62712312743335,{"$f":"INDEX('Floor Space'!$I$5:$DK$54,MATCH(BVM!ED58,'Floor Space'!$I$5:$I$54,0),MATCH(BVM!ED$10,'Floor Space'!$I$5:$DK$5,0))*BVM!EK58","v":8.3856372401362318},77.012760367569584,1144.8371563757114,42.862400000000008,7.3787901190141003E-3,null,null,2033,2615.0108145773006,0,152.88646148691123,{"$f":"INDEX('Floor Space'!$I$5:$DK$54,MATCH(BVM!EO58,'Floor Space'!$I$5:$I$54,0),MATCH(BVM!EO$10,'Floor Space'!$I$5:$DK$5,0))*BVM!EV58","v":23.562841340560141},176.44930282747137,2638.5736559178608,42.862400000000008,9.010609519933821E-3,null,null,2033,7778.7309161777775,0,514.58177851403775,{"$f":"INDEX('Floor Space'!$I$5:$DK$54,MATCH(BVM!EZ58,'Floor Space'!$I$5:$I$54,0),MATCH(BVM!EZ$10,'Floor Space'!$I$5:$DK$5,0))*BVM!FG58","v":28.953944598655788},543.53572311269352,7807.6848607764332,42.862400000000008,3.7221938784948172E-3,null,null,2033,3644.5026652667234,0,345.36069643897025,{"$f":"INDEX('Floor Space'!$I$5:$DK$54,MATCH(BVM!FK58,'Floor Space'!$I$5:$I$54,0),MATCH(BVM!FK$10,'Floor Space'!$I$5:$DK$5,0))*BVM!FR58","v":27.447681445046896},372.80837788401715,3671.9503467117702,42.862400000000008,7.5312556927538132E-3,null,null,2033,9035.5669032119004,0,645.48538755643006,{"$f":"INDEX('Floor Space'!$I$5:$DK$54,MATCH(BVM!FV58,'Floor Space'!$I$5:$I$54,0),MATCH(BVM!FV$10,'Floor Space'!$I$5:$DK$5,0))*BVM!GC58","v":103.24621409432598},748.73160165075603,9138.8131173062266,42.862400000000008,1.1426644858069102E-2,null,null,2033,12625.995947740957,0,863.24750523723048,{"$f":"INDEX('Floor Space'!$I$5:$DK$54,MATCH(BVM!GG58,'Floor Space'!$I$5:$I$54,0),MATCH(BVM!GG$10,'Floor Space'!$I$5:$DK$5,0))*BVM!GN58","v":156.22239423689734},1019.4698994741278,12782.218341977856,42.862400000000008,1.2373074954522556E-2,null,null,2033,20483.938040486497,0,1431.8892807898847,{"$f":"INDEX('Floor Space'!$I$5:$DK$54,MATCH(BVM!GR58,'Floor Space'!$I$5:$I$54,0),MATCH(BVM!GR$10,'Floor Space'!$I$5:$DK$5,0))*BVM!GY58","v":102.18100709985669},1534.0702878897414,20586.119047586355,42.862400000000008,4.9883477922016972E-3]
[null,2034,167522.96332739579,0,11694.618010662514,1794.4620108892029,13489.080021551714,169317.42533828499,42.862400000000008,1.071173751494725E-2,null,null,2034,16241.830431746097,0,1116.0294652725456,{"$f":"INDEX('Floor Space'!$I$5:$DK$54,MATCH(BVM!M59,'Floor Space'!$I$5:$I$54,0),MATCH(BVM!M$10,'Floor Space'!$I$5:$DK$5,0))*BVM!T59","v":256.65657421093147},1372.6860394834771,16498.487005957028,42.862400000000008,1.580219515832848E-2,null,null,2034,7317.6101782516544,0,502.81700751810945,{"$f":"INDEX('Floor Space'!$I$5:$DK$54,MATCH(BVM!X59,'Floor Space'!$I$5:$I$54,0),MATCH(BVM!X$10,'Floor Space'!$I$5:$DK$5,0))*BVM!AE59","v":115.63430412930398},618.45131164741338,7433.2444823809583,42.862400000000008,1.580219515832848E-2,null,null,2034,8586.2709762086051,0,589.99085395777593,{"$f":"INDEX('Floor Space'!$I$5:$DK$54,MATCH(BVM!AI59,'Floor Space'!$I$5:$I$54,0),MATCH(BVM!AI$10,'Floor Space'!$I$5:$DK$5,0))*BVM!AP59","v":135.68192964834057},725.67278360611647,8721.952905856946,42.862400000000008,1.580219515832848E-2,null,null,2034,6463.2226303877342,0,487.38601064464416,{"$f":"INDEX('Floor Space'!$I$5:$DK$54,MATCH(BVM!AT59,'Floor Space'!$I$5:$I$54,0),MATCH(BVM!AT$10,'Floor Space'!$I$5:$DK$5,0))*BVM!BA59","v":38.147758092862816},525.53376873750699,6501.3703884805973,42.862400000000008,5.9022813036806454E-3,null,null,2034,11937.464464017083,0,900.19383750988891,{"$f":"INDEX('Floor Space'!$I$5:$DK$54,MATCH(BVM!BE59,'Floor Space'!$I$5:$I$54,0),MATCH(BVM!BE$10,'Floor Space'!$I$5:$DK$5,0))*BVM!BL59","v":70.458273319319488},970.65211082920837,12007.922737336403,42.862400000000008,5.9022813036806454E-3,null,null,2034,2984.3661160042707,0,225.04845937747223,{"$f":"INDEX('Floor Space'!$I$5:$DK$54,MATCH(BVM!BP59,'Floor Space'!$I$5:$I$54,0),MATCH(BVM!BP$10,'Floor Space'!$I$5:$DK$5,0))*BVM!BW59","v":17.614568329829872},242.66302770730209,3001.9806843341007,42.862400000000008,5.9022813036806454E-3,null,null,2034,5761.9685774451673,0,434.50505096593315,{"$f":"INDEX('Floor Space'!$I$5:$DK$54,MATCH(BVM!CA59,'Floor Space'!$I$5:$I$54,0),MATCH(BVM!CA$10,'Floor Space'!$I$5:$DK$5,0))*BVM!CH59","v":34.008759407049659},468.51381037298279,5795.9773368522174,42.862400000000008,5.9022813036806454E-3,null,null,2034,13106.234280187231,0,923.83373784646426,{"$f":"INDEX('Floor Space'!$I$5:$DK$54,MATCH(BVM!CL59,'Floor Space'!$I$5:$I$54,0),MATCH(BVM!CL$10,'Floor Space'!$I$5:$DK$5,0))*BVM!CS59","v":77.19504118790212},1001.0287790343664,13183.429321375133,42.862400000000008,5.8899482137748649E-3,null,null,2034,6743.3046690755255,0,456.80946201542258,{"$f":"INDEX('Floor Space'!$I$5:$DK$54,MATCH(BVM!CW59,'Floor Space'!$I$5:$I$54,0),MATCH(BVM!CW$10,'Floor Space'!$I$5:$DK$5,0))*BVM!DD59","v":50.677370322411875},507.48683233783447,6793.9820393979371,42.862400000000008,7.5152129125672928E-3,null,null,2034,28135.782111157881,0,1753.5996514805943,{"$f":"INDEX('Floor Space'!$I$5:$DK$54,MATCH(BVM!DH59,'Floor Space'!$I$5:$I$54,0),MATCH(BVM!DH$10,'Floor Space'!$I$5:$DK$5,0))*BVM!DO59","v":539.06649814713751},2292.666149627732,28674.84860930502,42.862400000000008,1.9159463775253016E-2,null,null,2034,2474.7123662623399,0,150.14639048036744,{"$f":"INDEX('Floor Space'!$I$5:$DK$54,MATCH(BVM!DS59,'Floor Space'!$I$5:$I$54,0),MATCH(BVM!DS$10,'Floor Space'!$I$5:$DK$5,0))*BVM!DZ59","v":9.3212140386341957},159.46760451900164,2484.0335803009739,42.862400000000008,3.7665848224262E-3,null,null,2034,1144.8371563757114,0,73.652969378813324,{"$f":"INDEX('Floor Space'!$I$5:$DK$54,MATCH(BVM!ED59,'Floor Space'!$I$5:$I$54,0),MATCH(BVM!ED$10,'Floor Space'!$I$5:$DK$5,0))*BVM!EK59","v":8.3856372401362318},82.038606618949558,1153.2227936158476,42.862400000000008,7.3247423822992985E-3,null,null,2034,2638.5736559178608,0,158.72061634715635,{"$f":"INDEX('Floor Space'!$I$5:$DK$54,MATCH(BVM!EO59,'Floor Space'!$I$5:$I$54,0),MATCH(BVM!EO$10,'Floor Space'!$I$5:$DK$5,0))*BVM!EV59","v":23.562841340560141},182.28345768771649,2662.1364972584211,42.862400000000008,8.9301434840420857E-3,null,null,2034,7807.6848607764332,0,565.46781023083065,{"$f":"INDEX('Floor Space'!$I$5:$DK$54,MATCH(BVM!EZ59,'Floor Space'!$I$5:$I$54,0),MATCH(BVM!EZ$10,'Floor Space'!$I$5:$DK$5,0))*BVM!FG59","v":28.953944598655788},594.42175482948642,7836.6388053750889,42.862400000000008,3.7083905299650777E-3,null,null,2034,3671.9503467117702,0,241.75041708486461,{"$f":"INDEX('Floor Space'!$I$5:$DK$54,MATCH(BVM!FK59,'Floor Space'!$I$5:$I$54,0),MATCH(BVM!FK$10,'Floor Space'!$I$5:$DK$5,0))*BVM!FR59","v":27.447681445046896},269.19809852991148,3699.398028156817,42.862400000000008,7.4749598587644517E-3,null,null,2034,9138.8131173062266,0,636.21430034702871,{"$f":"INDEX('Floor Space'!$I$5:$DK$54,MATCH(BVM!FV59,'Floor Space'!$I$5:$I$54,0),MATCH(BVM!FV$10,'Floor Space'!$I$5:$DK$5,0))*BVM!GC59","v":103.24621409432598},739.46051444135469,9242.0593314005528,42.862400000000008,1.1297551746496381E-2,null,null,2034,12782.218341977856,0,880.24833206043888,{"$f":"INDEX('Floor Space'!$I$5:$DK$54,MATCH(BVM!GG59,'Floor Space'!$I$5:$I$54,0),MATCH(BVM!GG$10,'Floor Space'!$I$5:$DK$5,0))*BVM!GN59","v":156.22239423689734},1036.4707262973361,12938.440736214754,42.862400000000008,1.2221853050643938E-2,null,null,2034,20586.119047586355,0,1598.2036381441642,{"$f":"INDEX('Floor Space'!$I$5:$DK$54,MATCH(BVM!GR59,'Floor Space'!$I$5:$I$54,0),MATCH(BVM!GR$10,'Floor Space'!$I$5:$DK$5,0))*BVM!GY59","v":102.18100709985669},1700.3846452440209,20688.300054686213,42.862400000000008,4.9635876905043119E-3]

{"sheet":"Sheet1","index":10,"n_rows":0,"n_cols":0,"rows_kept":0,"cut":false,"hidden":false,"merged":[]}