{"text_format":"1","workbook":"xlsx","n_sheets":16,"sheets":["COVER","Definitions","Navigation","Comments","Product Classes","Efficiency Levels","Constants and Menus","Product Class Dist","Efficiency Dist","6P UEC Development","Shipments and Stock ","UEC Development","UEC","Results","SUMMARY RESULTS","Charts"],"not_rendered":{"charts":13,"images":0,"macros":1,"external_links":1,"defined_names":17,"comments":0,"pivot_tables":0},"unopened":[],"bounds":{"document_bytes":16777216,"sheet_cells":100000,"rows_first":2000,"rows_last":500,"rows_between":2000,"halvings":0,"cell_chars":16384,"cell_head_chars":4096},"cells_cut":0,"cells_raw":0,"read":"whole","date_system":"1900"}

{"sheet":"COVER","index":0,"n_rows":29,"n_cols":4,"rows_kept":29,"cut":false,"hidden":false,"merged":[[23,2,23,3],[8,2,8,3],[9,2,9,3],[10,2,10,3],[13,2,13,3],[16,2,16,3],[18,2,18,3]]}
[]
[null,null,"COVER"]
[]
[null,null,"NAVIGATION"]
[]
[null,null,"COMMENTS"]
[]
[]
[null,null,"Bonneville Power Administration"]
[null,null,"6P Energy Conservation Standards Savings Model"]
[null,null,"AUTOMATIC COMMERCIAL ICEMAKERS"]
[]
[null,null,"Product Description"]
[null,null,"Automatic commercial icemakers make and harvest cube, flake, tube, and nugget ice. Ice makers are used in hotels, hospitals, schools, office buildings, supermarkets, and other facilities where foods and beverages are served or sold. \nThe product classification of the ice-makers depends on (1) equipment configuration: if the equipment is an ice-making head, self-contained unit, or a remote condensing unit i)wth remote compressor ii) without remote compressor; (2) condensor cooling media:  if the compressor is air-cooled or water-cooled; (3) the capacity of the ice-maker, and (4) ice-making process: batch type or continuous type. Batch type ice makers alternate freezing and harvesting periods which produces cube or tube ice; Continuous type ice makers continually freeze and harvest ice-cubes which produces flakes or nugget ice. "]
[]
[null,null,"Standard Compliance Year"]
[null,null,"Estimated 2018; Notice of Proposed Rulemaking (NOPR) "]
[]
[null,null,"Major changes from previous rulemaking (2009 effective standard)"]
[null,null,"Expand coverage to include continuous ice makers.  Previous rulemaking only covered batch ice makers."]
[null,null,"Expand coverage to include capacity  up to 4,000 lbs/24 hours harvest rate.  Previous rulemaking capped at 2,500lbs/24 hours."]
[]
[null,null,"6P Baseline "]
[null,null,"The product was modeled in the Sixth Power Plan. The Sixth Plan assumed the 2010 standard in the baseline."]
[]
[null,null,"Prepared By:"]
[null,null,"Navigant Consulting","Cadeo Group"]
[null,null,"One Market Street | Spear Street Tower, Suite 1200 ","840 First Street, Suite 300"]
[null,null,"San Francisco, CA 94105","Washington, DC  20002"]

{"sheet":"Definitions","index":1,"n_rows":32,"n_cols":4,"rows_kept":32,"cut":false,"hidden":false,"merged":[]}
[]
[null,null,"Definitions"]
[]
[null,null,"NAVIGATION"]
[]
[null,null,"COMMENTS"]
[]
[]
[null,null,"Average Megawatt (aMW)","The average number of megawatts over a specified time period"]
[null,null,"Adjustment to 6P Baseline ","Adjustment to reconcile the 6P projected energy consumption and the modeled consumption calculated using best available data."]
[null,null,"Department of Energy Aggregate Lifecycle Savings ","Sum of 'Total First Year Savings'.  This accounts for the cumulative savings in accordance with DOE Carbon Accounting Practices."]
[null,null,"Department of Energy Notice of Proposed Rulemaking (DOE NOPR)","Federal Register notice detailing analyses conducted by the DOE to establish proposed energy conservation standards. "]
[null,null,"Efficiency Level (EL)","The discrete efficiency ratings of a product.  Each efficiency level is associated with a different UEC."]
[null,null,"Efficiency Level Distribution","The mix of various equipment efficiencies shipped in a given year."]
[null,null,"Incremental Savings ","Savings due to the higher standards for units installed in a particular year. First year savings are highest following the standards compliance year while the stock turns over, after which first year savings are only attributed to shipments associated with new construction. "]
[null,null,"Governmental Regulatory Impact Model (GRIM)","The industry cash flow model used by DOE to assess impacts on manufacturers due to proposed energy conservation standards"]
[null,null,"Installed Unit Energy Consumption (Installed UEC)","The average annual unit energy consumption of all installed units in a given year."]
[null,null,"Market Unit Energy Consumption (Market UEC)","The average annual unit energy consumption of units shipped in a given year.   "]
[null,null,"National Impact Analysis (NIA)","The energy impact analysis used by DOE to calculate energy savings associated with each standard. "]
[null,null,"Pre-case ","The case representing 6P baseline assumptions where energy consumption due to the product accounts for shipment and shipment UEC by year, without the affect of standards announced following the development of the 6P."]
[null,null,"Post-case","The case in which standards are implemented. If the 6P already captured the analyzed standard, the post-case will be the same as the pre-case."]
[null,null,"Product Class","Product classificiation determined by product configuration, size, application, location, and other attributes that contribute to consumer utility.  DOE is allowed to establish different standards for each product class."]
[null,null,"Product Class Distribution ","Market share/mix of each product class shipped in a given year."]
[null,null,"Product Lifetime","The average time a given class of products stays in the field as part of the installed stock.  Some products will last longer (delaying replacement) whereas others will fail and be retired earlier (accelerating replacement), but the lifetime represents the market average."]
[null,null,"Shipments ","Sales of products.  This may be presented by product class, efficiency distribution, or delineated by other metrics. Shipments may be attributed to new construction and/or replacements and retrofits. "]
[null,null,"Sixth Power Plan (6P)","The Pacific Northwest Resource Plan published by the Northwest Power Conservation Council. The 6P timeframe is from 2010-2015."]
[null,null,"Sixth Power Plan Baseline (6P Baseline)","The 6P assumes equipment efficiency and shipment units in the region.  When available, the 6P assumptions are the baseline for each standard impact analysis."]
[null,null,"Standard Compliance Year","The year when the appliance standard goes into effect. "]
[null,null,"Stock ","All units installed in previous years which remain in operation."]
[null,null,"Technical Support Document (TSD)","TSDs are published by the DOE as companion documents to Federal Register notices (e.g., ANOPRs/preliminary analyses and NOPRs).  The TSDs include technical detail that supports the notices.  The final rule TSD includes the discussion of the Manufacturer Impact Analysis (MIA) and National Impact Analysis (NIA)."]
[null,null,"Cumulative Savings through 2034","The sum of incremental savings from 2010 through 2034"]
[null,null,"Trial Standard Level (TSL)","A proposed  efficiency standard evaluated by DOE during the NOPR and Final Rule phase analyses.  A TSL may specify different standard efficiency levels for each product class included in the rulemaking."]

{"sheet":"Navigation","index":2,"n_rows":21,"n_cols":12,"rows_kept":21,"cut":false,"hidden":false,"merged":[[12,7,14,7],[16,2,20,2],[16,9,18,9],[16,11,18,11],[20,9,22,9]]}
[]
[null,null,"NAVIGATION"]
[]
[null,null,"COMMENTS"]
[]
[]
[null,null,"INFORMATION TABS",null,"INPUT TABS",null,null,"UEC CALCULATIONS",null,"RESULTS",null,"CHARTS"]
[]
[null,null,"COVER",null,"PRODUCT CLASSES"]
[]
[null,null,"DEFINITIONS",null,"EFFICIENCY LEVELS"]
[]
[null,null,"NAVIGATION",null,"PRODUCT CLASS DISTRIBUTION",null,null,"UEC DEVELOPMENT"]
[]
[null,null,"COMMENTS",null,"EFFICIENCY DISTRIBUTION"]
[]
[null,null,"CENTRAL COMMERCIAL MODEL (EXTERNAL)",null,"SHIPMENTS AND STOCKS",null,null,"UEC ",null,"RESULTS",null,"CHARTS - ALL"]
[]
[null,null,null,null,"6P UEC DEVELOPMENT"]
[]
[null,null,null,null,"CONSTANTS AND MENUS",null,null,null,null,"SUMMARY RESULTS"]

{"sheet":"Comments","index":3,"n_rows":8,"n_cols":4,"rows_kept":8,"cut":false,"hidden":false,"merged":[[13,3,13,7],[14,3,14,7],[15,3,15,7],[16,3,16,7],[7,3,7,7],[8,3,8,7],[9,3,9,7],[10,3,10,7],[11,3,11,7],[12,3,12,7]]}
[]
[null,null,"Comments"]
[]
[null,null,"NAVIGATION"]
[]
[]
[null,null,"Tab","Comment"]
[null,null,"Example","Please use this space to document your comments as you review the model.  We look forward to receiving your feedback.  Thank you."]

{"sheet":"Product Classes","index":4,"n_rows":38,"n_cols":11,"rows_kept":38,"cut":false,"hidden":false,"merged":[[16,3,20,3],[16,4,17,4],[18,4,20,4],[13,3,15,3],[11,4,12,4],[14,4,15,4],[9,3,12,3]]}
[]
[null,null,"Selection of Product Classes for Model"]
[]
[null,null,"NAVIGATION"]
[]
[null,null,"COMMENTS"]
[]
[]
[null,null,"All Product Classes","6th Plan PCs","2010 DFR PCs","2014 DOE NOPR PCs","2018 DOE NOPR Analyzed PCs",null,"Model PCs","Rationale"]
[null,null,"Ice Making Head-Water Cooled-Small-Batch","6P-PC1","2010-DOE-PC1","DOE-PC1","PC1",null,"PC1","Combined Product Classes represent 91% of shipments"]
[null,null,"Ice Making Head-Water Cooled-Med-Batch",null,"2010-DOE-PC2","DOE-PC2","PC2",null,"PC2","Combined Product Classes represent 91% of shipments"]
[null,null,"Ice Making Head-Water Cooled-Large-Batch-1",null,"2010-DOE-PC3","DOE-PC3","PC3",null,"PC3","Combined Product Classes represent 91% of shipments","*Split"]
[null,null,"Ice Making Head-Water Cooled-Large-Batch-2",null,null,"DOE-PC4","PC4",null,"PC4","Combined Product Classes represent 91% of shipments","*Split"]
[null,null,"Ice Making Head-Air Cooled-Small-Batch","6P-PC2","2010-DOE-PC4","DOE-PC5","PC5",null,"PC5","Combined Product Classes represent 91% of shipments"]
[null,null,"Ice Making Head-Air Cooled-Large-Batch-1",null,"2010-DOE-PC5","DOE-PC6","PC6",null,"PC6","Combined Product Classes represent 91% of shipments","*Split"]
[null,null,"Ice Making Head-Air Cooled-Large-Batch-2",null,null,"DOE-PC7","PC7",null,"PC7","Combined Product Classes represent 91% of shipments","*Split"]
[null,null,"Remote Condensing Unit-Not Remote Condensor-Small-Batch","6P-PC3","2010-DOE-PC6","DOE-PC8"]
[null,null,"Remote Condensing Unit-Remote Condensor-Small-Batch",null,null,"DOE-PC9"]
[null,null,"Remote Condensing Unit-Not Remote Condensor-Large-Batch-1",null,"2010-DOE-PC7","DOE-PC10","PC9",null,"PC8","Combined Product Classes represent 91% of shipments","*Split"]
[null,null,"Remote Condensing Unit-Not Remote Condensor-Large-Batch-2",null,null,"DOE-PC11","PC10",null,"PC9","Combined Product Classes represent 91% of shipments","*Split"]
[null,null,"Remote Condensing Unit-Remote Condensor-Large-Batch",null,null,"DOE-PC12"]
[null,null,"Self-Contained Unit-Water-Cooled-Small-Batch","6P-PC4","2010-DOE-PC8","DOE-PC13"]
[null,null,"Self-Contained Unit-Water Cooled-Large-Batch","6P-PC5","2010-DOE-PC9","DOE-PC14","PC14",null,"PC10","Combined Product Classes represent 91% of shipments"]
[null,null,"Self-Contained Unit-Air-Cooled-Small-Batch","6P-PC6","2010-DOE-PC10","DOE-PC15","PC15",null,"PC11","Combined Product Classes represent 91% of shipments"]
[null,null,"Self-Contained Unit-Air-Cooled-Large-Batch","6P-PC7","2010-DOE-PC11","DOE-PC16","PC16",null,"PC12","Combined Product Classes represent 91% of shipments"]
[null,null,"Ice Maker Head-Water-Cooled-Small-Continuous",null,null,"DOE-PC17"]
[null,null,"Ice Making Head-Water-Cooled-Large-Continuous",null,null,"DOE-PC18"]
[null,null,"Ice-Making Head-Air-Cooled-Small-Continous",null,null,"DOE-PC19","PC19",null,"PC13","Combined Product Classes represent 91% of shipments"]
[null,null,"Ice-Making Head-Air-Cooled-Large-Continuous",null,null,"DOE-PC20","PC20",null,"PC14","Combined Product Classes represent 91% of shipments"]
[null,null,"Remote Condensing Unit-Not Remote Condensor-Small-Continuous",null,null,"DOE-PC21"]
[null,null,"Remote Condensing Unit-Not Remote Condensor-Large-Continuous ",null,null,"DOE-PC22"]
[null,null,"Self-Contained Unit-Water-Cooled-Small-C",null,null,"DOE-PC23"]
[null,null,"Self-Contained Unit-Water-Cooled-Large-Continuous",null,null,"DOE-PC24"]
[null,null,"Self-Contained Unit-Air-Cooled-Small-Continuous",null,null,"DOE-PC25","PC25",null,"PC15","Combined Product Classes represent 91% of shipments"]
[null,null,"Self-Contained Unit-Air-Cooled-Large-Continuous",null,null,"DOE-PC26"]
[]
[null,null,"Sources","DOE Automatic Commercial Ice Makers 2014, Notice of Proposed Rulemaking (NOPR) Technical Support Document Chapter 3, Section 3.2.4 Table 3.2.7 Proposed NOPR Automatic Commercial Ice-Making Equipment Classes (page 3-13)"]
[null,null,null,"6P Conservation Supply Curve Files: Refrigerators Freezers Ice Makers Beverage Vending, ‘IceARI’ tab, cells R31:R39 (Unknown Origin)"]

{"sheet":"Efficiency Levels","index":5,"n_rows":259,"n_cols":6,"rows_kept":259,"cut":false,"hidden":false,"merged":[[1,2,1,3],[3,2,3,3],[5,2,5,3]]}
[]
[null,null,"Efficiency Levels and Standards for Each Product Class"]
[]
[null,null,"NAVIGATION"]
[]
[null,null,"COMMENTS"]
[]
[]
[null,null,"PC1",{"$f":"OFFSET('Product Classes'!$C$9,MATCH(C9,'Product Classes'!$I$10:$I$35,0),0)","v":"Ice Making Head-Water Cooled-Small-Batch"}]
[]
[null,null," Model ELs","Energy Level (kWh/year)","Compliance Year","Efficiency Level Description"]
[null,null,"EL0",{"$f":"'6P UEC Development'!$D$63","v":7745.9499850348666},null,"6P Weighted average of all IMH ice-maker machines"]
[null,null,"EL1",3389.0250000000001,null,"NIA baseline "]
[null,null,"EL2",3052.3125000000005,null,"10% more efficient than baseline "]
[null,null,"EL3",2883.9562499999997,null,"15% more efficient than baseline "]
[null,null,"EL4",2715.6000000000008,null,"20% more efficient than baseline"]
[null,null,"EL5",2547.2437500000005,2018,"25% more efficient than baseline "]
[null,null,"EL6",2399.9658105939011,null,"30% more efficient than baseline "]
[null,null,"EL7"]
[]
[null,null,"Sources","DOE Automatic Commercial Ice Makers 2014, Notice of Proposed Rulemaking (NOPR) Technical Support Document Chapter 7, Table 7.2.1 Total Annual Energy Usage (page 7-2) "]
[]
[]
[]
[]
[null,null,"PC2",{"$f":"OFFSET('Product Classes'!$C$9,MATCH(C26,'Product Classes'!$I$10:$I$35,0),0)","v":"Ice Making Head-Water Cooled-Med-Batch"}]
[]
[null,null," Model ELs","Energy Level (kWh/year)","Compliance Year","Efficiency Level Description"]
[null,null,"EL0",{"$f":"'6P UEC Development'!$D$63","v":7745.9499850348666},null,"6P Weighted average of all IMH ice-maker machines"]
[null,null,"EL1",7227.4562499999993,null,"NIA baseline "]
[null,null,"EL2",6506.9006249999984,null,"10% more efficient than baseline "]
[null,null,"EL3",6146.622812499998,2018,"15% more efficient than baseline "]
[null,null,"EL4",5786.3449999999993,null,"20% more efficient than baseline"]
[null,null,"EL5",5690.8676501035188,null,"25% more efficient than baseline "]
[null,null,"EL6"]
[null,null,"EL7"]
[]
[null,null,"Sources","DOE Automatic Commercial Ice Makers 2014, Notice of Proposed Rulemaking (NOPR) Technical Support Document Chapter 7, Table 7.2.1 Total Annual Energy Usage (page 7-2) "]
[]
[]
[]
[]
[null,null,"PC3",{"$f":"OFFSET('Product Classes'!$C$9,MATCH(C43,'Product Classes'!$I$10:$I$35,0),0)","v":"Ice Making Head-Water Cooled-Large-Batch-1"}]
[]
[null,null," Model ELs","Energy Level (kWh/year)","Compliance Year","Efficiency Level Description"]
[null,null,"EL0",{"$f":"'6P UEC Development'!$D$63","v":7745.9499850348666},null,"6P Weighted average of all IMH ice-maker machines"]
[null,null,"EL1",10971.9,null,"NIA baseline "]
[null,null,"EL2",9876.9,2018,"10% more efficient than baseline "]
[null,null,"EL3",9329.4,null,"15% more efficient than baseline "]
[null,null,"EL4",9146.9,null,"20% more efficient than baseline"]
[null,null,"EL5"]
[null,null,"EL6"]
[null,null,"EL7"]
[]
[null,null,"Sources","DOE Automatic Commercial Ice Makers 2014, Notice of Proposed Rulemaking (NOPR) Technical Support Document Chapter 7, Table 7.2.1 Total Annual Energy Usage (page 7-2) "]
[]
[]
[]
[]
[null,null,"PC4",{"$f":"OFFSET('Product Classes'!$C$9,MATCH(C60,'Product Classes'!$I$10:$I$35,0),0)","v":"Ice Making Head-Water Cooled-Large-Batch-2"}]
[]
[null,null," Model ELs","Energy Level (kWh/year)","Compliance Year","Efficiency Level Description"]
[null,null,"EL0",{"$f":"'6P UEC Development'!$D$63","v":7745.9499850348666},null,"6P Weighted average of all IMH ice-maker machines"]
[null,null,"EL1",19001.900000000001,null,"NIA baseline "]
[null,null,"EL2",17103.900000000001,2018,"10% more efficient than baseline "]
[null,null,"EL3",16154.9,null,"15% more efficient than baseline "]
[null,null,"EL4",16067.336408977559,null,"20% more efficient than baseline"]
[null,null,"EL5"]
[null,null,"EL6"]
[null,null,"EL7"]
[]
[null,null,"Sources","DOE Automatic Commercial Ice Makers 2014, Notice of Proposed Rulemaking (NOPR) Technical Support Document Chapter 7, Table 7.2.1 Total Annual Energy Usage (page 7-2) "]
[]
[]
[]
[]
[null,null,"PC5",{"$f":"OFFSET('Product Classes'!$C$9,MATCH(C77,'Product Classes'!$I$10:$I$35,0),0)","v":"Ice Making Head-Air Cooled-Small-Batch"}]
[]
[null,null," Model ELs","Energy Level (kWh/year)","Compliance Year","Efficiency Level Description"]
[null,null,"EL0",{"$f":"'6P UEC Development'!$D$62","v":7804.8710483203131},null,"6P Weighted average of all IMH ice-maker machines"]
[null,null,"EL1",4226.6999999999989,null,"NIA baseline "]
[null,null,"EL2",3806.2200000000003,null,"10% more efficient than baseline "]
[null,null,"EL3",3595.98,null,"15% more efficient than baseline "]
[null,null,"EL4",3385.7400000000002,null,"20% more efficient than baseline"]
[null,null,"EL5",3175.5000000000005,2018,"25% more efficient than baseline "]
[null,null,"EL6",2965.2599999999998,null,"30% more efficient than baseline "]
[null,null,"EL7",2908.7776119402984,null,"Max Tech"]
[]
[null,null,"Sources","DOE Automatic Commercial Ice Makers 2014, Notice of Proposed Rulemaking (NOPR) Technical Support Document Chapter 7, Table 7.2.1 Total Annual Energy Usage (page 7-2) "]
[]
[]
[]
[]
[null,null,"PC6",{"$f":"OFFSET('Product Classes'!$C$9,MATCH(C94,'Product Classes'!$I$10:$I$35,0),0)","v":"Ice Making Head-Air Cooled-Large-Batch-1"}]
[]
[null,null," Model ELs","Energy Level (kWh/year)","Compliance Year","Efficiency Level Description"]
[null,null,"EL0",{"$f":"'6P UEC Development'!$D$62","v":7804.8710483203131},null,"6P Weighted average of all IMH ice-maker machines"]
[null,null,"EL1",8796.5,null,"NIA baseline "]
[null,null,"EL2",7919.0399999999991,null,"10% more efficient than baseline "]
[null,null,"EL3",7480.3099999999986,null,"15% more efficient than baseline "]
[null,null,"EL4",7041.579999999999,null,"20% more efficient than baseline"]
[null,null,"EL5",6602.85,2018,"25% more efficient than baseline "]
[null,null,"EL6",6213.1152284263953,null,"30% more efficient than baseline "]
[null,null,"EL7"]
[]
[null,null,"Sources","DOE Automatic Commercial Ice Makers 2014, Notice of Proposed Rulemaking (NOPR) Technical Support Document Chapter 7, Table 7.2.1 Total Annual Energy Usage (page 7-2) "]
[]
[]
[]
[]
[null,null,"PC7",{"$f":"OFFSET('Product Classes'!$C$9,MATCH(C111,'Product Classes'!$I$10:$I$35,0),0)","v":"Ice Making Head-Air Cooled-Large-Batch-2"}]
[]
[null,null," Model ELs","Energy Level (kWh/year)","Compliance Year","Efficiency Level Description"]
[null,null,"EL0",{"$f":"'6P UEC Development'!$D$62","v":7804.8710483203131},null,"6P Weighted average of all IMH ice-maker machines"]
[null,null,"EL1",14366.399999999998,null,"NIA baseline "]
[null,null,"EL2",12931.949999999997,null,"10% more efficient than baseline "]
[null,null,"EL3",12214.724999999999,2018,"15% more efficient than baseline "]
[null,null,"EL4",11497.499999999998,null,"20% more efficient than baseline"]
[null,null,"EL5"]
[null,null,"EL6"]
[null,null,"EL7"]
[]
[null,null,"Sources","DOE Automatic Commercial Ice Makers 2014, Notice of Proposed Rulemaking (NOPR) Technical Support Document Chapter 7, Table 7.2.1 Total Annual Energy Usage (page 7-2) "]
[]
[]
[]
[]
[null,null,"PC8",{"$f":"OFFSET('Product Classes'!$C$9,MATCH(C128,'Product Classes'!$I$10:$I$35,0),0)","v":"Remote Condensing Unit-Not Remote Condensor-Large-Batch-1"}]
[]
[null,null," Model ELs","Energy Level (kWh/year)","Compliance Year","Efficiency Level Description"]
[null,null,"EL0",{"$f":"'6P UEC Development'!$D$64","v":9645.6359999999986},null,"6P Weighted average of all RU ice-maker machines"]
[null,null,"EL1",13983.149999999998,null,"NIA baseline "]
[null,null,"EL2",12726.637499999999,null,"10% more efficient than baseline "]
[null,null,"EL3",11888.9625,2018,"15% more efficient than baseline "]
[null,null,"EL4",11190.9,null,"20% more efficient than baseline"]
[null,null,"EL5",11107.961881188117,null,"25% more efficient than baseline "]
[null,null,"EL6"]
[null,null,"EL7"]
[]
[null,null,"Sources","DOE Automatic Commercial Ice Makers 2014, Notice of Proposed Rulemaking (NOPR) Technical Support Document Chapter 7, Table 7.2.1 Total Annual Energy Usage (page 7-2) "]
[]
[]
[]
[]
[null,null,"PC9",{"$f":"OFFSET('Product Classes'!$C$9,MATCH(C145,'Product Classes'!$I$10:$I$35,0),0)","v":"Remote Condensing Unit-Not Remote Condensor-Large-Batch-2"}]
[]
[null,null," Model ELs","Energy Level (kWh/year)","Compliance Year","Efficiency Level Description"]
[null,null,"EL0",{"$f":"'6P UEC Development'!$D$64","v":9645.6359999999986},null,"6P Weighted average of all RU ice-maker machines"]
[null,null,"EL1",22359.899999999998,null,"NIA baseline "]
[null,null,"EL2",20349.48,null,"10% more efficient than baseline "]
[null,null,"EL3",19009.200000000004,2018,"15% more efficient than baseline "]
[null,null,"EL4",17892.300000000003,null,"20% more efficient than baseline"]
[null,null,"EL5",17778.864843749998,null,"25% more efficient than baseline "]
[null,null,"EL6"]
[null,null,"EL7"]
[]
[null,null,"Sources","DOE Automatic Commercial Ice Makers 2014, Notice of Proposed Rulemaking (NOPR) Technical Support Document Chapter 7, Table 7.2.1 Total Annual Energy Usage (page 7-2) "]
[]
[]
[]
[]
[null,null,"PC10",{"$f":"OFFSET('Product Classes'!$C$9,MATCH(C162,'Product Classes'!$I$10:$I$35,0),0)","v":"Self-Contained Unit-Water Cooled-Large-Batch"}]
[]
[null,null," Model ELs","Energy Level (kWh/year)","Compliance Year","Efficiency Level Description"]
[null,null,"EL0",{"$f":"'6P UEC Development'!$D$68","v":3552.701428571429},null,"6P Weighted average of all SC ice-maker machines"]
[null,null,"EL1",4182.8999999999996,null,"NIA baseline "]
[null,null,"EL2",3891.6299999999997,null,"10% more efficient than baseline "]
[null,null,"EL3",3558.7500000000005,null,"15% more efficient than baseline "]
[null,null,"EL4",3350.7,null,"20% more efficient than baseline"]
[null,null,"EL5",3142.6499999999992,2018,"25% more efficient than baseline "]
[null,null,"EL6",2934.6,null,"30% more efficient than baseline "]
[null,null,"EL7",2924.666650447527,null,"Max Tech"]
[]
[null,null,"Sources","DOE Automatic Commercial Ice Makers 2014, Notice of Proposed Rulemaking (NOPR) Technical Support Document Chapter 7, Table 7.2.1 Total Annual Energy Usage (page 7-2) "]
[]
[]
[]
[]
[null,null,"PC11",{"$f":"OFFSET('Product Classes'!$C$9,MATCH(C179,'Product Classes'!$I$10:$I$35,0),0)","v":"Self-Contained Unit-Air-Cooled-Small-Batch"}]
[]
[null,null," Model ELs","Energy Level (kWh/year)","Compliance Year","Efficiency Level Description"]
[null,null,"EL0",{"$f":"'6P UEC Development'!$D$65","v":2449.626155644044},null,"6P Weighted average of all SC ice-maker machines"]
[null,null,"EL1",2599.5300000000007,null,"NIA baseline "]
[null,null,"EL2",2419.0959000000003,null,"10% more efficient than baseline "]
[null,null,"EL3",2212.8854999999999,null,"15% more efficient than baseline "]
[null,null,"EL4",2084.0040000000004,null,"20% more efficient than baseline"]
[null,null,"EL5",1955.1225000000002,null,"25% more efficient than baseline "]
[null,null,"EL6",1826.2410000000002,2018,"30% more efficient than baseline "]
[null,null,"EL7",1585.2625674418605,null,"Max Tech"]
[]
[null,null,"Sources","DOE Automatic Commercial Ice Makers 2014, Notice of Proposed Rulemaking (NOPR) Technical Support Document Chapter 7, Table 7.2.1 Total Annual Energy Usage (page 7-2) "]
[]
[]
[]
[]
[null,null,"PC12",{"$f":"OFFSET('Product Classes'!$C$9,MATCH(C196,'Product Classes'!$I$10:$I$35,0),0)","v":"Self-Contained Unit-Air-Cooled-Large-Batch"}]
[]
[null,null," Model ELs","Energy Level (kWh/year)","Compliance Year","Efficiency Level Description"]
[null,null,"EL0",{"$f":"'6P UEC Development'!$D$66","v":4379.5893750000005},null,"6P Weighted average of all SC ice-maker machines"]
[null,null,"EL1",3598.9000000000005,null,"NIA baseline "]
[null,null,"EL2",3348.51,null,"10% more efficient than baseline "]
[null,null,"EL3",3062.35,null,"15% more efficient than baseline "]
[null,null,"EL4",2883.5000000000005,null,"20% more efficient than baseline"]
[null,null,"EL5",2704.65,null,"25% more efficient than baseline "]
[null,null,"EL6",2525.8000000000002,2018,"30% more efficient than baseline "]
[null,null,"EL7",2351.0944872057316,null,"Max Tech"]
[]
[null,null,"Sources","DOE Automatic Commercial Ice Makers 2014, Notice of Proposed Rulemaking (NOPR) Technical Support Document Chapter 7, Table 7.2.1 Total Annual Energy Usage (page 7-2) "]
[]
[]
[]
[]
[null,null,"PC13",{"$f":"OFFSET('Product Classes'!$C$9,MATCH(C213,'Product Classes'!$I$10:$I$35,0),0)","v":"Ice-Making Head-Air-Cooled-Small-Continous"}]
[]
[null,null," Model ELs","Energy Level (kWh/year)","Compliance Year","Efficiency Level Description"]
[null,null,"EL0",5141.9375000000009,null,"No previous compliance. Hence EL0 is from 2018 NIA"]
[null,null,"EL1",4629.9337500000011,null,"10% more efficient than baseline "]
[null,null,"EL2",4373.9318750000002,null,"15% more efficient than baseline "]
[null,null,"EL3",4117.93,2018,"20% more efficient than baseline"]
[null,null,"EL4",3861.9281250000004,null,"25% more efficient than baseline "]
[null,null,"EL5",3605.9262500000004,null,"30% more efficient than baseline "]
[null,null,"EL6",3555.288516483517,null,"31% more efficient than baseline "]
[null,null,"EL7"]
[]
[null,null,"Sources","DOE Automatic Commercial Ice Makers 2014, Notice of Proposed Rulemaking (NOPR) Technical Support Document Chapter 7, Table 7.2.1 Total Annual Energy Usage (page 7-2) "]
[]
[]
[]
[]
[null,null,"PC14",{"$f":"OFFSET('Product Classes'!$C$9,MATCH(C230,'Product Classes'!$I$10:$I$35,0),0)","v":"Ice-Making Head-Air-Cooled-Large-Continuous"}]
[]
[null,null," Model ELs","Energy Level (kWh/year)","Compliance Year","Efficiency Level Description"]
[null,null,"EL0",9898.7999999999993,null,"No previous compliance. Hence EL0 is from 2018 NIA"]
[null,null,"EL1",8911.1099999999988,null,"10% more efficient than baseline "]
[null,null,"EL2",8417.2649999999976,null,"15% more efficient than baseline "]
[null,null,"EL3",7923.4199999999992,null,"20% more efficient than baseline"]
[null,null,"EL4",7429.574999999998,2018,"25% more efficient than baseline "]
[null,null,"EL5",6935.7299999999977,null,"30% more efficient than baseline "]
[null,null,"EL6",6912.0254399999976,null,"30% more efficient than baseline "]
[null,null,"EL7"]
[]
[null,null,"Sources","DOE Automatic Commercial Ice Makers 2014, Notice of Proposed Rulemaking (NOPR) Technical Support Document Chapter 7, Table 7.2.1 Total Annual Energy Usage (page 7-2) "]
[]
[]
[]
[]
[null,null,"PC15",{"$f":"OFFSET('Product Classes'!$C$9,MATCH(C247,'Product Classes'!$I$10:$I$35,0),0)","v":"Self-Contained Unit-Air-Cooled-Small-Continuous"}]
[]
[null,null," Model ELs","Energy Level (kWh/year)","Compliance Year","Efficiency Level Description"]
[null,null,"EL0",2192.0075000000002,null,"No previous compliance. Hence EL0 is from 2018 NIA"]
[null,null,"EL1",2040.0999750000001,null,"10% more efficient than baseline "]
[null,null,"EL2",1866.4913750000001,null,"15% more efficient than baseline "]
[null,null,"EL3",1757.9860000000006,2018,"20% more efficient than baseline"]
[null,null,"EL4",1649.4806250000004,null,"25% more efficient than baseline "]
[null,null,"EL5",1580.0940055387719,null,"30% more efficient than baseline "]
[null,null,"EL6"]
[null,null,"EL7"]
[]
[null,null,"Sources","DOE Automatic Commercial Ice Makers 2014, Notice of Proposed Rulemaking (NOPR) Technical Support Document Chapter 7, Table 7.2.1 Total Annual Energy Usage (page 7-2) "]

{"sheet":"Constants and Menus","index":6,"n_rows":38,"n_cols":5,"rows_kept":38,"cut":false,"hidden":false,"merged":[]}
[]
[null,null,"Constants and Menus"]
[]
[null,null,"NAVIGATION"]
[]
[null,null,"COMMENTS"]
[]
[]
[]
[null,null,"Hours/Day",24]
[null,null,"Days/Week",7]
[null,null,"Days/Year",365.25]
[null,null,"kW/MW",1000]
[null,null,"Equipment Lifetime (years)",8.5,"DOE Automatic Commercial Ice Makers 2014, Notice of Proposed Rulemaking (NOPR) Technical Support Document Chapter 3, Table 3.2.10 Estimates for Automatic Commercial Ice Maker Lifetimes (page 3-16)"]
[null,null,"Standard Compliance Year",2018]
[]
[]
[]
[null,null,null,"Building Type "]
[null,null,null,"Large Off"]
[null,null,null,"Medium Off"]
[null,null,null,"Small Off"]
[null,null,null,"Big Box"]
[null,null,null,"Small Box"]
[null,null,null,"High End"]
[null,null,null,"Anchor"]
[null,null,null,"K-12"]
[null,null,null,"University"]
[null,null,null,"Warehouse"]
[null,null,null,"Supermarket"]
[null,null,null,"MIniMart"]
[null,null,null,"Restaurant"]
[null,null,null,"Lodging"]
[null,null,null,"Hospital"]
[null,null,null,"OtherHealth"]
[null,null,null,"Assembly"]
[null,null,null,"Other"]
[null,null,null,"TOTAL"]

{"sheet":"Product Class Dist","index":7,"n_rows":43,"n_cols":48,"rows_kept":43,"cut":false,"hidden":false,"merged":[]}
[]
[null,null,"Product Class Distributions",null,null,null,null,null,null,null,null,null,null,null," "]
[]
[null,null,"NAVIGATION"]
[]
[null,null,"COMMENTS"]
[]
[]
[null,null,"PRE-Case",1990,{"$f":"D9+1","v":1991},{"$f":"E9+1","v":1992},1993,1994,1995,1996,1997,1998,1999,2000,2001,2002,2003,2004,2005,2006,2007,2008,{"$f":"V9+1","v":2009},2010,2011,2012,2013,2014,2015,2016,2017,2018,2019,2020,2021,2022,2023,2024,2025,2026,2027,2028,2029,2030,2031,2032,2033,2034]
[null,null,"PC1 - Ice Making Head - Water Cooled - Small - Batch",4.9786676253774136E-2,4.9786676253774136E-2,4.9786676253774136E-2,4.9786676253774136E-2,4.9786676253774136E-2,4.9786676253774136E-2,4.9786676253774136E-2,4.9786676253774136E-2,4.9786676253774136E-2,4.9786676253774136E-2,4.9786676253774136E-2,4.9786676253774136E-2,4.9786676253774136E-2,4.9786676253774136E-2,4.9786676253774136E-2,4.9786676253774136E-2,4.9786676253774136E-2,4.9786676253774136E-2,4.9786676253774136E-2,4.9786676253774136E-2,4.9786676253774136E-2,4.9786676253774136E-2,4.9786676253774136E-2,4.9786676253774136E-2,4.9786676253774136E-2,4.9786676253774136E-2,4.9786676253774136E-2,4.9786676253774136E-2,4.9786676253774136E-2,4.9786676253774136E-2,4.9786676253774136E-2,4.9786676253774136E-2,4.9786676253774136E-2,4.9786676253774136E-2,4.9786676253774136E-2,4.9786676253774136E-2,4.9786676253774136E-2,4.9786676253774136E-2,4.9786676253774136E-2,4.9786676253774136E-2,4.9786676253774136E-2,4.9786676253774136E-2,4.9786676253774136E-2,4.9786676253774136E-2,4.9786676253774136E-2]
[null,null,"PC2 - Ice Making Head - Water Cooled - Medium - Batch",3.1796135038226474E-2,3.1796135038226474E-2,3.1796135038226474E-2,3.1796135038226474E-2,3.1796135038226474E-2,3.1796135038226474E-2,3.1796135038226474E-2,3.1796135038226474E-2,3.1796135038226474E-2,3.1796135038226474E-2,3.1796135038226474E-2,3.1796135038226474E-2,3.1796135038226474E-2,3.1796135038226474E-2,3.1796135038226474E-2,3.1796135038226474E-2,3.1796135038226474E-2,3.1796135038226474E-2,3.1796135038226474E-2,3.1796135038226474E-2,3.1796135038226474E-2,3.1796135038226474E-2,3.1796135038226474E-2,3.1796135038226474E-2,3.1796135038226474E-2,3.1796135038226474E-2,3.1796135038226474E-2,3.1796135038226474E-2,3.1796135038226474E-2,3.1796135038226474E-2,3.1796135038226474E-2,3.1796135038226474E-2,3.1796135038226474E-2,3.1796135038226474E-2,3.1796135038226474E-2,3.1796135038226474E-2,3.1796135038226474E-2,3.1796135038226474E-2,3.1796135038226474E-2,3.1796135038226474E-2,3.1796135038226474E-2,3.1796135038226474E-2,3.1796135038226474E-2,3.1796135038226474E-2,3.1796135038226474E-2]
[null,null,"PC3 - Ice Making Head - Water Cooled - Large - Batch-1",4.0216475940169994E-3,4.0216475940169994E-3,4.0216475940169994E-3,4.0216475940169994E-3,4.0216475940169994E-3,4.0216475940169994E-3,4.0216475940169994E-3,4.0216475940169994E-3,4.0216475940169994E-3,4.0216475940169994E-3,4.0216475940169994E-3,4.0216475940169994E-3,4.0216475940169994E-3,4.0216475940169994E-3,4.0216475940169994E-3,4.0216475940169994E-3,4.0216475940169994E-3,4.0216475940169994E-3,4.0216475940169994E-3,4.0216475940169994E-3,4.0216475940169994E-3,4.0216475940169994E-3,4.0216475940169994E-3,4.0216475940169994E-3,4.0216475940169994E-3,4.0216475940169994E-3,4.0216475940169994E-3,4.0216475940169994E-3,4.0216475940169994E-3,4.0216475940169994E-3,4.0216475940169994E-3,4.0216475940169994E-3,4.0216475940169994E-3,4.0216475940169994E-3,4.0216475940169994E-3,4.0216475940169994E-3,4.0216475940169994E-3,4.0216475940169994E-3,4.0216475940169994E-3,4.0216475940169994E-3,4.0216475940169994E-3,4.0216475940169994E-3,4.0216475940169994E-3,4.0216475940169994E-3,4.0216475940169994E-3]
[null,null,"PC4 - Ice Making Head - Water Cooled - Large - Batch-2",1.2450309504819213E-3,1.2450309504819213E-3,1.2450309504819213E-3,1.2450309504819213E-3,1.2450309504819213E-3,1.2450309504819213E-3,1.2450309504819213E-3,1.2450309504819213E-3,1.2450309504819213E-3,1.2450309504819213E-3,1.2450309504819213E-3,1.2450309504819213E-3,1.2450309504819213E-3,1.2450309504819213E-3,1.2450309504819213E-3,1.2450309504819213E-3,1.2450309504819213E-3,1.2450309504819213E-3,1.2450309504819213E-3,1.2450309504819213E-3,1.2450309504819213E-3,1.2450309504819213E-3,1.2450309504819213E-3,1.2450309504819213E-3,1.2450309504819213E-3,1.2450309504819213E-3,1.2450309504819213E-3,1.2450309504819213E-3,1.2450309504819213E-3,1.2450309504819213E-3,1.2450309504819213E-3,1.2450309504819213E-3,1.2450309504819213E-3,1.2450309504819213E-3,1.2450309504819213E-3,1.2450309504819213E-3,1.2450309504819213E-3,1.2450309504819213E-3,1.2450309504819213E-3,1.2450309504819213E-3,1.2450309504819213E-3,1.2450309504819213E-3,1.2450309504819213E-3,1.2450309504819213E-3,1.2450309504819213E-3]
[null,null,"PC5 - Ice Making Head - Air Cooled - Small - Batch",0.2968878753845714,0.2968878753845714,0.2968878753845714,0.2968878753845714,0.2968878753845714,0.2968878753845714,0.2968878753845714,0.2968878753845714,0.2968878753845714,0.2968878753845714,0.2968878753845714,0.2968878753845714,0.2968878753845714,0.2968878753845714,0.2968878753845714,0.2968878753845714,0.2968878753845714,0.2968878753845714,0.2968878753845714,0.2968878753845714,0.2968878753845714,0.2968878753845714,0.2968878753845714,0.2968878753845714,0.2968878753845714,0.2968878753845714,0.2968878753845714,0.2968878753845714,0.2968878753845714,0.2968878753845714,0.2968878753845714,0.2968878753845714,0.2968878753845714,0.2968878753845714,0.2968878753845714,0.2968878753845714,0.2968878753845714,0.2968878753845714,0.2968878753845714,0.2968878753845714,0.2968878753845714,0.2968878753845714,0.2968878753845714,0.2968878753845714,0.2968878753845714]
[null,null,"PC6 - Ice Making Head - Air Cooled - Large - Batch-1",0.14924549252173805,0.14924549252173805,0.14924549252173805,0.14924549252173805,0.14924549252173805,0.14924549252173805,0.14924549252173805,0.14924549252173805,0.14924549252173805,0.14924549252173805,0.14924549252173805,0.14924549252173805,0.14924549252173805,0.14924549252173805,0.14924549252173805,0.14924549252173805,0.14924549252173805,0.14924549252173805,0.14924549252173805,0.14924549252173805,0.14924549252173805,0.14924549252173805,0.14924549252173805,0.14924549252173805,0.14924549252173805,0.14924549252173805,0.14924549252173805,0.14924549252173805,0.14924549252173805,0.14924549252173805,0.14924549252173805,0.14924549252173805,0.14924549252173805,0.14924549252173805,0.14924549252173805,0.14924549252173805,0.14924549252173805,0.14924549252173805,0.14924549252173805,0.14924549252173805,0.14924549252173805,0.14924549252173805,0.14924549252173805,0.14924549252173805,0.14924549252173805]
[null,null,"PC7 - Ice Making Head - Air Cooled - Large - Batch-2",2.7705839121125259E-2,2.7705839121125259E-2,2.7705839121125259E-2,2.7705839121125259E-2,2.7705839121125259E-2,2.7705839121125259E-2,2.7705839121125259E-2,2.7705839121125259E-2,2.7705839121125259E-2,2.7705839121125259E-2,2.7705839121125259E-2,2.7705839121125259E-2,2.7705839121125259E-2,2.7705839121125259E-2,2.7705839121125259E-2,2.7705839121125259E-2,2.7705839121125259E-2,2.7705839121125259E-2,2.7705839121125259E-2,2.7705839121125259E-2,2.7705839121125259E-2,2.7705839121125259E-2,2.7705839121125259E-2,2.7705839121125259E-2,2.7705839121125259E-2,2.7705839121125259E-2,2.7705839121125259E-2,2.7705839121125259E-2,2.7705839121125259E-2,2.7705839121125259E-2,2.7705839121125259E-2,2.7705839121125259E-2,2.7705839121125259E-2,2.7705839121125259E-2,2.7705839121125259E-2,2.7705839121125259E-2,2.7705839121125259E-2,2.7705839121125259E-2,2.7705839121125259E-2,2.7705839121125259E-2,2.7705839121125259E-2,2.7705839121125259E-2,2.7705839121125259E-2,2.7705839121125259E-2,2.7705839121125259E-2]
[null,null,"PC8 - Remote Condensing Unit - *** - Large - Batch-1",6.3636637955719028E-2,6.3636637955719028E-2,6.3636637955719028E-2,6.3636637955719028E-2,6.3636637955719028E-2,6.3636637955719028E-2,6.3636637955719028E-2,6.3636637955719028E-2,6.3636637955719028E-2,6.3636637955719028E-2,6.3636637955719028E-2,6.3636637955719028E-2,6.3636637955719028E-2,6.3636637955719028E-2,6.3636637955719028E-2,6.3636637955719028E-2,6.3636637955719028E-2,6.3636637955719028E-2,6.3636637955719028E-2,6.3636637955719028E-2,6.3636637955719028E-2,6.3636637955719028E-2,6.3636637955719028E-2,6.3636637955719028E-2,6.3636637955719028E-2,6.3636637955719028E-2,6.3636637955719028E-2,6.3636637955719028E-2,6.3636637955719028E-2,6.3636637955719028E-2,6.3636637955719028E-2,6.3636637955719028E-2,6.3636637955719028E-2,6.3636637955719028E-2,6.3636637955719028E-2,6.3636637955719028E-2,6.3636637955719028E-2,6.3636637955719028E-2,6.3636637955719028E-2,6.3636637955719028E-2,6.3636637955719028E-2,6.3636637955719028E-2,6.3636637955719028E-2,6.3636637955719028E-2,6.3636637955719028E-2]
[null,null,"PC9 - Remote Condensing Unit - *** - Large - Batch-2",2.9980009846935045E-3,2.9980009846935045E-3,2.9980009846935045E-3,2.9980009846935045E-3,2.9980009846935045E-3,2.9980009846935045E-3,2.9980009846935045E-3,2.9980009846935045E-3,2.9980009846935045E-3,2.9980009846935045E-3,2.9980009846935045E-3,2.9980009846935045E-3,2.9980009846935045E-3,2.9980009846935045E-3,2.9980009846935045E-3,2.9980009846935045E-3,2.9980009846935045E-3,2.9980009846935045E-3,2.9980009846935045E-3,2.9980009846935045E-3,2.9980009846935045E-3,2.9980009846935045E-3,2.9980009846935045E-3,2.9980009846935045E-3,2.9980009846935045E-3,2.9980009846935045E-3,2.9980009846935045E-3,2.9980009846935045E-3,2.9980009846935045E-3,2.9980009846935045E-3,2.9980009846935045E-3,2.9980009846935045E-3,2.9980009846935045E-3,2.9980009846935045E-3,2.9980009846935045E-3,2.9980009846935045E-3,2.9980009846935045E-3,2.9980009846935045E-3,2.9980009846935045E-3,2.9980009846935045E-3,2.9980009846935045E-3,2.9980009846935045E-3,2.9980009846935045E-3,2.9980009846935045E-3,2.9980009846935045E-3]
[null,null,"PC10 - Self Contained Unit - Water Cooled - Large - Batch",2.373047713888474E-3,2.373047713888474E-3,2.373047713888474E-3,2.373047713888474E-3,2.373047713888474E-3,2.373047713888474E-3,2.373047713888474E-3,2.373047713888474E-3,2.373047713888474E-3,2.373047713888474E-3,2.373047713888474E-3,2.373047713888474E-3,2.373047713888474E-3,2.373047713888474E-3,2.373047713888474E-3,2.373047713888474E-3,2.373047713888474E-3,2.373047713888474E-3,2.373047713888474E-3,2.373047713888474E-3,2.373047713888474E-3,2.373047713888474E-3,2.373047713888474E-3,2.373047713888474E-3,2.373047713888474E-3,2.373047713888474E-3,2.373047713888474E-3,2.373047713888474E-3,2.373047713888474E-3,2.373047713888474E-3,2.373047713888474E-3,2.373047713888474E-3,2.373047713888474E-3,2.373047713888474E-3,2.373047713888474E-3,2.373047713888474E-3,2.373047713888474E-3,2.373047713888474E-3,2.373047713888474E-3,2.373047713888474E-3,2.373047713888474E-3,2.373047713888474E-3,2.373047713888474E-3,2.373047713888474E-3,2.373047713888474E-3]
[null,null,"PC11 - Self Contained Unit - Air Cooled - Small - Batch",0.15190209696765308,0.15190209696765308,0.15190209696765308,0.15190209696765308,0.15190209696765308,0.15190209696765308,0.15190209696765308,0.15190209696765308,0.15190209696765308,0.15190209696765308,0.15190209696765308,0.15190209696765308,0.15190209696765308,0.15190209696765308,0.15190209696765308,0.15190209696765308,0.15190209696765308,0.15190209696765308,0.15190209696765308,0.15190209696765308,0.15190209696765308,0.15190209696765308,0.15190209696765308,0.15190209696765308,0.15190209696765308,0.15190209696765308,0.15190209696765308,0.15190209696765308,0.15190209696765308,0.15190209696765308,0.15190209696765308,0.15190209696765308,0.15190209696765308,0.15190209696765308,0.15190209696765308,0.15190209696765308,0.15190209696765308,0.15190209696765308,0.15190209696765308,0.15190209696765308,0.15190209696765308,0.15190209696765308,0.15190209696765308,0.15190209696765308,0.15190209696765308]
[null,null,"PC12 - Self Contained Unit - Air Cooled - Large - Batch",7.1935121583399889E-2,7.1935121583399889E-2,7.1935121583399889E-2,7.1935121583399889E-2,7.1935121583399889E-2,7.1935121583399889E-2,7.1935121583399889E-2,7.1935121583399889E-2,7.1935121583399889E-2,7.1935121583399889E-2,7.1935121583399889E-2,7.1935121583399889E-2,7.1935121583399889E-2,7.1935121583399889E-2,7.1935121583399889E-2,7.1935121583399889E-2,7.1935121583399889E-2,7.1935121583399889E-2,7.1935121583399889E-2,7.1935121583399889E-2,7.1935121583399889E-2,7.1935121583399889E-2,7.1935121583399889E-2,7.1935121583399889E-2,7.1935121583399889E-2,7.1935121583399889E-2,7.1935121583399889E-2,7.1935121583399889E-2,7.1935121583399889E-2,7.1935121583399889E-2,7.1935121583399889E-2,7.1935121583399889E-2,7.1935121583399889E-2,7.1935121583399889E-2,7.1935121583399889E-2,7.1935121583399889E-2,7.1935121583399889E-2,7.1935121583399889E-2,7.1935121583399889E-2,7.1935121583399889E-2,7.1935121583399889E-2,7.1935121583399889E-2,7.1935121583399889E-2,7.1935121583399889E-2,7.1935121583399889E-2]
[null,null,"PC13 - Ice Making Head - Air Cooled - Small - Continuous",3.8750764900581484E-2,3.8750764900581484E-2,3.8750764900581484E-2,3.8750764900581484E-2,3.8750764900581484E-2,3.8750764900581484E-2,3.8750764900581484E-2,3.8750764900581484E-2,3.8750764900581484E-2,3.8750764900581484E-2,3.8750764900581484E-2,3.8750764900581484E-2,3.8750764900581484E-2,3.8750764900581484E-2,3.8750764900581484E-2,3.8750764900581484E-2,3.8750764900581484E-2,3.8750764900581484E-2,3.8750764900581484E-2,3.8750764900581484E-2,3.8750764900581484E-2,3.8750764900581484E-2,3.8750764900581484E-2,3.8750764900581484E-2,3.8750764900581484E-2,3.8750764900581484E-2,3.8750764900581484E-2,3.8750764900581484E-2,3.8750764900581484E-2,3.8750764900581484E-2,3.8750764900581484E-2,3.8750764900581484E-2,3.8750764900581484E-2,3.8750764900581484E-2,3.8750764900581484E-2,3.8750764900581484E-2,3.8750764900581484E-2,3.8750764900581484E-2,3.8750764900581484E-2,3.8750764900581484E-2,3.8750764900581484E-2,3.8750764900581484E-2,3.8750764900581484E-2,3.8750764900581484E-2,3.8750764900581484E-2]
[null,null,"PC14 - Ice Making Head - Air Cooled - Large - Continuous",1.1772840700240633E-2,1.1772840700240633E-2,1.1772840700240633E-2,1.1772840700240633E-2,1.1772840700240633E-2,1.1772840700240633E-2,1.1772840700240633E-2,1.1772840700240633E-2,1.1772840700240633E-2,1.1772840700240633E-2,1.1772840700240633E-2,1.1772840700240633E-2,1.1772840700240633E-2,1.1772840700240633E-2,1.1772840700240633E-2,1.1772840700240633E-2,1.1772840700240633E-2,1.1772840700240633E-2,1.1772840700240633E-2,1.1772840700240633E-2,1.1772840700240633E-2,1.1772840700240633E-2,1.1772840700240633E-2,1.1772840700240633E-2,1.1772840700240633E-2,1.1772840700240633E-2,1.1772840700240633E-2,1.1772840700240633E-2,1.1772840700240633E-2,1.1772840700240633E-2,1.1772840700240633E-2,1.1772840700240633E-2,1.1772840700240633E-2,1.1772840700240633E-2,1.1772840700240633E-2,1.1772840700240633E-2,1.1772840700240633E-2,1.1772840700240633E-2,1.1772840700240633E-2,1.1772840700240633E-2,1.1772840700240633E-2,1.1772840700240633E-2,1.1772840700240633E-2,1.1772840700240633E-2,1.1772840700240633E-2]
[null,null,"PC15 - Self Contained Unit - Air Cooled - Small - Continuous",9.5942792329889823E-2,9.5942792329889823E-2,9.5942792329889823E-2,9.5942792329889823E-2,9.5942792329889823E-2,9.5942792329889823E-2,9.5942792329889823E-2,9.5942792329889823E-2,9.5942792329889823E-2,9.5942792329889823E-2,9.5942792329889823E-2,9.5942792329889823E-2,9.5942792329889823E-2,9.5942792329889823E-2,9.5942792329889823E-2,9.5942792329889823E-2,9.5942792329889823E-2,9.5942792329889823E-2,9.5942792329889823E-2,9.5942792329889823E-2,9.5942792329889823E-2,9.5942792329889823E-2,9.5942792329889823E-2,9.5942792329889823E-2,9.5942792329889823E-2,9.5942792329889823E-2,9.5942792329889823E-2,9.5942792329889823E-2,9.5942792329889823E-2,9.5942792329889823E-2,9.5942792329889823E-2,9.5942792329889823E-2,9.5942792329889823E-2,9.5942792329889823E-2,9.5942792329889823E-2,9.5942792329889823E-2,9.5942792329889823E-2,9.5942792329889823E-2,9.5942792329889823E-2,9.5942792329889823E-2,9.5942792329889823E-2,9.5942792329889823E-2,9.5942792329889823E-2,9.5942792329889823E-2,9.5942792329889823E-2]
[]
[null,null,"POST-Case",1990,{"$f":"D26+1","v":1991},{"$f":"E26+1","v":1992},{"$f":"F26+1","v":1993},{"$f":"G26+1","v":1994},{"$f":"H26+1","v":1995},{"$f":"I26+1","v":1996},{"$f":"J26+1","v":1997},{"$f":"K26+1","v":1998},{"$f":"L26+1","v":1999},{"$f":"M26+1","v":2000},{"$f":"N26+1","v":2001},{"$f":"O26+1","v":2002},{"$f":"P26+1","v":2003},{"$f":"Q26+1","v":2004},{"$f":"R26+1","v":2005},{"$f":"S26+1","v":2006},{"$f":"T26+1","v":2007},{"$f":"U26+1","v":2008},{"$f":"V26+1","v":2009},{"$f":"W26+1","v":2010},{"$f":"X26+1","v":2011},{"$f":"Y26+1","v":2012},{"$f":"Z26+1","v":2013},{"$f":"AA26+1","v":2014},{"$f":"AB26+1","v":2015},{"$f":"AC26+1","v":2016},{"$f":"AD26+1","v":2017},{"$f":"AE26+1","v":2018},{"$f":"AF26+1","v":2019},{"$f":"AG26+1","v":2020},{"$f":"AH26+1","v":2021},{"$f":"AI26+1","v":2022},{"$f":"AJ26+1","v":2023},{"$f":"AK26+1","v":2024},{"$f":"AL26+1","v":2025},{"$f":"AM26+1","v":2026},{"$f":"AN26+1","v":2027},{"$f":"AO26+1","v":2028},{"$f":"AP26+1","v":2029},{"$f":"AQ26+1","v":2030},{"$f":"AR26+1","v":2031},{"$f":"AS26+1","v":2032},{"$f":"AT26+1","v":2033},{"$f":"AU26+1","v":2034}]
[null,null,"PC1 - Ice Making Head - Water Cooled - Small - Batch",4.9786676253774136E-2,4.9786676253774136E-2,4.9786676253774136E-2,4.9786676253774136E-2,4.9786676253774136E-2,4.9786676253774136E-2,4.9786676253774136E-2,4.9786676253774136E-2,4.9786676253774136E-2,4.9786676253774136E-2,4.9786676253774136E-2,4.9786676253774136E-2,4.9786676253774136E-2,4.9786676253774136E-2,4.9786676253774136E-2,4.9786676253774136E-2,4.9786676253774136E-2,4.9786676253774136E-2,4.9786676253774136E-2,4.9786676253774136E-2,4.9786676253774136E-2,4.9786676253774136E-2,4.9786676253774136E-2,4.9786676253774136E-2,4.9786676253774136E-2,4.9786676253774136E-2,4.9786676253774136E-2,4.9786676253774136E-2,4.9786676253774136E-2,4.9786676253774136E-2,4.9786676253774136E-2,4.9786676253774136E-2,4.9786676253774136E-2,4.9786676253774136E-2,4.9786676253774136E-2,4.9786676253774136E-2,4.9786676253774136E-2,4.9786676253774136E-2,4.9786676253774136E-2,4.9786676253774136E-2,4.9786676253774136E-2,4.9786676253774136E-2,4.9786676253774136E-2,4.9786676253774136E-2,4.9786676253774136E-2]
[null,null,"PC2 - Ice Making Head - Water Cooled - Medium - Batch",3.1796135038226474E-2,3.1796135038226474E-2,3.1796135038226474E-2,3.1796135038226474E-2,3.1796135038226474E-2,3.1796135038226474E-2,3.1796135038226474E-2,3.1796135038226474E-2,3.1796135038226474E-2,3.1796135038226474E-2,3.1796135038226474E-2,3.1796135038226474E-2,3.1796135038226474E-2,3.1796135038226474E-2,3.1796135038226474E-2,3.1796135038226474E-2,3.1796135038226474E-2,3.1796135038226474E-2,3.1796135038226474E-2,3.1796135038226474E-2,3.1796135038226474E-2,3.1796135038226474E-2,3.1796135038226474E-2,3.1796135038226474E-2,3.1796135038226474E-2,3.1796135038226474E-2,3.1796135038226474E-2,3.1796135038226474E-2,3.1796135038226474E-2,3.1796135038226474E-2,3.1796135038226474E-2,3.1796135038226474E-2,3.1796135038226474E-2,3.1796135038226474E-2,3.1796135038226474E-2,3.1796135038226474E-2,3.1796135038226474E-2,3.1796135038226474E-2,3.1796135038226474E-2,3.1796135038226474E-2,3.1796135038226474E-2,3.1796135038226474E-2,3.1796135038226474E-2,3.1796135038226474E-2,3.1796135038226474E-2]
[null,null,"PC3 - Ice Making Head - Water Cooled - Large - Batch-1",4.0216475940169994E-3,4.0216475940169994E-3,4.0216475940169994E-3,4.0216475940169994E-3,4.0216475940169994E-3,4.0216475940169994E-3,4.0216475940169994E-3,4.0216475940169994E-3,4.0216475940169994E-3,4.0216475940169994E-3,4.0216475940169994E-3,4.0216475940169994E-3,4.0216475940169994E-3,4.0216475940169994E-3,4.0216475940169994E-3,4.0216475940169994E-3,4.0216475940169994E-3,4.0216475940169994E-3,4.0216475940169994E-3,4.0216475940169994E-3,4.0216475940169994E-3,4.0216475940169994E-3,4.0216475940169994E-3,4.0216475940169994E-3,4.0216475940169994E-3,4.0216475940169994E-3,4.0216475940169994E-3,4.0216475940169994E-3,4.0216475940169994E-3,4.0216475940169994E-3,4.0216475940169994E-3,4.0216475940169994E-3,4.0216475940169994E-3,4.0216475940169994E-3,4.0216475940169994E-3,4.0216475940169994E-3,4.0216475940169994E-3,4.0216475940169994E-3,4.0216475940169994E-3,4.0216475940169994E-3,4.0216475940169994E-3,4.0216475940169994E-3,4.0216475940169994E-3,4.0216475940169994E-3,4.0216475940169994E-3]
[null,null,"PC4 - Ice Making Head - Water Cooled - Large - Batch-2",1.2450309504819213E-3,1.2450309504819213E-3,1.2450309504819213E-3,1.2450309504819213E-3,1.2450309504819213E-3,1.2450309504819213E-3,1.2450309504819213E-3,1.2450309504819213E-3,1.2450309504819213E-3,1.2450309504819213E-3,1.2450309504819213E-3,1.2450309504819213E-3,1.2450309504819213E-3,1.2450309504819213E-3,1.2450309504819213E-3,1.2450309504819213E-3,1.2450309504819213E-3,1.2450309504819213E-3,1.2450309504819213E-3,1.2450309504819213E-3,1.2450309504819213E-3,1.2450309504819213E-3,1.2450309504819213E-3,1.2450309504819213E-3,1.2450309504819213E-3,1.2450309504819213E-3,1.2450309504819213E-3,1.2450309504819213E-3,1.2450309504819213E-3,1.2450309504819213E-3,1.2450309504819213E-3,1.2450309504819213E-3,1.2450309504819213E-3,1.2450309504819213E-3,1.2450309504819213E-3,1.2450309504819213E-3,1.2450309504819213E-3,1.2450309504819213E-3,1.2450309504819213E-3,1.2450309504819213E-3,1.2450309504819213E-3,1.2450309504819213E-3,1.2450309504819213E-3,1.2450309504819213E-3,1.2450309504819213E-3]
[null,null,"PC5 - Ice Making Head - Air Cooled - Small - Batch",0.2968878753845714,0.2968878753845714,0.2968878753845714,0.2968878753845714,0.2968878753845714,0.2968878753845714,0.2968878753845714,0.2968878753845714,0.2968878753845714,0.2968878753845714,0.2968878753845714,0.2968878753845714,0.2968878753845714,0.2968878753845714,0.2968878753845714,0.2968878753845714,0.2968878753845714,0.2968878753845714,0.2968878753845714,0.2968878753845714,0.2968878753845714,0.2968878753845714,0.2968878753845714,0.2968878753845714,0.2968878753845714,0.2968878753845714,0.2968878753845714,0.2968878753845714,0.2968878753845714,0.2968878753845714,0.2968878753845714,0.2968878753845714,0.2968878753845714,0.2968878753845714,0.2968878753845714,0.2968878753845714,0.2968878753845714,0.2968878753845714,0.2968878753845714,0.2968878753845714,0.2968878753845714,0.2968878753845714,0.2968878753845714,0.2968878753845714,0.2968878753845714]
[null,null,"PC6 - Ice Making Head - Air Cooled - Large - Batch-1",0.14924549252173805,0.14924549252173805,0.14924549252173805,0.14924549252173805,0.14924549252173805,0.14924549252173805,0.14924549252173805,0.14924549252173805,0.14924549252173805,0.14924549252173805,0.14924549252173805,0.14924549252173805,0.14924549252173805,0.14924549252173805,0.14924549252173805,0.14924549252173805,0.14924549252173805,0.14924549252173805,0.14924549252173805,0.14924549252173805,0.14924549252173805,0.14924549252173805,0.14924549252173805,0.14924549252173805,0.14924549252173805,0.14924549252173805,0.14924549252173805,0.14924549252173805,0.14924549252173805,0.14924549252173805,0.14924549252173805,0.14924549252173805,0.14924549252173805,0.14924549252173805,0.14924549252173805,0.14924549252173805,0.14924549252173805,0.14924549252173805,0.14924549252173805,0.14924549252173805,0.14924549252173805,0.14924549252173805,0.14924549252173805,0.14924549252173805,0.14924549252173805]
[null,null,"PC7 - Ice Making Head - Air Cooled - Large - Batch-2",2.7705839121125259E-2,2.7705839121125259E-2,2.7705839121125259E-2,2.7705839121125259E-2,2.7705839121125259E-2,2.7705839121125259E-2,2.7705839121125259E-2,2.7705839121125259E-2,2.7705839121125259E-2,2.7705839121125259E-2,2.7705839121125259E-2,2.7705839121125259E-2,2.7705839121125259E-2,2.7705839121125259E-2,2.7705839121125259E-2,2.7705839121125259E-2,2.7705839121125259E-2,2.7705839121125259E-2,2.7705839121125259E-2,2.7705839121125259E-2,2.7705839121125259E-2,2.7705839121125259E-2,2.7705839121125259E-2,2.7705839121125259E-2,2.7705839121125259E-2,2.7705839121125259E-2,2.7705839121125259E-2,2.7705839121125259E-2,2.7705839121125259E-2,2.7705839121125259E-2,2.7705839121125259E-2,2.7705839121125259E-2,2.7705839121125259E-2,2.7705839121125259E-2,2.7705839121125259E-2,2.7705839121125259E-2,2.7705839121125259E-2,2.7705839121125259E-2,2.7705839121125259E-2,2.7705839121125259E-2,2.7705839121125259E-2,2.7705839121125259E-2,2.7705839121125259E-2,2.7705839121125259E-2,2.7705839121125259E-2]
[null,null,"PC8 - Remote Condensing Unit - *** - Large - Batch-1",6.3636637955719028E-2,6.3636637955719028E-2,6.3636637955719028E-2,6.3636637955719028E-2,6.3636637955719028E-2,6.3636637955719028E-2,6.3636637955719028E-2,6.3636637955719028E-2,6.3636637955719028E-2,6.3636637955719028E-2,6.3636637955719028E-2,6.3636637955719028E-2,6.3636637955719028E-2,6.3636637955719028E-2,6.3636637955719028E-2,6.3636637955719028E-2,6.3636637955719028E-2,6.3636637955719028E-2,6.3636637955719028E-2,6.3636637955719028E-2,6.3636637955719028E-2,6.3636637955719028E-2,6.3636637955719028E-2,6.3636637955719028E-2,6.3636637955719028E-2,6.3636637955719028E-2,6.3636637955719028E-2,6.3636637955719028E-2,6.3636637955719028E-2,6.3636637955719028E-2,6.3636637955719028E-2,6.3636637955719028E-2,6.3636637955719028E-2,6.3636637955719028E-2,6.3636637955719028E-2,6.3636637955719028E-2,6.3636637955719028E-2,6.3636637955719028E-2,6.3636637955719028E-2,6.3636637955719028E-2,6.3636637955719028E-2,6.3636637955719028E-2,6.3636637955719028E-2,6.3636637955719028E-2,6.3636637955719028E-2]
[null,null,"PC9 - Remote Condensing Unit - *** - Large - Batch-2",2.9980009846935045E-3,2.9980009846935045E-3,2.9980009846935045E-3,2.9980009846935045E-3,2.9980009846935045E-3,2.9980009846935045E-3,2.9980009846935045E-3,2.9980009846935045E-3,2.9980009846935045E-3,2.9980009846935045E-3,2.9980009846935045E-3,2.9980009846935045E-3,2.9980009846935045E-3,2.9980009846935045E-3,2.9980009846935045E-3,2.9980009846935045E-3,2.9980009846935045E-3,2.9980009846935045E-3,2.9980009846935045E-3,2.9980009846935045E-3,2.9980009846935045E-3,2.9980009846935045E-3,2.9980009846935045E-3,2.9980009846935045E-3,2.9980009846935045E-3,2.9980009846935045E-3,2.9980009846935045E-3,2.9980009846935045E-3,2.9980009846935045E-3,2.9980009846935045E-3,2.9980009846935045E-3,2.9980009846935045E-3,2.9980009846935045E-3,2.9980009846935045E-3,2.9980009846935045E-3,2.9980009846935045E-3,2.9980009846935045E-3,2.9980009846935045E-3,2.9980009846935045E-3,2.9980009846935045E-3,2.9980009846935045E-3,2.9980009846935045E-3,2.9980009846935045E-3,2.9980009846935045E-3,2.9980009846935045E-3]
[null,null,"PC10 - Self Contained Unit - Water Cooled - Large - Batch",2.373047713888474E-3,2.373047713888474E-3,2.373047713888474E-3,2.373047713888474E-3,2.373047713888474E-3,2.373047713888474E-3,2.373047713888474E-3,2.373047713888474E-3,2.373047713888474E-3,2.373047713888474E-3,2.373047713888474E-3,2.373047713888474E-3,2.373047713888474E-3,2.373047713888474E-3,2.373047713888474E-3,2.373047713888474E-3,2.373047713888474E-3,2.373047713888474E-3,2.373047713888474E-3,2.373047713888474E-3,2.373047713888474E-3,2.373047713888474E-3,2.373047713888474E-3,2.373047713888474E-3,2.373047713888474E-3,2.373047713888474E-3,2.373047713888474E-3,2.373047713888474E-3,2.373047713888474E-3,2.373047713888474E-3,2.373047713888474E-3,2.373047713888474E-3,2.373047713888474E-3,2.373047713888474E-3,2.373047713888474E-3,2.373047713888474E-3,2.373047713888474E-3,2.373047713888474E-3,2.373047713888474E-3,2.373047713888474E-3,2.373047713888474E-3,2.373047713888474E-3,2.373047713888474E-3,2.373047713888474E-3,2.373047713888474E-3]
[null,null,"PC11 - Self Contained Unit - Air Cooled - Small - Batch",0.15190209696765308,0.15190209696765308,0.15190209696765308,0.15190209696765308,0.15190209696765308,0.15190209696765308,0.15190209696765308,0.15190209696765308,0.15190209696765308,0.15190209696765308,0.15190209696765308,0.15190209696765308,0.15190209696765308,0.15190209696765308,0.15190209696765308,0.15190209696765308,0.15190209696765308,0.15190209696765308,0.15190209696765308,0.15190209696765308,0.15190209696765308,0.15190209696765308,0.15190209696765308,0.15190209696765308,0.15190209696765308,0.15190209696765308,0.15190209696765308,0.15190209696765308,0.15190209696765308,0.15190209696765308,0.15190209696765308,0.15190209696765308,0.15190209696765308,0.15190209696765308,0.15190209696765308,0.15190209696765308,0.15190209696765308,0.15190209696765308,0.15190209696765308,0.15190209696765308,0.15190209696765308,0.15190209696765308,0.15190209696765308,0.15190209696765308,0.15190209696765308]
[null,null,"PC12 - Self Contained Unit - Air Cooled - Large - Batch",7.1935121583399889E-2,7.1935121583399889E-2,7.1935121583399889E-2,7.1935121583399889E-2,7.1935121583399889E-2,7.1935121583399889E-2,7.1935121583399889E-2,7.1935121583399889E-2,7.1935121583399889E-2,7.1935121583399889E-2,7.1935121583399889E-2,7.1935121583399889E-2,7.1935121583399889E-2,7.1935121583399889E-2,7.1935121583399889E-2,7.1935121583399889E-2,7.1935121583399889E-2,7.1935121583399889E-2,7.1935121583399889E-2,7.1935121583399889E-2,7.1935121583399889E-2,7.1935121583399889E-2,7.1935121583399889E-2,7.1935121583399889E-2,7.1935121583399889E-2,7.1935121583399889E-2,7.1935121583399889E-2,7.1935121583399889E-2,7.1935121583399889E-2,7.1935121583399889E-2,7.1935121583399889E-2,7.1935121583399889E-2,7.1935121583399889E-2,7.1935121583399889E-2,7.1935121583399889E-2,7.1935121583399889E-2,7.1935121583399889E-2,7.1935121583399889E-2,7.1935121583399889E-2,7.1935121583399889E-2,7.1935121583399889E-2,7.1935121583399889E-2,7.1935121583399889E-2,7.1935121583399889E-2,7.1935121583399889E-2]
[null,null,"PC13 - Ice Making Head - Air Cooled - Small - Continuous",3.8750764900581484E-2,3.8750764900581484E-2,3.8750764900581484E-2,3.8750764900581484E-2,3.8750764900581484E-2,3.8750764900581484E-2,3.8750764900581484E-2,3.8750764900581484E-2,3.8750764900581484E-2,3.8750764900581484E-2,3.8750764900581484E-2,3.8750764900581484E-2,3.8750764900581484E-2,3.8750764900581484E-2,3.8750764900581484E-2,3.8750764900581484E-2,3.8750764900581484E-2,3.8750764900581484E-2,3.8750764900581484E-2,3.8750764900581484E-2,3.8750764900581484E-2,3.8750764900581484E-2,3.8750764900581484E-2,3.8750764900581484E-2,3.8750764900581484E-2,3.8750764900581484E-2,3.8750764900581484E-2,3.8750764900581484E-2,3.8750764900581484E-2,3.8750764900581484E-2,3.8750764900581484E-2,3.8750764900581484E-2,3.8750764900581484E-2,3.8750764900581484E-2,3.8750764900581484E-2,3.8750764900581484E-2,3.8750764900581484E-2,3.8750764900581484E-2,3.8750764900581484E-2,3.8750764900581484E-2,3.8750764900581484E-2,3.8750764900581484E-2,3.8750764900581484E-2,3.8750764900581484E-2,3.8750764900581484E-2]
[null,null,"PC14 - Ice Making Head - Air Cooled - Large - Continuous",1.1772840700240633E-2,1.1772840700240633E-2,1.1772840700240633E-2,1.1772840700240633E-2,1.1772840700240633E-2,1.1772840700240633E-2,1.1772840700240633E-2,1.1772840700240633E-2,1.1772840700240633E-2,1.1772840700240633E-2,1.1772840700240633E-2,1.1772840700240633E-2,1.1772840700240633E-2,1.1772840700240633E-2,1.1772840700240633E-2,1.1772840700240633E-2,1.1772840700240633E-2,1.1772840700240633E-2,1.1772840700240633E-2,1.1772840700240633E-2,1.1772840700240633E-2,1.1772840700240633E-2,1.1772840700240633E-2,1.1772840700240633E-2,1.1772840700240633E-2,1.1772840700240633E-2,1.1772840700240633E-2,1.1772840700240633E-2,1.1772840700240633E-2,1.1772840700240633E-2,1.1772840700240633E-2,1.1772840700240633E-2,1.1772840700240633E-2,1.1772840700240633E-2,1.1772840700240633E-2,1.1772840700240633E-2,1.1772840700240633E-2,1.1772840700240633E-2,1.1772840700240633E-2,1.1772840700240633E-2,1.1772840700240633E-2,1.1772840700240633E-2,1.1772840700240633E-2,1.1772840700240633E-2,1.1772840700240633E-2]
[null,null,"PC15 - Self Contained Unit - Air Cooled - Small - Continuous",9.5942792329889823E-2,9.5942792329889823E-2,9.5942792329889823E-2,9.5942792329889823E-2,9.5942792329889823E-2,9.5942792329889823E-2,9.5942792329889823E-2,9.5942792329889823E-2,9.5942792329889823E-2,9.5942792329889823E-2,9.5942792329889823E-2,9.5942792329889823E-2,9.5942792329889823E-2,9.5942792329889823E-2,9.5942792329889823E-2,9.5942792329889823E-2,9.5942792329889823E-2,9.5942792329889823E-2,9.5942792329889823E-2,9.5942792329889823E-2,9.5942792329889823E-2,9.5942792329889823E-2,9.5942792329889823E-2,9.5942792329889823E-2,9.5942792329889823E-2,9.5942792329889823E-2,9.5942792329889823E-2,9.5942792329889823E-2,9.5942792329889823E-2,9.5942792329889823E-2,9.5942792329889823E-2,9.5942792329889823E-2,9.5942792329889823E-2,9.5942792329889823E-2,9.5942792329889823E-2,9.5942792329889823E-2,9.5942792329889823E-2,9.5942792329889823E-2,9.5942792329889823E-2,9.5942792329889823E-2,9.5942792329889823E-2,9.5942792329889823E-2,9.5942792329889823E-2,9.5942792329889823E-2,9.5942792329889823E-2]
[]
[null,null,"Source/Rationale","DOE Automatic Commercial Ice Makers 2014, Notice of Proposed Rulemaking (NOPR) Technical Support Document Chapter 9, Table 9.3.3, ACIM Equipment Shipments, Percent by Equipment Class (page 9-8) - reweighted to represent 100% of market "]

{"sheet":"Efficiency Dist","index":8,"n_rows":455,"n_cols":52,"rows_kept":455,"cut":false,"hidden":false,"merged":[[1,2,1,6],[3,2,3,6],[5,2,5,6]]}
[]
[null,null,"Efficiency Distributions by Product Class - Single Family"]
[]
[null,null,"NAVIGATION"]
[]
[null,null,"COMMENTS"]
[]
[]
[null,null,null,{"$f":"CONCATENATE('Efficiency Levels'!$C$9,\" - \",'Efficiency Levels'!$D$9)","v":"PC1 - Ice Making Head-Water Cooled-Small-Batch"}]
[]
[null,null,null,"PRE-Case",null,"Static Distribution"]
[null,null,null,"Efficiency Level","EL (kWh/day)",2006,null,1990,{"$f":"H12+1","v":1991},{"$f":"I12+1","v":1992},1993,1994,1995,1996,1997,1998,1999,2000,2001,2002,2003,2004,2005,2006,2007,2008,2009,2010,2011,2012,2013,2014,2015,2016,2017,2018,2019,2020,2021,2022,2023,2024,2025,2026,2027,2028,2029,2030,2031,2032,2033,2034]
[null,null,null,{"$f":"'Efficiency Levels'!C12","v":"EL0"},{"$f":"'Efficiency Levels'!D12","v":7745.9499850348666},0,null,1,1,1,1,1,1,1,1,1,1,1,1,1,1,1,1,1,1,1,1,{"$f":"$F13","v":0},{"$f":"$F13","v":0},0,0,0,0,0,0,0,0,0,0,0,0,0,0,0,0,0,0,0,0,0,0,0]
[null,null,null,{"$f":"'Efficiency Levels'!C13","v":"EL1"},{"$f":"'Efficiency Levels'!D13","v":3389.0250000000001},0.39100000000000001,null,0,0,0,0,0,0,0,0,0,0,0,0,0,0,0,0,0,0,0,0,{"$f":"$F14","v":0.39100000000000001},0.39100000000000001,0.39100000000000001,0.39100000000000001,0.39100000000000001,0.39100000000000001,0.39100000000000001,0.39100000000000001,0.39100000000000001,0.39100000000000001,0.39100000000000001,0.39100000000000001,0.39100000000000001,0.39100000000000001,0.39100000000000001,0.39100000000000001,0.39100000000000001,0.39100000000000001,0.39100000000000001,0.39100000000000001,0.39100000000000001,0.39100000000000001,0.39100000000000001,0.39100000000000001,0.39100000000000001]
[null,null,null,{"$f":"'Efficiency Levels'!C14","v":"EL2"},{"$f":"'Efficiency Levels'!D14","v":3052.3125000000005},0.26100000000000001,null,0,0,0,0,0,0,0,0,0,0,0,0,0,0,0,0,0,0,0,0,0.26100000000000001,0.26100000000000001,0.26100000000000001,0.26100000000000001,0.26100000000000001,0.26100000000000001,0.26100000000000001,0.26100000000000001,0.26100000000000001,0.26100000000000001,0.26100000000000001,0.26100000000000001,0.26100000000000001,0.26100000000000001,0.26100000000000001,0.26100000000000001,0.26100000000000001,0.26100000000000001,0.26100000000000001,0.26100000000000001,0.26100000000000001,0.26100000000000001,0.26100000000000001,0.26100000000000001,0.26100000000000001]
[null,null,null,{"$f":"'Efficiency Levels'!C15","v":"EL3"},{"$f":"'Efficiency Levels'!D15","v":2883.9562499999997},0.23899999999999999,null,0,0,0,0,0,0,0,0,0,0,0,0,0,0,0,0,0,0,0,0,0.23899999999999999,0.23899999999999999,0.23899999999999999,0.23899999999999999,0.23899999999999999,0.23899999999999999,0.23899999999999999,0.23899999999999999,0.23899999999999999,0.23899999999999999,0.23899999999999999,0.23899999999999999,0.23899999999999999,0.23899999999999999,0.23899999999999999,0.23899999999999999,0.23899999999999999,0.23899999999999999,0.23899999999999999,0.23899999999999999,0.23899999999999999,0.23899999999999999,0.23899999999999999,0.23899999999999999,0.23899999999999999]
[null,null,null,{"$f":"'Efficiency Levels'!C16","v":"EL4"},{"$f":"'Efficiency Levels'!D16","v":2715.6000000000008},0.109,null,0,0,0,0,0,0,0,0,0,0,0,0,0,0,0,0,0,0,0,0,0.109,0.109,0.109,0.109,0.109,0.109,0.109,0.109,0.109,0.109,0.109,0.109,0.109,0.109,0.109,0.109,0.109,0.109,0.109,0.109,0.109,0.109,0.109,0.109,0.109]
[null,null,null,{"$f":"'Efficiency Levels'!C17","v":"EL5"},{"$f":"'Efficiency Levels'!D17","v":2547.2437500000005},0,null,{"$f":"$F18","v":0},0,0,0,0,0,0,0,0,0,0,0,0,0,0,0,0,0,{"$f":"$F18","v":0},0,0,0,0,0,0,0,0,0,0,0,0,0,0,0,0,0,0,0,0,0,0,0,0,0,0]
[null,null,null,{"$f":"'Efficiency Levels'!C18","v":"EL6"},{"$f":"'Efficiency Levels'!D18","v":2399.9658105939011},0,null,0,0,0,0,0,0,0,0,0,0,0,0,0,0,0,0,0,0,0,0,0,0,0,0,0,0,0,0,0,0,0,0,0,0,0,0,0,0,0,0,0,0,0,0,0]
[null,null,null,{"$f":"'Efficiency Levels'!C19","v":"EL7"},{"$f":"'Efficiency Levels'!D19","v":0},0,null,0,0,0,0,0,0,0,0,0,0,0,0,0,0,0,0,0,0,0,0,0,0,0,0,0,0,0,0,0,0,0,0,0,0,0,0,0,0,0,0,0,0,0,0,0]
[null,null,null,"TOTAL",null,{"$f":"SUM(F13:F20)","v":1},null,{"$f":"SUM(H13:H20)","v":1},1,1,1,1,1,1,1,1,1,1,1,1,1,1,1,1,1,1,1,1,1,1,1,1,1,1,1,1,1,1,1,1,1,1,1,1,1,1,1,1,1,1,1,1]
[]
[null,null,null,"POST-Case"]
[null,null,null,"Efficiency Level","EL (kWh/day)",null,null,1990,{"$f":"H24+1","v":1991},{"$f":"I24+1","v":1992},1993,1994,1995,1996,1997,1998,1999,2000,2001,2002,2003,2004,2005,{"$f":"X12","v":2006},2007,2008,2009,2010,2011,2012,2013,2014,2015,2016,2017,2018,2019,2020,2021,2022,2023,2024,2025,2026,2027,2028,2029,2030,2031,2032,2033,2034]
[null,null,null,{"$f":"'Efficiency Levels'!C12","v":"EL0"},{"$f":"'Efficiency Levels'!D12","v":7745.9499850348666},null,null,{"$f":"H13","v":1},{"$f":"I13","v":1},1,1,1,1,1,1,1,1,1,1,1,1,1,1,1,1,1,1,0,{"$f":"AC13","v":0},0,0,0,0,0,0,0,0,0,0,0,0,0,0,0,0,0,0,0,0,0,0,0]
[null,null,null,{"$f":"'Efficiency Levels'!C13","v":"EL1"},{"$f":"'Efficiency Levels'!D13","v":3389.0250000000001},null,null,{"$f":"H14","v":0},0,0,0,0,0,0,0,0,0,0,0,0,0,0,0,0,0,0,0,0.39100000000000001,{"$f":"AC14","v":0.39100000000000001},0.39100000000000001,0.39100000000000001,0.39100000000000001,0.39100000000000001,0.39100000000000001,0.39100000000000001,0,0,0,0,0,0,0,0,0,0,0,0,0,0,0,0,0]
[null,null,null,{"$f":"'Efficiency Levels'!C14","v":"EL2"},{"$f":"'Efficiency Levels'!D14","v":3052.3125000000005},null,null,0,0,0,0,0,0,0,0,0,0,0,0,0,0,0,0,0,0,0,0,0.26100000000000001,{"$f":"AC15","v":0.26100000000000001},0.26100000000000001,0.26100000000000001,0.26100000000000001,0.26100000000000001,0.26100000000000001,0.26100000000000001,0,0,0,0,0,0,0,0,0,0,0,0,0,0,0,0,0]
[null,null,null,{"$f":"'Efficiency Levels'!C15","v":"EL3"},{"$f":"'Efficiency Levels'!D15","v":2883.9562499999997},null,null,0,0,0,0,0,0,0,0,0,0,0,0,0,0,0,0,0,0,0,0,0.23899999999999999,{"$f":"AC16","v":0.23899999999999999},0.23899999999999999,0.23899999999999999,0.23899999999999999,0.23899999999999999,0.23899999999999999,0.23899999999999999,0,0,0,0,0,0,0,0,0,0,0,0,0,0,0,0,0]
[null,null,null,{"$f":"'Efficiency Levels'!C16","v":"EL4"},{"$f":"'Efficiency Levels'!D16","v":2715.6000000000008},null,null,0,0,0,0,0,0,0,0,0,0,0,0,0,0,0,0,0,0,0,0,0.109,{"$f":"AC17","v":0.109},0.109,0.109,0.109,0.109,0.109,0.109,0,0,0,0,0,0,0,0,0,0,0,0,0,0,0,0,0]
[null,null,null,{"$f":"'Efficiency Levels'!C17","v":"EL5"},{"$f":"'Efficiency Levels'!D17","v":2547.2437500000005},null,null,0,0,0,0,0,0,0,0,0,0,0,0,0,0,0,0,0,0,0,0,0,{"$f":"AC18","v":0},0,0,0,0,0,0,1,1,1,1,1,1,1,1,1,1,1,1,1,1,1,1,1]
[null,null,null,{"$f":"'Efficiency Levels'!C18","v":"EL6"},{"$f":"'Efficiency Levels'!D18","v":2399.9658105939011},null,null,0,0,0,0,0,0,0,0,0,0,0,0,0,0,0,0,0,0,0,0,0,{"$f":"AC19","v":0},0,0,0,0,0,0,0,0,0,0,0,0,0,0,0,0,0,0,0,0,0,0,0]
[null,null,null,{"$f":"'Efficiency Levels'!C19","v":"EL7"},{"$f":"'Efficiency Levels'!D19","v":0},null,null,0,0,0,0,0,0,0,0,0,0,0,0,0,0,0,0,0,0,0,0,0,{"$f":"AC20","v":0},0,0,0,0,0,0,{"$f":"AJ20","v":0},{"$f":"AK20","v":0},0,0,0,0,0,0,0,0,0,0,0,0,0,0,0]
[null,null,null,"TOTAL",null,null,null,{"$f":"SUM(H25:H32)","v":1},{"$f":"SUM(I25:I32)","v":1},{"$f":"SUM(J25:J32)","v":1},{"$f":"SUM(K25:K32)","v":1},{"$f":"SUM(L25:L32)","v":1},{"$f":"SUM(M25:M32)","v":1},{"$f":"SUM(N25:N32)","v":1},{"$f":"SUM(O25:O32)","v":1},{"$f":"SUM(P25:P32)","v":1},{"$f":"SUM(Q25:Q32)","v":1},{"$f":"SUM(R25:R32)","v":1},{"$f":"SUM(S25:S32)","v":1},{"$f":"SUM(T25:T32)","v":1},{"$f":"SUM(U25:U32)","v":1},{"$f":"SUM(V25:V32)","v":1},{"$f":"SUM(W25:W32)","v":1},{"$f":"SUM(X25:X32)","v":1},{"$f":"SUM(Y25:Y32)","v":1},{"$f":"SUM(Z25:Z32)","v":1},{"$f":"SUM(AA25:AA32)","v":1},{"$f":"SUM(AB25:AB32)","v":1},{"$f":"SUM(AC25:AC32)","v":1},{"$f":"SUM(AD25:AD32)","v":1},{"$f":"SUM(AE25:AE32)","v":1},{"$f":"SUM(AF25:AF32)","v":1},{"$f":"SUM(AG25:AG32)","v":1},{"$f":"SUM(AH25:AH32)","v":1},{"$f":"SUM(AI25:AI32)","v":1},{"$f":"SUM(AJ25:AJ32)","v":1},{"$f":"SUM(AK25:AK32)","v":1},{"$f":"SUM(AL25:AL32)","v":1},{"$f":"SUM(AM25:AM32)","v":1},{"$f":"SUM(AN25:AN32)","v":1},{"$f":"SUM(AO25:AO32)","v":1},{"$f":"SUM(AP25:AP32)","v":1},{"$f":"SUM(AQ25:AQ32)","v":1},{"$f":"SUM(AR25:AR32)","v":1},{"$f":"SUM(AS25:AS32)","v":1},{"$f":"SUM(AT25:AT32)","v":1},{"$f":"SUM(AU25:AU32)","v":1},{"$f":"SUM(AV25:AV32)","v":1},{"$f":"SUM(AW25:AW32)","v":1},{"$f":"SUM(AX25:AX32)","v":1},{"$f":"SUM(AY25:AY32)","v":1},{"$f":"SUM(AZ25:AZ32)","v":1}]
[]
[null,null,null,"Sources","DOE Automatic Commercial Ice Makers 2014, Notice of Proposed Rulemaking (NOPR) Technical Support Document Chapter 10, Table 10.2.2 Base Case Shipment Weighted Market Shares by Efficiency Level (page 10-3); TSL 3 is proposed in the NOPR. TSL 3 corresponds to different EL's for different product classes"]
[]
[]
[]
[null,null,null,{"$f":"CONCATENATE('Efficiency Levels'!$C26,\" - \",'Efficiency Levels'!$D26)","v":"PC2 - Ice Making Head-Water Cooled-Med-Batch"}]
[]
[null,null,null,"PRE-Case",null,"Static Distribution"]
[null,null,null,"Efficiency Level","EL (kWh/day)",2006,null,1990,{"$f":"H42+1","v":1991},{"$f":"I42+1","v":1992},{"$f":"J42+1","v":1993},{"$f":"K42+1","v":1994},{"$f":"L42+1","v":1995},{"$f":"M42+1","v":1996},{"$f":"N42+1","v":1997},{"$f":"O42+1","v":1998},{"$f":"P42+1","v":1999},{"$f":"Q42+1","v":2000},{"$f":"R42+1","v":2001},{"$f":"S42+1","v":2002},{"$f":"T42+1","v":2003},{"$f":"U42+1","v":2004},{"$f":"V42+1","v":2005},{"$f":"W42+1","v":2006},{"$f":"X42+1","v":2007},{"$f":"Y42+1","v":2008},{"$f":"Z42+1","v":2009},{"$f":"AA42+1","v":2010},{"$f":"AB42+1","v":2011},{"$f":"AC42+1","v":2012},{"$f":"AD42+1","v":2013},{"$f":"AE42+1","v":2014},{"$f":"AF42+1","v":2015},{"$f":"AG42+1","v":2016},{"$f":"AH42+1","v":2017},{"$f":"AI42+1","v":2018},{"$f":"AJ42+1","v":2019},{"$f":"AK42+1","v":2020},{"$f":"AL42+1","v":2021},{"$f":"AM42+1","v":2022},{"$f":"AN42+1","v":2023},{"$f":"AO42+1","v":2024},{"$f":"AP42+1","v":2025},{"$f":"AQ42+1","v":2026},{"$f":"AR42+1","v":2027},{"$f":"AS42+1","v":2028},{"$f":"AT42+1","v":2029},{"$f":"AU42+1","v":2030},{"$f":"AV42+1","v":2031},{"$f":"AW42+1","v":2032},{"$f":"AX42+1","v":2033},{"$f":"AY42+1","v":2034}]
[null,null,null,{"$f":"'Efficiency Levels'!C29","v":"EL0"},{"$f":"'Efficiency Levels'!D29","v":7745.9499850348666},0,null,1,1,1,1,1,1,1,1,1,1,1,1,1,1,1,1,1,1,1,1,{"$f":"$F43","v":0},0,0,0,{"$f":"$F43","v":0},0,0,0,0,0,0,0,0,0,0,0,0,0,0,0,0,0,0,0,0]
[null,null,null,{"$f":"'Efficiency Levels'!C30","v":"EL1"},{"$f":"'Efficiency Levels'!D30","v":7227.4562499999993},0.69047619047619047,null,0,0,0,0,0,0,0,0,0,0,0,0,0,0,0,0,0,0,0,0,0.69047619047619047,0.69047619047619047,0.69047619047619047,0.69047619047619047,0.69047619047619047,0.69047619047619047,0.69047619047619047,0.69047619047619047,0.69047619047619047,0.69047619047619047,0.69047619047619047,0.69047619047619047,0.69047619047619047,0.69047619047619047,0.69047619047619047,0.69047619047619047,0.69047619047619047,0.69047619047619047,0.69047619047619047,0.69047619047619047,0.69047619047619047,0.69047619047619047,0.69047619047619047,0.69047619047619047,0.69047619047619047]
[null,null,null,{"$f":"'Efficiency Levels'!C31","v":"EL2"},{"$f":"'Efficiency Levels'!D31","v":6506.9006249999984},0.16666666666666666,null,0,0,0,0,0,0,0,0,0,0,0,0,0,0,0,0,0,0,0,0,0.16666666666666666,0.16666666666666666,0.16666666666666666,0.16666666666666666,0.16666666666666666,0.16666666666666666,0.16666666666666666,0.16666666666666666,0.16666666666666666,0.16666666666666666,0.16666666666666666,0.16666666666666666,0.16666666666666666,0.16666666666666666,0.16666666666666666,0.16666666666666666,0.16666666666666666,0.16666666666666666,0.16666666666666666,0.16666666666666666,0.16666666666666666,0.16666666666666666,0.16666666666666666,0.16666666666666666,0.16666666666666666]
[null,null,null,{"$f":"'Efficiency Levels'!C32","v":"EL3"},{"$f":"'Efficiency Levels'!D32","v":6146.622812499998},0.11904761904761904,null,0,0,0,0,0,0,0,0,0,0,0,0,0,0,0,0,0,0,0,0,0.11904761904761904,0.11904761904761904,0.11904761904761904,0.11904761904761904,0.11904761904761904,0.11904761904761904,0.11904761904761904,0.11904761904761904,0.11904761904761904,0.11904761904761904,0.11904761904761904,0.11904761904761904,0.11904761904761904,0.11904761904761904,0.11904761904761904,0.11904761904761904,0.11904761904761904,0.11904761904761904,0.11904761904761904,0.11904761904761904,0.11904761904761904,0.11904761904761904,0.11904761904761904,0.11904761904761904,0.11904761904761904]
[null,null,null,{"$f":"'Efficiency Levels'!C33","v":"EL4"},{"$f":"'Efficiency Levels'!D33","v":5786.3449999999993},0,null,0,0,0,0,0,0,0,0,0,0,0,0,0,0,0,0,0,0,0,0,0,0,0,0,0,0,0,0,0,0,0,0,0,0,0,0,0,0,0,0,0,0,0,0,0]
[null,null,null,{"$f":"'Efficiency Levels'!C34","v":"EL5"},{"$f":"'Efficiency Levels'!D34","v":5690.8676501035188},2.3809523809523808E-2,null,0,0,0,0,0,0,0,0,0,0,0,0,0,0,0,0,0,0,0,0,2.3809523809523808E-2,2.3809523809523808E-2,2.3809523809523808E-2,2.3809523809523808E-2,2.3809523809523808E-2,2.3809523809523808E-2,2.3809523809523808E-2,2.3809523809523808E-2,2.3809523809523808E-2,2.3809523809523808E-2,2.3809523809523808E-2,2.3809523809523808E-2,2.3809523809523808E-2,2.3809523809523808E-2,2.3809523809523808E-2,2.3809523809523808E-2,2.3809523809523808E-2,2.3809523809523808E-2,2.3809523809523808E-2,2.3809523809523808E-2,2.3809523809523808E-2,2.3809523809523808E-2,2.3809523809523808E-2,2.3809523809523808E-2,2.3809523809523808E-2]
[null,null,null,{"$f":"'Efficiency Levels'!C35","v":"EL6"},{"$f":"'Efficiency Levels'!D35","v":0},0,null,0,0,0,0,0,0,0,0,0,0,0,0,0,0,0,0,0,0,0,0,{"$f":"$F49","v":0},0,0,0,0,0,0,0,0,0,0,0,0,0,0,0,0,0,0,0,0,0,0,0,0]
[null,null,null,{"$f":"'Efficiency Levels'!C36","v":"EL7"},{"$f":"'Efficiency Levels'!D36","v":0},0,null,0,0,0,0,0,0,0,0,0,0,0,0,0,0,0,0,0,0,0,0,0,0,0,0,0,0,0,0,0,0,0,0,0,0,0,0,0,0,0,0,0,0,0,0,0]
[null,null,null,"TOTAL",null,{"$f":"SUM(F43:F50)","v":1},null,{"$f":"SUM(H43:H50)","v":1},1,1,1,1,1,1,1,1,1,1,1,1,1,1,1,1,1,1,1,1,1,1,1,1,1,1,1,1,1,1,1,1,1,1,1,1,1,1,1,1,1,1,1,1]
[]
[null,null,null,"POST-Case"]
[null,null,null,"Efficiency Level","EL (kWh/day)",null,null,1990,{"$f":"H54+1","v":1991},{"$f":"I54+1","v":1992},{"$f":"J54+1","v":1993},{"$f":"K54+1","v":1994},{"$f":"L54+1","v":1995},{"$f":"M54+1","v":1996},{"$f":"N54+1","v":1997},{"$f":"O54+1","v":1998},{"$f":"P54+1","v":1999},{"$f":"Q54+1","v":2000},{"$f":"R54+1","v":2001},{"$f":"S54+1","v":2002},{"$f":"T54+1","v":2003},{"$f":"U54+1","v":2004},{"$f":"V54+1","v":2005},{"$f":"X42","v":2006},2007,2008,2009,2010,2011,2012,2013,2014,2015,2016,2017,2018,2019,2020,2021,2022,2023,2024,2025,2026,2027,2028,2029,2030,2031,2032,2033,2034]
[null,null,null,{"$f":"'Efficiency Levels'!C29","v":"EL0"},{"$f":"'Efficiency Levels'!D29","v":7745.9499850348666},null,null,{"$f":"H43","v":1},{"$f":"I43","v":1},1,1,1,1,1,1,1,1,1,1,1,1,1,1,1,1,1,1,0,0,0,0,0,0,0,0,0,0,0,0,0,0,0,0,0,0,0,0,0,0,0,0,0]
[null,null,null,{"$f":"'Efficiency Levels'!C30","v":"EL1"},{"$f":"'Efficiency Levels'!D30","v":7227.4562499999993},null,null,{"$f":"H44","v":0},{"$f":"I44","v":0},0,0,0,0,0,0,0,0,0,0,0,0,0,0,0,0,0,0,0.69047619047619047,0.69047619047619047,0.69047619047619047,0.69047619047619047,0.69047619047619047,0.69047619047619047,0.69047619047619047,0.69047619047619047,0,0,0,0,0,0,0,0,0,0,0,0,0,0,0,0,0]
[null,null,null,{"$f":"'Efficiency Levels'!C31","v":"EL2"},{"$f":"'Efficiency Levels'!D31","v":6506.9006249999984},null,null,{"$f":"H45","v":0},{"$f":"I45","v":0},0,0,0,0,0,0,0,0,0,0,0,0,0,0,0,0,0,0,0.16666666666666666,0.16666666666666666,0.16666666666666666,0.16666666666666666,0.16666666666666666,0.16666666666666666,0.16666666666666666,0.16666666666666666,0,0,0,0,0,0,0,0,0,0,0,0,0,0,0,0,0]
[null,null,null,{"$f":"'Efficiency Levels'!C32","v":"EL3"},{"$f":"'Efficiency Levels'!D32","v":6146.622812499998},null,null,{"$f":"H46","v":0},0,0,0,0,0,0,0,0,0,0,0,0,0,0,0,0,0,0,0,0.11904761904761904,0.11904761904761904,0.11904761904761904,0.11904761904761904,0.11904761904761904,0.11904761904761904,0.11904761904761904,0.11904761904761904,0.97619047619047616,0.97619047619047616,0.97619047619047616,0.97619047619047616,0.97619047619047616,0.97619047619047616,0.97619047619047616,0.97619047619047616,0.97619047619047616,0.97619047619047616,0.97619047619047616,0.97619047619047616,0.97619047619047616,0.97619047619047616,0.97619047619047616,0.97619047619047616,0.97619047619047616]
[null,null,null,{"$f":"'Efficiency Levels'!C33","v":"EL4"},{"$f":"'Efficiency Levels'!D33","v":5786.3449999999993},null,null,0,0,0,0,0,0,0,0,0,0,0,0,0,0,0,0,0,0,0,0,0,0,0,0,0,0,0,0,{"$f":"AI59","v":0},{"$f":"AJ59","v":0},0,0,0,0,0,0,0,0,0,0,0,0,0,0,0]
[null,null,null,{"$f":"'Efficiency Levels'!C34","v":"EL5"},{"$f":"'Efficiency Levels'!D34","v":5690.8676501035188},null,null,0,0,0,0,0,0,0,0,0,0,0,0,0,0,0,0,0,0,0,0,2.3809523809523808E-2,2.3809523809523808E-2,2.3809523809523808E-2,2.3809523809523808E-2,2.3809523809523808E-2,2.3809523809523808E-2,2.3809523809523808E-2,2.3809523809523808E-2,2.3809523809523808E-2,2.3809523809523808E-2,2.3809523809523808E-2,2.3809523809523808E-2,2.3809523809523808E-2,2.3809523809523808E-2,2.3809523809523808E-2,2.3809523809523808E-2,2.3809523809523808E-2,2.3809523809523808E-2,2.3809523809523808E-2,2.3809523809523808E-2,2.3809523809523808E-2,2.3809523809523808E-2,2.3809523809523808E-2,2.3809523809523808E-2,2.3809523809523808E-2]
[null,null,null,{"$f":"'Efficiency Levels'!C35","v":"EL6"},{"$f":"'Efficiency Levels'!D35","v":0},null,null,0,0,0,0,0,0,0,0,0,0,0,0,0,0,0,0,0,0,0,0,0,0,0,0,0,0,0,0,0,0,0,0,0,0,0,0,0,0,0,0,0,0,0,0,0]
[null,null,null,{"$f":"'Efficiency Levels'!C36","v":"EL7"},{"$f":"'Efficiency Levels'!D36","v":0},null,null,0,0,0,0,0,0,0,0,0,0,0,0,0,0,0,0,0,0,0,0,0,0,0,0,0,0,0,0,{"$f":"AJ50","v":0},{"$f":"AK50","v":0},0,0,0,0,0,0,0,0,0,0,0,0,0,0,0]
[null,null,null,"TOTAL",null,null,null,{"$f":"SUM(H55:H62)","v":1},{"$f":"SUM(I55:I62)","v":1},1,1,1,1,1,1,1,1,1,1,1,1,1,1,1,1,1,1,1,1,1,1,1,1,1,1,1,1,1,1,1,1,1,1,1,1,1,1,1,1,1,1,1]
[]
[null,null,null,"Sources","DOE Automatic Commercial Ice Makers 2014, Notice of Proposed Rulemaking (NOPR) Technical Support Document Chapter 10, Table 10.2.2 Base Case Shipment Weighted Market Shares by Efficiency Level (page 10-3); TSL 3 is proposed in the NOPR. TSL 3 corresponds to different EL's for different product classes"]
[]
[]
[]
[null,null,null,{"$f":"CONCATENATE('Efficiency Levels'!$C43,\" - \",'Efficiency Levels'!$D43)","v":"PC3 - Ice Making Head-Water Cooled-Large-Batch-1"}]
[]
[null,null,null,"PRE-Case",null,"Static Distribution"]
[null,null,null,"Efficiency Level","EL (kWh/day)",2006,null,1990,{"$f":"H72+1","v":1991},{"$f":"I72+1","v":1992},{"$f":"J72+1","v":1993},{"$f":"K72+1","v":1994},{"$f":"L72+1","v":1995},{"$f":"M72+1","v":1996},{"$f":"N72+1","v":1997},{"$f":"O72+1","v":1998},{"$f":"P72+1","v":1999},{"$f":"Q72+1","v":2000},{"$f":"R72+1","v":2001},{"$f":"S72+1","v":2002},{"$f":"T72+1","v":2003},{"$f":"U72+1","v":2004},{"$f":"V72+1","v":2005},{"$f":"W72+1","v":2006},{"$f":"X72+1","v":2007},{"$f":"Y72+1","v":2008},{"$f":"Z72+1","v":2009},{"$f":"AA72+1","v":2010},{"$f":"AB72+1","v":2011},{"$f":"AC72+1","v":2012},{"$f":"AD72+1","v":2013},{"$f":"AE72+1","v":2014},{"$f":"AF72+1","v":2015},{"$f":"AG72+1","v":2016},{"$f":"AH72+1","v":2017},{"$f":"AI72+1","v":2018},{"$f":"AJ72+1","v":2019},{"$f":"AK72+1","v":2020},{"$f":"AL72+1","v":2021},{"$f":"AM72+1","v":2022},{"$f":"AN72+1","v":2023},{"$f":"AO72+1","v":2024},{"$f":"AP72+1","v":2025},{"$f":"AQ72+1","v":2026},{"$f":"AR72+1","v":2027},{"$f":"AS72+1","v":2028},{"$f":"AT72+1","v":2029},{"$f":"AU72+1","v":2030},{"$f":"AV72+1","v":2031},{"$f":"AW72+1","v":2032},{"$f":"AX72+1","v":2033},{"$f":"AY72+1","v":2034}]
[null,null,null,{"$f":"'Efficiency Levels'!C46","v":"EL0"},{"$f":"'Efficiency Levels'!D46","v":7745.9499850348666},0,null,1,1,1,1,1,1,1,1,1,1,1,1,1,1,1,1,1,1,1,1,{"$f":"$F73","v":0},0,0,0,{"$f":"$F73","v":0},0,0,0,0,0,0,0,0,0,0,0,0,0,0,0,0,0,0,0,0]
[null,null,null,{"$f":"'Efficiency Levels'!C47","v":"EL1"},{"$f":"'Efficiency Levels'!D47","v":10971.9},0.7142857142857143,null,0,0,0,0,0,0,0,0,0,0,0,0,0,0,0,0,0,0,0,0,0.7142857142857143,0.7142857142857143,0.7142857142857143,0.7142857142857143,0.7142857142857143,0.7142857142857143,0.7142857142857143,0.7142857142857143,0.7142857142857143,0.7142857142857143,0.7142857142857143,0.7142857142857143,0.7142857142857143,0.7142857142857143,0.7142857142857143,0.7142857142857143,0.7142857142857143,0.7142857142857143,0.7142857142857143,0.7142857142857143,0.7142857142857143,0.7142857142857143,0.7142857142857143,0.7142857142857143,0.7142857142857143]
[null,null,null,{"$f":"'Efficiency Levels'!C48","v":"EL2"},{"$f":"'Efficiency Levels'!D48","v":9876.9},0,null,0,0,0,0,0,0,0,0,0,0,0,0,0,0,0,0,0,0,0,0,0,0,0,0,0,0,0,0,0,0,0,0,0,0,0,0,0,0,0,0,0,0,0,0,0]
[null,null,null,{"$f":"'Efficiency Levels'!C49","v":"EL3"},{"$f":"'Efficiency Levels'!D49","v":9329.4},4.7619047619047616E-2,null,0,0,0,0,0,0,0,0,0,0,0,0,0,0,0,0,0,0,0,0,4.7619047619047616E-2,4.7619047619047616E-2,4.7619047619047616E-2,4.7619047619047616E-2,4.7619047619047616E-2,4.7619047619047616E-2,4.7619047619047616E-2,4.7619047619047616E-2,4.7619047619047616E-2,4.7619047619047616E-2,4.7619047619047616E-2,4.7619047619047616E-2,4.7619047619047616E-2,4.7619047619047616E-2,4.7619047619047616E-2,4.7619047619047616E-2,4.7619047619047616E-2,4.7619047619047616E-2,4.7619047619047616E-2,4.7619047619047616E-2,4.7619047619047616E-2,4.7619047619047616E-2,4.7619047619047616E-2,4.7619047619047616E-2,4.7619047619047616E-2]
[null,null,null,{"$f":"'Efficiency Levels'!C50","v":"EL4"},{"$f":"'Efficiency Levels'!D50","v":9146.9},0.23809523809523808,null,0,0,0,0,0,0,0,0,0,0,0,0,0,0,0,0,0,0,0,0,0.23809523809523808,0.23809523809523808,0.23809523809523808,0.23809523809523808,0.23809523809523808,0.23809523809523808,0.23809523809523808,0.23809523809523808,0.23809523809523808,0.23809523809523808,0.23809523809523808,0.23809523809523808,0.23809523809523808,0.23809523809523808,0.23809523809523808,0.23809523809523808,0.23809523809523808,0.23809523809523808,0.23809523809523808,0.23809523809523808,0.23809523809523808,0.23809523809523808,0.23809523809523808,0.23809523809523808,0.23809523809523808]
[null,null,null,{"$f":"'Efficiency Levels'!C51","v":"EL5"},{"$f":"'Efficiency Levels'!D51","v":0},0,null,0,0,0,0,0,0,0,0,0,0,0,0,0,0,0,0,0,0,0,0,0,0,0,0,0,0,0,0,0,0,0,0,0,0,0,0,0,0,0,0,0,0,0,0,0]
[null,null,null,{"$f":"'Efficiency Levels'!C52","v":"EL6"},{"$f":"'Efficiency Levels'!D52","v":0},0,null,0,0,0,0,0,0,0,0,0,0,0,0,0,0,0,0,0,0,0,0,{"$f":"$F79","v":0},0,0,0,0,0,0,0,0,0,0,0,0,0,0,0,0,0,0,0,0,0,0,0,0]
[null,null,null,{"$f":"'Efficiency Levels'!C53","v":"EL7"},{"$f":"'Efficiency Levels'!D53","v":0},0,null,0,0,0,0,0,0,0,0,0,0,0,0,0,0,0,0,0,0,0,0,0,0,0,0,0,0,0,0,0,0,0,0,0,0,0,0,0,0,0,0,0,0,0,0,0]
[null,null,null,"TOTAL",null,{"$f":"SUM(F73:F80)","v":1},null,{"$f":"SUM(H73:H80)","v":1},1,1,1,1,1,1,1,1,1,1,1,1,1,1,1,1,1,1,1,1,1,1,1,1,1,1,1,1,1,1,1,1,1,1,1,1,1,1,1,1,1,1,1,1]
[]
[null,null,null,"POST-Case"]
[null,null,null,"Efficiency Level","EL (kWh/day)",null,null,1990,{"$f":"H84+1","v":1991},{"$f":"I84+1","v":1992},{"$f":"J84+1","v":1993},{"$f":"K84+1","v":1994},{"$f":"L84+1","v":1995},{"$f":"M84+1","v":1996},{"$f":"N84+1","v":1997},{"$f":"O84+1","v":1998},{"$f":"P84+1","v":1999},{"$f":"Q84+1","v":2000},{"$f":"R84+1","v":2001},{"$f":"S84+1","v":2002},{"$f":"T84+1","v":2003},{"$f":"U84+1","v":2004},{"$f":"V84+1","v":2005},{"$f":"X72","v":2006},2007,2008,2009,2010,2011,2012,2013,2014,2015,2016,2017,2018,2019,2020,2021,2022,2023,2024,2025,2026,2027,2028,2029,2030,2031,2032,2033,2034]
[null,null,null,{"$f":"'Efficiency Levels'!C46","v":"EL0"},{"$f":"'Efficiency Levels'!D46","v":7745.9499850348666},null,null,{"$f":"H73","v":1},{"$f":"I73","v":1},1,1,1,1,1,1,1,1,1,1,1,1,1,1,1,1,1,1,0,0,0,0,0,0,0,0,0,0,0,0,0,0,0,0,0,0,0,0,0,0,0,0,0]
[null,null,null,{"$f":"'Efficiency Levels'!C47","v":"EL1"},{"$f":"'Efficiency Levels'!D47","v":10971.9},null,null,{"$f":"H74","v":0},{"$f":"I74","v":0},0,0,0,0,0,0,0,0,0,0,0,0,0,0,0,0,0,0,0.7142857142857143,0.7142857142857143,0.7142857142857143,0.7142857142857143,0.7142857142857143,0.7142857142857143,0.7142857142857143,0.7142857142857143,0,0,0,0,0,0,0,0,0,0,0,0,0,0,0,0,0]
[null,null,null,{"$f":"'Efficiency Levels'!C48","v":"EL2"},{"$f":"'Efficiency Levels'!D48","v":9876.9},null,null,{"$f":"H75","v":0},0,0,0,0,0,0,0,0,0,0,0,0,0,0,0,0,0,0,0,0,0,0,0,0,0,0,0,0.7142857142857143,0.7142857142857143,0.7142857142857143,0.7142857142857143,0.7142857142857143,0.7142857142857143,0.7142857142857143,0.7142857142857143,0.7142857142857143,0.7142857142857143,0.7142857142857143,0.7142857142857143,0.7142857142857143,0.7142857142857143,0.7142857142857143,0.7142857142857143,0.7142857142857143]
[null,null,null,{"$f":"'Efficiency Levels'!C49","v":"EL3"},{"$f":"'Efficiency Levels'!D49","v":9329.4},null,null,{"$f":"H76","v":0},0,0,0,0,0,0,0,0,0,0,0,0,0,0,0,0,0,0,0,4.7619047619047616E-2,4.7619047619047616E-2,4.7619047619047616E-2,4.7619047619047616E-2,4.7619047619047616E-2,4.7619047619047616E-2,4.7619047619047616E-2,4.7619047619047616E-2,4.7619047619047616E-2,4.7619047619047616E-2,4.7619047619047616E-2,4.7619047619047616E-2,4.7619047619047616E-2,4.7619047619047616E-2,4.7619047619047616E-2,4.7619047619047616E-2,4.7619047619047616E-2,4.7619047619047616E-2,4.7619047619047616E-2,4.7619047619047616E-2,4.7619047619047616E-2,4.7619047619047616E-2,4.7619047619047616E-2,4.7619047619047616E-2,4.7619047619047616E-2]
[null,null,null,{"$f":"'Efficiency Levels'!C50","v":"EL4"},{"$f":"'Efficiency Levels'!D50","v":9146.9},null,null,{"$f":"H77","v":0},0,0,0,0,0,0,0,0,0,0,0,0,0,0,0,0,0,0,0,0.23809523809523808,0.23809523809523808,0.23809523809523808,0.23809523809523808,0.23809523809523808,0.23809523809523808,0.23809523809523808,0.23809523809523808,0.23809523809523808,0.23809523809523808,0.23809523809523808,0.23809523809523808,0.23809523809523808,0.23809523809523808,0.23809523809523808,0.23809523809523808,0.23809523809523808,0.23809523809523808,0.23809523809523808,0.23809523809523808,0.23809523809523808,0.23809523809523808,0.23809523809523808,0.23809523809523808,0.23809523809523808]
[null,null,null,{"$f":"'Efficiency Levels'!C51","v":"EL5"},{"$f":"'Efficiency Levels'!D51","v":0},null,null,{"$f":"H78","v":0},0,0,0,0,0,0,0,0,0,0,0,0,0,0,0,0,0,0,0,0,0,0,0,0,0,0,0,{"$f":"AJ78","v":0},{"$f":"AK78","v":0},0,0,0,0,0,0,0,0,0,0,0,0,0,0,0]
[null,null,null,{"$f":"'Efficiency Levels'!C52","v":"EL6"},{"$f":"'Efficiency Levels'!D52","v":0},null,null,{"$f":"H79","v":0},0,0,0,0,0,0,0,0,0,0,0,0,0,0,0,0,0,0,0,0,0,0,0,0,0,0,0,0,0,0,0,0,0,0,0,0,0,0,0,0,0,0,0,0]
[null,null,null,{"$f":"'Efficiency Levels'!C53","v":"EL7"},{"$f":"'Efficiency Levels'!D53","v":0},null,null,{"$f":"H80","v":0},0,0,0,0,0,0,0,0,0,0,0,0,0,0,0,0,0,0,0,0,0,0,0,0,0,0,0,{"$f":"AJ80","v":0},{"$f":"AK80","v":0},0,0,0,0,0,0,0,0,0,0,0,0,0,0,0]
[null,null,null,"TOTAL",null,null,null,{"$f":"SUM(H85:H92)","v":1},{"$f":"SUM(I85:I92)","v":1},1,1,1,1,1,1,1,1,1,1,1,1,1,1,1,1,1,1,1,1,1,1,1,1,1,1,1,1,1,1,1,1,1,1,1,1,1,1,1,1,1,1,1]
[]
[null,null,null,"Sources","DOE Automatic Commercial Ice Makers 2014, Notice of Proposed Rulemaking (NOPR) Technical Support Document Chapter 10, Table 10.2.2 Base Case Shipment Weighted Market Shares by Efficiency Level (page 10-3); TSL 3 is proposed in the NOPR. TSL 3 corresponds to different EL's for different product classes"]
[]
[]
[]
[null,null,null,{"$f":"CONCATENATE('Efficiency Levels'!$C60,\" - \",'Efficiency Levels'!$D60)","v":"PC4 - Ice Making Head-Water Cooled-Large-Batch-2"}]
[]
[null,null,null,"PRE-Case",null,"Static Distribution"]
[null,null,null,"Efficiency Level","EL (kWh/day)",2006,null,1990,{"$f":"H102+1","v":1991},{"$f":"I102+1","v":1992},{"$f":"J102+1","v":1993},{"$f":"K102+1","v":1994},{"$f":"L102+1","v":1995},{"$f":"M102+1","v":1996},{"$f":"N102+1","v":1997},{"$f":"O102+1","v":1998},{"$f":"P102+1","v":1999},{"$f":"Q102+1","v":2000},{"$f":"R102+1","v":2001},{"$f":"S102+1","v":2002},{"$f":"T102+1","v":2003},{"$f":"U102+1","v":2004},{"$f":"V102+1","v":2005},{"$f":"W102+1","v":2006},{"$f":"X102+1","v":2007},{"$f":"Y102+1","v":2008},{"$f":"Z102+1","v":2009},{"$f":"AA102+1","v":2010},{"$f":"AB102+1","v":2011},{"$f":"AC102+1","v":2012},{"$f":"AD102+1","v":2013},{"$f":"AE102+1","v":2014},{"$f":"AF102+1","v":2015},{"$f":"AG102+1","v":2016},{"$f":"AH102+1","v":2017},{"$f":"AI102+1","v":2018},{"$f":"AJ102+1","v":2019},{"$f":"AK102+1","v":2020},{"$f":"AL102+1","v":2021},{"$f":"AM102+1","v":2022},{"$f":"AN102+1","v":2023},{"$f":"AO102+1","v":2024},{"$f":"AP102+1","v":2025},{"$f":"AQ102+1","v":2026},{"$f":"AR102+1","v":2027},{"$f":"AS102+1","v":2028},{"$f":"AT102+1","v":2029},{"$f":"AU102+1","v":2030},{"$f":"AV102+1","v":2031},{"$f":"AW102+1","v":2032},{"$f":"AX102+1","v":2033},{"$f":"AY102+1","v":2034}]
[null,null,null,{"$f":"'Efficiency Levels'!C63","v":"EL0"},{"$f":"'Efficiency Levels'!D63","v":7745.9499850348666},0,null,1,1,1,1,1,1,1,1,1,1,1,1,1,1,1,1,1,1,1,1,{"$f":"$F103","v":0},0,0,0,0,0,0,0,{"$f":"$F103","v":0},0,{"$f":"$F103","v":0},0,0,0,0,0,0,0,0,0,0,0,0,0,0]
[null,null,null,{"$f":"'Efficiency Levels'!C64","v":"EL1"},{"$f":"'Efficiency Levels'!D64","v":19001.900000000001},0.33333333333333331,null,0,0,0,0,0,0,0,0,0,0,0,0,0,0,0,0,0,0,0,0,0.33333333333333331,0.33333333333333331,0.33333333333333331,0.33333333333333331,0.33333333333333331,0.33333333333333331,0.33333333333333331,0.33333333333333331,0.33333333333333331,0.33333333333333331,0.33333333333333331,0.33333333333333331,0.33333333333333331,0.33333333333333331,0.33333333333333331,0.33333333333333331,0.33333333333333331,0.33333333333333331,0.33333333333333331,0.33333333333333331,0.33333333333333331,0.33333333333333331,0.33333333333333331,0.33333333333333331,0.33333333333333331]
[null,null,null,{"$f":"'Efficiency Levels'!C65","v":"EL2"},{"$f":"'Efficiency Levels'!D65","v":17103.900000000001},0.5,null,0,0,0,0,0,0,0,0,0,0,0,0,0,0,0,0,0,0,0,0,0.5,0.5,0.5,0.5,0.5,0.5,0.5,0.5,0.5,0.5,0.5,0.5,0.5,0.5,0.5,0.5,0.5,0.5,0.5,0.5,0.5,0.5,0.5,0.5,0.5]
[null,null,null,{"$f":"'Efficiency Levels'!C66","v":"EL3"},{"$f":"'Efficiency Levels'!D66","v":16154.9},0,null,0,0,0,0,0,0,0,0,0,0,0,0,0,0,0,0,0,0,0,0,0,0,0,0,0,0,0,0,0,0,0,0,0,0,0,0,0,0,0,0,0,0,0,0,0]
[null,null,null,{"$f":"'Efficiency Levels'!C67","v":"EL4"},{"$f":"'Efficiency Levels'!D67","v":16067.336408977559},0.16666666666666666,null,0,0,0,0,0,0,0,0,0,0,0,0,0,0,0,0,0,0,0,0,0.16666666666666666,0.16666666666666666,0.16666666666666666,0.16666666666666666,0.16666666666666666,0.16666666666666666,0.16666666666666666,0.16666666666666666,0.16666666666666666,0.16666666666666666,0.16666666666666666,0.16666666666666666,0.16666666666666666,0.16666666666666666,0.16666666666666666,0.16666666666666666,0.16666666666666666,0.16666666666666666,0.16666666666666666,0.16666666666666666,0.16666666666666666,0.16666666666666666,0.16666666666666666,0.16666666666666666,0.16666666666666666]
[null,null,null,{"$f":"'Efficiency Levels'!C68","v":"EL5"},{"$f":"'Efficiency Levels'!D68","v":0},0,null,0,0,0,0,0,0,0,0,0,0,0,0,0,0,0,0,0,0,0,0,0,0,0,0,0,0,0,0,0,0,0,0,0,0,0,0,0,0,0,0,0,0,0,0,0]
[null,null,null,{"$f":"'Efficiency Levels'!C69","v":"EL6"},{"$f":"'Efficiency Levels'!D69","v":0},0,null,0,0,0,0,0,0,0,0,0,0,0,0,0,0,0,0,0,0,0,0,0,0,0,0,0,0,0,0,0,0,0,0,0,0,0,0,0,0,0,0,0,0,0,0,0]
[null,null,null,{"$f":"'Efficiency Levels'!C70","v":"EL7"},{"$f":"'Efficiency Levels'!D70","v":0},0,null,0,0,0,0,0,0,0,0,0,0,0,0,0,0,0,0,0,0,0,0,0,0,0,0,0,0,0,0,0,0,0,0,0,0,0,0,0,0,0,0,0,0,0,0,0]
[null,null,null,"TOTAL",null,{"$f":"SUM(F103:F110)","v":0.99999999999999989},null,{"$f":"SUM(H103:H110)","v":1},1,1,1,1,1,1,1,1,1,1,1,1,1,1,1,1,1,1,1,0.99999999999999989,0.99999999999999989,0.99999999999999989,0.99999999999999989,0.99999999999999989,0.99999999999999989,0.99999999999999989,0.99999999999999989,0.99999999999999989,0.99999999999999989,0.99999999999999989,0.99999999999999989,0.99999999999999989,0.99999999999999989,0.99999999999999989,0.99999999999999989,0.99999999999999989,0.99999999999999989,0.99999999999999989,0.99999999999999989,0.99999999999999989,0.99999999999999989,0.99999999999999989,0.99999999999999989,0.99999999999999989]
[]
[null,null,null,"POST-Case"]
[null,null,null,"Efficiency Level","EL (kWh/day)",null,null,1990,{"$f":"H114+1","v":1991},{"$f":"I114+1","v":1992},{"$f":"J114+1","v":1993},{"$f":"K114+1","v":1994},{"$f":"L114+1","v":1995},{"$f":"M114+1","v":1996},{"$f":"N114+1","v":1997},{"$f":"O114+1","v":1998},{"$f":"P114+1","v":1999},{"$f":"Q114+1","v":2000},{"$f":"R114+1","v":2001},{"$f":"S114+1","v":2002},{"$f":"T114+1","v":2003},{"$f":"U114+1","v":2004},{"$f":"V114+1","v":2005},{"$f":"X102","v":2006},2007,2008,2009,2010,2011,2012,2013,2014,2015,2016,2017,2018,2019,2020,2021,2022,2023,2024,2025,2026,2027,2028,2029,2030,2031,2032,2033,2034]
[null,null,null,{"$f":"'Efficiency Levels'!C63","v":"EL0"},{"$f":"'Efficiency Levels'!D63","v":7745.9499850348666},null,null,{"$f":"H103","v":1},{"$f":"I103","v":1},1,1,1,1,1,1,1,1,1,1,1,1,1,1,1,1,1,1,0,0,0,0,0,0,0,0,0,0,0,0,0,0,0,0,0,0,0,0,0,0,0,0,0]
[null,null,null,{"$f":"'Efficiency Levels'!C64","v":"EL1"},{"$f":"'Efficiency Levels'!D64","v":19001.900000000001},null,null,{"$f":"H104","v":0},{"$f":"I104","v":0},0,0,0,0,0,0,0,0,0,0,0,0,0,0,0,0,0,0,0.33333333333333331,0.33333333333333331,0.33333333333333331,0.33333333333333331,0.33333333333333331,0.33333333333333331,0.33333333333333331,0.33333333333333331,0,0,0,0,0,0,0,0,0,0,0,0,0,0,0,0,0]
[null,null,null,{"$f":"'Efficiency Levels'!C65","v":"EL2"},{"$f":"'Efficiency Levels'!D65","v":17103.900000000001},null,null,{"$f":"H105","v":0},0,0,0,0,0,0,0,0,0,0,0,0,0,0,0,0,0,0,0,0.5,0.5,0.5,0.5,0.5,0.5,0.5,0.5,0.83333333333333326,0.83333333333333326,0.83333333333333326,0.83333333333333326,0.83333333333333326,0.83333333333333326,0.83333333333333326,0.83333333333333326,0.83333333333333326,0.83333333333333326,0.83333333333333326,0.83333333333333326,0.83333333333333326,0.83333333333333326,0.83333333333333326,0.83333333333333326,0.83333333333333326]
[null,null,null,{"$f":"'Efficiency Levels'!C66","v":"EL3"},{"$f":"'Efficiency Levels'!D66","v":16154.9},null,null,{"$f":"H106","v":0},0,0,0,0,0,0,0,0,0,0,0,0,0,0,0,0,0,0,0,0,0,0,0,0,0,0,0,0,0,0,0,0,0,0,0,0,0,0,0,0,0,0,0,0]
[null,null,null,{"$f":"'Efficiency Levels'!C67","v":"EL4"},{"$f":"'Efficiency Levels'!D67","v":16067.336408977559},null,null,{"$f":"H107","v":0},0,0,0,0,0,0,0,0,0,0,0,0,0,0,0,0,0,0,0,0.16666666666666666,0.16666666666666666,0.16666666666666666,0.16666666666666666,0.16666666666666666,0.16666666666666666,0.16666666666666666,0.16666666666666666,0.16666666666666666,0.16666666666666666,0.16666666666666666,0.16666666666666666,0.16666666666666666,0.16666666666666666,0.16666666666666666,0.16666666666666666,0.16666666666666666,0.16666666666666666,0.16666666666666666,0.16666666666666666,0.16666666666666666,0.16666666666666666,0.16666666666666666,0.16666666666666666,0.16666666666666666]
[null,null,null,{"$f":"'Efficiency Levels'!C68","v":"EL5"},{"$f":"'Efficiency Levels'!D68","v":0},null,null,{"$f":"H108","v":0},0,0,0,0,0,0,0,0,0,0,0,0,0,0,0,0,0,0,0,0,0,0,0,0,0,0,0,0,0,0,0,0,0,0,0,0,0,0,0,0,0,0,0,0]
[null,null,null,{"$f":"'Efficiency Levels'!C69","v":"EL6"},{"$f":"'Efficiency Levels'!D69","v":0},null,null,{"$f":"H109","v":0},0,0,0,0,0,0,0,0,0,0,0,0,0,0,0,0,0,0,0,0,0,0,0,0,0,0,0,0,0,0,0,0,0,0,0,0,0,0,0,0,0,0,0,0]
[null,null,null,{"$f":"'Efficiency Levels'!C70","v":"EL7"},{"$f":"'Efficiency Levels'!D70","v":0},null,null,{"$f":"H110","v":0},0,0,0,0,0,0,0,0,0,0,0,0,0,0,0,0,0,0,0,0,0,0,0,0,0,0,0,0,0,0,0,0,0,0,0,0,0,0,0,0,0,0,0,0]
[null,null,null,"TOTAL",null,null,null,{"$f":"SUM(H115:H122)","v":1},{"$f":"SUM(I115:I122)","v":1},1,1,1,1,1,1,1,1,1,1,1,1,1,1,1,1,1,1,0.99999999999999989,0.99999999999999989,0.99999999999999989,0.99999999999999989,0.99999999999999989,0.99999999999999989,0.99999999999999989,0.99999999999999989,0.99999999999999989,0.99999999999999989,0.99999999999999989,0.99999999999999989,0.99999999999999989,0.99999999999999989,0.99999999999999989,0.99999999999999989,0.99999999999999989,0.99999999999999989,0.99999999999999989,0.99999999999999989,0.99999999999999989,0.99999999999999989,0.99999999999999989,0.99999999999999989,0.99999999999999989]
[]
[null,null,null,"Sources","DOE Automatic Commercial Ice Makers 2014, Notice of Proposed Rulemaking (NOPR) Technical Support Document Chapter 10, Table 10.2.2 Base Case Shipment Weighted Market Shares by Efficiency Level (page 10-3); TSL 3 is proposed in the NOPR. TSL 3 corresponds to different EL's for different product classes"]
[]
[]
[]
[null,null,null,{"$f":"CONCATENATE('Efficiency Levels'!$C77,\" - \",'Efficiency Levels'!$D77)","v":"PC5 - Ice Making Head-Air Cooled-Small-Batch"}]
[]
[null,null,null,"PRE-Case",null,"Static Distribution"]
[null,null,null,"Efficiency Level","EL (kWh/day)",2006,null,1990,{"$f":"H132+1","v":1991},{"$f":"I132+1","v":1992},{"$f":"J132+1","v":1993},{"$f":"K132+1","v":1994},{"$f":"L132+1","v":1995},{"$f":"M132+1","v":1996},{"$f":"N132+1","v":1997},{"$f":"O132+1","v":1998},{"$f":"P132+1","v":1999},{"$f":"Q132+1","v":2000},{"$f":"R132+1","v":2001},{"$f":"S132+1","v":2002},{"$f":"T132+1","v":2003},{"$f":"U132+1","v":2004},{"$f":"V132+1","v":2005},{"$f":"W132+1","v":2006},{"$f":"X132+1","v":2007},{"$f":"Y132+1","v":2008},{"$f":"Z132+1","v":2009},{"$f":"AA132+1","v":2010},{"$f":"AB132+1","v":2011},{"$f":"AC132+1","v":2012},{"$f":"AD132+1","v":2013},{"$f":"AE132+1","v":2014},{"$f":"AF132+1","v":2015},{"$f":"AG132+1","v":2016},{"$f":"AH132+1","v":2017},{"$f":"AI132+1","v":2018},{"$f":"AJ132+1","v":2019},{"$f":"AK132+1","v":2020},{"$f":"AL132+1","v":2021},{"$f":"AM132+1","v":2022},{"$f":"AN132+1","v":2023},{"$f":"AO132+1","v":2024},{"$f":"AP132+1","v":2025},{"$f":"AQ132+1","v":2026},{"$f":"AR132+1","v":2027},{"$f":"AS132+1","v":2028},{"$f":"AT132+1","v":2029},{"$f":"AU132+1","v":2030},{"$f":"AV132+1","v":2031},{"$f":"AW132+1","v":2032},{"$f":"AX132+1","v":2033},{"$f":"AY132+1","v":2034}]
[null,null,null,{"$f":"'Efficiency Levels'!C80","v":"EL0"},{"$f":"'Efficiency Levels'!D80","v":7804.8710483203131},0,null,1,1,1,1,1,1,1,1,1,1,1,1,1,1,1,1,1,1,1,1,{"$f":"$F133","v":0},0,0,0,0,0,0,0,0,0,0,0,0,0,0,0,0,0,0,0,0,0,0,0,0]
[null,null,null,{"$f":"'Efficiency Levels'!C81","v":"EL1"},{"$f":"'Efficiency Levels'!D81","v":4226.6999999999989},0.37037037037037035,null,0,0,0,0,0,0,0,0,0,0,0,0,0,0,0,0,0,0,0,0,0.37037037037037035,0.37037037037037035,0.37037037037037035,0.37037037037037035,0.37037037037037035,0.37037037037037035,0.37037037037037035,0.37037037037037035,0.37037037037037035,0.37037037037037035,0.37037037037037035,0.37037037037037035,0.37037037037037035,0.37037037037037035,0.37037037037037035,0.37037037037037035,0.37037037037037035,0.37037037037037035,0.37037037037037035,0.37037037037037035,0.37037037037037035,0.37037037037037035,0.37037037037037035,0.37037037037037035,0.37037037037037035]
[null,null,null,{"$f":"'Efficiency Levels'!C82","v":"EL2"},{"$f":"'Efficiency Levels'!D82","v":3806.2200000000003},0.31481481481481483,null,0,0,0,0,0,0,0,0,0,0,0,0,0,0,0,0,0,0,0,0,0.31481481481481483,0.31481481481481483,0.31481481481481483,0.31481481481481483,0.31481481481481483,0.31481481481481483,0.31481481481481483,0.31481481481481483,0.31481481481481483,0.31481481481481483,0.31481481481481483,0.31481481481481483,0.31481481481481483,0.31481481481481483,0.31481481481481483,0.31481481481481483,0.31481481481481483,0.31481481481481483,0.31481481481481483,0.31481481481481483,0.31481481481481483,0.31481481481481483,0.31481481481481483,0.31481481481481483,0.31481481481481483]
[null,null,null,{"$f":"'Efficiency Levels'!C83","v":"EL3"},{"$f":"'Efficiency Levels'!D83","v":3595.98},0.25925925925925924,null,0,0,0,0,0,0,0,0,0,0,0,0,0,0,0,0,0,0,0,0,0.25925925925925924,0.25925925925925924,0.25925925925925924,0.25925925925925924,0.25925925925925924,0.25925925925925924,0.25925925925925924,0.25925925925925924,0.25925925925925924,0.25925925925925924,0.25925925925925924,0.25925925925925924,0.25925925925925924,0.25925925925925924,0.25925925925925924,0.25925925925925924,0.25925925925925924,0.25925925925925924,0.25925925925925924,0.25925925925925924,0.25925925925925924,0.25925925925925924,0.25925925925925924,0.25925925925925924,0.25925925925925924]
[null,null,null,{"$f":"'Efficiency Levels'!C84","v":"EL4"},{"$f":"'Efficiency Levels'!D84","v":3385.7400000000002},5.5555555555555552E-2,null,0,0,0,0,0,0,0,0,0,0,0,0,0,0,0,0,0,0,0,0,5.5555555555555552E-2,5.5555555555555552E-2,5.5555555555555552E-2,5.5555555555555552E-2,5.5555555555555552E-2,5.5555555555555552E-2,5.5555555555555552E-2,5.5555555555555552E-2,5.5555555555555552E-2,5.5555555555555552E-2,5.5555555555555552E-2,5.5555555555555552E-2,5.5555555555555552E-2,5.5555555555555552E-2,5.5555555555555552E-2,5.5555555555555552E-2,5.5555555555555552E-2,5.5555555555555552E-2,5.5555555555555552E-2,5.5555555555555552E-2,5.5555555555555552E-2,5.5555555555555552E-2,5.5555555555555552E-2,5.5555555555555552E-2,5.5555555555555552E-2]
[null,null,null,{"$f":"'Efficiency Levels'!C85","v":"EL5"},{"$f":"'Efficiency Levels'!D85","v":3175.5000000000005},0,null,0,0,0,0,0,0,0,0,0,0,0,0,0,0,0,0,0,0,0,0,0,0,0,0,0,0,0,0,0,0,0,0,0,0,0,0,0,0,0,0,0,0,0,0,0]
[null,null,null,{"$f":"'Efficiency Levels'!C86","v":"EL6"},{"$f":"'Efficiency Levels'!D86","v":2965.2599999999998},0,null,0,0,0,0,0,0,0,0,0,0,0,0,0,0,0,0,0,0,0,0,{"$f":"$F139","v":0},0,0,0,0,0,0,0,0,0,0,0,0,0,0,0,0,0,0,0,0,0,0,0,0]
[null,null,null,{"$f":"'Efficiency Levels'!C87","v":"EL7"},{"$f":"'Efficiency Levels'!D87","v":2908.7776119402984},0,null,0,0,0,0,0,0,0,0,0,0,0,0,0,0,0,0,0,0,0,0,0,0,0,0,0,0,0,0,0,0,0,0,0,0,0,0,0,0,0,0,0,0,0,0,0]
[null,null,null,"TOTAL",null,{"$f":"SUM(F133:F140)","v":1},null,{"$f":"SUM(H133:H140)","v":1},1,1,1,1,1,1,1,1,1,1,1,1,1,1,1,1,1,1,1,1,1,1,1,1,1,1,1,1,1,1,1,1,1,1,1,1,1,1,1,1,1,1,1,1]
[]
[null,null,null,"POST-Case"]
[null,null,null,"Efficiency Level","EL (kWh/day)",null,null,1990,{"$f":"H144+1","v":1991},{"$f":"I144+1","v":1992},{"$f":"J144+1","v":1993},{"$f":"K144+1","v":1994},{"$f":"L144+1","v":1995},{"$f":"M144+1","v":1996},{"$f":"N144+1","v":1997},{"$f":"O144+1","v":1998},{"$f":"P144+1","v":1999},{"$f":"Q144+1","v":2000},{"$f":"R144+1","v":2001},{"$f":"S144+1","v":2002},{"$f":"T144+1","v":2003},{"$f":"U144+1","v":2004},{"$f":"V144+1","v":2005},{"$f":"X132","v":2006},2007,2008,2009,2010,2011,2012,2013,2014,2015,2016,2017,2018,2019,2020,2021,2022,2023,2024,2025,2026,2027,2028,2029,2030,2031,2032,2033,2034]
[null,null,null,{"$f":"'Efficiency Levels'!C80","v":"EL0"},{"$f":"'Efficiency Levels'!D80","v":7804.8710483203131},null,null,{"$f":"H133","v":1},{"$f":"I133","v":1},1,1,1,1,1,1,1,1,1,1,1,1,1,1,1,1,1,1,0,0,0,0,0,0,0,0,0,0,0,0,0,0,0,0,0,0,0,0,0,0,0,0,0]
[null,null,null,{"$f":"'Efficiency Levels'!C81","v":"EL1"},{"$f":"'Efficiency Levels'!D81","v":4226.6999999999989},null,null,{"$f":"H134","v":0},{"$f":"I134","v":0},0,0,0,0,0,0,0,0,0,0,0,0,0,0,0,0,0,0,0.37037037037037035,0.37037037037037035,0.37037037037037035,0.37037037037037035,0.37037037037037035,0.37037037037037035,0.37037037037037035,0.37037037037037035,0,0,0,0,0,0,0,0,0,0,0,0,0,0,0,0,0]
[null,null,null,{"$f":"'Efficiency Levels'!C82","v":"EL2"},{"$f":"'Efficiency Levels'!D82","v":3806.2200000000003},null,null,{"$f":"H135","v":0},0,0,0,0,0,0,0,0,0,0,0,0,0,0,0,0,0,0,0,0.31481481481481483,0.31481481481481483,0.31481481481481483,0.31481481481481483,0.31481481481481483,0.31481481481481483,0.31481481481481483,0.31481481481481483,0,0,0,0,0,0,0,0,0,0,0,0,0,0,0,0,0]
[null,null,null,{"$f":"'Efficiency Levels'!C83","v":"EL3"},{"$f":"'Efficiency Levels'!D83","v":3595.98},null,null,{"$f":"H136","v":0},0,0,0,0,0,0,0,0,0,0,0,0,0,0,0,0,0,0,0,0.25925925925925924,0.25925925925925924,0.25925925925925924,0.25925925925925924,0.25925925925925924,0.25925925925925924,0.25925925925925924,0.25925925925925924,0,0,0,0,0,0,0,0,0,0,0,0,0,0,0,0,0]
[null,null,null,{"$f":"'Efficiency Levels'!C84","v":"EL4"},{"$f":"'Efficiency Levels'!D84","v":3385.7400000000002},null,null,{"$f":"H137","v":0},0,0,0,0,0,0,0,0,0,0,0,0,0,0,0,0,0,0,0,5.5555555555555552E-2,5.5555555555555552E-2,5.5555555555555552E-2,5.5555555555555552E-2,5.5555555555555552E-2,5.5555555555555552E-2,5.5555555555555552E-2,5.5555555555555552E-2,0,0,0,0,0,0,0,0,0,0,0,0,0,0,0,0,0]
[null,null,null,{"$f":"'Efficiency Levels'!C85","v":"EL5"},{"$f":"'Efficiency Levels'!D85","v":3175.5000000000005},null,null,{"$f":"H138","v":0},0,0,0,0,0,0,0,0,0,0,0,0,0,0,0,0,0,0,0,0,0,0,0,0,0,0,0,1,1,1,1,1,1,1,1,1,1,1,1,1,1,1,1,1]
[null,null,null,{"$f":"'Efficiency Levels'!C86","v":"EL6"},{"$f":"'Efficiency Levels'!D86","v":2965.2599999999998},null,null,{"$f":"H139","v":0},0,0,0,0,0,0,0,0,0,0,0,0,0,0,0,0,0,0,0,0,0,0,0,0,0,0,0,0,0,0,0,0,0,0,0,0,0,0,0,0,0,0,0,0]
[null,null,null,{"$f":"'Efficiency Levels'!C87","v":"EL7"},{"$f":"'Efficiency Levels'!D87","v":2908.7776119402984},null,null,{"$f":"H140","v":0},0,0,0,0,0,0,0,0,0,0,0,0,0,0,0,0,0,0,0,0,0,0,0,0,0,0,0,0,0,0,0,0,0,0,0,0,0,0,0,0,0,0,0,0]
[null,null,null,"TOTAL",null,null,null,{"$f":"SUM(H145:H152)","v":1},{"$f":"SUM(I145:I152)","v":1},1,1,1,1,1,1,1,1,1,1,1,1,1,1,1,1,1,1,1,1,1,1,1,1,1,1,1,1,1,1,1,1,1,1,1,1,1,1,1,1,1,1,1]
[]
[null,null,null,"Sources","DOE Automatic Commercial Ice Makers 2014, Notice of Proposed Rulemaking (NOPR) Technical Support Document Chapter 10, Table 10.2.2 Base Case Shipment Weighted Market Shares by Efficiency Level (page 10-3); TSL 3 is proposed in the NOPR. TSL 3 corresponds to different EL's for different product classes"]
[]
[]
[]
[null,null,null,{"$f":"CONCATENATE('Efficiency Levels'!$C94,\" - \",'Efficiency Levels'!$D94)","v":"PC6 - Ice Making Head-Air Cooled-Large-Batch-1"}]
[]
[null,null,null,"PRE-Case",null,"Static Distribution"]
[null,null,null,"Efficiency Level","EL (kWh/day)",2006,null,1990,{"$f":"H162+1","v":1991},{"$f":"I162+1","v":1992},{"$f":"J162+1","v":1993},{"$f":"K162+1","v":1994},{"$f":"L162+1","v":1995},{"$f":"M162+1","v":1996},{"$f":"N162+1","v":1997},{"$f":"O162+1","v":1998},{"$f":"P162+1","v":1999},{"$f":"Q162+1","v":2000},{"$f":"R162+1","v":2001},{"$f":"S162+1","v":2002},{"$f":"T162+1","v":2003},{"$f":"U162+1","v":2004},{"$f":"V162+1","v":2005},{"$f":"W162+1","v":2006},{"$f":"X162+1","v":2007},{"$f":"Y162+1","v":2008},{"$f":"Z162+1","v":2009},{"$f":"AA162+1","v":2010},{"$f":"AB162+1","v":2011},{"$f":"AC162+1","v":2012},{"$f":"AD162+1","v":2013},{"$f":"AE162+1","v":2014},{"$f":"AF162+1","v":2015},{"$f":"AG162+1","v":2016},{"$f":"AH162+1","v":2017},{"$f":"AI162+1","v":2018},{"$f":"AJ162+1","v":2019},{"$f":"AK162+1","v":2020},{"$f":"AL162+1","v":2021},{"$f":"AM162+1","v":2022},{"$f":"AN162+1","v":2023},{"$f":"AO162+1","v":2024},{"$f":"AP162+1","v":2025},{"$f":"AQ162+1","v":2026},{"$f":"AR162+1","v":2027},{"$f":"AS162+1","v":2028},{"$f":"AT162+1","v":2029},{"$f":"AU162+1","v":2030},{"$f":"AV162+1","v":2031},{"$f":"AW162+1","v":2032},{"$f":"AX162+1","v":2033},{"$f":"AY162+1","v":2034}]
[null,null,null,{"$f":"'Efficiency Levels'!C97","v":"EL0"},{"$f":"'Efficiency Levels'!D97","v":7804.8710483203131},0,null,1,1,1,1,1,1,1,1,1,1,1,1,1,1,1,1,1,1,1,1,{"$f":"$F163","v":0},0,0,0,0,0,0,0,0,0,0,0,0,0,0,0,0,0,0,0,0,0,0,0,0]
[null,null,null,{"$f":"'Efficiency Levels'!C98","v":"EL1"},{"$f":"'Efficiency Levels'!D98","v":8796.5},0.41463414634146339,null,0,0,0,0,0,0,0,0,0,0,0,0,0,0,0,0,0,0,0,0,0.41463414634146339,0.41463414634146339,0.41463414634146339,0.41463414634146339,0.41463414634146339,0.41463414634146339,0.41463414634146339,0.41463414634146339,0.41463414634146339,0.41463414634146339,0.41463414634146339,0.41463414634146339,0.41463414634146339,0.41463414634146339,0.41463414634146339,0.41463414634146339,0.41463414634146339,0.41463414634146339,0.41463414634146339,0.41463414634146339,0.41463414634146339,0.41463414634146339,0.41463414634146339,0.41463414634146339,0.41463414634146339]
[null,null,null,{"$f":"'Efficiency Levels'!C99","v":"EL2"},{"$f":"'Efficiency Levels'!D99","v":7919.0399999999991},0.43902439024390244,null,0,0,0,0,0,0,0,0,0,0,0,0,0,0,0,0,0,0,0,0,0.43902439024390244,0.43902439024390244,0.43902439024390244,0.43902439024390244,0.43902439024390244,0.43902439024390244,0.43902439024390244,0.43902439024390244,0.43902439024390244,0.43902439024390244,0.43902439024390244,0.43902439024390244,0.43902439024390244,0.43902439024390244,0.43902439024390244,0.43902439024390244,0.43902439024390244,0.43902439024390244,0.43902439024390244,0.43902439024390244,0.43902439024390244,0.43902439024390244,0.43902439024390244,0.43902439024390244,0.43902439024390244]
[null,null,null,{"$f":"'Efficiency Levels'!C100","v":"EL3"},{"$f":"'Efficiency Levels'!D100","v":7480.3099999999986},7.3170731707317069E-2,null,0,0,0,0,0,0,0,0,0,0,0,0,0,0,0,0,0,0,0,0,7.3170731707317069E-2,7.3170731707317069E-2,7.3170731707317069E-2,7.3170731707317069E-2,7.3170731707317069E-2,7.3170731707317069E-2,7.3170731707317069E-2,7.3170731707317069E-2,7.3170731707317069E-2,7.3170731707317069E-2,7.3170731707317069E-2,7.3170731707317069E-2,7.3170731707317069E-2,7.3170731707317069E-2,7.3170731707317069E-2,7.3170731707317069E-2,7.3170731707317069E-2,7.3170731707317069E-2,7.3170731707317069E-2,7.3170731707317069E-2,7.3170731707317069E-2,7.3170731707317069E-2,7.3170731707317069E-2,7.3170731707317069E-2,7.3170731707317069E-2]
[null,null,null,{"$f":"'Efficiency Levels'!C101","v":"EL4"},{"$f":"'Efficiency Levels'!D101","v":7041.579999999999},7.3170731707317069E-2,null,0,0,0,0,0,0,0,0,0,0,0,0,0,0,0,0,0,0,0,0,7.3170731707317069E-2,7.3170731707317069E-2,7.3170731707317069E-2,7.3170731707317069E-2,7.3170731707317069E-2,7.3170731707317069E-2,7.3170731707317069E-2,7.3170731707317069E-2,7.3170731707317069E-2,7.3170731707317069E-2,7.3170731707317069E-2,7.3170731707317069E-2,7.3170731707317069E-2,7.3170731707317069E-2,7.3170731707317069E-2,7.3170731707317069E-2,7.3170731707317069E-2,7.3170731707317069E-2,7.3170731707317069E-2,7.3170731707317069E-2,7.3170731707317069E-2,7.3170731707317069E-2,7.3170731707317069E-2,7.3170731707317069E-2,7.3170731707317069E-2]
[null,null,null,{"$f":"'Efficiency Levels'!C102","v":"EL5"},{"$f":"'Efficiency Levels'!D102","v":6602.85},0,null,0,0,0,0,0,0,0,0,0,0,0,0,0,0,0,0,0,0,0,0,0,0,0,0,0,0,0,0,0,0,0,0,0,0,0,0,0,0,0,0,0,0,0,0,0]
[null,null,null,{"$f":"'Efficiency Levels'!C103","v":"EL6"},{"$f":"'Efficiency Levels'!D103","v":6213.1152284263953},0,null,0,0,0,0,0,0,0,0,0,0,0,0,0,0,0,0,0,0,0,0,{"$f":"$F169","v":0},0,0,0,0,0,0,0,0,0,0,0,0,0,0,0,0,0,0,0,0,0,0,0,0]
[null,null,null,{"$f":"'Efficiency Levels'!C104","v":"EL7"},{"$f":"'Efficiency Levels'!D104","v":0},0,null,0,0,0,0,0,0,0,0,0,0,0,0,0,0,0,0,0,0,0,0,0,0,0,0,0,0,0,0,0,0,0,0,0,0,0,0,0,0,0,0,0,0,0,0,0]
[null,null,null,"TOTAL",null,{"$f":"SUM(F163:F170)","v":0.99999999999999989},null,{"$f":"SUM(H163:H170)","v":1},1,1,1,1,1,1,1,1,1,1,1,1,1,1,1,1,1,1,1,0.99999999999999989,0.99999999999999989,0.99999999999999989,0.99999999999999989,0.99999999999999989,0.99999999999999989,0.99999999999999989,0.99999999999999989,0.99999999999999989,0.99999999999999989,0.99999999999999989,0.99999999999999989,0.99999999999999989,0.99999999999999989,0.99999999999999989,0.99999999999999989,0.99999999999999989,0.99999999999999989,0.99999999999999989,0.99999999999999989,0.99999999999999989,0.99999999999999989,0.99999999999999989,0.99999999999999989,0.99999999999999989]
[]
[null,null,null,"POST-Case"]
[null,null,null,"Efficiency Level","EL (kWh/day)",null,null,1990,{"$f":"H174+1","v":1991},{"$f":"I174+1","v":1992},{"$f":"J174+1","v":1993},{"$f":"K174+1","v":1994},{"$f":"L174+1","v":1995},{"$f":"M174+1","v":1996},{"$f":"N174+1","v":1997},{"$f":"O174+1","v":1998},{"$f":"P174+1","v":1999},{"$f":"Q174+1","v":2000},{"$f":"R174+1","v":2001},{"$f":"S174+1","v":2002},{"$f":"T174+1","v":2003},{"$f":"U174+1","v":2004},{"$f":"V174+1","v":2005},{"$f":"X162","v":2006},2007,2008,2009,2010,2011,2012,2013,2014,2015,2016,2017,2018,2019,2020,2021,2022,2023,2024,2025,2026,2027,2028,2029,2030,2031,2032,2033,2034]
[null,null,null,{"$f":"'Efficiency Levels'!C97","v":"EL0"},{"$f":"'Efficiency Levels'!D97","v":7804.8710483203131},null,null,{"$f":"H163","v":1},{"$f":"I163","v":1},1,1,1,1,1,1,1,1,1,1,1,1,1,1,1,1,1,1,0,0,0,0,0,0,0,0,0,0,0,0,0,0,0,0,0,0,0,0,0,0,0,0,0]
[null,null,null,{"$f":"'Efficiency Levels'!C98","v":"EL1"},{"$f":"'Efficiency Levels'!D98","v":8796.5},null,null,{"$f":"H164","v":0},{"$f":"I164","v":0},0,0,0,0,0,0,0,0,0,0,0,0,0,0,0,0,0,0,0.41463414634146339,0.41463414634146339,0.41463414634146339,0.41463414634146339,0.41463414634146339,0.41463414634146339,0.41463414634146339,0.41463414634146339,0,0,0,0,0,0,0,0,0,0,0,0,0,0,0,0,0]
[null,null,null,{"$f":"'Efficiency Levels'!C99","v":"EL2"},{"$f":"'Efficiency Levels'!D99","v":7919.0399999999991},null,null,{"$f":"H165","v":0},0,0,0,0,0,0,0,0,0,0,0,0,0,0,0,0,0,0,0,0.43902439024390244,0.43902439024390244,0.43902439024390244,0.43902439024390244,0.43902439024390244,0.43902439024390244,0.43902439024390244,0.43902439024390244,0,0,0,0,0,0,0,0,0,0,0,0,0,0,0,0,0]
[null,null,null,{"$f":"'Efficiency Levels'!C100","v":"EL3"},{"$f":"'Efficiency Levels'!D100","v":7480.3099999999986},null,null,{"$f":"H166","v":0},0,0,0,0,0,0,0,0,0,0,0,0,0,0,0,0,0,0,0,7.3170731707317069E-2,7.3170731707317069E-2,7.3170731707317069E-2,7.3170731707317069E-2,7.3170731707317069E-2,7.3170731707317069E-2,7.3170731707317069E-2,7.3170731707317069E-2,0,0,0,0,0,0,0,0,0,0,0,0,0,0,0,0,0]
[null,null,null,{"$f":"'Efficiency Levels'!C101","v":"EL4"},{"$f":"'Efficiency Levels'!D101","v":7041.579999999999},null,null,{"$f":"H167","v":0},0,0,0,0,0,0,0,0,0,0,0,0,0,0,0,0,0,0,0,7.3170731707317069E-2,7.3170731707317069E-2,7.3170731707317069E-2,7.3170731707317069E-2,7.3170731707317069E-2,7.3170731707317069E-2,7.3170731707317069E-2,7.3170731707317069E-2,0,0,0,0,0,0,0,0,0,0,0,0,0,0,0,0,0]
[null,null,null,{"$f":"'Efficiency Levels'!C102","v":"EL5"},{"$f":"'Efficiency Levels'!D102","v":6602.85},null,null,{"$f":"H168","v":0},0,0,0,0,0,0,0,0,0,0,0,0,0,0,0,0,0,0,0,0,0,0,0,0,0,0,0,1,1,1,1,1,1,1,1,1,1,1,1,1,1,1,1,1]
[null,null,null,{"$f":"'Efficiency Levels'!C103","v":"EL6"},{"$f":"'Efficiency Levels'!D103","v":6213.1152284263953},null,null,{"$f":"H169","v":0},0,0,0,0,0,0,0,0,0,0,0,0,0,0,0,0,0,0,0,0,0,0,0,0,0,0,0,0,0,0,0,0,0,0,0,0,0,0,0,0,0,0,0,0]
[null,null,null,{"$f":"'Efficiency Levels'!C104","v":"EL7"},{"$f":"'Efficiency Levels'!D104","v":0},null,null,{"$f":"H170","v":0},0,0,0,0,0,0,0,0,0,0,0,0,0,0,0,0,0,0,0,0,0,0,0,0,0,0,0,0,0,0,0,0,0,0,0,0,0,0,0,0,0,0,0,0]
[null,null,null,"TOTAL",null,null,null,{"$f":"SUM(H175:H182)","v":1},{"$f":"SUM(I175:I182)","v":1},1,1,1,1,1,1,1,1,1,1,1,1,1,1,1,1,1,1,0.99999999999999989,0.99999999999999989,0.99999999999999989,0.99999999999999989,0.99999999999999989,0.99999999999999989,0.99999999999999989,0.99999999999999989,1,1,1,1,1,1,1,1,1,1,1,1,1,1,1,1,1]
[]
[null,null,null,"Sources","DOE Automatic Commercial Ice Makers 2014, Notice of Proposed Rulemaking (NOPR) Technical Support Document Chapter 10, Table 10.2.2 Base Case Shipment Weighted Market Shares by Efficiency Level (page 10-3); TSL 3 is proposed in the NOPR. TSL 3 corresponds to different EL's for different product classes"]
[]
[]
[]
[null,null,null,{"$f":"CONCATENATE('Efficiency Levels'!$C111,\" - \",'Efficiency Levels'!$D111)","v":"PC7 - Ice Making Head-Air Cooled-Large-Batch-2"}]
[]
[null,null,null,"PRE-Case",null,"Static Distribution"]
[null,null,null,"Efficiency Level","EL (kWh/day)",2006,null,1990,{"$f":"H192+1","v":1991},{"$f":"I192+1","v":1992},{"$f":"J192+1","v":1993},{"$f":"K192+1","v":1994},{"$f":"L192+1","v":1995},{"$f":"M192+1","v":1996},{"$f":"N192+1","v":1997},{"$f":"O192+1","v":1998},{"$f":"P192+1","v":1999},{"$f":"Q192+1","v":2000},{"$f":"R192+1","v":2001},{"$f":"S192+1","v":2002},{"$f":"T192+1","v":2003},{"$f":"U192+1","v":2004},{"$f":"V192+1","v":2005},{"$f":"W192+1","v":2006},{"$f":"X192+1","v":2007},{"$f":"Y192+1","v":2008},{"$f":"Z192+1","v":2009},{"$f":"AA192+1","v":2010},{"$f":"AB192+1","v":2011},{"$f":"AC192+1","v":2012},{"$f":"AD192+1","v":2013},{"$f":"AE192+1","v":2014},{"$f":"AF192+1","v":2015},{"$f":"AG192+1","v":2016},{"$f":"AH192+1","v":2017},{"$f":"AI192+1","v":2018},{"$f":"AJ192+1","v":2019},{"$f":"AK192+1","v":2020},{"$f":"AL192+1","v":2021},{"$f":"AM192+1","v":2022},{"$f":"AN192+1","v":2023},{"$f":"AO192+1","v":2024},{"$f":"AP192+1","v":2025},{"$f":"AQ192+1","v":2026},{"$f":"AR192+1","v":2027},{"$f":"AS192+1","v":2028},{"$f":"AT192+1","v":2029},{"$f":"AU192+1","v":2030},{"$f":"AV192+1","v":2031},{"$f":"AW192+1","v":2032},{"$f":"AX192+1","v":2033},{"$f":"AY192+1","v":2034}]
[null,null,null,{"$f":"'Efficiency Levels'!C114","v":"EL0"},{"$f":"'Efficiency Levels'!D114","v":7804.8710483203131},0,null,1,1,1,1,1,1,1,1,1,1,1,1,1,1,1,1,1,1,1,1,{"$f":"$F193","v":0},0,0,0,0,0,0,0,0,0,0,0,0,0,0,0,0,0,0,0,0,0,0,0,0]
[null,null,null,{"$f":"'Efficiency Levels'!C115","v":"EL1"},{"$f":"'Efficiency Levels'!D115","v":14366.399999999998},0.33333333333333331,null,0,0,0,0,0,0,0,0,0,0,0,0,0,0,0,0,0,0,0,0,0.33333333333333331,0.33333333333333331,0.33333333333333331,0.33333333333333331,0.33333333333333331,0.33333333333333331,0.33333333333333331,0.33333333333333331,0.33333333333333331,0.33333333333333331,0.33333333333333331,0.33333333333333331,0.33333333333333331,0.33333333333333331,0.33333333333333331,0.33333333333333331,0.33333333333333331,0.33333333333333331,0.33333333333333331,0.33333333333333331,0.33333333333333331,0.33333333333333331,0.33333333333333331,0.33333333333333331,0.33333333333333331]
[null,null,null,{"$f":"'Efficiency Levels'!C116","v":"EL2"},{"$f":"'Efficiency Levels'!D116","v":12931.949999999997},0.26666666666666666,null,0,0,0,0,0,0,0,0,0,0,0,0,0,0,0,0,0,0,0,0,0.26666666666666666,0.26666666666666666,0.26666666666666666,0.26666666666666666,0.26666666666666666,0.26666666666666666,0.26666666666666666,0.26666666666666666,0.26666666666666666,0.26666666666666666,0.26666666666666666,0.26666666666666666,0.26666666666666666,0.26666666666666666,0.26666666666666666,0.26666666666666666,0.26666666666666666,0.26666666666666666,0.26666666666666666,0.26666666666666666,0.26666666666666666,0.26666666666666666,0.26666666666666666,0.26666666666666666,0.26666666666666666]
[null,null,null,{"$f":"'Efficiency Levels'!C117","v":"EL3"},{"$f":"'Efficiency Levels'!D117","v":12214.724999999999},0.26666666666666666,null,0,0,0,0,0,0,0,0,0,0,0,0,0,0,0,0,0,0,0,0,0.26666666666666666,0.26666666666666666,0.26666666666666666,0.26666666666666666,0.26666666666666666,0.26666666666666666,0.26666666666666666,0.26666666666666666,0.26666666666666666,0.26666666666666666,0.26666666666666666,0.26666666666666666,0.26666666666666666,0.26666666666666666,0.26666666666666666,0.26666666666666666,0.26666666666666666,0.26666666666666666,0.26666666666666666,0.26666666666666666,0.26666666666666666,0.26666666666666666,0.26666666666666666,0.26666666666666666,0.26666666666666666]
[null,null,null,{"$f":"'Efficiency Levels'!C118","v":"EL4"},{"$f":"'Efficiency Levels'!D118","v":11497.499999999998},0.13333333333333333,null,0,0,0,0,0,0,0,0,0,0,0,0,0,0,0,0,0,0,0,0,0.13333333333333333,0.13333333333333333,0.13333333333333333,0.13333333333333333,0.13333333333333333,0.13333333333333333,0.13333333333333333,0.13333333333333333,0.13333333333333333,0.13333333333333333,0.13333333333333333,0.13333333333333333,0.13333333333333333,0.13333333333333333,0.13333333333333333,0.13333333333333333,0.13333333333333333,0.13333333333333333,0.13333333333333333,0.13333333333333333,0.13333333333333333,0.13333333333333333,0.13333333333333333,0.13333333333333333,0.13333333333333333]
[null,null,null,{"$f":"'Efficiency Levels'!C119","v":"EL5"},{"$f":"'Efficiency Levels'!D119","v":0},0,null,0,0,0,0,0,0,0,0,0,0,0,0,0,0,0,0,0,0,0,0,0,0,0,0,0,0,0,0,0,0,0,0,0,0,0,0,0,0,0,0,0,0,0,0,0]
[null,null,null,{"$f":"'Efficiency Levels'!C120","v":"EL6"},{"$f":"'Efficiency Levels'!D120","v":0},0,null,0,0,0,0,0,0,0,0,0,0,0,0,0,0,0,0,0,0,0,0,{"$f":"$F199","v":0},0,0,0,0,0,0,0,0,0,0,0,0,0,0,0,0,0,0,0,0,0,0,0,0]
[null,null,null,{"$f":"'Efficiency Levels'!C121","v":"EL7"},{"$f":"'Efficiency Levels'!D121","v":0},0,null,0,0,0,0,0,0,0,0,0,0,0,0,0,0,0,0,0,0,0,0,0,0,0,0,0,0,0,0,0,0,0,0,0,0,0,0,0,0,0,0,0,0,0,0,0]
[null,null,null,"TOTAL",null,{"$f":"SUM(F193:F200)","v":1},null,{"$f":"SUM(H193:H200)","v":1},1,1,1,1,1,1,1,1,1,1,1,1,1,1,1,1,1,1,1,1,1,1,1,1,1,1,1,1,1,1,1,1,1,1,1,1,1,1,1,1,1,1,1,1]
[]
[null,null,null,"POST-Case"]
[null,null,null,"Efficiency Level","EL (kWh/day)",null,null,1990,{"$f":"H204+1","v":1991},{"$f":"I204+1","v":1992},{"$f":"J204+1","v":1993},{"$f":"K204+1","v":1994},{"$f":"L204+1","v":1995},{"$f":"M204+1","v":1996},{"$f":"N204+1","v":1997},{"$f":"O204+1","v":1998},{"$f":"P204+1","v":1999},{"$f":"Q204+1","v":2000},{"$f":"R204+1","v":2001},{"$f":"S204+1","v":2002},{"$f":"T204+1","v":2003},{"$f":"U204+1","v":2004},{"$f":"V204+1","v":2005},{"$f":"X192","v":2006},2007,2008,2009,2010,2011,2012,2013,2014,2015,2016,2017,2018,2019,2020,2021,2022,2023,2024,2025,2026,2027,2028,2029,2030,2031,2032,2033,2034]
[null,null,null,{"$f":"'Efficiency Levels'!$C114","v":"EL0"},{"$f":"'Efficiency Levels'!D114","v":7804.8710483203131},null,null,{"$f":"H193","v":1},{"$f":"I193","v":1},1,1,1,1,1,1,1,1,1,1,1,1,1,1,1,1,1,1,0,0,0,0,0,0,0,0,0,0,0,0,0,0,0,0,0,0,0,0,0,0,0,0,0]
[null,null,null,{"$f":"'Efficiency Levels'!$C115","v":"EL1"},{"$f":"'Efficiency Levels'!D115","v":14366.399999999998},null,null,{"$f":"H194","v":0},{"$f":"I194","v":0},0,0,0,0,0,0,0,0,0,0,0,0,0,0,0,0,0,0,0.33333333333333331,0.33333333333333331,0.33333333333333331,0.33333333333333331,0.33333333333333331,0.33333333333333331,0.33333333333333331,0.33333333333333331,0,0,0,0,0,0,0,0,0,0,0,0,0,0,0,0,0]
[null,null,null,{"$f":"'Efficiency Levels'!$C116","v":"EL2"},{"$f":"'Efficiency Levels'!D116","v":12931.949999999997},null,null,{"$f":"H195","v":0},0,0,0,0,0,0,0,0,0,0,0,0,0,0,0,0,0,0,0,0.26666666666666666,0.26666666666666666,0.26666666666666666,0.26666666666666666,0.26666666666666666,0.26666666666666666,0.26666666666666666,0.26666666666666666,0,0,0,0,0,0,0,0,0,0,0,0,0,0,0,0,0]
[null,null,null,{"$f":"'Efficiency Levels'!$C117","v":"EL3"},{"$f":"'Efficiency Levels'!D117","v":12214.724999999999},null,null,{"$f":"H196","v":0},0,0,0,0,0,0,0,0,0,0,0,0,0,0,0,0,0,0,0,0.26666666666666666,0.26666666666666666,0.26666666666666666,0.26666666666666666,0.26666666666666666,0.26666666666666666,0.26666666666666666,0.26666666666666666,0.8666666666666667,0.8666666666666667,0.8666666666666667,0.8666666666666667,0.8666666666666667,0.8666666666666667,0.8666666666666667,0.8666666666666667,0.8666666666666667,0.8666666666666667,0.8666666666666667,0.8666666666666667,0.8666666666666667,0.8666666666666667,0.8666666666666667,0.8666666666666667,0.8666666666666667]
[null,null,null,{"$f":"'Efficiency Levels'!$C118","v":"EL4"},{"$f":"'Efficiency Levels'!D118","v":11497.499999999998},null,null,{"$f":"H197","v":0},0,0,0,0,0,0,0,0,0,0,0,0,0,0,0,0,0,0,0,0.13333333333333333,0.13333333333333333,0.13333333333333333,0.13333333333333333,0.13333333333333333,0.13333333333333333,0.13333333333333333,0.13333333333333333,0.13333333333333333,0.13333333333333333,0.13333333333333333,0.13333333333333333,0.13333333333333333,0.13333333333333333,0.13333333333333333,0.13333333333333333,0.13333333333333333,0.13333333333333333,0.13333333333333333,0.13333333333333333,0.13333333333333333,0.13333333333333333,0.13333333333333333,0.13333333333333333,0.13333333333333333]
[null,null,null,{"$f":"'Efficiency Levels'!$C119","v":"EL5"},{"$f":"'Efficiency Levels'!D119","v":0},null,null,{"$f":"H198","v":0},0,0,0,0,0,0,0,0,0,0,0,0,0,0,0,0,0,0,0,0,0,0,0,0,0,0,0,0,0,0,0,0,0,0,0,0,0,0,0,0,0,0,0,0]
[null,null,null,{"$f":"'Efficiency Levels'!$C120","v":"EL6"},{"$f":"'Efficiency Levels'!D120","v":0},null,null,{"$f":"H199","v":0},0,0,0,0,0,0,0,0,0,0,0,0,0,0,0,0,0,0,0,0,0,0,0,0,0,0,0,0,0,0,0,0,0,0,0,0,0,0,0,0,0,0,0,0]
[null,null,null,{"$f":"'Efficiency Levels'!$C121","v":"EL7"},{"$f":"'Efficiency Levels'!D121","v":0},null,null,{"$f":"H200","v":0},0,0,0,0,0,0,0,0,0,0,0,0,0,0,0,0,0,0,0,0,0,0,0,0,0,0,0,0,0,0,0,0,0,0,0,0,0,0,0,0,0,0,0,0]
[null,null,null,"TOTAL",null,null,null,{"$f":"SUM(H205:H212)","v":1},{"$f":"SUM(I205:I212)","v":1},1,1,1,1,1,1,1,1,1,1,1,1,1,1,1,1,1,1,1,1,1,1,1,1,1,1,1,1,1,1,1,1,1,1,1,1,1,1,1,1,1,1,1]
[]
[null,null,null,"Sources","DOE Automatic Commercial Ice Makers 2014, Notice of Proposed Rulemaking (NOPR) Technical Support Document Chapter 10, Table 10.2.2 Base Case Shipment Weighted Market Shares by Efficiency Level (page 10-3); TSL 3 is proposed in the NOPR. TSL 3 corresponds to different EL's for different product classes"]
[]
[]
[]
[null,null,null,{"$f":"CONCATENATE('Efficiency Levels'!$C128,\" - \",'Efficiency Levels'!$D128)","v":"PC8 - Remote Condensing Unit-Not Remote Condensor-Large-Batch-1"}]
[]
[null,null,null,"PRE-Case",null,"Static Distribution"]
[null,null,null,"Efficiency Level","EL (kWh/day)",2006,null,1990,{"$f":"H222+1","v":1991},{"$f":"I222+1","v":1992},{"$f":"J222+1","v":1993},{"$f":"K222+1","v":1994},{"$f":"L222+1","v":1995},{"$f":"M222+1","v":1996},{"$f":"N222+1","v":1997},{"$f":"O222+1","v":1998},{"$f":"P222+1","v":1999},{"$f":"Q222+1","v":2000},{"$f":"R222+1","v":2001},{"$f":"S222+1","v":2002},{"$f":"T222+1","v":2003},{"$f":"U222+1","v":2004},{"$f":"V222+1","v":2005},{"$f":"W222+1","v":2006},{"$f":"X222+1","v":2007},{"$f":"Y222+1","v":2008},{"$f":"Z222+1","v":2009},{"$f":"AA222+1","v":2010},{"$f":"AB222+1","v":2011},{"$f":"AC222+1","v":2012},{"$f":"AD222+1","v":2013},{"$f":"AE222+1","v":2014},{"$f":"AF222+1","v":2015},{"$f":"AG222+1","v":2016},{"$f":"AH222+1","v":2017},{"$f":"AI222+1","v":2018},{"$f":"AJ222+1","v":2019},{"$f":"AK222+1","v":2020},{"$f":"AL222+1","v":2021},{"$f":"AM222+1","v":2022},{"$f":"AN222+1","v":2023},{"$f":"AO222+1","v":2024},{"$f":"AP222+1","v":2025},{"$f":"AQ222+1","v":2026},{"$f":"AR222+1","v":2027},{"$f":"AS222+1","v":2028},{"$f":"AT222+1","v":2029},{"$f":"AU222+1","v":2030},{"$f":"AV222+1","v":2031},{"$f":"AW222+1","v":2032},{"$f":"AX222+1","v":2033},{"$f":"AY222+1","v":2034}]
[null,null,null,{"$f":"'Efficiency Levels'!C131","v":"EL0"},{"$f":"'Efficiency Levels'!D131","v":9645.6359999999986},0,null,1,1,1,1,1,1,1,1,1,1,1,1,1,1,1,1,1,1,1,1,{"$f":"$F223","v":0},0,0,0,0,0,0,0,0,0,0,0,0,0,0,0,0,0,0,0,0,0,0,0,0]
[null,null,null,{"$f":"'Efficiency Levels'!C132","v":"EL1"},{"$f":"'Efficiency Levels'!D132","v":13983.149999999998},0.42857142857142899,null,0,0,0,0,0,0,0,0,0,0,0,0,0,0,0,0,0,0,0,0,0.42857142857142899,0.42857142857142899,0.42857142857142899,0.42857142857142899,0.42857142857142899,0.42857142857142899,0.42857142857142899,0.42857142857142899,0.42857142857142899,0.42857142857142899,0.42857142857142899,0.42857142857142899,0.42857142857142899,0.42857142857142899,0.42857142857142899,0.42857142857142899,0.42857142857142899,0.42857142857142899,0.42857142857142899,0.42857142857142899,0.42857142857142899,0.42857142857142899,0.42857142857142899,0.42857142857142899,0.42857142857142899]
[null,null,null,{"$f":"'Efficiency Levels'!C133","v":"EL2"},{"$f":"'Efficiency Levels'!D133","v":12726.637499999999},0.39285714285714285,null,0,0,0,0,0,0,0,0,0,0,0,0,0,0,0,0,0,0,0,0,0.39285714285714285,0.39285714285714285,0.39285714285714285,0.39285714285714285,0.39285714285714285,0.39285714285714285,0.39285714285714285,0.39285714285714285,0.39285714285714285,0.39285714285714285,0.39285714285714285,0.39285714285714285,0.39285714285714285,0.39285714285714285,0.39285714285714285,0.39285714285714285,0.39285714285714285,0.39285714285714285,0.39285714285714285,0.39285714285714285,0.39285714285714285,0.39285714285714285,0.39285714285714285,0.39285714285714285,0.39285714285714285]
[null,null,null,{"$f":"'Efficiency Levels'!C134","v":"EL3"},{"$f":"'Efficiency Levels'!D134","v":11888.9625},8.9285714285714288E-2,null,0,0,0,0,0,0,0,0,0,0,0,0,0,0,0,0,0,0,0,0,8.9285714285714288E-2,8.9285714285714288E-2,8.9285714285714288E-2,8.9285714285714288E-2,8.9285714285714288E-2,8.9285714285714288E-2,8.9285714285714288E-2,8.9285714285714288E-2,8.9285714285714288E-2,8.9285714285714288E-2,8.9285714285714288E-2,8.9285714285714288E-2,8.9285714285714288E-2,8.9285714285714288E-2,8.9285714285714288E-2,8.9285714285714288E-2,8.9285714285714288E-2,8.9285714285714288E-2,8.9285714285714288E-2,8.9285714285714288E-2,8.9285714285714288E-2,8.9285714285714288E-2,8.9285714285714288E-2,8.9285714285714288E-2,8.9285714285714288E-2]
[null,null,null,{"$f":"'Efficiency Levels'!C135","v":"EL4"},{"$f":"'Efficiency Levels'!D135","v":11190.9},0,null,0,0,0,0,0,0,0,0,0,0,0,0,0,0,0,0,0,0,0,0,0,0,0,0,0,0,0,0,0,0,0,0,0,0,0,0,0,0,0,0,0,0,0,0,0]
[null,null,null,{"$f":"'Efficiency Levels'!C136","v":"EL5"},{"$f":"'Efficiency Levels'!D136","v":11107.961881188117},8.9285714285714288E-2,null,0,0,0,0,0,0,0,0,0,0,0,0,0,0,0,0,0,0,0,0,8.9285714285714288E-2,8.9285714285714288E-2,8.9285714285714288E-2,8.9285714285714288E-2,8.9285714285714288E-2,8.9285714285714288E-2,8.9285714285714288E-2,8.9285714285714288E-2,8.9285714285714288E-2,8.9285714285714288E-2,8.9285714285714288E-2,8.9285714285714288E-2,8.9285714285714288E-2,8.9285714285714288E-2,8.9285714285714288E-2,8.9285714285714288E-2,8.9285714285714288E-2,8.9285714285714288E-2,8.9285714285714288E-2,8.9285714285714288E-2,8.9285714285714288E-2,8.9285714285714288E-2,8.9285714285714288E-2,8.9285714285714288E-2,8.9285714285714288E-2]
[null,null,null,{"$f":"'Efficiency Levels'!C137","v":"EL6"},{"$f":"'Efficiency Levels'!D137","v":0},0,null,0,0,0,0,0,0,0,0,0,0,0,0,0,0,0,0,0,0,0,0,{"$f":"$F229","v":0},0,0,0,0,0,0,0,0,0,0,0,0,0,0,0,0,0,0,0,0,0,0,0,0]
[null,null,null,{"$f":"'Efficiency Levels'!C138","v":"EL7"},{"$f":"'Efficiency Levels'!D138","v":0},0,null,0,0,0,0,0,0,0,0,0,0,0,0,0,0,0,0,0,0,0,0,0,0,0,0,0,0,0,0,0,0,0,0,0,0,0,0,0,0,0,0,0,0,0,0,0]
[null,null,null,"TOTAL",null,{"$f":"SUM(F223:F230)","v":1.0000000000000004},null,{"$f":"SUM(H223:H230)","v":1},1,1,1,1,1,1,1,1,1,1,1,1,1,1,1,1,1,1,1,1.0000000000000004,1.0000000000000004,1.0000000000000004,1.0000000000000004,1.0000000000000004,1.0000000000000004,1.0000000000000004,1.0000000000000004,1.0000000000000004,1.0000000000000004,1.0000000000000004,1.0000000000000004,1.0000000000000004,1.0000000000000004,1.0000000000000004,1.0000000000000004,1.0000000000000004,1.0000000000000004,1.0000000000000004,1.0000000000000004,1.0000000000000004,1.0000000000000004,1.0000000000000004,1.0000000000000004,1.0000000000000004]
[]
[null,null,null,"POST-Case"]
[null,null,null,"Efficiency Level","EL (kWh/day)",null,null,1990,{"$f":"H234+1","v":1991},{"$f":"I234+1","v":1992},{"$f":"J234+1","v":1993},{"$f":"K234+1","v":1994},{"$f":"L234+1","v":1995},{"$f":"M234+1","v":1996},{"$f":"N234+1","v":1997},{"$f":"O234+1","v":1998},{"$f":"P234+1","v":1999},{"$f":"Q234+1","v":2000},{"$f":"R234+1","v":2001},{"$f":"S234+1","v":2002},{"$f":"T234+1","v":2003},{"$f":"U234+1","v":2004},{"$f":"V234+1","v":2005},{"$f":"X222","v":2006},2007,2008,2009,2010,2011,2012,2013,2014,2015,2016,2017,2018,2019,2020,2021,2022,2023,2024,2025,2026,2027,2028,2029,2030,2031,2032,2033,2034]
[null,null,null,{"$f":"'Efficiency Levels'!C131","v":"EL0"},{"$f":"'Efficiency Levels'!D131","v":9645.6359999999986},null,null,{"$f":"H223","v":1},{"$f":"I223","v":1},1,1,1,1,1,1,1,1,1,1,1,1,1,1,1,1,1,1,0,0,0,0,0,0,0,0,0,0,0,0,0,0,0,0,0,0,0,0,0,0,0,0,0]
[null,null,null,{"$f":"'Efficiency Levels'!C132","v":"EL1"},{"$f":"'Efficiency Levels'!D132","v":13983.149999999998},null,null,{"$f":"H224","v":0},{"$f":"I224","v":0},0,0,0,0,0,0,0,0,0,0,0,0,0,0,0,0,0,0,0.42857142857142899,0.42857142857142899,0.42857142857142899,0.42857142857142899,0.42857142857142899,0.42857142857142899,0.42857142857142899,0.42857142857142899,0,0,0,0,0,0,0,0,0,0,0,0,0,0,0,0,0]
[null,null,null,{"$f":"'Efficiency Levels'!C133","v":"EL2"},{"$f":"'Efficiency Levels'!D133","v":12726.637499999999},null,null,{"$f":"H225","v":0},0,0,0,0,0,0,0,0,0,0,0,0,0,0,0,0,0,0,0,0.39285714285714285,0.39285714285714285,0.39285714285714285,0.39285714285714285,0.39285714285714285,0.39285714285714285,0.39285714285714285,0.39285714285714285,0,0,0,0,0,0,0,0,0,0,0,0,0,0,0,0,0]
[null,null,null,{"$f":"'Efficiency Levels'!C134","v":"EL3"},{"$f":"'Efficiency Levels'!D134","v":11888.9625},null,null,{"$f":"H226","v":0},0,0,0,0,0,0,0,0,0,0,0,0,0,0,0,0,0,0,0,8.9285714285714288E-2,8.9285714285714288E-2,8.9285714285714288E-2,8.9285714285714288E-2,8.9285714285714288E-2,8.9285714285714288E-2,8.9285714285714288E-2,8.9285714285714288E-2,0.91071428571428614,0.91071428571428614,0.91071428571428614,0.91071428571428614,0.91071428571428614,0.91071428571428614,0.91071428571428614,0.91071428571428614,0.91071428571428614,0.91071428571428614,0.91071428571428614,0.91071428571428614,0.91071428571428614,0.91071428571428614,0.91071428571428614,0.91071428571428614,0.91071428571428614]
[null,null,null,{"$f":"'Efficiency Levels'!C135","v":"EL4"},{"$f":"'Efficiency Levels'!D135","v":11190.9},null,null,{"$f":"H227","v":0},0,0,0,0,0,0,0,0,0,0,0,0,0,0,0,0,0,0,0,0,0,0,0,0,0,0,0,0,0,0,0,0,0,0,0,0,0,0,0,0,0,0,0,0]
[null,null,null,{"$f":"'Efficiency Levels'!C136","v":"EL5"},{"$f":"'Efficiency Levels'!D136","v":11107.961881188117},null,null,{"$f":"H228","v":0},0,0,0,0,0,0,0,0,0,0,0,0,0,0,0,0,0,0,0,8.9285714285714288E-2,8.9285714285714288E-2,8.9285714285714288E-2,8.9285714285714288E-2,8.9285714285714288E-2,8.9285714285714288E-2,8.9285714285714288E-2,8.9285714285714288E-2,8.9285714285714288E-2,8.9285714285714288E-2,8.9285714285714288E-2,8.9285714285714288E-2,8.9285714285714288E-2,8.9285714285714288E-2,8.9285714285714288E-2,8.9285714285714288E-2,8.9285714285714288E-2,8.9285714285714288E-2,8.9285714285714288E-2,8.9285714285714288E-2,8.9285714285714288E-2,8.9285714285714288E-2,8.9285714285714288E-2,8.9285714285714288E-2,8.9285714285714288E-2]
[null,null,null,{"$f":"'Efficiency Levels'!C137","v":"EL6"},{"$f":"'Efficiency Levels'!D137","v":0},null,null,{"$f":"H229","v":0},0,0,0,0,0,0,0,0,0,0,0,0,0,0,0,0,0,0,0,0,0,0,0,0,0,0,0,0,0,0,0,0,0,0,0,0,0,0,0,0,0,0,0,0]
[null,null,null,{"$f":"'Efficiency Levels'!C138","v":"EL7"},{"$f":"'Efficiency Levels'!D138","v":0},null,null,{"$f":"H230","v":0},0,0,0,0,0,0,0,0,0,0,0,0,0,0,0,0,0,0,0,0,0,0,0,0,0,0,0,0,0,0,0,0,0,0,0,0,0,0,0,0,0,0,0,0]
[null,null,null,"TOTAL",null,null,null,{"$f":"SUM(H235:H242)","v":1},{"$f":"SUM(I235:I242)","v":1},1,1,1,1,1,1,1,1,1,1,1,1,1,1,1,1,1,1,1.0000000000000004,1.0000000000000004,1.0000000000000004,1.0000000000000004,1.0000000000000004,1.0000000000000004,1.0000000000000004,1.0000000000000004,1.0000000000000004,1.0000000000000004,1.0000000000000004,1.0000000000000004,1.0000000000000004,1.0000000000000004,1.0000000000000004,1.0000000000000004,1.0000000000000004,1.0000000000000004,1.0000000000000004,1.0000000000000004,1.0000000000000004,1.0000000000000004,1.0000000000000004,1.0000000000000004,1.0000000000000004]
[]
[null,null,null,"Sources","DOE Automatic Commercial Ice Makers 2014, Notice of Proposed Rulemaking (NOPR) Technical Support Document Chapter 10, Table 10.2.2 Base Case Shipment Weighted Market Shares by Efficiency Level (page 10-3); TSL 3 is proposed in the NOPR. TSL 3 corresponds to different EL's for different product classes"]
[]
[]
[]
[null,null,null,{"$f":"CONCATENATE('Efficiency Levels'!$C145,\" - \",'Efficiency Levels'!$D145)","v":"PC9 - Remote Condensing Unit-Not Remote Condensor-Large-Batch-2"}]
[]
[null,null,null,"PRE-Case",null,"Static Distribution"]
[null,null,null,"Efficiency Level","EL (kWh/day)",2006,null,1990,{"$f":"H252+1","v":1991},{"$f":"I252+1","v":1992},{"$f":"J252+1","v":1993},{"$f":"K252+1","v":1994},{"$f":"L252+1","v":1995},{"$f":"M252+1","v":1996},{"$f":"N252+1","v":1997},{"$f":"O252+1","v":1998},{"$f":"P252+1","v":1999},{"$f":"Q252+1","v":2000},{"$f":"R252+1","v":2001},{"$f":"S252+1","v":2002},{"$f":"T252+1","v":2003},{"$f":"U252+1","v":2004},{"$f":"V252+1","v":2005},{"$f":"W252+1","v":2006},{"$f":"X252+1","v":2007},{"$f":"Y252+1","v":2008},{"$f":"Z252+1","v":2009},{"$f":"AA252+1","v":2010},{"$f":"AB252+1","v":2011},{"$f":"AC252+1","v":2012},{"$f":"AD252+1","v":2013},{"$f":"AE252+1","v":2014},{"$f":"AF252+1","v":2015},{"$f":"AG252+1","v":2016},{"$f":"AH252+1","v":2017},{"$f":"AI252+1","v":2018},{"$f":"AJ252+1","v":2019},{"$f":"AK252+1","v":2020},{"$f":"AL252+1","v":2021},{"$f":"AM252+1","v":2022},{"$f":"AN252+1","v":2023},{"$f":"AO252+1","v":2024},{"$f":"AP252+1","v":2025},{"$f":"AQ252+1","v":2026},{"$f":"AR252+1","v":2027},{"$f":"AS252+1","v":2028},{"$f":"AT252+1","v":2029},{"$f":"AU252+1","v":2030},{"$f":"AV252+1","v":2031},{"$f":"AW252+1","v":2032},{"$f":"AX252+1","v":2033},{"$f":"AY252+1","v":2034}]
[null,null,null,{"$f":"'Efficiency Levels'!C148","v":"EL0"},{"$f":"'Efficiency Levels'!D148","v":9645.6359999999986},0,null,1,1,1,1,1,1,1,1,1,1,1,1,1,1,1,1,1,1,1,1,{"$f":"$F253","v":0},0,0,0,0,0,0,0,0,0,0,0,0,0,0,0,0,0,0,0,0,0,0,0,0]
[null,null,null,{"$f":"'Efficiency Levels'!C149","v":"EL1"},{"$f":"'Efficiency Levels'!D149","v":22359.899999999998},0.27272727272727271,null,0,0,0,0,0,0,0,0,0,0,0,0,0,0,0,0,0,0,0,0,0.27272727272727271,0.27272727272727271,0.27272727272727271,0.27272727272727271,0.27272727272727271,0.27272727272727271,0.27272727272727271,0.27272727272727271,0.27272727272727271,0.27272727272727271,0.27272727272727271,0.27272727272727271,0.27272727272727271,0.27272727272727271,0.27272727272727271,0.27272727272727271,0.27272727272727271,0.27272727272727271,0.27272727272727271,0.27272727272727271,0.27272727272727271,0.27272727272727271,0.27272727272727271,0.27272727272727271,0.27272727272727271]
[null,null,null,{"$f":"'Efficiency Levels'!C150","v":"EL2"},{"$f":"'Efficiency Levels'!D150","v":20349.48},0.45454545454545453,null,0,0,0,0,0,0,0,0,0,0,0,0,0,0,0,0,0,0,0,0,0.45454545454545453,0.45454545454545453,0.45454545454545453,0.45454545454545453,0.45454545454545453,0.45454545454545453,0.45454545454545453,0.45454545454545453,0.45454545454545453,0.45454545454545453,0.45454545454545453,0.45454545454545453,0.45454545454545453,0.45454545454545453,0.45454545454545453,0.45454545454545453,0.45454545454545453,0.45454545454545453,0.45454545454545453,0.45454545454545453,0.45454545454545453,0.45454545454545453,0.45454545454545453,0.45454545454545453,0.45454545454545453]
[null,null,null,{"$f":"'Efficiency Levels'!C151","v":"EL3"},{"$f":"'Efficiency Levels'!D151","v":19009.200000000004},9.0909090909090912E-2,null,0,0,0,0,0,0,0,0,0,0,0,0,0,0,0,0,0,0,0,0,9.0909090909090912E-2,9.0909090909090912E-2,9.0909090909090912E-2,9.0909090909090912E-2,9.0909090909090912E-2,9.0909090909090912E-2,9.0909090909090912E-2,9.0909090909090912E-2,9.0909090909090912E-2,9.0909090909090912E-2,9.0909090909090912E-2,9.0909090909090912E-2,9.0909090909090912E-2,9.0909090909090912E-2,9.0909090909090912E-2,9.0909090909090912E-2,9.0909090909090912E-2,9.0909090909090912E-2,9.0909090909090912E-2,9.0909090909090912E-2,9.0909090909090912E-2,9.0909090909090912E-2,9.0909090909090912E-2,9.0909090909090912E-2,9.0909090909090912E-2]
[null,null,null,{"$f":"'Efficiency Levels'!C152","v":"EL4"},{"$f":"'Efficiency Levels'!D152","v":17892.300000000003},0,null,0,0,0,0,0,0,0,0,0,0,0,0,0,0,0,0,0,0,0,0,0,0,0,0,0,0,0,0,0,0,0,0,0,0,0,0,0,0,0,0,0,0,0,0,0]
[null,null,null,{"$f":"'Efficiency Levels'!C153","v":"EL5"},{"$f":"'Efficiency Levels'!D153","v":17778.864843749998},0.18181818181818182,null,0,0,0,0,0,0,0,0,0,0,0,0,0,0,0,0,0,0,0,0,0.18181818181818182,0.18181818181818182,0.18181818181818182,0.18181818181818182,0.18181818181818182,0.18181818181818182,0.18181818181818182,0.18181818181818182,0.18181818181818182,0.18181818181818182,0.18181818181818182,0.18181818181818182,0.18181818181818182,0.18181818181818182,0.18181818181818182,0.18181818181818182,0.18181818181818182,0.18181818181818182,0.18181818181818182,0.18181818181818182,0.18181818181818182,0.18181818181818182,0.18181818181818182,0.18181818181818182,0.18181818181818182]
[null,null,null,{"$f":"'Efficiency Levels'!C154","v":"EL6"},{"$f":"'Efficiency Levels'!D154","v":0},0,null,0,0,0,0,0,0,0,0,0,0,0,0,0,0,0,0,0,0,0,0,{"$f":"$F259","v":0},0,0,0,0,0,0,0,0,0,0,0,0,0,0,0,0,0,0,0,0,0,0,0,0]
[null,null,null,{"$f":"'Efficiency Levels'!C155","v":"EL7"},{"$f":"'Efficiency Levels'!D155","v":0},0,null,0,0,0,0,0,0,0,0,0,0,0,0,0,0,0,0,0,0,0,0,0,0,0,0,0,0,0,0,0,0,0,0,0,0,0,0,0,0,0,0,0,0,0,0,0]
[null,null,null,"TOTAL",null,{"$f":"SUM(F253:F260)","v":1},null,{"$f":"SUM(H253:H260)","v":1},1,1,1,1,1,1,1,1,1,1,1,1,1,1,1,1,1,1,1,1,1,1,1,1,1,1,1,1,1,1,1,1,1,1,1,1,1,1,1,1,1,1,1,1]
[]
[null,null,null,"POST-Case"]
[null,null,null,"Efficiency Level","EL (kWh/day)",null,null,1990,{"$f":"H264+1","v":1991},{"$f":"I264+1","v":1992},{"$f":"J264+1","v":1993},{"$f":"K264+1","v":1994},{"$f":"L264+1","v":1995},{"$f":"M264+1","v":1996},{"$f":"N264+1","v":1997},{"$f":"O264+1","v":1998},{"$f":"P264+1","v":1999},{"$f":"Q264+1","v":2000},{"$f":"R264+1","v":2001},{"$f":"S264+1","v":2002},{"$f":"T264+1","v":2003},{"$f":"U264+1","v":2004},{"$f":"V264+1","v":2005},{"$f":"X252","v":2006},2007,2008,2009,2010,2011,2012,2013,2014,2015,2016,2017,2018,2019,2020,2021,2022,2023,2024,2025,2026,2027,2028,2029,2030,2031,2032,2033,2034]
[null,null,null,{"$f":"'Efficiency Levels'!C148","v":"EL0"},{"$f":"'Efficiency Levels'!D148","v":9645.6359999999986},null,null,{"$f":"H253","v":1},{"$f":"I253","v":1},1,1,1,1,1,1,1,1,1,1,1,1,1,1,1,1,1,1,0,0,0,0,0,0,0,0,0,0,0,0,0,0,0,0,0,0,0,0,0,0,0,0,0]
[null,null,null,{"$f":"'Efficiency Levels'!C149","v":"EL1"},{"$f":"'Efficiency Levels'!D149","v":22359.899999999998},null,null,{"$f":"H254","v":0},{"$f":"I254","v":0},0,0,0,0,0,0,0,0,0,0,0,0,0,0,0,0,0,0,0.27272727272727271,0.27272727272727271,0.27272727272727271,0.27272727272727271,0.27272727272727271,0.27272727272727271,0.27272727272727271,0.27272727272727271,0,0,0,0,0,0,0,0,0,0,0,0,0,0,0,0,0]
[null,null,null,{"$f":"'Efficiency Levels'!C150","v":"EL2"},{"$f":"'Efficiency Levels'!D150","v":20349.48},null,null,{"$f":"H255","v":0},0,0,0,0,0,0,0,0,0,0,0,0,0,0,0,0,0,0,0,0.45454545454545453,0.45454545454545453,0.45454545454545453,0.45454545454545453,0.45454545454545453,0.45454545454545453,0.45454545454545453,0.45454545454545453,0,0,0,0,0,0,0,0,0,0,0,0,0,0,0,0,0]
[null,null,null,{"$f":"'Efficiency Levels'!C151","v":"EL3"},{"$f":"'Efficiency Levels'!D151","v":19009.200000000004},null,null,{"$f":"H256","v":0},0,0,0,0,0,0,0,0,0,0,0,0,0,0,0,0,0,0,0,9.0909090909090912E-2,9.0909090909090912E-2,9.0909090909090912E-2,9.0909090909090912E-2,9.0909090909090912E-2,9.0909090909090912E-2,9.0909090909090912E-2,9.0909090909090912E-2,0.81818181818181823,0.81818181818181823,0.81818181818181823,0.81818181818181823,0.81818181818181823,0.81818181818181823,0.81818181818181823,0.81818181818181823,0.81818181818181823,0.81818181818181823,0.81818181818181823,0.81818181818181823,0.81818181818181823,0.81818181818181823,0.81818181818181823,0.81818181818181823,0.81818181818181823]
[null,null,null,{"$f":"'Efficiency Levels'!C152","v":"EL4"},{"$f":"'Efficiency Levels'!D152","v":17892.300000000003},null,null,{"$f":"H257","v":0},0,0,0,0,0,0,0,0,0,0,0,0,0,0,0,0,0,0,0,0,0,0,0,0,0,0,0,0,0,0,0,0,0,0,0,0,0,0,0,0,0,0,0,0]
[null,null,null,{"$f":"'Efficiency Levels'!C153","v":"EL5"},{"$f":"'Efficiency Levels'!D153","v":17778.864843749998},null,null,{"$f":"H258","v":0},0,0,0,0,0,0,0,0,0,0,0,0,0,0,0,0,0,0,0,0.18181818181818182,0.18181818181818182,0.18181818181818182,0.18181818181818182,0.18181818181818182,0.18181818181818182,0.18181818181818182,0.18181818181818182,0.18181818181818182,0.18181818181818182,0.18181818181818182,0.18181818181818182,0.18181818181818182,0.18181818181818182,0.18181818181818182,0.18181818181818182,0.18181818181818182,0.18181818181818182,0.18181818181818182,0.18181818181818182,0.18181818181818182,0.18181818181818182,0.18181818181818182,0.18181818181818182,0.18181818181818182]
[null,null,null,{"$f":"'Efficiency Levels'!C154","v":"EL6"},{"$f":"'Efficiency Levels'!D154","v":0},null,null,{"$f":"H259","v":0},0,0,0,0,0,0,0,0,0,0,0,0,0,0,0,0,0,0,0,0,0,0,0,0,0,0,0,0,0,0,0,0,0,0,0,0,0,0,0,0,0,0,0,0]
[null,null,null,{"$f":"'Efficiency Levels'!C155","v":"EL7"},{"$f":"'Efficiency Levels'!D155","v":0},null,null,{"$f":"H260","v":0},0,0,0,0,0,0,0,0,0,0,0,0,0,0,0,0,0,0,0,0,0,0,0,0,0,0,0,0,0,0,0,0,0,0,0,0,0,0,0,0,0,0,0,0]
[null,null,null,"TOTAL",null,null,null,{"$f":"SUM(H265:H272)","v":1},{"$f":"SUM(I265:I272)","v":1},1,1,1,1,1,1,1,1,1,1,1,1,1,1,1,1,1,1,1,1,1,1,1,1,1,1,1,1,1,1,1,1,1,1,1,1,1,1,1,1,1,1,1]
[]
[null,null,null,"Sources","DOE Automatic Commercial Ice Makers 2014, Notice of Proposed Rulemaking (NOPR) Technical Support Document Chapter 10, Table 10.2.2 Base Case Shipment Weighted Market Shares by Efficiency Level (page 10-3); TSL 3 is proposed in the NOPR. TSL 3 corresponds to different EL's for different product classes"]
[]
[]
[]
[null,null,null,{"$f":"CONCATENATE('Efficiency Levels'!$C162,\" - \",'Efficiency Levels'!$D162)","v":"PC10 - Self-Contained Unit-Water Cooled-Large-Batch"}]
[]
[null,null,null,"PRE-Case",null,"Static Distribution"]
[null,null,null,"Efficiency Level","EL (kWh/day)",2006,null,1990,{"$f":"H282+1","v":1991},{"$f":"I282+1","v":1992},{"$f":"J282+1","v":1993},{"$f":"K282+1","v":1994},{"$f":"L282+1","v":1995},{"$f":"M282+1","v":1996},{"$f":"N282+1","v":1997},{"$f":"O282+1","v":1998},{"$f":"P282+1","v":1999},{"$f":"Q282+1","v":2000},{"$f":"R282+1","v":2001},{"$f":"S282+1","v":2002},{"$f":"T282+1","v":2003},{"$f":"U282+1","v":2004},{"$f":"V282+1","v":2005},{"$f":"W282+1","v":2006},{"$f":"X282+1","v":2007},{"$f":"Y282+1","v":2008},{"$f":"Z282+1","v":2009},{"$f":"AA282+1","v":2010},{"$f":"AB282+1","v":2011},{"$f":"AC282+1","v":2012},{"$f":"AD282+1","v":2013},{"$f":"AE282+1","v":2014},{"$f":"AF282+1","v":2015},{"$f":"AG282+1","v":2016},{"$f":"AH282+1","v":2017},{"$f":"AI282+1","v":2018},{"$f":"AJ282+1","v":2019},{"$f":"AK282+1","v":2020},{"$f":"AL282+1","v":2021},{"$f":"AM282+1","v":2022},{"$f":"AN282+1","v":2023},{"$f":"AO282+1","v":2024},{"$f":"AP282+1","v":2025},{"$f":"AQ282+1","v":2026},{"$f":"AR282+1","v":2027},{"$f":"AS282+1","v":2028},{"$f":"AT282+1","v":2029},{"$f":"AU282+1","v":2030},{"$f":"AV282+1","v":2031},{"$f":"AW282+1","v":2032},{"$f":"AX282+1","v":2033},{"$f":"AY282+1","v":2034}]
[null,null,null,{"$f":"'Efficiency Levels'!C165","v":"EL0"},{"$f":"'Efficiency Levels'!D165","v":3552.701428571429},0,null,1,1,1,1,1,1,1,1,1,1,1,1,1,1,1,1,1,1,1,1,{"$f":"$F283","v":0},0,0,0,0,0,0,0,0,0,0,0,0,0,0,0,0,0,0,0,0,0,0,0,0]
[null,null,null,{"$f":"'Efficiency Levels'!C166","v":"EL1"},{"$f":"'Efficiency Levels'!D166","v":4182.8999999999996},0.2857142857142857,null,0,0,0,0,0,0,0,0,0,0,0,0,0,0,0,0,0,0,0,0,0.2857142857142857,0.2857142857142857,0.2857142857142857,0.2857142857142857,0.2857142857142857,0.2857142857142857,0.2857142857142857,0.2857142857142857,0.2857142857142857,0.2857142857142857,0.2857142857142857,0.2857142857142857,0.2857142857142857,0.2857142857142857,0.2857142857142857,0.2857142857142857,0.2857142857142857,0.2857142857142857,0.2857142857142857,0.2857142857142857,0.2857142857142857,0.2857142857142857,0.2857142857142857,0.2857142857142857,0.2857142857142857]
[null,null,null,{"$f":"'Efficiency Levels'!C167","v":"EL2"},{"$f":"'Efficiency Levels'!D167","v":3891.6299999999997},0,null,0,0,0,0,0,0,0,0,0,0,0,0,0,0,0,0,0,0,0,0,0,0,0,0,0,0,0,0,0,0,0,0,0,0,0,0,0,0,0,0,0,0,0,0,0]
[null,null,null,{"$f":"'Efficiency Levels'!C168","v":"EL3"},{"$f":"'Efficiency Levels'!D168","v":3558.7500000000005},0.14285714285714285,null,0,0,0,0,0,0,0,0,0,0,0,0,0,0,0,0,0,0,0,0,0.14285714285714285,0.14285714285714285,0.14285714285714285,0.14285714285714285,0.14285714285714285,0.14285714285714285,0.14285714285714285,0.14285714285714285,0.14285714285714285,0.14285714285714285,0.14285714285714285,0.14285714285714285,0.14285714285714285,0.14285714285714285,0.14285714285714285,0.14285714285714285,0.14285714285714285,0.14285714285714285,0.14285714285714285,0.14285714285714285,0.14285714285714285,0.14285714285714285,0.14285714285714285,0.14285714285714285,0.14285714285714285]
[null,null,null,{"$f":"'Efficiency Levels'!C169","v":"EL4"},{"$f":"'Efficiency Levels'!D169","v":3350.7},0,null,0,0,0,0,0,0,0,0,0,0,0,0,0,0,0,0,0,0,0,0,0,0,0,0,0,0,0,0,0,0,0,0,0,0,0,0,0,0,0,0,0,0,0,0,0]
[null,null,null,{"$f":"'Efficiency Levels'!C170","v":"EL5"},{"$f":"'Efficiency Levels'!D170","v":3142.6499999999992},0.42857142857142855,null,0,0,0,0,0,0,0,0,0,0,0,0,0,0,0,0,0,0,0,0,0.42857142857142855,0.42857142857142855,0.42857142857142855,0.42857142857142855,0.42857142857142855,0.42857142857142855,0.42857142857142855,0.42857142857142855,0.42857142857142855,0.42857142857142855,0.42857142857142855,0.42857142857142855,0.42857142857142855,0.42857142857142855,0.42857142857142855,0.42857142857142855,0.42857142857142855,0.42857142857142855,0.42857142857142855,0.42857142857142855,0.42857142857142855,0.42857142857142855,0.42857142857142855,0.42857142857142855,0.42857142857142855]
[null,null,null,{"$f":"'Efficiency Levels'!C171","v":"EL6"},{"$f":"'Efficiency Levels'!D171","v":2934.6},0,null,0,0,0,0,0,0,0,0,0,0,0,0,0,0,0,0,0,0,0,0,{"$f":"$F289","v":0},0,0,0,0,0,0,0,0,0,0,0,0,0,0,0,0,0,0,0,0,0,0,0,0]
[null,null,null,{"$f":"'Efficiency Levels'!C172","v":"EL7"},{"$f":"'Efficiency Levels'!D172","v":2924.666650447527},0.14285714285714285,null,0,0,0,0,0,0,0,0,0,0,0,0,0,0,0,0,0,0,0,0,0.14285714285714285,0.14285714285714285,0.14285714285714285,0.14285714285714285,0.14285714285714285,0.14285714285714285,0.14285714285714285,0.14285714285714285,0.14285714285714285,0.14285714285714285,0.14285714285714285,0.14285714285714285,0.14285714285714285,0.14285714285714285,0.14285714285714285,0.14285714285714285,0.14285714285714285,0.14285714285714285,0.14285714285714285,0.14285714285714285,0.14285714285714285,0.14285714285714285,0.14285714285714285,0.14285714285714285,0.14285714285714285]
[null,null,null,"TOTAL",null,{"$f":"SUM(F283:F290)","v":1},null,{"$f":"SUM(H283:H290)","v":1},1,1,1,1,1,1,1,1,1,1,1,1,1,1,1,1,1,1,1,1,1,1,1,1,1,1,1,1,1,1,1,1,1,1,1,1,1,1,1,1,1,1,1,1]
[]
[null,null,null,"POST-Case"]
[null,null,null,"Efficiency Level","EL (kWh/day)",null,null,1990,{"$f":"H294+1","v":1991},{"$f":"I294+1","v":1992},{"$f":"J294+1","v":1993},{"$f":"K294+1","v":1994},{"$f":"L294+1","v":1995},{"$f":"M294+1","v":1996},{"$f":"N294+1","v":1997},{"$f":"O294+1","v":1998},{"$f":"P294+1","v":1999},{"$f":"Q294+1","v":2000},{"$f":"R294+1","v":2001},{"$f":"S294+1","v":2002},{"$f":"T294+1","v":2003},{"$f":"U294+1","v":2004},{"$f":"V294+1","v":2005},{"$f":"X282","v":2006},2007,2008,2009,2010,2011,2012,2013,2014,2015,2016,2017,2018,2019,2020,2021,2022,2023,2024,2025,2026,2027,2028,2029,2030,2031,2032,2033,2034]
[null,null,null,{"$f":"'Efficiency Levels'!C165","v":"EL0"},{"$f":"'Efficiency Levels'!D165","v":3552.701428571429},null,null,{"$f":"H283","v":1},{"$f":"I283","v":1},1,1,1,1,1,1,1,1,1,1,1,1,1,1,1,1,1,1,0,0,0,0,0,0,0,0,0,0,0,0,0,0,0,0,0,0,0,0,0,0,0,0,0]
[null,null,null,{"$f":"'Efficiency Levels'!C166","v":"EL1"},{"$f":"'Efficiency Levels'!D166","v":4182.8999999999996},null,null,{"$f":"H284","v":0},{"$f":"I284","v":0},0,0,0,0,0,0,0,0,0,0,0,0,0,0,0,0,0,0,0.2857142857142857,0.2857142857142857,0.2857142857142857,0.2857142857142857,0.2857142857142857,0.2857142857142857,0.2857142857142857,0.2857142857142857,0,0,0,0,0,0,0,0,0,0,0,0,0,0,0,0,0]
[null,null,null,{"$f":"'Efficiency Levels'!C167","v":"EL2"},{"$f":"'Efficiency Levels'!D167","v":3891.6299999999997},null,null,{"$f":"H285","v":0},0,0,0,0,0,0,0,0,0,0,0,0,0,0,0,0,0,0,0,0,0,0,0,0,0,0,0,0,0,0,0,0,0,0,0,0,0,0,0,0,0,0,0,0]
[null,null,null,{"$f":"'Efficiency Levels'!C168","v":"EL3"},{"$f":"'Efficiency Levels'!D168","v":3558.7500000000005},null,null,{"$f":"H286","v":0},0,0,0,0,0,0,0,0,0,0,0,0,0,0,0,0,0,0,0,0.14285714285714285,0.14285714285714285,0.14285714285714285,0.14285714285714285,0.14285714285714285,0.14285714285714285,0.14285714285714285,0.14285714285714285,0,0,0,0,0,0,0,0,0,0,0,0,0,0,0,0,0]
[null,null,null,{"$f":"'Efficiency Levels'!C169","v":"EL4"},{"$f":"'Efficiency Levels'!D169","v":3350.7},null,null,{"$f":"H287","v":0},0,0,0,0,0,0,0,0,0,0,0,0,0,0,0,0,0,0,0,0,0,0,0,0,0,0,0,0,0,0,0,0,0,0,0,0,0,0,0,0,0,0,0,0]
[null,null,null,{"$f":"'Efficiency Levels'!C170","v":"EL5"},{"$f":"'Efficiency Levels'!D170","v":3142.6499999999992},null,null,{"$f":"H288","v":0},0,0,0,0,0,0,0,0,0,0,0,0,0,0,0,0,0,0,0,0.42857142857142855,0.42857142857142855,0.42857142857142855,0.42857142857142855,0.42857142857142855,0.42857142857142855,0.42857142857142855,0.42857142857142855,0.8571428571428571,0.8571428571428571,0.8571428571428571,0.8571428571428571,0.8571428571428571,0.8571428571428571,0.8571428571428571,0.8571428571428571,0.8571428571428571,0.8571428571428571,0.8571428571428571,0.8571428571428571,0.8571428571428571,0.8571428571428571,0.8571428571428571,0.8571428571428571,0.8571428571428571]
[null,null,null,{"$f":"'Efficiency Levels'!C171","v":"EL6"},{"$f":"'Efficiency Levels'!D171","v":2934.6},null,null,{"$f":"H289","v":0},0,0,0,0,0,0,0,0,0,0,0,0,0,0,0,0,0,0,0,0,0,0,0,0,0,0,0,0,0,0,0,0,0,0,0,0,0,0,0,0,0,0,0,0]
[null,null,null,{"$f":"'Efficiency Levels'!C172","v":"EL7"},{"$f":"'Efficiency Levels'!D172","v":2924.666650447527},null,null,{"$f":"H290","v":0},0,0,0,0,0,0,0,0,0,0,0,0,0,0,0,0,0,0,0,0.14285714285714285,0.14285714285714285,0.14285714285714285,0.14285714285714285,0.14285714285714285,0.14285714285714285,0.14285714285714285,0.14285714285714285,0.14285714285714285,0.14285714285714285,0.14285714285714285,0.14285714285714285,0.14285714285714285,0.14285714285714285,0.14285714285714285,0.14285714285714285,0.14285714285714285,0.14285714285714285,0.14285714285714285,0.14285714285714285,0.14285714285714285,0.14285714285714285,0.14285714285714285,0.14285714285714285,0.14285714285714285]
[null,null,null,"TOTAL",null,null,null,{"$f":"SUM(H295:H302)","v":1},{"$f":"SUM(I295:I302)","v":1},1,1,1,1,1,1,1,1,1,1,1,1,1,1,1,1,1,1,1,1,1,1,1,1,1,1,1,1,1,1,1,1,1,1,1,1,1,1,1,1,1,1,1]
[]
[null,null,null,"Sources","DOE Automatic Commercial Ice Makers 2014, Notice of Proposed Rulemaking (NOPR) Technical Support Document Chapter 10, Table 10.2.2 Base Case Shipment Weighted Market Shares by Efficiency Level (page 10-3); TSL 3 is proposed in the NOPR. TSL 3 corresponds to different EL's for different product classes"]
[]
[]
[]
[null,null,null,{"$f":"CONCATENATE('Efficiency Levels'!$C179,\" - \",'Efficiency Levels'!$D179)","v":"PC11 - Self-Contained Unit-Air-Cooled-Small-Batch"}]
[]
[null,null,null,"PRE-Case",null,"Static Distribution"]
[null,null,null,"Efficiency Level","EL (kWh/day)",2006,null,1990,{"$f":"H312+1","v":1991},{"$f":"I312+1","v":1992},{"$f":"J312+1","v":1993},{"$f":"K312+1","v":1994},{"$f":"L312+1","v":1995},{"$f":"M312+1","v":1996},{"$f":"N312+1","v":1997},{"$f":"O312+1","v":1998},{"$f":"P312+1","v":1999},{"$f":"Q312+1","v":2000},{"$f":"R312+1","v":2001},{"$f":"S312+1","v":2002},{"$f":"T312+1","v":2003},{"$f":"U312+1","v":2004},{"$f":"V312+1","v":2005},{"$f":"W312+1","v":2006},{"$f":"X312+1","v":2007},{"$f":"Y312+1","v":2008},{"$f":"Z312+1","v":2009},{"$f":"AA312+1","v":2010},{"$f":"AB312+1","v":2011},{"$f":"AC312+1","v":2012},{"$f":"AD312+1","v":2013},{"$f":"AE312+1","v":2014},{"$f":"AF312+1","v":2015},{"$f":"AG312+1","v":2016},{"$f":"AH312+1","v":2017},{"$f":"AI312+1","v":2018},{"$f":"AJ312+1","v":2019},{"$f":"AK312+1","v":2020},{"$f":"AL312+1","v":2021},{"$f":"AM312+1","v":2022},{"$f":"AN312+1","v":2023},{"$f":"AO312+1","v":2024},{"$f":"AP312+1","v":2025},{"$f":"AQ312+1","v":2026},{"$f":"AR312+1","v":2027},{"$f":"AS312+1","v":2028},{"$f":"AT312+1","v":2029},{"$f":"AU312+1","v":2030},{"$f":"AV312+1","v":2031},{"$f":"AW312+1","v":2032},{"$f":"AX312+1","v":2033},{"$f":"AY312+1","v":2034}]
[null,null,null,{"$f":"'Efficiency Levels'!C182","v":"EL0"},{"$f":"'Efficiency Levels'!D182","v":2449.626155644044},0,null,1,1,1,1,1,1,1,1,1,1,1,1,1,1,1,1,1,1,1,1,{"$f":"$F313","v":0},0,0,0,0,0,0,0,0,0,0,0,0,0,0,0,0,0,0,0,0,0,0,0,0]
[null,null,null,{"$f":"'Efficiency Levels'!C183","v":"EL1"},{"$f":"'Efficiency Levels'!D183","v":2599.5300000000007},0.17142857142857143,null,0,0,0,0,0,0,0,0,0,0,0,0,0,0,0,0,0,0,0,0,0.17142857142857143,0.17142857142857143,0.17142857142857143,0.17142857142857143,0.17142857142857143,0.17142857142857143,0.17142857142857143,0.17142857142857143,0.17142857142857143,0.17142857142857143,0.17142857142857143,0.17142857142857143,0.17142857142857143,0.17142857142857143,0.17142857142857143,0.17142857142857143,0.17142857142857143,0.17142857142857143,0.17142857142857143,0.17142857142857143,0.17142857142857143,0.17142857142857143,0.17142857142857143,0.17142857142857143,0.17142857142857143]
[null,null,null,{"$f":"'Efficiency Levels'!C184","v":"EL2"},{"$f":"'Efficiency Levels'!D184","v":2419.0959000000003},0.4,null,0,0,0,0,0,0,0,0,0,0,0,0,0,0,0,0,0,0,0,0,0.4,0.4,0.4,0.4,0.4,0.4,0.4,0.4,0.4,0.4,0.4,0.4,0.4,0.4,0.4,0.4,0.4,0.4,0.4,0.4,0.4,0.4,0.4,0.4,0.4]
[null,null,null,{"$f":"'Efficiency Levels'!C185","v":"EL3"},{"$f":"'Efficiency Levels'!D185","v":2212.8854999999999},5.7142857142857141E-2,null,0,0,0,0,0,0,0,0,0,0,0,0,0,0,0,0,0,0,0,0,5.7142857142857141E-2,5.7142857142857141E-2,5.7142857142857141E-2,5.7142857142857141E-2,5.7142857142857141E-2,5.7142857142857141E-2,5.7142857142857141E-2,5.7142857142857141E-2,5.7142857142857141E-2,5.7142857142857141E-2,5.7142857142857141E-2,5.7142857142857141E-2,5.7142857142857141E-2,5.7142857142857141E-2,5.7142857142857141E-2,5.7142857142857141E-2,5.7142857142857141E-2,5.7142857142857141E-2,5.7142857142857141E-2,5.7142857142857141E-2,5.7142857142857141E-2,5.7142857142857141E-2,5.7142857142857141E-2,5.7142857142857141E-2,5.7142857142857141E-2]
[null,null,null,{"$f":"'Efficiency Levels'!C186","v":"EL4"},{"$f":"'Efficiency Levels'!D186","v":2084.0040000000004},0.11428571428571428,null,0,0,0,0,0,0,0,0,0,0,0,0,0,0,0,0,0,0,0,0,0.11428571428571428,0.11428571428571428,0.11428571428571428,0.11428571428571428,0.11428571428571428,0.11428571428571428,0.11428571428571428,0.11428571428571428,0.11428571428571428,0.11428571428571428,0.11428571428571428,0.11428571428571428,0.11428571428571428,0.11428571428571428,0.11428571428571428,0.11428571428571428,0.11428571428571428,0.11428571428571428,0.11428571428571428,0.11428571428571428,0.11428571428571428,0.11428571428571428,0.11428571428571428,0.11428571428571428,0.11428571428571428]
[null,null,null,{"$f":"'Efficiency Levels'!C187","v":"EL5"},{"$f":"'Efficiency Levels'!D187","v":1955.1225000000002},0.14285714285714285,null,0,0,0,0,0,0,0,0,0,0,0,0,0,0,0,0,0,0,0,0,0.14285714285714285,0.14285714285714285,0.14285714285714285,0.14285714285714285,0.14285714285714285,0.14285714285714285,0.14285714285714285,0.14285714285714285,0.14285714285714285,0.14285714285714285,0.14285714285714285,0.14285714285714285,0.14285714285714285,0.14285714285714285,0.14285714285714285,0.14285714285714285,0.14285714285714285,0.14285714285714285,0.14285714285714285,0.14285714285714285,0.14285714285714285,0.14285714285714285,0.14285714285714285,0.14285714285714285,0.14285714285714285]
[null,null,null,{"$f":"'Efficiency Levels'!C188","v":"EL6"},{"$f":"'Efficiency Levels'!D188","v":1826.2410000000002},0.11428571428571428,null,0,0,0,0,0,0,0,0,0,0,0,0,0,0,0,0,0,0,0,0,{"$f":"$F319","v":0.11428571428571428},0.11428571428571428,0.11428571428571428,0.11428571428571428,0.11428571428571428,0.11428571428571428,0.11428571428571428,0.11428571428571428,0.11428571428571428,0.11428571428571428,0.11428571428571428,0.11428571428571428,0.11428571428571428,0.11428571428571428,0.11428571428571428,0.11428571428571428,0.11428571428571428,0.11428571428571428,0.11428571428571428,0.11428571428571428,0.11428571428571428,0.11428571428571428,0.11428571428571428,0.11428571428571428,0.11428571428571428]
[null,null,null,{"$f":"'Efficiency Levels'!C189","v":"EL7"},{"$f":"'Efficiency Levels'!D189","v":1585.2625674418605},0,null,0,0,0,0,0,0,0,0,0,0,0,0,0,0,0,0,0,0,0,0,0,0,0,0,0,0,0,0,0,0,0,0,0,0,0,0,0,0,0,0,0,0,0,0,0]
[null,null,null,"TOTAL",null,{"$f":"SUM(F313:F320)","v":1},null,{"$f":"SUM(H313:H320)","v":1},1,1,1,1,1,1,1,1,1,1,1,1,1,1,1,1,1,1,1,1,1,1,1,1,1,1,1,1,1,1,1,1,1,1,1,1,1,1,1,1,1,1,1,1]
[]
[null,null,null,"POST-Case"]
[null,null,null,"Efficiency Level","EL (kWh/day)",null,null,1990,{"$f":"H324+1","v":1991},{"$f":"I324+1","v":1992},{"$f":"J324+1","v":1993},{"$f":"K324+1","v":1994},{"$f":"L324+1","v":1995},{"$f":"M324+1","v":1996},{"$f":"N324+1","v":1997},{"$f":"O324+1","v":1998},{"$f":"P324+1","v":1999},{"$f":"Q324+1","v":2000},{"$f":"R324+1","v":2001},{"$f":"S324+1","v":2002},{"$f":"T324+1","v":2003},{"$f":"U324+1","v":2004},{"$f":"V324+1","v":2005},{"$f":"X312","v":2006},2007,2008,2009,2010,2011,2012,2013,2014,2015,2016,2017,2018,2019,2020,2021,2022,2023,2024,2025,2026,2027,2028,2029,2030,2031,2032,2033,2034]
[null,null,null,{"$f":"'Efficiency Levels'!C182","v":"EL0"},{"$f":"'Efficiency Levels'!D182","v":2449.626155644044},null,null,{"$f":"H313","v":1},{"$f":"I313","v":1},1,1,1,1,1,1,1,1,1,1,1,1,1,1,1,1,1,1,0,0,0,0,0,0,0,0,0,0,0,0,0,0,0,0,0,0,0,0,0,0,0,0,0]
[null,null,null,{"$f":"'Efficiency Levels'!C183","v":"EL1"},{"$f":"'Efficiency Levels'!D183","v":2599.5300000000007},null,null,{"$f":"H314","v":0},{"$f":"I314","v":0},0,0,0,0,0,0,0,0,0,0,0,0,0,0,0,0,0,0,0.17142857142857143,0.17142857142857143,0.17142857142857143,0.17142857142857143,0.17142857142857143,0.17142857142857143,0.17142857142857143,0.17142857142857143,0,0,0,0,0,0,0,0,0,0,0,0,0,0,0,0,0]
[null,null,null,{"$f":"'Efficiency Levels'!C184","v":"EL2"},{"$f":"'Efficiency Levels'!D184","v":2419.0959000000003},null,null,{"$f":"H315","v":0},0,0,0,0,0,0,0,0,0,0,0,0,0,0,0,0,0,0,0,0.4,0.4,0.4,0.4,0.4,0.4,0.4,0.4,0,0,0,0,0,0,0,0,0,0,0,0,0,0,0,0,0]
[null,null,null,{"$f":"'Efficiency Levels'!C185","v":"EL3"},{"$f":"'Efficiency Levels'!D185","v":2212.8854999999999},null,null,{"$f":"H316","v":0},0,0,0,0,0,0,0,0,0,0,0,0,0,0,0,0,0,0,0,5.7142857142857141E-2,5.7142857142857141E-2,5.7142857142857141E-2,5.7142857142857141E-2,5.7142857142857141E-2,5.7142857142857141E-2,5.7142857142857141E-2,5.7142857142857141E-2,0,0,0,0,0,0,0,0,0,0,0,0,0,0,0,0,0]
[null,null,null,{"$f":"'Efficiency Levels'!C186","v":"EL4"},{"$f":"'Efficiency Levels'!D186","v":2084.0040000000004},null,null,{"$f":"H317","v":0},0,0,0,0,0,0,0,0,0,0,0,0,0,0,0,0,0,0,0,0.11428571428571428,0.11428571428571428,0.11428571428571428,0.11428571428571428,0.11428571428571428,0.11428571428571428,0.11428571428571428,0.11428571428571428,0,0,0,0,0,0,0,0,0,0,0,0,0,0,0,0,0]
[null,null,null,{"$f":"'Efficiency Levels'!C187","v":"EL5"},{"$f":"'Efficiency Levels'!D187","v":1955.1225000000002},null,null,{"$f":"H318","v":0},0,0,0,0,0,0,0,0,0,0,0,0,0,0,0,0,0,0,0,0.14285714285714285,0.14285714285714285,0.14285714285714285,0.14285714285714285,0.14285714285714285,0.14285714285714285,0.14285714285714285,0.14285714285714285,0,0,0,0,0,0,0,0,0,0,0,0,0,0,0,0,0]
[null,null,null,{"$f":"'Efficiency Levels'!C188","v":"EL6"},{"$f":"'Efficiency Levels'!D188","v":1826.2410000000002},null,null,{"$f":"H319","v":0},0,0,0,0,0,0,0,0,0,0,0,0,0,0,0,0,0,0,0,0.11428571428571428,0.11428571428571428,0.11428571428571428,0.11428571428571428,0.11428571428571428,0.11428571428571428,0.11428571428571428,0.11428571428571428,1,1,1,1,1,1,1,1,1,1,1,1,1,1,1,1,1]
[null,null,null,{"$f":"'Efficiency Levels'!C189","v":"EL7"},{"$f":"'Efficiency Levels'!D189","v":1585.2625674418605},null,null,{"$f":"H320","v":0},0,0,0,0,0,0,0,0,0,0,0,0,0,0,0,0,0,0,0,0,0,0,0,0,0,0,0,0,0,0,0,0,0,0,0,0,0,0,0,0,0,0,0,0]
[null,null,null,"TOTAL",null,null,null,{"$f":"SUM(H325:H332)","v":1},{"$f":"SUM(I325:I332)","v":1},1,1,1,1,1,1,1,1,1,1,1,1,1,1,1,1,1,1,1,1,1,1,1,1,1,1,1,1,1,1,1,1,1,1,1,1,1,1,1,1,1,1,1]
[]
[null,null,null,"Sources","DOE Automatic Commercial Ice Makers 2014, Notice of Proposed Rulemaking (NOPR) Technical Support Document Chapter 10, Table 10.2.2 Base Case Shipment Weighted Market Shares by Efficiency Level (page 10-3); TSL 3 is proposed in the NOPR. TSL 3 corresponds to different EL's for different product classes"]
[]
[]
[]
[null,null,null,{"$f":"CONCATENATE('Efficiency Levels'!$C196,\" - \",'Efficiency Levels'!$D196)","v":"PC12 - Self-Contained Unit-Air-Cooled-Large-Batch"}]
[]
[null,null,null,"PRE-Case",null,"Static Distribution"]
[null,null,null,"Efficiency Level","EL (kWh/day)",2006,null,1990,{"$f":"H342+1","v":1991},{"$f":"I342+1","v":1992},{"$f":"J342+1","v":1993},{"$f":"K342+1","v":1994},{"$f":"L342+1","v":1995},{"$f":"M342+1","v":1996},{"$f":"N342+1","v":1997},{"$f":"O342+1","v":1998},{"$f":"P342+1","v":1999},{"$f":"Q342+1","v":2000},{"$f":"R342+1","v":2001},{"$f":"S342+1","v":2002},{"$f":"T342+1","v":2003},{"$f":"U342+1","v":2004},{"$f":"V342+1","v":2005},{"$f":"W342+1","v":2006},{"$f":"X342+1","v":2007},{"$f":"Y342+1","v":2008},{"$f":"Z342+1","v":2009},{"$f":"AA342+1","v":2010},{"$f":"AB342+1","v":2011},{"$f":"AC342+1","v":2012},{"$f":"AD342+1","v":2013},{"$f":"AE342+1","v":2014},{"$f":"AF342+1","v":2015},{"$f":"AG342+1","v":2016},{"$f":"AH342+1","v":2017},{"$f":"AI342+1","v":2018},{"$f":"AJ342+1","v":2019},{"$f":"AK342+1","v":2020},{"$f":"AL342+1","v":2021},{"$f":"AM342+1","v":2022},{"$f":"AN342+1","v":2023},{"$f":"AO342+1","v":2024},{"$f":"AP342+1","v":2025},{"$f":"AQ342+1","v":2026},{"$f":"AR342+1","v":2027},{"$f":"AS342+1","v":2028},{"$f":"AT342+1","v":2029},{"$f":"AU342+1","v":2030},{"$f":"AV342+1","v":2031},{"$f":"AW342+1","v":2032},{"$f":"AX342+1","v":2033},{"$f":"AY342+1","v":2034}]
[null,null,null,{"$f":"'Efficiency Levels'!C199","v":"EL0"},{"$f":"'Efficiency Levels'!D199","v":4379.5893750000005},0,null,1,1,1,1,1,1,1,1,1,1,1,1,1,1,1,1,1,1,1,1,{"$f":"$F343","v":0},0,0,0,0,0,0,0,0,0,0,0,0,0,0,0,0,0,0,0,0,0,0,0,0]
[null,null,null,{"$f":"'Efficiency Levels'!C200","v":"EL1"},{"$f":"'Efficiency Levels'!D200","v":3598.9000000000005},0.2857142857142857,null,0,0,0,0,0,0,0,0,0,0,0,0,0,0,0,0,0,0,0,0,0.2857142857142857,0.2857142857142857,0.2857142857142857,0.2857142857142857,0.2857142857142857,0.2857142857142857,0.2857142857142857,0.2857142857142857,0.2857142857142857,0.2857142857142857,0.2857142857142857,0.2857142857142857,0.2857142857142857,0.2857142857142857,0.2857142857142857,0.2857142857142857,0.2857142857142857,0.2857142857142857,0.2857142857142857,0.2857142857142857,0.2857142857142857,0.2857142857142857,0.2857142857142857,0.2857142857142857,0.2857142857142857]
[null,null,null,{"$f":"'Efficiency Levels'!C201","v":"EL2"},{"$f":"'Efficiency Levels'!D201","v":3348.51},0.35714285714285715,null,0,0,0,0,0,0,0,0,0,0,0,0,0,0,0,0,0,0,0,0,0.35714285714285715,0.35714285714285715,0.35714285714285715,0.35714285714285715,0.35714285714285715,0.35714285714285715,0.35714285714285715,0.35714285714285715,0.35714285714285715,0.35714285714285715,0.35714285714285715,0.35714285714285715,0.35714285714285715,0.35714285714285715,0.35714285714285715,0.35714285714285715,0.35714285714285715,0.35714285714285715,0.35714285714285715,0.35714285714285715,0.35714285714285715,0.35714285714285715,0.35714285714285715,0.35714285714285715,0.35714285714285715]
[null,null,null,{"$f":"'Efficiency Levels'!C202","v":"EL3"},{"$f":"'Efficiency Levels'!D202","v":3062.35},0,null,0,0,0,0,0,0,0,0,0,0,0,0,0,0,0,0,0,0,0,0,0,0,0,0,0,0,0,0,0,0,0,0,0,0,0,0,0,0,0,0,0,0,0,0,0]
[null,null,null,{"$f":"'Efficiency Levels'!C203","v":"EL4"},{"$f":"'Efficiency Levels'!D203","v":2883.5000000000005},7.1428571428571425E-2,null,0,0,0,0,0,0,0,0,0,0,0,0,0,0,0,0,0,0,0,0,7.1428571428571425E-2,7.1428571428571425E-2,7.1428571428571425E-2,7.1428571428571425E-2,7.1428571428571425E-2,7.1428571428571425E-2,7.1428571428571425E-2,7.1428571428571425E-2,7.1428571428571425E-2,7.1428571428571425E-2,7.1428571428571425E-2,7.1428571428571425E-2,7.1428571428571425E-2,7.1428571428571425E-2,7.1428571428571425E-2,7.1428571428571425E-2,7.1428571428571425E-2,7.1428571428571425E-2,7.1428571428571425E-2,7.1428571428571425E-2,7.1428571428571425E-2,7.1428571428571425E-2,7.1428571428571425E-2,7.1428571428571425E-2,7.1428571428571425E-2]
[null,null,null,{"$f":"'Efficiency Levels'!C204","v":"EL5"},{"$f":"'Efficiency Levels'!D204","v":2704.65},0.21428571428571427,null,0,0,0,0,0,0,0,0,0,0,0,0,0,0,0,0,0,0,0,0,0.21428571428571427,0.21428571428571427,0.21428571428571427,0.21428571428571427,0.21428571428571427,0.21428571428571427,0.21428571428571427,0.21428571428571427,0.21428571428571427,0.21428571428571427,0.21428571428571427,0.21428571428571427,0.21428571428571427,0.21428571428571427,0.21428571428571427,0.21428571428571427,0.21428571428571427,0.21428571428571427,0.21428571428571427,0.21428571428571427,0.21428571428571427,0.21428571428571427,0.21428571428571427,0.21428571428571427,0.21428571428571427]
[null,null,null,{"$f":"'Efficiency Levels'!C205","v":"EL6"},{"$f":"'Efficiency Levels'!D205","v":2525.8000000000002},7.1428571428571425E-2,null,0,0,0,0,0,0,0,0,0,0,0,0,0,0,0,0,0,0,0,0,{"$f":"$F349","v":7.1428571428571425E-2},7.1428571428571425E-2,7.1428571428571425E-2,7.1428571428571425E-2,7.1428571428571425E-2,7.1428571428571425E-2,7.1428571428571425E-2,7.1428571428571425E-2,7.1428571428571425E-2,7.1428571428571425E-2,7.1428571428571425E-2,7.1428571428571425E-2,7.1428571428571425E-2,7.1428571428571425E-2,7.1428571428571425E-2,7.1428571428571425E-2,7.1428571428571425E-2,7.1428571428571425E-2,7.1428571428571425E-2,7.1428571428571425E-2,7.1428571428571425E-2,7.1428571428571425E-2,7.1428571428571425E-2,7.1428571428571425E-2,7.1428571428571425E-2]
[null,null,null,{"$f":"'Efficiency Levels'!C206","v":"EL7"},{"$f":"'Efficiency Levels'!D206","v":2351.0944872057316},0,null,0,0,0,0,0,0,0,0,0,0,0,0,0,0,0,0,0,0,0,0,0,0,0,0,0,0,0,0,0,0,0,0,0,0,0,0,0,0,0,0,0,0,0,0,0]
[null,null,null,"TOTAL",null,{"$f":"SUM(F343:F350)","v":0.99999999999999989},null,{"$f":"SUM(H343:H350)","v":1},1,1,1,1,1,1,1,1,1,1,1,1,1,1,1,1,1,1,1,0.99999999999999989,0.99999999999999989,0.99999999999999989,0.99999999999999989,0.99999999999999989,0.99999999999999989,0.99999999999999989,0.99999999999999989,0.99999999999999989,0.99999999999999989,0.99999999999999989,0.99999999999999989,0.99999999999999989,0.99999999999999989,0.99999999999999989,0.99999999999999989,0.99999999999999989,0.99999999999999989,0.99999999999999989,0.99999999999999989,0.99999999999999989,0.99999999999999989,0.99999999999999989,0.99999999999999989,0.99999999999999989]
[]
[null,null,null,"POST-Case"]
[null,null,null,"Efficiency Level","EL (kWh/day)",null,null,1990,{"$f":"H354+1","v":1991},{"$f":"I354+1","v":1992},{"$f":"J354+1","v":1993},{"$f":"K354+1","v":1994},{"$f":"L354+1","v":1995},{"$f":"M354+1","v":1996},{"$f":"N354+1","v":1997},{"$f":"O354+1","v":1998},{"$f":"P354+1","v":1999},{"$f":"Q354+1","v":2000},{"$f":"R354+1","v":2001},{"$f":"S354+1","v":2002},{"$f":"T354+1","v":2003},{"$f":"U354+1","v":2004},{"$f":"V354+1","v":2005},{"$f":"X342","v":2006},2007,2008,2009,2010,2011,2012,2013,2014,2015,2016,2017,2018,2019,2020,2021,2022,2023,2024,2025,2026,2027,2028,2029,2030,2031,2032,2033,2034]
[null,null,null,{"$f":"'Efficiency Levels'!C199","v":"EL0"},{"$f":"'Efficiency Levels'!D199","v":4379.5893750000005},null,null,{"$f":"H343","v":1},{"$f":"I343","v":1},1,1,1,1,1,1,1,1,1,1,1,1,1,1,1,1,1,1,0,0,0,0,0,0,0,0,0,0,0,0,0,0,0,0,0,0,0,0,0,0,0,0,0]
[null,null,null,{"$f":"'Efficiency Levels'!C200","v":"EL1"},{"$f":"'Efficiency Levels'!D200","v":3598.9000000000005},null,null,{"$f":"H344","v":0},{"$f":"I344","v":0},0,0,0,0,0,0,0,0,0,0,0,0,0,0,0,0,0,0,0.2857142857142857,0.2857142857142857,0.2857142857142857,0.2857142857142857,0.2857142857142857,0.2857142857142857,0.2857142857142857,0.2857142857142857,0,0,0,0,0,0,0,0,0,0,0,0,0,0,0,0,0]
[null,null,null,{"$f":"'Efficiency Levels'!C201","v":"EL2"},{"$f":"'Efficiency Levels'!D201","v":3348.51},null,null,{"$f":"H345","v":0},0,0,0,0,0,0,0,0,0,0,0,0,0,0,0,0,0,0,0,0.35714285714285715,0.35714285714285715,0.35714285714285715,0.35714285714285715,0.35714285714285715,0.35714285714285715,0.35714285714285715,0.35714285714285715,0,0,0,0,0,0,0,0,0,0,0,0,0,0,0,0,0]
[null,null,null,{"$f":"'Efficiency Levels'!C202","v":"EL3"},{"$f":"'Efficiency Levels'!D202","v":3062.35},null,null,{"$f":"H346","v":0},0,0,0,0,0,0,0,0,0,0,0,0,0,0,0,0,0,0,0,0,0,0,0,0,0,0,0,0,0,0,0,0,0,0,0,0,0,0,0,0,0,0,0,0]
[null,null,null,{"$f":"'Efficiency Levels'!C203","v":"EL4"},{"$f":"'Efficiency Levels'!D203","v":2883.5000000000005},null,null,{"$f":"H347","v":0},0,0,0,0,0,0,0,0,0,0,0,0,0,0,0,0,0,0,0,7.1428571428571425E-2,7.1428571428571425E-2,7.1428571428571425E-2,7.1428571428571425E-2,7.1428571428571425E-2,7.1428571428571425E-2,7.1428571428571425E-2,7.1428571428571425E-2,0,0,0,0,0,0,0,0,0,0,0,0,0,0,0,0,0]
[null,null,null,{"$f":"'Efficiency Levels'!C204","v":"EL5"},{"$f":"'Efficiency Levels'!D204","v":2704.65},null,null,{"$f":"H348","v":0},0,0,0,0,0,0,0,0,0,0,0,0,0,0,0,0,0,0,0,0.21428571428571427,0.21428571428571427,0.21428571428571427,0.21428571428571427,0.21428571428571427,0.21428571428571427,0.21428571428571427,0.21428571428571427,0,0,0,0,0,0,0,0,0,0,0,0,0,0,0,0,0]
[null,null,null,{"$f":"'Efficiency Levels'!C205","v":"EL6"},{"$f":"'Efficiency Levels'!D205","v":2525.8000000000002},null,null,{"$f":"H349","v":0},0,0,0,0,0,0,0,0,0,0,0,0,0,0,0,0,0,0,0,7.1428571428571425E-2,7.1428571428571425E-2,7.1428571428571425E-2,7.1428571428571425E-2,7.1428571428571425E-2,7.1428571428571425E-2,7.1428571428571425E-2,7.1428571428571425E-2,1,1,1,1,1,1,1,1,1,1,1,1,1,1,1,1,1]
[null,null,null,{"$f":"'Efficiency Levels'!C206","v":"EL7"},{"$f":"'Efficiency Levels'!D206","v":2351.0944872057316},null,null,{"$f":"H350","v":0},0,0,0,0,0,0,0,0,0,0,0,0,0,0,0,0,0,0,0,0,0,0,0,0,0,0,0,0,0,0,0,0,0,0,0,0,0,0,0,0,0,0,0,0]
[null,null,null,"TOTAL",null,null,null,{"$f":"SUM(H355:H362)","v":1},{"$f":"SUM(I355:I362)","v":1},1,1,1,1,1,1,1,1,1,1,1,1,1,1,1,1,1,1,0.99999999999999989,0.99999999999999989,0.99999999999999989,0.99999999999999989,0.99999999999999989,0.99999999999999989,0.99999999999999989,0.99999999999999989,1,1,1,1,1,1,1,1,1,1,1,1,1,1,1,1,1]
[]
[null,null,null,"Sources","DOE Automatic Commercial Ice Makers 2014, Notice of Proposed Rulemaking (NOPR) Technical Support Document Chapter 10, Table 10.2.2 Base Case Shipment Weighted Market Shares by Efficiency Level (page 10-3); TSL 3 is proposed in the NOPR. TSL 3 corresponds to different EL's for different product classes"]
[]
[]
[]
[null,null,null,{"$f":"CONCATENATE('Efficiency Levels'!$C213,\" - \",'Efficiency Levels'!$D213)","v":"PC13 - Ice-Making Head-Air-Cooled-Small-Continous"}]
[]
[null,null,null,"PRE-Case",null,"Static Distribution"]
[null,null,null,"Efficiency Level","EL (kWh/day)",2006,null,1990,{"$f":"H372+1","v":1991},{"$f":"I372+1","v":1992},{"$f":"J372+1","v":1993},{"$f":"K372+1","v":1994},{"$f":"L372+1","v":1995},{"$f":"M372+1","v":1996},{"$f":"N372+1","v":1997},{"$f":"O372+1","v":1998},{"$f":"P372+1","v":1999},{"$f":"Q372+1","v":2000},{"$f":"R372+1","v":2001},{"$f":"S372+1","v":2002},{"$f":"T372+1","v":2003},{"$f":"U372+1","v":2004},{"$f":"V372+1","v":2005},{"$f":"W372+1","v":2006},{"$f":"X372+1","v":2007},{"$f":"Y372+1","v":2008},{"$f":"Z372+1","v":2009},{"$f":"AA372+1","v":2010},{"$f":"AB372+1","v":2011},{"$f":"AC372+1","v":2012},{"$f":"AD372+1","v":2013},{"$f":"AE372+1","v":2014},{"$f":"AF372+1","v":2015},{"$f":"AG372+1","v":2016},{"$f":"AH372+1","v":2017},{"$f":"AI372+1","v":2018},{"$f":"AJ372+1","v":2019},{"$f":"AK372+1","v":2020},{"$f":"AL372+1","v":2021},{"$f":"AM372+1","v":2022},{"$f":"AN372+1","v":2023},{"$f":"AO372+1","v":2024},{"$f":"AP372+1","v":2025},{"$f":"AQ372+1","v":2026},{"$f":"AR372+1","v":2027},{"$f":"AS372+1","v":2028},{"$f":"AT372+1","v":2029},{"$f":"AU372+1","v":2030},{"$f":"AV372+1","v":2031},{"$f":"AW372+1","v":2032},{"$f":"AX372+1","v":2033},{"$f":"AY372+1","v":2034}]
[null,null,null,{"$f":"'Efficiency Levels'!C216","v":"EL0"},{"$f":"'Efficiency Levels'!D216","v":5141.9375000000009},0.22857142857142856,null,{"$f":"$F373","v":0.22857142857142856},{"$f":"$F373","v":0.22857142857142856},0.22857142857142856,0.22857142857142856,0.22857142857142856,0.22857142857142856,0.22857142857142856,0.22857142857142856,0.22857142857142856,0.22857142857142856,0.22857142857142856,0.22857142857142856,0.22857142857142856,0.22857142857142856,0.22857142857142856,0.22857142857142856,0.22857142857142856,0.22857142857142856,0.22857142857142856,0.22857142857142856,0.22857142857142856,0.22857142857142856,0.22857142857142856,0.22857142857142856,0.22857142857142856,0.22857142857142856,0.22857142857142856,0.22857142857142856,0.22857142857142856,0.22857142857142856,0.22857142857142856,0.22857142857142856,0.22857142857142856,0.22857142857142856,0.22857142857142856,0.22857142857142856,0.22857142857142856,0.22857142857142856,0.22857142857142856,0.22857142857142856,0.22857142857142856,0.22857142857142856,0.22857142857142856,0.22857142857142856,0.22857142857142856]
[null,null,null,{"$f":"'Efficiency Levels'!C217","v":"EL1"},{"$f":"'Efficiency Levels'!D217","v":4629.9337500000011},0.22857142857142856,null,{"$f":"$F374","v":0.22857142857142856},0.22857142857142856,0.22857142857142856,0.22857142857142856,0.22857142857142856,0.22857142857142856,0.22857142857142856,0.22857142857142856,0.22857142857142856,0.22857142857142856,0.22857142857142856,0.22857142857142856,0.22857142857142856,0.22857142857142856,0.22857142857142856,0.22857142857142856,0.22857142857142856,0.22857142857142856,0.22857142857142856,0.22857142857142856,0.22857142857142856,0.22857142857142856,0.22857142857142856,0.22857142857142856,0.22857142857142856,0.22857142857142856,0.22857142857142856,0.22857142857142856,0.22857142857142856,0.22857142857142856,0.22857142857142856,0.22857142857142856,0.22857142857142856,0.22857142857142856,0.22857142857142856,0.22857142857142856,0.22857142857142856,0.22857142857142856,0.22857142857142856,0.22857142857142856,0.22857142857142856,0.22857142857142856,0.22857142857142856,0.22857142857142856,0.22857142857142856]
[null,null,null,{"$f":"'Efficiency Levels'!C218","v":"EL2"},{"$f":"'Efficiency Levels'!D218","v":4373.9318750000002},0.14285714285714285,null,0.14285714285714285,0.14285714285714285,0.14285714285714285,0.14285714285714285,0.14285714285714285,0.14285714285714285,0.14285714285714285,0.14285714285714285,0.14285714285714285,0.14285714285714285,0.14285714285714285,0.14285714285714285,0.14285714285714285,0.14285714285714285,0.14285714285714285,0.14285714285714285,0.14285714285714285,0.14285714285714285,0.14285714285714285,0.14285714285714285,0.14285714285714285,0.14285714285714285,0.14285714285714285,0.14285714285714285,0.14285714285714285,0.14285714285714285,0.14285714285714285,0.14285714285714285,0.14285714285714285,0.14285714285714285,0.14285714285714285,0.14285714285714285,0.14285714285714285,0.14285714285714285,0.14285714285714285,0.14285714285714285,0.14285714285714285,0.14285714285714285,0.14285714285714285,0.14285714285714285,0.14285714285714285,0.14285714285714285,0.14285714285714285,0.14285714285714285,0.14285714285714285]
[null,null,null,{"$f":"'Efficiency Levels'!C219","v":"EL3"},{"$f":"'Efficiency Levels'!D219","v":4117.93},8.5714285714285715E-2,null,8.5714285714285715E-2,8.5714285714285715E-2,8.5714285714285715E-2,8.5714285714285715E-2,8.5714285714285715E-2,8.5714285714285715E-2,8.5714285714285715E-2,8.5714285714285715E-2,8.5714285714285715E-2,8.5714285714285715E-2,8.5714285714285715E-2,8.5714285714285715E-2,8.5714285714285715E-2,8.5714285714285715E-2,8.5714285714285715E-2,8.5714285714285715E-2,8.5714285714285715E-2,8.5714285714285715E-2,8.5714285714285715E-2,8.5714285714285715E-2,8.5714285714285715E-2,8.5714285714285715E-2,8.5714285714285715E-2,8.5714285714285715E-2,8.5714285714285715E-2,8.5714285714285715E-2,8.5714285714285715E-2,8.5714285714285715E-2,8.5714285714285715E-2,8.5714285714285715E-2,8.5714285714285715E-2,8.5714285714285715E-2,8.5714285714285715E-2,8.5714285714285715E-2,8.5714285714285715E-2,8.5714285714285715E-2,8.5714285714285715E-2,8.5714285714285715E-2,8.5714285714285715E-2,8.5714285714285715E-2,8.5714285714285715E-2,8.5714285714285715E-2,8.5714285714285715E-2,8.5714285714285715E-2,8.5714285714285715E-2]
[null,null,null,{"$f":"'Efficiency Levels'!C220","v":"EL4"},{"$f":"'Efficiency Levels'!D220","v":3861.9281250000004},0.17142857142857143,null,0.17142857142857143,0.17142857142857143,0.17142857142857143,0.17142857142857143,0.17142857142857143,0.17142857142857143,0.17142857142857143,0.17142857142857143,0.17142857142857143,0.17142857142857143,0.17142857142857143,0.17142857142857143,0.17142857142857143,0.17142857142857143,0.17142857142857143,0.17142857142857143,0.17142857142857143,0.17142857142857143,0.17142857142857143,0.17142857142857143,0.17142857142857143,0.17142857142857143,0.17142857142857143,0.17142857142857143,0.17142857142857143,0.17142857142857143,0.17142857142857143,0.17142857142857143,0.17142857142857143,0.17142857142857143,0.17142857142857143,0.17142857142857143,0.17142857142857143,0.17142857142857143,0.17142857142857143,0.17142857142857143,0.17142857142857143,0.17142857142857143,0.17142857142857143,0.17142857142857143,0.17142857142857143,0.17142857142857143,0.17142857142857143,0.17142857142857143,0.17142857142857143]
[null,null,null,{"$f":"'Efficiency Levels'!C221","v":"EL5"},{"$f":"'Efficiency Levels'!D221","v":3605.9262500000004},2.8571428571428571E-2,null,2.8571428571428571E-2,2.8571428571428571E-2,2.8571428571428571E-2,2.8571428571428571E-2,2.8571428571428571E-2,2.8571428571428571E-2,2.8571428571428571E-2,2.8571428571428571E-2,2.8571428571428571E-2,2.8571428571428571E-2,2.8571428571428571E-2,2.8571428571428571E-2,2.8571428571428571E-2,2.8571428571428571E-2,2.8571428571428571E-2,2.8571428571428571E-2,2.8571428571428571E-2,2.8571428571428571E-2,2.8571428571428571E-2,2.8571428571428571E-2,2.8571428571428571E-2,2.8571428571428571E-2,2.8571428571428571E-2,2.8571428571428571E-2,2.8571428571428571E-2,2.8571428571428571E-2,2.8571428571428571E-2,2.8571428571428571E-2,2.8571428571428571E-2,2.8571428571428571E-2,2.8571428571428571E-2,2.8571428571428571E-2,2.8571428571428571E-2,2.8571428571428571E-2,2.8571428571428571E-2,2.8571428571428571E-2,2.8571428571428571E-2,2.8571428571428571E-2,2.8571428571428571E-2,2.8571428571428571E-2,2.8571428571428571E-2,2.8571428571428571E-2,2.8571428571428571E-2,2.8571428571428571E-2,2.8571428571428571E-2]
[null,null,null,{"$f":"'Efficiency Levels'!C222","v":"EL6"},{"$f":"'Efficiency Levels'!D222","v":3555.288516483517},0.11428571428571428,null,0.11428571428571428,0.11428571428571428,0.11428571428571428,0.11428571428571428,0.11428571428571428,0.11428571428571428,0.11428571428571428,{"$f":"$F379","v":0.11428571428571428},0.11428571428571428,0.11428571428571428,0.11428571428571428,0.11428571428571428,0.11428571428571428,0.11428571428571428,0.11428571428571428,0.11428571428571428,0.11428571428571428,0.11428571428571428,0.11428571428571428,0.11428571428571428,0.11428571428571428,0.11428571428571428,0.11428571428571428,0.11428571428571428,0.11428571428571428,0.11428571428571428,0.11428571428571428,0.11428571428571428,0.11428571428571428,0.11428571428571428,0.11428571428571428,0.11428571428571428,0.11428571428571428,0.11428571428571428,0.11428571428571428,0.11428571428571428,0.11428571428571428,0.11428571428571428,0.11428571428571428,0.11428571428571428,0.11428571428571428,0.11428571428571428,0.11428571428571428,0.11428571428571428,0.11428571428571428]
[null,null,null,{"$f":"'Efficiency Levels'!C223","v":"EL7"},{"$f":"'Efficiency Levels'!D223","v":0},0,null,0,0,0,0,0,0,0,0,0,0,0,0,0,0,0,0,0,0,0,0,0,0,0,0,0,0,0,0,0,0,0,0,0,0,0,0,0,0,0,0,0,0,0,0,0]
[null,null,null,"TOTAL",null,{"$f":"SUM(F373:F380)","v":1},null,{"$f":"SUM(H373:H380)","v":1},1,1,1,1,1,1,1,1,1,1,1,1,1,1,1,1,1,1,1,1,1,1,1,1,1,1,1,1,1,1,1,1,1,1,1,1,1,1,1,1,1,1,1,1]
[]
[null,null,null,"POST-Case"]
[null,null,null,"Efficiency Level","EL (kWh/day)",null,null,1990,{"$f":"H384+1","v":1991},{"$f":"I384+1","v":1992},{"$f":"J384+1","v":1993},{"$f":"K384+1","v":1994},{"$f":"L384+1","v":1995},{"$f":"M384+1","v":1996},{"$f":"N384+1","v":1997},{"$f":"O384+1","v":1998},{"$f":"P384+1","v":1999},{"$f":"Q384+1","v":2000},{"$f":"R384+1","v":2001},{"$f":"S384+1","v":2002},{"$f":"T384+1","v":2003},{"$f":"U384+1","v":2004},{"$f":"V384+1","v":2005},{"$f":"X372","v":2006},2007,2008,2009,2010,2011,2012,2013,2014,2015,2016,2017,2018,2019,2020,2021,2022,2023,2024,2025,2026,2027,2028,2029,2030,2031,2032,2033,2034]
[null,null,null,{"$f":"'Efficiency Levels'!C216","v":"EL0"},{"$f":"'Efficiency Levels'!D216","v":5141.9375000000009},null,null,{"$f":"H373","v":0.22857142857142856},{"$f":"I373","v":0.22857142857142856},0.22857142857142856,0.22857142857142856,0.22857142857142856,0.22857142857142856,0.22857142857142856,0.22857142857142856,0.22857142857142856,0.22857142857142856,0.22857142857142856,0.22857142857142856,0.22857142857142856,0.22857142857142856,0.22857142857142856,0.22857142857142856,0.22857142857142856,0.22857142857142856,0.22857142857142856,0.22857142857142856,0.22857142857142856,0.22857142857142856,0.22857142857142856,0.22857142857142856,0.22857142857142856,0.22857142857142856,0.22857142857142856,0.22857142857142856,0,0,0,0,0,0,0,0,0,0,0,0,0,0,0,0,0]
[null,null,null,{"$f":"'Efficiency Levels'!C217","v":"EL1"},{"$f":"'Efficiency Levels'!D217","v":4629.9337500000011},null,null,{"$f":"H374","v":0.22857142857142856},{"$f":"I374","v":0.22857142857142856},0.22857142857142856,0.22857142857142856,0.22857142857142856,0.22857142857142856,0.22857142857142856,0.22857142857142856,0.22857142857142856,0.22857142857142856,0.22857142857142856,0.22857142857142856,0.22857142857142856,0.22857142857142856,0.22857142857142856,0.22857142857142856,0.22857142857142856,0.22857142857142856,0.22857142857142856,0.22857142857142856,0.22857142857142856,0.22857142857142856,0.22857142857142856,0.22857142857142856,0.22857142857142856,0.22857142857142856,0.22857142857142856,0.22857142857142856,0,0,0,0,0,0,0,0,0,0,0,0,0,0,0,0,0]
[null,null,null,{"$f":"'Efficiency Levels'!C218","v":"EL2"},{"$f":"'Efficiency Levels'!D218","v":4373.9318750000002},null,null,{"$f":"H375","v":0.14285714285714285},0.14285714285714285,0.14285714285714285,0.14285714285714285,0.14285714285714285,0.14285714285714285,0.14285714285714285,0.14285714285714285,0.14285714285714285,0.14285714285714285,0.14285714285714285,0.14285714285714285,0.14285714285714285,0.14285714285714285,0.14285714285714285,0.14285714285714285,0.14285714285714285,0.14285714285714285,0.14285714285714285,0.14285714285714285,0.14285714285714285,0.14285714285714285,0.14285714285714285,0.14285714285714285,0.14285714285714285,0.14285714285714285,0.14285714285714285,0.14285714285714285,0,0,0,0,0,0,0,0,0,0,0,0,0,0,0,0,0]
[null,null,null,{"$f":"'Efficiency Levels'!C219","v":"EL3"},{"$f":"'Efficiency Levels'!D219","v":4117.93},null,null,{"$f":"H376","v":8.5714285714285715E-2},8.5714285714285715E-2,8.5714285714285715E-2,8.5714285714285715E-2,8.5714285714285715E-2,8.5714285714285715E-2,8.5714285714285715E-2,8.5714285714285715E-2,8.5714285714285715E-2,8.5714285714285715E-2,8.5714285714285715E-2,8.5714285714285715E-2,8.5714285714285715E-2,8.5714285714285715E-2,8.5714285714285715E-2,8.5714285714285715E-2,8.5714285714285715E-2,8.5714285714285715E-2,8.5714285714285715E-2,8.5714285714285715E-2,8.5714285714285715E-2,8.5714285714285715E-2,8.5714285714285715E-2,8.5714285714285715E-2,8.5714285714285715E-2,8.5714285714285715E-2,8.5714285714285715E-2,8.5714285714285715E-2,0.68571428571428572,0.68571428571428572,0.68571428571428572,0.68571428571428572,0.68571428571428572,0.68571428571428572,0.68571428571428572,0.68571428571428572,0.68571428571428572,0.68571428571428572,0.68571428571428572,0.68571428571428572,0.68571428571428572,0.68571428571428572,0.68571428571428572,0.68571428571428572,0.68571428571428572]
[null,null,null,{"$f":"'Efficiency Levels'!C220","v":"EL4"},{"$f":"'Efficiency Levels'!D220","v":3861.9281250000004},null,null,{"$f":"H377","v":0.17142857142857143},0.17142857142857143,0.17142857142857143,0.17142857142857143,0.17142857142857143,0.17142857142857143,0.17142857142857143,0.17142857142857143,0.17142857142857143,0.17142857142857143,0.17142857142857143,0.17142857142857143,0.17142857142857143,0.17142857142857143,0.17142857142857143,0.17142857142857143,0.17142857142857143,0.17142857142857143,0.17142857142857143,0.17142857142857143,0.17142857142857143,0.17142857142857143,0.17142857142857143,0.17142857142857143,0.17142857142857143,0.17142857142857143,0.17142857142857143,0.17142857142857143,0.17142857142857143,0.17142857142857143,0.17142857142857143,0.17142857142857143,0.17142857142857143,0.17142857142857143,0.17142857142857143,0.17142857142857143,0.17142857142857143,0.17142857142857143,0.17142857142857143,0.17142857142857143,0.17142857142857143,0.17142857142857143,0.17142857142857143,0.17142857142857143,0.17142857142857143]
[null,null,null,{"$f":"'Efficiency Levels'!C221","v":"EL5"},{"$f":"'Efficiency Levels'!D221","v":3605.9262500000004},null,null,{"$f":"H378","v":2.8571428571428571E-2},2.8571428571428571E-2,2.8571428571428571E-2,2.8571428571428571E-2,2.8571428571428571E-2,2.8571428571428571E-2,2.8571428571428571E-2,2.8571428571428571E-2,2.8571428571428571E-2,2.8571428571428571E-2,2.8571428571428571E-2,2.8571428571428571E-2,2.8571428571428571E-2,2.8571428571428571E-2,2.8571428571428571E-2,2.8571428571428571E-2,2.8571428571428571E-2,2.8571428571428571E-2,2.8571428571428571E-2,2.8571428571428571E-2,2.8571428571428571E-2,2.8571428571428571E-2,2.8571428571428571E-2,2.8571428571428571E-2,2.8571428571428571E-2,2.8571428571428571E-2,2.8571428571428571E-2,2.8571428571428571E-2,2.8571428571428571E-2,2.8571428571428571E-2,2.8571428571428571E-2,2.8571428571428571E-2,2.8571428571428571E-2,2.8571428571428571E-2,2.8571428571428571E-2,2.8571428571428571E-2,2.8571428571428571E-2,2.8571428571428571E-2,2.8571428571428571E-2,2.8571428571428571E-2,2.8571428571428571E-2,2.8571428571428571E-2,2.8571428571428571E-2,2.8571428571428571E-2,2.8571428571428571E-2]
[null,null,null,{"$f":"'Efficiency Levels'!C222","v":"EL6"},{"$f":"'Efficiency Levels'!D222","v":3555.288516483517},null,null,{"$f":"H379","v":0.11428571428571428},0.11428571428571428,0.11428571428571428,0.11428571428571428,0.11428571428571428,0.11428571428571428,0.11428571428571428,0.11428571428571428,0.11428571428571428,0.11428571428571428,0.11428571428571428,0.11428571428571428,0.11428571428571428,0.11428571428571428,0.11428571428571428,0.11428571428571428,0.11428571428571428,0.11428571428571428,0.11428571428571428,0.11428571428571428,0.11428571428571428,0.11428571428571428,0.11428571428571428,0.11428571428571428,0.11428571428571428,0.11428571428571428,0.11428571428571428,0.11428571428571428,0.11428571428571428,0.11428571428571428,0.11428571428571428,0.11428571428571428,0.11428571428571428,0.11428571428571428,0.11428571428571428,0.11428571428571428,0.11428571428571428,0.11428571428571428,0.11428571428571428,0.11428571428571428,0.11428571428571428,0.11428571428571428,0.11428571428571428,0.11428571428571428,0.11428571428571428]
[null,null,null,{"$f":"'Efficiency Levels'!C223","v":"EL7"},{"$f":"'Efficiency Levels'!D223","v":0},null,null,{"$f":"H380","v":0},0,0,0,0,0,0,0,0,0,0,0,0,0,0,0,0,0,0,0,0,0,0,0,0,0,0,0,0,0,0,0,0,0,0,0,0,0,0,0,0,0,0,0,0]
[null,null,null,"TOTAL",null,null,null,{"$f":"SUM(H385:H392)","v":1},{"$f":"SUM(I385:I392)","v":1},1,1,1,1,1,1,1,1,1,1,1,1,1,1,1,1,1,1,1,1,1,1,1,1,1,1,1,1,1,1,1,1,1,1,1,1,1,1,1,1,1,1,1]
[]
[null,null,null,"Sources","DOE Automatic Commercial Ice Makers 2014, Notice of Proposed Rulemaking (NOPR) Technical Support Document Chapter 10, Table 10.2.2 Base Case Shipment Weighted Market Shares by Efficiency Level (page 10-3); TSL 3 is proposed in the NOPR. TSL 3 corresponds to different EL's for different product classes"]
[]
[]
[]
[null,null,null,{"$f":"CONCATENATE('Efficiency Levels'!$C230,\" - \",'Efficiency Levels'!$D230)","v":"PC14 - Ice-Making Head-Air-Cooled-Large-Continuous"}]
[]
[null,null,null,"PRE-Case",null,"Static Distribution"]
[null,null,null,"Efficiency Level","EL (kWh/day)",2006,null,1990,{"$f":"H402+1","v":1991},{"$f":"I402+1","v":1992},{"$f":"J402+1","v":1993},{"$f":"K402+1","v":1994},{"$f":"L402+1","v":1995},{"$f":"M402+1","v":1996},{"$f":"N402+1","v":1997},{"$f":"O402+1","v":1998},{"$f":"P402+1","v":1999},{"$f":"Q402+1","v":2000},{"$f":"R402+1","v":2001},{"$f":"S402+1","v":2002},{"$f":"T402+1","v":2003},{"$f":"U402+1","v":2004},{"$f":"V402+1","v":2005},{"$f":"W402+1","v":2006},{"$f":"X402+1","v":2007},{"$f":"Y402+1","v":2008},{"$f":"Z402+1","v":2009},{"$f":"AA402+1","v":2010},{"$f":"AB402+1","v":2011},{"$f":"AC402+1","v":2012},{"$f":"AD402+1","v":2013},{"$f":"AE402+1","v":2014},{"$f":"AF402+1","v":2015},{"$f":"AG402+1","v":2016},{"$f":"AH402+1","v":2017},{"$f":"AI402+1","v":2018},{"$f":"AJ402+1","v":2019},{"$f":"AK402+1","v":2020},{"$f":"AL402+1","v":2021},{"$f":"AM402+1","v":2022},{"$f":"AN402+1","v":2023},{"$f":"AO402+1","v":2024},{"$f":"AP402+1","v":2025},{"$f":"AQ402+1","v":2026},{"$f":"AR402+1","v":2027},{"$f":"AS402+1","v":2028},{"$f":"AT402+1","v":2029},{"$f":"AU402+1","v":2030},{"$f":"AV402+1","v":2031},{"$f":"AW402+1","v":2032},{"$f":"AX402+1","v":2033},{"$f":"AY402+1","v":2034}]
[null,null,null,{"$f":"'Efficiency Levels'!C233","v":"EL0"},{"$f":"'Efficiency Levels'!D233","v":9898.7999999999993},0.35,null,{"$f":"$F403","v":0.35},{"$f":"$F403","v":0.35},0.35,0.35,0.35,0.35,0.35,0.35,0.35,0.35,0.35,0.35,0.35,0.35,0.35,0.35,0.35,0.35,0.35,0.35,0.35,0.35,0.35,0.35,0.35,0.35,0.35,0.35,0.35,0.35,0.35,0.35,0.35,0.35,0.35,0.35,0.35,0.35,0.35,0.35,0.35,0.35,0.35,0.35,0.35]
[null,null,null,{"$f":"'Efficiency Levels'!C234","v":"EL1"},{"$f":"'Efficiency Levels'!D234","v":8911.1099999999988},0.2,null,{"$f":"$F404","v":0.2},0.2,0.2,0.2,0.2,0.2,0.2,0.2,0.2,0.2,0.2,0.2,0.2,0.2,0.2,0.2,0.2,0.2,0.2,0.2,0.2,0.2,0.2,0.2,0.2,0.2,0.2,0.2,0.2,0.2,0.2,0.2,0.2,0.2,0.2,0.2,0.2,0.2,0.2,0.2,0.2,0.2,0.2,0.2,0.2]
[null,null,null,{"$f":"'Efficiency Levels'!C235","v":"EL2"},{"$f":"'Efficiency Levels'!D235","v":8417.2649999999976},0.15,null,0.15,0.15,0.15,0.15,0.15,0.15,0.15,0.15,0.15,0.15,0.15,0.15,0.15,0.15,0.15,0.15,0.15,0.15,0.15,0.15,0.15,0.15,0.15,0.15,0.15,0.15,0.15,0.15,0.15,0.15,0.15,0.15,0.15,0.15,0.15,0.15,0.15,0.15,0.15,0.15,0.15,0.15,0.15,0.15,0.15]
[null,null,null,{"$f":"'Efficiency Levels'!C236","v":"EL3"},{"$f":"'Efficiency Levels'!D236","v":7923.4199999999992},0.15,null,0.15,0.15,0.15,0.15,0.15,0.15,0.15,0.15,0.15,0.15,0.15,0.15,0.15,0.15,0.15,0.15,0.15,0.15,0.15,0.15,0.15,0.15,0.15,0.15,0.15,0.15,0.15,0.15,0.15,0.15,0.15,0.15,0.15,0.15,0.15,0.15,0.15,0.15,0.15,0.15,0.15,0.15,0.15,0.15,0.15]
[null,null,null,{"$f":"'Efficiency Levels'!C237","v":"EL4"},{"$f":"'Efficiency Levels'!D237","v":7429.574999999998},0,null,0,0,0,0,0,0,0,0,0,0,0,0,0,0,0,0,0,0,0,0,0,0,0,0,0,0,0,0,0,0,0,0,0,0,0,0,0,0,0,0,0,0,0,0,0]
[null,null,null,{"$f":"'Efficiency Levels'!C238","v":"EL5"},{"$f":"'Efficiency Levels'!D238","v":6935.7299999999977},0.05,null,0.05,0.05,0.05,0.05,0.05,0.05,0.05,0.05,0.05,0.05,0.05,0.05,0.05,0.05,0.05,0.05,0.05,0.05,0.05,0.05,0.05,0.05,0.05,0.05,0.05,0.05,0.05,0.05,0.05,0.05,0.05,0.05,0.05,0.05,0.05,0.05,0.05,0.05,0.05,0.05,0.05,0.05,0.05,0.05,0.05]
[null,null,null,{"$f":"'Efficiency Levels'!C239","v":"EL6"},{"$f":"'Efficiency Levels'!D239","v":6912.0254399999976},0.1,null,0.1,0.1,0.1,0.1,0.1,0.1,0.1,{"$f":"$F409","v":0.1},0.1,0.1,0.1,0.1,0.1,0.1,0.1,0.1,0.1,0.1,0.1,0.1,0.1,0.1,0.1,0.1,0.1,0.1,0.1,0.1,0.1,0.1,0.1,0.1,0.1,0.1,0.1,0.1,0.1,0.1,0.1,0.1,0.1,0.1,0.1,0.1,0.1]
[null,null,null,{"$f":"'Efficiency Levels'!C240","v":"EL7"},{"$f":"'Efficiency Levels'!D240","v":0},0,null,0,0,0,0,0,0,0,0,0,0,0,0,0,0,0,0,0,0,0,0,0,0,0,0,0,0,0,0,0,0,0,0,0,0,0,0,0,0,0,0,0,0,0,0,0]
[null,null,null,"TOTAL",null,{"$f":"SUM(F403:F410)","v":1.0000000000000002},null,{"$f":"SUM(H403:H410)","v":1.0000000000000002},1.0000000000000002,1.0000000000000002,1.0000000000000002,1.0000000000000002,1.0000000000000002,1.0000000000000002,1.0000000000000002,1.0000000000000002,1.0000000000000002,1.0000000000000002,1.0000000000000002,1.0000000000000002,1.0000000000000002,1.0000000000000002,1.0000000000000002,1.0000000000000002,1.0000000000000002,1.0000000000000002,1.0000000000000002,1.0000000000000002,1.0000000000000002,1.0000000000000002,1.0000000000000002,1.0000000000000002,1.0000000000000002,1.0000000000000002,1.0000000000000002,1.0000000000000002,1.0000000000000002,1.0000000000000002,1.0000000000000002,1.0000000000000002,1.0000000000000002,1.0000000000000002,1.0000000000000002,1.0000000000000002,1.0000000000000002,1.0000000000000002,1.0000000000000002,1.0000000000000002,1.0000000000000002,1.0000000000000002,1.0000000000000002,1.0000000000000002]
[]
[null,null,null,"POST-Case"]
[null,null,null,"Efficiency Level","EL (kWh/day)",null,null,1990,{"$f":"H414+1","v":1991},{"$f":"I414+1","v":1992},{"$f":"J414+1","v":1993},{"$f":"K414+1","v":1994},{"$f":"L414+1","v":1995},{"$f":"M414+1","v":1996},{"$f":"N414+1","v":1997},{"$f":"O414+1","v":1998},{"$f":"P414+1","v":1999},{"$f":"Q414+1","v":2000},{"$f":"R414+1","v":2001},{"$f":"S414+1","v":2002},{"$f":"T414+1","v":2003},{"$f":"U414+1","v":2004},{"$f":"V414+1","v":2005},{"$f":"X402","v":2006},2007,2008,2009,2010,2011,2012,2013,2014,2015,2016,2017,2018,2019,2020,2021,2022,2023,2024,2025,2026,2027,2028,2029,2030,2031,2032,2033,2034]
[null,null,null,{"$f":"'Efficiency Levels'!C233","v":"EL0"},{"$f":"'Efficiency Levels'!D233","v":9898.7999999999993},null,null,{"$f":"H403","v":0.35},{"$f":"I403","v":0.35},0.35,0.35,0.35,0.35,0.35,0.35,0.35,0.35,0.35,0.35,0.35,0.35,0.35,0.35,0.35,0.35,0.35,0.35,0.35,0.35,0.35,0.35,0.35,0.35,0.35,0.35,0,0,0,0,0,0,0,0,0,0,0,0,0,0,0,0,0]
[null,null,null,{"$f":"'Efficiency Levels'!C234","v":"EL1"},{"$f":"'Efficiency Levels'!D234","v":8911.1099999999988},null,null,{"$f":"H404","v":0.2},{"$f":"I404","v":0.2},0.2,0.2,0.2,0.2,0.2,0.2,0.2,0.2,0.2,0.2,0.2,0.2,0.2,0.2,0.2,0.2,0.2,0.2,0.2,0.2,0.2,0.2,0.2,0.2,0.2,0.2,0,0,0,0,0,0,0,0,0,0,0,0,0,0,0,0,0]
[null,null,null,{"$f":"'Efficiency Levels'!C235","v":"EL2"},{"$f":"'Efficiency Levels'!D235","v":8417.2649999999976},null,null,{"$f":"H405","v":0.15},0.15,0.15,0.15,0.15,0.15,0.15,0.15,0.15,0.15,0.15,0.15,0.15,0.15,0.15,0.15,0.15,0.15,0.15,0.15,0.15,0.15,0.15,0.15,0.15,0.15,0.15,0.15,0,0,0,0,0,0,0,0,0,0,0,0,0,0,0,0,0]
[null,null,null,{"$f":"'Efficiency Levels'!C236","v":"EL3"},{"$f":"'Efficiency Levels'!D236","v":7923.4199999999992},null,null,{"$f":"H406","v":0.15},0.15,0.15,0.15,0.15,0.15,0.15,0.15,0.15,0.15,0.15,0.15,0.15,0.15,0.15,0.15,0.15,0.15,0.15,0.15,0.15,0.15,0.15,0.15,0.15,0.15,0.15,0.15,0,0,0,0,0,0,0,0,0,0,0,0,0,0,0,0,0]
[null,null,null,{"$f":"'Efficiency Levels'!C237","v":"EL4"},{"$f":"'Efficiency Levels'!D237","v":7429.574999999998},null,null,{"$f":"H407","v":0},0,0,0,0,0,0,0,0,0,0,0,0,0,0,0,0,0,0,0,0,0,0,0,0,0,0,0,0.85000000000000009,0.85000000000000009,0.85000000000000009,0.85000000000000009,0.85000000000000009,0.85000000000000009,0.85000000000000009,0.85000000000000009,0.85000000000000009,0.85000000000000009,0.85000000000000009,0.85000000000000009,0.85000000000000009,0.85000000000000009,0.85000000000000009,0.85000000000000009,0.85000000000000009]
[null,null,null,{"$f":"'Efficiency Levels'!C238","v":"EL5"},{"$f":"'Efficiency Levels'!D238","v":6935.7299999999977},null,null,{"$f":"H408","v":0.05},0.05,0.05,0.05,0.05,0.05,0.05,0.05,0.05,0.05,0.05,0.05,0.05,0.05,0.05,0.05,0.05,0.05,0.05,0.05,0.05,0.05,0.05,0.05,0.05,0.05,0.05,0.05,0.05,0.05,0.05,0.05,0.05,0.05,0.05,0.05,0.05,0.05,0.05,0.05,0.05,0.05,0.05,0.05,0.05]
[null,null,null,{"$f":"'Efficiency Levels'!C239","v":"EL6"},{"$f":"'Efficiency Levels'!D239","v":6912.0254399999976},null,null,{"$f":"H409","v":0.1},0.1,0.1,0.1,0.1,0.1,0.1,0.1,0.1,0.1,0.1,0.1,0.1,0.1,0.1,0.1,0.1,0.1,0.1,0.1,0.1,0.1,0.1,0.1,0.1,0.1,0.1,0.1,0.1,0.1,0.1,0.1,0.1,0.1,0.1,0.1,0.1,0.1,0.1,0.1,0.1,0.1,0.1,0.1,0.1]
[null,null,null,{"$f":"'Efficiency Levels'!C240","v":"EL7"},{"$f":"'Efficiency Levels'!D240","v":0},null,null,{"$f":"H410","v":0},0,0,0,0,0,0,0,0,0,0,0,0,0,0,0,0,0,0,0,0,0,0,0,0,0,0,0,0,0,0,0,0,0,0,0,0,0,0,0,0,0,0,0,0]
[null,null,null,"TOTAL",null,null,null,{"$f":"SUM(H415:H422)","v":1.0000000000000002},{"$f":"SUM(I415:I422)","v":1.0000000000000002},1.0000000000000002,1.0000000000000002,1.0000000000000002,1.0000000000000002,1.0000000000000002,1.0000000000000002,1.0000000000000002,1.0000000000000002,1.0000000000000002,1.0000000000000002,1.0000000000000002,1.0000000000000002,1.0000000000000002,1.0000000000000002,1.0000000000000002,1.0000000000000002,1.0000000000000002,1.0000000000000002,1.0000000000000002,1.0000000000000002,1.0000000000000002,1.0000000000000002,1.0000000000000002,1.0000000000000002,1.0000000000000002,1.0000000000000002,1.0000000000000002,1.0000000000000002,1.0000000000000002,1.0000000000000002,1.0000000000000002,1.0000000000000002,1.0000000000000002,1.0000000000000002,1.0000000000000002,1.0000000000000002,1.0000000000000002,1.0000000000000002,1.0000000000000002,1.0000000000000002,1.0000000000000002,1.0000000000000002,1.0000000000000002]
[]
[null,null,null,"Sources","DOE Automatic Commercial Ice Makers 2014, Notice of Proposed Rulemaking (NOPR) Technical Support Document Chapter 10, Table 10.2.2 Base Case Shipment Weighted Market Shares by Efficiency Level (page 10-3); TSL 3 is proposed in the NOPR. TSL 3 corresponds to different EL's for different product classes"]
[]
[]
[]
[null,null,null,{"$f":"CONCATENATE('Efficiency Levels'!$C247,\" - \",'Efficiency Levels'!$D247)","v":"PC15 - Self-Contained Unit-Air-Cooled-Small-Continuous"}]
[]
[null,null,null,"PRE-Case",null,"Static Distribution"]
[null,null,null,"Efficiency Level","EL (kWh/day)",2006,null,1990,{"$f":"H432+1","v":1991},{"$f":"I432+1","v":1992},{"$f":"J432+1","v":1993},{"$f":"K432+1","v":1994},{"$f":"L432+1","v":1995},{"$f":"M432+1","v":1996},{"$f":"N432+1","v":1997},{"$f":"O432+1","v":1998},{"$f":"P432+1","v":1999},{"$f":"Q432+1","v":2000},{"$f":"R432+1","v":2001},{"$f":"S432+1","v":2002},{"$f":"T432+1","v":2003},{"$f":"U432+1","v":2004},{"$f":"V432+1","v":2005},{"$f":"W432+1","v":2006},{"$f":"X432+1","v":2007},{"$f":"Y432+1","v":2008},{"$f":"Z432+1","v":2009},{"$f":"AA432+1","v":2010},{"$f":"AB432+1","v":2011},{"$f":"AC432+1","v":2012},{"$f":"AD432+1","v":2013},{"$f":"AE432+1","v":2014},{"$f":"AF432+1","v":2015},{"$f":"AG432+1","v":2016},{"$f":"AH432+1","v":2017},{"$f":"AI432+1","v":2018},{"$f":"AJ432+1","v":2019},{"$f":"AK432+1","v":2020},{"$f":"AL432+1","v":2021},{"$f":"AM432+1","v":2022},{"$f":"AN432+1","v":2023},{"$f":"AO432+1","v":2024},{"$f":"AP432+1","v":2025},{"$f":"AQ432+1","v":2026},{"$f":"AR432+1","v":2027},{"$f":"AS432+1","v":2028},{"$f":"AT432+1","v":2029},{"$f":"AU432+1","v":2030},{"$f":"AV432+1","v":2031},{"$f":"AW432+1","v":2032},{"$f":"AX432+1","v":2033},{"$f":"AY432+1","v":2034}]
[null,null,null,{"$f":"'Efficiency Levels'!C250","v":"EL0"},{"$f":"'Efficiency Levels'!D250","v":2192.0075000000002},0.26666666666666666,null,{"$f":"$F433","v":0.26666666666666666},{"$f":"$F433","v":0.26666666666666666},0.26666666666666666,0.26666666666666666,0.26666666666666666,0.26666666666666666,0.26666666666666666,0.26666666666666666,0.26666666666666666,0.26666666666666666,0.26666666666666666,0.26666666666666666,0.26666666666666666,0.26666666666666666,0.26666666666666666,0.26666666666666666,0.26666666666666666,0.26666666666666666,0.26666666666666666,0.26666666666666666,0.26666666666666666,0.26666666666666666,0.26666666666666666,0.26666666666666666,0.26666666666666666,0.26666666666666666,0.26666666666666666,0.26666666666666666,0.26666666666666666,0.26666666666666666,0.26666666666666666,0.26666666666666666,0.26666666666666666,0.26666666666666666,0.26666666666666666,0.26666666666666666,0.26666666666666666,0.26666666666666666,0.26666666666666666,0.26666666666666666,0.26666666666666666,0.26666666666666666,0.26666666666666666,0.26666666666666666,0.26666666666666666]
[null,null,null,{"$f":"'Efficiency Levels'!C251","v":"EL1"},{"$f":"'Efficiency Levels'!D251","v":2040.0999750000001},0.2,null,{"$f":"$F434","v":0.2},0.2,0.2,0.2,0.2,0.2,0.2,0.2,0.2,0.2,0.2,0.2,0.2,0.2,0.2,0.2,0.2,0.2,0.2,0.2,0.2,0.2,0.2,0.2,0.2,0.2,0.2,0.2,0.2,0.2,0.2,0.2,0.2,0.2,0.2,0.2,0.2,0.2,0.2,0.2,0.2,0.2,0.2,0.2,0.2]
[null,null,null,{"$f":"'Efficiency Levels'!C252","v":"EL2"},{"$f":"'Efficiency Levels'!D252","v":1866.4913750000001},0.16666666666666666,null,0.16666666666666666,0.16666666666666666,0.16666666666666666,0.16666666666666666,0.16666666666666666,0.16666666666666666,0.16666666666666666,0.16666666666666666,0.16666666666666666,0.16666666666666666,0.16666666666666666,0.16666666666666666,0.16666666666666666,0.16666666666666666,0.16666666666666666,0.16666666666666666,0.16666666666666666,0.16666666666666666,0.16666666666666666,0.16666666666666666,0.16666666666666666,0.16666666666666666,0.16666666666666666,0.16666666666666666,0.16666666666666666,0.16666666666666666,0.16666666666666666,0.16666666666666666,0.16666666666666666,0.16666666666666666,0.16666666666666666,0.16666666666666666,0.16666666666666666,0.16666666666666666,0.16666666666666666,0.16666666666666666,0.16666666666666666,0.16666666666666666,0.16666666666666666,0.16666666666666666,0.16666666666666666,0.16666666666666666,0.16666666666666666,0.16666666666666666,0.16666666666666666]
[null,null,null,{"$f":"'Efficiency Levels'!C253","v":"EL3"},{"$f":"'Efficiency Levels'!D253","v":1757.9860000000006},0.13333333333333333,null,0.13333333333333333,0.13333333333333333,0.13333333333333333,0.13333333333333333,0.13333333333333333,0.13333333333333333,0.13333333333333333,0.13333333333333333,0.13333333333333333,0.13333333333333333,0.13333333333333333,0.13333333333333333,0.13333333333333333,0.13333333333333333,0.13333333333333333,0.13333333333333333,0.13333333333333333,0.13333333333333333,0.13333333333333333,0.13333333333333333,0.13333333333333333,0.13333333333333333,0.13333333333333333,0.13333333333333333,0.13333333333333333,0.13333333333333333,0.13333333333333333,0.13333333333333333,0.13333333333333333,0.13333333333333333,0.13333333333333333,0.13333333333333333,0.13333333333333333,0.13333333333333333,0.13333333333333333,0.13333333333333333,0.13333333333333333,0.13333333333333333,0.13333333333333333,0.13333333333333333,0.13333333333333333,0.13333333333333333,0.13333333333333333,0.13333333333333333,0.13333333333333333]
[null,null,null,{"$f":"'Efficiency Levels'!C254","v":"EL4"},{"$f":"'Efficiency Levels'!D254","v":1649.4806250000004},3.3333333333333333E-2,null,3.3333333333333333E-2,3.3333333333333333E-2,3.3333333333333333E-2,3.3333333333333333E-2,3.3333333333333333E-2,3.3333333333333333E-2,3.3333333333333333E-2,3.3333333333333333E-2,3.3333333333333333E-2,3.3333333333333333E-2,3.3333333333333333E-2,3.3333333333333333E-2,3.3333333333333333E-2,3.3333333333333333E-2,3.3333333333333333E-2,3.3333333333333333E-2,3.3333333333333333E-2,3.3333333333333333E-2,3.3333333333333333E-2,3.3333333333333333E-2,3.3333333333333333E-2,3.3333333333333333E-2,3.3333333333333333E-2,3.3333333333333333E-2,3.3333333333333333E-2,3.3333333333333333E-2,3.3333333333333333E-2,3.3333333333333333E-2,3.3333333333333333E-2,3.3333333333333333E-2,3.3333333333333333E-2,3.3333333333333333E-2,3.3333333333333333E-2,3.3333333333333333E-2,3.3333333333333333E-2,3.3333333333333333E-2,3.3333333333333333E-2,3.3333333333333333E-2,3.3333333333333333E-2,3.3333333333333333E-2,3.3333333333333333E-2,3.3333333333333333E-2,3.3333333333333333E-2,3.3333333333333333E-2,3.3333333333333333E-2]
[null,null,null,{"$f":"'Efficiency Levels'!C255","v":"EL5"},{"$f":"'Efficiency Levels'!D255","v":1580.0940055387719},0.2,null,0.2,0.2,0.2,0.2,0.2,0.2,0.2,0.2,0.2,0.2,0.2,0.2,0.2,0.2,0.2,0.2,0.2,0.2,0.2,0.2,0.2,0.2,0.2,0.2,0.2,0.2,0.2,0.2,0.2,0.2,0.2,0.2,0.2,0.2,0.2,0.2,0.2,0.2,0.2,0.2,0.2,0.2,0.2,0.2,0.2]
[null,null,null,{"$f":"'Efficiency Levels'!C256","v":"EL6"},{"$f":"'Efficiency Levels'!D256","v":0},0,null,0,0,0,0,0,0,0,{"$f":"$F439","v":0},0,0,0,0,0,0,0,0,0,0,0,0,0,0,0,0,0,0,0,0,0,0,0,0,0,0,0,0,0,0,0,0,0,0,0,0,0]
[null,null,null,{"$f":"'Efficiency Levels'!C257","v":"EL7"},{"$f":"'Efficiency Levels'!D257","v":0},0,null,0,0,0,0,0,0,0,0,0,0,0,0,0,0,0,0,0,0,0,0,0,0,0,0,0,0,0,0,0,0,0,0,0,0,0,0,0,0,0,0,0,0,0,0,0]
[null,null,null,"TOTAL",null,{"$f":"SUM(F433:F440)","v":1},null,{"$f":"SUM(H433:H440)","v":1},1,1,1,1,1,1,1,1,1,1,1,1,1,1,1,1,1,1,1,1,1,1,1,1,1,1,1,1,1,1,1,1,1,1,1,1,1,1,1,1,1,1,1,1]
[]
[null,null,null,"POST-Case"]
[null,null,null,"Efficiency Level","EL (kWh/day)",null,null,1990,{"$f":"H444+1","v":1991},{"$f":"I444+1","v":1992},{"$f":"J444+1","v":1993},{"$f":"K444+1","v":1994},{"$f":"L444+1","v":1995},{"$f":"M444+1","v":1996},{"$f":"N444+1","v":1997},{"$f":"O444+1","v":1998},{"$f":"P444+1","v":1999},{"$f":"Q444+1","v":2000},{"$f":"R444+1","v":2001},{"$f":"S444+1","v":2002},{"$f":"T444+1","v":2003},{"$f":"U444+1","v":2004},{"$f":"V444+1","v":2005},{"$f":"X432","v":2006},2007,2008,2009,2010,2011,2012,2013,2014,2015,2016,2017,2018,2019,2020,2021,2022,2023,2024,2025,2026,2027,2028,2029,2030,2031,2032,2033,2034]
[null,null,null,{"$f":"'Efficiency Levels'!C250","v":"EL0"},{"$f":"'Efficiency Levels'!D250","v":2192.0075000000002},null,null,{"$f":"H433","v":0.26666666666666666},{"$f":"I433","v":0.26666666666666666},0.26666666666666666,0.26666666666666666,0.26666666666666666,0.26666666666666666,0.26666666666666666,0.26666666666666666,0.26666666666666666,0.26666666666666666,0.26666666666666666,0.26666666666666666,0.26666666666666666,0.26666666666666666,0.26666666666666666,0.26666666666666666,0.26666666666666666,0.26666666666666666,0.26666666666666666,0.26666666666666666,0.26666666666666666,0.26666666666666666,0.26666666666666666,0.26666666666666666,0.26666666666666666,0.26666666666666666,0.26666666666666666,0.26666666666666666,0,0,0,0,0,0,0,0,0,0,0,0,0,0,0,0,0]
[null,null,null,{"$f":"'Efficiency Levels'!C251","v":"EL1"},{"$f":"'Efficiency Levels'!D251","v":2040.0999750000001},null,null,{"$f":"H434","v":0.2},{"$f":"I434","v":0.2},0.2,0.2,0.2,0.2,0.2,0.2,0.2,0.2,0.2,0.2,0.2,0.2,0.2,0.2,0.2,0.2,0.2,0.2,0.2,0.2,0.2,0.2,0.2,0.2,0.2,0.2,0,0,0,0,0,0,0,0,0,0,0,0,0,0,0,0,0]
[null,null,null,{"$f":"'Efficiency Levels'!C252","v":"EL2"},{"$f":"'Efficiency Levels'!D252","v":1866.4913750000001},null,null,{"$f":"H435","v":0.16666666666666666},0.16666666666666666,0.16666666666666666,0.16666666666666666,0.16666666666666666,0.16666666666666666,0.16666666666666666,0.16666666666666666,0.16666666666666666,0.16666666666666666,0.16666666666666666,0.16666666666666666,0.16666666666666666,0.16666666666666666,0.16666666666666666,0.16666666666666666,0.16666666666666666,0.16666666666666666,0.16666666666666666,0.16666666666666666,0.16666666666666666,0.16666666666666666,0.16666666666666666,0.16666666666666666,0.16666666666666666,0.16666666666666666,0.16666666666666666,0.16666666666666666,0,0,0,0,0,0,0,0,0,0,0,0,0,0,0,0,0]
[null,null,null,{"$f":"'Efficiency Levels'!C253","v":"EL3"},{"$f":"'Efficiency Levels'!D253","v":1757.9860000000006},null,null,{"$f":"H436","v":0.13333333333333333},0.13333333333333333,0.13333333333333333,0.13333333333333333,0.13333333333333333,0.13333333333333333,0.13333333333333333,0.13333333333333333,0.13333333333333333,0.13333333333333333,0.13333333333333333,0.13333333333333333,0.13333333333333333,0.13333333333333333,0.13333333333333333,0.13333333333333333,0.13333333333333333,0.13333333333333333,0.13333333333333333,0.13333333333333333,0.13333333333333333,0.13333333333333333,0.13333333333333333,0.13333333333333333,0.13333333333333333,0.13333333333333333,0.13333333333333333,0.13333333333333333,0.76666666666666661,0.76666666666666661,0.76666666666666661,0.76666666666666661,0.76666666666666661,0.76666666666666661,0.76666666666666661,0.76666666666666661,0.76666666666666661,0.76666666666666661,0.76666666666666661,0.76666666666666661,0.76666666666666661,0.76666666666666661,0.76666666666666661,0.76666666666666661,0.76666666666666661]
[null,null,null,{"$f":"'Efficiency Levels'!C254","v":"EL4"},{"$f":"'Efficiency Levels'!D254","v":1649.4806250000004},null,null,{"$f":"H437","v":3.3333333333333333E-2},3.3333333333333333E-2,3.3333333333333333E-2,3.3333333333333333E-2,3.3333333333333333E-2,3.3333333333333333E-2,3.3333333333333333E-2,3.3333333333333333E-2,3.3333333333333333E-2,3.3333333333333333E-2,3.3333333333333333E-2,3.3333333333333333E-2,3.3333333333333333E-2,3.3333333333333333E-2,3.3333333333333333E-2,3.3333333333333333E-2,3.3333333333333333E-2,3.3333333333333333E-2,3.3333333333333333E-2,3.3333333333333333E-2,3.3333333333333333E-2,3.3333333333333333E-2,3.3333333333333333E-2,3.3333333333333333E-2,3.3333333333333333E-2,3.3333333333333333E-2,3.3333333333333333E-2,3.3333333333333333E-2,3.3333333333333333E-2,3.3333333333333333E-2,3.3333333333333333E-2,3.3333333333333333E-2,3.3333333333333333E-2,3.3333333333333333E-2,3.3333333333333333E-2,3.3333333333333333E-2,3.3333333333333333E-2,3.3333333333333333E-2,3.3333333333333333E-2,3.3333333333333333E-2,3.3333333333333333E-2,3.3333333333333333E-2,3.3333333333333333E-2,3.3333333333333333E-2,3.3333333333333333E-2]
[null,null,null,{"$f":"'Efficiency Levels'!C255","v":"EL5"},{"$f":"'Efficiency Levels'!D255","v":1580.0940055387719},null,null,{"$f":"H438","v":0.2},0.2,0.2,0.2,0.2,0.2,0.2,0.2,0.2,0.2,0.2,0.2,0.2,0.2,0.2,0.2,0.2,0.2,0.2,0.2,0.2,0.2,0.2,0.2,0.2,0.2,0.2,0.2,0.2,0.2,0.2,0.2,0.2,0.2,0.2,0.2,0.2,0.2,0.2,0.2,0.2,0.2,0.2,0.2,0.2]
[null,null,null,{"$f":"'Efficiency Levels'!C256","v":"EL6"},{"$f":"'Efficiency Levels'!D256","v":0},null,null,{"$f":"H439","v":0},0,0,0,0,0,0,0,0,0,0,0,0,0,0,0,0,0,0,0,0,0,0,0,0,0,0,0,0,0,0,0,0,0,0,0,0,0,0,0,0,0,0,0,0]
[null,null,null,{"$f":"'Efficiency Levels'!C257","v":"EL7"},{"$f":"'Efficiency Levels'!D257","v":0},null,null,{"$f":"H440","v":0},0,0,0,0,0,0,0,0,0,0,0,0,0,0,0,0,0,0,0,0,0,0,0,0,0,0,0,0,0,0,0,0,0,0,0,0,0,0,0,0,0,0,0,0]
[null,null,null,"TOTAL",null,null,null,{"$f":"SUM(H445:H452)","v":1},{"$f":"SUM(I445:I452)","v":1},1,1,1,1,1,1,1,1,1,1,1,1,1,1,1,1,1,1,1,1,1,1,1,1,1,1,1,1,1,1,1,1,1,1,1,1,1,1,1,1,1,1,1]
[]
[null,null,null,"Sources","DOE Automatic Commercial Ice Makers 2014, Notice of Proposed Rulemaking (NOPR) Technical Support Document Chapter 10, Table 10.2.2 Base Case Shipment Weighted Market Shares by Efficiency Level (page 10-3); TSL 3 is proposed in the NOPR. TSL 3 corresponds to different EL's for different product classes"]

{"sheet":"6P UEC Development","index":9,"n_rows":74,"n_cols":11,"rows_kept":74,"cut":false,"hidden":false,"merged":[[19,3,20,3],[19,4,20,4],[19,5,19,7],[19,10,20,10],[49,5,51,5]]}
[]
[null,null,"6P UEC Development"]
[]
[null,null,"NAVIGATION"]
[]
[null,null,"COMMENTS"]
[]
[null,null,"UEC CALCULATION"]
[]
[null,null,"Duty Cycle and Percent of Self Contained Ice Makers"]
[null,null,null,"Value"]
[null,null,"Duty Cycle",0.5]
[null,null,"Percent of ice-making heads partitioned to self-contained category",0.5]
[]
[null,null,"Sources:","6P Conservation Supply Curve Files: Refrigerators Freezers Ice Makers Beverage Vending, ‘IceARI’ tab, cells R28:R29 (RTF Recommendation from May 27, 2008; Self-Contained Category for Census Bureau)"]
[]
[]
[]
[null,null,"6P Product Class UEC Calculation with Percent Mix"]
[null,null,null,"Average of Ice Harvest Rate (lb/24hr)","Count of Units averaged in 6P","Percent Mix",null,null,"Energy Use (kWh/100 lbs ice)","Energy Use (kWh/year)","Weighted Energy Savings (kWh/year)"]
[null,null,null,null,null,"Self-contained <200","Self-contained >200","Not Self-contained","Fed Std","Fed Std"]
[null,null,"Ice Making Head - Air (IMH-A) > 200 lb/day",698.625,112,0,{"$f":"E22*$D$13/$G$30","v":0.42264150943396228},{"$f":"E22/SUM(E22:E23)*D13","v":0.23829787234042554},{"$f":"6.89-0.0011*D22","v":6.1215124999999997},{"$f":"I22*365*$D22*$D$13/100","v":7804.8710483203131},{"$f":"$J22*F22+$J22*G22+$J22*H22","v":5158.5466455056458}]
[null,null,"Ice Making Head - Water (IMH-W) > 200 lb/day",931.79674796747963,123,0,{"$f":"E23*$D$13/$G$30","v":0.46415094339622642},{"$f":"E23/SUM(E22:E23)*D13","v":0.26170212765957446},{"$f":"5.58-0.0011*D23","v":4.5550235772357723},7745.9499850348666,{"$f":"$J23*F23+$J23*G23+$J23*H23","v":5622.4215848821932}]
[null,null,"Remote Condensing Unit - Air (RCU-A) > 200 lb/day",1036.3294117647058,170,0,0,{"$f":"1-D13","v":0.5},5.0999999999999996,9645.6359999999986,4822.8179999999993]
[null,null,"Self Contained - Air (SC-A) < 200 lb/day",101.31578947368421,19,{"$f":"E25/SUM(E25,E27)","v":0.6333333333333333},0,0,{"$f":"18-0.0469*D25","v":13.24828947368421},2449.626155644044,1551.4298985745611]
[null,null,"Self Contained - Air (SC-A) > 200 lb/day",244.875,8,0,{"$f":"E26/G30","v":6.0377358490566038E-2},0,9.8000000000000007,4379.5893750000005,264.4280377358491]
[null,null,"Self Contained - Water (SC-W) < 200 lb/day",157,11,{"$f":"E27/SUM(E27,E25)","v":0.36666666666666664},0,0,{"$f":"11.4-0.019*D27","v":8.4169999999999998},2411.6809250000001,884.28300583333328]
[null,null,"Self Contained - Water (SC-W) > 200 lb/day",256.14285714285717,7,0,{"$f":"E28/G30","v":5.2830188679245285E-2},0,7.6,3552.701428571429,187.68988679245285]
[null,null,"Total",null,{"$f":"SUM(E22:E28)","v":450},{"$f":"SUM(F22:F28)","v":1},{"$f":"SUM(G22:G28)","v":1},{"$f":"SUM(H22:H28)","v":1}]
[null,null,null,null,null,"Self Contained > 200 count",{"$f":"E28+E26+E23*D13+E22*D13","v":132.5}]
[]
[]
[null,null,"6P Weighted UEC by Ice Maker Type"]
[null,null,null,"6P Weighted UEC (kWh/year)"]
[null,null,"Self-Contained <200",{"$f":"SUMPRODUCT(F22:F28,J22:J28)","v":2435.7129044078943}]
[null,null,"Self-Contained >200",{"$f":"SUMPRODUCT(G22:G28,J22:J28)","v":7346.0703983817493}]
[null,null,"Not Self-Contained",{"$f":"SUMPRODUCT(H22:H28,J22:J28)","v":8709.83375653439}]
[]
[null,null,"Lifetime (years)",10]
[]
[null,null,"Sources:","Calculated in previous model using data from 6P Conservation Supply Curve Files: Refrigerators Freezers Ice Makers Beverage Vending, ‘IceARI’ tab, cells R31:AG39 (Unknown Origin)"]
[]
[]
[]
[null,null,"Annual US Sales of Ice Makers and Weighted Market Share"]
[null,null,"Ice making Equipment","Approximate Annual Sales in US 2001",null,"Weighted Market Share"]
[null,null,"Self-contained cubers <200 lbs/day",124326,{"$f":"D47/$D$53","v":0.4221094267234794},{"$f":"E47/SUM($E$47:$E$49)","v":0.53377125193199382}]
[null,null,"Self-contained cubers >200 lbs/day",64405,{"$f":"D48/$D$53","v":0.21866671193576315},{"$f":"E48/SUM($E$47:$E$49)","v":0.2765112484973381}]
[null,null,"Not self-contained cubers",44189,0.15002970784456857,0.18971749957066805]
[null,null,"Self-contained flakers <300 lbs/day",3421,1.161491843074677E-2,"Not analyzed in 6P"]
[null,null,"Self-contained falkers >300 lbs/day",8688,2.9497343269900011E-2]
[null,null,"Ice & Drink Dispensers",49506,0.16808189179554212]
[null,null,"Total",294535,1,{"$f":"SUM(F47:F52)","v":1}]
[]
[null,null,"Notes","6P shipment forecast uses a top down approach, where the total number of ice-makers are distributed amongst the different product classes. "]
[null,null,"Sources:","6P Conservation Supply Curve Files: Refrigerators Freezers Ice Makers Beverage Vending, ‘IceARI’ tab, cells A240:C247 (Census Bureau 2002 data)"]
[]
[]
[]
[null,null,"Market Share Calculation"]
[null,null,null,"Energy Use (kWh/year)","Percent Mix (Self-contained <200)","Percent Mix (Self-contained >200)","Percent Mix (Not Self-contained)","Overall Market Share"]
[null,null,"Ice Making Head - Air (IMH-A) > 200 lb/day",{"$f":"VLOOKUP(C62,$C$22:$K$28,8,0)","v":7804.8710483203131},{"$f":"F22","v":0},0.42264150943396228,0.23829787234042554,{"$f":"E62*$F$47+F62*$F$48+G62*$F$49","v":0.16207440793382019}]
[null,null,"Ice Making Head - Water (IMH-W) > 200 lb/day",{"$f":"VLOOKUP(C63,$C$22:$K$28,8,0)","v":7745.9499850348666},0,0.46415094339622642,0.26170212765957446,{"$f":"E63*$F$47+F63*$F$48+G63*$F$49","v":0.17799243014160609}]
[null,null,"Remote Condensing Unit - Air (RCU-A) > 200 lb/day",9645.6359999999986,0,0,0.5,9.4858749785334026E-2]
[null,null,"Self Contained - Air (SC-A) < 200 lb/day",2449.626155644044,0.6333333333333333,0,0,0.33805512622359607]
[null,null,"Self Contained - Air (SC-A) > 200 lb/day",4379.5893750000005,0,6.0377358490566038E-2,0,1.6695018777197774E-2]
[null,null,"Self Contained - Water (SC-W) < 200 lb/day",2411.6809250000001,0.36666666666666664,0,0,0.19571612570839772]
[null,null,"Self Contained - Water (SC-W) > 200 lb/day",3552.701428571429,0,5.2830188679245285E-2,0,1.4608141430048051E-2]
[]
[]
[]
[null,null,"6P Average UEC (kWh/year)",{"$f":"SUMPRODUCT(D35:D37,F47:F49)","v":4983.7925057044931}]
[]
[null,null,"Notes:","Calculated based on 6P weighted UEC (cells D31:D33) and Weighted Market Share (cells F41:F43)"]

{"sheet":"Shipments and Stock ","index":10,"n_rows":18,"n_cols":52,"rows_kept":18,"cut":false,"hidden":false,"merged":[]}
[]
[null,null,"Shipments and Stock"]
[]
[null,null,"NAVIGATION"]
[]
[null,null,"COMMENTS"]
[]
[null,null,"Building Type "]
[null,null,{"$f":"Results!C9","v":"TOTAL"}]
[]
[]
[null,null,"Automatic_Commercial_Icemakers"]
[null,null,null,null,1987,1988,1989,1990,1991,1992,1993,1994,1995,1996,1997,1998,1999,2000,2001,2002,2003,2004,2005,2006,2007,2008,2009,2010,2011,2012,2013,2014,2015,2016,2017,2018,2019,2020,2021,2022,2023,2024,2025,2026,2027,2028,2029,2030,2031,2032,2033,2034]
[null,null,"6P Shipments","(units)","pre-dates plan","pre-dates plan","pre-dates plan","pre-dates plan","pre-dates plan","pre-dates plan","pre-dates plan","pre-dates plan","pre-dates plan","pre-dates plan","pre-dates plan","pre-dates plan","pre-dates plan","pre-dates plan","pre-dates plan","pre-dates plan","pre-dates plan","pre-dates plan","pre-dates plan","pre-dates plan","pre-dates plan","pre-dates plan","pre-dates plan",{"$f":"INDEX('[1]6P Shipments'!$D$11:$L$35,MATCH(AB$13,'[1]6P Shipments'!$C$11:$C$35,0),MATCH($C$12,'[1]6P Shipments'!$D$10:$L$10,0))","v":12270.912420960809},{"$f":"INDEX('[1]6P Shipments'!$D$11:$L$35,MATCH(AC$13,'[1]6P Shipments'!$C$11:$C$35,0),MATCH($C$12,'[1]6P Shipments'!$D$10:$L$10,0))","v":12529.37829218465},{"$f":"INDEX('[1]6P Shipments'!$D$11:$L$35,MATCH(AD$13,'[1]6P Shipments'!$C$11:$C$35,0),MATCH($C$12,'[1]6P Shipments'!$D$10:$L$10,0))","v":12790.314810783333},{"$f":"INDEX('[1]6P Shipments'!$D$11:$L$35,MATCH(AE$13,'[1]6P Shipments'!$C$11:$C$35,0),MATCH($C$12,'[1]6P Shipments'!$D$10:$L$10,0))","v":13056.168520254871},{"$f":"INDEX('[1]6P Shipments'!$D$11:$L$35,MATCH(AF$13,'[1]6P Shipments'!$C$11:$C$35,0),MATCH($C$12,'[1]6P Shipments'!$D$10:$L$10,0))","v":13293.366871082833},{"$f":"INDEX('[1]6P Shipments'!$D$11:$L$35,MATCH(AG$13,'[1]6P Shipments'!$C$11:$C$35,0),MATCH($C$12,'[1]6P Shipments'!$D$10:$L$10,0))","v":13504.418235928928},{"$f":"INDEX('[1]6P Shipments'!$D$11:$L$35,MATCH(AH$13,'[1]6P Shipments'!$C$11:$C$35,0),MATCH($C$12,'[1]6P Shipments'!$D$10:$L$10,0))","v":13691.476895929156},{"$f":"INDEX('[1]6P Shipments'!$D$11:$L$35,MATCH(AI$13,'[1]6P Shipments'!$C$11:$C$35,0),MATCH($C$12,'[1]6P Shipments'!$D$10:$L$10,0))","v":13857.053666001619},{"$f":"INDEX('[1]6P Shipments'!$D$11:$L$35,MATCH(AJ$13,'[1]6P Shipments'!$C$11:$C$35,0),MATCH($C$12,'[1]6P Shipments'!$D$10:$L$10,0))","v":14004.269768288234},{"$f":"INDEX('[1]6P Shipments'!$D$11:$L$35,MATCH(AK$13,'[1]6P Shipments'!$C$11:$C$35,0),MATCH($C$12,'[1]6P Shipments'!$D$10:$L$10,0))","v":14136.889447766236},{"$f":"INDEX('[1]6P Shipments'!$D$11:$L$35,MATCH(AL$13,'[1]6P Shipments'!$C$11:$C$35,0),MATCH($C$12,'[1]6P Shipments'!$D$10:$L$10,0))","v":14257.456543678391},{"$f":"INDEX('[1]6P Shipments'!$D$11:$L$35,MATCH(AM$13,'[1]6P Shipments'!$C$11:$C$35,0),MATCH($C$12,'[1]6P Shipments'!$D$10:$L$10,0))","v":14370.061531188785},{"$f":"INDEX('[1]6P Shipments'!$D$11:$L$35,MATCH(AN$13,'[1]6P Shipments'!$C$11:$C$35,0),MATCH($C$12,'[1]6P Shipments'!$D$10:$L$10,0))","v":14479.423546515816},{"$f":"INDEX('[1]6P Shipments'!$D$11:$L$35,MATCH(AO$13,'[1]6P Shipments'!$C$11:$C$35,0),MATCH($C$12,'[1]6P Shipments'!$D$10:$L$10,0))","v":14588.96926749834},{"$f":"INDEX('[1]6P Shipments'!$D$11:$L$35,MATCH(AP$13,'[1]6P Shipments'!$C$11:$C$35,0),MATCH($C$12,'[1]6P Shipments'!$D$10:$L$10,0))","v":14700.813450824047},{"$f":"INDEX('[1]6P Shipments'!$D$11:$L$35,MATCH(AQ$13,'[1]6P Shipments'!$C$11:$C$35,0),MATCH($C$12,'[1]6P Shipments'!$D$10:$L$10,0))","v":14815.755253201402},{"$f":"INDEX('[1]6P Shipments'!$D$11:$L$35,MATCH(AR$13,'[1]6P Shipments'!$C$11:$C$35,0),MATCH($C$12,'[1]6P Shipments'!$D$10:$L$10,0))","v":14934.188435945201},{"$f":"INDEX('[1]6P Shipments'!$D$11:$L$35,MATCH(AS$13,'[1]6P Shipments'!$C$11:$C$35,0),MATCH($C$12,'[1]6P Shipments'!$D$10:$L$10,0))","v":15056.214284753663},{"$f":"INDEX('[1]6P Shipments'!$D$11:$L$35,MATCH(AT$13,'[1]6P Shipments'!$C$11:$C$35,0),MATCH($C$12,'[1]6P Shipments'!$D$10:$L$10,0))","v":15181.849274429736},{"$f":"INDEX('[1]6P Shipments'!$D$11:$L$35,MATCH(AU$13,'[1]6P Shipments'!$C$11:$C$35,0),MATCH($C$12,'[1]6P Shipments'!$D$10:$L$10,0))","v":15311.460217529502},{"$f":"INDEX('[1]6P Shipments'!$D$11:$L$35,MATCH(AV$13,'[1]6P Shipments'!$C$11:$C$35,0),MATCH($C$12,'[1]6P Shipments'!$D$10:$L$10,0))","v":15444.938633419935},{"$f":"INDEX('[1]6P Shipments'!$D$11:$L$35,MATCH(AW$13,'[1]6P Shipments'!$C$11:$C$35,0),MATCH($C$12,'[1]6P Shipments'!$D$10:$L$10,0))","v":15444.938633419935},{"$f":"INDEX('[1]6P Shipments'!$D$11:$L$35,MATCH(AX$13,'[1]6P Shipments'!$C$11:$C$35,0),MATCH($C$12,'[1]6P Shipments'!$D$10:$L$10,0))","v":15444.938633419935},{"$f":"INDEX('[1]6P Shipments'!$D$11:$L$35,MATCH(AY$13,'[1]6P Shipments'!$C$11:$C$35,0),MATCH($C$12,'[1]6P Shipments'!$D$10:$L$10,0))","v":15444.938633419935},{"$f":"INDEX('[1]6P Shipments'!$D$11:$L$35,MATCH(AZ$13,'[1]6P Shipments'!$C$11:$C$35,0),MATCH($C$12,'[1]6P Shipments'!$D$10:$L$10,0))","v":15444.938633419935}]
[null,null,"Replacement Shipments","(units)",{"$f":"OFFSET(INDEX('[1]SHIPMENTS - TOTAL'!$E$8:$BF$467,MATCH($C$12,'[1]SHIPMENTS - TOTAL'!$C$8:$C$25,0),MATCH(E$13,'[1]SHIPMENTS - TOTAL'!$E$7:$BF$7,0)),MATCH($C$9,'[1]SHIPMENTS - TOTAL'!$D$2:$D$467,0)-1,0)","v":{"$error":"#VALUE!"}},{"$f":"OFFSET(INDEX('[1]SHIPMENTS - TOTAL'!$E$8:$BF$467,MATCH($C$12,'[1]SHIPMENTS - TOTAL'!$C$8:$C$25,0),MATCH(F$13,'[1]SHIPMENTS - TOTAL'!$E$7:$BF$7,0)),MATCH($C$9,'[1]SHIPMENTS - TOTAL'!$D$2:$D$467,0)-1,0)","v":{"$error":"#VALUE!"}},{"$f":"OFFSET(INDEX('[1]SHIPMENTS - TOTAL'!$E$8:$BF$467,MATCH($C$12,'[1]SHIPMENTS - TOTAL'!$C$8:$C$25,0),MATCH(G$13,'[1]SHIPMENTS - TOTAL'!$E$7:$BF$7,0)),MATCH($C$9,'[1]SHIPMENTS - TOTAL'!$D$2:$D$467,0)-1,0)","v":{"$error":"#VALUE!"}},{"$f":"OFFSET(INDEX('[1]SHIPMENTS - TOTAL'!$E$8:$BF$467,MATCH($C$12,'[1]SHIPMENTS - TOTAL'!$C$8:$C$25,0),MATCH(H$13,'[1]SHIPMENTS - TOTAL'!$E$7:$BF$7,0)),MATCH($C$9,'[1]SHIPMENTS - TOTAL'!$D$2:$D$467,0)-1,0)","v":{"$error":"#VALUE!"}},{"$f":"OFFSET(INDEX('[1]SHIPMENTS - TOTAL'!$E$8:$BF$467,MATCH($C$12,'[1]SHIPMENTS - TOTAL'!$C$8:$C$25,0),MATCH(I$13,'[1]SHIPMENTS - TOTAL'!$E$7:$BF$7,0)),MATCH($C$9,'[1]SHIPMENTS - TOTAL'!$D$2:$D$467,0)-1,0)","v":{"$error":"#VALUE!"}},{"$f":"OFFSET(INDEX('[1]SHIPMENTS - TOTAL'!$E$8:$BF$467,MATCH($C$12,'[1]SHIPMENTS - TOTAL'!$C$8:$C$25,0),MATCH(J$13,'[1]SHIPMENTS - TOTAL'!$E$7:$BF$7,0)),MATCH($C$9,'[1]SHIPMENTS - TOTAL'!$D$2:$D$467,0)-1,0)","v":{"$error":"#VALUE!"}},{"$f":"OFFSET(INDEX('[1]SHIPMENTS - TOTAL'!$E$8:$BF$467,MATCH($C$12,'[1]SHIPMENTS - TOTAL'!$C$8:$C$25,0),MATCH(K$13,'[1]SHIPMENTS - TOTAL'!$E$7:$BF$7,0)),MATCH($C$9,'[1]SHIPMENTS - TOTAL'!$D$2:$D$467,0)-1,0)","v":{"$error":"#VALUE!"}},{"$f":"OFFSET(INDEX('[1]SHIPMENTS - TOTAL'!$E$8:$BF$467,MATCH($C$12,'[1]SHIPMENTS - TOTAL'!$C$8:$C$25,0),MATCH(L$13,'[1]SHIPMENTS - TOTAL'!$E$7:$BF$7,0)),MATCH($C$9,'[1]SHIPMENTS - TOTAL'!$D$2:$D$467,0)-1,0)","v":{"$error":"#VALUE!"}},{"$f":"OFFSET(INDEX('[1]SHIPMENTS - TOTAL'!$E$8:$BF$467,MATCH($C$12,'[1]SHIPMENTS - TOTAL'!$C$8:$C$25,0),MATCH(M$13,'[1]SHIPMENTS - TOTAL'!$E$7:$BF$7,0)),MATCH($C$9,'[1]SHIPMENTS - TOTAL'!$D$2:$D$467,0)-1,0)","v":{"$error":"#VALUE!"}},{"$f":"OFFSET(INDEX('[1]SHIPMENTS - TOTAL'!$E$8:$BF$467,MATCH($C$12,'[1]SHIPMENTS - TOTAL'!$C$8:$C$25,0),MATCH(N$13,'[1]SHIPMENTS - TOTAL'!$E$7:$BF$7,0)),MATCH($C$9,'[1]SHIPMENTS - TOTAL'!$D$2:$D$467,0)-1,0)","v":{"$error":"#VALUE!"}},{"$f":"OFFSET(INDEX('[1]SHIPMENTS - TOTAL'!$E$8:$BF$467,MATCH($C$12,'[1]SHIPMENTS - TOTAL'!$C$8:$C$25,0),MATCH(O$13,'[1]SHIPMENTS - TOTAL'!$E$7:$BF$7,0)),MATCH($C$9,'[1]SHIPMENTS - TOTAL'!$D$2:$D$467,0)-1,0)","v":{"$error":"#VALUE!"}},{"$f":"OFFSET(INDEX('[1]SHIPMENTS - TOTAL'!$E$8:$BF$467,MATCH($C$12,'[1]SHIPMENTS - TOTAL'!$C$8:$C$25,0),MATCH(P$13,'[1]SHIPMENTS - TOTAL'!$E$7:$BF$7,0)),MATCH($C$9,'[1]SHIPMENTS - TOTAL'!$D$2:$D$467,0)-1,0)","v":{"$error":"#VALUE!"}},{"$f":"OFFSET(INDEX('[1]SHIPMENTS - TOTAL'!$E$8:$BF$467,MATCH($C$12,'[1]SHIPMENTS - TOTAL'!$C$8:$C$25,0),MATCH(Q$13,'[1]SHIPMENTS - TOTAL'!$E$7:$BF$7,0)),MATCH($C$9,'[1]SHIPMENTS - TOTAL'!$D$2:$D$467,0)-1,0)","v":{"$error":"#VALUE!"}},{"$f":"OFFSET(INDEX('[1]SHIPMENTS - TOTAL'!$E$8:$BF$467,MATCH($C$12,'[1]SHIPMENTS - TOTAL'!$C$8:$C$25,0),MATCH(R$13,'[1]SHIPMENTS - TOTAL'!$E$7:$BF$7,0)),MATCH($C$9,'[1]SHIPMENTS - TOTAL'!$D$2:$D$467,0)-1,0)","v":{"$error":"#VALUE!"}},{"$f":"OFFSET(INDEX('[1]SHIPMENTS - TOTAL'!$E$8:$BF$467,MATCH($C$12,'[1]SHIPMENTS - TOTAL'!$C$8:$C$25,0),MATCH(S$13,'[1]SHIPMENTS - TOTAL'!$E$7:$BF$7,0)),MATCH($C$9,'[1]SHIPMENTS - TOTAL'!$D$2:$D$467,0)-1,0)","v":{"$error":"#VALUE!"}},{"$f":"OFFSET(INDEX('[1]SHIPMENTS - TOTAL'!$E$8:$BF$467,MATCH($C$12,'[1]SHIPMENTS - TOTAL'!$C$8:$C$25,0),MATCH(T$13,'[1]SHIPMENTS - TOTAL'!$E$7:$BF$7,0)),MATCH($C$9,'[1]SHIPMENTS - TOTAL'!$D$2:$D$467,0)-1,0)","v":{"$error":"#VALUE!"}},{"$f":"OFFSET(INDEX('[1]SHIPMENTS - TOTAL'!$E$8:$BF$467,MATCH($C$12,'[1]SHIPMENTS - TOTAL'!$C$8:$C$25,0),MATCH(U$13,'[1]SHIPMENTS - TOTAL'!$E$7:$BF$7,0)),MATCH($C$9,'[1]SHIPMENTS - TOTAL'!$D$2:$D$467,0)-1,0)","v":{"$error":"#VALUE!"}},{"$f":"OFFSET(INDEX('[1]SHIPMENTS - TOTAL'!$E$8:$BF$467,MATCH($C$12,'[1]SHIPMENTS - TOTAL'!$C$8:$C$25,0),MATCH(V$13,'[1]SHIPMENTS - TOTAL'!$E$7:$BF$7,0)),MATCH($C$9,'[1]SHIPMENTS - TOTAL'!$D$2:$D$467,0)-1,0)","v":{"$error":"#VALUE!"}},{"$f":"OFFSET(INDEX('[1]SHIPMENTS - TOTAL'!$E$8:$BF$467,MATCH($C$12,'[1]SHIPMENTS - TOTAL'!$C$8:$C$25,0),MATCH(W$13,'[1]SHIPMENTS - TOTAL'!$E$7:$BF$7,0)),MATCH($C$9,'[1]SHIPMENTS - TOTAL'!$D$2:$D$467,0)-1,0)","v":{"$error":"#VALUE!"}},{"$f":"OFFSET(INDEX('[1]SHIPMENTS - TOTAL'!$E$8:$BF$467,MATCH($C$12,'[1]SHIPMENTS - TOTAL'!$C$8:$C$25,0),MATCH(X$13,'[1]SHIPMENTS - TOTAL'!$E$7:$BF$7,0)),MATCH($C$9,'[1]SHIPMENTS - TOTAL'!$D$2:$D$467,0)-1,0)","v":{"$error":"#VALUE!"}},{"$f":"OFFSET(INDEX('[1]SHIPMENTS - TOTAL'!$E$8:$BF$467,MATCH($C$12,'[1]SHIPMENTS - TOTAL'!$C$8:$C$25,0),MATCH(Y$13,'[1]SHIPMENTS - TOTAL'!$E$7:$BF$7,0)),MATCH($C$9,'[1]SHIPMENTS - TOTAL'!$D$2:$D$467,0)-1,0)","v":{"$error":"#VALUE!"}},{"$f":"OFFSET(INDEX('[1]SHIPMENTS - TOTAL'!$E$8:$BF$467,MATCH($C$12,'[1]SHIPMENTS - TOTAL'!$C$8:$C$25,0),MATCH(Z$13,'[1]SHIPMENTS - TOTAL'!$E$7:$BF$7,0)),MATCH($C$9,'[1]SHIPMENTS - TOTAL'!$D$2:$D$467,0)-1,0)","v":{"$error":"#VALUE!"}},{"$f":"OFFSET(INDEX('[1]SHIPMENTS - TOTAL'!$E$8:$BF$467,MATCH($C$12,'[1]SHIPMENTS - TOTAL'!$C$8:$C$25,0),MATCH(AA$13,'[1]SHIPMENTS - TOTAL'!$E$7:$BF$7,0)),MATCH($C$9,'[1]SHIPMENTS - TOTAL'!$D$2:$D$467,0)-1,0)","v":{"$error":"#VALUE!"}},{"$f":"OFFSET(INDEX('[1]SHIPMENTS - TOTAL'!$E$8:$BF$467,MATCH($C$12,'[1]SHIPMENTS - TOTAL'!$C$8:$C$25,0),MATCH(AB$13,'[1]SHIPMENTS - TOTAL'!$E$7:$BF$7,0)),MATCH($C$9,'[1]SHIPMENTS - TOTAL'!$D$2:$D$467,0)-1,0)","v":{"$error":"#VALUE!"}},{"$f":"OFFSET(INDEX('[1]SHIPMENTS - TOTAL'!$E$8:$BF$467,MATCH($C$12,'[1]SHIPMENTS - TOTAL'!$C$8:$C$25,0),MATCH(AC$13,'[1]SHIPMENTS - TOTAL'!$E$7:$BF$7,0)),MATCH($C$9,'[1]SHIPMENTS - TOTAL'!$D$2:$D$467,0)-1,0)","v":{"$error":"#VALUE!"}},{"$f":"OFFSET(INDEX('[1]SHIPMENTS - TOTAL'!$E$8:$BF$467,MATCH($C$12,'[1]SHIPMENTS - TOTAL'!$C$8:$C$25,0),MATCH(AD$13,'[1]SHIPMENTS - TOTAL'!$E$7:$BF$7,0)),MATCH($C$9,'[1]SHIPMENTS - TOTAL'!$D$2:$D$467,0)-1,0)","v":{"$error":"#VALUE!"}},{"$f":"OFFSET(INDEX('[1]SHIPMENTS - TOTAL'!$E$8:$BF$467,MATCH($C$12,'[1]SHIPMENTS - TOTAL'!$C$8:$C$25,0),MATCH(AE$13,'[1]SHIPMENTS - TOTAL'!$E$7:$BF$7,0)),MATCH($C$9,'[1]SHIPMENTS - TOTAL'!$D$2:$D$467,0)-1,0)","v":{"$error":"#VALUE!"}},{"$f":"OFFSET(INDEX('[1]SHIPMENTS - TOTAL'!$E$8:$BF$467,MATCH($C$12,'[1]SHIPMENTS - TOTAL'!$C$8:$C$25,0),MATCH(AF$13,'[1]SHIPMENTS - TOTAL'!$E$7:$BF$7,0)),MATCH($C$9,'[1]SHIPMENTS - TOTAL'!$D$2:$D$467,0)-1,0)","v":{"$error":"#VALUE!"}},{"$f":"OFFSET(INDEX('[1]SHIPMENTS - TOTAL'!$E$8:$BF$467,MATCH($C$12,'[1]SHIPMENTS - TOTAL'!$C$8:$C$25,0),MATCH(AG$13,'[1]SHIPMENTS - TOTAL'!$E$7:$BF$7,0)),MATCH($C$9,'[1]SHIPMENTS - TOTAL'!$D$2:$D$467,0)-1,0)","v":{"$error":"#VALUE!"}},{"$f":"OFFSET(INDEX('[1]SHIPMENTS - TOTAL'!$E$8:$BF$467,MATCH($C$12,'[1]SHIPMENTS - TOTAL'!$C$8:$C$25,0),MATCH(AH$13,'[1]SHIPMENTS - TOTAL'!$E$7:$BF$7,0)),MATCH($C$9,'[1]SHIPMENTS - TOTAL'!$D$2:$D$467,0)-1,0)","v":{"$error":"#VALUE!"}},{"$f":"OFFSET(INDEX('[1]SHIPMENTS - TOTAL'!$E$8:$BF$467,MATCH($C$12,'[1]SHIPMENTS - TOTAL'!$C$8:$C$25,0),MATCH(AI$13,'[1]SHIPMENTS - TOTAL'!$E$7:$BF$7,0)),MATCH($C$9,'[1]SHIPMENTS - TOTAL'!$D$2:$D$467,0)-1,0)","v":{"$error":"#VALUE!"}},{"$f":"OFFSET(INDEX('[1]SHIPMENTS - TOTAL'!$E$8:$BF$467,MATCH($C$12,'[1]SHIPMENTS - TOTAL'!$C$8:$C$25,0),MATCH(AJ$13,'[1]SHIPMENTS - TOTAL'!$E$7:$BF$7,0)),MATCH($C$9,'[1]SHIPMENTS - TOTAL'!$D$2:$D$467,0)-1,0)","v":{"$error":"#VALUE!"}},{"$f":"OFFSET(INDEX('[1]SHIPMENTS - TOTAL'!$E$8:$BF$467,MATCH($C$12,'[1]SHIPMENTS - TOTAL'!$C$8:$C$25,0),MATCH(AK$13,'[1]SHIPMENTS - TOTAL'!$E$7:$BF$7,0)),MATCH($C$9,'[1]SHIPMENTS - TOTAL'!$D$2:$D$467,0)-1,0)","v":{"$error":"#VALUE!"}},{"$f":"OFFSET(INDEX('[1]SHIPMENTS - TOTAL'!$E$8:$BF$467,MATCH($C$12,'[1]SHIPMENTS - TOTAL'!$C$8:$C$25,0),MATCH(AL$13,'[1]SHIPMENTS - TOTAL'!$E$7:$BF$7,0)),MATCH($C$9,'[1]SHIPMENTS - TOTAL'!$D$2:$D$467,0)-1,0)","v":{"$error":"#VALUE!"}},{"$f":"OFFSET(INDEX('[1]SHIPMENTS - TOTAL'!$E$8:$BF$467,MATCH($C$12,'[1]SHIPMENTS - TOTAL'!$C$8:$C$25,0),MATCH(AM$13,'[1]SHIPMENTS - TOTAL'!$E$7:$BF$7,0)),MATCH($C$9,'[1]SHIPMENTS - TOTAL'!$D$2:$D$467,0)-1,0)","v":{"$error":"#VALUE!"}},{"$f":"OFFSET(INDEX('[1]SHIPMENTS - TOTAL'!$E$8:$BF$467,MATCH($C$12,'[1]SHIPMENTS - TOTAL'!$C$8:$C$25,0),MATCH(AN$13,'[1]SHIPMENTS - TOTAL'!$E$7:$BF$7,0)),MATCH($C$9,'[1]SHIPMENTS - TOTAL'!$D$2:$D$467,0)-1,0)","v":{"$error":"#VALUE!"}},{"$f":"OFFSET(INDEX('[1]SHIPMENTS - TOTAL'!$E$8:$BF$467,MATCH($C$12,'[1]SHIPMENTS - TOTAL'!$C$8:$C$25,0),MATCH(AO$13,'[1]SHIPMENTS - TOTAL'!$E$7:$BF$7,0)),MATCH($C$9,'[1]SHIPMENTS - TOTAL'!$D$2:$D$467,0)-1,0)","v":{"$error":"#VALUE!"}},{"$f":"OFFSET(INDEX('[1]SHIPMENTS - TOTAL'!$E$8:$BF$467,MATCH($C$12,'[1]SHIPMENTS - TOTAL'!$C$8:$C$25,0),MATCH(AP$13,'[1]SHIPMENTS - TOTAL'!$E$7:$BF$7,0)),MATCH($C$9,'[1]SHIPMENTS - TOTAL'!$D$2:$D$467,0)-1,0)","v":{"$error":"#VALUE!"}},{"$f":"OFFSET(INDEX('[1]SHIPMENTS - TOTAL'!$E$8:$BF$467,MATCH($C$12,'[1]SHIPMENTS - TOTAL'!$C$8:$C$25,0),MATCH(AQ$13,'[1]SHIPMENTS - TOTAL'!$E$7:$BF$7,0)),MATCH($C$9,'[1]SHIPMENTS - TOTAL'!$D$2:$D$467,0)-1,0)","v":{"$error":"#VALUE!"}},{"$f":"OFFSET(INDEX('[1]SHIPMENTS - TOTAL'!$E$8:$BF$467,MATCH($C$12,'[1]SHIPMENTS - TOTAL'!$C$8:$C$25,0),MATCH(AR$13,'[1]SHIPMENTS - TOTAL'!$E$7:$BF$7,0)),MATCH($C$9,'[1]SHIPMENTS - TOTAL'!$D$2:$D$467,0)-1,0)","v":{"$error":"#VALUE!"}},{"$f":"OFFSET(INDEX('[1]SHIPMENTS - TOTAL'!$E$8:$BF$467,MATCH($C$12,'[1]SHIPMENTS - TOTAL'!$C$8:$C$25,0),MATCH(AS$13,'[1]SHIPMENTS - TOTAL'!$E$7:$BF$7,0)),MATCH($C$9,'[1]SHIPMENTS - TOTAL'!$D$2:$D$467,0)-1,0)","v":{"$error":"#VALUE!"}},{"$f":"OFFSET(INDEX('[1]SHIPMENTS - TOTAL'!$E$8:$BF$467,MATCH($C$12,'[1]SHIPMENTS - TOTAL'!$C$8:$C$25,0),MATCH(AT$13,'[1]SHIPMENTS - TOTAL'!$E$7:$BF$7,0)),MATCH($C$9,'[1]SHIPMENTS - TOTAL'!$D$2:$D$467,0)-1,0)","v":{"$error":"#VALUE!"}},{"$f":"OFFSET(INDEX('[1]SHIPMENTS - TOTAL'!$E$8:$BF$467,MATCH($C$12,'[1]SHIPMENTS - TOTAL'!$C$8:$C$25,0),MATCH(AU$13,'[1]SHIPMENTS - TOTAL'!$E$7:$BF$7,0)),MATCH($C$9,'[1]SHIPMENTS - TOTAL'!$D$2:$D$467,0)-1,0)","v":{"$error":"#VALUE!"}},{"$f":"OFFSET(INDEX('[1]SHIPMENTS - TOTAL'!$E$8:$BF$467,MATCH($C$12,'[1]SHIPMENTS - TOTAL'!$C$8:$C$25,0),MATCH(AV$13,'[1]SHIPMENTS - TOTAL'!$E$7:$BF$7,0)),MATCH($C$9,'[1]SHIPMENTS - TOTAL'!$D$2:$D$467,0)-1,0)","v":{"$error":"#VALUE!"}},{"$f":"OFFSET(INDEX('[1]SHIPMENTS - TOTAL'!$E$8:$BF$467,MATCH($C$12,'[1]SHIPMENTS - TOTAL'!$C$8:$C$25,0),MATCH(AW$13,'[1]SHIPMENTS - TOTAL'!$E$7:$BF$7,0)),MATCH($C$9,'[1]SHIPMENTS - TOTAL'!$D$2:$D$467,0)-1,0)","v":{"$error":"#VALUE!"}},{"$f":"OFFSET(INDEX('[1]SHIPMENTS - TOTAL'!$E$8:$BF$467,MATCH($C$12,'[1]SHIPMENTS - TOTAL'!$C$8:$C$25,0),MATCH(AX$13,'[1]SHIPMENTS - TOTAL'!$E$7:$BF$7,0)),MATCH($C$9,'[1]SHIPMENTS - TOTAL'!$D$2:$D$467,0)-1,0)","v":{"$error":"#VALUE!"}},{"$f":"OFFSET(INDEX('[1]SHIPMENTS - TOTAL'!$E$8:$BF$467,MATCH($C$12,'[1]SHIPMENTS - TOTAL'!$C$8:$C$25,0),MATCH(AY$13,'[1]SHIPMENTS - TOTAL'!$E$7:$BF$7,0)),MATCH($C$9,'[1]SHIPMENTS - TOTAL'!$D$2:$D$467,0)-1,0)","v":{"$error":"#VALUE!"}},{"$f":"OFFSET(INDEX('[1]SHIPMENTS - TOTAL'!$E$8:$BF$467,MATCH($C$12,'[1]SHIPMENTS - TOTAL'!$C$8:$C$25,0),MATCH(AZ$13,'[1]SHIPMENTS - TOTAL'!$E$7:$BF$7,0)),MATCH($C$9,'[1]SHIPMENTS - TOTAL'!$D$2:$D$467,0)-1,0)","v":{"$error":"#VALUE!"}}]
[null,null,"Net New Shipments","(units)",{"$f":"OFFSET(INDEX('[1]SHIPMENTS - TOTAL'!$E$8:$BF$467,MATCH($C$12,'[1]SHIPMENTS - TOTAL'!$C$8:$C$25,0),MATCH(E$13,'[1]SHIPMENTS - TOTAL'!$E$7:$BF$7,0)),MATCH($C$9,'[1]SHIPMENTS - TOTAL'!$D$2:$D$467,0)-1+1,0)","v":{"$error":"#VALUE!"}},{"$f":"OFFSET(INDEX('[1]SHIPMENTS - TOTAL'!$E$8:$BF$467,MATCH($C$12,'[1]SHIPMENTS - TOTAL'!$C$8:$C$25,0),MATCH(F$13,'[1]SHIPMENTS - TOTAL'!$E$7:$BF$7,0)),MATCH($C$9,'[1]SHIPMENTS - TOTAL'!$D$2:$D$467,0)-1+1,0)","v":{"$error":"#VALUE!"}},{"$f":"OFFSET(INDEX('[1]SHIPMENTS - TOTAL'!$E$8:$BF$467,MATCH($C$12,'[1]SHIPMENTS - TOTAL'!$C$8:$C$25,0),MATCH(G$13,'[1]SHIPMENTS - TOTAL'!$E$7:$BF$7,0)),MATCH($C$9,'[1]SHIPMENTS - TOTAL'!$D$2:$D$467,0)-1+1,0)","v":{"$error":"#VALUE!"}},{"$f":"OFFSET(INDEX('[1]SHIPMENTS - TOTAL'!$E$8:$BF$467,MATCH($C$12,'[1]SHIPMENTS - TOTAL'!$C$8:$C$25,0),MATCH(H$13,'[1]SHIPMENTS - TOTAL'!$E$7:$BF$7,0)),MATCH($C$9,'[1]SHIPMENTS - TOTAL'!$D$2:$D$467,0)-1+1,0)","v":{"$error":"#VALUE!"}},{"$f":"OFFSET(INDEX('[1]SHIPMENTS - TOTAL'!$E$8:$BF$467,MATCH($C$12,'[1]SHIPMENTS - TOTAL'!$C$8:$C$25,0),MATCH(I$13,'[1]SHIPMENTS - TOTAL'!$E$7:$BF$7,0)),MATCH($C$9,'[1]SHIPMENTS - TOTAL'!$D$2:$D$467,0)-1+1,0)","v":{"$error":"#VALUE!"}},{"$f":"OFFSET(INDEX('[1]SHIPMENTS - TOTAL'!$E$8:$BF$467,MATCH($C$12,'[1]SHIPMENTS - TOTAL'!$C$8:$C$25,0),MATCH(J$13,'[1]SHIPMENTS - TOTAL'!$E$7:$BF$7,0)),MATCH($C$9,'[1]SHIPMENTS - TOTAL'!$D$2:$D$467,0)-1+1,0)","v":{"$error":"#VALUE!"}},{"$f":"OFFSET(INDEX('[1]SHIPMENTS - TOTAL'!$E$8:$BF$467,MATCH($C$12,'[1]SHIPMENTS - TOTAL'!$C$8:$C$25,0),MATCH(K$13,'[1]SHIPMENTS - TOTAL'!$E$7:$BF$7,0)),MATCH($C$9,'[1]SHIPMENTS - TOTAL'!$D$2:$D$467,0)-1+1,0)","v":{"$error":"#VALUE!"}},{"$f":"OFFSET(INDEX('[1]SHIPMENTS - TOTAL'!$E$8:$BF$467,MATCH($C$12,'[1]SHIPMENTS - TOTAL'!$C$8:$C$25,0),MATCH(L$13,'[1]SHIPMENTS - TOTAL'!$E$7:$BF$7,0)),MATCH($C$9,'[1]SHIPMENTS - TOTAL'!$D$2:$D$467,0)-1+1,0)","v":{"$error":"#VALUE!"}},{"$f":"OFFSET(INDEX('[1]SHIPMENTS - TOTAL'!$E$8:$BF$467,MATCH($C$12,'[1]SHIPMENTS - TOTAL'!$C$8:$C$25,0),MATCH(M$13,'[1]SHIPMENTS - TOTAL'!$E$7:$BF$7,0)),MATCH($C$9,'[1]SHIPMENTS - TOTAL'!$D$2:$D$467,0)-1+1,0)","v":{"$error":"#VALUE!"}},{"$f":"OFFSET(INDEX('[1]SHIPMENTS - TOTAL'!$E$8:$BF$467,MATCH($C$12,'[1]SHIPMENTS - TOTAL'!$C$8:$C$25,0),MATCH(N$13,'[1]SHIPMENTS - TOTAL'!$E$7:$BF$7,0)),MATCH($C$9,'[1]SHIPMENTS - TOTAL'!$D$2:$D$467,0)-1+1,0)","v":{"$error":"#VALUE!"}},{"$f":"OFFSET(INDEX('[1]SHIPMENTS - TOTAL'!$E$8:$BF$467,MATCH($C$12,'[1]SHIPMENTS - TOTAL'!$C$8:$C$25,0),MATCH(O$13,'[1]SHIPMENTS - TOTAL'!$E$7:$BF$7,0)),MATCH($C$9,'[1]SHIPMENTS - TOTAL'!$D$2:$D$467,0)-1+1,0)","v":{"$error":"#VALUE!"}},{"$f":"OFFSET(INDEX('[1]SHIPMENTS - TOTAL'!$E$8:$BF$467,MATCH($C$12,'[1]SHIPMENTS - TOTAL'!$C$8:$C$25,0),MATCH(P$13,'[1]SHIPMENTS - TOTAL'!$E$7:$BF$7,0)),MATCH($C$9,'[1]SHIPMENTS - TOTAL'!$D$2:$D$467,0)-1+1,0)","v":{"$error":"#VALUE!"}},{"$f":"OFFSET(INDEX('[1]SHIPMENTS - TOTAL'!$E$8:$BF$467,MATCH($C$12,'[1]SHIPMENTS - TOTAL'!$C$8:$C$25,0),MATCH(Q$13,'[1]SHIPMENTS - TOTAL'!$E$7:$BF$7,0)),MATCH($C$9,'[1]SHIPMENTS - TOTAL'!$D$2:$D$467,0)-1+1,0)","v":{"$error":"#VALUE!"}},{"$f":"OFFSET(INDEX('[1]SHIPMENTS - TOTAL'!$E$8:$BF$467,MATCH($C$12,'[1]SHIPMENTS - TOTAL'!$C$8:$C$25,0),MATCH(R$13,'[1]SHIPMENTS - TOTAL'!$E$7:$BF$7,0)),MATCH($C$9,'[1]SHIPMENTS - TOTAL'!$D$2:$D$467,0)-1+1,0)","v":{"$error":"#VALUE!"}},{"$f":"OFFSET(INDEX('[1]SHIPMENTS - TOTAL'!$E$8:$BF$467,MATCH($C$12,'[1]SHIPMENTS - TOTAL'!$C$8:$C$25,0),MATCH(S$13,'[1]SHIPMENTS - TOTAL'!$E$7:$BF$7,0)),MATCH($C$9,'[1]SHIPMENTS - TOTAL'!$D$2:$D$467,0)-1+1,0)","v":{"$error":"#VALUE!"}},{"$f":"OFFSET(INDEX('[1]SHIPMENTS - TOTAL'!$E$8:$BF$467,MATCH($C$12,'[1]SHIPMENTS - TOTAL'!$C$8:$C$25,0),MATCH(T$13,'[1]SHIPMENTS - TOTAL'!$E$7:$BF$7,0)),MATCH($C$9,'[1]SHIPMENTS - TOTAL'!$D$2:$D$467,0)-1+1,0)","v":{"$error":"#VALUE!"}},{"$f":"OFFSET(INDEX('[1]SHIPMENTS - TOTAL'!$E$8:$BF$467,MATCH($C$12,'[1]SHIPMENTS - TOTAL'!$C$8:$C$25,0),MATCH(U$13,'[1]SHIPMENTS - TOTAL'!$E$7:$BF$7,0)),MATCH($C$9,'[1]SHIPMENTS - TOTAL'!$D$2:$D$467,0)-1+1,0)","v":{"$error":"#VALUE!"}},{"$f":"OFFSET(INDEX('[1]SHIPMENTS - TOTAL'!$E$8:$BF$467,MATCH($C$12,'[1]SHIPMENTS - TOTAL'!$C$8:$C$25,0),MATCH(V$13,'[1]SHIPMENTS - TOTAL'!$E$7:$BF$7,0)),MATCH($C$9,'[1]SHIPMENTS - TOTAL'!$D$2:$D$467,0)-1+1,0)","v":{"$error":"#VALUE!"}},{"$f":"OFFSET(INDEX('[1]SHIPMENTS - TOTAL'!$E$8:$BF$467,MATCH($C$12,'[1]SHIPMENTS - TOTAL'!$C$8:$C$25,0),MATCH(W$13,'[1]SHIPMENTS - TOTAL'!$E$7:$BF$7,0)),MATCH($C$9,'[1]SHIPMENTS - TOTAL'!$D$2:$D$467,0)-1+1,0)","v":{"$error":"#VALUE!"}},{"$f":"OFFSET(INDEX('[1]SHIPMENTS - TOTAL'!$E$8:$BF$467,MATCH($C$12,'[1]SHIPMENTS - TOTAL'!$C$8:$C$25,0),MATCH(X$13,'[1]SHIPMENTS - TOTAL'!$E$7:$BF$7,0)),MATCH($C$9,'[1]SHIPMENTS - TOTAL'!$D$2:$D$467,0)-1+1,0)","v":{"$error":"#VALUE!"}},{"$f":"OFFSET(INDEX('[1]SHIPMENTS - TOTAL'!$E$8:$BF$467,MATCH($C$12,'[1]SHIPMENTS - TOTAL'!$C$8:$C$25,0),MATCH(Y$13,'[1]SHIPMENTS - TOTAL'!$E$7:$BF$7,0)),MATCH($C$9,'[1]SHIPMENTS - TOTAL'!$D$2:$D$467,0)-1+1,0)","v":{"$error":"#VALUE!"}},{"$f":"OFFSET(INDEX('[1]SHIPMENTS - TOTAL'!$E$8:$BF$467,MATCH($C$12,'[1]SHIPMENTS - TOTAL'!$C$8:$C$25,0),MATCH(Z$13,'[1]SHIPMENTS - TOTAL'!$E$7:$BF$7,0)),MATCH($C$9,'[1]SHIPMENTS - TOTAL'!$D$2:$D$467,0)-1+1,0)","v":{"$error":"#VALUE!"}},{"$f":"OFFSET(INDEX('[1]SHIPMENTS - TOTAL'!$E$8:$BF$467,MATCH($C$12,'[1]SHIPMENTS - TOTAL'!$C$8:$C$25,0),MATCH(AA$13,'[1]SHIPMENTS - TOTAL'!$E$7:$BF$7,0)),MATCH($C$9,'[1]SHIPMENTS - TOTAL'!$D$2:$D$467,0)-1+1,0)","v":{"$error":"#VALUE!"}},{"$f":"OFFSET(INDEX('[1]SHIPMENTS - TOTAL'!$E$8:$BF$467,MATCH($C$12,'[1]SHIPMENTS - TOTAL'!$C$8:$C$25,0),MATCH(AB$13,'[1]SHIPMENTS - TOTAL'!$E$7:$BF$7,0)),MATCH($C$9,'[1]SHIPMENTS - TOTAL'!$D$2:$D$467,0)-1+1,0)","v":{"$error":"#VALUE!"}},{"$f":"OFFSET(INDEX('[1]SHIPMENTS - TOTAL'!$E$8:$BF$467,MATCH($C$12,'[1]SHIPMENTS - TOTAL'!$C$8:$C$25,0),MATCH(AC$13,'[1]SHIPMENTS - TOTAL'!$E$7:$BF$7,0)),MATCH($C$9,'[1]SHIPMENTS - TOTAL'!$D$2:$D$467,0)-1+1,0)","v":{"$error":"#VALUE!"}},{"$f":"OFFSET(INDEX('[1]SHIPMENTS - TOTAL'!$E$8:$BF$467,MATCH($C$12,'[1]SHIPMENTS - TOTAL'!$C$8:$C$25,0),MATCH(AD$13,'[1]SHIPMENTS - TOTAL'!$E$7:$BF$7,0)),MATCH($C$9,'[1]SHIPMENTS - TOTAL'!$D$2:$D$467,0)-1+1,0)","v":{"$error":"#VALUE!"}},{"$f":"OFFSET(INDEX('[1]SHIPMENTS - TOTAL'!$E$8:$BF$467,MATCH($C$12,'[1]SHIPMENTS - TOTAL'!$C$8:$C$25,0),MATCH(AE$13,'[1]SHIPMENTS - TOTAL'!$E$7:$BF$7,0)),MATCH($C$9,'[1]SHIPMENTS - TOTAL'!$D$2:$D$467,0)-1+1,0)","v":{"$error":"#VALUE!"}},{"$f":"OFFSET(INDEX('[1]SHIPMENTS - TOTAL'!$E$8:$BF$467,MATCH($C$12,'[1]SHIPMENTS - TOTAL'!$C$8:$C$25,0),MATCH(AF$13,'[1]SHIPMENTS - TOTAL'!$E$7:$BF$7,0)),MATCH($C$9,'[1]SHIPMENTS - TOTAL'!$D$2:$D$467,0)-1+1,0)","v":{"$error":"#VALUE!"}},{"$f":"OFFSET(INDEX('[1]SHIPMENTS - TOTAL'!$E$8:$BF$467,MATCH($C$12,'[1]SHIPMENTS - TOTAL'!$C$8:$C$25,0),MATCH(AG$13,'[1]SHIPMENTS - TOTAL'!$E$7:$BF$7,0)),MATCH($C$9,'[1]SHIPMENTS - TOTAL'!$D$2:$D$467,0)-1+1,0)","v":{"$error":"#VALUE!"}},{"$f":"OFFSET(INDEX('[1]SHIPMENTS - TOTAL'!$E$8:$BF$467,MATCH($C$12,'[1]SHIPMENTS - TOTAL'!$C$8:$C$25,0),MATCH(AH$13,'[1]SHIPMENTS - TOTAL'!$E$7:$BF$7,0)),MATCH($C$9,'[1]SHIPMENTS - TOTAL'!$D$2:$D$467,0)-1+1,0)","v":{"$error":"#VALUE!"}},{"$f":"OFFSET(INDEX('[1]SHIPMENTS - TOTAL'!$E$8:$BF$467,MATCH($C$12,'[1]SHIPMENTS - TOTAL'!$C$8:$C$25,0),MATCH(AI$13,'[1]SHIPMENTS - TOTAL'!$E$7:$BF$7,0)),MATCH($C$9,'[1]SHIPMENTS - TOTAL'!$D$2:$D$467,0)-1+1,0)","v":{"$error":"#VALUE!"}},{"$f":"OFFSET(INDEX('[1]SHIPMENTS - TOTAL'!$E$8:$BF$467,MATCH($C$12,'[1]SHIPMENTS - TOTAL'!$C$8:$C$25,0),MATCH(AJ$13,'[1]SHIPMENTS - TOTAL'!$E$7:$BF$7,0)),MATCH($C$9,'[1]SHIPMENTS - TOTAL'!$D$2:$D$467,0)-1+1,0)","v":{"$error":"#VALUE!"}},{"$f":"OFFSET(INDEX('[1]SHIPMENTS - TOTAL'!$E$8:$BF$467,MATCH($C$12,'[1]SHIPMENTS - TOTAL'!$C$8:$C$25,0),MATCH(AK$13,'[1]SHIPMENTS - TOTAL'!$E$7:$BF$7,0)),MATCH($C$9,'[1]SHIPMENTS - TOTAL'!$D$2:$D$467,0)-1+1,0)","v":{"$error":"#VALUE!"}},{"$f":"OFFSET(INDEX('[1]SHIPMENTS - TOTAL'!$E$8:$BF$467,MATCH($C$12,'[1]SHIPMENTS - TOTAL'!$C$8:$C$25,0),MATCH(AL$13,'[1]SHIPMENTS - TOTAL'!$E$7:$BF$7,0)),MATCH($C$9,'[1]SHIPMENTS - TOTAL'!$D$2:$D$467,0)-1+1,0)","v":{"$error":"#VALUE!"}},{"$f":"OFFSET(INDEX('[1]SHIPMENTS - TOTAL'!$E$8:$BF$467,MATCH($C$12,'[1]SHIPMENTS - TOTAL'!$C$8:$C$25,0),MATCH(AM$13,'[1]SHIPMENTS - TOTAL'!$E$7:$BF$7,0)),MATCH($C$9,'[1]SHIPMENTS - TOTAL'!$D$2:$D$467,0)-1+1,0)","v":{"$error":"#VALUE!"}},{"$f":"OFFSET(INDEX('[1]SHIPMENTS - TOTAL'!$E$8:$BF$467,MATCH($C$12,'[1]SHIPMENTS - TOTAL'!$C$8:$C$25,0),MATCH(AN$13,'[1]SHIPMENTS - TOTAL'!$E$7:$BF$7,0)),MATCH($C$9,'[1]SHIPMENTS - TOTAL'!$D$2:$D$467,0)-1+1,0)","v":{"$error":"#VALUE!"}},{"$f":"OFFSET(INDEX('[1]SHIPMENTS - TOTAL'!$E$8:$BF$467,MATCH($C$12,'[1]SHIPMENTS - TOTAL'!$C$8:$C$25,0),MATCH(AO$13,'[1]SHIPMENTS - TOTAL'!$E$7:$BF$7,0)),MATCH($C$9,'[1]SHIPMENTS - TOTAL'!$D$2:$D$467,0)-1+1,0)","v":{"$error":"#VALUE!"}},{"$f":"OFFSET(INDEX('[1]SHIPMENTS - TOTAL'!$E$8:$BF$467,MATCH($C$12,'[1]SHIPMENTS - TOTAL'!$C$8:$C$25,0),MATCH(AP$13,'[1]SHIPMENTS - TOTAL'!$E$7:$BF$7,0)),MATCH($C$9,'[1]SHIPMENTS - TOTAL'!$D$2:$D$467,0)-1+1,0)","v":{"$error":"#VALUE!"}},{"$f":"OFFSET(INDEX('[1]SHIPMENTS - TOTAL'!$E$8:$BF$467,MATCH($C$12,'[1]SHIPMENTS - TOTAL'!$C$8:$C$25,0),MATCH(AQ$13,'[1]SHIPMENTS - TOTAL'!$E$7:$BF$7,0)),MATCH($C$9,'[1]SHIPMENTS - TOTAL'!$D$2:$D$467,0)-1+1,0)","v":{"$error":"#VALUE!"}},{"$f":"OFFSET(INDEX('[1]SHIPMENTS - TOTAL'!$E$8:$BF$467,MATCH($C$12,'[1]SHIPMENTS - TOTAL'!$C$8:$C$25,0),MATCH(AR$13,'[1]SHIPMENTS - TOTAL'!$E$7:$BF$7,0)),MATCH($C$9,'[1]SHIPMENTS - TOTAL'!$D$2:$D$467,0)-1+1,0)","v":{"$error":"#VALUE!"}},{"$f":"OFFSET(INDEX('[1]SHIPMENTS - TOTAL'!$E$8:$BF$467,MATCH($C$12,'[1]SHIPMENTS - TOTAL'!$C$8:$C$25,0),MATCH(AS$13,'[1]SHIPMENTS - TOTAL'!$E$7:$BF$7,0)),MATCH($C$9,'[1]SHIPMENTS - TOTAL'!$D$2:$D$467,0)-1+1,0)","v":{"$error":"#VALUE!"}},{"$f":"OFFSET(INDEX('[1]SHIPMENTS - TOTAL'!$E$8:$BF$467,MATCH($C$12,'[1]SHIPMENTS - TOTAL'!$C$8:$C$25,0),MATCH(AT$13,'[1]SHIPMENTS - TOTAL'!$E$7:$BF$7,0)),MATCH($C$9,'[1]SHIPMENTS - TOTAL'!$D$2:$D$467,0)-1+1,0)","v":{"$error":"#VALUE!"}},{"$f":"OFFSET(INDEX('[1]SHIPMENTS - TOTAL'!$E$8:$BF$467,MATCH($C$12,'[1]SHIPMENTS - TOTAL'!$C$8:$C$25,0),MATCH(AU$13,'[1]SHIPMENTS - TOTAL'!$E$7:$BF$7,0)),MATCH($C$9,'[1]SHIPMENTS - TOTAL'!$D$2:$D$467,0)-1+1,0)","v":{"$error":"#VALUE!"}},{"$f":"OFFSET(INDEX('[1]SHIPMENTS - TOTAL'!$E$8:$BF$467,MATCH($C$12,'[1]SHIPMENTS - TOTAL'!$C$8:$C$25,0),MATCH(AV$13,'[1]SHIPMENTS - TOTAL'!$E$7:$BF$7,0)),MATCH($C$9,'[1]SHIPMENTS - TOTAL'!$D$2:$D$467,0)-1+1,0)","v":{"$error":"#VALUE!"}},{"$f":"OFFSET(INDEX('[1]SHIPMENTS - TOTAL'!$E$8:$BF$467,MATCH($C$12,'[1]SHIPMENTS - TOTAL'!$C$8:$C$25,0),MATCH(AW$13,'[1]SHIPMENTS - TOTAL'!$E$7:$BF$7,0)),MATCH($C$9,'[1]SHIPMENTS - TOTAL'!$D$2:$D$467,0)-1+1,0)","v":{"$error":"#VALUE!"}},{"$f":"OFFSET(INDEX('[1]SHIPMENTS - TOTAL'!$E$8:$BF$467,MATCH($C$12,'[1]SHIPMENTS - TOTAL'!$C$8:$C$25,0),MATCH(AX$13,'[1]SHIPMENTS - TOTAL'!$E$7:$BF$7,0)),MATCH($C$9,'[1]SHIPMENTS - TOTAL'!$D$2:$D$467,0)-1+1,0)","v":{"$error":"#VALUE!"}},{"$f":"OFFSET(INDEX('[1]SHIPMENTS - TOTAL'!$E$8:$BF$467,MATCH($C$12,'[1]SHIPMENTS - TOTAL'!$C$8:$C$25,0),MATCH(AY$13,'[1]SHIPMENTS - TOTAL'!$E$7:$BF$7,0)),MATCH($C$9,'[1]SHIPMENTS - TOTAL'!$D$2:$D$467,0)-1+1,0)","v":{"$error":"#VALUE!"}},{"$f":"OFFSET(INDEX('[1]SHIPMENTS - TOTAL'!$E$8:$BF$467,MATCH($C$12,'[1]SHIPMENTS - TOTAL'!$C$8:$C$25,0),MATCH(AZ$13,'[1]SHIPMENTS - TOTAL'!$E$7:$BF$7,0)),MATCH($C$9,'[1]SHIPMENTS - TOTAL'!$D$2:$D$467,0)-1+1,0)","v":{"$error":"#VALUE!"}}]
[null,null,"Total Model Shipments","(units)",{"$f":"SUM(E15:E16)","v":{"$error":"#VALUE!"}},{"$error":"#VALUE!"},{"$error":"#VALUE!"},{"$error":"#VALUE!"},{"$error":"#VALUE!"},{"$error":"#VALUE!"},{"$error":"#VALUE!"},{"$error":"#VALUE!"},{"$error":"#VALUE!"},{"$error":"#VALUE!"},{"$error":"#VALUE!"},{"$error":"#VALUE!"},{"$error":"#VALUE!"},{"$error":"#VALUE!"},{"$error":"#VALUE!"},{"$error":"#VALUE!"},{"$error":"#VALUE!"},{"$error":"#VALUE!"},{"$error":"#VALUE!"},{"$error":"#VALUE!"},{"$error":"#VALUE!"},{"$error":"#VALUE!"},{"$error":"#VALUE!"},{"$error":"#VALUE!"},{"$error":"#VALUE!"},{"$error":"#VALUE!"},{"$error":"#VALUE!"},{"$error":"#VALUE!"},{"$error":"#VALUE!"},{"$error":"#VALUE!"},{"$error":"#VALUE!"},{"$error":"#VALUE!"},{"$error":"#VALUE!"},{"$error":"#VALUE!"},{"$error":"#VALUE!"},{"$error":"#VALUE!"},{"$error":"#VALUE!"},{"$error":"#VALUE!"},{"$error":"#VALUE!"},{"$error":"#VALUE!"},{"$error":"#VALUE!"},{"$error":"#VALUE!"},{"$error":"#VALUE!"},{"$error":"#VALUE!"},{"$error":"#VALUE!"},{"$error":"#VALUE!"},{"$error":"#VALUE!"},{"$error":"#VALUE!"}]
[null,null,"Model Installed Stock","(units)",{"$f":"OFFSET(INDEX('[1]STOCK - TOTAL'!$E$8:$BF$305,MATCH($C$12,'[1]STOCK - TOTAL'!$C$8:$C$16,0),MATCH(E$13,'[1]STOCK - TOTAL'!$E$7:$BF$7,0)),MATCH($C$9,'[1]STOCK - TOTAL'!$D:$D,0)-2,0)","v":{"$error":"#VALUE!"}},{"$f":"OFFSET(INDEX('[1]STOCK - TOTAL'!$E$8:$BF$305,MATCH($C$12,'[1]STOCK - TOTAL'!$C$8:$C$16,0),MATCH(F$13,'[1]STOCK - TOTAL'!$E$7:$BF$7,0)),MATCH($C$9,'[1]STOCK - TOTAL'!$D:$D,0)-2,0)","v":{"$error":"#VALUE!"}},{"$f":"OFFSET(INDEX('[1]STOCK - TOTAL'!$E$8:$BF$305,MATCH($C$12,'[1]STOCK - TOTAL'!$C$8:$C$16,0),MATCH(G$13,'[1]STOCK - TOTAL'!$E$7:$BF$7,0)),MATCH($C$9,'[1]STOCK - TOTAL'!$D:$D,0)-2,0)","v":{"$error":"#VALUE!"}},{"$f":"OFFSET(INDEX('[1]STOCK - TOTAL'!$E$8:$BF$305,MATCH($C$12,'[1]STOCK - TOTAL'!$C$8:$C$16,0),MATCH(H$13,'[1]STOCK - TOTAL'!$E$7:$BF$7,0)),MATCH($C$9,'[1]STOCK - TOTAL'!$D:$D,0)-2,0)","v":{"$error":"#VALUE!"}},{"$f":"OFFSET(INDEX('[1]STOCK - TOTAL'!$E$8:$BF$305,MATCH($C$12,'[1]STOCK - TOTAL'!$C$8:$C$16,0),MATCH(I$13,'[1]STOCK - TOTAL'!$E$7:$BF$7,0)),MATCH($C$9,'[1]STOCK - TOTAL'!$D:$D,0)-2,0)","v":{"$error":"#VALUE!"}},{"$f":"OFFSET(INDEX('[1]STOCK - TOTAL'!$E$8:$BF$305,MATCH($C$12,'[1]STOCK - TOTAL'!$C$8:$C$16,0),MATCH(J$13,'[1]STOCK - TOTAL'!$E$7:$BF$7,0)),MATCH($C$9,'[1]STOCK - TOTAL'!$D:$D,0)-2,0)","v":{"$error":"#VALUE!"}},{"$f":"OFFSET(INDEX('[1]STOCK - TOTAL'!$E$8:$BF$305,MATCH($C$12,'[1]STOCK - TOTAL'!$C$8:$C$16,0),MATCH(K$13,'[1]STOCK - TOTAL'!$E$7:$BF$7,0)),MATCH($C$9,'[1]STOCK - TOTAL'!$D:$D,0)-2,0)","v":{"$error":"#VALUE!"}},{"$f":"OFFSET(INDEX('[1]STOCK - TOTAL'!$E$8:$BF$305,MATCH($C$12,'[1]STOCK - TOTAL'!$C$8:$C$16,0),MATCH(L$13,'[1]STOCK - TOTAL'!$E$7:$BF$7,0)),MATCH($C$9,'[1]STOCK - TOTAL'!$D:$D,0)-2,0)","v":{"$error":"#VALUE!"}},{"$f":"OFFSET(INDEX('[1]STOCK - TOTAL'!$E$8:$BF$305,MATCH($C$12,'[1]STOCK - TOTAL'!$C$8:$C$16,0),MATCH(M$13,'[1]STOCK - TOTAL'!$E$7:$BF$7,0)),MATCH($C$9,'[1]STOCK - TOTAL'!$D:$D,0)-2,0)","v":{"$error":"#VALUE!"}},{"$f":"OFFSET(INDEX('[1]STOCK - TOTAL'!$E$8:$BF$305,MATCH($C$12,'[1]STOCK - TOTAL'!$C$8:$C$16,0),MATCH(N$13,'[1]STOCK - TOTAL'!$E$7:$BF$7,0)),MATCH($C$9,'[1]STOCK - TOTAL'!$D:$D,0)-2,0)","v":{"$error":"#VALUE!"}},{"$f":"OFFSET(INDEX('[1]STOCK - TOTAL'!$E$8:$BF$305,MATCH($C$12,'[1]STOCK - TOTAL'!$C$8:$C$16,0),MATCH(O$13,'[1]STOCK - TOTAL'!$E$7:$BF$7,0)),MATCH($C$9,'[1]STOCK - TOTAL'!$D:$D,0)-2,0)","v":{"$error":"#VALUE!"}},{"$f":"OFFSET(INDEX('[1]STOCK - TOTAL'!$E$8:$BF$305,MATCH($C$12,'[1]STOCK - TOTAL'!$C$8:$C$16,0),MATCH(P$13,'[1]STOCK - TOTAL'!$E$7:$BF$7,0)),MATCH($C$9,'[1]STOCK - TOTAL'!$D:$D,0)-2,0)","v":{"$error":"#VALUE!"}},{"$f":"OFFSET(INDEX('[1]STOCK - TOTAL'!$E$8:$BF$305,MATCH($C$12,'[1]STOCK - TOTAL'!$C$8:$C$16,0),MATCH(Q$13,'[1]STOCK - TOTAL'!$E$7:$BF$7,0)),MATCH($C$9,'[1]STOCK - TOTAL'!$D:$D,0)-2,0)","v":{"$error":"#VALUE!"}},{"$f":"OFFSET(INDEX('[1]STOCK - TOTAL'!$E$8:$BF$305,MATCH($C$12,'[1]STOCK - TOTAL'!$C$8:$C$16,0),MATCH(R$13,'[1]STOCK - TOTAL'!$E$7:$BF$7,0)),MATCH($C$9,'[1]STOCK - TOTAL'!$D:$D,0)-2,0)","v":{"$error":"#VALUE!"}},{"$f":"OFFSET(INDEX('[1]STOCK - TOTAL'!$E$8:$BF$305,MATCH($C$12,'[1]STOCK - TOTAL'!$C$8:$C$16,0),MATCH(S$13,'[1]STOCK - TOTAL'!$E$7:$BF$7,0)),MATCH($C$9,'[1]STOCK - TOTAL'!$D:$D,0)-2,0)","v":{"$error":"#VALUE!"}},{"$f":"OFFSET(INDEX('[1]STOCK - TOTAL'!$E$8:$BF$305,MATCH($C$12,'[1]STOCK - TOTAL'!$C$8:$C$16,0),MATCH(T$13,'[1]STOCK - TOTAL'!$E$7:$BF$7,0)),MATCH($C$9,'[1]STOCK - TOTAL'!$D:$D,0)-2,0)","v":{"$error":"#VALUE!"}},{"$f":"OFFSET(INDEX('[1]STOCK - TOTAL'!$E$8:$BF$305,MATCH($C$12,'[1]STOCK - TOTAL'!$C$8:$C$16,0),MATCH(U$13,'[1]STOCK - TOTAL'!$E$7:$BF$7,0)),MATCH($C$9,'[1]STOCK - TOTAL'!$D:$D,0)-2,0)","v":{"$error":"#VALUE!"}},{"$f":"OFFSET(INDEX('[1]STOCK - TOTAL'!$E$8:$BF$305,MATCH($C$12,'[1]STOCK - TOTAL'!$C$8:$C$16,0),MATCH(V$13,'[1]STOCK - TOTAL'!$E$7:$BF$7,0)),MATCH($C$9,'[1]STOCK - TOTAL'!$D:$D,0)-2,0)","v":{"$error":"#VALUE!"}},{"$f":"OFFSET(INDEX('[1]STOCK - TOTAL'!$E$8:$BF$305,MATCH($C$12,'[1]STOCK - TOTAL'!$C$8:$C$16,0),MATCH(W$13,'[1]STOCK - TOTAL'!$E$7:$BF$7,0)),MATCH($C$9,'[1]STOCK - TOTAL'!$D:$D,0)-2,0)","v":{"$error":"#VALUE!"}},{"$f":"OFFSET(INDEX('[1]STOCK - TOTAL'!$E$8:$BF$305,MATCH($C$12,'[1]STOCK - TOTAL'!$C$8:$C$16,0),MATCH(X$13,'[1]STOCK - TOTAL'!$E$7:$BF$7,0)),MATCH($C$9,'[1]STOCK - TOTAL'!$D:$D,0)-2,0)","v":{"$error":"#VALUE!"}},{"$f":"OFFSET(INDEX('[1]STOCK - TOTAL'!$E$8:$BF$305,MATCH($C$12,'[1]STOCK - TOTAL'!$C$8:$C$16,0),MATCH(Y$13,'[1]STOCK - TOTAL'!$E$7:$BF$7,0)),MATCH($C$9,'[1]STOCK - TOTAL'!$D:$D,0)-2,0)","v":{"$error":"#VALUE!"}},{"$f":"OFFSET(INDEX('[1]STOCK - TOTAL'!$E$8:$BF$305,MATCH($C$12,'[1]STOCK - TOTAL'!$C$8:$C$16,0),MATCH(Z$13,'[1]STOCK - TOTAL'!$E$7:$BF$7,0)),MATCH($C$9,'[1]STOCK - TOTAL'!$D:$D,0)-2,0)","v":{"$error":"#VALUE!"}},{"$f":"OFFSET(INDEX('[1]STOCK - TOTAL'!$E$8:$BF$305,MATCH($C$12,'[1]STOCK - TOTAL'!$C$8:$C$16,0),MATCH(AA$13,'[1]STOCK - TOTAL'!$E$7:$BF$7,0)),MATCH($C$9,'[1]STOCK - TOTAL'!$D:$D,0)-2,0)","v":{"$error":"#VALUE!"}},{"$f":"OFFSET(INDEX('[1]STOCK - TOTAL'!$E$8:$BF$305,MATCH($C$12,'[1]STOCK - TOTAL'!$C$8:$C$16,0),MATCH(AB$13,'[1]STOCK - TOTAL'!$E$7:$BF$7,0)),MATCH($C$9,'[1]STOCK - TOTAL'!$D:$D,0)-2,0)","v":{"$error":"#VALUE!"}},{"$f":"OFFSET(INDEX('[1]STOCK - TOTAL'!$E$8:$BF$305,MATCH($C$12,'[1]STOCK - TOTAL'!$C$8:$C$16,0),MATCH(AC$13,'[1]STOCK - TOTAL'!$E$7:$BF$7,0)),MATCH($C$9,'[1]STOCK - TOTAL'!$D:$D,0)-2,0)","v":{"$error":"#VALUE!"}},{"$f":"OFFSET(INDEX('[1]STOCK - TOTAL'!$E$8:$BF$305,MATCH($C$12,'[1]STOCK - TOTAL'!$C$8:$C$16,0),MATCH(AD$13,'[1]STOCK - TOTAL'!$E$7:$BF$7,0)),MATCH($C$9,'[1]STOCK - TOTAL'!$D:$D,0)-2,0)","v":{"$error":"#VALUE!"}},{"$f":"OFFSET(INDEX('[1]STOCK - TOTAL'!$E$8:$BF$305,MATCH($C$12,'[1]STOCK - TOTAL'!$C$8:$C$16,0),MATCH(AE$13,'[1]STOCK - TOTAL'!$E$7:$BF$7,0)),MATCH($C$9,'[1]STOCK - TOTAL'!$D:$D,0)-2,0)","v":{"$error":"#VALUE!"}},{"$f":"OFFSET(INDEX('[1]STOCK - TOTAL'!$E$8:$BF$305,MATCH($C$12,'[1]STOCK - TOTAL'!$C$8:$C$16,0),MATCH(AF$13,'[1]STOCK - TOTAL'!$E$7:$BF$7,0)),MATCH($C$9,'[1]STOCK - TOTAL'!$D:$D,0)-2,0)","v":{"$error":"#VALUE!"}},{"$f":"OFFSET(INDEX('[1]STOCK - TOTAL'!$E$8:$BF$305,MATCH($C$12,'[1]STOCK - TOTAL'!$C$8:$C$16,0),MATCH(AG$13,'[1]STOCK - TOTAL'!$E$7:$BF$7,0)),MATCH($C$9,'[1]STOCK - TOTAL'!$D:$D,0)-2,0)","v":{"$error":"#VALUE!"}},{"$f":"OFFSET(INDEX('[1]STOCK - TOTAL'!$E$8:$BF$305,MATCH($C$12,'[1]STOCK - TOTAL'!$C$8:$C$16,0),MATCH(AH$13,'[1]STOCK - TOTAL'!$E$7:$BF$7,0)),MATCH($C$9,'[1]STOCK - TOTAL'!$D:$D,0)-2,0)","v":{"$error":"#VALUE!"}},{"$f":"OFFSET(INDEX('[1]STOCK - TOTAL'!$E$8:$BF$305,MATCH($C$12,'[1]STOCK - TOTAL'!$C$8:$C$16,0),MATCH(AI$13,'[1]STOCK - TOTAL'!$E$7:$BF$7,0)),MATCH($C$9,'[1]STOCK - TOTAL'!$D:$D,0)-2,0)","v":{"$error":"#VALUE!"}},{"$f":"OFFSET(INDEX('[1]STOCK - TOTAL'!$E$8:$BF$305,MATCH($C$12,'[1]STOCK - TOTAL'!$C$8:$C$16,0),MATCH(AJ$13,'[1]STOCK - TOTAL'!$E$7:$BF$7,0)),MATCH($C$9,'[1]STOCK - TOTAL'!$D:$D,0)-2,0)","v":{"$error":"#VALUE!"}},{"$f":"OFFSET(INDEX('[1]STOCK - TOTAL'!$E$8:$BF$305,MATCH($C$12,'[1]STOCK - TOTAL'!$C$8:$C$16,0),MATCH(AK$13,'[1]STOCK - TOTAL'!$E$7:$BF$7,0)),MATCH($C$9,'[1]STOCK - TOTAL'!$D:$D,0)-2,0)","v":{"$error":"#VALUE!"}},{"$f":"OFFSET(INDEX('[1]STOCK - TOTAL'!$E$8:$BF$305,MATCH($C$12,'[1]STOCK - TOTAL'!$C$8:$C$16,0),MATCH(AL$13,'[1]STOCK - TOTAL'!$E$7:$BF$7,0)),MATCH($C$9,'[1]STOCK - TOTAL'!$D:$D,0)-2,0)","v":{"$error":"#VALUE!"}},{"$f":"OFFSET(INDEX('[1]STOCK - TOTAL'!$E$8:$BF$305,MATCH($C$12,'[1]STOCK - TOTAL'!$C$8:$C$16,0),MATCH(AM$13,'[1]STOCK - TOTAL'!$E$7:$BF$7,0)),MATCH($C$9,'[1]STOCK - TOTAL'!$D:$D,0)-2,0)","v":{"$error":"#VALUE!"}},{"$f":"OFFSET(INDEX('[1]STOCK - TOTAL'!$E$8:$BF$305,MATCH($C$12,'[1]STOCK - TOTAL'!$C$8:$C$16,0),MATCH(AN$13,'[1]STOCK - TOTAL'!$E$7:$BF$7,0)),MATCH($C$9,'[1]STOCK - TOTAL'!$D:$D,0)-2,0)","v":{"$error":"#VALUE!"}},{"$f":"OFFSET(INDEX('[1]STOCK - TOTAL'!$E$8:$BF$305,MATCH($C$12,'[1]STOCK - TOTAL'!$C$8:$C$16,0),MATCH(AO$13,'[1]STOCK - TOTAL'!$E$7:$BF$7,0)),MATCH($C$9,'[1]STOCK - TOTAL'!$D:$D,0)-2,0)","v":{"$error":"#VALUE!"}},{"$f":"OFFSET(INDEX('[1]STOCK - TOTAL'!$E$8:$BF$305,MATCH($C$12,'[1]STOCK - TOTAL'!$C$8:$C$16,0),MATCH(AP$13,'[1]STOCK - TOTAL'!$E$7:$BF$7,0)),MATCH($C$9,'[1]STOCK - TOTAL'!$D:$D,0)-2,0)","v":{"$error":"#VALUE!"}},{"$f":"OFFSET(INDEX('[1]STOCK - TOTAL'!$E$8:$BF$305,MATCH($C$12,'[1]STOCK - TOTAL'!$C$8:$C$16,0),MATCH(AQ$13,'[1]STOCK - TOTAL'!$E$7:$BF$7,0)),MATCH($C$9,'[1]STOCK - TOTAL'!$D:$D,0)-2,0)","v":{"$error":"#VALUE!"}},{"$f":"OFFSET(INDEX('[1]STOCK - TOTAL'!$E$8:$BF$305,MATCH($C$12,'[1]STOCK - TOTAL'!$C$8:$C$16,0),MATCH(AR$13,'[1]STOCK - TOTAL'!$E$7:$BF$7,0)),MATCH($C$9,'[1]STOCK - TOTAL'!$D:$D,0)-2,0)","v":{"$error":"#VALUE!"}},{"$f":"OFFSET(INDEX('[1]STOCK - TOTAL'!$E$8:$BF$305,MATCH($C$12,'[1]STOCK - TOTAL'!$C$8:$C$16,0),MATCH(AS$13,'[1]STOCK - TOTAL'!$E$7:$BF$7,0)),MATCH($C$9,'[1]STOCK - TOTAL'!$D:$D,0)-2,0)","v":{"$error":"#VALUE!"}},{"$f":"OFFSET(INDEX('[1]STOCK - TOTAL'!$E$8:$BF$305,MATCH($C$12,'[1]STOCK - TOTAL'!$C$8:$C$16,0),MATCH(AT$13,'[1]STOCK - TOTAL'!$E$7:$BF$7,0)),MATCH($C$9,'[1]STOCK - TOTAL'!$D:$D,0)-2,0)","v":{"$error":"#VALUE!"}},{"$f":"OFFSET(INDEX('[1]STOCK - TOTAL'!$E$8:$BF$305,MATCH($C$12,'[1]STOCK - TOTAL'!$C$8:$C$16,0),MATCH(AU$13,'[1]STOCK - TOTAL'!$E$7:$BF$7,0)),MATCH($C$9,'[1]STOCK - TOTAL'!$D:$D,0)-2,0)","v":{"$error":"#VALUE!"}},{"$f":"OFFSET(INDEX('[1]STOCK - TOTAL'!$E$8:$BF$305,MATCH($C$12,'[1]STOCK - TOTAL'!$C$8:$C$16,0),MATCH(AV$13,'[1]STOCK - TOTAL'!$E$7:$BF$7,0)),MATCH($C$9,'[1]STOCK - TOTAL'!$D:$D,0)-2,0)","v":{"$error":"#VALUE!"}},{"$f":"OFFSET(INDEX('[1]STOCK - TOTAL'!$E$8:$BF$305,MATCH($C$12,'[1]STOCK - TOTAL'!$C$8:$C$16,0),MATCH(AW$13,'[1]STOCK - TOTAL'!$E$7:$BF$7,0)),MATCH($C$9,'[1]STOCK - TOTAL'!$D:$D,0)-2,0)","v":{"$error":"#VALUE!"}},{"$f":"OFFSET(INDEX('[1]STOCK - TOTAL'!$E$8:$BF$305,MATCH($C$12,'[1]STOCK - TOTAL'!$C$8:$C$16,0),MATCH(AX$13,'[1]STOCK - TOTAL'!$E$7:$BF$7,0)),MATCH($C$9,'[1]STOCK - TOTAL'!$D:$D,0)-2,0)","v":{"$error":"#VALUE!"}},{"$f":"OFFSET(INDEX('[1]STOCK - TOTAL'!$E$8:$BF$305,MATCH($C$12,'[1]STOCK - TOTAL'!$C$8:$C$16,0),MATCH(AY$13,'[1]STOCK - TOTAL'!$E$7:$BF$7,0)),MATCH($C$9,'[1]STOCK - TOTAL'!$D:$D,0)-2,0)","v":{"$error":"#VALUE!"}},{"$f":"OFFSET(INDEX('[1]STOCK - TOTAL'!$E$8:$BF$305,MATCH($C$12,'[1]STOCK - TOTAL'!$C$8:$C$16,0),MATCH(AZ$13,'[1]STOCK - TOTAL'!$E$7:$BF$7,0)),MATCH($C$9,'[1]STOCK - TOTAL'!$D:$D,0)-2,0)","v":{"$error":"#VALUE!"}}]

{"sheet":"UEC Development","index":11,"n_rows":245,"n_cols":5,"rows_kept":245,"cut":false,"hidden":false,"merged":[[10,3,10,4],[1,2,1,3],[3,2,3,3],[26,3,26,4],[42,3,42,4],[5,2,5,3],[58,3,58,4],[74,3,74,4],[90,3,90,4],[106,3,106,4],[122,3,122,4],[218,3,218,4],[234,3,234,4],[138,3,138,4],[154,3,154,4],[170,3,170,4],[186,3,186,4],[202,3,202,4]]}
[]
[null,null,"UEC Development "]
[]
[null,null,"NAVIGATION"]
[]
[null,null,"COMMENTS"]
[]
[]
[null,null,{"$f":"CONCATENATE('Efficiency Levels'!C9,\" - \",'Efficiency Levels'!D9)","v":"PC1 - Ice Making Head-Water Cooled-Small-Batch"}]
[]
[null,null,null,"Per Cycle Energy Consumption"]
[null,null,"Efficiency Level","Energy Factor","Yearly "]
[null,null,null,"kWh/day","kWh/year"]
[null,null,{"$f":"'Efficiency Levels'!C12&\" - \"&LEFT('Efficiency Levels'!D12,4)","v":"EL0 - 7745"},"N/A",{"$f":"'Efficiency Levels'!D12","v":7745.9499850348666}]
[null,null,{"$f":"'Efficiency Levels'!C13&\" - \"&LEFT('Efficiency Levels'!D13,4)","v":"EL1 - 3389"},"N/A",{"$f":"'Efficiency Levels'!D13","v":3389.0250000000001}]
[null,null,{"$f":"'Efficiency Levels'!C14&\" - \"&LEFT('Efficiency Levels'!D14,4)","v":"EL2 - 3052"},"N/A",{"$f":"'Efficiency Levels'!D14","v":3052.3125000000005}]
[null,null,{"$f":"'Efficiency Levels'!C15&\" - \"&LEFT('Efficiency Levels'!D15,4)","v":"EL3 - 2883"},"N/A",{"$f":"'Efficiency Levels'!D15","v":2883.9562499999997}]
[null,null,{"$f":"'Efficiency Levels'!C16&\" - \"&LEFT('Efficiency Levels'!D16,4)","v":"EL4 - 2715"},"N/A",{"$f":"'Efficiency Levels'!D16","v":2715.6000000000008}]
[null,null,{"$f":"'Efficiency Levels'!C17&\" - \"&LEFT('Efficiency Levels'!D17,4)","v":"EL5 - 2547"},"N/A",{"$f":"'Efficiency Levels'!D17","v":2547.2437500000005}]
[null,null,{"$f":"'Efficiency Levels'!C18&\" - \"&LEFT('Efficiency Levels'!D18,4)","v":"EL6 - 2399"},"N/A",{"$f":"'Efficiency Levels'!D18","v":2399.9658105939011}]
[null,null,{"$f":"'Efficiency Levels'!C19&\" - \"&LEFT('Efficiency Levels'!D19,4)","v":"EL7 - "},"N/A",{"$f":"'Efficiency Levels'!D19","v":0}]
[]
[]
[]
[null,null,{"$f":"CONCATENATE('Efficiency Levels'!C26,\" - \",'Efficiency Levels'!D26)","v":"PC2 - Ice Making Head-Water Cooled-Med-Batch"}]
[]
[null,null,null,"Per Cycle Energy Consumption"]
[null,null,"Efficiency Level","Energy Factor","Yearly "]
[null,null,null,"kWh/day","kWh/year"]
[null,null,{"$f":"'Efficiency Levels'!C29&\" - \"&LEFT('Efficiency Levels'!D29,4)","v":"EL0 - 7745"},"N/A",{"$f":"'Efficiency Levels'!D29","v":7745.9499850348666}]
[null,null,{"$f":"'Efficiency Levels'!C30&\" - \"&LEFT('Efficiency Levels'!D30,4)","v":"EL1 - 7227"},"N/A",{"$f":"'Efficiency Levels'!D30","v":7227.4562499999993}]
[null,null,{"$f":"'Efficiency Levels'!C31&\" - \"&LEFT('Efficiency Levels'!D31,4)","v":"EL2 - 6506"},"N/A",{"$f":"'Efficiency Levels'!D31","v":6506.9006249999984}]
[null,null,{"$f":"'Efficiency Levels'!C32&\" - \"&LEFT('Efficiency Levels'!D32,4)","v":"EL3 - 6146"},"N/A",{"$f":"'Efficiency Levels'!D32","v":6146.622812499998}]
[null,null,{"$f":"'Efficiency Levels'!C33&\" - \"&LEFT('Efficiency Levels'!D33,4)","v":"EL4 - 5786"},"N/A",{"$f":"'Efficiency Levels'!D33","v":5786.3449999999993}]
[null,null,{"$f":"'Efficiency Levels'!C34&\" - \"&LEFT('Efficiency Levels'!D34,4)","v":"EL5 - 5690"},"N/A",{"$f":"'Efficiency Levels'!D34","v":5690.8676501035188}]
[null,null,{"$f":"'Efficiency Levels'!C35&\" - \"&LEFT('Efficiency Levels'!D35,4)","v":"EL6 - "},"N/A",{"$f":"'Efficiency Levels'!D35","v":0}]
[null,null,{"$f":"'Efficiency Levels'!C36&\" - \"&LEFT('Efficiency Levels'!D36,4)","v":"EL7 - "},"N/A",{"$f":"'Efficiency Levels'!D36","v":0}]
[]
[]
[]
[null,null,{"$f":"CONCATENATE('Efficiency Levels'!C43,\" - \",'Efficiency Levels'!D43)","v":"PC3 - Ice Making Head-Water Cooled-Large-Batch-1"}]
[]
[null,null,null,"Per Cycle Energy Consumption"]
[null,null,"Efficiency Level","Energy Factor","Yearly "]
[null,null,null,"kWh/day","kWh/year"]
[null,null,{"$f":"'Efficiency Levels'!C46&\" - \"&LEFT('Efficiency Levels'!D46,4)","v":"EL0 - 7745"},"N/A",{"$f":"'Efficiency Levels'!D46","v":7745.9499850348666}]
[null,null,{"$f":"'Efficiency Levels'!C47&\" - \"&LEFT('Efficiency Levels'!D47,4)","v":"EL1 - 1097"},"N/A",{"$f":"'Efficiency Levels'!D47","v":10971.9}]
[null,null,{"$f":"'Efficiency Levels'!C48&\" - \"&LEFT('Efficiency Levels'!D48,4)","v":"EL2 - 9876"},"N/A",{"$f":"'Efficiency Levels'!D48","v":9876.9}]
[null,null,{"$f":"'Efficiency Levels'!C49&\" - \"&LEFT('Efficiency Levels'!D49,4)","v":"EL3 - 9329"},"N/A",{"$f":"'Efficiency Levels'!D49","v":9329.4}]
[null,null,{"$f":"'Efficiency Levels'!C50&\" - \"&LEFT('Efficiency Levels'!D50,4)","v":"EL4 - 9146"},"N/A",{"$f":"'Efficiency Levels'!D50","v":9146.9}]
[null,null,{"$f":"'Efficiency Levels'!C51&\" - \"&LEFT('Efficiency Levels'!D51,4)","v":"EL5 - "},"N/A",{"$f":"'Efficiency Levels'!D51","v":0}]
[null,null,{"$f":"'Efficiency Levels'!C52&\" - \"&LEFT('Efficiency Levels'!D52,4)","v":"EL6 - "},"N/A",{"$f":"'Efficiency Levels'!D52","v":0}]
[null,null,{"$f":"'Efficiency Levels'!C53&\" - \"&LEFT('Efficiency Levels'!D53,4)","v":"EL7 - "},"N/A",{"$f":"'Efficiency Levels'!D53","v":0}]
[]
[]
[]
[null,null,{"$f":"CONCATENATE('Efficiency Levels'!C60,\" - \",'Efficiency Levels'!D60)","v":"PC4 - Ice Making Head-Water Cooled-Large-Batch-2"}]
[]
[null,null,null,"Per Cycle Energy Consumption"]
[null,null,"Efficiency Level","Energy Factor","Yearly "]
[null,null,null,"kWh/day","kWh/year"]
[null,null,{"$f":"'Efficiency Levels'!C63&\" - \"&LEFT('Efficiency Levels'!D63,4)","v":"EL0 - 7745"},"N/A",{"$f":"'Efficiency Levels'!D63","v":7745.9499850348666}]
[null,null,{"$f":"'Efficiency Levels'!C64&\" - \"&LEFT('Efficiency Levels'!D64,5)","v":"EL1 - 19001"},"N/A",{"$f":"'Efficiency Levels'!D64","v":19001.900000000001}]
[null,null,{"$f":"'Efficiency Levels'!C65&\" - \"&LEFT('Efficiency Levels'!D65,5)","v":"EL2 - 17103"},"N/A",{"$f":"'Efficiency Levels'!D65","v":17103.900000000001}]
[null,null,{"$f":"'Efficiency Levels'!C66&\" - \"&LEFT('Efficiency Levels'!D66,5)","v":"EL3 - 16154"},"N/A",{"$f":"'Efficiency Levels'!D66","v":16154.9}]
[null,null,{"$f":"'Efficiency Levels'!C67&\" - \"&LEFT('Efficiency Levels'!D67,5)","v":"EL4 - 16067"},"N/A",{"$f":"'Efficiency Levels'!D67","v":16067.336408977559}]
[null,null,{"$f":"'Efficiency Levels'!C68&\" - \"&LEFT('Efficiency Levels'!D68,5)","v":"EL5 - "},"N/A",{"$f":"'Efficiency Levels'!D68","v":0}]
[null,null,{"$f":"'Efficiency Levels'!C69&\" - \"&LEFT('Efficiency Levels'!D69,5)","v":"EL6 - "},"N/A",{"$f":"'Efficiency Levels'!D69","v":0}]
[null,null,{"$f":"'Efficiency Levels'!C70&\" - \"&LEFT('Efficiency Levels'!D70,5)","v":"EL7 - "},"N/A",{"$f":"'Efficiency Levels'!D70","v":0}]
[]
[]
[]
[null,null,{"$f":"CONCATENATE('Efficiency Levels'!C77,\" - \",'Efficiency Levels'!D77)","v":"PC5 - Ice Making Head-Air Cooled-Small-Batch"}]
[]
[null,null,null,"Per Cycle Energy Consumption"]
[null,null,"Efficiency Level","Energy Factor","Yearly "]
[null,null,null,"kWh/day","kWh/year"]
[null,null,{"$f":"'Efficiency Levels'!C80&\" - \"&LEFT('Efficiency Levels'!D80,4)","v":"EL0 - 7804"},"N/A",{"$f":"'Efficiency Levels'!D80","v":7804.8710483203131}]
[null,null,{"$f":"'Efficiency Levels'!C81&\" - \"&LEFT('Efficiency Levels'!D81,4)","v":"EL1 - 4226"},"N/A",{"$f":"'Efficiency Levels'!D81","v":4226.6999999999989}]
[null,null,{"$f":"'Efficiency Levels'!C82&\" - \"&LEFT('Efficiency Levels'!D82,4)","v":"EL2 - 3806"},"N/A",{"$f":"'Efficiency Levels'!D82","v":3806.2200000000003}]
[null,null,{"$f":"'Efficiency Levels'!C83&\" - \"&LEFT('Efficiency Levels'!D83,4)","v":"EL3 - 3595"},"N/A",{"$f":"'Efficiency Levels'!D83","v":3595.98}]
[null,null,{"$f":"'Efficiency Levels'!C84&\" - \"&LEFT('Efficiency Levels'!D84,4)","v":"EL4 - 3385"},"N/A",{"$f":"'Efficiency Levels'!D84","v":3385.7400000000002}]
[null,null,{"$f":"'Efficiency Levels'!C85&\" - \"&LEFT('Efficiency Levels'!D85,4)","v":"EL5 - 3175"},"N/A",{"$f":"'Efficiency Levels'!D85","v":3175.5000000000005}]
[null,null,{"$f":"'Efficiency Levels'!C86&\" - \"&LEFT('Efficiency Levels'!D86,4)","v":"EL6 - 2965"},"N/A",{"$f":"'Efficiency Levels'!D86","v":2965.2599999999998}]
[null,null,{"$f":"'Efficiency Levels'!C87&\" - \"&LEFT('Efficiency Levels'!D87,4)","v":"EL7 - 2908"},"N/A",{"$f":"'Efficiency Levels'!D87","v":2908.7776119402984}]
[]
[]
[]
[null,null,{"$f":"CONCATENATE('Efficiency Levels'!C94,\" - \",'Efficiency Levels'!D94)","v":"PC6 - Ice Making Head-Air Cooled-Large-Batch-1"}]
[]
[null,null,null,"Per Cycle Energy Consumption"]
[null,null,"Efficiency Level","Energy Factor","Yearly "]
[null,null,null,"kWh/day","kWh/year"]
[null,null,{"$f":"'Efficiency Levels'!C97&\" - \"&LEFT('Efficiency Levels'!D97,4)","v":"EL0 - 7804"},"N/A",{"$f":"'Efficiency Levels'!D97","v":7804.8710483203131}]
[null,null,{"$f":"'Efficiency Levels'!C98&\" - \"&LEFT('Efficiency Levels'!D98,4)","v":"EL1 - 8796"},"N/A",{"$f":"'Efficiency Levels'!D98","v":8796.5}]
[null,null,{"$f":"'Efficiency Levels'!C99&\" - \"&LEFT('Efficiency Levels'!D99,4)","v":"EL2 - 7919"},"N/A",{"$f":"'Efficiency Levels'!D99","v":7919.0399999999991}]
[null,null,{"$f":"'Efficiency Levels'!C100&\" - \"&LEFT('Efficiency Levels'!D100,4)","v":"EL3 - 7480"},"N/A",{"$f":"'Efficiency Levels'!D100","v":7480.3099999999986}]
[null,null,{"$f":"'Efficiency Levels'!C101&\" - \"&LEFT('Efficiency Levels'!D101,4)","v":"EL4 - 7041"},"N/A",{"$f":"'Efficiency Levels'!D101","v":7041.579999999999}]
[null,null,{"$f":"'Efficiency Levels'!C102&\" - \"&LEFT('Efficiency Levels'!D102,4)","v":"EL5 - 6602"},"N/A",{"$f":"'Efficiency Levels'!D102","v":6602.85}]
[null,null,{"$f":"'Efficiency Levels'!C103&\" - \"&LEFT('Efficiency Levels'!D103,4)","v":"EL6 - 6213"},"N/A",{"$f":"'Efficiency Levels'!D103","v":6213.1152284263953}]
[null,null,{"$f":"'Efficiency Levels'!C104&\" - \"&LEFT('Efficiency Levels'!D104,4)","v":"EL7 - "},"N/A",{"$f":"'Efficiency Levels'!D104","v":0}]
[]
[]
[]
[null,null,{"$f":"CONCATENATE('Efficiency Levels'!C111,\" - \",'Efficiency Levels'!D111)","v":"PC7 - Ice Making Head-Air Cooled-Large-Batch-2"}]
[]
[null,null,null,"Per Cycle Energy Consumption"]
[null,null,"Efficiency Level","Energy Factor","Yearly "]
[null,null,null,"kWh/day","kWh/year"]
[null,null,{"$f":"'Efficiency Levels'!C114&\" - \"&LEFT('Efficiency Levels'!D114,4)","v":"EL0 - 7804"},"N/A",{"$f":"'Efficiency Levels'!D114","v":7804.8710483203131}]
[null,null,{"$f":"'Efficiency Levels'!C115&\" - \"&LEFT('Efficiency Levels'!D115,5)","v":"EL1 - 14366"},"N/A",{"$f":"'Efficiency Levels'!D115","v":14366.399999999998}]
[null,null,{"$f":"'Efficiency Levels'!C116&\" - \"&LEFT('Efficiency Levels'!D116,5)","v":"EL2 - 12931"},"N/A",{"$f":"'Efficiency Levels'!D116","v":12931.949999999997}]
[null,null,{"$f":"'Efficiency Levels'!C117&\" - \"&LEFT('Efficiency Levels'!D117,5)","v":"EL3 - 12214"},"N/A",{"$f":"'Efficiency Levels'!D117","v":12214.724999999999}]
[null,null,{"$f":"'Efficiency Levels'!C118&\" - \"&LEFT('Efficiency Levels'!D118,5)","v":"EL4 - 11497"},"N/A",{"$f":"'Efficiency Levels'!D118","v":11497.499999999998}]
[null,null,{"$f":"'Efficiency Levels'!C119&\" - \"&LEFT('Efficiency Levels'!D119,5)","v":"EL5 - "},"N/A",{"$f":"'Efficiency Levels'!D119","v":0}]
[null,null,{"$f":"'Efficiency Levels'!C120&\" - \"&LEFT('Efficiency Levels'!D120,5)","v":"EL6 - "},"N/A",{"$f":"'Efficiency Levels'!D120","v":0}]
[null,null,{"$f":"'Efficiency Levels'!C121&\" - \"&LEFT('Efficiency Levels'!D121,5)","v":"EL7 - "},"N/A",{"$f":"'Efficiency Levels'!D121","v":0}]
[]
[]
[]
[null,null,{"$f":"CONCATENATE('Efficiency Levels'!C128,\" - \",'Efficiency Levels'!D128)","v":"PC8 - Remote Condensing Unit-Not Remote Condensor-Large-Batch-1"}]
[]
[null,null,null,"Per Cycle Energy Consumption"]
[null,null,"Efficiency Level","Energy Factor","Yearly "]
[null,null,null,"kWh/day","kWh/year"]
[null,null,{"$f":"'Efficiency Levels'!C131&\" - \"&LEFT('Efficiency Levels'!D131,4)","v":"EL0 - 9645"},"N/A",{"$f":"'Efficiency Levels'!D131","v":9645.6359999999986}]
[null,null,{"$f":"'Efficiency Levels'!C132&\" - \"&LEFT('Efficiency Levels'!D132,5)","v":"EL1 - 13983"},"N/A",{"$f":"'Efficiency Levels'!D132","v":13983.149999999998}]
[null,null,{"$f":"'Efficiency Levels'!C133&\" - \"&LEFT('Efficiency Levels'!D133,5)","v":"EL2 - 12726"},"N/A",{"$f":"'Efficiency Levels'!D133","v":12726.637499999999}]
[null,null,{"$f":"'Efficiency Levels'!C134&\" - \"&LEFT('Efficiency Levels'!D134,5)","v":"EL3 - 11888"},"N/A",{"$f":"'Efficiency Levels'!D134","v":11888.9625}]
[null,null,{"$f":"'Efficiency Levels'!C135&\" - \"&LEFT('Efficiency Levels'!D135,5)","v":"EL4 - 11190"},"N/A",{"$f":"'Efficiency Levels'!D135","v":11190.9}]
[null,null,{"$f":"'Efficiency Levels'!C136&\" - \"&LEFT('Efficiency Levels'!D136,5)","v":"EL5 - 11107"},"N/A",{"$f":"'Efficiency Levels'!D136","v":11107.961881188117}]
[null,null,{"$f":"'Efficiency Levels'!C137&\" - \"&LEFT('Efficiency Levels'!D137,5)","v":"EL6 - "},"N/A",{"$f":"'Efficiency Levels'!D137","v":0}]
[null,null,{"$f":"'Efficiency Levels'!C138&\" - \"&LEFT('Efficiency Levels'!D138,5)","v":"EL7 - "},"N/A",{"$f":"'Efficiency Levels'!D138","v":0}]
[]
[]
[]
[null,null,{"$f":"CONCATENATE('Efficiency Levels'!C145,\" - \",'Efficiency Levels'!D145)","v":"PC9 - Remote Condensing Unit-Not Remote Condensor-Large-Batch-2"}]
[]
[null,null,null,"Per Cycle Energy Consumption"]
[null,null,"Efficiency Level","Energy Factor","Yearly "]
[null,null,null,"kWh/day","kWh/year"]
[null,null,{"$f":"'Efficiency Levels'!C148&\" - \"&LEFT('Efficiency Levels'!D148,4)","v":"EL0 - 9645"},"N/A",{"$f":"'Efficiency Levels'!D148","v":9645.6359999999986}]
[null,null,{"$f":"'Efficiency Levels'!C149&\" - \"&LEFT('Efficiency Levels'!D149,5)","v":"EL1 - 22359"},"N/A",{"$f":"'Efficiency Levels'!D149","v":22359.899999999998}]
[null,null,{"$f":"'Efficiency Levels'!C150&\" - \"&LEFT('Efficiency Levels'!D150,5)","v":"EL2 - 20349"},"N/A",{"$f":"'Efficiency Levels'!D150","v":20349.48}]
[null,null,{"$f":"'Efficiency Levels'!C151&\" - \"&LEFT('Efficiency Levels'!D151,5)","v":"EL3 - 19009"},"N/A",{"$f":"'Efficiency Levels'!D151","v":19009.200000000004}]
[null,null,{"$f":"'Efficiency Levels'!C152&\" - \"&LEFT('Efficiency Levels'!D152,5)","v":"EL4 - 17892"},"N/A",{"$f":"'Efficiency Levels'!D152","v":17892.300000000003}]
[null,null,{"$f":"'Efficiency Levels'!C153&\" - \"&LEFT('Efficiency Levels'!D153,5)","v":"EL5 - 17778"},"N/A",{"$f":"'Efficiency Levels'!D153","v":17778.864843749998}]
[null,null,{"$f":"'Efficiency Levels'!C154&\" - \"&LEFT('Efficiency Levels'!D154,5)","v":"EL6 - "},"N/A",{"$f":"'Efficiency Levels'!D154","v":0}]
[null,null,{"$f":"'Efficiency Levels'!C155&\" - \"&LEFT('Efficiency Levels'!D155,5)","v":"EL7 - "},"N/A",{"$f":"'Efficiency Levels'!D155","v":0}]
[]
[]
[]
[null,null,{"$f":"CONCATENATE('Efficiency Levels'!C162,\" - \",'Efficiency Levels'!D162)","v":"PC10 - Self-Contained Unit-Water Cooled-Large-Batch"}]
[]
[null,null,null,"Per Cycle Energy Consumption"]
[null,null,"Efficiency Level","Energy Factor","Yearly "]
[null,null,null,"kWh/day","kWh/year"]
[null,null,{"$f":"'Efficiency Levels'!C165&\" - \"&LEFT('Efficiency Levels'!D165,4)","v":"EL0 - 3552"},"N/A",{"$f":"'Efficiency Levels'!D165","v":3552.701428571429}]
[null,null,{"$f":"'Efficiency Levels'!C166&\" - \"&LEFT('Efficiency Levels'!D166,4)","v":"EL1 - 4182"},"N/A",{"$f":"'Efficiency Levels'!D166","v":4182.8999999999996}]
[null,null,{"$f":"'Efficiency Levels'!C167&\" - \"&LEFT('Efficiency Levels'!D167,4)","v":"EL2 - 3891"},"N/A",{"$f":"'Efficiency Levels'!D167","v":3891.6299999999997}]
[null,null,{"$f":"'Efficiency Levels'!C168&\" - \"&LEFT('Efficiency Levels'!D168,4)","v":"EL3 - 3558"},"N/A",{"$f":"'Efficiency Levels'!D168","v":3558.7500000000005}]
[null,null,{"$f":"'Efficiency Levels'!C169&\" - \"&LEFT('Efficiency Levels'!D169,4)","v":"EL4 - 3350"},"N/A",{"$f":"'Efficiency Levels'!D169","v":3350.7}]
[null,null,{"$f":"'Efficiency Levels'!C170&\" - \"&LEFT('Efficiency Levels'!D170,4)","v":"EL5 - 3142"},"N/A",{"$f":"'Efficiency Levels'!D170","v":3142.6499999999992}]
[null,null,{"$f":"'Efficiency Levels'!C171&\" - \"&LEFT('Efficiency Levels'!D171,4)","v":"EL6 - 2934"},"N/A",{"$f":"'Efficiency Levels'!D171","v":2934.6}]
[null,null,{"$f":"'Efficiency Levels'!C172&\" - \"&LEFT('Efficiency Levels'!D172,4)","v":"EL7 - 2924"},"N/A",{"$f":"'Efficiency Levels'!D172","v":2924.666650447527}]
[]
[]
[]
[null,null,{"$f":"CONCATENATE('Efficiency Levels'!C179,\" - \",'Efficiency Levels'!D179)","v":"PC11 - Self-Contained Unit-Air-Cooled-Small-Batch"}]
[]
[null,null,null,"Per Cycle Energy Consumption"]
[null,null,"Efficiency Level","Energy Factor","Yearly "]
[null,null,null,"kWh/day","kWh/year"]
[null,null,{"$f":"'Efficiency Levels'!C182&\" - \"&LEFT('Efficiency Levels'!D182,4)","v":"EL0 - 2449"},"N/A",{"$f":"'Efficiency Levels'!D182","v":2449.626155644044}]
[null,null,{"$f":"'Efficiency Levels'!C183&\" - \"&LEFT('Efficiency Levels'!D183,4)","v":"EL1 - 2599"},"N/A",{"$f":"'Efficiency Levels'!D183","v":2599.5300000000007}]
[null,null,{"$f":"'Efficiency Levels'!C184&\" - \"&LEFT('Efficiency Levels'!D184,4)","v":"EL2 - 2419"},"N/A",{"$f":"'Efficiency Levels'!D184","v":2419.0959000000003}]
[null,null,{"$f":"'Efficiency Levels'!C185&\" - \"&LEFT('Efficiency Levels'!D185,4)","v":"EL3 - 2212"},"N/A",{"$f":"'Efficiency Levels'!D185","v":2212.8854999999999}]
[null,null,{"$f":"'Efficiency Levels'!C186&\" - \"&LEFT('Efficiency Levels'!D186,4)","v":"EL4 - 2084"},"N/A",{"$f":"'Efficiency Levels'!D186","v":2084.0040000000004}]
[null,null,{"$f":"'Efficiency Levels'!C187&\" - \"&LEFT('Efficiency Levels'!D187,4)","v":"EL5 - 1955"},"N/A",{"$f":"'Efficiency Levels'!D187","v":1955.1225000000002}]
[null,null,{"$f":"'Efficiency Levels'!C188&\" - \"&LEFT('Efficiency Levels'!D188,4)","v":"EL6 - 1826"},"N/A",{"$f":"'Efficiency Levels'!D188","v":1826.2410000000002}]
[null,null,{"$f":"'Efficiency Levels'!C189&\" - \"&LEFT('Efficiency Levels'!D189,4)","v":"EL7 - 1585"},"N/A",{"$f":"'Efficiency Levels'!D189","v":1585.2625674418605}]
[]
[]
[]
[null,null,{"$f":"CONCATENATE('Efficiency Levels'!C196,\" - \",'Efficiency Levels'!D196)","v":"PC12 - Self-Contained Unit-Air-Cooled-Large-Batch"}]
[]
[null,null,null,"Per Cycle Energy Consumption"]
[null,null,"Efficiency Level","Energy Factor","Yearly "]
[null,null,null,"kWh/day","kWh/year"]
[null,null,{"$f":"'Efficiency Levels'!C199&\" - \"&LEFT('Efficiency Levels'!D199,4)","v":"EL0 - 4379"},"N/A",{"$f":"'Efficiency Levels'!D199","v":4379.5893750000005}]
[null,null,{"$f":"'Efficiency Levels'!C200&\" - \"&LEFT('Efficiency Levels'!D200,4)","v":"EL1 - 3598"},"N/A",{"$f":"'Efficiency Levels'!D200","v":3598.9000000000005}]
[null,null,{"$f":"'Efficiency Levels'!C201&\" - \"&LEFT('Efficiency Levels'!D201,4)","v":"EL2 - 3348"},"N/A",{"$f":"'Efficiency Levels'!D201","v":3348.51}]
[null,null,{"$f":"'Efficiency Levels'!C202&\" - \"&LEFT('Efficiency Levels'!D202,4)","v":"EL3 - 3062"},"N/A",{"$f":"'Efficiency Levels'!D202","v":3062.35}]
[null,null,{"$f":"'Efficiency Levels'!C203&\" - \"&LEFT('Efficiency Levels'!D203,4)","v":"EL4 - 2883"},"N/A",{"$f":"'Efficiency Levels'!D203","v":2883.5000000000005}]
[null,null,{"$f":"'Efficiency Levels'!C204&\" - \"&LEFT('Efficiency Levels'!D204,4)","v":"EL5 - 2704"},"N/A",{"$f":"'Efficiency Levels'!D204","v":2704.65}]
[null,null,{"$f":"'Efficiency Levels'!C205&\" - \"&LEFT('Efficiency Levels'!D205,4)","v":"EL6 - 2525"},"N/A",{"$f":"'Efficiency Levels'!D205","v":2525.8000000000002}]
[null,null,{"$f":"'Efficiency Levels'!C206&\" - \"&LEFT('Efficiency Levels'!D206,4)","v":"EL7 - 2351"},"N/A",{"$f":"'Efficiency Levels'!D206","v":2351.0944872057316}]
[]
[]
[]
[null,null,{"$f":"CONCATENATE('Efficiency Levels'!C213,\" - \",'Efficiency Levels'!D213)","v":"PC13 - Ice-Making Head-Air-Cooled-Small-Continous"}]
[]
[null,null,null,"Per Cycle Energy Consumption"]
[null,null,"Efficiency Level","Energy Factor","Yearly "]
[null,null,null,"kWh/day","kWh/year"]
[null,null,{"$f":"'Efficiency Levels'!C216&\" - \"&LEFT('Efficiency Levels'!D216,4)","v":"EL0 - 5141"},"N/A",{"$f":"'Efficiency Levels'!D216","v":5141.9375000000009}]
[null,null,{"$f":"'Efficiency Levels'!C217&\" - \"&LEFT('Efficiency Levels'!D217,4)","v":"EL1 - 4629"},"N/A",{"$f":"'Efficiency Levels'!D217","v":4629.9337500000011}]
[null,null,{"$f":"'Efficiency Levels'!C218&\" - \"&LEFT('Efficiency Levels'!D218,4)","v":"EL2 - 4373"},"N/A",{"$f":"'Efficiency Levels'!D218","v":4373.9318750000002}]
[null,null,{"$f":"'Efficiency Levels'!C219&\" - \"&LEFT('Efficiency Levels'!D219,4)","v":"EL3 - 4117"},"N/A",{"$f":"'Efficiency Levels'!D219","v":4117.93}]
[null,null,{"$f":"'Efficiency Levels'!C220&\" - \"&LEFT('Efficiency Levels'!D220,4)","v":"EL4 - 3861"},"N/A",{"$f":"'Efficiency Levels'!D220","v":3861.9281250000004}]
[null,null,{"$f":"'Efficiency Levels'!C221&\" - \"&LEFT('Efficiency Levels'!D221,4)","v":"EL5 - 3605"},"N/A",{"$f":"'Efficiency Levels'!D221","v":3605.9262500000004}]
[null,null,{"$f":"'Efficiency Levels'!C222&\" - \"&LEFT('Efficiency Levels'!D222,4)","v":"EL6 - 3555"},"N/A",{"$f":"'Efficiency Levels'!D222","v":3555.288516483517}]
[null,null,{"$f":"'Efficiency Levels'!C223&\" - \"&LEFT('Efficiency Levels'!D223,4)","v":"EL7 - "},"N/A",{"$f":"'Efficiency Levels'!D223","v":0}]
[]
[]
[]
[null,null,{"$f":"CONCATENATE('Efficiency Levels'!C230,\" - \",'Efficiency Levels'!D230)","v":"PC14 - Ice-Making Head-Air-Cooled-Large-Continuous"}]
[]
[null,null,null,"Per Cycle Energy Consumption"]
[null,null,"Efficiency Level","Energy Factor","Yearly "]
[null,null,null,"kWh/day","kWh/year"]
[null,null,{"$f":"'Efficiency Levels'!C233&\" - \"&LEFT('Efficiency Levels'!D233,4)","v":"EL0 - 9898"},"N/A",{"$f":"'Efficiency Levels'!D233","v":9898.7999999999993}]
[null,null,{"$f":"'Efficiency Levels'!C234&\" - \"&LEFT('Efficiency Levels'!D234,4)","v":"EL1 - 8911"},"N/A",{"$f":"'Efficiency Levels'!D234","v":8911.1099999999988}]
[null,null,{"$f":"'Efficiency Levels'!C235&\" - \"&LEFT('Efficiency Levels'!D235,4)","v":"EL2 - 8417"},"N/A",{"$f":"'Efficiency Levels'!D235","v":8417.2649999999976}]
[null,null,{"$f":"'Efficiency Levels'!C236&\" - \"&LEFT('Efficiency Levels'!D236,4)","v":"EL3 - 7923"},"N/A",{"$f":"'Efficiency Levels'!D236","v":7923.4199999999992}]
[null,null,{"$f":"'Efficiency Levels'!C237&\" - \"&LEFT('Efficiency Levels'!D237,4)","v":"EL4 - 7429"},"N/A",{"$f":"'Efficiency Levels'!D237","v":7429.574999999998}]
[null,null,{"$f":"'Efficiency Levels'!C238&\" - \"&LEFT('Efficiency Levels'!D238,4)","v":"EL5 - 6935"},"N/A",{"$f":"'Efficiency Levels'!D238","v":6935.7299999999977}]
[null,null,{"$f":"'Efficiency Levels'!C239&\" - \"&LEFT('Efficiency Levels'!D239,4)","v":"EL6 - 6912"},"N/A",{"$f":"'Efficiency Levels'!D239","v":6912.0254399999976}]
[null,null,{"$f":"'Efficiency Levels'!C240&\" - \"&LEFT('Efficiency Levels'!D240,4)","v":"EL7 - "},"N/A",{"$f":"'Efficiency Levels'!D240","v":0}]
[]
[]
[]
[null,null,{"$f":"CONCATENATE('Efficiency Levels'!C247,\" - \",'Efficiency Levels'!D247)","v":"PC15 - Self-Contained Unit-Air-Cooled-Small-Continuous"}]
[]
[null,null,null,"Per Cycle Energy Consumption"]
[null,null,"Efficiency Level","Energy Factor","Yearly "]
[null,null,null,"kWh/day","kWh/year"]
[null,null,{"$f":"'Efficiency Levels'!C250&\" - \"&LEFT('Efficiency Levels'!D250,4)","v":"EL0 - 2192"},"N/A",{"$f":"'Efficiency Levels'!D250","v":2192.0075000000002}]
[null,null,{"$f":"'Efficiency Levels'!C251&\" - \"&LEFT('Efficiency Levels'!D251,4)","v":"EL1 - 2040"},"N/A",{"$f":"'Efficiency Levels'!D251","v":2040.0999750000001}]
[null,null,{"$f":"'Efficiency Levels'!C252&\" - \"&LEFT('Efficiency Levels'!D252,4)","v":"EL2 - 1866"},"N/A",{"$f":"'Efficiency Levels'!D252","v":1866.4913750000001}]
[null,null,{"$f":"'Efficiency Levels'!C253&\" - \"&LEFT('Efficiency Levels'!D253,4)","v":"EL3 - 1757"},"N/A",{"$f":"'Efficiency Levels'!D253","v":1757.9860000000006}]
[null,null,{"$f":"'Efficiency Levels'!C254&\" - \"&LEFT('Efficiency Levels'!D254,4)","v":"EL4 - 1649"},"N/A",{"$f":"'Efficiency Levels'!D254","v":1649.4806250000004}]
[null,null,{"$f":"'Efficiency Levels'!C255&\" - \"&LEFT('Efficiency Levels'!D255,4)","v":"EL5 - 1580"},"N/A",{"$f":"'Efficiency Levels'!D255","v":1580.0940055387719}]
[null,null,{"$f":"'Efficiency Levels'!C256&\" - \"&LEFT('Efficiency Levels'!D256,4)","v":"EL6 - "},"N/A",{"$f":"'Efficiency Levels'!D256","v":0}]
[null,null,{"$f":"'Efficiency Levels'!C257&\" - \"&LEFT('Efficiency Levels'!D257,4)","v":"EL7 - "},"N/A",{"$f":"'Efficiency Levels'!D257","v":0}]

{"sheet":"UEC","index":12,"n_rows":18,"n_cols":48,"rows_kept":18,"cut":false,"hidden":false,"merged":[]}
[]
[null,null,"Weighted Annual UEC"]
[]
[null,null,"NAVIGATION"]
[]
[null,null,"COMMENTS"]
[]
[]
[null,null,"Market UEC (Shipment Weighted Average)"]
[null,null,null,1990,{"$f":"D10+1","v":1991},{"$f":"E10+1","v":1992},1993,1994,1995,1996,1997,1998,1999,2000,2001,2002,2003,2004,2005,2006,2007,2008,2009,2010,2011,2012,2013,2014,2015,2016,2017,2018,2019,2020,2021,2022,2023,2024,2025,2026,2027,2028,2029,2030,2031,2032,2033,2034]
[null,null,"PRE-Case UEC",{"$f":"'Product Class Dist'!D$10*SUMPRODUCT('Efficiency Dist'!H13:H20,PC1_UEC)+'Product Class Dist'!D$11*SUMPRODUCT('Efficiency Dist'!H43:H50,PC2_UEC)+'Product Class Dist'!D$12*SUMPRODUCT('Efficiency Dist'!H73:H80,PC3_UEC)+'Product Class Dist'!D$13*SUMPRODUCT('Efficiency Dist'!H103:H110,PC4_UEC)+'Product Class Dist'!D$14*SUMPRODUCT('Efficiency Dist'!H133:H140,PC5_UEC)+'Product Class Dist'!D$15*SUMPRODUCT('Efficiency Dist'!H163:H170,PC6_UEC)+'Product Class Dist'!D$16*SUMPRODUCT('Efficiency Dist'!H193:H200,PC7_UEC)+'Product Class Dist'!D$17*SUMPRODUCT('Efficiency Dist'!H223:H230,PC8_UEC)+'Product Class Dist'!D$18*SUMPRODUCT('Efficiency Dist'!H253:H260,PC9_UEC)+'Product Class Dist'!D$19*SUMPRODUCT('Efficiency Dist'!H283:H290,PC10_UEC)+'Product Class Dist'!D$20*SUMPRODUCT('Efficiency Dist'!H313:H320,PC11_UEC)+'Product Class Dist'!D$21*SUMPRODUCT('Efficiency Dist'!H343:H350,PC12_UEC)+'Product Class Dist'!D$22*SUMPRODUCT('Efficiency Dist'!H373:H380,PC13_UEC)+'Product Class Dist'!D$23*SUMPRODUCT('Efficiency Dist'!H403:H410,PC14_UEC)+'Product Class Dist'!D$24*SUMPRODUCT('Efficiency Dist'!H433:H440,PC15_UEC)","v":6165.1399919099285},{"$f":"'Product Class Dist'!E$10*SUMPRODUCT('Efficiency Dist'!I13:I20,PC1_UEC)+'Product Class Dist'!E$11*SUMPRODUCT('Efficiency Dist'!I43:I50,PC2_UEC)+'Product Class Dist'!E$12*SUMPRODUCT('Efficiency Dist'!I73:I80,PC3_UEC)+'Product Class Dist'!E$13*SUMPRODUCT('Efficiency Dist'!I103:I110,PC4_UEC)+'Product Class Dist'!E$14*SUMPRODUCT('Efficiency Dist'!I133:I140,PC5_UEC)+'Product Class Dist'!E$15*SUMPRODUCT('Efficiency Dist'!I163:I170,PC6_UEC)+'Product Class Dist'!E$16*SUMPRODUCT('Efficiency Dist'!I193:I200,PC7_UEC)+'Product Class Dist'!E$17*SUMPRODUCT('Efficiency Dist'!I223:I230,PC8_UEC)+'Product Class Dist'!E$18*SUMPRODUCT('Efficiency Dist'!I253:I260,PC9_UEC)+'Product Class Dist'!E$19*SUMPRODUCT('Efficiency Dist'!I283:I290,PC10_UEC)+'Product Class Dist'!E$20*SUMPRODUCT('Efficiency Dist'!I313:I320,PC11_UEC)+'Product Class Dist'!E$21*SUMPRODUCT('Efficiency Dist'!I343:I350,PC12_UEC)+'Product Class Dist'!E$22*SUMPRODUCT('Efficiency Dist'!I373:I380,PC13_UEC)+'Product Class Dist'!E$23*SUMPRODUCT('Efficiency Dist'!I403:I410,PC14_UEC)+'Product Class Dist'!E$24*SUMPRODUCT('Efficiency Dist'!I433:I440,PC15_UEC)","v":6165.1399919099285},{"$f":"'Product Class Dist'!F$10*SUMPRODUCT('Efficiency Dist'!J13:J20,PC1_UEC)+'Product Class Dist'!F$11*SUMPRODUCT('Efficiency Dist'!J43:J50,PC2_UEC)+'Product Class Dist'!F$12*SUMPRODUCT('Efficiency Dist'!J73:J80,PC3_UEC)+'Product Class Dist'!F$13*SUMPRODUCT('Efficiency Dist'!J103:J110,PC4_UEC)+'Product Class Dist'!F$14*SUMPRODUCT('Efficiency Dist'!J133:J140,PC5_UEC)+'Product Class Dist'!F$15*SUMPRODUCT('Efficiency Dist'!J163:J170,PC6_UEC)+'Product Class Dist'!F$16*SUMPRODUCT('Efficiency Dist'!J193:J200,PC7_UEC)+'Product Class Dist'!F$17*SUMPRODUCT('Efficiency Dist'!J223:J230,PC8_UEC)+'Product Class Dist'!F$18*SUMPRODUCT('Efficiency Dist'!J253:J260,PC9_UEC)+'Product Class Dist'!F$19*SUMPRODUCT('Efficiency Dist'!J283:J290,PC10_UEC)+'Product Class Dist'!F$20*SUMPRODUCT('Efficiency Dist'!J313:J320,PC11_UEC)+'Product Class Dist'!F$21*SUMPRODUCT('Efficiency Dist'!J343:J350,PC12_UEC)+'Product Class Dist'!F$22*SUMPRODUCT('Efficiency Dist'!J373:J380,PC13_UEC)+'Product Class Dist'!F$23*SUMPRODUCT('Efficiency Dist'!J403:J410,PC14_UEC)+'Product Class Dist'!F$24*SUMPRODUCT('Efficiency Dist'!J433:J440,PC15_UEC)","v":6165.1399919099285},{"$f":"'Product Class Dist'!G$10*SUMPRODUCT('Efficiency Dist'!K13:K20,PC1_UEC)+'Product Class Dist'!G$11*SUMPRODUCT('Efficiency Dist'!K43:K50,PC2_UEC)+'Product Class Dist'!G$12*SUMPRODUCT('Efficiency Dist'!K73:K80,PC3_UEC)+'Product Class Dist'!G$13*SUMPRODUCT('Efficiency Dist'!K103:K110,PC4_UEC)+'Product Class Dist'!G$14*SUMPRODUCT('Efficiency Dist'!K133:K140,PC5_UEC)+'Product Class Dist'!G$15*SUMPRODUCT('Efficiency Dist'!K163:K170,PC6_UEC)+'Product Class Dist'!G$16*SUMPRODUCT('Efficiency Dist'!K193:K200,PC7_UEC)+'Product Class Dist'!G$17*SUMPRODUCT('Efficiency Dist'!K223:K230,PC8_UEC)+'Product Class Dist'!G$18*SUMPRODUCT('Efficiency Dist'!K253:K260,PC9_UEC)+'Product Class Dist'!G$19*SUMPRODUCT('Efficiency Dist'!K283:K290,PC10_UEC)+'Product Class Dist'!G$20*SUMPRODUCT('Efficiency Dist'!K313:K320,PC11_UEC)+'Product Class Dist'!G$21*SUMPRODUCT('Efficiency Dist'!K343:K350,PC12_UEC)+'Product Class Dist'!G$22*SUMPRODUCT('Efficiency Dist'!K373:K380,PC13_UEC)+'Product Class Dist'!G$23*SUMPRODUCT('Efficiency Dist'!K403:K410,PC14_UEC)+'Product Class Dist'!G$24*SUMPRODUCT('Efficiency Dist'!K433:K440,PC15_UEC)","v":6165.1399919099285},{"$f":"'Product Class Dist'!H$10*SUMPRODUCT('Efficiency Dist'!L13:L20,PC1_UEC)+'Product Class Dist'!H$11*SUMPRODUCT('Efficiency Dist'!L43:L50,PC2_UEC)+'Product Class Dist'!H$12*SUMPRODUCT('Efficiency Dist'!L73:L80,PC3_UEC)+'Product Class Dist'!H$13*SUMPRODUCT('Efficiency Dist'!L103:L110,PC4_UEC)+'Product Class Dist'!H$14*SUMPRODUCT('Efficiency Dist'!L133:L140,PC5_UEC)+'Product Class Dist'!H$15*SUMPRODUCT('Efficiency Dist'!L163:L170,PC6_UEC)+'Product Class Dist'!H$16*SUMPRODUCT('Efficiency Dist'!L193:L200,PC7_UEC)+'Product Class Dist'!H$17*SUMPRODUCT('Efficiency Dist'!L223:L230,PC8_UEC)+'Product Class Dist'!H$18*SUMPRODUCT('Efficiency Dist'!L253:L260,PC9_UEC)+'Product Class Dist'!H$19*SUMPRODUCT('Efficiency Dist'!L283:L290,PC10_UEC)+'Product Class Dist'!H$20*SUMPRODUCT('Efficiency Dist'!L313:L320,PC11_UEC)+'Product Class Dist'!H$21*SUMPRODUCT('Efficiency Dist'!L343:L350,PC12_UEC)+'Product Class Dist'!H$22*SUMPRODUCT('Efficiency Dist'!L373:L380,PC13_UEC)+'Product Class Dist'!H$23*SUMPRODUCT('Efficiency Dist'!L403:L410,PC14_UEC)+'Product Class Dist'!H$24*SUMPRODUCT('Efficiency Dist'!L433:L440,PC15_UEC)","v":6165.1399919099285},{"$f":"'Product Class Dist'!I$10*SUMPRODUCT('Efficiency Dist'!M13:M20,PC1_UEC)+'Product Class Dist'!I$11*SUMPRODUCT('Efficiency Dist'!M43:M50,PC2_UEC)+'Product Class Dist'!I$12*SUMPRODUCT('Efficiency Dist'!M73:M80,PC3_UEC)+'Product Class Dist'!I$13*SUMPRODUCT('Efficiency Dist'!M103:M110,PC4_UEC)+'Product Class Dist'!I$14*SUMPRODUCT('Efficiency Dist'!M133:M140,PC5_UEC)+'Product Class Dist'!I$15*SUMPRODUCT('Efficiency Dist'!M163:M170,PC6_UEC)+'Product Class Dist'!I$16*SUMPRODUCT('Efficiency Dist'!M193:M200,PC7_UEC)+'Product Class Dist'!I$17*SUMPRODUCT('Efficiency Dist'!M223:M230,PC8_UEC)+'Product Class Dist'!I$18*SUMPRODUCT('Efficiency Dist'!M253:M260,PC9_UEC)+'Product Class Dist'!I$19*SUMPRODUCT('Efficiency Dist'!M283:M290,PC10_UEC)+'Product Class Dist'!I$20*SUMPRODUCT('Efficiency Dist'!M313:M320,PC11_UEC)+'Product Class Dist'!I$21*SUMPRODUCT('Efficiency Dist'!M343:M350,PC12_UEC)+'Product Class Dist'!I$22*SUMPRODUCT('Efficiency Dist'!M373:M380,PC13_UEC)+'Product Class Dist'!I$23*SUMPRODUCT('Efficiency Dist'!M403:M410,PC14_UEC)+'Product Class Dist'!I$24*SUMPRODUCT('Efficiency Dist'!M433:M440,PC15_UEC)","v":6165.1399919099285},{"$f":"'Product Class Dist'!J$10*SUMPRODUCT('Efficiency Dist'!N13:N20,PC1_UEC)+'Product Class Dist'!J$11*SUMPRODUCT('Efficiency Dist'!N43:N50,PC2_UEC)+'Product Class Dist'!J$12*SUMPRODUCT('Efficiency Dist'!N73:N80,PC3_UEC)+'Product Class Dist'!J$13*SUMPRODUCT('Efficiency Dist'!N103:N110,PC4_UEC)+'Product Class Dist'!J$14*SUMPRODUCT('Efficiency Dist'!N133:N140,PC5_UEC)+'Product Class Dist'!J$15*SUMPRODUCT('Efficiency Dist'!N163:N170,PC6_UEC)+'Product Class Dist'!J$16*SUMPRODUCT('Efficiency Dist'!N193:N200,PC7_UEC)+'Product Class Dist'!J$17*SUMPRODUCT('Efficiency Dist'!N223:N230,PC8_UEC)+'Product Class Dist'!J$18*SUMPRODUCT('Efficiency Dist'!N253:N260,PC9_UEC)+'Product Class Dist'!J$19*SUMPRODUCT('Efficiency Dist'!N283:N290,PC10_UEC)+'Product Class Dist'!J$20*SUMPRODUCT('Efficiency Dist'!N313:N320,PC11_UEC)+'Product Class Dist'!J$21*SUMPRODUCT('Efficiency Dist'!N343:N350,PC12_UEC)+'Product Class Dist'!J$22*SUMPRODUCT('Efficiency Dist'!N373:N380,PC13_UEC)+'Product Class Dist'!J$23*SUMPRODUCT('Efficiency Dist'!N403:N410,PC14_UEC)+'Product Class Dist'!J$24*SUMPRODUCT('Efficiency Dist'!N433:N440,PC15_UEC)","v":6165.1399919099285},{"$f":"'Product Class Dist'!K$10*SUMPRODUCT('Efficiency Dist'!O13:O20,PC1_UEC)+'Product Class Dist'!K$11*SUMPRODUCT('Efficiency Dist'!O43:O50,PC2_UEC)+'Product Class Dist'!K$12*SUMPRODUCT('Efficiency Dist'!O73:O80,PC3_UEC)+'Product Class Dist'!K$13*SUMPRODUCT('Efficiency Dist'!O103:O110,PC4_UEC)+'Product Class Dist'!K$14*SUMPRODUCT('Efficiency Dist'!O133:O140,PC5_UEC)+'Product Class Dist'!K$15*SUMPRODUCT('Efficiency Dist'!O163:O170,PC6_UEC)+'Product Class Dist'!K$16*SUMPRODUCT('Efficiency Dist'!O193:O200,PC7_UEC)+'Product Class Dist'!K$17*SUMPRODUCT('Efficiency Dist'!O223:O230,PC8_UEC)+'Product Class Dist'!K$18*SUMPRODUCT('Efficiency Dist'!O253:O260,PC9_UEC)+'Product Class Dist'!K$19*SUMPRODUCT('Efficiency Dist'!O283:O290,PC10_UEC)+'Product Class Dist'!K$20*SUMPRODUCT('Efficiency Dist'!O313:O320,PC11_UEC)+'Product Class Dist'!K$21*SUMPRODUCT('Efficiency Dist'!O343:O350,PC12_UEC)+'Product Class Dist'!K$22*SUMPRODUCT('Efficiency Dist'!O373:O380,PC13_UEC)+'Product Class Dist'!K$23*SUMPRODUCT('Efficiency Dist'!O403:O410,PC14_UEC)+'Product Class Dist'!K$24*SUMPRODUCT('Efficiency Dist'!O433:O440,PC15_UEC)","v":6165.1399919099285},{"$f":"'Product Class Dist'!L$10*SUMPRODUCT('Efficiency Dist'!P13:P20,PC1_UEC)+'Product Class Dist'!L$11*SUMPRODUCT('Efficiency Dist'!P43:P50,PC2_UEC)+'Product Class Dist'!L$12*SUMPRODUCT('Efficiency Dist'!P73:P80,PC3_UEC)+'Product Class Dist'!L$13*SUMPRODUCT('Efficiency Dist'!P103:P110,PC4_UEC)+'Product Class Dist'!L$14*SUMPRODUCT('Efficiency Dist'!P133:P140,PC5_UEC)+'Product Class Dist'!L$15*SUMPRODUCT('Efficiency Dist'!P163:P170,PC6_UEC)+'Product Class Dist'!L$16*SUMPRODUCT('Efficiency Dist'!P193:P200,PC7_UEC)+'Product Class Dist'!L$17*SUMPRODUCT('Efficiency Dist'!P223:P230,PC8_UEC)+'Product Class Dist'!L$18*SUMPRODUCT('Efficiency Dist'!P253:P260,PC9_UEC)+'Product Class Dist'!L$19*SUMPRODUCT('Efficiency Dist'!P283:P290,PC10_UEC)+'Product Class Dist'!L$20*SUMPRODUCT('Efficiency Dist'!P313:P320,PC11_UEC)+'Product Class Dist'!L$21*SUMPRODUCT('Efficiency Dist'!P343:P350,PC12_UEC)+'Product Class Dist'!L$22*SUMPRODUCT('Efficiency Dist'!P373:P380,PC13_UEC)+'Product Class Dist'!L$23*SUMPRODUCT('Efficiency Dist'!P403:P410,PC14_UEC)+'Product Class Dist'!L$24*SUMPRODUCT('Efficiency Dist'!P433:P440,PC15_UEC)","v":6165.1399919099285},{"$f":"'Product Class Dist'!M$10*SUMPRODUCT('Efficiency Dist'!Q13:Q20,PC1_UEC)+'Product Class Dist'!M$11*SUMPRODUCT('Efficiency Dist'!Q43:Q50,PC2_UEC)+'Product Class Dist'!M$12*SUMPRODUCT('Efficiency Dist'!Q73:Q80,PC3_UEC)+'Product Class Dist'!M$13*SUMPRODUCT('Efficiency Dist'!Q103:Q110,PC4_UEC)+'Product Class Dist'!M$14*SUMPRODUCT('Efficiency Dist'!Q133:Q140,PC5_UEC)+'Product Class Dist'!M$15*SUMPRODUCT('Efficiency Dist'!Q163:Q170,PC6_UEC)+'Product Class Dist'!M$16*SUMPRODUCT('Efficiency Dist'!Q193:Q200,PC7_UEC)+'Product Class Dist'!M$17*SUMPRODUCT('Efficiency Dist'!Q223:Q230,PC8_UEC)+'Product Class Dist'!M$18*SUMPRODUCT('Efficiency Dist'!Q253:Q260,PC9_UEC)+'Product Class Dist'!M$19*SUMPRODUCT('Efficiency Dist'!Q283:Q290,PC10_UEC)+'Product Class Dist'!M$20*SUMPRODUCT('Efficiency Dist'!Q313:Q320,PC11_UEC)+'Product Class Dist'!M$21*SUMPRODUCT('Efficiency Dist'!Q343:Q350,PC12_UEC)+'Product Class Dist'!M$22*SUMPRODUCT('Efficiency Dist'!Q373:Q380,PC13_UEC)+'Product Class Dist'!M$23*SUMPRODUCT('Efficiency Dist'!Q403:Q410,PC14_UEC)+'Product Class Dist'!M$24*SUMPRODUCT('Efficiency Dist'!Q433:Q440,PC15_UEC)","v":6165.1399919099285},{"$f":"'Product Class Dist'!N$10*SUMPRODUCT('Efficiency Dist'!R13:R20,PC1_UEC)+'Product Class Dist'!N$11*SUMPRODUCT('Efficiency Dist'!R43:R50,PC2_UEC)+'Product Class Dist'!N$12*SUMPRODUCT('Efficiency Dist'!R73:R80,PC3_UEC)+'Product Class Dist'!N$13*SUMPRODUCT('Efficiency Dist'!R103:R110,PC4_UEC)+'Product Class Dist'!N$14*SUMPRODUCT('Efficiency Dist'!R133:R140,PC5_UEC)+'Product Class Dist'!N$15*SUMPRODUCT('Efficiency Dist'!R163:R170,PC6_UEC)+'Product Class Dist'!N$16*SUMPRODUCT('Efficiency Dist'!R193:R200,PC7_UEC)+'Product Class Dist'!N$17*SUMPRODUCT('Efficiency Dist'!R223:R230,PC8_UEC)+'Product Class Dist'!N$18*SUMPRODUCT('Efficiency Dist'!R253:R260,PC9_UEC)+'Product Class Dist'!N$19*SUMPRODUCT('Efficiency Dist'!R283:R290,PC10_UEC)+'Product Class Dist'!N$20*SUMPRODUCT('Efficiency Dist'!R313:R320,PC11_UEC)+'Product Class Dist'!N$21*SUMPRODUCT('Efficiency Dist'!R343:R350,PC12_UEC)+'Product Class Dist'!N$22*SUMPRODUCT('Efficiency Dist'!R373:R380,PC13_UEC)+'Product Class Dist'!N$23*SUMPRODUCT('Efficiency Dist'!R403:R410,PC14_UEC)+'Product Class Dist'!N$24*SUMPRODUCT('Efficiency Dist'!R433:R440,PC15_UEC)","v":6165.1399919099285},{"$f":"'Product Class Dist'!O$10*SUMPRODUCT('Efficiency Dist'!S13:S20,PC1_UEC)+'Product Class Dist'!O$11*SUMPRODUCT('Efficiency Dist'!S43:S50,PC2_UEC)+'Product Class Dist'!O$12*SUMPRODUCT('Efficiency Dist'!S73:S80,PC3_UEC)+'Product Class Dist'!O$13*SUMPRODUCT('Efficiency Dist'!S103:S110,PC4_UEC)+'Product Class Dist'!O$14*SUMPRODUCT('Efficiency Dist'!S133:S140,PC5_UEC)+'Product Class Dist'!O$15*SUMPRODUCT('Efficiency Dist'!S163:S170,PC6_UEC)+'Product Class Dist'!O$16*SUMPRODUCT('Efficiency Dist'!S193:S200,PC7_UEC)+'Product Class Dist'!O$17*SUMPRODUCT('Efficiency Dist'!S223:S230,PC8_UEC)+'Product Class Dist'!O$18*SUMPRODUCT('Efficiency Dist'!S253:S260,PC9_UEC)+'Product Class Dist'!O$19*SUMPRODUCT('Efficiency Dist'!S283:S290,PC10_UEC)+'Product Class Dist'!O$20*SUMPRODUCT('Efficiency Dist'!S313:S320,PC11_UEC)+'Product Class Dist'!O$21*SUMPRODUCT('Efficiency Dist'!S343:S350,PC12_UEC)+'Product Class Dist'!O$22*SUMPRODUCT('Efficiency Dist'!S373:S380,PC13_UEC)+'Product Class Dist'!O$23*SUMPRODUCT('Efficiency Dist'!S403:S410,PC14_UEC)+'Product Class Dist'!O$24*SUMPRODUCT('Efficiency Dist'!S433:S440,PC15_UEC)","v":6165.1399919099285},{"$f":"'Product Class Dist'!P$10*SUMPRODUCT('Efficiency Dist'!T13:T20,PC1_UEC)+'Product Class Dist'!P$11*SUMPRODUCT('Efficiency Dist'!T43:T50,PC2_UEC)+'Product Class Dist'!P$12*SUMPRODUCT('Efficiency Dist'!T73:T80,PC3_UEC)+'Product Class Dist'!P$13*SUMPRODUCT('Efficiency Dist'!T103:T110,PC4_UEC)+'Product Class Dist'!P$14*SUMPRODUCT('Efficiency Dist'!T133:T140,PC5_UEC)+'Product Class Dist'!P$15*SUMPRODUCT('Efficiency Dist'!T163:T170,PC6_UEC)+'Product Class Dist'!P$16*SUMPRODUCT('Efficiency Dist'!T193:T200,PC7_UEC)+'Product Class Dist'!P$17*SUMPRODUCT('Efficiency Dist'!T223:T230,PC8_UEC)+'Product Class Dist'!P$18*SUMPRODUCT('Efficiency Dist'!T253:T260,PC9_UEC)+'Product Class Dist'!P$19*SUMPRODUCT('Efficiency Dist'!T283:T290,PC10_UEC)+'Product Class Dist'!P$20*SUMPRODUCT('Efficiency Dist'!T313:T320,PC11_UEC)+'Product Class Dist'!P$21*SUMPRODUCT('Efficiency Dist'!T343:T350,PC12_UEC)+'Product Class Dist'!P$22*SUMPRODUCT('Efficiency Dist'!T373:T380,PC13_UEC)+'Product Class Dist'!P$23*SUMPRODUCT('Efficiency Dist'!T403:T410,PC14_UEC)+'Product Class Dist'!P$24*SUMPRODUCT('Efficiency Dist'!T433:T440,PC15_UEC)","v":6165.1399919099285},{"$f":"'Product Class Dist'!Q$10*SUMPRODUCT('Efficiency Dist'!U13:U20,PC1_UEC)+'Product Class Dist'!Q$11*SUMPRODUCT('Efficiency Dist'!U43:U50,PC2_UEC)+'Product Class Dist'!Q$12*SUMPRODUCT('Efficiency Dist'!U73:U80,PC3_UEC)+'Product Class Dist'!Q$13*SUMPRODUCT('Efficiency Dist'!U103:U110,PC4_UEC)+'Product Class Dist'!Q$14*SUMPRODUCT('Efficiency Dist'!U133:U140,PC5_UEC)+'Product Class Dist'!Q$15*SUMPRODUCT('Efficiency Dist'!U163:U170,PC6_UEC)+'Product Class Dist'!Q$16*SUMPRODUCT('Efficiency Dist'!U193:U200,PC7_UEC)+'Product Class Dist'!Q$17*SUMPRODUCT('Efficiency Dist'!U223:U230,PC8_UEC)+'Product Class Dist'!Q$18*SUMPRODUCT('Efficiency Dist'!U253:U260,PC9_UEC)+'Product Class Dist'!Q$19*SUMPRODUCT('Efficiency Dist'!U283:U290,PC10_UEC)+'Product Class Dist'!Q$20*SUMPRODUCT('Efficiency Dist'!U313:U320,PC11_UEC)+'Product Class Dist'!Q$21*SUMPRODUCT('Efficiency Dist'!U343:U350,PC12_UEC)+'Product Class Dist'!Q$22*SUMPRODUCT('Efficiency Dist'!U373:U380,PC13_UEC)+'Product Class Dist'!Q$23*SUMPRODUCT('Efficiency Dist'!U403:U410,PC14_UEC)+'Product Class Dist'!Q$24*SUMPRODUCT('Efficiency Dist'!U433:U440,PC15_UEC)","v":6165.1399919099285},{"$f":"'Product Class Dist'!R$10*SUMPRODUCT('Efficiency Dist'!V13:V20,PC1_UEC)+'Product Class Dist'!R$11*SUMPRODUCT('Efficiency Dist'!V43:V50,PC2_UEC)+'Product Class Dist'!R$12*SUMPRODUCT('Efficiency Dist'!V73:V80,PC3_UEC)+'Product Class Dist'!R$13*SUMPRODUCT('Efficiency Dist'!V103:V110,PC4_UEC)+'Product Class Dist'!R$14*SUMPRODUCT('Efficiency Dist'!V133:V140,PC5_UEC)+'Product Class Dist'!R$15*SUMPRODUCT('Efficiency Dist'!V163:V170,PC6_UEC)+'Product Class Dist'!R$16*SUMPRODUCT('Efficiency Dist'!V193:V200,PC7_UEC)+'Product Class Dist'!R$17*SUMPRODUCT('Efficiency Dist'!V223:V230,PC8_UEC)+'Product Class Dist'!R$18*SUMPRODUCT('Efficiency Dist'!V253:V260,PC9_UEC)+'Product Class Dist'!R$19*SUMPRODUCT('Efficiency Dist'!V283:V290,PC10_UEC)+'Product Class Dist'!R$20*SUMPRODUCT('Efficiency Dist'!V313:V320,PC11_UEC)+'Product Class Dist'!R$21*SUMPRODUCT('Efficiency Dist'!V343:V350,PC12_UEC)+'Product Class Dist'!R$22*SUMPRODUCT('Efficiency Dist'!V373:V380,PC13_UEC)+'Product Class Dist'!R$23*SUMPRODUCT('Efficiency Dist'!V403:V410,PC14_UEC)+'Product Class Dist'!R$24*SUMPRODUCT('Efficiency Dist'!V433:V440,PC15_UEC)","v":6165.1399919099285},{"$f":"'Product Class Dist'!S$10*SUMPRODUCT('Efficiency Dist'!W13:W20,PC1_UEC)+'Product Class Dist'!S$11*SUMPRODUCT('Efficiency Dist'!W43:W50,PC2_UEC)+'Product Class Dist'!S$12*SUMPRODUCT('Efficiency Dist'!W73:W80,PC3_UEC)+'Product Class Dist'!S$13*SUMPRODUCT('Efficiency Dist'!W103:W110,PC4_UEC)+'Product Class Dist'!S$14*SUMPRODUCT('Efficiency Dist'!W133:W140,PC5_UEC)+'Product Class Dist'!S$15*SUMPRODUCT('Efficiency Dist'!W163:W170,PC6_UEC)+'Product Class Dist'!S$16*SUMPRODUCT('Efficiency Dist'!W193:W200,PC7_UEC)+'Product Class Dist'!S$17*SUMPRODUCT('Efficiency Dist'!W223:W230,PC8_UEC)+'Product Class Dist'!S$18*SUMPRODUCT('Efficiency Dist'!W253:W260,PC9_UEC)+'Product Class Dist'!S$19*SUMPRODUCT('Efficiency Dist'!W283:W290,PC10_UEC)+'Product Class Dist'!S$20*SUMPRODUCT('Efficiency Dist'!W313:W320,PC11_UEC)+'Product Class Dist'!S$21*SUMPRODUCT('Efficiency Dist'!W343:W350,PC12_UEC)+'Product Class Dist'!S$22*SUMPRODUCT('Efficiency Dist'!W373:W380,PC13_UEC)+'Product Class Dist'!S$23*SUMPRODUCT('Efficiency Dist'!W403:W410,PC14_UEC)+'Product Class Dist'!S$24*SUMPRODUCT('Efficiency Dist'!W433:W440,PC15_UEC)","v":6165.1399919099285},{"$f":"'Product Class Dist'!T$10*SUMPRODUCT('Efficiency Dist'!X13:X20,PC1_UEC)+'Product Class Dist'!T$11*SUMPRODUCT('Efficiency Dist'!X43:X50,PC2_UEC)+'Product Class Dist'!T$12*SUMPRODUCT('Efficiency Dist'!X73:X80,PC3_UEC)+'Product Class Dist'!T$13*SUMPRODUCT('Efficiency Dist'!X103:X110,PC4_UEC)+'Product Class Dist'!T$14*SUMPRODUCT('Efficiency Dist'!X133:X140,PC5_UEC)+'Product Class Dist'!T$15*SUMPRODUCT('Efficiency Dist'!X163:X170,PC6_UEC)+'Product Class Dist'!T$16*SUMPRODUCT('Efficiency Dist'!X193:X200,PC7_UEC)+'Product Class Dist'!T$17*SUMPRODUCT('Efficiency Dist'!X223:X230,PC8_UEC)+'Product Class Dist'!T$18*SUMPRODUCT('Efficiency Dist'!X253:X260,PC9_UEC)+'Product Class Dist'!T$19*SUMPRODUCT('Efficiency Dist'!X283:X290,PC10_UEC)+'Product Class Dist'!T$20*SUMPRODUCT('Efficiency Dist'!X313:X320,PC11_UEC)+'Product Class Dist'!T$21*SUMPRODUCT('Efficiency Dist'!X343:X350,PC12_UEC)+'Product Class Dist'!T$22*SUMPRODUCT('Efficiency Dist'!X373:X380,PC13_UEC)+'Product Class Dist'!T$23*SUMPRODUCT('Efficiency Dist'!X403:X410,PC14_UEC)+'Product Class Dist'!T$24*SUMPRODUCT('Efficiency Dist'!X433:X440,PC15_UEC)","v":6165.1399919099285},{"$f":"'Product Class Dist'!U$10*SUMPRODUCT('Efficiency Dist'!Y13:Y20,PC1_UEC)+'Product Class Dist'!U$11*SUMPRODUCT('Efficiency Dist'!Y43:Y50,PC2_UEC)+'Product Class Dist'!U$12*SUMPRODUCT('Efficiency Dist'!Y73:Y80,PC3_UEC)+'Product Class Dist'!U$13*SUMPRODUCT('Efficiency Dist'!Y103:Y110,PC4_UEC)+'Product Class Dist'!U$14*SUMPRODUCT('Efficiency Dist'!Y133:Y140,PC5_UEC)+'Product Class Dist'!U$15*SUMPRODUCT('Efficiency Dist'!Y163:Y170,PC6_UEC)+'Product Class Dist'!U$16*SUMPRODUCT('Efficiency Dist'!Y193:Y200,PC7_UEC)+'Product Class Dist'!U$17*SUMPRODUCT('Efficiency Dist'!Y223:Y230,PC8_UEC)+'Product Class Dist'!U$18*SUMPRODUCT('Efficiency Dist'!Y253:Y260,PC9_UEC)+'Product Class Dist'!U$19*SUMPRODUCT('Efficiency Dist'!Y283:Y290,PC10_UEC)+'Product Class Dist'!U$20*SUMPRODUCT('Efficiency Dist'!Y313:Y320,PC11_UEC)+'Product Class Dist'!U$21*SUMPRODUCT('Efficiency Dist'!Y343:Y350,PC12_UEC)+'Product Class Dist'!U$22*SUMPRODUCT('Efficiency Dist'!Y373:Y380,PC13_UEC)+'Product Class Dist'!U$23*SUMPRODUCT('Efficiency Dist'!Y403:Y410,PC14_UEC)+'Product Class Dist'!U$24*SUMPRODUCT('Efficiency Dist'!Y433:Y440,PC15_UEC)","v":6165.1399919099285},{"$f":"'Product Class Dist'!V$10*SUMPRODUCT('Efficiency Dist'!Z13:Z20,PC1_UEC)+'Product Class Dist'!V$11*SUMPRODUCT('Efficiency Dist'!Z43:Z50,PC2_UEC)+'Product Class Dist'!V$12*SUMPRODUCT('Efficiency Dist'!Z73:Z80,PC3_UEC)+'Product Class Dist'!V$13*SUMPRODUCT('Efficiency Dist'!Z103:Z110,PC4_UEC)+'Product Class Dist'!V$14*SUMPRODUCT('Efficiency Dist'!Z133:Z140,PC5_UEC)+'Product Class Dist'!V$15*SUMPRODUCT('Efficiency Dist'!Z163:Z170,PC6_UEC)+'Product Class Dist'!V$16*SUMPRODUCT('Efficiency Dist'!Z193:Z200,PC7_UEC)+'Product Class Dist'!V$17*SUMPRODUCT('Efficiency Dist'!Z223:Z230,PC8_UEC)+'Product Class Dist'!V$18*SUMPRODUCT('Efficiency Dist'!Z253:Z260,PC9_UEC)+'Product Class Dist'!V$19*SUMPRODUCT('Efficiency Dist'!Z283:Z290,PC10_UEC)+'Product Class Dist'!V$20*SUMPRODUCT('Efficiency Dist'!Z313:Z320,PC11_UEC)+'Product Class Dist'!V$21*SUMPRODUCT('Efficiency Dist'!Z343:Z350,PC12_UEC)+'Product Class Dist'!V$22*SUMPRODUCT('Efficiency Dist'!Z373:Z380,PC13_UEC)+'Product Class Dist'!V$23*SUMPRODUCT('Efficiency Dist'!Z403:Z410,PC14_UEC)+'Product Class Dist'!V$24*SUMPRODUCT('Efficiency Dist'!Z433:Z440,PC15_UEC)","v":6165.1399919099285},{"$f":"'Product Class Dist'!W$10*SUMPRODUCT('Efficiency Dist'!AA13:AA20,PC1_UEC)+'Product Class Dist'!W$11*SUMPRODUCT('Efficiency Dist'!AA43:AA50,PC2_UEC)+'Product Class Dist'!W$12*SUMPRODUCT('Efficiency Dist'!AA73:AA80,PC3_UEC)+'Product Class Dist'!W$13*SUMPRODUCT('Efficiency Dist'!AA103:AA110,PC4_UEC)+'Product Class Dist'!W$14*SUMPRODUCT('Efficiency Dist'!AA133:AA140,PC5_UEC)+'Product Class Dist'!W$15*SUMPRODUCT('Efficiency Dist'!AA163:AA170,PC6_UEC)+'Product Class Dist'!W$16*SUMPRODUCT('Efficiency Dist'!AA193:AA200,PC7_UEC)+'Product Class Dist'!W$17*SUMPRODUCT('Efficiency Dist'!AA223:AA230,PC8_UEC)+'Product Class Dist'!W$18*SUMPRODUCT('Efficiency Dist'!AA253:AA260,PC9_UEC)+'Product Class Dist'!W$19*SUMPRODUCT('Efficiency Dist'!AA283:AA290,PC10_UEC)+'Product Class Dist'!W$20*SUMPRODUCT('Efficiency Dist'!AA313:AA320,PC11_UEC)+'Product Class Dist'!W$21*SUMPRODUCT('Efficiency Dist'!AA343:AA350,PC12_UEC)+'Product Class Dist'!W$22*SUMPRODUCT('Efficiency Dist'!AA373:AA380,PC13_UEC)+'Product Class Dist'!W$23*SUMPRODUCT('Efficiency Dist'!AA403:AA410,PC14_UEC)+'Product Class Dist'!W$24*SUMPRODUCT('Efficiency Dist'!AA433:AA440,PC15_UEC)","v":6165.1399919099285},{"$f":"'Product Class Dist'!X$10*SUMPRODUCT('Efficiency Dist'!AB13:AB20,PC1_UEC)+'Product Class Dist'!X$11*SUMPRODUCT('Efficiency Dist'!AB43:AB50,PC2_UEC)+'Product Class Dist'!X$12*SUMPRODUCT('Efficiency Dist'!AB73:AB80,PC3_UEC)+'Product Class Dist'!X$13*SUMPRODUCT('Efficiency Dist'!AB103:AB110,PC4_UEC)+'Product Class Dist'!X$14*SUMPRODUCT('Efficiency Dist'!AB133:AB140,PC5_UEC)+'Product Class Dist'!X$15*SUMPRODUCT('Efficiency Dist'!AB163:AB170,PC6_UEC)+'Product Class Dist'!X$16*SUMPRODUCT('Efficiency Dist'!AB193:AB200,PC7_UEC)+'Product Class Dist'!X$17*SUMPRODUCT('Efficiency Dist'!AB223:AB230,PC8_UEC)+'Product Class Dist'!X$18*SUMPRODUCT('Efficiency Dist'!AB253:AB260,PC9_UEC)+'Product Class Dist'!X$19*SUMPRODUCT('Efficiency Dist'!AB283:AB290,PC10_UEC)+'Product Class Dist'!X$20*SUMPRODUCT('Efficiency Dist'!AB313:AB320,PC11_UEC)+'Product Class Dist'!X$21*SUMPRODUCT('Efficiency Dist'!AB343:AB350,PC12_UEC)+'Product Class Dist'!X$22*SUMPRODUCT('Efficiency Dist'!AB373:AB380,PC13_UEC)+'Product Class Dist'!X$23*SUMPRODUCT('Efficiency Dist'!AB403:AB410,PC14_UEC)+'Product Class Dist'!X$24*SUMPRODUCT('Efficiency Dist'!AB433:AB440,PC15_UEC)","v":5104.0615135359394},{"$f":"'Product Class Dist'!Y$10*SUMPRODUCT('Efficiency Dist'!AC13:AC20,PC1_UEC)+'Product Class Dist'!Y$11*SUMPRODUCT('Efficiency Dist'!AC43:AC50,PC2_UEC)+'Product Class Dist'!Y$12*SUMPRODUCT('Efficiency Dist'!AC73:AC80,PC3_UEC)+'Product Class Dist'!Y$13*SUMPRODUCT('Efficiency Dist'!AC103:AC110,PC4_UEC)+'Product Class Dist'!Y$14*SUMPRODUCT('Efficiency Dist'!AC133:AC140,PC5_UEC)+'Product Class Dist'!Y$15*SUMPRODUCT('Efficiency Dist'!AC163:AC170,PC6_UEC)+'Product Class Dist'!Y$16*SUMPRODUCT('Efficiency Dist'!AC193:AC200,PC7_UEC)+'Product Class Dist'!Y$17*SUMPRODUCT('Efficiency Dist'!AC223:AC230,PC8_UEC)+'Product Class Dist'!Y$18*SUMPRODUCT('Efficiency Dist'!AC253:AC260,PC9_UEC)+'Product Class Dist'!Y$19*SUMPRODUCT('Efficiency Dist'!AC283:AC290,PC10_UEC)+'Product Class Dist'!Y$20*SUMPRODUCT('Efficiency Dist'!AC313:AC320,PC11_UEC)+'Product Class Dist'!Y$21*SUMPRODUCT('Efficiency Dist'!AC343:AC350,PC12_UEC)+'Product Class Dist'!Y$22*SUMPRODUCT('Efficiency Dist'!AC373:AC380,PC13_UEC)+'Product Class Dist'!Y$23*SUMPRODUCT('Efficiency Dist'!AC403:AC410,PC14_UEC)+'Product Class Dist'!Y$24*SUMPRODUCT('Efficiency Dist'!AC433:AC440,PC15_UEC)","v":5104.0615135359394},{"$f":"'Product Class Dist'!Z$10*SUMPRODUCT('Efficiency Dist'!AD13:AD20,PC1_UEC)+'Product Class Dist'!Z$11*SUMPRODUCT('Efficiency Dist'!AD43:AD50,PC2_UEC)+'Product Class Dist'!Z$12*SUMPRODUCT('Efficiency Dist'!AD73:AD80,PC3_UEC)+'Product Class Dist'!Z$13*SUMPRODUCT('Efficiency Dist'!AD103:AD110,PC4_UEC)+'Product Class Dist'!Z$14*SUMPRODUCT('Efficiency Dist'!AD133:AD140,PC5_UEC)+'Product Class Dist'!Z$15*SUMPRODUCT('Efficiency Dist'!AD163:AD170,PC6_UEC)+'Product Class Dist'!Z$16*SUMPRODUCT('Efficiency Dist'!AD193:AD200,PC7_UEC)+'Product Class Dist'!Z$17*SUMPRODUCT('Efficiency Dist'!AD223:AD230,PC8_UEC)+'Product Class Dist'!Z$18*SUMPRODUCT('Efficiency Dist'!AD253:AD260,PC9_UEC)+'Product Class Dist'!Z$19*SUMPRODUCT('Efficiency Dist'!AD283:AD290,PC10_UEC)+'Product Class Dist'!Z$20*SUMPRODUCT('Efficiency Dist'!AD313:AD320,PC11_UEC)+'Product Class Dist'!Z$21*SUMPRODUCT('Efficiency Dist'!AD343:AD350,PC12_UEC)+'Product Class Dist'!Z$22*SUMPRODUCT('Efficiency Dist'!AD373:AD380,PC13_UEC)+'Product Class Dist'!Z$23*SUMPRODUCT('Efficiency Dist'!AD403:AD410,PC14_UEC)+'Product Class Dist'!Z$24*SUMPRODUCT('Efficiency Dist'!AD433:AD440,PC15_UEC)","v":5104.0615135359394},{"$f":"'Product Class Dist'!AA$10*SUMPRODUCT('Efficiency Dist'!AE13:AE20,PC1_UEC)+'Product Class Dist'!AA$11*SUMPRODUCT('Efficiency Dist'!AE43:AE50,PC2_UEC)+'Product Class Dist'!AA$12*SUMPRODUCT('Efficiency Dist'!AE73:AE80,PC3_UEC)+'Product Class Dist'!AA$13*SUMPRODUCT('Efficiency Dist'!AE103:AE110,PC4_UEC)+'Product Class Dist'!AA$14*SUMPRODUCT('Efficiency Dist'!AE133:AE140,PC5_UEC)+'Product Class Dist'!AA$15*SUMPRODUCT('Efficiency Dist'!AE163:AE170,PC6_UEC)+'Product Class Dist'!AA$16*SUMPRODUCT('Efficiency Dist'!AE193:AE200,PC7_UEC)+'Product Class Dist'!AA$17*SUMPRODUCT('Efficiency Dist'!AE223:AE230,PC8_UEC)+'Product Class Dist'!AA$18*SUMPRODUCT('Efficiency Dist'!AE253:AE260,PC9_UEC)+'Product Class Dist'!AA$19*SUMPRODUCT('Efficiency Dist'!AE283:AE290,PC10_UEC)+'Product Class Dist'!AA$20*SUMPRODUCT('Efficiency Dist'!AE313:AE320,PC11_UEC)+'Product Class Dist'!AA$21*SUMPRODUCT('Efficiency Dist'!AE343:AE350,PC12_UEC)+'Product Class Dist'!AA$22*SUMPRODUCT('Efficiency Dist'!AE373:AE380,PC13_UEC)+'Product Class Dist'!AA$23*SUMPRODUCT('Efficiency Dist'!AE403:AE410,PC14_UEC)+'Product Class Dist'!AA$24*SUMPRODUCT('Efficiency Dist'!AE433:AE440,PC15_UEC)","v":5104.0615135359394},{"$f":"'Product Class Dist'!AB$10*SUMPRODUCT('Efficiency Dist'!AF13:AF20,PC1_UEC)+'Product Class Dist'!AB$11*SUMPRODUCT('Efficiency Dist'!AF43:AF50,PC2_UEC)+'Product Class Dist'!AB$12*SUMPRODUCT('Efficiency Dist'!AF73:AF80,PC3_UEC)+'Product Class Dist'!AB$13*SUMPRODUCT('Efficiency Dist'!AF103:AF110,PC4_UEC)+'Product Class Dist'!AB$14*SUMPRODUCT('Efficiency Dist'!AF133:AF140,PC5_UEC)+'Product Class Dist'!AB$15*SUMPRODUCT('Efficiency Dist'!AF163:AF170,PC6_UEC)+'Product Class Dist'!AB$16*SUMPRODUCT('Efficiency Dist'!AF193:AF200,PC7_UEC)+'Product Class Dist'!AB$17*SUMPRODUCT('Efficiency Dist'!AF223:AF230,PC8_UEC)+'Product Class Dist'!AB$18*SUMPRODUCT('Efficiency Dist'!AF253:AF260,PC9_UEC)+'Product Class Dist'!AB$19*SUMPRODUCT('Efficiency Dist'!AF283:AF290,PC10_UEC)+'Product Class Dist'!AB$20*SUMPRODUCT('Efficiency Dist'!AF313:AF320,PC11_UEC)+'Product Class Dist'!AB$21*SUMPRODUCT('Efficiency Dist'!AF343:AF350,PC12_UEC)+'Product Class Dist'!AB$22*SUMPRODUCT('Efficiency Dist'!AF373:AF380,PC13_UEC)+'Product Class Dist'!AB$23*SUMPRODUCT('Efficiency Dist'!AF403:AF410,PC14_UEC)+'Product Class Dist'!AB$24*SUMPRODUCT('Efficiency Dist'!AF433:AF440,PC15_UEC)","v":5104.0615135359394},{"$f":"'Product Class Dist'!AC$10*SUMPRODUCT('Efficiency Dist'!AG13:AG20,PC1_UEC)+'Product Class Dist'!AC$11*SUMPRODUCT('Efficiency Dist'!AG43:AG50,PC2_UEC)+'Product Class Dist'!AC$12*SUMPRODUCT('Efficiency Dist'!AG73:AG80,PC3_UEC)+'Product Class Dist'!AC$13*SUMPRODUCT('Efficiency Dist'!AG103:AG110,PC4_UEC)+'Product Class Dist'!AC$14*SUMPRODUCT('Efficiency Dist'!AG133:AG140,PC5_UEC)+'Product Class Dist'!AC$15*SUMPRODUCT('Efficiency Dist'!AG163:AG170,PC6_UEC)+'Product Class Dist'!AC$16*SUMPRODUCT('Efficiency Dist'!AG193:AG200,PC7_UEC)+'Product Class Dist'!AC$17*SUMPRODUCT('Efficiency Dist'!AG223:AG230,PC8_UEC)+'Product Class Dist'!AC$18*SUMPRODUCT('Efficiency Dist'!AG253:AG260,PC9_UEC)+'Product Class Dist'!AC$19*SUMPRODUCT('Efficiency Dist'!AG283:AG290,PC10_UEC)+'Product Class Dist'!AC$20*SUMPRODUCT('Efficiency Dist'!AG313:AG320,PC11_UEC)+'Product Class Dist'!AC$21*SUMPRODUCT('Efficiency Dist'!AG343:AG350,PC12_UEC)+'Product Class Dist'!AC$22*SUMPRODUCT('Efficiency Dist'!AG373:AG380,PC13_UEC)+'Product Class Dist'!AC$23*SUMPRODUCT('Efficiency Dist'!AG403:AG410,PC14_UEC)+'Product Class Dist'!AC$24*SUMPRODUCT('Efficiency Dist'!AG433:AG440,PC15_UEC)","v":5104.0615135359394},{"$f":"'Product Class Dist'!AD$10*SUMPRODUCT('Efficiency Dist'!AH13:AH20,PC1_UEC)+'Product Class Dist'!AD$11*SUMPRODUCT('Efficiency Dist'!AH43:AH50,PC2_UEC)+'Product Class Dist'!AD$12*SUMPRODUCT('Efficiency Dist'!AH73:AH80,PC3_UEC)+'Product Class Dist'!AD$13*SUMPRODUCT('Efficiency Dist'!AH103:AH110,PC4_UEC)+'Product Class Dist'!AD$14*SUMPRODUCT('Efficiency Dist'!AH133:AH140,PC5_UEC)+'Product Class Dist'!AD$15*SUMPRODUCT('Efficiency Dist'!AH163:AH170,PC6_UEC)+'Product Class Dist'!AD$16*SUMPRODUCT('Efficiency Dist'!AH193:AH200,PC7_UEC)+'Product Class Dist'!AD$17*SUMPRODUCT('Efficiency Dist'!AH223:AH230,PC8_UEC)+'Product Class Dist'!AD$18*SUMPRODUCT('Efficiency Dist'!AH253:AH260,PC9_UEC)+'Product Class Dist'!AD$19*SUMPRODUCT('Efficiency Dist'!AH283:AH290,PC10_UEC)+'Product Class Dist'!AD$20*SUMPRODUCT('Efficiency Dist'!AH313:AH320,PC11_UEC)+'Product Class Dist'!AD$21*SUMPRODUCT('Efficiency Dist'!AH343:AH350,PC12_UEC)+'Product Class Dist'!AD$22*SUMPRODUCT('Efficiency Dist'!AH373:AH380,PC13_UEC)+'Product Class Dist'!AD$23*SUMPRODUCT('Efficiency Dist'!AH403:AH410,PC14_UEC)+'Product Class Dist'!AD$24*SUMPRODUCT('Efficiency Dist'!AH433:AH440,PC15_UEC)","v":5104.0615135359394},{"$f":"'Product Class Dist'!AE$10*SUMPRODUCT('Efficiency Dist'!AI13:AI20,PC1_UEC)+'Product Class Dist'!AE$11*SUMPRODUCT('Efficiency Dist'!AI43:AI50,PC2_UEC)+'Product Class Dist'!AE$12*SUMPRODUCT('Efficiency Dist'!AI73:AI80,PC3_UEC)+'Product Class Dist'!AE$13*SUMPRODUCT('Efficiency Dist'!AI103:AI110,PC4_UEC)+'Product Class Dist'!AE$14*SUMPRODUCT('Efficiency Dist'!AI133:AI140,PC5_UEC)+'Product Class Dist'!AE$15*SUMPRODUCT('Efficiency Dist'!AI163:AI170,PC6_UEC)+'Product Class Dist'!AE$16*SUMPRODUCT('Efficiency Dist'!AI193:AI200,PC7_UEC)+'Product Class Dist'!AE$17*SUMPRODUCT('Efficiency Dist'!AI223:AI230,PC8_UEC)+'Product Class Dist'!AE$18*SUMPRODUCT('Efficiency Dist'!AI253:AI260,PC9_UEC)+'Product Class Dist'!AE$19*SUMPRODUCT('Efficiency Dist'!AI283:AI290,PC10_UEC)+'Product Class Dist'!AE$20*SUMPRODUCT('Efficiency Dist'!AI313:AI320,PC11_UEC)+'Product Class Dist'!AE$21*SUMPRODUCT('Efficiency Dist'!AI343:AI350,PC12_UEC)+'Product Class Dist'!AE$22*SUMPRODUCT('Efficiency Dist'!AI373:AI380,PC13_UEC)+'Product Class Dist'!AE$23*SUMPRODUCT('Efficiency Dist'!AI403:AI410,PC14_UEC)+'Product Class Dist'!AE$24*SUMPRODUCT('Efficiency Dist'!AI433:AI440,PC15_UEC)","v":5104.0615135359394},{"$f":"'Product Class Dist'!AF$10*SUMPRODUCT('Efficiency Dist'!AJ13:AJ20,PC1_UEC)+'Product Class Dist'!AF$11*SUMPRODUCT('Efficiency Dist'!AJ43:AJ50,PC2_UEC)+'Product Class Dist'!AF$12*SUMPRODUCT('Efficiency Dist'!AJ73:AJ80,PC3_UEC)+'Product Class Dist'!AF$13*SUMPRODUCT('Efficiency Dist'!AJ103:AJ110,PC4_UEC)+'Product Class Dist'!AF$14*SUMPRODUCT('Efficiency Dist'!AJ133:AJ140,PC5_UEC)+'Product Class Dist'!AF$15*SUMPRODUCT('Efficiency Dist'!AJ163:AJ170,PC6_UEC)+'Product Class Dist'!AF$16*SUMPRODUCT('Efficiency Dist'!AJ193:AJ200,PC7_UEC)+'Product Class Dist'!AF$17*SUMPRODUCT('Efficiency Dist'!AJ223:AJ230,PC8_UEC)+'Product Class Dist'!AF$18*SUMPRODUCT('Efficiency Dist'!AJ253:AJ260,PC9_UEC)+'Product Class Dist'!AF$19*SUMPRODUCT('Efficiency Dist'!AJ283:AJ290,PC10_UEC)+'Product Class Dist'!AF$20*SUMPRODUCT('Efficiency Dist'!AJ313:AJ320,PC11_UEC)+'Product Class Dist'!AF$21*SUMPRODUCT('Efficiency Dist'!AJ343:AJ350,PC12_UEC)+'Product Class Dist'!AF$22*SUMPRODUCT('Efficiency Dist'!AJ373:AJ380,PC13_UEC)+'Product Class Dist'!AF$23*SUMPRODUCT('Efficiency Dist'!AJ403:AJ410,PC14_UEC)+'Product Class Dist'!AF$24*SUMPRODUCT('Efficiency Dist'!AJ433:AJ440,PC15_UEC)","v":5104.0615135359394},{"$f":"'Product Class Dist'!AG$10*SUMPRODUCT('Efficiency Dist'!AK13:AK20,PC1_UEC)+'Product Class Dist'!AG$11*SUMPRODUCT('Efficiency Dist'!AK43:AK50,PC2_UEC)+'Product Class Dist'!AG$12*SUMPRODUCT('Efficiency Dist'!AK73:AK80,PC3_UEC)+'Product Class Dist'!AG$13*SUMPRODUCT('Efficiency Dist'!AK103:AK110,PC4_UEC)+'Product Class Dist'!AG$14*SUMPRODUCT('Efficiency Dist'!AK133:AK140,PC5_UEC)+'Product Class Dist'!AG$15*SUMPRODUCT('Efficiency Dist'!AK163:AK170,PC6_UEC)+'Product Class Dist'!AG$16*SUMPRODUCT('Efficiency Dist'!AK193:AK200,PC7_UEC)+'Product Class Dist'!AG$17*SUMPRODUCT('Efficiency Dist'!AK223:AK230,PC8_UEC)+'Product Class Dist'!AG$18*SUMPRODUCT('Efficiency Dist'!AK253:AK260,PC9_UEC)+'Product Class Dist'!AG$19*SUMPRODUCT('Efficiency Dist'!AK283:AK290,PC10_UEC)+'Product Class Dist'!AG$20*SUMPRODUCT('Efficiency Dist'!AK313:AK320,PC11_UEC)+'Product Class Dist'!AG$21*SUMPRODUCT('Efficiency Dist'!AK343:AK350,PC12_UEC)+'Product Class Dist'!AG$22*SUMPRODUCT('Efficiency Dist'!AK373:AK380,PC13_UEC)+'Product Class Dist'!AG$23*SUMPRODUCT('Efficiency Dist'!AK403:AK410,PC14_UEC)+'Product Class Dist'!AG$24*SUMPRODUCT('Efficiency Dist'!AK433:AK440,PC15_UEC)","v":5104.0615135359394},{"$f":"'Product Class Dist'!AH$10*SUMPRODUCT('Efficiency Dist'!AL13:AL20,PC1_UEC)+'Product Class Dist'!AH$11*SUMPRODUCT('Efficiency Dist'!AL43:AL50,PC2_UEC)+'Product Class Dist'!AH$12*SUMPRODUCT('Efficiency Dist'!AL73:AL80,PC3_UEC)+'Product Class Dist'!AH$13*SUMPRODUCT('Efficiency Dist'!AL103:AL110,PC4_UEC)+'Product Class Dist'!AH$14*SUMPRODUCT('Efficiency Dist'!AL133:AL140,PC5_UEC)+'Product Class Dist'!AH$15*SUMPRODUCT('Efficiency Dist'!AL163:AL170,PC6_UEC)+'Product Class Dist'!AH$16*SUMPRODUCT('Efficiency Dist'!AL193:AL200,PC7_UEC)+'Product Class Dist'!AH$17*SUMPRODUCT('Efficiency Dist'!AL223:AL230,PC8_UEC)+'Product Class Dist'!AH$18*SUMPRODUCT('Efficiency Dist'!AL253:AL260,PC9_UEC)+'Product Class Dist'!AH$19*SUMPRODUCT('Efficiency Dist'!AL283:AL290,PC10_UEC)+'Product Class Dist'!AH$20*SUMPRODUCT('Efficiency Dist'!AL313:AL320,PC11_UEC)+'Product Class Dist'!AH$21*SUMPRODUCT('Efficiency Dist'!AL343:AL350,PC12_UEC)+'Product Class Dist'!AH$22*SUMPRODUCT('Efficiency Dist'!AL373:AL380,PC13_UEC)+'Product Class Dist'!AH$23*SUMPRODUCT('Efficiency Dist'!AL403:AL410,PC14_UEC)+'Product Class Dist'!AH$24*SUMPRODUCT('Efficiency Dist'!AL433:AL440,PC15_UEC)","v":5104.0615135359394},{"$f":"'Product Class Dist'!AI$10*SUMPRODUCT('Efficiency Dist'!AM13:AM20,PC1_UEC)+'Product Class Dist'!AI$11*SUMPRODUCT('Efficiency Dist'!AM43:AM50,PC2_UEC)+'Product Class Dist'!AI$12*SUMPRODUCT('Efficiency Dist'!AM73:AM80,PC3_UEC)+'Product Class Dist'!AI$13*SUMPRODUCT('Efficiency Dist'!AM103:AM110,PC4_UEC)+'Product Class Dist'!AI$14*SUMPRODUCT('Efficiency Dist'!AM133:AM140,PC5_UEC)+'Product Class Dist'!AI$15*SUMPRODUCT('Efficiency Dist'!AM163:AM170,PC6_UEC)+'Product Class Dist'!AI$16*SUMPRODUCT('Efficiency Dist'!AM193:AM200,PC7_UEC)+'Product Class Dist'!AI$17*SUMPRODUCT('Efficiency Dist'!AM223:AM230,PC8_UEC)+'Product Class Dist'!AI$18*SUMPRODUCT('Efficiency Dist'!AM253:AM260,PC9_UEC)+'Product Class Dist'!AI$19*SUMPRODUCT('Efficiency Dist'!AM283:AM290,PC10_UEC)+'Product Class Dist'!AI$20*SUMPRODUCT('Efficiency Dist'!AM313:AM320,PC11_UEC)+'Product Class Dist'!AI$21*SUMPRODUCT('Efficiency Dist'!AM343:AM350,PC12_UEC)+'Product Class Dist'!AI$22*SUMPRODUCT('Efficiency Dist'!AM373:AM380,PC13_UEC)+'Product Class Dist'!AI$23*SUMPRODUCT('Efficiency Dist'!AM403:AM410,PC14_UEC)+'Product Class Dist'!AI$24*SUMPRODUCT('Efficiency Dist'!AM433:AM440,PC15_UEC)","v":5104.0615135359394},{"$f":"'Product Class Dist'!AJ$10*SUMPRODUCT('Efficiency Dist'!AN13:AN20,PC1_UEC)+'Product Class Dist'!AJ$11*SUMPRODUCT('Efficiency Dist'!AN43:AN50,PC2_UEC)+'Product Class Dist'!AJ$12*SUMPRODUCT('Efficiency Dist'!AN73:AN80,PC3_UEC)+'Product Class Dist'!AJ$13*SUMPRODUCT('Efficiency Dist'!AN103:AN110,PC4_UEC)+'Product Class Dist'!AJ$14*SUMPRODUCT('Efficiency Dist'!AN133:AN140,PC5_UEC)+'Product Class Dist'!AJ$15*SUMPRODUCT('Efficiency Dist'!AN163:AN170,PC6_UEC)+'Product Class Dist'!AJ$16*SUMPRODUCT('Efficiency Dist'!AN193:AN200,PC7_UEC)+'Product Class Dist'!AJ$17*SUMPRODUCT('Efficiency Dist'!AN223:AN230,PC8_UEC)+'Product Class Dist'!AJ$18*SUMPRODUCT('Efficiency Dist'!AN253:AN260,PC9_UEC)+'Product Class Dist'!AJ$19*SUMPRODUCT('Efficiency Dist'!AN283:AN290,PC10_UEC)+'Product Class Dist'!AJ$20*SUMPRODUCT('Efficiency Dist'!AN313:AN320,PC11_UEC)+'Product Class Dist'!AJ$21*SUMPRODUCT('Efficiency Dist'!AN343:AN350,PC12_UEC)+'Product Class Dist'!AJ$22*SUMPRODUCT('Efficiency Dist'!AN373:AN380,PC13_UEC)+'Product Class Dist'!AJ$23*SUMPRODUCT('Efficiency Dist'!AN403:AN410,PC14_UEC)+'Product Class Dist'!AJ$24*SUMPRODUCT('Efficiency Dist'!AN433:AN440,PC15_UEC)","v":5104.0615135359394},{"$f":"'Product Class Dist'!AK$10*SUMPRODUCT('Efficiency Dist'!AO13:AO20,PC1_UEC)+'Product Class Dist'!AK$11*SUMPRODUCT('Efficiency Dist'!AO43:AO50,PC2_UEC)+'Product Class Dist'!AK$12*SUMPRODUCT('Efficiency Dist'!AO73:AO80,PC3_UEC)+'Product Class Dist'!AK$13*SUMPRODUCT('Efficiency Dist'!AO103:AO110,PC4_UEC)+'Product Class Dist'!AK$14*SUMPRODUCT('Efficiency Dist'!AO133:AO140,PC5_UEC)+'Product Class Dist'!AK$15*SUMPRODUCT('Efficiency Dist'!AO163:AO170,PC6_UEC)+'Product Class Dist'!AK$16*SUMPRODUCT('Efficiency Dist'!AO193:AO200,PC7_UEC)+'Product Class Dist'!AK$17*SUMPRODUCT('Efficiency Dist'!AO223:AO230,PC8_UEC)+'Product Class Dist'!AK$18*SUMPRODUCT('Efficiency Dist'!AO253:AO260,PC9_UEC)+'Product Class Dist'!AK$19*SUMPRODUCT('Efficiency Dist'!AO283:AO290,PC10_UEC)+'Product Class Dist'!AK$20*SUMPRODUCT('Efficiency Dist'!AO313:AO320,PC11_UEC)+'Product Class Dist'!AK$21*SUMPRODUCT('Efficiency Dist'!AO343:AO350,PC12_UEC)+'Product Class Dist'!AK$22*SUMPRODUCT('Efficiency Dist'!AO373:AO380,PC13_UEC)+'Product Class Dist'!AK$23*SUMPRODUCT('Efficiency Dist'!AO403:AO410,PC14_UEC)+'Product Class Dist'!AK$24*SUMPRODUCT('Efficiency Dist'!AO433:AO440,PC15_UEC)","v":5104.0615135359394},{"$f":"'Product Class Dist'!AL$10*SUMPRODUCT('Efficiency Dist'!AP13:AP20,PC1_UEC)+'Product Class Dist'!AL$11*SUMPRODUCT('Efficiency Dist'!AP43:AP50,PC2_UEC)+'Product Class Dist'!AL$12*SUMPRODUCT('Efficiency Dist'!AP73:AP80,PC3_UEC)+'Product Class Dist'!AL$13*SUMPRODUCT('Efficiency Dist'!AP103:AP110,PC4_UEC)+'Product Class Dist'!AL$14*SUMPRODUCT('Efficiency Dist'!AP133:AP140,PC5_UEC)+'Product Class Dist'!AL$15*SUMPRODUCT('Efficiency Dist'!AP163:AP170,PC6_UEC)+'Product Class Dist'!AL$16*SUMPRODUCT('Efficiency Dist'!AP193:AP200,PC7_UEC)+'Product Class Dist'!AL$17*SUMPRODUCT('Efficiency Dist'!AP223:AP230,PC8_UEC)+'Product Class Dist'!AL$18*SUMPRODUCT('Efficiency Dist'!AP253:AP260,PC9_UEC)+'Product Class Dist'!AL$19*SUMPRODUCT('Efficiency Dist'!AP283:AP290,PC10_UEC)+'Product Class Dist'!AL$20*SUMPRODUCT('Efficiency Dist'!AP313:AP320,PC11_UEC)+'Product Class Dist'!AL$21*SUMPRODUCT('Efficiency Dist'!AP343:AP350,PC12_UEC)+'Product Class Dist'!AL$22*SUMPRODUCT('Efficiency Dist'!AP373:AP380,PC13_UEC)+'Product Class Dist'!AL$23*SUMPRODUCT('Efficiency Dist'!AP403:AP410,PC14_UEC)+'Product Class Dist'!AL$24*SUMPRODUCT('Efficiency Dist'!AP433:AP440,PC15_UEC)","v":5104.0615135359394},{"$f":"'Product Class Dist'!AM$10*SUMPRODUCT('Efficiency Dist'!AQ13:AQ20,PC1_UEC)+'Product Class Dist'!AM$11*SUMPRODUCT('Efficiency Dist'!AQ43:AQ50,PC2_UEC)+'Product Class Dist'!AM$12*SUMPRODUCT('Efficiency Dist'!AQ73:AQ80,PC3_UEC)+'Product Class Dist'!AM$13*SUMPRODUCT('Efficiency Dist'!AQ103:AQ110,PC4_UEC)+'Product Class Dist'!AM$14*SUMPRODUCT('Efficiency Dist'!AQ133:AQ140,PC5_UEC)+'Product Class Dist'!AM$15*SUMPRODUCT('Efficiency Dist'!AQ163:AQ170,PC6_UEC)+'Product Class Dist'!AM$16*SUMPRODUCT('Efficiency Dist'!AQ193:AQ200,PC7_UEC)+'Product Class Dist'!AM$17*SUMPRODUCT('Efficiency Dist'!AQ223:AQ230,PC8_UEC)+'Product Class Dist'!AM$18*SUMPRODUCT('Efficiency Dist'!AQ253:AQ260,PC9_UEC)+'Product Class Dist'!AM$19*SUMPRODUCT('Efficiency Dist'!AQ283:AQ290,PC10_UEC)+'Product Class Dist'!AM$20*SUMPRODUCT('Efficiency Dist'!AQ313:AQ320,PC11_UEC)+'Product Class Dist'!AM$21*SUMPRODUCT('Efficiency Dist'!AQ343:AQ350,PC12_UEC)+'Product Class Dist'!AM$22*SUMPRODUCT('Efficiency Dist'!AQ373:AQ380,PC13_UEC)+'Product Class Dist'!AM$23*SUMPRODUCT('Efficiency Dist'!AQ403:AQ410,PC14_UEC)+'Product Class Dist'!AM$24*SUMPRODUCT('Efficiency Dist'!AQ433:AQ440,PC15_UEC)","v":5104.0615135359394},{"$f":"'Product Class Dist'!AN$10*SUMPRODUCT('Efficiency Dist'!AR13:AR20,PC1_UEC)+'Product Class Dist'!AN$11*SUMPRODUCT('Efficiency Dist'!AR43:AR50,PC2_UEC)+'Product Class Dist'!AN$12*SUMPRODUCT('Efficiency Dist'!AR73:AR80,PC3_UEC)+'Product Class Dist'!AN$13*SUMPRODUCT('Efficiency Dist'!AR103:AR110,PC4_UEC)+'Product Class Dist'!AN$14*SUMPRODUCT('Efficiency Dist'!AR133:AR140,PC5_UEC)+'Product Class Dist'!AN$15*SUMPRODUCT('Efficiency Dist'!AR163:AR170,PC6_UEC)+'Product Class Dist'!AN$16*SUMPRODUCT('Efficiency Dist'!AR193:AR200,PC7_UEC)+'Product Class Dist'!AN$17*SUMPRODUCT('Efficiency Dist'!AR223:AR230,PC8_UEC)+'Product Class Dist'!AN$18*SUMPRODUCT('Efficiency Dist'!AR253:AR260,PC9_UEC)+'Product Class Dist'!AN$19*SUMPRODUCT('Efficiency Dist'!AR283:AR290,PC10_UEC)+'Product Class Dist'!AN$20*SUMPRODUCT('Efficiency Dist'!AR313:AR320,PC11_UEC)+'Product Class Dist'!AN$21*SUMPRODUCT('Efficiency Dist'!AR343:AR350,PC12_UEC)+'Product Class Dist'!AN$22*SUMPRODUCT('Efficiency Dist'!AR373:AR380,PC13_UEC)+'Product Class Dist'!AN$23*SUMPRODUCT('Efficiency Dist'!AR403:AR410,PC14_UEC)+'Product Class Dist'!AN$24*SUMPRODUCT('Efficiency Dist'!AR433:AR440,PC15_UEC)","v":5104.0615135359394},{"$f":"'Product Class Dist'!AO$10*SUMPRODUCT('Efficiency Dist'!AS13:AS20,PC1_UEC)+'Product Class Dist'!AO$11*SUMPRODUCT('Efficiency Dist'!AS43:AS50,PC2_UEC)+'Product Class Dist'!AO$12*SUMPRODUCT('Efficiency Dist'!AS73:AS80,PC3_UEC)+'Product Class Dist'!AO$13*SUMPRODUCT('Efficiency Dist'!AS103:AS110,PC4_UEC)+'Product Class Dist'!AO$14*SUMPRODUCT('Efficiency Dist'!AS133:AS140,PC5_UEC)+'Product Class Dist'!AO$15*SUMPRODUCT('Efficiency Dist'!AS163:AS170,PC6_UEC)+'Product Class Dist'!AO$16*SUMPRODUCT('Efficiency Dist'!AS193:AS200,PC7_UEC)+'Product Class Dist'!AO$17*SUMPRODUCT('Efficiency Dist'!AS223:AS230,PC8_UEC)+'Product Class Dist'!AO$18*SUMPRODUCT('Efficiency Dist'!AS253:AS260,PC9_UEC)+'Product Class Dist'!AO$19*SUMPRODUCT('Efficiency Dist'!AS283:AS290,PC10_UEC)+'Product Class Dist'!AO$20*SUMPRODUCT('Efficiency Dist'!AS313:AS320,PC11_UEC)+'Product Class Dist'!AO$21*SUMPRODUCT('Efficiency Dist'!AS343:AS350,PC12_UEC)+'Product Class Dist'!AO$22*SUMPRODUCT('Efficiency Dist'!AS373:AS380,PC13_UEC)+'Product Class Dist'!AO$23*SUMPRODUCT('Efficiency Dist'!AS403:AS410,PC14_UEC)+'Product Class Dist'!AO$24*SUMPRODUCT('Efficiency Dist'!AS433:AS440,PC15_UEC)","v":5104.0615135359394},{"$f":"'Product Class Dist'!AP$10*SUMPRODUCT('Efficiency Dist'!AT13:AT20,PC1_UEC)+'Product Class Dist'!AP$11*SUMPRODUCT('Efficiency Dist'!AT43:AT50,PC2_UEC)+'Product Class Dist'!AP$12*SUMPRODUCT('Efficiency Dist'!AT73:AT80,PC3_UEC)+'Product Class Dist'!AP$13*SUMPRODUCT('Efficiency Dist'!AT103:AT110,PC4_UEC)+'Product Class Dist'!AP$14*SUMPRODUCT('Efficiency Dist'!AT133:AT140,PC5_UEC)+'Product Class Dist'!AP$15*SUMPRODUCT('Efficiency Dist'!AT163:AT170,PC6_UEC)+'Product Class Dist'!AP$16*SUMPRODUCT('Efficiency Dist'!AT193:AT200,PC7_UEC)+'Product Class Dist'!AP$17*SUMPRODUCT('Efficiency Dist'!AT223:AT230,PC8_UEC)+'Product Class Dist'!AP$18*SUMPRODUCT('Efficiency Dist'!AT253:AT260,PC9_UEC)+'Product Class Dist'!AP$19*SUMPRODUCT('Efficiency Dist'!AT283:AT290,PC10_UEC)+'Product Class Dist'!AP$20*SUMPRODUCT('Efficiency Dist'!AT313:AT320,PC11_UEC)+'Product Class Dist'!AP$21*SUMPRODUCT('Efficiency Dist'!AT343:AT350,PC12_UEC)+'Product Class Dist'!AP$22*SUMPRODUCT('Efficiency Dist'!AT373:AT380,PC13_UEC)+'Product Class Dist'!AP$23*SUMPRODUCT('Efficiency Dist'!AT403:AT410,PC14_UEC)+'Product Class Dist'!AP$24*SUMPRODUCT('Efficiency Dist'!AT433:AT440,PC15_UEC)","v":5104.0615135359394},{"$f":"'Product Class Dist'!AQ$10*SUMPRODUCT('Efficiency Dist'!AU13:AU20,PC1_UEC)+'Product Class Dist'!AQ$11*SUMPRODUCT('Efficiency Dist'!AU43:AU50,PC2_UEC)+'Product Class Dist'!AQ$12*SUMPRODUCT('Efficiency Dist'!AU73:AU80,PC3_UEC)+'Product Class Dist'!AQ$13*SUMPRODUCT('Efficiency Dist'!AU103:AU110,PC4_UEC)+'Product Class Dist'!AQ$14*SUMPRODUCT('Efficiency Dist'!AU133:AU140,PC5_UEC)+'Product Class Dist'!AQ$15*SUMPRODUCT('Efficiency Dist'!AU163:AU170,PC6_UEC)+'Product Class Dist'!AQ$16*SUMPRODUCT('Efficiency Dist'!AU193:AU200,PC7_UEC)+'Product Class Dist'!AQ$17*SUMPRODUCT('Efficiency Dist'!AU223:AU230,PC8_UEC)+'Product Class Dist'!AQ$18*SUMPRODUCT('Efficiency Dist'!AU253:AU260,PC9_UEC)+'Product Class Dist'!AQ$19*SUMPRODUCT('Efficiency Dist'!AU283:AU290,PC10_UEC)+'Product Class Dist'!AQ$20*SUMPRODUCT('Efficiency Dist'!AU313:AU320,PC11_UEC)+'Product Class Dist'!AQ$21*SUMPRODUCT('Efficiency Dist'!AU343:AU350,PC12_UEC)+'Product Class Dist'!AQ$22*SUMPRODUCT('Efficiency Dist'!AU373:AU380,PC13_UEC)+'Product Class Dist'!AQ$23*SUMPRODUCT('Efficiency Dist'!AU403:AU410,PC14_UEC)+'Product Class Dist'!AQ$24*SUMPRODUCT('Efficiency Dist'!AU433:AU440,PC15_UEC)","v":5104.0615135359394},{"$f":"'Product Class Dist'!AR$10*SUMPRODUCT('Efficiency Dist'!AV13:AV20,PC1_UEC)+'Product Class Dist'!AR$11*SUMPRODUCT('Efficiency Dist'!AV43:AV50,PC2_UEC)+'Product Class Dist'!AR$12*SUMPRODUCT('Efficiency Dist'!AV73:AV80,PC3_UEC)+'Product Class Dist'!AR$13*SUMPRODUCT('Efficiency Dist'!AV103:AV110,PC4_UEC)+'Product Class Dist'!AR$14*SUMPRODUCT('Efficiency Dist'!AV133:AV140,PC5_UEC)+'Product Class Dist'!AR$15*SUMPRODUCT('Efficiency Dist'!AV163:AV170,PC6_UEC)+'Product Class Dist'!AR$16*SUMPRODUCT('Efficiency Dist'!AV193:AV200,PC7_UEC)+'Product Class Dist'!AR$17*SUMPRODUCT('Efficiency Dist'!AV223:AV230,PC8_UEC)+'Product Class Dist'!AR$18*SUMPRODUCT('Efficiency Dist'!AV253:AV260,PC9_UEC)+'Product Class Dist'!AR$19*SUMPRODUCT('Efficiency Dist'!AV283:AV290,PC10_UEC)+'Product Class Dist'!AR$20*SUMPRODUCT('Efficiency Dist'!AV313:AV320,PC11_UEC)+'Product Class Dist'!AR$21*SUMPRODUCT('Efficiency Dist'!AV343:AV350,PC12_UEC)+'Product Class Dist'!AR$22*SUMPRODUCT('Efficiency Dist'!AV373:AV380,PC13_UEC)+'Product Class Dist'!AR$23*SUMPRODUCT('Efficiency Dist'!AV403:AV410,PC14_UEC)+'Product Class Dist'!AR$24*SUMPRODUCT('Efficiency Dist'!AV433:AV440,PC15_UEC)","v":5104.0615135359394},{"$f":"'Product Class Dist'!AS$10*SUMPRODUCT('Efficiency Dist'!AW13:AW20,PC1_UEC)+'Product Class Dist'!AS$11*SUMPRODUCT('Efficiency Dist'!AW43:AW50,PC2_UEC)+'Product Class Dist'!AS$12*SUMPRODUCT('Efficiency Dist'!AW73:AW80,PC3_UEC)+'Product Class Dist'!AS$13*SUMPRODUCT('Efficiency Dist'!AW103:AW110,PC4_UEC)+'Product Class Dist'!AS$14*SUMPRODUCT('Efficiency Dist'!AW133:AW140,PC5_UEC)+'Product Class Dist'!AS$15*SUMPRODUCT('Efficiency Dist'!AW163:AW170,PC6_UEC)+'Product Class Dist'!AS$16*SUMPRODUCT('Efficiency Dist'!AW193:AW200,PC7_UEC)+'Product Class Dist'!AS$17*SUMPRODUCT('Efficiency Dist'!AW223:AW230,PC8_UEC)+'Product Class Dist'!AS$18*SUMPRODUCT('Efficiency Dist'!AW253:AW260,PC9_UEC)+'Product Class Dist'!AS$19*SUMPRODUCT('Efficiency Dist'!AW283:AW290,PC10_UEC)+'Product Class Dist'!AS$20*SUMPRODUCT('Efficiency Dist'!AW313:AW320,PC11_UEC)+'Product Class Dist'!AS$21*SUMPRODUCT('Efficiency Dist'!AW343:AW350,PC12_UEC)+'Product Class Dist'!AS$22*SUMPRODUCT('Efficiency Dist'!AW373:AW380,PC13_UEC)+'Product Class Dist'!AS$23*SUMPRODUCT('Efficiency Dist'!AW403:AW410,PC14_UEC)+'Product Class Dist'!AS$24*SUMPRODUCT('Efficiency Dist'!AW433:AW440,PC15_UEC)","v":5104.0615135359394},{"$f":"'Product Class Dist'!AT$10*SUMPRODUCT('Efficiency Dist'!AX13:AX20,PC1_UEC)+'Product Class Dist'!AT$11*SUMPRODUCT('Efficiency Dist'!AX43:AX50,PC2_UEC)+'Product Class Dist'!AT$12*SUMPRODUCT('Efficiency Dist'!AX73:AX80,PC3_UEC)+'Product Class Dist'!AT$13*SUMPRODUCT('Efficiency Dist'!AX103:AX110,PC4_UEC)+'Product Class Dist'!AT$14*SUMPRODUCT('Efficiency Dist'!AX133:AX140,PC5_UEC)+'Product Class Dist'!AT$15*SUMPRODUCT('Efficiency Dist'!AX163:AX170,PC6_UEC)+'Product Class Dist'!AT$16*SUMPRODUCT('Efficiency Dist'!AX193:AX200,PC7_UEC)+'Product Class Dist'!AT$17*SUMPRODUCT('Efficiency Dist'!AX223:AX230,PC8_UEC)+'Product Class Dist'!AT$18*SUMPRODUCT('Efficiency Dist'!AX253:AX260,PC9_UEC)+'Product Class Dist'!AT$19*SUMPRODUCT('Efficiency Dist'!AX283:AX290,PC10_UEC)+'Product Class Dist'!AT$20*SUMPRODUCT('Efficiency Dist'!AX313:AX320,PC11_UEC)+'Product Class Dist'!AT$21*SUMPRODUCT('Efficiency Dist'!AX343:AX350,PC12_UEC)+'Product Class Dist'!AT$22*SUMPRODUCT('Efficiency Dist'!AX373:AX380,PC13_UEC)+'Product Class Dist'!AT$23*SUMPRODUCT('Efficiency Dist'!AX403:AX410,PC14_UEC)+'Product Class Dist'!AT$24*SUMPRODUCT('Efficiency Dist'!AX433:AX440,PC15_UEC)","v":5104.0615135359394},{"$f":"'Product Class Dist'!AU$10*SUMPRODUCT('Efficiency Dist'!AY13:AY20,PC1_UEC)+'Product Class Dist'!AU$11*SUMPRODUCT('Efficiency Dist'!AY43:AY50,PC2_UEC)+'Product Class Dist'!AU$12*SUMPRODUCT('Efficiency Dist'!AY73:AY80,PC3_UEC)+'Product Class Dist'!AU$13*SUMPRODUCT('Efficiency Dist'!AY103:AY110,PC4_UEC)+'Product Class Dist'!AU$14*SUMPRODUCT('Efficiency Dist'!AY133:AY140,PC5_UEC)+'Product Class Dist'!AU$15*SUMPRODUCT('Efficiency Dist'!AY163:AY170,PC6_UEC)+'Product Class Dist'!AU$16*SUMPRODUCT('Efficiency Dist'!AY193:AY200,PC7_UEC)+'Product Class Dist'!AU$17*SUMPRODUCT('Efficiency Dist'!AY223:AY230,PC8_UEC)+'Product Class Dist'!AU$18*SUMPRODUCT('Efficiency Dist'!AY253:AY260,PC9_UEC)+'Product Class Dist'!AU$19*SUMPRODUCT('Efficiency Dist'!AY283:AY290,PC10_UEC)+'Product Class Dist'!AU$20*SUMPRODUCT('Efficiency Dist'!AY313:AY320,PC11_UEC)+'Product Class Dist'!AU$21*SUMPRODUCT('Efficiency Dist'!AY343:AY350,PC12_UEC)+'Product Class Dist'!AU$22*SUMPRODUCT('Efficiency Dist'!AY373:AY380,PC13_UEC)+'Product Class Dist'!AU$23*SUMPRODUCT('Efficiency Dist'!AY403:AY410,PC14_UEC)+'Product Class Dist'!AU$24*SUMPRODUCT('Efficiency Dist'!AY433:AY440,PC15_UEC)","v":5104.0615135359394},{"$f":"'Product Class Dist'!AV$10*SUMPRODUCT('Efficiency Dist'!AZ13:AZ20,PC1_UEC)+'Product Class Dist'!AV$11*SUMPRODUCT('Efficiency Dist'!AZ43:AZ50,PC2_UEC)+'Product Class Dist'!AV$12*SUMPRODUCT('Efficiency Dist'!AZ73:AZ80,PC3_UEC)+'Product Class Dist'!AV$13*SUMPRODUCT('Efficiency Dist'!AZ103:AZ110,PC4_UEC)+'Product Class Dist'!AV$14*SUMPRODUCT('Efficiency Dist'!AZ133:AZ140,PC5_UEC)+'Product Class Dist'!AV$15*SUMPRODUCT('Efficiency Dist'!AZ163:AZ170,PC6_UEC)+'Product Class Dist'!AV$16*SUMPRODUCT('Efficiency Dist'!AZ193:AZ200,PC7_UEC)+'Product Class Dist'!AV$17*SUMPRODUCT('Efficiency Dist'!AZ223:AZ230,PC8_UEC)+'Product Class Dist'!AV$18*SUMPRODUCT('Efficiency Dist'!AZ253:AZ260,PC9_UEC)+'Product Class Dist'!AV$19*SUMPRODUCT('Efficiency Dist'!AZ283:AZ290,PC10_UEC)+'Product Class Dist'!AV$20*SUMPRODUCT('Efficiency Dist'!AZ313:AZ320,PC11_UEC)+'Product Class Dist'!AV$21*SUMPRODUCT('Efficiency Dist'!AZ343:AZ350,PC12_UEC)+'Product Class Dist'!AV$22*SUMPRODUCT('Efficiency Dist'!AZ373:AZ380,PC13_UEC)+'Product Class Dist'!AV$23*SUMPRODUCT('Efficiency Dist'!AZ403:AZ410,PC14_UEC)+'Product Class Dist'!AV$24*SUMPRODUCT('Efficiency Dist'!AZ433:AZ440,PC15_UEC)","v":5104.0615135359394}]
[null,null,"POST-Case UEC",{"$f":"'Product Class Dist'!D$27*SUMPRODUCT('Efficiency Dist'!H25:H32,PC1_UEC)+'Product Class Dist'!D$28*SUMPRODUCT('Efficiency Dist'!H55:H62,PC2_UEC)+'Product Class Dist'!D$29*SUMPRODUCT('Efficiency Dist'!H85:H92,PC3_UEC)+'Product Class Dist'!D$30*SUMPRODUCT('Efficiency Dist'!H115:H122,PC4_UEC)+'Product Class Dist'!D$31*SUMPRODUCT('Efficiency Dist'!H145:H152,PC5_UEC)+'Product Class Dist'!D$32*SUMPRODUCT('Efficiency Dist'!H175:H182,PC6_UEC)+'Product Class Dist'!D$33*SUMPRODUCT('Efficiency Dist'!H205:H212,PC7_UEC)+'Product Class Dist'!D$34*SUMPRODUCT('Efficiency Dist'!H235:H242,PC8_UEC)+'Product Class Dist'!D$35*SUMPRODUCT('Efficiency Dist'!H265:H272,PC9_UEC)+'Product Class Dist'!D$36*SUMPRODUCT('Efficiency Dist'!H295:H302,PC10_UEC)+'Product Class Dist'!D$37*SUMPRODUCT('Efficiency Dist'!H325:H332,PC11_UEC)+'Product Class Dist'!D$38*SUMPRODUCT('Efficiency Dist'!H355:H362,PC12_UEC)+'Product Class Dist'!D$39*SUMPRODUCT('Efficiency Dist'!H385:H392,PC13_UEC)+'Product Class Dist'!D$40*SUMPRODUCT('Efficiency Dist'!H415:H422,PC14_UEC)+'Product Class Dist'!D$41*SUMPRODUCT('Efficiency Dist'!H445:H452,PC15_UEC)","v":6165.1399919099285},{"$f":"'Product Class Dist'!E$27*SUMPRODUCT('Efficiency Dist'!I25:I32,PC1_UEC)+'Product Class Dist'!E$28*SUMPRODUCT('Efficiency Dist'!I55:I62,PC2_UEC)+'Product Class Dist'!E$29*SUMPRODUCT('Efficiency Dist'!I85:I92,PC3_UEC)+'Product Class Dist'!E$30*SUMPRODUCT('Efficiency Dist'!I115:I122,PC4_UEC)+'Product Class Dist'!E$31*SUMPRODUCT('Efficiency Dist'!I145:I152,PC5_UEC)+'Product Class Dist'!E$32*SUMPRODUCT('Efficiency Dist'!I175:I182,PC6_UEC)+'Product Class Dist'!E$33*SUMPRODUCT('Efficiency Dist'!I205:I212,PC7_UEC)+'Product Class Dist'!E$34*SUMPRODUCT('Efficiency Dist'!I235:I242,PC8_UEC)+'Product Class Dist'!E$35*SUMPRODUCT('Efficiency Dist'!I265:I272,PC9_UEC)+'Product Class Dist'!E$36*SUMPRODUCT('Efficiency Dist'!I295:I302,PC10_UEC)+'Product Class Dist'!E$37*SUMPRODUCT('Efficiency Dist'!I325:I332,PC11_UEC)+'Product Class Dist'!E$38*SUMPRODUCT('Efficiency Dist'!I355:I362,PC12_UEC)+'Product Class Dist'!E$39*SUMPRODUCT('Efficiency Dist'!I385:I392,PC13_UEC)+'Product Class Dist'!E$40*SUMPRODUCT('Efficiency Dist'!I415:I422,PC14_UEC)+'Product Class Dist'!E$41*SUMPRODUCT('Efficiency Dist'!I445:I452,PC15_UEC)","v":6165.1399919099285},{"$f":"'Product Class Dist'!F$27*SUMPRODUCT('Efficiency Dist'!J25:J32,PC1_UEC)+'Product Class Dist'!F$28*SUMPRODUCT('Efficiency Dist'!J55:J62,PC2_UEC)+'Product Class Dist'!F$29*SUMPRODUCT('Efficiency Dist'!J85:J92,PC3_UEC)+'Product Class Dist'!F$30*SUMPRODUCT('Efficiency Dist'!J115:J122,PC4_UEC)+'Product Class Dist'!F$31*SUMPRODUCT('Efficiency Dist'!J145:J152,PC5_UEC)+'Product Class Dist'!F$32*SUMPRODUCT('Efficiency Dist'!J175:J182,PC6_UEC)+'Product Class Dist'!F$33*SUMPRODUCT('Efficiency Dist'!J205:J212,PC7_UEC)+'Product Class Dist'!F$34*SUMPRODUCT('Efficiency Dist'!J235:J242,PC8_UEC)+'Product Class Dist'!F$35*SUMPRODUCT('Efficiency Dist'!J265:J272,PC9_UEC)+'Product Class Dist'!F$36*SUMPRODUCT('Efficiency Dist'!J295:J302,PC10_UEC)+'Product Class Dist'!F$37*SUMPRODUCT('Efficiency Dist'!J325:J332,PC11_UEC)+'Product Class Dist'!F$38*SUMPRODUCT('Efficiency Dist'!J355:J362,PC12_UEC)+'Product Class Dist'!F$39*SUMPRODUCT('Efficiency Dist'!J385:J392,PC13_UEC)+'Product Class Dist'!F$40*SUMPRODUCT('Efficiency Dist'!J415:J422,PC14_UEC)+'Product Class Dist'!F$41*SUMPRODUCT('Efficiency Dist'!J445:J452,PC15_UEC)","v":6165.1399919099285},{"$f":"'Product Class Dist'!G$27*SUMPRODUCT('Efficiency Dist'!K25:K32,PC1_UEC)+'Product Class Dist'!G$28*SUMPRODUCT('Efficiency Dist'!K55:K62,PC2_UEC)+'Product Class Dist'!G$29*SUMPRODUCT('Efficiency Dist'!K85:K92,PC3_UEC)+'Product Class Dist'!G$30*SUMPRODUCT('Efficiency Dist'!K115:K122,PC4_UEC)+'Product Class Dist'!G$31*SUMPRODUCT('Efficiency Dist'!K145:K152,PC5_UEC)+'Product Class Dist'!G$32*SUMPRODUCT('Efficiency Dist'!K175:K182,PC6_UEC)+'Product Class Dist'!G$33*SUMPRODUCT('Efficiency Dist'!K205:K212,PC7_UEC)+'Product Class Dist'!G$34*SUMPRODUCT('Efficiency Dist'!K235:K242,PC8_UEC)+'Product Class Dist'!G$35*SUMPRODUCT('Efficiency Dist'!K265:K272,PC9_UEC)+'Product Class Dist'!G$36*SUMPRODUCT('Efficiency Dist'!K295:K302,PC10_UEC)+'Product Class Dist'!G$37*SUMPRODUCT('Efficiency Dist'!K325:K332,PC11_UEC)+'Product Class Dist'!G$38*SUMPRODUCT('Efficiency Dist'!K355:K362,PC12_UEC)+'Product Class Dist'!G$39*SUMPRODUCT('Efficiency Dist'!K385:K392,PC13_UEC)+'Product Class Dist'!G$40*SUMPRODUCT('Efficiency Dist'!K415:K422,PC14_UEC)+'Product Class Dist'!G$41*SUMPRODUCT('Efficiency Dist'!K445:K452,PC15_UEC)","v":6165.1399919099285},{"$f":"'Product Class Dist'!H$27*SUMPRODUCT('Efficiency Dist'!L25:L32,PC1_UEC)+'Product Class Dist'!H$28*SUMPRODUCT('Efficiency Dist'!L55:L62,PC2_UEC)+'Product Class Dist'!H$29*SUMPRODUCT('Efficiency Dist'!L85:L92,PC3_UEC)+'Product Class Dist'!H$30*SUMPRODUCT('Efficiency Dist'!L115:L122,PC4_UEC)+'Product Class Dist'!H$31*SUMPRODUCT('Efficiency Dist'!L145:L152,PC5_UEC)+'Product Class Dist'!H$32*SUMPRODUCT('Efficiency Dist'!L175:L182,PC6_UEC)+'Product Class Dist'!H$33*SUMPRODUCT('Efficiency Dist'!L205:L212,PC7_UEC)+'Product Class Dist'!H$34*SUMPRODUCT('Efficiency Dist'!L235:L242,PC8_UEC)+'Product Class Dist'!H$35*SUMPRODUCT('Efficiency Dist'!L265:L272,PC9_UEC)+'Product Class Dist'!H$36*SUMPRODUCT('Efficiency Dist'!L295:L302,PC10_UEC)+'Product Class Dist'!H$37*SUMPRODUCT('Efficiency Dist'!L325:L332,PC11_UEC)+'Product Class Dist'!H$38*SUMPRODUCT('Efficiency Dist'!L355:L362,PC12_UEC)+'Product Class Dist'!H$39*SUMPRODUCT('Efficiency Dist'!L385:L392,PC13_UEC)+'Product Class Dist'!H$40*SUMPRODUCT('Efficiency Dist'!L415:L422,PC14_UEC)+'Product Class Dist'!H$41*SUMPRODUCT('Efficiency Dist'!L445:L452,PC15_UEC)","v":6165.1399919099285},{"$f":"'Product Class Dist'!I$27*SUMPRODUCT('Efficiency Dist'!M25:M32,PC1_UEC)+'Product Class Dist'!I$28*SUMPRODUCT('Efficiency Dist'!M55:M62,PC2_UEC)+'Product Class Dist'!I$29*SUMPRODUCT('Efficiency Dist'!M85:M92,PC3_UEC)+'Product Class Dist'!I$30*SUMPRODUCT('Efficiency Dist'!M115:M122,PC4_UEC)+'Product Class Dist'!I$31*SUMPRODUCT('Efficiency Dist'!M145:M152,PC5_UEC)+'Product Class Dist'!I$32*SUMPRODUCT('Efficiency Dist'!M175:M182,PC6_UEC)+'Product Class Dist'!I$33*SUMPRODUCT('Efficiency Dist'!M205:M212,PC7_UEC)+'Product Class Dist'!I$34*SUMPRODUCT('Efficiency Dist'!M235:M242,PC8_UEC)+'Product Class Dist'!I$35*SUMPRODUCT('Efficiency Dist'!M265:M272,PC9_UEC)+'Product Class Dist'!I$36*SUMPRODUCT('Efficiency Dist'!M295:M302,PC10_UEC)+'Product Class Dist'!I$37*SUMPRODUCT('Efficiency Dist'!M325:M332,PC11_UEC)+'Product Class Dist'!I$38*SUMPRODUCT('Efficiency Dist'!M355:M362,PC12_UEC)+'Product Class Dist'!I$39*SUMPRODUCT('Efficiency Dist'!M385:M392,PC13_UEC)+'Product Class Dist'!I$40*SUMPRODUCT('Efficiency Dist'!M415:M422,PC14_UEC)+'Product Class Dist'!I$41*SUMPRODUCT('Efficiency Dist'!M445:M452,PC15_UEC)","v":6165.1399919099285},{"$f":"'Product Class Dist'!J$27*SUMPRODUCT('Efficiency Dist'!N25:N32,PC1_UEC)+'Product Class Dist'!J$28*SUMPRODUCT('Efficiency Dist'!N55:N62,PC2_UEC)+'Product Class Dist'!J$29*SUMPRODUCT('Efficiency Dist'!N85:N92,PC3_UEC)+'Product Class Dist'!J$30*SUMPRODUCT('Efficiency Dist'!N115:N122,PC4_UEC)+'Product Class Dist'!J$31*SUMPRODUCT('Efficiency Dist'!N145:N152,PC5_UEC)+'Product Class Dist'!J$32*SUMPRODUCT('Efficiency Dist'!N175:N182,PC6_UEC)+'Product Class Dist'!J$33*SUMPRODUCT('Efficiency Dist'!N205:N212,PC7_UEC)+'Product Class Dist'!J$34*SUMPRODUCT('Efficiency Dist'!N235:N242,PC8_UEC)+'Product Class Dist'!J$35*SUMPRODUCT('Efficiency Dist'!N265:N272,PC9_UEC)+'Product Class Dist'!J$36*SUMPRODUCT('Efficiency Dist'!N295:N302,PC10_UEC)+'Product Class Dist'!J$37*SUMPRODUCT('Efficiency Dist'!N325:N332,PC11_UEC)+'Product Class Dist'!J$38*SUMPRODUCT('Efficiency Dist'!N355:N362,PC12_UEC)+'Product Class Dist'!J$39*SUMPRODUCT('Efficiency Dist'!N385:N392,PC13_UEC)+'Product Class Dist'!J$40*SUMPRODUCT('Efficiency Dist'!N415:N422,PC14_UEC)+'Product Class Dist'!J$41*SUMPRODUCT('Efficiency Dist'!N445:N452,PC15_UEC)","v":6165.1399919099285},{"$f":"'Product Class Dist'!K$27*SUMPRODUCT('Efficiency Dist'!O25:O32,PC1_UEC)+'Product Class Dist'!K$28*SUMPRODUCT('Efficiency Dist'!O55:O62,PC2_UEC)+'Product Class Dist'!K$29*SUMPRODUCT('Efficiency Dist'!O85:O92,PC3_UEC)+'Product Class Dist'!K$30*SUMPRODUCT('Efficiency Dist'!O115:O122,PC4_UEC)+'Product Class Dist'!K$31*SUMPRODUCT('Efficiency Dist'!O145:O152,PC5_UEC)+'Product Class Dist'!K$32*SUMPRODUCT('Efficiency Dist'!O175:O182,PC6_UEC)+'Product Class Dist'!K$33*SUMPRODUCT('Efficiency Dist'!O205:O212,PC7_UEC)+'Product Class Dist'!K$34*SUMPRODUCT('Efficiency Dist'!O235:O242,PC8_UEC)+'Product Class Dist'!K$35*SUMPRODUCT('Efficiency Dist'!O265:O272,PC9_UEC)+'Product Class Dist'!K$36*SUMPRODUCT('Efficiency Dist'!O295:O302,PC10_UEC)+'Product Class Dist'!K$37*SUMPRODUCT('Efficiency Dist'!O325:O332,PC11_UEC)+'Product Class Dist'!K$38*SUMPRODUCT('Efficiency Dist'!O355:O362,PC12_UEC)+'Product Class Dist'!K$39*SUMPRODUCT('Efficiency Dist'!O385:O392,PC13_UEC)+'Product Class Dist'!K$40*SUMPRODUCT('Efficiency Dist'!O415:O422,PC14_UEC)+'Product Class Dist'!K$41*SUMPRODUCT('Efficiency Dist'!O445:O452,PC15_UEC)","v":6165.1399919099285},{"$f":"'Product Class Dist'!L$27*SUMPRODUCT('Efficiency Dist'!P25:P32,PC1_UEC)+'Product Class Dist'!L$28*SUMPRODUCT('Efficiency Dist'!P55:P62,PC2_UEC)+'Product Class Dist'!L$29*SUMPRODUCT('Efficiency Dist'!P85:P92,PC3_UEC)+'Product Class Dist'!L$30*SUMPRODUCT('Efficiency Dist'!P115:P122,PC4_UEC)+'Product Class Dist'!L$31*SUMPRODUCT('Efficiency Dist'!P145:P152,PC5_UEC)+'Product Class Dist'!L$32*SUMPRODUCT('Efficiency Dist'!P175:P182,PC6_UEC)+'Product Class Dist'!L$33*SUMPRODUCT('Efficiency Dist'!P205:P212,PC7_UEC)+'Product Class Dist'!L$34*SUMPRODUCT('Efficiency Dist'!P235:P242,PC8_UEC)+'Product Class Dist'!L$35*SUMPRODUCT('Efficiency Dist'!P265:P272,PC9_UEC)+'Product Class Dist'!L$36*SUMPRODUCT('Efficiency Dist'!P295:P302,PC10_UEC)+'Product Class Dist'!L$37*SUMPRODUCT('Efficiency Dist'!P325:P332,PC11_UEC)+'Product Class Dist'!L$38*SUMPRODUCT('Efficiency Dist'!P355:P362,PC12_UEC)+'Product Class Dist'!L$39*SUMPRODUCT('Efficiency Dist'!P385:P392,PC13_UEC)+'Product Class Dist'!L$40*SUMPRODUCT('Efficiency Dist'!P415:P422,PC14_UEC)+'Product Class Dist'!L$41*SUMPRODUCT('Efficiency Dist'!P445:P452,PC15_UEC)","v":6165.1399919099285},{"$f":"'Product Class Dist'!M$27*SUMPRODUCT('Efficiency Dist'!Q25:Q32,PC1_UEC)+'Product Class Dist'!M$28*SUMPRODUCT('Efficiency Dist'!Q55:Q62,PC2_UEC)+'Product Class Dist'!M$29*SUMPRODUCT('Efficiency Dist'!Q85:Q92,PC3_UEC)+'Product Class Dist'!M$30*SUMPRODUCT('Efficiency Dist'!Q115:Q122,PC4_UEC)+'Product Class Dist'!M$31*SUMPRODUCT('Efficiency Dist'!Q145:Q152,PC5_UEC)+'Product Class Dist'!M$32*SUMPRODUCT('Efficiency Dist'!Q175:Q182,PC6_UEC)+'Product Class Dist'!M$33*SUMPRODUCT('Efficiency Dist'!Q205:Q212,PC7_UEC)+'Product Class Dist'!M$34*SUMPRODUCT('Efficiency Dist'!Q235:Q242,PC8_UEC)+'Product Class Dist'!M$35*SUMPRODUCT('Efficiency Dist'!Q265:Q272,PC9_UEC)+'Product Class Dist'!M$36*SUMPRODUCT('Efficiency Dist'!Q295:Q302,PC10_UEC)+'Product Class Dist'!M$37*SUMPRODUCT('Efficiency Dist'!Q325:Q332,PC11_UEC)+'Product Class Dist'!M$38*SUMPRODUCT('Efficiency Dist'!Q355:Q362,PC12_UEC)+'Product Class Dist'!M$39*SUMPRODUCT('Efficiency Dist'!Q385:Q392,PC13_UEC)+'Product Class Dist'!M$40*SUMPRODUCT('Efficiency Dist'!Q415:Q422,PC14_UEC)+'Product Class Dist'!M$41*SUMPRODUCT('Efficiency Dist'!Q445:Q452,PC15_UEC)","v":6165.1399919099285},{"$f":"'Product Class Dist'!N$27*SUMPRODUCT('Efficiency Dist'!R25:R32,PC1_UEC)+'Product Class Dist'!N$28*SUMPRODUCT('Efficiency Dist'!R55:R62,PC2_UEC)+'Product Class Dist'!N$29*SUMPRODUCT('Efficiency Dist'!R85:R92,PC3_UEC)+'Product Class Dist'!N$30*SUMPRODUCT('Efficiency Dist'!R115:R122,PC4_UEC)+'Product Class Dist'!N$31*SUMPRODUCT('Efficiency Dist'!R145:R152,PC5_UEC)+'Product Class Dist'!N$32*SUMPRODUCT('Efficiency Dist'!R175:R182,PC6_UEC)+'Product Class Dist'!N$33*SUMPRODUCT('Efficiency Dist'!R205:R212,PC7_UEC)+'Product Class Dist'!N$34*SUMPRODUCT('Efficiency Dist'!R235:R242,PC8_UEC)+'Product Class Dist'!N$35*SUMPRODUCT('Efficiency Dist'!R265:R272,PC9_UEC)+'Product Class Dist'!N$36*SUMPRODUCT('Efficiency Dist'!R295:R302,PC10_UEC)+'Product Class Dist'!N$37*SUMPRODUCT('Efficiency Dist'!R325:R332,PC11_UEC)+'Product Class Dist'!N$38*SUMPRODUCT('Efficiency Dist'!R355:R362,PC12_UEC)+'Product Class Dist'!N$39*SUMPRODUCT('Efficiency Dist'!R385:R392,PC13_UEC)+'Product Class Dist'!N$40*SUMPRODUCT('Efficiency Dist'!R415:R422,PC14_UEC)+'Product Class Dist'!N$41*SUMPRODUCT('Efficiency Dist'!R445:R452,PC15_UEC)","v":6165.1399919099285},{"$f":"'Product Class Dist'!O$27*SUMPRODUCT('Efficiency Dist'!S25:S32,PC1_UEC)+'Product Class Dist'!O$28*SUMPRODUCT('Efficiency Dist'!S55:S62,PC2_UEC)+'Product Class Dist'!O$29*SUMPRODUCT('Efficiency Dist'!S85:S92,PC3_UEC)+'Product Class Dist'!O$30*SUMPRODUCT('Efficiency Dist'!S115:S122,PC4_UEC)+'Product Class Dist'!O$31*SUMPRODUCT('Efficiency Dist'!S145:S152,PC5_UEC)+'Product Class Dist'!O$32*SUMPRODUCT('Efficiency Dist'!S175:S182,PC6_UEC)+'Product Class Dist'!O$33*SUMPRODUCT('Efficiency Dist'!S205:S212,PC7_UEC)+'Product Class Dist'!O$34*SUMPRODUCT('Efficiency Dist'!S235:S242,PC8_UEC)+'Product Class Dist'!O$35*SUMPRODUCT('Efficiency Dist'!S265:S272,PC9_UEC)+'Product Class Dist'!O$36*SUMPRODUCT('Efficiency Dist'!S295:S302,PC10_UEC)+'Product Class Dist'!O$37*SUMPRODUCT('Efficiency Dist'!S325:S332,PC11_UEC)+'Product Class Dist'!O$38*SUMPRODUCT('Efficiency Dist'!S355:S362,PC12_UEC)+'Product Class Dist'!O$39*SUMPRODUCT('Efficiency Dist'!S385:S392,PC13_UEC)+'Product Class Dist'!O$40*SUMPRODUCT('Efficiency Dist'!S415:S422,PC14_UEC)+'Product Class Dist'!O$41*SUMPRODUCT('Efficiency Dist'!S445:S452,PC15_UEC)","v":6165.1399919099285},{"$f":"'Product Class Dist'!P$27*SUMPRODUCT('Efficiency Dist'!T25:T32,PC1_UEC)+'Product Class Dist'!P$28*SUMPRODUCT('Efficiency Dist'!T55:T62,PC2_UEC)+'Product Class Dist'!P$29*SUMPRODUCT('Efficiency Dist'!T85:T92,PC3_UEC)+'Product Class Dist'!P$30*SUMPRODUCT('Efficiency Dist'!T115:T122,PC4_UEC)+'Product Class Dist'!P$31*SUMPRODUCT('Efficiency Dist'!T145:T152,PC5_UEC)+'Product Class Dist'!P$32*SUMPRODUCT('Efficiency Dist'!T175:T182,PC6_UEC)+'Product Class Dist'!P$33*SUMPRODUCT('Efficiency Dist'!T205:T212,PC7_UEC)+'Product Class Dist'!P$34*SUMPRODUCT('Efficiency Dist'!T235:T242,PC8_UEC)+'Product Class Dist'!P$35*SUMPRODUCT('Efficiency Dist'!T265:T272,PC9_UEC)+'Product Class Dist'!P$36*SUMPRODUCT('Efficiency Dist'!T295:T302,PC10_UEC)+'Product Class Dist'!P$37*SUMPRODUCT('Efficiency Dist'!T325:T332,PC11_UEC)+'Product Class Dist'!P$38*SUMPRODUCT('Efficiency Dist'!T355:T362,PC12_UEC)+'Product Class Dist'!P$39*SUMPRODUCT('Efficiency Dist'!T385:T392,PC13_UEC)+'Product Class Dist'!P$40*SUMPRODUCT('Efficiency Dist'!T415:T422,PC14_UEC)+'Product Class Dist'!P$41*SUMPRODUCT('Efficiency Dist'!T445:T452,PC15_UEC)","v":6165.1399919099285},{"$f":"'Product Class Dist'!Q$27*SUMPRODUCT('Efficiency Dist'!U25:U32,PC1_UEC)+'Product Class Dist'!Q$28*SUMPRODUCT('Efficiency Dist'!U55:U62,PC2_UEC)+'Product Class Dist'!Q$29*SUMPRODUCT('Efficiency Dist'!U85:U92,PC3_UEC)+'Product Class Dist'!Q$30*SUMPRODUCT('Efficiency Dist'!U115:U122,PC4_UEC)+'Product Class Dist'!Q$31*SUMPRODUCT('Efficiency Dist'!U145:U152,PC5_UEC)+'Product Class Dist'!Q$32*SUMPRODUCT('Efficiency Dist'!U175:U182,PC6_UEC)+'Product Class Dist'!Q$33*SUMPRODUCT('Efficiency Dist'!U205:U212,PC7_UEC)+'Product Class Dist'!Q$34*SUMPRODUCT('Efficiency Dist'!U235:U242,PC8_UEC)+'Product Class Dist'!Q$35*SUMPRODUCT('Efficiency Dist'!U265:U272,PC9_UEC)+'Product Class Dist'!Q$36*SUMPRODUCT('Efficiency Dist'!U295:U302,PC10_UEC)+'Product Class Dist'!Q$37*SUMPRODUCT('Efficiency Dist'!U325:U332,PC11_UEC)+'Product Class Dist'!Q$38*SUMPRODUCT('Efficiency Dist'!U355:U362,PC12_UEC)+'Product Class Dist'!Q$39*SUMPRODUCT('Efficiency Dist'!U385:U392,PC13_UEC)+'Product Class Dist'!Q$40*SUMPRODUCT('Efficiency Dist'!U415:U422,PC14_UEC)+'Product Class Dist'!Q$41*SUMPRODUCT('Efficiency Dist'!U445:U452,PC15_UEC)","v":6165.1399919099285},{"$f":"'Product Class Dist'!R$27*SUMPRODUCT('Efficiency Dist'!V25:V32,PC1_UEC)+'Product Class Dist'!R$28*SUMPRODUCT('Efficiency Dist'!V55:V62,PC2_UEC)+'Product Class Dist'!R$29*SUMPRODUCT('Efficiency Dist'!V85:V92,PC3_UEC)+'Product Class Dist'!R$30*SUMPRODUCT('Efficiency Dist'!V115:V122,PC4_UEC)+'Product Class Dist'!R$31*SUMPRODUCT('Efficiency Dist'!V145:V152,PC5_UEC)+'Product Class Dist'!R$32*SUMPRODUCT('Efficiency Dist'!V175:V182,PC6_UEC)+'Product Class Dist'!R$33*SUMPRODUCT('Efficiency Dist'!V205:V212,PC7_UEC)+'Product Class Dist'!R$34*SUMPRODUCT('Efficiency Dist'!V235:V242,PC8_UEC)+'Product Class Dist'!R$35*SUMPRODUCT('Efficiency Dist'!V265:V272,PC9_UEC)+'Product Class Dist'!R$36*SUMPRODUCT('Efficiency Dist'!V295:V302,PC10_UEC)+'Product Class Dist'!R$37*SUMPRODUCT('Efficiency Dist'!V325:V332,PC11_UEC)+'Product Class Dist'!R$38*SUMPRODUCT('Efficiency Dist'!V355:V362,PC12_UEC)+'Product Class Dist'!R$39*SUMPRODUCT('Efficiency Dist'!V385:V392,PC13_UEC)+'Product Class Dist'!R$40*SUMPRODUCT('Efficiency Dist'!V415:V422,PC14_UEC)+'Product Class Dist'!R$41*SUMPRODUCT('Efficiency Dist'!V445:V452,PC15_UEC)","v":6165.1399919099285},{"$f":"'Product Class Dist'!S$27*SUMPRODUCT('Efficiency Dist'!W25:W32,PC1_UEC)+'Product Class Dist'!S$28*SUMPRODUCT('Efficiency Dist'!W55:W62,PC2_UEC)+'Product Class Dist'!S$29*SUMPRODUCT('Efficiency Dist'!W85:W92,PC3_UEC)+'Product Class Dist'!S$30*SUMPRODUCT('Efficiency Dist'!W115:W122,PC4_UEC)+'Product Class Dist'!S$31*SUMPRODUCT('Efficiency Dist'!W145:W152,PC5_UEC)+'Product Class Dist'!S$32*SUMPRODUCT('Efficiency Dist'!W175:W182,PC6_UEC)+'Product Class Dist'!S$33*SUMPRODUCT('Efficiency Dist'!W205:W212,PC7_UEC)+'Product Class Dist'!S$34*SUMPRODUCT('Efficiency Dist'!W235:W242,PC8_UEC)+'Product Class Dist'!S$35*SUMPRODUCT('Efficiency Dist'!W265:W272,PC9_UEC)+'Product Class Dist'!S$36*SUMPRODUCT('Efficiency Dist'!W295:W302,PC10_UEC)+'Product Class Dist'!S$37*SUMPRODUCT('Efficiency Dist'!W325:W332,PC11_UEC)+'Product Class Dist'!S$38*SUMPRODUCT('Efficiency Dist'!W355:W362,PC12_UEC)+'Product Class Dist'!S$39*SUMPRODUCT('Efficiency Dist'!W385:W392,PC13_UEC)+'Product Class Dist'!S$40*SUMPRODUCT('Efficiency Dist'!W415:W422,PC14_UEC)+'Product Class Dist'!S$41*SUMPRODUCT('Efficiency Dist'!W445:W452,PC15_UEC)","v":6165.1399919099285},{"$f":"'Product Class Dist'!T$27*SUMPRODUCT('Efficiency Dist'!X25:X32,PC1_UEC)+'Product Class Dist'!T$28*SUMPRODUCT('Efficiency Dist'!X55:X62,PC2_UEC)+'Product Class Dist'!T$29*SUMPRODUCT('Efficiency Dist'!X85:X92,PC3_UEC)+'Product Class Dist'!T$30*SUMPRODUCT('Efficiency Dist'!X115:X122,PC4_UEC)+'Product Class Dist'!T$31*SUMPRODUCT('Efficiency Dist'!X145:X152,PC5_UEC)+'Product Class Dist'!T$32*SUMPRODUCT('Efficiency Dist'!X175:X182,PC6_UEC)+'Product Class Dist'!T$33*SUMPRODUCT('Efficiency Dist'!X205:X212,PC7_UEC)+'Product Class Dist'!T$34*SUMPRODUCT('Efficiency Dist'!X235:X242,PC8_UEC)+'Product Class Dist'!T$35*SUMPRODUCT('Efficiency Dist'!X265:X272,PC9_UEC)+'Product Class Dist'!T$36*SUMPRODUCT('Efficiency Dist'!X295:X302,PC10_UEC)+'Product Class Dist'!T$37*SUMPRODUCT('Efficiency Dist'!X325:X332,PC11_UEC)+'Product Class Dist'!T$38*SUMPRODUCT('Efficiency Dist'!X355:X362,PC12_UEC)+'Product Class Dist'!T$39*SUMPRODUCT('Efficiency Dist'!X385:X392,PC13_UEC)+'Product Class Dist'!T$40*SUMPRODUCT('Efficiency Dist'!X415:X422,PC14_UEC)+'Product Class Dist'!T$41*SUMPRODUCT('Efficiency Dist'!X445:X452,PC15_UEC)","v":6165.1399919099285},{"$f":"'Product Class Dist'!U$27*SUMPRODUCT('Efficiency Dist'!Y25:Y32,PC1_UEC)+'Product Class Dist'!U$28*SUMPRODUCT('Efficiency Dist'!Y55:Y62,PC2_UEC)+'Product Class Dist'!U$29*SUMPRODUCT('Efficiency Dist'!Y85:Y92,PC3_UEC)+'Product Class Dist'!U$30*SUMPRODUCT('Efficiency Dist'!Y115:Y122,PC4_UEC)+'Product Class Dist'!U$31*SUMPRODUCT('Efficiency Dist'!Y145:Y152,PC5_UEC)+'Product Class Dist'!U$32*SUMPRODUCT('Efficiency Dist'!Y175:Y182,PC6_UEC)+'Product Class Dist'!U$33*SUMPRODUCT('Efficiency Dist'!Y205:Y212,PC7_UEC)+'Product Class Dist'!U$34*SUMPRODUCT('Efficiency Dist'!Y235:Y242,PC8_UEC)+'Product Class Dist'!U$35*SUMPRODUCT('Efficiency Dist'!Y265:Y272,PC9_UEC)+'Product Class Dist'!U$36*SUMPRODUCT('Efficiency Dist'!Y295:Y302,PC10_UEC)+'Product Class Dist'!U$37*SUMPRODUCT('Efficiency Dist'!Y325:Y332,PC11_UEC)+'Product Class Dist'!U$38*SUMPRODUCT('Efficiency Dist'!Y355:Y362,PC12_UEC)+'Product Class Dist'!U$39*SUMPRODUCT('Efficiency Dist'!Y385:Y392,PC13_UEC)+'Product Class Dist'!U$40*SUMPRODUCT('Efficiency Dist'!Y415:Y422,PC14_UEC)+'Product Class Dist'!U$41*SUMPRODUCT('Efficiency Dist'!Y445:Y452,PC15_UEC)","v":6165.1399919099285},{"$f":"'Product Class Dist'!V$27*SUMPRODUCT('Efficiency Dist'!Z25:Z32,PC1_UEC)+'Product Class Dist'!V$28*SUMPRODUCT('Efficiency Dist'!Z55:Z62,PC2_UEC)+'Product Class Dist'!V$29*SUMPRODUCT('Efficiency Dist'!Z85:Z92,PC3_UEC)+'Product Class Dist'!V$30*SUMPRODUCT('Efficiency Dist'!Z115:Z122,PC4_UEC)+'Product Class Dist'!V$31*SUMPRODUCT('Efficiency Dist'!Z145:Z152,PC5_UEC)+'Product Class Dist'!V$32*SUMPRODUCT('Efficiency Dist'!Z175:Z182,PC6_UEC)+'Product Class Dist'!V$33*SUMPRODUCT('Efficiency Dist'!Z205:Z212,PC7_UEC)+'Product Class Dist'!V$34*SUMPRODUCT('Efficiency Dist'!Z235:Z242,PC8_UEC)+'Product Class Dist'!V$35*SUMPRODUCT('Efficiency Dist'!Z265:Z272,PC9_UEC)+'Product Class Dist'!V$36*SUMPRODUCT('Efficiency Dist'!Z295:Z302,PC10_UEC)+'Product Class Dist'!V$37*SUMPRODUCT('Efficiency Dist'!Z325:Z332,PC11_UEC)+'Product Class Dist'!V$38*SUMPRODUCT('Efficiency Dist'!Z355:Z362,PC12_UEC)+'Product Class Dist'!V$39*SUMPRODUCT('Efficiency Dist'!Z385:Z392,PC13_UEC)+'Product Class Dist'!V$40*SUMPRODUCT('Efficiency Dist'!Z415:Z422,PC14_UEC)+'Product Class Dist'!V$41*SUMPRODUCT('Efficiency Dist'!Z445:Z452,PC15_UEC)","v":6165.1399919099285},{"$f":"'Product Class Dist'!W$27*SUMPRODUCT('Efficiency Dist'!AA25:AA32,PC1_UEC)+'Product Class Dist'!W$28*SUMPRODUCT('Efficiency Dist'!AA55:AA62,PC2_UEC)+'Product Class Dist'!W$29*SUMPRODUCT('Efficiency Dist'!AA85:AA92,PC3_UEC)+'Product Class Dist'!W$30*SUMPRODUCT('Efficiency Dist'!AA115:AA122,PC4_UEC)+'Product Class Dist'!W$31*SUMPRODUCT('Efficiency Dist'!AA145:AA152,PC5_UEC)+'Product Class Dist'!W$32*SUMPRODUCT('Efficiency Dist'!AA175:AA182,PC6_UEC)+'Product Class Dist'!W$33*SUMPRODUCT('Efficiency Dist'!AA205:AA212,PC7_UEC)+'Product Class Dist'!W$34*SUMPRODUCT('Efficiency Dist'!AA235:AA242,PC8_UEC)+'Product Class Dist'!W$35*SUMPRODUCT('Efficiency Dist'!AA265:AA272,PC9_UEC)+'Product Class Dist'!W$36*SUMPRODUCT('Efficiency Dist'!AA295:AA302,PC10_UEC)+'Product Class Dist'!W$37*SUMPRODUCT('Efficiency Dist'!AA325:AA332,PC11_UEC)+'Product Class Dist'!W$38*SUMPRODUCT('Efficiency Dist'!AA355:AA362,PC12_UEC)+'Product Class Dist'!W$39*SUMPRODUCT('Efficiency Dist'!AA385:AA392,PC13_UEC)+'Product Class Dist'!W$40*SUMPRODUCT('Efficiency Dist'!AA415:AA422,PC14_UEC)+'Product Class Dist'!W$41*SUMPRODUCT('Efficiency Dist'!AA445:AA452,PC15_UEC)","v":6165.1399919099285},{"$f":"'Product Class Dist'!X$27*SUMPRODUCT('Efficiency Dist'!AB25:AB32,PC1_UEC)+'Product Class Dist'!X$28*SUMPRODUCT('Efficiency Dist'!AB55:AB62,PC2_UEC)+'Product Class Dist'!X$29*SUMPRODUCT('Efficiency Dist'!AB85:AB92,PC3_UEC)+'Product Class Dist'!X$30*SUMPRODUCT('Efficiency Dist'!AB115:AB122,PC4_UEC)+'Product Class Dist'!X$31*SUMPRODUCT('Efficiency Dist'!AB145:AB152,PC5_UEC)+'Product Class Dist'!X$32*SUMPRODUCT('Efficiency Dist'!AB175:AB182,PC6_UEC)+'Product Class Dist'!X$33*SUMPRODUCT('Efficiency Dist'!AB205:AB212,PC7_UEC)+'Product Class Dist'!X$34*SUMPRODUCT('Efficiency Dist'!AB235:AB242,PC8_UEC)+'Product Class Dist'!X$35*SUMPRODUCT('Efficiency Dist'!AB265:AB272,PC9_UEC)+'Product Class Dist'!X$36*SUMPRODUCT('Efficiency Dist'!AB295:AB302,PC10_UEC)+'Product Class Dist'!X$37*SUMPRODUCT('Efficiency Dist'!AB325:AB332,PC11_UEC)+'Product Class Dist'!X$38*SUMPRODUCT('Efficiency Dist'!AB355:AB362,PC12_UEC)+'Product Class Dist'!X$39*SUMPRODUCT('Efficiency Dist'!AB385:AB392,PC13_UEC)+'Product Class Dist'!X$40*SUMPRODUCT('Efficiency Dist'!AB415:AB422,PC14_UEC)+'Product Class Dist'!X$41*SUMPRODUCT('Efficiency Dist'!AB445:AB452,PC15_UEC)","v":5104.0615135359394},{"$f":"'Product Class Dist'!Y$27*SUMPRODUCT('Efficiency Dist'!AC25:AC32,PC1_UEC)+'Product Class Dist'!Y$28*SUMPRODUCT('Efficiency Dist'!AC55:AC62,PC2_UEC)+'Product Class Dist'!Y$29*SUMPRODUCT('Efficiency Dist'!AC85:AC92,PC3_UEC)+'Product Class Dist'!Y$30*SUMPRODUCT('Efficiency Dist'!AC115:AC122,PC4_UEC)+'Product Class Dist'!Y$31*SUMPRODUCT('Efficiency Dist'!AC145:AC152,PC5_UEC)+'Product Class Dist'!Y$32*SUMPRODUCT('Efficiency Dist'!AC175:AC182,PC6_UEC)+'Product Class Dist'!Y$33*SUMPRODUCT('Efficiency Dist'!AC205:AC212,PC7_UEC)+'Product Class Dist'!Y$34*SUMPRODUCT('Efficiency Dist'!AC235:AC242,PC8_UEC)+'Product Class Dist'!Y$35*SUMPRODUCT('Efficiency Dist'!AC265:AC272,PC9_UEC)+'Product Class Dist'!Y$36*SUMPRODUCT('Efficiency Dist'!AC295:AC302,PC10_UEC)+'Product Class Dist'!Y$37*SUMPRODUCT('Efficiency Dist'!AC325:AC332,PC11_UEC)+'Product Class Dist'!Y$38*SUMPRODUCT('Efficiency Dist'!AC355:AC362,PC12_UEC)+'Product Class Dist'!Y$39*SUMPRODUCT('Efficiency Dist'!AC385:AC392,PC13_UEC)+'Product Class Dist'!Y$40*SUMPRODUCT('Efficiency Dist'!AC415:AC422,PC14_UEC)+'Product Class Dist'!Y$41*SUMPRODUCT('Efficiency Dist'!AC445:AC452,PC15_UEC)","v":5104.0615135359394},{"$f":"'Product Class Dist'!Z$27*SUMPRODUCT('Efficiency Dist'!AD25:AD32,PC1_UEC)+'Product Class Dist'!Z$28*SUMPRODUCT('Efficiency Dist'!AD55:AD62,PC2_UEC)+'Product Class Dist'!Z$29*SUMPRODUCT('Efficiency Dist'!AD85:AD92,PC3_UEC)+'Product Class Dist'!Z$30*SUMPRODUCT('Efficiency Dist'!AD115:AD122,PC4_UEC)+'Product Class Dist'!Z$31*SUMPRODUCT('Efficiency Dist'!AD145:AD152,PC5_UEC)+'Product Class Dist'!Z$32*SUMPRODUCT('Efficiency Dist'!AD175:AD182,PC6_UEC)+'Product Class Dist'!Z$33*SUMPRODUCT('Efficiency Dist'!AD205:AD212,PC7_UEC)+'Product Class Dist'!Z$34*SUMPRODUCT('Efficiency Dist'!AD235:AD242,PC8_UEC)+'Product Class Dist'!Z$35*SUMPRODUCT('Efficiency Dist'!AD265:AD272,PC9_UEC)+'Product Class Dist'!Z$36*SUMPRODUCT('Efficiency Dist'!AD295:AD302,PC10_UEC)+'Product Class Dist'!Z$37*SUMPRODUCT('Efficiency Dist'!AD325:AD332,PC11_UEC)+'Product Class Dist'!Z$38*SUMPRODUCT('Efficiency Dist'!AD355:AD362,PC12_UEC)+'Product Class Dist'!Z$39*SUMPRODUCT('Efficiency Dist'!AD385:AD392,PC13_UEC)+'Product Class Dist'!Z$40*SUMPRODUCT('Efficiency Dist'!AD415:AD422,PC14_UEC)+'Product Class Dist'!Z$41*SUMPRODUCT('Efficiency Dist'!AD445:AD452,PC15_UEC)","v":5104.0615135359394},{"$f":"'Product Class Dist'!AA$27*SUMPRODUCT('Efficiency Dist'!AE25:AE32,PC1_UEC)+'Product Class Dist'!AA$28*SUMPRODUCT('Efficiency Dist'!AE55:AE62,PC2_UEC)+'Product Class Dist'!AA$29*SUMPRODUCT('Efficiency Dist'!AE85:AE92,PC3_UEC)+'Product Class Dist'!AA$30*SUMPRODUCT('Efficiency Dist'!AE115:AE122,PC4_UEC)+'Product Class Dist'!AA$31*SUMPRODUCT('Efficiency Dist'!AE145:AE152,PC5_UEC)+'Product Class Dist'!AA$32*SUMPRODUCT('Efficiency Dist'!AE175:AE182,PC6_UEC)+'Product Class Dist'!AA$33*SUMPRODUCT('Efficiency Dist'!AE205:AE212,PC7_UEC)+'Product Class Dist'!AA$34*SUMPRODUCT('Efficiency Dist'!AE235:AE242,PC8_UEC)+'Product Class Dist'!AA$35*SUMPRODUCT('Efficiency Dist'!AE265:AE272,PC9_UEC)+'Product Class Dist'!AA$36*SUMPRODUCT('Efficiency Dist'!AE295:AE302,PC10_UEC)+'Product Class Dist'!AA$37*SUMPRODUCT('Efficiency Dist'!AE325:AE332,PC11_UEC)+'Product Class Dist'!AA$38*SUMPRODUCT('Efficiency Dist'!AE355:AE362,PC12_UEC)+'Product Class Dist'!AA$39*SUMPRODUCT('Efficiency Dist'!AE385:AE392,PC13_UEC)+'Product Class Dist'!AA$40*SUMPRODUCT('Efficiency Dist'!AE415:AE422,PC14_UEC)+'Product Class Dist'!AA$41*SUMPRODUCT('Efficiency Dist'!AE445:AE452,PC15_UEC)","v":5104.0615135359394},{"$f":"'Product Class Dist'!AB$27*SUMPRODUCT('Efficiency Dist'!AF25:AF32,PC1_UEC)+'Product Class Dist'!AB$28*SUMPRODUCT('Efficiency Dist'!AF55:AF62,PC2_UEC)+'Product Class Dist'!AB$29*SUMPRODUCT('Efficiency Dist'!AF85:AF92,PC3_UEC)+'Product Class Dist'!AB$30*SUMPRODUCT('Efficiency Dist'!AF115:AF122,PC4_UEC)+'Product Class Dist'!AB$31*SUMPRODUCT('Efficiency Dist'!AF145:AF152,PC5_UEC)+'Product Class Dist'!AB$32*SUMPRODUCT('Efficiency Dist'!AF175:AF182,PC6_UEC)+'Product Class Dist'!AB$33*SUMPRODUCT('Efficiency Dist'!AF205:AF212,PC7_UEC)+'Product Class Dist'!AB$34*SUMPRODUCT('Efficiency Dist'!AF235:AF242,PC8_UEC)+'Product Class Dist'!AB$35*SUMPRODUCT('Efficiency Dist'!AF265:AF272,PC9_UEC)+'Product Class Dist'!AB$36*SUMPRODUCT('Efficiency Dist'!AF295:AF302,PC10_UEC)+'Product Class Dist'!AB$37*SUMPRODUCT('Efficiency Dist'!AF325:AF332,PC11_UEC)+'Product Class Dist'!AB$38*SUMPRODUCT('Efficiency Dist'!AF355:AF362,PC12_UEC)+'Product Class Dist'!AB$39*SUMPRODUCT('Efficiency Dist'!AF385:AF392,PC13_UEC)+'Product Class Dist'!AB$40*SUMPRODUCT('Efficiency Dist'!AF415:AF422,PC14_UEC)+'Product Class Dist'!AB$41*SUMPRODUCT('Efficiency Dist'!AF445:AF452,PC15_UEC)","v":5104.0615135359394},{"$f":"'Product Class Dist'!AC$27*SUMPRODUCT('Efficiency Dist'!AG25:AG32,PC1_UEC)+'Product Class Dist'!AC$28*SUMPRODUCT('Efficiency Dist'!AG55:AG62,PC2_UEC)+'Product Class Dist'!AC$29*SUMPRODUCT('Efficiency Dist'!AG85:AG92,PC3_UEC)+'Product Class Dist'!AC$30*SUMPRODUCT('Efficiency Dist'!AG115:AG122,PC4_UEC)+'Product Class Dist'!AC$31*SUMPRODUCT('Efficiency Dist'!AG145:AG152,PC5_UEC)+'Product Class Dist'!AC$32*SUMPRODUCT('Efficiency Dist'!AG175:AG182,PC6_UEC)+'Product Class Dist'!AC$33*SUMPRODUCT('Efficiency Dist'!AG205:AG212,PC7_UEC)+'Product Class Dist'!AC$34*SUMPRODUCT('Efficiency Dist'!AG235:AG242,PC8_UEC)+'Product Class Dist'!AC$35*SUMPRODUCT('Efficiency Dist'!AG265:AG272,PC9_UEC)+'Product Class Dist'!AC$36*SUMPRODUCT('Efficiency Dist'!AG295:AG302,PC10_UEC)+'Product Class Dist'!AC$37*SUMPRODUCT('Efficiency Dist'!AG325:AG332,PC11_UEC)+'Product Class Dist'!AC$38*SUMPRODUCT('Efficiency Dist'!AG355:AG362,PC12_UEC)+'Product Class Dist'!AC$39*SUMPRODUCT('Efficiency Dist'!AG385:AG392,PC13_UEC)+'Product Class Dist'!AC$40*SUMPRODUCT('Efficiency Dist'!AG415:AG422,PC14_UEC)+'Product Class Dist'!AC$41*SUMPRODUCT('Efficiency Dist'!AG445:AG452,PC15_UEC)","v":5104.0615135359394},{"$f":"'Product Class Dist'!AD$27*SUMPRODUCT('Efficiency Dist'!AH25:AH32,PC1_UEC)+'Product Class Dist'!AD$28*SUMPRODUCT('Efficiency Dist'!AH55:AH62,PC2_UEC)+'Product Class Dist'!AD$29*SUMPRODUCT('Efficiency Dist'!AH85:AH92,PC3_UEC)+'Product Class Dist'!AD$30*SUMPRODUCT('Efficiency Dist'!AH115:AH122,PC4_UEC)+'Product Class Dist'!AD$31*SUMPRODUCT('Efficiency Dist'!AH145:AH152,PC5_UEC)+'Product Class Dist'!AD$32*SUMPRODUCT('Efficiency Dist'!AH175:AH182,PC6_UEC)+'Product Class Dist'!AD$33*SUMPRODUCT('Efficiency Dist'!AH205:AH212,PC7_UEC)+'Product Class Dist'!AD$34*SUMPRODUCT('Efficiency Dist'!AH235:AH242,PC8_UEC)+'Product Class Dist'!AD$35*SUMPRODUCT('Efficiency Dist'!AH265:AH272,PC9_UEC)+'Product Class Dist'!AD$36*SUMPRODUCT('Efficiency Dist'!AH295:AH302,PC10_UEC)+'Product Class Dist'!AD$37*SUMPRODUCT('Efficiency Dist'!AH325:AH332,PC11_UEC)+'Product Class Dist'!AD$38*SUMPRODUCT('Efficiency Dist'!AH355:AH362,PC12_UEC)+'Product Class Dist'!AD$39*SUMPRODUCT('Efficiency Dist'!AH385:AH392,PC13_UEC)+'Product Class Dist'!AD$40*SUMPRODUCT('Efficiency Dist'!AH415:AH422,PC14_UEC)+'Product Class Dist'!AD$41*SUMPRODUCT('Efficiency Dist'!AH445:AH452,PC15_UEC)","v":5104.0615135359394},{"$f":"'Product Class Dist'!AE$27*SUMPRODUCT('Efficiency Dist'!AI25:AI32,PC1_UEC)+'Product Class Dist'!AE$28*SUMPRODUCT('Efficiency Dist'!AI55:AI62,PC2_UEC)+'Product Class Dist'!AE$29*SUMPRODUCT('Efficiency Dist'!AI85:AI92,PC3_UEC)+'Product Class Dist'!AE$30*SUMPRODUCT('Efficiency Dist'!AI115:AI122,PC4_UEC)+'Product Class Dist'!AE$31*SUMPRODUCT('Efficiency Dist'!AI145:AI152,PC5_UEC)+'Product Class Dist'!AE$32*SUMPRODUCT('Efficiency Dist'!AI175:AI182,PC6_UEC)+'Product Class Dist'!AE$33*SUMPRODUCT('Efficiency Dist'!AI205:AI212,PC7_UEC)+'Product Class Dist'!AE$34*SUMPRODUCT('Efficiency Dist'!AI235:AI242,PC8_UEC)+'Product Class Dist'!AE$35*SUMPRODUCT('Efficiency Dist'!AI265:AI272,PC9_UEC)+'Product Class Dist'!AE$36*SUMPRODUCT('Efficiency Dist'!AI295:AI302,PC10_UEC)+'Product Class Dist'!AE$37*SUMPRODUCT('Efficiency Dist'!AI325:AI332,PC11_UEC)+'Product Class Dist'!AE$38*SUMPRODUCT('Efficiency Dist'!AI355:AI362,PC12_UEC)+'Product Class Dist'!AE$39*SUMPRODUCT('Efficiency Dist'!AI385:AI392,PC13_UEC)+'Product Class Dist'!AE$40*SUMPRODUCT('Efficiency Dist'!AI415:AI422,PC14_UEC)+'Product Class Dist'!AE$41*SUMPRODUCT('Efficiency Dist'!AI445:AI452,PC15_UEC)","v":5104.0615135359394},{"$f":"'Product Class Dist'!AF$27*SUMPRODUCT('Efficiency Dist'!AJ25:AJ32,PC1_UEC)+'Product Class Dist'!AF$28*SUMPRODUCT('Efficiency Dist'!AJ55:AJ62,PC2_UEC)+'Product Class Dist'!AF$29*SUMPRODUCT('Efficiency Dist'!AJ85:AJ92,PC3_UEC)+'Product Class Dist'!AF$30*SUMPRODUCT('Efficiency Dist'!AJ115:AJ122,PC4_UEC)+'Product Class Dist'!AF$31*SUMPRODUCT('Efficiency Dist'!AJ145:AJ152,PC5_UEC)+'Product Class Dist'!AF$32*SUMPRODUCT('Efficiency Dist'!AJ175:AJ182,PC6_UEC)+'Product Class Dist'!AF$33*SUMPRODUCT('Efficiency Dist'!AJ205:AJ212,PC7_UEC)+'Product Class Dist'!AF$34*SUMPRODUCT('Efficiency Dist'!AJ235:AJ242,PC8_UEC)+'Product Class Dist'!AF$35*SUMPRODUCT('Efficiency Dist'!AJ265:AJ272,PC9_UEC)+'Product Class Dist'!AF$36*SUMPRODUCT('Efficiency Dist'!AJ295:AJ302,PC10_UEC)+'Product Class Dist'!AF$37*SUMPRODUCT('Efficiency Dist'!AJ325:AJ332,PC11_UEC)+'Product Class Dist'!AF$38*SUMPRODUCT('Efficiency Dist'!AJ355:AJ362,PC12_UEC)+'Product Class Dist'!AF$39*SUMPRODUCT('Efficiency Dist'!AJ385:AJ392,PC13_UEC)+'Product Class Dist'!AF$40*SUMPRODUCT('Efficiency Dist'!AJ415:AJ422,PC14_UEC)+'Product Class Dist'!AF$41*SUMPRODUCT('Efficiency Dist'!AJ445:AJ452,PC15_UEC)","v":4327.1215671594364},{"$f":"'Product Class Dist'!AG$27*SUMPRODUCT('Efficiency Dist'!AK25:AK32,PC1_UEC)+'Product Class Dist'!AG$28*SUMPRODUCT('Efficiency Dist'!AK55:AK62,PC2_UEC)+'Product Class Dist'!AG$29*SUMPRODUCT('Efficiency Dist'!AK85:AK92,PC3_UEC)+'Product Class Dist'!AG$30*SUMPRODUCT('Efficiency Dist'!AK115:AK122,PC4_UEC)+'Product Class Dist'!AG$31*SUMPRODUCT('Efficiency Dist'!AK145:AK152,PC5_UEC)+'Product Class Dist'!AG$32*SUMPRODUCT('Efficiency Dist'!AK175:AK182,PC6_UEC)+'Product Class Dist'!AG$33*SUMPRODUCT('Efficiency Dist'!AK205:AK212,PC7_UEC)+'Product Class Dist'!AG$34*SUMPRODUCT('Efficiency Dist'!AK235:AK242,PC8_UEC)+'Product Class Dist'!AG$35*SUMPRODUCT('Efficiency Dist'!AK265:AK272,PC9_UEC)+'Product Class Dist'!AG$36*SUMPRODUCT('Efficiency Dist'!AK295:AK302,PC10_UEC)+'Product Class Dist'!AG$37*SUMPRODUCT('Efficiency Dist'!AK325:AK332,PC11_UEC)+'Product Class Dist'!AG$38*SUMPRODUCT('Efficiency Dist'!AK355:AK362,PC12_UEC)+'Product Class Dist'!AG$39*SUMPRODUCT('Efficiency Dist'!AK385:AK392,PC13_UEC)+'Product Class Dist'!AG$40*SUMPRODUCT('Efficiency Dist'!AK415:AK422,PC14_UEC)+'Product Class Dist'!AG$41*SUMPRODUCT('Efficiency Dist'!AK445:AK452,PC15_UEC)","v":4327.1215671594364},{"$f":"'Product Class Dist'!AH$27*SUMPRODUCT('Efficiency Dist'!AL25:AL32,PC1_UEC)+'Product Class Dist'!AH$28*SUMPRODUCT('Efficiency Dist'!AL55:AL62,PC2_UEC)+'Product Class Dist'!AH$29*SUMPRODUCT('Efficiency Dist'!AL85:AL92,PC3_UEC)+'Product Class Dist'!AH$30*SUMPRODUCT('Efficiency Dist'!AL115:AL122,PC4_UEC)+'Product Class Dist'!AH$31*SUMPRODUCT('Efficiency Dist'!AL145:AL152,PC5_UEC)+'Product Class Dist'!AH$32*SUMPRODUCT('Efficiency Dist'!AL175:AL182,PC6_UEC)+'Product Class Dist'!AH$33*SUMPRODUCT('Efficiency Dist'!AL205:AL212,PC7_UEC)+'Product Class Dist'!AH$34*SUMPRODUCT('Efficiency Dist'!AL235:AL242,PC8_UEC)+'Product Class Dist'!AH$35*SUMPRODUCT('Efficiency Dist'!AL265:AL272,PC9_UEC)+'Product Class Dist'!AH$36*SUMPRODUCT('Efficiency Dist'!AL295:AL302,PC10_UEC)+'Product Class Dist'!AH$37*SUMPRODUCT('Efficiency Dist'!AL325:AL332,PC11_UEC)+'Product Class Dist'!AH$38*SUMPRODUCT('Efficiency Dist'!AL355:AL362,PC12_UEC)+'Product Class Dist'!AH$39*SUMPRODUCT('Efficiency Dist'!AL385:AL392,PC13_UEC)+'Product Class Dist'!AH$40*SUMPRODUCT('Efficiency Dist'!AL415:AL422,PC14_UEC)+'Product Class Dist'!AH$41*SUMPRODUCT('Efficiency Dist'!AL445:AL452,PC15_UEC)","v":4327.1215671594364},{"$f":"'Product Class Dist'!AI$27*SUMPRODUCT('Efficiency Dist'!AM25:AM32,PC1_UEC)+'Product Class Dist'!AI$28*SUMPRODUCT('Efficiency Dist'!AM55:AM62,PC2_UEC)+'Product Class Dist'!AI$29*SUMPRODUCT('Efficiency Dist'!AM85:AM92,PC3_UEC)+'Product Class Dist'!AI$30*SUMPRODUCT('Efficiency Dist'!AM115:AM122,PC4_UEC)+'Product Class Dist'!AI$31*SUMPRODUCT('Efficiency Dist'!AM145:AM152,PC5_UEC)+'Product Class Dist'!AI$32*SUMPRODUCT('Efficiency Dist'!AM175:AM182,PC6_UEC)+'Product Class Dist'!AI$33*SUMPRODUCT('Efficiency Dist'!AM205:AM212,PC7_UEC)+'Product Class Dist'!AI$34*SUMPRODUCT('Efficiency Dist'!AM235:AM242,PC8_UEC)+'Product Class Dist'!AI$35*SUMPRODUCT('Efficiency Dist'!AM265:AM272,PC9_UEC)+'Product Class Dist'!AI$36*SUMPRODUCT('Efficiency Dist'!AM295:AM302,PC10_UEC)+'Product Class Dist'!AI$37*SUMPRODUCT('Efficiency Dist'!AM325:AM332,PC11_UEC)+'Product Class Dist'!AI$38*SUMPRODUCT('Efficiency Dist'!AM355:AM362,PC12_UEC)+'Product Class Dist'!AI$39*SUMPRODUCT('Efficiency Dist'!AM385:AM392,PC13_UEC)+'Product Class Dist'!AI$40*SUMPRODUCT('Efficiency Dist'!AM415:AM422,PC14_UEC)+'Product Class Dist'!AI$41*SUMPRODUCT('Efficiency Dist'!AM445:AM452,PC15_UEC)","v":4327.1215671594364},{"$f":"'Product Class Dist'!AJ$27*SUMPRODUCT('Efficiency Dist'!AN25:AN32,PC1_UEC)+'Product Class Dist'!AJ$28*SUMPRODUCT('Efficiency Dist'!AN55:AN62,PC2_UEC)+'Product Class Dist'!AJ$29*SUMPRODUCT('Efficiency Dist'!AN85:AN92,PC3_UEC)+'Product Class Dist'!AJ$30*SUMPRODUCT('Efficiency Dist'!AN115:AN122,PC4_UEC)+'Product Class Dist'!AJ$31*SUMPRODUCT('Efficiency Dist'!AN145:AN152,PC5_UEC)+'Product Class Dist'!AJ$32*SUMPRODUCT('Efficiency Dist'!AN175:AN182,PC6_UEC)+'Product Class Dist'!AJ$33*SUMPRODUCT('Efficiency Dist'!AN205:AN212,PC7_UEC)+'Product Class Dist'!AJ$34*SUMPRODUCT('Efficiency Dist'!AN235:AN242,PC8_UEC)+'Product Class Dist'!AJ$35*SUMPRODUCT('Efficiency Dist'!AN265:AN272,PC9_UEC)+'Product Class Dist'!AJ$36*SUMPRODUCT('Efficiency Dist'!AN295:AN302,PC10_UEC)+'Product Class Dist'!AJ$37*SUMPRODUCT('Efficiency Dist'!AN325:AN332,PC11_UEC)+'Product Class Dist'!AJ$38*SUMPRODUCT('Efficiency Dist'!AN355:AN362,PC12_UEC)+'Product Class Dist'!AJ$39*SUMPRODUCT('Efficiency Dist'!AN385:AN392,PC13_UEC)+'Product Class Dist'!AJ$40*SUMPRODUCT('Efficiency Dist'!AN415:AN422,PC14_UEC)+'Product Class Dist'!AJ$41*SUMPRODUCT('Efficiency Dist'!AN445:AN452,PC15_UEC)","v":4327.1215671594364},{"$f":"'Product Class Dist'!AK$27*SUMPRODUCT('Efficiency Dist'!AO25:AO32,PC1_UEC)+'Product Class Dist'!AK$28*SUMPRODUCT('Efficiency Dist'!AO55:AO62,PC2_UEC)+'Product Class Dist'!AK$29*SUMPRODUCT('Efficiency Dist'!AO85:AO92,PC3_UEC)+'Product Class Dist'!AK$30*SUMPRODUCT('Efficiency Dist'!AO115:AO122,PC4_UEC)+'Product Class Dist'!AK$31*SUMPRODUCT('Efficiency Dist'!AO145:AO152,PC5_UEC)+'Product Class Dist'!AK$32*SUMPRODUCT('Efficiency Dist'!AO175:AO182,PC6_UEC)+'Product Class Dist'!AK$33*SUMPRODUCT('Efficiency Dist'!AO205:AO212,PC7_UEC)+'Product Class Dist'!AK$34*SUMPRODUCT('Efficiency Dist'!AO235:AO242,PC8_UEC)+'Product Class Dist'!AK$35*SUMPRODUCT('Efficiency Dist'!AO265:AO272,PC9_UEC)+'Product Class Dist'!AK$36*SUMPRODUCT('Efficiency Dist'!AO295:AO302,PC10_UEC)+'Product Class Dist'!AK$37*SUMPRODUCT('Efficiency Dist'!AO325:AO332,PC11_UEC)+'Product Class Dist'!AK$38*SUMPRODUCT('Efficiency Dist'!AO355:AO362,PC12_UEC)+'Product Class Dist'!AK$39*SUMPRODUCT('Efficiency Dist'!AO385:AO392,PC13_UEC)+'Product Class Dist'!AK$40*SUMPRODUCT('Efficiency Dist'!AO415:AO422,PC14_UEC)+'Product Class Dist'!AK$41*SUMPRODUCT('Efficiency Dist'!AO445:AO452,PC15_UEC)","v":4327.1215671594364},{"$f":"'Product Class Dist'!AL$27*SUMPRODUCT('Efficiency Dist'!AP25:AP32,PC1_UEC)+'Product Class Dist'!AL$28*SUMPRODUCT('Efficiency Dist'!AP55:AP62,PC2_UEC)+'Product Class Dist'!AL$29*SUMPRODUCT('Efficiency Dist'!AP85:AP92,PC3_UEC)+'Product Class Dist'!AL$30*SUMPRODUCT('Efficiency Dist'!AP115:AP122,PC4_UEC)+'Product Class Dist'!AL$31*SUMPRODUCT('Efficiency Dist'!AP145:AP152,PC5_UEC)+'Product Class Dist'!AL$32*SUMPRODUCT('Efficiency Dist'!AP175:AP182,PC6_UEC)+'Product Class Dist'!AL$33*SUMPRODUCT('Efficiency Dist'!AP205:AP212,PC7_UEC)+'Product Class Dist'!AL$34*SUMPRODUCT('Efficiency Dist'!AP235:AP242,PC8_UEC)+'Product Class Dist'!AL$35*SUMPRODUCT('Efficiency Dist'!AP265:AP272,PC9_UEC)+'Product Class Dist'!AL$36*SUMPRODUCT('Efficiency Dist'!AP295:AP302,PC10_UEC)+'Product Class Dist'!AL$37*SUMPRODUCT('Efficiency Dist'!AP325:AP332,PC11_UEC)+'Product Class Dist'!AL$38*SUMPRODUCT('Efficiency Dist'!AP355:AP362,PC12_UEC)+'Product Class Dist'!AL$39*SUMPRODUCT('Efficiency Dist'!AP385:AP392,PC13_UEC)+'Product Class Dist'!AL$40*SUMPRODUCT('Efficiency Dist'!AP415:AP422,PC14_UEC)+'Product Class Dist'!AL$41*SUMPRODUCT('Efficiency Dist'!AP445:AP452,PC15_UEC)","v":4327.1215671594364},{"$f":"'Product Class Dist'!AM$27*SUMPRODUCT('Efficiency Dist'!AQ25:AQ32,PC1_UEC)+'Product Class Dist'!AM$28*SUMPRODUCT('Efficiency Dist'!AQ55:AQ62,PC2_UEC)+'Product Class Dist'!AM$29*SUMPRODUCT('Efficiency Dist'!AQ85:AQ92,PC3_UEC)+'Product Class Dist'!AM$30*SUMPRODUCT('Efficiency Dist'!AQ115:AQ122,PC4_UEC)+'Product Class Dist'!AM$31*SUMPRODUCT('Efficiency Dist'!AQ145:AQ152,PC5_UEC)+'Product Class Dist'!AM$32*SUMPRODUCT('Efficiency Dist'!AQ175:AQ182,PC6_UEC)+'Product Class Dist'!AM$33*SUMPRODUCT('Efficiency Dist'!AQ205:AQ212,PC7_UEC)+'Product Class Dist'!AM$34*SUMPRODUCT('Efficiency Dist'!AQ235:AQ242,PC8_UEC)+'Product Class Dist'!AM$35*SUMPRODUCT('Efficiency Dist'!AQ265:AQ272,PC9_UEC)+'Product Class Dist'!AM$36*SUMPRODUCT('Efficiency Dist'!AQ295:AQ302,PC10_UEC)+'Product Class Dist'!AM$37*SUMPRODUCT('Efficiency Dist'!AQ325:AQ332,PC11_UEC)+'Product Class Dist'!AM$38*SUMPRODUCT('Efficiency Dist'!AQ355:AQ362,PC12_UEC)+'Product Class Dist'!AM$39*SUMPRODUCT('Efficiency Dist'!AQ385:AQ392,PC13_UEC)+'Product Class Dist'!AM$40*SUMPRODUCT('Efficiency Dist'!AQ415:AQ422,PC14_UEC)+'Product Class Dist'!AM$41*SUMPRODUCT('Efficiency Dist'!AQ445:AQ452,PC15_UEC)","v":4327.1215671594364},{"$f":"'Product Class Dist'!AN$27*SUMPRODUCT('Efficiency Dist'!AR25:AR32,PC1_UEC)+'Product Class Dist'!AN$28*SUMPRODUCT('Efficiency Dist'!AR55:AR62,PC2_UEC)+'Product Class Dist'!AN$29*SUMPRODUCT('Efficiency Dist'!AR85:AR92,PC3_UEC)+'Product Class Dist'!AN$30*SUMPRODUCT('Efficiency Dist'!AR115:AR122,PC4_UEC)+'Product Class Dist'!AN$31*SUMPRODUCT('Efficiency Dist'!AR145:AR152,PC5_UEC)+'Product Class Dist'!AN$32*SUMPRODUCT('Efficiency Dist'!AR175:AR182,PC6_UEC)+'Product Class Dist'!AN$33*SUMPRODUCT('Efficiency Dist'!AR205:AR212,PC7_UEC)+'Product Class Dist'!AN$34*SUMPRODUCT('Efficiency Dist'!AR235:AR242,PC8_UEC)+'Product Class Dist'!AN$35*SUMPRODUCT('Efficiency Dist'!AR265:AR272,PC9_UEC)+'Product Class Dist'!AN$36*SUMPRODUCT('Efficiency Dist'!AR295:AR302,PC10_UEC)+'Product Class Dist'!AN$37*SUMPRODUCT('Efficiency Dist'!AR325:AR332,PC11_UEC)+'Product Class Dist'!AN$38*SUMPRODUCT('Efficiency Dist'!AR355:AR362,PC12_UEC)+'Product Class Dist'!AN$39*SUMPRODUCT('Efficiency Dist'!AR385:AR392,PC13_UEC)+'Product Class Dist'!AN$40*SUMPRODUCT('Efficiency Dist'!AR415:AR422,PC14_UEC)+'Product Class Dist'!AN$41*SUMPRODUCT('Efficiency Dist'!AR445:AR452,PC15_UEC)","v":4327.1215671594364},{"$f":"'Product Class Dist'!AO$27*SUMPRODUCT('Efficiency Dist'!AS25:AS32,PC1_UEC)+'Product Class Dist'!AO$28*SUMPRODUCT('Efficiency Dist'!AS55:AS62,PC2_UEC)+'Product Class Dist'!AO$29*SUMPRODUCT('Efficiency Dist'!AS85:AS92,PC3_UEC)+'Product Class Dist'!AO$30*SUMPRODUCT('Efficiency Dist'!AS115:AS122,PC4_UEC)+'Product Class Dist'!AO$31*SUMPRODUCT('Efficiency Dist'!AS145:AS152,PC5_UEC)+'Product Class Dist'!AO$32*SUMPRODUCT('Efficiency Dist'!AS175:AS182,PC6_UEC)+'Product Class Dist'!AO$33*SUMPRODUCT('Efficiency Dist'!AS205:AS212,PC7_UEC)+'Product Class Dist'!AO$34*SUMPRODUCT('Efficiency Dist'!AS235:AS242,PC8_UEC)+'Product Class Dist'!AO$35*SUMPRODUCT('Efficiency Dist'!AS265:AS272,PC9_UEC)+'Product Class Dist'!AO$36*SUMPRODUCT('Efficiency Dist'!AS295:AS302,PC10_UEC)+'Product Class Dist'!AO$37*SUMPRODUCT('Efficiency Dist'!AS325:AS332,PC11_UEC)+'Product Class Dist'!AO$38*SUMPRODUCT('Efficiency Dist'!AS355:AS362,PC12_UEC)+'Product Class Dist'!AO$39*SUMPRODUCT('Efficiency Dist'!AS385:AS392,PC13_UEC)+'Product Class Dist'!AO$40*SUMPRODUCT('Efficiency Dist'!AS415:AS422,PC14_UEC)+'Product Class Dist'!AO$41*SUMPRODUCT('Efficiency Dist'!AS445:AS452,PC15_UEC)","v":4327.1215671594364},{"$f":"'Product Class Dist'!AP$27*SUMPRODUCT('Efficiency Dist'!AT25:AT32,PC1_UEC)+'Product Class Dist'!AP$28*SUMPRODUCT('Efficiency Dist'!AT55:AT62,PC2_UEC)+'Product Class Dist'!AP$29*SUMPRODUCT('Efficiency Dist'!AT85:AT92,PC3_UEC)+'Product Class Dist'!AP$30*SUMPRODUCT('Efficiency Dist'!AT115:AT122,PC4_UEC)+'Product Class Dist'!AP$31*SUMPRODUCT('Efficiency Dist'!AT145:AT152,PC5_UEC)+'Product Class Dist'!AP$32*SUMPRODUCT('Efficiency Dist'!AT175:AT182,PC6_UEC)+'Product Class Dist'!AP$33*SUMPRODUCT('Efficiency Dist'!AT205:AT212,PC7_UEC)+'Product Class Dist'!AP$34*SUMPRODUCT('Efficiency Dist'!AT235:AT242,PC8_UEC)+'Product Class Dist'!AP$35*SUMPRODUCT('Efficiency Dist'!AT265:AT272,PC9_UEC)+'Product Class Dist'!AP$36*SUMPRODUCT('Efficiency Dist'!AT295:AT302,PC10_UEC)+'Product Class Dist'!AP$37*SUMPRODUCT('Efficiency Dist'!AT325:AT332,PC11_UEC)+'Product Class Dist'!AP$38*SUMPRODUCT('Efficiency Dist'!AT355:AT362,PC12_UEC)+'Product Class Dist'!AP$39*SUMPRODUCT('Efficiency Dist'!AT385:AT392,PC13_UEC)+'Product Class Dist'!AP$40*SUMPRODUCT('Efficiency Dist'!AT415:AT422,PC14_UEC)+'Product Class Dist'!AP$41*SUMPRODUCT('Efficiency Dist'!AT445:AT452,PC15_UEC)","v":4327.1215671594364},{"$f":"'Product Class Dist'!AQ$27*SUMPRODUCT('Efficiency Dist'!AU25:AU32,PC1_UEC)+'Product Class Dist'!AQ$28*SUMPRODUCT('Efficiency Dist'!AU55:AU62,PC2_UEC)+'Product Class Dist'!AQ$29*SUMPRODUCT('Efficiency Dist'!AU85:AU92,PC3_UEC)+'Product Class Dist'!AQ$30*SUMPRODUCT('Efficiency Dist'!AU115:AU122,PC4_UEC)+'Product Class Dist'!AQ$31*SUMPRODUCT('Efficiency Dist'!AU145:AU152,PC5_UEC)+'Product Class Dist'!AQ$32*SUMPRODUCT('Efficiency Dist'!AU175:AU182,PC6_UEC)+'Product Class Dist'!AQ$33*SUMPRODUCT('Efficiency Dist'!AU205:AU212,PC7_UEC)+'Product Class Dist'!AQ$34*SUMPRODUCT('Efficiency Dist'!AU235:AU242,PC8_UEC)+'Product Class Dist'!AQ$35*SUMPRODUCT('Efficiency Dist'!AU265:AU272,PC9_UEC)+'Product Class Dist'!AQ$36*SUMPRODUCT('Efficiency Dist'!AU295:AU302,PC10_UEC)+'Product Class Dist'!AQ$37*SUMPRODUCT('Efficiency Dist'!AU325:AU332,PC11_UEC)+'Product Class Dist'!AQ$38*SUMPRODUCT('Efficiency Dist'!AU355:AU362,PC12_UEC)+'Product Class Dist'!AQ$39*SUMPRODUCT('Efficiency Dist'!AU385:AU392,PC13_UEC)+'Product Class Dist'!AQ$40*SUMPRODUCT('Efficiency Dist'!AU415:AU422,PC14_UEC)+'Product Class Dist'!AQ$41*SUMPRODUCT('Efficiency Dist'!AU445:AU452,PC15_UEC)","v":4327.1215671594364},{"$f":"'Product Class Dist'!AR$27*SUMPRODUCT('Efficiency Dist'!AV25:AV32,PC1_UEC)+'Product Class Dist'!AR$28*SUMPRODUCT('Efficiency Dist'!AV55:AV62,PC2_UEC)+'Product Class Dist'!AR$29*SUMPRODUCT('Efficiency Dist'!AV85:AV92,PC3_UEC)+'Product Class Dist'!AR$30*SUMPRODUCT('Efficiency Dist'!AV115:AV122,PC4_UEC)+'Product Class Dist'!AR$31*SUMPRODUCT('Efficiency Dist'!AV145:AV152,PC5_UEC)+'Product Class Dist'!AR$32*SUMPRODUCT('Efficiency Dist'!AV175:AV182,PC6_UEC)+'Product Class Dist'!AR$33*SUMPRODUCT('Efficiency Dist'!AV205:AV212,PC7_UEC)+'Product Class Dist'!AR$34*SUMPRODUCT('Efficiency Dist'!AV235:AV242,PC8_UEC)+'Product Class Dist'!AR$35*SUMPRODUCT('Efficiency Dist'!AV265:AV272,PC9_UEC)+'Product Class Dist'!AR$36*SUMPRODUCT('Efficiency Dist'!AV295:AV302,PC10_UEC)+'Product Class Dist'!AR$37*SUMPRODUCT('Efficiency Dist'!AV325:AV332,PC11_UEC)+'Product Class Dist'!AR$38*SUMPRODUCT('Efficiency Dist'!AV355:AV362,PC12_UEC)+'Product Class Dist'!AR$39*SUMPRODUCT('Efficiency Dist'!AV385:AV392,PC13_UEC)+'Product Class Dist'!AR$40*SUMPRODUCT('Efficiency Dist'!AV415:AV422,PC14_UEC)+'Product Class Dist'!AR$41*SUMPRODUCT('Efficiency Dist'!AV445:AV452,PC15_UEC)","v":4327.1215671594364},{"$f":"'Product Class Dist'!AS$27*SUMPRODUCT('Efficiency Dist'!AW25:AW32,PC1_UEC)+'Product Class Dist'!AS$28*SUMPRODUCT('Efficiency Dist'!AW55:AW62,PC2_UEC)+'Product Class Dist'!AS$29*SUMPRODUCT('Efficiency Dist'!AW85:AW92,PC3_UEC)+'Product Class Dist'!AS$30*SUMPRODUCT('Efficiency Dist'!AW115:AW122,PC4_UEC)+'Product Class Dist'!AS$31*SUMPRODUCT('Efficiency Dist'!AW145:AW152,PC5_UEC)+'Product Class Dist'!AS$32*SUMPRODUCT('Efficiency Dist'!AW175:AW182,PC6_UEC)+'Product Class Dist'!AS$33*SUMPRODUCT('Efficiency Dist'!AW205:AW212,PC7_UEC)+'Product Class Dist'!AS$34*SUMPRODUCT('Efficiency Dist'!AW235:AW242,PC8_UEC)+'Product Class Dist'!AS$35*SUMPRODUCT('Efficiency Dist'!AW265:AW272,PC9_UEC)+'Product Class Dist'!AS$36*SUMPRODUCT('Efficiency Dist'!AW295:AW302,PC10_UEC)+'Product Class Dist'!AS$37*SUMPRODUCT('Efficiency Dist'!AW325:AW332,PC11_UEC)+'Product Class Dist'!AS$38*SUMPRODUCT('Efficiency Dist'!AW355:AW362,PC12_UEC)+'Product Class Dist'!AS$39*SUMPRODUCT('Efficiency Dist'!AW385:AW392,PC13_UEC)+'Product Class Dist'!AS$40*SUMPRODUCT('Efficiency Dist'!AW415:AW422,PC14_UEC)+'Product Class Dist'!AS$41*SUMPRODUCT('Efficiency Dist'!AW445:AW452,PC15_UEC)","v":4327.1215671594364},{"$f":"'Product Class Dist'!AT$27*SUMPRODUCT('Efficiency Dist'!AX25:AX32,PC1_UEC)+'Product Class Dist'!AT$28*SUMPRODUCT('Efficiency Dist'!AX55:AX62,PC2_UEC)+'Product Class Dist'!AT$29*SUMPRODUCT('Efficiency Dist'!AX85:AX92,PC3_UEC)+'Product Class Dist'!AT$30*SUMPRODUCT('Efficiency Dist'!AX115:AX122,PC4_UEC)+'Product Class Dist'!AT$31*SUMPRODUCT('Efficiency Dist'!AX145:AX152,PC5_UEC)+'Product Class Dist'!AT$32*SUMPRODUCT('Efficiency Dist'!AX175:AX182,PC6_UEC)+'Product Class Dist'!AT$33*SUMPRODUCT('Efficiency Dist'!AX205:AX212,PC7_UEC)+'Product Class Dist'!AT$34*SUMPRODUCT('Efficiency Dist'!AX235:AX242,PC8_UEC)+'Product Class Dist'!AT$35*SUMPRODUCT('Efficiency Dist'!AX265:AX272,PC9_UEC)+'Product Class Dist'!AT$36*SUMPRODUCT('Efficiency Dist'!AX295:AX302,PC10_UEC)+'Product Class Dist'!AT$37*SUMPRODUCT('Efficiency Dist'!AX325:AX332,PC11_UEC)+'Product Class Dist'!AT$38*SUMPRODUCT('Efficiency Dist'!AX355:AX362,PC12_UEC)+'Product Class Dist'!AT$39*SUMPRODUCT('Efficiency Dist'!AX385:AX392,PC13_UEC)+'Product Class Dist'!AT$40*SUMPRODUCT('Efficiency Dist'!AX415:AX422,PC14_UEC)+'Product Class Dist'!AT$41*SUMPRODUCT('Efficiency Dist'!AX445:AX452,PC15_UEC)","v":4327.1215671594364},{"$f":"'Product Class Dist'!AU$27*SUMPRODUCT('Efficiency Dist'!AY25:AY32,PC1_UEC)+'Product Class Dist'!AU$28*SUMPRODUCT('Efficiency Dist'!AY55:AY62,PC2_UEC)+'Product Class Dist'!AU$29*SUMPRODUCT('Efficiency Dist'!AY85:AY92,PC3_UEC)+'Product Class Dist'!AU$30*SUMPRODUCT('Efficiency Dist'!AY115:AY122,PC4_UEC)+'Product Class Dist'!AU$31*SUMPRODUCT('Efficiency Dist'!AY145:AY152,PC5_UEC)+'Product Class Dist'!AU$32*SUMPRODUCT('Efficiency Dist'!AY175:AY182,PC6_UEC)+'Product Class Dist'!AU$33*SUMPRODUCT('Efficiency Dist'!AY205:AY212,PC7_UEC)+'Product Class Dist'!AU$34*SUMPRODUCT('Efficiency Dist'!AY235:AY242,PC8_UEC)+'Product Class Dist'!AU$35*SUMPRODUCT('Efficiency Dist'!AY265:AY272,PC9_UEC)+'Product Class Dist'!AU$36*SUMPRODUCT('Efficiency Dist'!AY295:AY302,PC10_UEC)+'Product Class Dist'!AU$37*SUMPRODUCT('Efficiency Dist'!AY325:AY332,PC11_UEC)+'Product Class Dist'!AU$38*SUMPRODUCT('Efficiency Dist'!AY355:AY362,PC12_UEC)+'Product Class Dist'!AU$39*SUMPRODUCT('Efficiency Dist'!AY385:AY392,PC13_UEC)+'Product Class Dist'!AU$40*SUMPRODUCT('Efficiency Dist'!AY415:AY422,PC14_UEC)+'Product Class Dist'!AU$41*SUMPRODUCT('Efficiency Dist'!AY445:AY452,PC15_UEC)","v":4327.1215671594364},{"$f":"'Product Class Dist'!AV$27*SUMPRODUCT('Efficiency Dist'!AZ25:AZ32,PC1_UEC)+'Product Class Dist'!AV$28*SUMPRODUCT('Efficiency Dist'!AZ55:AZ62,PC2_UEC)+'Product Class Dist'!AV$29*SUMPRODUCT('Efficiency Dist'!AZ85:AZ92,PC3_UEC)+'Product Class Dist'!AV$30*SUMPRODUCT('Efficiency Dist'!AZ115:AZ122,PC4_UEC)+'Product Class Dist'!AV$31*SUMPRODUCT('Efficiency Dist'!AZ145:AZ152,PC5_UEC)+'Product Class Dist'!AV$32*SUMPRODUCT('Efficiency Dist'!AZ175:AZ182,PC6_UEC)+'Product Class Dist'!AV$33*SUMPRODUCT('Efficiency Dist'!AZ205:AZ212,PC7_UEC)+'Product Class Dist'!AV$34*SUMPRODUCT('Efficiency Dist'!AZ235:AZ242,PC8_UEC)+'Product Class Dist'!AV$35*SUMPRODUCT('Efficiency Dist'!AZ265:AZ272,PC9_UEC)+'Product Class Dist'!AV$36*SUMPRODUCT('Efficiency Dist'!AZ295:AZ302,PC10_UEC)+'Product Class Dist'!AV$37*SUMPRODUCT('Efficiency Dist'!AZ325:AZ332,PC11_UEC)+'Product Class Dist'!AV$38*SUMPRODUCT('Efficiency Dist'!AZ355:AZ362,PC12_UEC)+'Product Class Dist'!AV$39*SUMPRODUCT('Efficiency Dist'!AZ385:AZ392,PC13_UEC)+'Product Class Dist'!AV$40*SUMPRODUCT('Efficiency Dist'!AZ415:AZ422,PC14_UEC)+'Product Class Dist'!AV$41*SUMPRODUCT('Efficiency Dist'!AZ445:AZ452,PC15_UEC)","v":4327.1215671594364}]
[]
[]
[null,null,"Installed UEC (Vintage Weighted Average) "]
[null,null,null,1990,{"$f":"D16+1","v":1991},{"$f":"E16+1","v":1992},1993,1994,1995,1996,1997,1998,1999,2000,2001,2002,2003,2004,2005,2006,2007,2008,2009,2010,2011,2012,2013,2014,2015,2016,2017,2018,2019,2020,2021,2022,2023,2024,2025,2026,2027,2028,2029,2030,2031,2032,2033,2034]
[null,null,"PRE-Case UEC",{"$f":"IF(D$16-$D$16<=Lifetime,D11,\nSUMPRODUCT(OFFSET(D11,0,(-1*Lifetime)+1,1,Lifetime),OFFSET('Shipments and Stock '!E$17,0,(-1*Lifetime)+1,1,Lifetime))/SUM(OFFSET('Shipments and Stock '!E$17,0,(-1*Lifetime)+1,1,Lifetime)))","v":6165.1399919099285},{"$f":"IF(E$16-$D$16<=Lifetime,E11,\nSUMPRODUCT(OFFSET(E11,0,(-1*Lifetime)+1,1,Lifetime),OFFSET('Shipments and Stock '!F$17,0,(-1*Lifetime)+1,1,Lifetime))/SUM(OFFSET('Shipments and Stock '!F$17,0,(-1*Lifetime)+1,1,Lifetime)))","v":6165.1399919099285},{"$f":"IF(F$16-$D$16<=Lifetime,F11,\nSUMPRODUCT(OFFSET(F11,0,(-1*Lifetime)+1,1,Lifetime),OFFSET('Shipments and Stock '!G$17,0,(-1*Lifetime)+1,1,Lifetime))/SUM(OFFSET('Shipments and Stock '!G$17,0,(-1*Lifetime)+1,1,Lifetime)))","v":6165.1399919099285},{"$f":"IF(G$16-$D$16<=Lifetime,G11,\nSUMPRODUCT(OFFSET(G11,0,(-1*Lifetime)+1,1,Lifetime),OFFSET('Shipments and Stock '!H$17,0,(-1*Lifetime)+1,1,Lifetime))/SUM(OFFSET('Shipments and Stock '!H$17,0,(-1*Lifetime)+1,1,Lifetime)))","v":6165.1399919099285},{"$f":"IF(H$16-$D$16<=Lifetime,H11,\nSUMPRODUCT(OFFSET(H11,0,(-1*Lifetime)+1,1,Lifetime),OFFSET('Shipments and Stock '!I$17,0,(-1*Lifetime)+1,1,Lifetime))/SUM(OFFSET('Shipments and Stock '!I$17,0,(-1*Lifetime)+1,1,Lifetime)))","v":6165.1399919099285},{"$f":"IF(I$16-$D$16<=Lifetime,I11,\nSUMPRODUCT(OFFSET(I11,0,(-1*Lifetime)+1,1,Lifetime),OFFSET('Shipments and Stock '!J$17,0,(-1*Lifetime)+1,1,Lifetime))/SUM(OFFSET('Shipments and Stock '!J$17,0,(-1*Lifetime)+1,1,Lifetime)))","v":6165.1399919099285},{"$f":"IF(J$16-$D$16<=Lifetime,J11,\nSUMPRODUCT(OFFSET(J11,0,(-1*Lifetime)+1,1,Lifetime),OFFSET('Shipments and Stock '!K$17,0,(-1*Lifetime)+1,1,Lifetime))/SUM(OFFSET('Shipments and Stock '!K$17,0,(-1*Lifetime)+1,1,Lifetime)))","v":6165.1399919099285},{"$f":"IF(K$16-$D$16<=Lifetime,K11,\nSUMPRODUCT(OFFSET(K11,0,(-1*Lifetime)+1,1,Lifetime),OFFSET('Shipments and Stock '!L$17,0,(-1*Lifetime)+1,1,Lifetime))/SUM(OFFSET('Shipments and Stock '!L$17,0,(-1*Lifetime)+1,1,Lifetime)))","v":6165.1399919099285},{"$f":"IF(L$16-$D$16<=Lifetime,L11,\nSUMPRODUCT(OFFSET(L11,0,(-1*Lifetime)+1,1,Lifetime),OFFSET('Shipments and Stock '!M$17,0,(-1*Lifetime)+1,1,Lifetime))/SUM(OFFSET('Shipments and Stock '!M$17,0,(-1*Lifetime)+1,1,Lifetime)))","v":6165.1399919099285},{"$f":"IF(M$16-$D$16<=Lifetime,M11,\nSUMPRODUCT(OFFSET(M11,0,(-1*Lifetime)+1,1,Lifetime),OFFSET('Shipments and Stock '!N$17,0,(-1*Lifetime)+1,1,Lifetime))/SUM(OFFSET('Shipments and Stock '!N$17,0,(-1*Lifetime)+1,1,Lifetime)))","v":{"$error":"#VALUE!"}},{"$f":"IF(N$16-$D$16<=Lifetime,N11,\nSUMPRODUCT(OFFSET(N11,0,(-1*Lifetime)+1,1,Lifetime),OFFSET('Shipments and Stock '!O$17,0,(-1*Lifetime)+1,1,Lifetime))/SUM(OFFSET('Shipments and Stock '!O$17,0,(-1*Lifetime)+1,1,Lifetime)))","v":{"$error":"#VALUE!"}},{"$f":"IF(O$16-$D$16<=Lifetime,O11,\nSUMPRODUCT(OFFSET(O11,0,(-1*Lifetime)+1,1,Lifetime),OFFSET('Shipments and Stock '!P$17,0,(-1*Lifetime)+1,1,Lifetime))/SUM(OFFSET('Shipments and Stock '!P$17,0,(-1*Lifetime)+1,1,Lifetime)))","v":{"$error":"#VALUE!"}},{"$f":"IF(P$16-$D$16<=Lifetime,P11,\nSUMPRODUCT(OFFSET(P11,0,(-1*Lifetime)+1,1,Lifetime),OFFSET('Shipments and Stock '!Q$17,0,(-1*Lifetime)+1,1,Lifetime))/SUM(OFFSET('Shipments and Stock '!Q$17,0,(-1*Lifetime)+1,1,Lifetime)))","v":{"$error":"#VALUE!"}},{"$f":"IF(Q$16-$D$16<=Lifetime,Q11,\nSUMPRODUCT(OFFSET(Q11,0,(-1*Lifetime)+1,1,Lifetime),OFFSET('Shipments and Stock '!R$17,0,(-1*Lifetime)+1,1,Lifetime))/SUM(OFFSET('Shipments and Stock '!R$17,0,(-1*Lifetime)+1,1,Lifetime)))","v":{"$error":"#VALUE!"}},{"$f":"IF(R$16-$D$16<=Lifetime,R11,\nSUMPRODUCT(OFFSET(R11,0,(-1*Lifetime)+1,1,Lifetime),OFFSET('Shipments and Stock '!S$17,0,(-1*Lifetime)+1,1,Lifetime))/SUM(OFFSET('Shipments and Stock '!S$17,0,(-1*Lifetime)+1,1,Lifetime)))","v":{"$error":"#VALUE!"}},{"$f":"IF(S$16-$D$16<=Lifetime,S11,\nSUMPRODUCT(OFFSET(S11,0,(-1*Lifetime)+1,1,Lifetime),OFFSET('Shipments and Stock '!T$17,0,(-1*Lifetime)+1,1,Lifetime))/SUM(OFFSET('Shipments and Stock '!T$17,0,(-1*Lifetime)+1,1,Lifetime)))","v":{"$error":"#VALUE!"}},{"$f":"IF(T$16-$D$16<=Lifetime,T11,\nSUMPRODUCT(OFFSET(T11,0,(-1*Lifetime)+1,1,Lifetime),OFFSET('Shipments and Stock '!U$17,0,(-1*Lifetime)+1,1,Lifetime))/SUM(OFFSET('Shipments and Stock '!U$17,0,(-1*Lifetime)+1,1,Lifetime)))","v":{"$error":"#VALUE!"}},{"$f":"IF(U$16-$D$16<=Lifetime,U11,\nSUMPRODUCT(OFFSET(U11,0,(-1*Lifetime)+1,1,Lifetime),OFFSET('Shipments and Stock '!V$17,0,(-1*Lifetime)+1,1,Lifetime))/SUM(OFFSET('Shipments and Stock '!V$17,0,(-1*Lifetime)+1,1,Lifetime)))","v":{"$error":"#VALUE!"}},{"$f":"IF(V$16-$D$16<=Lifetime,V11,\nSUMPRODUCT(OFFSET(V11,0,(-1*Lifetime)+1,1,Lifetime),OFFSET('Shipments and Stock '!W$17,0,(-1*Lifetime)+1,1,Lifetime))/SUM(OFFSET('Shipments and Stock '!W$17,0,(-1*Lifetime)+1,1,Lifetime)))","v":{"$error":"#VALUE!"}},{"$f":"IF(W$16-$D$16<=Lifetime,W11,\nSUMPRODUCT(OFFSET(W11,0,(-1*Lifetime)+1,1,Lifetime),OFFSET('Shipments and Stock '!X$17,0,(-1*Lifetime)+1,1,Lifetime))/SUM(OFFSET('Shipments and Stock '!X$17,0,(-1*Lifetime)+1,1,Lifetime)))","v":{"$error":"#VALUE!"}},{"$f":"IF(X$16-$D$16<=Lifetime,X11,\nSUMPRODUCT(OFFSET(X11,0,(-1*Lifetime)+1,1,Lifetime),OFFSET('Shipments and Stock '!Y$17,0,(-1*Lifetime)+1,1,Lifetime))/SUM(OFFSET('Shipments and Stock '!Y$17,0,(-1*Lifetime)+1,1,Lifetime)))","v":{"$error":"#VALUE!"}},{"$f":"IF(Y$16-$D$16<=Lifetime,Y11,\nSUMPRODUCT(OFFSET(Y11,0,(-1*Lifetime)+1,1,Lifetime),OFFSET('Shipments and Stock '!Z$17,0,(-1*Lifetime)+1,1,Lifetime))/SUM(OFFSET('Shipments and Stock '!Z$17,0,(-1*Lifetime)+1,1,Lifetime)))","v":{"$error":"#VALUE!"}},{"$f":"IF(Z$16-$D$16<=Lifetime,Z11,\nSUMPRODUCT(OFFSET(Z11,0,(-1*Lifetime)+1,1,Lifetime),OFFSET('Shipments and Stock '!AA$17,0,(-1*Lifetime)+1,1,Lifetime))/SUM(OFFSET('Shipments and Stock '!AA$17,0,(-1*Lifetime)+1,1,Lifetime)))","v":{"$error":"#VALUE!"}},{"$f":"IF(AA$16-$D$16<=Lifetime,AA11,\nSUMPRODUCT(OFFSET(AA11,0,(-1*Lifetime)+1,1,Lifetime),OFFSET('Shipments and Stock '!AB$17,0,(-1*Lifetime)+1,1,Lifetime))/SUM(OFFSET('Shipments and Stock '!AB$17,0,(-1*Lifetime)+1,1,Lifetime)))","v":{"$error":"#VALUE!"}},{"$f":"IF(AB$16-$D$16<=Lifetime,AB11,\nSUMPRODUCT(OFFSET(AB11,0,(-1*Lifetime)+1,1,Lifetime),OFFSET('Shipments and Stock '!AC$17,0,(-1*Lifetime)+1,1,Lifetime))/SUM(OFFSET('Shipments and Stock '!AC$17,0,(-1*Lifetime)+1,1,Lifetime)))","v":{"$error":"#VALUE!"}},{"$f":"IF(AC$16-$D$16<=Lifetime,AC11,\nSUMPRODUCT(OFFSET(AC11,0,(-1*Lifetime)+1,1,Lifetime),OFFSET('Shipments and Stock '!AD$17,0,(-1*Lifetime)+1,1,Lifetime))/SUM(OFFSET('Shipments and Stock '!AD$17,0,(-1*Lifetime)+1,1,Lifetime)))","v":{"$error":"#VALUE!"}},{"$f":"IF(AD$16-$D$16<=Lifetime,AD11,\nSUMPRODUCT(OFFSET(AD11,0,(-1*Lifetime)+1,1,Lifetime),OFFSET('Shipments and Stock '!AE$17,0,(-1*Lifetime)+1,1,Lifetime))/SUM(OFFSET('Shipments and Stock '!AE$17,0,(-1*Lifetime)+1,1,Lifetime)))","v":{"$error":"#VALUE!"}},{"$f":"IF(AE$16-$D$16<=Lifetime,AE11,\nSUMPRODUCT(OFFSET(AE11,0,(-1*Lifetime)+1,1,Lifetime),OFFSET('Shipments and Stock '!AF$17,0,(-1*Lifetime)+1,1,Lifetime))/SUM(OFFSET('Shipments and Stock '!AF$17,0,(-1*Lifetime)+1,1,Lifetime)))","v":{"$error":"#VALUE!"}},{"$f":"IF(AF$16-$D$16<=Lifetime,AF11,\nSUMPRODUCT(OFFSET(AF11,0,(-1*Lifetime)+1,1,Lifetime),OFFSET('Shipments and Stock '!AG$17,0,(-1*Lifetime)+1,1,Lifetime))/SUM(OFFSET('Shipments and Stock '!AG$17,0,(-1*Lifetime)+1,1,Lifetime)))","v":{"$error":"#VALUE!"}},{"$f":"IF(AG$16-$D$16<=Lifetime,AG11,\nSUMPRODUCT(OFFSET(AG11,0,(-1*Lifetime)+1,1,Lifetime),OFFSET('Shipments and Stock '!AH$17,0,(-1*Lifetime)+1,1,Lifetime))/SUM(OFFSET('Shipments and Stock '!AH$17,0,(-1*Lifetime)+1,1,Lifetime)))","v":{"$error":"#VALUE!"}},{"$f":"IF(AH$16-$D$16<=Lifetime,AH11,\nSUMPRODUCT(OFFSET(AH11,0,(-1*Lifetime)+1,1,Lifetime),OFFSET('Shipments and Stock '!AI$17,0,(-1*Lifetime)+1,1,Lifetime))/SUM(OFFSET('Shipments and Stock '!AI$17,0,(-1*Lifetime)+1,1,Lifetime)))","v":{"$error":"#VALUE!"}},{"$f":"IF(AI$16-$D$16<=Lifetime,AI11,\nSUMPRODUCT(OFFSET(AI11,0,(-1*Lifetime)+1,1,Lifetime),OFFSET('Shipments and Stock '!AJ$17,0,(-1*Lifetime)+1,1,Lifetime))/SUM(OFFSET('Shipments and Stock '!AJ$17,0,(-1*Lifetime)+1,1,Lifetime)))","v":{"$error":"#VALUE!"}},{"$f":"IF(AJ$16-$D$16<=Lifetime,AJ11,\nSUMPRODUCT(OFFSET(AJ11,0,(-1*Lifetime)+1,1,Lifetime),OFFSET('Shipments and Stock '!AK$17,0,(-1*Lifetime)+1,1,Lifetime))/SUM(OFFSET('Shipments and Stock '!AK$17,0,(-1*Lifetime)+1,1,Lifetime)))","v":{"$error":"#VALUE!"}},{"$f":"IF(AK$16-$D$16<=Lifetime,AK11,\nSUMPRODUCT(OFFSET(AK11,0,(-1*Lifetime)+1,1,Lifetime),OFFSET('Shipments and Stock '!AL$17,0,(-1*Lifetime)+1,1,Lifetime))/SUM(OFFSET('Shipments and Stock '!AL$17,0,(-1*Lifetime)+1,1,Lifetime)))","v":{"$error":"#VALUE!"}},{"$f":"IF(AL$16-$D$16<=Lifetime,AL11,\nSUMPRODUCT(OFFSET(AL11,0,(-1*Lifetime)+1,1,Lifetime),OFFSET('Shipments and Stock '!AM$17,0,(-1*Lifetime)+1,1,Lifetime))/SUM(OFFSET('Shipments and Stock '!AM$17,0,(-1*Lifetime)+1,1,Lifetime)))","v":{"$error":"#VALUE!"}},{"$f":"IF(AM$16-$D$16<=Lifetime,AM11,\nSUMPRODUCT(OFFSET(AM11,0,(-1*Lifetime)+1,1,Lifetime),OFFSET('Shipments and Stock '!AN$17,0,(-1*Lifetime)+1,1,Lifetime))/SUM(OFFSET('Shipments and Stock '!AN$17,0,(-1*Lifetime)+1,1,Lifetime)))","v":{"$error":"#VALUE!"}},{"$f":"IF(AN$16-$D$16<=Lifetime,AN11,\nSUMPRODUCT(OFFSET(AN11,0,(-1*Lifetime)+1,1,Lifetime),OFFSET('Shipments and Stock '!AO$17,0,(-1*Lifetime)+1,1,Lifetime))/SUM(OFFSET('Shipments and Stock '!AO$17,0,(-1*Lifetime)+1,1,Lifetime)))","v":{"$error":"#VALUE!"}},{"$f":"IF(AO$16-$D$16<=Lifetime,AO11,\nSUMPRODUCT(OFFSET(AO11,0,(-1*Lifetime)+1,1,Lifetime),OFFSET('Shipments and Stock '!AP$17,0,(-1*Lifetime)+1,1,Lifetime))/SUM(OFFSET('Shipments and Stock '!AP$17,0,(-1*Lifetime)+1,1,Lifetime)))","v":{"$error":"#VALUE!"}},{"$f":"IF(AP$16-$D$16<=Lifetime,AP11,\nSUMPRODUCT(OFFSET(AP11,0,(-1*Lifetime)+1,1,Lifetime),OFFSET('Shipments and Stock '!AQ$17,0,(-1*Lifetime)+1,1,Lifetime))/SUM(OFFSET('Shipments and Stock '!AQ$17,0,(-1*Lifetime)+1,1,Lifetime)))","v":{"$error":"#VALUE!"}},{"$f":"IF(AQ$16-$D$16<=Lifetime,AQ11,\nSUMPRODUCT(OFFSET(AQ11,0,(-1*Lifetime)+1,1,Lifetime),OFFSET('Shipments and Stock '!AR$17,0,(-1*Lifetime)+1,1,Lifetime))/SUM(OFFSET('Shipments and Stock '!AR$17,0,(-1*Lifetime)+1,1,Lifetime)))","v":{"$error":"#VALUE!"}},{"$f":"IF(AR$16-$D$16<=Lifetime,AR11,\nSUMPRODUCT(OFFSET(AR11,0,(-1*Lifetime)+1,1,Lifetime),OFFSET('Shipments and Stock '!AS$17,0,(-1*Lifetime)+1,1,Lifetime))/SUM(OFFSET('Shipments and Stock '!AS$17,0,(-1*Lifetime)+1,1,Lifetime)))","v":{"$error":"#VALUE!"}},{"$f":"IF(AS$16-$D$16<=Lifetime,AS11,\nSUMPRODUCT(OFFSET(AS11,0,(-1*Lifetime)+1,1,Lifetime),OFFSET('Shipments and Stock '!AT$17,0,(-1*Lifetime)+1,1,Lifetime))/SUM(OFFSET('Shipments and Stock '!AT$17,0,(-1*Lifetime)+1,1,Lifetime)))","v":{"$error":"#VALUE!"}},{"$f":"IF(AT$16-$D$16<=Lifetime,AT11,\nSUMPRODUCT(OFFSET(AT11,0,(-1*Lifetime)+1,1,Lifetime),OFFSET('Shipments and Stock '!AU$17,0,(-1*Lifetime)+1,1,Lifetime))/SUM(OFFSET('Shipments and Stock '!AU$17,0,(-1*Lifetime)+1,1,Lifetime)))","v":{"$error":"#VALUE!"}},{"$f":"IF(AU$16-$D$16<=Lifetime,AU11,\nSUMPRODUCT(OFFSET(AU11,0,(-1*Lifetime)+1,1,Lifetime),OFFSET('Shipments and Stock '!AV$17,0,(-1*Lifetime)+1,1,Lifetime))/SUM(OFFSET('Shipments and Stock '!AV$17,0,(-1*Lifetime)+1,1,Lifetime)))","v":{"$error":"#VALUE!"}},{"$f":"IF(AV$16-$D$16<=Lifetime,AV11,\nSUMPRODUCT(OFFSET(AV11,0,(-1*Lifetime)+1,1,Lifetime),OFFSET('Shipments and Stock '!AW$17,0,(-1*Lifetime)+1,1,Lifetime))/SUM(OFFSET('Shipments and Stock '!AW$17,0,(-1*Lifetime)+1,1,Lifetime)))","v":{"$error":"#VALUE!"}}]
[null,null,"POST-Case UEC",{"$f":"IF(D$16-$D$16<Lifetime,D12,\nSUMPRODUCT(OFFSET(D12,0,(-1*Lifetime)+1,1,Lifetime),OFFSET('Shipments and Stock '!E$17,0,(-1*Lifetime)+1,1,Lifetime))/SUM(OFFSET('Shipments and Stock '!E$17,0,(-1*Lifetime)+1,1,Lifetime)))","v":6165.1399919099285},{"$f":"IF(E$16-$D$16<Lifetime,E12,\nSUMPRODUCT(OFFSET(E12,0,(-1*Lifetime)+1,1,Lifetime),OFFSET('Shipments and Stock '!F$17,0,(-1*Lifetime)+1,1,Lifetime))/SUM(OFFSET('Shipments and Stock '!F$17,0,(-1*Lifetime)+1,1,Lifetime)))","v":6165.1399919099285},{"$f":"IF(F$16-$D$16<Lifetime,F12,\nSUMPRODUCT(OFFSET(F12,0,(-1*Lifetime)+1,1,Lifetime),OFFSET('Shipments and Stock '!G$17,0,(-1*Lifetime)+1,1,Lifetime))/SUM(OFFSET('Shipments and Stock '!G$17,0,(-1*Lifetime)+1,1,Lifetime)))","v":6165.1399919099285},{"$f":"IF(G$16-$D$16<Lifetime,G12,\nSUMPRODUCT(OFFSET(G12,0,(-1*Lifetime)+1,1,Lifetime),OFFSET('Shipments and Stock '!H$17,0,(-1*Lifetime)+1,1,Lifetime))/SUM(OFFSET('Shipments and Stock '!H$17,0,(-1*Lifetime)+1,1,Lifetime)))","v":6165.1399919099285},{"$f":"IF(H$16-$D$16<Lifetime,H12,\nSUMPRODUCT(OFFSET(H12,0,(-1*Lifetime)+1,1,Lifetime),OFFSET('Shipments and Stock '!I$17,0,(-1*Lifetime)+1,1,Lifetime))/SUM(OFFSET('Shipments and Stock '!I$17,0,(-1*Lifetime)+1,1,Lifetime)))","v":6165.1399919099285},{"$f":"IF(I$16-$D$16<Lifetime,I12,\nSUMPRODUCT(OFFSET(I12,0,(-1*Lifetime)+1,1,Lifetime),OFFSET('Shipments and Stock '!J$17,0,(-1*Lifetime)+1,1,Lifetime))/SUM(OFFSET('Shipments and Stock '!J$17,0,(-1*Lifetime)+1,1,Lifetime)))","v":6165.1399919099285},{"$f":"IF(J$16-$D$16<Lifetime,J12,\nSUMPRODUCT(OFFSET(J12,0,(-1*Lifetime)+1,1,Lifetime),OFFSET('Shipments and Stock '!K$17,0,(-1*Lifetime)+1,1,Lifetime))/SUM(OFFSET('Shipments and Stock '!K$17,0,(-1*Lifetime)+1,1,Lifetime)))","v":6165.1399919099285},{"$f":"IF(K$16-$D$16<Lifetime,K12,\nSUMPRODUCT(OFFSET(K12,0,(-1*Lifetime)+1,1,Lifetime),OFFSET('Shipments and Stock '!L$17,0,(-1*Lifetime)+1,1,Lifetime))/SUM(OFFSET('Shipments and Stock '!L$17,0,(-1*Lifetime)+1,1,Lifetime)))","v":6165.1399919099285},{"$f":"IF(L$16-$D$16<Lifetime,L12,\nSUMPRODUCT(OFFSET(L12,0,(-1*Lifetime)+1,1,Lifetime),OFFSET('Shipments and Stock '!M$17,0,(-1*Lifetime)+1,1,Lifetime))/SUM(OFFSET('Shipments and Stock '!M$17,0,(-1*Lifetime)+1,1,Lifetime)))","v":6165.1399919099285},{"$f":"IF(M$16-$D$16<Lifetime,M12,\nSUMPRODUCT(OFFSET(M12,0,(-1*Lifetime)+1,1,Lifetime),OFFSET('Shipments and Stock '!N$17,0,(-1*Lifetime)+1,1,Lifetime))/SUM(OFFSET('Shipments and Stock '!N$17,0,(-1*Lifetime)+1,1,Lifetime)))","v":{"$error":"#VALUE!"}},{"$f":"IF(N$16-$D$16<Lifetime,N12,\nSUMPRODUCT(OFFSET(N12,0,(-1*Lifetime)+1,1,Lifetime),OFFSET('Shipments and Stock '!O$17,0,(-1*Lifetime)+1,1,Lifetime))/SUM(OFFSET('Shipments and Stock '!O$17,0,(-1*Lifetime)+1,1,Lifetime)))","v":{"$error":"#VALUE!"}},{"$f":"IF(O$16-$D$16<Lifetime,O12,\nSUMPRODUCT(OFFSET(O12,0,(-1*Lifetime)+1,1,Lifetime),OFFSET('Shipments and Stock '!P$17,0,(-1*Lifetime)+1,1,Lifetime))/SUM(OFFSET('Shipments and Stock '!P$17,0,(-1*Lifetime)+1,1,Lifetime)))","v":{"$error":"#VALUE!"}},{"$f":"IF(P$16-$D$16<Lifetime,P12,\nSUMPRODUCT(OFFSET(P12,0,(-1*Lifetime)+1,1,Lifetime),OFFSET('Shipments and Stock '!Q$17,0,(-1*Lifetime)+1,1,Lifetime))/SUM(OFFSET('Shipments and Stock '!Q$17,0,(-1*Lifetime)+1,1,Lifetime)))","v":{"$error":"#VALUE!"}},{"$f":"IF(Q$16-$D$16<Lifetime,Q12,\nSUMPRODUCT(OFFSET(Q12,0,(-1*Lifetime)+1,1,Lifetime),OFFSET('Shipments and Stock '!R$17,0,(-1*Lifetime)+1,1,Lifetime))/SUM(OFFSET('Shipments and Stock '!R$17,0,(-1*Lifetime)+1,1,Lifetime)))","v":{"$error":"#VALUE!"}},{"$f":"IF(R$16-$D$16<Lifetime,R12,\nSUMPRODUCT(OFFSET(R12,0,(-1*Lifetime)+1,1,Lifetime),OFFSET('Shipments and Stock '!S$17,0,(-1*Lifetime)+1,1,Lifetime))/SUM(OFFSET('Shipments and Stock '!S$17,0,(-1*Lifetime)+1,1,Lifetime)))","v":{"$error":"#VALUE!"}},{"$f":"IF(S$16-$D$16<Lifetime,S12,\nSUMPRODUCT(OFFSET(S12,0,(-1*Lifetime)+1,1,Lifetime),OFFSET('Shipments and Stock '!T$17,0,(-1*Lifetime)+1,1,Lifetime))/SUM(OFFSET('Shipments and Stock '!T$17,0,(-1*Lifetime)+1,1,Lifetime)))","v":{"$error":"#VALUE!"}},{"$f":"IF(T$16-$D$16<Lifetime,T12,\nSUMPRODUCT(OFFSET(T12,0,(-1*Lifetime)+1,1,Lifetime),OFFSET('Shipments and Stock '!U$17,0,(-1*Lifetime)+1,1,Lifetime))/SUM(OFFSET('Shipments and Stock '!U$17,0,(-1*Lifetime)+1,1,Lifetime)))","v":{"$error":"#VALUE!"}},{"$f":"IF(U$16-$D$16<Lifetime,U12,\nSUMPRODUCT(OFFSET(U12,0,(-1*Lifetime)+1,1,Lifetime),OFFSET('Shipments and Stock '!V$17,0,(-1*Lifetime)+1,1,Lifetime))/SUM(OFFSET('Shipments and Stock '!V$17,0,(-1*Lifetime)+1,1,Lifetime)))","v":{"$error":"#VALUE!"}},{"$f":"IF(V$16-$D$16<Lifetime,V12,\nSUMPRODUCT(OFFSET(V12,0,(-1*Lifetime)+1,1,Lifetime),OFFSET('Shipments and Stock '!W$17,0,(-1*Lifetime)+1,1,Lifetime))/SUM(OFFSET('Shipments and Stock '!W$17,0,(-1*Lifetime)+1,1,Lifetime)))","v":{"$error":"#VALUE!"}},{"$f":"IF(W$16-$D$16<Lifetime,W12,\nSUMPRODUCT(OFFSET(W12,0,(-1*Lifetime)+1,1,Lifetime),OFFSET('Shipments and Stock '!X$17,0,(-1*Lifetime)+1,1,Lifetime))/SUM(OFFSET('Shipments and Stock '!X$17,0,(-1*Lifetime)+1,1,Lifetime)))","v":{"$error":"#VALUE!"}},{"$f":"IF(X$16-$D$16<Lifetime,X12,\nSUMPRODUCT(OFFSET(X12,0,(-1*Lifetime)+1,1,Lifetime),OFFSET('Shipments and Stock '!Y$17,0,(-1*Lifetime)+1,1,Lifetime))/SUM(OFFSET('Shipments and Stock '!Y$17,0,(-1*Lifetime)+1,1,Lifetime)))","v":{"$error":"#VALUE!"}},{"$f":"IF(Y$16-$D$16<Lifetime,Y12,\nSUMPRODUCT(OFFSET(Y12,0,(-1*Lifetime)+1,1,Lifetime),OFFSET('Shipments and Stock '!Z$17,0,(-1*Lifetime)+1,1,Lifetime))/SUM(OFFSET('Shipments and Stock '!Z$17,0,(-1*Lifetime)+1,1,Lifetime)))","v":{"$error":"#VALUE!"}},{"$f":"IF(Z$16-$D$16<Lifetime,Z12,\nSUMPRODUCT(OFFSET(Z12,0,(-1*Lifetime)+1,1,Lifetime),OFFSET('Shipments and Stock '!AA$17,0,(-1*Lifetime)+1,1,Lifetime))/SUM(OFFSET('Shipments and Stock '!AA$17,0,(-1*Lifetime)+1,1,Lifetime)))","v":{"$error":"#VALUE!"}},{"$f":"IF(AA$16-$D$16<Lifetime,AA12,\nSUMPRODUCT(OFFSET(AA12,0,(-1*Lifetime)+1,1,Lifetime),OFFSET('Shipments and Stock '!AB$17,0,(-1*Lifetime)+1,1,Lifetime))/SUM(OFFSET('Shipments and Stock '!AB$17,0,(-1*Lifetime)+1,1,Lifetime)))","v":{"$error":"#VALUE!"}},{"$f":"IF(AB$16-$D$16<Lifetime,AB12,\nSUMPRODUCT(OFFSET(AB12,0,(-1*Lifetime)+1,1,Lifetime),OFFSET('Shipments and Stock '!AC$17,0,(-1*Lifetime)+1,1,Lifetime))/SUM(OFFSET('Shipments and Stock '!AC$17,0,(-1*Lifetime)+1,1,Lifetime)))","v":{"$error":"#VALUE!"}},{"$f":"IF(AC$16-$D$16<Lifetime,AC12,\nSUMPRODUCT(OFFSET(AC12,0,(-1*Lifetime)+1,1,Lifetime),OFFSET('Shipments and Stock '!AD$17,0,(-1*Lifetime)+1,1,Lifetime))/SUM(OFFSET('Shipments and Stock '!AD$17,0,(-1*Lifetime)+1,1,Lifetime)))","v":{"$error":"#VALUE!"}},{"$f":"IF(AD$16-$D$16<Lifetime,AD12,\nSUMPRODUCT(OFFSET(AD12,0,(-1*Lifetime)+1,1,Lifetime),OFFSET('Shipments and Stock '!AE$17,0,(-1*Lifetime)+1,1,Lifetime))/SUM(OFFSET('Shipments and Stock '!AE$17,0,(-1*Lifetime)+1,1,Lifetime)))","v":{"$error":"#VALUE!"}},{"$f":"IF(AE$16-$D$16<Lifetime,AE12,\nSUMPRODUCT(OFFSET(AE12,0,(-1*Lifetime)+1,1,Lifetime),OFFSET('Shipments and Stock '!AF$17,0,(-1*Lifetime)+1,1,Lifetime))/SUM(OFFSET('Shipments and Stock '!AF$17,0,(-1*Lifetime)+1,1,Lifetime)))","v":{"$error":"#VALUE!"}},{"$f":"IF(AF$16-$D$16<Lifetime,AF12,\nSUMPRODUCT(OFFSET(AF12,0,(-1*Lifetime)+1,1,Lifetime),OFFSET('Shipments and Stock '!AG$17,0,(-1*Lifetime)+1,1,Lifetime))/SUM(OFFSET('Shipments and Stock '!AG$17,0,(-1*Lifetime)+1,1,Lifetime)))","v":{"$error":"#VALUE!"}},{"$f":"IF(AG$16-$D$16<Lifetime,AG12,\nSUMPRODUCT(OFFSET(AG12,0,(-1*Lifetime)+1,1,Lifetime),OFFSET('Shipments and Stock '!AH$17,0,(-1*Lifetime)+1,1,Lifetime))/SUM(OFFSET('Shipments and Stock '!AH$17,0,(-1*Lifetime)+1,1,Lifetime)))","v":{"$error":"#VALUE!"}},{"$f":"IF(AH$16-$D$16<Lifetime,AH12,\nSUMPRODUCT(OFFSET(AH12,0,(-1*Lifetime)+1,1,Lifetime),OFFSET('Shipments and Stock '!AI$17,0,(-1*Lifetime)+1,1,Lifetime))/SUM(OFFSET('Shipments and Stock '!AI$17,0,(-1*Lifetime)+1,1,Lifetime)))","v":{"$error":"#VALUE!"}},{"$f":"IF(AI$16-$D$16<Lifetime,AI12,\nSUMPRODUCT(OFFSET(AI12,0,(-1*Lifetime)+1,1,Lifetime),OFFSET('Shipments and Stock '!AJ$17,0,(-1*Lifetime)+1,1,Lifetime))/SUM(OFFSET('Shipments and Stock '!AJ$17,0,(-1*Lifetime)+1,1,Lifetime)))","v":{"$error":"#VALUE!"}},{"$f":"IF(AJ$16-$D$16<Lifetime,AJ12,\nSUMPRODUCT(OFFSET(AJ12,0,(-1*Lifetime)+1,1,Lifetime),OFFSET('Shipments and Stock '!AK$17,0,(-1*Lifetime)+1,1,Lifetime))/SUM(OFFSET('Shipments and Stock '!AK$17,0,(-1*Lifetime)+1,1,Lifetime)))","v":{"$error":"#VALUE!"}},{"$f":"IF(AK$16-$D$16<Lifetime,AK12,\nSUMPRODUCT(OFFSET(AK12,0,(-1*Lifetime)+1,1,Lifetime),OFFSET('Shipments and Stock '!AL$17,0,(-1*Lifetime)+1,1,Lifetime))/SUM(OFFSET('Shipments and Stock '!AL$17,0,(-1*Lifetime)+1,1,Lifetime)))","v":{"$error":"#VALUE!"}},{"$f":"IF(AL$16-$D$16<Lifetime,AL12,\nSUMPRODUCT(OFFSET(AL12,0,(-1*Lifetime)+1,1,Lifetime),OFFSET('Shipments and Stock '!AM$17,0,(-1*Lifetime)+1,1,Lifetime))/SUM(OFFSET('Shipments and Stock '!AM$17,0,(-1*Lifetime)+1,1,Lifetime)))","v":{"$error":"#VALUE!"}},{"$f":"IF(AM$16-$D$16<Lifetime,AM12,\nSUMPRODUCT(OFFSET(AM12,0,(-1*Lifetime)+1,1,Lifetime),OFFSET('Shipments and Stock '!AN$17,0,(-1*Lifetime)+1,1,Lifetime))/SUM(OFFSET('Shipments and Stock '!AN$17,0,(-1*Lifetime)+1,1,Lifetime)))","v":{"$error":"#VALUE!"}},{"$f":"IF(AN$16-$D$16<Lifetime,AN12,\nSUMPRODUCT(OFFSET(AN12,0,(-1*Lifetime)+1,1,Lifetime),OFFSET('Shipments and Stock '!AO$17,0,(-1*Lifetime)+1,1,Lifetime))/SUM(OFFSET('Shipments and Stock '!AO$17,0,(-1*Lifetime)+1,1,Lifetime)))","v":{"$error":"#VALUE!"}},{"$f":"IF(AO$16-$D$16<Lifetime,AO12,\nSUMPRODUCT(OFFSET(AO12,0,(-1*Lifetime)+1,1,Lifetime),OFFSET('Shipments and Stock '!AP$17,0,(-1*Lifetime)+1,1,Lifetime))/SUM(OFFSET('Shipments and Stock '!AP$17,0,(-1*Lifetime)+1,1,Lifetime)))","v":{"$error":"#VALUE!"}},{"$f":"IF(AP$16-$D$16<Lifetime,AP12,\nSUMPRODUCT(OFFSET(AP12,0,(-1*Lifetime)+1,1,Lifetime),OFFSET('Shipments and Stock '!AQ$17,0,(-1*Lifetime)+1,1,Lifetime))/SUM(OFFSET('Shipments and Stock '!AQ$17,0,(-1*Lifetime)+1,1,Lifetime)))","v":{"$error":"#VALUE!"}},{"$f":"IF(AQ$16-$D$16<Lifetime,AQ12,\nSUMPRODUCT(OFFSET(AQ12,0,(-1*Lifetime)+1,1,Lifetime),OFFSET('Shipments and Stock '!AR$17,0,(-1*Lifetime)+1,1,Lifetime))/SUM(OFFSET('Shipments and Stock '!AR$17,0,(-1*Lifetime)+1,1,Lifetime)))","v":{"$error":"#VALUE!"}},{"$f":"IF(AR$16-$D$16<Lifetime,AR12,\nSUMPRODUCT(OFFSET(AR12,0,(-1*Lifetime)+1,1,Lifetime),OFFSET('Shipments and Stock '!AS$17,0,(-1*Lifetime)+1,1,Lifetime))/SUM(OFFSET('Shipments and Stock '!AS$17,0,(-1*Lifetime)+1,1,Lifetime)))","v":{"$error":"#VALUE!"}},{"$f":"IF(AS$16-$D$16<Lifetime,AS12,\nSUMPRODUCT(OFFSET(AS12,0,(-1*Lifetime)+1,1,Lifetime),OFFSET('Shipments and Stock '!AT$17,0,(-1*Lifetime)+1,1,Lifetime))/SUM(OFFSET('Shipments and Stock '!AT$17,0,(-1*Lifetime)+1,1,Lifetime)))","v":{"$error":"#VALUE!"}},{"$f":"IF(AT$16-$D$16<Lifetime,AT12,\nSUMPRODUCT(OFFSET(AT12,0,(-1*Lifetime)+1,1,Lifetime),OFFSET('Shipments and Stock '!AU$17,0,(-1*Lifetime)+1,1,Lifetime))/SUM(OFFSET('Shipments and Stock '!AU$17,0,(-1*Lifetime)+1,1,Lifetime)))","v":{"$error":"#VALUE!"}},{"$f":"IF(AU$16-$D$16<Lifetime,AU12,\nSUMPRODUCT(OFFSET(AU12,0,(-1*Lifetime)+1,1,Lifetime),OFFSET('Shipments and Stock '!AV$17,0,(-1*Lifetime)+1,1,Lifetime))/SUM(OFFSET('Shipments and Stock '!AV$17,0,(-1*Lifetime)+1,1,Lifetime)))","v":{"$error":"#VALUE!"}},{"$f":"IF(AV$16-$D$16<Lifetime,AV12,\nSUMPRODUCT(OFFSET(AV12,0,(-1*Lifetime)+1,1,Lifetime),OFFSET('Shipments and Stock '!AW$17,0,(-1*Lifetime)+1,1,Lifetime))/SUM(OFFSET('Shipments and Stock '!AW$17,0,(-1*Lifetime)+1,1,Lifetime)))","v":{"$error":"#VALUE!"}}]

{"sheet":"Results","index":13,"n_rows":46,"n_cols":29,"rows_kept":46,"cut":false,"hidden":false,"merged":[]}
[]
[null,null,"RESULTS "]
[]
[null,null,"NAVIGATION"]
[]
[null,null,"COMMENTS"]
[]
[null,null,"Building Type "]
[null,null,"TOTAL","Dropdown "]
[]
[null,null,"Unit Energy Consumption (kWh/year) ",2010,{"$f":"D11+1","v":2011},{"$f":"E11+1","v":2012},2013,2014,2015,2016,2017,2018,2019,2020,2021,2022,2023,2024,2025,2026,2027,2028,2029,2030,2031,2032,2033,2034,"Total "]
[null,null,"6P Pre-case Shipment UEC",{"$f":"'6P UEC Development'!$D$72","v":4983.7925057044931},{"$f":"'6P UEC Development'!$D$72","v":4983.7925057044931},{"$f":"'6P UEC Development'!$D$72","v":4983.7925057044931},{"$f":"'6P UEC Development'!$D$72","v":4983.7925057044931},{"$f":"'6P UEC Development'!$D$72","v":4983.7925057044931},{"$f":"'6P UEC Development'!$D$72","v":4983.7925057044931},{"$f":"'6P UEC Development'!$D$72","v":4983.7925057044931},{"$f":"'6P UEC Development'!$D$72","v":4983.7925057044931},{"$f":"'6P UEC Development'!$D$72","v":4983.7925057044931},{"$f":"'6P UEC Development'!$D$72","v":4983.7925057044931},{"$f":"'6P UEC Development'!$D$72","v":4983.7925057044931},{"$f":"'6P UEC Development'!$D$72","v":4983.7925057044931},{"$f":"'6P UEC Development'!$D$72","v":4983.7925057044931},{"$f":"'6P UEC Development'!$D$72","v":4983.7925057044931},{"$f":"'6P UEC Development'!$D$72","v":4983.7925057044931},{"$f":"'6P UEC Development'!$D$72","v":4983.7925057044931},{"$f":"'6P UEC Development'!$D$72","v":4983.7925057044931},{"$f":"'6P UEC Development'!$D$72","v":4983.7925057044931},{"$f":"'6P UEC Development'!$D$72","v":4983.7925057044931},{"$f":"'6P UEC Development'!$D$72","v":4983.7925057044931},{"$f":"'6P UEC Development'!$D$72","v":4983.7925057044931},{"$f":"'6P UEC Development'!$D$72","v":4983.7925057044931},{"$f":"'6P UEC Development'!$D$72","v":4983.7925057044931},{"$f":"'6P UEC Development'!$D$72","v":4983.7925057044931},{"$f":"'6P UEC Development'!$D$72","v":4983.7925057044931}]
[null,null,{"$f":"UEC!$C$9&\" - \"&UEC!C11","v":"Market UEC (Shipment Weighted Average) - PRE-Case UEC"},{"$f":"OFFSET(UEC!$C11,0,MATCH(D$11,UEC!$D$10:$AV$10,0))","v":5104.0615135359394},{"$f":"OFFSET(UEC!$C11,0,MATCH(E$11,UEC!$D$10:$AV$10,0))","v":5104.0615135359394},{"$f":"OFFSET(UEC!$C11,0,MATCH(F$11,UEC!$D$10:$AV$10,0))","v":5104.0615135359394},{"$f":"OFFSET(UEC!$C11,0,MATCH(G$11,UEC!$D$10:$AV$10,0))","v":5104.0615135359394},{"$f":"OFFSET(UEC!$C11,0,MATCH(H$11,UEC!$D$10:$AV$10,0))","v":5104.0615135359394},{"$f":"OFFSET(UEC!$C11,0,MATCH(I$11,UEC!$D$10:$AV$10,0))","v":5104.0615135359394},{"$f":"OFFSET(UEC!$C11,0,MATCH(J$11,UEC!$D$10:$AV$10,0))","v":5104.0615135359394},{"$f":"OFFSET(UEC!$C11,0,MATCH(K$11,UEC!$D$10:$AV$10,0))","v":5104.0615135359394},{"$f":"OFFSET(UEC!$C11,0,MATCH(L$11,UEC!$D$10:$AV$10,0))","v":5104.0615135359394},{"$f":"OFFSET(UEC!$C11,0,MATCH(M$11,UEC!$D$10:$AV$10,0))","v":5104.0615135359394},{"$f":"OFFSET(UEC!$C11,0,MATCH(N$11,UEC!$D$10:$AV$10,0))","v":5104.0615135359394},{"$f":"OFFSET(UEC!$C11,0,MATCH(O$11,UEC!$D$10:$AV$10,0))","v":5104.0615135359394},{"$f":"OFFSET(UEC!$C11,0,MATCH(P$11,UEC!$D$10:$AV$10,0))","v":5104.0615135359394},{"$f":"OFFSET(UEC!$C11,0,MATCH(Q$11,UEC!$D$10:$AV$10,0))","v":5104.0615135359394},{"$f":"OFFSET(UEC!$C11,0,MATCH(R$11,UEC!$D$10:$AV$10,0))","v":5104.0615135359394},{"$f":"OFFSET(UEC!$C11,0,MATCH(S$11,UEC!$D$10:$AV$10,0))","v":5104.0615135359394},{"$f":"OFFSET(UEC!$C11,0,MATCH(T$11,UEC!$D$10:$AV$10,0))","v":5104.0615135359394},{"$f":"OFFSET(UEC!$C11,0,MATCH(U$11,UEC!$D$10:$AV$10,0))","v":5104.0615135359394},{"$f":"OFFSET(UEC!$C11,0,MATCH(V$11,UEC!$D$10:$AV$10,0))","v":5104.0615135359394},{"$f":"OFFSET(UEC!$C11,0,MATCH(W$11,UEC!$D$10:$AV$10,0))","v":5104.0615135359394},{"$f":"OFFSET(UEC!$C11,0,MATCH(X$11,UEC!$D$10:$AV$10,0))","v":5104.0615135359394},{"$f":"OFFSET(UEC!$C11,0,MATCH(Y$11,UEC!$D$10:$AV$10,0))","v":5104.0615135359394},{"$f":"OFFSET(UEC!$C11,0,MATCH(Z$11,UEC!$D$10:$AV$10,0))","v":5104.0615135359394},{"$f":"OFFSET(UEC!$C11,0,MATCH(AA$11,UEC!$D$10:$AV$10,0))","v":5104.0615135359394},{"$f":"OFFSET(UEC!$C11,0,MATCH(AB$11,UEC!$D$10:$AV$10,0))","v":5104.0615135359394}]
[null,null,{"$f":"UEC!$C$9&\" - \"&UEC!C12","v":"Market UEC (Shipment Weighted Average) - POST-Case UEC"},{"$f":"OFFSET(UEC!$C12,0,MATCH(D$11,UEC!$D$10:$AV$10,0))","v":5104.0615135359394},{"$f":"OFFSET(UEC!$C12,0,MATCH(E$11,UEC!$D$10:$AV$10,0))","v":5104.0615135359394},{"$f":"OFFSET(UEC!$C12,0,MATCH(F$11,UEC!$D$10:$AV$10,0))","v":5104.0615135359394},{"$f":"OFFSET(UEC!$C12,0,MATCH(G$11,UEC!$D$10:$AV$10,0))","v":5104.0615135359394},{"$f":"OFFSET(UEC!$C12,0,MATCH(H$11,UEC!$D$10:$AV$10,0))","v":5104.0615135359394},{"$f":"OFFSET(UEC!$C12,0,MATCH(I$11,UEC!$D$10:$AV$10,0))","v":5104.0615135359394},{"$f":"OFFSET(UEC!$C12,0,MATCH(J$11,UEC!$D$10:$AV$10,0))","v":5104.0615135359394},{"$f":"OFFSET(UEC!$C12,0,MATCH(K$11,UEC!$D$10:$AV$10,0))","v":5104.0615135359394},{"$f":"OFFSET(UEC!$C12,0,MATCH(L$11,UEC!$D$10:$AV$10,0))","v":4327.1215671594364},{"$f":"OFFSET(UEC!$C12,0,MATCH(M$11,UEC!$D$10:$AV$10,0))","v":4327.1215671594364},{"$f":"OFFSET(UEC!$C12,0,MATCH(N$11,UEC!$D$10:$AV$10,0))","v":4327.1215671594364},{"$f":"OFFSET(UEC!$C12,0,MATCH(O$11,UEC!$D$10:$AV$10,0))","v":4327.1215671594364},{"$f":"OFFSET(UEC!$C12,0,MATCH(P$11,UEC!$D$10:$AV$10,0))","v":4327.1215671594364},{"$f":"OFFSET(UEC!$C12,0,MATCH(Q$11,UEC!$D$10:$AV$10,0))","v":4327.1215671594364},{"$f":"OFFSET(UEC!$C12,0,MATCH(R$11,UEC!$D$10:$AV$10,0))","v":4327.1215671594364},{"$f":"OFFSET(UEC!$C12,0,MATCH(S$11,UEC!$D$10:$AV$10,0))","v":4327.1215671594364},{"$f":"OFFSET(UEC!$C12,0,MATCH(T$11,UEC!$D$10:$AV$10,0))","v":4327.1215671594364},{"$f":"OFFSET(UEC!$C12,0,MATCH(U$11,UEC!$D$10:$AV$10,0))","v":4327.1215671594364},{"$f":"OFFSET(UEC!$C12,0,MATCH(V$11,UEC!$D$10:$AV$10,0))","v":4327.1215671594364},{"$f":"OFFSET(UEC!$C12,0,MATCH(W$11,UEC!$D$10:$AV$10,0))","v":4327.1215671594364},{"$f":"OFFSET(UEC!$C12,0,MATCH(X$11,UEC!$D$10:$AV$10,0))","v":4327.1215671594364},{"$f":"OFFSET(UEC!$C12,0,MATCH(Y$11,UEC!$D$10:$AV$10,0))","v":4327.1215671594364},{"$f":"OFFSET(UEC!$C12,0,MATCH(Z$11,UEC!$D$10:$AV$10,0))","v":4327.1215671594364},{"$f":"OFFSET(UEC!$C12,0,MATCH(AA$11,UEC!$D$10:$AV$10,0))","v":4327.1215671594364},{"$f":"OFFSET(UEC!$C12,0,MATCH(AB$11,UEC!$D$10:$AV$10,0))","v":4327.1215671594364}]
[null,null,{"$f":"UEC!$C$15&\" - \"&UEC!C17","v":"Installed UEC (Vintage Weighted Average)  - PRE-Case UEC"},{"$f":"OFFSET(UEC!$C17,0,MATCH(D$11,UEC!$D$10:$AV$10,0))","v":{"$error":"#VALUE!"}},{"$f":"OFFSET(UEC!$C17,0,MATCH(E$11,UEC!$D$10:$AV$10,0))","v":{"$error":"#VALUE!"}},{"$f":"OFFSET(UEC!$C17,0,MATCH(F$11,UEC!$D$10:$AV$10,0))","v":{"$error":"#VALUE!"}},{"$f":"OFFSET(UEC!$C17,0,MATCH(G$11,UEC!$D$10:$AV$10,0))","v":{"$error":"#VALUE!"}},{"$f":"OFFSET(UEC!$C17,0,MATCH(H$11,UEC!$D$10:$AV$10,0))","v":{"$error":"#VALUE!"}},{"$f":"OFFSET(UEC!$C17,0,MATCH(I$11,UEC!$D$10:$AV$10,0))","v":{"$error":"#VALUE!"}},{"$f":"OFFSET(UEC!$C17,0,MATCH(J$11,UEC!$D$10:$AV$10,0))","v":{"$error":"#VALUE!"}},{"$f":"OFFSET(UEC!$C17,0,MATCH(K$11,UEC!$D$10:$AV$10,0))","v":{"$error":"#VALUE!"}},{"$f":"OFFSET(UEC!$C17,0,MATCH(L$11,UEC!$D$10:$AV$10,0))","v":{"$error":"#VALUE!"}},{"$f":"OFFSET(UEC!$C17,0,MATCH(M$11,UEC!$D$10:$AV$10,0))","v":{"$error":"#VALUE!"}},{"$f":"OFFSET(UEC!$C17,0,MATCH(N$11,UEC!$D$10:$AV$10,0))","v":{"$error":"#VALUE!"}},{"$f":"OFFSET(UEC!$C17,0,MATCH(O$11,UEC!$D$10:$AV$10,0))","v":{"$error":"#VALUE!"}},{"$f":"OFFSET(UEC!$C17,0,MATCH(P$11,UEC!$D$10:$AV$10,0))","v":{"$error":"#VALUE!"}},{"$f":"OFFSET(UEC!$C17,0,MATCH(Q$11,UEC!$D$10:$AV$10,0))","v":{"$error":"#VALUE!"}},{"$f":"OFFSET(UEC!$C17,0,MATCH(R$11,UEC!$D$10:$AV$10,0))","v":{"$error":"#VALUE!"}},{"$f":"OFFSET(UEC!$C17,0,MATCH(S$11,UEC!$D$10:$AV$10,0))","v":{"$error":"#VALUE!"}},{"$f":"OFFSET(UEC!$C17,0,MATCH(T$11,UEC!$D$10:$AV$10,0))","v":{"$error":"#VALUE!"}},{"$f":"OFFSET(UEC!$C17,0,MATCH(U$11,UEC!$D$10:$AV$10,0))","v":{"$error":"#VALUE!"}},{"$f":"OFFSET(UEC!$C17,0,MATCH(V$11,UEC!$D$10:$AV$10,0))","v":{"$error":"#VALUE!"}},{"$f":"OFFSET(UEC!$C17,0,MATCH(W$11,UEC!$D$10:$AV$10,0))","v":{"$error":"#VALUE!"}},{"$f":"OFFSET(UEC!$C17,0,MATCH(X$11,UEC!$D$10:$AV$10,0))","v":{"$error":"#VALUE!"}},{"$f":"OFFSET(UEC!$C17,0,MATCH(Y$11,UEC!$D$10:$AV$10,0))","v":{"$error":"#VALUE!"}},{"$f":"OFFSET(UEC!$C17,0,MATCH(Z$11,UEC!$D$10:$AV$10,0))","v":{"$error":"#VALUE!"}},{"$f":"OFFSET(UEC!$C17,0,MATCH(AA$11,UEC!$D$10:$AV$10,0))","v":{"$error":"#VALUE!"}},{"$f":"OFFSET(UEC!$C17,0,MATCH(AB$11,UEC!$D$10:$AV$10,0))","v":{"$error":"#VALUE!"}}]
[null,null,{"$f":"UEC!$C$15&\" - \"&UEC!C18","v":"Installed UEC (Vintage Weighted Average)  - POST-Case UEC"},{"$f":"OFFSET(UEC!$C18,0,MATCH(D$11,UEC!$D$10:$AV$10,0))","v":{"$error":"#VALUE!"}},{"$f":"OFFSET(UEC!$C18,0,MATCH(E$11,UEC!$D$10:$AV$10,0))","v":{"$error":"#VALUE!"}},{"$f":"OFFSET(UEC!$C18,0,MATCH(F$11,UEC!$D$10:$AV$10,0))","v":{"$error":"#VALUE!"}},{"$f":"OFFSET(UEC!$C18,0,MATCH(G$11,UEC!$D$10:$AV$10,0))","v":{"$error":"#VALUE!"}},{"$f":"OFFSET(UEC!$C18,0,MATCH(H$11,UEC!$D$10:$AV$10,0))","v":{"$error":"#VALUE!"}},{"$f":"OFFSET(UEC!$C18,0,MATCH(I$11,UEC!$D$10:$AV$10,0))","v":{"$error":"#VALUE!"}},{"$f":"OFFSET(UEC!$C18,0,MATCH(J$11,UEC!$D$10:$AV$10,0))","v":{"$error":"#VALUE!"}},{"$f":"OFFSET(UEC!$C18,0,MATCH(K$11,UEC!$D$10:$AV$10,0))","v":{"$error":"#VALUE!"}},{"$f":"OFFSET(UEC!$C18,0,MATCH(L$11,UEC!$D$10:$AV$10,0))","v":{"$error":"#VALUE!"}},{"$f":"OFFSET(UEC!$C18,0,MATCH(M$11,UEC!$D$10:$AV$10,0))","v":{"$error":"#VALUE!"}},{"$f":"OFFSET(UEC!$C18,0,MATCH(N$11,UEC!$D$10:$AV$10,0))","v":{"$error":"#VALUE!"}},{"$f":"OFFSET(UEC!$C18,0,MATCH(O$11,UEC!$D$10:$AV$10,0))","v":{"$error":"#VALUE!"}},{"$f":"OFFSET(UEC!$C18,0,MATCH(P$11,UEC!$D$10:$AV$10,0))","v":{"$error":"#VALUE!"}},{"$f":"OFFSET(UEC!$C18,0,MATCH(Q$11,UEC!$D$10:$AV$10,0))","v":{"$error":"#VALUE!"}},{"$f":"OFFSET(UEC!$C18,0,MATCH(R$11,UEC!$D$10:$AV$10,0))","v":{"$error":"#VALUE!"}},{"$f":"OFFSET(UEC!$C18,0,MATCH(S$11,UEC!$D$10:$AV$10,0))","v":{"$error":"#VALUE!"}},{"$f":"OFFSET(UEC!$C18,0,MATCH(T$11,UEC!$D$10:$AV$10,0))","v":{"$error":"#VALUE!"}},{"$f":"OFFSET(UEC!$C18,0,MATCH(U$11,UEC!$D$10:$AV$10,0))","v":{"$error":"#VALUE!"}},{"$f":"OFFSET(UEC!$C18,0,MATCH(V$11,UEC!$D$10:$AV$10,0))","v":{"$error":"#VALUE!"}},{"$f":"OFFSET(UEC!$C18,0,MATCH(W$11,UEC!$D$10:$AV$10,0))","v":{"$error":"#VALUE!"}},{"$f":"OFFSET(UEC!$C18,0,MATCH(X$11,UEC!$D$10:$AV$10,0))","v":{"$error":"#VALUE!"}},{"$f":"OFFSET(UEC!$C18,0,MATCH(Y$11,UEC!$D$10:$AV$10,0))","v":{"$error":"#VALUE!"}},{"$f":"OFFSET(UEC!$C18,0,MATCH(Z$11,UEC!$D$10:$AV$10,0))","v":{"$error":"#VALUE!"}},{"$f":"OFFSET(UEC!$C18,0,MATCH(AA$11,UEC!$D$10:$AV$10,0))","v":{"$error":"#VALUE!"}},{"$f":"OFFSET(UEC!$C18,0,MATCH(AB$11,UEC!$D$10:$AV$10,0))","v":{"$error":"#VALUE!"}}]
[]
[null,null,"Stock and Shipments",2010,{"$f":"D18+1","v":2011},{"$f":"E18+1","v":2012},2013,2014,2015,2016,2017,2018,2019,2020,2021,2022,2023,2024,2025,2026,2027,2028,2029,2030,2031,2032,2033,2034,"Total "]
[null,null,"6P Shipments",{"$f":"'Shipments and Stock '!AB14","v":12270.912420960809},{"$f":"'Shipments and Stock '!AC14","v":12529.37829218465},{"$f":"'Shipments and Stock '!AD14","v":12790.314810783333},{"$f":"'Shipments and Stock '!AE14","v":13056.168520254871},{"$f":"'Shipments and Stock '!AF14","v":13293.366871082833},{"$f":"'Shipments and Stock '!AG14","v":13504.418235928928},{"$f":"'Shipments and Stock '!AH14","v":13691.476895929156},{"$f":"'Shipments and Stock '!AI14","v":13857.053666001619},{"$f":"'Shipments and Stock '!AJ14","v":14004.269768288234},{"$f":"'Shipments and Stock '!AK14","v":14136.889447766236},{"$f":"'Shipments and Stock '!AL14","v":14257.456543678391},{"$f":"'Shipments and Stock '!AM14","v":14370.061531188785},{"$f":"'Shipments and Stock '!AN14","v":14479.423546515816},{"$f":"'Shipments and Stock '!AO14","v":14588.96926749834},{"$f":"'Shipments and Stock '!AP14","v":14700.813450824047},{"$f":"'Shipments and Stock '!AQ14","v":14815.755253201402},{"$f":"'Shipments and Stock '!AR14","v":14934.188435945201},{"$f":"'Shipments and Stock '!AS14","v":15056.214284753663},{"$f":"'Shipments and Stock '!AT14","v":15181.849274429736},{"$f":"'Shipments and Stock '!AU14","v":15311.460217529502},{"$f":"'Shipments and Stock '!AV14","v":15444.938633419935},{"$f":"'Shipments and Stock '!AW14","v":15444.938633419935},{"$f":"'Shipments and Stock '!AX14","v":15444.938633419935},{"$f":"'Shipments and Stock '!AY14","v":15444.938633419935},{"$f":"'Shipments and Stock '!AZ14","v":15444.938633419935}]
[null,null,"Replacement Shipments",{"$f":"'Shipments and Stock '!AB15","v":{"$error":"#VALUE!"}},{"$f":"'Shipments and Stock '!AC15","v":{"$error":"#VALUE!"}},{"$f":"'Shipments and Stock '!AD15","v":{"$error":"#VALUE!"}},{"$f":"'Shipments and Stock '!AE15","v":{"$error":"#VALUE!"}},{"$f":"'Shipments and Stock '!AF15","v":{"$error":"#VALUE!"}},{"$f":"'Shipments and Stock '!AG15","v":{"$error":"#VALUE!"}},{"$f":"'Shipments and Stock '!AH15","v":{"$error":"#VALUE!"}},{"$f":"'Shipments and Stock '!AI15","v":{"$error":"#VALUE!"}},{"$f":"'Shipments and Stock '!AJ15","v":{"$error":"#VALUE!"}},{"$f":"'Shipments and Stock '!AK15","v":{"$error":"#VALUE!"}},{"$f":"'Shipments and Stock '!AL15","v":{"$error":"#VALUE!"}},{"$f":"'Shipments and Stock '!AM15","v":{"$error":"#VALUE!"}},{"$f":"'Shipments and Stock '!AN15","v":{"$error":"#VALUE!"}},{"$f":"'Shipments and Stock '!AO15","v":{"$error":"#VALUE!"}},{"$f":"'Shipments and Stock '!AP15","v":{"$error":"#VALUE!"}},{"$f":"'Shipments and Stock '!AQ15","v":{"$error":"#VALUE!"}},{"$f":"'Shipments and Stock '!AR15","v":{"$error":"#VALUE!"}},{"$f":"'Shipments and Stock '!AS15","v":{"$error":"#VALUE!"}},{"$f":"'Shipments and Stock '!AT15","v":{"$error":"#VALUE!"}},{"$f":"'Shipments and Stock '!AU15","v":{"$error":"#VALUE!"}},{"$f":"'Shipments and Stock '!AV15","v":{"$error":"#VALUE!"}},{"$f":"'Shipments and Stock '!AW15","v":{"$error":"#VALUE!"}},{"$f":"'Shipments and Stock '!AX15","v":{"$error":"#VALUE!"}},{"$f":"'Shipments and Stock '!AY15","v":{"$error":"#VALUE!"}},{"$f":"'Shipments and Stock '!AZ15","v":{"$error":"#VALUE!"}}]
[null,null,"Net New Shipments",{"$f":"'Shipments and Stock '!AB16","v":{"$error":"#VALUE!"}},{"$f":"'Shipments and Stock '!AC16","v":{"$error":"#VALUE!"}},{"$f":"'Shipments and Stock '!AD16","v":{"$error":"#VALUE!"}},{"$f":"'Shipments and Stock '!AE16","v":{"$error":"#VALUE!"}},{"$f":"'Shipments and Stock '!AF16","v":{"$error":"#VALUE!"}},{"$f":"'Shipments and Stock '!AG16","v":{"$error":"#VALUE!"}},{"$f":"'Shipments and Stock '!AH16","v":{"$error":"#VALUE!"}},{"$f":"'Shipments and Stock '!AI16","v":{"$error":"#VALUE!"}},{"$f":"'Shipments and Stock '!AJ16","v":{"$error":"#VALUE!"}},{"$f":"'Shipments and Stock '!AK16","v":{"$error":"#VALUE!"}},{"$f":"'Shipments and Stock '!AL16","v":{"$error":"#VALUE!"}},{"$f":"'Shipments and Stock '!AM16","v":{"$error":"#VALUE!"}},{"$f":"'Shipments and Stock '!AN16","v":{"$error":"#VALUE!"}},{"$f":"'Shipments and Stock '!AO16","v":{"$error":"#VALUE!"}},{"$f":"'Shipments and Stock '!AP16","v":{"$error":"#VALUE!"}},{"$f":"'Shipments and Stock '!AQ16","v":{"$error":"#VALUE!"}},{"$f":"'Shipments and Stock '!AR16","v":{"$error":"#VALUE!"}},{"$f":"'Shipments and Stock '!AS16","v":{"$error":"#VALUE!"}},{"$f":"'Shipments and Stock '!AT16","v":{"$error":"#VALUE!"}},{"$f":"'Shipments and Stock '!AU16","v":{"$error":"#VALUE!"}},{"$f":"'Shipments and Stock '!AV16","v":{"$error":"#VALUE!"}},{"$f":"'Shipments and Stock '!AW16","v":{"$error":"#VALUE!"}},{"$f":"'Shipments and Stock '!AX16","v":{"$error":"#VALUE!"}},{"$f":"'Shipments and Stock '!AY16","v":{"$error":"#VALUE!"}},{"$f":"'Shipments and Stock '!AZ16","v":{"$error":"#VALUE!"}}]
[null,null,"Total Model Shipments",{"$f":"'Shipments and Stock '!AB17","v":{"$error":"#VALUE!"}},{"$f":"'Shipments and Stock '!AC17","v":{"$error":"#VALUE!"}},{"$f":"'Shipments and Stock '!AD17","v":{"$error":"#VALUE!"}},{"$f":"'Shipments and Stock '!AE17","v":{"$error":"#VALUE!"}},{"$f":"'Shipments and Stock '!AF17","v":{"$error":"#VALUE!"}},{"$f":"'Shipments and Stock '!AG17","v":{"$error":"#VALUE!"}},{"$f":"'Shipments and Stock '!AH17","v":{"$error":"#VALUE!"}},{"$f":"'Shipments and Stock '!AI17","v":{"$error":"#VALUE!"}},{"$f":"'Shipments and Stock '!AJ17","v":{"$error":"#VALUE!"}},{"$f":"'Shipments and Stock '!AK17","v":{"$error":"#VALUE!"}},{"$f":"'Shipments and Stock '!AL17","v":{"$error":"#VALUE!"}},{"$f":"'Shipments and Stock '!AM17","v":{"$error":"#VALUE!"}},{"$f":"'Shipments and Stock '!AN17","v":{"$error":"#VALUE!"}},{"$f":"'Shipments and Stock '!AO17","v":{"$error":"#VALUE!"}},{"$f":"'Shipments and Stock '!AP17","v":{"$error":"#VALUE!"}},{"$f":"'Shipments and Stock '!AQ17","v":{"$error":"#VALUE!"}},{"$f":"'Shipments and Stock '!AR17","v":{"$error":"#VALUE!"}},{"$f":"'Shipments and Stock '!AS17","v":{"$error":"#VALUE!"}},{"$f":"'Shipments and Stock '!AT17","v":{"$error":"#VALUE!"}},{"$f":"'Shipments and Stock '!AU17","v":{"$error":"#VALUE!"}},{"$f":"'Shipments and Stock '!AV17","v":{"$error":"#VALUE!"}},{"$f":"'Shipments and Stock '!AW17","v":{"$error":"#VALUE!"}},{"$f":"'Shipments and Stock '!AX17","v":{"$error":"#VALUE!"}},{"$f":"'Shipments and Stock '!AY17","v":{"$error":"#VALUE!"}},{"$f":"'Shipments and Stock '!AZ17","v":{"$error":"#VALUE!"}}]
[null,null,"Model Installed Stock",{"$f":"'Shipments and Stock '!AB18","v":{"$error":"#VALUE!"}},{"$f":"'Shipments and Stock '!AC18","v":{"$error":"#VALUE!"}},{"$f":"'Shipments and Stock '!AD18","v":{"$error":"#VALUE!"}},{"$f":"'Shipments and Stock '!AE18","v":{"$error":"#VALUE!"}},{"$f":"'Shipments and Stock '!AF18","v":{"$error":"#VALUE!"}},{"$f":"'Shipments and Stock '!AG18","v":{"$error":"#VALUE!"}},{"$f":"'Shipments and Stock '!AH18","v":{"$error":"#VALUE!"}},{"$f":"'Shipments and Stock '!AI18","v":{"$error":"#VALUE!"}},{"$f":"'Shipments and Stock '!AJ18","v":{"$error":"#VALUE!"}},{"$f":"'Shipments and Stock '!AK18","v":{"$error":"#VALUE!"}},{"$f":"'Shipments and Stock '!AL18","v":{"$error":"#VALUE!"}},{"$f":"'Shipments and Stock '!AM18","v":{"$error":"#VALUE!"}},{"$f":"'Shipments and Stock '!AN18","v":{"$error":"#VALUE!"}},{"$f":"'Shipments and Stock '!AO18","v":{"$error":"#VALUE!"}},{"$f":"'Shipments and Stock '!AP18","v":{"$error":"#VALUE!"}},{"$f":"'Shipments and Stock '!AQ18","v":{"$error":"#VALUE!"}},{"$f":"'Shipments and Stock '!AR18","v":{"$error":"#VALUE!"}},{"$f":"'Shipments and Stock '!AS18","v":{"$error":"#VALUE!"}},{"$f":"'Shipments and Stock '!AT18","v":{"$error":"#VALUE!"}},{"$f":"'Shipments and Stock '!AU18","v":{"$error":"#VALUE!"}},{"$f":"'Shipments and Stock '!AV18","v":{"$error":"#VALUE!"}},{"$f":"'Shipments and Stock '!AW18","v":{"$error":"#VALUE!"}},{"$f":"'Shipments and Stock '!AX18","v":{"$error":"#VALUE!"}},{"$f":"'Shipments and Stock '!AY18","v":{"$error":"#VALUE!"}},{"$f":"'Shipments and Stock '!AZ18","v":{"$error":"#VALUE!"}}]
[]
[]
[]
[null,null,"First Year Energy Consumption (kWh)",2010,{"$f":"D27+1","v":2011},{"$f":"E27+1","v":2012},2013,2014,2015,2016,2017,2018,2019,2020,2021,2022,2023,2024,2025,2026,2027,2028,2029,2030,2031,2032,2033,2034,"Total "]
[null,null,"6P Shipments * 6P UEC",{"$f":"D12*D19","v":61155681.361740656},62443821.633726425,63744275.099583156,65069234.824461147,66251382.187683009,67303218.398121685,68235479.945957944,69060680.211763844,69794374.719058901,70455323.683750302,71056205.072791845,71617404.965651095,72162442.558046699,72708395.701311395,73265803.903976694,73838649.997257113,74428896.405842394,75037047.916636243,75663186.63663812,76309140.683516026,76974369.412304074,76974369.412304074,76974369.412304074,76974369.412304074,76974369.412304074,{"$f":"SUM(D28:AB28)","v":1784472492.9690354}]
[null,null,"Model Shipments * Model Pre-Case UEC",{"$f":"D13*D22","v":{"$error":"#VALUE!"}},{"$f":"E13*E22","v":{"$error":"#VALUE!"}},{"$error":"#VALUE!"},{"$error":"#VALUE!"},{"$error":"#VALUE!"},{"$error":"#VALUE!"},{"$error":"#VALUE!"},{"$error":"#VALUE!"},{"$error":"#VALUE!"},{"$error":"#VALUE!"},{"$error":"#VALUE!"},{"$error":"#VALUE!"},{"$error":"#VALUE!"},{"$error":"#VALUE!"},{"$error":"#VALUE!"},{"$error":"#VALUE!"},{"$error":"#VALUE!"},{"$error":"#VALUE!"},{"$error":"#VALUE!"},{"$error":"#VALUE!"},{"$error":"#VALUE!"},{"$error":"#VALUE!"},{"$error":"#VALUE!"},{"$error":"#VALUE!"},{"$error":"#VALUE!"},{"$f":"SUM(D29:AB29)","v":{"$error":"#VALUE!"}}]
[null,null,"Model Shipments * Model Post-Case UEC",{"$f":"D14*D22","v":{"$error":"#VALUE!"}},{"$f":"E14*E22","v":{"$error":"#VALUE!"}},{"$error":"#VALUE!"},{"$error":"#VALUE!"},{"$error":"#VALUE!"},{"$error":"#VALUE!"},{"$error":"#VALUE!"},{"$error":"#VALUE!"},{"$error":"#VALUE!"},{"$error":"#VALUE!"},{"$error":"#VALUE!"},{"$error":"#VALUE!"},{"$error":"#VALUE!"},{"$error":"#VALUE!"},{"$error":"#VALUE!"},{"$error":"#VALUE!"},{"$error":"#VALUE!"},{"$error":"#VALUE!"},{"$error":"#VALUE!"},{"$error":"#VALUE!"},{"$error":"#VALUE!"},{"$error":"#VALUE!"},{"$error":"#VALUE!"},{"$error":"#VALUE!"},{"$error":"#VALUE!"},{"$f":"SUM(D30:AB30)","v":{"$error":"#VALUE!"}}]
[]
[null,null,"Total Energy Consumption (kWh)",2010,{"$f":"D32+1","v":2011},{"$f":"E32+1","v":2012},2013,2014,2015,2016,2017,2018,2019,2020,2021,2022,2023,2024,2025,2026,2027,2028,2029,2030,2031,2032,2033,2034,"Total "]
[null,null,"Modeled Pre-case Consumption \n(Installed UEC * Stock)",{"$f":"D15*D23","v":{"$error":"#VALUE!"}},{"$error":"#VALUE!"},{"$error":"#VALUE!"},{"$error":"#VALUE!"},{"$error":"#VALUE!"},{"$error":"#VALUE!"},{"$error":"#VALUE!"},{"$error":"#VALUE!"},{"$error":"#VALUE!"},{"$error":"#VALUE!"},{"$error":"#VALUE!"},{"$error":"#VALUE!"},{"$error":"#VALUE!"},{"$error":"#VALUE!"},{"$error":"#VALUE!"},{"$error":"#VALUE!"},{"$error":"#VALUE!"},{"$error":"#VALUE!"},{"$error":"#VALUE!"},{"$error":"#VALUE!"},{"$error":"#VALUE!"},{"$error":"#VALUE!"},{"$error":"#VALUE!"},{"$error":"#VALUE!"},{"$error":"#VALUE!"},{"$f":"SUM(D33:AB33)","v":{"$error":"#VALUE!"}}]
[null,null,"Modeled Post-case Consumption \n(Installed UEC* Stock)",{"$f":"D16*D23","v":{"$error":"#VALUE!"}},{"$error":"#VALUE!"},{"$error":"#VALUE!"},{"$error":"#VALUE!"},{"$error":"#VALUE!"},{"$error":"#VALUE!"},{"$error":"#VALUE!"},{"$error":"#VALUE!"},{"$error":"#VALUE!"},{"$error":"#VALUE!"},{"$error":"#VALUE!"},{"$error":"#VALUE!"},{"$error":"#VALUE!"},{"$error":"#VALUE!"},{"$error":"#VALUE!"},{"$error":"#VALUE!"},{"$error":"#VALUE!"},{"$error":"#VALUE!"},{"$error":"#VALUE!"},{"$error":"#VALUE!"},{"$error":"#VALUE!"},{"$error":"#VALUE!"},{"$error":"#VALUE!"},{"$error":"#VALUE!"},{"$error":"#VALUE!"},{"$f":"SUM(D34:AB34)","v":{"$error":"#VALUE!"}}]
[]
[]
[]
[null,null,"Total Energy Consumption (aMW)",2010,{"$f":"D38+1","v":2011},2012,2013,2014,2015,2016,2017,2018,2019,2020,2021,2022,2023,2024,2025,2026,2027,2028,2029,2030,2031,2032,2033,2034,"Total "]
[null,null,{"$f":"C33","v":"Modeled Pre-case Consumption \n(Installed UEC * Stock)"},{"$f":"D33/'Constants and Menus'!$D$13/('Constants and Menus'!$D$12*'Constants and Menus'!$D$10)","v":{"$error":"#VALUE!"}},{"$f":"E33/'Constants and Menus'!$D$13/('Constants and Menus'!$D$12*'Constants and Menus'!$D$10)","v":{"$error":"#VALUE!"}},{"$f":"F33/'Constants and Menus'!$D$13/('Constants and Menus'!$D$12*'Constants and Menus'!$D$10)","v":{"$error":"#VALUE!"}},{"$f":"G33/'Constants and Menus'!$D$13/('Constants and Menus'!$D$12*'Constants and Menus'!$D$10)","v":{"$error":"#VALUE!"}},{"$f":"H33/'Constants and Menus'!$D$13/('Constants and Menus'!$D$12*'Constants and Menus'!$D$10)","v":{"$error":"#VALUE!"}},{"$f":"I33/'Constants and Menus'!$D$13/('Constants and Menus'!$D$12*'Constants and Menus'!$D$10)","v":{"$error":"#VALUE!"}},{"$f":"J33/'Constants and Menus'!$D$13/('Constants and Menus'!$D$12*'Constants and Menus'!$D$10)","v":{"$error":"#VALUE!"}},{"$f":"K33/'Constants and Menus'!$D$13/('Constants and Menus'!$D$12*'Constants and Menus'!$D$10)","v":{"$error":"#VALUE!"}},{"$f":"L33/'Constants and Menus'!$D$13/('Constants and Menus'!$D$12*'Constants and Menus'!$D$10)","v":{"$error":"#VALUE!"}},{"$f":"M33/'Constants and Menus'!$D$13/('Constants and Menus'!$D$12*'Constants and Menus'!$D$10)","v":{"$error":"#VALUE!"}},{"$f":"N33/'Constants and Menus'!$D$13/('Constants and Menus'!$D$12*'Constants and Menus'!$D$10)","v":{"$error":"#VALUE!"}},{"$f":"O33/'Constants and Menus'!$D$13/('Constants and Menus'!$D$12*'Constants and Menus'!$D$10)","v":{"$error":"#VALUE!"}},{"$f":"P33/'Constants and Menus'!$D$13/('Constants and Menus'!$D$12*'Constants and Menus'!$D$10)","v":{"$error":"#VALUE!"}},{"$f":"Q33/'Constants and Menus'!$D$13/('Constants and Menus'!$D$12*'Constants and Menus'!$D$10)","v":{"$error":"#VALUE!"}},{"$f":"R33/'Constants and Menus'!$D$13/('Constants and Menus'!$D$12*'Constants and Menus'!$D$10)","v":{"$error":"#VALUE!"}},{"$f":"S33/'Constants and Menus'!$D$13/('Constants and Menus'!$D$12*'Constants and Menus'!$D$10)","v":{"$error":"#VALUE!"}},{"$f":"T33/'Constants and Menus'!$D$13/('Constants and Menus'!$D$12*'Constants and Menus'!$D$10)","v":{"$error":"#VALUE!"}},{"$f":"U33/'Constants and Menus'!$D$13/('Constants and Menus'!$D$12*'Constants and Menus'!$D$10)","v":{"$error":"#VALUE!"}},{"$f":"V33/'Constants and Menus'!$D$13/('Constants and Menus'!$D$12*'Constants and Menus'!$D$10)","v":{"$error":"#VALUE!"}},{"$f":"W33/'Constants and Menus'!$D$13/('Constants and Menus'!$D$12*'Constants and Menus'!$D$10)","v":{"$error":"#VALUE!"}},{"$f":"X33/'Constants and Menus'!$D$13/('Constants and Menus'!$D$12*'Constants and Menus'!$D$10)","v":{"$error":"#VALUE!"}},{"$f":"Y33/'Constants and Menus'!$D$13/('Constants and Menus'!$D$12*'Constants and Menus'!$D$10)","v":{"$error":"#VALUE!"}},{"$f":"Z33/'Constants and Menus'!$D$13/('Constants and Menus'!$D$12*'Constants and Menus'!$D$10)","v":{"$error":"#VALUE!"}},{"$f":"AA33/'Constants and Menus'!$D$13/('Constants and Menus'!$D$12*'Constants and Menus'!$D$10)","v":{"$error":"#VALUE!"}},{"$f":"AB33/'Constants and Menus'!$D$13/('Constants and Menus'!$D$12*'Constants and Menus'!$D$10)","v":{"$error":"#VALUE!"}},{"$f":"SUM(D39:AB39)","v":{"$error":"#VALUE!"}}]
[null,null,{"$f":"C34","v":"Modeled Post-case Consumption \n(Installed UEC* Stock)"},{"$f":"D34/'Constants and Menus'!$D$13/('Constants and Menus'!$D$12*'Constants and Menus'!$D$10)","v":{"$error":"#VALUE!"}},{"$f":"E34/'Constants and Menus'!$D$13/('Constants and Menus'!$D$12*'Constants and Menus'!$D$10)","v":{"$error":"#VALUE!"}},{"$f":"F34/'Constants and Menus'!$D$13/('Constants and Menus'!$D$12*'Constants and Menus'!$D$10)","v":{"$error":"#VALUE!"}},{"$f":"G34/'Constants and Menus'!$D$13/('Constants and Menus'!$D$12*'Constants and Menus'!$D$10)","v":{"$error":"#VALUE!"}},{"$f":"H34/'Constants and Menus'!$D$13/('Constants and Menus'!$D$12*'Constants and Menus'!$D$10)","v":{"$error":"#VALUE!"}},{"$f":"I34/'Constants and Menus'!$D$13/('Constants and Menus'!$D$12*'Constants and Menus'!$D$10)","v":{"$error":"#VALUE!"}},{"$f":"J34/'Constants and Menus'!$D$13/('Constants and Menus'!$D$12*'Constants and Menus'!$D$10)","v":{"$error":"#VALUE!"}},{"$f":"K34/'Constants and Menus'!$D$13/('Constants and Menus'!$D$12*'Constants and Menus'!$D$10)","v":{"$error":"#VALUE!"}},{"$f":"L34/'Constants and Menus'!$D$13/('Constants and Menus'!$D$12*'Constants and Menus'!$D$10)","v":{"$error":"#VALUE!"}},{"$f":"M34/'Constants and Menus'!$D$13/('Constants and Menus'!$D$12*'Constants and Menus'!$D$10)","v":{"$error":"#VALUE!"}},{"$f":"N34/'Constants and Menus'!$D$13/('Constants and Menus'!$D$12*'Constants and Menus'!$D$10)","v":{"$error":"#VALUE!"}},{"$f":"O34/'Constants and Menus'!$D$13/('Constants and Menus'!$D$12*'Constants and Menus'!$D$10)","v":{"$error":"#VALUE!"}},{"$f":"P34/'Constants and Menus'!$D$13/('Constants and Menus'!$D$12*'Constants and Menus'!$D$10)","v":{"$error":"#VALUE!"}},{"$f":"Q34/'Constants and Menus'!$D$13/('Constants and Menus'!$D$12*'Constants and Menus'!$D$10)","v":{"$error":"#VALUE!"}},{"$f":"R34/'Constants and Menus'!$D$13/('Constants and Menus'!$D$12*'Constants and Menus'!$D$10)","v":{"$error":"#VALUE!"}},{"$f":"S34/'Constants and Menus'!$D$13/('Constants and Menus'!$D$12*'Constants and Menus'!$D$10)","v":{"$error":"#VALUE!"}},{"$f":"T34/'Constants and Menus'!$D$13/('Constants and Menus'!$D$12*'Constants and Menus'!$D$10)","v":{"$error":"#VALUE!"}},{"$f":"U34/'Constants and Menus'!$D$13/('Constants and Menus'!$D$12*'Constants and Menus'!$D$10)","v":{"$error":"#VALUE!"}},{"$f":"V34/'Constants and Menus'!$D$13/('Constants and Menus'!$D$12*'Constants and Menus'!$D$10)","v":{"$error":"#VALUE!"}},{"$f":"W34/'Constants and Menus'!$D$13/('Constants and Menus'!$D$12*'Constants and Menus'!$D$10)","v":{"$error":"#VALUE!"}},{"$f":"X34/'Constants and Menus'!$D$13/('Constants and Menus'!$D$12*'Constants and Menus'!$D$10)","v":{"$error":"#VALUE!"}},{"$f":"Y34/'Constants and Menus'!$D$13/('Constants and Menus'!$D$12*'Constants and Menus'!$D$10)","v":{"$error":"#VALUE!"}},{"$f":"Z34/'Constants and Menus'!$D$13/('Constants and Menus'!$D$12*'Constants and Menus'!$D$10)","v":{"$error":"#VALUE!"}},{"$f":"AA34/'Constants and Menus'!$D$13/('Constants and Menus'!$D$12*'Constants and Menus'!$D$10)","v":{"$error":"#VALUE!"}},{"$f":"AB34/'Constants and Menus'!$D$13/('Constants and Menus'!$D$12*'Constants and Menus'!$D$10)","v":{"$error":"#VALUE!"}},{"$f":"SUM(D40:AB40)","v":{"$error":"#VALUE!"}}]
[]
[null,null,"Savings (aMW)",2010,{"$f":"D42+1","v":2011},2012,2013,2014,2015,2016,2017,2018,2019,2020,2021,2022,2023,2024,2025,2026,2027,2028,2029,2030,2031,2032,2033,2034,"Total "]
[null,null,"Incremental Savings",{"$f":"IF(AND(D42>='Constants and Menus'!$D$15,(D42-'Constants and Menus'!$D$15)<=Lifetime),\n(D13-D14)*D22,\n(D13-D14)*D21)\n/'Constants and Menus'!$D$13/('Constants and Menus'!$D$12*'Constants and Menus'!$D$10)","v":{"$error":"#VALUE!"}},{"$f":"IF(AND(E42>='Constants and Menus'!$D$15,(E42-'Constants and Menus'!$D$15)<Lifetime),\n(E13-E14)*E22,\n(E13-E14)*E21)\n/'Constants and Menus'!$D$13/('Constants and Menus'!$D$12*'Constants and Menus'!$D$10)","v":{"$error":"#VALUE!"}},{"$f":"IF(AND(F42>='Constants and Menus'!$D$15,(F42-'Constants and Menus'!$D$15)<Lifetime),\n(F13-F14)*F22,\n(F13-F14)*F21)\n/'Constants and Menus'!$D$13/('Constants and Menus'!$D$12*'Constants and Menus'!$D$10)","v":{"$error":"#VALUE!"}},{"$f":"IF(AND(G42>='Constants and Menus'!$D$15,(G42-'Constants and Menus'!$D$15)<Lifetime),\n(G13-G14)*G22,\n(G13-G14)*G21)\n/'Constants and Menus'!$D$13/('Constants and Menus'!$D$12*'Constants and Menus'!$D$10)","v":{"$error":"#VALUE!"}},{"$f":"IF(AND(H42>='Constants and Menus'!$D$15,(H42-'Constants and Menus'!$D$15)<Lifetime),\n(H13-H14)*H22,\n(H13-H14)*H21)\n/'Constants and Menus'!$D$13/('Constants and Menus'!$D$12*'Constants and Menus'!$D$10)","v":{"$error":"#VALUE!"}},{"$f":"IF(AND(I42>='Constants and Menus'!$D$15,(I42-'Constants and Menus'!$D$15)<Lifetime),\n(I13-I14)*I22,\n(I13-I14)*I21)\n/'Constants and Menus'!$D$13/('Constants and Menus'!$D$12*'Constants and Menus'!$D$10)","v":{"$error":"#VALUE!"}},{"$f":"IF(AND(J42>='Constants and Menus'!$D$15,(J42-'Constants and Menus'!$D$15)<Lifetime),\n(J13-J14)*J22,\n(J13-J14)*J21)\n/'Constants and Menus'!$D$13/('Constants and Menus'!$D$12*'Constants and Menus'!$D$10)","v":{"$error":"#VALUE!"}},{"$f":"IF(AND(K42>='Constants and Menus'!$D$15,(K42-'Constants and Menus'!$D$15)<Lifetime),\n(K13-K14)*K22,\n(K13-K14)*K21)\n/'Constants and Menus'!$D$13/('Constants and Menus'!$D$12*'Constants and Menus'!$D$10)","v":{"$error":"#VALUE!"}},{"$f":"IF(AND(L42>='Constants and Menus'!$D$15,(L42-'Constants and Menus'!$D$15)<Lifetime),\n(L13-L14)*L22,\n(L13-L14)*L21)\n/'Constants and Menus'!$D$13/('Constants and Menus'!$D$12*'Constants and Menus'!$D$10)","v":{"$error":"#VALUE!"}},{"$f":"IF(AND(M42>='Constants and Menus'!$D$15,(M42-'Constants and Menus'!$D$15)<Lifetime),\n(M13-M14)*M22,\n(M13-M14)*M21)\n/'Constants and Menus'!$D$13/('Constants and Menus'!$D$12*'Constants and Menus'!$D$10)","v":{"$error":"#VALUE!"}},{"$f":"IF(AND(N42>='Constants and Menus'!$D$15,(N42-'Constants and Menus'!$D$15)<Lifetime),\n(N13-N14)*N22,\n(N13-N14)*N21)\n/'Constants and Menus'!$D$13/('Constants and Menus'!$D$12*'Constants and Menus'!$D$10)","v":{"$error":"#VALUE!"}},{"$f":"IF(AND(O42>='Constants and Menus'!$D$15,(O42-'Constants and Menus'!$D$15)<Lifetime),\n(O13-O14)*O22,\n(O13-O14)*O21)\n/'Constants and Menus'!$D$13/('Constants and Menus'!$D$12*'Constants and Menus'!$D$10)","v":{"$error":"#VALUE!"}},{"$f":"IF(AND(P42>='Constants and Menus'!$D$15,(P42-'Constants and Menus'!$D$15)<Lifetime),\n(P13-P14)*P22,\n(P13-P14)*P21)\n/'Constants and Menus'!$D$13/('Constants and Menus'!$D$12*'Constants and Menus'!$D$10)","v":{"$error":"#VALUE!"}},{"$f":"IF(AND(Q42>='Constants and Menus'!$D$15,(Q42-'Constants and Menus'!$D$15)<Lifetime),\n(Q13-Q14)*Q22,\n(Q13-Q14)*Q21)\n/'Constants and Menus'!$D$13/('Constants and Menus'!$D$12*'Constants and Menus'!$D$10)","v":{"$error":"#VALUE!"}},{"$f":"IF(AND(R42>='Constants and Menus'!$D$15,(R42-'Constants and Menus'!$D$15)<Lifetime),\n(R13-R14)*R22,\n(R13-R14)*R21)\n/'Constants and Menus'!$D$13/('Constants and Menus'!$D$12*'Constants and Menus'!$D$10)","v":{"$error":"#VALUE!"}},{"$f":"IF(AND(S42>='Constants and Menus'!$D$15,(S42-'Constants and Menus'!$D$15)<Lifetime),\n(S13-S14)*S22,\n(S13-S14)*S21)\n/'Constants and Menus'!$D$13/('Constants and Menus'!$D$12*'Constants and Menus'!$D$10)","v":{"$error":"#VALUE!"}},{"$f":"IF(AND(T42>='Constants and Menus'!$D$15,(T42-'Constants and Menus'!$D$15)<Lifetime),\n(T13-T14)*T22,\n(T13-T14)*T21)\n/'Constants and Menus'!$D$13/('Constants and Menus'!$D$12*'Constants and Menus'!$D$10)","v":{"$error":"#VALUE!"}},{"$f":"IF(AND(U42>='Constants and Menus'!$D$15,(U42-'Constants and Menus'!$D$15)<Lifetime),\n(U13-U14)*U22,\n(U13-U14)*U21)\n/'Constants and Menus'!$D$13/('Constants and Menus'!$D$12*'Constants and Menus'!$D$10)","v":{"$error":"#VALUE!"}},{"$f":"IF(AND(V42>='Constants and Menus'!$D$15,(V42-'Constants and Menus'!$D$15)<Lifetime),\n(V13-V14)*V22,\n(V13-V14)*V21)\n/'Constants and Menus'!$D$13/('Constants and Menus'!$D$12*'Constants and Menus'!$D$10)","v":{"$error":"#VALUE!"}},{"$f":"IF(AND(W42>='Constants and Menus'!$D$15,(W42-'Constants and Menus'!$D$15)<Lifetime),\n(W13-W14)*W22,\n(W13-W14)*W21)\n/'Constants and Menus'!$D$13/('Constants and Menus'!$D$12*'Constants and Menus'!$D$10)","v":{"$error":"#VALUE!"}},{"$f":"IF(AND(X42>='Constants and Menus'!$D$15,(X42-'Constants and Menus'!$D$15)<Lifetime),\n(X13-X14)*X22,\n(X13-X14)*X21)\n/'Constants and Menus'!$D$13/('Constants and Menus'!$D$12*'Constants and Menus'!$D$10)","v":{"$error":"#VALUE!"}},{"$f":"IF(AND(Y42>='Constants and Menus'!$D$15,(Y42-'Constants and Menus'!$D$15)<Lifetime),\n(Y13-Y14)*Y22,\n(Y13-Y14)*Y21)\n/'Constants and Menus'!$D$13/('Constants and Menus'!$D$12*'Constants and Menus'!$D$10)","v":{"$error":"#VALUE!"}},{"$f":"IF(AND(Z42>='Constants and Menus'!$D$15,(Z42-'Constants and Menus'!$D$15)<Lifetime),\n(Z13-Z14)*Z22,\n(Z13-Z14)*Z21)\n/'Constants and Menus'!$D$13/('Constants and Menus'!$D$12*'Constants and Menus'!$D$10)","v":{"$error":"#VALUE!"}},{"$f":"IF(AND(AA42>='Constants and Menus'!$D$15,(AA42-'Constants and Menus'!$D$15)<Lifetime),\n(AA13-AA14)*AA22,\n(AA13-AA14)*AA21)\n/'Constants and Menus'!$D$13/('Constants and Menus'!$D$12*'Constants and Menus'!$D$10)","v":{"$error":"#VALUE!"}},{"$f":"IF(AND(AB42>='Constants and Menus'!$D$15,(AB42-'Constants and Menus'!$D$15)<Lifetime),\n(AB13-AB14)*AB22,\n(AB13-AB14)*AB21)\n/'Constants and Menus'!$D$13/('Constants and Menus'!$D$12*'Constants and Menus'!$D$10)","v":{"$error":"#VALUE!"}}]
[null,null,"Cumulative Savings",{"$f":"D43","v":{"$error":"#VALUE!"}},{"$error":"#VALUE!"},{"$error":"#VALUE!"},{"$error":"#VALUE!"},{"$error":"#VALUE!"},{"$error":"#VALUE!"},{"$error":"#VALUE!"},{"$error":"#VALUE!"},{"$f":"L43","v":{"$error":"#VALUE!"}},{"$f":"SUM($L$43:M43)","v":{"$error":"#VALUE!"}},{"$f":"SUM($L$43:N43)","v":{"$error":"#VALUE!"}},{"$f":"SUM($L$43:O43)","v":{"$error":"#VALUE!"}},{"$f":"SUM($L$43:P43)","v":{"$error":"#VALUE!"}},{"$f":"SUM($L$43:Q43)","v":{"$error":"#VALUE!"}},{"$f":"SUM($L$43:R43)","v":{"$error":"#VALUE!"}},{"$f":"SUM($L$43:S43)","v":{"$error":"#VALUE!"}},{"$f":"SUM($L$43:T43)","v":{"$error":"#VALUE!"}},{"$f":"SUM($L$43:U43)","v":{"$error":"#VALUE!"}},{"$f":"SUM($L$43:V43)","v":{"$error":"#VALUE!"}},{"$f":"SUM($L$43:W43)","v":{"$error":"#VALUE!"}},{"$f":"SUM($L$43:X43)","v":{"$error":"#VALUE!"}},{"$f":"SUM($L$43:Y43)","v":{"$error":"#VALUE!"}},{"$f":"SUM($L$43:Z43)","v":{"$error":"#VALUE!"}},{"$f":"SUM($L$43:AA43)","v":{"$error":"#VALUE!"}},{"$f":"SUM($L$43:AB43)","v":{"$error":"#VALUE!"}},{"$f":"SUM(D44:AB44)","v":{"$error":"#VALUE!"}}]
[null,null,"DOE Aggregate Lifecycle Savings (formerly DOE Carbon proxy)",{"$f":"SUM($D$44:D44)","v":{"$error":"#VALUE!"}},{"$f":"SUM($D$44:E44)","v":{"$error":"#VALUE!"}},{"$f":"SUM($D$44:F44)","v":{"$error":"#VALUE!"}},{"$f":"SUM($D$44:G44)","v":{"$error":"#VALUE!"}},{"$f":"SUM($D$44:H44)","v":{"$error":"#VALUE!"}},{"$f":"SUM($D$44:I44)","v":{"$error":"#VALUE!"}},{"$f":"SUM($D$44:J44)","v":{"$error":"#VALUE!"}},{"$f":"SUM($D$44:K44)","v":{"$error":"#VALUE!"}},{"$f":"SUM($D$44:L44)","v":{"$error":"#VALUE!"}},{"$f":"SUM($D$44:M44)","v":{"$error":"#VALUE!"}},{"$f":"SUM($D$44:N44)","v":{"$error":"#VALUE!"}},{"$f":"SUM($D$44:O44)","v":{"$error":"#VALUE!"}},{"$f":"SUM($D$44:P44)","v":{"$error":"#VALUE!"}},{"$f":"SUM($D$44:Q44)","v":{"$error":"#VALUE!"}},{"$f":"SUM($D$44:R44)","v":{"$error":"#VALUE!"}},{"$f":"SUM($D$44:S44)","v":{"$error":"#VALUE!"}},{"$f":"SUM($D$44:T44)","v":{"$error":"#VALUE!"}},{"$f":"SUM($D$44:U44)","v":{"$error":"#VALUE!"}},{"$f":"SUM($D$44:V44)","v":{"$error":"#VALUE!"}},{"$f":"SUM($D$44:W44)","v":{"$error":"#VALUE!"}},{"$f":"SUM($D$44:X44)","v":{"$error":"#VALUE!"}},{"$f":"SUM($D$44:Y44)","v":{"$error":"#VALUE!"}},{"$f":"SUM($D$44:Z44)","v":{"$error":"#VALUE!"}},{"$f":"SUM($D$44:AA44)","v":{"$error":"#VALUE!"}},{"$f":"SUM($D$44:AB44)","v":{"$error":"#VALUE!"}}]
[null,null,"Check",null,{"$f":"ROUND(E44-D44-E43,3)","v":{"$error":"#VALUE!"}},{"$f":"ROUND(F44-E44-F43,3)","v":{"$error":"#VALUE!"}},{"$f":"ROUND(G44-F44-G43,3)","v":{"$error":"#VALUE!"}},{"$f":"ROUND(H44-G44-H43,3)","v":{"$error":"#VALUE!"}},{"$f":"ROUND(I44-H44-I43,3)","v":{"$error":"#VALUE!"}},{"$f":"ROUND(J44-I44-J43,3)","v":{"$error":"#VALUE!"}},{"$f":"ROUND(K44-J44-K43,3)","v":{"$error":"#VALUE!"}},{"$f":"ROUND(L44-K44-L43,3)","v":{"$error":"#VALUE!"}},{"$f":"ROUND(M44-L44-M43,3)","v":{"$error":"#VALUE!"}},{"$f":"ROUND(N44-M44-N43,3)","v":{"$error":"#VALUE!"}},{"$f":"ROUND(O44-N44-O43,3)","v":{"$error":"#VALUE!"}},{"$f":"ROUND(P44-O44-P43,3)","v":{"$error":"#VALUE!"}},{"$f":"ROUND(Q44-P44-Q43,3)","v":{"$error":"#VALUE!"}},{"$f":"ROUND(R44-Q44-R43,3)","v":{"$error":"#VALUE!"}},{"$f":"ROUND(S44-R44-S43,3)","v":{"$error":"#VALUE!"}},{"$f":"ROUND(T44-S44-T43,3)","v":{"$error":"#VALUE!"}},{"$f":"ROUND(U44-T44-U43,3)","v":{"$error":"#VALUE!"}},{"$f":"ROUND(V44-U44-V43,3)","v":{"$error":"#VALUE!"}},{"$f":"ROUND(W44-V44-W43,3)","v":{"$error":"#VALUE!"}},{"$f":"ROUND(X44-W44-X43,3)","v":{"$error":"#VALUE!"}},{"$f":"ROUND(Y44-X44-Y43,3)","v":{"$error":"#VALUE!"}},{"$f":"ROUND(Z44-Y44-Z43,3)","v":{"$error":"#VALUE!"}},{"$f":"ROUND(AA44-Z44-AA43,3)","v":{"$error":"#VALUE!"}},{"$f":"ROUND(AB44-AA44-AB43,3)","v":{"$error":"#VALUE!"}}]

{"sheet":"SUMMARY RESULTS","index":14,"n_rows":12,"n_cols":4,"rows_kept":12,"cut":false,"hidden":false,"merged":[]}
[]
[null,null,"SUMMARY RESULTS"]
[]
[null,null,"NAVIGATION"]
[]
[null,null,"COMMENTS"]
[]
[]
[null,null,null,{"$f":"Results!C9","v":"TOTAL"}]
[null,null," Adjustment to 6P Baseline (aMW)","N/A"]
[null,null,"Cumulative Savings 2010 through 2015 (aMW)",{"$f":"SUM(Results!D43:H43)","v":{"$error":"#VALUE!"}}]
[null,null,"Cumulative Savings through 2034 (aMW)",{"$f":"Results!AC39-Results!AC40","v":{"$error":"#VALUE!"}}]

{"sheet":"Charts","index":15,"n_rows":6,"n_cols":3,"rows_kept":6,"cut":false,"hidden":false,"merged":[]}
[]
[null,null,"CHARTS "]
[]
[null,null,"NAVIGATION"]
[]
[null,null,"COMMENTS"]