{"text_format":"1","workbook":"xlsx","n_sheets":17,"sheets":["COVER","Definitions","Comments","Navigation","Product Classes","Efficiency Levels","Equipment Specifications","Constants and Menus","Product Class Dist","Efficiency Dist","Shipments and Stock","6P UEC Development","UEC Development","UEC","RESULTS","SUMMARY RESULTS","Charts"],"not_rendered":{"charts":13,"images":0,"macros":1,"external_links":1,"defined_names":5,"comments":0,"pivot_tables":0},"unopened":[],"bounds":{"document_bytes":16777216,"sheet_cells":100000,"rows_first":2000,"rows_last":500,"rows_between":2000,"halvings":0,"cell_chars":16384,"cell_head_chars":4096},"cells_cut":0,"cells_raw":0,"read":"whole","date_system":"1900"}

{"sheet":"COVER","index":0,"n_rows":28,"n_cols":4,"rows_kept":28,"cut":false,"hidden":false,"merged":[[22,2,22,3],[8,2,8,3],[9,2,9,3],[10,2,10,3],[13,2,13,3],[16,2,16,3],[18,2,18,3],[19,2,19,3]]}
[]
[null,null,"Cover"]
[]
[null,null,"NAVIGATION"]
[]
[null,null,"COMMENTS"]
[]
[]
[null,null,"Bonneville Power Administration"]
[null,null,"6P Energy Conservation Standards Savings Model"]
[null,null,"Commercial Refrigeration Equipment"]
[]
[null,null,"Product Description"]
[null,null,"DOE defines commercial refrigerator, freezer, and refrigerator-freezer as refrigeration equipment that—\n(1) Is not a consumer product (as defined in §430.2 of part 430);\n(2) Is not designed and marketed exclusively for medical, scientific, or research purposes;\n(3) Operates at a chilled, frozen, combination chilled and frozen, or variable temperature;\n(4) Displays or stores merchandise and other perishable materials horizontally, semi-vertically, or vertically;\n(5) Has transparent or solid doors, sliding or hinged doors, a combination of hinged, sliding, transparent, or solid doors, or no doors;\n(6) Is designed for pull-down temperature applications or holding temperature applications; and\n(7) Is connected to a self-contained condensing unit or to a remote condensing unit.\nSource: 10CFR431.62"]
[]
[null,null,"Standard Compliance Year"]
[null,null,"2017 (Source: DOE Commercial Refrigeration Equipment 2014 Final Rule, Federal Register Notice, page 17726, \"Dates\" section, http://www.regulations.gov/#!documentDetail;D=EERE-2010-BT-STD-0003-0104)"]
[]
[null,null,"Major changes from previous rulemaking (2012 effective standard)"]
[null,null,"Before the 2014 final rule, CRE was regulated by two sets of standards. One was set directly by EPACT 2005 and applies to self-contained equipment with doors and pull-down equipment. The second set of standards was set by DOE in the 2009 final rule, which was initiated by the direction of EPACT 2005. In that rule, DOE set standards for open display cases, remote-condensing CRE, and ice cream freezers. For the 2014 final rule, DOE was directed by EPCA to review all standards – both EPACT and 2009 Final Rule. Therefore DOE reviewed standards for self-contained equipment with doors, pull-down equipment, open cases, remote-condensing equipment, and ice cream freezers, and set amended standards in the 2014 final rule."]
[]
[null,null,"6P Baseline "]
[null,null,"The product was modeled in the 6P. The baseline captures the standard with an effective date of 2012 but the model reflects updated data that became available after 6P publication."]
[]
[null,null,"Prepared By:"]
[null,null,"Navigant Consulting","Cadeo Group"]
[null,null,"One Market Street | Spear Street Tower, Suite 1200 ","840 First Street, Suite 300"]
[null,null,"San Francisco, CA 94105","Washington, DC  20002"]

{"sheet":"Definitions","index":1,"n_rows":32,"n_cols":4,"rows_kept":32,"cut":false,"hidden":false,"merged":[]}
[]
[null,null,"Definitions"]
[]
[null,null,"NAVIGATION"]
[]
[null,null,"COMMENTS"]
[]
[]
[null,null,"Average Megawatt (aMW)","The average number of megawatts over a specified time period"]
[null,null,"Adjustment to 6P Baseline ","Adjustment to reconcile the 6P projected energy consumption and the modeled consumption calculated using best available data."]
[null,null,"Department of Energy Aggregate Lifecycle Savings ","Sum of 'Total First Year Savings'.  This accounts for the cumulative savings in accordance with DOE Carbon Accounting Practices."]
[null,null,"Department of Energy Notice of Proposed Rulemaking (DOE NOPR)","Federal Register notice detailing analyses conducted by the DOE to establish proposed energy conservation standards. "]
[null,null,"Efficiency Level (EL)","The discrete efficiency ratings of a product.  Each efficiency level is associated with a different UEC."]
[null,null,"Efficiency Level Distribution","The mix of various equipment efficiencies shipped in a given year."]
[null,null,"Incremental Savings","Savings due to the higher standards for units installed in a particular year. First year savings are highest following the standards compliance year while the stock turns over, after which first year savings are only attributed to shipments associated with new construction. "]
[null,null,"Governmental Regulatory Impact Model (GRIM)","The industry cash flow model used by DOE to assess impacts on manufacturers due to proposed energy conservation standards"]
[null,null,"Installed Unit Energy Consumption (Installed UEC)","The average annual unit energy consumption of all installed units in a given year."]
[null,null,"Market Unit Energy Consumption (Market UEC)","The average annual unit energy consumption of units shipped in a given year.   "]
[null,null,"National Impact Analysis (NIA)","The energy impact analysis used by DOE to calculate energy savings associated with each standard. "]
[null,null,"Pre-case ","The case representing 6P baseline assumptions where energy consumption due to the product accounts for shipment and shipment UEC by year, without the affect of standards announced following the development of the 6P."]
[null,null,"Post-case","The case in which standards are implemented. If the 6P already captured the analyzed standard, the post-case will be the same as the pre-case."]
[null,null,"Product Class","Product classificiation determined by product configuration, size, application, location, and other attributes that contribute to consumer utility.  DOE is allowed to establish different standards for each product class."]
[null,null,"Product Class Distribution ","Market share/mix of each product class shipped in a given year."]
[null,null,"Product Lifetime","The average time a given class of products stays in the field as part of the installed stock.  Some products will last longer (delaying replacement) whereas others will fail and be retired earlier (accelerating replacement), but the lifetime represents the market average."]
[null,null,"Shipments ","Sales of products.  This may be presented by product class, efficiency distribution, or delineated by other metrics. Shipments may be attributed to new construction and/or replacements and retrofits. "]
[null,null,"Sixth Power Plan (6P)","The Pacific Northwest Resource Plan published by the Northwest Power Conservation Council. The 6P timeframe is from 2010-2015."]
[null,null,"Sixth Power Plan Baseline (6P Baseline)","The 6P assumes equipment efficiency and shipment units in the region.  When available, the 6P assumptions are the baseline for each standard impact analysis."]
[null,null,"Standard Compliance Year","The year when the appliance standard goes into effect. "]
[null,null,"Stock ","All units installed in previous years which remain in operation."]
[null,null,"Technical Support Document (TSD)","TSDs are published by the DOE as companion documents to Federal Register notices (e.g., ANOPRs/preliminary analyses and NOPRs).  The TSDs include technical detail that supports the notices.  The final rule TSD includes the discussion of the Manufacturer Impact Analysis (MIA) and National Impact Analysis (NIA)."]
[null,null,"Cumulative Savings","The sum of first year savings from 2010 through 2034"]
[null,null,"Trial Standard Level (TSL)","A proposed efficiency standard evaluated by DOE during the NOPR and Final Rule phase analyses.  A TSL may specify different standard efficiency levels for each product class included in the rulemaking."]

{"sheet":"Comments","index":2,"n_rows":8,"n_cols":4,"rows_kept":8,"cut":false,"hidden":false,"merged":[[13,3,13,7],[14,3,14,7],[15,3,15,7],[16,3,16,7],[7,3,7,7],[8,3,8,7],[9,3,9,7],[10,3,10,7],[11,3,11,7],[12,3,12,7]]}
[]
[null,null,"Comments"]
[]
[null,null,"NAVIGATION"]
[]
[]
[null,null,"Tab","Comment"]
[null,null,"Example","Please use this space to document your comments as you review the model.  We look forward to receiving your feedback.  Thank you."]

{"sheet":"Navigation","index":3,"n_rows":23,"n_cols":13,"rows_kept":23,"cut":false,"hidden":false,"merged":[[16,12,17,12],[16,2,20,2],[10,8,12,8],[16,8,20,8],[16,10,17,10],[19,10,22,10]]}
[]
[null,null,"NAVIGATION"]
[]
[null,null,"COMMENTS"]
[]
[]
[null,null,"INFORMATION TABS",null,"INPUT TABS",null,null,null,"UEC CALCULATIONS",null,"RESULTS",null,"CHARTS"]
[]
[null,null,"COVER",null,"PRODUCT CLASSES"]
[]
[null,null,"DEFINITIONS",null,"EFFICIENCY LEVELS",null,null,null,"UEC DEVELOPMENT"]
[]
[null,null,"COMMENTS",null,"EQUIPMENT SPECIFICATIONS"]
[]
[null,null,"NAVIGATION",null,"CONSTANTS AND MENUS"]
[]
[null,null,"CENTRAL COMMERCIAL MODEL \n(EXTERNAL)",null,"PRODUCT CLASS DISTRIBUTION",null,null,null,"UEC ",null,"RESULTS",null,"CHARTS"]
[]
[null,null,null,null,"EFFICIENCY DISTRIBUTION"]
[null,null,null,null,null,null,null,null,null,null,"SUMMARY RESULTS"]
[null,null,null,null,"SHIPMENTS AND STOCK"]
[]
[null,null,null,null,"6P UEC DEVELOPMENT"]

{"sheet":"Product Classes","index":4,"n_rows":62,"n_cols":16,"rows_kept":62,"cut":false,"hidden":false,"merged":[[9,4,10,4],[11,4,12,4],[13,4,14,4],[15,4,16,4],[17,4,18,4],[31,3,40,3],[9,2,24,2],[9,3,24,3],[25,2,30,2],[31,2,40,2],[42,3,49,3],[42,2,57,2],[50,3,57,3],[61,3,61,15],[19,4,20,4],[21,4,22,4],[23,4,24,4],[25,4,26,4],[27,4,28,4],[29,4,30,4],[31,4,32,4],[33,4,34,4],[35,4,36,4],[37,4,38,4],[39,4,40,4],[25,3,30,3]]}
[]
[null,null,"Selection of Product Classes for Model"]
[]
[null,null,"NAVIGATION"]
[]
[null,null,"COMMENTS"]
[]
[]
[null,null,"Equipment Category","Condensing Unit Configuration","Equipment Family","Rating Temp. (°F)","Operating Temp. (°F)",null,"2014 DOE FR PCs 1","DOE Representative PCs 1","6th Plan PCs",null,"Model PCs",null,"Model PCs (Consolidated)","Rationale"]
[null,null,"Remote Condensing Commercial Refrigerators and Commercial Freezers","Remote (RC)","Vertical Open (VOP)","38 (M)",32,null,"VOP.RC.M",{"$f":"I10","v":"VOP.RC.M"},{"$f":"J10","v":"VOP.RC.M"},null,{"$f":"I10","v":"VOP.RC.M"},null,{"$f":"M10","v":"VOP.RC.M"},"2014 DOE Final Rule Representative Product Class"]
[null,null,null,null,null,"0 (L)","<32",null,"VOP.RC.L",{"$f":"I11","v":"VOP.RC.L"},"VOP.RC.L",null,{"$f":"I11","v":"VOP.RC.L"},null,{"$f":"M11","v":"VOP.RC.L"},"2014 DOE Final Rule Representative Product Class"]
[null,null,null,null,"Semivertical Open (SVO)","38 (M)",32,null,"SVO.RC.M","SVO.RC.M","SVO.RC.M",null,"SVO.RC.M",null,"SVO.RC.M","2014 DOE Final Rule Representative Product Class"]
[null,null,null,null,null,"0 (L)","<32",null,"SVO.RC.L",null,null,null,null,null,{"$f":"M14","v":"HZO.RC.M"},"2014 DOE Final Rule Representative Product Class"]
[null,null,null,null,"Horizontal Open (HZO)","38 (M)",32,null,"HZO.RC.M","HZO.RC.M",{"$f":"J14","v":"HZO.RC.M"},null,"HZO.RC.M",null,{"$f":"M15","v":"HZO.RC.L"},"2014 DOE Final Rule Representative Product Class"]
[null,null,null,null,null,"0 (L)","<32",null,"HZO.RC.L","HZO.RC.L",{"$f":"J15","v":"HZO.RC.L"},null,"HZO.RC.L",null,{"$f":"M16","v":"VCT.RC.M"},"2014 DOE Final Rule Representative Product Class"]
[null,null,null,null,"Vertical Closed Transparent (VCT)","38 (M)",32,null,"VCT.RC.M","VCT.RC.M","VCT.RC.M",null,"VCT.RC.M",null,{"$f":"M17","v":"VCT.RC.L"},"2014 DOE Final Rule Representative Product Class"]
[null,null,null,null,null,"0 (L)","<32",null,"VCT.RC.L","VCT.RC.L","VCT.RC.L",null,"VCT.RC.L",null,{"$f":"M24","v":"SOC.RC.M"},"2014 DOE Final Rule Representative Product Class"]
[null,null,null,null,"Horizontal Closed Transparent (HCT)","38 (M)",32,null,"HCT.RC.M",null,null,null,null,null,{"$f":"M26","v":"VOP.SC.M"},"2014 DOE Final Rule Representative Product Class"]
[null,null,null,null,null,"0 (L)","<32",null,"HCT.RC.L",null,null,null,null,null,{"$f":"M28","v":"SVO.SC.M"},"2014 DOE Final Rule Representative Product Class"]
[null,null,null,null,"Vertical Closed Solid (VCS)","38 (M)",32,null,"VCS.RC.M",null,null,null,null,null,{"$f":"M30","v":"HZO.SC.M"},"2014 DOE Final Rule Representative Product Class"]
[null,null,null,null,null,"0 (L)","<32",null,"VCS.RC.L",null,null,null,null,null,{"$f":"M31","v":"HZO.SC.L"},"2014 DOE Final Rule Representative Product Class"]
[null,null,null,null,"Horizontal Closed Solid (HCS)","38 (M)",32,null,"HCS.RC.M",null,null,null,null,null,{"$f":"M32","v":"VCT.SC.M"},"2014 DOE Final Rule Representative Product Class"]
[null,null,null,null,null,"0 (L)","<32",null,"HCS.RC.L",null,null,null,null,null,"VCT.SC.L","2014 DOE Final Rule Representative Product Class"]
[null,null,null,null,"Service Over Counter (SOC)","38 (M)",32,null,"SOC.RC.M","SOC.RC.M",{"$f":"J24","v":"SOC.RC.M"},null,"SOC.RC.M",null,"VCS.SC.M","2014 DOE Final Rule Representative Product Class"]
[null,null,null,null,null,"0 (L)","<32",null,"SOC.RC.L",null,null,null,null,null,"VCS.SC.L","2014 DOE Final Rule Representative Product Class"]
[null,null,"Self-Contained Commercial Refrigerators and Commercial Freezers without Doors","Self-Contained (SC)","Vertical Open (VOP)","38 (M)",32,null,"VOP.SC.M","VOP.SC.M","VOP.SC.M",null,"VOP.SC.M",null,"HCT.SC.M","2014 DOE Final Rule Representative Product Class"]
[null,null,null,null,null,"0 (L)","<32",null,"VOP.SC.L",null,null,null,null,null,"HCT.SC.L","2014 DOE Final Rule Representative Product Class"]
[null,null,null,null,"Semivertical Open (SVO)","38 (M)",32,null,"SVO.SC.M","SVO.SC.M","SVO.SC.M",null,"SVO.SC.M",null,"HCS.SC.M","2014 DOE Final Rule Representative Product Class"]
[null,null,null,null,null,"0 (L)","<32",null,"SVO.SC.L",null,null,null,null,null,"HCS.SC.L","2014 DOE Final Rule Representative Product Class"]
[null,null,null,null,"Horizontal Open","38 (M)",32,null,"HZO.SC.M","HZO.SC.M",{"$f":"J30","v":"HZO.SC.M"},null,"HZO.SC.M",null,"SOC.SC.M","2014 DOE Final Rule Representative Product Class"]
[null,null,null,null,null,"0 (L)","<32",null,"HZO.SC.L","HZO.SC.L","HZO.SC.L",null,"HZO.SC.L",null,{"$f":"M42","v":"PD.SC.M"},"2014 DOE Final Rule Representative Product Class"]
[null,null,"Self-Contained Commercial Refrigerators and Commercial Freezers with Doors","Self-Contained (SC)","Vertical Closed Transparent (VCT)","38 (M)",32,null,"VCT.SC.M","VCT.SC.M","Refrigerators with transparent doors",null,"VCT.SC.M",null,{"$f":"M54","v":"VCT.SC.I"},"2014 DOE Final Rule Representative Product Class"]
[null,null,null,null,null,"0 (L)","<32",null,"VCT.SC.L","VCT.SC.L","Freezers with transparent doors",null,"VCT.SC.L",null,{"$f":"M55","v":"HCT.SC.I"},"2014 DOE Final Rule Representative Product Class"]
[null,null,null,null,"Vertical Closed Solid (VCS)","38 (M)",32,null,"VCS.SC.M","VCS.SC.M","Refrigerators with solid doors",null,"VCS.SC.M",null,"VCS.SC.I","2014 DOE Final Rule Representative Product Class"]
[null,null,null,null,null,"0 (L)","<32",null,"VCS.SC.L","VCS.SC.L","Freezers with solid doors",null,"VCS.SC.L"]
[null,null,null,null,"Horizontal Closed Transparent (HCT)","38 (M)",32,null,"HCT.SC.M","HCT.SC.M","Refrigerators with transparent doors",null,"HCT.SC.M"]
[null,null,null,null,null,"0 (L)","<32",null,"HCT.SC.L","HCT.SC.L","Freezers with transparent doors",null,"HCT.SC.L"]
[null,null,null,null,"Horizontal Closed Solid (HCS)","38 (M)",32,null,"HCS.SC.M","HCS.SC.M","Refrigerators with solid doors",null,"HCS.SC.M"]
[null,null,null,null,null,"0 (L)","<32",null,"HCS.SC.L","HCS.SC.L","Freezers with solid doors",null,"HCS.SC.L"]
[null,null,null,null,"Service Over Counter (SOC)","38 (M)",32,null,"SOC.SC.M","SOC.SC.M",null,null,"SOC.SC.M"]
[null,null,null,null,null,"0 (L)","<32",null,"SOC.SC.L"]
[null,null,"Self-Contained Commercial Refrigerators with Transparent Doors for Pull-Down Temperature Applications","Self-Contained (SC)","Pull-Down (PD)","38 (M)",32,null,"PD.SC.M","PD.SC.M",null,null,"PD.SC.M"]
[null,null,"Commercial Ice-Cream Freezers","Remote (RC)","Vertical Open (VOP)","-15 (I)",-5,null,"VOP.RC.I"]
[null,null,null,null,"Semivertical Open (SVO)","-15 (I)",-5,null,"SVO.RC.I"]
[null,null,null,null,"Horizontal Open (HZO)","-15 (I)",-5,null,"HZO.RC.I"]
[null,null,null,null,"Vertical Closed Transparent (VCT)","-15 (I)",-5,null,"VCT.RC.I"]
[null,null,null,null,"Horizontal Closed Transparent (HCT)","-15 (I)",-5,null,"HCT.RC.I"]
[null,null,null,null,"Vertical Closed Solid (VCS)","-15 (I)",-5,null,"VCS.RC.I"]
[null,null,null,null,"Horizontal Closed Solid (HCS)","-15 (I)",-5,null,"HCS.RC.I"]
[null,null,null,null,"Service Over Counter (SVO)","-15 (I)",-5,null,"SOC.RC.I"]
[null,null,null,"Self-Contained (SC)","Vertical Open (VOP)","-15 (I)",-5,null,"VOP.SC.I"]
[null,null,null,null,"Semivertical Open (SVO)","-15 (I)",-5,null,"SVO.SC.I"]
[null,null,null,null,"Horizontal Open (HZO)","-15 (I)",-5,null,"HZO.SC.I"]
[null,null,null,null,"Vertical Closed Transparent (VCT)","-15 (I)",-5,null,"VCT.SC.I","VCT.SC.I",{"$f":"J54","v":"VCT.SC.I"},null,"VCT.SC.I"]
[null,null,null,null,"Horizontal Closed Transparent (HCT)","-15 (I)",-5,null,"HCT.SC.I","HCT.SC.I","HCT.SC.I",null,"HCT.SC.I"]
[null,null,null,null,"Vertical Closed Solid (VCS)","-15 (I)",-5,null,"VCS.SC.I","VCS.SC.I","VCS.SC.I",null,"VCS.SC.I"]
[null,null,null,null,"Horizontal Closed Solid (HCS)","-15 (I)",-5,null,"HCS.SC.I"]
[null,null,null,null,"Service Over Counter (SVO)","-15 (I)",-5,null,"SOC.SC.I"]
[]
[null,null,"Selection rationale ","The DOE 2014 Final Rule NIA used these product classes, therefore the same product classes are used in this analysis "]
[]
[null,null,"Sources","Equipment Class Descriptions: DOE Commercial Refrigeration Equipment 2014 Final Rule, Technical Support Document Chapter 3: Market and Technology Assessment, section 3.2.5 (page 3-13)\nRepresentative Equipment Classes: DOE Commercial Refrigeration Equipment 2014 Final Rule, Technical Support Document: National Impact Analysis Spreadsheet, 'Summary' tab, cells D29:AB29"]

{"sheet":"Efficiency Levels","index":5,"n_rows":451,"n_cols":6,"rows_kept":451,"cut":false,"hidden":false,"merged":[[1,2,1,3],[3,2,3,3],[5,2,5,3],[22,3,22,5],[40,3,40,5],[58,3,58,5],[76,3,76,5],[94,3,94,5],[112,3,112,5],[130,3,130,5],[148,3,148,5],[166,3,166,5],[184,3,184,5],[202,3,202,5],[220,3,220,5],[238,3,238,5],[256,3,256,5],[274,3,274,5],[292,3,292,5],[310,3,310,5],[396,3,396,5],[414,3,414,5],[432,3,432,5],[450,3,450,5],[328,3,328,5],[346,3,346,5],[364,3,364,5],[380,3,380,5]]}
[]
[null,null,"Efficiency Levels and Standards for Each Product Class"]
[]
[null,null,"NAVIGATION"]
[]
[null,null,"COMMENTS"]
[]
[]
[null,null,{"$f":"'Product Classes'!O10","v":"VOP.RC.M"}]
[]
[null,null," Model ELs","Energy Level (kWh/year)","Compliance Year1","Model Efficiency Levels"]
[null,null,"EL0",{"$f":"'UEC Development'!D14","v":17611.876571237255},null,"Pre DOE 2012 Standard"]
[null,null,"EL1",{"$f":"'UEC Development'!D15","v":14504.254149433773},null,"DOE 2012 Standard"]
[null,null,"EL2",{"$f":"'UEC Development'!D16","v":14246.114180933646},2012,"DOE 2014 Final Rule Baseline"]
[null,null,"EL3",{"$f":"'UEC Development'!D17","v":11564.011248374145},2017,"DOE 2014 Final Rule EL1"]
[null,null,"EL4",{"$f":"'UEC Development'!D18","v":11483.864535078837},null,"DOE 2014 Final Rule EL2"]
[null,null,"EL5",{"$f":"'UEC Development'!D19","v":10980.769516783677},null,"DOE 2014 Final Rule EL3"]
[null,null,"EL6",{"$f":"'UEC Development'!D20","v":10844.095967213381},null,"DOE 2014 Final Rule EL4"]
[null,null,"EL7",{"$f":"'UEC Development'!D21","v":10844.095967213381},null,"DOE 2014 Final Rule EL5"]
[null,null,"EL8",{"$f":"'UEC Development'!D22","v":10844.095967213381},null,"DOE 2014 Final Rule EL6"]
[null,null,"EL9",{"$f":"'UEC Development'!D23","v":10844.095967213381},null,"DOE 2014 Final Rule EL7"]
[]
[null,null,"Sources","1. Standards were effective in 2012 (10CFR431.66). Assumed 2012 standards were equivalent to baseline standard in 2014 Final Rule.\nIn the 2014 Final Rule, TSL 3 was the final selected TSL. (DOE Commercial Refrigeration Equipment 2014 Final Rule, Federal Register Notice, page 17810, \"Benefits and Burdens of Trial Standard Levels Considered for Commercial Refrigeration\" section, http://www.regulations.gov/#!documentDetail;D=EERE-2010-BT-STD-0003-0104)\nTSL Mapping used to determine EL for each product class at TSL 3. (DOE Commercial Refrigeration Equipment 2014 Final Rule, Technical Support Document: Final Rule National Impact Analysis Spreadsheet, 'TSL Mapping' tab, cells C7:AA7, http://www.regulations.gov/#!documentDetail;D=EERE-2010-BT-STD-0003-0101)"]
[]
[]
[]
[null,null,{"$f":"'Product Classes'!O11","v":"VOP.RC.L"}]
[]
[null,null," Model ELs",{"$f":"$D$11","v":"Energy Level (kWh/year)"},"Compliance Year1","Model Efficiency Levels"]
[null,null,"EL0",{"$f":"'UEC Development'!D37","v":40637.038977007309},null,"Pre DOE 2012 Standard"]
[null,null,"EL1",{"$f":"'UEC Development'!D38","v":32971.895534969815},null,"DOE 2012 Standard"]
[null,null,"EL2",{"$f":"'UEC Development'!D39","v":32119.883357774619},2012,"DOE 2014 Final Rule Baseline"]
[null,null,"EL3",{"$f":"'UEC Development'!D40","v":31917.738514508419},2017,"DOE 2014 Final Rule EL1"]
[null,null,"EL4",{"$f":"'UEC Development'!D41","v":30931.202020113829},null,"DOE 2014 Final Rule EL2"]
[null,null,"EL5",{"$f":"'UEC Development'!D42","v":30418.541122189981},null,"DOE 2014 Final Rule EL3"]
[null,null,"EL6",{"$f":"'UEC Development'!D43","v":30418.541122189981},null,"DOE 2014 Final Rule EL4"]
[null,null,"EL7",{"$f":"'UEC Development'!D44","v":30418.541122189981},null,"DOE 2014 Final Rule EL5"]
[null,null,"EL8",{"$f":"'UEC Development'!D45","v":30418.541122189981},null,"DOE 2014 Final Rule EL6"]
[null,null,"EL9",{"$f":"'UEC Development'!D46","v":30418.541122189981},null,"DOE 2014 Final Rule EL7"]
[]
[null,null,"Sources","1. Standards were effective in 2012 (10CFR431.66). Assumed 2012 standards were equivalent to baseline standard in 2014 Final Rule.\nIn the 2014 Final Rule, TSL 3 was the final selected TSL. (DOE Commercial Refrigeration Equipment 2014 Final Rule, Federal Register Notice, page 17810, \"Benefits and Burdens of Trial Standard Levels Considered for Commercial Refrigeration\" section, http://www.regulations.gov/#!documentDetail;D=EERE-2010-BT-STD-0003-0104)\nTSL Mapping used to determine EL for each product class at TSL 3. (DOE Commercial Refrigeration Equipment 2014 Final Rule, Technical Support Document: Final Rule National Impact Analysis Spreadsheet, 'TSL Mapping' tab, cells C7:AA7, http://www.regulations.gov/#!documentDetail;D=EERE-2010-BT-STD-0003-0101)"]
[]
[]
[]
[null,null,{"$f":"'Product Classes'!O12","v":"SVO.RC.M"}]
[]
[null,null," Model ELs",{"$f":"$D$11","v":"Energy Level (kWh/year)"},"Compliance Year1","Model Efficiency Levels"]
[null,null,"EL0",{"$f":"'UEC Development'!D60","v":13250.861748327305},null,"Pre DOE 2012 Standard"]
[null,null,"EL1",{"$f":"'UEC Development'!D61","v":11053.500712296438},null,"DOE 2012 Standard"]
[null,null,"EL2",{"$f":"'UEC Development'!D62","v":10869.843864600532},2012,"DOE 2014 Final Rule Baseline"]
[null,null,"EL3",{"$f":"'UEC Development'!D63","v":8956.6213834211158},2017,"DOE 2014 Final Rule EL1"]
[null,null,"EL4",{"$f":"'UEC Development'!D64","v":8563.6347121253202},null,"DOE 2014 Final Rule EL2"]
[null,null,"EL5",{"$f":"'UEC Development'!D65","v":8521.6565762380178},null,"DOE 2014 Final Rule EL3"]
[null,null,"EL6",{"$f":"'UEC Development'!D66","v":8426.0030251647804},null,"DOE 2014 Final Rule EL4"]
[null,null,"EL7",{"$f":"'UEC Development'!D67","v":8426.0030251647804},null,"DOE 2014 Final Rule EL5"]
[null,null,"EL8",{"$f":"'UEC Development'!D68","v":8426.0030251647804},null,"DOE 2014 Final Rule EL6"]
[null,null,"EL9",{"$f":"'UEC Development'!D69","v":8426.0030251647804},null,"DOE 2014 Final Rule EL7"]
[]
[null,null,"Sources","1. Standards were effective in 2012 (10CFR431.66). Assumed 2012 standards were equivalent to baseline standard in 2014 Final Rule.\nIn the 2014 Final Rule, TSL 3 was the final selected TSL. (DOE Commercial Refrigeration Equipment 2014 Final Rule, Federal Register Notice, page 17810, \"Benefits and Burdens of Trial Standard Levels Considered for Commercial Refrigeration\" section, http://www.regulations.gov/#!documentDetail;D=EERE-2010-BT-STD-0003-0104)\nTSL Mapping used to determine EL for each product class at TSL 3. (DOE Commercial Refrigeration Equipment 2014 Final Rule, Technical Support Document: Final Rule National Impact Analysis Spreadsheet, 'TSL Mapping' tab, cells C7:AA7, http://www.regulations.gov/#!documentDetail;D=EERE-2010-BT-STD-0003-0101)"]
[]
[]
[]
[null,null,{"$f":"'Product Classes'!O13","v":"HZO.RC.M"}]
[]
[null,null," Model ELs",{"$f":"$D$11","v":"Energy Level (kWh/year)"},"Compliance Year1","Model Efficiency Levels"]
[null,null,"EL0",{"$f":"'UEC Development'!D83","v":5971.2719297502008},null,"Pre DOE 2012 Standard"]
[null,null,"EL1",{"$f":"'UEC Development'!D84","v":4421.8445823529328},null,"DOE 2012 Standard"]
[null,null,"EL2",{"$f":"'UEC Development'!D85","v":4401.4094242833489},"2012, 2017","DOE 2014 Final Rule Baseline"]
[null,null,"EL3",{"$f":"'UEC Development'!D86","v":4303.8469385107355},null,"DOE 2014 Final Rule EL1"]
[null,null,"EL4",{"$f":"'UEC Development'!D87","v":4303.8469385107355},null,"DOE 2014 Final Rule EL2"]
[null,null,"EL5",{"$f":"'UEC Development'!D88","v":4303.8469385107355},null,"DOE 2014 Final Rule EL3"]
[null,null,"EL6",{"$f":"'UEC Development'!D89","v":4303.8469385107355},null,"DOE 2014 Final Rule EL4"]
[null,null,"EL7",{"$f":"'UEC Development'!D90","v":4303.8469385107355},null,"DOE 2014 Final Rule EL5"]
[null,null,"EL8",{"$f":"'UEC Development'!D91","v":4303.8469385107355},null,"DOE 2014 Final Rule EL6"]
[null,null,"EL9",{"$f":"'UEC Development'!D92","v":4303.8469385107355},null,"DOE 2014 Final Rule EL7"]
[]
[null,null,"Sources","1. Standards were effective in 2012 (10CFR431.66). Assumed 2012 standards were equivalent to baseline standard in 2014 Final Rule.\nIn the 2014 Final Rule, TSL 3 was the final selected TSL. (DOE Commercial Refrigeration Equipment 2014 Final Rule, Federal Register Notice, page 17810, \"Benefits and Burdens of Trial Standard Levels Considered for Commercial Refrigeration\" section, http://www.regulations.gov/#!documentDetail;D=EERE-2010-BT-STD-0003-0104)\nTSL Mapping used to determine EL for each product class at TSL 3. (DOE Commercial Refrigeration Equipment 2014 Final Rule, Technical Support Document: Final Rule National Impact Analysis Spreadsheet, 'TSL Mapping' tab, cells C7:AA7, http://www.regulations.gov/#!documentDetail;D=EERE-2010-BT-STD-0003-0101)"]
[]
[]
[]
[null,null,{"$f":"'Product Classes'!O14","v":"HZO.RC.L"}]
[]
[null,null," Model ELs",{"$f":"$D$11","v":"Energy Level (kWh/year)"},"Compliance Year1","Model Efficiency Levels"]
[null,null,"EL0",{"$f":"'UEC Development'!D106","v":11673.202446776269},null,"Pre DOE 2012 Standard"]
[null,null,"EL1",{"$f":"'UEC Development'!D107","v":10027.135779006545},null,"DOE 2012 Standard"]
[null,null,"EL2",{"$f":"'UEC Development'!D108","v":9843.058770360436},"2012, 2017","DOE 2014 Final Rule Baseline"]
[null,null,"EL3",{"$f":"'UEC Development'!D109","v":9453.0387687193052},null,"DOE 2014 Final Rule EL1"]
[null,null,"EL4",{"$f":"'UEC Development'!D110","v":9453.0387687193052},null,"DOE 2014 Final Rule EL2"]
[null,null,"EL5",{"$f":"'UEC Development'!D111","v":9453.0387687193052},null,"DOE 2014 Final Rule EL3"]
[null,null,"EL6",{"$f":"'UEC Development'!D112","v":9453.0387687193052},null,"DOE 2014 Final Rule EL4"]
[null,null,"EL7",{"$f":"'UEC Development'!D113","v":9453.0387687193052},null,"DOE 2014 Final Rule EL5"]
[null,null,"EL8",{"$f":"'UEC Development'!D114","v":9453.0387687193052},null,"DOE 2014 Final Rule EL6"]
[null,null,"EL9",{"$f":"'UEC Development'!D115","v":9453.0387687193052},null,"DOE 2014 Final Rule EL7"]
[]
[null,null,"Sources","1. Standards were effective in 2012 (10CFR431.66). Assumed 2012 standards were equivalent to baseline standard in 2014 Final Rule.\nIn the 2014 Final Rule, TSL 3 was the final selected TSL. (DOE Commercial Refrigeration Equipment 2014 Final Rule, Federal Register Notice, page 17810, \"Benefits and Burdens of Trial Standard Levels Considered for Commercial Refrigeration\" section, http://www.regulations.gov/#!documentDetail;D=EERE-2010-BT-STD-0003-0104)\nTSL Mapping used to determine EL for each product class at TSL 3. (DOE Commercial Refrigeration Equipment 2014 Final Rule, Technical Support Document: Final Rule National Impact Analysis Spreadsheet, 'TSL Mapping' tab, cells C7:AA7, http://www.regulations.gov/#!documentDetail;D=EERE-2010-BT-STD-0003-0101)"]
[]
[]
[]
[null,null,{"$f":"'Product Classes'!O15","v":"VCT.RC.M"}]
[]
[null,null," Model ELs",{"$f":"$D$11","v":"Energy Level (kWh/year)"},"Compliance Year1","Model Efficiency Levels"]
[null,null,"EL0",{"$f":"'UEC Development'!D129","v":9518.1254644031924},null,"Pre DOE 2012 Standard"]
[null,null,"EL1",{"$f":"'UEC Development'!D130","v":4639.6918921596662},null,"DOE 2012 Standard"]
[null,null,"EL2",{"$f":"'UEC Development'!D131","v":3914.0214718291718},2012,"DOE 2014 Final Rule Baseline"]
[null,null,"EL3",{"$f":"'UEC Development'!D132","v":3384.8152665927582},2017,"DOE 2014 Final Rule EL1"]
[null,null,"EL4",{"$f":"'UEC Development'!D133","v":3313.4012400708934},null,"DOE 2014 Final Rule EL2"]
[null,null,"EL5",{"$f":"'UEC Development'!D134","v":3294.3115430062649},null,"DOE 2014 Final Rule EL3"]
[null,null,"EL6",{"$f":"'UEC Development'!D135","v":3151.847562194539},null,"DOE 2014 Final Rule EL4"]
[null,null,"EL7",{"$f":"'UEC Development'!D136","v":3151.847562194539},null,"DOE 2014 Final Rule EL5"]
[null,null,"EL8",{"$f":"'UEC Development'!D137","v":3151.847562194539},null,"DOE 2014 Final Rule EL6"]
[null,null,"EL9",{"$f":"'UEC Development'!D138","v":3151.847562194539},null,"DOE 2014 Final Rule EL7"]
[]
[null,null,"Sources","1. Standards were effective in 2012 (10CFR431.66). Assumed 2012 standards were equivalent to baseline standard in 2014 Final Rule.\nIn the 2014 Final Rule, TSL 3 was the final selected TSL. (DOE Commercial Refrigeration Equipment 2014 Final Rule, Federal Register Notice, page 17810, \"Benefits and Burdens of Trial Standard Levels Considered for Commercial Refrigeration\" section, http://www.regulations.gov/#!documentDetail;D=EERE-2010-BT-STD-0003-0104)\nTSL Mapping used to determine EL for each product class at TSL 3. (DOE Commercial Refrigeration Equipment 2014 Final Rule, Technical Support Document: Final Rule National Impact Analysis Spreadsheet, 'TSL Mapping' tab, cells C7:AA7, http://www.regulations.gov/#!documentDetail;D=EERE-2010-BT-STD-0003-0101)"]
[]
[]
[]
[null,null,{"$f":"'Product Classes'!O16","v":"VCT.RC.L"}]
[]
[null,null," Model ELs",{"$f":"$D$11","v":"Energy Level (kWh/year)"},"Compliance Year1","Model Efficiency Levels"]
[null,null,"EL0",{"$f":"'UEC Development'!D152","v":19856.601246927599},null,"Pre DOE 2012 Standard"]
[null,null,"EL1",{"$f":"'UEC Development'!D153","v":11226.414151543921},null,"DOE 2012 Standard"]
[null,null,"EL2",{"$f":"'UEC Development'!D154","v":10741.162304227797},2012,"DOE 2014 Final Rule Baseline"]
[null,null,"EL3",{"$f":"'UEC Development'!D155","v":10124.07000909045},null,"DOE 2014 Final Rule EL1"]
[null,null,"EL4",{"$f":"'UEC Development'!D156","v":9964.0799754321106},2017,"DOE 2014 Final Rule EL2"]
[null,null,"EL5",{"$f":"'UEC Development'!D157","v":9884.8878075916582},null,"DOE 2014 Final Rule EL3"]
[null,null,"EL6",{"$f":"'UEC Development'!D158","v":9467.0870661056888},null,"DOE 2014 Final Rule EL4"]
[null,null,"EL7",{"$f":"'UEC Development'!D159","v":9467.0870661056888},null,"DOE 2014 Final Rule EL5"]
[null,null,"EL8",{"$f":"'UEC Development'!D160","v":9467.0870661056888},null,"DOE 2014 Final Rule EL6"]
[null,null,"EL9",{"$f":"'UEC Development'!D161","v":9467.0870661056888},null,"DOE 2014 Final Rule EL7"]
[]
[null,null,"Sources","1. Standards were effective in 2012 (10CFR431.66). Assumed 2012 standards were equivalent to baseline standard in 2014 Final Rule.\nIn the 2014 Final Rule, TSL 3 was the final selected TSL. (DOE Commercial Refrigeration Equipment 2014 Final Rule, Federal Register Notice, page 17810, \"Benefits and Burdens of Trial Standard Levels Considered for Commercial Refrigeration\" section, http://www.regulations.gov/#!documentDetail;D=EERE-2010-BT-STD-0003-0104)\nTSL Mapping used to determine EL for each product class at TSL 3. (DOE Commercial Refrigeration Equipment 2014 Final Rule, Technical Support Document: Final Rule National Impact Analysis Spreadsheet, 'TSL Mapping' tab, cells C7:AA7, http://www.regulations.gov/#!documentDetail;D=EERE-2010-BT-STD-0003-0101)"]
[]
[]
[]
[null,null,{"$f":"'Product Classes'!O17","v":"SOC.RC.M"}]
[]
[null,null," Model ELs",{"$f":"$D$11","v":"Energy Level (kWh/year)"},"Compliance Year1","Model Efficiency Levels"]
[null,null,"EL0",{"$f":"'UEC Development'!D175","v":7713.0128218027394},null,"Pre DOE 2012 Standard"]
[null,null,"EL1",{"$f":"'UEC Development'!D176","v":6384.8382741657942},null,"DOE 2012 Standard"]
[null,null,"EL2",{"$f":"'UEC Development'!D177","v":5533.4502954447016},"2012, 2017","DOE 2014 Final Rule Baseline"]
[null,null,"EL3",{"$f":"'UEC Development'!D178","v":5429.3056288649132},null,"DOE 2014 Final Rule EL1"]
[null,null,"EL4",{"$f":"'UEC Development'!D179","v":5333.2717209383054},null,"DOE 2014 Final Rule EL2"]
[null,null,"EL5",{"$f":"'UEC Development'!D180","v":5304.5274286278091},null,"DOE 2014 Final Rule EL3"]
[null,null,"EL6",{"$f":"'UEC Development'!D181","v":5246.2521280466344},null,"DOE 2014 Final Rule EL4"]
[null,null,"EL7",{"$f":"'UEC Development'!D182","v":5246.2521280466344},null,"DOE 2014 Final Rule EL5"]
[null,null,"EL8",{"$f":"'UEC Development'!D183","v":5246.2521280466344},null,"DOE 2014 Final Rule EL6"]
[null,null,"EL9",{"$f":"'UEC Development'!D184","v":5246.2521280466344},null,"DOE 2014 Final Rule EL7"]
[]
[null,null,"Sources","1. Standards were effective in 2012 (10CFR431.66). Assumed 2012 standards were equivalent to baseline standard in 2014 Final Rule.\nIn the 2014 Final Rule, TSL 3 was the final selected TSL. (DOE Commercial Refrigeration Equipment 2014 Final Rule, Federal Register Notice, page 17810, \"Benefits and Burdens of Trial Standard Levels Considered for Commercial Refrigeration\" section, http://www.regulations.gov/#!documentDetail;D=EERE-2010-BT-STD-0003-0104)\nTSL Mapping used to determine EL for each product class at TSL 3. (DOE Commercial Refrigeration Equipment 2014 Final Rule, Technical Support Document: Final Rule National Impact Analysis Spreadsheet, 'TSL Mapping' tab, cells C7:AA7, http://www.regulations.gov/#!documentDetail;D=EERE-2010-BT-STD-0003-0101)"]
[]
[]
[]
[null,null,{"$f":"'Product Classes'!O18","v":"VOP.SC.M"}]
[]
[null,null," Model ELs",{"$f":"$D$11","v":"Energy Level (kWh/year)"},"Compliance Year1","Model Efficiency Levels"]
[null,null,"EL0",{"$f":"'UEC Development'!D198","v":14454.022892624265},null,"Pre DOE 2012 Standard"]
[null,null,"EL1",{"$f":"'UEC Development'!D199","v":11206.310920162394},null,"DOE 2012 Standard"]
[null,null,"EL2",{"$f":"'UEC Development'!D200","v":10952.589380589838},"2012, 2017","DOE 2014 Final Rule Baseline"]
[null,null,"EL3",{"$f":"'UEC Development'!D201","v":10917.332831134923},null,"DOE 2014 Final Rule EL1"]
[null,null,"EL4",{"$f":"'UEC Development'!D202","v":10845.610479854964},null,"DOE 2014 Final Rule EL2"]
[null,null,"EL5",{"$f":"'UEC Development'!D203","v":10845.610479854964},null,"DOE 2014 Final Rule EL3"]
[null,null,"EL6",{"$f":"'UEC Development'!D204","v":10845.610479854964},null,"DOE 2014 Final Rule EL4"]
[null,null,"EL7",{"$f":"'UEC Development'!D205","v":10845.610479854964},null,"DOE 2014 Final Rule EL5"]
[null,null,"EL8",{"$f":"'UEC Development'!D206","v":10845.610479854964},null,"DOE 2014 Final Rule EL6"]
[null,null,"EL9",{"$f":"'UEC Development'!D207","v":10845.610479854964},null,"DOE 2014 Final Rule EL7"]
[]
[null,null,"Sources","1. Standards were effective in 2012 (10CFR431.66). Assumed 2012 standards were equivalent to baseline standard in 2014 Final Rule.\nIn the 2014 Final Rule, TSL 3 was the final selected TSL. (DOE Commercial Refrigeration Equipment 2014 Final Rule, Federal Register Notice, page 17810, \"Benefits and Burdens of Trial Standard Levels Considered for Commercial Refrigeration\" section, http://www.regulations.gov/#!documentDetail;D=EERE-2010-BT-STD-0003-0104)\nTSL Mapping used to determine EL for each product class at TSL 3. (DOE Commercial Refrigeration Equipment 2014 Final Rule, Technical Support Document: Final Rule National Impact Analysis Spreadsheet, 'TSL Mapping' tab, cells C7:AA7, http://www.regulations.gov/#!documentDetail;D=EERE-2010-BT-STD-0003-0101)"]
[]
[]
[]
[null,null,{"$f":"'Product Classes'!O19","v":"SVO.SC.M"}]
[]
[null,null," Model ELs",{"$f":"$D$11","v":"Energy Level (kWh/year)"},"Compliance Year1","Model Efficiency Levels"]
[null,null,"EL0",{"$f":"'UEC Development'!D221","v":12084.083870898876},null,"Pre DOE 2012 Standard"]
[null,null,"EL1",{"$f":"'UEC Development'!D222","v":9758.4207623394686},null,"DOE 2012 Standard"]
[null,null,"EL2",{"$f":"'UEC Development'!D223","v":9607.7582997531936},"2012, 2017","DOE 2014 Final Rule Baseline"]
[null,null,"EL3",{"$f":"'UEC Development'!D224","v":9360.9102427395337},null,"DOE 2014 Final Rule EL1"]
[null,null,"EL4",{"$f":"'UEC Development'!D225","v":9331.2726889597543},null,"DOE 2014 Final Rule EL2"]
[null,null,"EL5",{"$f":"'UEC Development'!D226","v":9270.9305751342617},null,"DOE 2014 Final Rule EL3"]
[null,null,"EL6",{"$f":"'UEC Development'!D227","v":9270.9305751342617},null,"DOE 2014 Final Rule EL4"]
[null,null,"EL7",{"$f":"'UEC Development'!D228","v":9270.9305751342617},null,"DOE 2014 Final Rule EL5"]
[null,null,"EL8",{"$f":"'UEC Development'!D229","v":9270.9305751342617},null,"DOE 2014 Final Rule EL6"]
[null,null,"EL9",{"$f":"'UEC Development'!D230","v":9270.9305751342617},null,"DOE 2014 Final Rule EL7"]
[]
[null,null,"Sources","1. Standards were effective in 2012 (10CFR431.66). Assumed 2012 standards were equivalent to baseline standard in 2014 Final Rule.\nIn the 2014 Final Rule, TSL 3 was the final selected TSL. (DOE Commercial Refrigeration Equipment 2014 Final Rule, Federal Register Notice, page 17810, \"Benefits and Burdens of Trial Standard Levels Considered for Commercial Refrigeration\" section, http://www.regulations.gov/#!documentDetail;D=EERE-2010-BT-STD-0003-0104)\nTSL Mapping used to determine EL for each product class at TSL 3. (DOE Commercial Refrigeration Equipment 2014 Final Rule, Technical Support Document: Final Rule National Impact Analysis Spreadsheet, 'TSL Mapping' tab, cells C7:AA7, http://www.regulations.gov/#!documentDetail;D=EERE-2010-BT-STD-0003-0101)"]
[]
[]
[]
[null,null,{"$f":"'Product Classes'!O20","v":"HZO.SC.M"}]
[]
[null,null," Model ELs",{"$f":"$D$11","v":"Energy Level (kWh/year)"},"Compliance Year1","Model Efficiency Levels"]
[null,null,"EL0",{"$f":"'UEC Development'!D244","v":7019.9512085857659},null,"Pre DOE 2012 Standard"]
[null,null,"EL1",{"$f":"'UEC Development'!D245","v":5404.1248263439957},null,"DOE 2012 Standard"]
[null,null,"EL2",{"$f":"'UEC Development'!D246","v":5351.2387164569554},2012,"DOE 2014 Final Rule Baseline"]
[null,null,"EL3",{"$f":"'UEC Development'!D247","v":5167.5879226848601},2017,"DOE 2014 Final Rule EL1"]
[null,null,"EL4",{"$f":"'UEC Development'!D248","v":5118.1945879542964},null,"DOE 2014 Final Rule EL2"]
[null,null,"EL5",{"$f":"'UEC Development'!D249","v":5018.1892255729272},null,"DOE 2014 Final Rule EL3"]
[null,null,"EL6",{"$f":"'UEC Development'!D250","v":5018.1892255729272},null,"DOE 2014 Final Rule EL4"]
[null,null,"EL7",{"$f":"'UEC Development'!D251","v":5018.1892255729272},null,"DOE 2014 Final Rule EL5"]
[null,null,"EL8",{"$f":"'UEC Development'!D252","v":5018.1892255729272},null,"DOE 2014 Final Rule EL6"]
[null,null,"EL9",{"$f":"'UEC Development'!D253","v":5018.1892255729272},null,"DOE 2014 Final Rule EL7"]
[]
[null,null,"Sources","1. Standards were effective in 2012 (10CFR431.66). Assumed 2012 standards were equivalent to baseline standard in 2014 Final Rule.\nIn the 2014 Final Rule, TSL 3 was the final selected TSL. (DOE Commercial Refrigeration Equipment 2014 Final Rule, Federal Register Notice, page 17810, \"Benefits and Burdens of Trial Standard Levels Considered for Commercial Refrigeration\" section, http://www.regulations.gov/#!documentDetail;D=EERE-2010-BT-STD-0003-0104)\nTSL Mapping used to determine EL for each product class at TSL 3. (DOE Commercial Refrigeration Equipment 2014 Final Rule, Technical Support Document: Final Rule National Impact Analysis Spreadsheet, 'TSL Mapping' tab, cells C7:AA7, http://www.regulations.gov/#!documentDetail;D=EERE-2010-BT-STD-0003-0101)"]
[]
[]
[]
[null,null,{"$f":"'Product Classes'!O21","v":"HZO.SC.L"}]
[]
[null,null," Model ELs",{"$f":"$D$11","v":"Energy Level (kWh/year)"},"Compliance Year1","Model Efficiency Levels"]
[null,null,"EL0",{"$f":"'UEC Development'!D267","v":14120.170239781441},null,"Pre DOE 2012 Standard"]
[null,null,"EL1",{"$f":"'UEC Development'!D268","v":11000.713334323686},null,"DOE 2012 Standard"]
[null,null,"EL2",{"$f":"'UEC Development'!D269","v":10921.511808252375},"2012, 2017","DOE 2014 Final Rule Baseline"]
[null,null,"EL3",{"$f":"'UEC Development'!D270","v":10921.511808252375},null,"DOE 2014 Final Rule EL1"]
[null,null,"EL4",{"$f":"'UEC Development'!D271","v":10921.511808252375},null,"DOE 2014 Final Rule EL2"]
[null,null,"EL5",{"$f":"'UEC Development'!D272","v":10921.511808252375},null,"DOE 2014 Final Rule EL3"]
[null,null,"EL6",{"$f":"'UEC Development'!D273","v":10921.511808252375},null,"DOE 2014 Final Rule EL4"]
[null,null,"EL7",{"$f":"'UEC Development'!D274","v":10921.511808252375},null,"DOE 2014 Final Rule EL5"]
[null,null,"EL8",{"$f":"'UEC Development'!D275","v":10921.511808252375},null,"DOE 2014 Final Rule EL6"]
[null,null,"EL9",{"$f":"'UEC Development'!D276","v":10921.511808252375},null,"DOE 2014 Final Rule EL7"]
[]
[null,null,"Sources","1. Standards were effective in 2012 (10CFR431.66). Assumed 2012 standards were equivalent to baseline standard in 2014 Final Rule.\nIn the 2014 Final Rule, TSL 3 was the final selected TSL. (DOE Commercial Refrigeration Equipment 2014 Final Rule, Federal Register Notice, page 17810, \"Benefits and Burdens of Trial Standard Levels Considered for Commercial Refrigeration\" section, http://www.regulations.gov/#!documentDetail;D=EERE-2010-BT-STD-0003-0104)\nTSL Mapping used to determine EL for each product class at TSL 3. (DOE Commercial Refrigeration Equipment 2014 Final Rule, Technical Support Document: Final Rule National Impact Analysis Spreadsheet, 'TSL Mapping' tab, cells C7:AA7, http://www.regulations.gov/#!documentDetail;D=EERE-2010-BT-STD-0003-0101)"]
[]
[]
[]
[null,null,{"$f":"'Product Classes'!O22","v":"VCT.SC.M"}]
[]
[null,null," Model ELs",{"$f":"$D$11","v":"Energy Level (kWh/year)"},"Compliance Year1","Model Efficiency Levels"]
[null,null,"EL0",{"$f":"'UEC Development'!D290","v":2671.1398936170212},null,"Pre DOE 2010 Standard"]
[null,null,"EL1",{"$f":"'UEC Development'!D291","v":2462.4608510638295},null,"DOE 2010 Standard"]
[null,null,"EL2",{"$f":"'UEC Development'!D292","v":2267.10292249944},2010,"DOE 2014 Final Rule Baseline"]
[null,null,"EL3",{"$f":"'UEC Development'!D293","v":2214.4199868958599},null,"DOE 2014 Final Rule EL1"]
[null,null,"EL4",{"$f":"'UEC Development'!D294","v":1941.7634427974012},null,"DOE 2014 Final Rule EL2"]
[null,null,"EL5",{"$f":"'UEC Development'!D295","v":1828.5843631626533},2017,"DOE 2014 Final Rule EL3"]
[null,null,"EL6",{"$f":"'UEC Development'!D296","v":1812.526997651222},null,"DOE 2014 Final Rule EL4"]
[null,null,"EL7",{"$f":"'UEC Development'!D297","v":1769.3950328183007},null,"DOE 2014 Final Rule EL5"]
[null,null,"EL8",{"$f":"'UEC Development'!D298","v":1753.5900155604979},null,"DOE 2014 Final Rule EL6"]
[null,null,"EL9",{"$f":"'UEC Development'!D299","v":1670.3879565517334},null,"DOE 2014 Final Rule EL7"]
[]
[null,null,"Sources","1. Standards were effective in 2012 (10CFR431.66). Assumed 2012 standards were equivalent to baseline standard in 2014 Final Rule.\nIn the 2014 Final Rule, TSL 3 was the final selected TSL. (DOE Commercial Refrigeration Equipment 2014 Final Rule, Federal Register Notice, page 17810, \"Benefits and Burdens of Trial Standard Levels Considered for Commercial Refrigeration\" section, http://www.regulations.gov/#!documentDetail;D=EERE-2010-BT-STD-0003-0104)\nTSL Mapping used to determine EL for each product class at TSL 3. (DOE Commercial Refrigeration Equipment 2014 Final Rule, Technical Support Document: Final Rule National Impact Analysis Spreadsheet, 'TSL Mapping' tab, cells C7:AA7, http://www.regulations.gov/#!documentDetail;D=EERE-2010-BT-STD-0003-0101)"]
[]
[]
[]
[null,null,{"$f":"'Product Classes'!O23","v":"VCT.SC.L"}]
[]
[null,null," Model ELs",{"$f":"$D$11","v":"Energy Level (kWh/year)"},"Compliance Year1","Model Efficiency Levels"]
[null,null,"EL0",{"$f":"'UEC Development'!D311","v":10071.180477528089},null,"Pre DOE 2010 Standard"]
[null,null,"EL1",{"$f":"'UEC Development'!D312","v":8767.0231741573043},null,"DOE 2010 Standard"]
[null,null,"EL2",{"$f":"'UEC Development'!D313","v":9845.7366051404788},2010,"DOE 2014 Final Rule Baseline"]
[null,null,"EL3",{"$f":"'UEC Development'!D314","v":7795.1927161675903},null,"DOE 2014 Final Rule EL1"]
[null,null,"EL4",{"$f":"'UEC Development'!D315","v":5231.8876827438489},null,"DOE 2014 Final Rule EL2"]
[null,null,"EL5",{"$f":"'UEC Development'!D316","v":5175.5261627071495},null,"DOE 2014 Final Rule EL3"]
[null,null,"EL6",{"$f":"'UEC Development'!D317","v":4913.9842807673313},null,"DOE 2014 Final Rule EL4"]
[null,null,"EL7",{"$f":"'UEC Development'!D318","v":4870.4104358462382},2017,"DOE 2014 Final Rule EL5"]
[null,null,"EL8",{"$f":"'UEC Development'!D319","v":4802.1633703801781},null,"DOE 2014 Final Rule EL6"]
[null,null,"EL9",{"$f":"'UEC Development'!D320","v":4555.7622823323791},null,"DOE 2014 Final Rule EL7"]
[]
[null,null,"Sources","1. Standards were effective in 2012 (10CFR431.66). Assumed 2012 standards were equivalent to baseline standard in 2014 Final Rule.\nIn the 2014 Final Rule, TSL 3 was the final selected TSL. (DOE Commercial Refrigeration Equipment 2014 Final Rule, Federal Register Notice, page 17810, \"Benefits and Burdens of Trial Standard Levels Considered for Commercial Refrigeration\" section, http://www.regulations.gov/#!documentDetail;D=EERE-2010-BT-STD-0003-0104)\nTSL Mapping used to determine EL for each product class at TSL 3. (DOE Commercial Refrigeration Equipment 2014 Final Rule, Technical Support Document: Final Rule National Impact Analysis Spreadsheet, 'TSL Mapping' tab, cells C7:AA7, http://www.regulations.gov/#!documentDetail;D=EERE-2010-BT-STD-0003-0101)"]
[]
[]
[]
[null,null,{"$f":"'Product Classes'!O24","v":"VCS.SC.M"}]
[]
[null,null," Model ELs",{"$f":"$D$11","v":"Energy Level (kWh/year)"},"Compliance Year1","Model Efficiency Levels"]
[null,null,"EL0",{"$f":"'UEC Development'!D332","v":2187.6807291666664},null,"Pre DOE 2010 Standard"]
[null,null,"EL1",{"$f":"'UEC Development'!D333","v":2187.6807291666664},null,"DOE 2010 Standard"]
[null,null,"EL2",{"$f":"'UEC Development'!D334","v":2047.4102582068092},2010,"DOE 2014 Final Rule Baseline"]
[null,null,"EL3",{"$f":"'UEC Development'!D335","v":1714.5936999617747},null,"DOE 2014 Final Rule EL1"]
[null,null,"EL4",{"$f":"'UEC Development'!D336","v":1306.0777224528661},null,"DOE 2014 Final Rule EL2"]
[null,null,"EL5",{"$f":"'UEC Development'!D337","v":1245.0404358787312},null,"DOE 2014 Final Rule EL3"]
[null,null,"EL6",{"$f":"'UEC Development'!D338","v":1196.4689517724762},2017,"DOE 2014 Final Rule EL4"]
[null,null,"EL7",{"$f":"'UEC Development'!D339","v":1128.2050203041058},null,"DOE 2014 Final Rule EL5"]
[null,null,"EL8",{"$f":"'UEC Development'!D340","v":1117.9113002232461},null,"DOE 2014 Final Rule EL6"]
[null,null,"EL9",{"$f":"'UEC Development'!D341","v":982.26658483455265},null,"DOE 2014 Final Rule EL7"]
[]
[null,null,"Sources","1. Standards were effective in 2012 (10CFR431.66). Assumed 2012 standards were equivalent to baseline standard in 2014 Final Rule.\nIn the 2014 Final Rule, TSL 3 was the final selected TSL. (DOE Commercial Refrigeration Equipment 2014 Final Rule, Federal Register Notice, page 17810, \"Benefits and Burdens of Trial Standard Levels Considered for Commercial Refrigeration\" section, http://www.regulations.gov/#!documentDetail;D=EERE-2010-BT-STD-0003-0104)\nTSL Mapping used to determine EL for each product class at TSL 3. (DOE Commercial Refrigeration Equipment 2014 Final Rule, Technical Support Document: Final Rule National Impact Analysis Spreadsheet, 'TSL Mapping' tab, cells C7:AA7, http://www.regulations.gov/#!documentDetail;D=EERE-2010-BT-STD-0003-0101)"]
[]
[]
[]
[null,null,{"$f":"'Product Classes'!O25","v":"VCS.SC.L"}]
[]
[null,null," Model ELs",{"$f":"$D$11","v":"Energy Level (kWh/year)"},"Compliance Year1","Model Efficiency Levels"]
[null,null,"EL0",{"$f":"'UEC Development'!D353","v":5076.8629213483146},null,"Pre DOE 2010 Standard"]
[null,null,"EL1",{"$f":"'UEC Development'!D354","v":4514.5168539325841},null,"DOE 2010 Standard"]
[null,null,"EL2",{"$f":"'UEC Development'!D355","v":4676.7709088947258},2010,"DOE 2014 Final Rule Baseline"]
[null,null,"EL3",{"$f":"'UEC Development'!D356","v":3957.3111035900674},null,"DOE 2014 Final Rule EL1"]
[null,null,"EL4",{"$f":"'UEC Development'!D357","v":3746.4847774041068},null,"DOE 2014 Final Rule EL2"]
[null,null,"EL5",{"$f":"'UEC Development'!D358","v":3672.5914739641321},null,"DOE 2014 Final Rule EL3"]
[null,null,"EL6",{"$f":"'UEC Development'!D359","v":3556.6719455081648},null,"DOE 2014 Final Rule EL4"]
[null,null,"EL7",{"$f":"'UEC Development'!D360","v":3459.7024993368959},2017,"DOE 2014 Final Rule EL5"]
[null,null,"EL8",{"$f":"'UEC Development'!D361","v":3429.84595821945},null,"DOE 2014 Final Rule EL6"]
[null,null,"EL9",{"$f":"'UEC Development'!D362","v":3159.6937649497081},null,"DOE 2014 Final Rule EL7"]
[]
[null,null,"Sources","1. Standards were effective in 2012 (10CFR431.66). Assumed 2012 standards were equivalent to baseline standard in 2014 Final Rule.\nIn the 2014 Final Rule, TSL 3 was the final selected TSL. (DOE Commercial Refrigeration Equipment 2014 Final Rule, Federal Register Notice, page 17810, \"Benefits and Burdens of Trial Standard Levels Considered for Commercial Refrigeration\" section, http://www.regulations.gov/#!documentDetail;D=EERE-2010-BT-STD-0003-0104)\nTSL Mapping used to determine EL for each product class at TSL 3. (DOE Commercial Refrigeration Equipment 2014 Final Rule, Technical Support Document: Final Rule National Impact Analysis Spreadsheet, 'TSL Mapping' tab, cells C7:AA7, http://www.regulations.gov/#!documentDetail;D=EERE-2010-BT-STD-0003-0101)"]
[]
[]
[]
[null,null,{"$f":"'Product Classes'!O26","v":"HCT.SC.M"}]
[]
[null,null," Model ELs",{"$f":"$D$11","v":"Energy Level (kWh/year)"},"Compliance Year1","Model Efficiency Levels"]
[null,null,"EL0",{"$f":"'UEC Development'!D374","v":2671.1398936170212},null,"Pre DOE 2010 Standard"]
[null,null,"EL1",{"$f":"'UEC Development'!D375","v":2462.4608510638295},null,"DOE 2010 Standard"]
[null,null,"EL2",{"$f":"'UEC Development'!D376","v":538.36148580820395},2010,"DOE 2014 Final Rule Baseline"]
[null,null,"EL3",{"$f":"'UEC Development'!D377","v":502.83083463217827},null,"DOE 2014 Final Rule EL1"]
[null,null,"EL4",{"$f":"'UEC Development'!D378","v":465.42461592674266},null,"DOE 2014 Final Rule EL2"]
[null,null,"EL5",{"$f":"'UEC Development'!D379","v":283.88118294089406},null,"DOE 2014 Final Rule EL3"]
[null,null,"EL6",{"$f":"'UEC Development'!D380","v":258.44877648964558},2017,"DOE 2014 Final Rule EL4"]
[null,null,"EL7",{"$f":"'UEC Development'!D381","v":253.67847111503443},null,"DOE 2014 Final Rule EL5"]
[null,null,"EL8",{"$f":"'UEC Development'!D382","v":228.45041548380132},null,"DOE 2014 Final Rule EL6"]
[null,null,"EL9",{"$f":"'UEC Development'!D383","v":176.9461916439472},null,"DOE 2014 Final Rule EL7"]
[]
[null,null,"Sources","1. Standards were effective in 2012 (10CFR431.66). Assumed 2012 standards were equivalent to baseline standard in 2014 Final Rule.\nIn the 2014 Final Rule, TSL 3 was the final selected TSL. (DOE Commercial Refrigeration Equipment 2014 Final Rule, Federal Register Notice, page 17810, \"Benefits and Burdens of Trial Standard Levels Considered for Commercial Refrigeration\" section, http://www.regulations.gov/#!documentDetail;D=EERE-2010-BT-STD-0003-0104)\nTSL Mapping used to determine EL for each product class at TSL 3. (DOE Commercial Refrigeration Equipment 2014 Final Rule, Technical Support Document: Final Rule National Impact Analysis Spreadsheet, 'TSL Mapping' tab, cells C7:AA7, http://www.regulations.gov/#!documentDetail;D=EERE-2010-BT-STD-0003-0101)"]
[]
[]
[]
[null,null,{"$f":"'Product Classes'!O27","v":"HCT.SC.L"}]
[]
[null,null," Model ELs",{"$f":"$D$11","v":"Energy Level (kWh/year)"},"Compliance Year1","Model Efficiency Levels"]
[null,null,"EL0",{"$f":"'UEC Development'!D395","v":10071.180477528089},null,"Pre DOE 2010 Standard"]
[null,null,"EL1",{"$f":"'UEC Development'!D396","v":8767.0231741573043},null,"DOE 2010 Standard"]
[null,null,"EL2",{"$f":"'UEC Development'!D397","v":1177.3347067098357},2010,"DOE 2014 Final Rule Baseline"]
[null,null,"EL3",{"$f":"'UEC Development'!D398","v":647.15261291681327},null,"DOE 2014 Final Rule EL1"]
[null,null,"EL4",{"$f":"'UEC Development'!D399","v":619.89377591213793},null,"DOE 2014 Final Rule EL2"]
[null,null,"EL5",{"$f":"'UEC Development'!D400","v":585.93495540126287},2017,"DOE 2014 Final Rule EL3"]
[null,null,"EL6",{"$f":"'UEC Development'!D401","v":553.19034694746915},null,"DOE 2014 Final Rule EL4"]
[null,null,"EL7",{"$f":"'UEC Development'!D402","v":542.63528346322255},null,"DOE 2014 Final Rule EL5"]
[null,null,"EL8",{"$f":"'UEC Development'!D403","v":499.32753956950955},null,"DOE 2014 Final Rule EL6"]
[null,null,"EL9",{"$f":"'UEC Development'!D404","v":378.96740156332174},null,"DOE 2014 Final Rule EL7"]
[]
[null,null,"Sources","1. Standards were effective in 2012 (10CFR431.66). Assumed 2012 standards were equivalent to baseline standard in 2014 Final Rule.\nIn the 2014 Final Rule, TSL 3 was the final selected TSL. (DOE Commercial Refrigeration Equipment 2014 Final Rule, Federal Register Notice, page 17810, \"Benefits and Burdens of Trial Standard Levels Considered for Commercial Refrigeration\" section, http://www.regulations.gov/#!documentDetail;D=EERE-2010-BT-STD-0003-0104)\nTSL Mapping used to determine EL for each product class at TSL 3. (DOE Commercial Refrigeration Equipment 2014 Final Rule, Technical Support Document: Final Rule National Impact Analysis Spreadsheet, 'TSL Mapping' tab, cells C7:AA7, http://www.regulations.gov/#!documentDetail;D=EERE-2010-BT-STD-0003-0101)"]
[]
[]
[]
[null,null,{"$f":"'Product Classes'!O28","v":"HCS.SC.M"}]
[]
[null,null," Model ELs",{"$f":"$D$11","v":"Energy Level (kWh/year)"},"Compliance Year1","Model Efficiency Levels"]
[null,null,"EL0",{"$f":"'UEC Development'!D416","v":2187.6807291666664},null,"Pre DOE 2010 Standard"]
[null,null,"EL1",{"$f":"'UEC Development'!D417","v":2187.6807291666664},null,"DOE 2010 Standard"]
[null,null,"EL2",{"$f":"'UEC Development'!D418","v":518.67305965786079},2010,"DOE 2014 Final Rule Baseline"]
[null,null,"EL3",{"$f":"'UEC Development'!D419","v":492.88166343094434},null,"DOE 2014 Final Rule EL1"]
[null,null,"EL4",{"$f":"'UEC Development'!D420","v":471.00926419262817},null,"DOE 2014 Final Rule EL2"]
[null,null,"EL5",{"$f":"'UEC Development'!D421","v":443.76082069708286},2017,"DOE 2014 Final Rule EL3"]
[null,null,"EL6",{"$f":"'UEC Development'!D422","v":438.64988490318717},null,"DOE 2014 Final Rule EL4"]
[null,null,"EL7",{"$f":"'UEC Development'!D423","v":406.504554549734},null,"DOE 2014 Final Rule EL5"]
[null,null,"EL8",{"$f":"'UEC Development'!D424","v":340.87839952094117},null,"DOE 2014 Final Rule EL6"]
[null,null,"EL9",{"$f":"'UEC Development'!D425","v":340.87839952094117},null,"DOE 2014 Final Rule EL7"]
[]
[null,null,"Sources","1. Standards were effective in 2012 (10CFR431.66). Assumed 2012 standards were equivalent to baseline standard in 2014 Final Rule.\nIn the 2014 Final Rule, TSL 3 was the final selected TSL. (DOE Commercial Refrigeration Equipment 2014 Final Rule, Federal Register Notice, page 17810, \"Benefits and Burdens of Trial Standard Levels Considered for Commercial Refrigeration\" section, http://www.regulations.gov/#!documentDetail;D=EERE-2010-BT-STD-0003-0104)\nTSL Mapping used to determine EL for each product class at TSL 3. (DOE Commercial Refrigeration Equipment 2014 Final Rule, Technical Support Document: Final Rule National Impact Analysis Spreadsheet, 'TSL Mapping' tab, cells C7:AA7, http://www.regulations.gov/#!documentDetail;D=EERE-2010-BT-STD-0003-0101)"]
[]
[]
[]
[null,null,{"$f":"'Product Classes'!O29","v":"HCS.SC.L"}]
[]
[null,null," Model ELs",{"$f":"$D$11","v":"Energy Level (kWh/year)"},"Compliance Year1","Model Efficiency Levels"]
[null,null,"EL0",{"$f":"'UEC Development'!D437","v":5076.8629213483146},null,"Pre DOE 2010 Standard"]
[null,null,"EL1",{"$f":"'UEC Development'!D438","v":4514.5168539325841},null,"DOE 2010 Standard"]
[null,null,"EL2",{"$f":"'UEC Development'!D439","v":838.32342634208305},2010,"DOE 2014 Final Rule Baseline"]
[null,null,"EL3",{"$f":"'UEC Development'!D440","v":773.62457103579368},null,"DOE 2014 Final Rule EL1"]
[null,null,"EL4",{"$f":"'UEC Development'!D441","v":724.9915497690273},null,"DOE 2014 Final Rule EL2"]
[null,null,"EL5",{"$f":"'UEC Development'!D442","v":664.40495761851025},2017,"DOE 2014 Final Rule EL3"]
[null,null,"EL6",{"$f":"'UEC Development'!D443","v":652.06659423498593},null,"DOE 2014 Final Rule EL4"]
[null,null,"EL7",{"$f":"'UEC Development'!D444","v":561.45559653886369},null,"DOE 2014 Final Rule EL5"]
[null,null,"EL8",{"$f":"'UEC Development'!D445","v":309.63106801229503},null,"DOE 2014 Final Rule EL6"]
[null,null,"EL9",{"$f":"'UEC Development'!D446","v":309.63106801229503},null,"DOE 2014 Final Rule EL7"]
[]
[null,null,"Sources","1. Standards were effective in 2012 (10CFR431.66). Assumed 2012 standards were equivalent to baseline standard in 2014 Final Rule.\nIn the 2014 Final Rule, TSL 3 was the final selected TSL. (DOE Commercial Refrigeration Equipment 2014 Final Rule, Federal Register Notice, page 17810, \"Benefits and Burdens of Trial Standard Levels Considered for Commercial Refrigeration\" section, http://www.regulations.gov/#!documentDetail;D=EERE-2010-BT-STD-0003-0104)\nTSL Mapping used to determine EL for each product class at TSL 3. (DOE Commercial Refrigeration Equipment 2014 Final Rule, Technical Support Document: Final Rule National Impact Analysis Spreadsheet, 'TSL Mapping' tab, cells C7:AA7, http://www.regulations.gov/#!documentDetail;D=EERE-2010-BT-STD-0003-0101)"]
[]
[]
[]
[null,null,{"$f":"'Product Classes'!O30","v":"SOC.SC.M"}]
[]
[null,null," Model ELs",{"$f":"$D$11","v":"Energy Level (kWh/year)"},"Compliance Year1","Model Efficiency Levels"]
[null,null,"EL0",{"$f":"'UEC Development'!D458","v":4216.2530053915279},"2010, 2017","DOE 2014 Final Rule Baseline"]
[null,null,"EL1",{"$f":"'UEC Development'!D459","v":4131.9368836893555},null,"DOE 2014 Final Rule EL1"]
[null,null,"EL2",{"$f":"'UEC Development'!D460","v":4046.2514342193863},null,"DOE 2014 Final Rule EL2"]
[null,null,"EL3",{"$f":"'UEC Development'!D461","v":4021.8432293313417},null,"DOE 2014 Final Rule EL3"]
[null,null,"EL4",{"$f":"'UEC Development'!D462","v":3972.2760942985724},null,"DOE 2014 Final Rule EL4"]
[null,null,"EL5",{"$f":"'UEC Development'!D463","v":3972.2760942985724},null,"DOE 2014 Final Rule EL5"]
[null,null,"EL6",{"$f":"'UEC Development'!D464","v":3972.2760942985724},null,"DOE 2014 Final Rule EL6"]
[null,null,"EL7",{"$f":"'UEC Development'!D465","v":3972.2760942985724},null,"DOE 2014 Final Rule EL7"]
[]
[null,null,"Sources","1. Standards were effective in 2012 (10CFR431.66). Assumed 2012 standards were equivalent to baseline standard in 2014 Final Rule.\nIn the 2014 Final Rule, TSL 3 was the final selected TSL. (DOE Commercial Refrigeration Equipment 2014 Final Rule, Federal Register Notice, page 17810, \"Benefits and Burdens of Trial Standard Levels Considered for Commercial Refrigeration\" section, http://www.regulations.gov/#!documentDetail;D=EERE-2010-BT-STD-0003-0104)\nTSL Mapping used to determine EL for each product class at TSL 3. (DOE Commercial Refrigeration Equipment 2014 Final Rule, Technical Support Document: Final Rule National Impact Analysis Spreadsheet, 'TSL Mapping' tab, cells C7:AA7, http://www.regulations.gov/#!documentDetail;D=EERE-2010-BT-STD-0003-0101)"]
[]
[]
[]
[null,null,{"$f":"'Product Classes'!O31","v":"PD.SC.M"}]
[]
[null,null," Model ELs",{"$f":"$D$11","v":"Energy Level (kWh/year)"},"Compliance Year1","Model Efficiency Levels"]
[null,null,"EL0",{"$f":"'UEC Development'!D477","v":1829.3732715950177},2010,"DOE 2014 Final Rule Baseline"]
[null,null,"EL1",{"$f":"'UEC Development'!D478","v":1725.9076555467275},null,"DOE 2014 Final Rule EL1"]
[null,null,"EL2",{"$f":"'UEC Development'!D479","v":1421.7945862185049},null,"DOE 2014 Final Rule EL2"]
[null,null,"EL3",{"$f":"'UEC Development'!D480","v":1380.8992934696109},2017,"DOE 2014 Final Rule EL3"]
[null,null,"EL4",{"$f":"'UEC Development'!D481","v":1368.9068868745246},null,"DOE 2014 Final Rule EL4"]
[null,null,"EL5",{"$f":"'UEC Development'!D482","v":1329.25006990679},null,"DOE 2014 Final Rule EL5"]
[null,null,"EL6",{"$f":"'UEC Development'!D483","v":1319.9046294420773},null,"DOE 2014 Final Rule EL6"]
[null,null,"EL7",{"$f":"'UEC Development'!D484","v":1242.7882210130263},null,"DOE 2014 Final Rule EL7"]
[]
[null,null,"Sources","1. Standards were effective in 2012 (10CFR431.66). Assumed 2012 standards were equivalent to baseline standard in 2014 Final Rule.\nIn the 2014 Final Rule, TSL 3 was the final selected TSL. (DOE Commercial Refrigeration Equipment 2014 Final Rule, Federal Register Notice, page 17810, \"Benefits and Burdens of Trial Standard Levels Considered for Commercial Refrigeration\" section, http://www.regulations.gov/#!documentDetail;D=EERE-2010-BT-STD-0003-0104)\nTSL Mapping used to determine EL for each product class at TSL 3. (DOE Commercial Refrigeration Equipment 2014 Final Rule, Technical Support Document: Final Rule National Impact Analysis Spreadsheet, 'TSL Mapping' tab, cells C7:AA7, http://www.regulations.gov/#!documentDetail;D=EERE-2010-BT-STD-0003-0101)"]
[]
[]
[]
[null,null,{"$f":"'Product Classes'!O32","v":"VCT.SC.I"}]
[]
[null,null," Model ELs",{"$f":"$D$11","v":"Energy Level (kWh/year)"},"Compliance Year1","Model Efficiency Levels"]
[null,null,"EL0",{"$f":"'UEC Development'!D496","v":19365.62255542407},null,"Pre DOE 2012 Standard"]
[null,null,"EL1",{"$f":"'UEC Development'!D497","v":8831.4833683125999},null,"DOE 2012 Standard"]
[null,null,"EL2",{"$f":"'UEC Development'!D498","v":8370.8271603098256},2012,"DOE 2014 Final Rule Baseline"]
[null,null,"EL3",{"$f":"'UEC Development'!D499","v":8283.6085071187772},2017,"DOE 2014 Final Rule EL1"]
[null,null,"EL4",{"$f":"'UEC Development'!D500","v":8173.9547964023677},null,"DOE 2014 Final Rule EL2"]
[null,null,"EL5",{"$f":"'UEC Development'!D501","v":8042.2502851228865},null,"DOE 2014 Final Rule EL3"]
[null,null,"EL6",{"$f":"'UEC Development'!D502","v":7684.7033140997601},null,"DOE 2014 Final Rule EL4"]
[null,null,"EL7",{"$f":"'UEC Development'!D503","v":7684.7033140997601},null,"DOE 2014 Final Rule EL5"]
[null,null,"EL8",{"$f":"'UEC Development'!D504","v":7684.7033140997601},null,"DOE 2014 Final Rule EL6"]
[null,null,"EL9",{"$f":"'UEC Development'!D505","v":7684.7033140997601},null,"DOE 2014 Final Rule EL7"]
[]
[null,null,"Sources","1. Standards were effective in 2012 (10CFR431.66). Assumed 2012 standards were equivalent to baseline standard in 2014 Final Rule.\nIn the 2014 Final Rule, TSL 3 was the final selected TSL. (DOE Commercial Refrigeration Equipment 2014 Final Rule, Federal Register Notice, page 17810, \"Benefits and Burdens of Trial Standard Levels Considered for Commercial Refrigeration\" section, http://www.regulations.gov/#!documentDetail;D=EERE-2010-BT-STD-0003-0104)\nTSL Mapping used to determine EL for each product class at TSL 3. (DOE Commercial Refrigeration Equipment 2014 Final Rule, Technical Support Document: Final Rule National Impact Analysis Spreadsheet, 'TSL Mapping' tab, cells C7:AA7, http://www.regulations.gov/#!documentDetail;D=EERE-2010-BT-STD-0003-0101)"]
[]
[]
[]
[null,null,{"$f":"'Product Classes'!O33","v":"HCT.SC.I"}]
[]
[null,null," Model ELs",{"$f":"$D$11","v":"Energy Level (kWh/year)"},"Compliance Year1","Model Efficiency Levels"]
[null,null,"EL0",{"$f":"'UEC Development'!D519","v":2630.718549833713},null,"Pre DOE 2012 Standard"]
[null,null,"EL1",{"$f":"'UEC Development'!D520","v":1205.6429034205898},null,"DOE 2012 Standard"]
[null,null,"EL2",{"$f":"'UEC Development'!D521","v":1134.5938764973962},"2012, 2017","DOE 2014 Final Rule Baseline"]
[null,null,"EL3",{"$f":"'UEC Development'!D522","v":844.39891487086209},null,"DOE 2014 Final Rule EL1"]
[null,null,"EL4",{"$f":"'UEC Development'!D523","v":844.39891487086209},null,"DOE 2014 Final Rule EL2"]
[null,null,"EL5",{"$f":"'UEC Development'!D524","v":844.39891487086209},null,"DOE 2014 Final Rule EL3"]
[null,null,"EL6",{"$f":"'UEC Development'!D525","v":844.39891487086209},null,"DOE 2014 Final Rule EL4"]
[null,null,"EL7",{"$f":"'UEC Development'!D526","v":844.39891487086209},null,"DOE 2014 Final Rule EL5"]
[null,null,"EL8",{"$f":"'UEC Development'!D527","v":844.39891487086209},null,"DOE 2014 Final Rule EL6"]
[null,null,"EL9",{"$f":"'UEC Development'!D528","v":844.39891487086209},null,"DOE 2014 Final Rule EL7"]
[]
[null,null,"Sources","1. Standards were effective in 2012 (10CFR431.66). Assumed 2012 standards were equivalent to baseline standard in 2014 Final Rule.\nIn the 2014 Final Rule, TSL 3 was the final selected TSL. (DOE Commercial Refrigeration Equipment 2014 Final Rule, Federal Register Notice, page 17810, \"Benefits and Burdens of Trial Standard Levels Considered for Commercial Refrigeration\" section, http://www.regulations.gov/#!documentDetail;D=EERE-2010-BT-STD-0003-0104)\nTSL Mapping used to determine EL for each product class at TSL 3. (DOE Commercial Refrigeration Equipment 2014 Final Rule, Technical Support Document: Final Rule National Impact Analysis Spreadsheet, 'TSL Mapping' tab, cells C7:AA7, http://www.regulations.gov/#!documentDetail;D=EERE-2010-BT-STD-0003-0101)"]
[]
[]
[]
[null,null,{"$f":"'Product Classes'!O34","v":"VCS.SC.I"}]
[]
[null,null," Model ELs",{"$f":"$D$11","v":"Energy Level (kWh/year)"},"Compliance Year1","Model Efficiency Levels"]
[null,null,"EL0",{"$f":"'UEC Development'!D542","v":11516.411985621064},null,"Pre DOE 2012 Standard"]
[null,null,"EL1",{"$f":"'UEC Development'!D543","v":8093.8825392359813},null,"DOE 2012 Standard"]
[null,null,"EL2",{"$f":"'UEC Development'!D544","v":8039.9909301578564},2012,"DOE 2014 Final Rule Baseline"]
[null,null,"EL3",{"$f":"'UEC Development'!D545","v":7934.6265668102697},null,"DOE 2014 Final Rule EL1"]
[null,null,"EL4",{"$f":"'UEC Development'!D546","v":7643.6292534477598},null,"DOE 2014 Final Rule EL2"]
[null,null,"EL5",{"$f":"'UEC Development'!D547","v":7568.7562501442017},null,"DOE 2014 Final Rule EL3"]
[null,null,"EL6",{"$f":"'UEC Development'!D548","v":7396.4872279565461},2017,"DOE 2014 Final Rule EL4"]
[null,null,"EL7",{"$f":"'UEC Development'!D549","v":6808.5103803399898},null,"DOE 2014 Final Rule EL5"]
[null,null,"EL8",{"$f":"'UEC Development'!D550","v":6808.5103803399898},null,"DOE 2014 Final Rule EL6"]
[null,null,"EL9",{"$f":"'UEC Development'!D551","v":6808.5103803399898},null,"DOE 2014 Final Rule EL7"]
[]
[null,null,"Sources","1. Standards were effective in 2012 (10CFR431.66). Assumed 2012 standards were equivalent to baseline standard in 2014 Final Rule.\nIn the 2014 Final Rule, TSL 3 was the final selected TSL. (DOE Commercial Refrigeration Equipment 2014 Final Rule, Federal Register Notice, page 17810, \"Benefits and Burdens of Trial Standard Levels Considered for Commercial Refrigeration\" section, http://www.regulations.gov/#!documentDetail;D=EERE-2010-BT-STD-0003-0104)\nTSL Mapping used to determine EL for each product class at TSL 3. (DOE Commercial Refrigeration Equipment 2014 Final Rule, Technical Support Document: Final Rule National Impact Analysis Spreadsheet, 'TSL Mapping' tab, cells C7:AA7, http://www.regulations.gov/#!documentDetail;D=EERE-2010-BT-STD-0003-0101)"]

{"sheet":"Equipment Specifications","index":6,"n_rows":38,"n_cols":4,"rows_kept":38,"cut":false,"hidden":false,"merged":[[37,3,37,4]]}
[]
[null,null,"Equipment Specifications"]
[]
[null,null,"NAVIGATION"]
[]
[null,null,"COMMENTS"]
[]
[]
[null,null,"Equipment Specifications"]
[]
[null,null,"Product Class","Length (ft)"]
[null,null,{"$f":"'Product Classes'!O10","v":"VOP.RC.M"},10]
[null,null,{"$f":"'Product Classes'!O11","v":"VOP.RC.L"},10]
[null,null,{"$f":"'Product Classes'!O12","v":"SVO.RC.M"},10]
[null,null,{"$f":"'Product Classes'!O13","v":"HZO.RC.M"},10]
[null,null,{"$f":"'Product Classes'!O14","v":"HZO.RC.L"},10]
[null,null,{"$f":"'Product Classes'!O15","v":"VCT.RC.M"},10]
[null,null,{"$f":"'Product Classes'!O16","v":"VCT.RC.L"},10]
[null,null,{"$f":"'Product Classes'!O17","v":"SOC.RC.M"},8]
[null,null,{"$f":"'Product Classes'!O18","v":"VOP.SC.M"},4]
[null,null,{"$f":"'Product Classes'!O19","v":"SVO.SC.M"},4]
[null,null,{"$f":"'Product Classes'!O20","v":"HZO.SC.M"},4]
[null,null,{"$f":"'Product Classes'!O21","v":"HZO.SC.L"},4]
[null,null,{"$f":"'Product Classes'!O22","v":"VCT.SC.M"},4]
[null,null,{"$f":"'Product Classes'!O23","v":"VCT.SC.L"},3.5]
[null,null,{"$f":"'Product Classes'!O24","v":"VCS.SC.M"},4]
[null,null,{"$f":"'Product Classes'!O25","v":"VCS.SC.L"},3.5]
[null,null,{"$f":"'Product Classes'!O26","v":"HCT.SC.M"},3]
[null,null,{"$f":"'Product Classes'!O27","v":"HCT.SC.L"},3]
[null,null,{"$f":"'Product Classes'!O28","v":"HCS.SC.M"},4]
[null,null,{"$f":"'Product Classes'!O29","v":"HCS.SC.L"},5]
[null,null,{"$f":"'Product Classes'!O30","v":"SOC.SC.M"},5]
[null,null,{"$f":"'Product Classes'!O31","v":"PD.SC.M"},2.5]
[null,null,{"$f":"'Product Classes'!O32","v":"VCT.SC.I"},5]
[null,null,{"$f":"'Product Classes'!O33","v":"HCT.SC.I"},3.4]
[null,null,{"$f":"'Product Classes'!O34","v":"VCS.SC.I"},5]
[]
[null,null,"Source","DOE Commercial Refrigeration Equipment 2014 Final Rule, Technical Support Document: Final Rule National Impact Analysis Spreadsheet, 'Shipment Factors' tab, cells B3:C29, http://www.regulations.gov/#!documentDetail;D=EERE-2010-BT-STD-0003-0101"]

{"sheet":"Constants and Menus","index":7,"n_rows":41,"n_cols":4,"rows_kept":41,"cut":false,"hidden":false,"merged":[]}
[]
[null,null,"Constants and Menus"]
[]
[null,null,"NAVIGATION"]
[]
[null,null,"COMMENTS"]
[]
[]
[null,null,"Constant"]
[null,null,"Hours/Day",24]
[null,null,"Days/Week",7]
[null,null,"Days per Year",365.25]
[null,null,"kW/MW",1000]
[null,null,"Equipment Lifetime (years)",12.28]
[null,null,"Standard Compliance Year",2017]
[]
[]
[]
[]
[]
[null,null,"Building Types Included in Analysis"]
[null,null,null,"Building Type "]
[null,null,null,"Large Off"]
[null,null,null,"Medium Off"]
[null,null,null,"Small Off"]
[null,null,null,"Big Box"]
[null,null,null,"Small Box"]
[null,null,null,"High End"]
[null,null,null,"Anchor"]
[null,null,null,"K-12"]
[null,null,null,"University"]
[null,null,null,"Warehouse"]
[null,null,null,"Supermarket"]
[null,null,null,"MiniMart"]
[null,null,null,"Restaurant"]
[null,null,null,"Lodging"]
[null,null,null,"Hospital"]
[null,null,null,"OtherHealth"]
[null,null,null,"Assembly"]
[null,null,null,"Other"]
[null,null,null,"TOTAL"]

{"sheet":"Product Class Dist","index":8,"n_rows":63,"n_cols":48,"rows_kept":63,"cut":false,"hidden":false,"merged":[[62,3,62,47]]}
[]
[null,null,"Product Class Distributions"]
[]
[null,null,"NAVIGATION"]
[]
[null,null,"COMMENTS"]
[]
[]
[null,null,"PRE-Case",1990,{"$f":"D9+1","v":1991},{"$f":"E9+1","v":1992},1993,1994,1995,1996,1997,1998,1999,2000,2001,2002,2003,2004,2005,2006,2007,2008,{"$f":"V9+1","v":2009},2010,2011,2012,2013,2014,2015,2016,2017,2018,2019,2020,2021,2022,2023,2024,2025,2026,2027,2028,2029,2030,2031,2032,2033,2034]
[null,null,{"$f":"'Product Classes'!O10","v":"VOP.RC.M"},{"$f":"E10","v":4.8873835631140838E-2},4.8873835631140838E-2,4.8873835631140838E-2,4.8873835631140838E-2,4.8873835631140838E-2,4.8873835631140838E-2,4.8873835631140838E-2,4.8873835631140838E-2,4.8873835631140838E-2,4.8873835631140838E-2,4.8873835631140838E-2,4.8873835631140838E-2,4.8873835631140838E-2,4.8873835631140838E-2,4.8873835631140838E-2,4.8873835631140838E-2,4.8873835631140838E-2,4.8873835631140838E-2,4.8873835631140838E-2,{"$f":"X10","v":4.8873835631140838E-2},4.8873835631140838E-2,4.8873835631140838E-2,4.8873835631140852E-2,4.8873835631140845E-2,4.8873835631140845E-2,4.8873835631140811E-2,4.8873835631140845E-2,4.8873835631140831E-2,4.8873835631140838E-2,4.8873835631140845E-2,4.8873835631140845E-2,4.8873835631140838E-2,4.8873835631140845E-2,4.8873835631140852E-2,4.8873835631140838E-2,4.8873835631140852E-2,4.8873835631140845E-2,4.8873835631140852E-2,4.8873835631140831E-2,4.8873835631140838E-2,4.8873835631140838E-2,4.8873835631140838E-2,4.8873835631140825E-2,4.8873835631140825E-2,4.8873835631140852E-2]
[null,null,{"$f":"'Product Classes'!O11","v":"VOP.RC.L"},2.3725162927738276E-3,2.3725162927738276E-3,2.3725162927738276E-3,2.3725162927738276E-3,2.3725162927738276E-3,2.3725162927738276E-3,2.3725162927738276E-3,2.3725162927738276E-3,2.3725162927738276E-3,2.3725162927738276E-3,2.3725162927738276E-3,2.3725162927738276E-3,2.3725162927738276E-3,2.3725162927738276E-3,2.3725162927738276E-3,2.3725162927738276E-3,2.3725162927738276E-3,2.3725162927738276E-3,2.3725162927738276E-3,{"$f":"X11","v":2.3725162927738276E-3},2.3725162927738276E-3,2.3725162927738276E-3,2.372516292773828E-3,2.3725162927738276E-3,2.3725162927738267E-3,2.3725162927738259E-3,2.3725162927738276E-3,2.3725162927738267E-3,2.3725162927738276E-3,2.3725162927738276E-3,2.372516292773828E-3,2.3725162927738267E-3,2.372516292773828E-3,2.372516292773828E-3,2.3725162927738272E-3,2.372516292773828E-3,2.3725162927738272E-3,2.3725162927738276E-3,2.3725162927738272E-3,2.3725162927738272E-3,2.3725162927738272E-3,2.3725162927738272E-3,2.3725162927738263E-3,2.3725162927738259E-3,2.3725162927738272E-3]
[null,null,{"$f":"'Product Classes'!O12","v":"SVO.RC.M"},3.8909267201490766E-2,3.8909267201490766E-2,3.8909267201490766E-2,3.8909267201490766E-2,3.8909267201490766E-2,3.8909267201490766E-2,3.8909267201490766E-2,3.8909267201490766E-2,3.8909267201490766E-2,3.8909267201490766E-2,3.8909267201490766E-2,3.8909267201490766E-2,3.8909267201490766E-2,3.8909267201490766E-2,3.8909267201490766E-2,3.8909267201490766E-2,3.8909267201490766E-2,3.8909267201490766E-2,3.8909267201490766E-2,3.8909267201490766E-2,3.8909267201490766E-2,3.8909267201490773E-2,3.8909267201490773E-2,3.8909267201490773E-2,3.8909267201490766E-2,3.8909267201490752E-2,3.8909267201490773E-2,3.8909267201490759E-2,3.8909267201490773E-2,3.8909267201490773E-2,3.8909267201490773E-2,3.8909267201490766E-2,3.8909267201490773E-2,3.8909267201490773E-2,3.8909267201490766E-2,3.890926720149078E-2,3.8909267201490773E-2,3.890926720149078E-2,3.8909267201490766E-2,3.8909267201490766E-2,3.8909267201490773E-2,3.8909267201490759E-2,3.8909267201490752E-2,3.8909267201490759E-2,3.8909267201490766E-2]
[null,null,{"$f":"'Product Classes'!O13","v":"HZO.RC.M"},6.1685423612119509E-3,6.1685423612119509E-3,6.1685423612119509E-3,6.1685423612119509E-3,6.1685423612119509E-3,6.1685423612119509E-3,6.1685423612119509E-3,6.1685423612119509E-3,6.1685423612119509E-3,6.1685423612119509E-3,6.1685423612119509E-3,6.1685423612119509E-3,6.1685423612119509E-3,6.1685423612119509E-3,6.1685423612119509E-3,6.1685423612119509E-3,6.1685423612119509E-3,6.1685423612119509E-3,6.1685423612119509E-3,6.1685423612119509E-3,6.1685423612119509E-3,6.1685423612119501E-3,6.1685423612119509E-3,6.1685423612119518E-3,6.1685423612119509E-3,6.1685423612119475E-3,6.1685423612119509E-3,6.1685423612119492E-3,6.1685423612119509E-3,6.1685423612119527E-3,6.1685423612119509E-3,6.1685423612119501E-3,6.1685423612119518E-3,6.1685423612119527E-3,6.1685423612119509E-3,6.1685423612119518E-3,6.1685423612119509E-3,6.1685423612119518E-3,6.1685423612119492E-3,6.1685423612119509E-3,6.1685423612119501E-3,6.1685423612119501E-3,6.1685423612119483E-3,6.1685423612119483E-3,6.1685423612119518E-3]
[null,null,{"$f":"'Product Classes'!O14","v":"HZO.RC.L"},1.8980130342190621E-2,1.8980130342190621E-2,1.8980130342190621E-2,1.8980130342190621E-2,1.8980130342190621E-2,1.8980130342190621E-2,1.8980130342190621E-2,1.8980130342190621E-2,1.8980130342190621E-2,1.8980130342190621E-2,1.8980130342190621E-2,1.8980130342190621E-2,1.8980130342190621E-2,1.8980130342190621E-2,1.8980130342190621E-2,1.8980130342190621E-2,1.8980130342190621E-2,1.8980130342190621E-2,1.8980130342190621E-2,1.8980130342190621E-2,1.8980130342190621E-2,1.8980130342190621E-2,1.8980130342190624E-2,1.8980130342190621E-2,1.8980130342190614E-2,1.8980130342190607E-2,1.8980130342190621E-2,1.8980130342190614E-2,1.8980130342190621E-2,1.8980130342190621E-2,1.8980130342190624E-2,1.8980130342190614E-2,1.8980130342190624E-2,1.8980130342190624E-2,1.8980130342190617E-2,1.8980130342190624E-2,1.8980130342190617E-2,1.8980130342190621E-2,1.8980130342190617E-2,1.8980130342190617E-2,1.8980130342190617E-2,1.8980130342190617E-2,1.898013034219061E-2,1.8980130342190607E-2,1.8980130342190617E-2]
[null,null,{"$f":"'Product Classes'!O15","v":"VCT.RC.M"},3.7960260684381237E-3,3.7960260684381237E-3,3.7960260684381237E-3,3.7960260684381237E-3,3.7960260684381237E-3,3.7960260684381237E-3,3.7960260684381237E-3,3.7960260684381237E-3,3.7960260684381237E-3,3.7960260684381237E-3,3.7960260684381237E-3,3.7960260684381237E-3,3.7960260684381237E-3,3.7960260684381237E-3,3.7960260684381237E-3,3.7960260684381237E-3,3.7960260684381237E-3,3.7960260684381237E-3,3.7960260684381237E-3,3.7960260684381237E-3,3.7960260684381237E-3,3.7960260684381237E-3,3.7960260684381246E-3,3.7960260684381242E-3,3.7960260684381233E-3,3.7960260684381224E-3,3.7960260684381242E-3,3.7960260684381224E-3,3.7960260684381237E-3,3.7960260684381246E-3,3.796026068438125E-3,3.7960260684381237E-3,3.7960260684381242E-3,3.7960260684381237E-3,3.7960260684381233E-3,3.796026068438125E-3,3.7960260684381246E-3,3.7960260684381246E-3,3.7960260684381224E-3,3.7960260684381233E-3,3.7960260684381233E-3,3.7960260684381224E-3,3.796026068438122E-3,3.7960260684381224E-3,3.7960260684381242E-3]
[null,null,{"$f":"'Product Classes'!O16","v":"VCT.RC.L"},5.07718486653599E-2,5.07718486653599E-2,5.07718486653599E-2,5.07718486653599E-2,5.07718486653599E-2,5.07718486653599E-2,5.07718486653599E-2,5.07718486653599E-2,5.07718486653599E-2,5.07718486653599E-2,5.07718486653599E-2,5.07718486653599E-2,5.07718486653599E-2,5.07718486653599E-2,5.07718486653599E-2,5.07718486653599E-2,5.07718486653599E-2,5.07718486653599E-2,5.07718486653599E-2,5.07718486653599E-2,5.07718486653599E-2,5.0771848665359894E-2,5.0771848665359907E-2,5.0771848665359907E-2,5.0771848665359894E-2,5.0771848665359873E-2,5.0771848665359907E-2,5.0771848665359887E-2,5.07718486653599E-2,5.0771848665359907E-2,5.07718486653599E-2,5.077184866535988E-2,5.07718486653599E-2,5.07718486653599E-2,5.07718486653599E-2,5.0771848665359907E-2,5.0771848665359907E-2,5.0771848665359914E-2,5.0771848665359887E-2,5.0771848665359887E-2,5.0771848665359894E-2,5.0771848665359887E-2,5.0771848665359887E-2,5.077184866535988E-2,5.07718486653599E-2]
[null,null,{"$f":"'Product Classes'!O17","v":"SOC.RC.M"},1.2455710537062594E-2,1.2455710537062594E-2,1.2455710537062594E-2,1.2455710537062594E-2,1.2455710537062594E-2,1.2455710537062594E-2,1.2455710537062594E-2,1.2455710537062594E-2,1.2455710537062594E-2,1.2455710537062594E-2,1.2455710537062594E-2,1.2455710537062594E-2,1.2455710537062594E-2,1.2455710537062594E-2,1.2455710537062594E-2,1.2455710537062594E-2,1.2455710537062594E-2,1.2455710537062594E-2,1.2455710537062594E-2,1.2455710537062594E-2,1.2455710537062594E-2,1.2455710537062591E-2,1.2455710537062596E-2,1.2455710537062594E-2,1.2455710537062594E-2,1.2455710537062587E-2,1.2455710537062598E-2,1.2455710537062591E-2,1.2455710537062592E-2,1.2455710537062596E-2,1.2455710537062596E-2,1.2455710537062592E-2,1.2455710537062594E-2,1.2455710537062598E-2,1.2455710537062592E-2,1.2455710537062598E-2,1.2455710537062592E-2,1.2455710537062596E-2,1.2455710537062592E-2,1.2455710537062592E-2,1.2455710537062591E-2,1.2455710537062592E-2,1.2455710537062591E-2,1.2455710537062587E-2,1.2455710537062594E-2]
[null,null,{"$f":"'Product Classes'!O18","v":"VOP.SC.M"},1.5421355903029879E-2,1.5421355903029879E-2,1.5421355903029879E-2,1.5421355903029879E-2,1.5421355903029879E-2,1.5421355903029879E-2,1.5421355903029879E-2,1.5421355903029879E-2,1.5421355903029879E-2,1.5421355903029879E-2,1.5421355903029879E-2,1.5421355903029879E-2,1.5421355903029879E-2,1.5421355903029879E-2,1.5421355903029879E-2,1.5421355903029879E-2,1.5421355903029879E-2,1.5421355903029879E-2,1.5421355903029879E-2,1.5421355903029879E-2,1.5421355903029879E-2,1.5421355903029878E-2,1.5421355903029881E-2,1.5421355903029883E-2,1.5421355903029878E-2,1.5421355903029871E-2,1.5421355903029879E-2,1.5421355903029873E-2,1.5421355903029878E-2,1.5421355903029878E-2,1.5421355903029878E-2,1.5421355903029874E-2,1.5421355903029879E-2,1.5421355903029879E-2,1.5421355903029876E-2,1.5421355903029881E-2,1.5421355903029879E-2,1.5421355903029878E-2,1.5421355903029874E-2,1.5421355903029876E-2,1.5421355903029873E-2,1.5421355903029878E-2,1.5421355903029873E-2,1.5421355903029869E-2,1.5421355903029879E-2]
[null,null,{"$f":"'Product Classes'!O19","v":"SVO.SC.M"},1.3048839610256048E-2,1.3048839610256048E-2,1.3048839610256048E-2,1.3048839610256048E-2,1.3048839610256048E-2,1.3048839610256048E-2,1.3048839610256048E-2,1.3048839610256048E-2,1.3048839610256048E-2,1.3048839610256048E-2,1.3048839610256048E-2,1.3048839610256048E-2,1.3048839610256048E-2,1.3048839610256048E-2,1.3048839610256048E-2,1.3048839610256048E-2,1.3048839610256048E-2,1.3048839610256048E-2,1.3048839610256048E-2,1.3048839610256048E-2,1.3048839610256048E-2,1.3048839610256048E-2,1.304883961025605E-2,1.3048839610256048E-2,1.3048839610256045E-2,1.3048839610256041E-2,1.304883961025605E-2,1.3048839610256045E-2,1.3048839610256048E-2,1.3048839610256048E-2,1.3048839610256052E-2,1.3048839610256045E-2,1.304883961025605E-2,1.3048839610256048E-2,1.3048839610256048E-2,1.304883961025605E-2,1.3048839610256048E-2,1.304883961025605E-2,1.3048839610256043E-2,1.3048839610256047E-2,1.3048839610256045E-2,1.3048839610256045E-2,1.3048839610256043E-2,1.3048839610256043E-2,1.3048839610256047E-2]
[null,null,{"$f":"'Product Classes'!O20","v":"HZO.SC.M"},1.1862581463869138E-3,1.1862581463869138E-3,1.1862581463869138E-3,1.1862581463869138E-3,1.1862581463869138E-3,1.1862581463869138E-3,1.1862581463869138E-3,1.1862581463869138E-3,1.1862581463869138E-3,1.1862581463869138E-3,1.1862581463869138E-3,1.1862581463869138E-3,1.1862581463869138E-3,1.1862581463869138E-3,1.1862581463869138E-3,1.1862581463869138E-3,1.1862581463869138E-3,1.1862581463869138E-3,1.1862581463869138E-3,1.1862581463869138E-3,1.1862581463869138E-3,1.1862581463869138E-3,1.186258146386914E-3,1.1862581463869138E-3,1.1862581463869134E-3,1.1862581463869129E-3,1.1862581463869138E-3,1.1862581463869134E-3,1.1862581463869138E-3,1.1862581463869138E-3,1.186258146386914E-3,1.1862581463869134E-3,1.186258146386914E-3,1.186258146386914E-3,1.1862581463869136E-3,1.186258146386914E-3,1.1862581463869136E-3,1.1862581463869138E-3,1.1862581463869136E-3,1.1862581463869136E-3,1.1862581463869136E-3,1.1862581463869136E-3,1.1862581463869132E-3,1.1862581463869129E-3,1.1862581463869136E-3]
[null,null,{"$f":"'Product Classes'!O21","v":"HZO.SC.L"},2.3725162927738276E-3,2.3725162927738276E-3,2.3725162927738276E-3,2.3725162927738276E-3,2.3725162927738276E-3,2.3725162927738276E-3,2.3725162927738276E-3,2.3725162927738276E-3,2.3725162927738276E-3,2.3725162927738276E-3,2.3725162927738276E-3,2.3725162927738276E-3,2.3725162927738276E-3,2.3725162927738276E-3,2.3725162927738276E-3,2.3725162927738276E-3,2.3725162927738276E-3,2.3725162927738276E-3,2.3725162927738276E-3,2.3725162927738276E-3,2.3725162927738276E-3,2.3725162927738276E-3,2.372516292773828E-3,2.3725162927738276E-3,2.3725162927738272E-3,2.3725162927738259E-3,2.3725162927738276E-3,2.3725162927738267E-3,2.3725162927738276E-3,2.3725162927738276E-3,2.3725162927738276E-3,2.3725162927738267E-3,2.3725162927738276E-3,2.3725162927738276E-3,2.3725162927738272E-3,2.372516292773828E-3,2.3725162927738276E-3,2.3725162927738276E-3,2.3725162927738272E-3,2.3725162927738272E-3,2.3725162927738272E-3,2.3725162927738272E-3,2.3725162927738263E-3,2.3725162927738263E-3,2.3725162927738276E-3]
[null,null,{"$f":"'Product Classes'!O22","v":"VCT.SC.M"},5.6940391026571849E-2,5.6940391026571849E-2,5.6940391026571849E-2,5.6940391026571849E-2,5.6940391026571849E-2,5.6940391026571849E-2,5.6940391026571849E-2,5.6940391026571849E-2,5.6940391026571849E-2,5.6940391026571849E-2,5.6940391026571849E-2,5.6940391026571849E-2,5.6940391026571849E-2,5.6940391026571849E-2,5.6940391026571849E-2,5.6940391026571849E-2,5.6940391026571849E-2,5.6940391026571849E-2,5.6940391026571849E-2,5.6940391026571849E-2,5.6940391026571849E-2,5.6940391026571842E-2,5.6940391026571863E-2,5.694039102657187E-2,5.6940391026571856E-2,5.6940391026571814E-2,5.6940391026571856E-2,5.6940391026571835E-2,5.6940391026571856E-2,5.6940391026571863E-2,5.6940391026571863E-2,5.6940391026571835E-2,5.694039102657187E-2,5.694039102657187E-2,5.6940391026571856E-2,5.694039102657187E-2,5.6940391026571849E-2,5.6940391026571863E-2,5.6940391026571842E-2,5.6940391026571849E-2,5.6940391026571842E-2,5.6940391026571849E-2,5.6940391026571835E-2,5.6940391026571821E-2,5.6940391026571856E-2]
[null,null,{"$f":"'Product Classes'!O23","v":"VCT.SC.L"},2.7114471917415164E-3,2.7114471917415164E-3,2.7114471917415164E-3,2.7114471917415164E-3,2.7114471917415164E-3,2.7114471917415164E-3,2.7114471917415164E-3,2.7114471917415164E-3,{"$f":"M23","v":2.7114471917415164E-3},2.7114471917415164E-3,2.7114471917415164E-3,2.7114471917415164E-3,2.7114471917415164E-3,2.7114471917415164E-3,2.7114471917415164E-3,2.7114471917415164E-3,2.7114471917415164E-3,2.7114471917415164E-3,2.7114471917415164E-3,2.7114471917415164E-3,2.7114471917415164E-3,2.7114471917415168E-3,2.7114471917415168E-3,2.7114471917415168E-3,2.7114471917415164E-3,2.7114471917415151E-3,2.7114471917415168E-3,2.711447191741516E-3,2.7114471917415164E-3,2.7114471917415168E-3,2.7114471917415168E-3,2.711447191741516E-3,2.7114471917415168E-3,2.7114471917415164E-3,2.7114471917415164E-3,2.7114471917415173E-3,2.7114471917415164E-3,2.7114471917415168E-3,2.711447191741516E-3,2.7114471917415164E-3,2.711447191741516E-3,2.711447191741516E-3,2.7114471917415155E-3,2.7114471917415155E-3,2.7114471917415168E-3]
[null,null,{"$f":"'Product Classes'!O24","v":"VCS.SC.M"},0.30130956918227603,0.30130956918227603,0.30130956918227603,0.30130956918227603,0.30130956918227603,0.30130956918227603,0.30130956918227603,0.30130956918227603,0.30130956918227603,0.30130956918227603,0.30130956918227603,0.30130956918227603,0.30130956918227603,0.30130956918227603,0.30130956918227603,0.30130956918227603,0.30130956918227603,0.30130956918227603,0.30130956918227603,0.30130956918227603,0.30130956918227603,0.30130956918227603,0.30130956918227614,0.30130956918227608,0.30130956918227603,0.30130956918227597,0.30130956918227608,0.30130956918227597,0.30130956918227608,0.30130956918227608,0.30130956918227614,0.30130956918227603,0.30130956918227608,0.30130956918227608,0.30130956918227603,0.30130956918227608,0.30130956918227608,0.30130956918227608,0.30130956918227592,0.30130956918227603,0.30130956918227603,0.30130956918227603,0.30130956918227597,0.30130956918227592,0.30130956918227608]
[null,null,{"$f":"'Product Classes'!O25","v":"VCS.SC.L"},0.20335853938061371,0.20335853938061371,0.20335853938061371,0.20335853938061371,0.20335853938061371,0.20335853938061371,0.20335853938061371,0.20335853938061371,0.20335853938061371,0.20335853938061371,0.20335853938061371,0.20335853938061371,0.20335853938061371,0.20335853938061371,0.20335853938061371,0.20335853938061371,0.20335853938061371,0.20335853938061371,0.20335853938061371,0.20335853938061371,0.20335853938061371,0.20335853938061374,0.20335853938061377,0.20335853938061377,0.20335853938061368,0.20335853938061357,0.20335853938061371,0.20335853938061366,0.20335853938061368,0.20335853938061371,0.20335853938061377,0.20335853938061368,0.20335853938061374,0.20335853938061374,0.20335853938061368,0.2033585393806138,0.20335853938061374,0.20335853938061377,0.20335853938061371,0.20335853938061366,0.20335853938061371,0.20335853938061368,0.20335853938061368,0.20335853938061363,0.20335853938061374]
[null,null,{"$f":"'Product Classes'!O26","v":"HCT.SC.M"},1.5816775285158852E-3,1.5816775285158852E-3,1.5816775285158852E-3,1.5816775285158852E-3,1.5816775285158852E-3,1.5816775285158852E-3,1.5816775285158852E-3,1.5816775285158852E-3,1.5816775285158852E-3,1.5816775285158852E-3,1.5816775285158852E-3,1.5816775285158852E-3,1.5816775285158852E-3,1.5816775285158852E-3,1.5816775285158852E-3,1.5816775285158852E-3,1.5816775285158852E-3,1.5816775285158852E-3,1.5816775285158852E-3,1.5816775285158852E-3,1.5816775285158852E-3,1.581677528515885E-3,1.5816775285158852E-3,1.581677528515885E-3,1.5816775285158846E-3,1.5816775285158841E-3,1.5816775285158852E-3,1.5816775285158844E-3,1.5816775285158852E-3,1.5816775285158852E-3,1.5816775285158852E-3,1.5816775285158848E-3,1.5816775285158852E-3,1.581677528515885E-3,1.5816775285158848E-3,1.581677528515885E-3,1.5816775285158848E-3,1.581677528515885E-3,1.5816775285158844E-3,1.581677528515885E-3,1.5816775285158846E-3,1.5816775285158848E-3,1.5816775285158841E-3,1.5816775285158844E-3,1.581677528515885E-3]
[null,null,{"$f":"'Product Classes'!O27","v":"HCT.SC.L"},6.3267101140635409E-3,6.3267101140635409E-3,6.3267101140635409E-3,6.3267101140635409E-3,6.3267101140635409E-3,6.3267101140635409E-3,6.3267101140635409E-3,6.3267101140635409E-3,6.3267101140635409E-3,6.3267101140635409E-3,6.3267101140635409E-3,6.3267101140635409E-3,6.3267101140635409E-3,6.3267101140635409E-3,6.3267101140635409E-3,6.3267101140635409E-3,6.3267101140635409E-3,6.3267101140635409E-3,6.3267101140635409E-3,6.3267101140635409E-3,6.3267101140635409E-3,6.32671011406354E-3,6.3267101140635417E-3,6.3267101140635417E-3,6.3267101140635391E-3,6.3267101140635365E-3,6.3267101140635409E-3,6.3267101140635374E-3,6.3267101140635409E-3,6.3267101140635409E-3,6.3267101140635409E-3,6.3267101140635391E-3,6.3267101140635409E-3,6.32671011406354E-3,6.3267101140635391E-3,6.32671011406354E-3,6.3267101140635391E-3,6.32671011406354E-3,6.3267101140635374E-3,6.32671011406354E-3,6.3267101140635383E-3,6.3267101140635391E-3,6.3267101140635365E-3,6.3267101140635374E-3,6.32671011406354E-3]
[null,null,{"$f":"'Product Classes'!O28","v":"HCS.SC.M"},5.219535844102418E-2,5.219535844102418E-2,5.219535844102418E-2,5.219535844102418E-2,5.219535844102418E-2,5.219535844102418E-2,5.219535844102418E-2,5.219535844102418E-2,5.219535844102418E-2,5.219535844102418E-2,5.219535844102418E-2,5.219535844102418E-2,5.219535844102418E-2,5.219535844102418E-2,5.219535844102418E-2,5.219535844102418E-2,5.219535844102418E-2,5.219535844102418E-2,5.219535844102418E-2,5.219535844102418E-2,5.219535844102418E-2,5.2195358441024194E-2,5.2195358441024201E-2,5.2195358441024194E-2,5.219535844102418E-2,5.2195358441024166E-2,5.2195358441024187E-2,5.2195358441024173E-2,5.2195358441024194E-2,5.2195358441024194E-2,5.2195358441024207E-2,5.219535844102418E-2,5.2195358441024201E-2,5.2195358441024194E-2,5.2195358441024187E-2,5.2195358441024201E-2,5.219535844102418E-2,5.2195358441024187E-2,5.2195358441024173E-2,5.2195358441024187E-2,5.219535844102418E-2,5.219535844102418E-2,5.2195358441024173E-2,5.2195358441024173E-2,5.2195358441024187E-2]
[null,null,{"$f":"'Product Classes'!O29","v":"HCS.SC.L"},5.6940391026571854E-3,5.6940391026571854E-3,5.6940391026571854E-3,5.6940391026571854E-3,5.6940391026571854E-3,5.6940391026571854E-3,5.6940391026571854E-3,5.6940391026571854E-3,5.6940391026571854E-3,5.6940391026571854E-3,5.6940391026571854E-3,5.6940391026571854E-3,5.6940391026571854E-3,5.6940391026571854E-3,5.6940391026571854E-3,5.6940391026571854E-3,5.6940391026571854E-3,5.6940391026571854E-3,5.6940391026571854E-3,5.6940391026571854E-3,5.6940391026571854E-3,5.6940391026571837E-3,5.6940391026571863E-3,5.6940391026571854E-3,5.6940391026571845E-3,5.6940391026571819E-3,5.6940391026571845E-3,5.6940391026571828E-3,5.6940391026571845E-3,5.6940391026571854E-3,5.6940391026571863E-3,5.6940391026571837E-3,5.6940391026571854E-3,5.6940391026571854E-3,5.6940391026571845E-3,5.6940391026571863E-3,5.6940391026571854E-3,5.6940391026571854E-3,5.6940391026571828E-3,5.6940391026571854E-3,5.6940391026571845E-3,5.6940391026571845E-3,5.6940391026571837E-3,5.6940391026571819E-3,5.6940391026571854E-3]
[null,null,{"$f":"'Product Classes'!O30","v":"SOC.SC.M"},1.8980130342190617E-3,1.8980130342190617E-3,1.8980130342190617E-3,1.8980130342190617E-3,1.8980130342190617E-3,1.8980130342190617E-3,1.8980130342190617E-3,1.8980130342190617E-3,1.8980130342190617E-3,1.8980130342190617E-3,1.8980130342190617E-3,1.8980130342190617E-3,1.8980130342190617E-3,1.8980130342190617E-3,1.8980130342190617E-3,1.8980130342190617E-3,1.8980130342190617E-3,1.8980130342190617E-3,1.8980130342190617E-3,1.8980130342190617E-3,1.8980130342190617E-3,1.8980130342190619E-3,1.8980130342190623E-3,1.8980130342190621E-3,1.8980130342190614E-3,1.8980130342190608E-3,1.8980130342190621E-3,1.8980130342190612E-3,1.8980130342190619E-3,1.8980130342190623E-3,1.8980130342190623E-3,1.8980130342190619E-3,1.8980130342190621E-3,1.8980130342190619E-3,1.8980130342190621E-3,1.8980130342190623E-3,1.8980130342190619E-3,1.8980130342190623E-3,1.8980130342190612E-3,1.8980130342190617E-3,1.8980130342190619E-3,1.8980130342190617E-3,1.8980130342190614E-3,1.8980130342190612E-3,1.8980130342190621E-3]
[null,null,{"$f":"'Product Classes'!O31","v":"PD.SC.M"},0.14424899060064872,0.14424899060064872,0.14424899060064872,0.14424899060064872,0.14424899060064872,0.14424899060064872,0.14424899060064872,0.14424899060064872,0.14424899060064872,0.14424899060064872,0.14424899060064872,0.14424899060064872,0.14424899060064872,0.14424899060064872,0.14424899060064872,0.14424899060064872,0.14424899060064872,0.14424899060064872,0.14424899060064872,0.14424899060064872,0.14424899060064872,0.14424899060064872,0.14424899060064872,0.14424899060064875,0.14424899060064869,0.14424899060064864,0.14424899060064872,0.14424899060064866,0.14424899060064872,0.14424899060064872,0.14424899060064872,0.14424899060064866,0.14424899060064872,0.14424899060064872,0.14424899060064872,0.14424899060064875,0.14424899060064869,0.14424899060064872,0.14424899060064866,0.14424899060064872,0.14424899060064869,0.14424899060064866,0.14424899060064866,0.14424899060064866,0.14424899060064872]
[null,null,{"$f":"'Product Classes'!O32","v":"VCT.SC.I"},2.8470195513285936E-3,2.8470195513285936E-3,2.8470195513285936E-3,2.8470195513285936E-3,2.8470195513285936E-3,2.8470195513285936E-3,2.8470195513285936E-3,2.8470195513285936E-3,2.8470195513285936E-3,2.8470195513285936E-3,2.8470195513285936E-3,2.8470195513285936E-3,2.8470195513285936E-3,2.8470195513285936E-3,2.8470195513285936E-3,2.8470195513285936E-3,2.8470195513285936E-3,2.8470195513285936E-3,2.8470195513285936E-3,2.8470195513285936E-3,2.8470195513285936E-3,2.8470195513285918E-3,2.8470195513285931E-3,2.8470195513285918E-3,2.8470195513285931E-3,2.8470195513285905E-3,2.8470195513285923E-3,2.8470195513285918E-3,2.8470195513285927E-3,2.8470195513285927E-3,2.8470195513285931E-3,2.8470195513285914E-3,2.8470195513285923E-3,2.8470195513285918E-3,2.8470195513285931E-3,2.8470195513285931E-3,2.8470195513285931E-3,2.8470195513285923E-3,2.8470195513285918E-3,2.8470195513285923E-3,2.8470195513285927E-3,2.8470195513285927E-3,2.8470195513285914E-3,2.847019551328591E-3,2.8470195513285927E-3]
[null,null,{"$f":"'Product Classes'!O33","v":"HCT.SC.I"},5.5823912771148882E-3,5.5823912771148882E-3,5.5823912771148882E-3,5.5823912771148882E-3,5.5823912771148882E-3,5.5823912771148882E-3,5.5823912771148882E-3,5.5823912771148882E-3,5.5823912771148882E-3,5.5823912771148882E-3,5.5823912771148882E-3,5.5823912771148882E-3,5.5823912771148882E-3,5.5823912771148882E-3,5.5823912771148882E-3,5.5823912771148882E-3,5.5823912771148882E-3,5.5823912771148882E-3,5.5823912771148882E-3,5.5823912771148882E-3,5.5823912771148882E-3,5.5823912771148882E-3,5.5823912771148891E-3,5.5823912771148882E-3,5.5823912771148874E-3,5.5823912771148848E-3,5.5823912771148882E-3,5.5823912771148865E-3,5.5823912771148882E-3,5.5823912771148891E-3,5.5823912771148882E-3,5.5823912771148865E-3,5.5823912771148891E-3,5.5823912771148874E-3,5.5823912771148874E-3,5.5823912771148891E-3,5.5823912771148882E-3,5.5823912771148891E-3,5.5823912771148865E-3,5.5823912771148882E-3,5.5823912771148865E-3,5.5823912771148874E-3,5.5823912771148865E-3,5.5823912771148865E-3,5.5823912771148874E-3]
[null,null,{"$f":"'Product Classes'!O34","v":"VCS.SC.I"},9.4900651710953083E-4,9.4900651710953083E-4,9.4900651710953083E-4,9.4900651710953083E-4,9.4900651710953083E-4,9.4900651710953083E-4,9.4900651710953083E-4,9.4900651710953083E-4,9.4900651710953083E-4,9.4900651710953083E-4,9.4900651710953083E-4,9.4900651710953083E-4,9.4900651710953083E-4,9.4900651710953083E-4,9.4900651710953083E-4,9.4900651710953083E-4,9.4900651710953083E-4,9.4900651710953083E-4,9.4900651710953083E-4,9.4900651710953083E-4,9.4900651710953083E-4,9.4900651710953072E-4,9.4900651710953126E-4,9.4900651710953126E-4,9.4900651710953083E-4,9.4900651710953039E-4,9.4900651710953104E-4,9.4900651710953061E-4,9.4900651710953094E-4,9.4900651710953115E-4,9.4900651710953126E-4,9.4900651710953094E-4,9.4900651710953126E-4,9.4900651710953094E-4,9.4900651710953104E-4,9.4900651710953115E-4,9.4900651710953115E-4,9.4900651710953115E-4,9.4900651710953061E-4,9.4900651710953083E-4,9.4900651710953094E-4,9.4900651710953061E-4,9.490065171095305E-4,9.4900651710953061E-4,9.4900651710953104E-4]
[]
[null,null,"POST-Case",1990,{"$f":"D36+1","v":1991},1992,1993,1994,1995,1996,1997,1998,1999,2000,2001,2002,2003,2004,2005,2006,2007,2008,2009,2010,2011,2012,2013,2014,2015,2016,2017,2018,2019,2020,2021,2022,2023,2024,2025,2026,2027,2028,2029,2030,2031,2032,2033,2034]
[null,null,{"$f":"C10","v":"VOP.RC.M"},{"$f":"E37","v":4.8873835631140838E-2},4.8873835631140838E-2,4.8873835631140838E-2,4.8873835631140838E-2,4.8873835631140838E-2,4.8873835631140838E-2,4.8873835631140838E-2,4.8873835631140838E-2,4.8873835631140838E-2,4.8873835631140838E-2,4.8873835631140838E-2,4.8873835631140838E-2,4.8873835631140838E-2,4.8873835631140838E-2,4.8873835631140838E-2,4.8873835631140838E-2,4.8873835631140838E-2,4.8873835631140838E-2,4.8873835631140838E-2,{"$f":"X37","v":4.8873835631140838E-2},4.8873835631140838E-2,4.8873835631140838E-2,4.8873835631140852E-2,4.8873835631140845E-2,4.8873835631140845E-2,4.8873835631140811E-2,4.8873835631140845E-2,4.8873835631140831E-2,4.8873835631140838E-2,4.8873835631140852E-2,4.8873835631140852E-2,4.8873835631140838E-2,4.8873835631140845E-2,4.8873835631140852E-2,4.8873835631140838E-2,4.8873835631140859E-2,4.8873835631140845E-2,4.8873835631140852E-2,4.8873835631140831E-2,4.8873835631140838E-2,4.8873835631140838E-2,4.8873835631140838E-2,4.8873835631140825E-2,4.8873835631140831E-2,4.8873835631140852E-2]
[null,null,{"$f":"C11","v":"VOP.RC.L"},2.3725162927738276E-3,2.3725162927738276E-3,2.3725162927738276E-3,2.3725162927738276E-3,2.3725162927738276E-3,2.3725162927738276E-3,2.3725162927738276E-3,2.3725162927738276E-3,2.3725162927738276E-3,2.3725162927738276E-3,2.3725162927738276E-3,2.3725162927738276E-3,2.3725162927738276E-3,2.3725162927738276E-3,2.3725162927738276E-3,2.3725162927738276E-3,2.3725162927738276E-3,2.3725162927738276E-3,2.3725162927738276E-3,{"$f":"X38","v":2.3725162927738276E-3},2.3725162927738276E-3,2.3725162927738276E-3,2.372516292773828E-3,2.3725162927738276E-3,2.3725162927738267E-3,2.3725162927738259E-3,2.3725162927738276E-3,2.3725162927738263E-3,2.3725162927738276E-3,2.3725162927738276E-3,2.372516292773828E-3,2.3725162927738267E-3,2.372516292773828E-3,2.372516292773828E-3,2.3725162927738272E-3,2.372516292773828E-3,2.3725162927738272E-3,2.3725162927738276E-3,2.3725162927738276E-3,2.3725162927738272E-3,2.3725162927738272E-3,2.3725162927738276E-3,2.3725162927738267E-3,2.3725162927738267E-3,2.3725162927738272E-3]
[null,null,"SVO.RC.M",3.8909267201490766E-2,3.8909267201490766E-2,3.8909267201490766E-2,3.8909267201490766E-2,3.8909267201490766E-2,3.8909267201490766E-2,3.8909267201490766E-2,3.8909267201490766E-2,3.8909267201490766E-2,3.8909267201490766E-2,3.8909267201490766E-2,3.8909267201490766E-2,3.8909267201490766E-2,3.8909267201490766E-2,3.8909267201490766E-2,3.8909267201490766E-2,3.8909267201490766E-2,3.8909267201490766E-2,3.8909267201490766E-2,3.8909267201490766E-2,3.8909267201490766E-2,3.8909267201490773E-2,3.8909267201490773E-2,3.8909267201490773E-2,3.8909267201490766E-2,3.8909267201490752E-2,3.8909267201490773E-2,3.8909267201490759E-2,3.8909267201490766E-2,3.8909267201490773E-2,3.8909267201490773E-2,3.8909267201490766E-2,3.8909267201490773E-2,3.890926720149078E-2,3.8909267201490766E-2,3.890926720149078E-2,3.8909267201490773E-2,3.890926720149078E-2,3.8909267201490766E-2,3.8909267201490766E-2,3.8909267201490766E-2,3.8909267201490766E-2,3.8909267201490752E-2,3.8909267201490759E-2,3.8909267201490766E-2]
[null,null,"HZO.RC.M",6.1685423612119509E-3,6.1685423612119509E-3,6.1685423612119509E-3,6.1685423612119509E-3,6.1685423612119509E-3,6.1685423612119509E-3,6.1685423612119509E-3,6.1685423612119509E-3,6.1685423612119509E-3,6.1685423612119509E-3,6.1685423612119509E-3,6.1685423612119509E-3,6.1685423612119509E-3,6.1685423612119509E-3,6.1685423612119509E-3,6.1685423612119509E-3,6.1685423612119509E-3,6.1685423612119509E-3,6.1685423612119509E-3,6.1685423612119509E-3,6.1685423612119509E-3,6.1685423612119501E-3,6.1685423612119509E-3,6.1685423612119518E-3,6.1685423612119509E-3,6.1685423612119475E-3,6.1685423612119509E-3,6.1685423612119492E-3,6.1685423612119501E-3,6.1685423612119527E-3,6.1685423612119509E-3,6.1685423612119501E-3,6.1685423612119518E-3,6.1685423612119527E-3,6.1685423612119509E-3,6.1685423612119518E-3,6.1685423612119509E-3,6.1685423612119518E-3,6.1685423612119492E-3,6.1685423612119509E-3,6.1685423612119501E-3,6.1685423612119501E-3,6.1685423612119483E-3,6.1685423612119492E-3,6.1685423612119518E-3]
[null,null,"HZO.RC.L",1.8980130342190621E-2,1.8980130342190621E-2,1.8980130342190621E-2,1.8980130342190621E-2,1.8980130342190621E-2,1.8980130342190621E-2,1.8980130342190621E-2,1.8980130342190621E-2,1.8980130342190621E-2,1.8980130342190621E-2,1.8980130342190621E-2,1.8980130342190621E-2,1.8980130342190621E-2,1.8980130342190621E-2,1.8980130342190621E-2,1.8980130342190621E-2,1.8980130342190621E-2,1.8980130342190621E-2,1.8980130342190621E-2,1.8980130342190621E-2,1.8980130342190621E-2,1.8980130342190621E-2,1.8980130342190624E-2,1.8980130342190621E-2,1.8980130342190614E-2,1.8980130342190607E-2,1.8980130342190621E-2,1.8980130342190614E-2,1.8980130342190617E-2,1.8980130342190621E-2,1.8980130342190624E-2,1.8980130342190614E-2,1.8980130342190624E-2,1.8980130342190624E-2,1.8980130342190617E-2,1.8980130342190624E-2,1.8980130342190617E-2,1.8980130342190621E-2,1.8980130342190617E-2,1.8980130342190617E-2,1.8980130342190617E-2,1.8980130342190617E-2,1.898013034219061E-2,1.898013034219061E-2,1.8980130342190617E-2]
[null,null,"VCT.RC.M",3.7960260684381237E-3,3.7960260684381237E-3,3.7960260684381237E-3,3.7960260684381237E-3,3.7960260684381237E-3,3.7960260684381237E-3,3.7960260684381237E-3,3.7960260684381237E-3,3.7960260684381237E-3,3.7960260684381237E-3,3.7960260684381237E-3,3.7960260684381237E-3,3.7960260684381237E-3,3.7960260684381237E-3,3.7960260684381237E-3,3.7960260684381237E-3,3.7960260684381237E-3,3.7960260684381237E-3,3.7960260684381237E-3,3.7960260684381237E-3,3.7960260684381237E-3,3.7960260684381237E-3,3.7960260684381246E-3,3.7960260684381242E-3,3.7960260684381233E-3,3.7960260684381224E-3,3.7960260684381242E-3,3.7960260684381224E-3,3.7960260684381229E-3,3.7960260684381246E-3,3.7960260684381246E-3,3.7960260684381237E-3,3.7960260684381242E-3,3.7960260684381237E-3,3.7960260684381233E-3,3.7960260684381246E-3,3.7960260684381246E-3,3.7960260684381246E-3,3.7960260684381224E-3,3.7960260684381233E-3,3.7960260684381233E-3,3.7960260684381224E-3,3.796026068438122E-3,3.7960260684381224E-3,3.7960260684381237E-3]
[null,null,"VCT.RC.L",5.07718486653599E-2,5.07718486653599E-2,5.07718486653599E-2,5.07718486653599E-2,5.07718486653599E-2,5.07718486653599E-2,5.07718486653599E-2,5.07718486653599E-2,5.07718486653599E-2,5.07718486653599E-2,5.07718486653599E-2,5.07718486653599E-2,5.07718486653599E-2,5.07718486653599E-2,5.07718486653599E-2,5.07718486653599E-2,5.07718486653599E-2,5.07718486653599E-2,5.07718486653599E-2,5.07718486653599E-2,5.07718486653599E-2,5.0771848665359894E-2,5.0771848665359907E-2,5.0771848665359907E-2,5.0771848665359894E-2,5.0771848665359873E-2,5.0771848665359907E-2,5.0771848665359887E-2,5.0771848665359894E-2,5.0771848665359907E-2,5.07718486653599E-2,5.077184866535988E-2,5.07718486653599E-2,5.07718486653599E-2,5.0771848665359894E-2,5.0771848665359907E-2,5.0771848665359907E-2,5.0771848665359907E-2,5.0771848665359887E-2,5.07718486653599E-2,5.0771848665359894E-2,5.0771848665359894E-2,5.0771848665359887E-2,5.0771848665359887E-2,5.07718486653599E-2]
[null,null,"SOC.RC.M",1.2455710537062594E-2,1.2455710537062594E-2,1.2455710537062594E-2,1.2455710537062594E-2,1.2455710537062594E-2,1.2455710537062594E-2,1.2455710537062594E-2,1.2455710537062594E-2,1.2455710537062594E-2,1.2455710537062594E-2,1.2455710537062594E-2,1.2455710537062594E-2,1.2455710537062594E-2,1.2455710537062594E-2,1.2455710537062594E-2,1.2455710537062594E-2,1.2455710537062594E-2,1.2455710537062594E-2,1.2455710537062594E-2,1.2455710537062594E-2,1.2455710537062594E-2,1.2455710537062591E-2,1.2455710537062596E-2,1.2455710537062594E-2,1.2455710537062594E-2,1.2455710537062587E-2,1.2455710537062598E-2,1.2455710537062591E-2,1.2455710537062591E-2,1.2455710537062596E-2,1.2455710537062596E-2,1.2455710537062592E-2,1.2455710537062594E-2,1.2455710537062598E-2,1.2455710537062592E-2,1.2455710537062598E-2,1.2455710537062592E-2,1.2455710537062596E-2,1.2455710537062592E-2,1.2455710537062592E-2,1.2455710537062591E-2,1.2455710537062592E-2,1.2455710537062591E-2,1.2455710537062589E-2,1.2455710537062594E-2]
[null,null,"VOP.SC.M",1.5421355903029879E-2,1.5421355903029879E-2,1.5421355903029879E-2,1.5421355903029879E-2,1.5421355903029879E-2,1.5421355903029879E-2,1.5421355903029879E-2,1.5421355903029879E-2,1.5421355903029879E-2,1.5421355903029879E-2,1.5421355903029879E-2,1.5421355903029879E-2,1.5421355903029879E-2,1.5421355903029879E-2,1.5421355903029879E-2,1.5421355903029879E-2,1.5421355903029879E-2,1.5421355903029879E-2,1.5421355903029879E-2,1.5421355903029879E-2,1.5421355903029879E-2,1.5421355903029878E-2,1.5421355903029881E-2,1.5421355903029883E-2,1.5421355903029878E-2,1.5421355903029871E-2,1.5421355903029879E-2,1.5421355903029873E-2,1.5421355903029874E-2,1.5421355903029878E-2,1.5421355903029878E-2,1.5421355903029874E-2,1.5421355903029879E-2,1.5421355903029879E-2,1.5421355903029876E-2,1.5421355903029881E-2,1.5421355903029879E-2,1.5421355903029878E-2,1.5421355903029874E-2,1.5421355903029876E-2,1.5421355903029873E-2,1.5421355903029878E-2,1.5421355903029873E-2,1.5421355903029873E-2,1.5421355903029879E-2]
[null,null,"SVO.SC.M",1.3048839610256048E-2,1.3048839610256048E-2,1.3048839610256048E-2,1.3048839610256048E-2,1.3048839610256048E-2,1.3048839610256048E-2,1.3048839610256048E-2,1.3048839610256048E-2,1.3048839610256048E-2,1.3048839610256048E-2,1.3048839610256048E-2,1.3048839610256048E-2,1.3048839610256048E-2,1.3048839610256048E-2,1.3048839610256048E-2,1.3048839610256048E-2,1.3048839610256048E-2,1.3048839610256048E-2,1.3048839610256048E-2,1.3048839610256048E-2,1.3048839610256048E-2,1.3048839610256048E-2,1.304883961025605E-2,1.3048839610256048E-2,1.3048839610256045E-2,1.3048839610256041E-2,1.304883961025605E-2,1.3048839610256045E-2,1.3048839610256045E-2,1.3048839610256048E-2,1.3048839610256052E-2,1.3048839610256045E-2,1.304883961025605E-2,1.3048839610256048E-2,1.3048839610256048E-2,1.304883961025605E-2,1.3048839610256048E-2,1.304883961025605E-2,1.3048839610256043E-2,1.3048839610256047E-2,1.3048839610256045E-2,1.3048839610256045E-2,1.3048839610256043E-2,1.3048839610256045E-2,1.3048839610256047E-2]
[null,null,"HZO.SC.M",1.1862581463869138E-3,1.1862581463869138E-3,1.1862581463869138E-3,1.1862581463869138E-3,1.1862581463869138E-3,1.1862581463869138E-3,1.1862581463869138E-3,1.1862581463869138E-3,1.1862581463869138E-3,1.1862581463869138E-3,1.1862581463869138E-3,1.1862581463869138E-3,1.1862581463869138E-3,1.1862581463869138E-3,1.1862581463869138E-3,1.1862581463869138E-3,1.1862581463869138E-3,1.1862581463869138E-3,1.1862581463869138E-3,1.1862581463869138E-3,1.1862581463869138E-3,1.1862581463869138E-3,1.186258146386914E-3,1.1862581463869138E-3,1.1862581463869134E-3,1.1862581463869129E-3,1.1862581463869138E-3,1.1862581463869132E-3,1.1862581463869138E-3,1.1862581463869138E-3,1.186258146386914E-3,1.1862581463869134E-3,1.186258146386914E-3,1.186258146386914E-3,1.1862581463869136E-3,1.186258146386914E-3,1.1862581463869136E-3,1.1862581463869138E-3,1.1862581463869138E-3,1.1862581463869136E-3,1.1862581463869136E-3,1.1862581463869138E-3,1.1862581463869134E-3,1.1862581463869134E-3,1.1862581463869136E-3]
[null,null,"HZO.SC.L",2.3725162927738276E-3,2.3725162927738276E-3,2.3725162927738276E-3,2.3725162927738276E-3,2.3725162927738276E-3,2.3725162927738276E-3,2.3725162927738276E-3,2.3725162927738276E-3,2.3725162927738276E-3,2.3725162927738276E-3,2.3725162927738276E-3,2.3725162927738276E-3,2.3725162927738276E-3,2.3725162927738276E-3,2.3725162927738276E-3,2.3725162927738276E-3,2.3725162927738276E-3,2.3725162927738276E-3,2.3725162927738276E-3,2.3725162927738276E-3,2.3725162927738276E-3,2.3725162927738276E-3,2.372516292773828E-3,2.3725162927738276E-3,2.3725162927738272E-3,2.3725162927738259E-3,2.3725162927738276E-3,2.3725162927738267E-3,2.3725162927738272E-3,2.3725162927738276E-3,2.3725162927738276E-3,2.3725162927738267E-3,2.3725162927738276E-3,2.3725162927738276E-3,2.3725162927738272E-3,2.372516292773828E-3,2.3725162927738276E-3,2.3725162927738276E-3,2.3725162927738272E-3,2.3725162927738272E-3,2.3725162927738272E-3,2.3725162927738272E-3,2.3725162927738263E-3,2.3725162927738267E-3,2.3725162927738276E-3]
[null,null,"VCT.SC.M",5.6940391026571849E-2,5.6940391026571849E-2,5.6940391026571849E-2,5.6940391026571849E-2,5.6940391026571849E-2,5.6940391026571849E-2,5.6940391026571849E-2,5.6940391026571849E-2,5.6940391026571849E-2,5.6940391026571849E-2,5.6940391026571849E-2,5.6940391026571849E-2,5.6940391026571849E-2,5.6940391026571849E-2,5.6940391026571849E-2,5.6940391026571849E-2,5.6940391026571849E-2,5.6940391026571849E-2,5.6940391026571849E-2,5.6940391026571849E-2,5.6940391026571849E-2,5.6940391026571842E-2,5.6940391026571863E-2,5.694039102657187E-2,5.6940391026571856E-2,5.6940391026571814E-2,5.6940391026571856E-2,5.6940391026571835E-2,5.6940391026571849E-2,5.6940391026571863E-2,5.6940391026571863E-2,5.6940391026571842E-2,5.694039102657187E-2,5.694039102657187E-2,5.6940391026571856E-2,5.694039102657187E-2,5.6940391026571863E-2,5.6940391026571863E-2,5.6940391026571842E-2,5.6940391026571849E-2,5.6940391026571842E-2,5.6940391026571849E-2,5.6940391026571835E-2,5.6940391026571835E-2,5.6940391026571856E-2]
[null,null,"VCT.SC.L",2.7114471917415164E-3,2.7114471917415164E-3,2.7114471917415164E-3,2.7114471917415164E-3,2.7114471917415164E-3,2.7114471917415164E-3,2.7114471917415164E-3,2.7114471917415164E-3,{"$f":"M50","v":2.7114471917415164E-3},2.7114471917415164E-3,2.7114471917415164E-3,2.7114471917415164E-3,2.7114471917415164E-3,2.7114471917415164E-3,2.7114471917415164E-3,2.7114471917415164E-3,2.7114471917415164E-3,2.7114471917415164E-3,2.7114471917415164E-3,2.7114471917415164E-3,2.7114471917415164E-3,2.7114471917415168E-3,2.7114471917415168E-3,2.7114471917415168E-3,2.7114471917415164E-3,2.7114471917415151E-3,2.7114471917415168E-3,2.711447191741516E-3,2.711447191741516E-3,2.7114471917415168E-3,2.7114471917415168E-3,2.7114471917415164E-3,2.7114471917415173E-3,2.7114471917415168E-3,2.7114471917415168E-3,2.7114471917415173E-3,2.7114471917415168E-3,2.7114471917415168E-3,2.711447191741516E-3,2.7114471917415164E-3,2.7114471917415164E-3,2.711447191741516E-3,2.711447191741516E-3,2.711447191741516E-3,2.7114471917415168E-3]
[null,null,"VCS.SC.M",0.30130956918227603,0.30130956918227603,0.30130956918227603,0.30130956918227603,0.30130956918227603,0.30130956918227603,0.30130956918227603,0.30130956918227603,0.30130956918227603,0.30130956918227603,0.30130956918227603,0.30130956918227603,0.30130956918227603,0.30130956918227603,0.30130956918227603,0.30130956918227603,0.30130956918227603,0.30130956918227603,0.30130956918227603,0.30130956918227603,0.30130956918227603,0.30130956918227603,0.30130956918227614,0.30130956918227608,0.30130956918227603,0.30130956918227597,0.30130956918227608,0.30130956918227597,0.30130956918227603,0.30130956918227608,0.30130956918227614,0.30130956918227603,0.30130956918227608,0.30130956918227608,0.30130956918227603,0.30130956918227608,0.30130956918227608,0.30130956918227608,0.30130956918227592,0.30130956918227603,0.30130956918227603,0.30130956918227603,0.30130956918227597,0.30130956918227597,0.30130956918227608]
[null,null,"VCS.SC.L",0.20335853938061371,0.20335853938061371,0.20335853938061371,0.20335853938061371,0.20335853938061371,0.20335853938061371,0.20335853938061371,0.20335853938061371,0.20335853938061371,0.20335853938061371,0.20335853938061371,0.20335853938061371,0.20335853938061371,0.20335853938061371,0.20335853938061371,0.20335853938061371,0.20335853938061371,0.20335853938061371,0.20335853938061371,0.20335853938061371,0.20335853938061371,0.20335853938061374,0.20335853938061377,0.20335853938061377,0.20335853938061368,0.20335853938061357,0.20335853938061371,0.20335853938061366,0.20335853938061368,0.20335853938061374,0.20335853938061377,0.20335853938061368,0.20335853938061374,0.20335853938061374,0.20335853938061368,0.2033585393806138,0.20335853938061377,0.2033585393806138,0.20335853938061371,0.20335853938061371,0.20335853938061371,0.20335853938061371,0.20335853938061368,0.20335853938061371,0.20335853938061374]
[null,null,"HCT.SC.M",1.5816775285158852E-3,1.5816775285158852E-3,1.5816775285158852E-3,1.5816775285158852E-3,1.5816775285158852E-3,1.5816775285158852E-3,1.5816775285158852E-3,1.5816775285158852E-3,1.5816775285158852E-3,1.5816775285158852E-3,1.5816775285158852E-3,1.5816775285158852E-3,1.5816775285158852E-3,1.5816775285158852E-3,1.5816775285158852E-3,1.5816775285158852E-3,1.5816775285158852E-3,1.5816775285158852E-3,1.5816775285158852E-3,1.5816775285158852E-3,1.5816775285158852E-3,1.581677528515885E-3,1.5816775285158852E-3,1.581677528515885E-3,1.5816775285158846E-3,1.5816775285158841E-3,1.5816775285158852E-3,1.5816775285158844E-3,1.5816775285158846E-3,1.5816775285158852E-3,1.5816775285158852E-3,1.5816775285158848E-3,1.5816775285158852E-3,1.581677528515885E-3,1.5816775285158848E-3,1.5816775285158854E-3,1.5816775285158848E-3,1.5816775285158852E-3,1.5816775285158848E-3,1.581677528515885E-3,1.5816775285158848E-3,1.5816775285158848E-3,1.5816775285158846E-3,1.5816775285158846E-3,1.581677528515885E-3]
[null,null,"HCT.SC.L",6.3267101140635409E-3,6.3267101140635409E-3,6.3267101140635409E-3,6.3267101140635409E-3,6.3267101140635409E-3,6.3267101140635409E-3,6.3267101140635409E-3,6.3267101140635409E-3,6.3267101140635409E-3,6.3267101140635409E-3,6.3267101140635409E-3,6.3267101140635409E-3,6.3267101140635409E-3,6.3267101140635409E-3,6.3267101140635409E-3,6.3267101140635409E-3,6.3267101140635409E-3,6.3267101140635409E-3,6.3267101140635409E-3,6.3267101140635409E-3,6.3267101140635409E-3,6.32671011406354E-3,6.3267101140635417E-3,6.3267101140635417E-3,6.3267101140635391E-3,6.3267101140635365E-3,6.3267101140635409E-3,6.3267101140635374E-3,6.3267101140635391E-3,6.3267101140635409E-3,6.3267101140635409E-3,6.3267101140635391E-3,6.3267101140635409E-3,6.32671011406354E-3,6.3267101140635391E-3,6.32671011406354E-3,6.3267101140635391E-3,6.32671011406354E-3,6.3267101140635374E-3,6.32671011406354E-3,6.3267101140635383E-3,6.3267101140635391E-3,6.3267101140635365E-3,6.3267101140635383E-3,6.32671011406354E-3]
[null,null,"HCS.SC.M",5.219535844102418E-2,5.219535844102418E-2,5.219535844102418E-2,5.219535844102418E-2,5.219535844102418E-2,5.219535844102418E-2,5.219535844102418E-2,5.219535844102418E-2,5.219535844102418E-2,5.219535844102418E-2,5.219535844102418E-2,5.219535844102418E-2,5.219535844102418E-2,5.219535844102418E-2,5.219535844102418E-2,5.219535844102418E-2,5.219535844102418E-2,5.219535844102418E-2,5.219535844102418E-2,5.219535844102418E-2,5.219535844102418E-2,5.2195358441024194E-2,5.2195358441024201E-2,5.2195358441024194E-2,5.219535844102418E-2,5.2195358441024166E-2,5.2195358441024187E-2,5.2195358441024173E-2,5.219535844102418E-2,5.2195358441024194E-2,5.2195358441024207E-2,5.219535844102418E-2,5.2195358441024201E-2,5.2195358441024194E-2,5.2195358441024187E-2,5.2195358441024201E-2,5.219535844102418E-2,5.2195358441024187E-2,5.2195358441024173E-2,5.2195358441024187E-2,5.219535844102418E-2,5.219535844102418E-2,5.2195358441024173E-2,5.219535844102418E-2,5.2195358441024187E-2]
[null,null,"HCS.SC.L",5.6940391026571854E-3,5.6940391026571854E-3,5.6940391026571854E-3,5.6940391026571854E-3,5.6940391026571854E-3,5.6940391026571854E-3,5.6940391026571854E-3,5.6940391026571854E-3,5.6940391026571854E-3,5.6940391026571854E-3,5.6940391026571854E-3,5.6940391026571854E-3,5.6940391026571854E-3,5.6940391026571854E-3,5.6940391026571854E-3,5.6940391026571854E-3,5.6940391026571854E-3,5.6940391026571854E-3,5.6940391026571854E-3,5.6940391026571854E-3,5.6940391026571854E-3,5.6940391026571837E-3,5.6940391026571863E-3,5.6940391026571854E-3,5.6940391026571845E-3,5.6940391026571819E-3,5.6940391026571845E-3,5.6940391026571828E-3,5.6940391026571837E-3,5.6940391026571854E-3,5.6940391026571863E-3,5.6940391026571837E-3,5.6940391026571854E-3,5.6940391026571854E-3,5.6940391026571845E-3,5.6940391026571863E-3,5.6940391026571854E-3,5.6940391026571854E-3,5.6940391026571828E-3,5.6940391026571854E-3,5.6940391026571845E-3,5.6940391026571845E-3,5.6940391026571837E-3,5.6940391026571828E-3,5.6940391026571854E-3]
[null,null,"SOC.SC.M",1.8980130342190617E-3,1.8980130342190617E-3,1.8980130342190617E-3,1.8980130342190617E-3,1.8980130342190617E-3,1.8980130342190617E-3,1.8980130342190617E-3,1.8980130342190617E-3,1.8980130342190617E-3,1.8980130342190617E-3,1.8980130342190617E-3,1.8980130342190617E-3,1.8980130342190617E-3,1.8980130342190617E-3,1.8980130342190617E-3,1.8980130342190617E-3,1.8980130342190617E-3,1.8980130342190617E-3,1.8980130342190617E-3,1.8980130342190617E-3,1.8980130342190617E-3,1.8980130342190619E-3,1.8980130342190623E-3,1.8980130342190621E-3,1.8980130342190614E-3,1.8980130342190608E-3,1.8980130342190621E-3,1.8980130342190612E-3,1.8980130342190614E-3,1.8980130342190623E-3,1.8980130342190623E-3,1.8980130342190619E-3,1.8980130342190621E-3,1.8980130342190619E-3,1.8980130342190621E-3,1.8980130342190623E-3,1.8980130342190619E-3,1.8980130342190623E-3,1.8980130342190612E-3,1.8980130342190617E-3,1.8980130342190619E-3,1.8980130342190617E-3,1.8980130342190614E-3,1.8980130342190614E-3,1.8980130342190621E-3]
[null,null,"PD.SC.M",0.14424899060064872,0.14424899060064872,0.14424899060064872,0.14424899060064872,0.14424899060064872,0.14424899060064872,0.14424899060064872,0.14424899060064872,0.14424899060064872,0.14424899060064872,0.14424899060064872,0.14424899060064872,0.14424899060064872,0.14424899060064872,0.14424899060064872,0.14424899060064872,0.14424899060064872,0.14424899060064872,0.14424899060064872,0.14424899060064872,0.14424899060064872,0.14424899060064872,0.14424899060064872,0.14424899060064875,0.14424899060064869,0.14424899060064864,0.14424899060064872,0.14424899060064866,0.14424899060064869,0.14424899060064872,0.14424899060064872,0.14424899060064869,0.14424899060064872,0.14424899060064872,0.14424899060064872,0.14424899060064875,0.14424899060064869,0.14424899060064872,0.14424899060064866,0.14424899060064869,0.14424899060064866,0.14424899060064869,0.14424899060064866,0.14424899060064866,0.14424899060064872]
[null,null,"VCT.SC.I",2.8470195513285936E-3,2.8470195513285936E-3,2.8470195513285936E-3,2.8470195513285936E-3,2.8470195513285936E-3,2.8470195513285936E-3,2.8470195513285936E-3,2.8470195513285936E-3,2.8470195513285936E-3,2.8470195513285936E-3,2.8470195513285936E-3,2.8470195513285936E-3,2.8470195513285936E-3,2.8470195513285936E-3,2.8470195513285936E-3,2.8470195513285936E-3,2.8470195513285936E-3,2.8470195513285936E-3,2.8470195513285936E-3,2.8470195513285936E-3,2.8470195513285936E-3,2.8470195513285918E-3,2.8470195513285931E-3,2.8470195513285918E-3,2.8470195513285931E-3,2.8470195513285905E-3,2.8470195513285923E-3,2.8470195513285918E-3,2.8470195513285923E-3,2.8470195513285927E-3,2.8470195513285931E-3,2.8470195513285914E-3,2.8470195513285927E-3,2.8470195513285923E-3,2.8470195513285931E-3,2.8470195513285927E-3,2.8470195513285927E-3,2.8470195513285923E-3,2.8470195513285918E-3,2.8470195513285923E-3,2.8470195513285923E-3,2.8470195513285927E-3,2.8470195513285914E-3,2.8470195513285914E-3,2.8470195513285927E-3]
[null,null,"HCT.SC.I",5.5823912771148882E-3,5.5823912771148882E-3,5.5823912771148882E-3,5.5823912771148882E-3,5.5823912771148882E-3,5.5823912771148882E-3,5.5823912771148882E-3,5.5823912771148882E-3,5.5823912771148882E-3,5.5823912771148882E-3,5.5823912771148882E-3,5.5823912771148882E-3,5.5823912771148882E-3,5.5823912771148882E-3,5.5823912771148882E-3,5.5823912771148882E-3,5.5823912771148882E-3,5.5823912771148882E-3,5.5823912771148882E-3,5.5823912771148882E-3,5.5823912771148882E-3,5.5823912771148882E-3,5.5823912771148891E-3,5.5823912771148882E-3,5.5823912771148874E-3,5.5823912771148848E-3,5.5823912771148882E-3,5.5823912771148865E-3,5.5823912771148874E-3,5.5823912771148891E-3,5.5823912771148882E-3,5.5823912771148865E-3,5.5823912771148891E-3,5.5823912771148874E-3,5.5823912771148874E-3,5.5823912771148891E-3,5.5823912771148882E-3,5.5823912771148891E-3,5.5823912771148865E-3,5.5823912771148882E-3,5.5823912771148865E-3,5.5823912771148874E-3,5.5823912771148865E-3,5.5823912771148874E-3,5.5823912771148874E-3]
[null,null,"VCS.SC.I",9.4900651710953083E-4,9.4900651710953083E-4,9.4900651710953083E-4,9.4900651710953083E-4,9.4900651710953083E-4,9.4900651710953083E-4,9.4900651710953083E-4,9.4900651710953083E-4,9.4900651710953083E-4,9.4900651710953083E-4,9.4900651710953083E-4,9.4900651710953083E-4,9.4900651710953083E-4,9.4900651710953083E-4,9.4900651710953083E-4,9.4900651710953083E-4,9.4900651710953083E-4,9.4900651710953083E-4,9.4900651710953083E-4,9.4900651710953083E-4,9.4900651710953083E-4,9.4900651710953072E-4,9.4900651710953126E-4,9.4900651710953126E-4,9.4900651710953083E-4,9.4900651710953039E-4,9.4900651710953104E-4,9.4900651710953061E-4,9.4900651710953039E-4,9.4900651710953104E-4,9.4900651710953115E-4,9.4900651710953072E-4,9.4900651710953104E-4,9.4900651710953083E-4,9.4900651710953083E-4,9.4900651710953083E-4,9.4900651710953094E-4,9.4900651710953083E-4,9.490065171095305E-4,9.4900651710953072E-4,9.4900651710953061E-4,9.490065171095305E-4,9.490065171095305E-4,9.4900651710953061E-4,9.4900651710953072E-4]
[]
[null,null,"Source/Rationale","Calculated from DOE Commercial Refrigeration Equipment 2014 Final Rule, Technical Support Document: Final Rule Government Regulatory Impact Model (GRIM), 'Shipments' tab, cells F20:AD20, F32:AD32, F44:AD44, F256:AD56, F68:AD68, F80:AD80, F92:AD92, F104:AD104, F116:AD116, F128:AD128, F140:AD140, F152:AD152, F164:AD164, F176:AD176, F188:AD188, F200:AD200, F212:AD212, F224:AD224, F236:AD236, F248:AD248, F260:AD260, F272:AD272, F284:AD284, F296:AD296, F308:AD308, http://www.regulations.gov/#!documentDetail;D=EERE-2010-BT-STD-0003-0099"]

{"sheet":"Efficiency Dist","index":9,"n_rows":871,"n_cols":52,"rows_kept":871,"cut":false,"hidden":false,"merged":[[1,2,1,6],[3,2,3,6],[5,2,5,6]]}
[]
[null,null,"Efficiency Distributions by Product Class - Single Family"]
[]
[null,null,{"$f":"Navigation!$C$15","v":"NAVIGATION"}]
[]
[null,null,"COMMENTS"]
[]
[]
[null,null,null,{"$f":"'Product Classes'!O10","v":"VOP.RC.M"}]
[]
[null,null,null,"PRE-Case",null,"Static Distribution"]
[null,null,null,"Efficiency Level","EL (kWh/year)",2006,null,1990,{"$f":"H12+1","v":1991},{"$f":"I12+1","v":1992},1993,1994,1995,1996,1997,1998,1999,2000,2001,2002,2003,2004,2005,2006,2007,2008,2009,2010,2011,2012,2013,2014,2015,2016,2017,2018,2019,2020,2021,2022,2023,2024,2025,2026,2027,2028,2029,2030,2031,2032,2033,2034]
[null,null,null,{"$f":"'Efficiency Levels'!C12","v":"EL0"},{"$f":"'Efficiency Levels'!D12","v":17611.876571237255},1,null,{"$f":"$F13","v":1},1,1,1,1,1,1,1,1,1,1,1,1,1,1,1,{"$f":"$F13","v":1},1,1,1,1,1,0,0,0,0,0,0,0,0,0,0,0,0,0,0,0,0,0,0,0,0,0,0,0]
[null,null,null,{"$f":"'Efficiency Levels'!C13","v":"EL1"},{"$f":"'Efficiency Levels'!D13","v":14504.254149433773},0,null,0,{"$f":"$F14","v":0},0,0,0,0,0,0,0,0,0,0,0,0,0,0,0,0,0,0,0,0,0,0,0,0,0,0,0,0,0,0,0,0,0,0,0,0,0,0,0,0,0,0,0]
[null,null,null,{"$f":"'Efficiency Levels'!C14","v":"EL2"},{"$f":"'Efficiency Levels'!D14","v":14246.114180933646},0,null,0,{"$f":"$F15","v":0},0,0,0,0,0,0,0,0,0,0,0,0,0,0,0,0,0,0,0,0,0.6,0.6,0.6,0.6,0.6,0.6,0.6,0.6,0.6,0.6,0.6,0.6,0.6,0.6,0.6,0.6,0.6,0.6,0.6,0.6,0.6,0.6,0.6]
[null,null,null,{"$f":"'Efficiency Levels'!C15","v":"EL3"},{"$f":"'Efficiency Levels'!D15","v":11564.011248374145},0,null,0,{"$f":"$F16","v":0},0,0,0,0,0,0,0,0,0,0,0,0,0,0,0,0,0,0,0,0,0.4,0.4,0.4,0.4,0.4,0.4,0.4,0.4,0.4,0.4,0.4,0.4,0.4,0.4,0.4,0.4,0.4,0.4,0.4,0.4,0.4,0.4,0.4]
[null,null,null,{"$f":"'Efficiency Levels'!C16","v":"EL4"},{"$f":"'Efficiency Levels'!D16","v":11483.864535078837},0,null,0,0,0,0,0,0,0,0,0,0,0,0,0,0,0,0,0,0,0,0,0,0,0,0,0,0,0,0,0,0,0,0,0,0,0,0,0,0,0,0,0,0,0,0,0]
[null,null,null,{"$f":"'Efficiency Levels'!C17","v":"EL5"},{"$f":"'Efficiency Levels'!D17","v":10980.769516783677},0,null,0,0,0,0,0,0,0,0,0,0,0,0,0,0,0,0,0,0,0,0,0,0,0,0,0,0,0,0,0,0,0,0,{"$f":"$F18","v":0},0,0,0,0,0,0,0,0,0,0,0,0]
[null,null,null,{"$f":"'Efficiency Levels'!C18","v":"EL6"},{"$f":"'Efficiency Levels'!D18","v":10844.095967213381},0,null,0,0,0,0,0,0,0,0,0,0,0,0,0,0,0,0,0,0,0,0,0,0,0,0,0,0,0,0,0,0,0,0,0,0,0,0,0,0,0,0,0,0,0,0,0]
[null,null,null,{"$f":"'Efficiency Levels'!C19","v":"EL7"},{"$f":"'Efficiency Levels'!D19","v":10844.095967213381},0,null,0,0,0,0,0,0,0,0,0,0,0,0,0,0,0,0,0,0,0,0,0,0,0,0,0,0,0,0,0,0,0,0,0,0,0,0,0,0,0,0,0,0,0,0,0]
[null,null,null,{"$f":"'Efficiency Levels'!C20","v":"EL8"},{"$f":"'Efficiency Levels'!D20","v":10844.095967213381},0,null,0,0,0,0,0,0,0,0,0,0,0,0,0,0,0,0,0,0,0,0,0,0,0,0,0,0,0,0,0,0,0,0,0,0,0,0,0,0,0,0,0,0,0,0,0]
[null,null,null,{"$f":"'Efficiency Levels'!C21","v":"EL9"},{"$f":"'Efficiency Levels'!D21","v":10844.095967213381},0,null,0,0,0,0,0,0,0,0,0,0,0,0,0,0,0,0,0,0,0,0,0,0,0,0,0,0,0,0,0,0,0,0,0,0,0,0,0,0,0,0,0,0,0,0,0]
[null,null,null,"TOTAL",null,{"$f":"SUM(F13:F22)","v":1},null,{"$f":"SUM(H13:H22)","v":1},{"$f":"SUM(I13:I22)","v":1},1,1,1,1,1,1,1,1,1,1,1,1,1,1,1,1,1,1,1,1,1,1,1,1,1,1,1,1,1,1,1,1,1,1,1,1,1,1,1,1,1,1,1]
[]
[null,null,null,"POST-Case"]
[null,null,null,"Efficiency Level","EL (kWh/year)",null,null,1990,{"$f":"H26+1","v":1991},{"$f":"I26+1","v":1992},1993,1994,1995,1996,1997,1998,1999,2000,2001,2002,2003,2004,2005,{"$f":"X12","v":2006},2007,2008,2009,2010,2011,2012,2013,2014,2015,2016,2017,2018,2019,2020,2021,2022,2023,2024,2025,2026,2027,2028,2029,2030,2031,2032,2033,2034]
[null,null,null,{"$f":"D13","v":"EL0"},{"$f":"E13","v":17611.876571237255},null,null,{"$f":"H13","v":1},{"$f":"I13","v":1},1,1,1,1,1,1,1,1,1,1,1,1,1,1,1,1,1,1,1,1,0,0,0,0,0,0,0,0,0,0,0,0,0,0,0,0,0,0,0,0,0,0,0]
[null,null,null,{"$f":"D14","v":"EL1"},14504.254149433773,null,null,0,{"$f":"I14","v":0},0,0,0,0,0,0,0,0,0,0,0,0,0,0,0,0,0,0,0,0,0,0,0,0,0,0,0,0,0,0,0,0,0,0,0,0,0,0,0,0,0,0,0]
[null,null,null,{"$f":"D15","v":"EL2"},14246.114180933646,null,null,0,{"$f":"I15","v":0},0,0,0,0,0,0,0,0,0,0,0,0,0,0,0,0,0,0,0,0,0.6,0.6,0.6,0.6,0.6,0,0,0,0,0,0,0,0,0,0,0,0,0,0,0,0,0,0]
[null,null,null,{"$f":"D16","v":"EL3"},11564.011248374145,null,null,0,{"$f":"I16","v":0},0,0,0,0,0,0,0,0,0,0,0,0,0,0,0,0,0,0,0,0,0.4,0.4,0.4,0.4,0.4,{"$f":"SUM(AI13:AI16)","v":1},{"$f":"SUM(AJ13:AJ16)","v":1},1,1,1,1,1,1,1,1,1,1,1,1,1,1,1,1]
[null,null,null,{"$f":"D17","v":"EL4"},11483.864535078837,null,null,0,{"$f":"I17","v":0},0,0,0,0,0,0,0,0,0,0,0,0,0,0,0,0,0,0,0,0,0,0,0,0,0,0,0,0,0,0,0,0,0,0,0,0,0,0,0,0,0,0,0]
[null,null,null,{"$f":"D18","v":"EL5"},10980.769516783677,null,null,0,{"$f":"I18","v":0},0,0,0,0,0,0,0,0,0,0,0,0,0,0,0,0,0,0,0,0,0,0,0,0,0,0,0,0,0,0,0,0,0,0,0,0,0,0,0,0,0,0,0]
[null,null,null,{"$f":"D19","v":"EL6"},10844.095967213381,null,null,0,{"$f":"I19","v":0},0,0,0,0,0,0,0,0,0,0,0,0,0,0,0,0,0,0,0,0,0,0,0,0,0,0,0,0,0,0,0,0,0,0,0,0,0,0,0,0,0,0,0]
[null,null,null,{"$f":"D20","v":"EL7"},10844.095967213381,null,null,{"$f":"H20","v":0},0,0,0,0,0,0,0,0,0,0,0,0,0,0,0,0,0,0,0,0,0,0,0,0,0,0,0,0,0,0,0,0,0,0,0,0,0,0,0,0,0,0,0,0]
[null,null,null,{"$f":"D21","v":"EL8"},10844.095967213381,null,null,0,0,0,0,0,0,0,0,0,0,0,0,0,0,0,0,0,0,0,0,0,0,0,0,0,0,0,0,0,0,0,0,0,0,0,0,0,0,0,0,0,0,0,0,0]
[null,null,null,{"$f":"D22","v":"EL9"},10844.095967213381,null,null,0,0,0,0,0,0,0,0,0,0,0,0,0,0,0,0,0,0,0,0,0,0,0,0,0,0,0,0,0,0,0,0,0,0,0,0,0,0,0,0,0,0,0,0,0]
[null,null,null,"TOTAL",null,null,null,{"$f":"SUM(H27:H36)","v":1},{"$f":"SUM(I27:I36)","v":1},1,1,1,1,1,1,1,1,1,1,1,1,1,1,1,1,1,1,1,1,1,1,1,1,1,1,1,1,1,1,1,1,1,1,1,1,1,1,1,1,1,1,1]
[]
[null,null,null,"Sources","DOE Commercial Refrigeration Equipment 2014 Final Rule, Technical Support Document: Final Rule National Impact Analysis Spreadsheet, 'Market Share Inputs' tab, cells B3:J35, http://www.regulations.gov/#!documentDetail;D=EERE-2010-BT-STD-0003-0101"]
[]
[]
[]
[]
[null,null,null,{"$f":"'Product Classes'!O11","v":"VOP.RC.L"}]
[]
[null,null,null,"PRE-Case",null,"Static Distribution"]
[null,null,null,"Efficiency Level","EL (kWh/year)",2006,null,1990,{"$f":"H47+1","v":1991},{"$f":"I47+1","v":1992},{"$f":"J47+1","v":1993},{"$f":"K47+1","v":1994},{"$f":"L47+1","v":1995},{"$f":"M47+1","v":1996},{"$f":"N47+1","v":1997},{"$f":"O47+1","v":1998},{"$f":"P47+1","v":1999},{"$f":"Q47+1","v":2000},{"$f":"R47+1","v":2001},{"$f":"S47+1","v":2002},{"$f":"T47+1","v":2003},{"$f":"U47+1","v":2004},{"$f":"V47+1","v":2005},{"$f":"W47+1","v":2006},{"$f":"X47+1","v":2007},{"$f":"Y47+1","v":2008},{"$f":"Z47+1","v":2009},{"$f":"AA47+1","v":2010},{"$f":"AB47+1","v":2011},{"$f":"AC47+1","v":2012},{"$f":"AD47+1","v":2013},{"$f":"AE47+1","v":2014},{"$f":"AF47+1","v":2015},{"$f":"AG47+1","v":2016},{"$f":"AH47+1","v":2017},{"$f":"AI47+1","v":2018},{"$f":"AJ47+1","v":2019},{"$f":"AK47+1","v":2020},{"$f":"AL47+1","v":2021},{"$f":"AM47+1","v":2022},{"$f":"AN47+1","v":2023},{"$f":"AO47+1","v":2024},{"$f":"AP47+1","v":2025},{"$f":"AQ47+1","v":2026},{"$f":"AR47+1","v":2027},{"$f":"AS47+1","v":2028},{"$f":"AT47+1","v":2029},{"$f":"AU47+1","v":2030},{"$f":"AV47+1","v":2031},{"$f":"AW47+1","v":2032},{"$f":"AX47+1","v":2033},{"$f":"AY47+1","v":2034}]
[null,null,null,{"$f":"'Efficiency Levels'!C30","v":"EL0"},{"$f":"'Efficiency Levels'!D30","v":40637.038977007309},1,null,{"$f":"$F48","v":1},1,1,1,1,1,1,1,1,1,1,1,1,1,1,1,{"$f":"$F48","v":1},1,1,1,1,1,0,0,0,0,0,0,0,0,0,0,0,0,0,0,0,0,0,0,0,0,0,0,0]
[null,null,null,{"$f":"'Efficiency Levels'!C31","v":"EL1"},{"$f":"'Efficiency Levels'!D31","v":32971.895534969815},0,null,0,0,0,0,0,0,0,0,0,0,0,0,0,0,0,0,0,0,0,0,0,0,0,0,0,0,0,0,0,0,0,0,{"$f":"$F49","v":0},0,0,0,0,0,0,0,0,0,0,0,0]
[null,null,null,{"$f":"'Efficiency Levels'!C32","v":"EL2"},{"$f":"'Efficiency Levels'!D32","v":32119.883357774619},0,null,0,0,0,0,0,0,0,0,0,0,0,0,0,0,0,0,0,0,0,0,0,0,0.6,0.6,0.6,0.6,0.6,0.6,0.6,0.6,0.6,0.6,0.6,0.6,0.6,0.6,0.6,0.6,0.6,0.6,0.6,0.6,0.6,0.6,0.6]
[null,null,null,{"$f":"'Efficiency Levels'!C33","v":"EL3"},{"$f":"'Efficiency Levels'!D33","v":31917.738514508419},0,null,0,0,0,0,0,0,0,0,0,0,0,0,0,0,0,0,0,0,0,0,0,0,0.2,0.2,0.2,0.2,0.2,0.2,0.2,0.2,0.2,0.2,0.2,0.2,0.2,0.2,0.2,0.2,0.2,0.2,0.2,0.2,0.2,0.2,0.2]
[null,null,null,{"$f":"'Efficiency Levels'!C34","v":"EL4"},{"$f":"'Efficiency Levels'!D34","v":30931.202020113829},0,null,0,0,0,0,0,0,0,0,0,0,0,0,0,0,0,0,0,0,0,0,0,0,0.2,0.2,0.2,0.2,0.2,0.2,0.2,0.2,0.2,0.2,0.2,0.2,0.2,0.2,0.2,0.2,0.2,0.2,0.2,0.2,0.2,0.2,0.2]
[null,null,null,{"$f":"'Efficiency Levels'!C35","v":"EL5"},{"$f":"'Efficiency Levels'!D35","v":30418.541122189981},0,null,0,0,0,0,0,0,0,0,0,0,0,0,0,0,0,0,0,0,0,0,0,0,0,0,0,0,0,0,0,0,0,0,{"$f":"$F53","v":0},0,0,0,0,0,0,0,0,0,0,0,0]
[null,null,null,{"$f":"'Efficiency Levels'!C36","v":"EL6"},{"$f":"'Efficiency Levels'!D36","v":30418.541122189981},0,null,0,0,0,0,0,0,0,0,0,0,0,0,0,0,0,0,0,0,0,0,0,0,0,0,0,0,0,0,0,0,0,0,0,0,0,0,0,0,0,0,0,0,0,0,0]
[null,null,null,{"$f":"'Efficiency Levels'!C37","v":"EL7"},{"$f":"'Efficiency Levels'!D37","v":30418.541122189981},0,null,0,0,0,0,0,0,0,0,0,0,0,0,0,0,0,0,0,0,0,0,0,0,0,0,0,0,0,0,0,0,0,0,0,0,0,0,0,0,0,0,0,0,0,0,0]
[null,null,null,{"$f":"'Efficiency Levels'!C38","v":"EL8"},{"$f":"'Efficiency Levels'!D38","v":30418.541122189981},0,null,0,0,0,0,0,0,0,0,0,0,0,0,0,0,0,0,0,0,0,0,0,0,0,0,0,0,0,0,0,0,0,0,0,0,0,0,0,0,0,0,0,0,0,0,0]
[null,null,null,{"$f":"'Efficiency Levels'!C39","v":"EL9"},{"$f":"'Efficiency Levels'!D39","v":30418.541122189981},0,null,0,0,0,0,0,0,0,0,0,0,0,0,0,0,0,0,0,0,0,0,0,0,0,0,0,0,0,0,0,0,0,0,0,0,0,0,0,0,0,0,0,0,0,0,0]
[null,null,null,"TOTAL",null,{"$f":"SUM(F48:F57)","v":1},null,{"$f":"SUM(H48:H57)","v":1},{"$f":"SUM(I48:I57)","v":1},1,1,1,1,1,1,1,1,1,1,1,1,1,1,1,1,1,1,1,1,1,1,1,1,1,1,1,1,1,1,1,1,1,1,1,1,1,1,1,1,1,1,1]
[]
[null,null,null,"POST-Case"]
[null,null,null,"Efficiency Level","EL (kWh/year)",null,null,1990,{"$f":"H61+1","v":1991},{"$f":"I61+1","v":1992},{"$f":"J61+1","v":1993},{"$f":"K61+1","v":1994},{"$f":"L61+1","v":1995},{"$f":"M61+1","v":1996},{"$f":"N61+1","v":1997},{"$f":"O61+1","v":1998},{"$f":"P61+1","v":1999},{"$f":"Q61+1","v":2000},{"$f":"R61+1","v":2001},{"$f":"S61+1","v":2002},{"$f":"T61+1","v":2003},{"$f":"U61+1","v":2004},{"$f":"V61+1","v":2005},{"$f":"X47","v":2006},2007,2008,2009,2010,2011,2012,2013,2014,2015,2016,2017,2018,2019,2020,2021,2022,2023,2024,2025,2026,2027,2028,2029,2030,2031,2032,2033,2034]
[null,null,null,{"$f":"D48","v":"EL0"},{"$f":"E48","v":40637.038977007309},null,null,{"$f":"H48","v":1},1,1,1,1,1,1,1,1,1,1,1,1,1,1,1,1,1,1,1,1,1,0,0,0,0,0,0,0,0,0,0,0,0,0,0,0,0,0,0,0,0,0,0,0]
[null,null,null,{"$f":"D49","v":"EL1"},32971.895534969815,null,null,0,0,0,0,0,0,0,0,0,0,0,0,0,0,0,0,0,0,0,0,0,0,0,0,0,0,0,0,0,0,0,0,0,0,0,0,0,0,0,0,0,0,0,0,0]
[null,null,null,{"$f":"D50","v":"EL2"},32119.883357774619,null,null,0,0,0,0,0,0,0,0,0,0,0,0,0,0,0,0,0,0,0,0,0,0,0.6,0.6,0.6,0.6,0.6,0,0,0,0,0,0,0,0,0,0,0,0,0,0,0,0,0,0]
[null,null,null,{"$f":"D51","v":"EL3"},31917.738514508419,null,null,0,0,0,0,0,0,0,0,0,0,0,0,0,0,0,0,0,0,0,0,0,0,0.2,0.2,0.2,0.2,0.2,{"$f":"SUM(AI48:AI51)","v":0.8},{"$f":"SUM(AJ48:AJ51)","v":0.8},0.8,0.8,0.8,0.8,0.8,0.8,0.8,0.8,0.8,0.8,0.8,0.8,0.8,0.8,0.8,0.8]
[null,null,null,{"$f":"D52","v":"EL4"},30931.202020113829,null,null,0,0,0,0,0,0,0,0,0,0,0,0,0,0,0,0,0,0,0,0,0,0,0.2,0.2,0.2,0.2,0.2,{"$f":"AI52","v":0.2},0.2,0.2,0.2,0.2,0.2,0.2,0.2,0.2,0.2,0.2,0.2,0.2,0.2,0.2,0.2,0.2,0.2]
[null,null,null,{"$f":"D53","v":"EL5"},30418.541122189981,null,null,0,0,0,0,0,0,0,0,0,0,0,0,0,0,0,0,0,0,0,0,0,0,0,0,0,0,0,{"$f":"AI53","v":0},0,0,0,0,0,0,0,0,0,0,0,0,0,0,0,0,0]
[null,null,null,{"$f":"D54","v":"EL6"},30418.541122189981,null,null,0,0,0,0,0,0,0,0,0,0,0,0,0,0,0,0,0,0,0,0,0,0,0,0,0,0,0,{"$f":"AI54","v":0},0,0,0,0,0,0,0,0,0,0,0,0,0,0,0,0,0]
[null,null,null,{"$f":"D55","v":"EL7"},30418.541122189981,null,null,{"$f":"H55","v":0},0,0,0,0,0,0,0,0,0,0,0,0,0,0,0,0,0,0,0,0,0,0,0,0,0,0,0,0,0,0,0,0,0,0,0,0,0,0,0,0,0,0,0,0]
[null,null,null,{"$f":"D56","v":"EL8"},30418.541122189981,null,null,{"$f":"H56","v":0},0,0,0,0,0,0,0,0,0,0,0,0,0,0,0,0,0,0,0,0,0,0,0,0,0,0,0,0,0,0,0,0,0,0,0,0,0,0,0,0,0,0,0,0]
[null,null,null,{"$f":"D57","v":"EL9"},30418.541122189981,null,null,{"$f":"H57","v":0},0,0,0,0,0,0,0,0,0,0,0,0,0,0,0,0,0,0,0,0,0,0,0,0,0,0,0,0,0,0,0,0,0,0,0,0,0,0,0,0,0,0,0,0]
[null,null,null,"TOTAL",null,null,null,{"$f":"SUM(H62:H71)","v":1},{"$f":"SUM(I62:I71)","v":1},1,1,1,1,1,1,1,1,1,1,1,1,1,1,1,1,1,1,1,1,1,1,1,1,1,1,1,1,1,1,1,1,1,1,1,1,1,1,1,1,1,1,1]
[]
[null,null,null,"Sources","DOE Commercial Refrigeration Equipment 2014 Final Rule, Technical Support Document: Final Rule National Impact Analysis Spreadsheet, 'Market Share Inputs' tab, cells L3:T35, http://www.regulations.gov/#!documentDetail;D=EERE-2010-BT-STD-0003-0101"]
[]
[]
[]
[]
[null,null,null,{"$f":"'Product Classes'!O12","v":"SVO.RC.M"}]
[]
[null,null,null,"PRE-Case",null,"Static Distribution"]
[null,null,null,"Efficiency Level","EL (kWh/year)",2006,null,1990,{"$f":"H82+1","v":1991},{"$f":"I82+1","v":1992},{"$f":"J82+1","v":1993},{"$f":"K82+1","v":1994},{"$f":"L82+1","v":1995},{"$f":"M82+1","v":1996},{"$f":"N82+1","v":1997},{"$f":"O82+1","v":1998},{"$f":"P82+1","v":1999},{"$f":"Q82+1","v":2000},{"$f":"R82+1","v":2001},{"$f":"S82+1","v":2002},{"$f":"T82+1","v":2003},{"$f":"U82+1","v":2004},{"$f":"V82+1","v":2005},{"$f":"W82+1","v":2006},{"$f":"X82+1","v":2007},{"$f":"Y82+1","v":2008},{"$f":"Z82+1","v":2009},{"$f":"AA82+1","v":2010},{"$f":"AB82+1","v":2011},{"$f":"AC82+1","v":2012},{"$f":"AD82+1","v":2013},{"$f":"AE82+1","v":2014},{"$f":"AF82+1","v":2015},{"$f":"AG82+1","v":2016},{"$f":"AH82+1","v":2017},{"$f":"AI82+1","v":2018},{"$f":"AJ82+1","v":2019},{"$f":"AK82+1","v":2020},{"$f":"AL82+1","v":2021},{"$f":"AM82+1","v":2022},{"$f":"AN82+1","v":2023},{"$f":"AO82+1","v":2024},{"$f":"AP82+1","v":2025},{"$f":"AQ82+1","v":2026},{"$f":"AR82+1","v":2027},{"$f":"AS82+1","v":2028},{"$f":"AT82+1","v":2029},{"$f":"AU82+1","v":2030},{"$f":"AV82+1","v":2031},{"$f":"AW82+1","v":2032},{"$f":"AX82+1","v":2033},{"$f":"AY82+1","v":2034}]
[null,null,null,{"$f":"'Efficiency Levels'!C48","v":"EL0"},{"$f":"'Efficiency Levels'!D48","v":13250.861748327305},1,null,{"$f":"$F83","v":1},1,1,1,1,1,1,1,1,1,1,1,1,1,1,1,{"$f":"$F83","v":1},1,1,1,1,1,0,0,0,0,0,0,0,0,0,0,0,0,0,0,0,0,0,0,0,0,0,0,0]
[null,null,null,{"$f":"'Efficiency Levels'!C49","v":"EL1"},{"$f":"'Efficiency Levels'!D49","v":11053.500712296438},0,null,0,0,0,0,0,0,0,0,0,0,0,0,0,0,0,0,0,0,0,0,0,0,0,0,0,0,0,0,0,0,0,0,{"$f":"$F84","v":0},0,0,0,0,0,0,0,0,0,0,0,0]
[null,null,null,{"$f":"'Efficiency Levels'!C50","v":"EL2"},{"$f":"'Efficiency Levels'!D50","v":10869.843864600532},0,null,0,0,0,0,0,0,0,0,0,0,0,0,0,0,0,0,0,0,0,0,0,0,0.6,0.6,0.6,0.6,0.6,0.6,0.6,0.6,0.6,0.6,0.6,0.6,0.6,0.6,0.6,0.6,0.6,0.6,0.6,0.6,0.6,0.6,0.6]
[null,null,null,{"$f":"'Efficiency Levels'!C51","v":"EL3"},{"$f":"'Efficiency Levels'!D51","v":8956.6213834211158},0,null,0,0,0,0,0,0,0,0,0,0,0,0,0,0,0,0,0,0,0,0,0,0,0.4,0.4,0.4,0.4,0.4,0.4,0.4,0.4,0.4,0.4,0.4,0.4,0.4,0.4,0.4,0.4,0.4,0.4,0.4,0.4,0.4,0.4,0.4]
[null,null,null,{"$f":"'Efficiency Levels'!C52","v":"EL4"},{"$f":"'Efficiency Levels'!D52","v":8563.6347121253202},0,null,0,0,0,0,0,0,0,0,0,0,0,0,0,0,0,0,0,0,0,0,0,0,0,0,0,0,0,0,0,0,0,0,{"$f":"$F87","v":0},0,0,0,0,0,0,0,0,0,0,0,0]
[null,null,null,{"$f":"'Efficiency Levels'!C53","v":"EL5"},{"$f":"'Efficiency Levels'!D53","v":8521.6565762380178},0,null,0,0,0,0,0,0,0,0,0,0,0,0,0,0,0,0,0,0,0,0,0,0,0,0,0,0,0,0,0,0,0,0,0,0,0,0,0,0,0,0,0,0,0,0,0]
[null,null,null,{"$f":"'Efficiency Levels'!C54","v":"EL6"},{"$f":"'Efficiency Levels'!D54","v":8426.0030251647804},0,null,0,0,0,0,0,0,0,0,0,0,0,0,0,0,0,0,0,0,0,0,0,0,0,0,0,0,0,0,0,0,0,0,0,0,0,0,0,0,0,0,0,0,0,0,0]
[null,null,null,{"$f":"'Efficiency Levels'!C55","v":"EL7"},{"$f":"'Efficiency Levels'!D55","v":8426.0030251647804},0,null,0,0,0,0,0,0,0,0,0,0,0,0,0,0,0,0,0,0,0,0,0,0,0,0,0,0,0,0,0,0,0,0,0,0,0,0,0,0,0,0,0,0,0,0,0]
[null,null,null,{"$f":"'Efficiency Levels'!C56","v":"EL8"},{"$f":"'Efficiency Levels'!D56","v":8426.0030251647804},0,null,0,0,0,0,0,0,0,0,0,0,0,0,0,0,0,0,0,0,0,0,0,0,0,0,0,0,0,0,0,0,0,0,0,0,0,0,0,0,0,0,0,0,0,0,0]
[null,null,null,{"$f":"'Efficiency Levels'!C57","v":"EL9"},{"$f":"'Efficiency Levels'!D57","v":8426.0030251647804},0,null,0,0,0,0,0,0,0,0,0,0,0,0,0,0,0,0,0,0,0,0,0,0,0,0,0,0,0,0,0,0,0,0,0,0,0,0,0,0,0,0,0,0,0,0,0]
[null,null,null,"TOTAL",null,{"$f":"SUM(F83:F92)","v":1},null,{"$f":"SUM(H83:H92)","v":1},{"$f":"SUM(I83:I92)","v":1},1,1,1,1,1,1,1,1,1,1,1,1,1,1,1,1,1,1,1,1,1,1,1,1,1,1,1,1,1,1,1,1,1,1,1,1,1,1,1,1,1,1,1]
[]
[null,null,null,"POST-Case"]
[null,null,null,"Efficiency Level","EL (kWh/year)",null,null,1990,{"$f":"H96+1","v":1991},{"$f":"I96+1","v":1992},{"$f":"J96+1","v":1993},{"$f":"K96+1","v":1994},{"$f":"L96+1","v":1995},{"$f":"M96+1","v":1996},{"$f":"N96+1","v":1997},{"$f":"O96+1","v":1998},{"$f":"P96+1","v":1999},{"$f":"Q96+1","v":2000},{"$f":"R96+1","v":2001},{"$f":"S96+1","v":2002},{"$f":"T96+1","v":2003},{"$f":"U96+1","v":2004},{"$f":"V96+1","v":2005},{"$f":"X82","v":2006},2007,2008,2009,2010,2011,2012,2013,2014,2015,2016,2017,2018,2019,2020,2021,2022,2023,2024,2025,2026,2027,2028,2029,2030,2031,2032,2033,2034]
[null,null,null,{"$f":"D83","v":"EL0"},{"$f":"E83","v":13250.861748327305},null,null,{"$f":"H83","v":1},1,1,1,1,1,1,1,1,1,1,1,1,1,1,1,1,1,1,1,1,1,0,0,0,0,0,0,0,0,0,0,0,0,0,0,0,0,0,0,0,0,0,0,0]
[null,null,null,{"$f":"D84","v":"EL1"},11053.500712296438,null,null,0,0,0,0,0,0,0,0,0,0,0,0,0,0,0,0,0,0,0,0,0,0,0,0,0,0,0,0,0,0,0,0,0,0,0,0,0,0,0,0,0,0,0,0,0]
[null,null,null,{"$f":"D85","v":"EL2"},10869.843864600532,null,null,0,0,0,0,0,0,0,0,0,0,0,0,0,0,0,0,0,0,0,0,0,0,0.6,0.6,0.6,0.6,0.6,0,0,0,0,0,0,0,0,0,0,0,0,0,0,0,0,0,0]
[null,null,null,{"$f":"D86","v":"EL3"},8956.6213834211158,null,null,0,0,0,0,0,0,0,0,0,0,0,0,0,0,0,0,0,0,0,0,0,0,0.4,0.4,0.4,0.4,0.4,{"$f":"SUM(AI83:AI86)","v":1},{"$f":"SUM(AJ83:AJ86)","v":1},1,1,1,1,1,1,1,1,1,1,1,1,1,1,1,1]
[null,null,null,{"$f":"D87","v":"EL4"},8563.6347121253202,null,null,0,0,0,0,0,0,0,0,0,0,0,0,0,0,0,0,0,0,0,0,0,0,0,0,0,0,0,{"$f":"AI87","v":0},0,0,0,0,0,0,0,0,0,0,0,0,0,0,0,0,0]
[null,null,null,{"$f":"D88","v":"EL5"},8521.6565762380178,null,null,0,0,0,0,0,0,0,0,0,0,0,0,0,0,0,0,0,0,0,0,0,0,0,0,0,0,0,{"$f":"AI88","v":0},0,0,0,0,0,0,0,0,0,0,0,0,0,0,0,0,0]
[null,null,null,{"$f":"D89","v":"EL6"},8426.0030251647804,null,null,0,0,0,0,0,0,0,0,0,0,0,0,0,0,0,0,0,0,0,0,0,0,0,0,0,0,0,{"$f":"AI89","v":0},0,0,0,0,0,0,0,0,0,0,0,0,0,0,0,0,0]
[null,null,null,{"$f":"D90","v":"EL7"},8426.0030251647804,null,null,{"$f":"H90","v":0},0,0,0,0,0,0,0,0,0,0,0,0,0,0,0,0,0,0,0,0,0,0,0,0,0,0,0,0,0,0,0,0,0,0,0,0,0,0,0,0,0,0,0,0]
[null,null,null,{"$f":"D91","v":"EL8"},8426.0030251647804,null,null,{"$f":"H91","v":0},0,0,0,0,0,0,0,0,0,0,0,0,0,0,0,0,0,0,0,0,0,0,0,0,0,0,0,0,0,0,0,0,0,0,0,0,0,0,0,0,0,0,0,0]
[null,null,null,{"$f":"D92","v":"EL9"},8426.0030251647804,null,null,{"$f":"H92","v":0},0,0,0,0,0,0,0,0,0,0,0,0,0,0,0,0,0,0,0,0,0,0,0,0,0,0,0,0,0,0,0,0,0,0,0,0,0,0,0,0,0,0,0,0]
[null,null,null,"TOTAL",null,null,null,{"$f":"SUM(H97:H106)","v":1},{"$f":"SUM(I97:I106)","v":1},1,1,1,1,1,1,1,1,1,1,1,1,1,1,1,1,1,1,1,1,1,1,1,1,1,1,1,1,1,1,1,1,1,1,1,1,1,1,1,1,1,1,1]
[]
[null,null,null,"Sources","DOE Commercial Refrigeration Equipment 2014 Final Rule, Technical Support Document: Final Rule National Impact Analysis Spreadsheet, 'Market Share Inputs' tab, cells DH3:DP35, http://www.regulations.gov/#!documentDetail;D=EERE-2010-BT-STD-0003-0101"]
[]
[]
[]
[]
[null,null,null,{"$f":"'Product Classes'!O13","v":"HZO.RC.M"}]
[]
[null,null,null,"PRE-Case",null,"Static Distribution"]
[null,null,null,"Efficiency Level","EL (kWh/year)",2006,null,1990,{"$f":"H117+1","v":1991},{"$f":"I117+1","v":1992},{"$f":"J117+1","v":1993},{"$f":"K117+1","v":1994},{"$f":"L117+1","v":1995},{"$f":"M117+1","v":1996},{"$f":"N117+1","v":1997},{"$f":"O117+1","v":1998},{"$f":"P117+1","v":1999},{"$f":"Q117+1","v":2000},{"$f":"R117+1","v":2001},{"$f":"S117+1","v":2002},{"$f":"T117+1","v":2003},{"$f":"U117+1","v":2004},{"$f":"V117+1","v":2005},{"$f":"W117+1","v":2006},{"$f":"X117+1","v":2007},{"$f":"Y117+1","v":2008},{"$f":"Z117+1","v":2009},{"$f":"AA117+1","v":2010},{"$f":"AB117+1","v":2011},{"$f":"AC117+1","v":2012},{"$f":"AD117+1","v":2013},{"$f":"AE117+1","v":2014},{"$f":"AF117+1","v":2015},{"$f":"AG117+1","v":2016},{"$f":"AH117+1","v":2017},{"$f":"AI117+1","v":2018},{"$f":"AJ117+1","v":2019},{"$f":"AK117+1","v":2020},{"$f":"AL117+1","v":2021},{"$f":"AM117+1","v":2022},{"$f":"AN117+1","v":2023},{"$f":"AO117+1","v":2024},{"$f":"AP117+1","v":2025},{"$f":"AQ117+1","v":2026},{"$f":"AR117+1","v":2027},{"$f":"AS117+1","v":2028},{"$f":"AT117+1","v":2029},{"$f":"AU117+1","v":2030},{"$f":"AV117+1","v":2031},{"$f":"AW117+1","v":2032},{"$f":"AX117+1","v":2033},{"$f":"AY117+1","v":2034}]
[null,null,null,{"$f":"'Efficiency Levels'!C66","v":"EL0"},{"$f":"'Efficiency Levels'!D66","v":5971.2719297502008},1,null,{"$f":"$F118","v":1},1,1,1,1,1,1,1,1,1,1,1,1,1,1,1,{"$f":"$F118","v":1},1,1,1,1,1,0,0,0,0,0,0,0,0,0,0,0,0,0,0,0,0,0,0,0,0,0,0,0]
[null,null,null,{"$f":"'Efficiency Levels'!C67","v":"EL1"},{"$f":"'Efficiency Levels'!D67","v":4421.8445823529328},0,null,0,0,0,0,0,0,0,0,0,0,0,0,0,0,0,0,0,0,0,0,0,0,0,0,0,0,0,0,0,0,0,0,{"$f":"$F119","v":0},0,0,0,0,0,0,0,0,0,0,0,0]
[null,null,null,{"$f":"'Efficiency Levels'!C68","v":"EL2"},{"$f":"'Efficiency Levels'!D68","v":4401.4094242833489},0,null,0,0,0,0,0,0,0,0,0,0,0,0,0,0,0,0,0,0,0,0,0,0,0.6,0.6,0.6,0.6,0.6,0.6,0.6,0.6,0.6,0.6,0.6,0.6,0.6,0.6,0.6,0.6,0.6,0.6,0.6,0.6,0.6,0.6,0.6]
[null,null,null,{"$f":"'Efficiency Levels'!C69","v":"EL3"},{"$f":"'Efficiency Levels'!D69","v":4303.8469385107355},0,null,0,0,0,0,0,0,0,0,0,0,0,0,0,0,0,0,0,0,0,0,0,0,0.4,0.4,0.4,0.4,0.4,0.4,0.4,0.4,0.4,0.4,0.4,0.4,0.4,0.4,0.4,0.4,0.4,0.4,0.4,0.4,0.4,0.4,0.4]
[null,null,null,{"$f":"'Efficiency Levels'!C70","v":"EL4"},{"$f":"'Efficiency Levels'!D70","v":4303.8469385107355},0,null,0,0,0,0,0,0,0,0,0,0,0,0,0,0,0,0,0,0,0,0,0,0,0,0,0,0,0,0,0,0,0,0,{"$f":"$F122","v":0},0,0,0,0,0,0,0,0,0,0,0,0]
[null,null,null,{"$f":"'Efficiency Levels'!C71","v":"EL5"},{"$f":"'Efficiency Levels'!D71","v":4303.8469385107355},0,null,0,0,0,0,0,0,0,0,0,0,0,0,0,0,0,0,0,0,0,0,0,0,0,0,0,0,0,0,0,0,0,0,0,0,0,0,0,0,0,0,0,0,0,0,0]
[null,null,null,{"$f":"'Efficiency Levels'!C72","v":"EL6"},{"$f":"'Efficiency Levels'!D72","v":4303.8469385107355},0,null,0,0,0,0,0,0,0,0,0,0,0,0,0,0,0,0,0,0,0,0,0,0,0,0,0,0,0,0,0,0,0,0,0,0,0,0,0,0,0,0,0,0,0,0,0]
[null,null,null,{"$f":"'Efficiency Levels'!C73","v":"EL7"},{"$f":"'Efficiency Levels'!D73","v":4303.8469385107355},0,null,0,0,0,0,0,0,0,0,0,0,0,0,0,0,0,0,0,0,0,0,0,0,0,0,0,0,0,0,0,0,0,0,0,0,0,0,0,0,0,0,0,0,0,0,0]
[null,null,null,{"$f":"'Efficiency Levels'!C74","v":"EL8"},{"$f":"'Efficiency Levels'!D74","v":4303.8469385107355},0,null,0,0,0,0,0,0,0,0,0,0,0,0,0,0,0,0,0,0,0,0,0,0,0,0,0,0,0,0,0,0,0,0,0,0,0,0,0,0,0,0,0,0,0,0,0]
[null,null,null,{"$f":"'Efficiency Levels'!C75","v":"EL9"},{"$f":"'Efficiency Levels'!D75","v":4303.8469385107355},0,null,0,0,0,0,0,0,0,0,0,0,0,0,0,0,0,0,0,0,0,0,0,0,0,0,0,0,0,0,0,0,0,0,0,0,0,0,0,0,0,0,0,0,0,0,0]
[null,null,null,"TOTAL",null,{"$f":"SUM(F118:F127)","v":1},null,{"$f":"SUM(H118:H127)","v":1},{"$f":"SUM(I118:I127)","v":1},1,1,1,1,1,1,1,1,1,1,1,1,1,1,1,1,1,1,1,1,1,1,1,1,1,1,1,1,1,1,1,1,1,1,1,1,1,1,1,1,1,1,1]
[]
[null,null,null,"POST-Case"]
[null,null,null,"Efficiency Level","EL (kWh/year)",null,null,1990,{"$f":"H131+1","v":1991},{"$f":"I131+1","v":1992},{"$f":"J131+1","v":1993},{"$f":"K131+1","v":1994},{"$f":"L131+1","v":1995},{"$f":"M131+1","v":1996},{"$f":"N131+1","v":1997},{"$f":"O131+1","v":1998},{"$f":"P131+1","v":1999},{"$f":"Q131+1","v":2000},{"$f":"R131+1","v":2001},{"$f":"S131+1","v":2002},{"$f":"T131+1","v":2003},{"$f":"U131+1","v":2004},{"$f":"V131+1","v":2005},{"$f":"X117","v":2006},2007,2008,2009,2010,2011,2012,2013,2014,2015,2016,2017,2018,2019,2020,2021,2022,2023,2024,2025,2026,2027,2028,2029,2030,2031,2032,2033,2034]
[null,null,null,{"$f":"D118","v":"EL0"},{"$f":"E118","v":5971.2719297502008},null,null,{"$f":"H118","v":1},1,1,1,1,1,1,1,1,1,1,1,1,1,1,1,1,1,1,1,1,1,0,0,0,0,0,0,0,0,0,0,0,0,0,0,0,0,0,0,0,0,0,0,0]
[null,null,null,{"$f":"D119","v":"EL1"},4421.8445823529328,null,null,0,0,0,0,0,0,0,0,0,0,0,0,0,0,0,0,0,0,0,0,0,0,0,0,0,0,0,0,0,0,0,0,0,0,0,0,0,0,0,0,0,0,0,0,0]
[null,null,null,{"$f":"D120","v":"EL2"},4401.4094242833489,null,null,0,0,0,0,0,0,0,0,0,0,0,0,0,0,0,0,0,0,0,0,0,0,0.6,0.6,0.6,0.6,0.6,{"$f":"SUM(AI118:AI120)","v":0.6},{"$f":"SUM(AJ118:AJ120)","v":0.6},0.6,0.6,0.6,0.6,0.6,0.6,0.6,0.6,0.6,0.6,0.6,0.6,0.6,0.6,0.6,0.6]
[null,null,null,{"$f":"D121","v":"EL3"},4303.8469385107355,null,null,0,0,0,0,0,0,0,0,0,0,0,0,0,0,0,0,0,0,0,0,0,0,0.4,0.4,0.4,0.4,0.4,{"$f":"AI121","v":0.4},{"$f":"AJ121","v":0.4},0.4,0.4,0.4,0.4,0.4,0.4,0.4,0.4,0.4,0.4,0.4,0.4,0.4,0.4,0.4,0.4]
[null,null,null,{"$f":"D122","v":"EL4"},4303.8469385107355,null,null,0,0,0,0,0,0,0,0,0,0,0,0,0,0,0,0,0,0,0,0,0,0,0,0,0,0,0,0,{"$f":"AJ122","v":0},0,0,0,0,0,0,0,0,0,0,0,0,0,0,0,0]
[null,null,null,{"$f":"D123","v":"EL5"},4303.8469385107355,null,null,0,0,0,0,0,0,0,0,0,0,0,0,0,0,0,0,0,0,0,0,0,0,0,0,0,0,0,{"$f":"AI123","v":0},{"$f":"AJ123","v":0},0,0,0,0,0,0,0,0,0,0,0,0,0,0,0,0]
[null,null,null,{"$f":"D124","v":"EL6"},4303.8469385107355,null,null,0,0,0,0,0,0,0,0,0,0,0,0,0,0,0,0,0,0,0,0,0,0,0,0,0,0,0,{"$f":"AI124","v":0},{"$f":"AJ124","v":0},0,0,0,0,0,0,0,0,0,0,0,0,0,0,0,0]
[null,null,null,{"$f":"D125","v":"EL7"},4303.8469385107355,null,null,{"$f":"H125","v":0},0,0,0,0,0,0,0,0,0,0,0,0,0,0,0,0,0,0,0,0,0,0,0,0,0,0,0,{"$f":"AJ125","v":0},0,0,0,0,0,0,0,0,0,0,0,0,0,0,0,0]
[null,null,null,{"$f":"D126","v":"EL8"},4303.8469385107355,null,null,{"$f":"H126","v":0},0,0,0,0,0,0,0,0,0,0,0,0,0,0,0,0,0,0,0,0,0,0,0,0,0,0,0,{"$f":"AJ126","v":0},0,0,0,0,0,0,0,0,0,0,0,0,0,0,0,0]
[null,null,null,{"$f":"D127","v":"EL9"},4303.8469385107355,null,null,{"$f":"H127","v":0},0,0,0,0,0,0,0,0,0,0,0,0,0,0,0,0,0,0,0,0,0,0,0,0,0,0,0,{"$f":"AJ127","v":0},0,0,0,0,0,0,0,0,0,0,0,0,0,0,0,0]
[null,null,null,"TOTAL",null,null,null,{"$f":"SUM(H132:H141)","v":1},{"$f":"SUM(I132:I141)","v":1},1,1,1,1,1,1,1,1,1,1,1,1,1,1,1,1,1,1,1,1,1,1,1,1,1,1,{"$f":"SUM(AJ132:AJ141)","v":1},1,1,1,1,1,1,1,1,1,1,1,1,1,1,1,1]
[]
[null,null,null,"Sources","DOE Commercial Refrigeration Equipment 2014 Final Rule, Technical Support Document: Final Rule National Impact Analysis Spreadsheet, 'Market Share Inputs' tab, cells EV3:FD35, http://www.regulations.gov/#!documentDetail;D=EERE-2010-BT-STD-0003-0101"]
[]
[]
[]
[]
[null,null,null,{"$f":"'Product Classes'!O14","v":"HZO.RC.L"}]
[]
[null,null,null,"PRE-Case",null,"Static Distribution"]
[null,null,null,"Efficiency Level","EL (kWh/year)",2006,null,1990,{"$f":"H152+1","v":1991},{"$f":"I152+1","v":1992},{"$f":"J152+1","v":1993},{"$f":"K152+1","v":1994},{"$f":"L152+1","v":1995},{"$f":"M152+1","v":1996},{"$f":"N152+1","v":1997},{"$f":"O152+1","v":1998},{"$f":"P152+1","v":1999},{"$f":"Q152+1","v":2000},{"$f":"R152+1","v":2001},{"$f":"S152+1","v":2002},{"$f":"T152+1","v":2003},{"$f":"U152+1","v":2004},{"$f":"V152+1","v":2005},{"$f":"W152+1","v":2006},{"$f":"X152+1","v":2007},{"$f":"Y152+1","v":2008},{"$f":"Z152+1","v":2009},{"$f":"AA152+1","v":2010},{"$f":"AB152+1","v":2011},{"$f":"AC152+1","v":2012},{"$f":"AD152+1","v":2013},{"$f":"AE152+1","v":2014},{"$f":"AF152+1","v":2015},{"$f":"AG152+1","v":2016},{"$f":"AH152+1","v":2017},{"$f":"AI152+1","v":2018},{"$f":"AJ152+1","v":2019},{"$f":"AK152+1","v":2020},{"$f":"AL152+1","v":2021},{"$f":"AM152+1","v":2022},{"$f":"AN152+1","v":2023},{"$f":"AO152+1","v":2024},{"$f":"AP152+1","v":2025},{"$f":"AQ152+1","v":2026},{"$f":"AR152+1","v":2027},{"$f":"AS152+1","v":2028},{"$f":"AT152+1","v":2029},{"$f":"AU152+1","v":2030},{"$f":"AV152+1","v":2031},{"$f":"AW152+1","v":2032},{"$f":"AX152+1","v":2033},{"$f":"AY152+1","v":2034}]
[null,null,null,{"$f":"'Efficiency Levels'!C84","v":"EL0"},{"$f":"'Efficiency Levels'!D84","v":11673.202446776269},1,null,{"$f":"$F153","v":1},1,1,1,1,1,1,1,1,1,1,1,1,1,1,1,{"$f":"$F153","v":1},1,1,1,1,1,0,0,0,0,0,0,0,0,0,0,0,0,0,0,0,0,0,0,0,0,0,0,0]
[null,null,null,{"$f":"'Efficiency Levels'!C85","v":"EL1"},{"$f":"'Efficiency Levels'!D85","v":10027.135779006545},0,null,0,0,0,0,0,0,0,0,0,0,0,0,0,0,0,0,0,0,0,0,0,0,0,0,0,0,0,0,0,0,0,0,{"$f":"$F154","v":0},0,0,0,0,0,0,0,0,0,0,0,0]
[null,null,null,{"$f":"'Efficiency Levels'!C86","v":"EL2"},{"$f":"'Efficiency Levels'!D86","v":9843.058770360436},0,null,0,0,0,0,0,0,0,0,0,0,0,0,0,0,0,0,0,0,0,0,0,0,0.6,0.6,0.6,0.6,0.6,0.6,0.6,0.6,0.6,0.6,0.6,0.6,0.6,0.6,0.6,0.6,0.6,0.6,0.6,0.6,0.6,0.6,0.6]
[null,null,null,{"$f":"'Efficiency Levels'!C87","v":"EL3"},{"$f":"'Efficiency Levels'!D87","v":9453.0387687193052},0,null,0,0,0,0,0,0,0,0,0,0,0,0,0,0,0,0,0,0,0,0,0,0,0.2,0.2,0.2,0.2,0.2,0.2,0.2,0.2,0.2,0.2,0.2,0.2,0.2,0.2,0.2,0.2,0.2,0.2,0.2,0.2,0.2,0.2,0.2]
[null,null,null,{"$f":"'Efficiency Levels'!C88","v":"EL4"},{"$f":"'Efficiency Levels'!D88","v":9453.0387687193052},0,null,0,0,0,0,0,0,0,0,0,0,0,0,0,0,0,0,0,0,0,0,0,0,0.2,0.2,0.2,0.2,0.2,0.2,0.2,0.2,0.2,0.2,0.2,0.2,0.2,0.2,0.2,0.2,0.2,0.2,0.2,0.2,0.2,0.2,0.2]
[null,null,null,{"$f":"'Efficiency Levels'!C89","v":"EL5"},{"$f":"'Efficiency Levels'!D89","v":9453.0387687193052},0,null,0,0,0,0,0,0,0,0,0,0,0,0,0,0,0,0,0,0,0,0,0,0,0,0,0,0,0,0,0,0,0,0,{"$f":"$F158","v":0},0,0,0,0,0,0,0,0,0,0,0,0]
[null,null,null,{"$f":"'Efficiency Levels'!C90","v":"EL6"},{"$f":"'Efficiency Levels'!D90","v":9453.0387687193052},0,null,0,0,0,0,0,0,0,0,0,0,0,0,0,0,0,0,0,0,0,0,0,0,0,0,0,0,0,0,0,0,0,0,0,0,0,0,0,0,0,0,0,0,0,0,0]
[null,null,null,{"$f":"'Efficiency Levels'!C91","v":"EL7"},{"$f":"'Efficiency Levels'!D91","v":9453.0387687193052},0,null,0,0,0,0,0,0,0,0,0,0,0,0,0,0,0,0,0,0,0,0,0,0,0,0,0,0,0,0,0,0,0,0,0,0,0,0,0,0,0,0,0,0,0,0,0]
[null,null,null,{"$f":"'Efficiency Levels'!C92","v":"EL8"},{"$f":"'Efficiency Levels'!D92","v":9453.0387687193052},0,null,0,0,0,0,0,0,0,0,0,0,0,0,0,0,0,0,0,0,0,0,0,0,0,0,0,0,0,0,0,0,0,0,0,0,0,0,0,0,0,0,0,0,0,0,0]
[null,null,null,{"$f":"'Efficiency Levels'!C93","v":"EL9"},{"$f":"'Efficiency Levels'!D93","v":9453.0387687193052},0,null,0,0,0,0,0,0,0,0,0,0,0,0,0,0,0,0,0,0,0,0,0,0,0,0,0,0,0,0,0,0,0,0,0,0,0,0,0,0,0,0,0,0,0,0,0]
[null,null,null,"TOTAL",null,{"$f":"SUM(F153:F162)","v":1},null,{"$f":"SUM(H153:H162)","v":1},{"$f":"SUM(I153:I162)","v":1},1,1,1,1,1,1,1,1,1,1,1,1,1,1,1,1,1,1,1,1,1,1,1,1,1,1,1,1,1,1,1,1,1,1,1,1,1,1,1,1,1,1,1]
[]
[null,null,null,"POST-Case"]
[null,null,null,"Efficiency Level","EL (kWh/year)",null,null,1990,{"$f":"H166+1","v":1991},{"$f":"I166+1","v":1992},{"$f":"J166+1","v":1993},{"$f":"K166+1","v":1994},{"$f":"L166+1","v":1995},{"$f":"M166+1","v":1996},{"$f":"N166+1","v":1997},{"$f":"O166+1","v":1998},{"$f":"P166+1","v":1999},{"$f":"Q166+1","v":2000},{"$f":"R166+1","v":2001},{"$f":"S166+1","v":2002},{"$f":"T166+1","v":2003},{"$f":"U166+1","v":2004},{"$f":"V166+1","v":2005},{"$f":"X152","v":2006},2007,2008,2009,2010,2011,2012,2013,2014,2015,2016,2017,2018,2019,2020,2021,2022,2023,2024,2025,2026,2027,2028,2029,2030,2031,2032,2033,2034]
[null,null,null,{"$f":"D153","v":"EL0"},{"$f":"E153","v":11673.202446776269},null,null,{"$f":"H153","v":1},1,1,1,1,1,1,1,1,1,1,1,1,1,1,1,1,1,1,1,1,1,0,0,0,0,0,0,0,0,0,0,0,0,0,0,0,0,0,0,0,0,0,0,0]
[null,null,null,{"$f":"D154","v":"EL1"},10027.135779006545,null,null,0,0,0,0,0,0,0,0,0,0,0,0,0,0,0,0,0,0,0,0,0,0,0,0,0,0,0,0,0,0,0,0,0,0,0,0,0,0,0,0,0,0,0,0,0]
[null,null,null,{"$f":"D155","v":"EL2"},9843.058770360436,null,null,0,0,0,0,0,0,0,0,0,0,0,0,0,0,0,0,0,0,0,0,0,0,0.6,0.6,0.6,0.6,0.6,{"$f":"SUM(AI153:AI155)","v":0.6},{"$f":"SUM(AJ153:AJ155)","v":0.6},0.6,0.6,0.6,0.6,0.6,0.6,0.6,0.6,0.6,0.6,0.6,0.6,0.6,0.6,0.6,0.6]
[null,null,null,{"$f":"D156","v":"EL3"},9453.0387687193052,null,null,0,0,0,0,0,0,0,0,0,0,0,0,0,0,0,0,0,0,0,0,0,0,0.2,0.2,0.2,0.2,0.2,{"$f":"AI156","v":0.2},{"$f":"AJ156","v":0.2},0.2,0.2,0.2,0.2,0.2,0.2,0.2,0.2,0.2,0.2,0.2,0.2,0.2,0.2,0.2,0.2]
[null,null,null,{"$f":"D157","v":"EL4"},9453.0387687193052,null,null,0,0,0,0,0,0,0,0,0,0,0,0,0,0,0,0,0,0,0,0,0,0,0.2,0.2,0.2,0.2,0.2,0.2,{"$f":"AJ157","v":0.2},0.2,0.2,0.2,0.2,0.2,0.2,0.2,0.2,0.2,0.2,0.2,0.2,0.2,0.2,0.2,0.2]
[null,null,null,{"$f":"D158","v":"EL5"},9453.0387687193052,null,null,0,0,0,0,0,0,0,0,0,0,0,0,0,0,0,0,0,0,0,0,0,0,0,0,0,0,0,{"$f":"AI158","v":0},{"$f":"AJ158","v":0},0,0,0,0,0,0,0,0,0,0,0,0,0,0,0,0]
[null,null,null,{"$f":"D159","v":"EL6"},9453.0387687193052,null,null,0,0,0,0,0,0,0,0,0,0,0,0,0,0,0,0,0,0,0,0,0,0,0,0,0,0,0,{"$f":"AI159","v":0},{"$f":"AJ159","v":0},0,0,0,0,0,0,0,0,0,0,0,0,0,0,0,0]
[null,null,null,{"$f":"D160","v":"EL7"},9453.0387687193052,null,null,{"$f":"H160","v":0},0,0,0,0,0,0,0,0,0,0,0,0,0,0,0,0,0,0,0,0,0,0,0,0,0,0,0,{"$f":"AJ160","v":0},0,0,0,0,0,0,0,0,0,0,0,0,0,0,0,0]
[null,null,null,{"$f":"D161","v":"EL8"},9453.0387687193052,null,null,{"$f":"H161","v":0},0,0,0,0,0,0,0,0,0,0,0,0,0,0,0,0,0,0,0,0,0,0,0,0,0,0,0,{"$f":"AJ161","v":0},0,0,0,0,0,0,0,0,0,0,0,0,0,0,0,0]
[null,null,null,{"$f":"D162","v":"EL9"},9453.0387687193052,null,null,{"$f":"H162","v":0},0,0,0,0,0,0,0,0,0,0,0,0,0,0,0,0,0,0,0,0,0,0,0,0,0,0,0,{"$f":"AJ162","v":0},0,0,0,0,0,0,0,0,0,0,0,0,0,0,0,0]
[null,null,null,"TOTAL",null,null,null,{"$f":"SUM(H167:H176)","v":1},{"$f":"SUM(I167:I176)","v":1},1,1,1,1,1,1,1,1,1,1,1,1,1,1,1,1,1,1,1,1,1,1,1,1,1,1,{"$f":"SUM(AJ167:AJ176)","v":1},1,1,1,1,1,1,1,1,1,1,1,1,1,1,1,1]
[]
[null,null,null,"Sources","DOE Commercial Refrigeration Equipment 2014 Final Rule, Technical Support Document: Final Rule National Impact Analysis Spreadsheet, 'Market Share Inputs' tab, cells FF3:FN35, http://www.regulations.gov/#!documentDetail;D=EERE-2010-BT-STD-0003-0101"]
[]
[]
[]
[]
[null,null,null,{"$f":"'Product Classes'!O15","v":"VCT.RC.M"}]
[]
[null,null,null,"PRE-Case",null,"Static Distribution"]
[null,null,null,"Efficiency Level","EL (kWh/year)",2006,null,1990,{"$f":"H187+1","v":1991},{"$f":"I187+1","v":1992},{"$f":"J187+1","v":1993},{"$f":"K187+1","v":1994},{"$f":"L187+1","v":1995},{"$f":"M187+1","v":1996},{"$f":"N187+1","v":1997},{"$f":"O187+1","v":1998},{"$f":"P187+1","v":1999},{"$f":"Q187+1","v":2000},{"$f":"R187+1","v":2001},{"$f":"S187+1","v":2002},{"$f":"T187+1","v":2003},{"$f":"U187+1","v":2004},{"$f":"V187+1","v":2005},{"$f":"W187+1","v":2006},{"$f":"X187+1","v":2007},{"$f":"Y187+1","v":2008},{"$f":"Z187+1","v":2009},{"$f":"AA187+1","v":2010},{"$f":"AB187+1","v":2011},{"$f":"AC187+1","v":2012},{"$f":"AD187+1","v":2013},{"$f":"AE187+1","v":2014},{"$f":"AF187+1","v":2015},{"$f":"AG187+1","v":2016},{"$f":"AH187+1","v":2017},{"$f":"AI187+1","v":2018},{"$f":"AJ187+1","v":2019},{"$f":"AK187+1","v":2020},{"$f":"AL187+1","v":2021},{"$f":"AM187+1","v":2022},{"$f":"AN187+1","v":2023},{"$f":"AO187+1","v":2024},{"$f":"AP187+1","v":2025},{"$f":"AQ187+1","v":2026},{"$f":"AR187+1","v":2027},{"$f":"AS187+1","v":2028},{"$f":"AT187+1","v":2029},{"$f":"AU187+1","v":2030},{"$f":"AV187+1","v":2031},{"$f":"AW187+1","v":2032},{"$f":"AX187+1","v":2033},{"$f":"AY187+1","v":2034}]
[null,null,null,{"$f":"'Efficiency Levels'!C102","v":"EL0"},{"$f":"'Efficiency Levels'!D102","v":9518.1254644031924},1,null,{"$f":"$F188","v":1},1,1,1,1,1,1,1,1,1,1,1,1,1,1,1,{"$f":"$F188","v":1},1,1,1,1,1,0,0,0,0,0,0,0,0,0,0,0,0,0,0,0,0,0,0,0,0,0,0,0]
[null,null,null,{"$f":"'Efficiency Levels'!C103","v":"EL1"},{"$f":"'Efficiency Levels'!D103","v":4639.6918921596662},0,null,0,0,0,0,0,0,0,0,0,0,0,0,0,0,0,0,0,0,0,0,0,0,0,0,0,0,0,0,0,0,0,0,{"$f":"$F189","v":0},0,0,0,0,0,0,0,0,0,0,0,0]
[null,null,null,{"$f":"'Efficiency Levels'!C104","v":"EL2"},{"$f":"'Efficiency Levels'!D104","v":3914.0214718291718},0,null,0,0,0,0,0,0,0,0,0,0,0,0,0,0,0,0,0,0,0,0,0,0,{"$f":"AE190","v":0.6},0.6,0.6,0.6,{"$f":"AI190","v":0.6},0.6,0.6,0.6,0.6,0.6,0.6,0.6,0.6,0.6,0.6,0.6,0.6,0.6,0.6,0.6,0.6,0.6,0.6]
[null,null,null,{"$f":"'Efficiency Levels'!C105","v":"EL3"},{"$f":"'Efficiency Levels'!D105","v":3384.8152665927582},0,null,0,0,0,0,0,0,0,0,0,0,0,0,0,0,0,0,0,0,0,0,0,0,0.14000000000000001,0.14000000000000001,0.14000000000000001,0.14000000000000001,{"$f":"AI191","v":0.14000000000000001},0.14000000000000001,0.14000000000000001,0.14000000000000001,0.14000000000000001,0.14000000000000001,0.14000000000000001,0.14000000000000001,0.14000000000000001,0.14000000000000001,0.14000000000000001,0.14000000000000001,0.14000000000000001,0.14000000000000001,0.14000000000000001,0.14000000000000001,0.14000000000000001,0.14000000000000001,0.14000000000000001]
[null,null,null,{"$f":"'Efficiency Levels'!C106","v":"EL4"},{"$f":"'Efficiency Levels'!D106","v":3313.4012400708934},0,null,0,0,0,0,0,0,0,0,0,0,0,0,0,0,0,0,0,0,0,0,0,0,0.13,0.13,0.13,0.13,0.13,0.13,0.13,0.13,0.13,0.13,0.13,0.13,0.13,0.13,0.13,0.13,0.13,0.13,0.13,0.13,0.13,0.13,0.13]
[null,null,null,{"$f":"'Efficiency Levels'!C107","v":"EL5"},{"$f":"'Efficiency Levels'!D107","v":3294.3115430062649},0,null,0,0,0,0,0,0,0,0,0,0,0,0,0,0,0,0,0,0,0,0,0,0,0.13,0.13,0.13,0.13,0.13,0.13,0.13,0.13,0.13,0.13,0.13,0.13,0.13,0.13,0.13,0.13,0.13,0.13,0.13,0.13,0.13,0.13,0.13]
[null,null,null,{"$f":"'Efficiency Levels'!C108","v":"EL6"},{"$f":"'Efficiency Levels'!D108","v":3151.847562194539},0,null,0,0,0,0,0,0,0,0,0,0,0,0,0,0,0,0,0,0,0,0,0,0,0,0,0,0,0,0,0,0,0,0,{"$f":"$F194","v":0},0,0,0,0,0,0,0,0,0,0,0,0]
[null,null,null,{"$f":"'Efficiency Levels'!C109","v":"EL7"},{"$f":"'Efficiency Levels'!D109","v":3151.847562194539},0,null,0,0,0,0,0,0,0,0,0,0,0,0,0,0,0,0,0,0,0,0,0,0,0,0,0,0,0,0,0,0,0,0,0,0,0,0,0,0,0,0,0,0,0,0,0]
[null,null,null,{"$f":"'Efficiency Levels'!C110","v":"EL8"},{"$f":"'Efficiency Levels'!D110","v":3151.847562194539},0,null,0,0,0,0,0,0,0,0,0,0,0,0,0,0,0,0,0,0,0,0,0,0,0,0,0,0,0,0,0,0,0,0,0,0,0,0,0,0,0,0,0,0,0,0,0]
[null,null,null,{"$f":"'Efficiency Levels'!C111","v":"EL9"},{"$f":"'Efficiency Levels'!D111","v":3151.847562194539},0,null,0,0,0,0,0,0,0,0,0,0,0,0,0,0,0,0,0,0,0,0,0,0,0,0,0,0,0,0,0,0,0,0,0,0,0,0,0,0,0,0,0,0,0,0,0]
[null,null,null,"TOTAL",null,{"$f":"SUM(F188:F197)","v":1},null,{"$f":"SUM(H188:H197)","v":1},{"$f":"SUM(I188:I197)","v":1},1,1,1,1,1,1,1,1,1,1,1,1,1,1,1,1,1,1,1,1,1,1,1,1,1,1,1,1,1,1,1,1,1,1,1,1,1,1,1,1,1,1,1]
[]
[null,null,null,"POST-Case"]
[null,null,null,"Efficiency Level","EL (kWh/year)",null,null,1990,{"$f":"H201+1","v":1991},{"$f":"I201+1","v":1992},{"$f":"J201+1","v":1993},{"$f":"K201+1","v":1994},{"$f":"L201+1","v":1995},{"$f":"M201+1","v":1996},{"$f":"N201+1","v":1997},{"$f":"O201+1","v":1998},{"$f":"P201+1","v":1999},{"$f":"Q201+1","v":2000},{"$f":"R201+1","v":2001},{"$f":"S201+1","v":2002},{"$f":"T201+1","v":2003},{"$f":"U201+1","v":2004},{"$f":"V201+1","v":2005},{"$f":"X187","v":2006},2007,2008,2009,2010,2011,2012,2013,2014,2015,2016,2017,2018,2019,2020,2021,2022,2023,2024,2025,2026,2027,2028,2029,2030,2031,2032,2033,2034]
[null,null,null,{"$f":"D188","v":"EL0"},{"$f":"E188","v":9518.1254644031924},null,null,{"$f":"H188","v":1},1,1,1,1,1,1,1,1,1,1,1,1,1,1,1,1,1,1,1,1,1,0,0,0,0,0,0,0,0,0,0,0,0,0,0,0,0,0,0,0,0,0,0,0]
[null,null,null,{"$f":"D189","v":"EL1"},4639.6918921596662,null,null,0,0,0,0,0,0,0,0,0,0,0,0,0,0,0,0,0,0,0,0,0,0,0,0,0,0,0,0,0,0,0,0,0,0,0,0,0,0,0,0,0,0,0,0,0]
[null,null,null,{"$f":"D190","v":"EL2"},3914.0214718291718,null,null,0,0,0,0,0,0,0,0,0,0,0,0,0,0,0,0,0,0,0,0,0,0,0.6,0.6,0.6,0.6,0.6,0,0,0,0,0,0,0,0,0,0,0,0,0,0,0,0,0,0]
[null,null,null,{"$f":"D191","v":"EL3"},3384.8152665927582,null,null,0,0,0,0,0,0,0,0,0,0,0,0,0,0,0,0,0,0,0,0,0,0,0.14000000000000001,0.14000000000000001,0.14000000000000001,0.14000000000000001,0.14000000000000001,{"$f":"SUM(AI188:AI191)","v":0.74},{"$f":"SUM(AJ188:AJ191)","v":0.74},0.74,0.74,0.74,0.74,0.74,0.74,0.74,0.74,0.74,0.74,0.74,0.74,0.74,0.74,0.74,0.74]
[null,null,null,{"$f":"D192","v":"EL4"},3313.4012400708934,null,null,0,0,0,0,0,0,0,0,0,0,0,0,0,0,0,0,0,0,0,0,0,0,0.13,0.13,0.13,0.13,0.13,{"$f":"AI192","v":0.13},0.13,0.13,0.13,0.13,0.13,0.13,0.13,0.13,0.13,0.13,0.13,0.13,0.13,0.13,0.13,0.13,0.13]
[null,null,null,{"$f":"D193","v":"EL5"},3294.3115430062649,null,null,0,0,0,0,0,0,0,0,0,0,0,0,0,0,0,0,0,0,0,0,0,0,0.13,0.13,0.13,0.13,0.13,{"$f":"AI193","v":0.13},0.13,0.13,0.13,0.13,0.13,0.13,0.13,0.13,0.13,0.13,0.13,0.13,0.13,0.13,0.13,0.13,0.13]
[null,null,null,{"$f":"D194","v":"EL6"},3151.847562194539,null,null,0,0,0,0,0,0,0,0,0,0,0,0,0,0,0,0,0,0,0,0,0,0,0,0,0,0,0,{"$f":"AI194","v":0},0,0,0,0,0,0,0,0,0,0,0,0,0,0,0,0,0]
[null,null,null,{"$f":"D195","v":"EL7"},3151.847562194539,null,null,{"$f":"H195","v":0},0,0,0,0,0,0,0,0,0,0,0,0,0,0,0,0,0,0,0,0,0,0,0,0,0,0,0,0,0,0,0,0,0,0,0,0,0,0,0,0,0,0,0,0]
[null,null,null,{"$f":"D196","v":"EL8"},3151.847562194539,null,null,{"$f":"H196","v":0},0,0,0,0,0,0,0,0,0,0,0,0,0,0,0,0,0,0,0,0,0,0,0,0,0,0,0,0,0,0,0,0,0,0,0,0,0,0,0,0,0,0,0,0]
[null,null,null,{"$f":"D197","v":"EL9"},3151.847562194539,null,null,{"$f":"H197","v":0},0,0,0,0,0,0,0,0,0,0,0,0,0,0,0,0,0,0,0,0,0,0,0,0,0,0,0,0,0,0,0,0,0,0,0,0,0,0,0,0,0,0,0,0]
[null,null,null,"TOTAL",null,null,null,{"$f":"SUM(H202:H211)","v":1},{"$f":"SUM(I202:I211)","v":1},1,1,1,1,1,1,1,1,1,1,1,1,1,1,1,1,1,1,1,1,1,1,1,1,1,1,1,1,1,1,1,1,1,1,1,1,1,1,1,1,1,1,1]
[]
[null,null,null,"Sources","DOE Commercial Refrigeration Equipment 2014 Final Rule, Technical Support Document: Final Rule National Impact Analysis Spreadsheet, 'Market Share Inputs' tab, cells AF3:AN35, http://www.regulations.gov/#!documentDetail;D=EERE-2010-BT-STD-0003-0101"]
[]
[]
[]
[]
[null,null,null,{"$f":"'Product Classes'!O16","v":"VCT.RC.L"}]
[]
[null,null,null,"PRE-Case",null,"Static Distribution"]
[null,null,null,"Efficiency Level","EL (kWh/year)",2006,null,1990,{"$f":"H222+1","v":1991},{"$f":"I222+1","v":1992},{"$f":"J222+1","v":1993},{"$f":"K222+1","v":1994},{"$f":"L222+1","v":1995},{"$f":"M222+1","v":1996},{"$f":"N222+1","v":1997},{"$f":"O222+1","v":1998},{"$f":"P222+1","v":1999},{"$f":"Q222+1","v":2000},{"$f":"R222+1","v":2001},{"$f":"S222+1","v":2002},{"$f":"T222+1","v":2003},{"$f":"U222+1","v":2004},{"$f":"V222+1","v":2005},{"$f":"W222+1","v":2006},{"$f":"X222+1","v":2007},{"$f":"Y222+1","v":2008},{"$f":"Z222+1","v":2009},{"$f":"AA222+1","v":2010},{"$f":"AB222+1","v":2011},{"$f":"AC222+1","v":2012},{"$f":"AD222+1","v":2013},{"$f":"AE222+1","v":2014},{"$f":"AF222+1","v":2015},{"$f":"AG222+1","v":2016},{"$f":"AH222+1","v":2017},{"$f":"AI222+1","v":2018},{"$f":"AJ222+1","v":2019},{"$f":"AK222+1","v":2020},{"$f":"AL222+1","v":2021},{"$f":"AM222+1","v":2022},{"$f":"AN222+1","v":2023},{"$f":"AO222+1","v":2024},{"$f":"AP222+1","v":2025},{"$f":"AQ222+1","v":2026},{"$f":"AR222+1","v":2027},{"$f":"AS222+1","v":2028},{"$f":"AT222+1","v":2029},{"$f":"AU222+1","v":2030},{"$f":"AV222+1","v":2031},{"$f":"AW222+1","v":2032},{"$f":"AX222+1","v":2033},{"$f":"AY222+1","v":2034}]
[null,null,null,{"$f":"'Efficiency Levels'!C120","v":"EL0"},{"$f":"'Efficiency Levels'!D120","v":19856.601246927599},1,null,{"$f":"$F223","v":1},1,1,1,1,1,1,1,1,1,1,1,1,1,1,1,{"$f":"$F223","v":1},1,1,1,1,1,0,0,0,0,0,0,0,0,0,0,0,0,0,0,0,0,0,0,0,0,0,0,0]
[null,null,null,{"$f":"'Efficiency Levels'!C121","v":"EL1"},{"$f":"'Efficiency Levels'!D121","v":11226.414151543921},0,null,0,0,0,0,0,0,0,0,0,0,0,0,0,0,0,0,0,0,0,0,0,0,0,0,0,0,0,0,0,0,0,0,{"$f":"$F224","v":0},0,0,0,0,0,0,0,0,0,0,0,0]
[null,null,null,{"$f":"'Efficiency Levels'!C122","v":"EL2"},{"$f":"'Efficiency Levels'!D122","v":10741.162304227797},0,null,0,0,0,0,0,0,0,0,0,0,0,0,0,0,0,0,0,0,0,0,0,0,0.6,0.6,0.6,0.6,0.6,0.6,0.6,0.6,0.6,0.6,0.6,0.6,0.6,0.6,0.6,0.6,0.6,0.6,0.6,0.6,0.6,0.6,0.6]
[null,null,null,{"$f":"'Efficiency Levels'!C123","v":"EL3"},{"$f":"'Efficiency Levels'!D123","v":10124.07000909045},0,null,0,0,0,0,0,0,0,0,0,0,0,0,0,0,0,0,0,0,0,0,0,0,0.2,0.2,0.2,0.2,0.2,0.2,0.2,0.2,0.2,0.2,0.2,0.2,0.2,0.2,0.2,0.2,0.2,0.2,0.2,0.2,0.2,0.2,0.2]
[null,null,null,{"$f":"'Efficiency Levels'!C124","v":"EL4"},{"$f":"'Efficiency Levels'!D124","v":9964.0799754321106},0,null,0,0,0,0,0,0,0,0,0,0,0,0,0,0,0,0,0,0,0,0,0,0,0.2,0.2,0.2,0.2,0.2,0.2,0.2,0.2,0.2,0.2,0.2,0.2,0.2,0.2,0.2,0.2,0.2,0.2,0.2,0.2,0.2,0.2,0.2]
[null,null,null,{"$f":"'Efficiency Levels'!C125","v":"EL5"},{"$f":"'Efficiency Levels'!D125","v":9884.8878075916582},0,null,0,0,0,0,0,0,0,0,0,0,0,0,0,0,0,0,0,0,0,0,0,0,0,0,0,0,0,0,0,0,0,0,{"$f":"$F228","v":0},0,0,0,0,0,0,0,0,0,0,0,0]
[null,null,null,{"$f":"'Efficiency Levels'!C126","v":"EL6"},{"$f":"'Efficiency Levels'!D126","v":9467.0870661056888},0,null,0,0,0,0,0,0,0,0,0,0,0,0,0,0,0,0,0,0,0,0,0,0,0,0,0,0,0,0,0,0,0,0,0,0,0,0,0,0,0,0,0,0,0,0,0]
[null,null,null,{"$f":"'Efficiency Levels'!C127","v":"EL7"},{"$f":"'Efficiency Levels'!D127","v":9467.0870661056888},0,null,0,0,0,0,0,0,0,0,0,0,0,0,0,0,0,0,0,0,0,0,0,0,0,0,0,0,0,0,0,0,0,0,0,0,0,0,0,0,0,0,0,0,0,0,0]
[null,null,null,{"$f":"'Efficiency Levels'!C128","v":"EL8"},{"$f":"'Efficiency Levels'!D128","v":9467.0870661056888},0,null,0,0,0,0,0,0,0,0,0,0,0,0,0,0,0,0,0,0,0,0,0,0,0,0,0,0,0,0,0,0,0,0,0,0,0,0,0,0,0,0,0,0,0,0,0]
[null,null,null,{"$f":"'Efficiency Levels'!C129","v":"EL9"},{"$f":"'Efficiency Levels'!D129","v":9467.0870661056888},0,null,0,0,0,0,0,0,0,0,0,0,0,0,0,0,0,0,0,0,0,0,0,0,0,0,0,0,0,0,0,0,0,0,0,0,0,0,0,0,0,0,0,0,0,0,0]
[null,null,null,"TOTAL",null,{"$f":"SUM(F223:F232)","v":1},null,{"$f":"SUM(H223:H232)","v":1},{"$f":"SUM(I223:I232)","v":1},1,1,1,1,1,1,1,1,1,1,1,1,1,1,1,1,1,1,1,1,1,1,1,1,1,1,1,1,1,1,1,1,1,1,1,1,1,1,1,1,1,1,1]
[]
[null,null,null,"POST-Case"]
[null,null,null,"Efficiency Level","EL (kWh/year)",null,null,1990,{"$f":"H236+1","v":1991},{"$f":"I236+1","v":1992},{"$f":"J236+1","v":1993},{"$f":"K236+1","v":1994},{"$f":"L236+1","v":1995},{"$f":"M236+1","v":1996},{"$f":"N236+1","v":1997},{"$f":"O236+1","v":1998},{"$f":"P236+1","v":1999},{"$f":"Q236+1","v":2000},{"$f":"R236+1","v":2001},{"$f":"S236+1","v":2002},{"$f":"T236+1","v":2003},{"$f":"U236+1","v":2004},{"$f":"V236+1","v":2005},{"$f":"X222","v":2006},2007,2008,2009,2010,2011,2012,2013,2014,2015,2016,2017,2018,2019,2020,2021,2022,2023,2024,2025,2026,2027,2028,2029,2030,2031,2032,2033,2034]
[null,null,null,{"$f":"D223","v":"EL0"},{"$f":"E223","v":19856.601246927599},null,null,{"$f":"H223","v":1},1,1,1,1,1,1,1,1,1,1,1,1,1,1,1,1,1,1,1,1,1,0,0,0,0,0,0,0,0,0,0,0,0,0,0,0,0,0,0,0,0,0,0,0]
[null,null,null,{"$f":"D224","v":"EL1"},11226.414151543921,null,null,0,0,0,0,0,0,0,0,0,0,0,0,0,0,0,0,0,0,0,0,0,0,0,0,0,0,0,0,0,0,0,0,0,0,0,0,0,0,0,0,0,0,0,0,0]
[null,null,null,{"$f":"D225","v":"EL2"},10741.162304227797,null,null,0,0,0,0,0,0,0,0,0,0,0,0,0,0,0,0,0,0,0,0,0,0,0.6,0.6,0.6,0.6,0.6,0,0,0,0,0,0,0,0,0,0,0,0,0,0,0,0,0,0]
[null,null,null,{"$f":"D226","v":"EL3"},10124.07000909045,null,null,0,0,0,0,0,0,0,0,0,0,0,0,0,0,0,0,0,0,0,0,0,0,0.2,0.2,0.2,0.2,0.2,0,0,0,0,0,0,0,0,0,0,0,0,0,0,0,0,0,0]
[null,null,null,{"$f":"D227","v":"EL4"},9964.0799754321106,null,null,0,0,0,0,0,0,0,0,0,0,0,0,0,0,0,0,0,0,0,0,0,0,0.2,0.2,0.2,0.2,0.2,{"$f":"SUM(AI223:AI227)","v":1},{"$f":"SUM(AJ223:AJ227)","v":1},1,1,1,1,1,1,1,1,1,1,1,1,1,1,1,1]
[null,null,null,{"$f":"D228","v":"EL5"},9884.8878075916582,null,null,0,0,0,0,0,0,0,0,0,0,0,0,0,0,0,0,0,0,0,0,0,0,0,0,0,0,0,{"$f":"AI228","v":0},0,0,0,0,0,0,0,0,0,0,0,0,0,0,0,0,0]
[null,null,null,{"$f":"D229","v":"EL6"},9467.0870661056888,null,null,0,0,0,0,0,0,0,0,0,0,0,0,0,0,0,0,0,0,0,0,0,0,0,0,0,0,0,{"$f":"AI229","v":0},0,0,0,0,0,0,0,0,0,0,0,0,0,0,0,0,0]
[null,null,null,{"$f":"D230","v":"EL7"},9467.0870661056888,null,null,{"$f":"H230","v":0},0,0,0,0,0,0,0,0,0,0,0,0,0,0,0,0,0,0,0,0,0,0,0,0,0,0,0,0,0,0,0,0,0,0,0,0,0,0,0,0,0,0,0,0]
[null,null,null,{"$f":"D231","v":"EL8"},9467.0870661056888,null,null,{"$f":"H231","v":0},0,0,0,0,0,0,0,0,0,0,0,0,0,0,0,0,0,0,0,0,0,0,0,0,0,0,0,0,0,0,0,0,0,0,0,0,0,0,0,0,0,0,0,0]
[null,null,null,{"$f":"D232","v":"EL9"},9467.0870661056888,null,null,{"$f":"H232","v":0},0,0,0,0,0,0,0,0,0,0,0,0,0,0,0,0,0,0,0,0,0,0,0,0,0,0,0,0,0,0,0,0,0,0,0,0,0,0,0,0,0,0,0,0]
[null,null,null,"TOTAL",null,null,null,{"$f":"SUM(H237:H246)","v":1},{"$f":"SUM(I237:I246)","v":1},1,1,1,1,1,1,1,1,1,1,1,1,1,1,1,1,1,1,1,1,1,1,1,1,1,1,1,1,1,1,1,1,1,1,1,1,1,1,1,1,1,1,1]
[]
[null,null,null,"Sources","DOE Commercial Refrigeration Equipment 2014 Final Rule, Technical Support Document: Final Rule National Impact Analysis Spreadsheet, 'Market Share Inputs' tab, cells AP3:AX35, http://www.regulations.gov/#!documentDetail;D=EERE-2010-BT-STD-0003-0101"]
[]
[]
[]
[]
[null,null,null,{"$f":"'Product Classes'!O17","v":"SOC.RC.M"}]
[]
[null,null,null,"PRE-Case",null,"Static Distribution"]
[null,null,null,"Efficiency Level","EL (kWh/year)",2006,null,1990,{"$f":"H257+1","v":1991},{"$f":"I257+1","v":1992},{"$f":"J257+1","v":1993},{"$f":"K257+1","v":1994},{"$f":"L257+1","v":1995},{"$f":"M257+1","v":1996},{"$f":"N257+1","v":1997},{"$f":"O257+1","v":1998},{"$f":"P257+1","v":1999},{"$f":"Q257+1","v":2000},{"$f":"R257+1","v":2001},{"$f":"S257+1","v":2002},{"$f":"T257+1","v":2003},{"$f":"U257+1","v":2004},{"$f":"V257+1","v":2005},{"$f":"W257+1","v":2006},{"$f":"X257+1","v":2007},{"$f":"Y257+1","v":2008},{"$f":"Z257+1","v":2009},{"$f":"AA257+1","v":2010},{"$f":"AB257+1","v":2011},{"$f":"AC257+1","v":2012},{"$f":"AD257+1","v":2013},{"$f":"AE257+1","v":2014},{"$f":"AF257+1","v":2015},{"$f":"AG257+1","v":2016},{"$f":"AH257+1","v":2017},{"$f":"AI257+1","v":2018},{"$f":"AJ257+1","v":2019},{"$f":"AK257+1","v":2020},{"$f":"AL257+1","v":2021},{"$f":"AM257+1","v":2022},{"$f":"AN257+1","v":2023},{"$f":"AO257+1","v":2024},{"$f":"AP257+1","v":2025},{"$f":"AQ257+1","v":2026},{"$f":"AR257+1","v":2027},{"$f":"AS257+1","v":2028},{"$f":"AT257+1","v":2029},{"$f":"AU257+1","v":2030},{"$f":"AV257+1","v":2031},{"$f":"AW257+1","v":2032},{"$f":"AX257+1","v":2033},{"$f":"AY257+1","v":2034}]
[null,null,null,{"$f":"'Efficiency Levels'!C138","v":"EL0"},{"$f":"'Efficiency Levels'!D138","v":7713.0128218027394},1,null,{"$f":"$F258","v":1},1,1,1,1,1,1,1,1,1,1,1,1,1,1,1,{"$f":"$F258","v":1},1,1,1,1,1,0,0,0,0,0,0,0,0,0,0,0,0,0,0,0,0,0,0,0,0,0,0,0]
[null,null,null,{"$f":"'Efficiency Levels'!C139","v":"EL1"},{"$f":"'Efficiency Levels'!D139","v":6384.8382741657942},0,null,0,0,0,0,0,0,0,0,0,0,0,0,0,0,0,0,0,0,0,0,0,0,0,0,0,0,0,0,0,0,0,0,{"$f":"$F259","v":0},0,0,0,0,0,0,0,0,0,0,0,0]
[null,null,null,{"$f":"'Efficiency Levels'!C140","v":"EL2"},{"$f":"'Efficiency Levels'!D140","v":5533.4502954447016},0,null,0,0,0,0,0,0,0,0,0,0,0,0,0,0,0,0,0,0,0,0,0,0,0.6,0.6,0.6,0.6,0.6,0.6,0.6,0.6,0.6,0.6,0.6,0.6,0.6,0.6,0.6,0.6,0.6,0.6,0.6,0.6,0.6,0.6,0.6]
[null,null,null,{"$f":"'Efficiency Levels'!C141","v":"EL3"},{"$f":"'Efficiency Levels'!D141","v":5429.3056288649132},0,null,0,0,0,0,0,0,0,0,0,0,0,0,0,0,0,0,0,0,0,0,0,0,0.4,0.4,0.4,0.4,0.4,0.4,0.4,0.4,0.4,0.4,0.4,0.4,0.4,0.4,0.4,0.4,0.4,0.4,0.4,0.4,0.4,0.4,0.4]
[null,null,null,{"$f":"'Efficiency Levels'!C142","v":"EL4"},{"$f":"'Efficiency Levels'!D142","v":5333.2717209383054},0,null,0,0,0,0,0,0,0,0,0,0,0,0,0,0,0,0,0,0,0,0,0,0,0,0,0,0,0,0,0,0,0,0,{"$f":"$F262","v":0},0,0,0,0,0,0,0,0,0,0,0,0]
[null,null,null,{"$f":"'Efficiency Levels'!C143","v":"EL5"},{"$f":"'Efficiency Levels'!D143","v":5304.5274286278091},0,null,0,0,0,0,0,0,0,0,0,0,0,0,0,0,0,0,0,0,0,0,0,0,0,0,0,0,0,0,0,0,0,0,0,0,0,0,0,0,0,0,0,0,0,0,0]
[null,null,null,{"$f":"'Efficiency Levels'!C144","v":"EL6"},{"$f":"'Efficiency Levels'!D144","v":5246.2521280466344},0,null,0,0,0,0,0,0,0,0,0,0,0,0,0,0,0,0,0,0,0,0,0,0,0,0,0,0,0,0,0,0,0,0,0,0,0,0,0,0,0,0,0,0,0,0,0]
[null,null,null,{"$f":"'Efficiency Levels'!C145","v":"EL7"},{"$f":"'Efficiency Levels'!D145","v":5246.2521280466344},0,null,0,0,0,0,0,0,0,0,0,0,0,0,0,0,0,0,0,0,0,0,0,0,0,0,0,0,0,0,0,0,0,0,0,0,0,0,0,0,0,0,0,0,0,0,0]
[null,null,null,{"$f":"'Efficiency Levels'!C146","v":"EL8"},{"$f":"'Efficiency Levels'!D146","v":5246.2521280466344},0,null,0,0,0,0,0,0,0,0,0,0,0,0,0,0,0,0,0,0,0,0,0,0,0,0,0,0,0,0,0,0,0,0,0,0,0,0,0,0,0,0,0,0,0,0,0]
[null,null,null,{"$f":"'Efficiency Levels'!C147","v":"EL9"},{"$f":"'Efficiency Levels'!D147","v":5246.2521280466344},0,null,0,0,0,0,0,0,0,0,0,0,0,0,0,0,0,0,0,0,0,0,0,0,0,0,0,0,0,0,0,0,0,0,0,0,0,0,0,0,0,0,0,0,0,0,0]
[null,null,null,"TOTAL",null,{"$f":"SUM(F258:F267)","v":1},null,{"$f":"SUM(H258:H267)","v":1},{"$f":"SUM(I258:I267)","v":1},1,1,1,1,1,1,1,1,1,1,1,1,1,1,1,1,1,1,1,1,1,1,1,1,1,1,1,1,1,1,1,1,1,1,1,1,1,1,1,1,1,1,1]
[]
[null,null,null,"POST-Case"]
[null,null,null,"Efficiency Level","EL (kWh/year)",null,null,1990,{"$f":"H271+1","v":1991},{"$f":"I271+1","v":1992},{"$f":"J271+1","v":1993},{"$f":"K271+1","v":1994},{"$f":"L271+1","v":1995},{"$f":"M271+1","v":1996},{"$f":"N271+1","v":1997},{"$f":"O271+1","v":1998},{"$f":"P271+1","v":1999},{"$f":"Q271+1","v":2000},{"$f":"R271+1","v":2001},{"$f":"S271+1","v":2002},{"$f":"T271+1","v":2003},{"$f":"U271+1","v":2004},{"$f":"V271+1","v":2005},{"$f":"X257","v":2006},2007,2008,2009,2010,2011,2012,2013,2014,2015,2016,2017,2018,2019,2020,2021,2022,2023,2024,2025,2026,2027,2028,2029,2030,2031,2032,2033,2034]
[null,null,null,{"$f":"D258","v":"EL0"},{"$f":"E258","v":7713.0128218027394},null,null,{"$f":"H258","v":1},1,1,1,1,1,1,1,1,1,1,1,1,1,1,1,1,1,1,1,1,1,0,0,0,0,0,0,0,0,0,0,0,0,0,0,0,0,0,0,0,0,0,0,0]
[null,null,null,{"$f":"D259","v":"EL1"},6384.8382741657942,null,null,0,0,0,0,0,0,0,0,0,0,0,0,0,0,0,0,0,0,0,0,0,0,0,0,0,0,0,0,0,0,0,0,0,0,0,0,0,0,0,0,0,0,0,0,0]
[null,null,null,{"$f":"D260","v":"EL2"},5533.4502954447016,null,null,0,0,0,0,0,0,0,0,0,0,0,0,0,0,0,0,0,0,0,0,0,0,0.6,0.6,0.6,0.6,0.6,{"$f":"SUM(AI258:AI260)","v":0.6},{"$f":"SUM(AJ258:AJ260)","v":0.6},0.6,0.6,0.6,0.6,0.6,0.6,0.6,0.6,0.6,0.6,0.6,0.6,0.6,0.6,0.6,0.6]
[null,null,null,{"$f":"D261","v":"EL3"},5429.3056288649132,null,null,0,0,0,0,0,0,0,0,0,0,0,0,0,0,0,0,0,0,0,0,0,0,0.4,0.4,0.4,0.4,0.4,{"$f":"AI261","v":0.4},{"$f":"AJ261","v":0.4},0.4,0.4,0.4,0.4,0.4,0.4,0.4,0.4,0.4,0.4,0.4,0.4,0.4,0.4,0.4,0.4]
[null,null,null,{"$f":"D262","v":"EL4"},5333.2717209383054,null,null,0,0,0,0,0,0,0,0,0,0,0,0,0,0,0,0,0,0,0,0,0,0,0,0,0,0,0,0,{"$f":"AJ262","v":0},0,0,0,0,0,0,0,0,0,0,0,0,0,0,0,0]
[null,null,null,{"$f":"D263","v":"EL5"},5304.5274286278091,null,null,0,0,0,0,0,0,0,0,0,0,0,0,0,0,0,0,0,0,0,0,0,0,0,0,0,0,0,{"$f":"AI263","v":0},{"$f":"AJ263","v":0},0,0,0,0,0,0,0,0,0,0,0,0,0,0,0,0]
[null,null,null,{"$f":"D264","v":"EL6"},5246.2521280466344,null,null,0,0,0,0,0,0,0,0,0,0,0,0,0,0,0,0,0,0,0,0,0,0,0,0,0,0,0,{"$f":"AI264","v":0},{"$f":"AJ264","v":0},0,0,0,0,0,0,0,0,0,0,0,0,0,0,0,0]
[null,null,null,{"$f":"D265","v":"EL7"},5246.2521280466344,null,null,{"$f":"H265","v":0},0,0,0,0,0,0,0,0,0,0,0,0,0,0,0,0,0,0,0,0,0,0,0,0,0,0,0,{"$f":"AJ265","v":0},0,0,0,0,0,0,0,0,0,0,0,0,0,0,0,0]
[null,null,null,{"$f":"D266","v":"EL8"},5246.2521280466344,null,null,{"$f":"H266","v":0},0,0,0,0,0,0,0,0,0,0,0,0,0,0,0,0,0,0,0,0,0,0,0,0,0,0,0,{"$f":"AJ266","v":0},0,0,0,0,0,0,0,0,0,0,0,0,0,0,0,0]
[null,null,null,{"$f":"D267","v":"EL9"},5246.2521280466344,null,null,{"$f":"H267","v":0},0,0,0,0,0,0,0,0,0,0,0,0,0,0,0,0,0,0,0,0,0,0,0,0,0,0,0,{"$f":"AJ267","v":0},0,0,0,0,0,0,0,0,0,0,0,0,0,0,0,0]
[null,null,null,"TOTAL",null,null,null,{"$f":"SUM(H272:H281)","v":1},{"$f":"SUM(I272:I281)","v":1},1,1,1,1,1,1,1,1,1,1,1,1,1,1,1,1,1,1,1,1,1,1,1,1,1,1,{"$f":"SUM(AJ272:AJ281)","v":1},1,1,1,1,1,1,1,1,1,1,1,1,1,1,1,1]
[]
[null,null,null,"Sources","DOE Commercial Refrigeration Equipment 2014 Final Rule, Technical Support Document: Final Rule National Impact Analysis Spreadsheet, 'Market Share Inputs' tab, cells EB3:EJ35, http://www.regulations.gov/#!documentDetail;D=EERE-2010-BT-STD-0003-0101"]
[]
[]
[]
[]
[null,null,null,{"$f":"'Product Classes'!O18","v":"VOP.SC.M"}]
[]
[null,null,null,"PRE-Case",null,"Static Distribution"]
[null,null,null,"Efficiency Level","EL (kWh/year)",2006,null,1990,{"$f":"H292+1","v":1991},{"$f":"I292+1","v":1992},{"$f":"J292+1","v":1993},{"$f":"K292+1","v":1994},{"$f":"L292+1","v":1995},{"$f":"M292+1","v":1996},{"$f":"N292+1","v":1997},{"$f":"O292+1","v":1998},{"$f":"P292+1","v":1999},{"$f":"Q292+1","v":2000},{"$f":"R292+1","v":2001},{"$f":"S292+1","v":2002},{"$f":"T292+1","v":2003},{"$f":"U292+1","v":2004},{"$f":"V292+1","v":2005},{"$f":"W292+1","v":2006},{"$f":"X292+1","v":2007},{"$f":"Y292+1","v":2008},{"$f":"Z292+1","v":2009},{"$f":"AA292+1","v":2010},{"$f":"AB292+1","v":2011},{"$f":"AC292+1","v":2012},{"$f":"AD292+1","v":2013},{"$f":"AE292+1","v":2014},{"$f":"AF292+1","v":2015},{"$f":"AG292+1","v":2016},{"$f":"AH292+1","v":2017},{"$f":"AI292+1","v":2018},{"$f":"AJ292+1","v":2019},{"$f":"AK292+1","v":2020},{"$f":"AL292+1","v":2021},{"$f":"AM292+1","v":2022},{"$f":"AN292+1","v":2023},{"$f":"AO292+1","v":2024},{"$f":"AP292+1","v":2025},{"$f":"AQ292+1","v":2026},{"$f":"AR292+1","v":2027},{"$f":"AS292+1","v":2028},{"$f":"AT292+1","v":2029},{"$f":"AU292+1","v":2030},{"$f":"AV292+1","v":2031},{"$f":"AW292+1","v":2032},{"$f":"AX292+1","v":2033},{"$f":"AY292+1","v":2034}]
[null,null,null,{"$f":"'Efficiency Levels'!C156","v":"EL0"},{"$f":"'Efficiency Levels'!D156","v":14454.022892624265},1,null,{"$f":"$F293","v":1},1,1,1,1,1,1,1,1,1,1,1,1,1,1,1,{"$f":"$F293","v":1},1,1,1,1,1,0,0,0,0,0,0,0,0,0,0,0,0,0,0,0,0,0,0,0,0,0,0,0]
[null,null,null,{"$f":"'Efficiency Levels'!C157","v":"EL1"},{"$f":"'Efficiency Levels'!D157","v":11206.310920162394},0,null,0,0,0,0,0,0,0,0,0,0,0,0,0,0,0,0,0,0,0,0,0,0,0,0,0,0,0,0,0,0,0,0,{"$f":"$F294","v":0},0,0,0,0,0,0,0,0,0,0,0,0]
[null,null,null,{"$f":"'Efficiency Levels'!C158","v":"EL2"},{"$f":"'Efficiency Levels'!D158","v":10952.589380589838},0,null,0,0,0,0,0,0,0,0,0,0,0,0,0,0,0,0,0,0,0,0,0,0,0.6,0.6,0.6,0.6,0.6,0.6,0.6,0.6,0.6,0.6,0.6,0.6,0.6,0.6,0.6,0.6,0.6,0.6,0.6,0.6,0.6,0.6,0.6]
[null,null,null,{"$f":"'Efficiency Levels'!C159","v":"EL3"},{"$f":"'Efficiency Levels'!D159","v":10917.332831134923},0,null,0,0,0,0,0,0,0,0,0,0,0,0,0,0,0,0,0,0,0,0,0,0,0.4,0.4,0.4,0.4,0.4,0.4,0.4,0.4,0.4,0.4,0.4,0.4,0.4,0.4,0.4,0.4,0.4,0.4,0.4,0.4,0.4,0.4,0.4]
[null,null,null,{"$f":"'Efficiency Levels'!C160","v":"EL4"},{"$f":"'Efficiency Levels'!D160","v":10845.610479854964},0,null,0,0,0,0,0,0,0,0,0,0,0,0,0,0,0,0,0,0,0,0,0,0,0,0,0,0,0,0,0,0,0,0,{"$f":"$F297","v":0},0,0,0,0,0,0,0,0,0,0,0,0]
[null,null,null,{"$f":"'Efficiency Levels'!C161","v":"EL5"},{"$f":"'Efficiency Levels'!D161","v":10845.610479854964},0,null,0,0,0,0,0,0,0,0,0,0,0,0,0,0,0,0,0,0,0,0,0,0,0,0,0,0,0,0,0,0,0,0,0,0,0,0,0,0,0,0,0,0,0,0,0]
[null,null,null,{"$f":"'Efficiency Levels'!C162","v":"EL6"},{"$f":"'Efficiency Levels'!D162","v":10845.610479854964},0,null,0,0,0,0,0,0,0,0,0,0,0,0,0,0,0,0,0,0,0,0,0,0,0,0,0,0,0,0,0,0,0,0,0,0,0,0,0,0,0,0,0,0,0,0,0]
[null,null,null,{"$f":"'Efficiency Levels'!C163","v":"EL7"},{"$f":"'Efficiency Levels'!D163","v":10845.610479854964},0,null,0,0,0,0,0,0,0,0,0,0,0,0,0,0,0,0,0,0,0,0,0,0,0,0,0,0,0,0,0,0,0,0,0,0,0,0,0,0,0,0,0,0,0,0,0]
[null,null,null,{"$f":"'Efficiency Levels'!C164","v":"EL8"},{"$f":"'Efficiency Levels'!D164","v":10845.610479854964},0,null,0,0,0,0,0,0,0,0,0,0,0,0,0,0,0,0,0,0,0,0,0,0,0,0,0,0,0,0,0,0,0,0,0,0,0,0,0,0,0,0,0,0,0,0,0]
[null,null,null,{"$f":"'Efficiency Levels'!C165","v":"EL9"},{"$f":"'Efficiency Levels'!D165","v":10845.610479854964},0,null,0,0,0,0,0,0,0,0,0,0,0,0,0,0,0,0,0,0,0,0,0,0,0,0,0,0,0,0,0,0,0,0,0,0,0,0,0,0,0,0,0,0,0,0,0]
[null,null,null,"TOTAL",null,{"$f":"SUM(F293:F302)","v":1},null,{"$f":"SUM(H293:H302)","v":1},{"$f":"SUM(I293:I302)","v":1},1,1,1,1,1,1,1,1,1,1,1,1,1,1,1,1,1,1,1,1,1,1,1,1,1,1,1,1,1,1,1,1,1,1,1,1,1,1,1,1,1,1,1]
[]
[null,null,null,"POST-Case"]
[null,null,null,"Efficiency Level","EL (kWh/year)",null,null,1990,{"$f":"H306+1","v":1991},{"$f":"I306+1","v":1992},{"$f":"J306+1","v":1993},{"$f":"K306+1","v":1994},{"$f":"L306+1","v":1995},{"$f":"M306+1","v":1996},{"$f":"N306+1","v":1997},{"$f":"O306+1","v":1998},{"$f":"P306+1","v":1999},{"$f":"Q306+1","v":2000},{"$f":"R306+1","v":2001},{"$f":"S306+1","v":2002},{"$f":"T306+1","v":2003},{"$f":"U306+1","v":2004},{"$f":"V306+1","v":2005},{"$f":"X292","v":2006},2007,2008,2009,2010,2011,2012,2013,2014,2015,2016,2017,2018,2019,2020,2021,2022,2023,2024,2025,2026,2027,2028,2029,2030,2031,2032,2033,2034]
[null,null,null,{"$f":"D293","v":"EL0"},{"$f":"E293","v":14454.022892624265},null,null,{"$f":"H293","v":1},1,1,1,1,1,1,1,1,1,1,1,1,1,1,1,1,1,1,1,1,1,0,0,0,0,0,0,0,0,0,0,0,0,0,0,0,0,0,0,0,0,0,0,0]
[null,null,null,{"$f":"D294","v":"EL1"},11206.310920162394,null,null,0,0,0,0,0,0,0,0,0,0,0,0,0,0,0,0,0,0,0,0,0,0,0,0,0,0,0,0,0,0,0,0,0,0,0,0,0,0,0,0,0,0,0,0,0]
[null,null,null,{"$f":"D295","v":"EL2"},10952.589380589838,null,null,0,0,0,0,0,0,0,0,0,0,0,0,0,0,0,0,0,0,0,0,0,0,0.6,0.6,0.6,0.6,0.6,{"$f":"SUM(AI293:AI295)","v":0.6},{"$f":"SUM(AJ293:AJ295)","v":0.6},0.6,0.6,0.6,0.6,0.6,0.6,0.6,0.6,0.6,0.6,0.6,0.6,0.6,0.6,0.6,0.6]
[null,null,null,{"$f":"D296","v":"EL3"},10917.332831134923,null,null,0,0,0,0,0,0,0,0,0,0,0,0,0,0,0,0,0,0,0,0,0,0,0.4,0.4,0.4,0.4,0.4,{"$f":"AI296","v":0.4},{"$f":"AJ296","v":0.4},0.4,0.4,0.4,0.4,0.4,0.4,0.4,0.4,0.4,0.4,0.4,0.4,0.4,0.4,0.4,0.4]
[null,null,null,{"$f":"D297","v":"EL4"},10845.610479854964,null,null,0,0,0,0,0,0,0,0,0,0,0,0,0,0,0,0,0,0,0,0,0,0,0,0,0,0,0,0,{"$f":"AJ297","v":0},0,0,0,0,0,0,0,0,0,0,0,0,0,0,0,0]
[null,null,null,{"$f":"D298","v":"EL5"},10845.610479854964,null,null,0,0,0,0,0,0,0,0,0,0,0,0,0,0,0,0,0,0,0,0,0,0,0,0,0,0,0,{"$f":"AI298","v":0},{"$f":"AJ298","v":0},0,0,0,0,0,0,0,0,0,0,0,0,0,0,0,0]
[null,null,null,{"$f":"D299","v":"EL6"},10845.610479854964,null,null,0,0,0,0,0,0,0,0,0,0,0,0,0,0,0,0,0,0,0,0,0,0,0,0,0,0,0,{"$f":"AI299","v":0},{"$f":"AJ299","v":0},0,0,0,0,0,0,0,0,0,0,0,0,0,0,0,0]
[null,null,null,{"$f":"D300","v":"EL7"},10845.610479854964,null,null,{"$f":"H300","v":0},0,0,0,0,0,0,0,0,0,0,0,0,0,0,0,0,0,0,0,0,0,0,0,0,0,0,0,{"$f":"AJ300","v":0},0,0,0,0,0,0,0,0,0,0,0,0,0,0,0,0]
[null,null,null,{"$f":"D301","v":"EL8"},10845.610479854964,null,null,{"$f":"H301","v":0},0,0,0,0,0,0,0,0,0,0,0,0,0,0,0,0,0,0,0,0,0,0,0,0,0,0,0,{"$f":"AJ301","v":0},0,0,0,0,0,0,0,0,0,0,0,0,0,0,0,0]
[null,null,null,{"$f":"D302","v":"EL9"},10845.610479854964,null,null,{"$f":"H302","v":0},0,0,0,0,0,0,0,0,0,0,0,0,0,0,0,0,0,0,0,0,0,0,0,0,0,0,0,{"$f":"AJ302","v":0},0,0,0,0,0,0,0,0,0,0,0,0,0,0,0,0]
[null,null,null,"TOTAL",null,null,null,{"$f":"SUM(H307:H316)","v":1},{"$f":"SUM(I307:I316)","v":1},1,1,1,1,1,1,1,1,1,1,1,1,1,1,1,1,1,1,1,1,1,1,1,1,1,1,{"$f":"SUM(AJ307:AJ316)","v":1},1,1,1,1,1,1,1,1,1,1,1,1,1,1,1,1]
[]
[null,null,null,"Sources","DOE Commercial Refrigeration Equipment 2014 Final Rule, Technical Support Document: Final Rule National Impact Analysis Spreadsheet, 'Market Share Inputs' tab, cells V3:AD35, http://www.regulations.gov/#!documentDetail;D=EERE-2010-BT-STD-0003-0101"]
[]
[]
[]
[]
[null,null,null,{"$f":"'Product Classes'!O19","v":"SVO.SC.M"}]
[]
[null,null,null,"PRE-Case",null,"Static Distribution"]
[null,null,null,"Efficiency Level","EL (kWh/year)",2006,null,1990,{"$f":"H327+1","v":1991},{"$f":"I327+1","v":1992},{"$f":"J327+1","v":1993},{"$f":"K327+1","v":1994},{"$f":"L327+1","v":1995},{"$f":"M327+1","v":1996},{"$f":"N327+1","v":1997},{"$f":"O327+1","v":1998},{"$f":"P327+1","v":1999},{"$f":"Q327+1","v":2000},{"$f":"R327+1","v":2001},{"$f":"S327+1","v":2002},{"$f":"T327+1","v":2003},{"$f":"U327+1","v":2004},{"$f":"V327+1","v":2005},{"$f":"W327+1","v":2006},{"$f":"X327+1","v":2007},{"$f":"Y327+1","v":2008},{"$f":"Z327+1","v":2009},{"$f":"AA327+1","v":2010},{"$f":"AB327+1","v":2011},{"$f":"AC327+1","v":2012},{"$f":"AD327+1","v":2013},{"$f":"AE327+1","v":2014},{"$f":"AF327+1","v":2015},{"$f":"AG327+1","v":2016},{"$f":"AH327+1","v":2017},{"$f":"AI327+1","v":2018},{"$f":"AJ327+1","v":2019},{"$f":"AK327+1","v":2020},{"$f":"AL327+1","v":2021},{"$f":"AM327+1","v":2022},{"$f":"AN327+1","v":2023},{"$f":"AO327+1","v":2024},{"$f":"AP327+1","v":2025},{"$f":"AQ327+1","v":2026},{"$f":"AR327+1","v":2027},{"$f":"AS327+1","v":2028},{"$f":"AT327+1","v":2029},{"$f":"AU327+1","v":2030},{"$f":"AV327+1","v":2031},{"$f":"AW327+1","v":2032},{"$f":"AX327+1","v":2033},{"$f":"AY327+1","v":2034}]
[null,null,null,{"$f":"'Efficiency Levels'!C174","v":"EL0"},{"$f":"'Efficiency Levels'!D174","v":12084.083870898876},1,null,{"$f":"$F328","v":1},1,1,1,1,1,1,1,1,1,1,1,1,1,1,1,{"$f":"$F328","v":1},1,1,1,1,1,0,0,0,0,0,0,0,0,0,0,0,0,0,0,0,0,0,0,0,0,0,0,0]
[null,null,null,{"$f":"'Efficiency Levels'!C175","v":"EL1"},{"$f":"'Efficiency Levels'!D175","v":9758.4207623394686},0,null,0,0,0,0,0,0,0,0,0,0,0,0,0,0,0,0,0,0,0,0,0,0,0,0,0,0,0,0,0,0,0,0,{"$f":"$F329","v":0},0,0,0,0,0,0,0,0,0,0,0,0]
[null,null,null,{"$f":"'Efficiency Levels'!C176","v":"EL2"},{"$f":"'Efficiency Levels'!D176","v":9607.7582997531936},0,null,0,0,0,0,0,0,0,0,0,0,0,0,0,0,0,0,0,0,0,0,0,0,0.6,0.6,0.6,0.6,0.6,0.6,0.6,0.6,0.6,0.6,0.6,0.6,0.6,0.6,0.6,0.6,0.6,0.6,0.6,0.6,0.6,0.6,0.6]
[null,null,null,{"$f":"'Efficiency Levels'!C177","v":"EL3"},{"$f":"'Efficiency Levels'!D177","v":9360.9102427395337},0,null,0,0,0,0,0,0,0,0,0,0,0,0,0,0,0,0,0,0,0,0,0,0,0.4,0.4,0.4,0.4,0.4,0.4,0.4,0.4,0.4,0.4,0.4,0.4,0.4,0.4,0.4,0.4,0.4,0.4,0.4,0.4,0.4,0.4,0.4]
[null,null,null,{"$f":"'Efficiency Levels'!C178","v":"EL4"},{"$f":"'Efficiency Levels'!D178","v":9331.2726889597543},0,null,0,0,0,0,0,0,0,0,0,0,0,0,0,0,0,0,0,0,0,0,0,0,0,0,0,0,0,0,0,0,0,0,{"$f":"$F332","v":0},0,0,0,0,0,0,0,0,0,0,0,0]
[null,null,null,{"$f":"'Efficiency Levels'!C179","v":"EL5"},{"$f":"'Efficiency Levels'!D179","v":9270.9305751342617},0,null,0,0,0,0,0,0,0,0,0,0,0,0,0,0,0,0,0,0,0,0,0,0,0,0,0,0,0,0,0,0,0,0,0,0,0,0,0,0,0,0,0,0,0,0,0]
[null,null,null,{"$f":"'Efficiency Levels'!C180","v":"EL6"},{"$f":"'Efficiency Levels'!D180","v":9270.9305751342617},0,null,0,0,0,0,0,0,0,0,0,0,0,0,0,0,0,0,0,0,0,0,0,0,0,0,0,0,0,0,0,0,0,0,0,0,0,0,0,0,0,0,0,0,0,0,0]
[null,null,null,{"$f":"'Efficiency Levels'!C181","v":"EL7"},{"$f":"'Efficiency Levels'!D181","v":9270.9305751342617},0,null,0,0,0,0,0,0,0,0,0,0,0,0,0,0,0,0,0,0,0,0,0,0,0,0,0,0,0,0,0,0,0,0,0,0,0,0,0,0,0,0,0,0,0,0,0]
[null,null,null,{"$f":"'Efficiency Levels'!C182","v":"EL8"},{"$f":"'Efficiency Levels'!D182","v":9270.9305751342617},0,null,0,0,0,0,0,0,0,0,0,0,0,0,0,0,0,0,0,0,0,0,0,0,0,0,0,0,0,0,0,0,0,0,0,0,0,0,0,0,0,0,0,0,0,0,0]
[null,null,null,{"$f":"'Efficiency Levels'!C183","v":"EL9"},{"$f":"'Efficiency Levels'!D183","v":9270.9305751342617},0,null,0,0,0,0,0,0,0,0,0,0,0,0,0,0,0,0,0,0,0,0,0,0,0,0,0,0,0,0,0,0,0,0,0,0,0,0,0,0,0,0,0,0,0,0,0]
[null,null,null,"TOTAL",null,{"$f":"SUM(F328:F337)","v":1},null,{"$f":"SUM(H328:H337)","v":1},{"$f":"SUM(I328:I337)","v":1},1,1,1,1,1,1,1,1,1,1,1,1,1,1,1,1,1,1,1,1,1,1,1,1,1,1,1,1,1,1,1,1,1,1,1,1,1,1,1,1,1,1,1]
[]
[null,null,null,"POST-Case"]
[null,null,null,"Efficiency Level","EL (kWh/year)",null,null,1990,{"$f":"H341+1","v":1991},{"$f":"I341+1","v":1992},{"$f":"J341+1","v":1993},{"$f":"K341+1","v":1994},{"$f":"L341+1","v":1995},{"$f":"M341+1","v":1996},{"$f":"N341+1","v":1997},{"$f":"O341+1","v":1998},{"$f":"P341+1","v":1999},{"$f":"Q341+1","v":2000},{"$f":"R341+1","v":2001},{"$f":"S341+1","v":2002},{"$f":"T341+1","v":2003},{"$f":"U341+1","v":2004},{"$f":"V341+1","v":2005},{"$f":"X327","v":2006},2007,2008,2009,2010,2011,2012,2013,2014,2015,2016,2017,2018,2019,2020,2021,2022,2023,2024,2025,2026,2027,2028,2029,2030,2031,2032,2033,2034]
[null,null,null,{"$f":"D328","v":"EL0"},{"$f":"E328","v":12084.083870898876},null,null,{"$f":"H328","v":1},1,1,1,1,1,1,1,1,1,1,1,1,1,1,1,1,1,1,1,1,1,0,0,0,0,0,0,0,0,0,0,0,0,0,0,0,0,0,0,0,0,0,0,0]
[null,null,null,{"$f":"D329","v":"EL1"},9758.4207623394686,null,null,0,0,0,0,0,0,0,0,0,0,0,0,0,0,0,0,0,0,0,0,0,0,0,0,0,0,0,0,0,0,0,0,0,0,0,0,0,0,0,0,0,0,0,0,0]
[null,null,null,{"$f":"D330","v":"EL2"},9607.7582997531936,null,null,0,0,0,0,0,0,0,0,0,0,0,0,0,0,0,0,0,0,0,0,0,0,0.6,0.6,0.6,0.6,0.6,{"$f":"SUM(AI328:AI330)","v":0.6},{"$f":"SUM(AJ328:AJ330)","v":0.6},0.6,0.6,0.6,0.6,0.6,0.6,0.6,0.6,0.6,0.6,0.6,0.6,0.6,0.6,0.6,0.6]
[null,null,null,{"$f":"D331","v":"EL3"},9360.9102427395337,null,null,0,0,0,0,0,0,0,0,0,0,0,0,0,0,0,0,0,0,0,0,0,0,0.4,0.4,0.4,0.4,0.4,{"$f":"AI331","v":0.4},{"$f":"AJ331","v":0.4},0.4,0.4,0.4,0.4,0.4,0.4,0.4,0.4,0.4,0.4,0.4,0.4,0.4,0.4,0.4,0.4]
[null,null,null,{"$f":"D332","v":"EL4"},9331.2726889597543,null,null,0,0,0,0,0,0,0,0,0,0,0,0,0,0,0,0,0,0,0,0,0,0,0,0,0,0,0,0,{"$f":"AJ332","v":0},0,0,0,0,0,0,0,0,0,0,0,0,0,0,0,0]
[null,null,null,{"$f":"D333","v":"EL5"},9270.9305751342617,null,null,0,0,0,0,0,0,0,0,0,0,0,0,0,0,0,0,0,0,0,0,0,0,0,0,0,0,0,{"$f":"AI333","v":0},{"$f":"AJ333","v":0},0,0,0,0,0,0,0,0,0,0,0,0,0,0,0,0]
[null,null,null,{"$f":"D334","v":"EL6"},9270.9305751342617,null,null,0,0,0,0,0,0,0,0,0,0,0,0,0,0,0,0,0,0,0,0,0,0,0,0,0,0,0,{"$f":"AI334","v":0},{"$f":"AJ334","v":0},0,0,0,0,0,0,0,0,0,0,0,0,0,0,0,0]
[null,null,null,{"$f":"D335","v":"EL7"},9270.9305751342617,null,null,{"$f":"H335","v":0},0,0,0,0,0,0,0,0,0,0,0,0,0,0,0,0,0,0,0,0,0,0,0,0,0,0,0,{"$f":"AJ335","v":0},0,0,0,0,0,0,0,0,0,0,0,0,0,0,0,0]
[null,null,null,{"$f":"D336","v":"EL8"},9270.9305751342617,null,null,{"$f":"H336","v":0},0,0,0,0,0,0,0,0,0,0,0,0,0,0,0,0,0,0,0,0,0,0,0,0,0,0,0,{"$f":"AJ336","v":0},0,0,0,0,0,0,0,0,0,0,0,0,0,0,0,0]
[null,null,null,{"$f":"D337","v":"EL9"},9270.9305751342617,null,null,{"$f":"H337","v":0},0,0,0,0,0,0,0,0,0,0,0,0,0,0,0,0,0,0,0,0,0,0,0,0,0,0,0,{"$f":"AJ337","v":0},0,0,0,0,0,0,0,0,0,0,0,0,0,0,0,0]
[null,null,null,"TOTAL",null,null,null,{"$f":"SUM(H342:H351)","v":1},{"$f":"SUM(I342:I351)","v":1},1,1,1,1,1,1,1,1,1,1,1,1,1,1,1,1,1,1,1,1,1,1,1,1,1,1,1,1,1,1,1,1,1,1,1,1,1,1,1,1,1,1,1]
[]
[null,null,null,"Sources","DOE Commercial Refrigeration Equipment 2014 Final Rule, Technical Support Document: Final Rule National Impact Analysis Spreadsheet, 'Market Share Inputs' tab, cells DR3:DZ35, http://www.regulations.gov/#!documentDetail;D=EERE-2010-BT-STD-0003-0101"]
[]
[]
[]
[]
[null,null,null,{"$f":"'Product Classes'!O20","v":"HZO.SC.M"}]
[]
[null,null,null,"PRE-Case",null,"Static Distribution"]
[null,null,null,"Efficiency Level","EL (kWh/year)",2006,null,1990,{"$f":"H362+1","v":1991},{"$f":"I362+1","v":1992},{"$f":"J362+1","v":1993},{"$f":"K362+1","v":1994},{"$f":"L362+1","v":1995},{"$f":"M362+1","v":1996},{"$f":"N362+1","v":1997},{"$f":"O362+1","v":1998},{"$f":"P362+1","v":1999},{"$f":"Q362+1","v":2000},{"$f":"R362+1","v":2001},{"$f":"S362+1","v":2002},{"$f":"T362+1","v":2003},{"$f":"U362+1","v":2004},{"$f":"V362+1","v":2005},{"$f":"W362+1","v":2006},{"$f":"X362+1","v":2007},{"$f":"Y362+1","v":2008},{"$f":"Z362+1","v":2009},{"$f":"AA362+1","v":2010},{"$f":"AB362+1","v":2011},{"$f":"AC362+1","v":2012},{"$f":"AD362+1","v":2013},{"$f":"AE362+1","v":2014},{"$f":"AF362+1","v":2015},{"$f":"AG362+1","v":2016},{"$f":"AH362+1","v":2017},{"$f":"AI362+1","v":2018},{"$f":"AJ362+1","v":2019},{"$f":"AK362+1","v":2020},{"$f":"AL362+1","v":2021},{"$f":"AM362+1","v":2022},{"$f":"AN362+1","v":2023},{"$f":"AO362+1","v":2024},{"$f":"AP362+1","v":2025},{"$f":"AQ362+1","v":2026},{"$f":"AR362+1","v":2027},{"$f":"AS362+1","v":2028},{"$f":"AT362+1","v":2029},{"$f":"AU362+1","v":2030},{"$f":"AV362+1","v":2031},{"$f":"AW362+1","v":2032},{"$f":"AX362+1","v":2033},{"$f":"AY362+1","v":2034}]
[null,null,null,{"$f":"'Efficiency Levels'!C192","v":"EL0"},{"$f":"'Efficiency Levels'!D192","v":7019.9512085857659},1,null,{"$f":"$F363","v":1},1,1,1,1,1,1,1,1,1,1,1,1,1,1,1,{"$f":"$F363","v":1},1,1,1,1,1,0,0,0,0,0,0,0,0,0,0,0,0,0,0,0,0,0,0,0,0,0,0,0]
[null,null,null,{"$f":"'Efficiency Levels'!C193","v":"EL1"},{"$f":"'Efficiency Levels'!D193","v":5404.1248263439957},0,null,0,0,0,0,0,0,0,0,0,0,0,0,0,0,0,0,0,0,0,0,0,0,0,0,0,0,0,0,0,0,0,0,0,0,0,0,0,0,0,0,0,0,0,0,0]
[null,null,null,{"$f":"'Efficiency Levels'!C194","v":"EL2"},{"$f":"'Efficiency Levels'!D194","v":5351.2387164569554},0,null,0,0,0,0,0,0,0,0,0,0,0,0,0,0,0,0,0,0,0,0,0,0,0.6,0.6,0.6,0.6,0.6,0.6,0.6,0.6,0.6,0.6,0.6,0.6,0.6,0.6,0.6,0.6,0.6,0.6,0.6,0.6,0.6,0.6,0.6]
[null,null,null,{"$f":"'Efficiency Levels'!C195","v":"EL3"},{"$f":"'Efficiency Levels'!D195","v":5167.5879226848601},0,null,0,0,0,0,0,0,0,0,0,0,0,0,0,0,0,0,0,0,0,0,0,0,0.2,0.2,0.2,0.2,0.2,0.2,0.2,0.2,0.2,0.2,0.2,0.2,0.2,0.2,0.2,0.2,0.2,0.2,0.2,0.2,0.2,0.2,0.2]
[null,null,null,{"$f":"'Efficiency Levels'!C196","v":"EL4"},{"$f":"'Efficiency Levels'!D196","v":5118.1945879542964},0,null,0,0,0,0,0,0,0,0,0,0,0,0,0,0,0,0,0,0,0,0,0,0,0.2,0.2,0.2,0.2,0.2,0.2,0.2,0.2,0.2,0.2,0.2,0.2,0.2,0.2,0.2,0.2,0.2,0.2,0.2,0.2,0.2,0.2,0.2]
[null,null,null,{"$f":"'Efficiency Levels'!C197","v":"EL5"},{"$f":"'Efficiency Levels'!D197","v":5018.1892255729272},0,null,0,0,0,0,0,0,0,0,0,0,0,0,0,0,0,0,0,0,0,0,0,0,0,0,0,0,0,0,0,0,0,0,{"$f":"$F368","v":0},0,0,0,0,0,0,0,0,0,0,0,0]
[null,null,null,{"$f":"'Efficiency Levels'!C198","v":"EL6"},{"$f":"'Efficiency Levels'!D198","v":5018.1892255729272},0,null,0,0,0,0,0,0,0,0,0,0,0,0,0,0,0,0,0,0,0,0,0,0,0,0,0,0,0,0,0,0,0,0,0,0,0,0,0,0,0,0,0,0,0,0,0]
[null,null,null,{"$f":"'Efficiency Levels'!C199","v":"EL7"},{"$f":"'Efficiency Levels'!D199","v":5018.1892255729272},0,null,0,0,0,0,0,0,0,0,0,0,0,0,0,0,0,0,0,0,0,0,0,0,0,0,0,0,0,0,0,0,0,0,0,0,0,0,0,0,0,0,0,0,0,0,0]
[null,null,null,{"$f":"'Efficiency Levels'!C200","v":"EL8"},{"$f":"'Efficiency Levels'!D200","v":5018.1892255729272},0,null,0,0,0,0,0,0,0,0,0,0,0,0,0,0,0,0,0,0,0,0,0,0,0,0,0,0,0,0,0,0,0,0,0,0,0,0,0,0,0,0,0,0,0,0,0]
[null,null,null,{"$f":"'Efficiency Levels'!C201","v":"EL9"},{"$f":"'Efficiency Levels'!D201","v":5018.1892255729272},0,null,0,0,0,0,0,0,0,0,0,0,0,0,0,0,0,0,0,0,0,0,0,0,0,0,0,0,0,0,0,0,0,0,0,0,0,0,0,0,0,0,0,0,0,0,0]
[null,null,null,"TOTAL",null,{"$f":"SUM(F363:F372)","v":1},null,{"$f":"SUM(H363:H372)","v":1},{"$f":"SUM(I363:I372)","v":1},1,1,1,1,1,1,1,1,1,1,1,1,1,1,1,1,1,1,1,1,1,1,1,1,1,1,1,1,1,1,1,1,1,1,1,1,1,1,1,1,1,1,1]
[]
[null,null,null,"POST-Case"]
[null,null,null,"Efficiency Level","EL (kWh/year)",null,null,1990,{"$f":"H376+1","v":1991},{"$f":"I376+1","v":1992},{"$f":"J376+1","v":1993},{"$f":"K376+1","v":1994},{"$f":"L376+1","v":1995},{"$f":"M376+1","v":1996},{"$f":"N376+1","v":1997},{"$f":"O376+1","v":1998},{"$f":"P376+1","v":1999},{"$f":"Q376+1","v":2000},{"$f":"R376+1","v":2001},{"$f":"S376+1","v":2002},{"$f":"T376+1","v":2003},{"$f":"U376+1","v":2004},{"$f":"V376+1","v":2005},{"$f":"X362","v":2006},2007,2008,2009,2010,2011,2012,2013,2014,2015,2016,2017,2018,2019,2020,2021,2022,2023,2024,2025,2026,2027,2028,2029,2030,2031,2032,2033,2034]
[null,null,null,{"$f":"D363","v":"EL0"},{"$f":"E363","v":7019.9512085857659},null,null,{"$f":"H363","v":1},1,1,1,1,1,1,1,1,1,1,1,1,1,1,1,1,1,1,1,1,1,0,0,0,0,0,0,0,0,0,0,0,0,0,0,0,0,0,0,0,0,0,0,0]
[null,null,null,{"$f":"D364","v":"EL1"},5404.1248263439957,null,null,0,0,0,0,0,0,0,0,0,0,0,0,0,0,0,0,0,0,0,0,0,0,0,0,0,0,0,0,0,0,0,0,0,0,0,0,0,0,0,0,0,0,0,0,0]
[null,null,null,{"$f":"D365","v":"EL2"},5351.2387164569554,null,null,0,0,0,0,0,0,0,0,0,0,0,0,0,0,0,0,0,0,0,0,0,0,0.6,0.6,0.6,0.6,0.6,0,0,0,0,0,0,0,0,0,0,0,0,0,0,0,0,0,0]
[null,null,null,{"$f":"D366","v":"EL3"},5167.5879226848601,null,null,0,0,0,0,0,0,0,0,0,0,0,0,0,0,0,0,0,0,0,0,0,0,0.2,0.2,0.2,0.2,0.2,{"$f":"SUM(AI363:AI366)","v":0.8},{"$f":"SUM(AJ363:AJ366)","v":0.8},0.8,0.8,0.8,0.8,0.8,0.8,0.8,0.8,0.8,0.8,0.8,0.8,0.8,0.8,0.8,0.8]
[null,null,null,{"$f":"D367","v":"EL4"},5118.1945879542964,null,null,0,0,0,0,0,0,0,0,0,0,0,0,0,0,0,0,0,0,0,0,0,0,0.2,0.2,0.2,0.2,0.2,{"$f":"AI367","v":0.2},0.2,0.2,0.2,0.2,0.2,0.2,0.2,0.2,0.2,0.2,0.2,0.2,0.2,0.2,0.2,0.2,0.2]
[null,null,null,{"$f":"D368","v":"EL5"},5018.1892255729272,null,null,0,0,0,0,0,0,0,0,0,0,0,0,0,0,0,0,0,0,0,0,0,0,0,0,0,0,0,{"$f":"AI368","v":0},0,0,0,0,0,0,0,0,0,0,0,0,0,0,0,0,0]
[null,null,null,{"$f":"D369","v":"EL6"},5018.1892255729272,null,null,0,0,0,0,0,0,0,0,0,0,0,0,0,0,0,0,0,0,0,0,0,0,0,0,0,0,0,{"$f":"AI369","v":0},0,0,0,0,0,0,0,0,0,0,0,0,0,0,0,0,0]
[null,null,null,{"$f":"D370","v":"EL7"},5018.1892255729272,null,null,{"$f":"H370","v":0},0,0,0,0,0,0,0,0,0,0,0,0,0,0,0,0,0,0,0,0,0,0,0,0,0,0,0,0,0,0,0,0,0,0,0,0,0,0,0,0,0,0,0,0]
[null,null,null,{"$f":"D371","v":"EL8"},5018.1892255729272,null,null,{"$f":"H371","v":0},0,0,0,0,0,0,0,0,0,0,0,0,0,0,0,0,0,0,0,0,0,0,0,0,0,0,0,0,0,0,0,0,0,0,0,0,0,0,0,0,0,0,0,0]
[null,null,null,{"$f":"D372","v":"EL9"},5018.1892255729272,null,null,{"$f":"H372","v":0},0,0,0,0,0,0,0,0,0,0,0,0,0,0,0,0,0,0,0,0,0,0,0,0,0,0,0,0,0,0,0,0,0,0,0,0,0,0,0,0,0,0,0,0]
[null,null,null,"TOTAL",null,null,null,{"$f":"SUM(H377:H386)","v":1},{"$f":"SUM(I377:I386)","v":1},1,1,1,1,1,1,1,1,1,1,1,1,1,1,1,1,1,1,1,1,1,1,1,1,1,1,1,1,1,1,1,1,1,1,1,1,1,1,1,1,1,1,1]
[]
[null,null,null,"Sources","DOE Commercial Refrigeration Equipment 2014 Final Rule, Technical Support Document: Final Rule National Impact Analysis Spreadsheet, 'Market Share Inputs' tab, cells FP3:FX35, http://www.regulations.gov/#!documentDetail;D=EERE-2010-BT-STD-0003-0101"]
[]
[]
[]
[]
[null,null,null,{"$f":"'Product Classes'!O21","v":"HZO.SC.L"}]
[]
[null,null,null,"PRE-Case",null,"Static Distribution"]
[null,null,null,"Efficiency Level","EL (kWh/year)",2006,null,1990,{"$f":"H397+1","v":1991},{"$f":"I397+1","v":1992},{"$f":"J397+1","v":1993},{"$f":"K397+1","v":1994},{"$f":"L397+1","v":1995},{"$f":"M397+1","v":1996},{"$f":"N397+1","v":1997},{"$f":"O397+1","v":1998},{"$f":"P397+1","v":1999},{"$f":"Q397+1","v":2000},{"$f":"R397+1","v":2001},{"$f":"S397+1","v":2002},{"$f":"T397+1","v":2003},{"$f":"U397+1","v":2004},{"$f":"V397+1","v":2005},{"$f":"W397+1","v":2006},{"$f":"X397+1","v":2007},{"$f":"Y397+1","v":2008},{"$f":"Z397+1","v":2009},{"$f":"AA397+1","v":2010},{"$f":"AB397+1","v":2011},{"$f":"AC397+1","v":2012},{"$f":"AD397+1","v":2013},{"$f":"AE397+1","v":2014},{"$f":"AF397+1","v":2015},{"$f":"AG397+1","v":2016},{"$f":"AH397+1","v":2017},{"$f":"AI397+1","v":2018},{"$f":"AJ397+1","v":2019},{"$f":"AK397+1","v":2020},{"$f":"AL397+1","v":2021},{"$f":"AM397+1","v":2022},{"$f":"AN397+1","v":2023},{"$f":"AO397+1","v":2024},{"$f":"AP397+1","v":2025},{"$f":"AQ397+1","v":2026},{"$f":"AR397+1","v":2027},{"$f":"AS397+1","v":2028},{"$f":"AT397+1","v":2029},{"$f":"AU397+1","v":2030},{"$f":"AV397+1","v":2031},{"$f":"AW397+1","v":2032},{"$f":"AX397+1","v":2033},{"$f":"AY397+1","v":2034}]
[null,null,null,{"$f":"'Efficiency Levels'!C210","v":"EL0"},{"$f":"'Efficiency Levels'!D210","v":14120.170239781441},1,null,{"$f":"$F398","v":1},1,1,1,1,1,1,1,1,1,1,1,1,1,1,1,{"$f":"$F398","v":1},1,1,1,1,1,0,0,0,0,0,0,0,0,0,0,0,0,0,0,0,0,0,0,0,0,0,0,0]
[null,null,null,{"$f":"'Efficiency Levels'!C211","v":"EL1"},{"$f":"'Efficiency Levels'!D211","v":11000.713334323686},0,null,0,0,0,0,0,0,0,0,0,0,0,0,0,0,0,0,0,0,0,0,0,0,0,0,0,0,0,0,0,0,0,0,0,0,0,0,0,0,0,0,0,0,0,0,0]
[null,null,null,{"$f":"'Efficiency Levels'!C212","v":"EL2"},{"$f":"'Efficiency Levels'!D212","v":10921.511808252375},0,null,0,0,0,0,0,0,0,0,0,0,0,0,0,0,0,0,0,0,0,0,0,0,0.6,0.6,0.6,0.6,0.6,0.6,0.6,0.6,0.6,0.6,0.6,0.6,0.6,0.6,0.6,0.6,0.6,0.6,0.6,0.6,0.6,0.6,0.6]
[null,null,null,{"$f":"'Efficiency Levels'!C213","v":"EL3"},{"$f":"'Efficiency Levels'!D213","v":10921.511808252375},0,null,0,0,0,0,0,0,0,0,0,0,0,0,0,0,0,0,0,0,0,0,0,0,0.2,0.2,0.2,0.2,0.2,0.2,0.2,0.2,0.2,0.2,0.2,0.2,0.2,0.2,0.2,0.2,0.2,0.2,0.2,0.2,0.2,0.2,0.2]
[null,null,null,{"$f":"'Efficiency Levels'!C214","v":"EL4"},{"$f":"'Efficiency Levels'!D214","v":10921.511808252375},0,null,0,0,0,0,0,0,0,0,0,0,0,0,0,0,0,0,0,0,0,0,0,0,0.2,0.2,0.2,0.2,0.2,0.2,0.2,0.2,0.2,0.2,0.2,0.2,0.2,0.2,0.2,0.2,0.2,0.2,0.2,0.2,0.2,0.2,0.2]
[null,null,null,{"$f":"'Efficiency Levels'!C215","v":"EL5"},{"$f":"'Efficiency Levels'!D215","v":10921.511808252375},0,null,0,0,0,0,0,0,0,0,0,0,0,0,0,0,0,0,0,0,0,0,0,0,0,0,0,0,0,0,0,0,0,0,{"$f":"$F403","v":0},0,0,0,0,0,0,0,0,0,0,0,0]
[null,null,null,{"$f":"'Efficiency Levels'!C216","v":"EL6"},{"$f":"'Efficiency Levels'!D216","v":10921.511808252375},0,null,0,0,0,0,0,0,0,0,0,0,0,0,0,0,0,0,0,0,0,0,0,0,0,0,0,0,0,0,0,0,0,0,0,0,0,0,0,0,0,0,0,0,0,0,0]
[null,null,null,{"$f":"'Efficiency Levels'!C217","v":"EL7"},{"$f":"'Efficiency Levels'!D217","v":10921.511808252375},0,null,0,0,0,0,0,0,0,0,0,0,0,0,0,0,0,0,0,0,0,0,0,0,0,0,0,0,0,0,0,0,0,0,0,0,0,0,0,0,0,0,0,0,0,0,0]
[null,null,null,{"$f":"'Efficiency Levels'!C218","v":"EL8"},{"$f":"'Efficiency Levels'!D218","v":10921.511808252375},0,null,0,0,0,0,0,0,0,0,0,0,0,0,0,0,0,0,0,0,0,0,0,0,0,0,0,0,0,0,0,0,0,0,0,0,0,0,0,0,0,0,0,0,0,0,0]
[null,null,null,{"$f":"'Efficiency Levels'!C219","v":"EL9"},{"$f":"'Efficiency Levels'!D219","v":10921.511808252375},0,null,0,0,0,0,0,0,0,0,0,0,0,0,0,0,0,0,0,0,0,0,0,0,0,0,0,0,0,0,0,0,0,0,0,0,0,0,0,0,0,0,0,0,0,0,0]
[null,null,null,"TOTAL",null,{"$f":"SUM(F398:F407)","v":1},null,{"$f":"SUM(H398:H407)","v":1},{"$f":"SUM(I398:I407)","v":1},1,1,1,1,1,1,1,1,1,1,1,1,1,1,1,1,1,1,1,1,1,1,1,1,1,1,1,1,1,1,1,1,1,1,1,1,1,1,1,1,1,1,1]
[]
[null,null,null,"POST-Case"]
[null,null,null,"Efficiency Level","EL (kWh/year)",null,null,1990,{"$f":"H411+1","v":1991},{"$f":"I411+1","v":1992},{"$f":"J411+1","v":1993},{"$f":"K411+1","v":1994},{"$f":"L411+1","v":1995},{"$f":"M411+1","v":1996},{"$f":"N411+1","v":1997},{"$f":"O411+1","v":1998},{"$f":"P411+1","v":1999},{"$f":"Q411+1","v":2000},{"$f":"R411+1","v":2001},{"$f":"S411+1","v":2002},{"$f":"T411+1","v":2003},{"$f":"U411+1","v":2004},{"$f":"V411+1","v":2005},{"$f":"X397","v":2006},2007,2008,2009,2010,2011,2012,2013,2014,2015,2016,2017,2018,2019,2020,2021,2022,2023,2024,2025,2026,2027,2028,2029,2030,2031,2032,2033,2034]
[null,null,null,{"$f":"D398","v":"EL0"},{"$f":"E398","v":14120.170239781441},null,null,{"$f":"H398","v":1},1,1,1,1,1,1,1,1,1,1,1,1,1,1,1,1,1,1,1,1,1,0,0,0,0,0,0,0,0,0,0,0,0,0,0,0,0,0,0,0,0,0,0,0]
[null,null,null,{"$f":"D399","v":"EL1"},11000.713334323686,null,null,0,0,0,0,0,0,0,0,0,0,0,0,0,0,0,0,0,0,0,0,0,0,0,0,0,0,0,0,0,0,0,0,0,0,0,0,0,0,0,0,0,0,0,0,0]
[null,null,null,{"$f":"D400","v":"EL2"},10921.511808252375,null,null,0,0,0,0,0,0,0,0,0,0,0,0,0,0,0,0,0,0,0,0,0,0,0.6,0.6,0.6,0.6,0.6,{"$f":"SUM(AI398:AI400)","v":0.6},{"$f":"SUM(AJ398:AJ400)","v":0.6},0.6,0.6,0.6,0.6,0.6,0.6,0.6,0.6,0.6,0.6,0.6,0.6,0.6,0.6,0.6,0.6]
[null,null,null,{"$f":"D401","v":"EL3"},10921.511808252375,null,null,0,0,0,0,0,0,0,0,0,0,0,0,0,0,0,0,0,0,0,0,0,0,0.2,0.2,0.2,0.2,0.2,{"$f":"AI401","v":0.2},{"$f":"AJ401","v":0.2},0.2,0.2,0.2,0.2,0.2,0.2,0.2,0.2,0.2,0.2,0.2,0.2,0.2,0.2,0.2,0.2]
[null,null,null,{"$f":"D402","v":"EL4"},10921.511808252375,null,null,0,0,0,0,0,0,0,0,0,0,0,0,0,0,0,0,0,0,0,0,0,0,0.2,0.2,0.2,0.2,0.2,0.2,{"$f":"AJ402","v":0.2},0.2,0.2,0.2,0.2,0.2,0.2,0.2,0.2,0.2,0.2,0.2,0.2,0.2,0.2,0.2,0.2]
[null,null,null,{"$f":"D403","v":"EL5"},10921.511808252375,null,null,0,0,0,0,0,0,0,0,0,0,0,0,0,0,0,0,0,0,0,0,0,0,0,0,0,0,0,{"$f":"AI403","v":0},{"$f":"AJ403","v":0},0,0,0,0,0,0,0,0,0,0,0,0,0,0,0,0]
[null,null,null,{"$f":"D404","v":"EL6"},10921.511808252375,null,null,0,0,0,0,0,0,0,0,0,0,0,0,0,0,0,0,0,0,0,0,0,0,0,0,0,0,0,{"$f":"AI404","v":0},{"$f":"AJ404","v":0},0,0,0,0,0,0,0,0,0,0,0,0,0,0,0,0]
[null,null,null,{"$f":"D405","v":"EL7"},10921.511808252375,null,null,{"$f":"H405","v":0},0,0,0,0,0,0,0,0,0,0,0,0,0,0,0,0,0,0,0,0,0,0,0,0,0,0,0,{"$f":"AJ405","v":0},0,0,0,0,0,0,0,0,0,0,0,0,0,0,0,0]
[null,null,null,{"$f":"D406","v":"EL8"},10921.511808252375,null,null,{"$f":"H406","v":0},0,0,0,0,0,0,0,0,0,0,0,0,0,0,0,0,0,0,0,0,0,0,0,0,0,0,0,{"$f":"AJ406","v":0},0,0,0,0,0,0,0,0,0,0,0,0,0,0,0,0]
[null,null,null,{"$f":"D407","v":"EL9"},10921.511808252375,null,null,{"$f":"H407","v":0},0,0,0,0,0,0,0,0,0,0,0,0,0,0,0,0,0,0,0,0,0,0,0,0,0,0,0,{"$f":"AJ407","v":0},0,0,0,0,0,0,0,0,0,0,0,0,0,0,0,0]
[null,null,null,"TOTAL",null,null,null,{"$f":"SUM(H412:H421)","v":1},{"$f":"SUM(I412:I421)","v":1},1,1,1,1,1,1,1,1,1,1,1,1,1,1,1,1,1,1,1,1,1,1,1,1,1,1,1,1,1,1,1,1,1,1,1,1,1,1,1,1,1,1,1]
[]
[null,null,null,"Sources","DOE Commercial Refrigeration Equipment 2014 Final Rule, Technical Support Document: Final Rule National Impact Analysis Spreadsheet, 'Market Share Inputs' tab, cells FZ3:GH35, http://www.regulations.gov/#!documentDetail;D=EERE-2010-BT-STD-0003-0101"]
[]
[]
[]
[]
[null,null,null,{"$f":"'Product Classes'!O22","v":"VCT.SC.M"}]
[]
[null,null,null,"PRE-Case",null,"Static Distribution"]
[null,null,null,"Efficiency Level","EL (kWh/year)",2006,null,1990,{"$f":"H432+1","v":1991},{"$f":"I432+1","v":1992},{"$f":"J432+1","v":1993},{"$f":"K432+1","v":1994},{"$f":"L432+1","v":1995},{"$f":"M432+1","v":1996},{"$f":"N432+1","v":1997},{"$f":"O432+1","v":1998},{"$f":"P432+1","v":1999},{"$f":"Q432+1","v":2000},{"$f":"R432+1","v":2001},{"$f":"S432+1","v":2002},{"$f":"T432+1","v":2003},{"$f":"U432+1","v":2004},{"$f":"V432+1","v":2005},{"$f":"W432+1","v":2006},{"$f":"X432+1","v":2007},{"$f":"Y432+1","v":2008},{"$f":"Z432+1","v":2009},{"$f":"AA432+1","v":2010},{"$f":"AB432+1","v":2011},{"$f":"AC432+1","v":2012},{"$f":"AD432+1","v":2013},{"$f":"AE432+1","v":2014},{"$f":"AF432+1","v":2015},{"$f":"AG432+1","v":2016},{"$f":"AH432+1","v":2017},{"$f":"AI432+1","v":2018},{"$f":"AJ432+1","v":2019},{"$f":"AK432+1","v":2020},{"$f":"AL432+1","v":2021},{"$f":"AM432+1","v":2022},{"$f":"AN432+1","v":2023},{"$f":"AO432+1","v":2024},{"$f":"AP432+1","v":2025},{"$f":"AQ432+1","v":2026},{"$f":"AR432+1","v":2027},{"$f":"AS432+1","v":2028},{"$f":"AT432+1","v":2029},{"$f":"AU432+1","v":2030},{"$f":"AV432+1","v":2031},{"$f":"AW432+1","v":2032},{"$f":"AX432+1","v":2033},{"$f":"AY432+1","v":2034}]
[null,null,null,{"$f":"'Efficiency Levels'!C228","v":"EL0"},{"$f":"'Efficiency Levels'!D228","v":2671.1398936170212},1,null,{"$f":"$F433","v":1},1,1,1,1,1,1,1,1,1,1,1,1,1,1,1,{"$f":"$F433","v":1},1,1,1,0,0,0,0,0,0,0,0,0,0,0,0,0,0,0,0,0,0,0,0,0,0,0,0,0]
[null,null,null,{"$f":"'Efficiency Levels'!C229","v":"EL1"},{"$f":"'Efficiency Levels'!D229","v":2462.4608510638295},0,null,0,0,0,0,0,0,0,0,0,0,0,0,0,0,0,0,0,0,0,0,0,0,0,0,0,0,0,0,0,0,0,0,{"$f":"$F434","v":0},0,0,0,0,0,0,0,0,0,0,0,0]
[null,null,null,{"$f":"'Efficiency Levels'!C230","v":"EL2"},{"$f":"'Efficiency Levels'!D230","v":2267.10292249944},0,null,0,0,0,0,0,0,0,0,0,0,0,0,0,0,0,0,0,0,0,0,{"$f":"AC435","v":0.9},0.9,{"$f":"AE435","v":0.9},0.9,0.9,0.9,{"$f":"AI435","v":0.9},0.9,0.85,0.8,0.75,0.7,0.65,0.60000000000000009,0.60000000000000009,0.60000000000000009,0.60000000000000009,0.60000000000000009,0.60000000000000009,0.60000000000000009,0.60000000000000009,0.60000000000000009,0.60000000000000009,0.60000000000000009,0.60000000000000009]
[null,null,null,{"$f":"'Efficiency Levels'!C231","v":"EL3"},{"$f":"'Efficiency Levels'!D231","v":2214.4199868958599},0,null,0,0,0,0,0,0,0,0,0,0,0,0,0,0,0,0,0,0,0,0,{"$f":"AC436","v":0},0,0,0,0,0,{"$f":"AI436","v":0},0,0,0,0,0,0,0,0,0,0,0,0,0,0,0,0,0,0]
[null,null,null,{"$f":"'Efficiency Levels'!C232","v":"EL4"},{"$f":"'Efficiency Levels'!D232","v":1941.7634427974012},0,null,0,0,0,0,0,0,0,0,0,0,0,0,0,0,0,0,0,0,0,0,{"$f":"AC437","v":0.1},0.1,0.1,0.1,0.1,0.1,0.1,0.1,0.15000000000000002,0.2,0.25,0.3,0.35,0.39999999999999997,0.39999999999999997,0.39999999999999997,0.39999999999999997,0.39999999999999997,0.39999999999999997,0.39999999999999997,0.39999999999999997,0.39999999999999997,0.39999999999999997,0.39999999999999997,0.39999999999999997]
[null,null,null,{"$f":"'Efficiency Levels'!C233","v":"EL5"},{"$f":"'Efficiency Levels'!D233","v":1828.5843631626533},0,null,0,0,0,0,0,0,0,0,0,0,0,0,0,0,0,0,0,0,0,0,0,0,0,0,0,0,0,0,0,0,0,0,{"$f":"$F438","v":0},0,0,0,0,0,0,0,0,0,0,0,0]
[null,null,null,{"$f":"'Efficiency Levels'!C234","v":"EL6"},{"$f":"'Efficiency Levels'!D234","v":1812.526997651222},0,null,0,0,0,0,0,0,0,0,0,0,0,0,0,0,0,0,0,0,0,0,0,0,0,0,0,0,0,0,0,0,0,0,0,0,0,0,0,0,0,0,0,0,0,0,0]
[null,null,null,{"$f":"'Efficiency Levels'!C235","v":"EL7"},{"$f":"'Efficiency Levels'!D235","v":1769.3950328183007},0,null,0,0,0,0,0,0,0,0,0,0,0,0,0,0,0,0,0,0,0,0,0,0,0,0,0,0,0,0,0,0,0,0,0,0,0,0,0,0,0,0,0,0,0,0,0]
[null,null,null,{"$f":"'Efficiency Levels'!C236","v":"EL8"},{"$f":"'Efficiency Levels'!D236","v":1753.5900155604979},0,null,0,0,0,0,0,0,0,0,0,0,0,0,0,0,0,0,0,0,0,0,0,0,0,0,0,0,0,0,0,0,0,0,0,0,0,0,0,0,0,0,0,0,0,0,0]
[null,null,null,{"$f":"'Efficiency Levels'!C237","v":"EL9"},{"$f":"'Efficiency Levels'!D237","v":1670.3879565517334},0,null,0,0,0,0,0,0,0,0,0,0,0,0,0,0,0,0,0,0,0,0,0,0,0,0,0,0,0,0,0,0,0,0,0,0,0,0,0,0,0,0,0,0,0,0,0]
[null,null,null,"TOTAL",null,{"$f":"SUM(F433:F442)","v":1},null,{"$f":"SUM(H433:H442)","v":1},{"$f":"SUM(I433:I442)","v":1},1,1,1,1,1,1,1,1,1,1,1,1,1,1,1,1,1,1,1,1,1,1,1,1,1,1,1,1,1,1,1,1,1,1,1,1,1,1,1,1,1,1,1]
[]
[null,null,null,"POST-Case"]
[null,null,null,"Efficiency Level","EL (kWh/year)",null,null,1990,{"$f":"H446+1","v":1991},{"$f":"I446+1","v":1992},{"$f":"J446+1","v":1993},{"$f":"K446+1","v":1994},{"$f":"L446+1","v":1995},{"$f":"M446+1","v":1996},{"$f":"N446+1","v":1997},{"$f":"O446+1","v":1998},{"$f":"P446+1","v":1999},{"$f":"Q446+1","v":2000},{"$f":"R446+1","v":2001},{"$f":"S446+1","v":2002},{"$f":"T446+1","v":2003},{"$f":"U446+1","v":2004},{"$f":"V446+1","v":2005},{"$f":"X432","v":2006},2007,2008,2009,2010,2011,2012,2013,2014,2015,2016,2017,2018,2019,2020,2021,2022,2023,2024,2025,2026,2027,2028,2029,2030,2031,2032,2033,2034]
[null,null,null,{"$f":"D433","v":"EL0"},{"$f":"E433","v":2671.1398936170212},null,null,{"$f":"H433","v":1},1,1,1,1,1,1,1,1,1,1,1,1,1,1,1,1,1,1,1,0,0,0,0,0,0,0,0,0,0,0,0,0,0,0,0,0,0,0,0,0,0,0,0,0]
[null,null,null,{"$f":"D434","v":"EL1"},2462.4608510638295,null,null,0,0,0,0,0,0,0,0,0,0,0,0,0,0,0,0,0,0,0,0,0,0,0,0,0,0,0,0,0,0,0,0,0,0,0,0,0,0,0,0,0,0,0,0,0]
[null,null,null,{"$f":"D435","v":"EL2"},2267.10292249944,null,null,0,0,0,0,0,0,0,0,0,0,0,0,0,0,0,0,0,0,0,0,0.9,0.9,0.9,0.9,0.9,0.9,0.9,0,0,0,0,0,0,0,0,0,0,0,0,0,0,0,0,0,0]
[null,null,null,{"$f":"D436","v":"EL3"},2214.4199868958599,null,null,0,0,0,0,0,0,0,0,0,0,0,0,0,0,0,0,0,0,0,0,0,0,0,0,0,0,0,0,0,0,0,0,0,0,0,0,0,0,0,0,0,0,0,0,0]
[null,null,null,{"$f":"D437","v":"EL4"},1941.7634427974012,null,null,0,0,0,0,0,0,0,0,0,0,0,0,0,0,0,0,0,0,0,0,0.1,0.1,0.1,0.1,0.1,0.1,0.1,0,0,0,0,0,0,0,0,0,0,0,0,0,0,0,0,0,0]
[null,null,null,{"$f":"D438","v":"EL5"},1828.5843631626533,null,null,0,0,0,0,0,0,0,0,0,0,0,0,0,0,0,0,0,0,0,0,0,0,0,0,0,0,0,{"$f":"SUM(AI433:AI438)","v":1},{"$f":"SUM(AJ433:AJ438)","v":1},1,1,1,1,1,1,1,1,1,1,1,1,1,1,1,1]
[null,null,null,{"$f":"D439","v":"EL6"},1812.526997651222,null,null,0,0,0,0,0,0,0,0,0,0,0,0,0,0,0,0,0,0,0,0,0,0,0,0,0,0,0,{"$f":"AI439","v":0},{"$f":"AJ439","v":0},0,0,0,0,0,0,0,0,0,0,0,0,0,0,0,0]
[null,null,null,{"$f":"D440","v":"EL7"},1769.3950328183007,null,null,{"$f":"H440","v":0},0,0,0,0,0,0,0,0,0,0,0,0,0,0,0,0,0,0,0,0,0,0,0,0,0,0,0,{"$f":"AJ440","v":0},0,0,0,0,0,0,0,0,0,0,0,0,0,0,0,0]
[null,null,null,{"$f":"D441","v":"EL8"},1753.5900155604979,null,null,{"$f":"H441","v":0},0,0,0,0,0,0,0,0,0,0,0,0,0,0,0,0,0,0,0,0,0,0,0,0,0,0,0,{"$f":"AJ441","v":0},0,0,0,0,0,0,0,0,0,0,0,0,0,0,0,0]
[null,null,null,{"$f":"D442","v":"EL9"},1670.3879565517334,null,null,{"$f":"H442","v":0},0,0,0,0,0,0,0,0,0,0,0,0,0,0,0,0,0,0,0,0,0,0,0,0,0,0,0,{"$f":"AJ442","v":0},0,0,0,0,0,0,0,0,0,0,0,0,0,0,0,0]
[null,null,null,"TOTAL",null,null,null,{"$f":"SUM(H447:H456)","v":1},{"$f":"SUM(I447:I456)","v":1},1,1,1,1,1,1,1,1,1,1,1,1,1,1,1,1,1,1,1,1,1,1,1,1,1,1,1,1,1,1,1,1,1,1,1,1,1,1,1,1,1,1,1]
[]
[null,null,null,"Sources","DOE Commercial Refrigeration Equipment 2014 Final Rule, Technical Support Document: Final Rule National Impact Analysis Spreadsheet, 'Market Share Inputs' tab, cells AZ3:BH35, http://www.regulations.gov/#!documentDetail;D=EERE-2010-BT-STD-0003-0101"]
[]
[]
[]
[]
[null,null,null,{"$f":"'Product Classes'!O23","v":"VCT.SC.L"}]
[]
[null,null,null,"PRE-Case",null,"Static Distribution"]
[null,null,null,"Efficiency Level","EL (kWh/year)",2006,null,1990,{"$f":"H467+1","v":1991},{"$f":"I467+1","v":1992},{"$f":"J467+1","v":1993},{"$f":"K467+1","v":1994},{"$f":"L467+1","v":1995},{"$f":"M467+1","v":1996},{"$f":"N467+1","v":1997},{"$f":"O467+1","v":1998},{"$f":"P467+1","v":1999},{"$f":"Q467+1","v":2000},{"$f":"R467+1","v":2001},{"$f":"S467+1","v":2002},{"$f":"T467+1","v":2003},{"$f":"U467+1","v":2004},{"$f":"V467+1","v":2005},{"$f":"W467+1","v":2006},{"$f":"X467+1","v":2007},{"$f":"Y467+1","v":2008},{"$f":"Z467+1","v":2009},{"$f":"AA467+1","v":2010},{"$f":"AB467+1","v":2011},{"$f":"AC467+1","v":2012},{"$f":"AD467+1","v":2013},{"$f":"AE467+1","v":2014},{"$f":"AF467+1","v":2015},{"$f":"AG467+1","v":2016},{"$f":"AH467+1","v":2017},{"$f":"AI467+1","v":2018},{"$f":"AJ467+1","v":2019},{"$f":"AK467+1","v":2020},{"$f":"AL467+1","v":2021},{"$f":"AM467+1","v":2022},{"$f":"AN467+1","v":2023},{"$f":"AO467+1","v":2024},{"$f":"AP467+1","v":2025},{"$f":"AQ467+1","v":2026},{"$f":"AR467+1","v":2027},{"$f":"AS467+1","v":2028},{"$f":"AT467+1","v":2029},{"$f":"AU467+1","v":2030},{"$f":"AV467+1","v":2031},{"$f":"AW467+1","v":2032},{"$f":"AX467+1","v":2033},{"$f":"AY467+1","v":2034}]
[null,null,null,{"$f":"'Efficiency Levels'!C246","v":"EL0"},{"$f":"'Efficiency Levels'!D246","v":10071.180477528089},1,null,{"$f":"$F468","v":1},1,1,1,1,1,1,1,1,1,1,1,1,1,1,1,{"$f":"$F468","v":1},1,1,1,0,0,0,0,0,0,0,0,0,0,0,0,0,0,0,0,0,0,0,0,0,0,0,0,0]
[null,null,null,{"$f":"'Efficiency Levels'!C247","v":"EL1"},{"$f":"'Efficiency Levels'!D247","v":8767.0231741573043},0,null,0,0,0,0,0,0,0,0,0,0,0,0,0,0,0,0,0,0,0,0,0,0,0,0,0,0,0,0,0,0,0,0,{"$f":"$F469","v":0},0,0,0,0,0,0,0,0,0,0,0,0]
[null,null,null,{"$f":"'Efficiency Levels'!C248","v":"EL2"},{"$f":"'Efficiency Levels'!D248","v":9845.7366051404788},0,null,0,0,0,0,0,0,0,0,0,0,0,0,0,0,0,0,0,0,0,0,{"$f":"AC470","v":0.9},0.9,{"$f":"AE470","v":0.9},0.9,0.9,0.9,{"$f":"AI470","v":0.9},0.9,0.85,0.8,0.75,0.7,0.65,0.60000000000000009,0.60000000000000009,0.60000000000000009,0.60000000000000009,0.60000000000000009,0.60000000000000009,0.60000000000000009,0.60000000000000009,0.60000000000000009,0.60000000000000009,0.60000000000000009,0.60000000000000009]
[null,null,null,{"$f":"'Efficiency Levels'!C249","v":"EL3"},{"$f":"'Efficiency Levels'!D249","v":7795.1927161675903},0,null,0,0,0,0,0,0,0,0,0,0,0,0,0,0,0,0,0,0,0,0,{"$f":"AC471","v":0},0,0,0,0,0,{"$f":"AI471","v":0},0,0,0,0,0,0,0,0,0,0,0,0,0,0,0,0,0,0]
[null,null,null,{"$f":"'Efficiency Levels'!C250","v":"EL4"},{"$f":"'Efficiency Levels'!D250","v":5231.8876827438489},0,null,0,0,0,0,0,0,0,0,0,0,0,0,0,0,0,0,0,0,0,0,{"$f":"AC472","v":0.1},0.1,0.1,0.1,0.1,0.1,0.1,0.1,0.15000000000000002,0.2,0.25,0.3,0.35,0.39999999999999997,0.39999999999999997,0.39999999999999997,0.39999999999999997,0.39999999999999997,0.39999999999999997,0.39999999999999997,0.39999999999999997,0.39999999999999997,0.39999999999999997,0.39999999999999997,0.39999999999999997]
[null,null,null,{"$f":"'Efficiency Levels'!C251","v":"EL5"},{"$f":"'Efficiency Levels'!D251","v":5175.5261627071495},0,null,0,0,0,0,0,0,0,0,0,0,0,0,0,0,0,0,0,0,0,0,0,0,0,0,0,0,0,0,0,0,0,0,{"$f":"$F473","v":0},0,0,0,0,0,0,0,0,0,0,0,0]
[null,null,null,{"$f":"'Efficiency Levels'!C252","v":"EL6"},{"$f":"'Efficiency Levels'!D252","v":4913.9842807673313},0,null,0,0,0,0,0,0,0,0,0,0,0,0,0,0,0,0,0,0,0,0,0,0,0,0,0,0,0,0,0,0,0,0,0,0,0,0,0,0,0,0,0,0,0,0,0]
[null,null,null,{"$f":"'Efficiency Levels'!C253","v":"EL7"},{"$f":"'Efficiency Levels'!D253","v":4870.4104358462382},0,null,0,0,0,0,0,0,0,0,0,0,0,0,0,0,0,0,0,0,0,0,0,0,0,0,0,0,0,0,0,0,0,0,0,0,0,0,0,0,0,0,0,0,0,0,0]
[null,null,null,{"$f":"'Efficiency Levels'!C254","v":"EL8"},{"$f":"'Efficiency Levels'!D254","v":4802.1633703801781},0,null,0,0,0,0,0,0,0,0,0,0,0,0,0,0,0,0,0,0,0,0,0,0,0,0,0,0,0,0,0,0,0,0,0,0,0,0,0,0,0,0,0,0,0,0,0]
[null,null,null,{"$f":"'Efficiency Levels'!C255","v":"EL9"},{"$f":"'Efficiency Levels'!D255","v":4555.7622823323791},0,null,0,0,0,0,0,0,0,0,0,0,0,0,0,0,0,0,0,0,0,0,0,0,0,0,0,0,0,0,0,0,0,0,0,0,0,0,0,0,0,0,0,0,0,0,0]
[null,null,null,"TOTAL",null,{"$f":"SUM(F468:F477)","v":1},null,{"$f":"SUM(H468:H477)","v":1},{"$f":"SUM(I468:I477)","v":1},1,1,1,1,1,1,1,1,1,1,1,1,1,1,1,1,1,1,1,1,1,1,1,1,1,1,1,1,1,1,1,1,1,1,1,1,1,1,1,1,1,1,1]
[]
[null,null,null,"POST-Case"]
[null,null,null,"Efficiency Level","EL (kWh/year)",null,null,1990,{"$f":"H481+1","v":1991},{"$f":"I481+1","v":1992},{"$f":"J481+1","v":1993},{"$f":"K481+1","v":1994},{"$f":"L481+1","v":1995},{"$f":"M481+1","v":1996},{"$f":"N481+1","v":1997},{"$f":"O481+1","v":1998},{"$f":"P481+1","v":1999},{"$f":"Q481+1","v":2000},{"$f":"R481+1","v":2001},{"$f":"S481+1","v":2002},{"$f":"T481+1","v":2003},{"$f":"U481+1","v":2004},{"$f":"V481+1","v":2005},{"$f":"X467","v":2006},2007,2008,2009,2010,2011,2012,2013,2014,2015,2016,2017,2018,2019,2020,2021,2022,2023,2024,2025,2026,2027,2028,2029,2030,2031,2032,2033,2034]
[null,null,null,{"$f":"D468","v":"EL0"},{"$f":"E468","v":10071.180477528089},null,null,{"$f":"H468","v":1},1,1,1,1,1,1,1,1,1,1,1,1,1,1,1,1,1,1,1,0,0,0,0,0,0,0,0,0,0,0,0,0,0,0,0,0,0,0,0,0,0,0,0,0]
[null,null,null,{"$f":"D469","v":"EL1"},8767.0231741573043,null,null,0,0,0,0,0,0,0,0,0,0,0,0,0,0,0,0,0,0,0,0,0,0,0,0,0,0,0,0,0,0,0,0,0,0,0,0,0,0,0,0,0,0,0,0,0]
[null,null,null,{"$f":"D470","v":"EL2"},9845.7366051404788,null,null,0,0,0,0,0,0,0,0,0,0,0,0,0,0,0,0,0,0,0,0,0.9,0.9,0.9,0.9,0.9,0.9,0.9,0,0,0,0,0,0,0,0,0,0,0,0,0,0,0,0,0,0]
[null,null,null,{"$f":"D471","v":"EL3"},7795.1927161675903,null,null,0,0,0,0,0,0,0,0,0,0,0,0,0,0,0,0,0,0,0,0,0,0,0,0,0,0,0,0,0,0,0,0,0,0,0,0,0,0,0,0,0,0,0,0,0]
[null,null,null,{"$f":"D472","v":"EL4"},5231.8876827438489,null,null,0,0,0,0,0,0,0,0,0,0,0,0,0,0,0,0,0,0,0,0,0.1,0.1,0.1,0.1,0.1,0.1,0.1,0,0,0,0,0,0,0,0,0,0,0,0,0,0,0,0,0,0]
[null,null,null,{"$f":"D473","v":"EL5"},5175.5261627071495,null,null,0,0,0,0,0,0,0,0,0,0,0,0,0,0,0,0,0,0,0,0,0,0,0,0,0,0,0,0,0,0,0,0,0,0,0,0,0,0,0,0,0,0,0,0,0]
[null,null,null,{"$f":"D474","v":"EL6"},4913.9842807673313,null,null,0,0,0,0,0,0,0,0,0,0,0,0,0,0,0,0,0,0,0,0,0,0,0,0,0,0,0,0,0,0,0,0,0,0,0,0,0,0,0,0,0,0,0,0,0]
[null,null,null,{"$f":"D475","v":"EL7"},4870.4104358462382,null,null,{"$f":"H475","v":0},0,0,0,0,0,0,0,0,0,0,0,0,0,0,0,0,0,0,0,0,0,0,0,0,0,0,{"$f":"SUM(AI468:AI475)","v":1},{"$f":"SUM(AJ468:AJ475)","v":1},1,1,1,1,1,1,1,1,1,1,1,1,1,1,1,1]
[null,null,null,{"$f":"D476","v":"EL8"},4802.1633703801781,null,null,{"$f":"H476","v":0},0,0,0,0,0,0,0,0,0,0,0,0,0,0,0,0,0,0,0,0,0,0,0,0,0,0,0,{"$f":"AJ476","v":0},0,0,0,0,0,0,0,0,0,0,0,0,0,0,0,0]
[null,null,null,{"$f":"D477","v":"EL9"},4555.7622823323791,null,null,{"$f":"H477","v":0},0,0,0,0,0,0,0,0,0,0,0,0,0,0,0,0,0,0,0,0,0,0,0,0,0,0,0,{"$f":"AJ477","v":0},0,0,0,0,0,0,0,0,0,0,0,0,0,0,0,0]
[null,null,null,"TOTAL",null,null,null,{"$f":"SUM(H482:H491)","v":1},{"$f":"SUM(I482:I491)","v":1},1,1,1,1,1,1,1,1,1,1,1,1,1,1,1,1,1,1,1,1,1,1,1,1,1,1,1,1,1,1,1,1,1,1,1,1,1,1,1,1,1,1,1]
[]
[null,null,null,"Sources","DOE Commercial Refrigeration Equipment 2014 Final Rule, Technical Support Document: Final Rule National Impact Analysis Spreadsheet, 'Market Share Inputs' tab, cells BJ3:BR35, http://www.regulations.gov/#!documentDetail;D=EERE-2010-BT-STD-0003-0101"]
[]
[]
[]
[]
[null,null,null,{"$f":"'Product Classes'!O24","v":"VCS.SC.M"}]
[]
[null,null,null,"PRE-Case",null,"Static Distribution"]
[null,null,null,"Efficiency Level","EL (kWh/year)",2006,null,1990,{"$f":"H502+1","v":1991},{"$f":"I502+1","v":1992},{"$f":"J502+1","v":1993},{"$f":"K502+1","v":1994},{"$f":"L502+1","v":1995},{"$f":"M502+1","v":1996},{"$f":"N502+1","v":1997},{"$f":"O502+1","v":1998},{"$f":"P502+1","v":1999},{"$f":"Q502+1","v":2000},{"$f":"R502+1","v":2001},{"$f":"S502+1","v":2002},{"$f":"T502+1","v":2003},{"$f":"U502+1","v":2004},{"$f":"V502+1","v":2005},{"$f":"W502+1","v":2006},{"$f":"X502+1","v":2007},{"$f":"Y502+1","v":2008},{"$f":"Z502+1","v":2009},{"$f":"AA502+1","v":2010},{"$f":"AB502+1","v":2011},{"$f":"AC502+1","v":2012},{"$f":"AD502+1","v":2013},{"$f":"AE502+1","v":2014},{"$f":"AF502+1","v":2015},{"$f":"AG502+1","v":2016},{"$f":"AH502+1","v":2017},{"$f":"AI502+1","v":2018},{"$f":"AJ502+1","v":2019},{"$f":"AK502+1","v":2020},{"$f":"AL502+1","v":2021},{"$f":"AM502+1","v":2022},{"$f":"AN502+1","v":2023},{"$f":"AO502+1","v":2024},{"$f":"AP502+1","v":2025},{"$f":"AQ502+1","v":2026},{"$f":"AR502+1","v":2027},{"$f":"AS502+1","v":2028},{"$f":"AT502+1","v":2029},{"$f":"AU502+1","v":2030},{"$f":"AV502+1","v":2031},{"$f":"AW502+1","v":2032},{"$f":"AX502+1","v":2033},{"$f":"AY502+1","v":2034}]
[null,null,null,{"$f":"'Efficiency Levels'!C264","v":"EL0"},{"$f":"'Efficiency Levels'!D264","v":2187.6807291666664},1,null,{"$f":"$F503","v":1},1,1,1,1,1,1,1,1,1,1,1,1,1,1,1,{"$f":"$F503","v":1},1,1,1,0,0,0,0,0,0,0,0,0,0,0,0,0,0,0,0,0,0,0,0,0,0,0,0,0]
[null,null,null,{"$f":"'Efficiency Levels'!C265","v":"EL1"},{"$f":"'Efficiency Levels'!D265","v":2187.6807291666664},0,null,0,0,0,0,0,0,0,0,0,0,0,0,0,0,0,0,0,0,0,0,0,0,0,0,0,0,0,0,0,0,0,0,{"$f":"$F504","v":0},0,0,0,0,0,0,0,0,0,0,0,0]
[null,null,null,{"$f":"'Efficiency Levels'!C266","v":"EL2"},{"$f":"'Efficiency Levels'!D266","v":2047.4102582068092},0,null,0,0,0,0,0,0,0,0,0,0,0,0,0,0,0,0,0,0,0,0,{"$f":"AC505","v":0.6},0.6,{"$f":"AE505","v":0.6},0.6,0.6,0.6,{"$f":"AI505","v":0.6},0.6,0.6,0.60000000000000009,0.6,0.59999999999999987,0.6,0.60000000000000009,0.60000000000000009,0.60000000000000009,0.60000000000000009,0.60000000000000009,0.60000000000000009,0.60000000000000009,0.60000000000000009,0.60000000000000009,0.60000000000000009,0.60000000000000009,0.60000000000000009]
[null,null,null,{"$f":"'Efficiency Levels'!C267","v":"EL3"},{"$f":"'Efficiency Levels'!D267","v":1714.5936999617747},0,null,0,0,0,0,0,0,0,0,0,0,0,0,0,0,0,0,0,0,0,0,{"$f":"AC506","v":0},0,0,0,0,0,{"$f":"AI506","v":0},0,0,0,0,0,0,0,0,0,0,0,0,0,0,0,0,0,0]
[null,null,null,{"$f":"'Efficiency Levels'!C268","v":"EL4"},{"$f":"'Efficiency Levels'!D268","v":1306.0777224528661},0,null,0,0,0,0,0,0,0,0,0,0,0,0,0,0,0,0,0,0,0,0,{"$f":"AC507","v":0.30000000000000004},0.30000000000000004,0.30000000000000004,0.30000000000000004,0.30000000000000004,0.30000000000000004,0.30000000000000004,0.30000000000000004,0.25,0.2,0.15000000000000002,0.10000000000000003,5.0000000000000044E-2,0,0,0,0,0,0,0,0,0,0,0,0]
[null,null,null,{"$f":"'Efficiency Levels'!C269","v":"EL5"},{"$f":"'Efficiency Levels'!D269","v":1245.0404358787312},0,null,0,0,0,0,0,0,0,0,0,0,0,0,0,0,0,0,0,0,0,0,{"$f":"AC508","v":0},0,0,0,0,0,0,0,0,0,0,0,0,0,0,0,0,0,0,0,0,0,0,0,0]
[null,null,null,{"$f":"'Efficiency Levels'!C270","v":"EL6"},{"$f":"'Efficiency Levels'!D270","v":1196.4689517724762},0,null,0,0,0,0,0,0,0,0,0,0,0,0,0,0,0,0,0,0,0,0,{"$f":"AC509","v":0},0,0,0,0,0,0,0,0,0,0,0,0,0,0,0,0,0,0,0,0,0,0,0,0]
[null,null,null,{"$f":"'Efficiency Levels'!C271","v":"EL7"},{"$f":"'Efficiency Levels'!D271","v":1128.2050203041058},0,null,0,0,0,0,0,0,0,0,0,0,0,0,0,0,0,0,0,0,0,0,{"$f":"AC510","v":0},0,0,0,0,0,0,0,0,0,0,0,0,0,0,0,0,0,0,0,0,0,0,0,0]
[null,null,null,{"$f":"'Efficiency Levels'!C272","v":"EL8"},{"$f":"'Efficiency Levels'!D272","v":1117.9113002232461},0,null,0,0,0,0,0,0,0,0,0,0,0,0,0,0,0,0,0,0,0,0,{"$f":"AC511","v":0.1},0.1,0.1,0.1,0.1,0.1,0.1,0.1,0.15000000000000002,0.2,0.25,0.3,0.35,0.39999999999999997,0.39999999999999997,0.39999999999999997,0.39999999999999997,0.39999999999999997,0.39999999999999997,0.39999999999999997,0.39999999999999997,0.39999999999999997,0.39999999999999997,0.39999999999999997,0.39999999999999997]
[null,null,null,{"$f":"'Efficiency Levels'!C273","v":"EL9"},{"$f":"'Efficiency Levels'!D273","v":982.26658483455265},0,null,0,0,0,0,0,0,0,0,0,0,0,0,0,0,0,0,0,0,0,0,{"$f":"AC512","v":0},0,0,0,0,0,0,0,0,0,0,0,0,0,0,0,0,0,0,0,0,0,0,0,0]
[null,null,null,"TOTAL",null,{"$f":"SUM(F503:F512)","v":1},null,{"$f":"SUM(H503:H512)","v":1},{"$f":"SUM(I503:I512)","v":1},1,1,1,1,1,1,1,1,1,1,1,1,1,1,1,1,1,1,1,1,1,1,1,1,1,1,1,1,1,1,1,1,1,1,1,1,1,1,1,1,1,1,1]
[]
[null,null,null,"POST-Case"]
[null,null,null,"Efficiency Level","EL (kWh/year)",null,null,1990,{"$f":"H516+1","v":1991},{"$f":"I516+1","v":1992},{"$f":"J516+1","v":1993},{"$f":"K516+1","v":1994},{"$f":"L516+1","v":1995},{"$f":"M516+1","v":1996},{"$f":"N516+1","v":1997},{"$f":"O516+1","v":1998},{"$f":"P516+1","v":1999},{"$f":"Q516+1","v":2000},{"$f":"R516+1","v":2001},{"$f":"S516+1","v":2002},{"$f":"T516+1","v":2003},{"$f":"U516+1","v":2004},{"$f":"V516+1","v":2005},{"$f":"X502","v":2006},2007,2008,2009,2010,2011,2012,2013,2014,2015,2016,2017,2018,2019,2020,2021,2022,2023,2024,2025,2026,2027,2028,2029,2030,2031,2032,2033,2034]
[null,null,null,{"$f":"D503","v":"EL0"},{"$f":"E503","v":2187.6807291666664},null,null,{"$f":"H503","v":1},1,1,1,1,1,1,1,1,1,1,1,1,1,1,1,1,1,1,1,0,0,0,0,0,0,0,0,0,0,0,0,0,0,0,0,0,0,0,0,0,0,0,0,0]
[null,null,null,{"$f":"D504","v":"EL1"},2187.6807291666664,null,null,0,0,0,0,0,0,0,0,0,0,0,0,0,0,0,0,0,0,0,0,0,0,0,0,0,0,0,0,0,0,0,0,0,0,0,0,0,0,0,0,0,0,0,0,0]
[null,null,null,{"$f":"D505","v":"EL2"},2047.4102582068092,null,null,0,0,0,0,0,0,0,0,0,0,0,0,0,0,0,0,0,0,0,0,0.6,0.6,0.6,0.6,0.6,0.6,0.6,0,0,0,0,0,0,0,0,0,0,0,0,0,0,0,0,0,0]
[null,null,null,{"$f":"D506","v":"EL3"},1714.5936999617747,null,null,0,0,0,0,0,0,0,0,0,0,0,0,0,0,0,0,0,0,0,0,0,0,0,0,0,0,0,0,0,0,0,0,0,0,0,0,0,0,0,0,0,0,0,0,0]
[null,null,null,{"$f":"D507","v":"EL4"},1306.0777224528661,null,null,0,0,0,0,0,0,0,0,0,0,0,0,0,0,0,0,0,0,0,0,0.30000000000000004,0.30000000000000004,0.30000000000000004,0.30000000000000004,0.30000000000000004,0.30000000000000004,0.30000000000000004,0,0,0,0,0,0,0,0,0,0,0,0,0,0,0,0,0,0]
[null,null,null,{"$f":"D508","v":"EL5"},1245.0404358787312,null,null,0,0,0,0,0,0,0,0,0,0,0,0,0,0,0,0,0,0,0,0,0,0,0,0,0,0,0,0,0,0,0,0,0,0,0,0,0,0,0,0,0,0,0,0,0]
[null,null,null,{"$f":"D509","v":"EL6"},1196.4689517724762,null,null,0,0,0,0,0,0,0,0,0,0,0,0,0,0,0,0,0,0,0,0,0,0,0,0,0,0,0,{"$f":"SUM(AI503:AI509)","v":0.9},{"$f":"SUM(AJ503:AJ509)","v":0.85},0.8,0.75,0.7,0.65,0.60000000000000009,0.60000000000000009,0.60000000000000009,0.60000000000000009,0.60000000000000009,0.60000000000000009,0.60000000000000009,0.60000000000000009,0.60000000000000009,0.60000000000000009,0.60000000000000009,0.60000000000000009]
[null,null,null,{"$f":"D510","v":"EL7"},1128.2050203041058,null,null,{"$f":"H510","v":0},0,0,0,0,0,0,0,0,0,0,0,0,0,0,0,0,0,0,0,0,0,0,0,0,0,0,0,{"$f":"AJ510","v":0},0,0,0,0,0,0,0,0,0,0,0,0,0,0,0,0]
[null,null,null,{"$f":"D511","v":"EL8"},1117.9113002232461,null,null,{"$f":"H511","v":0},0,0,0,0,0,0,0,0,0,0,0,0,0,0,0,0,0,0,0,0.1,0.1,0.1,0.1,0.1,0.1,0.1,0.1,{"$f":"AJ511","v":0.15000000000000002},0.2,0.25,0.3,0.35,0.39999999999999997,0.39999999999999997,0.39999999999999997,0.39999999999999997,0.39999999999999997,0.39999999999999997,0.39999999999999997,0.39999999999999997,0.39999999999999997,0.39999999999999997,0.39999999999999997,0.39999999999999997]
[null,null,null,{"$f":"D512","v":"EL9"},982.26658483455265,null,null,{"$f":"H512","v":0},0,0,0,0,0,0,0,0,0,0,0,0,0,0,0,0,0,0,0,0,0,0,0,0,0,0,0,{"$f":"AJ512","v":0},0,0,0,0,0,0,0,0,0,0,0,0,0,0,0,0]
[null,null,null,"TOTAL",null,null,null,{"$f":"SUM(H517:H526)","v":1},{"$f":"SUM(I517:I526)","v":1},1,1,1,1,1,1,1,1,1,1,1,1,1,1,1,1,1,1,1,1,1,1,1,1,1,1,1,1,1,1,1,1,1,1,1,1,1,1,1,1,1,1,1]
[]
[null,null,null,"Sources","DOE Commercial Refrigeration Equipment 2014 Final Rule, Technical Support Document: Final Rule National Impact Analysis Spreadsheet, 'Market Share Inputs' tab, cells CD3:CL35, http://www.regulations.gov/#!documentDetail;D=EERE-2010-BT-STD-0003-0101"]
[]
[]
[]
[]
[null,null,null,{"$f":"'Product Classes'!O25","v":"VCS.SC.L"}]
[]
[null,null,null,"PRE-Case",null,"Static Distribution"]
[null,null,null,"Efficiency Level","EL (kWh/year)",2006,null,1990,{"$f":"H537+1","v":1991},{"$f":"I537+1","v":1992},{"$f":"J537+1","v":1993},{"$f":"K537+1","v":1994},{"$f":"L537+1","v":1995},{"$f":"M537+1","v":1996},{"$f":"N537+1","v":1997},{"$f":"O537+1","v":1998},{"$f":"P537+1","v":1999},{"$f":"Q537+1","v":2000},{"$f":"R537+1","v":2001},{"$f":"S537+1","v":2002},{"$f":"T537+1","v":2003},{"$f":"U537+1","v":2004},{"$f":"V537+1","v":2005},{"$f":"W537+1","v":2006},{"$f":"X537+1","v":2007},{"$f":"Y537+1","v":2008},{"$f":"Z537+1","v":2009},{"$f":"AA537+1","v":2010},{"$f":"AB537+1","v":2011},{"$f":"AC537+1","v":2012},{"$f":"AD537+1","v":2013},{"$f":"AE537+1","v":2014},{"$f":"AF537+1","v":2015},{"$f":"AG537+1","v":2016},{"$f":"AH537+1","v":2017},{"$f":"AI537+1","v":2018},{"$f":"AJ537+1","v":2019},{"$f":"AK537+1","v":2020},{"$f":"AL537+1","v":2021},{"$f":"AM537+1","v":2022},{"$f":"AN537+1","v":2023},{"$f":"AO537+1","v":2024},{"$f":"AP537+1","v":2025},{"$f":"AQ537+1","v":2026},{"$f":"AR537+1","v":2027},{"$f":"AS537+1","v":2028},{"$f":"AT537+1","v":2029},{"$f":"AU537+1","v":2030},{"$f":"AV537+1","v":2031},{"$f":"AW537+1","v":2032},{"$f":"AX537+1","v":2033},{"$f":"AY537+1","v":2034}]
[null,null,null,{"$f":"'Efficiency Levels'!C282","v":"EL0"},{"$f":"'Efficiency Levels'!D282","v":5076.8629213483146},1,null,{"$f":"$F538","v":1},1,1,1,1,1,1,1,1,1,1,1,1,1,1,1,{"$f":"$F538","v":1},1,1,1,0,0,0,0,0,0,0,0,0,0,0,0,0,0,0,0,0,0,0,0,0,0,0,0,0]
[null,null,null,{"$f":"'Efficiency Levels'!C283","v":"EL1"},{"$f":"'Efficiency Levels'!D283","v":4514.5168539325841},0,null,0,0,0,0,0,0,0,0,0,0,0,0,0,0,0,0,0,0,0,0,0,0,0,0,0,0,0,0,0,0,0,0,{"$f":"$F539","v":0},0,0,0,0,0,0,0,0,0,0,0,0]
[null,null,null,{"$f":"'Efficiency Levels'!C284","v":"EL2"},{"$f":"'Efficiency Levels'!D284","v":4676.7709088947258},0,null,0,0,0,0,0,0,0,0,0,0,0,0,0,0,0,0,0,0,0,0,{"$f":"AC540","v":0.6},0.6,{"$f":"AE540","v":0.6},0.6,0.6,0.6,{"$f":"AI540","v":0.6},0.6,0.6,0.60000000000000009,0.6,0.59999999999999987,0.6,0.60000000000000009,0.60000000000000009,0.60000000000000009,0.60000000000000009,0.60000000000000009,0.60000000000000009,0.60000000000000009,0.60000000000000009,0.60000000000000009,0.60000000000000009,0.60000000000000009,0.60000000000000009]
[null,null,null,{"$f":"'Efficiency Levels'!C285","v":"EL3"},{"$f":"'Efficiency Levels'!D285","v":3957.3111035900674},0,null,0,0,0,0,0,0,0,0,0,0,0,0,0,0,0,0,0,0,0,0,{"$f":"AC541","v":0},0,0,0,0,0,{"$f":"AI541","v":0},0,0,0,0,0,0,0,0,0,0,0,0,0,0,0,0,0,0]
[null,null,null,{"$f":"'Efficiency Levels'!C286","v":"EL4"},{"$f":"'Efficiency Levels'!D286","v":3746.4847774041068},0,null,0,0,0,0,0,0,0,0,0,0,0,0,0,0,0,0,0,0,0,0,{"$f":"AC542","v":0.30000000000000004},0.30000000000000004,0.30000000000000004,0.30000000000000004,0.30000000000000004,0.30000000000000004,0.30000000000000004,0.30000000000000004,0.25,0.2,0.15000000000000002,0.10000000000000003,5.0000000000000044E-2,0,0,0,0,0,0,0,0,0,0,0,0]
[null,null,null,{"$f":"'Efficiency Levels'!C287","v":"EL5"},{"$f":"'Efficiency Levels'!D287","v":3672.5914739641321},0,null,0,0,0,0,0,0,0,0,0,0,0,0,0,0,0,0,0,0,0,0,{"$f":"AC543","v":0},0,0,0,0,0,0,0,0,0,0,0,0,0,0,0,0,0,0,0,0,0,0,0,0]
[null,null,null,{"$f":"'Efficiency Levels'!C288","v":"EL6"},{"$f":"'Efficiency Levels'!D288","v":3556.6719455081648},0,null,0,0,0,0,0,0,0,0,0,0,0,0,0,0,0,0,0,0,0,0,{"$f":"AC544","v":0.1},0.1,0.1,0.1,0.1,0.1,0.1,0.1,0.15000000000000002,0.2,0.25,0.3,0.35,0.39999999999999997,0.39999999999999997,0.39999999999999997,0.39999999999999997,0.39999999999999997,0.39999999999999997,0.39999999999999997,0.39999999999999997,0.39999999999999997,0.39999999999999997,0.39999999999999997,0.39999999999999997]
[null,null,null,{"$f":"'Efficiency Levels'!C289","v":"EL7"},{"$f":"'Efficiency Levels'!D289","v":3459.7024993368959},0,null,0,0,0,0,0,0,0,0,0,0,0,0,0,0,0,0,0,0,0,0,{"$f":"AC545","v":0},0,0,0,0,0,0,0,0,0,0,0,0,0,0,0,0,0,0,0,0,0,0,0,0]
[null,null,null,{"$f":"'Efficiency Levels'!C290","v":"EL8"},{"$f":"'Efficiency Levels'!D290","v":3429.84595821945},0,null,0,0,0,0,0,0,0,0,0,0,0,0,0,0,0,0,0,0,0,0,{"$f":"AC546","v":0},0,0,0,0,0,0,0,0,0,0,0,0,0,0,0,0,0,0,0,0,0,0,0,0]
[null,null,null,{"$f":"'Efficiency Levels'!C291","v":"EL9"},{"$f":"'Efficiency Levels'!D291","v":3159.6937649497081},0,null,0,0,0,0,0,0,0,0,0,0,0,0,0,0,0,0,0,0,0,0,{"$f":"AC547","v":0},0,0,0,0,0,0,0,0,0,0,0,0,0,0,0,0,0,0,0,0,0,0,0,0]
[null,null,null,"TOTAL",null,{"$f":"SUM(F538:F547)","v":1},null,{"$f":"SUM(H538:H547)","v":1},{"$f":"SUM(I538:I547)","v":1},1,1,1,1,1,1,1,1,1,1,1,1,1,1,1,1,1,1,1,1,1,1,1,1,1,1,1,1,1,1,1,1,1,1,1,1,1,1,1,1,1,1,1]
[]
[null,null,null,"POST-Case"]
[null,null,null,"Efficiency Level","EL (kWh/year)",null,null,1990,{"$f":"H551+1","v":1991},{"$f":"I551+1","v":1992},{"$f":"J551+1","v":1993},{"$f":"K551+1","v":1994},{"$f":"L551+1","v":1995},{"$f":"M551+1","v":1996},{"$f":"N551+1","v":1997},{"$f":"O551+1","v":1998},{"$f":"P551+1","v":1999},{"$f":"Q551+1","v":2000},{"$f":"R551+1","v":2001},{"$f":"S551+1","v":2002},{"$f":"T551+1","v":2003},{"$f":"U551+1","v":2004},{"$f":"V551+1","v":2005},{"$f":"X537","v":2006},2007,2008,2009,2010,2011,2012,2013,2014,2015,2016,2017,2018,2019,2020,2021,2022,2023,2024,2025,2026,2027,2028,2029,2030,2031,2032,2033,2034]
[null,null,null,{"$f":"D538","v":"EL0"},{"$f":"E538","v":5076.8629213483146},null,null,{"$f":"H538","v":1},1,1,1,1,1,1,1,1,1,1,1,1,1,1,1,1,1,1,1,0,0,0,0,0,0,0,0,0,0,0,0,0,0,0,0,0,0,0,0,0,0,0,0,0]
[null,null,null,{"$f":"D539","v":"EL1"},4514.5168539325841,null,null,0,0,0,0,0,0,0,0,0,0,0,0,0,0,0,0,0,0,0,0,0,0,0,0,0,0,0,0,0,0,0,0,0,0,0,0,0,0,0,0,0,0,0,0,0]
[null,null,null,{"$f":"D540","v":"EL2"},4676.7709088947258,null,null,0,0,0,0,0,0,0,0,0,0,0,0,0,0,0,0,0,0,0,0,0.6,0.6,0.6,0.6,0.6,0.6,0.6,0,0,0,0,0,0,0,0,0,0,0,0,0,0,0,0,0,0]
[null,null,null,{"$f":"D541","v":"EL3"},3957.3111035900674,null,null,0,0,0,0,0,0,0,0,0,0,0,0,0,0,0,0,0,0,0,0,0,0,0,0,0,0,0,0,0,0,0,0,0,0,0,0,0,0,0,0,0,0,0,0,0]
[null,null,null,{"$f":"D542","v":"EL4"},3746.4847774041068,null,null,0,0,0,0,0,0,0,0,0,0,0,0,0,0,0,0,0,0,0,0,0.30000000000000004,0.30000000000000004,0.30000000000000004,0.30000000000000004,0.30000000000000004,0.30000000000000004,0.30000000000000004,0,0,0,0,0,0,0,0,0,0,0,0,0,0,0,0,0,0]
[null,null,null,{"$f":"D543","v":"EL5"},3672.5914739641321,null,null,0,0,0,0,0,0,0,0,0,0,0,0,0,0,0,0,0,0,0,0,0,0,0,0,0,0,0,0,0,0,0,0,0,0,0,0,0,0,0,0,0,0,0,0,0]
[null,null,null,{"$f":"D544","v":"EL6"},3556.6719455081648,null,null,0,0,0,0,0,0,0,0,0,0,0,0,0,0,0,0,0,0,0,0,0.1,0.1,0.1,0.1,0.1,0.1,0.1,0,0,0,0,0,0,0,0,0,0,0,0,0,0,0,0,0,0]
[null,null,null,{"$f":"D545","v":"EL7"},3459.7024993368959,null,null,{"$f":"H545","v":0},0,0,0,0,0,0,0,0,0,0,0,0,0,0,0,0,0,0,0,0,0,0,0,0,0,0,{"$f":"SUM(AI538:AI545)","v":1},{"$f":"SUM(AJ538:AJ545)","v":1},1,1,1,1,1,1,1,1,1,1,1,1,1,1,1,1]
[null,null,null,{"$f":"D546","v":"EL8"},3429.84595821945,null,null,{"$f":"H546","v":0},0,0,0,0,0,0,0,0,0,0,0,0,0,0,0,0,0,0,0,0,0,0,0,0,0,0,0,{"$f":"AJ546","v":0},0,0,0,0,0,0,0,0,0,0,0,0,0,0,0,0]
[null,null,null,{"$f":"D547","v":"EL9"},3159.6937649497081,null,null,{"$f":"H547","v":0},0,0,0,0,0,0,0,0,0,0,0,0,0,0,0,0,0,0,0,0,0,0,0,0,0,0,0,{"$f":"AJ547","v":0},0,0,0,0,0,0,0,0,0,0,0,0,0,0,0,0]
[null,null,null,"TOTAL",null,null,null,{"$f":"SUM(H552:H561)","v":1},{"$f":"SUM(I552:I561)","v":1},1,1,1,1,1,1,1,1,1,1,1,1,1,1,1,1,1,1,1,1,1,1,1,1,1,1,1,1,1,1,1,1,1,1,1,1,1,1,1,1,1,1,1]
[]
[null,null,null,"Sources","DOE Commercial Refrigeration Equipment 2014 Final Rule, Technical Support Document: Final Rule National Impact Analysis Spreadsheet, 'Market Share Inputs' tab, cells CN3:CV35, http://www.regulations.gov/#!documentDetail;D=EERE-2010-BT-STD-0003-0101"]
[]
[]
[]
[]
[null,null,null,{"$f":"'Product Classes'!O26","v":"HCT.SC.M"}]
[]
[null,null,null,"PRE-Case",null,"Static Distribution"]
[null,null,null,"Efficiency Level","EL (kWh/year)",2006,null,1990,{"$f":"H572+1","v":1991},{"$f":"I572+1","v":1992},{"$f":"J572+1","v":1993},{"$f":"K572+1","v":1994},{"$f":"L572+1","v":1995},{"$f":"M572+1","v":1996},{"$f":"N572+1","v":1997},{"$f":"O572+1","v":1998},{"$f":"P572+1","v":1999},{"$f":"Q572+1","v":2000},{"$f":"R572+1","v":2001},{"$f":"S572+1","v":2002},{"$f":"T572+1","v":2003},{"$f":"U572+1","v":2004},{"$f":"V572+1","v":2005},{"$f":"W572+1","v":2006},{"$f":"X572+1","v":2007},{"$f":"Y572+1","v":2008},{"$f":"Z572+1","v":2009},{"$f":"AA572+1","v":2010},{"$f":"AB572+1","v":2011},{"$f":"AC572+1","v":2012},{"$f":"AD572+1","v":2013},{"$f":"AE572+1","v":2014},{"$f":"AF572+1","v":2015},{"$f":"AG572+1","v":2016},{"$f":"AH572+1","v":2017},{"$f":"AI572+1","v":2018},{"$f":"AJ572+1","v":2019},{"$f":"AK572+1","v":2020},{"$f":"AL572+1","v":2021},{"$f":"AM572+1","v":2022},{"$f":"AN572+1","v":2023},{"$f":"AO572+1","v":2024},{"$f":"AP572+1","v":2025},{"$f":"AQ572+1","v":2026},{"$f":"AR572+1","v":2027},{"$f":"AS572+1","v":2028},{"$f":"AT572+1","v":2029},{"$f":"AU572+1","v":2030},{"$f":"AV572+1","v":2031},{"$f":"AW572+1","v":2032},{"$f":"AX572+1","v":2033},{"$f":"AY572+1","v":2034}]
[null,null,null,{"$f":"'Efficiency Levels'!C300","v":"EL0"},{"$f":"'Efficiency Levels'!D300","v":2671.1398936170212},1,null,{"$f":"$F573","v":1},1,1,1,1,1,1,1,1,1,1,1,1,1,1,1,{"$f":"$F573","v":1},1,1,1,0,0,0,0,0,0,0,0,0,0,0,0,0,0,0,0,0,0,0,0,0,0,0,0,0]
[null,null,null,{"$f":"'Efficiency Levels'!C301","v":"EL1"},{"$f":"'Efficiency Levels'!D301","v":2462.4608510638295},0,null,0,0,0,0,0,0,0,0,0,0,0,0,0,0,0,0,0,0,0,0,0,0,0,0,0,0,0,0,0,0,0,0,0,{"$f":"$F574","v":0},0,0,0,0,0,0,0,0,0,0,0]
[null,null,null,{"$f":"'Efficiency Levels'!C302","v":"EL2"},{"$f":"'Efficiency Levels'!D302","v":538.36148580820395},0,null,0,0,0,0,0,0,0,0,0,0,0,0,0,0,0,0,0,0,0,0,0.6,0.6,0.6,0.6,0.6,0.6,0.6,0.6,0.6,0.6,0.6,0.6,0.6,0.6,0.6,0.6,0.6,0.6,0.6,0.6,0.6,0.6,0.6,0.6,0.6]
[null,null,null,{"$f":"'Efficiency Levels'!C303","v":"EL3"},{"$f":"'Efficiency Levels'!D303","v":502.83083463217827},0,null,0,0,0,0,0,0,0,0,0,0,0,0,0,0,0,0,0,0,0,0,0,0,0,0,0,0,0,0,0,0,0,0,0,0,0,0,0,0,0,0,0,0,0,0,0]
[null,null,null,{"$f":"'Efficiency Levels'!C304","v":"EL4"},{"$f":"'Efficiency Levels'!D304","v":465.42461592674266},0,null,0,0,0,0,0,0,0,0,0,0,0,0,0,0,0,0,0,0,0,0,0,0,0,0,0,0,0,0,0,0,0,0,0,0,0,0,0,0,0,0,0,0,0,0,0]
[null,null,null,{"$f":"'Efficiency Levels'!C305","v":"EL5"},{"$f":"'Efficiency Levels'!D305","v":283.88118294089406},0,null,0,0,0,0,0,0,0,0,0,0,0,0,0,0,0,0,0,0,0,0,0.4,0.4,0.4,0.4,0.4,0.4,0.4,0.4,0.4,0.4,0.4,0.4,0.4,0.4,0.4,0.4,0.4,0.4,0.4,0.4,0.4,0.4,0.4,0.4,0.4]
[null,null,null,{"$f":"'Efficiency Levels'!C306","v":"EL6"},{"$f":"'Efficiency Levels'!D306","v":258.44877648964558},0,null,0,0,0,0,0,0,0,0,0,0,0,0,0,0,0,0,0,0,0,0,0,0,0,0,0,0,0,0,0,0,0,0,0,0,0,0,0,0,0,0,0,0,0,0,0]
[null,null,null,{"$f":"'Efficiency Levels'!C307","v":"EL7"},{"$f":"'Efficiency Levels'!D307","v":253.67847111503443},0,null,0,0,0,0,0,0,0,0,0,0,0,0,0,0,0,0,0,0,0,0,0,0,0,0,0,0,0,0,0,0,0,0,0,0,0,0,0,0,0,0,0,0,0,0,0]
[null,null,null,{"$f":"'Efficiency Levels'!C308","v":"EL8"},{"$f":"'Efficiency Levels'!D308","v":228.45041548380132},0,null,0,0,0,0,0,0,0,0,0,0,0,0,0,0,0,0,0,0,0,0,0,0,0,0,0,0,0,0,0,0,0,0,0,0,0,0,0,0,0,0,0,0,0,0,0]
[null,null,null,{"$f":"'Efficiency Levels'!C309","v":"EL9"},{"$f":"'Efficiency Levels'!D309","v":176.9461916439472},0,null,0,0,0,0,0,0,0,0,0,0,0,0,0,0,0,0,0,0,0,0,0,0,0,0,0,0,0,0,0,0,0,0,0,0,0,0,0,0,0,0,0,0,0,0,0]
[null,null,null,"TOTAL",null,{"$f":"SUM(F573:F582)","v":1},null,{"$f":"SUM(H573:H582)","v":1},{"$f":"SUM(I573:I582)","v":1},1,1,1,1,1,1,1,1,1,1,1,1,1,1,1,1,1,1,1,1,1,1,1,1,1,1,1,1,1,1,1,1,1,1,1,1,1,1,1,1,1,1,1]
[]
[null,null,null,"POST-Case"]
[null,null,null,"Efficiency Level","EL (kWh/year)",null,null,1990,{"$f":"H586+1","v":1991},{"$f":"I586+1","v":1992},{"$f":"J586+1","v":1993},{"$f":"K586+1","v":1994},{"$f":"L586+1","v":1995},{"$f":"M586+1","v":1996},{"$f":"N586+1","v":1997},{"$f":"O586+1","v":1998},{"$f":"P586+1","v":1999},{"$f":"Q586+1","v":2000},{"$f":"R586+1","v":2001},{"$f":"S586+1","v":2002},{"$f":"T586+1","v":2003},{"$f":"U586+1","v":2004},{"$f":"V586+1","v":2005},{"$f":"X572","v":2006},2007,2008,2009,2010,2011,2012,2013,2014,2015,2016,2017,2018,2019,2020,2021,2022,2023,2024,2025,2026,2027,2028,2029,2030,2031,2032,2033,2034]
[null,null,null,{"$f":"D573","v":"EL0"},{"$f":"E573","v":2671.1398936170212},null,null,{"$f":"H573","v":1},1,1,1,1,1,1,1,1,1,1,1,1,1,1,1,1,1,1,1,0,0,0,0,0,0,0,0,0,0,0,0,0,0,0,0,0,0,0,0,0,0,0,0,0]
[null,null,null,{"$f":"D574","v":"EL1"},2462.4608510638295,null,null,0,0,0,0,0,0,0,0,0,0,0,0,0,0,0,0,0,0,0,0,0,0,0,0,0,0,0,0,0,0,0,0,0,0,0,0,0,0,0,0,0,0,0,0,0]
[null,null,null,{"$f":"D575","v":"EL2"},538.36148580820395,null,null,0,0,0,0,0,0,0,0,0,0,0,0,0,0,0,0,0,0,0,0,0.6,0.6,0.6,0.6,0.6,0.6,0.6,0,0,0,0,0,0,0,0,0,0,0,0,0,0,0,0,0,0]
[null,null,null,{"$f":"D576","v":"EL3"},502.83083463217827,null,null,0,0,0,0,0,0,0,0,0,0,0,0,0,0,0,0,0,0,0,0,0,0,0,0,0,0,0,0,0,0,0,0,0,0,0,0,0,0,0,0,0,0,0,0,0]
[null,null,null,{"$f":"D577","v":"EL4"},465.42461592674266,null,null,0,0,0,0,0,0,0,0,0,0,0,0,0,0,0,0,0,0,0,0,0,0,0,0,0,0,0,0,0,0,0,0,0,0,0,0,0,0,0,0,0,0,0,0,0]
[null,null,null,{"$f":"D578","v":"EL5"},283.88118294089406,null,null,0,0,0,0,0,0,0,0,0,0,0,0,0,0,0,0,0,0,0,0,0.4,0.4,0.4,0.4,0.4,0.4,0.4,0,0,0,0,0,0,0,0,0,0,0,0,0,0,0,0,0,0]
[null,null,null,{"$f":"D579","v":"EL6"},258.44877648964558,null,null,0,0,0,0,0,0,0,0,0,0,0,0,0,0,0,0,0,0,0,0,0,0,0,0,0,0,0,{"$f":"SUM(AI573:AI579)","v":1},{"$f":"SUM(AJ573:AJ579)","v":1},1,1,1,1,1,1,1,1,1,1,1,1,1,1,1,1]
[null,null,null,{"$f":"D580","v":"EL7"},253.67847111503443,null,null,{"$f":"H580","v":0},0,0,0,0,0,0,0,0,0,0,0,0,0,0,0,0,0,0,0,0,0,0,0,0,0,0,0,{"$f":"AJ580","v":0},0,0,0,0,0,0,0,0,0,0,0,0,0,0,0,0]
[null,null,null,{"$f":"D581","v":"EL8"},228.45041548380132,null,null,{"$f":"H581","v":0},0,0,0,0,0,0,0,0,0,0,0,0,0,0,0,0,0,0,0,0,0,0,0,0,0,0,0,{"$f":"AJ581","v":0},0,0,0,0,0,0,0,0,0,0,0,0,0,0,0,0]
[null,null,null,{"$f":"D582","v":"EL9"},176.9461916439472,null,null,{"$f":"H582","v":0},0,0,0,0,0,0,0,0,0,0,0,0,0,0,0,0,0,0,0,0,0,0,0,0,0,0,0,{"$f":"AJ582","v":0},0,0,0,0,0,0,0,0,0,0,0,0,0,0,0,0]
[null,null,null,"TOTAL",null,null,null,{"$f":"SUM(H587:H596)","v":1},{"$f":"SUM(I587:I596)","v":1},1,1,1,1,1,1,1,1,1,1,1,1,1,1,1,1,1,1,1,1,1,1,1,1,1,1,1,1,1,1,1,1,1,1,1,1,1,1,1,1,1,1,1]
[]
[null,null,null,"Sources","DOE Commercial Refrigeration Equipment 2014 Final Rule, Technical Support Document: Final Rule National Impact Analysis Spreadsheet, 'Market Share Inputs' tab, cells GJ3:GR35, http://www.regulations.gov/#!documentDetail;D=EERE-2010-BT-STD-0003-0101"]
[]
[]
[]
[]
[null,null,null,{"$f":"'Product Classes'!O27","v":"HCT.SC.L"}]
[]
[null,null,null,"PRE-Case",null,"Static Distribution"]
[null,null,null,"Efficiency Level","EL (kWh/year)",2006,null,1990,{"$f":"H607+1","v":1991},{"$f":"I607+1","v":1992},{"$f":"J607+1","v":1993},{"$f":"K607+1","v":1994},{"$f":"L607+1","v":1995},{"$f":"M607+1","v":1996},{"$f":"N607+1","v":1997},{"$f":"O607+1","v":1998},{"$f":"P607+1","v":1999},{"$f":"Q607+1","v":2000},{"$f":"R607+1","v":2001},{"$f":"S607+1","v":2002},{"$f":"T607+1","v":2003},{"$f":"U607+1","v":2004},{"$f":"V607+1","v":2005},{"$f":"W607+1","v":2006},{"$f":"X607+1","v":2007},{"$f":"Y607+1","v":2008},{"$f":"Z607+1","v":2009},{"$f":"AA607+1","v":2010},{"$f":"AB607+1","v":2011},{"$f":"AC607+1","v":2012},{"$f":"AD607+1","v":2013},{"$f":"AE607+1","v":2014},{"$f":"AF607+1","v":2015},{"$f":"AG607+1","v":2016},{"$f":"AH607+1","v":2017},{"$f":"AI607+1","v":2018},{"$f":"AJ607+1","v":2019},{"$f":"AK607+1","v":2020},{"$f":"AL607+1","v":2021},{"$f":"AM607+1","v":2022},{"$f":"AN607+1","v":2023},{"$f":"AO607+1","v":2024},{"$f":"AP607+1","v":2025},{"$f":"AQ607+1","v":2026},{"$f":"AR607+1","v":2027},{"$f":"AS607+1","v":2028},{"$f":"AT607+1","v":2029},{"$f":"AU607+1","v":2030},{"$f":"AV607+1","v":2031},{"$f":"AW607+1","v":2032},{"$f":"AX607+1","v":2033},{"$f":"AY607+1","v":2034}]
[null,null,null,{"$f":"'Efficiency Levels'!C318","v":"EL0"},{"$f":"'Efficiency Levels'!D318","v":10071.180477528089},1,null,{"$f":"$F608","v":1},1,1,1,1,1,1,1,1,1,1,1,1,1,1,1,{"$f":"$F608","v":1},1,1,1,{"$f":"AC608","v":0},0,0,0,0,0,{"$f":"AI608","v":0},0,0,0,0,0,0,0,0,0,0,0,0,0,0,0,0,0,0]
[null,null,null,{"$f":"'Efficiency Levels'!C319","v":"EL1"},{"$f":"'Efficiency Levels'!D319","v":8767.0231741573043},0,null,0,0,0,0,0,0,0,0,0,0,0,0,0,0,0,0,0,0,0,0,0,0,0,0,0,0,{"$f":"AI609","v":0},0,0,0,0,0,{"$f":"$F609","v":0},0,0,0,0,0,0,0,0,0,0,0,0]
[null,null,null,{"$f":"'Efficiency Levels'!C320","v":"EL2"},{"$f":"'Efficiency Levels'!D320","v":1177.3347067098357},0,null,0,0,0,0,0,0,0,0,0,0,0,0,0,0,0,0,0,0,0,0,0.6,0.6,0.6,0.6,0.6,0.6,0.6,0.6,0.6,0.60000000000000009,0.6,0.59999999999999987,0.6,0.60000000000000009,0.60000000000000009,0.60000000000000009,0.60000000000000009,0.60000000000000009,0.60000000000000009,0.60000000000000009,0.60000000000000009,0.60000000000000009,0.60000000000000009,0.60000000000000009,0.60000000000000009]
[null,null,null,{"$f":"'Efficiency Levels'!C321","v":"EL3"},{"$f":"'Efficiency Levels'!D321","v":647.15261291681327},0,null,0,0,0,0,0,0,0,0,0,0,0,0,0,0,0,0,0,0,0,0,0,0,0,0,0,0,0,0,0,0,0,0,0,0,0,0,0,0,0,0,0,0,0,0,0]
[null,null,null,{"$f":"'Efficiency Levels'!C322","v":"EL4"},{"$f":"'Efficiency Levels'!D322","v":619.89377591213793},0,null,0,0,0,0,0,0,0,0,0,0,0,0,0,0,0,0,0,0,0,0,0,0,0,0,0,0,0,0,0,0,0,0,0,0,0,0,0,0,0,0,0,0,0,0,0]
[null,null,null,{"$f":"'Efficiency Levels'!C323","v":"EL5"},{"$f":"'Efficiency Levels'!D323","v":585.93495540126287},0,null,0,0,0,0,0,0,0,0,0,0,0,0,0,0,0,0,0,0,0,0,0.30000000000000004,0.30000000000000004,0.30000000000000004,0.30000000000000004,0.30000000000000004,0.30000000000000004,0.30000000000000004,0.30000000000000004,0.25,0.2,0.15000000000000002,0.10000000000000003,5.0000000000000044E-2,0,0,0,0,0,0,0,0,0,0,0,0]
[null,null,null,{"$f":"'Efficiency Levels'!C324","v":"EL6"},{"$f":"'Efficiency Levels'!D324","v":553.19034694746915},0,null,0,0,0,0,0,0,0,0,0,0,0,0,0,0,0,0,0,0,0,0,0,0,0,0,0,0,0,0,0,0,0,0,0,0,0,0,0,0,0,0,0,0,0,0,0]
[null,null,null,{"$f":"'Efficiency Levels'!C325","v":"EL7"},{"$f":"'Efficiency Levels'!D325","v":542.63528346322255},0,null,0,0,0,0,0,0,0,0,0,0,0,0,0,0,0,0,0,0,0,0,0,0,0,0,0,0,0,0,0,0,0,0,0,0,0,0,0,0,0,0,0,0,0,0,0]
[null,null,null,{"$f":"'Efficiency Levels'!C326","v":"EL8"},{"$f":"'Efficiency Levels'!D326","v":499.32753956950955},0,null,0,0,0,0,0,0,0,0,0,0,0,0,0,0,0,0,0,0,0,0,0,0,0,0,0,0,0,0,0,0,0,0,0,0,0,0,0,0,0,0,0,0,0,0,0]
[null,null,null,{"$f":"'Efficiency Levels'!C327","v":"EL9"},{"$f":"'Efficiency Levels'!D327","v":378.96740156332174},0,null,0,0,0,0,0,0,0,0,0,0,0,0,0,0,0,0,0,0,0,0,0.1,0.1,0.1,0.1,0.1,0.1,0.1,0.1,0.15000000000000002,0.2,0.25,0.3,0.35,0.39999999999999997,0.39999999999999997,0.39999999999999997,0.39999999999999997,0.39999999999999997,0.39999999999999997,0.39999999999999997,0.39999999999999997,0.39999999999999997,0.39999999999999997,0.39999999999999997,0.39999999999999997]
[null,null,null,"TOTAL",null,{"$f":"SUM(F608:F617)","v":1},null,{"$f":"SUM(H608:H617)","v":1},{"$f":"SUM(I608:I617)","v":1},1,1,1,1,1,1,1,1,1,1,1,1,1,1,1,1,1,1,1,1,1,1,1,1,1,1,1,1,1,1,1,1,1,1,1,1,1,1,1,1,1,1,1]
[]
[null,null,null,"POST-Case"]
[null,null,null,"Efficiency Level","EL (kWh/year)",null,null,1990,{"$f":"H621+1","v":1991},{"$f":"I621+1","v":1992},{"$f":"J621+1","v":1993},{"$f":"K621+1","v":1994},{"$f":"L621+1","v":1995},{"$f":"M621+1","v":1996},{"$f":"N621+1","v":1997},{"$f":"O621+1","v":1998},{"$f":"P621+1","v":1999},{"$f":"Q621+1","v":2000},{"$f":"R621+1","v":2001},{"$f":"S621+1","v":2002},{"$f":"T621+1","v":2003},{"$f":"U621+1","v":2004},{"$f":"V621+1","v":2005},{"$f":"X607","v":2006},2007,2008,2009,2010,2011,2012,2013,2014,2015,2016,2017,2018,2019,2020,2021,2022,2023,2024,2025,2026,2027,2028,2029,2030,2031,2032,2033,2034]
[null,null,null,{"$f":"D608","v":"EL0"},{"$f":"E608","v":10071.180477528089},null,null,{"$f":"H608","v":1},1,1,1,1,1,1,1,1,1,1,1,1,1,1,1,1,1,1,1,0,0,0,0,0,0,0,0,0,0,0,0,0,0,0,0,0,0,0,0,0,0,0,0,0]
[null,null,null,{"$f":"D609","v":"EL1"},8767.0231741573043,null,null,0,0,0,0,0,0,0,0,0,0,0,0,0,0,0,0,0,0,0,0,0,0,0,0,0,0,0,0,0,0,0,0,0,0,0,0,0,0,0,0,0,0,0,0,0]
[null,null,null,{"$f":"D610","v":"EL2"},1177.3347067098357,null,null,0,0,0,0,0,0,0,0,0,0,0,0,0,0,0,0,0,0,0,0,0.6,0.6,0.6,0.6,0.6,0.6,0.6,0,0,0,0,0,0,0,0,0,0,0,0,0,0,0,0,0,0]
[null,null,null,{"$f":"D611","v":"EL3"},647.15261291681327,null,null,0,0,0,0,0,0,0,0,0,0,0,0,0,0,0,0,0,0,0,0,0,0,0,0,0,0,0,0,0,0,0,0,0,0,0,0,0,0,0,0,0,0,0,0,0]
[null,null,null,{"$f":"D612","v":"EL4"},619.89377591213793,null,null,0,0,0,0,0,0,0,0,0,0,0,0,0,0,0,0,0,0,0,0,0,0,0,0,0,0,0,0,0,0,0,0,0,0,0,0,0,0,0,0,0,0,0,0,0]
[null,null,null,{"$f":"D613","v":"EL5"},585.93495540126287,null,null,0,0,0,0,0,0,0,0,0,0,0,0,0,0,0,0,0,0,0,0,0.30000000000000004,0.30000000000000004,0.30000000000000004,0.30000000000000004,0.30000000000000004,0.30000000000000004,0.30000000000000004,{"$f":"SUM(AI608:AI613)","v":0.9},{"$f":"SUM(AJ608:AJ613)","v":0.85},0.8,0.75,0.7,0.65,0.60000000000000009,0.60000000000000009,0.60000000000000009,0.60000000000000009,0.60000000000000009,0.60000000000000009,0.60000000000000009,0.60000000000000009,0.60000000000000009,0.60000000000000009,0.60000000000000009,0.60000000000000009]
[null,null,null,{"$f":"D614","v":"EL6"},553.19034694746915,null,null,0,0,0,0,0,0,0,0,0,0,0,0,0,0,0,0,0,0,0,0,0,0,0,0,0,0,0,{"$f":"AI614","v":0},{"$f":"AJ614","v":0},0,0,0,0,0,0,0,0,0,0,0,0,0,0,0,0]
[null,null,null,{"$f":"D615","v":"EL7"},542.63528346322255,null,null,{"$f":"H615","v":0},0,0,0,0,0,0,0,0,0,0,0,0,0,0,0,0,0,0,0,0,0,0,0,0,0,0,0,{"$f":"AJ615","v":0},0,0,0,0,0,0,0,0,0,0,0,0,0,0,0,0]
[null,null,null,{"$f":"D616","v":"EL8"},499.32753956950955,null,null,{"$f":"H616","v":0},0,0,0,0,0,0,0,0,0,0,0,0,0,0,0,0,0,0,0,0,0,0,0,0,0,0,0,{"$f":"AJ616","v":0},0,0,0,0,0,0,0,0,0,0,0,0,0,0,0,0]
[null,null,null,{"$f":"D617","v":"EL9"},378.96740156332174,null,null,{"$f":"H617","v":0},0,0,0,0,0,0,0,0,0,0,0,0,0,0,0,0,0,0,0,0.1,0.1,0.1,0.1,0.1,0.1,0.1,0.1,{"$f":"AJ617","v":0.15000000000000002},0.2,0.25,0.3,0.35,0.39999999999999997,0.39999999999999997,0.39999999999999997,0.39999999999999997,0.39999999999999997,0.39999999999999997,0.39999999999999997,0.39999999999999997,0.39999999999999997,0.39999999999999997,0.39999999999999997,0.39999999999999997]
[null,null,null,"TOTAL",null,null,null,{"$f":"SUM(H622:H631)","v":1},{"$f":"SUM(I622:I631)","v":1},1,1,1,1,1,1,1,1,1,1,1,1,1,1,1,1,1,1,1,1,1,1,1,1,1,1,1,1,1,1,1,1,1,1,1,1,1,1,1,1,1,1,1]
[]
[null,null,null,"Sources","DOE Commercial Refrigeration Equipment 2014 Final Rule, Technical Support Document: Final Rule National Impact Analysis Spreadsheet, 'Market Share Inputs' tab, cells GT3:HB35, http://www.regulations.gov/#!documentDetail;D=EERE-2010-BT-STD-0003-0101"]
[]
[]
[]
[]
[null,null,null,{"$f":"'Product Classes'!O28","v":"HCS.SC.M"}]
[]
[null,null,null,"PRE-Case",null,"Static Distribution"]
[null,null,null,"Efficiency Level","EL (kWh/year)",2006,null,1990,{"$f":"H642+1","v":1991},{"$f":"I642+1","v":1992},{"$f":"J642+1","v":1993},{"$f":"K642+1","v":1994},{"$f":"L642+1","v":1995},{"$f":"M642+1","v":1996},{"$f":"N642+1","v":1997},{"$f":"O642+1","v":1998},{"$f":"P642+1","v":1999},{"$f":"Q642+1","v":2000},{"$f":"R642+1","v":2001},{"$f":"S642+1","v":2002},{"$f":"T642+1","v":2003},{"$f":"U642+1","v":2004},{"$f":"V642+1","v":2005},{"$f":"W642+1","v":2006},{"$f":"X642+1","v":2007},{"$f":"Y642+1","v":2008},{"$f":"Z642+1","v":2009},{"$f":"AA642+1","v":2010},{"$f":"AB642+1","v":2011},{"$f":"AC642+1","v":2012},{"$f":"AD642+1","v":2013},{"$f":"AE642+1","v":2014},{"$f":"AF642+1","v":2015},{"$f":"AG642+1","v":2016},{"$f":"AH642+1","v":2017},{"$f":"AI642+1","v":2018},{"$f":"AJ642+1","v":2019},{"$f":"AK642+1","v":2020},{"$f":"AL642+1","v":2021},{"$f":"AM642+1","v":2022},{"$f":"AN642+1","v":2023},{"$f":"AO642+1","v":2024},{"$f":"AP642+1","v":2025},{"$f":"AQ642+1","v":2026},{"$f":"AR642+1","v":2027},{"$f":"AS642+1","v":2028},{"$f":"AT642+1","v":2029},{"$f":"AU642+1","v":2030},{"$f":"AV642+1","v":2031},{"$f":"AW642+1","v":2032},{"$f":"AX642+1","v":2033},{"$f":"AY642+1","v":2034}]
[null,null,null,{"$f":"'Efficiency Levels'!C336","v":"EL0"},{"$f":"'Efficiency Levels'!D336","v":2187.6807291666664},1,null,{"$f":"$F643","v":1},1,1,1,1,1,1,1,1,1,1,1,1,1,1,1,{"$f":"$F643","v":1},1,1,1,{"$f":"AC643","v":0},{"$f":"AD643","v":0},0,0,0,0,{"$f":"AI643","v":0},0,0,0,0,0,0,0,0,0,0,0,0,0,0,0,0,0,0]
[null,null,null,{"$f":"'Efficiency Levels'!C337","v":"EL1"},{"$f":"'Efficiency Levels'!D337","v":2187.6807291666664},0,null,0,0,0,0,0,0,0,0,0,0,0,0,0,0,0,0,0,0,0,0,{"$f":"AC644","v":0},0,0,0,0,0,{"$f":"AI644","v":0},0,0,0,0,0,{"$f":"$F644","v":0},0,0,0,0,0,0,0,0,0,0,0,0]
[null,null,null,{"$f":"'Efficiency Levels'!C338","v":"EL2"},{"$f":"'Efficiency Levels'!D338","v":518.67305965786079},0,null,0,0,0,0,0,0,0,0,0,0,0,0,0,0,0,0,0,0,0,0,{"$f":"AC645","v":0.9},0.9,0.9,0.9,0.9,0.9,0.9,0.9,0.85,0.8,0.75,0.7,0.65,0.60000000000000009,0.60000000000000009,0.60000000000000009,0.60000000000000009,0.60000000000000009,0.60000000000000009,0.60000000000000009,0.60000000000000009,0.60000000000000009,0.60000000000000009,0.60000000000000009,0.60000000000000009]
[null,null,null,{"$f":"'Efficiency Levels'!C339","v":"EL3"},{"$f":"'Efficiency Levels'!D339","v":492.88166343094434},0,null,0,0,0,0,0,0,0,0,0,0,0,0,0,0,0,0,0,0,0,0,{"$f":"AC646","v":0},0,0,0,0,0,0,0,0,0,0,0,0,0,0,0,0,0,0,0,0,0,0,0,0]
[null,null,null,{"$f":"'Efficiency Levels'!C340","v":"EL4"},{"$f":"'Efficiency Levels'!D340","v":471.00926419262817},0,null,0,0,0,0,0,0,0,0,0,0,0,0,0,0,0,0,0,0,0,0,{"$f":"AC647","v":0},0,0,0,0,0,0,0,0,0,0,0,0,0,0,0,0,0,0,0,0,0,0,0,0]
[null,null,null,{"$f":"'Efficiency Levels'!C341","v":"EL5"},{"$f":"'Efficiency Levels'!D341","v":443.76082069708286},0,null,0,0,0,0,0,0,0,0,0,0,0,0,0,0,0,0,0,0,0,0,{"$f":"AC648","v":0},0,0,0,0,0,0,0,0,0,0,0,0,0,0,0,0,0,0,0,0,0,0,0,0]
[null,null,null,{"$f":"'Efficiency Levels'!C342","v":"EL6"},{"$f":"'Efficiency Levels'!D342","v":438.64988490318717},0,null,0,0,0,0,0,0,0,0,0,0,0,0,0,0,0,0,0,0,0,0,{"$f":"AC649","v":0},0,0,0,0,0,0,0,0,0,0,0,0,0,0,0,0,0,0,0,0,0,0,0,0]
[null,null,null,{"$f":"'Efficiency Levels'!C343","v":"EL7"},{"$f":"'Efficiency Levels'!D343","v":406.504554549734},0,null,0,0,0,0,0,0,0,0,0,0,0,0,0,0,0,0,0,0,0,0,{"$f":"AC650","v":0},0,0,0,0,0,0,0,0,0,0,0,0,0,0,0,0,0,0,0,0,0,0,0,0]
[null,null,null,{"$f":"'Efficiency Levels'!C344","v":"EL8"},{"$f":"'Efficiency Levels'!D344","v":340.87839952094117},0,null,0,0,0,0,0,0,0,0,0,0,0,0,0,0,0,0,0,0,0,0,{"$f":"AC651","v":0.1},0.1,0.1,0.1,0.1,0.1,0.1,0.1,0.15000000000000002,0.2,0.25,0.3,0.35,0.39999999999999997,0.39999999999999997,0.39999999999999997,0.39999999999999997,0.39999999999999997,0.39999999999999997,0.39999999999999997,0.39999999999999997,0.39999999999999997,0.39999999999999997,0.39999999999999997,0.39999999999999997]
[null,null,null,{"$f":"'Efficiency Levels'!C345","v":"EL9"},{"$f":"'Efficiency Levels'!D345","v":340.87839952094117},0,null,0,0,0,0,0,0,0,0,0,0,0,0,0,0,0,0,0,0,0,0,{"$f":"AC652","v":0},0,0,0,0,0,0,0,0,0,0,0,0,0,0,0,0,0,0,0,0,0,0,0,0]
[null,null,null,"TOTAL",null,{"$f":"SUM(F643:F652)","v":1},null,{"$f":"SUM(H643:H652)","v":1},{"$f":"SUM(I643:I652)","v":1},1,1,1,1,1,1,1,1,1,1,1,1,1,1,1,1,1,1,1,1,1,1,1,1,1,1,1,1,1,1,1,1,1,1,1,1,1,1,1,1,1,1,1]
[]
[null,null,null,"POST-Case"]
[null,null,null,"Efficiency Level","EL (kWh/year)",null,null,1990,{"$f":"H656+1","v":1991},{"$f":"I656+1","v":1992},{"$f":"J656+1","v":1993},{"$f":"K656+1","v":1994},{"$f":"L656+1","v":1995},{"$f":"M656+1","v":1996},{"$f":"N656+1","v":1997},{"$f":"O656+1","v":1998},{"$f":"P656+1","v":1999},{"$f":"Q656+1","v":2000},{"$f":"R656+1","v":2001},{"$f":"S656+1","v":2002},{"$f":"T656+1","v":2003},{"$f":"U656+1","v":2004},{"$f":"V656+1","v":2005},{"$f":"X642","v":2006},2007,2008,2009,2010,2011,2012,2013,2014,2015,2016,2017,2018,2019,2020,2021,2022,2023,2024,2025,2026,2027,2028,2029,2030,2031,2032,2033,2034]
[null,null,null,{"$f":"D643","v":"EL0"},{"$f":"E643","v":2187.6807291666664},null,null,{"$f":"H643","v":1},1,1,1,1,1,1,1,1,1,1,1,1,1,1,1,1,1,1,1,0,0,0,0,0,0,0,0,0,0,0,0,0,0,0,0,0,0,0,0,0,0,0,0,0]
[null,null,null,{"$f":"D644","v":"EL1"},2187.6807291666664,null,null,0,0,0,0,0,0,0,0,0,0,0,0,0,0,0,0,0,0,0,0,0,0,0,0,0,0,0,0,0,0,0,0,0,0,0,0,0,0,0,0,0,0,0,0,0]
[null,null,null,{"$f":"D645","v":"EL2"},518.67305965786079,null,null,0,0,0,0,0,0,0,0,0,0,0,0,0,0,0,0,0,0,0,0,0.9,0.9,0.9,0.9,0.9,0.9,0.9,0,0,0,0,0,0,0,0,0,0,0,0,0,0,0,0,0,0]
[null,null,null,{"$f":"D646","v":"EL3"},492.88166343094434,null,null,0,0,0,0,0,0,0,0,0,0,0,0,0,0,0,0,0,0,0,0,0,0,0,0,0,0,0,0,0,0,0,0,0,0,0,0,0,0,0,0,0,0,0,0,0]
[null,null,null,{"$f":"D647","v":"EL4"},471.00926419262817,null,null,0,0,0,0,0,0,0,0,0,0,0,0,0,0,0,0,0,0,0,0,0,0,0,0,0,0,0,0,0,0,0,0,0,0,0,0,0,0,0,0,0,0,0,0,0]
[null,null,null,{"$f":"D648","v":"EL5"},443.76082069708286,null,null,0,0,0,0,0,0,0,0,0,0,0,0,0,0,0,0,0,0,0,0,0,0,0,0,0,0,0,{"$f":"SUM(AI643:AI648)","v":0.9},{"$f":"SUM(AJ643:AJ648)","v":0.85},0.8,0.75,0.7,0.65,0.60000000000000009,0.60000000000000009,0.60000000000000009,0.60000000000000009,0.60000000000000009,0.60000000000000009,0.60000000000000009,0.60000000000000009,0.60000000000000009,0.60000000000000009,0.60000000000000009,0.60000000000000009]
[null,null,null,{"$f":"D649","v":"EL6"},438.64988490318717,null,null,0,0,0,0,0,0,0,0,0,0,0,0,0,0,0,0,0,0,0,0,0,0,0,0,0,0,0,{"$f":"AI649","v":0},{"$f":"AJ649","v":0},0,0,0,0,0,0,0,0,0,0,0,0,0,0,0,0]
[null,null,null,{"$f":"D650","v":"EL7"},406.504554549734,null,null,{"$f":"H650","v":0},0,0,0,0,0,0,0,0,0,0,0,0,0,0,0,0,0,0,0,0,0,0,0,0,0,0,0,{"$f":"AJ650","v":0},0,0,0,0,0,0,0,0,0,0,0,0,0,0,0,0]
[null,null,null,{"$f":"D651","v":"EL8"},340.87839952094117,null,null,{"$f":"H651","v":0},0,0,0,0,0,0,0,0,0,0,0,0,0,0,0,0,0,0,0,0.1,0.1,0.1,0.1,0.1,0.1,0.1,0.1,{"$f":"AJ651","v":0.15000000000000002},0.2,0.25,0.3,0.35,0.39999999999999997,0.39999999999999997,0.39999999999999997,0.39999999999999997,0.39999999999999997,0.39999999999999997,0.39999999999999997,0.39999999999999997,0.39999999999999997,0.39999999999999997,0.39999999999999997,0.39999999999999997]
[null,null,null,{"$f":"D652","v":"EL9"},340.87839952094117,null,null,{"$f":"H652","v":0},0,0,0,0,0,0,0,0,0,0,0,0,0,0,0,0,0,0,0,0,0,0,0,0,0,0,0,{"$f":"AJ652","v":0},0,0,0,0,0,0,0,0,0,0,0,0,0,0,0,0]
[null,null,null,"TOTAL",null,null,null,{"$f":"SUM(H657:H666)","v":1},{"$f":"SUM(I657:I666)","v":1},1,1,1,1,1,1,1,1,1,1,1,1,1,1,1,1,1,1,1,1,1,1,1,1,1,1,1,1,1,1,1,1,1,1,1,1,1,1,1,1,1,1,1]
[]
[null,null,null,"Sources","DOE Commercial Refrigeration Equipment 2014 Final Rule, Technical Support Document: Final Rule National Impact Analysis Spreadsheet, 'Market Share Inputs' tab, cells HN3:HV35, http://www.regulations.gov/#!documentDetail;D=EERE-2010-BT-STD-0003-0101"]
[]
[]
[]
[]
[null,null,null,{"$f":"'Product Classes'!O29","v":"HCS.SC.L"}]
[]
[null,null,null,"PRE-Case",null,"Static Distribution"]
[null,null,null,"Efficiency Level","EL (kWh/year)",2006,null,1990,{"$f":"H677+1","v":1991},{"$f":"I677+1","v":1992},{"$f":"J677+1","v":1993},{"$f":"K677+1","v":1994},{"$f":"L677+1","v":1995},{"$f":"M677+1","v":1996},{"$f":"N677+1","v":1997},{"$f":"O677+1","v":1998},{"$f":"P677+1","v":1999},{"$f":"Q677+1","v":2000},{"$f":"R677+1","v":2001},{"$f":"S677+1","v":2002},{"$f":"T677+1","v":2003},{"$f":"U677+1","v":2004},{"$f":"V677+1","v":2005},{"$f":"W677+1","v":2006},{"$f":"X677+1","v":2007},{"$f":"Y677+1","v":2008},{"$f":"Z677+1","v":2009},{"$f":"AA677+1","v":2010},{"$f":"AB677+1","v":2011},{"$f":"AC677+1","v":2012},{"$f":"AD677+1","v":2013},{"$f":"AE677+1","v":2014},{"$f":"AF677+1","v":2015},{"$f":"AG677+1","v":2016},{"$f":"AH677+1","v":2017},{"$f":"AI677+1","v":2018},{"$f":"AJ677+1","v":2019},{"$f":"AK677+1","v":2020},{"$f":"AL677+1","v":2021},{"$f":"AM677+1","v":2022},{"$f":"AN677+1","v":2023},{"$f":"AO677+1","v":2024},{"$f":"AP677+1","v":2025},{"$f":"AQ677+1","v":2026},{"$f":"AR677+1","v":2027},{"$f":"AS677+1","v":2028},{"$f":"AT677+1","v":2029},{"$f":"AU677+1","v":2030},{"$f":"AV677+1","v":2031},{"$f":"AW677+1","v":2032},{"$f":"AX677+1","v":2033},{"$f":"AY677+1","v":2034}]
[null,null,null,{"$f":"'Efficiency Levels'!C354","v":"EL0"},{"$f":"'Efficiency Levels'!D354","v":5076.8629213483146},1,null,{"$f":"$F678","v":1},1,1,1,1,1,1,1,1,1,1,1,1,1,1,1,{"$f":"$F678","v":1},1,1,1,{"$f":"AC678","v":0},0,0,0,0,0,{"$f":"AI678","v":0},0,0,0,0,0,0,0,0,0,0,0,0,0,0,0,0,0,0]
[null,null,null,{"$f":"'Efficiency Levels'!C355","v":"EL1"},{"$f":"'Efficiency Levels'!D355","v":4514.5168539325841},0,null,0,0,0,0,0,0,0,0,0,0,0,0,0,0,0,0,0,0,0,0,0,0,0,0,0,0,{"$f":"AI679","v":0},0,0,0,0,0,{"$f":"$F679","v":0},0,0,0,0,0,0,0,0,0,0,0,0]
[null,null,null,{"$f":"'Efficiency Levels'!C356","v":"EL2"},{"$f":"'Efficiency Levels'!D356","v":838.32342634208305},0,null,0,0,0,0,0,0,0,0,0,0,0,0,0,0,0,0,0,0,0,0,0.9,0.9,0.9,0.9,0.9,0.9,0.9,0.9,0.85,0.8,0.75,0.7,0.65,0.60000000000000009,0.60000000000000009,0.60000000000000009,0.60000000000000009,0.60000000000000009,0.60000000000000009,0.60000000000000009,0.60000000000000009,0.60000000000000009,0.60000000000000009,0.60000000000000009,0.60000000000000009]
[null,null,null,{"$f":"'Efficiency Levels'!C357","v":"EL3"},{"$f":"'Efficiency Levels'!D357","v":773.62457103579368},0,null,0,0,0,0,0,0,0,0,0,0,0,0,0,0,0,0,0,0,0,0,0,0,0,0,0,0,0,0,0,0,0,0,0,0,0,0,0,0,0,0,0,0,0,0,0]
[null,null,null,{"$f":"'Efficiency Levels'!C358","v":"EL4"},{"$f":"'Efficiency Levels'!D358","v":724.9915497690273},0,null,0,0,0,0,0,0,0,0,0,0,0,0,0,0,0,0,0,0,0,0,0,0,0,0,0,0,0,0,0,0,0,0,0,0,0,0,0,0,0,0,0,0,0,0,0]
[null,null,null,{"$f":"'Efficiency Levels'!C359","v":"EL5"},{"$f":"'Efficiency Levels'!D359","v":664.40495761851025},0,null,0,0,0,0,0,0,0,0,0,0,0,0,0,0,0,0,0,0,0,0,0,0,0,0,0,0,0,0,0,0,0,0,0,0,0,0,0,0,0,0,0,0,0,0,0]
[null,null,null,{"$f":"'Efficiency Levels'!C360","v":"EL6"},{"$f":"'Efficiency Levels'!D360","v":652.06659423498593},0,null,0,0,0,0,0,0,0,0,0,0,0,0,0,0,0,0,0,0,0,0,0,0,0,0,0,0,0,0,0,0,0,0,0,0,0,0,0,0,0,0,0,0,0,0,0]
[null,null,null,{"$f":"'Efficiency Levels'!C361","v":"EL7"},{"$f":"'Efficiency Levels'!D361","v":561.45559653886369},0,null,0,0,0,0,0,0,0,0,0,0,0,0,0,0,0,0,0,0,0,0,0,0,0,0,0,0,0,0,0,0,0,0,0,0,0,0,0,0,0,0,0,0,0,0,0]
[null,null,null,{"$f":"'Efficiency Levels'!C362","v":"EL8"},{"$f":"'Efficiency Levels'!D362","v":309.63106801229503},0,null,0,0,0,0,0,0,0,0,0,0,0,0,0,0,0,0,0,0,0,0,0.1,0.1,0.1,0.1,0.1,0.1,0.1,0.1,0.15000000000000002,0.2,0.25,0.3,0.35,0.39999999999999997,0.39999999999999997,0.39999999999999997,0.39999999999999997,0.39999999999999997,0.39999999999999997,0.39999999999999997,0.39999999999999997,0.39999999999999997,0.39999999999999997,0.39999999999999997,0.39999999999999997]
[null,null,null,{"$f":"'Efficiency Levels'!C363","v":"EL9"},{"$f":"'Efficiency Levels'!D363","v":309.63106801229503},0,null,0,0,0,0,0,0,0,0,0,0,0,0,0,0,0,0,0,0,0,0,0,0,0,0,0,0,0,0,0,0,0,0,0,0,0,0,0,0,0,0,0,0,0,0,0]
[null,null,null,"TOTAL",null,{"$f":"SUM(F678:F687)","v":1},null,{"$f":"SUM(H678:H687)","v":1},{"$f":"SUM(I678:I687)","v":1},1,1,1,1,1,1,1,1,1,1,1,1,1,1,1,1,1,1,1,1,1,1,1,1,1,1,1,1,1,1,1,1,1,1,1,1,1,1,1,1,1,1,1]
[]
[null,null,null,"POST-Case"]
[null,null,null,"Efficiency Level","EL (kWh/year)",null,null,1990,{"$f":"H691+1","v":1991},{"$f":"I691+1","v":1992},{"$f":"J691+1","v":1993},{"$f":"K691+1","v":1994},{"$f":"L691+1","v":1995},{"$f":"M691+1","v":1996},{"$f":"N691+1","v":1997},{"$f":"O691+1","v":1998},{"$f":"P691+1","v":1999},{"$f":"Q691+1","v":2000},{"$f":"R691+1","v":2001},{"$f":"S691+1","v":2002},{"$f":"T691+1","v":2003},{"$f":"U691+1","v":2004},{"$f":"V691+1","v":2005},{"$f":"X677","v":2006},2007,2008,2009,2010,2011,2012,2013,2014,2015,2016,2017,2018,2019,2020,2021,2022,2023,2024,2025,2026,2027,2028,2029,2030,2031,2032,2033,2034]
[null,null,null,{"$f":"D678","v":"EL0"},{"$f":"E678","v":5076.8629213483146},null,null,{"$f":"H678","v":1},1,1,1,1,1,1,1,1,1,1,1,1,1,1,1,1,1,1,1,0,0,0,0,0,0,0,0,0,0,0,0,0,0,0,0,0,0,0,0,0,0,0,0,0]
[null,null,null,{"$f":"D679","v":"EL1"},4514.5168539325841,null,null,0,0,0,0,0,0,0,0,0,0,0,0,0,0,0,0,0,0,0,0,0,0,0,0,0,0,0,0,0,0,0,0,0,0,0,0,0,0,0,0,0,0,0,0,0]
[null,null,null,{"$f":"D680","v":"EL2"},838.32342634208305,null,null,0,0,0,0,0,0,0,0,0,0,0,0,0,0,0,0,0,0,0,0,0.9,0.9,0.9,0.9,0.9,0.9,0.9,0,0,0,0,0,0,0,0,0,0,0,0,0,0,0,0,0,0]
[null,null,null,{"$f":"D681","v":"EL3"},773.62457103579368,null,null,0,0,0,0,0,0,0,0,0,0,0,0,0,0,0,0,0,0,0,0,0,0,0,0,0,0,0,0,0,0,0,0,0,0,0,0,0,0,0,0,0,0,0,0,0]
[null,null,null,{"$f":"D682","v":"EL4"},724.9915497690273,null,null,0,0,0,0,0,0,0,0,0,0,0,0,0,0,0,0,0,0,0,0,0,0,0,0,0,0,0,0,0,0,0,0,0,0,0,0,0,0,0,0,0,0,0,0,0]
[null,null,null,{"$f":"D683","v":"EL5"},664.40495761851025,null,null,0,0,0,0,0,0,0,0,0,0,0,0,0,0,0,0,0,0,0,0,0,0,0,0,0,0,0,{"$f":"SUM(AI678:AI683)","v":0.9},{"$f":"SUM(AJ678:AJ683)","v":0.85},0.8,0.75,0.7,0.65,0.60000000000000009,0.60000000000000009,0.60000000000000009,0.60000000000000009,0.60000000000000009,0.60000000000000009,0.60000000000000009,0.60000000000000009,0.60000000000000009,0.60000000000000009,0.60000000000000009,0.60000000000000009]
[null,null,null,{"$f":"D684","v":"EL6"},652.06659423498593,null,null,0,0,0,0,0,0,0,0,0,0,0,0,0,0,0,0,0,0,0,0,0,0,0,0,0,0,0,{"$f":"AI684","v":0},{"$f":"AJ684","v":0},0,0,0,0,0,0,0,0,0,0,0,0,0,0,0,0]
[null,null,null,{"$f":"D685","v":"EL7"},561.45559653886369,null,null,{"$f":"H685","v":0},0,0,0,0,0,0,0,0,0,0,0,0,0,0,0,0,0,0,0,0,0,0,0,0,0,0,0,{"$f":"AJ685","v":0},0,0,0,0,0,0,0,0,0,0,0,0,0,0,0,0]
[null,null,null,{"$f":"D686","v":"EL8"},309.63106801229503,null,null,{"$f":"H686","v":0},0,0,0,0,0,0,0,0,0,0,0,0,0,0,0,0,0,0,0,0.1,0.1,0.1,0.1,0.1,0.1,0.1,0.1,{"$f":"AJ686","v":0.15000000000000002},0.2,0.25,0.3,0.35,0.39999999999999997,0.39999999999999997,0.39999999999999997,0.39999999999999997,0.39999999999999997,0.39999999999999997,0.39999999999999997,0.39999999999999997,0.39999999999999997,0.39999999999999997,0.39999999999999997,0.39999999999999997]
[null,null,null,{"$f":"D687","v":"EL9"},309.63106801229503,null,null,{"$f":"H687","v":0},0,0,0,0,0,0,0,0,0,0,0,0,0,0,0,0,0,0,0,0,0,0,0,0,0,0,0,{"$f":"AJ687","v":0},0,0,0,0,0,0,0,0,0,0,0,0,0,0,0,0]
[null,null,null,"TOTAL",null,null,null,{"$f":"SUM(H692:H701)","v":1},{"$f":"SUM(I692:I701)","v":1},1,1,1,1,1,1,1,1,1,1,1,1,1,1,1,1,1,1,1,1,1,1,1,1,1,1,1,1,1,1,1,1,1,1,1,1,1,1,1,1,1,1,1]
[]
[null,null,null,"Sources","DOE Commercial Refrigeration Equipment 2014 Final Rule, Technical Support Document: Final Rule National Impact Analysis Spreadsheet, 'Market Share Inputs' tab, cells HX3:IF35, http://www.regulations.gov/#!documentDetail;D=EERE-2010-BT-STD-0003-0101"]
[]
[]
[]
[]
[null,null,null,{"$f":"'Product Classes'!O30","v":"SOC.SC.M"}]
[]
[null,null,null,"PRE-Case",null,"Static Distribution"]
[null,null,null,"Efficiency Level","EL (kWh/year)",2006,null,1990,{"$f":"H712+1","v":1991},{"$f":"I712+1","v":1992},{"$f":"J712+1","v":1993},{"$f":"K712+1","v":1994},{"$f":"L712+1","v":1995},{"$f":"M712+1","v":1996},{"$f":"N712+1","v":1997},{"$f":"O712+1","v":1998},{"$f":"P712+1","v":1999},{"$f":"Q712+1","v":2000},{"$f":"R712+1","v":2001},{"$f":"S712+1","v":2002},{"$f":"T712+1","v":2003},{"$f":"U712+1","v":2004},{"$f":"V712+1","v":2005},{"$f":"W712+1","v":2006},{"$f":"X712+1","v":2007},{"$f":"Y712+1","v":2008},{"$f":"Z712+1","v":2009},{"$f":"AA712+1","v":2010},{"$f":"AB712+1","v":2011},{"$f":"AC712+1","v":2012},{"$f":"AD712+1","v":2013},{"$f":"AE712+1","v":2014},{"$f":"AF712+1","v":2015},{"$f":"AG712+1","v":2016},{"$f":"AH712+1","v":2017},{"$f":"AI712+1","v":2018},{"$f":"AJ712+1","v":2019},{"$f":"AK712+1","v":2020},{"$f":"AL712+1","v":2021},{"$f":"AM712+1","v":2022},{"$f":"AN712+1","v":2023},{"$f":"AO712+1","v":2024},{"$f":"AP712+1","v":2025},{"$f":"AQ712+1","v":2026},{"$f":"AR712+1","v":2027},{"$f":"AS712+1","v":2028},{"$f":"AT712+1","v":2029},{"$f":"AU712+1","v":2030},{"$f":"AV712+1","v":2031},{"$f":"AW712+1","v":2032},{"$f":"AX712+1","v":2033},{"$f":"AY712+1","v":2034}]
[null,null,null,{"$f":"'Efficiency Levels'!C372","v":"EL0"},{"$f":"'Efficiency Levels'!D372","v":4216.2530053915279},0.6,null,{"$f":"$F713","v":0.6},0.6,0.6,0.6,0.6,0.6,0.6,0.6,0.6,0.6,0.6,0.6,0.6,0.6,0.6,0.6,{"$f":"$F713","v":0.6},0.6,0.6,0.6,0.6,0.6,0.6,0.6,0.6,0.6,0.6,0.6,0.6,0.6,0.6,0.6,0.6,0.6,0.6,0.6,0.6,0.6,0.6,0.6,0.6,0.6,0.6,0.6,0.6]
[null,null,null,{"$f":"'Efficiency Levels'!C373","v":"EL1"},{"$f":"'Efficiency Levels'!D373","v":4131.9368836893555},0.4,null,0.4,0.4,0.4,0.4,0.4,0.4,0.4,0.4,0.4,0.4,0.4,0.4,0.4,0.4,0.4,0.4,0.4,0.4,0.4,0.4,0.4,0.4,0.4,0.4,0.4,0.4,0.4,0.4,0.4,0.4,0.4,0.4,0.4,0.4,0.4,0.4,0.4,0.4,0.4,0.4,0.4,0.4,0.4,0.4,0.4]
[null,null,null,{"$f":"'Efficiency Levels'!C374","v":"EL2"},{"$f":"'Efficiency Levels'!D374","v":4046.2514342193863},0,null,0,0,0,0,0,0,0,0,0,0,0,0,0,0,0,0,0,0,0,0,0,0,0,0,0,0,0,0,0,0,0,0,0,0,0,0,0,0,0,0,0,0,0,0,0]
[null,null,null,{"$f":"'Efficiency Levels'!C375","v":"EL3"},{"$f":"'Efficiency Levels'!D375","v":4021.8432293313417},0,null,0,0,0,0,0,0,0,0,0,0,0,0,0,0,0,0,0,0,0,0,0,0,0,0,0,0,0,0,0,0,0,0,0,0,0,0,0,0,0,0,0,0,0,0,0]
[null,null,null,{"$f":"'Efficiency Levels'!C376","v":"EL4"},{"$f":"'Efficiency Levels'!D376","v":3972.2760942985724},0,null,0,0,0,0,0,0,0,0,0,0,0,0,0,0,0,0,0,0,0,0,0,0,0,0,0,0,0,0,0,0,0,0,{"$f":"$F717","v":0},0,0,0,0,0,0,0,0,0,0,0,0]
[null,null,null,{"$f":"'Efficiency Levels'!C377","v":"EL5"},{"$f":"'Efficiency Levels'!D377","v":3972.2760942985724},0,null,0,0,0,0,0,0,0,0,0,0,0,0,0,0,0,0,0,0,0,0,0,0,0,0,0,0,0,0,0,0,0,0,0,0,0,0,0,0,0,0,0,0,0,0,0]
[null,null,null,{"$f":"'Efficiency Levels'!C378","v":"EL6"},{"$f":"'Efficiency Levels'!D378","v":3972.2760942985724},0,null,0,0,0,0,0,0,0,0,0,0,0,0,0,0,0,0,0,0,0,0,0,0,0,0,0,0,0,0,0,0,0,0,0,0,0,0,0,0,0,0,0,0,0,0,0]
[null,null,null,{"$f":"'Efficiency Levels'!C379","v":"EL7"},{"$f":"'Efficiency Levels'!D379","v":3972.2760942985724},0,null,0,0,0,0,0,0,0,0,0,0,0,0,0,0,0,0,0,0,0,0,0,0,0,0,0,0,0,0,0,0,0,0,0,0,0,0,0,0,0,0,0,0,0,0,0]
[null,null,null,"TOTAL",null,{"$f":"SUM(F713:F720)","v":1},null,{"$f":"SUM(H713:H720)","v":1},1,1,1,1,1,1,1,1,1,1,1,1,1,1,1,1,1,1,1,1,1,1,1,1,1,1,1,1,1,1,1,1,1,1,1,1,1,1,1,1,1,1,1,1]
[]
[null,null,null,"POST-Case"]
[null,null,null,"Efficiency Level","EL (kWh/year)",null,null,1990,{"$f":"H724+1","v":1991},{"$f":"I724+1","v":1992},{"$f":"J724+1","v":1993},{"$f":"K724+1","v":1994},{"$f":"L724+1","v":1995},{"$f":"M724+1","v":1996},{"$f":"N724+1","v":1997},{"$f":"O724+1","v":1998},{"$f":"P724+1","v":1999},{"$f":"Q724+1","v":2000},{"$f":"R724+1","v":2001},{"$f":"S724+1","v":2002},{"$f":"T724+1","v":2003},{"$f":"U724+1","v":2004},{"$f":"V724+1","v":2005},{"$f":"X712","v":2006},2007,2008,2009,2010,2011,2012,2013,2014,2015,2016,2017,2018,2019,2020,2021,2022,2023,2024,2025,2026,2027,2028,2029,2030,2031,2032,2033,2034]
[null,null,null,{"$f":"D713","v":"EL0"},4216.2530053915279,null,null,{"$f":"H713","v":0.6},0.6,0.6,0.6,0.6,0.6,0.6,0.6,0.6,0.6,0.6,0.6,0.6,0.6,0.6,0.6,0.6,0.6,0.6,0.6,0.6,0.6,0.6,0.6,0.6,0.6,0.6,{"$f":"AI713","v":0.6},0.6,0.6,0.6,0.6,0.6,0.6,0.6,0.6,0.6,0.6,0.6,0.6,0.6,0.6,0.6,0.6,0.6]
[null,null,null,"EL1",4131.9368836893555,null,null,{"$f":"H714","v":0.4},0.4,0.4,0.4,0.4,0.4,0.4,0.4,0.4,0.4,0.4,0.4,0.4,0.4,0.4,0.4,0.4,0.4,0.4,0.4,0.4,0.4,0.4,0.4,0.4,0.4,0.4,{"$f":"AI714","v":0.4},0.4,0.4,0.4,0.4,0.4,0.4,0.4,0.4,0.4,0.4,0.4,0.4,0.4,0.4,0.4,0.4,0.4]
[null,null,null,"EL2",4046.2514342193863,null,null,{"$f":"H715","v":0},0,0,0,0,0,0,0,0,0,0,0,0,0,0,0,0,0,0,0,0,0,0,0,0,0,0,{"$f":"AI715","v":0},0,0,0,0,0,0,0,0,0,0,0,0,0,0,0,0,0]
[null,null,null,"EL3",4021.8432293313417,null,null,{"$f":"H716","v":0},0,0,0,0,0,0,0,0,0,0,0,0,0,0,0,0,0,0,0,0,0,0,0,0,0,0,{"$f":"AI716","v":0},0,0,0,0,0,0,0,0,0,0,0,0,0,0,0,0,0]
[null,null,null,"EL4",3972.2760942985724,null,null,{"$f":"H717","v":0},0,0,0,0,0,0,0,0,0,0,0,0,0,0,0,0,0,0,0,0,0,0,0,0,0,0,{"$f":"AI717","v":0},0,0,0,0,0,0,0,0,0,0,0,0,0,0,0,0,0]
[null,null,null,"EL5",3972.2760942985724,null,null,{"$f":"H718","v":0},0,0,0,0,0,0,0,0,0,0,0,0,0,0,0,0,0,0,0,0,0,0,0,0,0,0,{"$f":"AI718","v":0},0,0,0,0,0,0,0,0,0,0,0,0,0,0,0,0,0]
[null,null,null,"EL6",3972.2760942985724,null,null,{"$f":"H719","v":0},0,0,0,0,0,0,0,0,0,0,0,0,0,0,0,0,0,0,0,0,0,0,0,0,0,0,{"$f":"AI719","v":0},0,0,0,0,0,0,0,0,0,0,0,0,0,0,0,0,0]
[null,null,null,"EL7",3972.2760942985724,null,null,{"$f":"H720","v":0},0,0,0,0,0,0,0,0,0,0,0,0,0,0,0,0,0,0,0,0,0,0,0,0,0,0,{"$f":"AI720","v":0},0,0,0,0,0,0,0,0,0,0,0,0,0,0,0,0,0]
[null,null,null,"TOTAL",null,null,null,{"$f":"SUM(H725:H732)","v":1},1,1,1,1,1,1,1,1,1,1,1,1,1,1,1,1,1,1,1,1,1,1,1,1,1,1,1,1,1,1,1,1,1,1,1,1,1,1,1,1,1,1,1,1]
[]
[null,null,null,"Sources","DOE Commercial Refrigeration Equipment 2014 Final Rule, Technical Support Document: Final Rule National Impact Analysis Spreadsheet, 'Market Share Inputs' tab, cells EL3:ET35, http://www.regulations.gov/#!documentDetail;D=EERE-2010-BT-STD-0003-0101"]
[]
[]
[]
[]
[null,null,null,{"$f":"'Product Classes'!O31","v":"PD.SC.M"}]
[]
[null,null,null,"PRE-Case",null,"Static Distribution"]
[null,null,null,"Efficiency Level","EL (kWh/year)",2006,null,1990,{"$f":"H743+1","v":1991},{"$f":"I743+1","v":1992},{"$f":"J743+1","v":1993},{"$f":"K743+1","v":1994},{"$f":"L743+1","v":1995},{"$f":"M743+1","v":1996},{"$f":"N743+1","v":1997},{"$f":"O743+1","v":1998},{"$f":"P743+1","v":1999},{"$f":"Q743+1","v":2000},{"$f":"R743+1","v":2001},{"$f":"S743+1","v":2002},{"$f":"T743+1","v":2003},{"$f":"U743+1","v":2004},{"$f":"V743+1","v":2005},{"$f":"W743+1","v":2006},{"$f":"X743+1","v":2007},{"$f":"Y743+1","v":2008},{"$f":"Z743+1","v":2009},{"$f":"AA743+1","v":2010},{"$f":"AB743+1","v":2011},{"$f":"AC743+1","v":2012},{"$f":"AD743+1","v":2013},{"$f":"AE743+1","v":2014},{"$f":"AF743+1","v":2015},{"$f":"AG743+1","v":2016},{"$f":"AH743+1","v":2017},{"$f":"AI743+1","v":2018},{"$f":"AJ743+1","v":2019},{"$f":"AK743+1","v":2020},{"$f":"AL743+1","v":2021},{"$f":"AM743+1","v":2022},{"$f":"AN743+1","v":2023},{"$f":"AO743+1","v":2024},{"$f":"AP743+1","v":2025},{"$f":"AQ743+1","v":2026},{"$f":"AR743+1","v":2027},{"$f":"AS743+1","v":2028},{"$f":"AT743+1","v":2029},{"$f":"AU743+1","v":2030},{"$f":"AV743+1","v":2031},{"$f":"AW743+1","v":2032},{"$f":"AX743+1","v":2033},{"$f":"AY743+1","v":2034}]
[null,null,null,{"$f":"'Efficiency Levels'!C388","v":"EL0"},{"$f":"'Efficiency Levels'!D388","v":1829.3732715950177},0.6,null,{"$f":"$F744","v":0.6},0.6,0.6,0.6,0.6,0.6,0.6,0.6,0.6,0.6,0.6,0.6,0.6,0.6,0.6,0.6,{"$f":"$F744","v":0.6},0.6,0.6,0.6,0.6,0.6,0.6,0.6,0.6,0.6,0.6,0.6,0.6,0.6,0.6,0.6,{"$f":"$F744","v":0.6},0.6,0.6,0.6,0.6,0.6,0.6,0.6,0.6,0.6,0.6,0.6,0.6]
[null,null,null,{"$f":"'Efficiency Levels'!C389","v":"EL1"},{"$f":"'Efficiency Levels'!D389","v":1725.9076555467275},0.4,null,0.4,0.4,0.4,0.4,0.4,0.4,0.4,0.4,0.4,0.4,0.4,0.4,0.4,0.4,0.4,0.4,0.4,0.4,0.4,0.4,0.4,0.4,0.4,0.4,0.4,0.4,0.4,0.4,0.4,0.4,0.4,0.4,0.4,0.4,0.4,0.4,0.4,0.4,0.4,0.4,0.4,0.4,0.4,0.4,0.4]
[null,null,null,{"$f":"'Efficiency Levels'!C390","v":"EL2"},{"$f":"'Efficiency Levels'!D390","v":1421.7945862185049},0,null,0,0,0,0,0,0,0,0,0,0,0,0,0,0,0,0,0,0,0,0,0,0,0,0,0,0,0,0,0,0,0,0,0,0,0,0,0,0,0,0,0,0,0,0,0]
[null,null,null,{"$f":"'Efficiency Levels'!C391","v":"EL3"},{"$f":"'Efficiency Levels'!D391","v":1380.8992934696109},0,null,0,0,0,0,0,0,0,0,0,0,0,0,0,0,0,0,0,0,0,0,0,0,0,0,0,0,0,0,0,0,0,0,0,0,0,0,0,0,0,0,0,0,0,0,0]
[null,null,null,{"$f":"'Efficiency Levels'!C392","v":"EL4"},{"$f":"'Efficiency Levels'!D392","v":1368.9068868745246},0,null,0,0,0,0,0,0,0,0,0,0,0,0,0,0,0,0,0,0,0,0,0,0,0,0,0,0,0,0,0,0,0,0,0,0,0,0,0,0,0,0,0,0,0,0,0]
[null,null,null,{"$f":"'Efficiency Levels'!C393","v":"EL5"},{"$f":"'Efficiency Levels'!D393","v":1329.25006990679},0,null,0,0,0,0,0,0,0,0,0,0,0,0,0,0,0,0,0,0,0,0,0,0,0,0,0,0,0,0,0,0,0,0,0,0,0,0,0,0,0,0,0,0,0,0,0]
[null,null,null,{"$f":"'Efficiency Levels'!C394","v":"EL6"},{"$f":"'Efficiency Levels'!D394","v":1319.9046294420773},0,null,0,0,0,0,0,0,0,0,0,0,0,0,0,0,0,0,0,0,0,0,0,0,0,0,0,0,0,0,0,0,0,0,0,0,0,0,0,0,0,0,0,0,0,0,0]
[null,null,null,{"$f":"'Efficiency Levels'!C395","v":"EL7"},{"$f":"'Efficiency Levels'!D395","v":1242.7882210130263},0,null,0,0,0,0,0,0,0,0,0,0,0,0,0,0,0,0,0,0,0,0,0,0,0,0,0,0,0,0,0,0,0,0,0,0,0,0,0,0,0,0,0,0,0,0,0]
[null,null,null,"TOTAL",null,{"$f":"SUM(F744:F751)","v":1},null,{"$f":"SUM(H744:H751)","v":1},1,1,1,1,1,1,1,1,1,1,1,1,1,1,1,1,1,1,1,1,1,1,1,1,1,1,1,1,1,1,1,1,1,1,1,1,1,1,1,1,1,1,1,1]
[]
[null,null,null,"POST-Case"]
[null,null,null,"Efficiency Level","EL (kWh/year)",null,null,1990,{"$f":"H755+1","v":1991},{"$f":"I755+1","v":1992},{"$f":"J755+1","v":1993},{"$f":"K755+1","v":1994},{"$f":"L755+1","v":1995},{"$f":"M755+1","v":1996},{"$f":"N755+1","v":1997},{"$f":"O755+1","v":1998},{"$f":"P755+1","v":1999},{"$f":"Q755+1","v":2000},{"$f":"R755+1","v":2001},{"$f":"S755+1","v":2002},{"$f":"T755+1","v":2003},{"$f":"U755+1","v":2004},{"$f":"V755+1","v":2005},{"$f":"X743","v":2006},2007,2008,2009,2010,2011,2012,2013,2014,2015,2016,2017,2018,2019,2020,2021,2022,2023,2024,2025,2026,2027,2028,2029,2030,2031,2032,2033,2034]
[null,null,null,{"$f":"D744","v":"EL0"},1829.3732715950177,null,null,{"$f":"H744","v":0.6},0.6,0.6,0.6,0.6,0.6,0.6,0.6,0.6,0.6,0.6,0.6,0.6,0.6,0.6,0.6,0.6,0.6,0.6,0.6,0.6,0.6,0.6,0.6,0.6,0.6,0.6,0,0,0,0,0,0,0,0,0,0,0,0,0,0,0,0,0,0]
[null,null,null,"EL1",1725.9076555467275,null,null,{"$f":"H745","v":0.4},0.4,0.4,0.4,0.4,0.4,0.4,0.4,0.4,0.4,0.4,0.4,0.4,0.4,0.4,0.4,0.4,0.4,0.4,0.4,0.4,0.4,0.4,0.4,0.4,0.4,0.4,0,0,0,0,0,0,0,0,0,0,0,0,0,0,0,0,0,0]
[null,null,null,"EL2",1421.7945862185049,null,null,{"$f":"H746","v":0},0,0,0,0,0,0,0,0,0,0,0,0,0,0,0,0,0,0,0,0,0,0,0,0,0,0,0,0,0,0,0,0,0,0,0,0,0,0,0,0,0,0,0,0]
[null,null,null,"EL3",1380.8992934696109,null,null,{"$f":"H747","v":0},0,0,0,0,0,0,0,0,0,0,0,0,0,0,0,0,0,0,0,0,0,0,0,0,0,0,{"$f":"SUM(AI744:AI747)","v":1},1,1,1,1,1,1,1,1,1,1,1,1,1,1,1,1,1]
[null,null,null,"EL4",1368.9068868745246,null,null,{"$f":"H748","v":0},0,0,0,0,0,0,0,0,0,0,0,0,0,0,0,0,0,0,0,0,0,0,0,0,0,0,{"$f":"AI748","v":0},0,0,0,0,0,0,0,0,0,0,0,0,0,0,0,0,0]
[null,null,null,"EL5",1329.25006990679,null,null,{"$f":"H749","v":0},0,0,0,0,0,0,0,0,0,0,0,0,0,0,0,0,0,0,0,0,0,0,0,0,0,0,{"$f":"AI749","v":0},0,0,0,0,0,0,0,0,0,0,0,0,0,0,0,0,0]
[null,null,null,"EL6",1319.9046294420773,null,null,{"$f":"H750","v":0},0,0,0,0,0,0,0,0,0,0,0,0,0,0,0,0,0,0,0,0,0,0,0,0,0,0,{"$f":"AI750","v":0},0,0,0,0,0,0,0,0,0,0,0,0,0,0,0,0,0]
[null,null,null,"EL7",1242.7882210130263,null,null,{"$f":"H751","v":0},0,0,0,0,0,0,0,0,0,0,0,0,0,0,0,0,0,0,0,0,0,0,0,0,0,0,{"$f":"AI751","v":0},0,0,0,0,0,0,0,0,0,0,0,0,0,0,0,0,0]
[null,null,null,"TOTAL",null,null,null,{"$f":"SUM(H756:H763)","v":1},1,1,1,1,1,1,1,1,1,1,1,1,1,1,1,1,1,1,1,1,1,1,1,1,1,1,1,1,1,1,1,1,1,1,1,1,1,1,1,1,1,1,1,1]
[]
[null,null,null,"Sources","DOE Commercial Refrigeration Equipment 2014 Final Rule, Technical Support Document: Final Rule National Impact Analysis Spreadsheet, 'Market Share Inputs' tab, cells IH3:IP35, http://www.regulations.gov/#!documentDetail;D=EERE-2010-BT-STD-0003-0101"]
[]
[]
[]
[]
[null,null,null,{"$f":"'Product Classes'!O32","v":"VCT.SC.I"}]
[]
[null,null,null,"PRE-Case",null,"Static Distribution"]
[null,null,null,"Efficiency Level","EL (kWh/year)",2006,null,1990,{"$f":"H774+1","v":1991},{"$f":"I774+1","v":1992},{"$f":"J774+1","v":1993},{"$f":"K774+1","v":1994},{"$f":"L774+1","v":1995},{"$f":"M774+1","v":1996},{"$f":"N774+1","v":1997},{"$f":"O774+1","v":1998},{"$f":"P774+1","v":1999},{"$f":"Q774+1","v":2000},{"$f":"R774+1","v":2001},{"$f":"S774+1","v":2002},{"$f":"T774+1","v":2003},{"$f":"U774+1","v":2004},{"$f":"V774+1","v":2005},{"$f":"W774+1","v":2006},{"$f":"X774+1","v":2007},{"$f":"Y774+1","v":2008},{"$f":"Z774+1","v":2009},{"$f":"AA774+1","v":2010},{"$f":"AB774+1","v":2011},{"$f":"AC774+1","v":2012},{"$f":"AD774+1","v":2013},{"$f":"AE774+1","v":2014},{"$f":"AF774+1","v":2015},{"$f":"AG774+1","v":2016},{"$f":"AH774+1","v":2017},{"$f":"AI774+1","v":2018},{"$f":"AJ774+1","v":2019},{"$f":"AK774+1","v":2020},{"$f":"AL774+1","v":2021},{"$f":"AM774+1","v":2022},{"$f":"AN774+1","v":2023},{"$f":"AO774+1","v":2024},{"$f":"AP774+1","v":2025},{"$f":"AQ774+1","v":2026},{"$f":"AR774+1","v":2027},{"$f":"AS774+1","v":2028},{"$f":"AT774+1","v":2029},{"$f":"AU774+1","v":2030},{"$f":"AV774+1","v":2031},{"$f":"AW774+1","v":2032},{"$f":"AX774+1","v":2033},{"$f":"AY774+1","v":2034}]
[null,null,null,{"$f":"'Efficiency Levels'!C404","v":"EL0"},{"$f":"'Efficiency Levels'!D404","v":19365.62255542407},1,null,{"$f":"$F775","v":1},1,1,1,1,1,1,1,1,1,1,1,1,1,1,1,{"$f":"$F775","v":1},1,1,1,1,1,{"$f":"AE775","v":0},0,0,0,{"$f":"AI775","v":0},0,0,0,0,0,0,0,0,0,0,0,0,0,0,0,0,0,0]
[null,null,null,{"$f":"'Efficiency Levels'!C405","v":"EL1"},{"$f":"'Efficiency Levels'!D405","v":8831.4833683125999},0,null,0,0,0,0,0,0,0,0,0,0,0,0,0,0,0,0,0,0,0,0,0,0,0,0,0,0,{"$f":"AI776","v":0},0,0,0,0,0,{"$f":"$F776","v":0},0,0,0,0,0,0,0,0,0,0,0,0]
[null,null,null,{"$f":"'Efficiency Levels'!C406","v":"EL2"},{"$f":"'Efficiency Levels'!D406","v":8370.8271603098256},0,null,0,0,0,0,0,0,0,0,0,0,0,0,0,0,0,0,0,0,0,0,0,0,0.6,0.6,0.6,0.6,0.6,0.6,0.6,0.6,0.6,0.6,0.6,0.6,0.6,0.6,0.6,0.6,0.6,0.6,0.6,0.6,0.6,0.6,0.6]
[null,null,null,{"$f":"'Efficiency Levels'!C407","v":"EL3"},{"$f":"'Efficiency Levels'!D407","v":8283.6085071187772},0,null,0,0,0,0,0,0,0,0,0,0,0,0,0,0,0,0,0,0,0,0,0,0,0.08,0.08,0.08,0.08,0.08,0.08,0.08,0.08,0.08,0.08,0.08,0.08,0.08,0.08,0.08,0.08,0.08,0.08,0.08,0.08,0.08,0.08,0.08]
[null,null,null,{"$f":"'Efficiency Levels'!C408","v":"EL4"},{"$f":"'Efficiency Levels'!D408","v":8173.9547964023677},0,null,0,0,0,0,0,0,0,0,0,0,0,0,0,0,0,0,0,0,0,0,0,0,0.08,0.08,0.08,0.08,0.08,0.08,0.08,0.08,0.08,0.08,0.08,0.08,0.08,0.08,0.08,0.08,0.08,0.08,0.08,0.08,0.08,0.08,0.08]
[null,null,null,{"$f":"'Efficiency Levels'!C409","v":"EL5"},{"$f":"'Efficiency Levels'!D409","v":8042.2502851228865},0,null,0,0,0,0,0,0,0,0,0,0,0,0,0,0,0,0,0,0,0,0,0,0,0.08,0.08,0.08,0.08,0.08,0.08,0.08,0.08,0.08,0.08,0.08,0.08,0.08,0.08,0.08,0.08,0.08,0.08,0.08,0.08,0.08,0.08,0.08]
[null,null,null,{"$f":"'Efficiency Levels'!C410","v":"EL6"},{"$f":"'Efficiency Levels'!D410","v":7684.7033140997601},0,null,0,0,0,0,0,0,0,0,0,0,0,0,0,0,0,0,0,0,0,0,0,0,0.08,0.08,0.08,0.08,0.08,0.08,0.08,0.08,0.08,0.08,0.08,0.08,0.08,0.08,0.08,0.08,0.08,0.08,0.08,0.08,0.08,0.08,0.08]
[null,null,null,{"$f":"'Efficiency Levels'!C411","v":"EL7"},{"$f":"'Efficiency Levels'!D411","v":7684.7033140997601},0,null,0,0,0,0,0,0,0,0,0,0,0,0,0,0,0,0,0,0,0,0,0,0,0.08,0.08,0.08,0.08,0.08,0.08,0.08,0.08,0.08,0.08,0.08,0.08,0.08,0.08,0.08,0.08,0.08,0.08,0.08,0.08,0.08,0.08,0.08]
[null,null,null,{"$f":"'Efficiency Levels'!C412","v":"EL8"},{"$f":"'Efficiency Levels'!D412","v":7684.7033140997601},0,null,0,0,0,0,0,0,0,0,0,0,0,0,0,0,0,0,0,0,0,0,0,0,0,0,0,0,0,0,0,0,0,0,0,0,0,0,0,0,0,0,0,0,0,0,0]
[null,null,null,{"$f":"'Efficiency Levels'!C413","v":"EL9"},{"$f":"'Efficiency Levels'!D413","v":7684.7033140997601},0,null,0,0,0,0,0,0,0,0,0,0,0,0,0,0,0,0,0,0,0,0,0,0,0,0,0,0,0,0,0,0,0,0,0,0,0,0,0,0,0,0,0,0,0,0,0]
[null,null,null,"TOTAL",null,{"$f":"SUM(F775:F784)","v":1},null,{"$f":"SUM(H775:H784)","v":1},{"$f":"SUM(I775:I784)","v":1},1,1,1,1,1,1,1,1,1,1,1,1,1,1,1,1,1,1,1,1,0.99999999999999978,0.99999999999999978,0.99999999999999978,0.99999999999999978,0.99999999999999978,0.99999999999999978,0.99999999999999978,0.99999999999999978,0.99999999999999978,0.99999999999999978,0.99999999999999978,0.99999999999999978,0.99999999999999978,0.99999999999999978,0.99999999999999978,0.99999999999999978,0.99999999999999978,0.99999999999999978,0.99999999999999978,0.99999999999999978,0.99999999999999978,0.99999999999999978,0.99999999999999978]
[]
[null,null,null,"POST-Case"]
[null,null,null,"Efficiency Level","EL (kWh/year)",null,null,1990,{"$f":"H788+1","v":1991},{"$f":"I788+1","v":1992},{"$f":"J788+1","v":1993},{"$f":"K788+1","v":1994},{"$f":"L788+1","v":1995},{"$f":"M788+1","v":1996},{"$f":"N788+1","v":1997},{"$f":"O788+1","v":1998},{"$f":"P788+1","v":1999},{"$f":"Q788+1","v":2000},{"$f":"R788+1","v":2001},{"$f":"S788+1","v":2002},{"$f":"T788+1","v":2003},{"$f":"U788+1","v":2004},{"$f":"V788+1","v":2005},{"$f":"X774","v":2006},2007,2008,2009,2010,2011,2012,2013,2014,2015,2016,2017,2018,2019,2020,2021,2022,2023,2024,2025,2026,2027,2028,2029,2030,2031,2032,2033,2034]
[null,null,null,{"$f":"D775","v":"EL0"},{"$f":"E775","v":19365.62255542407},null,null,{"$f":"H775","v":1},1,1,1,1,1,1,1,1,1,1,1,1,1,1,1,1,1,1,1,1,1,0,0,0,0,0,0,0,0,0,0,0,0,0,0,0,0,0,0,0,0,0,0,0]
[null,null,null,{"$f":"D776","v":"EL1"},8831.4833683125999,null,null,0,0,0,0,0,0,0,0,0,0,0,0,0,0,0,0,0,0,0,0,0,0,0,0,0,0,0,0,0,0,0,0,0,0,0,0,0,0,0,0,0,0,0,0,0]
[null,null,null,{"$f":"D777","v":"EL2"},8370.8271603098256,null,null,0,0,0,0,0,0,0,0,0,0,0,0,0,0,0,0,0,0,0,0,0,0,0.6,0.6,0.6,0.6,0.6,0,0,0,0,0,0,0,0,0,0,0,0,0,0,0,0,0,0]
[null,null,null,{"$f":"D778","v":"EL3"},8283.6085071187772,null,null,0,0,0,0,0,0,0,0,0,0,0,0,0,0,0,0,0,0,0,0,0,0,0.08,0.08,0.08,0.08,0.08,{"$f":"SUM(AI775:AI778)","v":0.67999999999999994},{"$f":"SUM(AJ775:AJ778)","v":0.67999999999999994},0.67999999999999994,0.67999999999999994,0.67999999999999994,0.67999999999999994,0.67999999999999994,0.67999999999999994,0.67999999999999994,0.67999999999999994,0.67999999999999994,0.67999999999999994,0.67999999999999994,0.67999999999999994,0.67999999999999994,0.67999999999999994,0.67999999999999994,0.67999999999999994]
[null,null,null,{"$f":"D779","v":"EL4"},8173.9547964023677,null,null,0,0,0,0,0,0,0,0,0,0,0,0,0,0,0,0,0,0,0,0,0,0,0.08,0.08,0.08,0.08,0.08,{"$f":"AI779","v":0.08},0.08,0.08,0.08,0.08,0.08,0.08,0.08,0.08,0.08,0.08,0.08,0.08,0.08,0.08,0.08,0.08,0.08]
[null,null,null,{"$f":"D780","v":"EL5"},8042.2502851228865,null,null,0,0,0,0,0,0,0,0,0,0,0,0,0,0,0,0,0,0,0,0,0,0,0.08,0.08,0.08,0.08,0.08,{"$f":"AI780","v":0.08},0.08,0.08,0.08,0.08,0.08,0.08,0.08,0.08,0.08,0.08,0.08,0.08,0.08,0.08,0.08,0.08,0.08]
[null,null,null,{"$f":"D781","v":"EL6"},7684.7033140997601,null,null,0,0,0,0,0,0,0,0,0,0,0,0,0,0,0,0,0,0,0,0,0,0,0.08,0.08,0.08,0.08,0.08,{"$f":"AI781","v":0.08},0.08,0.08,0.08,0.08,0.08,0.08,0.08,0.08,0.08,0.08,0.08,0.08,0.08,0.08,0.08,0.08,0.08]
[null,null,null,{"$f":"D782","v":"EL7"},7684.7033140997601,null,null,{"$f":"H782","v":0},0,0,0,0,0,0,0,0,0,0,0,0,0,0,0,0,0,0,0,0,0,0.08,0.08,0.08,0.08,0.08,0.08,0.08,0.08,0.08,0.08,0.08,0.08,0.08,0.08,0.08,0.08,0.08,0.08,0.08,0.08,0.08,0.08,0.08]
[null,null,null,{"$f":"D783","v":"EL8"},7684.7033140997601,null,null,{"$f":"H783","v":0},0,0,0,0,0,0,0,0,0,0,0,0,0,0,0,0,0,0,0,0,0,0,0,0,0,0,0,0,0,0,0,0,0,0,0,0,0,0,0,0,0,0,0,0]
[null,null,null,{"$f":"D784","v":"EL9"},7684.7033140997601,null,null,{"$f":"H784","v":0},0,0,0,0,0,0,0,0,0,0,0,0,0,0,0,0,0,0,0,0,0,0,0,0,0,0,0,0,0,0,0,0,0,0,0,0,0,0,0,0,0,0,0,0]
[null,null,null,"TOTAL",null,null,null,{"$f":"SUM(H789:H798)","v":1},{"$f":"SUM(I789:I798)","v":1},1,1,1,1,1,1,1,1,1,1,1,1,1,1,1,1,1,1,1,1,0.99999999999999978,0.99999999999999978,0.99999999999999978,0.99999999999999978,0.99999999999999978,0.99999999999999978,0.99999999999999978,0.99999999999999978,0.99999999999999978,0.99999999999999978,0.99999999999999978,0.99999999999999978,0.99999999999999978,0.99999999999999978,0.99999999999999978,0.99999999999999978,0.99999999999999978,0.99999999999999978,0.99999999999999978,0.99999999999999978,0.99999999999999978,0.99999999999999978,0.99999999999999978]
[]
[null,null,null,"Sources","DOE Commercial Refrigeration Equipment 2014 Final Rule, Technical Support Document: Final Rule National Impact Analysis Spreadsheet, 'Market Share Inputs' tab, cells BT3:CB35, http://www.regulations.gov/#!documentDetail;D=EERE-2010-BT-STD-0003-0101"]
[]
[]
[]
[]
[null,null,null,{"$f":"'Product Classes'!O33","v":"HCT.SC.I"}]
[]
[null,null,null,"PRE-Case",null,"Static Distribution"]
[null,null,null,"Efficiency Level","EL (kWh/year)",2006,null,1990,{"$f":"H809+1","v":1991},{"$f":"I809+1","v":1992},{"$f":"J809+1","v":1993},{"$f":"K809+1","v":1994},{"$f":"L809+1","v":1995},{"$f":"M809+1","v":1996},{"$f":"N809+1","v":1997},{"$f":"O809+1","v":1998},{"$f":"P809+1","v":1999},{"$f":"Q809+1","v":2000},{"$f":"R809+1","v":2001},{"$f":"S809+1","v":2002},{"$f":"T809+1","v":2003},{"$f":"U809+1","v":2004},{"$f":"V809+1","v":2005},{"$f":"W809+1","v":2006},{"$f":"X809+1","v":2007},{"$f":"Y809+1","v":2008},{"$f":"Z809+1","v":2009},{"$f":"AA809+1","v":2010},{"$f":"AB809+1","v":2011},{"$f":"AC809+1","v":2012},{"$f":"AD809+1","v":2013},{"$f":"AE809+1","v":2014},{"$f":"AF809+1","v":2015},{"$f":"AG809+1","v":2016},{"$f":"AH809+1","v":2017},{"$f":"AI809+1","v":2018},{"$f":"AJ809+1","v":2019},{"$f":"AK809+1","v":2020},{"$f":"AL809+1","v":2021},{"$f":"AM809+1","v":2022},{"$f":"AN809+1","v":2023},{"$f":"AO809+1","v":2024},{"$f":"AP809+1","v":2025},{"$f":"AQ809+1","v":2026},{"$f":"AR809+1","v":2027},{"$f":"AS809+1","v":2028},{"$f":"AT809+1","v":2029},{"$f":"AU809+1","v":2030},{"$f":"AV809+1","v":2031},{"$f":"AW809+1","v":2032},{"$f":"AX809+1","v":2033},{"$f":"AY809+1","v":2034}]
[null,null,null,{"$f":"'Efficiency Levels'!C422","v":"EL0"},{"$f":"'Efficiency Levels'!D422","v":2630.718549833713},1,null,{"$f":"$F810","v":1},1,1,1,1,1,1,1,1,1,1,1,1,1,1,1,{"$f":"$F810","v":1},1,1,1,1,1,0,0,0,0,0,0,0,0,0,0,0,0,0,0,0,0,0,0,0,0,0,0,0]
[null,null,null,{"$f":"'Efficiency Levels'!C423","v":"EL1"},{"$f":"'Efficiency Levels'!D423","v":1205.6429034205898},0,null,0,0,0,0,0,0,0,0,0,0,0,0,0,0,0,0,0,0,0,0,0,0,0,0,0,0,0,0,0,0,0,0,{"$f":"$F811","v":0},0,0,0,0,0,0,0,0,0,0,0,0]
[null,null,null,{"$f":"'Efficiency Levels'!C424","v":"EL2"},{"$f":"'Efficiency Levels'!D424","v":1134.5938764973962},0,null,0,0,0,0,0,0,0,0,0,0,0,0,0,0,0,0,0,0,0,0,0,0,0.6,0.6,0.6,0.6,0.6,0.6,0.6,0.6,0.6,0.6,0.6,0.6,0.6,0.6,0.6,0.6,0.6,0.6,0.6,0.6,0.6,0.6,0.6]
[null,null,null,{"$f":"'Efficiency Levels'!C425","v":"EL3"},{"$f":"'Efficiency Levels'!D425","v":844.39891487086209},0,null,0,0,0,0,0,0,0,0,0,0,0,0,0,0,0,0,0,0,0,0,0,0,0.4,0.4,0.4,0.4,0.4,0.4,0.4,0.4,0.4,0.4,0.4,0.4,0.4,0.4,0.4,0.4,0.4,0.4,0.4,0.4,0.4,0.4,0.4]
[null,null,null,{"$f":"'Efficiency Levels'!C426","v":"EL4"},{"$f":"'Efficiency Levels'!D426","v":844.39891487086209},0,null,0,0,0,0,0,0,0,0,0,0,0,0,0,0,0,0,0,0,0,0,0,0,0,0,0,0,0,0,0,0,0,0,{"$f":"$F814","v":0},0,0,0,0,0,0,0,0,0,0,0,0]
[null,null,null,{"$f":"'Efficiency Levels'!C427","v":"EL5"},{"$f":"'Efficiency Levels'!D427","v":844.39891487086209},0,null,0,0,0,0,0,0,0,0,0,0,0,0,0,0,0,0,0,0,0,0,0,0,0,0,0,0,0,0,0,0,0,0,0,0,0,0,0,0,0,0,0,0,0,0,0]
[null,null,null,{"$f":"'Efficiency Levels'!C428","v":"EL6"},{"$f":"'Efficiency Levels'!D428","v":844.39891487086209},0,null,0,0,0,0,0,0,0,0,0,0,0,0,0,0,0,0,0,0,0,0,0,0,0,0,0,0,0,0,0,0,0,0,0,0,0,0,0,0,0,0,0,0,0,0,0]
[null,null,null,{"$f":"'Efficiency Levels'!C429","v":"EL7"},{"$f":"'Efficiency Levels'!D429","v":844.39891487086209},0,null,0,0,0,0,0,0,0,0,0,0,0,0,0,0,0,0,0,0,0,0,0,0,0,0,0,0,0,0,0,0,0,0,0,0,0,0,0,0,0,0,0,0,0,0,0]
[null,null,null,{"$f":"'Efficiency Levels'!C430","v":"EL8"},{"$f":"'Efficiency Levels'!D430","v":844.39891487086209},0,null,0,0,0,0,0,0,0,0,0,0,0,0,0,0,0,0,0,0,0,0,0,0,0,0,0,0,0,0,0,0,0,0,0,0,0,0,0,0,0,0,0,0,0,0,0]
[null,null,null,{"$f":"'Efficiency Levels'!C431","v":"EL9"},{"$f":"'Efficiency Levels'!D431","v":844.39891487086209},0,null,0,0,0,0,0,0,0,0,0,0,0,0,0,0,0,0,0,0,0,0,0,0,0,0,0,0,0,0,0,0,0,0,0,0,0,0,0,0,0,0,0,0,0,0,0]
[null,null,null,"TOTAL",null,{"$f":"SUM(F810:F819)","v":1},null,{"$f":"SUM(H810:H819)","v":1},{"$f":"SUM(I810:I819)","v":1},1,1,1,1,1,1,1,1,1,1,1,1,1,1,1,1,1,1,1,1,1,1,1,1,1,1,1,1,1,1,1,1,1,1,1,1,1,1,1,1,1,1,1]
[]
[null,null,null,"POST-Case"]
[null,null,null,"Efficiency Level","EL (kWh/year)",null,null,1990,{"$f":"H823+1","v":1991},{"$f":"I823+1","v":1992},{"$f":"J823+1","v":1993},{"$f":"K823+1","v":1994},{"$f":"L823+1","v":1995},{"$f":"M823+1","v":1996},{"$f":"N823+1","v":1997},{"$f":"O823+1","v":1998},{"$f":"P823+1","v":1999},{"$f":"Q823+1","v":2000},{"$f":"R823+1","v":2001},{"$f":"S823+1","v":2002},{"$f":"T823+1","v":2003},{"$f":"U823+1","v":2004},{"$f":"V823+1","v":2005},{"$f":"X809","v":2006},2007,2008,2009,2010,2011,2012,2013,2014,2015,2016,2017,2018,2019,2020,2021,2022,2023,2024,2025,2026,2027,2028,2029,2030,2031,2032,2033,2034]
[null,null,null,{"$f":"D810","v":"EL0"},{"$f":"E810","v":2630.718549833713},null,null,{"$f":"H810","v":1},1,1,1,1,1,1,1,1,1,1,1,1,1,1,1,1,1,1,1,1,1,0,0,0,0,0,{"$f":"AI810","v":0},0,0,0,0,0,0,0,0,0,0,0,0,0,0,0,0,0]
[null,null,null,{"$f":"D811","v":"EL1"},1205.6429034205898,null,null,0,0,0,0,0,0,0,0,0,0,0,0,0,0,0,0,0,0,0,0,0,0,0,0,0,0,0,{"$f":"AI811","v":0},0,0,0,0,0,0,0,0,0,0,0,0,0,0,0,0,0]
[null,null,null,{"$f":"D812","v":"EL2"},1134.5938764973962,null,null,0,0,0,0,0,0,0,0,0,0,0,0,0,0,0,0,0,0,0,0,0,0,0.6,0.6,0.6,0.6,0.6,{"$f":"AI812","v":0.6},0.6,0.6,0.6,0.6,0.6,0.6,0.6,0.6,0.6,0.6,0.6,0.6,0.6,0.6,0.6,0.6,0.6]
[null,null,null,{"$f":"D813","v":"EL3"},844.39891487086209,null,null,0,0,0,0,0,0,0,0,0,0,0,0,0,0,0,0,0,0,0,0,0,0,0.4,0.4,0.4,0.4,0.4,{"$f":"AI813","v":0.4},0.4,0.4,0.4,0.4,0.4,0.4,0.4,0.4,0.4,0.4,0.4,0.4,0.4,0.4,0.4,0.4,0.4]
[null,null,null,{"$f":"D814","v":"EL4"},844.39891487086209,null,null,0,0,0,0,0,0,0,0,0,0,0,0,0,0,0,0,0,0,0,0,0,0,0,0,0,0,0,{"$f":"AI814","v":0},0,0,0,0,0,0,0,0,0,0,0,0,0,0,0,0,0]
[null,null,null,{"$f":"D815","v":"EL5"},844.39891487086209,null,null,0,0,0,0,0,0,0,0,0,0,0,0,0,0,0,0,0,0,0,0,0,0,0,0,0,0,0,{"$f":"AI815","v":0},0,0,0,0,0,0,0,0,0,0,0,0,0,0,0,0,0]
[null,null,null,{"$f":"D816","v":"EL6"},844.39891487086209,null,null,0,0,0,0,0,0,0,0,0,0,0,0,0,0,0,0,0,0,0,0,0,0,0,0,0,0,0,{"$f":"AI816","v":0},0,0,0,0,0,0,0,0,0,0,0,0,0,0,0,0,0]
[null,null,null,{"$f":"D817","v":"EL7"},844.39891487086209,null,null,{"$f":"H817","v":0},0,0,0,0,0,0,0,0,0,0,0,0,0,0,0,0,0,0,0,0,0,0,0,0,0,0,{"$f":"AI817","v":0},0,0,0,0,0,0,0,0,0,0,0,0,0,0,0,0,0]
[null,null,null,{"$f":"D818","v":"EL8"},844.39891487086209,null,null,{"$f":"H818","v":0},0,0,0,0,0,0,0,0,0,0,0,0,0,0,0,0,0,0,0,0,0,0,0,0,0,0,{"$f":"AI818","v":0},0,0,0,0,0,0,0,0,0,0,0,0,0,0,0,0,0]
[null,null,null,{"$f":"D819","v":"EL9"},844.39891487086209,null,null,{"$f":"H819","v":0},0,0,0,0,0,0,0,0,0,0,0,0,0,0,0,0,0,0,0,0,0,0,0,0,0,0,{"$f":"AI819","v":0},0,0,0,0,0,0,0,0,0,0,0,0,0,0,0,0,0]
[null,null,null,"TOTAL",null,null,null,{"$f":"SUM(H824:H833)","v":1},{"$f":"SUM(I824:I833)","v":1},1,1,1,1,1,1,1,1,1,1,1,1,1,1,1,1,1,1,1,1,1,1,1,1,1,1,1,1,1,1,1,1,1,1,1,1,1,1,1,1,1,1,1]
[]
[null,null,null,"Sources","DOE Commercial Refrigeration Equipment 2014 Final Rule, Technical Support Document: Final Rule National Impact Analysis Spreadsheet, 'Market Share Inputs' tab, cells HD3:HL35, http://www.regulations.gov/#!documentDetail;D=EERE-2010-BT-STD-0003-0101"]
[]
[]
[]
[]
[null,null,null,{"$f":"'Product Classes'!O34","v":"VCS.SC.I"}]
[]
[null,null,null,"PRE-Case",null,"Static Distribution"]
[null,null,null,"Efficiency Level","EL (kWh/year)",2006,null,1990,{"$f":"H844+1","v":1991},{"$f":"I844+1","v":1992},{"$f":"J844+1","v":1993},{"$f":"K844+1","v":1994},{"$f":"L844+1","v":1995},{"$f":"M844+1","v":1996},{"$f":"N844+1","v":1997},{"$f":"O844+1","v":1998},{"$f":"P844+1","v":1999},{"$f":"Q844+1","v":2000},{"$f":"R844+1","v":2001},{"$f":"S844+1","v":2002},{"$f":"T844+1","v":2003},{"$f":"U844+1","v":2004},{"$f":"V844+1","v":2005},{"$f":"W844+1","v":2006},{"$f":"X844+1","v":2007},{"$f":"Y844+1","v":2008},{"$f":"Z844+1","v":2009},{"$f":"AA844+1","v":2010},{"$f":"AB844+1","v":2011},{"$f":"AC844+1","v":2012},{"$f":"AD844+1","v":2013},{"$f":"AE844+1","v":2014},{"$f":"AF844+1","v":2015},{"$f":"AG844+1","v":2016},{"$f":"AH844+1","v":2017},{"$f":"AI844+1","v":2018},{"$f":"AJ844+1","v":2019},{"$f":"AK844+1","v":2020},{"$f":"AL844+1","v":2021},{"$f":"AM844+1","v":2022},{"$f":"AN844+1","v":2023},{"$f":"AO844+1","v":2024},{"$f":"AP844+1","v":2025},{"$f":"AQ844+1","v":2026},{"$f":"AR844+1","v":2027},{"$f":"AS844+1","v":2028},{"$f":"AT844+1","v":2029},{"$f":"AU844+1","v":2030},{"$f":"AV844+1","v":2031},{"$f":"AW844+1","v":2032},{"$f":"AX844+1","v":2033},{"$f":"AY844+1","v":2034}]
[null,null,null,{"$f":"'Efficiency Levels'!C440","v":"EL0"},{"$f":"'Efficiency Levels'!D440","v":11516.411985621064},1,null,{"$f":"$F845","v":1},1,1,1,1,1,1,1,1,1,1,1,1,1,1,1,{"$f":"$F845","v":1},1,1,1,1,1,{"$f":"AE845","v":0},0,0,0,{"$f":"AI845","v":0},0,0,0,0,0,0,0,0,0,0,0,0,0,0,0,0,0,0]
[null,null,null,{"$f":"'Efficiency Levels'!C441","v":"EL1"},{"$f":"'Efficiency Levels'!D441","v":8093.8825392359813},0,null,0,0,0,0,0,0,0,0,0,0,0,0,0,0,0,0,0,0,0,0,0,0,0,0,0,0,{"$f":"AI846","v":0},0,0,0,0,0,{"$f":"$F846","v":0},0,0,0,0,0,0,0,0,0,0,0,0]
[null,null,null,{"$f":"'Efficiency Levels'!C442","v":"EL2"},{"$f":"'Efficiency Levels'!D442","v":8039.9909301578564},0,null,0,0,0,0,0,0,0,0,0,0,0,0,0,0,0,0,0,0,0,0,0,0,0.6,0.6,0.6,0.6,0.6,0.6,0.6,0.6,0.6,0.6,0.6,0.6,0.6,0.6,0.6,0.6,0.6,0.6,0.6,0.6,0.6,0.6,0.6]
[null,null,null,{"$f":"'Efficiency Levels'!C443","v":"EL3"},{"$f":"'Efficiency Levels'!D443","v":7934.6265668102697},0,null,0,0,0,0,0,0,0,0,0,0,0,0,0,0,0,0,0,0,0,0,0,0,0.08,0.08,0.08,0.08,0.08,0.08,0.08,0.08,0.08,0.08,0.08,0.08,0.08,0.08,0.08,0.08,0.08,0.08,0.08,0.08,0.08,0.08,0.08]
[null,null,null,{"$f":"'Efficiency Levels'!C444","v":"EL4"},{"$f":"'Efficiency Levels'!D444","v":7643.6292534477598},0,null,0,0,0,0,0,0,0,0,0,0,0,0,0,0,0,0,0,0,0,0,0,0,0.08,0.08,0.08,0.08,0.08,0.08,0.08,0.08,0.08,0.08,0.08,0.08,0.08,0.08,0.08,0.08,0.08,0.08,0.08,0.08,0.08,0.08,0.08]
[null,null,null,{"$f":"'Efficiency Levels'!C445","v":"EL5"},{"$f":"'Efficiency Levels'!D445","v":7568.7562501442017},0,null,0,0,0,0,0,0,0,0,0,0,0,0,0,0,0,0,0,0,0,0,0,0,0.08,0.08,0.08,0.08,0.08,0.08,0.08,0.08,0.08,0.08,0.08,0.08,0.08,0.08,0.08,0.08,0.08,0.08,0.08,0.08,0.08,0.08,0.08]
[null,null,null,{"$f":"'Efficiency Levels'!C446","v":"EL6"},{"$f":"'Efficiency Levels'!D446","v":7396.4872279565461},0,null,0,0,0,0,0,0,0,0,0,0,0,0,0,0,0,0,0,0,0,0,0,0,0.08,0.08,0.08,0.08,0.08,0.08,0.08,0.08,0.08,0.08,0.08,0.08,0.08,0.08,0.08,0.08,0.08,0.08,0.08,0.08,0.08,0.08,0.08]
[null,null,null,{"$f":"'Efficiency Levels'!C447","v":"EL7"},{"$f":"'Efficiency Levels'!D447","v":6808.5103803399898},0,null,0,0,0,0,0,0,0,0,0,0,0,0,0,0,0,0,0,0,0,0,0,0,0.08,0.08,0.08,0.08,0.08,0.08,0.08,0.08,0.08,0.08,0.08,0.08,0.08,0.08,0.08,0.08,0.08,0.08,0.08,0.08,0.08,0.08,0.08]
[null,null,null,{"$f":"'Efficiency Levels'!C448","v":"EL8"},{"$f":"'Efficiency Levels'!D448","v":6808.5103803399898},0,null,0,0,0,0,0,0,0,0,0,0,0,0,0,0,0,0,0,0,0,0,0,0,0,0,0,0,0,0,0,0,0,0,0,0,0,0,0,0,0,0,0,0,0,0,0]
[null,null,null,{"$f":"'Efficiency Levels'!C449","v":"EL9"},{"$f":"'Efficiency Levels'!D449","v":6808.5103803399898},0,null,0,0,0,0,0,0,0,0,0,0,0,0,0,0,0,0,0,0,0,0,0,0,0,0,0,0,0,0,0,0,0,0,0,0,0,0,0,0,0,0,0,0,0,0,0]
[null,null,null,"TOTAL",null,{"$f":"SUM(F845:F854)","v":1},null,{"$f":"SUM(H845:H854)","v":1},{"$f":"SUM(I845:I854)","v":1},1,1,1,1,1,1,1,1,1,1,1,1,1,1,1,1,1,1,1,1,0.99999999999999978,0.99999999999999978,0.99999999999999978,0.99999999999999978,0.99999999999999978,0.99999999999999978,0.99999999999999978,0.99999999999999978,0.99999999999999978,0.99999999999999978,0.99999999999999978,0.99999999999999978,0.99999999999999978,0.99999999999999978,0.99999999999999978,0.99999999999999978,0.99999999999999978,0.99999999999999978,0.99999999999999978,0.99999999999999978,0.99999999999999978,0.99999999999999978,0.99999999999999978]
[]
[null,null,null,"POST-Case"]
[null,null,null,"Efficiency Level","EL (kWh/year)",null,null,1990,{"$f":"H858+1","v":1991},{"$f":"I858+1","v":1992},{"$f":"J858+1","v":1993},{"$f":"K858+1","v":1994},{"$f":"L858+1","v":1995},{"$f":"M858+1","v":1996},{"$f":"N858+1","v":1997},{"$f":"O858+1","v":1998},{"$f":"P858+1","v":1999},{"$f":"Q858+1","v":2000},{"$f":"R858+1","v":2001},{"$f":"S858+1","v":2002},{"$f":"T858+1","v":2003},{"$f":"U858+1","v":2004},{"$f":"V858+1","v":2005},{"$f":"X844","v":2006},2007,2008,2009,2010,2011,2012,2013,2014,2015,2016,2017,2018,2019,2020,2021,2022,2023,2024,2025,2026,2027,2028,2029,2030,2031,2032,2033,2034]
[null,null,null,{"$f":"D845","v":"EL0"},{"$f":"E845","v":11516.411985621064},null,null,{"$f":"H845","v":1},1,1,1,1,1,1,1,1,1,1,1,1,1,1,1,1,1,1,1,1,1,0,0,0,0,0,0,0,0,0,0,0,0,0,0,0,0,0,0,0,0,0,0,0]
[null,null,null,{"$f":"D846","v":"EL1"},8093.8825392359813,null,null,0,0,0,0,0,0,0,0,0,0,0,0,0,0,0,0,0,0,0,0,0,0,0,0,0,0,0,0,0,0,0,0,0,0,0,0,0,0,0,0,0,0,0,0,0]
[null,null,null,{"$f":"D847","v":"EL2"},8039.9909301578564,null,null,0,0,0,0,0,0,0,0,0,0,0,0,0,0,0,0,0,0,0,0,0,0,0.6,0.6,0.6,0.6,0.6,0,0,0,0,0,0,0,0,0,0,0,0,0,0,0,0,0,0]
[null,null,null,{"$f":"D848","v":"EL3"},7934.6265668102697,null,null,0,0,0,0,0,0,0,0,0,0,0,0,0,0,0,0,0,0,0,0,0,0,0.08,0.08,0.08,0.08,0.08,0,0,0,0,0,0,0,0,0,0,0,0,0,0,0,0,0,0]
[null,null,null,{"$f":"D849","v":"EL4"},7643.6292534477598,null,null,0,0,0,0,0,0,0,0,0,0,0,0,0,0,0,0,0,0,0,0,0,0,0.08,0.08,0.08,0.08,0.08,0,0,0,0,0,0,0,0,0,0,0,0,0,0,0,0,0,0]
[null,null,null,{"$f":"D850","v":"EL5"},7568.7562501442017,null,null,0,0,0,0,0,0,0,0,0,0,0,0,0,0,0,0,0,0,0,0,0,0,0.08,0.08,0.08,0.08,0.08,0,0,0,0,0,0,0,0,0,0,0,0,0,0,0,0,0,0]
[null,null,null,{"$f":"D851","v":"EL6"},7396.4872279565461,null,null,0,0,0,0,0,0,0,0,0,0,0,0,0,0,0,0,0,0,0,0,0,0,0.08,0.08,0.08,0.08,0.08,{"$f":"SUM(AI845:AI851)","v":0.91999999999999982},{"$f":"SUM(AJ845:AJ851)","v":0.91999999999999982},0.91999999999999982,0.91999999999999982,0.91999999999999982,0.91999999999999982,0.91999999999999982,0.91999999999999982,0.91999999999999982,0.91999999999999982,0.91999999999999982,0.91999999999999982,0.91999999999999982,0.91999999999999982,0.91999999999999982,0.91999999999999982,0.91999999999999982,0.91999999999999982]
[null,null,null,{"$f":"D852","v":"EL7"},6808.5103803399898,null,null,{"$f":"H852","v":0},0,0,0,0,0,0,0,0,0,0,0,0,0,0,0,0,0,0,0,0,0,0.08,0.08,0.08,0.08,0.08,0.08,{"$f":"AJ852","v":0.08},0.08,0.08,0.08,0.08,0.08,0.08,0.08,0.08,0.08,0.08,0.08,0.08,0.08,0.08,0.08,0.08]
[null,null,null,{"$f":"D853","v":"EL8"},6808.5103803399898,null,null,{"$f":"H853","v":0},0,0,0,0,0,0,0,0,0,0,0,0,0,0,0,0,0,0,0,0,0,0,0,0,0,0,0,{"$f":"AJ853","v":0},0,0,0,0,0,0,0,0,0,0,0,0,0,0,0,0]
[null,null,null,{"$f":"D854","v":"EL9"},6808.5103803399898,null,null,{"$f":"H854","v":0},0,0,0,0,0,0,0,0,0,0,0,0,0,0,0,0,0,0,0,0,0,0,0,0,0,0,0,{"$f":"AJ854","v":0},0,0,0,0,0,0,0,0,0,0,0,0,0,0,0,0]
[null,null,null,"TOTAL",null,null,null,{"$f":"SUM(H859:H868)","v":1},{"$f":"SUM(I859:I868)","v":1},1,1,1,1,1,1,1,1,1,1,1,1,1,1,1,1,1,1,1,1,0.99999999999999978,0.99999999999999978,0.99999999999999978,0.99999999999999978,0.99999999999999978,0.99999999999999978,0.99999999999999978,0.99999999999999978,0.99999999999999978,0.99999999999999978,0.99999999999999978,0.99999999999999978,0.99999999999999978,0.99999999999999978,0.99999999999999978,0.99999999999999978,0.99999999999999978,0.99999999999999978,0.99999999999999978,0.99999999999999978,0.99999999999999978,0.99999999999999978,0.99999999999999978]
[]
[null,null,null,"Sources","DOE Commercial Refrigeration Equipment 2014 Final Rule, Technical Support Document: Final Rule National Impact Analysis Spreadsheet, 'Market Share Inputs' tab, cells CX3:DF35, http://www.regulations.gov/#!documentDetail;D=EERE-2010-BT-STD-0003-0101"]

{"sheet":"Shipments and Stock","index":10,"n_rows":18,"n_cols":52,"rows_kept":18,"cut":false,"hidden":false,"merged":[]}
[]
[null,null,"Shipments and Stock"]
[]
[null,null,{"$f":"Navigation!$C$15","v":"NAVIGATION"}]
[]
[null,null,"COMMENTS"]
[]
[null,null,"Building Type "]
[null,null,{"$f":"RESULTS!C9","v":"TOTAL"}]
[]
[]
[null,null,"Commercial_Refrigeration_Equipment"]
[null,null,null,null,1987,1988,1989,1990,1991,1992,1993,1994,1995,1996,1997,1998,1999,2000,2001,2002,2003,2004,2005,2006,2007,2008,2009,2010,2011,2012,2013,2014,2015,2016,2017,2018,2019,2020,2021,2022,2023,2024,2025,2026,2027,2028,2029,2030,2031,2032,2033,2034]
[null,null,"6P Shipments","(units)","pre-dates plan","pre-dates plan","pre-dates plan","pre-dates plan","pre-dates plan","pre-dates plan","pre-dates plan","pre-dates plan","pre-dates plan","pre-dates plan","pre-dates plan","pre-dates plan","pre-dates plan","pre-dates plan","pre-dates plan","pre-dates plan","pre-dates plan","pre-dates plan","pre-dates plan","pre-dates plan","pre-dates plan","pre-dates plan","pre-dates plan",{"$f":"INDEX('[1]6P Shipments'!$D$11:$L$35,MATCH(AB$13,'[1]6P Shipments'!$C$11:$C$35,0),MATCH($C$12,'[1]6P Shipments'!$D$10:$L$10,0))","v":32423.473837372203},{"$f":"INDEX('[1]6P Shipments'!$D$11:$L$35,MATCH(AC$13,'[1]6P Shipments'!$C$11:$C$35,0),MATCH($C$12,'[1]6P Shipments'!$D$10:$L$10,0))","v":33169.232948518606},{"$f":"INDEX('[1]6P Shipments'!$D$11:$L$35,MATCH(AD$13,'[1]6P Shipments'!$C$11:$C$35,0),MATCH($C$12,'[1]6P Shipments'!$D$10:$L$10,0))","v":33900.856649913614},{"$f":"INDEX('[1]6P Shipments'!$D$11:$L$35,MATCH(AE$13,'[1]6P Shipments'!$C$11:$C$35,0),MATCH($C$12,'[1]6P Shipments'!$D$10:$L$10,0))","v":34594.501581013654},{"$f":"INDEX('[1]6P Shipments'!$D$11:$L$35,MATCH(AF$13,'[1]6P Shipments'!$C$11:$C$35,0),MATCH($C$12,'[1]6P Shipments'!$D$10:$L$10,0))","v":35130.625553869497},{"$f":"INDEX('[1]6P Shipments'!$D$11:$L$35,MATCH(AG$13,'[1]6P Shipments'!$C$11:$C$35,0),MATCH($C$12,'[1]6P Shipments'!$D$10:$L$10,0))","v":35603.645911624757},{"$f":"INDEX('[1]6P Shipments'!$D$11:$L$35,MATCH(AH$13,'[1]6P Shipments'!$C$11:$C$35,0),MATCH($C$12,'[1]6P Shipments'!$D$10:$L$10,0))","v":36026.390056994482},{"$f":"INDEX('[1]6P Shipments'!$D$11:$L$35,MATCH(AI$13,'[1]6P Shipments'!$C$11:$C$35,0),MATCH($C$12,'[1]6P Shipments'!$D$10:$L$10,0))","v":36410.705527423546},{"$f":"INDEX('[1]6P Shipments'!$D$11:$L$35,MATCH(AJ$13,'[1]6P Shipments'!$C$11:$C$35,0),MATCH($C$12,'[1]6P Shipments'!$D$10:$L$10,0))","v":36769.894660397804},{"$f":"INDEX('[1]6P Shipments'!$D$11:$L$35,MATCH(AK$13,'[1]6P Shipments'!$C$11:$C$35,0),MATCH($C$12,'[1]6P Shipments'!$D$10:$L$10,0))","v":37110.801923766805},{"$f":"INDEX('[1]6P Shipments'!$D$11:$L$35,MATCH(AL$13,'[1]6P Shipments'!$C$11:$C$35,0),MATCH($C$12,'[1]6P Shipments'!$D$10:$L$10,0))","v":37442.585203815019},{"$f":"INDEX('[1]6P Shipments'!$D$11:$L$35,MATCH(AM$13,'[1]6P Shipments'!$C$11:$C$35,0),MATCH($C$12,'[1]6P Shipments'!$D$10:$L$10,0))","v":37766.592423804352},{"$f":"INDEX('[1]6P Shipments'!$D$11:$L$35,MATCH(AN$13,'[1]6P Shipments'!$C$11:$C$35,0),MATCH($C$12,'[1]6P Shipments'!$D$10:$L$10,0))","v":38075.07964553473},{"$f":"INDEX('[1]6P Shipments'!$D$11:$L$35,MATCH(AO$13,'[1]6P Shipments'!$C$11:$C$35,0),MATCH($C$12,'[1]6P Shipments'!$D$10:$L$10,0))","v":38365.045732308237},{"$f":"INDEX('[1]6P Shipments'!$D$11:$L$35,MATCH(AP$13,'[1]6P Shipments'!$C$11:$C$35,0),MATCH($C$12,'[1]6P Shipments'!$D$10:$L$10,0))","v":38643.706616765798},{"$f":"INDEX('[1]6P Shipments'!$D$11:$L$35,MATCH(AQ$13,'[1]6P Shipments'!$C$11:$C$35,0),MATCH($C$12,'[1]6P Shipments'!$D$10:$L$10,0))","v":38925.153385089892},{"$f":"INDEX('[1]6P Shipments'!$D$11:$L$35,MATCH(AR$13,'[1]6P Shipments'!$C$11:$C$35,0),MATCH($C$12,'[1]6P Shipments'!$D$10:$L$10,0))","v":39220.578895920196},{"$f":"INDEX('[1]6P Shipments'!$D$11:$L$35,MATCH(AS$13,'[1]6P Shipments'!$C$11:$C$35,0),MATCH($C$12,'[1]6P Shipments'!$D$10:$L$10,0))","v":39536.598372939203},{"$f":"INDEX('[1]6P Shipments'!$D$11:$L$35,MATCH(AT$13,'[1]6P Shipments'!$C$11:$C$35,0),MATCH($C$12,'[1]6P Shipments'!$D$10:$L$10,0))","v":39877.381372044445},{"$f":"INDEX('[1]6P Shipments'!$D$11:$L$35,MATCH(AU$13,'[1]6P Shipments'!$C$11:$C$35,0),MATCH($C$12,'[1]6P Shipments'!$D$10:$L$10,0))","v":40240.704224176414},{"$f":"INDEX('[1]6P Shipments'!$D$11:$L$35,MATCH(AV$13,'[1]6P Shipments'!$C$11:$C$35,0),MATCH($C$12,'[1]6P Shipments'!$D$10:$L$10,0))","v":40620.455632086196},{"$f":"INDEX('[1]6P Shipments'!$D$11:$L$35,MATCH(AW$13,'[1]6P Shipments'!$C$11:$C$35,0),MATCH($C$12,'[1]6P Shipments'!$D$10:$L$10,0))","v":40620.455632086196},{"$f":"INDEX('[1]6P Shipments'!$D$11:$L$35,MATCH(AX$13,'[1]6P Shipments'!$C$11:$C$35,0),MATCH($C$12,'[1]6P Shipments'!$D$10:$L$10,0))","v":40620.455632086196},{"$f":"INDEX('[1]6P Shipments'!$D$11:$L$35,MATCH(AY$13,'[1]6P Shipments'!$C$11:$C$35,0),MATCH($C$12,'[1]6P Shipments'!$D$10:$L$10,0))","v":40620.455632086196},{"$f":"INDEX('[1]6P Shipments'!$D$11:$L$35,MATCH(AZ$13,'[1]6P Shipments'!$C$11:$C$35,0),MATCH($C$12,'[1]6P Shipments'!$D$10:$L$10,0))","v":40620.455632086196}]
[null,null,"Replacement Shipments","(units)",{"$f":"OFFSET(INDEX('[1]SHIPMENTS - TOTAL'!$E$8:$BF$467,MATCH($C$12,'[1]SHIPMENTS - TOTAL'!$C$8:$C$25,0),MATCH(E$13,'[1]SHIPMENTS - TOTAL'!$E$7:$BF$7,0)),MATCH($C$9,'[1]SHIPMENTS - TOTAL'!$D$2:$D$467,0)-1,0)","v":{"$error":"#VALUE!"}},{"$f":"OFFSET(INDEX('[1]SHIPMENTS - TOTAL'!$E$8:$BF$467,MATCH($C$12,'[1]SHIPMENTS - TOTAL'!$C$8:$C$25,0),MATCH(F$13,'[1]SHIPMENTS - TOTAL'!$E$7:$BF$7,0)),MATCH($C$9,'[1]SHIPMENTS - TOTAL'!$D$2:$D$467,0)-1,0)","v":{"$error":"#VALUE!"}},{"$f":"OFFSET(INDEX('[1]SHIPMENTS - TOTAL'!$E$8:$BF$467,MATCH($C$12,'[1]SHIPMENTS - TOTAL'!$C$8:$C$25,0),MATCH(G$13,'[1]SHIPMENTS - TOTAL'!$E$7:$BF$7,0)),MATCH($C$9,'[1]SHIPMENTS - TOTAL'!$D$2:$D$467,0)-1,0)","v":{"$error":"#VALUE!"}},{"$f":"OFFSET(INDEX('[1]SHIPMENTS - TOTAL'!$E$8:$BF$467,MATCH($C$12,'[1]SHIPMENTS - TOTAL'!$C$8:$C$25,0),MATCH(H$13,'[1]SHIPMENTS - TOTAL'!$E$7:$BF$7,0)),MATCH($C$9,'[1]SHIPMENTS - TOTAL'!$D$2:$D$467,0)-1,0)","v":{"$error":"#VALUE!"}},{"$f":"OFFSET(INDEX('[1]SHIPMENTS - TOTAL'!$E$8:$BF$467,MATCH($C$12,'[1]SHIPMENTS - TOTAL'!$C$8:$C$25,0),MATCH(I$13,'[1]SHIPMENTS - TOTAL'!$E$7:$BF$7,0)),MATCH($C$9,'[1]SHIPMENTS - TOTAL'!$D$2:$D$467,0)-1,0)","v":{"$error":"#VALUE!"}},{"$f":"OFFSET(INDEX('[1]SHIPMENTS - TOTAL'!$E$8:$BF$467,MATCH($C$12,'[1]SHIPMENTS - TOTAL'!$C$8:$C$25,0),MATCH(J$13,'[1]SHIPMENTS - TOTAL'!$E$7:$BF$7,0)),MATCH($C$9,'[1]SHIPMENTS - TOTAL'!$D$2:$D$467,0)-1,0)","v":{"$error":"#VALUE!"}},{"$f":"OFFSET(INDEX('[1]SHIPMENTS - TOTAL'!$E$8:$BF$467,MATCH($C$12,'[1]SHIPMENTS - TOTAL'!$C$8:$C$25,0),MATCH(K$13,'[1]SHIPMENTS - TOTAL'!$E$7:$BF$7,0)),MATCH($C$9,'[1]SHIPMENTS - TOTAL'!$D$2:$D$467,0)-1,0)","v":{"$error":"#VALUE!"}},{"$f":"OFFSET(INDEX('[1]SHIPMENTS - TOTAL'!$E$8:$BF$467,MATCH($C$12,'[1]SHIPMENTS - TOTAL'!$C$8:$C$25,0),MATCH(L$13,'[1]SHIPMENTS - TOTAL'!$E$7:$BF$7,0)),MATCH($C$9,'[1]SHIPMENTS - TOTAL'!$D$2:$D$467,0)-1,0)","v":{"$error":"#VALUE!"}},{"$f":"OFFSET(INDEX('[1]SHIPMENTS - TOTAL'!$E$8:$BF$467,MATCH($C$12,'[1]SHIPMENTS - TOTAL'!$C$8:$C$25,0),MATCH(M$13,'[1]SHIPMENTS - TOTAL'!$E$7:$BF$7,0)),MATCH($C$9,'[1]SHIPMENTS - TOTAL'!$D$2:$D$467,0)-1,0)","v":{"$error":"#VALUE!"}},{"$f":"OFFSET(INDEX('[1]SHIPMENTS - TOTAL'!$E$8:$BF$467,MATCH($C$12,'[1]SHIPMENTS - TOTAL'!$C$8:$C$25,0),MATCH(N$13,'[1]SHIPMENTS - TOTAL'!$E$7:$BF$7,0)),MATCH($C$9,'[1]SHIPMENTS - TOTAL'!$D$2:$D$467,0)-1,0)","v":{"$error":"#VALUE!"}},{"$f":"OFFSET(INDEX('[1]SHIPMENTS - TOTAL'!$E$8:$BF$467,MATCH($C$12,'[1]SHIPMENTS - TOTAL'!$C$8:$C$25,0),MATCH(O$13,'[1]SHIPMENTS - TOTAL'!$E$7:$BF$7,0)),MATCH($C$9,'[1]SHIPMENTS - TOTAL'!$D$2:$D$467,0)-1,0)","v":{"$error":"#VALUE!"}},{"$f":"OFFSET(INDEX('[1]SHIPMENTS - TOTAL'!$E$8:$BF$467,MATCH($C$12,'[1]SHIPMENTS - TOTAL'!$C$8:$C$25,0),MATCH(P$13,'[1]SHIPMENTS - TOTAL'!$E$7:$BF$7,0)),MATCH($C$9,'[1]SHIPMENTS - TOTAL'!$D$2:$D$467,0)-1,0)","v":{"$error":"#VALUE!"}},{"$f":"OFFSET(INDEX('[1]SHIPMENTS - TOTAL'!$E$8:$BF$467,MATCH($C$12,'[1]SHIPMENTS - TOTAL'!$C$8:$C$25,0),MATCH(Q$13,'[1]SHIPMENTS - TOTAL'!$E$7:$BF$7,0)),MATCH($C$9,'[1]SHIPMENTS - TOTAL'!$D$2:$D$467,0)-1,0)","v":{"$error":"#VALUE!"}},{"$f":"OFFSET(INDEX('[1]SHIPMENTS - TOTAL'!$E$8:$BF$467,MATCH($C$12,'[1]SHIPMENTS - TOTAL'!$C$8:$C$25,0),MATCH(R$13,'[1]SHIPMENTS - TOTAL'!$E$7:$BF$7,0)),MATCH($C$9,'[1]SHIPMENTS - TOTAL'!$D$2:$D$467,0)-1,0)","v":{"$error":"#VALUE!"}},{"$f":"OFFSET(INDEX('[1]SHIPMENTS - TOTAL'!$E$8:$BF$467,MATCH($C$12,'[1]SHIPMENTS - TOTAL'!$C$8:$C$25,0),MATCH(S$13,'[1]SHIPMENTS - TOTAL'!$E$7:$BF$7,0)),MATCH($C$9,'[1]SHIPMENTS - TOTAL'!$D$2:$D$467,0)-1,0)","v":{"$error":"#VALUE!"}},{"$f":"OFFSET(INDEX('[1]SHIPMENTS - TOTAL'!$E$8:$BF$467,MATCH($C$12,'[1]SHIPMENTS - TOTAL'!$C$8:$C$25,0),MATCH(T$13,'[1]SHIPMENTS - TOTAL'!$E$7:$BF$7,0)),MATCH($C$9,'[1]SHIPMENTS - TOTAL'!$D$2:$D$467,0)-1,0)","v":{"$error":"#VALUE!"}},{"$f":"OFFSET(INDEX('[1]SHIPMENTS - TOTAL'!$E$8:$BF$467,MATCH($C$12,'[1]SHIPMENTS - TOTAL'!$C$8:$C$25,0),MATCH(U$13,'[1]SHIPMENTS - TOTAL'!$E$7:$BF$7,0)),MATCH($C$9,'[1]SHIPMENTS - TOTAL'!$D$2:$D$467,0)-1,0)","v":{"$error":"#VALUE!"}},{"$f":"OFFSET(INDEX('[1]SHIPMENTS - TOTAL'!$E$8:$BF$467,MATCH($C$12,'[1]SHIPMENTS - TOTAL'!$C$8:$C$25,0),MATCH(V$13,'[1]SHIPMENTS - TOTAL'!$E$7:$BF$7,0)),MATCH($C$9,'[1]SHIPMENTS - TOTAL'!$D$2:$D$467,0)-1,0)","v":{"$error":"#VALUE!"}},{"$f":"OFFSET(INDEX('[1]SHIPMENTS - TOTAL'!$E$8:$BF$467,MATCH($C$12,'[1]SHIPMENTS - TOTAL'!$C$8:$C$25,0),MATCH(W$13,'[1]SHIPMENTS - TOTAL'!$E$7:$BF$7,0)),MATCH($C$9,'[1]SHIPMENTS - TOTAL'!$D$2:$D$467,0)-1,0)","v":{"$error":"#VALUE!"}},{"$f":"OFFSET(INDEX('[1]SHIPMENTS - TOTAL'!$E$8:$BF$467,MATCH($C$12,'[1]SHIPMENTS - TOTAL'!$C$8:$C$25,0),MATCH(X$13,'[1]SHIPMENTS - TOTAL'!$E$7:$BF$7,0)),MATCH($C$9,'[1]SHIPMENTS - TOTAL'!$D$2:$D$467,0)-1,0)","v":{"$error":"#VALUE!"}},{"$f":"OFFSET(INDEX('[1]SHIPMENTS - TOTAL'!$E$8:$BF$467,MATCH($C$12,'[1]SHIPMENTS - TOTAL'!$C$8:$C$25,0),MATCH(Y$13,'[1]SHIPMENTS - TOTAL'!$E$7:$BF$7,0)),MATCH($C$9,'[1]SHIPMENTS - TOTAL'!$D$2:$D$467,0)-1,0)","v":{"$error":"#VALUE!"}},{"$f":"OFFSET(INDEX('[1]SHIPMENTS - TOTAL'!$E$8:$BF$467,MATCH($C$12,'[1]SHIPMENTS - TOTAL'!$C$8:$C$25,0),MATCH(Z$13,'[1]SHIPMENTS - TOTAL'!$E$7:$BF$7,0)),MATCH($C$9,'[1]SHIPMENTS - TOTAL'!$D$2:$D$467,0)-1,0)","v":{"$error":"#VALUE!"}},{"$f":"OFFSET(INDEX('[1]SHIPMENTS - TOTAL'!$E$8:$BF$467,MATCH($C$12,'[1]SHIPMENTS - TOTAL'!$C$8:$C$25,0),MATCH(AA$13,'[1]SHIPMENTS - TOTAL'!$E$7:$BF$7,0)),MATCH($C$9,'[1]SHIPMENTS - TOTAL'!$D$2:$D$467,0)-1,0)","v":{"$error":"#VALUE!"}},{"$f":"OFFSET(INDEX('[1]SHIPMENTS - TOTAL'!$E$8:$BF$467,MATCH($C$12,'[1]SHIPMENTS - TOTAL'!$C$8:$C$25,0),MATCH(AB$13,'[1]SHIPMENTS - TOTAL'!$E$7:$BF$7,0)),MATCH($C$9,'[1]SHIPMENTS - TOTAL'!$D$2:$D$467,0)-1,0)","v":{"$error":"#VALUE!"}},{"$f":"OFFSET(INDEX('[1]SHIPMENTS - TOTAL'!$E$8:$BF$467,MATCH($C$12,'[1]SHIPMENTS - TOTAL'!$C$8:$C$25,0),MATCH(AC$13,'[1]SHIPMENTS - TOTAL'!$E$7:$BF$7,0)),MATCH($C$9,'[1]SHIPMENTS - TOTAL'!$D$2:$D$467,0)-1,0)","v":{"$error":"#VALUE!"}},{"$f":"OFFSET(INDEX('[1]SHIPMENTS - TOTAL'!$E$8:$BF$467,MATCH($C$12,'[1]SHIPMENTS - TOTAL'!$C$8:$C$25,0),MATCH(AD$13,'[1]SHIPMENTS - TOTAL'!$E$7:$BF$7,0)),MATCH($C$9,'[1]SHIPMENTS - TOTAL'!$D$2:$D$467,0)-1,0)","v":{"$error":"#VALUE!"}},{"$f":"OFFSET(INDEX('[1]SHIPMENTS - TOTAL'!$E$8:$BF$467,MATCH($C$12,'[1]SHIPMENTS - TOTAL'!$C$8:$C$25,0),MATCH(AE$13,'[1]SHIPMENTS - TOTAL'!$E$7:$BF$7,0)),MATCH($C$9,'[1]SHIPMENTS - TOTAL'!$D$2:$D$467,0)-1,0)","v":{"$error":"#VALUE!"}},{"$f":"OFFSET(INDEX('[1]SHIPMENTS - TOTAL'!$E$8:$BF$467,MATCH($C$12,'[1]SHIPMENTS - TOTAL'!$C$8:$C$25,0),MATCH(AF$13,'[1]SHIPMENTS - TOTAL'!$E$7:$BF$7,0)),MATCH($C$9,'[1]SHIPMENTS - TOTAL'!$D$2:$D$467,0)-1,0)","v":{"$error":"#VALUE!"}},{"$f":"OFFSET(INDEX('[1]SHIPMENTS - TOTAL'!$E$8:$BF$467,MATCH($C$12,'[1]SHIPMENTS - TOTAL'!$C$8:$C$25,0),MATCH(AG$13,'[1]SHIPMENTS - TOTAL'!$E$7:$BF$7,0)),MATCH($C$9,'[1]SHIPMENTS - TOTAL'!$D$2:$D$467,0)-1,0)","v":{"$error":"#VALUE!"}},{"$f":"OFFSET(INDEX('[1]SHIPMENTS - TOTAL'!$E$8:$BF$467,MATCH($C$12,'[1]SHIPMENTS - TOTAL'!$C$8:$C$25,0),MATCH(AH$13,'[1]SHIPMENTS - TOTAL'!$E$7:$BF$7,0)),MATCH($C$9,'[1]SHIPMENTS - TOTAL'!$D$2:$D$467,0)-1,0)","v":{"$error":"#VALUE!"}},{"$f":"OFFSET(INDEX('[1]SHIPMENTS - TOTAL'!$E$8:$BF$467,MATCH($C$12,'[1]SHIPMENTS - TOTAL'!$C$8:$C$25,0),MATCH(AI$13,'[1]SHIPMENTS - TOTAL'!$E$7:$BF$7,0)),MATCH($C$9,'[1]SHIPMENTS - TOTAL'!$D$2:$D$467,0)-1,0)","v":{"$error":"#VALUE!"}},{"$f":"OFFSET(INDEX('[1]SHIPMENTS - TOTAL'!$E$8:$BF$467,MATCH($C$12,'[1]SHIPMENTS - TOTAL'!$C$8:$C$25,0),MATCH(AJ$13,'[1]SHIPMENTS - TOTAL'!$E$7:$BF$7,0)),MATCH($C$9,'[1]SHIPMENTS - TOTAL'!$D$2:$D$467,0)-1,0)","v":{"$error":"#VALUE!"}},{"$f":"OFFSET(INDEX('[1]SHIPMENTS - TOTAL'!$E$8:$BF$467,MATCH($C$12,'[1]SHIPMENTS - TOTAL'!$C$8:$C$25,0),MATCH(AK$13,'[1]SHIPMENTS - TOTAL'!$E$7:$BF$7,0)),MATCH($C$9,'[1]SHIPMENTS - TOTAL'!$D$2:$D$467,0)-1,0)","v":{"$error":"#VALUE!"}},{"$f":"OFFSET(INDEX('[1]SHIPMENTS - TOTAL'!$E$8:$BF$467,MATCH($C$12,'[1]SHIPMENTS - TOTAL'!$C$8:$C$25,0),MATCH(AL$13,'[1]SHIPMENTS - TOTAL'!$E$7:$BF$7,0)),MATCH($C$9,'[1]SHIPMENTS - TOTAL'!$D$2:$D$467,0)-1,0)","v":{"$error":"#VALUE!"}},{"$f":"OFFSET(INDEX('[1]SHIPMENTS - TOTAL'!$E$8:$BF$467,MATCH($C$12,'[1]SHIPMENTS - TOTAL'!$C$8:$C$25,0),MATCH(AM$13,'[1]SHIPMENTS - TOTAL'!$E$7:$BF$7,0)),MATCH($C$9,'[1]SHIPMENTS - TOTAL'!$D$2:$D$467,0)-1,0)","v":{"$error":"#VALUE!"}},{"$f":"OFFSET(INDEX('[1]SHIPMENTS - TOTAL'!$E$8:$BF$467,MATCH($C$12,'[1]SHIPMENTS - TOTAL'!$C$8:$C$25,0),MATCH(AN$13,'[1]SHIPMENTS - TOTAL'!$E$7:$BF$7,0)),MATCH($C$9,'[1]SHIPMENTS - TOTAL'!$D$2:$D$467,0)-1,0)","v":{"$error":"#VALUE!"}},{"$f":"OFFSET(INDEX('[1]SHIPMENTS - TOTAL'!$E$8:$BF$467,MATCH($C$12,'[1]SHIPMENTS - TOTAL'!$C$8:$C$25,0),MATCH(AO$13,'[1]SHIPMENTS - TOTAL'!$E$7:$BF$7,0)),MATCH($C$9,'[1]SHIPMENTS - TOTAL'!$D$2:$D$467,0)-1,0)","v":{"$error":"#VALUE!"}},{"$f":"OFFSET(INDEX('[1]SHIPMENTS - TOTAL'!$E$8:$BF$467,MATCH($C$12,'[1]SHIPMENTS - TOTAL'!$C$8:$C$25,0),MATCH(AP$13,'[1]SHIPMENTS - TOTAL'!$E$7:$BF$7,0)),MATCH($C$9,'[1]SHIPMENTS - TOTAL'!$D$2:$D$467,0)-1,0)","v":{"$error":"#VALUE!"}},{"$f":"OFFSET(INDEX('[1]SHIPMENTS - TOTAL'!$E$8:$BF$467,MATCH($C$12,'[1]SHIPMENTS - TOTAL'!$C$8:$C$25,0),MATCH(AQ$13,'[1]SHIPMENTS - TOTAL'!$E$7:$BF$7,0)),MATCH($C$9,'[1]SHIPMENTS - TOTAL'!$D$2:$D$467,0)-1,0)","v":{"$error":"#VALUE!"}},{"$f":"OFFSET(INDEX('[1]SHIPMENTS - TOTAL'!$E$8:$BF$467,MATCH($C$12,'[1]SHIPMENTS - TOTAL'!$C$8:$C$25,0),MATCH(AR$13,'[1]SHIPMENTS - TOTAL'!$E$7:$BF$7,0)),MATCH($C$9,'[1]SHIPMENTS - TOTAL'!$D$2:$D$467,0)-1,0)","v":{"$error":"#VALUE!"}},{"$f":"OFFSET(INDEX('[1]SHIPMENTS - TOTAL'!$E$8:$BF$467,MATCH($C$12,'[1]SHIPMENTS - TOTAL'!$C$8:$C$25,0),MATCH(AS$13,'[1]SHIPMENTS - TOTAL'!$E$7:$BF$7,0)),MATCH($C$9,'[1]SHIPMENTS - TOTAL'!$D$2:$D$467,0)-1,0)","v":{"$error":"#VALUE!"}},{"$f":"OFFSET(INDEX('[1]SHIPMENTS - TOTAL'!$E$8:$BF$467,MATCH($C$12,'[1]SHIPMENTS - TOTAL'!$C$8:$C$25,0),MATCH(AT$13,'[1]SHIPMENTS - TOTAL'!$E$7:$BF$7,0)),MATCH($C$9,'[1]SHIPMENTS - TOTAL'!$D$2:$D$467,0)-1,0)","v":{"$error":"#VALUE!"}},{"$f":"OFFSET(INDEX('[1]SHIPMENTS - TOTAL'!$E$8:$BF$467,MATCH($C$12,'[1]SHIPMENTS - TOTAL'!$C$8:$C$25,0),MATCH(AU$13,'[1]SHIPMENTS - TOTAL'!$E$7:$BF$7,0)),MATCH($C$9,'[1]SHIPMENTS - TOTAL'!$D$2:$D$467,0)-1,0)","v":{"$error":"#VALUE!"}},{"$f":"OFFSET(INDEX('[1]SHIPMENTS - TOTAL'!$E$8:$BF$467,MATCH($C$12,'[1]SHIPMENTS - TOTAL'!$C$8:$C$25,0),MATCH(AV$13,'[1]SHIPMENTS - TOTAL'!$E$7:$BF$7,0)),MATCH($C$9,'[1]SHIPMENTS - TOTAL'!$D$2:$D$467,0)-1,0)","v":{"$error":"#VALUE!"}},{"$f":"OFFSET(INDEX('[1]SHIPMENTS - TOTAL'!$E$8:$BF$467,MATCH($C$12,'[1]SHIPMENTS - TOTAL'!$C$8:$C$25,0),MATCH(AW$13,'[1]SHIPMENTS - TOTAL'!$E$7:$BF$7,0)),MATCH($C$9,'[1]SHIPMENTS - TOTAL'!$D$2:$D$467,0)-1,0)","v":{"$error":"#VALUE!"}},{"$f":"OFFSET(INDEX('[1]SHIPMENTS - TOTAL'!$E$8:$BF$467,MATCH($C$12,'[1]SHIPMENTS - TOTAL'!$C$8:$C$25,0),MATCH(AX$13,'[1]SHIPMENTS - TOTAL'!$E$7:$BF$7,0)),MATCH($C$9,'[1]SHIPMENTS - TOTAL'!$D$2:$D$467,0)-1,0)","v":{"$error":"#VALUE!"}},{"$f":"OFFSET(INDEX('[1]SHIPMENTS - TOTAL'!$E$8:$BF$467,MATCH($C$12,'[1]SHIPMENTS - TOTAL'!$C$8:$C$25,0),MATCH(AY$13,'[1]SHIPMENTS - TOTAL'!$E$7:$BF$7,0)),MATCH($C$9,'[1]SHIPMENTS - TOTAL'!$D$2:$D$467,0)-1,0)","v":{"$error":"#VALUE!"}},{"$f":"OFFSET(INDEX('[1]SHIPMENTS - TOTAL'!$E$8:$BF$467,MATCH($C$12,'[1]SHIPMENTS - TOTAL'!$C$8:$C$25,0),MATCH(AZ$13,'[1]SHIPMENTS - TOTAL'!$E$7:$BF$7,0)),MATCH($C$9,'[1]SHIPMENTS - TOTAL'!$D$2:$D$467,0)-1,0)","v":{"$error":"#VALUE!"}}]
[null,null,"Net New Shipments","(units)",{"$f":"OFFSET(INDEX('[1]SHIPMENTS - TOTAL'!$E$8:$BF$467,MATCH($C$12,'[1]SHIPMENTS - TOTAL'!$C$8:$C$25,0),MATCH(E$13,'[1]SHIPMENTS - TOTAL'!$E$7:$BF$7,0)),MATCH($C$9,'[1]SHIPMENTS - TOTAL'!$D$2:$D$467,0)-1+1,0)","v":{"$error":"#VALUE!"}},{"$f":"OFFSET(INDEX('[1]SHIPMENTS - TOTAL'!$E$8:$BF$467,MATCH($C$12,'[1]SHIPMENTS - TOTAL'!$C$8:$C$25,0),MATCH(F$13,'[1]SHIPMENTS - TOTAL'!$E$7:$BF$7,0)),MATCH($C$9,'[1]SHIPMENTS - TOTAL'!$D$2:$D$467,0)-1+1,0)","v":{"$error":"#VALUE!"}},{"$f":"OFFSET(INDEX('[1]SHIPMENTS - TOTAL'!$E$8:$BF$467,MATCH($C$12,'[1]SHIPMENTS - TOTAL'!$C$8:$C$25,0),MATCH(G$13,'[1]SHIPMENTS - TOTAL'!$E$7:$BF$7,0)),MATCH($C$9,'[1]SHIPMENTS - TOTAL'!$D$2:$D$467,0)-1+1,0)","v":{"$error":"#VALUE!"}},{"$f":"OFFSET(INDEX('[1]SHIPMENTS - TOTAL'!$E$8:$BF$467,MATCH($C$12,'[1]SHIPMENTS - TOTAL'!$C$8:$C$25,0),MATCH(H$13,'[1]SHIPMENTS - TOTAL'!$E$7:$BF$7,0)),MATCH($C$9,'[1]SHIPMENTS - TOTAL'!$D$2:$D$467,0)-1+1,0)","v":{"$error":"#VALUE!"}},{"$f":"OFFSET(INDEX('[1]SHIPMENTS - TOTAL'!$E$8:$BF$467,MATCH($C$12,'[1]SHIPMENTS - TOTAL'!$C$8:$C$25,0),MATCH(I$13,'[1]SHIPMENTS - TOTAL'!$E$7:$BF$7,0)),MATCH($C$9,'[1]SHIPMENTS - TOTAL'!$D$2:$D$467,0)-1+1,0)","v":{"$error":"#VALUE!"}},{"$f":"OFFSET(INDEX('[1]SHIPMENTS - TOTAL'!$E$8:$BF$467,MATCH($C$12,'[1]SHIPMENTS - TOTAL'!$C$8:$C$25,0),MATCH(J$13,'[1]SHIPMENTS - TOTAL'!$E$7:$BF$7,0)),MATCH($C$9,'[1]SHIPMENTS - TOTAL'!$D$2:$D$467,0)-1+1,0)","v":{"$error":"#VALUE!"}},{"$f":"OFFSET(INDEX('[1]SHIPMENTS - TOTAL'!$E$8:$BF$467,MATCH($C$12,'[1]SHIPMENTS - TOTAL'!$C$8:$C$25,0),MATCH(K$13,'[1]SHIPMENTS - TOTAL'!$E$7:$BF$7,0)),MATCH($C$9,'[1]SHIPMENTS - TOTAL'!$D$2:$D$467,0)-1+1,0)","v":{"$error":"#VALUE!"}},{"$f":"OFFSET(INDEX('[1]SHIPMENTS - TOTAL'!$E$8:$BF$467,MATCH($C$12,'[1]SHIPMENTS - TOTAL'!$C$8:$C$25,0),MATCH(L$13,'[1]SHIPMENTS - TOTAL'!$E$7:$BF$7,0)),MATCH($C$9,'[1]SHIPMENTS - TOTAL'!$D$2:$D$467,0)-1+1,0)","v":{"$error":"#VALUE!"}},{"$f":"OFFSET(INDEX('[1]SHIPMENTS - TOTAL'!$E$8:$BF$467,MATCH($C$12,'[1]SHIPMENTS - TOTAL'!$C$8:$C$25,0),MATCH(M$13,'[1]SHIPMENTS - TOTAL'!$E$7:$BF$7,0)),MATCH($C$9,'[1]SHIPMENTS - TOTAL'!$D$2:$D$467,0)-1+1,0)","v":{"$error":"#VALUE!"}},{"$f":"OFFSET(INDEX('[1]SHIPMENTS - TOTAL'!$E$8:$BF$467,MATCH($C$12,'[1]SHIPMENTS - TOTAL'!$C$8:$C$25,0),MATCH(N$13,'[1]SHIPMENTS - TOTAL'!$E$7:$BF$7,0)),MATCH($C$9,'[1]SHIPMENTS - TOTAL'!$D$2:$D$467,0)-1+1,0)","v":{"$error":"#VALUE!"}},{"$f":"OFFSET(INDEX('[1]SHIPMENTS - TOTAL'!$E$8:$BF$467,MATCH($C$12,'[1]SHIPMENTS - TOTAL'!$C$8:$C$25,0),MATCH(O$13,'[1]SHIPMENTS - TOTAL'!$E$7:$BF$7,0)),MATCH($C$9,'[1]SHIPMENTS - TOTAL'!$D$2:$D$467,0)-1+1,0)","v":{"$error":"#VALUE!"}},{"$f":"OFFSET(INDEX('[1]SHIPMENTS - TOTAL'!$E$8:$BF$467,MATCH($C$12,'[1]SHIPMENTS - TOTAL'!$C$8:$C$25,0),MATCH(P$13,'[1]SHIPMENTS - TOTAL'!$E$7:$BF$7,0)),MATCH($C$9,'[1]SHIPMENTS - TOTAL'!$D$2:$D$467,0)-1+1,0)","v":{"$error":"#VALUE!"}},{"$f":"OFFSET(INDEX('[1]SHIPMENTS - TOTAL'!$E$8:$BF$467,MATCH($C$12,'[1]SHIPMENTS - TOTAL'!$C$8:$C$25,0),MATCH(Q$13,'[1]SHIPMENTS - TOTAL'!$E$7:$BF$7,0)),MATCH($C$9,'[1]SHIPMENTS - TOTAL'!$D$2:$D$467,0)-1+1,0)","v":{"$error":"#VALUE!"}},{"$f":"OFFSET(INDEX('[1]SHIPMENTS - TOTAL'!$E$8:$BF$467,MATCH($C$12,'[1]SHIPMENTS - TOTAL'!$C$8:$C$25,0),MATCH(R$13,'[1]SHIPMENTS - TOTAL'!$E$7:$BF$7,0)),MATCH($C$9,'[1]SHIPMENTS - TOTAL'!$D$2:$D$467,0)-1+1,0)","v":{"$error":"#VALUE!"}},{"$f":"OFFSET(INDEX('[1]SHIPMENTS - TOTAL'!$E$8:$BF$467,MATCH($C$12,'[1]SHIPMENTS - TOTAL'!$C$8:$C$25,0),MATCH(S$13,'[1]SHIPMENTS - TOTAL'!$E$7:$BF$7,0)),MATCH($C$9,'[1]SHIPMENTS - TOTAL'!$D$2:$D$467,0)-1+1,0)","v":{"$error":"#VALUE!"}},{"$f":"OFFSET(INDEX('[1]SHIPMENTS - TOTAL'!$E$8:$BF$467,MATCH($C$12,'[1]SHIPMENTS - TOTAL'!$C$8:$C$25,0),MATCH(T$13,'[1]SHIPMENTS - TOTAL'!$E$7:$BF$7,0)),MATCH($C$9,'[1]SHIPMENTS - TOTAL'!$D$2:$D$467,0)-1+1,0)","v":{"$error":"#VALUE!"}},{"$f":"OFFSET(INDEX('[1]SHIPMENTS - TOTAL'!$E$8:$BF$467,MATCH($C$12,'[1]SHIPMENTS - TOTAL'!$C$8:$C$25,0),MATCH(U$13,'[1]SHIPMENTS - TOTAL'!$E$7:$BF$7,0)),MATCH($C$9,'[1]SHIPMENTS - TOTAL'!$D$2:$D$467,0)-1+1,0)","v":{"$error":"#VALUE!"}},{"$f":"OFFSET(INDEX('[1]SHIPMENTS - TOTAL'!$E$8:$BF$467,MATCH($C$12,'[1]SHIPMENTS - TOTAL'!$C$8:$C$25,0),MATCH(V$13,'[1]SHIPMENTS - TOTAL'!$E$7:$BF$7,0)),MATCH($C$9,'[1]SHIPMENTS - TOTAL'!$D$2:$D$467,0)-1+1,0)","v":{"$error":"#VALUE!"}},{"$f":"OFFSET(INDEX('[1]SHIPMENTS - TOTAL'!$E$8:$BF$467,MATCH($C$12,'[1]SHIPMENTS - TOTAL'!$C$8:$C$25,0),MATCH(W$13,'[1]SHIPMENTS - TOTAL'!$E$7:$BF$7,0)),MATCH($C$9,'[1]SHIPMENTS - TOTAL'!$D$2:$D$467,0)-1+1,0)","v":{"$error":"#VALUE!"}},{"$f":"OFFSET(INDEX('[1]SHIPMENTS - TOTAL'!$E$8:$BF$467,MATCH($C$12,'[1]SHIPMENTS - TOTAL'!$C$8:$C$25,0),MATCH(X$13,'[1]SHIPMENTS - TOTAL'!$E$7:$BF$7,0)),MATCH($C$9,'[1]SHIPMENTS - TOTAL'!$D$2:$D$467,0)-1+1,0)","v":{"$error":"#VALUE!"}},{"$f":"OFFSET(INDEX('[1]SHIPMENTS - TOTAL'!$E$8:$BF$467,MATCH($C$12,'[1]SHIPMENTS - TOTAL'!$C$8:$C$25,0),MATCH(Y$13,'[1]SHIPMENTS - TOTAL'!$E$7:$BF$7,0)),MATCH($C$9,'[1]SHIPMENTS - TOTAL'!$D$2:$D$467,0)-1+1,0)","v":{"$error":"#VALUE!"}},{"$f":"OFFSET(INDEX('[1]SHIPMENTS - TOTAL'!$E$8:$BF$467,MATCH($C$12,'[1]SHIPMENTS - TOTAL'!$C$8:$C$25,0),MATCH(Z$13,'[1]SHIPMENTS - TOTAL'!$E$7:$BF$7,0)),MATCH($C$9,'[1]SHIPMENTS - TOTAL'!$D$2:$D$467,0)-1+1,0)","v":{"$error":"#VALUE!"}},{"$f":"OFFSET(INDEX('[1]SHIPMENTS - TOTAL'!$E$8:$BF$467,MATCH($C$12,'[1]SHIPMENTS - TOTAL'!$C$8:$C$25,0),MATCH(AA$13,'[1]SHIPMENTS - TOTAL'!$E$7:$BF$7,0)),MATCH($C$9,'[1]SHIPMENTS - TOTAL'!$D$2:$D$467,0)-1+1,0)","v":{"$error":"#VALUE!"}},{"$f":"OFFSET(INDEX('[1]SHIPMENTS - TOTAL'!$E$8:$BF$467,MATCH($C$12,'[1]SHIPMENTS - TOTAL'!$C$8:$C$25,0),MATCH(AB$13,'[1]SHIPMENTS - TOTAL'!$E$7:$BF$7,0)),MATCH($C$9,'[1]SHIPMENTS - TOTAL'!$D$2:$D$467,0)-1+1,0)","v":{"$error":"#VALUE!"}},{"$f":"OFFSET(INDEX('[1]SHIPMENTS - TOTAL'!$E$8:$BF$467,MATCH($C$12,'[1]SHIPMENTS - TOTAL'!$C$8:$C$25,0),MATCH(AC$13,'[1]SHIPMENTS - TOTAL'!$E$7:$BF$7,0)),MATCH($C$9,'[1]SHIPMENTS - TOTAL'!$D$2:$D$467,0)-1+1,0)","v":{"$error":"#VALUE!"}},{"$f":"OFFSET(INDEX('[1]SHIPMENTS - TOTAL'!$E$8:$BF$467,MATCH($C$12,'[1]SHIPMENTS - TOTAL'!$C$8:$C$25,0),MATCH(AD$13,'[1]SHIPMENTS - TOTAL'!$E$7:$BF$7,0)),MATCH($C$9,'[1]SHIPMENTS - TOTAL'!$D$2:$D$467,0)-1+1,0)","v":{"$error":"#VALUE!"}},{"$f":"OFFSET(INDEX('[1]SHIPMENTS - TOTAL'!$E$8:$BF$467,MATCH($C$12,'[1]SHIPMENTS - TOTAL'!$C$8:$C$25,0),MATCH(AE$13,'[1]SHIPMENTS - TOTAL'!$E$7:$BF$7,0)),MATCH($C$9,'[1]SHIPMENTS - TOTAL'!$D$2:$D$467,0)-1+1,0)","v":{"$error":"#VALUE!"}},{"$f":"OFFSET(INDEX('[1]SHIPMENTS - TOTAL'!$E$8:$BF$467,MATCH($C$12,'[1]SHIPMENTS - TOTAL'!$C$8:$C$25,0),MATCH(AF$13,'[1]SHIPMENTS - TOTAL'!$E$7:$BF$7,0)),MATCH($C$9,'[1]SHIPMENTS - TOTAL'!$D$2:$D$467,0)-1+1,0)","v":{"$error":"#VALUE!"}},{"$f":"OFFSET(INDEX('[1]SHIPMENTS - TOTAL'!$E$8:$BF$467,MATCH($C$12,'[1]SHIPMENTS - TOTAL'!$C$8:$C$25,0),MATCH(AG$13,'[1]SHIPMENTS - TOTAL'!$E$7:$BF$7,0)),MATCH($C$9,'[1]SHIPMENTS - TOTAL'!$D$2:$D$467,0)-1+1,0)","v":{"$error":"#VALUE!"}},{"$f":"OFFSET(INDEX('[1]SHIPMENTS - TOTAL'!$E$8:$BF$467,MATCH($C$12,'[1]SHIPMENTS - TOTAL'!$C$8:$C$25,0),MATCH(AH$13,'[1]SHIPMENTS - TOTAL'!$E$7:$BF$7,0)),MATCH($C$9,'[1]SHIPMENTS - TOTAL'!$D$2:$D$467,0)-1+1,0)","v":{"$error":"#VALUE!"}},{"$f":"OFFSET(INDEX('[1]SHIPMENTS - TOTAL'!$E$8:$BF$467,MATCH($C$12,'[1]SHIPMENTS - TOTAL'!$C$8:$C$25,0),MATCH(AI$13,'[1]SHIPMENTS - TOTAL'!$E$7:$BF$7,0)),MATCH($C$9,'[1]SHIPMENTS - TOTAL'!$D$2:$D$467,0)-1+1,0)","v":{"$error":"#VALUE!"}},{"$f":"OFFSET(INDEX('[1]SHIPMENTS - TOTAL'!$E$8:$BF$467,MATCH($C$12,'[1]SHIPMENTS - TOTAL'!$C$8:$C$25,0),MATCH(AJ$13,'[1]SHIPMENTS - TOTAL'!$E$7:$BF$7,0)),MATCH($C$9,'[1]SHIPMENTS - TOTAL'!$D$2:$D$467,0)-1+1,0)","v":{"$error":"#VALUE!"}},{"$f":"OFFSET(INDEX('[1]SHIPMENTS - TOTAL'!$E$8:$BF$467,MATCH($C$12,'[1]SHIPMENTS - TOTAL'!$C$8:$C$25,0),MATCH(AK$13,'[1]SHIPMENTS - TOTAL'!$E$7:$BF$7,0)),MATCH($C$9,'[1]SHIPMENTS - TOTAL'!$D$2:$D$467,0)-1+1,0)","v":{"$error":"#VALUE!"}},{"$f":"OFFSET(INDEX('[1]SHIPMENTS - TOTAL'!$E$8:$BF$467,MATCH($C$12,'[1]SHIPMENTS - TOTAL'!$C$8:$C$25,0),MATCH(AL$13,'[1]SHIPMENTS - TOTAL'!$E$7:$BF$7,0)),MATCH($C$9,'[1]SHIPMENTS - TOTAL'!$D$2:$D$467,0)-1+1,0)","v":{"$error":"#VALUE!"}},{"$f":"OFFSET(INDEX('[1]SHIPMENTS - TOTAL'!$E$8:$BF$467,MATCH($C$12,'[1]SHIPMENTS - TOTAL'!$C$8:$C$25,0),MATCH(AM$13,'[1]SHIPMENTS - TOTAL'!$E$7:$BF$7,0)),MATCH($C$9,'[1]SHIPMENTS - TOTAL'!$D$2:$D$467,0)-1+1,0)","v":{"$error":"#VALUE!"}},{"$f":"OFFSET(INDEX('[1]SHIPMENTS - TOTAL'!$E$8:$BF$467,MATCH($C$12,'[1]SHIPMENTS - TOTAL'!$C$8:$C$25,0),MATCH(AN$13,'[1]SHIPMENTS - TOTAL'!$E$7:$BF$7,0)),MATCH($C$9,'[1]SHIPMENTS - TOTAL'!$D$2:$D$467,0)-1+1,0)","v":{"$error":"#VALUE!"}},{"$f":"OFFSET(INDEX('[1]SHIPMENTS - TOTAL'!$E$8:$BF$467,MATCH($C$12,'[1]SHIPMENTS - TOTAL'!$C$8:$C$25,0),MATCH(AO$13,'[1]SHIPMENTS - TOTAL'!$E$7:$BF$7,0)),MATCH($C$9,'[1]SHIPMENTS - TOTAL'!$D$2:$D$467,0)-1+1,0)","v":{"$error":"#VALUE!"}},{"$f":"OFFSET(INDEX('[1]SHIPMENTS - TOTAL'!$E$8:$BF$467,MATCH($C$12,'[1]SHIPMENTS - TOTAL'!$C$8:$C$25,0),MATCH(AP$13,'[1]SHIPMENTS - TOTAL'!$E$7:$BF$7,0)),MATCH($C$9,'[1]SHIPMENTS - TOTAL'!$D$2:$D$467,0)-1+1,0)","v":{"$error":"#VALUE!"}},{"$f":"OFFSET(INDEX('[1]SHIPMENTS - TOTAL'!$E$8:$BF$467,MATCH($C$12,'[1]SHIPMENTS - TOTAL'!$C$8:$C$25,0),MATCH(AQ$13,'[1]SHIPMENTS - TOTAL'!$E$7:$BF$7,0)),MATCH($C$9,'[1]SHIPMENTS - TOTAL'!$D$2:$D$467,0)-1+1,0)","v":{"$error":"#VALUE!"}},{"$f":"OFFSET(INDEX('[1]SHIPMENTS - TOTAL'!$E$8:$BF$467,MATCH($C$12,'[1]SHIPMENTS - TOTAL'!$C$8:$C$25,0),MATCH(AR$13,'[1]SHIPMENTS - TOTAL'!$E$7:$BF$7,0)),MATCH($C$9,'[1]SHIPMENTS - TOTAL'!$D$2:$D$467,0)-1+1,0)","v":{"$error":"#VALUE!"}},{"$f":"OFFSET(INDEX('[1]SHIPMENTS - TOTAL'!$E$8:$BF$467,MATCH($C$12,'[1]SHIPMENTS - TOTAL'!$C$8:$C$25,0),MATCH(AS$13,'[1]SHIPMENTS - TOTAL'!$E$7:$BF$7,0)),MATCH($C$9,'[1]SHIPMENTS - TOTAL'!$D$2:$D$467,0)-1+1,0)","v":{"$error":"#VALUE!"}},{"$f":"OFFSET(INDEX('[1]SHIPMENTS - TOTAL'!$E$8:$BF$467,MATCH($C$12,'[1]SHIPMENTS - TOTAL'!$C$8:$C$25,0),MATCH(AT$13,'[1]SHIPMENTS - TOTAL'!$E$7:$BF$7,0)),MATCH($C$9,'[1]SHIPMENTS - TOTAL'!$D$2:$D$467,0)-1+1,0)","v":{"$error":"#VALUE!"}},{"$f":"OFFSET(INDEX('[1]SHIPMENTS - TOTAL'!$E$8:$BF$467,MATCH($C$12,'[1]SHIPMENTS - TOTAL'!$C$8:$C$25,0),MATCH(AU$13,'[1]SHIPMENTS - TOTAL'!$E$7:$BF$7,0)),MATCH($C$9,'[1]SHIPMENTS - TOTAL'!$D$2:$D$467,0)-1+1,0)","v":{"$error":"#VALUE!"}},{"$f":"OFFSET(INDEX('[1]SHIPMENTS - TOTAL'!$E$8:$BF$467,MATCH($C$12,'[1]SHIPMENTS - TOTAL'!$C$8:$C$25,0),MATCH(AV$13,'[1]SHIPMENTS - TOTAL'!$E$7:$BF$7,0)),MATCH($C$9,'[1]SHIPMENTS - TOTAL'!$D$2:$D$467,0)-1+1,0)","v":{"$error":"#VALUE!"}},{"$f":"OFFSET(INDEX('[1]SHIPMENTS - TOTAL'!$E$8:$BF$467,MATCH($C$12,'[1]SHIPMENTS - TOTAL'!$C$8:$C$25,0),MATCH(AW$13,'[1]SHIPMENTS - TOTAL'!$E$7:$BF$7,0)),MATCH($C$9,'[1]SHIPMENTS - TOTAL'!$D$2:$D$467,0)-1+1,0)","v":{"$error":"#VALUE!"}},{"$f":"OFFSET(INDEX('[1]SHIPMENTS - TOTAL'!$E$8:$BF$467,MATCH($C$12,'[1]SHIPMENTS - TOTAL'!$C$8:$C$25,0),MATCH(AX$13,'[1]SHIPMENTS - TOTAL'!$E$7:$BF$7,0)),MATCH($C$9,'[1]SHIPMENTS - TOTAL'!$D$2:$D$467,0)-1+1,0)","v":{"$error":"#VALUE!"}},{"$f":"OFFSET(INDEX('[1]SHIPMENTS - TOTAL'!$E$8:$BF$467,MATCH($C$12,'[1]SHIPMENTS - TOTAL'!$C$8:$C$25,0),MATCH(AY$13,'[1]SHIPMENTS - TOTAL'!$E$7:$BF$7,0)),MATCH($C$9,'[1]SHIPMENTS - TOTAL'!$D$2:$D$467,0)-1+1,0)","v":{"$error":"#VALUE!"}},{"$f":"OFFSET(INDEX('[1]SHIPMENTS - TOTAL'!$E$8:$BF$467,MATCH($C$12,'[1]SHIPMENTS - TOTAL'!$C$8:$C$25,0),MATCH(AZ$13,'[1]SHIPMENTS - TOTAL'!$E$7:$BF$7,0)),MATCH($C$9,'[1]SHIPMENTS - TOTAL'!$D$2:$D$467,0)-1+1,0)","v":{"$error":"#VALUE!"}}]
[null,null,"Total Model Shipments","(units)",{"$f":"SUM(E15:E16)","v":{"$error":"#VALUE!"}},{"$error":"#VALUE!"},{"$error":"#VALUE!"},{"$error":"#VALUE!"},{"$error":"#VALUE!"},{"$error":"#VALUE!"},{"$error":"#VALUE!"},{"$error":"#VALUE!"},{"$error":"#VALUE!"},{"$error":"#VALUE!"},{"$error":"#VALUE!"},{"$error":"#VALUE!"},{"$error":"#VALUE!"},{"$error":"#VALUE!"},{"$error":"#VALUE!"},{"$error":"#VALUE!"},{"$error":"#VALUE!"},{"$error":"#VALUE!"},{"$error":"#VALUE!"},{"$error":"#VALUE!"},{"$error":"#VALUE!"},{"$error":"#VALUE!"},{"$error":"#VALUE!"},{"$error":"#VALUE!"},{"$error":"#VALUE!"},{"$error":"#VALUE!"},{"$error":"#VALUE!"},{"$error":"#VALUE!"},{"$error":"#VALUE!"},{"$error":"#VALUE!"},{"$error":"#VALUE!"},{"$error":"#VALUE!"},{"$error":"#VALUE!"},{"$error":"#VALUE!"},{"$error":"#VALUE!"},{"$error":"#VALUE!"},{"$error":"#VALUE!"},{"$error":"#VALUE!"},{"$error":"#VALUE!"},{"$error":"#VALUE!"},{"$error":"#VALUE!"},{"$error":"#VALUE!"},{"$error":"#VALUE!"},{"$error":"#VALUE!"},{"$error":"#VALUE!"},{"$error":"#VALUE!"},{"$error":"#VALUE!"},{"$error":"#VALUE!"}]
[null,null,"Model Installed Stock","(units)",{"$f":"OFFSET(INDEX('[1]STOCK - TOTAL'!$E$8:$BF$305,MATCH($C$12,'[1]STOCK - TOTAL'!$C$8:$C$16,0),MATCH(E$13,'[1]STOCK - TOTAL'!$E$7:$BF$7,0)),MATCH($C$9,'[1]STOCK - TOTAL'!$D:$D,0)-2,0)","v":{"$error":"#VALUE!"}},{"$f":"OFFSET(INDEX('[1]STOCK - TOTAL'!$E$8:$BF$305,MATCH($C$12,'[1]STOCK - TOTAL'!$C$8:$C$16,0),MATCH(F$13,'[1]STOCK - TOTAL'!$E$7:$BF$7,0)),MATCH($C$9,'[1]STOCK - TOTAL'!$D:$D,0)-2,0)","v":{"$error":"#VALUE!"}},{"$f":"OFFSET(INDEX('[1]STOCK - TOTAL'!$E$8:$BF$305,MATCH($C$12,'[1]STOCK - TOTAL'!$C$8:$C$16,0),MATCH(G$13,'[1]STOCK - TOTAL'!$E$7:$BF$7,0)),MATCH($C$9,'[1]STOCK - TOTAL'!$D:$D,0)-2,0)","v":{"$error":"#VALUE!"}},{"$f":"OFFSET(INDEX('[1]STOCK - TOTAL'!$E$8:$BF$305,MATCH($C$12,'[1]STOCK - TOTAL'!$C$8:$C$16,0),MATCH(H$13,'[1]STOCK - TOTAL'!$E$7:$BF$7,0)),MATCH($C$9,'[1]STOCK - TOTAL'!$D:$D,0)-2,0)","v":{"$error":"#VALUE!"}},{"$f":"OFFSET(INDEX('[1]STOCK - TOTAL'!$E$8:$BF$305,MATCH($C$12,'[1]STOCK - TOTAL'!$C$8:$C$16,0),MATCH(I$13,'[1]STOCK - TOTAL'!$E$7:$BF$7,0)),MATCH($C$9,'[1]STOCK - TOTAL'!$D:$D,0)-2,0)","v":{"$error":"#VALUE!"}},{"$f":"OFFSET(INDEX('[1]STOCK - TOTAL'!$E$8:$BF$305,MATCH($C$12,'[1]STOCK - TOTAL'!$C$8:$C$16,0),MATCH(J$13,'[1]STOCK - TOTAL'!$E$7:$BF$7,0)),MATCH($C$9,'[1]STOCK - TOTAL'!$D:$D,0)-2,0)","v":{"$error":"#VALUE!"}},{"$f":"OFFSET(INDEX('[1]STOCK - TOTAL'!$E$8:$BF$305,MATCH($C$12,'[1]STOCK - TOTAL'!$C$8:$C$16,0),MATCH(K$13,'[1]STOCK - TOTAL'!$E$7:$BF$7,0)),MATCH($C$9,'[1]STOCK - TOTAL'!$D:$D,0)-2,0)","v":{"$error":"#VALUE!"}},{"$f":"OFFSET(INDEX('[1]STOCK - TOTAL'!$E$8:$BF$305,MATCH($C$12,'[1]STOCK - TOTAL'!$C$8:$C$16,0),MATCH(L$13,'[1]STOCK - TOTAL'!$E$7:$BF$7,0)),MATCH($C$9,'[1]STOCK - TOTAL'!$D:$D,0)-2,0)","v":{"$error":"#VALUE!"}},{"$f":"OFFSET(INDEX('[1]STOCK - TOTAL'!$E$8:$BF$305,MATCH($C$12,'[1]STOCK - TOTAL'!$C$8:$C$16,0),MATCH(M$13,'[1]STOCK - TOTAL'!$E$7:$BF$7,0)),MATCH($C$9,'[1]STOCK - TOTAL'!$D:$D,0)-2,0)","v":{"$error":"#VALUE!"}},{"$f":"OFFSET(INDEX('[1]STOCK - TOTAL'!$E$8:$BF$305,MATCH($C$12,'[1]STOCK - TOTAL'!$C$8:$C$16,0),MATCH(N$13,'[1]STOCK - TOTAL'!$E$7:$BF$7,0)),MATCH($C$9,'[1]STOCK - TOTAL'!$D:$D,0)-2,0)","v":{"$error":"#VALUE!"}},{"$f":"OFFSET(INDEX('[1]STOCK - TOTAL'!$E$8:$BF$305,MATCH($C$12,'[1]STOCK - TOTAL'!$C$8:$C$16,0),MATCH(O$13,'[1]STOCK - TOTAL'!$E$7:$BF$7,0)),MATCH($C$9,'[1]STOCK - TOTAL'!$D:$D,0)-2,0)","v":{"$error":"#VALUE!"}},{"$f":"OFFSET(INDEX('[1]STOCK - TOTAL'!$E$8:$BF$305,MATCH($C$12,'[1]STOCK - TOTAL'!$C$8:$C$16,0),MATCH(P$13,'[1]STOCK - TOTAL'!$E$7:$BF$7,0)),MATCH($C$9,'[1]STOCK - TOTAL'!$D:$D,0)-2,0)","v":{"$error":"#VALUE!"}},{"$f":"OFFSET(INDEX('[1]STOCK - TOTAL'!$E$8:$BF$305,MATCH($C$12,'[1]STOCK - TOTAL'!$C$8:$C$16,0),MATCH(Q$13,'[1]STOCK - TOTAL'!$E$7:$BF$7,0)),MATCH($C$9,'[1]STOCK - TOTAL'!$D:$D,0)-2,0)","v":{"$error":"#VALUE!"}},{"$f":"OFFSET(INDEX('[1]STOCK - TOTAL'!$E$8:$BF$305,MATCH($C$12,'[1]STOCK - TOTAL'!$C$8:$C$16,0),MATCH(R$13,'[1]STOCK - TOTAL'!$E$7:$BF$7,0)),MATCH($C$9,'[1]STOCK - TOTAL'!$D:$D,0)-2,0)","v":{"$error":"#VALUE!"}},{"$f":"OFFSET(INDEX('[1]STOCK - TOTAL'!$E$8:$BF$305,MATCH($C$12,'[1]STOCK - TOTAL'!$C$8:$C$16,0),MATCH(S$13,'[1]STOCK - TOTAL'!$E$7:$BF$7,0)),MATCH($C$9,'[1]STOCK - TOTAL'!$D:$D,0)-2,0)","v":{"$error":"#VALUE!"}},{"$f":"OFFSET(INDEX('[1]STOCK - TOTAL'!$E$8:$BF$305,MATCH($C$12,'[1]STOCK - TOTAL'!$C$8:$C$16,0),MATCH(T$13,'[1]STOCK - TOTAL'!$E$7:$BF$7,0)),MATCH($C$9,'[1]STOCK - TOTAL'!$D:$D,0)-2,0)","v":{"$error":"#VALUE!"}},{"$f":"OFFSET(INDEX('[1]STOCK - TOTAL'!$E$8:$BF$305,MATCH($C$12,'[1]STOCK - TOTAL'!$C$8:$C$16,0),MATCH(U$13,'[1]STOCK - TOTAL'!$E$7:$BF$7,0)),MATCH($C$9,'[1]STOCK - TOTAL'!$D:$D,0)-2,0)","v":{"$error":"#VALUE!"}},{"$f":"OFFSET(INDEX('[1]STOCK - TOTAL'!$E$8:$BF$305,MATCH($C$12,'[1]STOCK - TOTAL'!$C$8:$C$16,0),MATCH(V$13,'[1]STOCK - TOTAL'!$E$7:$BF$7,0)),MATCH($C$9,'[1]STOCK - TOTAL'!$D:$D,0)-2,0)","v":{"$error":"#VALUE!"}},{"$f":"OFFSET(INDEX('[1]STOCK - TOTAL'!$E$8:$BF$305,MATCH($C$12,'[1]STOCK - TOTAL'!$C$8:$C$16,0),MATCH(W$13,'[1]STOCK - TOTAL'!$E$7:$BF$7,0)),MATCH($C$9,'[1]STOCK - TOTAL'!$D:$D,0)-2,0)","v":{"$error":"#VALUE!"}},{"$f":"OFFSET(INDEX('[1]STOCK - TOTAL'!$E$8:$BF$305,MATCH($C$12,'[1]STOCK - TOTAL'!$C$8:$C$16,0),MATCH(X$13,'[1]STOCK - TOTAL'!$E$7:$BF$7,0)),MATCH($C$9,'[1]STOCK - TOTAL'!$D:$D,0)-2,0)","v":{"$error":"#VALUE!"}},{"$f":"OFFSET(INDEX('[1]STOCK - TOTAL'!$E$8:$BF$305,MATCH($C$12,'[1]STOCK - TOTAL'!$C$8:$C$16,0),MATCH(Y$13,'[1]STOCK - TOTAL'!$E$7:$BF$7,0)),MATCH($C$9,'[1]STOCK - TOTAL'!$D:$D,0)-2,0)","v":{"$error":"#VALUE!"}},{"$f":"OFFSET(INDEX('[1]STOCK - TOTAL'!$E$8:$BF$305,MATCH($C$12,'[1]STOCK - TOTAL'!$C$8:$C$16,0),MATCH(Z$13,'[1]STOCK - TOTAL'!$E$7:$BF$7,0)),MATCH($C$9,'[1]STOCK - TOTAL'!$D:$D,0)-2,0)","v":{"$error":"#VALUE!"}},{"$f":"OFFSET(INDEX('[1]STOCK - TOTAL'!$E$8:$BF$305,MATCH($C$12,'[1]STOCK - TOTAL'!$C$8:$C$16,0),MATCH(AA$13,'[1]STOCK - TOTAL'!$E$7:$BF$7,0)),MATCH($C$9,'[1]STOCK - TOTAL'!$D:$D,0)-2,0)","v":{"$error":"#VALUE!"}},{"$f":"OFFSET(INDEX('[1]STOCK - TOTAL'!$E$8:$BF$305,MATCH($C$12,'[1]STOCK - TOTAL'!$C$8:$C$16,0),MATCH(AB$13,'[1]STOCK - TOTAL'!$E$7:$BF$7,0)),MATCH($C$9,'[1]STOCK - TOTAL'!$D:$D,0)-2,0)","v":{"$error":"#VALUE!"}},{"$f":"OFFSET(INDEX('[1]STOCK - TOTAL'!$E$8:$BF$305,MATCH($C$12,'[1]STOCK - TOTAL'!$C$8:$C$16,0),MATCH(AC$13,'[1]STOCK - TOTAL'!$E$7:$BF$7,0)),MATCH($C$9,'[1]STOCK - TOTAL'!$D:$D,0)-2,0)","v":{"$error":"#VALUE!"}},{"$f":"OFFSET(INDEX('[1]STOCK - TOTAL'!$E$8:$BF$305,MATCH($C$12,'[1]STOCK - TOTAL'!$C$8:$C$16,0),MATCH(AD$13,'[1]STOCK - TOTAL'!$E$7:$BF$7,0)),MATCH($C$9,'[1]STOCK - TOTAL'!$D:$D,0)-2,0)","v":{"$error":"#VALUE!"}},{"$f":"OFFSET(INDEX('[1]STOCK - TOTAL'!$E$8:$BF$305,MATCH($C$12,'[1]STOCK - TOTAL'!$C$8:$C$16,0),MATCH(AE$13,'[1]STOCK - TOTAL'!$E$7:$BF$7,0)),MATCH($C$9,'[1]STOCK - TOTAL'!$D:$D,0)-2,0)","v":{"$error":"#VALUE!"}},{"$f":"OFFSET(INDEX('[1]STOCK - TOTAL'!$E$8:$BF$305,MATCH($C$12,'[1]STOCK - TOTAL'!$C$8:$C$16,0),MATCH(AF$13,'[1]STOCK - TOTAL'!$E$7:$BF$7,0)),MATCH($C$9,'[1]STOCK - TOTAL'!$D:$D,0)-2,0)","v":{"$error":"#VALUE!"}},{"$f":"OFFSET(INDEX('[1]STOCK - TOTAL'!$E$8:$BF$305,MATCH($C$12,'[1]STOCK - TOTAL'!$C$8:$C$16,0),MATCH(AG$13,'[1]STOCK - TOTAL'!$E$7:$BF$7,0)),MATCH($C$9,'[1]STOCK - TOTAL'!$D:$D,0)-2,0)","v":{"$error":"#VALUE!"}},{"$f":"OFFSET(INDEX('[1]STOCK - TOTAL'!$E$8:$BF$305,MATCH($C$12,'[1]STOCK - TOTAL'!$C$8:$C$16,0),MATCH(AH$13,'[1]STOCK - TOTAL'!$E$7:$BF$7,0)),MATCH($C$9,'[1]STOCK - TOTAL'!$D:$D,0)-2,0)","v":{"$error":"#VALUE!"}},{"$f":"OFFSET(INDEX('[1]STOCK - TOTAL'!$E$8:$BF$305,MATCH($C$12,'[1]STOCK - TOTAL'!$C$8:$C$16,0),MATCH(AI$13,'[1]STOCK - TOTAL'!$E$7:$BF$7,0)),MATCH($C$9,'[1]STOCK - TOTAL'!$D:$D,0)-2,0)","v":{"$error":"#VALUE!"}},{"$f":"OFFSET(INDEX('[1]STOCK - TOTAL'!$E$8:$BF$305,MATCH($C$12,'[1]STOCK - TOTAL'!$C$8:$C$16,0),MATCH(AJ$13,'[1]STOCK - TOTAL'!$E$7:$BF$7,0)),MATCH($C$9,'[1]STOCK - TOTAL'!$D:$D,0)-2,0)","v":{"$error":"#VALUE!"}},{"$f":"OFFSET(INDEX('[1]STOCK - TOTAL'!$E$8:$BF$305,MATCH($C$12,'[1]STOCK - TOTAL'!$C$8:$C$16,0),MATCH(AK$13,'[1]STOCK - TOTAL'!$E$7:$BF$7,0)),MATCH($C$9,'[1]STOCK - TOTAL'!$D:$D,0)-2,0)","v":{"$error":"#VALUE!"}},{"$f":"OFFSET(INDEX('[1]STOCK - TOTAL'!$E$8:$BF$305,MATCH($C$12,'[1]STOCK - TOTAL'!$C$8:$C$16,0),MATCH(AL$13,'[1]STOCK - TOTAL'!$E$7:$BF$7,0)),MATCH($C$9,'[1]STOCK - TOTAL'!$D:$D,0)-2,0)","v":{"$error":"#VALUE!"}},{"$f":"OFFSET(INDEX('[1]STOCK - TOTAL'!$E$8:$BF$305,MATCH($C$12,'[1]STOCK - TOTAL'!$C$8:$C$16,0),MATCH(AM$13,'[1]STOCK - TOTAL'!$E$7:$BF$7,0)),MATCH($C$9,'[1]STOCK - TOTAL'!$D:$D,0)-2,0)","v":{"$error":"#VALUE!"}},{"$f":"OFFSET(INDEX('[1]STOCK - TOTAL'!$E$8:$BF$305,MATCH($C$12,'[1]STOCK - TOTAL'!$C$8:$C$16,0),MATCH(AN$13,'[1]STOCK - TOTAL'!$E$7:$BF$7,0)),MATCH($C$9,'[1]STOCK - TOTAL'!$D:$D,0)-2,0)","v":{"$error":"#VALUE!"}},{"$f":"OFFSET(INDEX('[1]STOCK - TOTAL'!$E$8:$BF$305,MATCH($C$12,'[1]STOCK - TOTAL'!$C$8:$C$16,0),MATCH(AO$13,'[1]STOCK - TOTAL'!$E$7:$BF$7,0)),MATCH($C$9,'[1]STOCK - TOTAL'!$D:$D,0)-2,0)","v":{"$error":"#VALUE!"}},{"$f":"OFFSET(INDEX('[1]STOCK - TOTAL'!$E$8:$BF$305,MATCH($C$12,'[1]STOCK - TOTAL'!$C$8:$C$16,0),MATCH(AP$13,'[1]STOCK - TOTAL'!$E$7:$BF$7,0)),MATCH($C$9,'[1]STOCK - TOTAL'!$D:$D,0)-2,0)","v":{"$error":"#VALUE!"}},{"$f":"OFFSET(INDEX('[1]STOCK - TOTAL'!$E$8:$BF$305,MATCH($C$12,'[1]STOCK - TOTAL'!$C$8:$C$16,0),MATCH(AQ$13,'[1]STOCK - TOTAL'!$E$7:$BF$7,0)),MATCH($C$9,'[1]STOCK - TOTAL'!$D:$D,0)-2,0)","v":{"$error":"#VALUE!"}},{"$f":"OFFSET(INDEX('[1]STOCK - TOTAL'!$E$8:$BF$305,MATCH($C$12,'[1]STOCK - TOTAL'!$C$8:$C$16,0),MATCH(AR$13,'[1]STOCK - TOTAL'!$E$7:$BF$7,0)),MATCH($C$9,'[1]STOCK - TOTAL'!$D:$D,0)-2,0)","v":{"$error":"#VALUE!"}},{"$f":"OFFSET(INDEX('[1]STOCK - TOTAL'!$E$8:$BF$305,MATCH($C$12,'[1]STOCK - TOTAL'!$C$8:$C$16,0),MATCH(AS$13,'[1]STOCK - TOTAL'!$E$7:$BF$7,0)),MATCH($C$9,'[1]STOCK - TOTAL'!$D:$D,0)-2,0)","v":{"$error":"#VALUE!"}},{"$f":"OFFSET(INDEX('[1]STOCK - TOTAL'!$E$8:$BF$305,MATCH($C$12,'[1]STOCK - TOTAL'!$C$8:$C$16,0),MATCH(AT$13,'[1]STOCK - TOTAL'!$E$7:$BF$7,0)),MATCH($C$9,'[1]STOCK - TOTAL'!$D:$D,0)-2,0)","v":{"$error":"#VALUE!"}},{"$f":"OFFSET(INDEX('[1]STOCK - TOTAL'!$E$8:$BF$305,MATCH($C$12,'[1]STOCK - TOTAL'!$C$8:$C$16,0),MATCH(AU$13,'[1]STOCK - TOTAL'!$E$7:$BF$7,0)),MATCH($C$9,'[1]STOCK - TOTAL'!$D:$D,0)-2,0)","v":{"$error":"#VALUE!"}},{"$f":"OFFSET(INDEX('[1]STOCK - TOTAL'!$E$8:$BF$305,MATCH($C$12,'[1]STOCK - TOTAL'!$C$8:$C$16,0),MATCH(AV$13,'[1]STOCK - TOTAL'!$E$7:$BF$7,0)),MATCH($C$9,'[1]STOCK - TOTAL'!$D:$D,0)-2,0)","v":{"$error":"#VALUE!"}},{"$f":"OFFSET(INDEX('[1]STOCK - TOTAL'!$E$8:$BF$305,MATCH($C$12,'[1]STOCK - TOTAL'!$C$8:$C$16,0),MATCH(AW$13,'[1]STOCK - TOTAL'!$E$7:$BF$7,0)),MATCH($C$9,'[1]STOCK - TOTAL'!$D:$D,0)-2,0)","v":{"$error":"#VALUE!"}},{"$f":"OFFSET(INDEX('[1]STOCK - TOTAL'!$E$8:$BF$305,MATCH($C$12,'[1]STOCK - TOTAL'!$C$8:$C$16,0),MATCH(AX$13,'[1]STOCK - TOTAL'!$E$7:$BF$7,0)),MATCH($C$9,'[1]STOCK - TOTAL'!$D:$D,0)-2,0)","v":{"$error":"#VALUE!"}},{"$f":"OFFSET(INDEX('[1]STOCK - TOTAL'!$E$8:$BF$305,MATCH($C$12,'[1]STOCK - TOTAL'!$C$8:$C$16,0),MATCH(AY$13,'[1]STOCK - TOTAL'!$E$7:$BF$7,0)),MATCH($C$9,'[1]STOCK - TOTAL'!$D:$D,0)-2,0)","v":{"$error":"#VALUE!"}},{"$f":"OFFSET(INDEX('[1]STOCK - TOTAL'!$E$8:$BF$305,MATCH($C$12,'[1]STOCK - TOTAL'!$C$8:$C$16,0),MATCH(AZ$13,'[1]STOCK - TOTAL'!$E$7:$BF$7,0)),MATCH($C$9,'[1]STOCK - TOTAL'!$D:$D,0)-2,0)","v":{"$error":"#VALUE!"}}]

{"sheet":"6P UEC Development","index":11,"n_rows":12,"n_cols":5,"rows_kept":12,"cut":false,"hidden":false,"merged":[]}
[]
[null,null,"Council UEC Development"]
[]
[null,null,"NAVIGATION"]
[]
[null,null,"COMMENTS"]
[]
[]
[null,null,"6P Average UEC",7171.8104464906,"kWh/year"]
[]
[null,null,"Source"]
[null,null,"Calculated from 6th plan UEC values using DOE 2014 Final Rule market share of each included product class."]

{"sheet":"UEC Development","index":12,"n_rows":556,"n_cols":5,"rows_kept":556,"cut":false,"hidden":false,"merged":[[1,2,1,3],[3,2,3,3],[5,2,5,3],[24,2,24,6],[25,2,25,6],[26,2,26,6],[27,2,27,6],[49,2,49,6],[50,2,50,6],[47,2,47,6],[48,2,48,6],[70,2,70,6],[71,2,71,6],[72,2,72,6],[73,2,73,6],[93,2,93,6],[94,2,94,6],[95,2,95,6],[96,2,96,6],[116,2,116,6],[117,2,117,6],[118,2,118,6],[119,2,119,6],[139,2,139,6],[140,2,140,6],[141,2,141,6],[142,2,142,6],[162,2,162,6],[163,2,163,6],[164,2,164,6],[165,2,165,6],[185,2,185,6],[186,2,186,6],[187,2,187,6],[188,2,188,6],[208,2,208,6],[209,2,209,6],[210,2,210,6],[211,2,211,6],[231,2,231,6],[232,2,232,6],[233,2,233,6],[234,2,234,6],[254,2,254,6],[255,2,255,6],[256,2,256,6],[257,2,257,6],[277,2,277,6],[278,2,278,6],[279,2,279,6],[280,2,280,6],[300,2,300,6],[301,2,301,6],[321,2,321,6],[322,2,322,6],[342,2,342,6],[343,2,343,6],[363,2,363,6],[364,2,364,6],[384,2,384,6],[385,2,385,6],[405,2,405,6],[406,2,406,6],[426,2,426,6],[427,2,427,6],[447,2,447,6],[448,2,448,6],[466,2,466,6],[467,2,467,6],[485,2,485,6],[552,2,552,6],[506,2,506,6],[507,2,507,6],[508,2,508,6],[509,2,509,6],[553,2,553,6],[554,2,554,6],[555,2,555,6],[529,2,529,6],[530,2,530,6],[531,2,531,6],[532,2,532,6]]}
[]
[null,null,"UEC Development "]
[]
[null,null,"NAVIGATION"]
[]
[null,null,"COMMENTS"]
[]
[]
[null,null,{"$f":"'Product Classes'!O10","v":"VOP.RC.M"}]
[]
[null,null,null,"Energy Consumption"]
[null,null,"Efficiency Level","Energy Factor"]
[null,null,null,"kWh/year Calculated","kWh/year per ft"]
[null,null,{"$f":"'Efficiency Levels'!C12","v":"EL0"},{"$f":"E14*'Equipment Specifications'!$D$12","v":17611.876571237255},1761.1876571237256]
[null,null,{"$f":"'Efficiency Levels'!C13","v":"EL1"},{"$f":"E15*'Equipment Specifications'!$D$12","v":14504.254149433773},1450.4254149433773]
[null,null,{"$f":"'Efficiency Levels'!C14","v":"EL2"},{"$f":"E16*'Equipment Specifications'!$D$12","v":14246.114180933646},1424.6114180933646]
[null,null,{"$f":"'Efficiency Levels'!C15","v":"EL3"},{"$f":"E17*'Equipment Specifications'!$D$12","v":11564.011248374145},1156.4011248374145]
[null,null,{"$f":"'Efficiency Levels'!C16","v":"EL4"},{"$f":"E18*'Equipment Specifications'!$D$12","v":11483.864535078837},1148.3864535078837]
[null,null,{"$f":"'Efficiency Levels'!C17","v":"EL5"},{"$f":"E19*'Equipment Specifications'!$D$12","v":10980.769516783677},1098.0769516783678]
[null,null,{"$f":"'Efficiency Levels'!C18","v":"EL6"},{"$f":"E20*'Equipment Specifications'!$D$12","v":10844.095967213381},1084.4095967213382]
[null,null,{"$f":"'Efficiency Levels'!C19","v":"EL7"},{"$f":"E21*'Equipment Specifications'!$D$12","v":10844.095967213381},1084.4095967213382]
[null,null,{"$f":"'Efficiency Levels'!C20","v":"EL8"},{"$f":"E22*'Equipment Specifications'!$D$12","v":10844.095967213381},1084.4095967213382]
[null,null,{"$f":"'Efficiency Levels'!C21","v":"EL9"},{"$f":"E23*'Equipment Specifications'!$D$12","v":10844.095967213381},1084.4095967213382]
[]
[null,null,"Sources: DOE Commercial Refrigeration Equipment 2014 Final Rule, Technical Support Document: Final Rule National Impact Analysis Spreadsheet, 'LCC Inputs' tab, cells B3:29, http://www.regulations.gov/#!documentDetail;D=EERE-2010-BT-STD-0003-0101"]
[null,null,"DOE Commercial Refrigeration Equipment 2009 Final Rule, Technical Support Document: 2008-12-31 National Impact Analysis Spreadsheet, 'Equipment parameters' tab, cells E19:M34, http://www.regulations.gov/#!documentDetail;D=EERE-2006-STD-0126-0080"]
[null,null,"TSL 4 was selected in the 2009 Final Rule. DOE Commercial Refrigeration Equipment 2009 Final Rule, Federal Register Notice, page 1136, \"Conclusion\" section, http://www.regulations.gov/#!documentDetail;D=EERE-2006-STD-0126-0005"]
[null,null,"TSL Mapping: DOE Commercial Refrigeration Equipment 2009 Final Rule, Technical Support Document: 2008-12-31 National Impact Analysis Spreadsheet, 'Labels' tab, cells B134:K151, http://www.regulations.gov/#!documentDetail;D=EERE-2006-STD-0126-0080"]
[]
[]
[]
[null,null,{"$f":"'Product Classes'!O11","v":"VOP.RC.L"}]
[]
[null,null,null,"Energy Consumption"]
[null,null,"Efficiency Level","Energy Factor"]
[null,null,null,"kWh/year Calculated","kWh/year per ft"]
[null,null,{"$f":"'Efficiency Levels'!C30","v":"EL0"},{"$f":"E37*'Equipment Specifications'!$D$13","v":40637.038977007309},4063.7038977007305]
[null,null,{"$f":"'Efficiency Levels'!C31","v":"EL1"},{"$f":"E38*'Equipment Specifications'!$D$13","v":32971.895534969815},3297.1895534969813]
[null,null,{"$f":"'Efficiency Levels'!C32","v":"EL2"},{"$f":"E39*'Equipment Specifications'!$D$13","v":32119.883357774619},3211.988335777462]
[null,null,{"$f":"'Efficiency Levels'!C33","v":"EL3"},{"$f":"E40*'Equipment Specifications'!$D$13","v":31917.738514508419},3191.7738514508419]
[null,null,{"$f":"'Efficiency Levels'!C34","v":"EL4"},{"$f":"E41*'Equipment Specifications'!$D$13","v":30931.202020113829},3093.1202020113828]
[null,null,{"$f":"'Efficiency Levels'!C35","v":"EL5"},{"$f":"E42*'Equipment Specifications'!$D$13","v":30418.541122189981},3041.8541122189981]
[null,null,{"$f":"'Efficiency Levels'!C36","v":"EL6"},{"$f":"E43*'Equipment Specifications'!$D$13","v":30418.541122189981},3041.8541122189981]
[null,null,{"$f":"'Efficiency Levels'!C37","v":"EL7"},{"$f":"E44*'Equipment Specifications'!$D$13","v":30418.541122189981},3041.8541122189981]
[null,null,{"$f":"'Efficiency Levels'!C38","v":"EL8"},{"$f":"E45*'Equipment Specifications'!$D$13","v":30418.541122189981},3041.8541122189981]
[null,null,{"$f":"'Efficiency Levels'!C39","v":"EL9"},{"$f":"E46*'Equipment Specifications'!$D$13","v":30418.541122189981},3041.8541122189981]
[]
[null,null,"Sources: DOE Commercial Refrigeration Equipment 2014 Final Rule, Technical Support Document: Final Rule National Impact Analysis Spreadsheet, 'LCC Inputs' tab, cells B3:29, http://www.regulations.gov/#!documentDetail;D=EERE-2010-BT-STD-0003-0101"]
[null,null,"DOE Commercial Refrigeration Equipment 2009 Final Rule, Technical Support Document: 2008-12-31 National Impact Analysis Spreadsheet, 'Equipment parameters' tab, cells E19:M34, http://www.regulations.gov/#!documentDetail;D=EERE-2006-STD-0126-0080"]
[null,null,"TSL 4 was selected in the 2009 Final Rule. DOE Commercial Refrigeration Equipment 2009 Final Rule, Federal Register Notice, page 1136, \"Conclusion\" section, http://www.regulations.gov/#!documentDetail;D=EERE-2006-STD-0126-0005"]
[null,null,"TSL Mapping: DOE Commercial Refrigeration Equipment 2009 Final Rule, Technical Support Document: 2008-12-31 National Impact Analysis Spreadsheet, 'Labels' tab, cells B134:K151, http://www.regulations.gov/#!documentDetail;D=EERE-2006-STD-0126-0080"]
[]
[]
[]
[null,null,{"$f":"'Product Classes'!O12","v":"SVO.RC.M"}]
[]
[null,null,null,"Energy Consumption"]
[null,null,"Efficiency Level","Energy Factor"]
[null,null,null,"kWh/year Calculated","kWh/year per ft"]
[null,null,{"$f":"'Efficiency Levels'!C48","v":"EL0"},{"$f":"E60*'Equipment Specifications'!$D$14","v":13250.861748327305},1325.0861748327304]
[null,null,{"$f":"'Efficiency Levels'!C49","v":"EL1"},{"$f":"E61*'Equipment Specifications'!$D$14","v":11053.500712296438},1105.3500712296438]
[null,null,{"$f":"'Efficiency Levels'!C50","v":"EL2"},{"$f":"E62*'Equipment Specifications'!$D$14","v":10869.843864600532},1086.9843864600532]
[null,null,{"$f":"'Efficiency Levels'!C51","v":"EL3"},{"$f":"E63*'Equipment Specifications'!$D$14","v":8956.6213834211158},895.66213834211158]
[null,null,{"$f":"'Efficiency Levels'!C52","v":"EL4"},{"$f":"E64*'Equipment Specifications'!$D$14","v":8563.6347121253202},856.36347121253209]
[null,null,{"$f":"'Efficiency Levels'!C53","v":"EL5"},{"$f":"E65*'Equipment Specifications'!$D$14","v":8521.6565762380178},852.16565762380185]
[null,null,{"$f":"'Efficiency Levels'!C54","v":"EL6"},{"$f":"E66*'Equipment Specifications'!$D$14","v":8426.0030251647804},842.60030251647811]
[null,null,{"$f":"'Efficiency Levels'!C55","v":"EL7"},{"$f":"E67*'Equipment Specifications'!$D$14","v":8426.0030251647804},842.60030251647811]
[null,null,{"$f":"'Efficiency Levels'!C56","v":"EL8"},{"$f":"E68*'Equipment Specifications'!$D$14","v":8426.0030251647804},842.60030251647811]
[null,null,{"$f":"'Efficiency Levels'!C57","v":"EL9"},{"$f":"E69*'Equipment Specifications'!$D$14","v":8426.0030251647804},842.60030251647811]
[]
[null,null,"Sources: DOE Commercial Refrigeration Equipment 2014 Final Rule, Technical Support Document: Final Rule National Impact Analysis Spreadsheet, 'LCC Inputs' tab, cells B3:29, http://www.regulations.gov/#!documentDetail;D=EERE-2010-BT-STD-0003-0101"]
[null,null,"DOE Commercial Refrigeration Equipment 2009 Final Rule, Technical Support Document: 2008-12-31 National Impact Analysis Spreadsheet, 'Equipment parameters' tab, cells E19:M34, http://www.regulations.gov/#!documentDetail;D=EERE-2006-STD-0126-0080"]
[null,null,"TSL 4 was selected in the 2009 Final Rule. DOE Commercial Refrigeration Equipment 2009 Final Rule, Federal Register Notice, page 1136, \"Conclusion\" section, http://www.regulations.gov/#!documentDetail;D=EERE-2006-STD-0126-0005"]
[null,null,"TSL Mapping: DOE Commercial Refrigeration Equipment 2009 Final Rule, Technical Support Document: 2008-12-31 National Impact Analysis Spreadsheet, 'Labels' tab, cells B134:K151, http://www.regulations.gov/#!documentDetail;D=EERE-2006-STD-0126-0080"]
[]
[]
[]
[null,null,{"$f":"'Product Classes'!O13","v":"HZO.RC.M"}]
[]
[null,null,null,"Energy Consumption"]
[null,null,"Efficiency Level","Energy Factor"]
[null,null,null,"kWh/year Calculated","kWh/year per ft"]
[null,null,{"$f":"'Efficiency Levels'!C66","v":"EL0"},{"$f":"E83*'Equipment Specifications'!$D$15","v":5971.2719297502008},597.12719297502008]
[null,null,{"$f":"'Efficiency Levels'!C67","v":"EL1"},{"$f":"E84*'Equipment Specifications'!$D$15","v":4421.8445823529328},442.18445823529328]
[null,null,{"$f":"'Efficiency Levels'!C68","v":"EL2"},{"$f":"E85*'Equipment Specifications'!$D$15","v":4401.4094242833489},440.14094242833494]
[null,null,{"$f":"'Efficiency Levels'!C69","v":"EL3"},{"$f":"E86*'Equipment Specifications'!$D$15","v":4303.8469385107355},430.38469385107356]
[null,null,{"$f":"'Efficiency Levels'!C70","v":"EL4"},{"$f":"E87*'Equipment Specifications'!$D$15","v":4303.8469385107355},430.38469385107356]
[null,null,{"$f":"'Efficiency Levels'!C71","v":"EL5"},{"$f":"E88*'Equipment Specifications'!$D$15","v":4303.8469385107355},430.38469385107356]
[null,null,{"$f":"'Efficiency Levels'!C72","v":"EL6"},{"$f":"E89*'Equipment Specifications'!$D$15","v":4303.8469385107355},430.38469385107356]
[null,null,{"$f":"'Efficiency Levels'!C73","v":"EL7"},{"$f":"E90*'Equipment Specifications'!$D$15","v":4303.8469385107355},430.38469385107356]
[null,null,{"$f":"'Efficiency Levels'!C74","v":"EL8"},{"$f":"E91*'Equipment Specifications'!$D$15","v":4303.8469385107355},430.38469385107356]
[null,null,{"$f":"'Efficiency Levels'!C75","v":"EL9"},{"$f":"E92*'Equipment Specifications'!$D$15","v":4303.8469385107355},430.38469385107356]
[]
[null,null,"Sources: DOE Commercial Refrigeration Equipment 2014 Final Rule, Technical Support Document: Final Rule National Impact Analysis Spreadsheet, 'LCC Inputs' tab, cells B3:29, http://www.regulations.gov/#!documentDetail;D=EERE-2010-BT-STD-0003-0101"]
[null,null,"DOE Commercial Refrigeration Equipment 2009 Final Rule, Technical Support Document: 2008-12-31 National Impact Analysis Spreadsheet, 'Equipment parameters' tab, cells E19:M34, http://www.regulations.gov/#!documentDetail;D=EERE-2006-STD-0126-0080"]
[null,null,"TSL 4 was selected in the 2009 Final Rule. DOE Commercial Refrigeration Equipment 2009 Final Rule, Federal Register Notice, page 1136, \"Conclusion\" section, http://www.regulations.gov/#!documentDetail;D=EERE-2006-STD-0126-0005"]
[null,null,"TSL Mapping: DOE Commercial Refrigeration Equipment 2009 Final Rule, Technical Support Document: 2008-12-31 National Impact Analysis Spreadsheet, 'Labels' tab, cells B134:K151, http://www.regulations.gov/#!documentDetail;D=EERE-2006-STD-0126-0080"]
[]
[]
[]
[null,null,{"$f":"'Product Classes'!O14","v":"HZO.RC.L"}]
[]
[null,null,null,"Energy Consumption"]
[null,null,"Efficiency Level","Energy Factor"]
[null,null,null,"kWh/year Calculated","kWh/year per ft"]
[null,null,{"$f":"'Efficiency Levels'!C84","v":"EL0"},{"$f":"E106*'Equipment Specifications'!$D$16","v":11673.202446776269},1167.320244677627]
[null,null,{"$f":"'Efficiency Levels'!C85","v":"EL1"},{"$f":"E107*'Equipment Specifications'!$D$16","v":10027.135779006545},1002.7135779006545]
[null,null,{"$f":"'Efficiency Levels'!C86","v":"EL2"},{"$f":"E108*'Equipment Specifications'!$D$16","v":9843.058770360436},984.30587703604363]
[null,null,{"$f":"'Efficiency Levels'!C87","v":"EL3"},{"$f":"E109*'Equipment Specifications'!$D$16","v":9453.0387687193052},945.30387687193058]
[null,null,{"$f":"'Efficiency Levels'!C88","v":"EL4"},{"$f":"E110*'Equipment Specifications'!$D$16","v":9453.0387687193052},945.30387687193058]
[null,null,{"$f":"'Efficiency Levels'!C89","v":"EL5"},{"$f":"E111*'Equipment Specifications'!$D$16","v":9453.0387687193052},945.30387687193058]
[null,null,{"$f":"'Efficiency Levels'!C90","v":"EL6"},{"$f":"E112*'Equipment Specifications'!$D$16","v":9453.0387687193052},945.30387687193058]
[null,null,{"$f":"'Efficiency Levels'!C91","v":"EL7"},{"$f":"E113*'Equipment Specifications'!$D$16","v":9453.0387687193052},945.30387687193058]
[null,null,{"$f":"'Efficiency Levels'!C92","v":"EL8"},{"$f":"E114*'Equipment Specifications'!$D$16","v":9453.0387687193052},945.30387687193058]
[null,null,{"$f":"'Efficiency Levels'!C93","v":"EL9"},{"$f":"E115*'Equipment Specifications'!$D$16","v":9453.0387687193052},945.30387687193058]
[]
[null,null,"Sources: DOE Commercial Refrigeration Equipment 2014 Final Rule, Technical Support Document: Final Rule National Impact Analysis Spreadsheet, 'LCC Inputs' tab, cells B3:29, http://www.regulations.gov/#!documentDetail;D=EERE-2010-BT-STD-0003-0101"]
[null,null,"DOE Commercial Refrigeration Equipment 2009 Final Rule, Technical Support Document: 2008-12-31 National Impact Analysis Spreadsheet, 'Equipment parameters' tab, cells E19:M34, http://www.regulations.gov/#!documentDetail;D=EERE-2006-STD-0126-0080"]
[null,null,"TSL 4 was selected in the 2009 Final Rule. DOE Commercial Refrigeration Equipment 2009 Final Rule, Federal Register Notice, page 1136, \"Conclusion\" section, http://www.regulations.gov/#!documentDetail;D=EERE-2006-STD-0126-0005"]
[null,null,"TSL Mapping: DOE Commercial Refrigeration Equipment 2009 Final Rule, Technical Support Document: 2008-12-31 National Impact Analysis Spreadsheet, 'Labels' tab, cells B134:K151, http://www.regulations.gov/#!documentDetail;D=EERE-2006-STD-0126-0080"]
[]
[]
[]
[null,null,{"$f":"'Product Classes'!O15","v":"VCT.RC.M"}]
[]
[null,null,null,"Energy Consumption"]
[null,null,"Efficiency Level","Energy Factor"]
[null,null,null,"kWh/year Calculated","kWh/year per ft"]
[null,null,{"$f":"'Efficiency Levels'!C102","v":"EL0"},{"$f":"E129*'Equipment Specifications'!$D$17","v":9518.1254644031924},951.81254644031924]
[null,null,{"$f":"'Efficiency Levels'!C103","v":"EL1"},{"$f":"E130*'Equipment Specifications'!$D$17","v":4639.6918921596662},463.96918921596659]
[null,null,{"$f":"'Efficiency Levels'!C104","v":"EL2"},{"$f":"E131*'Equipment Specifications'!$D$17","v":3914.0214718291718},391.40214718291719]
[null,null,{"$f":"'Efficiency Levels'!C105","v":"EL3"},{"$f":"E132*'Equipment Specifications'!$D$17","v":3384.8152665927582},338.4815266592758]
[null,null,{"$f":"'Efficiency Levels'!C106","v":"EL4"},{"$f":"E133*'Equipment Specifications'!$D$17","v":3313.4012400708934},331.34012400708934]
[null,null,{"$f":"'Efficiency Levels'!C107","v":"EL5"},{"$f":"E134*'Equipment Specifications'!$D$17","v":3294.3115430062649},329.43115430062647]
[null,null,{"$f":"'Efficiency Levels'!C108","v":"EL6"},{"$f":"E135*'Equipment Specifications'!$D$17","v":3151.847562194539},315.1847562194539]
[null,null,{"$f":"'Efficiency Levels'!C109","v":"EL7"},{"$f":"E136*'Equipment Specifications'!$D$17","v":3151.847562194539},315.1847562194539]
[null,null,{"$f":"'Efficiency Levels'!C110","v":"EL8"},{"$f":"E137*'Equipment Specifications'!$D$17","v":3151.847562194539},315.1847562194539]
[null,null,{"$f":"'Efficiency Levels'!C111","v":"EL9"},{"$f":"E138*'Equipment Specifications'!$D$17","v":3151.847562194539},315.1847562194539]
[]
[null,null,"Sources: DOE Commercial Refrigeration Equipment 2014 Final Rule, Technical Support Document: Final Rule National Impact Analysis Spreadsheet, 'LCC Inputs' tab, cells B3:29, http://www.regulations.gov/#!documentDetail;D=EERE-2010-BT-STD-0003-0101"]
[null,null,"DOE Commercial Refrigeration Equipment 2009 Final Rule, Technical Support Document: 2008-12-31 National Impact Analysis Spreadsheet, 'Equipment parameters' tab, cells E19:M34, http://www.regulations.gov/#!documentDetail;D=EERE-2006-STD-0126-0080"]
[null,null,"TSL 4 was selected in the 2009 Final Rule. DOE Commercial Refrigeration Equipment 2009 Final Rule, Federal Register Notice, page 1136, \"Conclusion\" section, http://www.regulations.gov/#!documentDetail;D=EERE-2006-STD-0126-0005"]
[null,null,"TSL Mapping: DOE Commercial Refrigeration Equipment 2009 Final Rule, Technical Support Document: 2008-12-31 National Impact Analysis Spreadsheet, 'Labels' tab, cells B134:K151, http://www.regulations.gov/#!documentDetail;D=EERE-2006-STD-0126-0080"]
[]
[]
[]
[null,null,{"$f":"'Product Classes'!O16","v":"VCT.RC.L"}]
[]
[null,null,null,"Energy Consumption"]
[null,null,"Efficiency Level","Energy Factor"]
[null,null,null,"kWh/year Calculated","kWh/year per ft"]
[null,null,{"$f":"'Efficiency Levels'!C120","v":"EL0"},{"$f":"E152*'Equipment Specifications'!$D$18","v":19856.601246927599},1985.6601246927601]
[null,null,{"$f":"'Efficiency Levels'!C121","v":"EL1"},{"$f":"E153*'Equipment Specifications'!$D$18","v":11226.414151543921},1122.641415154392]
[null,null,{"$f":"'Efficiency Levels'!C122","v":"EL2"},{"$f":"E154*'Equipment Specifications'!$D$18","v":10741.162304227797},1074.1162304227796]
[null,null,{"$f":"'Efficiency Levels'!C123","v":"EL3"},{"$f":"E155*'Equipment Specifications'!$D$18","v":10124.07000909045},1012.407000909045]
[null,null,{"$f":"'Efficiency Levels'!C124","v":"EL4"},{"$f":"E156*'Equipment Specifications'!$D$18","v":9964.0799754321106},996.40799754321108]
[null,null,{"$f":"'Efficiency Levels'!C125","v":"EL5"},{"$f":"E157*'Equipment Specifications'!$D$18","v":9884.8878075916582},988.48878075916582]
[null,null,{"$f":"'Efficiency Levels'!C126","v":"EL6"},{"$f":"E158*'Equipment Specifications'!$D$18","v":9467.0870661056888},946.70870661056892]
[null,null,{"$f":"'Efficiency Levels'!C127","v":"EL7"},{"$f":"E159*'Equipment Specifications'!$D$18","v":9467.0870661056888},946.70870661056892]
[null,null,{"$f":"'Efficiency Levels'!C128","v":"EL8"},{"$f":"E160*'Equipment Specifications'!$D$18","v":9467.0870661056888},946.70870661056892]
[null,null,{"$f":"'Efficiency Levels'!C129","v":"EL9"},{"$f":"E161*'Equipment Specifications'!$D$18","v":9467.0870661056888},946.70870661056892]
[]
[null,null,"Sources: DOE Commercial Refrigeration Equipment 2014 Final Rule, Technical Support Document: Final Rule National Impact Analysis Spreadsheet, 'LCC Inputs' tab, cells B3:29, http://www.regulations.gov/#!documentDetail;D=EERE-2010-BT-STD-0003-0101"]
[null,null,"DOE Commercial Refrigeration Equipment 2009 Final Rule, Technical Support Document: 2008-12-31 National Impact Analysis Spreadsheet, 'Equipment parameters' tab, cells E19:M34, http://www.regulations.gov/#!documentDetail;D=EERE-2006-STD-0126-0080"]
[null,null,"TSL 4 was selected in the 2009 Final Rule. DOE Commercial Refrigeration Equipment 2009 Final Rule, Federal Register Notice, page 1136, \"Conclusion\" section, http://www.regulations.gov/#!documentDetail;D=EERE-2006-STD-0126-0005"]
[null,null,"TSL Mapping: DOE Commercial Refrigeration Equipment 2009 Final Rule, Technical Support Document: 2008-12-31 National Impact Analysis Spreadsheet, 'Labels' tab, cells B134:K151, http://www.regulations.gov/#!documentDetail;D=EERE-2006-STD-0126-0080"]
[]
[]
[]
[null,null,{"$f":"'Product Classes'!O17","v":"SOC.RC.M"}]
[]
[null,null,null,"Energy Consumption"]
[null,null,"Efficiency Level","Energy Factor"]
[null,null,null,"kWh/year Calculated","kWh/year per ft"]
[null,null,{"$f":"'Efficiency Levels'!C138","v":"EL0"},{"$f":"E175*'Equipment Specifications'!$D$19","v":7713.0128218027394},964.12660272534242]
[null,null,{"$f":"'Efficiency Levels'!C139","v":"EL1"},{"$f":"E176*'Equipment Specifications'!$D$19","v":6384.8382741657942},798.10478427072428]
[null,null,{"$f":"'Efficiency Levels'!C140","v":"EL2"},{"$f":"E177*'Equipment Specifications'!$D$19","v":5533.4502954447016},691.6812869305877]
[null,null,{"$f":"'Efficiency Levels'!C141","v":"EL3"},{"$f":"E178*'Equipment Specifications'!$D$19","v":5429.3056288649132},678.66320360811415]
[null,null,{"$f":"'Efficiency Levels'!C142","v":"EL4"},{"$f":"E179*'Equipment Specifications'!$D$19","v":5333.2717209383054},666.65896511728818]
[null,null,{"$f":"'Efficiency Levels'!C143","v":"EL5"},{"$f":"E180*'Equipment Specifications'!$D$19","v":5304.5274286278091},663.06592857847613]
[null,null,{"$f":"'Efficiency Levels'!C144","v":"EL6"},{"$f":"E181*'Equipment Specifications'!$D$19","v":5246.2521280466344},655.7815160058293]
[null,null,{"$f":"'Efficiency Levels'!C145","v":"EL7"},{"$f":"E182*'Equipment Specifications'!$D$19","v":5246.2521280466344},655.7815160058293]
[null,null,{"$f":"'Efficiency Levels'!C146","v":"EL8"},{"$f":"E183*'Equipment Specifications'!$D$19","v":5246.2521280466344},655.7815160058293]
[null,null,{"$f":"'Efficiency Levels'!C147","v":"EL9"},{"$f":"E184*'Equipment Specifications'!$D$19","v":5246.2521280466344},655.7815160058293]
[]
[null,null,"Sources: DOE Commercial Refrigeration Equipment 2014 Final Rule, Technical Support Document: Final Rule National Impact Analysis Spreadsheet, 'LCC Inputs' tab, cells B3:29, http://www.regulations.gov/#!documentDetail;D=EERE-2010-BT-STD-0003-0101"]
[null,null,"DOE Commercial Refrigeration Equipment 2009 Final Rule, Technical Support Document: 2008-12-31 National Impact Analysis Spreadsheet, 'Equipment parameters' tab, cells E19:M34, http://www.regulations.gov/#!documentDetail;D=EERE-2006-STD-0126-0080"]
[null,null,"TSL 4 was selected in the 2009 Final Rule. DOE Commercial Refrigeration Equipment 2009 Final Rule, Federal Register Notice, page 1136, \"Conclusion\" section, http://www.regulations.gov/#!documentDetail;D=EERE-2006-STD-0126-0005"]
[null,null,"TSL Mapping: DOE Commercial Refrigeration Equipment 2009 Final Rule, Technical Support Document: 2008-12-31 National Impact Analysis Spreadsheet, 'Labels' tab, cells B134:K151, http://www.regulations.gov/#!documentDetail;D=EERE-2006-STD-0126-0080"]
[]
[]
[]
[null,null,{"$f":"'Product Classes'!O18","v":"VOP.SC.M"}]
[]
[null,null,null,"Energy Consumption"]
[null,null,"Efficiency Level","Energy Factor"]
[null,null,null,"kWh/year Calculated","kWh/year per ft"]
[null,null,{"$f":"'Efficiency Levels'!C156","v":"EL0"},{"$f":"E198*'Equipment Specifications'!$D$20","v":14454.022892624265},3613.5057231560663]
[null,null,{"$f":"'Efficiency Levels'!C157","v":"EL1"},{"$f":"E199*'Equipment Specifications'!$D$20","v":11206.310920162394},2801.5777300405985]
[null,null,{"$f":"'Efficiency Levels'!C158","v":"EL2"},{"$f":"E200*'Equipment Specifications'!$D$20","v":10952.589380589838},2738.1473451474594]
[null,null,{"$f":"'Efficiency Levels'!C159","v":"EL3"},{"$f":"E201*'Equipment Specifications'!$D$20","v":10917.332831134923},2729.3332077837308]
[null,null,{"$f":"'Efficiency Levels'!C160","v":"EL4"},{"$f":"E202*'Equipment Specifications'!$D$20","v":10845.610479854964},2711.402619963741]
[null,null,{"$f":"'Efficiency Levels'!C161","v":"EL5"},{"$f":"E203*'Equipment Specifications'!$D$20","v":10845.610479854964},2711.402619963741]
[null,null,{"$f":"'Efficiency Levels'!C162","v":"EL6"},{"$f":"E204*'Equipment Specifications'!$D$20","v":10845.610479854964},2711.402619963741]
[null,null,{"$f":"'Efficiency Levels'!C163","v":"EL7"},{"$f":"E205*'Equipment Specifications'!$D$20","v":10845.610479854964},2711.402619963741]
[null,null,{"$f":"'Efficiency Levels'!C164","v":"EL8"},{"$f":"E206*'Equipment Specifications'!$D$20","v":10845.610479854964},2711.402619963741]
[null,null,{"$f":"'Efficiency Levels'!C165","v":"EL9"},{"$f":"E207*'Equipment Specifications'!$D$20","v":10845.610479854964},2711.402619963741]
[]
[null,null,"Sources: DOE Commercial Refrigeration Equipment 2014 Final Rule, Technical Support Document: Final Rule National Impact Analysis Spreadsheet, 'LCC Inputs' tab, cells B3:29, http://www.regulations.gov/#!documentDetail;D=EERE-2010-BT-STD-0003-0101"]
[null,null,"DOE Commercial Refrigeration Equipment 2009 Final Rule, Technical Support Document: 2008-12-31 National Impact Analysis Spreadsheet, 'Equipment parameters' tab, cells E19:M34, http://www.regulations.gov/#!documentDetail;D=EERE-2006-STD-0126-0080"]
[null,null,"TSL 4 was selected in the 2009 Final Rule. DOE Commercial Refrigeration Equipment 2009 Final Rule, Federal Register Notice, page 1136, \"Conclusion\" section, http://www.regulations.gov/#!documentDetail;D=EERE-2006-STD-0126-0005"]
[null,null,"TSL Mapping: DOE Commercial Refrigeration Equipment 2009 Final Rule, Technical Support Document: 2008-12-31 National Impact Analysis Spreadsheet, 'Labels' tab, cells B134:K151, http://www.regulations.gov/#!documentDetail;D=EERE-2006-STD-0126-0080"]
[]
[]
[]
[null,null,{"$f":"'Product Classes'!O19","v":"SVO.SC.M"}]
[]
[null,null,null,"Energy Consumption"]
[null,null,"Efficiency Level","Energy Factor"]
[null,null,null,"kWh/year Calculated","kWh/year per ft"]
[null,null,{"$f":"'Efficiency Levels'!C174","v":"EL0"},{"$f":"E221*'Equipment Specifications'!$D$21","v":12084.083870898876},3021.020967724719]
[null,null,{"$f":"'Efficiency Levels'!C175","v":"EL1"},{"$f":"E222*'Equipment Specifications'!$D$21","v":9758.4207623394686},2439.6051905848672]
[null,null,{"$f":"'Efficiency Levels'!C176","v":"EL2"},{"$f":"E223*'Equipment Specifications'!$D$21","v":9607.7582997531936},2401.9395749382984]
[null,null,{"$f":"'Efficiency Levels'!C177","v":"EL3"},{"$f":"E224*'Equipment Specifications'!$D$21","v":9360.9102427395337},2340.2275606848834]
[null,null,{"$f":"'Efficiency Levels'!C178","v":"EL4"},{"$f":"E225*'Equipment Specifications'!$D$21","v":9331.2726889597543},2332.8181722399386]
[null,null,{"$f":"'Efficiency Levels'!C179","v":"EL5"},{"$f":"E226*'Equipment Specifications'!$D$21","v":9270.9305751342617},2317.7326437835654]
[null,null,{"$f":"'Efficiency Levels'!C180","v":"EL6"},{"$f":"E227*'Equipment Specifications'!$D$21","v":9270.9305751342617},2317.7326437835654]
[null,null,{"$f":"'Efficiency Levels'!C181","v":"EL7"},{"$f":"E228*'Equipment Specifications'!$D$21","v":9270.9305751342617},2317.7326437835654]
[null,null,{"$f":"'Efficiency Levels'!C182","v":"EL8"},{"$f":"E229*'Equipment Specifications'!$D$21","v":9270.9305751342617},2317.7326437835654]
[null,null,{"$f":"'Efficiency Levels'!C183","v":"EL9"},{"$f":"E230*'Equipment Specifications'!$D$21","v":9270.9305751342617},2317.7326437835654]
[]
[null,null,"Sources: DOE Commercial Refrigeration Equipment 2014 Final Rule, Technical Support Document: Final Rule National Impact Analysis Spreadsheet, 'LCC Inputs' tab, cells B3:29, http://www.regulations.gov/#!documentDetail;D=EERE-2010-BT-STD-0003-0101"]
[null,null,"DOE Commercial Refrigeration Equipment 2009 Final Rule, Technical Support Document: 2008-12-31 National Impact Analysis Spreadsheet, 'Equipment parameters' tab, cells E19:M34, http://www.regulations.gov/#!documentDetail;D=EERE-2006-STD-0126-0080"]
[null,null,"TSL 4 was selected in the 2009 Final Rule. DOE Commercial Refrigeration Equipment 2009 Final Rule, Federal Register Notice, page 1136, \"Conclusion\" section, http://www.regulations.gov/#!documentDetail;D=EERE-2006-STD-0126-0005"]
[null,null,"TSL Mapping: DOE Commercial Refrigeration Equipment 2009 Final Rule, Technical Support Document: 2008-12-31 National Impact Analysis Spreadsheet, 'Labels' tab, cells B134:K151, http://www.regulations.gov/#!documentDetail;D=EERE-2006-STD-0126-0080"]
[]
[]
[]
[null,null,{"$f":"'Product Classes'!O20","v":"HZO.SC.M"}]
[]
[null,null,null,"Energy Consumption"]
[null,null,"Efficiency Level","Energy Factor"]
[null,null,null,"kWh/year Calculated","kWh/year per ft"]
[null,null,{"$f":"'Efficiency Levels'!C192","v":"EL0"},{"$f":"E244*'Equipment Specifications'!$D$22","v":7019.9512085857659},1754.9878021464415]
[null,null,{"$f":"'Efficiency Levels'!C193","v":"EL1"},{"$f":"E245*'Equipment Specifications'!$D$22","v":5404.1248263439957},1351.0312065859989]
[null,null,{"$f":"'Efficiency Levels'!C194","v":"EL2"},{"$f":"E246*'Equipment Specifications'!$D$22","v":5351.2387164569554},1337.8096791142389]
[null,null,{"$f":"'Efficiency Levels'!C195","v":"EL3"},{"$f":"E247*'Equipment Specifications'!$D$22","v":5167.5879226848601},1291.896980671215]
[null,null,{"$f":"'Efficiency Levels'!C196","v":"EL4"},{"$f":"E248*'Equipment Specifications'!$D$22","v":5118.1945879542964},1279.5486469885741]
[null,null,{"$f":"'Efficiency Levels'!C197","v":"EL5"},{"$f":"E249*'Equipment Specifications'!$D$22","v":5018.1892255729272},1254.5473063932318]
[null,null,{"$f":"'Efficiency Levels'!C198","v":"EL6"},{"$f":"E250*'Equipment Specifications'!$D$22","v":5018.1892255729272},1254.5473063932318]
[null,null,{"$f":"'Efficiency Levels'!C199","v":"EL7"},{"$f":"E251*'Equipment Specifications'!$D$22","v":5018.1892255729272},1254.5473063932318]
[null,null,{"$f":"'Efficiency Levels'!C200","v":"EL8"},{"$f":"E252*'Equipment Specifications'!$D$22","v":5018.1892255729272},1254.5473063932318]
[null,null,{"$f":"'Efficiency Levels'!C201","v":"EL9"},{"$f":"E253*'Equipment Specifications'!$D$22","v":5018.1892255729272},1254.5473063932318]
[]
[null,null,"Sources: DOE Commercial Refrigeration Equipment 2014 Final Rule, Technical Support Document: Final Rule National Impact Analysis Spreadsheet, 'LCC Inputs' tab, cells B3:29, http://www.regulations.gov/#!documentDetail;D=EERE-2010-BT-STD-0003-0101"]
[null,null,"DOE Commercial Refrigeration Equipment 2009 Final Rule, Technical Support Document: 2008-12-31 National Impact Analysis Spreadsheet, 'Equipment parameters' tab, cells E19:M34, http://www.regulations.gov/#!documentDetail;D=EERE-2006-STD-0126-0080"]
[null,null,"TSL 4 was selected in the 2009 Final Rule. DOE Commercial Refrigeration Equipment 2009 Final Rule, Federal Register Notice, page 1136, \"Conclusion\" section, http://www.regulations.gov/#!documentDetail;D=EERE-2006-STD-0126-0005"]
[null,null,"TSL Mapping: DOE Commercial Refrigeration Equipment 2009 Final Rule, Technical Support Document: 2008-12-31 National Impact Analysis Spreadsheet, 'Labels' tab, cells B134:K151, http://www.regulations.gov/#!documentDetail;D=EERE-2006-STD-0126-0080"]
[]
[]
[]
[null,null,{"$f":"'Product Classes'!O21","v":"HZO.SC.L"}]
[]
[null,null,null,"Energy Consumption"]
[null,null,"Efficiency Level","Energy Factor"]
[null,null,null,"kWh/year Calculated","kWh/year per ft"]
[null,null,{"$f":"'Efficiency Levels'!C210","v":"EL0"},{"$f":"E267*'Equipment Specifications'!$D$23","v":14120.170239781441},3530.0425599453602]
[null,null,{"$f":"'Efficiency Levels'!C211","v":"EL1"},{"$f":"E268*'Equipment Specifications'!$D$23","v":11000.713334323686},2750.1783335809214]
[null,null,{"$f":"'Efficiency Levels'!C212","v":"EL2"},{"$f":"E269*'Equipment Specifications'!$D$23","v":10921.511808252375},2730.3779520630937]
[null,null,{"$f":"'Efficiency Levels'!C213","v":"EL3"},{"$f":"E270*'Equipment Specifications'!$D$23","v":10921.511808252375},2730.3779520630937]
[null,null,{"$f":"'Efficiency Levels'!C214","v":"EL4"},{"$f":"E271*'Equipment Specifications'!$D$23","v":10921.511808252375},2730.3779520630937]
[null,null,{"$f":"'Efficiency Levels'!C215","v":"EL5"},{"$f":"E272*'Equipment Specifications'!$D$23","v":10921.511808252375},2730.3779520630937]
[null,null,{"$f":"'Efficiency Levels'!C216","v":"EL6"},{"$f":"E273*'Equipment Specifications'!$D$23","v":10921.511808252375},2730.3779520630937]
[null,null,{"$f":"'Efficiency Levels'!C217","v":"EL7"},{"$f":"E274*'Equipment Specifications'!$D$23","v":10921.511808252375},2730.3779520630937]
[null,null,{"$f":"'Efficiency Levels'!C218","v":"EL8"},{"$f":"E275*'Equipment Specifications'!$D$23","v":10921.511808252375},2730.3779520630937]
[null,null,{"$f":"'Efficiency Levels'!C219","v":"EL9"},{"$f":"E276*'Equipment Specifications'!$D$23","v":10921.511808252375},2730.3779520630937]
[]
[null,null,"Sources: DOE Commercial Refrigeration Equipment 2014 Final Rule, Technical Support Document: Final Rule National Impact Analysis Spreadsheet, 'LCC Inputs' tab, cells B3:29, http://www.regulations.gov/#!documentDetail;D=EERE-2010-BT-STD-0003-0101"]
[null,null,"DOE Commercial Refrigeration Equipment 2009 Final Rule, Technical Support Document: 2008-12-31 National Impact Analysis Spreadsheet, 'Equipment parameters' tab, cells E19:M34, http://www.regulations.gov/#!documentDetail;D=EERE-2006-STD-0126-0080"]
[null,null,"TSL 4 was selected in the 2009 Final Rule. DOE Commercial Refrigeration Equipment 2009 Final Rule, Federal Register Notice, page 1136, \"Conclusion\" section, http://www.regulations.gov/#!documentDetail;D=EERE-2006-STD-0126-0005"]
[null,null,"TSL Mapping: DOE Commercial Refrigeration Equipment 2009 Final Rule, Technical Support Document: 2008-12-31 National Impact Analysis Spreadsheet, 'Labels' tab, cells B134:K151, http://www.regulations.gov/#!documentDetail;D=EERE-2006-STD-0126-0080"]
[]
[]
[]
[null,null,{"$f":"'Product Classes'!O22","v":"VCT.SC.M"}]
[]
[null,null,null,"Energy Consumption"]
[null,null,"Efficiency Level","Energy Factor"]
[null,null,null,"kWh/year Calculated","kWh/year per ft"]
[null,null,{"$f":"'Efficiency Levels'!C228","v":"EL0"},2671.1398936170212,"N/A"]
[null,null,{"$f":"'Efficiency Levels'!C229","v":"EL1"},2462.4608510638295,"N/A"]
[null,null,{"$f":"'Efficiency Levels'!C230","v":"EL2"},{"$f":"E292*'Equipment Specifications'!$D$24","v":2267.10292249944},566.77573062485999]
[null,null,{"$f":"'Efficiency Levels'!C231","v":"EL3"},{"$f":"E293*'Equipment Specifications'!$D$24","v":2214.4199868958599},553.60499672396497]
[null,null,{"$f":"'Efficiency Levels'!C232","v":"EL4"},{"$f":"E294*'Equipment Specifications'!$D$24","v":1941.7634427974012},485.44086069935031]
[null,null,{"$f":"'Efficiency Levels'!C233","v":"EL5"},{"$f":"E295*'Equipment Specifications'!$D$24","v":1828.5843631626533},457.14609079066332]
[null,null,{"$f":"'Efficiency Levels'!C234","v":"EL6"},{"$f":"E296*'Equipment Specifications'!$D$24","v":1812.526997651222},453.1317494128055]
[null,null,{"$f":"'Efficiency Levels'!C235","v":"EL7"},{"$f":"E297*'Equipment Specifications'!$D$24","v":1769.3950328183007},442.34875820457518]
[null,null,{"$f":"'Efficiency Levels'!C236","v":"EL8"},{"$f":"E298*'Equipment Specifications'!$D$24","v":1753.5900155604979},438.39750389012448]
[null,null,{"$f":"'Efficiency Levels'!C237","v":"EL9"},{"$f":"E299*'Equipment Specifications'!$D$24","v":1670.3879565517334},417.59698913793335]
[]
[null,null,"Sources: DOE Commercial Refrigeration Equipment 2014 Final Rule, Technical Support Document: Final Rule National Impact Analysis Spreadsheet, 'LCC Inputs' tab, cells B3:29, http://www.regulations.gov/#!documentDetail;D=EERE-2010-BT-STD-0003-0101"]
[null,null,"For EL 0 and EL 1, UEC calculated from 6P Conservation Supply Curve Files: PC_Pack_Refrig_Equip_6P_D3, ‘wdSavingsCost’ tab cells A1:I24. Refrigerator volume updated per RTF Commercial Refrigerator and Freezer workbooks accessed on 8/20/2013. Version 3"]
[]
[]
[]
[null,null,{"$f":"'Product Classes'!O23","v":"VCT.SC.L"}]
[]
[null,null,null,"Energy Consumption"]
[null,null,"Efficiency Level","Energy Factor"]
[null,null,null,"kWh/year Calculated","kWh/year per ft"]
[null,null,{"$f":"'Efficiency Levels'!C246","v":"EL0"},10071.180477528089,"N/A"]
[null,null,{"$f":"'Efficiency Levels'!C247","v":"EL1"},8767.0231741573043,"N/A"]
[null,null,{"$f":"'Efficiency Levels'!C248","v":"EL2"},{"$f":"E313*'Equipment Specifications'!$D$25","v":9845.7366051404788},2813.0676014687083]
[null,null,{"$f":"'Efficiency Levels'!C249","v":"EL3"},{"$f":"E314*'Equipment Specifications'!$D$25","v":7795.1927161675903},2227.1979189050257]
[null,null,{"$f":"'Efficiency Levels'!C250","v":"EL4"},{"$f":"E315*'Equipment Specifications'!$D$25","v":5231.8876827438489},1494.8250522125281]
[null,null,{"$f":"'Efficiency Levels'!C251","v":"EL5"},{"$f":"E316*'Equipment Specifications'!$D$25","v":5175.5261627071495},1478.7217607734713]
[null,null,{"$f":"'Efficiency Levels'!C252","v":"EL6"},{"$f":"E317*'Equipment Specifications'!$D$25","v":4913.9842807673313},1403.995508790666]
[null,null,{"$f":"'Efficiency Levels'!C253","v":"EL7"},{"$f":"E318*'Equipment Specifications'!$D$25","v":4870.4104358462382},1391.5458388132108]
[null,null,{"$f":"'Efficiency Levels'!C254","v":"EL8"},{"$f":"E319*'Equipment Specifications'!$D$25","v":4802.1633703801781},1372.0466772514794]
[null,null,{"$f":"'Efficiency Levels'!C255","v":"EL9"},{"$f":"E320*'Equipment Specifications'!$D$25","v":4555.7622823323791},1301.6463663806796]
[]
[null,null,"Sources: DOE Commercial Refrigeration Equipment 2014 Final Rule, Technical Support Document: Final Rule National Impact Analysis Spreadsheet, 'LCC Inputs' tab, cells B3:29, http://www.regulations.gov/#!documentDetail;D=EERE-2010-BT-STD-0003-0101"]
[null,null,"For EL 0 and EL 1, UEC calculated from 6P Conservation Supply Curve Files: PC_Pack_Refrig_Equip_6P_D3, ‘wdSavingsCost’ tab cells A1:I24. Refrigerator volume updated per RTF Commercial Refrigerator and Freezer workbooks accessed on 8/20/2013. Version 3"]
[]
[]
[]
[null,null,{"$f":"'Product Classes'!O24","v":"VCS.SC.M"}]
[]
[null,null,null,"Energy Consumption"]
[null,null,"Efficiency Level","Energy Factor"]
[null,null,null,"kWh/year Calculated","kWh/year per ft"]
[null,null,{"$f":"'Efficiency Levels'!C264","v":"EL0"},2187.6807291666664,"N/A"]
[null,null,{"$f":"'Efficiency Levels'!C265","v":"EL1"},2187.6807291666664,"N/A"]
[null,null,{"$f":"'Efficiency Levels'!C266","v":"EL2"},{"$f":"E334*'Equipment Specifications'!$D$26","v":2047.4102582068092},511.8525645517023]
[null,null,{"$f":"'Efficiency Levels'!C267","v":"EL3"},{"$f":"E335*'Equipment Specifications'!$D$26","v":1714.5936999617747},428.64842499044369]
[null,null,{"$f":"'Efficiency Levels'!C268","v":"EL4"},{"$f":"E336*'Equipment Specifications'!$D$26","v":1306.0777224528661},326.51943061321651]
[null,null,{"$f":"'Efficiency Levels'!C269","v":"EL5"},{"$f":"E337*'Equipment Specifications'!$D$26","v":1245.0404358787312},311.26010896968279]
[null,null,{"$f":"'Efficiency Levels'!C270","v":"EL6"},{"$f":"E338*'Equipment Specifications'!$D$26","v":1196.4689517724762},299.11723794311905]
[null,null,{"$f":"'Efficiency Levels'!C271","v":"EL7"},{"$f":"E339*'Equipment Specifications'!$D$26","v":1128.2050203041058},282.05125507602645]
[null,null,{"$f":"'Efficiency Levels'!C272","v":"EL8"},{"$f":"E340*'Equipment Specifications'!$D$26","v":1117.9113002232461},279.47782505581154]
[null,null,{"$f":"'Efficiency Levels'!C273","v":"EL9"},{"$f":"E341*'Equipment Specifications'!$D$26","v":982.26658483455265},245.56664620863816]
[]
[null,null,"Sources: DOE Commercial Refrigeration Equipment 2014 Final Rule, Technical Support Document: Final Rule National Impact Analysis Spreadsheet, 'LCC Inputs' tab, cells B3:29, http://www.regulations.gov/#!documentDetail;D=EERE-2010-BT-STD-0003-0101"]
[null,null,"For EL 0 and EL 1, UEC calculated from 6P Conservation Supply Curve Files: PC_Pack_Refrig_Equip_6P_D3, ‘wdSavingsCost’ tab cells A1:I24. Refrigerator volume updated per RTF Commercial Refrigerator and Freezer workbooks accessed on 8/20/2013. Version 3"]
[]
[]
[]
[null,null,{"$f":"'Product Classes'!O25","v":"VCS.SC.L"}]
[]
[null,null,null,"Energy Consumption"]
[null,null,"Efficiency Level","Energy Factor"]
[null,null,null,"kWh/year Calculated","kWh/year per ft"]
[null,null,{"$f":"'Efficiency Levels'!C282","v":"EL0"},5076.8629213483146,"N/A"]
[null,null,{"$f":"'Efficiency Levels'!C283","v":"EL1"},4514.5168539325841,"N/A"]
[null,null,{"$f":"'Efficiency Levels'!C284","v":"EL2"},{"$f":"E355*'Equipment Specifications'!$D$27","v":4676.7709088947258},1336.2202596842073]
[null,null,{"$f":"'Efficiency Levels'!C285","v":"EL3"},{"$f":"E356*'Equipment Specifications'!$D$27","v":3957.3111035900674},1130.6603153114479]
[null,null,{"$f":"'Efficiency Levels'!C286","v":"EL4"},{"$f":"E357*'Equipment Specifications'!$D$27","v":3746.4847774041068},1070.4242221154591]
[null,null,{"$f":"'Efficiency Levels'!C287","v":"EL5"},{"$f":"E358*'Equipment Specifications'!$D$27","v":3672.5914739641321},1049.3118497040377]
[null,null,{"$f":"'Efficiency Levels'!C288","v":"EL6"},{"$f":"E359*'Equipment Specifications'!$D$27","v":3556.6719455081648},1016.1919844309042]
[null,null,{"$f":"'Efficiency Levels'!C289","v":"EL7"},{"$f":"E360*'Equipment Specifications'!$D$27","v":3459.7024993368959},988.48642838197031]
[null,null,{"$f":"'Efficiency Levels'!C290","v":"EL8"},{"$f":"E361*'Equipment Specifications'!$D$27","v":3429.84595821945},979.95598806270004]
[null,null,{"$f":"'Efficiency Levels'!C291","v":"EL9"},{"$f":"E362*'Equipment Specifications'!$D$27","v":3159.6937649497081},902.76964712848803]
[]
[null,null,"Sources: DOE Commercial Refrigeration Equipment 2014 Final Rule, Technical Support Document: Final Rule National Impact Analysis Spreadsheet, 'LCC Inputs' tab, cells B3:29, http://www.regulations.gov/#!documentDetail;D=EERE-2010-BT-STD-0003-0101"]
[null,null,"For EL 0 and EL 1, UEC calculated from 6P Conservation Supply Curve Files: PC_Pack_Refrig_Equip_6P_D3, ‘wdSavingsCost’ tab cells A1:I24. Refrigerator volume updated per RTF Commercial Refrigerator and Freezer workbooks accessed on 8/20/2013. Version 3"]
[]
[]
[]
[null,null,{"$f":"'Product Classes'!O26","v":"HCT.SC.M"}]
[]
[null,null,null,"Energy Consumption"]
[null,null,"Efficiency Level","Energy Factor"]
[null,null,null,"kWh/year Calculated","kWh/year per ft"]
[null,null,{"$f":"'Efficiency Levels'!C300","v":"EL0"},2671.1398936170212,"N/A"]
[null,null,{"$f":"'Efficiency Levels'!C301","v":"EL1"},2462.4608510638295,"N/A"]
[null,null,{"$f":"'Efficiency Levels'!C302","v":"EL2"},{"$f":"E376*'Equipment Specifications'!$D$28","v":538.36148580820395},179.45382860273463]
[null,null,{"$f":"'Efficiency Levels'!C303","v":"EL3"},{"$f":"E377*'Equipment Specifications'!$D$28","v":502.83083463217827},167.61027821072608]
[null,null,{"$f":"'Efficiency Levels'!C304","v":"EL4"},{"$f":"E378*'Equipment Specifications'!$D$28","v":465.42461592674266},155.14153864224755]
[null,null,{"$f":"'Efficiency Levels'!C305","v":"EL5"},{"$f":"E379*'Equipment Specifications'!$D$28","v":283.88118294089406},94.627060980298012]
[null,null,{"$f":"'Efficiency Levels'!C306","v":"EL6"},{"$f":"E380*'Equipment Specifications'!$D$28","v":258.44877648964558},86.149592163215189]
[null,null,{"$f":"'Efficiency Levels'!C307","v":"EL7"},{"$f":"E381*'Equipment Specifications'!$D$28","v":253.67847111503443},84.559490371678137]
[null,null,{"$f":"'Efficiency Levels'!C308","v":"EL8"},{"$f":"E382*'Equipment Specifications'!$D$28","v":228.45041548380132},76.150138494600441]
[null,null,{"$f":"'Efficiency Levels'!C309","v":"EL9"},{"$f":"E383*'Equipment Specifications'!$D$28","v":176.9461916439472},58.982063881315739]
[]
[null,null,"Sources: DOE Commercial Refrigeration Equipment 2014 Final Rule, Technical Support Document: Final Rule National Impact Analysis Spreadsheet, 'LCC Inputs' tab, cells B3:29, http://www.regulations.gov/#!documentDetail;D=EERE-2010-BT-STD-0003-0101"]
[null,null,"For EL 0 and EL 1, UEC calculated from 6P Conservation Supply Curve Files: PC_Pack_Refrig_Equip_6P_D3, ‘wdSavingsCost’ tab cells A1:I24. Refrigerator volume updated per RTF Commercial Refrigerator and Freezer workbooks accessed on 8/20/2013. Version 3"]
[]
[]
[]
[null,null,{"$f":"'Product Classes'!O27","v":"HCT.SC.L"}]
[]
[null,null,null,"Energy Consumption"]
[null,null,"Efficiency Level","Energy Factor"]
[null,null,null,"kWh/year Calculated","kWh/year per ft"]
[null,null,{"$f":"'Efficiency Levels'!C318","v":"EL0"},10071.180477528089,"N/A"]
[null,null,{"$f":"'Efficiency Levels'!C319","v":"EL1"},8767.0231741573043,"N/A"]
[null,null,{"$f":"'Efficiency Levels'!C320","v":"EL2"},{"$f":"E397*'Equipment Specifications'!$D$29","v":1177.3347067098357},392.44490223661194]
[null,null,{"$f":"'Efficiency Levels'!C321","v":"EL3"},{"$f":"E398*'Equipment Specifications'!$D$29","v":647.15261291681327},215.71753763893776]
[null,null,{"$f":"'Efficiency Levels'!C322","v":"EL4"},{"$f":"E399*'Equipment Specifications'!$D$29","v":619.89377591213793},206.63125863737932]
[null,null,{"$f":"'Efficiency Levels'!C323","v":"EL5"},{"$f":"E400*'Equipment Specifications'!$D$29","v":585.93495540126287},195.31165180042098]
[null,null,{"$f":"'Efficiency Levels'!C324","v":"EL6"},{"$f":"E401*'Equipment Specifications'!$D$29","v":553.19034694746915},184.39678231582303]
[null,null,{"$f":"'Efficiency Levels'!C325","v":"EL7"},{"$f":"E402*'Equipment Specifications'!$D$29","v":542.63528346322255},180.87842782107418]
[null,null,{"$f":"'Efficiency Levels'!C326","v":"EL8"},{"$f":"E403*'Equipment Specifications'!$D$29","v":499.32753956950955},166.44251318983652]
[null,null,{"$f":"'Efficiency Levels'!C327","v":"EL9"},{"$f":"E404*'Equipment Specifications'!$D$29","v":378.96740156332174},126.32246718777391]
[]
[null,null,"Sources: DOE Commercial Refrigeration Equipment 2014 Final Rule, Technical Support Document: Final Rule National Impact Analysis Spreadsheet, 'LCC Inputs' tab, cells B3:29, http://www.regulations.gov/#!documentDetail;D=EERE-2010-BT-STD-0003-0101"]
[null,null,"For EL 0 and EL 1, UEC calculated from 6P Conservation Supply Curve Files: PC_Pack_Refrig_Equip_6P_D3, ‘wdSavingsCost’ tab cells A1:I24. Refrigerator volume updated per RTF Commercial Refrigerator and Freezer workbooks accessed on 8/20/2013. Version 3"]
[]
[]
[]
[null,null,{"$f":"'Product Classes'!O28","v":"HCS.SC.M"}]
[]
[null,null,null,"Energy Consumption"]
[null,null,"Efficiency Level","Energy Factor"]
[null,null,null,"kWh/year Calculated","kWh/year per ft"]
[null,null,{"$f":"'Efficiency Levels'!C336","v":"EL0"},2187.6807291666664,"N/A"]
[null,null,{"$f":"'Efficiency Levels'!C337","v":"EL1"},2187.6807291666664,"N/A"]
[null,null,{"$f":"'Efficiency Levels'!C338","v":"EL2"},{"$f":"E418*'Equipment Specifications'!$D$30","v":518.67305965786079},129.6682649144652]
[null,null,{"$f":"'Efficiency Levels'!C339","v":"EL3"},{"$f":"E419*'Equipment Specifications'!$D$30","v":492.88166343094434},123.22041585773609]
[null,null,{"$f":"'Efficiency Levels'!C340","v":"EL4"},{"$f":"E420*'Equipment Specifications'!$D$30","v":471.00926419262817},117.75231604815704]
[null,null,{"$f":"'Efficiency Levels'!C341","v":"EL5"},{"$f":"E421*'Equipment Specifications'!$D$30","v":443.76082069708286},110.94020517427072]
[null,null,{"$f":"'Efficiency Levels'!C342","v":"EL6"},{"$f":"E422*'Equipment Specifications'!$D$30","v":438.64988490318717},109.66247122579679]
[null,null,{"$f":"'Efficiency Levels'!C343","v":"EL7"},{"$f":"E423*'Equipment Specifications'!$D$30","v":406.504554549734},101.6261386374335]
[null,null,{"$f":"'Efficiency Levels'!C344","v":"EL8"},{"$f":"E424*'Equipment Specifications'!$D$30","v":340.87839952094117},85.219599880235293]
[null,null,{"$f":"'Efficiency Levels'!C345","v":"EL9"},{"$f":"E425*'Equipment Specifications'!$D$30","v":340.87839952094117},85.219599880235293]
[]
[null,null,"Sources: DOE Commercial Refrigeration Equipment 2014 Final Rule, Technical Support Document: Final Rule National Impact Analysis Spreadsheet, 'LCC Inputs' tab, cells B3:29, http://www.regulations.gov/#!documentDetail;D=EERE-2010-BT-STD-0003-0101"]
[null,null,"For EL 0 and EL 1, UEC calculated from 6P Conservation Supply Curve Files: PC_Pack_Refrig_Equip_6P_D3, ‘wdSavingsCost’ tab cells A1:I24. Refrigerator volume updated per RTF Commercial Refrigerator and Freezer workbooks accessed on 8/20/2013. Version 3"]
[]
[]
[]
[null,null,{"$f":"'Product Classes'!O29","v":"HCS.SC.L"}]
[]
[null,null,null,"Energy Consumption"]
[null,null,"Efficiency Level","Energy Factor"]
[null,null,null,"kWh/year Calculated","kWh/year per ft"]
[null,null,{"$f":"'Efficiency Levels'!C354","v":"EL0"},5076.8629213483146,"N/A"]
[null,null,{"$f":"'Efficiency Levels'!C355","v":"EL1"},4514.5168539325841,"N/A"]
[null,null,{"$f":"'Efficiency Levels'!C356","v":"EL2"},{"$f":"E439*'Equipment Specifications'!$D$31","v":838.32342634208305},167.6646852684166]
[null,null,{"$f":"'Efficiency Levels'!C357","v":"EL3"},{"$f":"E440*'Equipment Specifications'!$D$31","v":773.62457103579368},154.72491420715875]
[null,null,{"$f":"'Efficiency Levels'!C358","v":"EL4"},{"$f":"E441*'Equipment Specifications'!$D$31","v":724.9915497690273},144.99830995380546]
[null,null,{"$f":"'Efficiency Levels'!C359","v":"EL5"},{"$f":"E442*'Equipment Specifications'!$D$31","v":664.40495761851025},132.88099152370205]
[null,null,{"$f":"'Efficiency Levels'!C360","v":"EL6"},{"$f":"E443*'Equipment Specifications'!$D$31","v":652.06659423498593},130.41331884699719]
[null,null,{"$f":"'Efficiency Levels'!C361","v":"EL7"},{"$f":"E444*'Equipment Specifications'!$D$31","v":561.45559653886369},112.29111930777275]
[null,null,{"$f":"'Efficiency Levels'!C362","v":"EL8"},{"$f":"E445*'Equipment Specifications'!$D$31","v":309.63106801229503},61.926213602459001]
[null,null,{"$f":"'Efficiency Levels'!C363","v":"EL9"},{"$f":"E446*'Equipment Specifications'!$D$31","v":309.63106801229503},61.926213602459001]
[]
[null,null,"Sources: DOE Commercial Refrigeration Equipment 2014 Final Rule, Technical Support Document: Final Rule National Impact Analysis Spreadsheet, 'LCC Inputs' tab, cells B3:29, http://www.regulations.gov/#!documentDetail;D=EERE-2010-BT-STD-0003-0101"]
[null,null,"For EL 0 and EL 1, UEC calculated from 6P Conservation Supply Curve Files: PC_Pack_Refrig_Equip_6P_D3, ‘wdSavingsCost’ tab cells A1:I24. Refrigerator volume updated per RTF Commercial Refrigerator and Freezer workbooks accessed on 8/20/2013. Version 3"]
[]
[]
[]
[null,null,{"$f":"'Product Classes'!O30","v":"SOC.SC.M"}]
[]
[null,null,null,"Energy Consumption"]
[null,null,"Efficiency Level","Energy Factor"]
[null,null,null,"kWh/year Calculated","kWh/year per ft"]
[null,null,{"$f":"'Efficiency Levels'!C372","v":"EL0"},{"$f":"E458*'Equipment Specifications'!$D$32","v":4216.2530053915279},843.25060107830552]
[null,null,{"$f":"'Efficiency Levels'!C373","v":"EL1"},{"$f":"E459*'Equipment Specifications'!$D$32","v":4131.9368836893555},826.38737673787102]
[null,null,{"$f":"'Efficiency Levels'!C374","v":"EL2"},{"$f":"E460*'Equipment Specifications'!$D$32","v":4046.2514342193863},809.25028684387723]
[null,null,{"$f":"'Efficiency Levels'!C375","v":"EL3"},{"$f":"E461*'Equipment Specifications'!$D$32","v":4021.8432293313417},804.36864586626837]
[null,null,{"$f":"'Efficiency Levels'!C376","v":"EL4"},{"$f":"E462*'Equipment Specifications'!$D$32","v":3972.2760942985724},794.45521885971448]
[null,null,{"$f":"'Efficiency Levels'!C377","v":"EL5"},{"$f":"E463*'Equipment Specifications'!$D$32","v":3972.2760942985724},794.45521885971448]
[null,null,{"$f":"'Efficiency Levels'!C378","v":"EL6"},{"$f":"E464*'Equipment Specifications'!$D$32","v":3972.2760942985724},794.45521885971448]
[null,null,{"$f":"'Efficiency Levels'!C379","v":"EL7"},{"$f":"E465*'Equipment Specifications'!$D$32","v":3972.2760942985724},794.45521885971448]
[]
[null,null,"Sources: DOE Commercial Refrigeration Equipment 2014 Final Rule, Technical Support Document: Final Rule National Impact Analysis Spreadsheet, 'LCC Inputs' tab, cells B3:29, http://www.regulations.gov/#!documentDetail;D=EERE-2010-BT-STD-0003-0101"]
[null,null,"For EL 0 and EL 1, UEC calculated from 6P Conservation Supply Curve Files: PC_Pack_Refrig_Equip_6P_D3, ‘wdSavingsCost’ tab cells A1:I24. Refrigerator volume updated per RTF Commercial Refrigerator and Freezer workbooks accessed on 8/20/2013. Version 3"]
[]
[]
[]
[null,null,{"$f":"'Product Classes'!O31","v":"PD.SC.M"}]
[]
[null,null,null,"Energy Consumption"]
[null,null,"Efficiency Level","Energy Factor"]
[null,null,null,"kWh/year Calculated","kWh/year per ft"]
[null,null,{"$f":"'Efficiency Levels'!C388","v":"EL0"},{"$f":"E477*'Equipment Specifications'!$D$33","v":1829.3732715950177},731.74930863800705]
[null,null,{"$f":"'Efficiency Levels'!C389","v":"EL1"},{"$f":"E478*'Equipment Specifications'!$D$33","v":1725.9076555467275},690.36306221869097]
[null,null,{"$f":"'Efficiency Levels'!C390","v":"EL2"},{"$f":"E479*'Equipment Specifications'!$D$33","v":1421.7945862185049},568.717834487402]
[null,null,{"$f":"'Efficiency Levels'!C391","v":"EL3"},{"$f":"E480*'Equipment Specifications'!$D$33","v":1380.8992934696109},552.3597173878444]
[null,null,{"$f":"'Efficiency Levels'!C392","v":"EL4"},{"$f":"E481*'Equipment Specifications'!$D$33","v":1368.9068868745246},547.56275474980987]
[null,null,{"$f":"'Efficiency Levels'!C393","v":"EL5"},{"$f":"E482*'Equipment Specifications'!$D$33","v":1329.25006990679},531.70002796271604]
[null,null,{"$f":"'Efficiency Levels'!C394","v":"EL6"},{"$f":"E483*'Equipment Specifications'!$D$33","v":1319.9046294420773},527.96185177683094]
[null,null,{"$f":"'Efficiency Levels'!C395","v":"EL7"},{"$f":"E484*'Equipment Specifications'!$D$33","v":1242.7882210130263},497.11528840521049]
[]
[null,null,"Sources: DOE Commercial Refrigeration Equipment 2014 Final Rule, Technical Support Document: Final Rule National Impact Analysis Spreadsheet, 'LCC Inputs' tab, cells B3:29, http://www.regulations.gov/#!documentDetail;D=EERE-2010-BT-STD-0003-0101"]
[]
[]
[]
[]
[null,null,{"$f":"'Product Classes'!O32","v":"VCT.SC.I"}]
[]
[null,null,null,"Energy Consumption"]
[null,null,"Efficiency Level","Energy Factor"]
[null,null,null,"kWh/year Calculated","kWh/year per ft"]
[null,null,{"$f":"'Efficiency Levels'!C404","v":"EL0"},{"$f":"E496*'Equipment Specifications'!$D$34","v":19365.62255542407},3873.124511084814]
[null,null,{"$f":"'Efficiency Levels'!C405","v":"EL1"},{"$f":"E497*'Equipment Specifications'!$D$34","v":8831.4833683125999},1766.2966736625201]
[null,null,{"$f":"'Efficiency Levels'!C406","v":"EL2"},{"$f":"E498*'Equipment Specifications'!$D$34","v":8370.8271603098256},1674.1654320619652]
[null,null,{"$f":"'Efficiency Levels'!C407","v":"EL3"},{"$f":"E499*'Equipment Specifications'!$D$34","v":8283.6085071187772},1656.7217014237553]
[null,null,{"$f":"'Efficiency Levels'!C408","v":"EL4"},{"$f":"E500*'Equipment Specifications'!$D$34","v":8173.9547964023677},1634.7909592804735]
[null,null,{"$f":"'Efficiency Levels'!C409","v":"EL5"},{"$f":"E501*'Equipment Specifications'!$D$34","v":8042.2502851228865},1608.4500570245773]
[null,null,{"$f":"'Efficiency Levels'!C410","v":"EL6"},{"$f":"E502*'Equipment Specifications'!$D$34","v":7684.7033140997601},1536.940662819952]
[null,null,{"$f":"'Efficiency Levels'!C411","v":"EL7"},{"$f":"E503*'Equipment Specifications'!$D$34","v":7684.7033140997601},1536.940662819952]
[null,null,{"$f":"'Efficiency Levels'!C412","v":"EL8"},{"$f":"E504*'Equipment Specifications'!$D$34","v":7684.7033140997601},1536.940662819952]
[null,null,{"$f":"'Efficiency Levels'!C413","v":"EL9"},{"$f":"E505*'Equipment Specifications'!$D$34","v":7684.7033140997601},1536.940662819952]
[]
[null,null,"Sources: DOE Commercial Refrigeration Equipment 2014 Final Rule, Technical Support Document: Final Rule National Impact Analysis Spreadsheet, 'LCC Inputs' tab, cells B3:29, http://www.regulations.gov/#!documentDetail;D=EERE-2010-BT-STD-0003-0101"]
[null,null,"DOE Commercial Refrigeration Equipment 2009 Final Rule, Technical Support Document: 2008-12-31 National Impact Analysis Spreadsheet, 'Equipment parameters' tab, cells E19:M34, http://www.regulations.gov/#!documentDetail;D=EERE-2006-STD-0126-0080"]
[null,null,"TSL 4 was selected in the 2009 Final Rule. DOE Commercial Refrigeration Equipment 2009 Final Rule, Federal Register Notice, page 1136, \"Conclusion\" section, http://www.regulations.gov/#!documentDetail;D=EERE-2006-STD-0126-0005"]
[null,null,"TSL Mapping: DOE Commercial Refrigeration Equipment 2009 Final Rule, Technical Support Document: 2008-12-31 National Impact Analysis Spreadsheet, 'Labels' tab, cells B134:K151, http://www.regulations.gov/#!documentDetail;D=EERE-2006-STD-0126-0080"]
[]
[]
[]
[null,null,{"$f":"'Product Classes'!O33","v":"HCT.SC.I"}]
[]
[null,null,null,"Energy Consumption"]
[null,null,"Efficiency Level","Energy Factor"]
[null,null,null,"kWh/year Calculated","kWh/year per ft"]
[null,null,{"$f":"'Efficiency Levels'!C422","v":"EL0"},{"$f":"E519*'Equipment Specifications'!$D$35","v":2630.718549833713},773.74074995109208]
[null,null,{"$f":"'Efficiency Levels'!C423","v":"EL1"},{"$f":"E520*'Equipment Specifications'!$D$35","v":1205.6429034205898},354.60085394723234]
[null,null,{"$f":"'Efficiency Levels'!C424","v":"EL2"},{"$f":"E521*'Equipment Specifications'!$D$35","v":1134.5938764973962},333.70408132276361]
[null,null,{"$f":"'Efficiency Levels'!C425","v":"EL3"},{"$f":"E522*'Equipment Specifications'!$D$35","v":844.39891487086209},248.35262202084181]
[null,null,{"$f":"'Efficiency Levels'!C426","v":"EL4"},{"$f":"E523*'Equipment Specifications'!$D$35","v":844.39891487086209},248.35262202084181]
[null,null,{"$f":"'Efficiency Levels'!C427","v":"EL5"},{"$f":"E524*'Equipment Specifications'!$D$35","v":844.39891487086209},248.35262202084181]
[null,null,{"$f":"'Efficiency Levels'!C428","v":"EL6"},{"$f":"E525*'Equipment Specifications'!$D$35","v":844.39891487086209},248.35262202084181]
[null,null,{"$f":"'Efficiency Levels'!C429","v":"EL7"},{"$f":"E526*'Equipment Specifications'!$D$35","v":844.39891487086209},248.35262202084181]
[null,null,{"$f":"'Efficiency Levels'!C430","v":"EL8"},{"$f":"E527*'Equipment Specifications'!$D$35","v":844.39891487086209},248.35262202084181]
[null,null,{"$f":"'Efficiency Levels'!C431","v":"EL9"},{"$f":"E528*'Equipment Specifications'!$D$35","v":844.39891487086209},248.35262202084181]
[]
[null,null,"Sources: DOE Commercial Refrigeration Equipment 2014 Final Rule, Technical Support Document: Final Rule National Impact Analysis Spreadsheet, 'LCC Inputs' tab, cells B3:29, http://www.regulations.gov/#!documentDetail;D=EERE-2010-BT-STD-0003-0101"]
[null,null,"DOE Commercial Refrigeration Equipment 2009 Final Rule, Technical Support Document: 2008-12-31 National Impact Analysis Spreadsheet, 'Equipment parameters' tab, cells E19:M34, http://www.regulations.gov/#!documentDetail;D=EERE-2006-STD-0126-0080"]
[null,null,"TSL 4 was selected in the 2009 Final Rule. DOE Commercial Refrigeration Equipment 2009 Final Rule, Federal Register Notice, page 1136, \"Conclusion\" section, http://www.regulations.gov/#!documentDetail;D=EERE-2006-STD-0126-0005"]
[null,null,"TSL Mapping: DOE Commercial Refrigeration Equipment 2009 Final Rule, Technical Support Document: 2008-12-31 National Impact Analysis Spreadsheet, 'Labels' tab, cells B134:K151, http://www.regulations.gov/#!documentDetail;D=EERE-2006-STD-0126-0080"]
[]
[]
[]
[null,null,{"$f":"'Product Classes'!O34","v":"VCS.SC.I"}]
[]
[null,null,null,"Energy Consumption"]
[null,null,"Efficiency Level","Energy Factor"]
[null,null,null,"kWh/year Calculated","kWh/year per ft"]
[null,null,{"$f":"'Efficiency Levels'!C440","v":"EL0"},{"$f":"E542*'Equipment Specifications'!$D$36","v":11516.411985621064},2303.2823971242128]
[null,null,{"$f":"'Efficiency Levels'!C441","v":"EL1"},{"$f":"E543*'Equipment Specifications'!$D$36","v":8093.8825392359813},1618.7765078471962]
[null,null,{"$f":"'Efficiency Levels'!C442","v":"EL2"},{"$f":"E544*'Equipment Specifications'!$D$36","v":8039.9909301578564},1607.9981860315713]
[null,null,{"$f":"'Efficiency Levels'!C443","v":"EL3"},{"$f":"E545*'Equipment Specifications'!$D$36","v":7934.6265668102697},1586.9253133620539]
[null,null,{"$f":"'Efficiency Levels'!C444","v":"EL4"},{"$f":"E546*'Equipment Specifications'!$D$36","v":7643.6292534477598},1528.7258506895519]
[null,null,{"$f":"'Efficiency Levels'!C445","v":"EL5"},{"$f":"E547*'Equipment Specifications'!$D$36","v":7568.7562501442017},1513.7512500288403]
[null,null,{"$f":"'Efficiency Levels'!C446","v":"EL6"},{"$f":"E548*'Equipment Specifications'!$D$36","v":7396.4872279565461},1479.2974455913093]
[null,null,{"$f":"'Efficiency Levels'!C447","v":"EL7"},{"$f":"E549*'Equipment Specifications'!$D$36","v":6808.5103803399898},1361.702076067998]
[null,null,{"$f":"'Efficiency Levels'!C448","v":"EL8"},{"$f":"E550*'Equipment Specifications'!$D$36","v":6808.5103803399898},1361.702076067998]
[null,null,{"$f":"'Efficiency Levels'!C449","v":"EL9"},{"$f":"E551*'Equipment Specifications'!$D$36","v":6808.5103803399898},1361.702076067998]
[]
[null,null,"Sources: DOE Commercial Refrigeration Equipment 2014 Final Rule, Technical Support Document: Final Rule National Impact Analysis Spreadsheet, 'LCC Inputs' tab, cells B3:29, http://www.regulations.gov/#!documentDetail;D=EERE-2010-BT-STD-0003-0101"]
[null,null,"DOE Commercial Refrigeration Equipment 2009 Final Rule, Technical Support Document: 2008-12-31 National Impact Analysis Spreadsheet, 'Equipment parameters' tab, cells E19:M34, http://www.regulations.gov/#!documentDetail;D=EERE-2006-STD-0126-0080"]
[null,null,"TSL 4 was selected in the 2009 Final Rule. DOE Commercial Refrigeration Equipment 2009 Final Rule, Federal Register Notice, page 1136, \"Conclusion\" section, http://www.regulations.gov/#!documentDetail;D=EERE-2006-STD-0126-0005"]
[null,null,"TSL Mapping: DOE Commercial Refrigeration Equipment 2009 Final Rule, Technical Support Document: 2008-12-31 National Impact Analysis Spreadsheet, 'Labels' tab, cells B134:K151, http://www.regulations.gov/#!documentDetail;D=EERE-2006-STD-0126-0080"]

{"sheet":"UEC","index":13,"n_rows":18,"n_cols":48,"rows_kept":18,"cut":false,"hidden":false,"merged":[]}
[]
[null,null,"Weighted Annual UEC"]
[]
[null,null,"NAVIGATION"]
[]
[null,null,"COMMENTS"]
[]
[]
[null,null,"Market UEC (Shipment Weighted Average)"]
[null,null,null,1990,{"$f":"D10+1","v":1991},{"$f":"E10+1","v":1992},{"$f":"F10+1","v":1993},{"$f":"G10+1","v":1994},{"$f":"H10+1","v":1995},{"$f":"I10+1","v":1996},{"$f":"J10+1","v":1997},{"$f":"K10+1","v":1998},{"$f":"L10+1","v":1999},{"$f":"M10+1","v":2000},{"$f":"N10+1","v":2001},{"$f":"O10+1","v":2002},{"$f":"P10+1","v":2003},{"$f":"Q10+1","v":2004},{"$f":"R10+1","v":2005},{"$f":"S10+1","v":2006},{"$f":"T10+1","v":2007},{"$f":"U10+1","v":2008},{"$f":"V10+1","v":2009},{"$f":"W10+1","v":2010},{"$f":"X10+1","v":2011},{"$f":"Y10+1","v":2012},{"$f":"Z10+1","v":2013},{"$f":"AA10+1","v":2014},{"$f":"AB10+1","v":2015},{"$f":"AC10+1","v":2016},{"$f":"AD10+1","v":2017},{"$f":"AE10+1","v":2018},{"$f":"AF10+1","v":2019},{"$f":"AG10+1","v":2020},{"$f":"AH10+1","v":2021},{"$f":"AI10+1","v":2022},{"$f":"AJ10+1","v":2023},{"$f":"AK10+1","v":2024},{"$f":"AL10+1","v":2025},{"$f":"AM10+1","v":2026},{"$f":"AN10+1","v":2027},{"$f":"AO10+1","v":2028},{"$f":"AP10+1","v":2029},{"$f":"AQ10+1","v":2030},{"$f":"AR10+1","v":2031},{"$f":"AS10+1","v":2032},{"$f":"AT10+1","v":2033},{"$f":"AU10+1","v":2034}]
[null,null,"PRE-Case UEC",{"$f":"'Product Class Dist'!D$10*SUMPRODUCT('Efficiency Dist'!H13:H22,'UEC Development'!$D$14:$D$23)+'Product Class Dist'!D$11*SUMPRODUCT('Efficiency Dist'!H48:H57,'UEC Development'!$D$37:$D$46)+'Product Class Dist'!D$12*SUMPRODUCT('Efficiency Dist'!H83:H92,'UEC Development'!$D$60:$D$69)+'Product Class Dist'!D$13*SUMPRODUCT('Efficiency Dist'!H118:H127,'UEC Development'!$D$83:$D$92)+'Product Class Dist'!D$14*SUMPRODUCT('Efficiency Dist'!H153:H162,'UEC Development'!$D$106:$D$115)+'Product Class Dist'!D$15*SUMPRODUCT('Efficiency Dist'!H188:H197,'UEC Development'!$D$129:$D$138)+'Product Class Dist'!D$16*SUMPRODUCT('Efficiency Dist'!H223:H232,'UEC Development'!$D$152:$D$161)+'Product Class Dist'!D$17*SUMPRODUCT('Efficiency Dist'!H258:H267,'UEC Development'!$D$175:$D$184)+'Product Class Dist'!D$18*SUMPRODUCT('Efficiency Dist'!H293:H302,'UEC Development'!$D$198:$D$207)+'Product Class Dist'!D$19*SUMPRODUCT('Efficiency Dist'!H328:H337,'UEC Development'!$D$221:$D$230)+'Product Class Dist'!D$20*SUMPRODUCT('Efficiency Dist'!H363:H372,'UEC Development'!$D$244:$D$253)+'Product Class Dist'!D$21*SUMPRODUCT('Efficiency Dist'!H398:H407,'UEC Development'!$D$267:$D$276)+'Product Class Dist'!D$22*SUMPRODUCT('Efficiency Dist'!H433:H442,'UEC Development'!$D$290:$D$299)+'Product Class Dist'!D$23*SUMPRODUCT('Efficiency Dist'!H468:H477,'UEC Development'!$D$311:$D$320)+'Product Class Dist'!D$24*SUMPRODUCT('Efficiency Dist'!H503:H512,'UEC Development'!$D$332:$D$341)+'Product Class Dist'!D$25*SUMPRODUCT('Efficiency Dist'!H538:H547,'UEC Development'!$D$353:$D$362)+'Product Class Dist'!D$26*SUMPRODUCT('Efficiency Dist'!H573:H582,'UEC Development'!$D$374:$D$383)+'Product Class Dist'!D$27*SUMPRODUCT('Efficiency Dist'!H608:H617,'UEC Development'!$D$395:$D$404)+'Product Class Dist'!D$28*SUMPRODUCT('Efficiency Dist'!H643:H652,'UEC Development'!$D$416:$D$425)+'Product Class Dist'!D$29*SUMPRODUCT('Efficiency Dist'!H678:H687,'UEC Development'!$D$437:$D$446)+'Product Class Dist'!D$30*SUMPRODUCT('Efficiency Dist'!H713:H720,'UEC Development'!$D$458:$D$465)+'Product Class Dist'!D$31*SUMPRODUCT('Efficiency Dist'!H744:H751,'UEC Development'!$D$477:$D$484)+'Product Class Dist'!D$32*SUMPRODUCT('Efficiency Dist'!H775:H784,'UEC Development'!$D$496:$D$505)+'Product Class Dist'!D$33*SUMPRODUCT('Efficiency Dist'!H810:H819,'UEC Development'!$D$519:$D$528)+'Product Class Dist'!D$34*SUMPRODUCT('Efficiency Dist'!H845:H854,'UEC Development'!$D$542:$D$551)","v":5722.5521561297064},{"$f":"'Product Class Dist'!E$10*SUMPRODUCT('Efficiency Dist'!I13:I22,'UEC Development'!$D$14:$D$23)+'Product Class Dist'!E$11*SUMPRODUCT('Efficiency Dist'!I48:I57,'UEC Development'!$D$37:$D$46)+'Product Class Dist'!E$12*SUMPRODUCT('Efficiency Dist'!I83:I92,'UEC Development'!$D$60:$D$69)+'Product Class Dist'!E$13*SUMPRODUCT('Efficiency Dist'!I118:I127,'UEC Development'!$D$83:$D$92)+'Product Class Dist'!E$14*SUMPRODUCT('Efficiency Dist'!I153:I162,'UEC Development'!$D$106:$D$115)+'Product Class Dist'!E$15*SUMPRODUCT('Efficiency Dist'!I188:I197,'UEC Development'!$D$129:$D$138)+'Product Class Dist'!E$16*SUMPRODUCT('Efficiency Dist'!I223:I232,'UEC Development'!$D$152:$D$161)+'Product Class Dist'!E$17*SUMPRODUCT('Efficiency Dist'!I258:I267,'UEC Development'!$D$175:$D$184)+'Product Class Dist'!E$18*SUMPRODUCT('Efficiency Dist'!I293:I302,'UEC Development'!$D$198:$D$207)+'Product Class Dist'!E$19*SUMPRODUCT('Efficiency Dist'!I328:I337,'UEC Development'!$D$221:$D$230)+'Product Class Dist'!E$20*SUMPRODUCT('Efficiency Dist'!I363:I372,'UEC Development'!$D$244:$D$253)+'Product Class Dist'!E$21*SUMPRODUCT('Efficiency Dist'!I398:I407,'UEC Development'!$D$267:$D$276)+'Product Class Dist'!E$22*SUMPRODUCT('Efficiency Dist'!I433:I442,'UEC Development'!$D$290:$D$299)+'Product Class Dist'!E$23*SUMPRODUCT('Efficiency Dist'!I468:I477,'UEC Development'!$D$311:$D$320)+'Product Class Dist'!E$24*SUMPRODUCT('Efficiency Dist'!I503:I512,'UEC Development'!$D$332:$D$341)+'Product Class Dist'!E$25*SUMPRODUCT('Efficiency Dist'!I538:I547,'UEC Development'!$D$353:$D$362)+'Product Class Dist'!E$26*SUMPRODUCT('Efficiency Dist'!I573:I582,'UEC Development'!$D$374:$D$383)+'Product Class Dist'!E$27*SUMPRODUCT('Efficiency Dist'!I608:I617,'UEC Development'!$D$395:$D$404)+'Product Class Dist'!E$28*SUMPRODUCT('Efficiency Dist'!I643:I652,'UEC Development'!$D$416:$D$425)+'Product Class Dist'!E$29*SUMPRODUCT('Efficiency Dist'!I678:I687,'UEC Development'!$D$437:$D$446)+'Product Class Dist'!E$30*SUMPRODUCT('Efficiency Dist'!I713:I720,'UEC Development'!$D$458:$D$465)+'Product Class Dist'!E$31*SUMPRODUCT('Efficiency Dist'!I744:I751,'UEC Development'!$D$477:$D$484)+'Product Class Dist'!E$32*SUMPRODUCT('Efficiency Dist'!I775:I784,'UEC Development'!$D$496:$D$505)+'Product Class Dist'!E$33*SUMPRODUCT('Efficiency Dist'!I810:I819,'UEC Development'!$D$519:$D$528)+'Product Class Dist'!E$34*SUMPRODUCT('Efficiency Dist'!I845:I854,'UEC Development'!$D$542:$D$551)","v":5722.5521561297064},{"$f":"'Product Class Dist'!F$10*SUMPRODUCT('Efficiency Dist'!J13:J22,'UEC Development'!$D$14:$D$23)+'Product Class Dist'!F$11*SUMPRODUCT('Efficiency Dist'!J48:J57,'UEC Development'!$D$37:$D$46)+'Product Class Dist'!F$12*SUMPRODUCT('Efficiency Dist'!J83:J92,'UEC Development'!$D$60:$D$69)+'Product Class Dist'!F$13*SUMPRODUCT('Efficiency Dist'!J118:J127,'UEC Development'!$D$83:$D$92)+'Product Class Dist'!F$14*SUMPRODUCT('Efficiency Dist'!J153:J162,'UEC Development'!$D$106:$D$115)+'Product Class Dist'!F$15*SUMPRODUCT('Efficiency Dist'!J188:J197,'UEC Development'!$D$129:$D$138)+'Product Class Dist'!F$16*SUMPRODUCT('Efficiency Dist'!J223:J232,'UEC Development'!$D$152:$D$161)+'Product Class Dist'!F$17*SUMPRODUCT('Efficiency Dist'!J258:J267,'UEC Development'!$D$175:$D$184)+'Product Class Dist'!F$18*SUMPRODUCT('Efficiency Dist'!J293:J302,'UEC Development'!$D$198:$D$207)+'Product Class Dist'!F$19*SUMPRODUCT('Efficiency Dist'!J328:J337,'UEC Development'!$D$221:$D$230)+'Product Class Dist'!F$20*SUMPRODUCT('Efficiency Dist'!J363:J372,'UEC Development'!$D$244:$D$253)+'Product Class Dist'!F$21*SUMPRODUCT('Efficiency Dist'!J398:J407,'UEC Development'!$D$267:$D$276)+'Product Class Dist'!F$22*SUMPRODUCT('Efficiency Dist'!J433:J442,'UEC Development'!$D$290:$D$299)+'Product Class Dist'!F$23*SUMPRODUCT('Efficiency Dist'!J468:J477,'UEC Development'!$D$311:$D$320)+'Product Class Dist'!F$24*SUMPRODUCT('Efficiency Dist'!J503:J512,'UEC Development'!$D$332:$D$341)+'Product Class Dist'!F$25*SUMPRODUCT('Efficiency Dist'!J538:J547,'UEC Development'!$D$353:$D$362)+'Product Class Dist'!F$26*SUMPRODUCT('Efficiency Dist'!J573:J582,'UEC Development'!$D$374:$D$383)+'Product Class Dist'!F$27*SUMPRODUCT('Efficiency Dist'!J608:J617,'UEC Development'!$D$395:$D$404)+'Product Class Dist'!F$28*SUMPRODUCT('Efficiency Dist'!J643:J652,'UEC Development'!$D$416:$D$425)+'Product Class Dist'!F$29*SUMPRODUCT('Efficiency Dist'!J678:J687,'UEC Development'!$D$437:$D$446)+'Product Class Dist'!F$30*SUMPRODUCT('Efficiency Dist'!J713:J720,'UEC Development'!$D$458:$D$465)+'Product Class Dist'!F$31*SUMPRODUCT('Efficiency Dist'!J744:J751,'UEC Development'!$D$477:$D$484)+'Product Class Dist'!F$32*SUMPRODUCT('Efficiency Dist'!J775:J784,'UEC Development'!$D$496:$D$505)+'Product Class Dist'!F$33*SUMPRODUCT('Efficiency Dist'!J810:J819,'UEC Development'!$D$519:$D$528)+'Product Class Dist'!F$34*SUMPRODUCT('Efficiency Dist'!J845:J854,'UEC Development'!$D$542:$D$551)","v":5722.5521561297064},{"$f":"'Product Class Dist'!G$10*SUMPRODUCT('Efficiency Dist'!K13:K22,'UEC Development'!$D$14:$D$23)+'Product Class Dist'!G$11*SUMPRODUCT('Efficiency Dist'!K48:K57,'UEC Development'!$D$37:$D$46)+'Product Class Dist'!G$12*SUMPRODUCT('Efficiency Dist'!K83:K92,'UEC Development'!$D$60:$D$69)+'Product Class Dist'!G$13*SUMPRODUCT('Efficiency Dist'!K118:K127,'UEC Development'!$D$83:$D$92)+'Product Class Dist'!G$14*SUMPRODUCT('Efficiency Dist'!K153:K162,'UEC Development'!$D$106:$D$115)+'Product Class Dist'!G$15*SUMPRODUCT('Efficiency Dist'!K188:K197,'UEC Development'!$D$129:$D$138)+'Product Class Dist'!G$16*SUMPRODUCT('Efficiency Dist'!K223:K232,'UEC Development'!$D$152:$D$161)+'Product Class Dist'!G$17*SUMPRODUCT('Efficiency Dist'!K258:K267,'UEC Development'!$D$175:$D$184)+'Product Class Dist'!G$18*SUMPRODUCT('Efficiency Dist'!K293:K302,'UEC Development'!$D$198:$D$207)+'Product Class Dist'!G$19*SUMPRODUCT('Efficiency Dist'!K328:K337,'UEC Development'!$D$221:$D$230)+'Product Class Dist'!G$20*SUMPRODUCT('Efficiency Dist'!K363:K372,'UEC Development'!$D$244:$D$253)+'Product Class Dist'!G$21*SUMPRODUCT('Efficiency Dist'!K398:K407,'UEC Development'!$D$267:$D$276)+'Product Class Dist'!G$22*SUMPRODUCT('Efficiency Dist'!K433:K442,'UEC Development'!$D$290:$D$299)+'Product Class Dist'!G$23*SUMPRODUCT('Efficiency Dist'!K468:K477,'UEC Development'!$D$311:$D$320)+'Product Class Dist'!G$24*SUMPRODUCT('Efficiency Dist'!K503:K512,'UEC Development'!$D$332:$D$341)+'Product Class Dist'!G$25*SUMPRODUCT('Efficiency Dist'!K538:K547,'UEC Development'!$D$353:$D$362)+'Product Class Dist'!G$26*SUMPRODUCT('Efficiency Dist'!K573:K582,'UEC Development'!$D$374:$D$383)+'Product Class Dist'!G$27*SUMPRODUCT('Efficiency Dist'!K608:K617,'UEC Development'!$D$395:$D$404)+'Product Class Dist'!G$28*SUMPRODUCT('Efficiency Dist'!K643:K652,'UEC Development'!$D$416:$D$425)+'Product Class Dist'!G$29*SUMPRODUCT('Efficiency Dist'!K678:K687,'UEC Development'!$D$437:$D$446)+'Product Class Dist'!G$30*SUMPRODUCT('Efficiency Dist'!K713:K720,'UEC Development'!$D$458:$D$465)+'Product Class Dist'!G$31*SUMPRODUCT('Efficiency Dist'!K744:K751,'UEC Development'!$D$477:$D$484)+'Product Class Dist'!G$32*SUMPRODUCT('Efficiency Dist'!K775:K784,'UEC Development'!$D$496:$D$505)+'Product Class Dist'!G$33*SUMPRODUCT('Efficiency Dist'!K810:K819,'UEC Development'!$D$519:$D$528)+'Product Class Dist'!G$34*SUMPRODUCT('Efficiency Dist'!K845:K854,'UEC Development'!$D$542:$D$551)","v":5722.5521561297064},{"$f":"'Product Class Dist'!H$10*SUMPRODUCT('Efficiency Dist'!L13:L22,'UEC Development'!$D$14:$D$23)+'Product Class Dist'!H$11*SUMPRODUCT('Efficiency Dist'!L48:L57,'UEC Development'!$D$37:$D$46)+'Product Class Dist'!H$12*SUMPRODUCT('Efficiency Dist'!L83:L92,'UEC Development'!$D$60:$D$69)+'Product Class Dist'!H$13*SUMPRODUCT('Efficiency Dist'!L118:L127,'UEC Development'!$D$83:$D$92)+'Product Class Dist'!H$14*SUMPRODUCT('Efficiency Dist'!L153:L162,'UEC Development'!$D$106:$D$115)+'Product Class Dist'!H$15*SUMPRODUCT('Efficiency Dist'!L188:L197,'UEC Development'!$D$129:$D$138)+'Product Class Dist'!H$16*SUMPRODUCT('Efficiency Dist'!L223:L232,'UEC Development'!$D$152:$D$161)+'Product Class Dist'!H$17*SUMPRODUCT('Efficiency Dist'!L258:L267,'UEC Development'!$D$175:$D$184)+'Product Class Dist'!H$18*SUMPRODUCT('Efficiency Dist'!L293:L302,'UEC Development'!$D$198:$D$207)+'Product Class Dist'!H$19*SUMPRODUCT('Efficiency Dist'!L328:L337,'UEC Development'!$D$221:$D$230)+'Product Class Dist'!H$20*SUMPRODUCT('Efficiency Dist'!L363:L372,'UEC Development'!$D$244:$D$253)+'Product Class Dist'!H$21*SUMPRODUCT('Efficiency Dist'!L398:L407,'UEC Development'!$D$267:$D$276)+'Product Class Dist'!H$22*SUMPRODUCT('Efficiency Dist'!L433:L442,'UEC Development'!$D$290:$D$299)+'Product Class Dist'!H$23*SUMPRODUCT('Efficiency Dist'!L468:L477,'UEC Development'!$D$311:$D$320)+'Product Class Dist'!H$24*SUMPRODUCT('Efficiency Dist'!L503:L512,'UEC Development'!$D$332:$D$341)+'Product Class Dist'!H$25*SUMPRODUCT('Efficiency Dist'!L538:L547,'UEC Development'!$D$353:$D$362)+'Product Class Dist'!H$26*SUMPRODUCT('Efficiency Dist'!L573:L582,'UEC Development'!$D$374:$D$383)+'Product Class Dist'!H$27*SUMPRODUCT('Efficiency Dist'!L608:L617,'UEC Development'!$D$395:$D$404)+'Product Class Dist'!H$28*SUMPRODUCT('Efficiency Dist'!L643:L652,'UEC Development'!$D$416:$D$425)+'Product Class Dist'!H$29*SUMPRODUCT('Efficiency Dist'!L678:L687,'UEC Development'!$D$437:$D$446)+'Product Class Dist'!H$30*SUMPRODUCT('Efficiency Dist'!L713:L720,'UEC Development'!$D$458:$D$465)+'Product Class Dist'!H$31*SUMPRODUCT('Efficiency Dist'!L744:L751,'UEC Development'!$D$477:$D$484)+'Product Class Dist'!H$32*SUMPRODUCT('Efficiency Dist'!L775:L784,'UEC Development'!$D$496:$D$505)+'Product Class Dist'!H$33*SUMPRODUCT('Efficiency Dist'!L810:L819,'UEC Development'!$D$519:$D$528)+'Product Class Dist'!H$34*SUMPRODUCT('Efficiency Dist'!L845:L854,'UEC Development'!$D$542:$D$551)","v":5722.5521561297064},{"$f":"'Product Class Dist'!I$10*SUMPRODUCT('Efficiency Dist'!M13:M22,'UEC Development'!$D$14:$D$23)+'Product Class Dist'!I$11*SUMPRODUCT('Efficiency Dist'!M48:M57,'UEC Development'!$D$37:$D$46)+'Product Class Dist'!I$12*SUMPRODUCT('Efficiency Dist'!M83:M92,'UEC Development'!$D$60:$D$69)+'Product Class Dist'!I$13*SUMPRODUCT('Efficiency Dist'!M118:M127,'UEC Development'!$D$83:$D$92)+'Product Class Dist'!I$14*SUMPRODUCT('Efficiency Dist'!M153:M162,'UEC Development'!$D$106:$D$115)+'Product Class Dist'!I$15*SUMPRODUCT('Efficiency Dist'!M188:M197,'UEC Development'!$D$129:$D$138)+'Product Class Dist'!I$16*SUMPRODUCT('Efficiency Dist'!M223:M232,'UEC Development'!$D$152:$D$161)+'Product Class Dist'!I$17*SUMPRODUCT('Efficiency Dist'!M258:M267,'UEC Development'!$D$175:$D$184)+'Product Class Dist'!I$18*SUMPRODUCT('Efficiency Dist'!M293:M302,'UEC Development'!$D$198:$D$207)+'Product Class Dist'!I$19*SUMPRODUCT('Efficiency Dist'!M328:M337,'UEC Development'!$D$221:$D$230)+'Product Class Dist'!I$20*SUMPRODUCT('Efficiency Dist'!M363:M372,'UEC Development'!$D$244:$D$253)+'Product Class Dist'!I$21*SUMPRODUCT('Efficiency Dist'!M398:M407,'UEC Development'!$D$267:$D$276)+'Product Class Dist'!I$22*SUMPRODUCT('Efficiency Dist'!M433:M442,'UEC Development'!$D$290:$D$299)+'Product Class Dist'!I$23*SUMPRODUCT('Efficiency Dist'!M468:M477,'UEC Development'!$D$311:$D$320)+'Product Class Dist'!I$24*SUMPRODUCT('Efficiency Dist'!M503:M512,'UEC Development'!$D$332:$D$341)+'Product Class Dist'!I$25*SUMPRODUCT('Efficiency Dist'!M538:M547,'UEC Development'!$D$353:$D$362)+'Product Class Dist'!I$26*SUMPRODUCT('Efficiency Dist'!M573:M582,'UEC Development'!$D$374:$D$383)+'Product Class Dist'!I$27*SUMPRODUCT('Efficiency Dist'!M608:M617,'UEC Development'!$D$395:$D$404)+'Product Class Dist'!I$28*SUMPRODUCT('Efficiency Dist'!M643:M652,'UEC Development'!$D$416:$D$425)+'Product Class Dist'!I$29*SUMPRODUCT('Efficiency Dist'!M678:M687,'UEC Development'!$D$437:$D$446)+'Product Class Dist'!I$30*SUMPRODUCT('Efficiency Dist'!M713:M720,'UEC Development'!$D$458:$D$465)+'Product Class Dist'!I$31*SUMPRODUCT('Efficiency Dist'!M744:M751,'UEC Development'!$D$477:$D$484)+'Product Class Dist'!I$32*SUMPRODUCT('Efficiency Dist'!M775:M784,'UEC Development'!$D$496:$D$505)+'Product Class Dist'!I$33*SUMPRODUCT('Efficiency Dist'!M810:M819,'UEC Development'!$D$519:$D$528)+'Product Class Dist'!I$34*SUMPRODUCT('Efficiency Dist'!M845:M854,'UEC Development'!$D$542:$D$551)","v":5722.5521561297064},{"$f":"'Product Class Dist'!J$10*SUMPRODUCT('Efficiency Dist'!N13:N22,'UEC Development'!$D$14:$D$23)+'Product Class Dist'!J$11*SUMPRODUCT('Efficiency Dist'!N48:N57,'UEC Development'!$D$37:$D$46)+'Product Class Dist'!J$12*SUMPRODUCT('Efficiency Dist'!N83:N92,'UEC Development'!$D$60:$D$69)+'Product Class Dist'!J$13*SUMPRODUCT('Efficiency Dist'!N118:N127,'UEC Development'!$D$83:$D$92)+'Product Class Dist'!J$14*SUMPRODUCT('Efficiency Dist'!N153:N162,'UEC Development'!$D$106:$D$115)+'Product Class Dist'!J$15*SUMPRODUCT('Efficiency Dist'!N188:N197,'UEC Development'!$D$129:$D$138)+'Product Class Dist'!J$16*SUMPRODUCT('Efficiency Dist'!N223:N232,'UEC Development'!$D$152:$D$161)+'Product Class Dist'!J$17*SUMPRODUCT('Efficiency Dist'!N258:N267,'UEC Development'!$D$175:$D$184)+'Product Class Dist'!J$18*SUMPRODUCT('Efficiency Dist'!N293:N302,'UEC Development'!$D$198:$D$207)+'Product Class Dist'!J$19*SUMPRODUCT('Efficiency Dist'!N328:N337,'UEC Development'!$D$221:$D$230)+'Product Class Dist'!J$20*SUMPRODUCT('Efficiency Dist'!N363:N372,'UEC Development'!$D$244:$D$253)+'Product Class Dist'!J$21*SUMPRODUCT('Efficiency Dist'!N398:N407,'UEC Development'!$D$267:$D$276)+'Product Class Dist'!J$22*SUMPRODUCT('Efficiency Dist'!N433:N442,'UEC Development'!$D$290:$D$299)+'Product Class Dist'!J$23*SUMPRODUCT('Efficiency Dist'!N468:N477,'UEC Development'!$D$311:$D$320)+'Product Class Dist'!J$24*SUMPRODUCT('Efficiency Dist'!N503:N512,'UEC Development'!$D$332:$D$341)+'Product Class Dist'!J$25*SUMPRODUCT('Efficiency Dist'!N538:N547,'UEC Development'!$D$353:$D$362)+'Product Class Dist'!J$26*SUMPRODUCT('Efficiency Dist'!N573:N582,'UEC Development'!$D$374:$D$383)+'Product Class Dist'!J$27*SUMPRODUCT('Efficiency Dist'!N608:N617,'UEC Development'!$D$395:$D$404)+'Product Class Dist'!J$28*SUMPRODUCT('Efficiency Dist'!N643:N652,'UEC Development'!$D$416:$D$425)+'Product Class Dist'!J$29*SUMPRODUCT('Efficiency Dist'!N678:N687,'UEC Development'!$D$437:$D$446)+'Product Class Dist'!J$30*SUMPRODUCT('Efficiency Dist'!N713:N720,'UEC Development'!$D$458:$D$465)+'Product Class Dist'!J$31*SUMPRODUCT('Efficiency Dist'!N744:N751,'UEC Development'!$D$477:$D$484)+'Product Class Dist'!J$32*SUMPRODUCT('Efficiency Dist'!N775:N784,'UEC Development'!$D$496:$D$505)+'Product Class Dist'!J$33*SUMPRODUCT('Efficiency Dist'!N810:N819,'UEC Development'!$D$519:$D$528)+'Product Class Dist'!J$34*SUMPRODUCT('Efficiency Dist'!N845:N854,'UEC Development'!$D$542:$D$551)","v":5722.5521561297064},{"$f":"'Product Class Dist'!K$10*SUMPRODUCT('Efficiency Dist'!O13:O22,'UEC Development'!$D$14:$D$23)+'Product Class Dist'!K$11*SUMPRODUCT('Efficiency Dist'!O48:O57,'UEC Development'!$D$37:$D$46)+'Product Class Dist'!K$12*SUMPRODUCT('Efficiency Dist'!O83:O92,'UEC Development'!$D$60:$D$69)+'Product Class Dist'!K$13*SUMPRODUCT('Efficiency Dist'!O118:O127,'UEC Development'!$D$83:$D$92)+'Product Class Dist'!K$14*SUMPRODUCT('Efficiency Dist'!O153:O162,'UEC Development'!$D$106:$D$115)+'Product Class Dist'!K$15*SUMPRODUCT('Efficiency Dist'!O188:O197,'UEC Development'!$D$129:$D$138)+'Product Class Dist'!K$16*SUMPRODUCT('Efficiency Dist'!O223:O232,'UEC Development'!$D$152:$D$161)+'Product Class Dist'!K$17*SUMPRODUCT('Efficiency Dist'!O258:O267,'UEC Development'!$D$175:$D$184)+'Product Class Dist'!K$18*SUMPRODUCT('Efficiency Dist'!O293:O302,'UEC Development'!$D$198:$D$207)+'Product Class Dist'!K$19*SUMPRODUCT('Efficiency Dist'!O328:O337,'UEC Development'!$D$221:$D$230)+'Product Class Dist'!K$20*SUMPRODUCT('Efficiency Dist'!O363:O372,'UEC Development'!$D$244:$D$253)+'Product Class Dist'!K$21*SUMPRODUCT('Efficiency Dist'!O398:O407,'UEC Development'!$D$267:$D$276)+'Product Class Dist'!K$22*SUMPRODUCT('Efficiency Dist'!O433:O442,'UEC Development'!$D$290:$D$299)+'Product Class Dist'!K$23*SUMPRODUCT('Efficiency Dist'!O468:O477,'UEC Development'!$D$311:$D$320)+'Product Class Dist'!K$24*SUMPRODUCT('Efficiency Dist'!O503:O512,'UEC Development'!$D$332:$D$341)+'Product Class Dist'!K$25*SUMPRODUCT('Efficiency Dist'!O538:O547,'UEC Development'!$D$353:$D$362)+'Product Class Dist'!K$26*SUMPRODUCT('Efficiency Dist'!O573:O582,'UEC Development'!$D$374:$D$383)+'Product Class Dist'!K$27*SUMPRODUCT('Efficiency Dist'!O608:O617,'UEC Development'!$D$395:$D$404)+'Product Class Dist'!K$28*SUMPRODUCT('Efficiency Dist'!O643:O652,'UEC Development'!$D$416:$D$425)+'Product Class Dist'!K$29*SUMPRODUCT('Efficiency Dist'!O678:O687,'UEC Development'!$D$437:$D$446)+'Product Class Dist'!K$30*SUMPRODUCT('Efficiency Dist'!O713:O720,'UEC Development'!$D$458:$D$465)+'Product Class Dist'!K$31*SUMPRODUCT('Efficiency Dist'!O744:O751,'UEC Development'!$D$477:$D$484)+'Product Class Dist'!K$32*SUMPRODUCT('Efficiency Dist'!O775:O784,'UEC Development'!$D$496:$D$505)+'Product Class Dist'!K$33*SUMPRODUCT('Efficiency Dist'!O810:O819,'UEC Development'!$D$519:$D$528)+'Product Class Dist'!K$34*SUMPRODUCT('Efficiency Dist'!O845:O854,'UEC Development'!$D$542:$D$551)","v":5722.5521561297064},{"$f":"'Product Class Dist'!L$10*SUMPRODUCT('Efficiency Dist'!P13:P22,'UEC Development'!$D$14:$D$23)+'Product Class Dist'!L$11*SUMPRODUCT('Efficiency Dist'!P48:P57,'UEC Development'!$D$37:$D$46)+'Product Class Dist'!L$12*SUMPRODUCT('Efficiency Dist'!P83:P92,'UEC Development'!$D$60:$D$69)+'Product Class Dist'!L$13*SUMPRODUCT('Efficiency Dist'!P118:P127,'UEC Development'!$D$83:$D$92)+'Product Class Dist'!L$14*SUMPRODUCT('Efficiency Dist'!P153:P162,'UEC Development'!$D$106:$D$115)+'Product Class Dist'!L$15*SUMPRODUCT('Efficiency Dist'!P188:P197,'UEC Development'!$D$129:$D$138)+'Product Class Dist'!L$16*SUMPRODUCT('Efficiency Dist'!P223:P232,'UEC Development'!$D$152:$D$161)+'Product Class Dist'!L$17*SUMPRODUCT('Efficiency Dist'!P258:P267,'UEC Development'!$D$175:$D$184)+'Product Class Dist'!L$18*SUMPRODUCT('Efficiency Dist'!P293:P302,'UEC Development'!$D$198:$D$207)+'Product Class Dist'!L$19*SUMPRODUCT('Efficiency Dist'!P328:P337,'UEC Development'!$D$221:$D$230)+'Product Class Dist'!L$20*SUMPRODUCT('Efficiency Dist'!P363:P372,'UEC Development'!$D$244:$D$253)+'Product Class Dist'!L$21*SUMPRODUCT('Efficiency Dist'!P398:P407,'UEC Development'!$D$267:$D$276)+'Product Class Dist'!L$22*SUMPRODUCT('Efficiency Dist'!P433:P442,'UEC Development'!$D$290:$D$299)+'Product Class Dist'!L$23*SUMPRODUCT('Efficiency Dist'!P468:P477,'UEC Development'!$D$311:$D$320)+'Product Class Dist'!L$24*SUMPRODUCT('Efficiency Dist'!P503:P512,'UEC Development'!$D$332:$D$341)+'Product Class Dist'!L$25*SUMPRODUCT('Efficiency Dist'!P538:P547,'UEC Development'!$D$353:$D$362)+'Product Class Dist'!L$26*SUMPRODUCT('Efficiency Dist'!P573:P582,'UEC Development'!$D$374:$D$383)+'Product Class Dist'!L$27*SUMPRODUCT('Efficiency Dist'!P608:P617,'UEC Development'!$D$395:$D$404)+'Product Class Dist'!L$28*SUMPRODUCT('Efficiency Dist'!P643:P652,'UEC Development'!$D$416:$D$425)+'Product Class Dist'!L$29*SUMPRODUCT('Efficiency Dist'!P678:P687,'UEC Development'!$D$437:$D$446)+'Product Class Dist'!L$30*SUMPRODUCT('Efficiency Dist'!P713:P720,'UEC Development'!$D$458:$D$465)+'Product Class Dist'!L$31*SUMPRODUCT('Efficiency Dist'!P744:P751,'UEC Development'!$D$477:$D$484)+'Product Class Dist'!L$32*SUMPRODUCT('Efficiency Dist'!P775:P784,'UEC Development'!$D$496:$D$505)+'Product Class Dist'!L$33*SUMPRODUCT('Efficiency Dist'!P810:P819,'UEC Development'!$D$519:$D$528)+'Product Class Dist'!L$34*SUMPRODUCT('Efficiency Dist'!P845:P854,'UEC Development'!$D$542:$D$551)","v":5722.5521561297064},{"$f":"'Product Class Dist'!M$10*SUMPRODUCT('Efficiency Dist'!Q13:Q22,'UEC Development'!$D$14:$D$23)+'Product Class Dist'!M$11*SUMPRODUCT('Efficiency Dist'!Q48:Q57,'UEC Development'!$D$37:$D$46)+'Product Class Dist'!M$12*SUMPRODUCT('Efficiency Dist'!Q83:Q92,'UEC Development'!$D$60:$D$69)+'Product Class Dist'!M$13*SUMPRODUCT('Efficiency Dist'!Q118:Q127,'UEC Development'!$D$83:$D$92)+'Product Class Dist'!M$14*SUMPRODUCT('Efficiency Dist'!Q153:Q162,'UEC Development'!$D$106:$D$115)+'Product Class Dist'!M$15*SUMPRODUCT('Efficiency Dist'!Q188:Q197,'UEC Development'!$D$129:$D$138)+'Product Class Dist'!M$16*SUMPRODUCT('Efficiency Dist'!Q223:Q232,'UEC Development'!$D$152:$D$161)+'Product Class Dist'!M$17*SUMPRODUCT('Efficiency Dist'!Q258:Q267,'UEC Development'!$D$175:$D$184)+'Product Class Dist'!M$18*SUMPRODUCT('Efficiency Dist'!Q293:Q302,'UEC Development'!$D$198:$D$207)+'Product Class Dist'!M$19*SUMPRODUCT('Efficiency Dist'!Q328:Q337,'UEC Development'!$D$221:$D$230)+'Product Class Dist'!M$20*SUMPRODUCT('Efficiency Dist'!Q363:Q372,'UEC Development'!$D$244:$D$253)+'Product Class Dist'!M$21*SUMPRODUCT('Efficiency Dist'!Q398:Q407,'UEC Development'!$D$267:$D$276)+'Product Class Dist'!M$22*SUMPRODUCT('Efficiency Dist'!Q433:Q442,'UEC Development'!$D$290:$D$299)+'Product Class Dist'!M$23*SUMPRODUCT('Efficiency Dist'!Q468:Q477,'UEC Development'!$D$311:$D$320)+'Product Class Dist'!M$24*SUMPRODUCT('Efficiency Dist'!Q503:Q512,'UEC Development'!$D$332:$D$341)+'Product Class Dist'!M$25*SUMPRODUCT('Efficiency Dist'!Q538:Q547,'UEC Development'!$D$353:$D$362)+'Product Class Dist'!M$26*SUMPRODUCT('Efficiency Dist'!Q573:Q582,'UEC Development'!$D$374:$D$383)+'Product Class Dist'!M$27*SUMPRODUCT('Efficiency Dist'!Q608:Q617,'UEC Development'!$D$395:$D$404)+'Product Class Dist'!M$28*SUMPRODUCT('Efficiency Dist'!Q643:Q652,'UEC Development'!$D$416:$D$425)+'Product Class Dist'!M$29*SUMPRODUCT('Efficiency Dist'!Q678:Q687,'UEC Development'!$D$437:$D$446)+'Product Class Dist'!M$30*SUMPRODUCT('Efficiency Dist'!Q713:Q720,'UEC Development'!$D$458:$D$465)+'Product Class Dist'!M$31*SUMPRODUCT('Efficiency Dist'!Q744:Q751,'UEC Development'!$D$477:$D$484)+'Product Class Dist'!M$32*SUMPRODUCT('Efficiency Dist'!Q775:Q784,'UEC Development'!$D$496:$D$505)+'Product Class Dist'!M$33*SUMPRODUCT('Efficiency Dist'!Q810:Q819,'UEC Development'!$D$519:$D$528)+'Product Class Dist'!M$34*SUMPRODUCT('Efficiency Dist'!Q845:Q854,'UEC Development'!$D$542:$D$551)","v":5722.5521561297064},{"$f":"'Product Class Dist'!N$10*SUMPRODUCT('Efficiency Dist'!R13:R22,'UEC Development'!$D$14:$D$23)+'Product Class Dist'!N$11*SUMPRODUCT('Efficiency Dist'!R48:R57,'UEC Development'!$D$37:$D$46)+'Product Class Dist'!N$12*SUMPRODUCT('Efficiency Dist'!R83:R92,'UEC Development'!$D$60:$D$69)+'Product Class Dist'!N$13*SUMPRODUCT('Efficiency Dist'!R118:R127,'UEC Development'!$D$83:$D$92)+'Product Class Dist'!N$14*SUMPRODUCT('Efficiency Dist'!R153:R162,'UEC Development'!$D$106:$D$115)+'Product Class Dist'!N$15*SUMPRODUCT('Efficiency Dist'!R188:R197,'UEC Development'!$D$129:$D$138)+'Product Class Dist'!N$16*SUMPRODUCT('Efficiency Dist'!R223:R232,'UEC Development'!$D$152:$D$161)+'Product Class Dist'!N$17*SUMPRODUCT('Efficiency Dist'!R258:R267,'UEC Development'!$D$175:$D$184)+'Product Class Dist'!N$18*SUMPRODUCT('Efficiency Dist'!R293:R302,'UEC Development'!$D$198:$D$207)+'Product Class Dist'!N$19*SUMPRODUCT('Efficiency Dist'!R328:R337,'UEC Development'!$D$221:$D$230)+'Product Class Dist'!N$20*SUMPRODUCT('Efficiency Dist'!R363:R372,'UEC Development'!$D$244:$D$253)+'Product Class Dist'!N$21*SUMPRODUCT('Efficiency Dist'!R398:R407,'UEC Development'!$D$267:$D$276)+'Product Class Dist'!N$22*SUMPRODUCT('Efficiency Dist'!R433:R442,'UEC Development'!$D$290:$D$299)+'Product Class Dist'!N$23*SUMPRODUCT('Efficiency Dist'!R468:R477,'UEC Development'!$D$311:$D$320)+'Product Class Dist'!N$24*SUMPRODUCT('Efficiency Dist'!R503:R512,'UEC Development'!$D$332:$D$341)+'Product Class Dist'!N$25*SUMPRODUCT('Efficiency Dist'!R538:R547,'UEC Development'!$D$353:$D$362)+'Product Class Dist'!N$26*SUMPRODUCT('Efficiency Dist'!R573:R582,'UEC Development'!$D$374:$D$383)+'Product Class Dist'!N$27*SUMPRODUCT('Efficiency Dist'!R608:R617,'UEC Development'!$D$395:$D$404)+'Product Class Dist'!N$28*SUMPRODUCT('Efficiency Dist'!R643:R652,'UEC Development'!$D$416:$D$425)+'Product Class Dist'!N$29*SUMPRODUCT('Efficiency Dist'!R678:R687,'UEC Development'!$D$437:$D$446)+'Product Class Dist'!N$30*SUMPRODUCT('Efficiency Dist'!R713:R720,'UEC Development'!$D$458:$D$465)+'Product Class Dist'!N$31*SUMPRODUCT('Efficiency Dist'!R744:R751,'UEC Development'!$D$477:$D$484)+'Product Class Dist'!N$32*SUMPRODUCT('Efficiency Dist'!R775:R784,'UEC Development'!$D$496:$D$505)+'Product Class Dist'!N$33*SUMPRODUCT('Efficiency Dist'!R810:R819,'UEC Development'!$D$519:$D$528)+'Product Class Dist'!N$34*SUMPRODUCT('Efficiency Dist'!R845:R854,'UEC Development'!$D$542:$D$551)","v":5722.5521561297064},{"$f":"'Product Class Dist'!O$10*SUMPRODUCT('Efficiency Dist'!S13:S22,'UEC Development'!$D$14:$D$23)+'Product Class Dist'!O$11*SUMPRODUCT('Efficiency Dist'!S48:S57,'UEC Development'!$D$37:$D$46)+'Product Class Dist'!O$12*SUMPRODUCT('Efficiency Dist'!S83:S92,'UEC Development'!$D$60:$D$69)+'Product Class Dist'!O$13*SUMPRODUCT('Efficiency Dist'!S118:S127,'UEC Development'!$D$83:$D$92)+'Product Class Dist'!O$14*SUMPRODUCT('Efficiency Dist'!S153:S162,'UEC Development'!$D$106:$D$115)+'Product Class Dist'!O$15*SUMPRODUCT('Efficiency Dist'!S188:S197,'UEC Development'!$D$129:$D$138)+'Product Class Dist'!O$16*SUMPRODUCT('Efficiency Dist'!S223:S232,'UEC Development'!$D$152:$D$161)+'Product Class Dist'!O$17*SUMPRODUCT('Efficiency Dist'!S258:S267,'UEC Development'!$D$175:$D$184)+'Product Class Dist'!O$18*SUMPRODUCT('Efficiency Dist'!S293:S302,'UEC Development'!$D$198:$D$207)+'Product Class Dist'!O$19*SUMPRODUCT('Efficiency Dist'!S328:S337,'UEC Development'!$D$221:$D$230)+'Product Class Dist'!O$20*SUMPRODUCT('Efficiency Dist'!S363:S372,'UEC Development'!$D$244:$D$253)+'Product Class Dist'!O$21*SUMPRODUCT('Efficiency Dist'!S398:S407,'UEC Development'!$D$267:$D$276)+'Product Class Dist'!O$22*SUMPRODUCT('Efficiency Dist'!S433:S442,'UEC Development'!$D$290:$D$299)+'Product Class Dist'!O$23*SUMPRODUCT('Efficiency Dist'!S468:S477,'UEC Development'!$D$311:$D$320)+'Product Class Dist'!O$24*SUMPRODUCT('Efficiency Dist'!S503:S512,'UEC Development'!$D$332:$D$341)+'Product Class Dist'!O$25*SUMPRODUCT('Efficiency Dist'!S538:S547,'UEC Development'!$D$353:$D$362)+'Product Class Dist'!O$26*SUMPRODUCT('Efficiency Dist'!S573:S582,'UEC Development'!$D$374:$D$383)+'Product Class Dist'!O$27*SUMPRODUCT('Efficiency Dist'!S608:S617,'UEC Development'!$D$395:$D$404)+'Product Class Dist'!O$28*SUMPRODUCT('Efficiency Dist'!S643:S652,'UEC Development'!$D$416:$D$425)+'Product Class Dist'!O$29*SUMPRODUCT('Efficiency Dist'!S678:S687,'UEC Development'!$D$437:$D$446)+'Product Class Dist'!O$30*SUMPRODUCT('Efficiency Dist'!S713:S720,'UEC Development'!$D$458:$D$465)+'Product Class Dist'!O$31*SUMPRODUCT('Efficiency Dist'!S744:S751,'UEC Development'!$D$477:$D$484)+'Product Class Dist'!O$32*SUMPRODUCT('Efficiency Dist'!S775:S784,'UEC Development'!$D$496:$D$505)+'Product Class Dist'!O$33*SUMPRODUCT('Efficiency Dist'!S810:S819,'UEC Development'!$D$519:$D$528)+'Product Class Dist'!O$34*SUMPRODUCT('Efficiency Dist'!S845:S854,'UEC Development'!$D$542:$D$551)","v":5722.5521561297064},{"$f":"'Product Class Dist'!P$10*SUMPRODUCT('Efficiency Dist'!T13:T22,'UEC Development'!$D$14:$D$23)+'Product Class Dist'!P$11*SUMPRODUCT('Efficiency Dist'!T48:T57,'UEC Development'!$D$37:$D$46)+'Product Class Dist'!P$12*SUMPRODUCT('Efficiency Dist'!T83:T92,'UEC Development'!$D$60:$D$69)+'Product Class Dist'!P$13*SUMPRODUCT('Efficiency Dist'!T118:T127,'UEC Development'!$D$83:$D$92)+'Product Class Dist'!P$14*SUMPRODUCT('Efficiency Dist'!T153:T162,'UEC Development'!$D$106:$D$115)+'Product Class Dist'!P$15*SUMPRODUCT('Efficiency Dist'!T188:T197,'UEC Development'!$D$129:$D$138)+'Product Class Dist'!P$16*SUMPRODUCT('Efficiency Dist'!T223:T232,'UEC Development'!$D$152:$D$161)+'Product Class Dist'!P$17*SUMPRODUCT('Efficiency Dist'!T258:T267,'UEC Development'!$D$175:$D$184)+'Product Class Dist'!P$18*SUMPRODUCT('Efficiency Dist'!T293:T302,'UEC Development'!$D$198:$D$207)+'Product Class Dist'!P$19*SUMPRODUCT('Efficiency Dist'!T328:T337,'UEC Development'!$D$221:$D$230)+'Product Class Dist'!P$20*SUMPRODUCT('Efficiency Dist'!T363:T372,'UEC Development'!$D$244:$D$253)+'Product Class Dist'!P$21*SUMPRODUCT('Efficiency Dist'!T398:T407,'UEC Development'!$D$267:$D$276)+'Product Class Dist'!P$22*SUMPRODUCT('Efficiency Dist'!T433:T442,'UEC Development'!$D$290:$D$299)+'Product Class Dist'!P$23*SUMPRODUCT('Efficiency Dist'!T468:T477,'UEC Development'!$D$311:$D$320)+'Product Class Dist'!P$24*SUMPRODUCT('Efficiency Dist'!T503:T512,'UEC Development'!$D$332:$D$341)+'Product Class Dist'!P$25*SUMPRODUCT('Efficiency Dist'!T538:T547,'UEC Development'!$D$353:$D$362)+'Product Class Dist'!P$26*SUMPRODUCT('Efficiency Dist'!T573:T582,'UEC Development'!$D$374:$D$383)+'Product Class Dist'!P$27*SUMPRODUCT('Efficiency Dist'!T608:T617,'UEC Development'!$D$395:$D$404)+'Product Class Dist'!P$28*SUMPRODUCT('Efficiency Dist'!T643:T652,'UEC Development'!$D$416:$D$425)+'Product Class Dist'!P$29*SUMPRODUCT('Efficiency Dist'!T678:T687,'UEC Development'!$D$437:$D$446)+'Product Class Dist'!P$30*SUMPRODUCT('Efficiency Dist'!T713:T720,'UEC Development'!$D$458:$D$465)+'Product Class Dist'!P$31*SUMPRODUCT('Efficiency Dist'!T744:T751,'UEC Development'!$D$477:$D$484)+'Product Class Dist'!P$32*SUMPRODUCT('Efficiency Dist'!T775:T784,'UEC Development'!$D$496:$D$505)+'Product Class Dist'!P$33*SUMPRODUCT('Efficiency Dist'!T810:T819,'UEC Development'!$D$519:$D$528)+'Product Class Dist'!P$34*SUMPRODUCT('Efficiency Dist'!T845:T854,'UEC Development'!$D$542:$D$551)","v":5722.5521561297064},{"$f":"'Product Class Dist'!Q$10*SUMPRODUCT('Efficiency Dist'!U13:U22,'UEC Development'!$D$14:$D$23)+'Product Class Dist'!Q$11*SUMPRODUCT('Efficiency Dist'!U48:U57,'UEC Development'!$D$37:$D$46)+'Product Class Dist'!Q$12*SUMPRODUCT('Efficiency Dist'!U83:U92,'UEC Development'!$D$60:$D$69)+'Product Class Dist'!Q$13*SUMPRODUCT('Efficiency Dist'!U118:U127,'UEC Development'!$D$83:$D$92)+'Product Class Dist'!Q$14*SUMPRODUCT('Efficiency Dist'!U153:U162,'UEC Development'!$D$106:$D$115)+'Product Class Dist'!Q$15*SUMPRODUCT('Efficiency Dist'!U188:U197,'UEC Development'!$D$129:$D$138)+'Product Class Dist'!Q$16*SUMPRODUCT('Efficiency Dist'!U223:U232,'UEC Development'!$D$152:$D$161)+'Product Class Dist'!Q$17*SUMPRODUCT('Efficiency Dist'!U258:U267,'UEC Development'!$D$175:$D$184)+'Product Class Dist'!Q$18*SUMPRODUCT('Efficiency Dist'!U293:U302,'UEC Development'!$D$198:$D$207)+'Product Class Dist'!Q$19*SUMPRODUCT('Efficiency Dist'!U328:U337,'UEC Development'!$D$221:$D$230)+'Product Class Dist'!Q$20*SUMPRODUCT('Efficiency Dist'!U363:U372,'UEC Development'!$D$244:$D$253)+'Product Class Dist'!Q$21*SUMPRODUCT('Efficiency Dist'!U398:U407,'UEC Development'!$D$267:$D$276)+'Product Class Dist'!Q$22*SUMPRODUCT('Efficiency Dist'!U433:U442,'UEC Development'!$D$290:$D$299)+'Product Class Dist'!Q$23*SUMPRODUCT('Efficiency Dist'!U468:U477,'UEC Development'!$D$311:$D$320)+'Product Class Dist'!Q$24*SUMPRODUCT('Efficiency Dist'!U503:U512,'UEC Development'!$D$332:$D$341)+'Product Class Dist'!Q$25*SUMPRODUCT('Efficiency Dist'!U538:U547,'UEC Development'!$D$353:$D$362)+'Product Class Dist'!Q$26*SUMPRODUCT('Efficiency Dist'!U573:U582,'UEC Development'!$D$374:$D$383)+'Product Class Dist'!Q$27*SUMPRODUCT('Efficiency Dist'!U608:U617,'UEC Development'!$D$395:$D$404)+'Product Class Dist'!Q$28*SUMPRODUCT('Efficiency Dist'!U643:U652,'UEC Development'!$D$416:$D$425)+'Product Class Dist'!Q$29*SUMPRODUCT('Efficiency Dist'!U678:U687,'UEC Development'!$D$437:$D$446)+'Product Class Dist'!Q$30*SUMPRODUCT('Efficiency Dist'!U713:U720,'UEC Development'!$D$458:$D$465)+'Product Class Dist'!Q$31*SUMPRODUCT('Efficiency Dist'!U744:U751,'UEC Development'!$D$477:$D$484)+'Product Class Dist'!Q$32*SUMPRODUCT('Efficiency Dist'!U775:U784,'UEC Development'!$D$496:$D$505)+'Product Class Dist'!Q$33*SUMPRODUCT('Efficiency Dist'!U810:U819,'UEC Development'!$D$519:$D$528)+'Product Class Dist'!Q$34*SUMPRODUCT('Efficiency Dist'!U845:U854,'UEC Development'!$D$542:$D$551)","v":5722.5521561297064},{"$f":"'Product Class Dist'!R$10*SUMPRODUCT('Efficiency Dist'!V13:V22,'UEC Development'!$D$14:$D$23)+'Product Class Dist'!R$11*SUMPRODUCT('Efficiency Dist'!V48:V57,'UEC Development'!$D$37:$D$46)+'Product Class Dist'!R$12*SUMPRODUCT('Efficiency Dist'!V83:V92,'UEC Development'!$D$60:$D$69)+'Product Class Dist'!R$13*SUMPRODUCT('Efficiency Dist'!V118:V127,'UEC Development'!$D$83:$D$92)+'Product Class Dist'!R$14*SUMPRODUCT('Efficiency Dist'!V153:V162,'UEC Development'!$D$106:$D$115)+'Product Class Dist'!R$15*SUMPRODUCT('Efficiency Dist'!V188:V197,'UEC Development'!$D$129:$D$138)+'Product Class Dist'!R$16*SUMPRODUCT('Efficiency Dist'!V223:V232,'UEC Development'!$D$152:$D$161)+'Product Class Dist'!R$17*SUMPRODUCT('Efficiency Dist'!V258:V267,'UEC Development'!$D$175:$D$184)+'Product Class Dist'!R$18*SUMPRODUCT('Efficiency Dist'!V293:V302,'UEC Development'!$D$198:$D$207)+'Product Class Dist'!R$19*SUMPRODUCT('Efficiency Dist'!V328:V337,'UEC Development'!$D$221:$D$230)+'Product Class Dist'!R$20*SUMPRODUCT('Efficiency Dist'!V363:V372,'UEC Development'!$D$244:$D$253)+'Product Class Dist'!R$21*SUMPRODUCT('Efficiency Dist'!V398:V407,'UEC Development'!$D$267:$D$276)+'Product Class Dist'!R$22*SUMPRODUCT('Efficiency Dist'!V433:V442,'UEC Development'!$D$290:$D$299)+'Product Class Dist'!R$23*SUMPRODUCT('Efficiency Dist'!V468:V477,'UEC Development'!$D$311:$D$320)+'Product Class Dist'!R$24*SUMPRODUCT('Efficiency Dist'!V503:V512,'UEC Development'!$D$332:$D$341)+'Product Class Dist'!R$25*SUMPRODUCT('Efficiency Dist'!V538:V547,'UEC Development'!$D$353:$D$362)+'Product Class Dist'!R$26*SUMPRODUCT('Efficiency Dist'!V573:V582,'UEC Development'!$D$374:$D$383)+'Product Class Dist'!R$27*SUMPRODUCT('Efficiency Dist'!V608:V617,'UEC Development'!$D$395:$D$404)+'Product Class Dist'!R$28*SUMPRODUCT('Efficiency Dist'!V643:V652,'UEC Development'!$D$416:$D$425)+'Product Class Dist'!R$29*SUMPRODUCT('Efficiency Dist'!V678:V687,'UEC Development'!$D$437:$D$446)+'Product Class Dist'!R$30*SUMPRODUCT('Efficiency Dist'!V713:V720,'UEC Development'!$D$458:$D$465)+'Product Class Dist'!R$31*SUMPRODUCT('Efficiency Dist'!V744:V751,'UEC Development'!$D$477:$D$484)+'Product Class Dist'!R$32*SUMPRODUCT('Efficiency Dist'!V775:V784,'UEC Development'!$D$496:$D$505)+'Product Class Dist'!R$33*SUMPRODUCT('Efficiency Dist'!V810:V819,'UEC Development'!$D$519:$D$528)+'Product Class Dist'!R$34*SUMPRODUCT('Efficiency Dist'!V845:V854,'UEC Development'!$D$542:$D$551)","v":5722.5521561297064},{"$f":"'Product Class Dist'!S$10*SUMPRODUCT('Efficiency Dist'!W13:W22,'UEC Development'!$D$14:$D$23)+'Product Class Dist'!S$11*SUMPRODUCT('Efficiency Dist'!W48:W57,'UEC Development'!$D$37:$D$46)+'Product Class Dist'!S$12*SUMPRODUCT('Efficiency Dist'!W83:W92,'UEC Development'!$D$60:$D$69)+'Product Class Dist'!S$13*SUMPRODUCT('Efficiency Dist'!W118:W127,'UEC Development'!$D$83:$D$92)+'Product Class Dist'!S$14*SUMPRODUCT('Efficiency Dist'!W153:W162,'UEC Development'!$D$106:$D$115)+'Product Class Dist'!S$15*SUMPRODUCT('Efficiency Dist'!W188:W197,'UEC Development'!$D$129:$D$138)+'Product Class Dist'!S$16*SUMPRODUCT('Efficiency Dist'!W223:W232,'UEC Development'!$D$152:$D$161)+'Product Class Dist'!S$17*SUMPRODUCT('Efficiency Dist'!W258:W267,'UEC Development'!$D$175:$D$184)+'Product Class Dist'!S$18*SUMPRODUCT('Efficiency Dist'!W293:W302,'UEC Development'!$D$198:$D$207)+'Product Class Dist'!S$19*SUMPRODUCT('Efficiency Dist'!W328:W337,'UEC Development'!$D$221:$D$230)+'Product Class Dist'!S$20*SUMPRODUCT('Efficiency Dist'!W363:W372,'UEC Development'!$D$244:$D$253)+'Product Class Dist'!S$21*SUMPRODUCT('Efficiency Dist'!W398:W407,'UEC Development'!$D$267:$D$276)+'Product Class Dist'!S$22*SUMPRODUCT('Efficiency Dist'!W433:W442,'UEC Development'!$D$290:$D$299)+'Product Class Dist'!S$23*SUMPRODUCT('Efficiency Dist'!W468:W477,'UEC Development'!$D$311:$D$320)+'Product Class Dist'!S$24*SUMPRODUCT('Efficiency Dist'!W503:W512,'UEC Development'!$D$332:$D$341)+'Product Class Dist'!S$25*SUMPRODUCT('Efficiency Dist'!W538:W547,'UEC Development'!$D$353:$D$362)+'Product Class Dist'!S$26*SUMPRODUCT('Efficiency Dist'!W573:W582,'UEC Development'!$D$374:$D$383)+'Product Class Dist'!S$27*SUMPRODUCT('Efficiency Dist'!W608:W617,'UEC Development'!$D$395:$D$404)+'Product Class Dist'!S$28*SUMPRODUCT('Efficiency Dist'!W643:W652,'UEC Development'!$D$416:$D$425)+'Product Class Dist'!S$29*SUMPRODUCT('Efficiency Dist'!W678:W687,'UEC Development'!$D$437:$D$446)+'Product Class Dist'!S$30*SUMPRODUCT('Efficiency Dist'!W713:W720,'UEC Development'!$D$458:$D$465)+'Product Class Dist'!S$31*SUMPRODUCT('Efficiency Dist'!W744:W751,'UEC Development'!$D$477:$D$484)+'Product Class Dist'!S$32*SUMPRODUCT('Efficiency Dist'!W775:W784,'UEC Development'!$D$496:$D$505)+'Product Class Dist'!S$33*SUMPRODUCT('Efficiency Dist'!W810:W819,'UEC Development'!$D$519:$D$528)+'Product Class Dist'!S$34*SUMPRODUCT('Efficiency Dist'!W845:W854,'UEC Development'!$D$542:$D$551)","v":5722.5521561297064},{"$f":"'Product Class Dist'!T$10*SUMPRODUCT('Efficiency Dist'!X13:X22,'UEC Development'!$D$14:$D$23)+'Product Class Dist'!T$11*SUMPRODUCT('Efficiency Dist'!X48:X57,'UEC Development'!$D$37:$D$46)+'Product Class Dist'!T$12*SUMPRODUCT('Efficiency Dist'!X83:X92,'UEC Development'!$D$60:$D$69)+'Product Class Dist'!T$13*SUMPRODUCT('Efficiency Dist'!X118:X127,'UEC Development'!$D$83:$D$92)+'Product Class Dist'!T$14*SUMPRODUCT('Efficiency Dist'!X153:X162,'UEC Development'!$D$106:$D$115)+'Product Class Dist'!T$15*SUMPRODUCT('Efficiency Dist'!X188:X197,'UEC Development'!$D$129:$D$138)+'Product Class Dist'!T$16*SUMPRODUCT('Efficiency Dist'!X223:X232,'UEC Development'!$D$152:$D$161)+'Product Class Dist'!T$17*SUMPRODUCT('Efficiency Dist'!X258:X267,'UEC Development'!$D$175:$D$184)+'Product Class Dist'!T$18*SUMPRODUCT('Efficiency Dist'!X293:X302,'UEC Development'!$D$198:$D$207)+'Product Class Dist'!T$19*SUMPRODUCT('Efficiency Dist'!X328:X337,'UEC Development'!$D$221:$D$230)+'Product Class Dist'!T$20*SUMPRODUCT('Efficiency Dist'!X363:X372,'UEC Development'!$D$244:$D$253)+'Product Class Dist'!T$21*SUMPRODUCT('Efficiency Dist'!X398:X407,'UEC Development'!$D$267:$D$276)+'Product Class Dist'!T$22*SUMPRODUCT('Efficiency Dist'!X433:X442,'UEC Development'!$D$290:$D$299)+'Product Class Dist'!T$23*SUMPRODUCT('Efficiency Dist'!X468:X477,'UEC Development'!$D$311:$D$320)+'Product Class Dist'!T$24*SUMPRODUCT('Efficiency Dist'!X503:X512,'UEC Development'!$D$332:$D$341)+'Product Class Dist'!T$25*SUMPRODUCT('Efficiency Dist'!X538:X547,'UEC Development'!$D$353:$D$362)+'Product Class Dist'!T$26*SUMPRODUCT('Efficiency Dist'!X573:X582,'UEC Development'!$D$374:$D$383)+'Product Class Dist'!T$27*SUMPRODUCT('Efficiency Dist'!X608:X617,'UEC Development'!$D$395:$D$404)+'Product Class Dist'!T$28*SUMPRODUCT('Efficiency Dist'!X643:X652,'UEC Development'!$D$416:$D$425)+'Product Class Dist'!T$29*SUMPRODUCT('Efficiency Dist'!X678:X687,'UEC Development'!$D$437:$D$446)+'Product Class Dist'!T$30*SUMPRODUCT('Efficiency Dist'!X713:X720,'UEC Development'!$D$458:$D$465)+'Product Class Dist'!T$31*SUMPRODUCT('Efficiency Dist'!X744:X751,'UEC Development'!$D$477:$D$484)+'Product Class Dist'!T$32*SUMPRODUCT('Efficiency Dist'!X775:X784,'UEC Development'!$D$496:$D$505)+'Product Class Dist'!T$33*SUMPRODUCT('Efficiency Dist'!X810:X819,'UEC Development'!$D$519:$D$528)+'Product Class Dist'!T$34*SUMPRODUCT('Efficiency Dist'!X845:X854,'UEC Development'!$D$542:$D$551)","v":5722.5521561297064},{"$f":"'Product Class Dist'!U$10*SUMPRODUCT('Efficiency Dist'!Y13:Y22,'UEC Development'!$D$14:$D$23)+'Product Class Dist'!U$11*SUMPRODUCT('Efficiency Dist'!Y48:Y57,'UEC Development'!$D$37:$D$46)+'Product Class Dist'!U$12*SUMPRODUCT('Efficiency Dist'!Y83:Y92,'UEC Development'!$D$60:$D$69)+'Product Class Dist'!U$13*SUMPRODUCT('Efficiency Dist'!Y118:Y127,'UEC Development'!$D$83:$D$92)+'Product Class Dist'!U$14*SUMPRODUCT('Efficiency Dist'!Y153:Y162,'UEC Development'!$D$106:$D$115)+'Product Class Dist'!U$15*SUMPRODUCT('Efficiency Dist'!Y188:Y197,'UEC Development'!$D$129:$D$138)+'Product Class Dist'!U$16*SUMPRODUCT('Efficiency Dist'!Y223:Y232,'UEC Development'!$D$152:$D$161)+'Product Class Dist'!U$17*SUMPRODUCT('Efficiency Dist'!Y258:Y267,'UEC Development'!$D$175:$D$184)+'Product Class Dist'!U$18*SUMPRODUCT('Efficiency Dist'!Y293:Y302,'UEC Development'!$D$198:$D$207)+'Product Class Dist'!U$19*SUMPRODUCT('Efficiency Dist'!Y328:Y337,'UEC Development'!$D$221:$D$230)+'Product Class Dist'!U$20*SUMPRODUCT('Efficiency Dist'!Y363:Y372,'UEC Development'!$D$244:$D$253)+'Product Class Dist'!U$21*SUMPRODUCT('Efficiency Dist'!Y398:Y407,'UEC Development'!$D$267:$D$276)+'Product Class Dist'!U$22*SUMPRODUCT('Efficiency Dist'!Y433:Y442,'UEC Development'!$D$290:$D$299)+'Product Class Dist'!U$23*SUMPRODUCT('Efficiency Dist'!Y468:Y477,'UEC Development'!$D$311:$D$320)+'Product Class Dist'!U$24*SUMPRODUCT('Efficiency Dist'!Y503:Y512,'UEC Development'!$D$332:$D$341)+'Product Class Dist'!U$25*SUMPRODUCT('Efficiency Dist'!Y538:Y547,'UEC Development'!$D$353:$D$362)+'Product Class Dist'!U$26*SUMPRODUCT('Efficiency Dist'!Y573:Y582,'UEC Development'!$D$374:$D$383)+'Product Class Dist'!U$27*SUMPRODUCT('Efficiency Dist'!Y608:Y617,'UEC Development'!$D$395:$D$404)+'Product Class Dist'!U$28*SUMPRODUCT('Efficiency Dist'!Y643:Y652,'UEC Development'!$D$416:$D$425)+'Product Class Dist'!U$29*SUMPRODUCT('Efficiency Dist'!Y678:Y687,'UEC Development'!$D$437:$D$446)+'Product Class Dist'!U$30*SUMPRODUCT('Efficiency Dist'!Y713:Y720,'UEC Development'!$D$458:$D$465)+'Product Class Dist'!U$31*SUMPRODUCT('Efficiency Dist'!Y744:Y751,'UEC Development'!$D$477:$D$484)+'Product Class Dist'!U$32*SUMPRODUCT('Efficiency Dist'!Y775:Y784,'UEC Development'!$D$496:$D$505)+'Product Class Dist'!U$33*SUMPRODUCT('Efficiency Dist'!Y810:Y819,'UEC Development'!$D$519:$D$528)+'Product Class Dist'!U$34*SUMPRODUCT('Efficiency Dist'!Y845:Y854,'UEC Development'!$D$542:$D$551)","v":5722.5521561297064},{"$f":"'Product Class Dist'!V$10*SUMPRODUCT('Efficiency Dist'!Z13:Z22,'UEC Development'!$D$14:$D$23)+'Product Class Dist'!V$11*SUMPRODUCT('Efficiency Dist'!Z48:Z57,'UEC Development'!$D$37:$D$46)+'Product Class Dist'!V$12*SUMPRODUCT('Efficiency Dist'!Z83:Z92,'UEC Development'!$D$60:$D$69)+'Product Class Dist'!V$13*SUMPRODUCT('Efficiency Dist'!Z118:Z127,'UEC Development'!$D$83:$D$92)+'Product Class Dist'!V$14*SUMPRODUCT('Efficiency Dist'!Z153:Z162,'UEC Development'!$D$106:$D$115)+'Product Class Dist'!V$15*SUMPRODUCT('Efficiency Dist'!Z188:Z197,'UEC Development'!$D$129:$D$138)+'Product Class Dist'!V$16*SUMPRODUCT('Efficiency Dist'!Z223:Z232,'UEC Development'!$D$152:$D$161)+'Product Class Dist'!V$17*SUMPRODUCT('Efficiency Dist'!Z258:Z267,'UEC Development'!$D$175:$D$184)+'Product Class Dist'!V$18*SUMPRODUCT('Efficiency Dist'!Z293:Z302,'UEC Development'!$D$198:$D$207)+'Product Class Dist'!V$19*SUMPRODUCT('Efficiency Dist'!Z328:Z337,'UEC Development'!$D$221:$D$230)+'Product Class Dist'!V$20*SUMPRODUCT('Efficiency Dist'!Z363:Z372,'UEC Development'!$D$244:$D$253)+'Product Class Dist'!V$21*SUMPRODUCT('Efficiency Dist'!Z398:Z407,'UEC Development'!$D$267:$D$276)+'Product Class Dist'!V$22*SUMPRODUCT('Efficiency Dist'!Z433:Z442,'UEC Development'!$D$290:$D$299)+'Product Class Dist'!V$23*SUMPRODUCT('Efficiency Dist'!Z468:Z477,'UEC Development'!$D$311:$D$320)+'Product Class Dist'!V$24*SUMPRODUCT('Efficiency Dist'!Z503:Z512,'UEC Development'!$D$332:$D$341)+'Product Class Dist'!V$25*SUMPRODUCT('Efficiency Dist'!Z538:Z547,'UEC Development'!$D$353:$D$362)+'Product Class Dist'!V$26*SUMPRODUCT('Efficiency Dist'!Z573:Z582,'UEC Development'!$D$374:$D$383)+'Product Class Dist'!V$27*SUMPRODUCT('Efficiency Dist'!Z608:Z617,'UEC Development'!$D$395:$D$404)+'Product Class Dist'!V$28*SUMPRODUCT('Efficiency Dist'!Z643:Z652,'UEC Development'!$D$416:$D$425)+'Product Class Dist'!V$29*SUMPRODUCT('Efficiency Dist'!Z678:Z687,'UEC Development'!$D$437:$D$446)+'Product Class Dist'!V$30*SUMPRODUCT('Efficiency Dist'!Z713:Z720,'UEC Development'!$D$458:$D$465)+'Product Class Dist'!V$31*SUMPRODUCT('Efficiency Dist'!Z744:Z751,'UEC Development'!$D$477:$D$484)+'Product Class Dist'!V$32*SUMPRODUCT('Efficiency Dist'!Z775:Z784,'UEC Development'!$D$496:$D$505)+'Product Class Dist'!V$33*SUMPRODUCT('Efficiency Dist'!Z810:Z819,'UEC Development'!$D$519:$D$528)+'Product Class Dist'!V$34*SUMPRODUCT('Efficiency Dist'!Z845:Z854,'UEC Development'!$D$542:$D$551)","v":5722.5521561297064},{"$f":"'Product Class Dist'!W$10*SUMPRODUCT('Efficiency Dist'!AA13:AA22,'UEC Development'!$D$14:$D$23)+'Product Class Dist'!W$11*SUMPRODUCT('Efficiency Dist'!AA48:AA57,'UEC Development'!$D$37:$D$46)+'Product Class Dist'!W$12*SUMPRODUCT('Efficiency Dist'!AA83:AA92,'UEC Development'!$D$60:$D$69)+'Product Class Dist'!W$13*SUMPRODUCT('Efficiency Dist'!AA118:AA127,'UEC Development'!$D$83:$D$92)+'Product Class Dist'!W$14*SUMPRODUCT('Efficiency Dist'!AA153:AA162,'UEC Development'!$D$106:$D$115)+'Product Class Dist'!W$15*SUMPRODUCT('Efficiency Dist'!AA188:AA197,'UEC Development'!$D$129:$D$138)+'Product Class Dist'!W$16*SUMPRODUCT('Efficiency Dist'!AA223:AA232,'UEC Development'!$D$152:$D$161)+'Product Class Dist'!W$17*SUMPRODUCT('Efficiency Dist'!AA258:AA267,'UEC Development'!$D$175:$D$184)+'Product Class Dist'!W$18*SUMPRODUCT('Efficiency Dist'!AA293:AA302,'UEC Development'!$D$198:$D$207)+'Product Class Dist'!W$19*SUMPRODUCT('Efficiency Dist'!AA328:AA337,'UEC Development'!$D$221:$D$230)+'Product Class Dist'!W$20*SUMPRODUCT('Efficiency Dist'!AA363:AA372,'UEC Development'!$D$244:$D$253)+'Product Class Dist'!W$21*SUMPRODUCT('Efficiency Dist'!AA398:AA407,'UEC Development'!$D$267:$D$276)+'Product Class Dist'!W$22*SUMPRODUCT('Efficiency Dist'!AA433:AA442,'UEC Development'!$D$290:$D$299)+'Product Class Dist'!W$23*SUMPRODUCT('Efficiency Dist'!AA468:AA477,'UEC Development'!$D$311:$D$320)+'Product Class Dist'!W$24*SUMPRODUCT('Efficiency Dist'!AA503:AA512,'UEC Development'!$D$332:$D$341)+'Product Class Dist'!W$25*SUMPRODUCT('Efficiency Dist'!AA538:AA547,'UEC Development'!$D$353:$D$362)+'Product Class Dist'!W$26*SUMPRODUCT('Efficiency Dist'!AA573:AA582,'UEC Development'!$D$374:$D$383)+'Product Class Dist'!W$27*SUMPRODUCT('Efficiency Dist'!AA608:AA617,'UEC Development'!$D$395:$D$404)+'Product Class Dist'!W$28*SUMPRODUCT('Efficiency Dist'!AA643:AA652,'UEC Development'!$D$416:$D$425)+'Product Class Dist'!W$29*SUMPRODUCT('Efficiency Dist'!AA678:AA687,'UEC Development'!$D$437:$D$446)+'Product Class Dist'!W$30*SUMPRODUCT('Efficiency Dist'!AA713:AA720,'UEC Development'!$D$458:$D$465)+'Product Class Dist'!W$31*SUMPRODUCT('Efficiency Dist'!AA744:AA751,'UEC Development'!$D$477:$D$484)+'Product Class Dist'!W$32*SUMPRODUCT('Efficiency Dist'!AA775:AA784,'UEC Development'!$D$496:$D$505)+'Product Class Dist'!W$33*SUMPRODUCT('Efficiency Dist'!AA810:AA819,'UEC Development'!$D$519:$D$528)+'Product Class Dist'!W$34*SUMPRODUCT('Efficiency Dist'!AA845:AA854,'UEC Development'!$D$542:$D$551)","v":5722.5521561297064},{"$f":"'Product Class Dist'!X$10*SUMPRODUCT('Efficiency Dist'!AB13:AB22,'UEC Development'!$D$14:$D$23)+'Product Class Dist'!X$11*SUMPRODUCT('Efficiency Dist'!AB48:AB57,'UEC Development'!$D$37:$D$46)+'Product Class Dist'!X$12*SUMPRODUCT('Efficiency Dist'!AB83:AB92,'UEC Development'!$D$60:$D$69)+'Product Class Dist'!X$13*SUMPRODUCT('Efficiency Dist'!AB118:AB127,'UEC Development'!$D$83:$D$92)+'Product Class Dist'!X$14*SUMPRODUCT('Efficiency Dist'!AB153:AB162,'UEC Development'!$D$106:$D$115)+'Product Class Dist'!X$15*SUMPRODUCT('Efficiency Dist'!AB188:AB197,'UEC Development'!$D$129:$D$138)+'Product Class Dist'!X$16*SUMPRODUCT('Efficiency Dist'!AB223:AB232,'UEC Development'!$D$152:$D$161)+'Product Class Dist'!X$17*SUMPRODUCT('Efficiency Dist'!AB258:AB267,'UEC Development'!$D$175:$D$184)+'Product Class Dist'!X$18*SUMPRODUCT('Efficiency Dist'!AB293:AB302,'UEC Development'!$D$198:$D$207)+'Product Class Dist'!X$19*SUMPRODUCT('Efficiency Dist'!AB328:AB337,'UEC Development'!$D$221:$D$230)+'Product Class Dist'!X$20*SUMPRODUCT('Efficiency Dist'!AB363:AB372,'UEC Development'!$D$244:$D$253)+'Product Class Dist'!X$21*SUMPRODUCT('Efficiency Dist'!AB398:AB407,'UEC Development'!$D$267:$D$276)+'Product Class Dist'!X$22*SUMPRODUCT('Efficiency Dist'!AB433:AB442,'UEC Development'!$D$290:$D$299)+'Product Class Dist'!X$23*SUMPRODUCT('Efficiency Dist'!AB468:AB477,'UEC Development'!$D$311:$D$320)+'Product Class Dist'!X$24*SUMPRODUCT('Efficiency Dist'!AB503:AB512,'UEC Development'!$D$332:$D$341)+'Product Class Dist'!X$25*SUMPRODUCT('Efficiency Dist'!AB538:AB547,'UEC Development'!$D$353:$D$362)+'Product Class Dist'!X$26*SUMPRODUCT('Efficiency Dist'!AB573:AB582,'UEC Development'!$D$374:$D$383)+'Product Class Dist'!X$27*SUMPRODUCT('Efficiency Dist'!AB608:AB617,'UEC Development'!$D$395:$D$404)+'Product Class Dist'!X$28*SUMPRODUCT('Efficiency Dist'!AB643:AB652,'UEC Development'!$D$416:$D$425)+'Product Class Dist'!X$29*SUMPRODUCT('Efficiency Dist'!AB678:AB687,'UEC Development'!$D$437:$D$446)+'Product Class Dist'!X$30*SUMPRODUCT('Efficiency Dist'!AB713:AB720,'UEC Development'!$D$458:$D$465)+'Product Class Dist'!X$31*SUMPRODUCT('Efficiency Dist'!AB744:AB751,'UEC Development'!$D$477:$D$484)+'Product Class Dist'!X$32*SUMPRODUCT('Efficiency Dist'!AB775:AB784,'UEC Development'!$D$496:$D$505)+'Product Class Dist'!X$33*SUMPRODUCT('Efficiency Dist'!AB810:AB819,'UEC Development'!$D$519:$D$528)+'Product Class Dist'!X$34*SUMPRODUCT('Efficiency Dist'!AB845:AB854,'UEC Development'!$D$542:$D$551)","v":5223.7451976393404},{"$f":"'Product Class Dist'!Y$10*SUMPRODUCT('Efficiency Dist'!AC13:AC22,'UEC Development'!$D$14:$D$23)+'Product Class Dist'!Y$11*SUMPRODUCT('Efficiency Dist'!AC48:AC57,'UEC Development'!$D$37:$D$46)+'Product Class Dist'!Y$12*SUMPRODUCT('Efficiency Dist'!AC83:AC92,'UEC Development'!$D$60:$D$69)+'Product Class Dist'!Y$13*SUMPRODUCT('Efficiency Dist'!AC118:AC127,'UEC Development'!$D$83:$D$92)+'Product Class Dist'!Y$14*SUMPRODUCT('Efficiency Dist'!AC153:AC162,'UEC Development'!$D$106:$D$115)+'Product Class Dist'!Y$15*SUMPRODUCT('Efficiency Dist'!AC188:AC197,'UEC Development'!$D$129:$D$138)+'Product Class Dist'!Y$16*SUMPRODUCT('Efficiency Dist'!AC223:AC232,'UEC Development'!$D$152:$D$161)+'Product Class Dist'!Y$17*SUMPRODUCT('Efficiency Dist'!AC258:AC267,'UEC Development'!$D$175:$D$184)+'Product Class Dist'!Y$18*SUMPRODUCT('Efficiency Dist'!AC293:AC302,'UEC Development'!$D$198:$D$207)+'Product Class Dist'!Y$19*SUMPRODUCT('Efficiency Dist'!AC328:AC337,'UEC Development'!$D$221:$D$230)+'Product Class Dist'!Y$20*SUMPRODUCT('Efficiency Dist'!AC363:AC372,'UEC Development'!$D$244:$D$253)+'Product Class Dist'!Y$21*SUMPRODUCT('Efficiency Dist'!AC398:AC407,'UEC Development'!$D$267:$D$276)+'Product Class Dist'!Y$22*SUMPRODUCT('Efficiency Dist'!AC433:AC442,'UEC Development'!$D$290:$D$299)+'Product Class Dist'!Y$23*SUMPRODUCT('Efficiency Dist'!AC468:AC477,'UEC Development'!$D$311:$D$320)+'Product Class Dist'!Y$24*SUMPRODUCT('Efficiency Dist'!AC503:AC512,'UEC Development'!$D$332:$D$341)+'Product Class Dist'!Y$25*SUMPRODUCT('Efficiency Dist'!AC538:AC547,'UEC Development'!$D$353:$D$362)+'Product Class Dist'!Y$26*SUMPRODUCT('Efficiency Dist'!AC573:AC582,'UEC Development'!$D$374:$D$383)+'Product Class Dist'!Y$27*SUMPRODUCT('Efficiency Dist'!AC608:AC617,'UEC Development'!$D$395:$D$404)+'Product Class Dist'!Y$28*SUMPRODUCT('Efficiency Dist'!AC643:AC652,'UEC Development'!$D$416:$D$425)+'Product Class Dist'!Y$29*SUMPRODUCT('Efficiency Dist'!AC678:AC687,'UEC Development'!$D$437:$D$446)+'Product Class Dist'!Y$30*SUMPRODUCT('Efficiency Dist'!AC713:AC720,'UEC Development'!$D$458:$D$465)+'Product Class Dist'!Y$31*SUMPRODUCT('Efficiency Dist'!AC744:AC751,'UEC Development'!$D$477:$D$484)+'Product Class Dist'!Y$32*SUMPRODUCT('Efficiency Dist'!AC775:AC784,'UEC Development'!$D$496:$D$505)+'Product Class Dist'!Y$33*SUMPRODUCT('Efficiency Dist'!AC810:AC819,'UEC Development'!$D$519:$D$528)+'Product Class Dist'!Y$34*SUMPRODUCT('Efficiency Dist'!AC845:AC854,'UEC Development'!$D$542:$D$551)","v":5223.7451976393413},{"$f":"'Product Class Dist'!Z$10*SUMPRODUCT('Efficiency Dist'!AD13:AD22,'UEC Development'!$D$14:$D$23)+'Product Class Dist'!Z$11*SUMPRODUCT('Efficiency Dist'!AD48:AD57,'UEC Development'!$D$37:$D$46)+'Product Class Dist'!Z$12*SUMPRODUCT('Efficiency Dist'!AD83:AD92,'UEC Development'!$D$60:$D$69)+'Product Class Dist'!Z$13*SUMPRODUCT('Efficiency Dist'!AD118:AD127,'UEC Development'!$D$83:$D$92)+'Product Class Dist'!Z$14*SUMPRODUCT('Efficiency Dist'!AD153:AD162,'UEC Development'!$D$106:$D$115)+'Product Class Dist'!Z$15*SUMPRODUCT('Efficiency Dist'!AD188:AD197,'UEC Development'!$D$129:$D$138)+'Product Class Dist'!Z$16*SUMPRODUCT('Efficiency Dist'!AD223:AD232,'UEC Development'!$D$152:$D$161)+'Product Class Dist'!Z$17*SUMPRODUCT('Efficiency Dist'!AD258:AD267,'UEC Development'!$D$175:$D$184)+'Product Class Dist'!Z$18*SUMPRODUCT('Efficiency Dist'!AD293:AD302,'UEC Development'!$D$198:$D$207)+'Product Class Dist'!Z$19*SUMPRODUCT('Efficiency Dist'!AD328:AD337,'UEC Development'!$D$221:$D$230)+'Product Class Dist'!Z$20*SUMPRODUCT('Efficiency Dist'!AD363:AD372,'UEC Development'!$D$244:$D$253)+'Product Class Dist'!Z$21*SUMPRODUCT('Efficiency Dist'!AD398:AD407,'UEC Development'!$D$267:$D$276)+'Product Class Dist'!Z$22*SUMPRODUCT('Efficiency Dist'!AD433:AD442,'UEC Development'!$D$290:$D$299)+'Product Class Dist'!Z$23*SUMPRODUCT('Efficiency Dist'!AD468:AD477,'UEC Development'!$D$311:$D$320)+'Product Class Dist'!Z$24*SUMPRODUCT('Efficiency Dist'!AD503:AD512,'UEC Development'!$D$332:$D$341)+'Product Class Dist'!Z$25*SUMPRODUCT('Efficiency Dist'!AD538:AD547,'UEC Development'!$D$353:$D$362)+'Product Class Dist'!Z$26*SUMPRODUCT('Efficiency Dist'!AD573:AD582,'UEC Development'!$D$374:$D$383)+'Product Class Dist'!Z$27*SUMPRODUCT('Efficiency Dist'!AD608:AD617,'UEC Development'!$D$395:$D$404)+'Product Class Dist'!Z$28*SUMPRODUCT('Efficiency Dist'!AD643:AD652,'UEC Development'!$D$416:$D$425)+'Product Class Dist'!Z$29*SUMPRODUCT('Efficiency Dist'!AD678:AD687,'UEC Development'!$D$437:$D$446)+'Product Class Dist'!Z$30*SUMPRODUCT('Efficiency Dist'!AD713:AD720,'UEC Development'!$D$458:$D$465)+'Product Class Dist'!Z$31*SUMPRODUCT('Efficiency Dist'!AD744:AD751,'UEC Development'!$D$477:$D$484)+'Product Class Dist'!Z$32*SUMPRODUCT('Efficiency Dist'!AD775:AD784,'UEC Development'!$D$496:$D$505)+'Product Class Dist'!Z$33*SUMPRODUCT('Efficiency Dist'!AD810:AD819,'UEC Development'!$D$519:$D$528)+'Product Class Dist'!Z$34*SUMPRODUCT('Efficiency Dist'!AD845:AD854,'UEC Development'!$D$542:$D$551)","v":4147.362870478938},{"$f":"'Product Class Dist'!AA$10*SUMPRODUCT('Efficiency Dist'!AE13:AE22,'UEC Development'!$D$14:$D$23)+'Product Class Dist'!AA$11*SUMPRODUCT('Efficiency Dist'!AE48:AE57,'UEC Development'!$D$37:$D$46)+'Product Class Dist'!AA$12*SUMPRODUCT('Efficiency Dist'!AE83:AE92,'UEC Development'!$D$60:$D$69)+'Product Class Dist'!AA$13*SUMPRODUCT('Efficiency Dist'!AE118:AE127,'UEC Development'!$D$83:$D$92)+'Product Class Dist'!AA$14*SUMPRODUCT('Efficiency Dist'!AE153:AE162,'UEC Development'!$D$106:$D$115)+'Product Class Dist'!AA$15*SUMPRODUCT('Efficiency Dist'!AE188:AE197,'UEC Development'!$D$129:$D$138)+'Product Class Dist'!AA$16*SUMPRODUCT('Efficiency Dist'!AE223:AE232,'UEC Development'!$D$152:$D$161)+'Product Class Dist'!AA$17*SUMPRODUCT('Efficiency Dist'!AE258:AE267,'UEC Development'!$D$175:$D$184)+'Product Class Dist'!AA$18*SUMPRODUCT('Efficiency Dist'!AE293:AE302,'UEC Development'!$D$198:$D$207)+'Product Class Dist'!AA$19*SUMPRODUCT('Efficiency Dist'!AE328:AE337,'UEC Development'!$D$221:$D$230)+'Product Class Dist'!AA$20*SUMPRODUCT('Efficiency Dist'!AE363:AE372,'UEC Development'!$D$244:$D$253)+'Product Class Dist'!AA$21*SUMPRODUCT('Efficiency Dist'!AE398:AE407,'UEC Development'!$D$267:$D$276)+'Product Class Dist'!AA$22*SUMPRODUCT('Efficiency Dist'!AE433:AE442,'UEC Development'!$D$290:$D$299)+'Product Class Dist'!AA$23*SUMPRODUCT('Efficiency Dist'!AE468:AE477,'UEC Development'!$D$311:$D$320)+'Product Class Dist'!AA$24*SUMPRODUCT('Efficiency Dist'!AE503:AE512,'UEC Development'!$D$332:$D$341)+'Product Class Dist'!AA$25*SUMPRODUCT('Efficiency Dist'!AE538:AE547,'UEC Development'!$D$353:$D$362)+'Product Class Dist'!AA$26*SUMPRODUCT('Efficiency Dist'!AE573:AE582,'UEC Development'!$D$374:$D$383)+'Product Class Dist'!AA$27*SUMPRODUCT('Efficiency Dist'!AE608:AE617,'UEC Development'!$D$395:$D$404)+'Product Class Dist'!AA$28*SUMPRODUCT('Efficiency Dist'!AE643:AE652,'UEC Development'!$D$416:$D$425)+'Product Class Dist'!AA$29*SUMPRODUCT('Efficiency Dist'!AE678:AE687,'UEC Development'!$D$437:$D$446)+'Product Class Dist'!AA$30*SUMPRODUCT('Efficiency Dist'!AE713:AE720,'UEC Development'!$D$458:$D$465)+'Product Class Dist'!AA$31*SUMPRODUCT('Efficiency Dist'!AE744:AE751,'UEC Development'!$D$477:$D$484)+'Product Class Dist'!AA$32*SUMPRODUCT('Efficiency Dist'!AE775:AE784,'UEC Development'!$D$496:$D$505)+'Product Class Dist'!AA$33*SUMPRODUCT('Efficiency Dist'!AE810:AE819,'UEC Development'!$D$519:$D$528)+'Product Class Dist'!AA$34*SUMPRODUCT('Efficiency Dist'!AE845:AE854,'UEC Development'!$D$542:$D$551)","v":4147.362870478938},{"$f":"'Product Class Dist'!AB$10*SUMPRODUCT('Efficiency Dist'!AF13:AF22,'UEC Development'!$D$14:$D$23)+'Product Class Dist'!AB$11*SUMPRODUCT('Efficiency Dist'!AF48:AF57,'UEC Development'!$D$37:$D$46)+'Product Class Dist'!AB$12*SUMPRODUCT('Efficiency Dist'!AF83:AF92,'UEC Development'!$D$60:$D$69)+'Product Class Dist'!AB$13*SUMPRODUCT('Efficiency Dist'!AF118:AF127,'UEC Development'!$D$83:$D$92)+'Product Class Dist'!AB$14*SUMPRODUCT('Efficiency Dist'!AF153:AF162,'UEC Development'!$D$106:$D$115)+'Product Class Dist'!AB$15*SUMPRODUCT('Efficiency Dist'!AF188:AF197,'UEC Development'!$D$129:$D$138)+'Product Class Dist'!AB$16*SUMPRODUCT('Efficiency Dist'!AF223:AF232,'UEC Development'!$D$152:$D$161)+'Product Class Dist'!AB$17*SUMPRODUCT('Efficiency Dist'!AF258:AF267,'UEC Development'!$D$175:$D$184)+'Product Class Dist'!AB$18*SUMPRODUCT('Efficiency Dist'!AF293:AF302,'UEC Development'!$D$198:$D$207)+'Product Class Dist'!AB$19*SUMPRODUCT('Efficiency Dist'!AF328:AF337,'UEC Development'!$D$221:$D$230)+'Product Class Dist'!AB$20*SUMPRODUCT('Efficiency Dist'!AF363:AF372,'UEC Development'!$D$244:$D$253)+'Product Class Dist'!AB$21*SUMPRODUCT('Efficiency Dist'!AF398:AF407,'UEC Development'!$D$267:$D$276)+'Product Class Dist'!AB$22*SUMPRODUCT('Efficiency Dist'!AF433:AF442,'UEC Development'!$D$290:$D$299)+'Product Class Dist'!AB$23*SUMPRODUCT('Efficiency Dist'!AF468:AF477,'UEC Development'!$D$311:$D$320)+'Product Class Dist'!AB$24*SUMPRODUCT('Efficiency Dist'!AF503:AF512,'UEC Development'!$D$332:$D$341)+'Product Class Dist'!AB$25*SUMPRODUCT('Efficiency Dist'!AF538:AF547,'UEC Development'!$D$353:$D$362)+'Product Class Dist'!AB$26*SUMPRODUCT('Efficiency Dist'!AF573:AF582,'UEC Development'!$D$374:$D$383)+'Product Class Dist'!AB$27*SUMPRODUCT('Efficiency Dist'!AF608:AF617,'UEC Development'!$D$395:$D$404)+'Product Class Dist'!AB$28*SUMPRODUCT('Efficiency Dist'!AF643:AF652,'UEC Development'!$D$416:$D$425)+'Product Class Dist'!AB$29*SUMPRODUCT('Efficiency Dist'!AF678:AF687,'UEC Development'!$D$437:$D$446)+'Product Class Dist'!AB$30*SUMPRODUCT('Efficiency Dist'!AF713:AF720,'UEC Development'!$D$458:$D$465)+'Product Class Dist'!AB$31*SUMPRODUCT('Efficiency Dist'!AF744:AF751,'UEC Development'!$D$477:$D$484)+'Product Class Dist'!AB$32*SUMPRODUCT('Efficiency Dist'!AF775:AF784,'UEC Development'!$D$496:$D$505)+'Product Class Dist'!AB$33*SUMPRODUCT('Efficiency Dist'!AF810:AF819,'UEC Development'!$D$519:$D$528)+'Product Class Dist'!AB$34*SUMPRODUCT('Efficiency Dist'!AF845:AF854,'UEC Development'!$D$542:$D$551)","v":4147.3628704789362},{"$f":"'Product Class Dist'!AC$10*SUMPRODUCT('Efficiency Dist'!AG13:AG22,'UEC Development'!$D$14:$D$23)+'Product Class Dist'!AC$11*SUMPRODUCT('Efficiency Dist'!AG48:AG57,'UEC Development'!$D$37:$D$46)+'Product Class Dist'!AC$12*SUMPRODUCT('Efficiency Dist'!AG83:AG92,'UEC Development'!$D$60:$D$69)+'Product Class Dist'!AC$13*SUMPRODUCT('Efficiency Dist'!AG118:AG127,'UEC Development'!$D$83:$D$92)+'Product Class Dist'!AC$14*SUMPRODUCT('Efficiency Dist'!AG153:AG162,'UEC Development'!$D$106:$D$115)+'Product Class Dist'!AC$15*SUMPRODUCT('Efficiency Dist'!AG188:AG197,'UEC Development'!$D$129:$D$138)+'Product Class Dist'!AC$16*SUMPRODUCT('Efficiency Dist'!AG223:AG232,'UEC Development'!$D$152:$D$161)+'Product Class Dist'!AC$17*SUMPRODUCT('Efficiency Dist'!AG258:AG267,'UEC Development'!$D$175:$D$184)+'Product Class Dist'!AC$18*SUMPRODUCT('Efficiency Dist'!AG293:AG302,'UEC Development'!$D$198:$D$207)+'Product Class Dist'!AC$19*SUMPRODUCT('Efficiency Dist'!AG328:AG337,'UEC Development'!$D$221:$D$230)+'Product Class Dist'!AC$20*SUMPRODUCT('Efficiency Dist'!AG363:AG372,'UEC Development'!$D$244:$D$253)+'Product Class Dist'!AC$21*SUMPRODUCT('Efficiency Dist'!AG398:AG407,'UEC Development'!$D$267:$D$276)+'Product Class Dist'!AC$22*SUMPRODUCT('Efficiency Dist'!AG433:AG442,'UEC Development'!$D$290:$D$299)+'Product Class Dist'!AC$23*SUMPRODUCT('Efficiency Dist'!AG468:AG477,'UEC Development'!$D$311:$D$320)+'Product Class Dist'!AC$24*SUMPRODUCT('Efficiency Dist'!AG503:AG512,'UEC Development'!$D$332:$D$341)+'Product Class Dist'!AC$25*SUMPRODUCT('Efficiency Dist'!AG538:AG547,'UEC Development'!$D$353:$D$362)+'Product Class Dist'!AC$26*SUMPRODUCT('Efficiency Dist'!AG573:AG582,'UEC Development'!$D$374:$D$383)+'Product Class Dist'!AC$27*SUMPRODUCT('Efficiency Dist'!AG608:AG617,'UEC Development'!$D$395:$D$404)+'Product Class Dist'!AC$28*SUMPRODUCT('Efficiency Dist'!AG643:AG652,'UEC Development'!$D$416:$D$425)+'Product Class Dist'!AC$29*SUMPRODUCT('Efficiency Dist'!AG678:AG687,'UEC Development'!$D$437:$D$446)+'Product Class Dist'!AC$30*SUMPRODUCT('Efficiency Dist'!AG713:AG720,'UEC Development'!$D$458:$D$465)+'Product Class Dist'!AC$31*SUMPRODUCT('Efficiency Dist'!AG744:AG751,'UEC Development'!$D$477:$D$484)+'Product Class Dist'!AC$32*SUMPRODUCT('Efficiency Dist'!AG775:AG784,'UEC Development'!$D$496:$D$505)+'Product Class Dist'!AC$33*SUMPRODUCT('Efficiency Dist'!AG810:AG819,'UEC Development'!$D$519:$D$528)+'Product Class Dist'!AC$34*SUMPRODUCT('Efficiency Dist'!AG845:AG854,'UEC Development'!$D$542:$D$551)","v":4147.3628704789353},{"$f":"'Product Class Dist'!AD$10*SUMPRODUCT('Efficiency Dist'!AH13:AH22,'UEC Development'!$D$14:$D$23)+'Product Class Dist'!AD$11*SUMPRODUCT('Efficiency Dist'!AH48:AH57,'UEC Development'!$D$37:$D$46)+'Product Class Dist'!AD$12*SUMPRODUCT('Efficiency Dist'!AH83:AH92,'UEC Development'!$D$60:$D$69)+'Product Class Dist'!AD$13*SUMPRODUCT('Efficiency Dist'!AH118:AH127,'UEC Development'!$D$83:$D$92)+'Product Class Dist'!AD$14*SUMPRODUCT('Efficiency Dist'!AH153:AH162,'UEC Development'!$D$106:$D$115)+'Product Class Dist'!AD$15*SUMPRODUCT('Efficiency Dist'!AH188:AH197,'UEC Development'!$D$129:$D$138)+'Product Class Dist'!AD$16*SUMPRODUCT('Efficiency Dist'!AH223:AH232,'UEC Development'!$D$152:$D$161)+'Product Class Dist'!AD$17*SUMPRODUCT('Efficiency Dist'!AH258:AH267,'UEC Development'!$D$175:$D$184)+'Product Class Dist'!AD$18*SUMPRODUCT('Efficiency Dist'!AH293:AH302,'UEC Development'!$D$198:$D$207)+'Product Class Dist'!AD$19*SUMPRODUCT('Efficiency Dist'!AH328:AH337,'UEC Development'!$D$221:$D$230)+'Product Class Dist'!AD$20*SUMPRODUCT('Efficiency Dist'!AH363:AH372,'UEC Development'!$D$244:$D$253)+'Product Class Dist'!AD$21*SUMPRODUCT('Efficiency Dist'!AH398:AH407,'UEC Development'!$D$267:$D$276)+'Product Class Dist'!AD$22*SUMPRODUCT('Efficiency Dist'!AH433:AH442,'UEC Development'!$D$290:$D$299)+'Product Class Dist'!AD$23*SUMPRODUCT('Efficiency Dist'!AH468:AH477,'UEC Development'!$D$311:$D$320)+'Product Class Dist'!AD$24*SUMPRODUCT('Efficiency Dist'!AH503:AH512,'UEC Development'!$D$332:$D$341)+'Product Class Dist'!AD$25*SUMPRODUCT('Efficiency Dist'!AH538:AH547,'UEC Development'!$D$353:$D$362)+'Product Class Dist'!AD$26*SUMPRODUCT('Efficiency Dist'!AH573:AH582,'UEC Development'!$D$374:$D$383)+'Product Class Dist'!AD$27*SUMPRODUCT('Efficiency Dist'!AH608:AH617,'UEC Development'!$D$395:$D$404)+'Product Class Dist'!AD$28*SUMPRODUCT('Efficiency Dist'!AH643:AH652,'UEC Development'!$D$416:$D$425)+'Product Class Dist'!AD$29*SUMPRODUCT('Efficiency Dist'!AH678:AH687,'UEC Development'!$D$437:$D$446)+'Product Class Dist'!AD$30*SUMPRODUCT('Efficiency Dist'!AH713:AH720,'UEC Development'!$D$458:$D$465)+'Product Class Dist'!AD$31*SUMPRODUCT('Efficiency Dist'!AH744:AH751,'UEC Development'!$D$477:$D$484)+'Product Class Dist'!AD$32*SUMPRODUCT('Efficiency Dist'!AH775:AH784,'UEC Development'!$D$496:$D$505)+'Product Class Dist'!AD$33*SUMPRODUCT('Efficiency Dist'!AH810:AH819,'UEC Development'!$D$519:$D$528)+'Product Class Dist'!AD$34*SUMPRODUCT('Efficiency Dist'!AH845:AH854,'UEC Development'!$D$542:$D$551)","v":4147.362870478938},{"$f":"'Product Class Dist'!AE$10*SUMPRODUCT('Efficiency Dist'!AI13:AI22,'UEC Development'!$D$14:$D$23)+'Product Class Dist'!AE$11*SUMPRODUCT('Efficiency Dist'!AI48:AI57,'UEC Development'!$D$37:$D$46)+'Product Class Dist'!AE$12*SUMPRODUCT('Efficiency Dist'!AI83:AI92,'UEC Development'!$D$60:$D$69)+'Product Class Dist'!AE$13*SUMPRODUCT('Efficiency Dist'!AI118:AI127,'UEC Development'!$D$83:$D$92)+'Product Class Dist'!AE$14*SUMPRODUCT('Efficiency Dist'!AI153:AI162,'UEC Development'!$D$106:$D$115)+'Product Class Dist'!AE$15*SUMPRODUCT('Efficiency Dist'!AI188:AI197,'UEC Development'!$D$129:$D$138)+'Product Class Dist'!AE$16*SUMPRODUCT('Efficiency Dist'!AI223:AI232,'UEC Development'!$D$152:$D$161)+'Product Class Dist'!AE$17*SUMPRODUCT('Efficiency Dist'!AI258:AI267,'UEC Development'!$D$175:$D$184)+'Product Class Dist'!AE$18*SUMPRODUCT('Efficiency Dist'!AI293:AI302,'UEC Development'!$D$198:$D$207)+'Product Class Dist'!AE$19*SUMPRODUCT('Efficiency Dist'!AI328:AI337,'UEC Development'!$D$221:$D$230)+'Product Class Dist'!AE$20*SUMPRODUCT('Efficiency Dist'!AI363:AI372,'UEC Development'!$D$244:$D$253)+'Product Class Dist'!AE$21*SUMPRODUCT('Efficiency Dist'!AI398:AI407,'UEC Development'!$D$267:$D$276)+'Product Class Dist'!AE$22*SUMPRODUCT('Efficiency Dist'!AI433:AI442,'UEC Development'!$D$290:$D$299)+'Product Class Dist'!AE$23*SUMPRODUCT('Efficiency Dist'!AI468:AI477,'UEC Development'!$D$311:$D$320)+'Product Class Dist'!AE$24*SUMPRODUCT('Efficiency Dist'!AI503:AI512,'UEC Development'!$D$332:$D$341)+'Product Class Dist'!AE$25*SUMPRODUCT('Efficiency Dist'!AI538:AI547,'UEC Development'!$D$353:$D$362)+'Product Class Dist'!AE$26*SUMPRODUCT('Efficiency Dist'!AI573:AI582,'UEC Development'!$D$374:$D$383)+'Product Class Dist'!AE$27*SUMPRODUCT('Efficiency Dist'!AI608:AI617,'UEC Development'!$D$395:$D$404)+'Product Class Dist'!AE$28*SUMPRODUCT('Efficiency Dist'!AI643:AI652,'UEC Development'!$D$416:$D$425)+'Product Class Dist'!AE$29*SUMPRODUCT('Efficiency Dist'!AI678:AI687,'UEC Development'!$D$437:$D$446)+'Product Class Dist'!AE$30*SUMPRODUCT('Efficiency Dist'!AI713:AI720,'UEC Development'!$D$458:$D$465)+'Product Class Dist'!AE$31*SUMPRODUCT('Efficiency Dist'!AI744:AI751,'UEC Development'!$D$477:$D$484)+'Product Class Dist'!AE$32*SUMPRODUCT('Efficiency Dist'!AI775:AI784,'UEC Development'!$D$496:$D$505)+'Product Class Dist'!AE$33*SUMPRODUCT('Efficiency Dist'!AI810:AI819,'UEC Development'!$D$519:$D$528)+'Product Class Dist'!AE$34*SUMPRODUCT('Efficiency Dist'!AI845:AI854,'UEC Development'!$D$542:$D$551)","v":4147.3628704789362},{"$f":"'Product Class Dist'!AF$10*SUMPRODUCT('Efficiency Dist'!AJ13:AJ22,'UEC Development'!$D$14:$D$23)+'Product Class Dist'!AF$11*SUMPRODUCT('Efficiency Dist'!AJ48:AJ57,'UEC Development'!$D$37:$D$46)+'Product Class Dist'!AF$12*SUMPRODUCT('Efficiency Dist'!AJ83:AJ92,'UEC Development'!$D$60:$D$69)+'Product Class Dist'!AF$13*SUMPRODUCT('Efficiency Dist'!AJ118:AJ127,'UEC Development'!$D$83:$D$92)+'Product Class Dist'!AF$14*SUMPRODUCT('Efficiency Dist'!AJ153:AJ162,'UEC Development'!$D$106:$D$115)+'Product Class Dist'!AF$15*SUMPRODUCT('Efficiency Dist'!AJ188:AJ197,'UEC Development'!$D$129:$D$138)+'Product Class Dist'!AF$16*SUMPRODUCT('Efficiency Dist'!AJ223:AJ232,'UEC Development'!$D$152:$D$161)+'Product Class Dist'!AF$17*SUMPRODUCT('Efficiency Dist'!AJ258:AJ267,'UEC Development'!$D$175:$D$184)+'Product Class Dist'!AF$18*SUMPRODUCT('Efficiency Dist'!AJ293:AJ302,'UEC Development'!$D$198:$D$207)+'Product Class Dist'!AF$19*SUMPRODUCT('Efficiency Dist'!AJ328:AJ337,'UEC Development'!$D$221:$D$230)+'Product Class Dist'!AF$20*SUMPRODUCT('Efficiency Dist'!AJ363:AJ372,'UEC Development'!$D$244:$D$253)+'Product Class Dist'!AF$21*SUMPRODUCT('Efficiency Dist'!AJ398:AJ407,'UEC Development'!$D$267:$D$276)+'Product Class Dist'!AF$22*SUMPRODUCT('Efficiency Dist'!AJ433:AJ442,'UEC Development'!$D$290:$D$299)+'Product Class Dist'!AF$23*SUMPRODUCT('Efficiency Dist'!AJ468:AJ477,'UEC Development'!$D$311:$D$320)+'Product Class Dist'!AF$24*SUMPRODUCT('Efficiency Dist'!AJ503:AJ512,'UEC Development'!$D$332:$D$341)+'Product Class Dist'!AF$25*SUMPRODUCT('Efficiency Dist'!AJ538:AJ547,'UEC Development'!$D$353:$D$362)+'Product Class Dist'!AF$26*SUMPRODUCT('Efficiency Dist'!AJ573:AJ582,'UEC Development'!$D$374:$D$383)+'Product Class Dist'!AF$27*SUMPRODUCT('Efficiency Dist'!AJ608:AJ617,'UEC Development'!$D$395:$D$404)+'Product Class Dist'!AF$28*SUMPRODUCT('Efficiency Dist'!AJ643:AJ652,'UEC Development'!$D$416:$D$425)+'Product Class Dist'!AF$29*SUMPRODUCT('Efficiency Dist'!AJ678:AJ687,'UEC Development'!$D$437:$D$446)+'Product Class Dist'!AF$30*SUMPRODUCT('Efficiency Dist'!AJ713:AJ720,'UEC Development'!$D$458:$D$465)+'Product Class Dist'!AF$31*SUMPRODUCT('Efficiency Dist'!AJ744:AJ751,'UEC Development'!$D$477:$D$484)+'Product Class Dist'!AF$32*SUMPRODUCT('Efficiency Dist'!AJ775:AJ784,'UEC Development'!$D$496:$D$505)+'Product Class Dist'!AF$33*SUMPRODUCT('Efficiency Dist'!AJ810:AJ819,'UEC Development'!$D$519:$D$528)+'Product Class Dist'!AF$34*SUMPRODUCT('Efficiency Dist'!AJ845:AJ854,'UEC Development'!$D$542:$D$551)","v":4140.3662983062623},{"$f":"'Product Class Dist'!AG$10*SUMPRODUCT('Efficiency Dist'!AK13:AK22,'UEC Development'!$D$14:$D$23)+'Product Class Dist'!AG$11*SUMPRODUCT('Efficiency Dist'!AK48:AK57,'UEC Development'!$D$37:$D$46)+'Product Class Dist'!AG$12*SUMPRODUCT('Efficiency Dist'!AK83:AK92,'UEC Development'!$D$60:$D$69)+'Product Class Dist'!AG$13*SUMPRODUCT('Efficiency Dist'!AK118:AK127,'UEC Development'!$D$83:$D$92)+'Product Class Dist'!AG$14*SUMPRODUCT('Efficiency Dist'!AK153:AK162,'UEC Development'!$D$106:$D$115)+'Product Class Dist'!AG$15*SUMPRODUCT('Efficiency Dist'!AK188:AK197,'UEC Development'!$D$129:$D$138)+'Product Class Dist'!AG$16*SUMPRODUCT('Efficiency Dist'!AK223:AK232,'UEC Development'!$D$152:$D$161)+'Product Class Dist'!AG$17*SUMPRODUCT('Efficiency Dist'!AK258:AK267,'UEC Development'!$D$175:$D$184)+'Product Class Dist'!AG$18*SUMPRODUCT('Efficiency Dist'!AK293:AK302,'UEC Development'!$D$198:$D$207)+'Product Class Dist'!AG$19*SUMPRODUCT('Efficiency Dist'!AK328:AK337,'UEC Development'!$D$221:$D$230)+'Product Class Dist'!AG$20*SUMPRODUCT('Efficiency Dist'!AK363:AK372,'UEC Development'!$D$244:$D$253)+'Product Class Dist'!AG$21*SUMPRODUCT('Efficiency Dist'!AK398:AK407,'UEC Development'!$D$267:$D$276)+'Product Class Dist'!AG$22*SUMPRODUCT('Efficiency Dist'!AK433:AK442,'UEC Development'!$D$290:$D$299)+'Product Class Dist'!AG$23*SUMPRODUCT('Efficiency Dist'!AK468:AK477,'UEC Development'!$D$311:$D$320)+'Product Class Dist'!AG$24*SUMPRODUCT('Efficiency Dist'!AK503:AK512,'UEC Development'!$D$332:$D$341)+'Product Class Dist'!AG$25*SUMPRODUCT('Efficiency Dist'!AK538:AK547,'UEC Development'!$D$353:$D$362)+'Product Class Dist'!AG$26*SUMPRODUCT('Efficiency Dist'!AK573:AK582,'UEC Development'!$D$374:$D$383)+'Product Class Dist'!AG$27*SUMPRODUCT('Efficiency Dist'!AK608:AK617,'UEC Development'!$D$395:$D$404)+'Product Class Dist'!AG$28*SUMPRODUCT('Efficiency Dist'!AK643:AK652,'UEC Development'!$D$416:$D$425)+'Product Class Dist'!AG$29*SUMPRODUCT('Efficiency Dist'!AK678:AK687,'UEC Development'!$D$437:$D$446)+'Product Class Dist'!AG$30*SUMPRODUCT('Efficiency Dist'!AK713:AK720,'UEC Development'!$D$458:$D$465)+'Product Class Dist'!AG$31*SUMPRODUCT('Efficiency Dist'!AK744:AK751,'UEC Development'!$D$477:$D$484)+'Product Class Dist'!AG$32*SUMPRODUCT('Efficiency Dist'!AK775:AK784,'UEC Development'!$D$496:$D$505)+'Product Class Dist'!AG$33*SUMPRODUCT('Efficiency Dist'!AK810:AK819,'UEC Development'!$D$519:$D$528)+'Product Class Dist'!AG$34*SUMPRODUCT('Efficiency Dist'!AK845:AK854,'UEC Development'!$D$542:$D$551)","v":4133.3697261335883},{"$f":"'Product Class Dist'!AH$10*SUMPRODUCT('Efficiency Dist'!AL13:AL22,'UEC Development'!$D$14:$D$23)+'Product Class Dist'!AH$11*SUMPRODUCT('Efficiency Dist'!AL48:AL57,'UEC Development'!$D$37:$D$46)+'Product Class Dist'!AH$12*SUMPRODUCT('Efficiency Dist'!AL83:AL92,'UEC Development'!$D$60:$D$69)+'Product Class Dist'!AH$13*SUMPRODUCT('Efficiency Dist'!AL118:AL127,'UEC Development'!$D$83:$D$92)+'Product Class Dist'!AH$14*SUMPRODUCT('Efficiency Dist'!AL153:AL162,'UEC Development'!$D$106:$D$115)+'Product Class Dist'!AH$15*SUMPRODUCT('Efficiency Dist'!AL188:AL197,'UEC Development'!$D$129:$D$138)+'Product Class Dist'!AH$16*SUMPRODUCT('Efficiency Dist'!AL223:AL232,'UEC Development'!$D$152:$D$161)+'Product Class Dist'!AH$17*SUMPRODUCT('Efficiency Dist'!AL258:AL267,'UEC Development'!$D$175:$D$184)+'Product Class Dist'!AH$18*SUMPRODUCT('Efficiency Dist'!AL293:AL302,'UEC Development'!$D$198:$D$207)+'Product Class Dist'!AH$19*SUMPRODUCT('Efficiency Dist'!AL328:AL337,'UEC Development'!$D$221:$D$230)+'Product Class Dist'!AH$20*SUMPRODUCT('Efficiency Dist'!AL363:AL372,'UEC Development'!$D$244:$D$253)+'Product Class Dist'!AH$21*SUMPRODUCT('Efficiency Dist'!AL398:AL407,'UEC Development'!$D$267:$D$276)+'Product Class Dist'!AH$22*SUMPRODUCT('Efficiency Dist'!AL433:AL442,'UEC Development'!$D$290:$D$299)+'Product Class Dist'!AH$23*SUMPRODUCT('Efficiency Dist'!AL468:AL477,'UEC Development'!$D$311:$D$320)+'Product Class Dist'!AH$24*SUMPRODUCT('Efficiency Dist'!AL503:AL512,'UEC Development'!$D$332:$D$341)+'Product Class Dist'!AH$25*SUMPRODUCT('Efficiency Dist'!AL538:AL547,'UEC Development'!$D$353:$D$362)+'Product Class Dist'!AH$26*SUMPRODUCT('Efficiency Dist'!AL573:AL582,'UEC Development'!$D$374:$D$383)+'Product Class Dist'!AH$27*SUMPRODUCT('Efficiency Dist'!AL608:AL617,'UEC Development'!$D$395:$D$404)+'Product Class Dist'!AH$28*SUMPRODUCT('Efficiency Dist'!AL643:AL652,'UEC Development'!$D$416:$D$425)+'Product Class Dist'!AH$29*SUMPRODUCT('Efficiency Dist'!AL678:AL687,'UEC Development'!$D$437:$D$446)+'Product Class Dist'!AH$30*SUMPRODUCT('Efficiency Dist'!AL713:AL720,'UEC Development'!$D$458:$D$465)+'Product Class Dist'!AH$31*SUMPRODUCT('Efficiency Dist'!AL744:AL751,'UEC Development'!$D$477:$D$484)+'Product Class Dist'!AH$32*SUMPRODUCT('Efficiency Dist'!AL775:AL784,'UEC Development'!$D$496:$D$505)+'Product Class Dist'!AH$33*SUMPRODUCT('Efficiency Dist'!AL810:AL819,'UEC Development'!$D$519:$D$528)+'Product Class Dist'!AH$34*SUMPRODUCT('Efficiency Dist'!AL845:AL854,'UEC Development'!$D$542:$D$551)","v":4126.3731539609125},{"$f":"'Product Class Dist'!AI$10*SUMPRODUCT('Efficiency Dist'!AM13:AM22,'UEC Development'!$D$14:$D$23)+'Product Class Dist'!AI$11*SUMPRODUCT('Efficiency Dist'!AM48:AM57,'UEC Development'!$D$37:$D$46)+'Product Class Dist'!AI$12*SUMPRODUCT('Efficiency Dist'!AM83:AM92,'UEC Development'!$D$60:$D$69)+'Product Class Dist'!AI$13*SUMPRODUCT('Efficiency Dist'!AM118:AM127,'UEC Development'!$D$83:$D$92)+'Product Class Dist'!AI$14*SUMPRODUCT('Efficiency Dist'!AM153:AM162,'UEC Development'!$D$106:$D$115)+'Product Class Dist'!AI$15*SUMPRODUCT('Efficiency Dist'!AM188:AM197,'UEC Development'!$D$129:$D$138)+'Product Class Dist'!AI$16*SUMPRODUCT('Efficiency Dist'!AM223:AM232,'UEC Development'!$D$152:$D$161)+'Product Class Dist'!AI$17*SUMPRODUCT('Efficiency Dist'!AM258:AM267,'UEC Development'!$D$175:$D$184)+'Product Class Dist'!AI$18*SUMPRODUCT('Efficiency Dist'!AM293:AM302,'UEC Development'!$D$198:$D$207)+'Product Class Dist'!AI$19*SUMPRODUCT('Efficiency Dist'!AM328:AM337,'UEC Development'!$D$221:$D$230)+'Product Class Dist'!AI$20*SUMPRODUCT('Efficiency Dist'!AM363:AM372,'UEC Development'!$D$244:$D$253)+'Product Class Dist'!AI$21*SUMPRODUCT('Efficiency Dist'!AM398:AM407,'UEC Development'!$D$267:$D$276)+'Product Class Dist'!AI$22*SUMPRODUCT('Efficiency Dist'!AM433:AM442,'UEC Development'!$D$290:$D$299)+'Product Class Dist'!AI$23*SUMPRODUCT('Efficiency Dist'!AM468:AM477,'UEC Development'!$D$311:$D$320)+'Product Class Dist'!AI$24*SUMPRODUCT('Efficiency Dist'!AM503:AM512,'UEC Development'!$D$332:$D$341)+'Product Class Dist'!AI$25*SUMPRODUCT('Efficiency Dist'!AM538:AM547,'UEC Development'!$D$353:$D$362)+'Product Class Dist'!AI$26*SUMPRODUCT('Efficiency Dist'!AM573:AM582,'UEC Development'!$D$374:$D$383)+'Product Class Dist'!AI$27*SUMPRODUCT('Efficiency Dist'!AM608:AM617,'UEC Development'!$D$395:$D$404)+'Product Class Dist'!AI$28*SUMPRODUCT('Efficiency Dist'!AM643:AM652,'UEC Development'!$D$416:$D$425)+'Product Class Dist'!AI$29*SUMPRODUCT('Efficiency Dist'!AM678:AM687,'UEC Development'!$D$437:$D$446)+'Product Class Dist'!AI$30*SUMPRODUCT('Efficiency Dist'!AM713:AM720,'UEC Development'!$D$458:$D$465)+'Product Class Dist'!AI$31*SUMPRODUCT('Efficiency Dist'!AM744:AM751,'UEC Development'!$D$477:$D$484)+'Product Class Dist'!AI$32*SUMPRODUCT('Efficiency Dist'!AM775:AM784,'UEC Development'!$D$496:$D$505)+'Product Class Dist'!AI$33*SUMPRODUCT('Efficiency Dist'!AM810:AM819,'UEC Development'!$D$519:$D$528)+'Product Class Dist'!AI$34*SUMPRODUCT('Efficiency Dist'!AM845:AM854,'UEC Development'!$D$542:$D$551)","v":4119.3765817882359},{"$f":"'Product Class Dist'!AJ$10*SUMPRODUCT('Efficiency Dist'!AN13:AN22,'UEC Development'!$D$14:$D$23)+'Product Class Dist'!AJ$11*SUMPRODUCT('Efficiency Dist'!AN48:AN57,'UEC Development'!$D$37:$D$46)+'Product Class Dist'!AJ$12*SUMPRODUCT('Efficiency Dist'!AN83:AN92,'UEC Development'!$D$60:$D$69)+'Product Class Dist'!AJ$13*SUMPRODUCT('Efficiency Dist'!AN118:AN127,'UEC Development'!$D$83:$D$92)+'Product Class Dist'!AJ$14*SUMPRODUCT('Efficiency Dist'!AN153:AN162,'UEC Development'!$D$106:$D$115)+'Product Class Dist'!AJ$15*SUMPRODUCT('Efficiency Dist'!AN188:AN197,'UEC Development'!$D$129:$D$138)+'Product Class Dist'!AJ$16*SUMPRODUCT('Efficiency Dist'!AN223:AN232,'UEC Development'!$D$152:$D$161)+'Product Class Dist'!AJ$17*SUMPRODUCT('Efficiency Dist'!AN258:AN267,'UEC Development'!$D$175:$D$184)+'Product Class Dist'!AJ$18*SUMPRODUCT('Efficiency Dist'!AN293:AN302,'UEC Development'!$D$198:$D$207)+'Product Class Dist'!AJ$19*SUMPRODUCT('Efficiency Dist'!AN328:AN337,'UEC Development'!$D$221:$D$230)+'Product Class Dist'!AJ$20*SUMPRODUCT('Efficiency Dist'!AN363:AN372,'UEC Development'!$D$244:$D$253)+'Product Class Dist'!AJ$21*SUMPRODUCT('Efficiency Dist'!AN398:AN407,'UEC Development'!$D$267:$D$276)+'Product Class Dist'!AJ$22*SUMPRODUCT('Efficiency Dist'!AN433:AN442,'UEC Development'!$D$290:$D$299)+'Product Class Dist'!AJ$23*SUMPRODUCT('Efficiency Dist'!AN468:AN477,'UEC Development'!$D$311:$D$320)+'Product Class Dist'!AJ$24*SUMPRODUCT('Efficiency Dist'!AN503:AN512,'UEC Development'!$D$332:$D$341)+'Product Class Dist'!AJ$25*SUMPRODUCT('Efficiency Dist'!AN538:AN547,'UEC Development'!$D$353:$D$362)+'Product Class Dist'!AJ$26*SUMPRODUCT('Efficiency Dist'!AN573:AN582,'UEC Development'!$D$374:$D$383)+'Product Class Dist'!AJ$27*SUMPRODUCT('Efficiency Dist'!AN608:AN617,'UEC Development'!$D$395:$D$404)+'Product Class Dist'!AJ$28*SUMPRODUCT('Efficiency Dist'!AN643:AN652,'UEC Development'!$D$416:$D$425)+'Product Class Dist'!AJ$29*SUMPRODUCT('Efficiency Dist'!AN678:AN687,'UEC Development'!$D$437:$D$446)+'Product Class Dist'!AJ$30*SUMPRODUCT('Efficiency Dist'!AN713:AN720,'UEC Development'!$D$458:$D$465)+'Product Class Dist'!AJ$31*SUMPRODUCT('Efficiency Dist'!AN744:AN751,'UEC Development'!$D$477:$D$484)+'Product Class Dist'!AJ$32*SUMPRODUCT('Efficiency Dist'!AN775:AN784,'UEC Development'!$D$496:$D$505)+'Product Class Dist'!AJ$33*SUMPRODUCT('Efficiency Dist'!AN810:AN819,'UEC Development'!$D$519:$D$528)+'Product Class Dist'!AJ$34*SUMPRODUCT('Efficiency Dist'!AN845:AN854,'UEC Development'!$D$542:$D$551)","v":4112.3800096155619},{"$f":"'Product Class Dist'!AK$10*SUMPRODUCT('Efficiency Dist'!AO13:AO22,'UEC Development'!$D$14:$D$23)+'Product Class Dist'!AK$11*SUMPRODUCT('Efficiency Dist'!AO48:AO57,'UEC Development'!$D$37:$D$46)+'Product Class Dist'!AK$12*SUMPRODUCT('Efficiency Dist'!AO83:AO92,'UEC Development'!$D$60:$D$69)+'Product Class Dist'!AK$13*SUMPRODUCT('Efficiency Dist'!AO118:AO127,'UEC Development'!$D$83:$D$92)+'Product Class Dist'!AK$14*SUMPRODUCT('Efficiency Dist'!AO153:AO162,'UEC Development'!$D$106:$D$115)+'Product Class Dist'!AK$15*SUMPRODUCT('Efficiency Dist'!AO188:AO197,'UEC Development'!$D$129:$D$138)+'Product Class Dist'!AK$16*SUMPRODUCT('Efficiency Dist'!AO223:AO232,'UEC Development'!$D$152:$D$161)+'Product Class Dist'!AK$17*SUMPRODUCT('Efficiency Dist'!AO258:AO267,'UEC Development'!$D$175:$D$184)+'Product Class Dist'!AK$18*SUMPRODUCT('Efficiency Dist'!AO293:AO302,'UEC Development'!$D$198:$D$207)+'Product Class Dist'!AK$19*SUMPRODUCT('Efficiency Dist'!AO328:AO337,'UEC Development'!$D$221:$D$230)+'Product Class Dist'!AK$20*SUMPRODUCT('Efficiency Dist'!AO363:AO372,'UEC Development'!$D$244:$D$253)+'Product Class Dist'!AK$21*SUMPRODUCT('Efficiency Dist'!AO398:AO407,'UEC Development'!$D$267:$D$276)+'Product Class Dist'!AK$22*SUMPRODUCT('Efficiency Dist'!AO433:AO442,'UEC Development'!$D$290:$D$299)+'Product Class Dist'!AK$23*SUMPRODUCT('Efficiency Dist'!AO468:AO477,'UEC Development'!$D$311:$D$320)+'Product Class Dist'!AK$24*SUMPRODUCT('Efficiency Dist'!AO503:AO512,'UEC Development'!$D$332:$D$341)+'Product Class Dist'!AK$25*SUMPRODUCT('Efficiency Dist'!AO538:AO547,'UEC Development'!$D$353:$D$362)+'Product Class Dist'!AK$26*SUMPRODUCT('Efficiency Dist'!AO573:AO582,'UEC Development'!$D$374:$D$383)+'Product Class Dist'!AK$27*SUMPRODUCT('Efficiency Dist'!AO608:AO617,'UEC Development'!$D$395:$D$404)+'Product Class Dist'!AK$28*SUMPRODUCT('Efficiency Dist'!AO643:AO652,'UEC Development'!$D$416:$D$425)+'Product Class Dist'!AK$29*SUMPRODUCT('Efficiency Dist'!AO678:AO687,'UEC Development'!$D$437:$D$446)+'Product Class Dist'!AK$30*SUMPRODUCT('Efficiency Dist'!AO713:AO720,'UEC Development'!$D$458:$D$465)+'Product Class Dist'!AK$31*SUMPRODUCT('Efficiency Dist'!AO744:AO751,'UEC Development'!$D$477:$D$484)+'Product Class Dist'!AK$32*SUMPRODUCT('Efficiency Dist'!AO775:AO784,'UEC Development'!$D$496:$D$505)+'Product Class Dist'!AK$33*SUMPRODUCT('Efficiency Dist'!AO810:AO819,'UEC Development'!$D$519:$D$528)+'Product Class Dist'!AK$34*SUMPRODUCT('Efficiency Dist'!AO845:AO854,'UEC Development'!$D$542:$D$551)","v":4105.3834374428861},{"$f":"'Product Class Dist'!AL$10*SUMPRODUCT('Efficiency Dist'!AP13:AP22,'UEC Development'!$D$14:$D$23)+'Product Class Dist'!AL$11*SUMPRODUCT('Efficiency Dist'!AP48:AP57,'UEC Development'!$D$37:$D$46)+'Product Class Dist'!AL$12*SUMPRODUCT('Efficiency Dist'!AP83:AP92,'UEC Development'!$D$60:$D$69)+'Product Class Dist'!AL$13*SUMPRODUCT('Efficiency Dist'!AP118:AP127,'UEC Development'!$D$83:$D$92)+'Product Class Dist'!AL$14*SUMPRODUCT('Efficiency Dist'!AP153:AP162,'UEC Development'!$D$106:$D$115)+'Product Class Dist'!AL$15*SUMPRODUCT('Efficiency Dist'!AP188:AP197,'UEC Development'!$D$129:$D$138)+'Product Class Dist'!AL$16*SUMPRODUCT('Efficiency Dist'!AP223:AP232,'UEC Development'!$D$152:$D$161)+'Product Class Dist'!AL$17*SUMPRODUCT('Efficiency Dist'!AP258:AP267,'UEC Development'!$D$175:$D$184)+'Product Class Dist'!AL$18*SUMPRODUCT('Efficiency Dist'!AP293:AP302,'UEC Development'!$D$198:$D$207)+'Product Class Dist'!AL$19*SUMPRODUCT('Efficiency Dist'!AP328:AP337,'UEC Development'!$D$221:$D$230)+'Product Class Dist'!AL$20*SUMPRODUCT('Efficiency Dist'!AP363:AP372,'UEC Development'!$D$244:$D$253)+'Product Class Dist'!AL$21*SUMPRODUCT('Efficiency Dist'!AP398:AP407,'UEC Development'!$D$267:$D$276)+'Product Class Dist'!AL$22*SUMPRODUCT('Efficiency Dist'!AP433:AP442,'UEC Development'!$D$290:$D$299)+'Product Class Dist'!AL$23*SUMPRODUCT('Efficiency Dist'!AP468:AP477,'UEC Development'!$D$311:$D$320)+'Product Class Dist'!AL$24*SUMPRODUCT('Efficiency Dist'!AP503:AP512,'UEC Development'!$D$332:$D$341)+'Product Class Dist'!AL$25*SUMPRODUCT('Efficiency Dist'!AP538:AP547,'UEC Development'!$D$353:$D$362)+'Product Class Dist'!AL$26*SUMPRODUCT('Efficiency Dist'!AP573:AP582,'UEC Development'!$D$374:$D$383)+'Product Class Dist'!AL$27*SUMPRODUCT('Efficiency Dist'!AP608:AP617,'UEC Development'!$D$395:$D$404)+'Product Class Dist'!AL$28*SUMPRODUCT('Efficiency Dist'!AP643:AP652,'UEC Development'!$D$416:$D$425)+'Product Class Dist'!AL$29*SUMPRODUCT('Efficiency Dist'!AP678:AP687,'UEC Development'!$D$437:$D$446)+'Product Class Dist'!AL$30*SUMPRODUCT('Efficiency Dist'!AP713:AP720,'UEC Development'!$D$458:$D$465)+'Product Class Dist'!AL$31*SUMPRODUCT('Efficiency Dist'!AP744:AP751,'UEC Development'!$D$477:$D$484)+'Product Class Dist'!AL$32*SUMPRODUCT('Efficiency Dist'!AP775:AP784,'UEC Development'!$D$496:$D$505)+'Product Class Dist'!AL$33*SUMPRODUCT('Efficiency Dist'!AP810:AP819,'UEC Development'!$D$519:$D$528)+'Product Class Dist'!AL$34*SUMPRODUCT('Efficiency Dist'!AP845:AP854,'UEC Development'!$D$542:$D$551)","v":4105.3834374428852},{"$f":"'Product Class Dist'!AM$10*SUMPRODUCT('Efficiency Dist'!AQ13:AQ22,'UEC Development'!$D$14:$D$23)+'Product Class Dist'!AM$11*SUMPRODUCT('Efficiency Dist'!AQ48:AQ57,'UEC Development'!$D$37:$D$46)+'Product Class Dist'!AM$12*SUMPRODUCT('Efficiency Dist'!AQ83:AQ92,'UEC Development'!$D$60:$D$69)+'Product Class Dist'!AM$13*SUMPRODUCT('Efficiency Dist'!AQ118:AQ127,'UEC Development'!$D$83:$D$92)+'Product Class Dist'!AM$14*SUMPRODUCT('Efficiency Dist'!AQ153:AQ162,'UEC Development'!$D$106:$D$115)+'Product Class Dist'!AM$15*SUMPRODUCT('Efficiency Dist'!AQ188:AQ197,'UEC Development'!$D$129:$D$138)+'Product Class Dist'!AM$16*SUMPRODUCT('Efficiency Dist'!AQ223:AQ232,'UEC Development'!$D$152:$D$161)+'Product Class Dist'!AM$17*SUMPRODUCT('Efficiency Dist'!AQ258:AQ267,'UEC Development'!$D$175:$D$184)+'Product Class Dist'!AM$18*SUMPRODUCT('Efficiency Dist'!AQ293:AQ302,'UEC Development'!$D$198:$D$207)+'Product Class Dist'!AM$19*SUMPRODUCT('Efficiency Dist'!AQ328:AQ337,'UEC Development'!$D$221:$D$230)+'Product Class Dist'!AM$20*SUMPRODUCT('Efficiency Dist'!AQ363:AQ372,'UEC Development'!$D$244:$D$253)+'Product Class Dist'!AM$21*SUMPRODUCT('Efficiency Dist'!AQ398:AQ407,'UEC Development'!$D$267:$D$276)+'Product Class Dist'!AM$22*SUMPRODUCT('Efficiency Dist'!AQ433:AQ442,'UEC Development'!$D$290:$D$299)+'Product Class Dist'!AM$23*SUMPRODUCT('Efficiency Dist'!AQ468:AQ477,'UEC Development'!$D$311:$D$320)+'Product Class Dist'!AM$24*SUMPRODUCT('Efficiency Dist'!AQ503:AQ512,'UEC Development'!$D$332:$D$341)+'Product Class Dist'!AM$25*SUMPRODUCT('Efficiency Dist'!AQ538:AQ547,'UEC Development'!$D$353:$D$362)+'Product Class Dist'!AM$26*SUMPRODUCT('Efficiency Dist'!AQ573:AQ582,'UEC Development'!$D$374:$D$383)+'Product Class Dist'!AM$27*SUMPRODUCT('Efficiency Dist'!AQ608:AQ617,'UEC Development'!$D$395:$D$404)+'Product Class Dist'!AM$28*SUMPRODUCT('Efficiency Dist'!AQ643:AQ652,'UEC Development'!$D$416:$D$425)+'Product Class Dist'!AM$29*SUMPRODUCT('Efficiency Dist'!AQ678:AQ687,'UEC Development'!$D$437:$D$446)+'Product Class Dist'!AM$30*SUMPRODUCT('Efficiency Dist'!AQ713:AQ720,'UEC Development'!$D$458:$D$465)+'Product Class Dist'!AM$31*SUMPRODUCT('Efficiency Dist'!AQ744:AQ751,'UEC Development'!$D$477:$D$484)+'Product Class Dist'!AM$32*SUMPRODUCT('Efficiency Dist'!AQ775:AQ784,'UEC Development'!$D$496:$D$505)+'Product Class Dist'!AM$33*SUMPRODUCT('Efficiency Dist'!AQ810:AQ819,'UEC Development'!$D$519:$D$528)+'Product Class Dist'!AM$34*SUMPRODUCT('Efficiency Dist'!AQ845:AQ854,'UEC Development'!$D$542:$D$551)","v":4105.383437442887},{"$f":"'Product Class Dist'!AN$10*SUMPRODUCT('Efficiency Dist'!AR13:AR22,'UEC Development'!$D$14:$D$23)+'Product Class Dist'!AN$11*SUMPRODUCT('Efficiency Dist'!AR48:AR57,'UEC Development'!$D$37:$D$46)+'Product Class Dist'!AN$12*SUMPRODUCT('Efficiency Dist'!AR83:AR92,'UEC Development'!$D$60:$D$69)+'Product Class Dist'!AN$13*SUMPRODUCT('Efficiency Dist'!AR118:AR127,'UEC Development'!$D$83:$D$92)+'Product Class Dist'!AN$14*SUMPRODUCT('Efficiency Dist'!AR153:AR162,'UEC Development'!$D$106:$D$115)+'Product Class Dist'!AN$15*SUMPRODUCT('Efficiency Dist'!AR188:AR197,'UEC Development'!$D$129:$D$138)+'Product Class Dist'!AN$16*SUMPRODUCT('Efficiency Dist'!AR223:AR232,'UEC Development'!$D$152:$D$161)+'Product Class Dist'!AN$17*SUMPRODUCT('Efficiency Dist'!AR258:AR267,'UEC Development'!$D$175:$D$184)+'Product Class Dist'!AN$18*SUMPRODUCT('Efficiency Dist'!AR293:AR302,'UEC Development'!$D$198:$D$207)+'Product Class Dist'!AN$19*SUMPRODUCT('Efficiency Dist'!AR328:AR337,'UEC Development'!$D$221:$D$230)+'Product Class Dist'!AN$20*SUMPRODUCT('Efficiency Dist'!AR363:AR372,'UEC Development'!$D$244:$D$253)+'Product Class Dist'!AN$21*SUMPRODUCT('Efficiency Dist'!AR398:AR407,'UEC Development'!$D$267:$D$276)+'Product Class Dist'!AN$22*SUMPRODUCT('Efficiency Dist'!AR433:AR442,'UEC Development'!$D$290:$D$299)+'Product Class Dist'!AN$23*SUMPRODUCT('Efficiency Dist'!AR468:AR477,'UEC Development'!$D$311:$D$320)+'Product Class Dist'!AN$24*SUMPRODUCT('Efficiency Dist'!AR503:AR512,'UEC Development'!$D$332:$D$341)+'Product Class Dist'!AN$25*SUMPRODUCT('Efficiency Dist'!AR538:AR547,'UEC Development'!$D$353:$D$362)+'Product Class Dist'!AN$26*SUMPRODUCT('Efficiency Dist'!AR573:AR582,'UEC Development'!$D$374:$D$383)+'Product Class Dist'!AN$27*SUMPRODUCT('Efficiency Dist'!AR608:AR617,'UEC Development'!$D$395:$D$404)+'Product Class Dist'!AN$28*SUMPRODUCT('Efficiency Dist'!AR643:AR652,'UEC Development'!$D$416:$D$425)+'Product Class Dist'!AN$29*SUMPRODUCT('Efficiency Dist'!AR678:AR687,'UEC Development'!$D$437:$D$446)+'Product Class Dist'!AN$30*SUMPRODUCT('Efficiency Dist'!AR713:AR720,'UEC Development'!$D$458:$D$465)+'Product Class Dist'!AN$31*SUMPRODUCT('Efficiency Dist'!AR744:AR751,'UEC Development'!$D$477:$D$484)+'Product Class Dist'!AN$32*SUMPRODUCT('Efficiency Dist'!AR775:AR784,'UEC Development'!$D$496:$D$505)+'Product Class Dist'!AN$33*SUMPRODUCT('Efficiency Dist'!AR810:AR819,'UEC Development'!$D$519:$D$528)+'Product Class Dist'!AN$34*SUMPRODUCT('Efficiency Dist'!AR845:AR854,'UEC Development'!$D$542:$D$551)","v":4105.3834374428861},{"$f":"'Product Class Dist'!AO$10*SUMPRODUCT('Efficiency Dist'!AS13:AS22,'UEC Development'!$D$14:$D$23)+'Product Class Dist'!AO$11*SUMPRODUCT('Efficiency Dist'!AS48:AS57,'UEC Development'!$D$37:$D$46)+'Product Class Dist'!AO$12*SUMPRODUCT('Efficiency Dist'!AS83:AS92,'UEC Development'!$D$60:$D$69)+'Product Class Dist'!AO$13*SUMPRODUCT('Efficiency Dist'!AS118:AS127,'UEC Development'!$D$83:$D$92)+'Product Class Dist'!AO$14*SUMPRODUCT('Efficiency Dist'!AS153:AS162,'UEC Development'!$D$106:$D$115)+'Product Class Dist'!AO$15*SUMPRODUCT('Efficiency Dist'!AS188:AS197,'UEC Development'!$D$129:$D$138)+'Product Class Dist'!AO$16*SUMPRODUCT('Efficiency Dist'!AS223:AS232,'UEC Development'!$D$152:$D$161)+'Product Class Dist'!AO$17*SUMPRODUCT('Efficiency Dist'!AS258:AS267,'UEC Development'!$D$175:$D$184)+'Product Class Dist'!AO$18*SUMPRODUCT('Efficiency Dist'!AS293:AS302,'UEC Development'!$D$198:$D$207)+'Product Class Dist'!AO$19*SUMPRODUCT('Efficiency Dist'!AS328:AS337,'UEC Development'!$D$221:$D$230)+'Product Class Dist'!AO$20*SUMPRODUCT('Efficiency Dist'!AS363:AS372,'UEC Development'!$D$244:$D$253)+'Product Class Dist'!AO$21*SUMPRODUCT('Efficiency Dist'!AS398:AS407,'UEC Development'!$D$267:$D$276)+'Product Class Dist'!AO$22*SUMPRODUCT('Efficiency Dist'!AS433:AS442,'UEC Development'!$D$290:$D$299)+'Product Class Dist'!AO$23*SUMPRODUCT('Efficiency Dist'!AS468:AS477,'UEC Development'!$D$311:$D$320)+'Product Class Dist'!AO$24*SUMPRODUCT('Efficiency Dist'!AS503:AS512,'UEC Development'!$D$332:$D$341)+'Product Class Dist'!AO$25*SUMPRODUCT('Efficiency Dist'!AS538:AS547,'UEC Development'!$D$353:$D$362)+'Product Class Dist'!AO$26*SUMPRODUCT('Efficiency Dist'!AS573:AS582,'UEC Development'!$D$374:$D$383)+'Product Class Dist'!AO$27*SUMPRODUCT('Efficiency Dist'!AS608:AS617,'UEC Development'!$D$395:$D$404)+'Product Class Dist'!AO$28*SUMPRODUCT('Efficiency Dist'!AS643:AS652,'UEC Development'!$D$416:$D$425)+'Product Class Dist'!AO$29*SUMPRODUCT('Efficiency Dist'!AS678:AS687,'UEC Development'!$D$437:$D$446)+'Product Class Dist'!AO$30*SUMPRODUCT('Efficiency Dist'!AS713:AS720,'UEC Development'!$D$458:$D$465)+'Product Class Dist'!AO$31*SUMPRODUCT('Efficiency Dist'!AS744:AS751,'UEC Development'!$D$477:$D$484)+'Product Class Dist'!AO$32*SUMPRODUCT('Efficiency Dist'!AS775:AS784,'UEC Development'!$D$496:$D$505)+'Product Class Dist'!AO$33*SUMPRODUCT('Efficiency Dist'!AS810:AS819,'UEC Development'!$D$519:$D$528)+'Product Class Dist'!AO$34*SUMPRODUCT('Efficiency Dist'!AS845:AS854,'UEC Development'!$D$542:$D$551)","v":4105.383437442887},{"$f":"'Product Class Dist'!AP$10*SUMPRODUCT('Efficiency Dist'!AT13:AT22,'UEC Development'!$D$14:$D$23)+'Product Class Dist'!AP$11*SUMPRODUCT('Efficiency Dist'!AT48:AT57,'UEC Development'!$D$37:$D$46)+'Product Class Dist'!AP$12*SUMPRODUCT('Efficiency Dist'!AT83:AT92,'UEC Development'!$D$60:$D$69)+'Product Class Dist'!AP$13*SUMPRODUCT('Efficiency Dist'!AT118:AT127,'UEC Development'!$D$83:$D$92)+'Product Class Dist'!AP$14*SUMPRODUCT('Efficiency Dist'!AT153:AT162,'UEC Development'!$D$106:$D$115)+'Product Class Dist'!AP$15*SUMPRODUCT('Efficiency Dist'!AT188:AT197,'UEC Development'!$D$129:$D$138)+'Product Class Dist'!AP$16*SUMPRODUCT('Efficiency Dist'!AT223:AT232,'UEC Development'!$D$152:$D$161)+'Product Class Dist'!AP$17*SUMPRODUCT('Efficiency Dist'!AT258:AT267,'UEC Development'!$D$175:$D$184)+'Product Class Dist'!AP$18*SUMPRODUCT('Efficiency Dist'!AT293:AT302,'UEC Development'!$D$198:$D$207)+'Product Class Dist'!AP$19*SUMPRODUCT('Efficiency Dist'!AT328:AT337,'UEC Development'!$D$221:$D$230)+'Product Class Dist'!AP$20*SUMPRODUCT('Efficiency Dist'!AT363:AT372,'UEC Development'!$D$244:$D$253)+'Product Class Dist'!AP$21*SUMPRODUCT('Efficiency Dist'!AT398:AT407,'UEC Development'!$D$267:$D$276)+'Product Class Dist'!AP$22*SUMPRODUCT('Efficiency Dist'!AT433:AT442,'UEC Development'!$D$290:$D$299)+'Product Class Dist'!AP$23*SUMPRODUCT('Efficiency Dist'!AT468:AT477,'UEC Development'!$D$311:$D$320)+'Product Class Dist'!AP$24*SUMPRODUCT('Efficiency Dist'!AT503:AT512,'UEC Development'!$D$332:$D$341)+'Product Class Dist'!AP$25*SUMPRODUCT('Efficiency Dist'!AT538:AT547,'UEC Development'!$D$353:$D$362)+'Product Class Dist'!AP$26*SUMPRODUCT('Efficiency Dist'!AT573:AT582,'UEC Development'!$D$374:$D$383)+'Product Class Dist'!AP$27*SUMPRODUCT('Efficiency Dist'!AT608:AT617,'UEC Development'!$D$395:$D$404)+'Product Class Dist'!AP$28*SUMPRODUCT('Efficiency Dist'!AT643:AT652,'UEC Development'!$D$416:$D$425)+'Product Class Dist'!AP$29*SUMPRODUCT('Efficiency Dist'!AT678:AT687,'UEC Development'!$D$437:$D$446)+'Product Class Dist'!AP$30*SUMPRODUCT('Efficiency Dist'!AT713:AT720,'UEC Development'!$D$458:$D$465)+'Product Class Dist'!AP$31*SUMPRODUCT('Efficiency Dist'!AT744:AT751,'UEC Development'!$D$477:$D$484)+'Product Class Dist'!AP$32*SUMPRODUCT('Efficiency Dist'!AT775:AT784,'UEC Development'!$D$496:$D$505)+'Product Class Dist'!AP$33*SUMPRODUCT('Efficiency Dist'!AT810:AT819,'UEC Development'!$D$519:$D$528)+'Product Class Dist'!AP$34*SUMPRODUCT('Efficiency Dist'!AT845:AT854,'UEC Development'!$D$542:$D$551)","v":4105.3834374428861},{"$f":"'Product Class Dist'!AQ$10*SUMPRODUCT('Efficiency Dist'!AU13:AU22,'UEC Development'!$D$14:$D$23)+'Product Class Dist'!AQ$11*SUMPRODUCT('Efficiency Dist'!AU48:AU57,'UEC Development'!$D$37:$D$46)+'Product Class Dist'!AQ$12*SUMPRODUCT('Efficiency Dist'!AU83:AU92,'UEC Development'!$D$60:$D$69)+'Product Class Dist'!AQ$13*SUMPRODUCT('Efficiency Dist'!AU118:AU127,'UEC Development'!$D$83:$D$92)+'Product Class Dist'!AQ$14*SUMPRODUCT('Efficiency Dist'!AU153:AU162,'UEC Development'!$D$106:$D$115)+'Product Class Dist'!AQ$15*SUMPRODUCT('Efficiency Dist'!AU188:AU197,'UEC Development'!$D$129:$D$138)+'Product Class Dist'!AQ$16*SUMPRODUCT('Efficiency Dist'!AU223:AU232,'UEC Development'!$D$152:$D$161)+'Product Class Dist'!AQ$17*SUMPRODUCT('Efficiency Dist'!AU258:AU267,'UEC Development'!$D$175:$D$184)+'Product Class Dist'!AQ$18*SUMPRODUCT('Efficiency Dist'!AU293:AU302,'UEC Development'!$D$198:$D$207)+'Product Class Dist'!AQ$19*SUMPRODUCT('Efficiency Dist'!AU328:AU337,'UEC Development'!$D$221:$D$230)+'Product Class Dist'!AQ$20*SUMPRODUCT('Efficiency Dist'!AU363:AU372,'UEC Development'!$D$244:$D$253)+'Product Class Dist'!AQ$21*SUMPRODUCT('Efficiency Dist'!AU398:AU407,'UEC Development'!$D$267:$D$276)+'Product Class Dist'!AQ$22*SUMPRODUCT('Efficiency Dist'!AU433:AU442,'UEC Development'!$D$290:$D$299)+'Product Class Dist'!AQ$23*SUMPRODUCT('Efficiency Dist'!AU468:AU477,'UEC Development'!$D$311:$D$320)+'Product Class Dist'!AQ$24*SUMPRODUCT('Efficiency Dist'!AU503:AU512,'UEC Development'!$D$332:$D$341)+'Product Class Dist'!AQ$25*SUMPRODUCT('Efficiency Dist'!AU538:AU547,'UEC Development'!$D$353:$D$362)+'Product Class Dist'!AQ$26*SUMPRODUCT('Efficiency Dist'!AU573:AU582,'UEC Development'!$D$374:$D$383)+'Product Class Dist'!AQ$27*SUMPRODUCT('Efficiency Dist'!AU608:AU617,'UEC Development'!$D$395:$D$404)+'Product Class Dist'!AQ$28*SUMPRODUCT('Efficiency Dist'!AU643:AU652,'UEC Development'!$D$416:$D$425)+'Product Class Dist'!AQ$29*SUMPRODUCT('Efficiency Dist'!AU678:AU687,'UEC Development'!$D$437:$D$446)+'Product Class Dist'!AQ$30*SUMPRODUCT('Efficiency Dist'!AU713:AU720,'UEC Development'!$D$458:$D$465)+'Product Class Dist'!AQ$31*SUMPRODUCT('Efficiency Dist'!AU744:AU751,'UEC Development'!$D$477:$D$484)+'Product Class Dist'!AQ$32*SUMPRODUCT('Efficiency Dist'!AU775:AU784,'UEC Development'!$D$496:$D$505)+'Product Class Dist'!AQ$33*SUMPRODUCT('Efficiency Dist'!AU810:AU819,'UEC Development'!$D$519:$D$528)+'Product Class Dist'!AQ$34*SUMPRODUCT('Efficiency Dist'!AU845:AU854,'UEC Development'!$D$542:$D$551)","v":4105.3834374428852},{"$f":"'Product Class Dist'!AR$10*SUMPRODUCT('Efficiency Dist'!AV13:AV22,'UEC Development'!$D$14:$D$23)+'Product Class Dist'!AR$11*SUMPRODUCT('Efficiency Dist'!AV48:AV57,'UEC Development'!$D$37:$D$46)+'Product Class Dist'!AR$12*SUMPRODUCT('Efficiency Dist'!AV83:AV92,'UEC Development'!$D$60:$D$69)+'Product Class Dist'!AR$13*SUMPRODUCT('Efficiency Dist'!AV118:AV127,'UEC Development'!$D$83:$D$92)+'Product Class Dist'!AR$14*SUMPRODUCT('Efficiency Dist'!AV153:AV162,'UEC Development'!$D$106:$D$115)+'Product Class Dist'!AR$15*SUMPRODUCT('Efficiency Dist'!AV188:AV197,'UEC Development'!$D$129:$D$138)+'Product Class Dist'!AR$16*SUMPRODUCT('Efficiency Dist'!AV223:AV232,'UEC Development'!$D$152:$D$161)+'Product Class Dist'!AR$17*SUMPRODUCT('Efficiency Dist'!AV258:AV267,'UEC Development'!$D$175:$D$184)+'Product Class Dist'!AR$18*SUMPRODUCT('Efficiency Dist'!AV293:AV302,'UEC Development'!$D$198:$D$207)+'Product Class Dist'!AR$19*SUMPRODUCT('Efficiency Dist'!AV328:AV337,'UEC Development'!$D$221:$D$230)+'Product Class Dist'!AR$20*SUMPRODUCT('Efficiency Dist'!AV363:AV372,'UEC Development'!$D$244:$D$253)+'Product Class Dist'!AR$21*SUMPRODUCT('Efficiency Dist'!AV398:AV407,'UEC Development'!$D$267:$D$276)+'Product Class Dist'!AR$22*SUMPRODUCT('Efficiency Dist'!AV433:AV442,'UEC Development'!$D$290:$D$299)+'Product Class Dist'!AR$23*SUMPRODUCT('Efficiency Dist'!AV468:AV477,'UEC Development'!$D$311:$D$320)+'Product Class Dist'!AR$24*SUMPRODUCT('Efficiency Dist'!AV503:AV512,'UEC Development'!$D$332:$D$341)+'Product Class Dist'!AR$25*SUMPRODUCT('Efficiency Dist'!AV538:AV547,'UEC Development'!$D$353:$D$362)+'Product Class Dist'!AR$26*SUMPRODUCT('Efficiency Dist'!AV573:AV582,'UEC Development'!$D$374:$D$383)+'Product Class Dist'!AR$27*SUMPRODUCT('Efficiency Dist'!AV608:AV617,'UEC Development'!$D$395:$D$404)+'Product Class Dist'!AR$28*SUMPRODUCT('Efficiency Dist'!AV643:AV652,'UEC Development'!$D$416:$D$425)+'Product Class Dist'!AR$29*SUMPRODUCT('Efficiency Dist'!AV678:AV687,'UEC Development'!$D$437:$D$446)+'Product Class Dist'!AR$30*SUMPRODUCT('Efficiency Dist'!AV713:AV720,'UEC Development'!$D$458:$D$465)+'Product Class Dist'!AR$31*SUMPRODUCT('Efficiency Dist'!AV744:AV751,'UEC Development'!$D$477:$D$484)+'Product Class Dist'!AR$32*SUMPRODUCT('Efficiency Dist'!AV775:AV784,'UEC Development'!$D$496:$D$505)+'Product Class Dist'!AR$33*SUMPRODUCT('Efficiency Dist'!AV810:AV819,'UEC Development'!$D$519:$D$528)+'Product Class Dist'!AR$34*SUMPRODUCT('Efficiency Dist'!AV845:AV854,'UEC Development'!$D$542:$D$551)","v":4105.3834374428861},{"$f":"'Product Class Dist'!AS$10*SUMPRODUCT('Efficiency Dist'!AW13:AW22,'UEC Development'!$D$14:$D$23)+'Product Class Dist'!AS$11*SUMPRODUCT('Efficiency Dist'!AW48:AW57,'UEC Development'!$D$37:$D$46)+'Product Class Dist'!AS$12*SUMPRODUCT('Efficiency Dist'!AW83:AW92,'UEC Development'!$D$60:$D$69)+'Product Class Dist'!AS$13*SUMPRODUCT('Efficiency Dist'!AW118:AW127,'UEC Development'!$D$83:$D$92)+'Product Class Dist'!AS$14*SUMPRODUCT('Efficiency Dist'!AW153:AW162,'UEC Development'!$D$106:$D$115)+'Product Class Dist'!AS$15*SUMPRODUCT('Efficiency Dist'!AW188:AW197,'UEC Development'!$D$129:$D$138)+'Product Class Dist'!AS$16*SUMPRODUCT('Efficiency Dist'!AW223:AW232,'UEC Development'!$D$152:$D$161)+'Product Class Dist'!AS$17*SUMPRODUCT('Efficiency Dist'!AW258:AW267,'UEC Development'!$D$175:$D$184)+'Product Class Dist'!AS$18*SUMPRODUCT('Efficiency Dist'!AW293:AW302,'UEC Development'!$D$198:$D$207)+'Product Class Dist'!AS$19*SUMPRODUCT('Efficiency Dist'!AW328:AW337,'UEC Development'!$D$221:$D$230)+'Product Class Dist'!AS$20*SUMPRODUCT('Efficiency Dist'!AW363:AW372,'UEC Development'!$D$244:$D$253)+'Product Class Dist'!AS$21*SUMPRODUCT('Efficiency Dist'!AW398:AW407,'UEC Development'!$D$267:$D$276)+'Product Class Dist'!AS$22*SUMPRODUCT('Efficiency Dist'!AW433:AW442,'UEC Development'!$D$290:$D$299)+'Product Class Dist'!AS$23*SUMPRODUCT('Efficiency Dist'!AW468:AW477,'UEC Development'!$D$311:$D$320)+'Product Class Dist'!AS$24*SUMPRODUCT('Efficiency Dist'!AW503:AW512,'UEC Development'!$D$332:$D$341)+'Product Class Dist'!AS$25*SUMPRODUCT('Efficiency Dist'!AW538:AW547,'UEC Development'!$D$353:$D$362)+'Product Class Dist'!AS$26*SUMPRODUCT('Efficiency Dist'!AW573:AW582,'UEC Development'!$D$374:$D$383)+'Product Class Dist'!AS$27*SUMPRODUCT('Efficiency Dist'!AW608:AW617,'UEC Development'!$D$395:$D$404)+'Product Class Dist'!AS$28*SUMPRODUCT('Efficiency Dist'!AW643:AW652,'UEC Development'!$D$416:$D$425)+'Product Class Dist'!AS$29*SUMPRODUCT('Efficiency Dist'!AW678:AW687,'UEC Development'!$D$437:$D$446)+'Product Class Dist'!AS$30*SUMPRODUCT('Efficiency Dist'!AW713:AW720,'UEC Development'!$D$458:$D$465)+'Product Class Dist'!AS$31*SUMPRODUCT('Efficiency Dist'!AW744:AW751,'UEC Development'!$D$477:$D$484)+'Product Class Dist'!AS$32*SUMPRODUCT('Efficiency Dist'!AW775:AW784,'UEC Development'!$D$496:$D$505)+'Product Class Dist'!AS$33*SUMPRODUCT('Efficiency Dist'!AW810:AW819,'UEC Development'!$D$519:$D$528)+'Product Class Dist'!AS$34*SUMPRODUCT('Efficiency Dist'!AW845:AW854,'UEC Development'!$D$542:$D$551)","v":4105.3834374428852},{"$f":"'Product Class Dist'!AT$10*SUMPRODUCT('Efficiency Dist'!AX13:AX22,'UEC Development'!$D$14:$D$23)+'Product Class Dist'!AT$11*SUMPRODUCT('Efficiency Dist'!AX48:AX57,'UEC Development'!$D$37:$D$46)+'Product Class Dist'!AT$12*SUMPRODUCT('Efficiency Dist'!AX83:AX92,'UEC Development'!$D$60:$D$69)+'Product Class Dist'!AT$13*SUMPRODUCT('Efficiency Dist'!AX118:AX127,'UEC Development'!$D$83:$D$92)+'Product Class Dist'!AT$14*SUMPRODUCT('Efficiency Dist'!AX153:AX162,'UEC Development'!$D$106:$D$115)+'Product Class Dist'!AT$15*SUMPRODUCT('Efficiency Dist'!AX188:AX197,'UEC Development'!$D$129:$D$138)+'Product Class Dist'!AT$16*SUMPRODUCT('Efficiency Dist'!AX223:AX232,'UEC Development'!$D$152:$D$161)+'Product Class Dist'!AT$17*SUMPRODUCT('Efficiency Dist'!AX258:AX267,'UEC Development'!$D$175:$D$184)+'Product Class Dist'!AT$18*SUMPRODUCT('Efficiency Dist'!AX293:AX302,'UEC Development'!$D$198:$D$207)+'Product Class Dist'!AT$19*SUMPRODUCT('Efficiency Dist'!AX328:AX337,'UEC Development'!$D$221:$D$230)+'Product Class Dist'!AT$20*SUMPRODUCT('Efficiency Dist'!AX363:AX372,'UEC Development'!$D$244:$D$253)+'Product Class Dist'!AT$21*SUMPRODUCT('Efficiency Dist'!AX398:AX407,'UEC Development'!$D$267:$D$276)+'Product Class Dist'!AT$22*SUMPRODUCT('Efficiency Dist'!AX433:AX442,'UEC Development'!$D$290:$D$299)+'Product Class Dist'!AT$23*SUMPRODUCT('Efficiency Dist'!AX468:AX477,'UEC Development'!$D$311:$D$320)+'Product Class Dist'!AT$24*SUMPRODUCT('Efficiency Dist'!AX503:AX512,'UEC Development'!$D$332:$D$341)+'Product Class Dist'!AT$25*SUMPRODUCT('Efficiency Dist'!AX538:AX547,'UEC Development'!$D$353:$D$362)+'Product Class Dist'!AT$26*SUMPRODUCT('Efficiency Dist'!AX573:AX582,'UEC Development'!$D$374:$D$383)+'Product Class Dist'!AT$27*SUMPRODUCT('Efficiency Dist'!AX608:AX617,'UEC Development'!$D$395:$D$404)+'Product Class Dist'!AT$28*SUMPRODUCT('Efficiency Dist'!AX643:AX652,'UEC Development'!$D$416:$D$425)+'Product Class Dist'!AT$29*SUMPRODUCT('Efficiency Dist'!AX678:AX687,'UEC Development'!$D$437:$D$446)+'Product Class Dist'!AT$30*SUMPRODUCT('Efficiency Dist'!AX713:AX720,'UEC Development'!$D$458:$D$465)+'Product Class Dist'!AT$31*SUMPRODUCT('Efficiency Dist'!AX744:AX751,'UEC Development'!$D$477:$D$484)+'Product Class Dist'!AT$32*SUMPRODUCT('Efficiency Dist'!AX775:AX784,'UEC Development'!$D$496:$D$505)+'Product Class Dist'!AT$33*SUMPRODUCT('Efficiency Dist'!AX810:AX819,'UEC Development'!$D$519:$D$528)+'Product Class Dist'!AT$34*SUMPRODUCT('Efficiency Dist'!AX845:AX854,'UEC Development'!$D$542:$D$551)","v":4105.3834374428852},{"$f":"'Product Class Dist'!AU$10*SUMPRODUCT('Efficiency Dist'!AY13:AY22,'UEC Development'!$D$14:$D$23)+'Product Class Dist'!AU$11*SUMPRODUCT('Efficiency Dist'!AY48:AY57,'UEC Development'!$D$37:$D$46)+'Product Class Dist'!AU$12*SUMPRODUCT('Efficiency Dist'!AY83:AY92,'UEC Development'!$D$60:$D$69)+'Product Class Dist'!AU$13*SUMPRODUCT('Efficiency Dist'!AY118:AY127,'UEC Development'!$D$83:$D$92)+'Product Class Dist'!AU$14*SUMPRODUCT('Efficiency Dist'!AY153:AY162,'UEC Development'!$D$106:$D$115)+'Product Class Dist'!AU$15*SUMPRODUCT('Efficiency Dist'!AY188:AY197,'UEC Development'!$D$129:$D$138)+'Product Class Dist'!AU$16*SUMPRODUCT('Efficiency Dist'!AY223:AY232,'UEC Development'!$D$152:$D$161)+'Product Class Dist'!AU$17*SUMPRODUCT('Efficiency Dist'!AY258:AY267,'UEC Development'!$D$175:$D$184)+'Product Class Dist'!AU$18*SUMPRODUCT('Efficiency Dist'!AY293:AY302,'UEC Development'!$D$198:$D$207)+'Product Class Dist'!AU$19*SUMPRODUCT('Efficiency Dist'!AY328:AY337,'UEC Development'!$D$221:$D$230)+'Product Class Dist'!AU$20*SUMPRODUCT('Efficiency Dist'!AY363:AY372,'UEC Development'!$D$244:$D$253)+'Product Class Dist'!AU$21*SUMPRODUCT('Efficiency Dist'!AY398:AY407,'UEC Development'!$D$267:$D$276)+'Product Class Dist'!AU$22*SUMPRODUCT('Efficiency Dist'!AY433:AY442,'UEC Development'!$D$290:$D$299)+'Product Class Dist'!AU$23*SUMPRODUCT('Efficiency Dist'!AY468:AY477,'UEC Development'!$D$311:$D$320)+'Product Class Dist'!AU$24*SUMPRODUCT('Efficiency Dist'!AY503:AY512,'UEC Development'!$D$332:$D$341)+'Product Class Dist'!AU$25*SUMPRODUCT('Efficiency Dist'!AY538:AY547,'UEC Development'!$D$353:$D$362)+'Product Class Dist'!AU$26*SUMPRODUCT('Efficiency Dist'!AY573:AY582,'UEC Development'!$D$374:$D$383)+'Product Class Dist'!AU$27*SUMPRODUCT('Efficiency Dist'!AY608:AY617,'UEC Development'!$D$395:$D$404)+'Product Class Dist'!AU$28*SUMPRODUCT('Efficiency Dist'!AY643:AY652,'UEC Development'!$D$416:$D$425)+'Product Class Dist'!AU$29*SUMPRODUCT('Efficiency Dist'!AY678:AY687,'UEC Development'!$D$437:$D$446)+'Product Class Dist'!AU$30*SUMPRODUCT('Efficiency Dist'!AY713:AY720,'UEC Development'!$D$458:$D$465)+'Product Class Dist'!AU$31*SUMPRODUCT('Efficiency Dist'!AY744:AY751,'UEC Development'!$D$477:$D$484)+'Product Class Dist'!AU$32*SUMPRODUCT('Efficiency Dist'!AY775:AY784,'UEC Development'!$D$496:$D$505)+'Product Class Dist'!AU$33*SUMPRODUCT('Efficiency Dist'!AY810:AY819,'UEC Development'!$D$519:$D$528)+'Product Class Dist'!AU$34*SUMPRODUCT('Efficiency Dist'!AY845:AY854,'UEC Development'!$D$542:$D$551)","v":4105.3834374428852},{"$f":"'Product Class Dist'!AV$10*SUMPRODUCT('Efficiency Dist'!AZ13:AZ22,'UEC Development'!$D$14:$D$23)+'Product Class Dist'!AV$11*SUMPRODUCT('Efficiency Dist'!AZ48:AZ57,'UEC Development'!$D$37:$D$46)+'Product Class Dist'!AV$12*SUMPRODUCT('Efficiency Dist'!AZ83:AZ92,'UEC Development'!$D$60:$D$69)+'Product Class Dist'!AV$13*SUMPRODUCT('Efficiency Dist'!AZ118:AZ127,'UEC Development'!$D$83:$D$92)+'Product Class Dist'!AV$14*SUMPRODUCT('Efficiency Dist'!AZ153:AZ162,'UEC Development'!$D$106:$D$115)+'Product Class Dist'!AV$15*SUMPRODUCT('Efficiency Dist'!AZ188:AZ197,'UEC Development'!$D$129:$D$138)+'Product Class Dist'!AV$16*SUMPRODUCT('Efficiency Dist'!AZ223:AZ232,'UEC Development'!$D$152:$D$161)+'Product Class Dist'!AV$17*SUMPRODUCT('Efficiency Dist'!AZ258:AZ267,'UEC Development'!$D$175:$D$184)+'Product Class Dist'!AV$18*SUMPRODUCT('Efficiency Dist'!AZ293:AZ302,'UEC Development'!$D$198:$D$207)+'Product Class Dist'!AV$19*SUMPRODUCT('Efficiency Dist'!AZ328:AZ337,'UEC Development'!$D$221:$D$230)+'Product Class Dist'!AV$20*SUMPRODUCT('Efficiency Dist'!AZ363:AZ372,'UEC Development'!$D$244:$D$253)+'Product Class Dist'!AV$21*SUMPRODUCT('Efficiency Dist'!AZ398:AZ407,'UEC Development'!$D$267:$D$276)+'Product Class Dist'!AV$22*SUMPRODUCT('Efficiency Dist'!AZ433:AZ442,'UEC Development'!$D$290:$D$299)+'Product Class Dist'!AV$23*SUMPRODUCT('Efficiency Dist'!AZ468:AZ477,'UEC Development'!$D$311:$D$320)+'Product Class Dist'!AV$24*SUMPRODUCT('Efficiency Dist'!AZ503:AZ512,'UEC Development'!$D$332:$D$341)+'Product Class Dist'!AV$25*SUMPRODUCT('Efficiency Dist'!AZ538:AZ547,'UEC Development'!$D$353:$D$362)+'Product Class Dist'!AV$26*SUMPRODUCT('Efficiency Dist'!AZ573:AZ582,'UEC Development'!$D$374:$D$383)+'Product Class Dist'!AV$27*SUMPRODUCT('Efficiency Dist'!AZ608:AZ617,'UEC Development'!$D$395:$D$404)+'Product Class Dist'!AV$28*SUMPRODUCT('Efficiency Dist'!AZ643:AZ652,'UEC Development'!$D$416:$D$425)+'Product Class Dist'!AV$29*SUMPRODUCT('Efficiency Dist'!AZ678:AZ687,'UEC Development'!$D$437:$D$446)+'Product Class Dist'!AV$30*SUMPRODUCT('Efficiency Dist'!AZ713:AZ720,'UEC Development'!$D$458:$D$465)+'Product Class Dist'!AV$31*SUMPRODUCT('Efficiency Dist'!AZ744:AZ751,'UEC Development'!$D$477:$D$484)+'Product Class Dist'!AV$32*SUMPRODUCT('Efficiency Dist'!AZ775:AZ784,'UEC Development'!$D$496:$D$505)+'Product Class Dist'!AV$33*SUMPRODUCT('Efficiency Dist'!AZ810:AZ819,'UEC Development'!$D$519:$D$528)+'Product Class Dist'!AV$34*SUMPRODUCT('Efficiency Dist'!AZ845:AZ854,'UEC Development'!$D$542:$D$551)","v":4105.3834374428861}]
[null,null,"POST-Case UEC",{"$f":"'Product Class Dist'!D$10*SUMPRODUCT('Efficiency Dist'!H27:H36,'UEC Development'!$D$14:$D$23)+'Product Class Dist'!D$11*SUMPRODUCT('Efficiency Dist'!H62:H71,'UEC Development'!$D$37:$D$46)+'Product Class Dist'!D$12*SUMPRODUCT('Efficiency Dist'!H97:H106,'UEC Development'!$D$60:$D$69)+'Product Class Dist'!D$13*SUMPRODUCT('Efficiency Dist'!H132:H141,'UEC Development'!$D$83:$D$92)+'Product Class Dist'!D$14*SUMPRODUCT('Efficiency Dist'!H167:H176,'UEC Development'!$D$106:$D$115)+'Product Class Dist'!D$15*SUMPRODUCT('Efficiency Dist'!H202:H211,'UEC Development'!$D$129:$D$138)+'Product Class Dist'!D$16*SUMPRODUCT('Efficiency Dist'!H237:H246,'UEC Development'!$D$152:$D$161)+'Product Class Dist'!D$17*SUMPRODUCT('Efficiency Dist'!H272:H281,'UEC Development'!$D$175:$D$184)+'Product Class Dist'!D$18*SUMPRODUCT('Efficiency Dist'!H307:H316,'UEC Development'!$D$198:$D$207)+'Product Class Dist'!D$19*SUMPRODUCT('Efficiency Dist'!H342:H351,'UEC Development'!$D$221:$D$230)+'Product Class Dist'!D$20*SUMPRODUCT('Efficiency Dist'!H377:H386,'UEC Development'!$D$244:$D$253)+'Product Class Dist'!D$21*SUMPRODUCT('Efficiency Dist'!H412:H421,'UEC Development'!$D$267:$D$276)+'Product Class Dist'!D$22*SUMPRODUCT('Efficiency Dist'!H447:H456,'UEC Development'!$D$290:$D$299)+'Product Class Dist'!D$23*SUMPRODUCT('Efficiency Dist'!H482:H491,'UEC Development'!$D$311:$D$320)+'Product Class Dist'!D$24*SUMPRODUCT('Efficiency Dist'!H517:H526,'UEC Development'!$D$332:$D$341)+'Product Class Dist'!D$25*SUMPRODUCT('Efficiency Dist'!H552:H561,'UEC Development'!$D$353:$D$362)+'Product Class Dist'!D$26*SUMPRODUCT('Efficiency Dist'!H587:H596,'UEC Development'!$D$374:$D$383)+'Product Class Dist'!D$27*SUMPRODUCT('Efficiency Dist'!H622:H631,'UEC Development'!$D$395:$D$404)+'Product Class Dist'!D$28*SUMPRODUCT('Efficiency Dist'!H657:H666,'UEC Development'!$D$416:$D$425)+'Product Class Dist'!D$29*SUMPRODUCT('Efficiency Dist'!H692:H701,'UEC Development'!$D$437:$D$446)+'Product Class Dist'!D$30*SUMPRODUCT('Efficiency Dist'!H725:H732,'UEC Development'!$D$458:$D$465)+'Product Class Dist'!D$31*SUMPRODUCT('Efficiency Dist'!H756:H763,'UEC Development'!$D$477:$D$484)+'Product Class Dist'!D$32*SUMPRODUCT('Efficiency Dist'!H789:H798,'UEC Development'!$D$496:$D$505)+'Product Class Dist'!D$33*SUMPRODUCT('Efficiency Dist'!H824:H833,'UEC Development'!$D$519:$D$528)+'Product Class Dist'!D$34*SUMPRODUCT('Efficiency Dist'!H859:H868,'UEC Development'!$D$542:$D$551)","v":5722.5521561297064},{"$f":"'Product Class Dist'!E$10*SUMPRODUCT('Efficiency Dist'!I27:I36,'UEC Development'!$D$14:$D$23)+'Product Class Dist'!E$11*SUMPRODUCT('Efficiency Dist'!I62:I71,'UEC Development'!$D$37:$D$46)+'Product Class Dist'!E$12*SUMPRODUCT('Efficiency Dist'!I97:I106,'UEC Development'!$D$60:$D$69)+'Product Class Dist'!E$13*SUMPRODUCT('Efficiency Dist'!I132:I141,'UEC Development'!$D$83:$D$92)+'Product Class Dist'!E$14*SUMPRODUCT('Efficiency Dist'!I167:I176,'UEC Development'!$D$106:$D$115)+'Product Class Dist'!E$15*SUMPRODUCT('Efficiency Dist'!I202:I211,'UEC Development'!$D$129:$D$138)+'Product Class Dist'!E$16*SUMPRODUCT('Efficiency Dist'!I237:I246,'UEC Development'!$D$152:$D$161)+'Product Class Dist'!E$17*SUMPRODUCT('Efficiency Dist'!I272:I281,'UEC Development'!$D$175:$D$184)+'Product Class Dist'!E$18*SUMPRODUCT('Efficiency Dist'!I307:I316,'UEC Development'!$D$198:$D$207)+'Product Class Dist'!E$19*SUMPRODUCT('Efficiency Dist'!I342:I351,'UEC Development'!$D$221:$D$230)+'Product Class Dist'!E$20*SUMPRODUCT('Efficiency Dist'!I377:I386,'UEC Development'!$D$244:$D$253)+'Product Class Dist'!E$21*SUMPRODUCT('Efficiency Dist'!I412:I421,'UEC Development'!$D$267:$D$276)+'Product Class Dist'!E$22*SUMPRODUCT('Efficiency Dist'!I447:I456,'UEC Development'!$D$290:$D$299)+'Product Class Dist'!E$23*SUMPRODUCT('Efficiency Dist'!I482:I491,'UEC Development'!$D$311:$D$320)+'Product Class Dist'!E$24*SUMPRODUCT('Efficiency Dist'!I517:I526,'UEC Development'!$D$332:$D$341)+'Product Class Dist'!E$25*SUMPRODUCT('Efficiency Dist'!I552:I561,'UEC Development'!$D$353:$D$362)+'Product Class Dist'!E$26*SUMPRODUCT('Efficiency Dist'!I587:I596,'UEC Development'!$D$374:$D$383)+'Product Class Dist'!E$27*SUMPRODUCT('Efficiency Dist'!I622:I631,'UEC Development'!$D$395:$D$404)+'Product Class Dist'!E$28*SUMPRODUCT('Efficiency Dist'!I657:I666,'UEC Development'!$D$416:$D$425)+'Product Class Dist'!E$29*SUMPRODUCT('Efficiency Dist'!I692:I701,'UEC Development'!$D$437:$D$446)+'Product Class Dist'!E$30*SUMPRODUCT('Efficiency Dist'!I725:I732,'UEC Development'!$D$458:$D$465)+'Product Class Dist'!E$31*SUMPRODUCT('Efficiency Dist'!I756:I763,'UEC Development'!$D$477:$D$484)+'Product Class Dist'!E$32*SUMPRODUCT('Efficiency Dist'!I789:I798,'UEC Development'!$D$496:$D$505)+'Product Class Dist'!E$33*SUMPRODUCT('Efficiency Dist'!I824:I833,'UEC Development'!$D$519:$D$528)+'Product Class Dist'!E$34*SUMPRODUCT('Efficiency Dist'!I859:I868,'UEC Development'!$D$542:$D$551)","v":5722.5521561297064},{"$f":"'Product Class Dist'!F$10*SUMPRODUCT('Efficiency Dist'!J27:J36,'UEC Development'!$D$14:$D$23)+'Product Class Dist'!F$11*SUMPRODUCT('Efficiency Dist'!J62:J71,'UEC Development'!$D$37:$D$46)+'Product Class Dist'!F$12*SUMPRODUCT('Efficiency Dist'!J97:J106,'UEC Development'!$D$60:$D$69)+'Product Class Dist'!F$13*SUMPRODUCT('Efficiency Dist'!J132:J141,'UEC Development'!$D$83:$D$92)+'Product Class Dist'!F$14*SUMPRODUCT('Efficiency Dist'!J167:J176,'UEC Development'!$D$106:$D$115)+'Product Class Dist'!F$15*SUMPRODUCT('Efficiency Dist'!J202:J211,'UEC Development'!$D$129:$D$138)+'Product Class Dist'!F$16*SUMPRODUCT('Efficiency Dist'!J237:J246,'UEC Development'!$D$152:$D$161)+'Product Class Dist'!F$17*SUMPRODUCT('Efficiency Dist'!J272:J281,'UEC Development'!$D$175:$D$184)+'Product Class Dist'!F$18*SUMPRODUCT('Efficiency Dist'!J307:J316,'UEC Development'!$D$198:$D$207)+'Product Class Dist'!F$19*SUMPRODUCT('Efficiency Dist'!J342:J351,'UEC Development'!$D$221:$D$230)+'Product Class Dist'!F$20*SUMPRODUCT('Efficiency Dist'!J377:J386,'UEC Development'!$D$244:$D$253)+'Product Class Dist'!F$21*SUMPRODUCT('Efficiency Dist'!J412:J421,'UEC Development'!$D$267:$D$276)+'Product Class Dist'!F$22*SUMPRODUCT('Efficiency Dist'!J447:J456,'UEC Development'!$D$290:$D$299)+'Product Class Dist'!F$23*SUMPRODUCT('Efficiency Dist'!J482:J491,'UEC Development'!$D$311:$D$320)+'Product Class Dist'!F$24*SUMPRODUCT('Efficiency Dist'!J517:J526,'UEC Development'!$D$332:$D$341)+'Product Class Dist'!F$25*SUMPRODUCT('Efficiency Dist'!J552:J561,'UEC Development'!$D$353:$D$362)+'Product Class Dist'!F$26*SUMPRODUCT('Efficiency Dist'!J587:J596,'UEC Development'!$D$374:$D$383)+'Product Class Dist'!F$27*SUMPRODUCT('Efficiency Dist'!J622:J631,'UEC Development'!$D$395:$D$404)+'Product Class Dist'!F$28*SUMPRODUCT('Efficiency Dist'!J657:J666,'UEC Development'!$D$416:$D$425)+'Product Class Dist'!F$29*SUMPRODUCT('Efficiency Dist'!J692:J701,'UEC Development'!$D$437:$D$446)+'Product Class Dist'!F$30*SUMPRODUCT('Efficiency Dist'!J725:J732,'UEC Development'!$D$458:$D$465)+'Product Class Dist'!F$31*SUMPRODUCT('Efficiency Dist'!J756:J763,'UEC Development'!$D$477:$D$484)+'Product Class Dist'!F$32*SUMPRODUCT('Efficiency Dist'!J789:J798,'UEC Development'!$D$496:$D$505)+'Product Class Dist'!F$33*SUMPRODUCT('Efficiency Dist'!J824:J833,'UEC Development'!$D$519:$D$528)+'Product Class Dist'!F$34*SUMPRODUCT('Efficiency Dist'!J859:J868,'UEC Development'!$D$542:$D$551)","v":5722.5521561297064},{"$f":"'Product Class Dist'!G$10*SUMPRODUCT('Efficiency Dist'!K27:K36,'UEC Development'!$D$14:$D$23)+'Product Class Dist'!G$11*SUMPRODUCT('Efficiency Dist'!K62:K71,'UEC Development'!$D$37:$D$46)+'Product Class Dist'!G$12*SUMPRODUCT('Efficiency Dist'!K97:K106,'UEC Development'!$D$60:$D$69)+'Product Class Dist'!G$13*SUMPRODUCT('Efficiency Dist'!K132:K141,'UEC Development'!$D$83:$D$92)+'Product Class Dist'!G$14*SUMPRODUCT('Efficiency Dist'!K167:K176,'UEC Development'!$D$106:$D$115)+'Product Class Dist'!G$15*SUMPRODUCT('Efficiency Dist'!K202:K211,'UEC Development'!$D$129:$D$138)+'Product Class Dist'!G$16*SUMPRODUCT('Efficiency Dist'!K237:K246,'UEC Development'!$D$152:$D$161)+'Product Class Dist'!G$17*SUMPRODUCT('Efficiency Dist'!K272:K281,'UEC Development'!$D$175:$D$184)+'Product Class Dist'!G$18*SUMPRODUCT('Efficiency Dist'!K307:K316,'UEC Development'!$D$198:$D$207)+'Product Class Dist'!G$19*SUMPRODUCT('Efficiency Dist'!K342:K351,'UEC Development'!$D$221:$D$230)+'Product Class Dist'!G$20*SUMPRODUCT('Efficiency Dist'!K377:K386,'UEC Development'!$D$244:$D$253)+'Product Class Dist'!G$21*SUMPRODUCT('Efficiency Dist'!K412:K421,'UEC Development'!$D$267:$D$276)+'Product Class Dist'!G$22*SUMPRODUCT('Efficiency Dist'!K447:K456,'UEC Development'!$D$290:$D$299)+'Product Class Dist'!G$23*SUMPRODUCT('Efficiency Dist'!K482:K491,'UEC Development'!$D$311:$D$320)+'Product Class Dist'!G$24*SUMPRODUCT('Efficiency Dist'!K517:K526,'UEC Development'!$D$332:$D$341)+'Product Class Dist'!G$25*SUMPRODUCT('Efficiency Dist'!K552:K561,'UEC Development'!$D$353:$D$362)+'Product Class Dist'!G$26*SUMPRODUCT('Efficiency Dist'!K587:K596,'UEC Development'!$D$374:$D$383)+'Product Class Dist'!G$27*SUMPRODUCT('Efficiency Dist'!K622:K631,'UEC Development'!$D$395:$D$404)+'Product Class Dist'!G$28*SUMPRODUCT('Efficiency Dist'!K657:K666,'UEC Development'!$D$416:$D$425)+'Product Class Dist'!G$29*SUMPRODUCT('Efficiency Dist'!K692:K701,'UEC Development'!$D$437:$D$446)+'Product Class Dist'!G$30*SUMPRODUCT('Efficiency Dist'!K725:K732,'UEC Development'!$D$458:$D$465)+'Product Class Dist'!G$31*SUMPRODUCT('Efficiency Dist'!K756:K763,'UEC Development'!$D$477:$D$484)+'Product Class Dist'!G$32*SUMPRODUCT('Efficiency Dist'!K789:K798,'UEC Development'!$D$496:$D$505)+'Product Class Dist'!G$33*SUMPRODUCT('Efficiency Dist'!K824:K833,'UEC Development'!$D$519:$D$528)+'Product Class Dist'!G$34*SUMPRODUCT('Efficiency Dist'!K859:K868,'UEC Development'!$D$542:$D$551)","v":5722.5521561297064},{"$f":"'Product Class Dist'!H$10*SUMPRODUCT('Efficiency Dist'!L27:L36,'UEC Development'!$D$14:$D$23)+'Product Class Dist'!H$11*SUMPRODUCT('Efficiency Dist'!L62:L71,'UEC Development'!$D$37:$D$46)+'Product Class Dist'!H$12*SUMPRODUCT('Efficiency Dist'!L97:L106,'UEC Development'!$D$60:$D$69)+'Product Class Dist'!H$13*SUMPRODUCT('Efficiency Dist'!L132:L141,'UEC Development'!$D$83:$D$92)+'Product Class Dist'!H$14*SUMPRODUCT('Efficiency Dist'!L167:L176,'UEC Development'!$D$106:$D$115)+'Product Class Dist'!H$15*SUMPRODUCT('Efficiency Dist'!L202:L211,'UEC Development'!$D$129:$D$138)+'Product Class Dist'!H$16*SUMPRODUCT('Efficiency Dist'!L237:L246,'UEC Development'!$D$152:$D$161)+'Product Class Dist'!H$17*SUMPRODUCT('Efficiency Dist'!L272:L281,'UEC Development'!$D$175:$D$184)+'Product Class Dist'!H$18*SUMPRODUCT('Efficiency Dist'!L307:L316,'UEC Development'!$D$198:$D$207)+'Product Class Dist'!H$19*SUMPRODUCT('Efficiency Dist'!L342:L351,'UEC Development'!$D$221:$D$230)+'Product Class Dist'!H$20*SUMPRODUCT('Efficiency Dist'!L377:L386,'UEC Development'!$D$244:$D$253)+'Product Class Dist'!H$21*SUMPRODUCT('Efficiency Dist'!L412:L421,'UEC Development'!$D$267:$D$276)+'Product Class Dist'!H$22*SUMPRODUCT('Efficiency Dist'!L447:L456,'UEC Development'!$D$290:$D$299)+'Product Class Dist'!H$23*SUMPRODUCT('Efficiency Dist'!L482:L491,'UEC Development'!$D$311:$D$320)+'Product Class Dist'!H$24*SUMPRODUCT('Efficiency Dist'!L517:L526,'UEC Development'!$D$332:$D$341)+'Product Class Dist'!H$25*SUMPRODUCT('Efficiency Dist'!L552:L561,'UEC Development'!$D$353:$D$362)+'Product Class Dist'!H$26*SUMPRODUCT('Efficiency Dist'!L587:L596,'UEC Development'!$D$374:$D$383)+'Product Class Dist'!H$27*SUMPRODUCT('Efficiency Dist'!L622:L631,'UEC Development'!$D$395:$D$404)+'Product Class Dist'!H$28*SUMPRODUCT('Efficiency Dist'!L657:L666,'UEC Development'!$D$416:$D$425)+'Product Class Dist'!H$29*SUMPRODUCT('Efficiency Dist'!L692:L701,'UEC Development'!$D$437:$D$446)+'Product Class Dist'!H$30*SUMPRODUCT('Efficiency Dist'!L725:L732,'UEC Development'!$D$458:$D$465)+'Product Class Dist'!H$31*SUMPRODUCT('Efficiency Dist'!L756:L763,'UEC Development'!$D$477:$D$484)+'Product Class Dist'!H$32*SUMPRODUCT('Efficiency Dist'!L789:L798,'UEC Development'!$D$496:$D$505)+'Product Class Dist'!H$33*SUMPRODUCT('Efficiency Dist'!L824:L833,'UEC Development'!$D$519:$D$528)+'Product Class Dist'!H$34*SUMPRODUCT('Efficiency Dist'!L859:L868,'UEC Development'!$D$542:$D$551)","v":5722.5521561297064},{"$f":"'Product Class Dist'!I$10*SUMPRODUCT('Efficiency Dist'!M27:M36,'UEC Development'!$D$14:$D$23)+'Product Class Dist'!I$11*SUMPRODUCT('Efficiency Dist'!M62:M71,'UEC Development'!$D$37:$D$46)+'Product Class Dist'!I$12*SUMPRODUCT('Efficiency Dist'!M97:M106,'UEC Development'!$D$60:$D$69)+'Product Class Dist'!I$13*SUMPRODUCT('Efficiency Dist'!M132:M141,'UEC Development'!$D$83:$D$92)+'Product Class Dist'!I$14*SUMPRODUCT('Efficiency Dist'!M167:M176,'UEC Development'!$D$106:$D$115)+'Product Class Dist'!I$15*SUMPRODUCT('Efficiency Dist'!M202:M211,'UEC Development'!$D$129:$D$138)+'Product Class Dist'!I$16*SUMPRODUCT('Efficiency Dist'!M237:M246,'UEC Development'!$D$152:$D$161)+'Product Class Dist'!I$17*SUMPRODUCT('Efficiency Dist'!M272:M281,'UEC Development'!$D$175:$D$184)+'Product Class Dist'!I$18*SUMPRODUCT('Efficiency Dist'!M307:M316,'UEC Development'!$D$198:$D$207)+'Product Class Dist'!I$19*SUMPRODUCT('Efficiency Dist'!M342:M351,'UEC Development'!$D$221:$D$230)+'Product Class Dist'!I$20*SUMPRODUCT('Efficiency Dist'!M377:M386,'UEC Development'!$D$244:$D$253)+'Product Class Dist'!I$21*SUMPRODUCT('Efficiency Dist'!M412:M421,'UEC Development'!$D$267:$D$276)+'Product Class Dist'!I$22*SUMPRODUCT('Efficiency Dist'!M447:M456,'UEC Development'!$D$290:$D$299)+'Product Class Dist'!I$23*SUMPRODUCT('Efficiency Dist'!M482:M491,'UEC Development'!$D$311:$D$320)+'Product Class Dist'!I$24*SUMPRODUCT('Efficiency Dist'!M517:M526,'UEC Development'!$D$332:$D$341)+'Product Class Dist'!I$25*SUMPRODUCT('Efficiency Dist'!M552:M561,'UEC Development'!$D$353:$D$362)+'Product Class Dist'!I$26*SUMPRODUCT('Efficiency Dist'!M587:M596,'UEC Development'!$D$374:$D$383)+'Product Class Dist'!I$27*SUMPRODUCT('Efficiency Dist'!M622:M631,'UEC Development'!$D$395:$D$404)+'Product Class Dist'!I$28*SUMPRODUCT('Efficiency Dist'!M657:M666,'UEC Development'!$D$416:$D$425)+'Product Class Dist'!I$29*SUMPRODUCT('Efficiency Dist'!M692:M701,'UEC Development'!$D$437:$D$446)+'Product Class Dist'!I$30*SUMPRODUCT('Efficiency Dist'!M725:M732,'UEC Development'!$D$458:$D$465)+'Product Class Dist'!I$31*SUMPRODUCT('Efficiency Dist'!M756:M763,'UEC Development'!$D$477:$D$484)+'Product Class Dist'!I$32*SUMPRODUCT('Efficiency Dist'!M789:M798,'UEC Development'!$D$496:$D$505)+'Product Class Dist'!I$33*SUMPRODUCT('Efficiency Dist'!M824:M833,'UEC Development'!$D$519:$D$528)+'Product Class Dist'!I$34*SUMPRODUCT('Efficiency Dist'!M859:M868,'UEC Development'!$D$542:$D$551)","v":5722.5521561297064},{"$f":"'Product Class Dist'!J$10*SUMPRODUCT('Efficiency Dist'!N27:N36,'UEC Development'!$D$14:$D$23)+'Product Class Dist'!J$11*SUMPRODUCT('Efficiency Dist'!N62:N71,'UEC Development'!$D$37:$D$46)+'Product Class Dist'!J$12*SUMPRODUCT('Efficiency Dist'!N97:N106,'UEC Development'!$D$60:$D$69)+'Product Class Dist'!J$13*SUMPRODUCT('Efficiency Dist'!N132:N141,'UEC Development'!$D$83:$D$92)+'Product Class Dist'!J$14*SUMPRODUCT('Efficiency Dist'!N167:N176,'UEC Development'!$D$106:$D$115)+'Product Class Dist'!J$15*SUMPRODUCT('Efficiency Dist'!N202:N211,'UEC Development'!$D$129:$D$138)+'Product Class Dist'!J$16*SUMPRODUCT('Efficiency Dist'!N237:N246,'UEC Development'!$D$152:$D$161)+'Product Class Dist'!J$17*SUMPRODUCT('Efficiency Dist'!N272:N281,'UEC Development'!$D$175:$D$184)+'Product Class Dist'!J$18*SUMPRODUCT('Efficiency Dist'!N307:N316,'UEC Development'!$D$198:$D$207)+'Product Class Dist'!J$19*SUMPRODUCT('Efficiency Dist'!N342:N351,'UEC Development'!$D$221:$D$230)+'Product Class Dist'!J$20*SUMPRODUCT('Efficiency Dist'!N377:N386,'UEC Development'!$D$244:$D$253)+'Product Class Dist'!J$21*SUMPRODUCT('Efficiency Dist'!N412:N421,'UEC Development'!$D$267:$D$276)+'Product Class Dist'!J$22*SUMPRODUCT('Efficiency Dist'!N447:N456,'UEC Development'!$D$290:$D$299)+'Product Class Dist'!J$23*SUMPRODUCT('Efficiency Dist'!N482:N491,'UEC Development'!$D$311:$D$320)+'Product Class Dist'!J$24*SUMPRODUCT('Efficiency Dist'!N517:N526,'UEC Development'!$D$332:$D$341)+'Product Class Dist'!J$25*SUMPRODUCT('Efficiency Dist'!N552:N561,'UEC Development'!$D$353:$D$362)+'Product Class Dist'!J$26*SUMPRODUCT('Efficiency Dist'!N587:N596,'UEC Development'!$D$374:$D$383)+'Product Class Dist'!J$27*SUMPRODUCT('Efficiency Dist'!N622:N631,'UEC Development'!$D$395:$D$404)+'Product Class Dist'!J$28*SUMPRODUCT('Efficiency Dist'!N657:N666,'UEC Development'!$D$416:$D$425)+'Product Class Dist'!J$29*SUMPRODUCT('Efficiency Dist'!N692:N701,'UEC Development'!$D$437:$D$446)+'Product Class Dist'!J$30*SUMPRODUCT('Efficiency Dist'!N725:N732,'UEC Development'!$D$458:$D$465)+'Product Class Dist'!J$31*SUMPRODUCT('Efficiency Dist'!N756:N763,'UEC Development'!$D$477:$D$484)+'Product Class Dist'!J$32*SUMPRODUCT('Efficiency Dist'!N789:N798,'UEC Development'!$D$496:$D$505)+'Product Class Dist'!J$33*SUMPRODUCT('Efficiency Dist'!N824:N833,'UEC Development'!$D$519:$D$528)+'Product Class Dist'!J$34*SUMPRODUCT('Efficiency Dist'!N859:N868,'UEC Development'!$D$542:$D$551)","v":5722.5521561297064},{"$f":"'Product Class Dist'!K$10*SUMPRODUCT('Efficiency Dist'!O27:O36,'UEC Development'!$D$14:$D$23)+'Product Class Dist'!K$11*SUMPRODUCT('Efficiency Dist'!O62:O71,'UEC Development'!$D$37:$D$46)+'Product Class Dist'!K$12*SUMPRODUCT('Efficiency Dist'!O97:O106,'UEC Development'!$D$60:$D$69)+'Product Class Dist'!K$13*SUMPRODUCT('Efficiency Dist'!O132:O141,'UEC Development'!$D$83:$D$92)+'Product Class Dist'!K$14*SUMPRODUCT('Efficiency Dist'!O167:O176,'UEC Development'!$D$106:$D$115)+'Product Class Dist'!K$15*SUMPRODUCT('Efficiency Dist'!O202:O211,'UEC Development'!$D$129:$D$138)+'Product Class Dist'!K$16*SUMPRODUCT('Efficiency Dist'!O237:O246,'UEC Development'!$D$152:$D$161)+'Product Class Dist'!K$17*SUMPRODUCT('Efficiency Dist'!O272:O281,'UEC Development'!$D$175:$D$184)+'Product Class Dist'!K$18*SUMPRODUCT('Efficiency Dist'!O307:O316,'UEC Development'!$D$198:$D$207)+'Product Class Dist'!K$19*SUMPRODUCT('Efficiency Dist'!O342:O351,'UEC Development'!$D$221:$D$230)+'Product Class Dist'!K$20*SUMPRODUCT('Efficiency Dist'!O377:O386,'UEC Development'!$D$244:$D$253)+'Product Class Dist'!K$21*SUMPRODUCT('Efficiency Dist'!O412:O421,'UEC Development'!$D$267:$D$276)+'Product Class Dist'!K$22*SUMPRODUCT('Efficiency Dist'!O447:O456,'UEC Development'!$D$290:$D$299)+'Product Class Dist'!K$23*SUMPRODUCT('Efficiency Dist'!O482:O491,'UEC Development'!$D$311:$D$320)+'Product Class Dist'!K$24*SUMPRODUCT('Efficiency Dist'!O517:O526,'UEC Development'!$D$332:$D$341)+'Product Class Dist'!K$25*SUMPRODUCT('Efficiency Dist'!O552:O561,'UEC Development'!$D$353:$D$362)+'Product Class Dist'!K$26*SUMPRODUCT('Efficiency Dist'!O587:O596,'UEC Development'!$D$374:$D$383)+'Product Class Dist'!K$27*SUMPRODUCT('Efficiency Dist'!O622:O631,'UEC Development'!$D$395:$D$404)+'Product Class Dist'!K$28*SUMPRODUCT('Efficiency Dist'!O657:O666,'UEC Development'!$D$416:$D$425)+'Product Class Dist'!K$29*SUMPRODUCT('Efficiency Dist'!O692:O701,'UEC Development'!$D$437:$D$446)+'Product Class Dist'!K$30*SUMPRODUCT('Efficiency Dist'!O725:O732,'UEC Development'!$D$458:$D$465)+'Product Class Dist'!K$31*SUMPRODUCT('Efficiency Dist'!O756:O763,'UEC Development'!$D$477:$D$484)+'Product Class Dist'!K$32*SUMPRODUCT('Efficiency Dist'!O789:O798,'UEC Development'!$D$496:$D$505)+'Product Class Dist'!K$33*SUMPRODUCT('Efficiency Dist'!O824:O833,'UEC Development'!$D$519:$D$528)+'Product Class Dist'!K$34*SUMPRODUCT('Efficiency Dist'!O859:O868,'UEC Development'!$D$542:$D$551)","v":5722.5521561297064},{"$f":"'Product Class Dist'!L$10*SUMPRODUCT('Efficiency Dist'!P27:P36,'UEC Development'!$D$14:$D$23)+'Product Class Dist'!L$11*SUMPRODUCT('Efficiency Dist'!P62:P71,'UEC Development'!$D$37:$D$46)+'Product Class Dist'!L$12*SUMPRODUCT('Efficiency Dist'!P97:P106,'UEC Development'!$D$60:$D$69)+'Product Class Dist'!L$13*SUMPRODUCT('Efficiency Dist'!P132:P141,'UEC Development'!$D$83:$D$92)+'Product Class Dist'!L$14*SUMPRODUCT('Efficiency Dist'!P167:P176,'UEC Development'!$D$106:$D$115)+'Product Class Dist'!L$15*SUMPRODUCT('Efficiency Dist'!P202:P211,'UEC Development'!$D$129:$D$138)+'Product Class Dist'!L$16*SUMPRODUCT('Efficiency Dist'!P237:P246,'UEC Development'!$D$152:$D$161)+'Product Class Dist'!L$17*SUMPRODUCT('Efficiency Dist'!P272:P281,'UEC Development'!$D$175:$D$184)+'Product Class Dist'!L$18*SUMPRODUCT('Efficiency Dist'!P307:P316,'UEC Development'!$D$198:$D$207)+'Product Class Dist'!L$19*SUMPRODUCT('Efficiency Dist'!P342:P351,'UEC Development'!$D$221:$D$230)+'Product Class Dist'!L$20*SUMPRODUCT('Efficiency Dist'!P377:P386,'UEC Development'!$D$244:$D$253)+'Product Class Dist'!L$21*SUMPRODUCT('Efficiency Dist'!P412:P421,'UEC Development'!$D$267:$D$276)+'Product Class Dist'!L$22*SUMPRODUCT('Efficiency Dist'!P447:P456,'UEC Development'!$D$290:$D$299)+'Product Class Dist'!L$23*SUMPRODUCT('Efficiency Dist'!P482:P491,'UEC Development'!$D$311:$D$320)+'Product Class Dist'!L$24*SUMPRODUCT('Efficiency Dist'!P517:P526,'UEC Development'!$D$332:$D$341)+'Product Class Dist'!L$25*SUMPRODUCT('Efficiency Dist'!P552:P561,'UEC Development'!$D$353:$D$362)+'Product Class Dist'!L$26*SUMPRODUCT('Efficiency Dist'!P587:P596,'UEC Development'!$D$374:$D$383)+'Product Class Dist'!L$27*SUMPRODUCT('Efficiency Dist'!P622:P631,'UEC Development'!$D$395:$D$404)+'Product Class Dist'!L$28*SUMPRODUCT('Efficiency Dist'!P657:P666,'UEC Development'!$D$416:$D$425)+'Product Class Dist'!L$29*SUMPRODUCT('Efficiency Dist'!P692:P701,'UEC Development'!$D$437:$D$446)+'Product Class Dist'!L$30*SUMPRODUCT('Efficiency Dist'!P725:P732,'UEC Development'!$D$458:$D$465)+'Product Class Dist'!L$31*SUMPRODUCT('Efficiency Dist'!P756:P763,'UEC Development'!$D$477:$D$484)+'Product Class Dist'!L$32*SUMPRODUCT('Efficiency Dist'!P789:P798,'UEC Development'!$D$496:$D$505)+'Product Class Dist'!L$33*SUMPRODUCT('Efficiency Dist'!P824:P833,'UEC Development'!$D$519:$D$528)+'Product Class Dist'!L$34*SUMPRODUCT('Efficiency Dist'!P859:P868,'UEC Development'!$D$542:$D$551)","v":5722.5521561297064},{"$f":"'Product Class Dist'!M$10*SUMPRODUCT('Efficiency Dist'!Q27:Q36,'UEC Development'!$D$14:$D$23)+'Product Class Dist'!M$11*SUMPRODUCT('Efficiency Dist'!Q62:Q71,'UEC Development'!$D$37:$D$46)+'Product Class Dist'!M$12*SUMPRODUCT('Efficiency Dist'!Q97:Q106,'UEC Development'!$D$60:$D$69)+'Product Class Dist'!M$13*SUMPRODUCT('Efficiency Dist'!Q132:Q141,'UEC Development'!$D$83:$D$92)+'Product Class Dist'!M$14*SUMPRODUCT('Efficiency Dist'!Q167:Q176,'UEC Development'!$D$106:$D$115)+'Product Class Dist'!M$15*SUMPRODUCT('Efficiency Dist'!Q202:Q211,'UEC Development'!$D$129:$D$138)+'Product Class Dist'!M$16*SUMPRODUCT('Efficiency Dist'!Q237:Q246,'UEC Development'!$D$152:$D$161)+'Product Class Dist'!M$17*SUMPRODUCT('Efficiency Dist'!Q272:Q281,'UEC Development'!$D$175:$D$184)+'Product Class Dist'!M$18*SUMPRODUCT('Efficiency Dist'!Q307:Q316,'UEC Development'!$D$198:$D$207)+'Product Class Dist'!M$19*SUMPRODUCT('Efficiency Dist'!Q342:Q351,'UEC Development'!$D$221:$D$230)+'Product Class Dist'!M$20*SUMPRODUCT('Efficiency Dist'!Q377:Q386,'UEC Development'!$D$244:$D$253)+'Product Class Dist'!M$21*SUMPRODUCT('Efficiency Dist'!Q412:Q421,'UEC Development'!$D$267:$D$276)+'Product Class Dist'!M$22*SUMPRODUCT('Efficiency Dist'!Q447:Q456,'UEC Development'!$D$290:$D$299)+'Product Class Dist'!M$23*SUMPRODUCT('Efficiency Dist'!Q482:Q491,'UEC Development'!$D$311:$D$320)+'Product Class Dist'!M$24*SUMPRODUCT('Efficiency Dist'!Q517:Q526,'UEC Development'!$D$332:$D$341)+'Product Class Dist'!M$25*SUMPRODUCT('Efficiency Dist'!Q552:Q561,'UEC Development'!$D$353:$D$362)+'Product Class Dist'!M$26*SUMPRODUCT('Efficiency Dist'!Q587:Q596,'UEC Development'!$D$374:$D$383)+'Product Class Dist'!M$27*SUMPRODUCT('Efficiency Dist'!Q622:Q631,'UEC Development'!$D$395:$D$404)+'Product Class Dist'!M$28*SUMPRODUCT('Efficiency Dist'!Q657:Q666,'UEC Development'!$D$416:$D$425)+'Product Class Dist'!M$29*SUMPRODUCT('Efficiency Dist'!Q692:Q701,'UEC Development'!$D$437:$D$446)+'Product Class Dist'!M$30*SUMPRODUCT('Efficiency Dist'!Q725:Q732,'UEC Development'!$D$458:$D$465)+'Product Class Dist'!M$31*SUMPRODUCT('Efficiency Dist'!Q756:Q763,'UEC Development'!$D$477:$D$484)+'Product Class Dist'!M$32*SUMPRODUCT('Efficiency Dist'!Q789:Q798,'UEC Development'!$D$496:$D$505)+'Product Class Dist'!M$33*SUMPRODUCT('Efficiency Dist'!Q824:Q833,'UEC Development'!$D$519:$D$528)+'Product Class Dist'!M$34*SUMPRODUCT('Efficiency Dist'!Q859:Q868,'UEC Development'!$D$542:$D$551)","v":5722.5521561297064},{"$f":"'Product Class Dist'!N$10*SUMPRODUCT('Efficiency Dist'!R27:R36,'UEC Development'!$D$14:$D$23)+'Product Class Dist'!N$11*SUMPRODUCT('Efficiency Dist'!R62:R71,'UEC Development'!$D$37:$D$46)+'Product Class Dist'!N$12*SUMPRODUCT('Efficiency Dist'!R97:R106,'UEC Development'!$D$60:$D$69)+'Product Class Dist'!N$13*SUMPRODUCT('Efficiency Dist'!R132:R141,'UEC Development'!$D$83:$D$92)+'Product Class Dist'!N$14*SUMPRODUCT('Efficiency Dist'!R167:R176,'UEC Development'!$D$106:$D$115)+'Product Class Dist'!N$15*SUMPRODUCT('Efficiency Dist'!R202:R211,'UEC Development'!$D$129:$D$138)+'Product Class Dist'!N$16*SUMPRODUCT('Efficiency Dist'!R237:R246,'UEC Development'!$D$152:$D$161)+'Product Class Dist'!N$17*SUMPRODUCT('Efficiency Dist'!R272:R281,'UEC Development'!$D$175:$D$184)+'Product Class Dist'!N$18*SUMPRODUCT('Efficiency Dist'!R307:R316,'UEC Development'!$D$198:$D$207)+'Product Class Dist'!N$19*SUMPRODUCT('Efficiency Dist'!R342:R351,'UEC Development'!$D$221:$D$230)+'Product Class Dist'!N$20*SUMPRODUCT('Efficiency Dist'!R377:R386,'UEC Development'!$D$244:$D$253)+'Product Class Dist'!N$21*SUMPRODUCT('Efficiency Dist'!R412:R421,'UEC Development'!$D$267:$D$276)+'Product Class Dist'!N$22*SUMPRODUCT('Efficiency Dist'!R447:R456,'UEC Development'!$D$290:$D$299)+'Product Class Dist'!N$23*SUMPRODUCT('Efficiency Dist'!R482:R491,'UEC Development'!$D$311:$D$320)+'Product Class Dist'!N$24*SUMPRODUCT('Efficiency Dist'!R517:R526,'UEC Development'!$D$332:$D$341)+'Product Class Dist'!N$25*SUMPRODUCT('Efficiency Dist'!R552:R561,'UEC Development'!$D$353:$D$362)+'Product Class Dist'!N$26*SUMPRODUCT('Efficiency Dist'!R587:R596,'UEC Development'!$D$374:$D$383)+'Product Class Dist'!N$27*SUMPRODUCT('Efficiency Dist'!R622:R631,'UEC Development'!$D$395:$D$404)+'Product Class Dist'!N$28*SUMPRODUCT('Efficiency Dist'!R657:R666,'UEC Development'!$D$416:$D$425)+'Product Class Dist'!N$29*SUMPRODUCT('Efficiency Dist'!R692:R701,'UEC Development'!$D$437:$D$446)+'Product Class Dist'!N$30*SUMPRODUCT('Efficiency Dist'!R725:R732,'UEC Development'!$D$458:$D$465)+'Product Class Dist'!N$31*SUMPRODUCT('Efficiency Dist'!R756:R763,'UEC Development'!$D$477:$D$484)+'Product Class Dist'!N$32*SUMPRODUCT('Efficiency Dist'!R789:R798,'UEC Development'!$D$496:$D$505)+'Product Class Dist'!N$33*SUMPRODUCT('Efficiency Dist'!R824:R833,'UEC Development'!$D$519:$D$528)+'Product Class Dist'!N$34*SUMPRODUCT('Efficiency Dist'!R859:R868,'UEC Development'!$D$542:$D$551)","v":5722.5521561297064},{"$f":"'Product Class Dist'!O$10*SUMPRODUCT('Efficiency Dist'!S27:S36,'UEC Development'!$D$14:$D$23)+'Product Class Dist'!O$11*SUMPRODUCT('Efficiency Dist'!S62:S71,'UEC Development'!$D$37:$D$46)+'Product Class Dist'!O$12*SUMPRODUCT('Efficiency Dist'!S97:S106,'UEC Development'!$D$60:$D$69)+'Product Class Dist'!O$13*SUMPRODUCT('Efficiency Dist'!S132:S141,'UEC Development'!$D$83:$D$92)+'Product Class Dist'!O$14*SUMPRODUCT('Efficiency Dist'!S167:S176,'UEC Development'!$D$106:$D$115)+'Product Class Dist'!O$15*SUMPRODUCT('Efficiency Dist'!S202:S211,'UEC Development'!$D$129:$D$138)+'Product Class Dist'!O$16*SUMPRODUCT('Efficiency Dist'!S237:S246,'UEC Development'!$D$152:$D$161)+'Product Class Dist'!O$17*SUMPRODUCT('Efficiency Dist'!S272:S281,'UEC Development'!$D$175:$D$184)+'Product Class Dist'!O$18*SUMPRODUCT('Efficiency Dist'!S307:S316,'UEC Development'!$D$198:$D$207)+'Product Class Dist'!O$19*SUMPRODUCT('Efficiency Dist'!S342:S351,'UEC Development'!$D$221:$D$230)+'Product Class Dist'!O$20*SUMPRODUCT('Efficiency Dist'!S377:S386,'UEC Development'!$D$244:$D$253)+'Product Class Dist'!O$21*SUMPRODUCT('Efficiency Dist'!S412:S421,'UEC Development'!$D$267:$D$276)+'Product Class Dist'!O$22*SUMPRODUCT('Efficiency Dist'!S447:S456,'UEC Development'!$D$290:$D$299)+'Product Class Dist'!O$23*SUMPRODUCT('Efficiency Dist'!S482:S491,'UEC Development'!$D$311:$D$320)+'Product Class Dist'!O$24*SUMPRODUCT('Efficiency Dist'!S517:S526,'UEC Development'!$D$332:$D$341)+'Product Class Dist'!O$25*SUMPRODUCT('Efficiency Dist'!S552:S561,'UEC Development'!$D$353:$D$362)+'Product Class Dist'!O$26*SUMPRODUCT('Efficiency Dist'!S587:S596,'UEC Development'!$D$374:$D$383)+'Product Class Dist'!O$27*SUMPRODUCT('Efficiency Dist'!S622:S631,'UEC Development'!$D$395:$D$404)+'Product Class Dist'!O$28*SUMPRODUCT('Efficiency Dist'!S657:S666,'UEC Development'!$D$416:$D$425)+'Product Class Dist'!O$29*SUMPRODUCT('Efficiency Dist'!S692:S701,'UEC Development'!$D$437:$D$446)+'Product Class Dist'!O$30*SUMPRODUCT('Efficiency Dist'!S725:S732,'UEC Development'!$D$458:$D$465)+'Product Class Dist'!O$31*SUMPRODUCT('Efficiency Dist'!S756:S763,'UEC Development'!$D$477:$D$484)+'Product Class Dist'!O$32*SUMPRODUCT('Efficiency Dist'!S789:S798,'UEC Development'!$D$496:$D$505)+'Product Class Dist'!O$33*SUMPRODUCT('Efficiency Dist'!S824:S833,'UEC Development'!$D$519:$D$528)+'Product Class Dist'!O$34*SUMPRODUCT('Efficiency Dist'!S859:S868,'UEC Development'!$D$542:$D$551)","v":5722.5521561297064},{"$f":"'Product Class Dist'!P$10*SUMPRODUCT('Efficiency Dist'!T27:T36,'UEC Development'!$D$14:$D$23)+'Product Class Dist'!P$11*SUMPRODUCT('Efficiency Dist'!T62:T71,'UEC Development'!$D$37:$D$46)+'Product Class Dist'!P$12*SUMPRODUCT('Efficiency Dist'!T97:T106,'UEC Development'!$D$60:$D$69)+'Product Class Dist'!P$13*SUMPRODUCT('Efficiency Dist'!T132:T141,'UEC Development'!$D$83:$D$92)+'Product Class Dist'!P$14*SUMPRODUCT('Efficiency Dist'!T167:T176,'UEC Development'!$D$106:$D$115)+'Product Class Dist'!P$15*SUMPRODUCT('Efficiency Dist'!T202:T211,'UEC Development'!$D$129:$D$138)+'Product Class Dist'!P$16*SUMPRODUCT('Efficiency Dist'!T237:T246,'UEC Development'!$D$152:$D$161)+'Product Class Dist'!P$17*SUMPRODUCT('Efficiency Dist'!T272:T281,'UEC Development'!$D$175:$D$184)+'Product Class Dist'!P$18*SUMPRODUCT('Efficiency Dist'!T307:T316,'UEC Development'!$D$198:$D$207)+'Product Class Dist'!P$19*SUMPRODUCT('Efficiency Dist'!T342:T351,'UEC Development'!$D$221:$D$230)+'Product Class Dist'!P$20*SUMPRODUCT('Efficiency Dist'!T377:T386,'UEC Development'!$D$244:$D$253)+'Product Class Dist'!P$21*SUMPRODUCT('Efficiency Dist'!T412:T421,'UEC Development'!$D$267:$D$276)+'Product Class Dist'!P$22*SUMPRODUCT('Efficiency Dist'!T447:T456,'UEC Development'!$D$290:$D$299)+'Product Class Dist'!P$23*SUMPRODUCT('Efficiency Dist'!T482:T491,'UEC Development'!$D$311:$D$320)+'Product Class Dist'!P$24*SUMPRODUCT('Efficiency Dist'!T517:T526,'UEC Development'!$D$332:$D$341)+'Product Class Dist'!P$25*SUMPRODUCT('Efficiency Dist'!T552:T561,'UEC Development'!$D$353:$D$362)+'Product Class Dist'!P$26*SUMPRODUCT('Efficiency Dist'!T587:T596,'UEC Development'!$D$374:$D$383)+'Product Class Dist'!P$27*SUMPRODUCT('Efficiency Dist'!T622:T631,'UEC Development'!$D$395:$D$404)+'Product Class Dist'!P$28*SUMPRODUCT('Efficiency Dist'!T657:T666,'UEC Development'!$D$416:$D$425)+'Product Class Dist'!P$29*SUMPRODUCT('Efficiency Dist'!T692:T701,'UEC Development'!$D$437:$D$446)+'Product Class Dist'!P$30*SUMPRODUCT('Efficiency Dist'!T725:T732,'UEC Development'!$D$458:$D$465)+'Product Class Dist'!P$31*SUMPRODUCT('Efficiency Dist'!T756:T763,'UEC Development'!$D$477:$D$484)+'Product Class Dist'!P$32*SUMPRODUCT('Efficiency Dist'!T789:T798,'UEC Development'!$D$496:$D$505)+'Product Class Dist'!P$33*SUMPRODUCT('Efficiency Dist'!T824:T833,'UEC Development'!$D$519:$D$528)+'Product Class Dist'!P$34*SUMPRODUCT('Efficiency Dist'!T859:T868,'UEC Development'!$D$542:$D$551)","v":5722.5521561297064},{"$f":"'Product Class Dist'!Q$10*SUMPRODUCT('Efficiency Dist'!U27:U36,'UEC Development'!$D$14:$D$23)+'Product Class Dist'!Q$11*SUMPRODUCT('Efficiency Dist'!U62:U71,'UEC Development'!$D$37:$D$46)+'Product Class Dist'!Q$12*SUMPRODUCT('Efficiency Dist'!U97:U106,'UEC Development'!$D$60:$D$69)+'Product Class Dist'!Q$13*SUMPRODUCT('Efficiency Dist'!U132:U141,'UEC Development'!$D$83:$D$92)+'Product Class Dist'!Q$14*SUMPRODUCT('Efficiency Dist'!U167:U176,'UEC Development'!$D$106:$D$115)+'Product Class Dist'!Q$15*SUMPRODUCT('Efficiency Dist'!U202:U211,'UEC Development'!$D$129:$D$138)+'Product Class Dist'!Q$16*SUMPRODUCT('Efficiency Dist'!U237:U246,'UEC Development'!$D$152:$D$161)+'Product Class Dist'!Q$17*SUMPRODUCT('Efficiency Dist'!U272:U281,'UEC Development'!$D$175:$D$184)+'Product Class Dist'!Q$18*SUMPRODUCT('Efficiency Dist'!U307:U316,'UEC Development'!$D$198:$D$207)+'Product Class Dist'!Q$19*SUMPRODUCT('Efficiency Dist'!U342:U351,'UEC Development'!$D$221:$D$230)+'Product Class Dist'!Q$20*SUMPRODUCT('Efficiency Dist'!U377:U386,'UEC Development'!$D$244:$D$253)+'Product Class Dist'!Q$21*SUMPRODUCT('Efficiency Dist'!U412:U421,'UEC Development'!$D$267:$D$276)+'Product Class Dist'!Q$22*SUMPRODUCT('Efficiency Dist'!U447:U456,'UEC Development'!$D$290:$D$299)+'Product Class Dist'!Q$23*SUMPRODUCT('Efficiency Dist'!U482:U491,'UEC Development'!$D$311:$D$320)+'Product Class Dist'!Q$24*SUMPRODUCT('Efficiency Dist'!U517:U526,'UEC Development'!$D$332:$D$341)+'Product Class Dist'!Q$25*SUMPRODUCT('Efficiency Dist'!U552:U561,'UEC Development'!$D$353:$D$362)+'Product Class Dist'!Q$26*SUMPRODUCT('Efficiency Dist'!U587:U596,'UEC Development'!$D$374:$D$383)+'Product Class Dist'!Q$27*SUMPRODUCT('Efficiency Dist'!U622:U631,'UEC Development'!$D$395:$D$404)+'Product Class Dist'!Q$28*SUMPRODUCT('Efficiency Dist'!U657:U666,'UEC Development'!$D$416:$D$425)+'Product Class Dist'!Q$29*SUMPRODUCT('Efficiency Dist'!U692:U701,'UEC Development'!$D$437:$D$446)+'Product Class Dist'!Q$30*SUMPRODUCT('Efficiency Dist'!U725:U732,'UEC Development'!$D$458:$D$465)+'Product Class Dist'!Q$31*SUMPRODUCT('Efficiency Dist'!U756:U763,'UEC Development'!$D$477:$D$484)+'Product Class Dist'!Q$32*SUMPRODUCT('Efficiency Dist'!U789:U798,'UEC Development'!$D$496:$D$505)+'Product Class Dist'!Q$33*SUMPRODUCT('Efficiency Dist'!U824:U833,'UEC Development'!$D$519:$D$528)+'Product Class Dist'!Q$34*SUMPRODUCT('Efficiency Dist'!U859:U868,'UEC Development'!$D$542:$D$551)","v":5722.5521561297064},{"$f":"'Product Class Dist'!R$10*SUMPRODUCT('Efficiency Dist'!V27:V36,'UEC Development'!$D$14:$D$23)+'Product Class Dist'!R$11*SUMPRODUCT('Efficiency Dist'!V62:V71,'UEC Development'!$D$37:$D$46)+'Product Class Dist'!R$12*SUMPRODUCT('Efficiency Dist'!V97:V106,'UEC Development'!$D$60:$D$69)+'Product Class Dist'!R$13*SUMPRODUCT('Efficiency Dist'!V132:V141,'UEC Development'!$D$83:$D$92)+'Product Class Dist'!R$14*SUMPRODUCT('Efficiency Dist'!V167:V176,'UEC Development'!$D$106:$D$115)+'Product Class Dist'!R$15*SUMPRODUCT('Efficiency Dist'!V202:V211,'UEC Development'!$D$129:$D$138)+'Product Class Dist'!R$16*SUMPRODUCT('Efficiency Dist'!V237:V246,'UEC Development'!$D$152:$D$161)+'Product Class Dist'!R$17*SUMPRODUCT('Efficiency Dist'!V272:V281,'UEC Development'!$D$175:$D$184)+'Product Class Dist'!R$18*SUMPRODUCT('Efficiency Dist'!V307:V316,'UEC Development'!$D$198:$D$207)+'Product Class Dist'!R$19*SUMPRODUCT('Efficiency Dist'!V342:V351,'UEC Development'!$D$221:$D$230)+'Product Class Dist'!R$20*SUMPRODUCT('Efficiency Dist'!V377:V386,'UEC Development'!$D$244:$D$253)+'Product Class Dist'!R$21*SUMPRODUCT('Efficiency Dist'!V412:V421,'UEC Development'!$D$267:$D$276)+'Product Class Dist'!R$22*SUMPRODUCT('Efficiency Dist'!V447:V456,'UEC Development'!$D$290:$D$299)+'Product Class Dist'!R$23*SUMPRODUCT('Efficiency Dist'!V482:V491,'UEC Development'!$D$311:$D$320)+'Product Class Dist'!R$24*SUMPRODUCT('Efficiency Dist'!V517:V526,'UEC Development'!$D$332:$D$341)+'Product Class Dist'!R$25*SUMPRODUCT('Efficiency Dist'!V552:V561,'UEC Development'!$D$353:$D$362)+'Product Class Dist'!R$26*SUMPRODUCT('Efficiency Dist'!V587:V596,'UEC Development'!$D$374:$D$383)+'Product Class Dist'!R$27*SUMPRODUCT('Efficiency Dist'!V622:V631,'UEC Development'!$D$395:$D$404)+'Product Class Dist'!R$28*SUMPRODUCT('Efficiency Dist'!V657:V666,'UEC Development'!$D$416:$D$425)+'Product Class Dist'!R$29*SUMPRODUCT('Efficiency Dist'!V692:V701,'UEC Development'!$D$437:$D$446)+'Product Class Dist'!R$30*SUMPRODUCT('Efficiency Dist'!V725:V732,'UEC Development'!$D$458:$D$465)+'Product Class Dist'!R$31*SUMPRODUCT('Efficiency Dist'!V756:V763,'UEC Development'!$D$477:$D$484)+'Product Class Dist'!R$32*SUMPRODUCT('Efficiency Dist'!V789:V798,'UEC Development'!$D$496:$D$505)+'Product Class Dist'!R$33*SUMPRODUCT('Efficiency Dist'!V824:V833,'UEC Development'!$D$519:$D$528)+'Product Class Dist'!R$34*SUMPRODUCT('Efficiency Dist'!V859:V868,'UEC Development'!$D$542:$D$551)","v":5722.5521561297064},{"$f":"'Product Class Dist'!S$10*SUMPRODUCT('Efficiency Dist'!W27:W36,'UEC Development'!$D$14:$D$23)+'Product Class Dist'!S$11*SUMPRODUCT('Efficiency Dist'!W62:W71,'UEC Development'!$D$37:$D$46)+'Product Class Dist'!S$12*SUMPRODUCT('Efficiency Dist'!W97:W106,'UEC Development'!$D$60:$D$69)+'Product Class Dist'!S$13*SUMPRODUCT('Efficiency Dist'!W132:W141,'UEC Development'!$D$83:$D$92)+'Product Class Dist'!S$14*SUMPRODUCT('Efficiency Dist'!W167:W176,'UEC Development'!$D$106:$D$115)+'Product Class Dist'!S$15*SUMPRODUCT('Efficiency Dist'!W202:W211,'UEC Development'!$D$129:$D$138)+'Product Class Dist'!S$16*SUMPRODUCT('Efficiency Dist'!W237:W246,'UEC Development'!$D$152:$D$161)+'Product Class Dist'!S$17*SUMPRODUCT('Efficiency Dist'!W272:W281,'UEC Development'!$D$175:$D$184)+'Product Class Dist'!S$18*SUMPRODUCT('Efficiency Dist'!W307:W316,'UEC Development'!$D$198:$D$207)+'Product Class Dist'!S$19*SUMPRODUCT('Efficiency Dist'!W342:W351,'UEC Development'!$D$221:$D$230)+'Product Class Dist'!S$20*SUMPRODUCT('Efficiency Dist'!W377:W386,'UEC Development'!$D$244:$D$253)+'Product Class Dist'!S$21*SUMPRODUCT('Efficiency Dist'!W412:W421,'UEC Development'!$D$267:$D$276)+'Product Class Dist'!S$22*SUMPRODUCT('Efficiency Dist'!W447:W456,'UEC Development'!$D$290:$D$299)+'Product Class Dist'!S$23*SUMPRODUCT('Efficiency Dist'!W482:W491,'UEC Development'!$D$311:$D$320)+'Product Class Dist'!S$24*SUMPRODUCT('Efficiency Dist'!W517:W526,'UEC Development'!$D$332:$D$341)+'Product Class Dist'!S$25*SUMPRODUCT('Efficiency Dist'!W552:W561,'UEC Development'!$D$353:$D$362)+'Product Class Dist'!S$26*SUMPRODUCT('Efficiency Dist'!W587:W596,'UEC Development'!$D$374:$D$383)+'Product Class Dist'!S$27*SUMPRODUCT('Efficiency Dist'!W622:W631,'UEC Development'!$D$395:$D$404)+'Product Class Dist'!S$28*SUMPRODUCT('Efficiency Dist'!W657:W666,'UEC Development'!$D$416:$D$425)+'Product Class Dist'!S$29*SUMPRODUCT('Efficiency Dist'!W692:W701,'UEC Development'!$D$437:$D$446)+'Product Class Dist'!S$30*SUMPRODUCT('Efficiency Dist'!W725:W732,'UEC Development'!$D$458:$D$465)+'Product Class Dist'!S$31*SUMPRODUCT('Efficiency Dist'!W756:W763,'UEC Development'!$D$477:$D$484)+'Product Class Dist'!S$32*SUMPRODUCT('Efficiency Dist'!W789:W798,'UEC Development'!$D$496:$D$505)+'Product Class Dist'!S$33*SUMPRODUCT('Efficiency Dist'!W824:W833,'UEC Development'!$D$519:$D$528)+'Product Class Dist'!S$34*SUMPRODUCT('Efficiency Dist'!W859:W868,'UEC Development'!$D$542:$D$551)","v":5722.5521561297064},{"$f":"'Product Class Dist'!T$10*SUMPRODUCT('Efficiency Dist'!X27:X36,'UEC Development'!$D$14:$D$23)+'Product Class Dist'!T$11*SUMPRODUCT('Efficiency Dist'!X62:X71,'UEC Development'!$D$37:$D$46)+'Product Class Dist'!T$12*SUMPRODUCT('Efficiency Dist'!X97:X106,'UEC Development'!$D$60:$D$69)+'Product Class Dist'!T$13*SUMPRODUCT('Efficiency Dist'!X132:X141,'UEC Development'!$D$83:$D$92)+'Product Class Dist'!T$14*SUMPRODUCT('Efficiency Dist'!X167:X176,'UEC Development'!$D$106:$D$115)+'Product Class Dist'!T$15*SUMPRODUCT('Efficiency Dist'!X202:X211,'UEC Development'!$D$129:$D$138)+'Product Class Dist'!T$16*SUMPRODUCT('Efficiency Dist'!X237:X246,'UEC Development'!$D$152:$D$161)+'Product Class Dist'!T$17*SUMPRODUCT('Efficiency Dist'!X272:X281,'UEC Development'!$D$175:$D$184)+'Product Class Dist'!T$18*SUMPRODUCT('Efficiency Dist'!X307:X316,'UEC Development'!$D$198:$D$207)+'Product Class Dist'!T$19*SUMPRODUCT('Efficiency Dist'!X342:X351,'UEC Development'!$D$221:$D$230)+'Product Class Dist'!T$20*SUMPRODUCT('Efficiency Dist'!X377:X386,'UEC Development'!$D$244:$D$253)+'Product Class Dist'!T$21*SUMPRODUCT('Efficiency Dist'!X412:X421,'UEC Development'!$D$267:$D$276)+'Product Class Dist'!T$22*SUMPRODUCT('Efficiency Dist'!X447:X456,'UEC Development'!$D$290:$D$299)+'Product Class Dist'!T$23*SUMPRODUCT('Efficiency Dist'!X482:X491,'UEC Development'!$D$311:$D$320)+'Product Class Dist'!T$24*SUMPRODUCT('Efficiency Dist'!X517:X526,'UEC Development'!$D$332:$D$341)+'Product Class Dist'!T$25*SUMPRODUCT('Efficiency Dist'!X552:X561,'UEC Development'!$D$353:$D$362)+'Product Class Dist'!T$26*SUMPRODUCT('Efficiency Dist'!X587:X596,'UEC Development'!$D$374:$D$383)+'Product Class Dist'!T$27*SUMPRODUCT('Efficiency Dist'!X622:X631,'UEC Development'!$D$395:$D$404)+'Product Class Dist'!T$28*SUMPRODUCT('Efficiency Dist'!X657:X666,'UEC Development'!$D$416:$D$425)+'Product Class Dist'!T$29*SUMPRODUCT('Efficiency Dist'!X692:X701,'UEC Development'!$D$437:$D$446)+'Product Class Dist'!T$30*SUMPRODUCT('Efficiency Dist'!X725:X732,'UEC Development'!$D$458:$D$465)+'Product Class Dist'!T$31*SUMPRODUCT('Efficiency Dist'!X756:X763,'UEC Development'!$D$477:$D$484)+'Product Class Dist'!T$32*SUMPRODUCT('Efficiency Dist'!X789:X798,'UEC Development'!$D$496:$D$505)+'Product Class Dist'!T$33*SUMPRODUCT('Efficiency Dist'!X824:X833,'UEC Development'!$D$519:$D$528)+'Product Class Dist'!T$34*SUMPRODUCT('Efficiency Dist'!X859:X868,'UEC Development'!$D$542:$D$551)","v":5722.5521561297064},{"$f":"'Product Class Dist'!U$10*SUMPRODUCT('Efficiency Dist'!Y27:Y36,'UEC Development'!$D$14:$D$23)+'Product Class Dist'!U$11*SUMPRODUCT('Efficiency Dist'!Y62:Y71,'UEC Development'!$D$37:$D$46)+'Product Class Dist'!U$12*SUMPRODUCT('Efficiency Dist'!Y97:Y106,'UEC Development'!$D$60:$D$69)+'Product Class Dist'!U$13*SUMPRODUCT('Efficiency Dist'!Y132:Y141,'UEC Development'!$D$83:$D$92)+'Product Class Dist'!U$14*SUMPRODUCT('Efficiency Dist'!Y167:Y176,'UEC Development'!$D$106:$D$115)+'Product Class Dist'!U$15*SUMPRODUCT('Efficiency Dist'!Y202:Y211,'UEC Development'!$D$129:$D$138)+'Product Class Dist'!U$16*SUMPRODUCT('Efficiency Dist'!Y237:Y246,'UEC Development'!$D$152:$D$161)+'Product Class Dist'!U$17*SUMPRODUCT('Efficiency Dist'!Y272:Y281,'UEC Development'!$D$175:$D$184)+'Product Class Dist'!U$18*SUMPRODUCT('Efficiency Dist'!Y307:Y316,'UEC Development'!$D$198:$D$207)+'Product Class Dist'!U$19*SUMPRODUCT('Efficiency Dist'!Y342:Y351,'UEC Development'!$D$221:$D$230)+'Product Class Dist'!U$20*SUMPRODUCT('Efficiency Dist'!Y377:Y386,'UEC Development'!$D$244:$D$253)+'Product Class Dist'!U$21*SUMPRODUCT('Efficiency Dist'!Y412:Y421,'UEC Development'!$D$267:$D$276)+'Product Class Dist'!U$22*SUMPRODUCT('Efficiency Dist'!Y447:Y456,'UEC Development'!$D$290:$D$299)+'Product Class Dist'!U$23*SUMPRODUCT('Efficiency Dist'!Y482:Y491,'UEC Development'!$D$311:$D$320)+'Product Class Dist'!U$24*SUMPRODUCT('Efficiency Dist'!Y517:Y526,'UEC Development'!$D$332:$D$341)+'Product Class Dist'!U$25*SUMPRODUCT('Efficiency Dist'!Y552:Y561,'UEC Development'!$D$353:$D$362)+'Product Class Dist'!U$26*SUMPRODUCT('Efficiency Dist'!Y587:Y596,'UEC Development'!$D$374:$D$383)+'Product Class Dist'!U$27*SUMPRODUCT('Efficiency Dist'!Y622:Y631,'UEC Development'!$D$395:$D$404)+'Product Class Dist'!U$28*SUMPRODUCT('Efficiency Dist'!Y657:Y666,'UEC Development'!$D$416:$D$425)+'Product Class Dist'!U$29*SUMPRODUCT('Efficiency Dist'!Y692:Y701,'UEC Development'!$D$437:$D$446)+'Product Class Dist'!U$30*SUMPRODUCT('Efficiency Dist'!Y725:Y732,'UEC Development'!$D$458:$D$465)+'Product Class Dist'!U$31*SUMPRODUCT('Efficiency Dist'!Y756:Y763,'UEC Development'!$D$477:$D$484)+'Product Class Dist'!U$32*SUMPRODUCT('Efficiency Dist'!Y789:Y798,'UEC Development'!$D$496:$D$505)+'Product Class Dist'!U$33*SUMPRODUCT('Efficiency Dist'!Y824:Y833,'UEC Development'!$D$519:$D$528)+'Product Class Dist'!U$34*SUMPRODUCT('Efficiency Dist'!Y859:Y868,'UEC Development'!$D$542:$D$551)","v":5722.5521561297064},{"$f":"'Product Class Dist'!V$10*SUMPRODUCT('Efficiency Dist'!Z27:Z36,'UEC Development'!$D$14:$D$23)+'Product Class Dist'!V$11*SUMPRODUCT('Efficiency Dist'!Z62:Z71,'UEC Development'!$D$37:$D$46)+'Product Class Dist'!V$12*SUMPRODUCT('Efficiency Dist'!Z97:Z106,'UEC Development'!$D$60:$D$69)+'Product Class Dist'!V$13*SUMPRODUCT('Efficiency Dist'!Z132:Z141,'UEC Development'!$D$83:$D$92)+'Product Class Dist'!V$14*SUMPRODUCT('Efficiency Dist'!Z167:Z176,'UEC Development'!$D$106:$D$115)+'Product Class Dist'!V$15*SUMPRODUCT('Efficiency Dist'!Z202:Z211,'UEC Development'!$D$129:$D$138)+'Product Class Dist'!V$16*SUMPRODUCT('Efficiency Dist'!Z237:Z246,'UEC Development'!$D$152:$D$161)+'Product Class Dist'!V$17*SUMPRODUCT('Efficiency Dist'!Z272:Z281,'UEC Development'!$D$175:$D$184)+'Product Class Dist'!V$18*SUMPRODUCT('Efficiency Dist'!Z307:Z316,'UEC Development'!$D$198:$D$207)+'Product Class Dist'!V$19*SUMPRODUCT('Efficiency Dist'!Z342:Z351,'UEC Development'!$D$221:$D$230)+'Product Class Dist'!V$20*SUMPRODUCT('Efficiency Dist'!Z377:Z386,'UEC Development'!$D$244:$D$253)+'Product Class Dist'!V$21*SUMPRODUCT('Efficiency Dist'!Z412:Z421,'UEC Development'!$D$267:$D$276)+'Product Class Dist'!V$22*SUMPRODUCT('Efficiency Dist'!Z447:Z456,'UEC Development'!$D$290:$D$299)+'Product Class Dist'!V$23*SUMPRODUCT('Efficiency Dist'!Z482:Z491,'UEC Development'!$D$311:$D$320)+'Product Class Dist'!V$24*SUMPRODUCT('Efficiency Dist'!Z517:Z526,'UEC Development'!$D$332:$D$341)+'Product Class Dist'!V$25*SUMPRODUCT('Efficiency Dist'!Z552:Z561,'UEC Development'!$D$353:$D$362)+'Product Class Dist'!V$26*SUMPRODUCT('Efficiency Dist'!Z587:Z596,'UEC Development'!$D$374:$D$383)+'Product Class Dist'!V$27*SUMPRODUCT('Efficiency Dist'!Z622:Z631,'UEC Development'!$D$395:$D$404)+'Product Class Dist'!V$28*SUMPRODUCT('Efficiency Dist'!Z657:Z666,'UEC Development'!$D$416:$D$425)+'Product Class Dist'!V$29*SUMPRODUCT('Efficiency Dist'!Z692:Z701,'UEC Development'!$D$437:$D$446)+'Product Class Dist'!V$30*SUMPRODUCT('Efficiency Dist'!Z725:Z732,'UEC Development'!$D$458:$D$465)+'Product Class Dist'!V$31*SUMPRODUCT('Efficiency Dist'!Z756:Z763,'UEC Development'!$D$477:$D$484)+'Product Class Dist'!V$32*SUMPRODUCT('Efficiency Dist'!Z789:Z798,'UEC Development'!$D$496:$D$505)+'Product Class Dist'!V$33*SUMPRODUCT('Efficiency Dist'!Z824:Z833,'UEC Development'!$D$519:$D$528)+'Product Class Dist'!V$34*SUMPRODUCT('Efficiency Dist'!Z859:Z868,'UEC Development'!$D$542:$D$551)","v":5722.5521561297064},{"$f":"'Product Class Dist'!W$10*SUMPRODUCT('Efficiency Dist'!AA27:AA36,'UEC Development'!$D$14:$D$23)+'Product Class Dist'!W$11*SUMPRODUCT('Efficiency Dist'!AA62:AA71,'UEC Development'!$D$37:$D$46)+'Product Class Dist'!W$12*SUMPRODUCT('Efficiency Dist'!AA97:AA106,'UEC Development'!$D$60:$D$69)+'Product Class Dist'!W$13*SUMPRODUCT('Efficiency Dist'!AA132:AA141,'UEC Development'!$D$83:$D$92)+'Product Class Dist'!W$14*SUMPRODUCT('Efficiency Dist'!AA167:AA176,'UEC Development'!$D$106:$D$115)+'Product Class Dist'!W$15*SUMPRODUCT('Efficiency Dist'!AA202:AA211,'UEC Development'!$D$129:$D$138)+'Product Class Dist'!W$16*SUMPRODUCT('Efficiency Dist'!AA237:AA246,'UEC Development'!$D$152:$D$161)+'Product Class Dist'!W$17*SUMPRODUCT('Efficiency Dist'!AA272:AA281,'UEC Development'!$D$175:$D$184)+'Product Class Dist'!W$18*SUMPRODUCT('Efficiency Dist'!AA307:AA316,'UEC Development'!$D$198:$D$207)+'Product Class Dist'!W$19*SUMPRODUCT('Efficiency Dist'!AA342:AA351,'UEC Development'!$D$221:$D$230)+'Product Class Dist'!W$20*SUMPRODUCT('Efficiency Dist'!AA377:AA386,'UEC Development'!$D$244:$D$253)+'Product Class Dist'!W$21*SUMPRODUCT('Efficiency Dist'!AA412:AA421,'UEC Development'!$D$267:$D$276)+'Product Class Dist'!W$22*SUMPRODUCT('Efficiency Dist'!AA447:AA456,'UEC Development'!$D$290:$D$299)+'Product Class Dist'!W$23*SUMPRODUCT('Efficiency Dist'!AA482:AA491,'UEC Development'!$D$311:$D$320)+'Product Class Dist'!W$24*SUMPRODUCT('Efficiency Dist'!AA517:AA526,'UEC Development'!$D$332:$D$341)+'Product Class Dist'!W$25*SUMPRODUCT('Efficiency Dist'!AA552:AA561,'UEC Development'!$D$353:$D$362)+'Product Class Dist'!W$26*SUMPRODUCT('Efficiency Dist'!AA587:AA596,'UEC Development'!$D$374:$D$383)+'Product Class Dist'!W$27*SUMPRODUCT('Efficiency Dist'!AA622:AA631,'UEC Development'!$D$395:$D$404)+'Product Class Dist'!W$28*SUMPRODUCT('Efficiency Dist'!AA657:AA666,'UEC Development'!$D$416:$D$425)+'Product Class Dist'!W$29*SUMPRODUCT('Efficiency Dist'!AA692:AA701,'UEC Development'!$D$437:$D$446)+'Product Class Dist'!W$30*SUMPRODUCT('Efficiency Dist'!AA725:AA732,'UEC Development'!$D$458:$D$465)+'Product Class Dist'!W$31*SUMPRODUCT('Efficiency Dist'!AA756:AA763,'UEC Development'!$D$477:$D$484)+'Product Class Dist'!W$32*SUMPRODUCT('Efficiency Dist'!AA789:AA798,'UEC Development'!$D$496:$D$505)+'Product Class Dist'!W$33*SUMPRODUCT('Efficiency Dist'!AA824:AA833,'UEC Development'!$D$519:$D$528)+'Product Class Dist'!W$34*SUMPRODUCT('Efficiency Dist'!AA859:AA868,'UEC Development'!$D$542:$D$551)","v":5722.5521561297064},{"$f":"'Product Class Dist'!X$10*SUMPRODUCT('Efficiency Dist'!AB27:AB36,'UEC Development'!$D$14:$D$23)+'Product Class Dist'!X$11*SUMPRODUCT('Efficiency Dist'!AB62:AB71,'UEC Development'!$D$37:$D$46)+'Product Class Dist'!X$12*SUMPRODUCT('Efficiency Dist'!AB97:AB106,'UEC Development'!$D$60:$D$69)+'Product Class Dist'!X$13*SUMPRODUCT('Efficiency Dist'!AB132:AB141,'UEC Development'!$D$83:$D$92)+'Product Class Dist'!X$14*SUMPRODUCT('Efficiency Dist'!AB167:AB176,'UEC Development'!$D$106:$D$115)+'Product Class Dist'!X$15*SUMPRODUCT('Efficiency Dist'!AB202:AB211,'UEC Development'!$D$129:$D$138)+'Product Class Dist'!X$16*SUMPRODUCT('Efficiency Dist'!AB237:AB246,'UEC Development'!$D$152:$D$161)+'Product Class Dist'!X$17*SUMPRODUCT('Efficiency Dist'!AB272:AB281,'UEC Development'!$D$175:$D$184)+'Product Class Dist'!X$18*SUMPRODUCT('Efficiency Dist'!AB307:AB316,'UEC Development'!$D$198:$D$207)+'Product Class Dist'!X$19*SUMPRODUCT('Efficiency Dist'!AB342:AB351,'UEC Development'!$D$221:$D$230)+'Product Class Dist'!X$20*SUMPRODUCT('Efficiency Dist'!AB377:AB386,'UEC Development'!$D$244:$D$253)+'Product Class Dist'!X$21*SUMPRODUCT('Efficiency Dist'!AB412:AB421,'UEC Development'!$D$267:$D$276)+'Product Class Dist'!X$22*SUMPRODUCT('Efficiency Dist'!AB447:AB456,'UEC Development'!$D$290:$D$299)+'Product Class Dist'!X$23*SUMPRODUCT('Efficiency Dist'!AB482:AB491,'UEC Development'!$D$311:$D$320)+'Product Class Dist'!X$24*SUMPRODUCT('Efficiency Dist'!AB517:AB526,'UEC Development'!$D$332:$D$341)+'Product Class Dist'!X$25*SUMPRODUCT('Efficiency Dist'!AB552:AB561,'UEC Development'!$D$353:$D$362)+'Product Class Dist'!X$26*SUMPRODUCT('Efficiency Dist'!AB587:AB596,'UEC Development'!$D$374:$D$383)+'Product Class Dist'!X$27*SUMPRODUCT('Efficiency Dist'!AB622:AB631,'UEC Development'!$D$395:$D$404)+'Product Class Dist'!X$28*SUMPRODUCT('Efficiency Dist'!AB657:AB666,'UEC Development'!$D$416:$D$425)+'Product Class Dist'!X$29*SUMPRODUCT('Efficiency Dist'!AB692:AB701,'UEC Development'!$D$437:$D$446)+'Product Class Dist'!X$30*SUMPRODUCT('Efficiency Dist'!AB725:AB732,'UEC Development'!$D$458:$D$465)+'Product Class Dist'!X$31*SUMPRODUCT('Efficiency Dist'!AB756:AB763,'UEC Development'!$D$477:$D$484)+'Product Class Dist'!X$32*SUMPRODUCT('Efficiency Dist'!AB789:AB798,'UEC Development'!$D$496:$D$505)+'Product Class Dist'!X$33*SUMPRODUCT('Efficiency Dist'!AB824:AB833,'UEC Development'!$D$519:$D$528)+'Product Class Dist'!X$34*SUMPRODUCT('Efficiency Dist'!AB859:AB868,'UEC Development'!$D$542:$D$551)","v":5223.7451976393404},{"$f":"'Product Class Dist'!Y$10*SUMPRODUCT('Efficiency Dist'!AC27:AC36,'UEC Development'!$D$14:$D$23)+'Product Class Dist'!Y$11*SUMPRODUCT('Efficiency Dist'!AC62:AC71,'UEC Development'!$D$37:$D$46)+'Product Class Dist'!Y$12*SUMPRODUCT('Efficiency Dist'!AC97:AC106,'UEC Development'!$D$60:$D$69)+'Product Class Dist'!Y$13*SUMPRODUCT('Efficiency Dist'!AC132:AC141,'UEC Development'!$D$83:$D$92)+'Product Class Dist'!Y$14*SUMPRODUCT('Efficiency Dist'!AC167:AC176,'UEC Development'!$D$106:$D$115)+'Product Class Dist'!Y$15*SUMPRODUCT('Efficiency Dist'!AC202:AC211,'UEC Development'!$D$129:$D$138)+'Product Class Dist'!Y$16*SUMPRODUCT('Efficiency Dist'!AC237:AC246,'UEC Development'!$D$152:$D$161)+'Product Class Dist'!Y$17*SUMPRODUCT('Efficiency Dist'!AC272:AC281,'UEC Development'!$D$175:$D$184)+'Product Class Dist'!Y$18*SUMPRODUCT('Efficiency Dist'!AC307:AC316,'UEC Development'!$D$198:$D$207)+'Product Class Dist'!Y$19*SUMPRODUCT('Efficiency Dist'!AC342:AC351,'UEC Development'!$D$221:$D$230)+'Product Class Dist'!Y$20*SUMPRODUCT('Efficiency Dist'!AC377:AC386,'UEC Development'!$D$244:$D$253)+'Product Class Dist'!Y$21*SUMPRODUCT('Efficiency Dist'!AC412:AC421,'UEC Development'!$D$267:$D$276)+'Product Class Dist'!Y$22*SUMPRODUCT('Efficiency Dist'!AC447:AC456,'UEC Development'!$D$290:$D$299)+'Product Class Dist'!Y$23*SUMPRODUCT('Efficiency Dist'!AC482:AC491,'UEC Development'!$D$311:$D$320)+'Product Class Dist'!Y$24*SUMPRODUCT('Efficiency Dist'!AC517:AC526,'UEC Development'!$D$332:$D$341)+'Product Class Dist'!Y$25*SUMPRODUCT('Efficiency Dist'!AC552:AC561,'UEC Development'!$D$353:$D$362)+'Product Class Dist'!Y$26*SUMPRODUCT('Efficiency Dist'!AC587:AC596,'UEC Development'!$D$374:$D$383)+'Product Class Dist'!Y$27*SUMPRODUCT('Efficiency Dist'!AC622:AC631,'UEC Development'!$D$395:$D$404)+'Product Class Dist'!Y$28*SUMPRODUCT('Efficiency Dist'!AC657:AC666,'UEC Development'!$D$416:$D$425)+'Product Class Dist'!Y$29*SUMPRODUCT('Efficiency Dist'!AC692:AC701,'UEC Development'!$D$437:$D$446)+'Product Class Dist'!Y$30*SUMPRODUCT('Efficiency Dist'!AC725:AC732,'UEC Development'!$D$458:$D$465)+'Product Class Dist'!Y$31*SUMPRODUCT('Efficiency Dist'!AC756:AC763,'UEC Development'!$D$477:$D$484)+'Product Class Dist'!Y$32*SUMPRODUCT('Efficiency Dist'!AC789:AC798,'UEC Development'!$D$496:$D$505)+'Product Class Dist'!Y$33*SUMPRODUCT('Efficiency Dist'!AC824:AC833,'UEC Development'!$D$519:$D$528)+'Product Class Dist'!Y$34*SUMPRODUCT('Efficiency Dist'!AC859:AC868,'UEC Development'!$D$542:$D$551)","v":5223.7451976393413},{"$f":"'Product Class Dist'!Z$10*SUMPRODUCT('Efficiency Dist'!AD27:AD36,'UEC Development'!$D$14:$D$23)+'Product Class Dist'!Z$11*SUMPRODUCT('Efficiency Dist'!AD62:AD71,'UEC Development'!$D$37:$D$46)+'Product Class Dist'!Z$12*SUMPRODUCT('Efficiency Dist'!AD97:AD106,'UEC Development'!$D$60:$D$69)+'Product Class Dist'!Z$13*SUMPRODUCT('Efficiency Dist'!AD132:AD141,'UEC Development'!$D$83:$D$92)+'Product Class Dist'!Z$14*SUMPRODUCT('Efficiency Dist'!AD167:AD176,'UEC Development'!$D$106:$D$115)+'Product Class Dist'!Z$15*SUMPRODUCT('Efficiency Dist'!AD202:AD211,'UEC Development'!$D$129:$D$138)+'Product Class Dist'!Z$16*SUMPRODUCT('Efficiency Dist'!AD237:AD246,'UEC Development'!$D$152:$D$161)+'Product Class Dist'!Z$17*SUMPRODUCT('Efficiency Dist'!AD272:AD281,'UEC Development'!$D$175:$D$184)+'Product Class Dist'!Z$18*SUMPRODUCT('Efficiency Dist'!AD307:AD316,'UEC Development'!$D$198:$D$207)+'Product Class Dist'!Z$19*SUMPRODUCT('Efficiency Dist'!AD342:AD351,'UEC Development'!$D$221:$D$230)+'Product Class Dist'!Z$20*SUMPRODUCT('Efficiency Dist'!AD377:AD386,'UEC Development'!$D$244:$D$253)+'Product Class Dist'!Z$21*SUMPRODUCT('Efficiency Dist'!AD412:AD421,'UEC Development'!$D$267:$D$276)+'Product Class Dist'!Z$22*SUMPRODUCT('Efficiency Dist'!AD447:AD456,'UEC Development'!$D$290:$D$299)+'Product Class Dist'!Z$23*SUMPRODUCT('Efficiency Dist'!AD482:AD491,'UEC Development'!$D$311:$D$320)+'Product Class Dist'!Z$24*SUMPRODUCT('Efficiency Dist'!AD517:AD526,'UEC Development'!$D$332:$D$341)+'Product Class Dist'!Z$25*SUMPRODUCT('Efficiency Dist'!AD552:AD561,'UEC Development'!$D$353:$D$362)+'Product Class Dist'!Z$26*SUMPRODUCT('Efficiency Dist'!AD587:AD596,'UEC Development'!$D$374:$D$383)+'Product Class Dist'!Z$27*SUMPRODUCT('Efficiency Dist'!AD622:AD631,'UEC Development'!$D$395:$D$404)+'Product Class Dist'!Z$28*SUMPRODUCT('Efficiency Dist'!AD657:AD666,'UEC Development'!$D$416:$D$425)+'Product Class Dist'!Z$29*SUMPRODUCT('Efficiency Dist'!AD692:AD701,'UEC Development'!$D$437:$D$446)+'Product Class Dist'!Z$30*SUMPRODUCT('Efficiency Dist'!AD725:AD732,'UEC Development'!$D$458:$D$465)+'Product Class Dist'!Z$31*SUMPRODUCT('Efficiency Dist'!AD756:AD763,'UEC Development'!$D$477:$D$484)+'Product Class Dist'!Z$32*SUMPRODUCT('Efficiency Dist'!AD789:AD798,'UEC Development'!$D$496:$D$505)+'Product Class Dist'!Z$33*SUMPRODUCT('Efficiency Dist'!AD824:AD833,'UEC Development'!$D$519:$D$528)+'Product Class Dist'!Z$34*SUMPRODUCT('Efficiency Dist'!AD859:AD868,'UEC Development'!$D$542:$D$551)","v":4147.362870478938},{"$f":"'Product Class Dist'!AA$10*SUMPRODUCT('Efficiency Dist'!AE27:AE36,'UEC Development'!$D$14:$D$23)+'Product Class Dist'!AA$11*SUMPRODUCT('Efficiency Dist'!AE62:AE71,'UEC Development'!$D$37:$D$46)+'Product Class Dist'!AA$12*SUMPRODUCT('Efficiency Dist'!AE97:AE106,'UEC Development'!$D$60:$D$69)+'Product Class Dist'!AA$13*SUMPRODUCT('Efficiency Dist'!AE132:AE141,'UEC Development'!$D$83:$D$92)+'Product Class Dist'!AA$14*SUMPRODUCT('Efficiency Dist'!AE167:AE176,'UEC Development'!$D$106:$D$115)+'Product Class Dist'!AA$15*SUMPRODUCT('Efficiency Dist'!AE202:AE211,'UEC Development'!$D$129:$D$138)+'Product Class Dist'!AA$16*SUMPRODUCT('Efficiency Dist'!AE237:AE246,'UEC Development'!$D$152:$D$161)+'Product Class Dist'!AA$17*SUMPRODUCT('Efficiency Dist'!AE272:AE281,'UEC Development'!$D$175:$D$184)+'Product Class Dist'!AA$18*SUMPRODUCT('Efficiency Dist'!AE307:AE316,'UEC Development'!$D$198:$D$207)+'Product Class Dist'!AA$19*SUMPRODUCT('Efficiency Dist'!AE342:AE351,'UEC Development'!$D$221:$D$230)+'Product Class Dist'!AA$20*SUMPRODUCT('Efficiency Dist'!AE377:AE386,'UEC Development'!$D$244:$D$253)+'Product Class Dist'!AA$21*SUMPRODUCT('Efficiency Dist'!AE412:AE421,'UEC Development'!$D$267:$D$276)+'Product Class Dist'!AA$22*SUMPRODUCT('Efficiency Dist'!AE447:AE456,'UEC Development'!$D$290:$D$299)+'Product Class Dist'!AA$23*SUMPRODUCT('Efficiency Dist'!AE482:AE491,'UEC Development'!$D$311:$D$320)+'Product Class Dist'!AA$24*SUMPRODUCT('Efficiency Dist'!AE517:AE526,'UEC Development'!$D$332:$D$341)+'Product Class Dist'!AA$25*SUMPRODUCT('Efficiency Dist'!AE552:AE561,'UEC Development'!$D$353:$D$362)+'Product Class Dist'!AA$26*SUMPRODUCT('Efficiency Dist'!AE587:AE596,'UEC Development'!$D$374:$D$383)+'Product Class Dist'!AA$27*SUMPRODUCT('Efficiency Dist'!AE622:AE631,'UEC Development'!$D$395:$D$404)+'Product Class Dist'!AA$28*SUMPRODUCT('Efficiency Dist'!AE657:AE666,'UEC Development'!$D$416:$D$425)+'Product Class Dist'!AA$29*SUMPRODUCT('Efficiency Dist'!AE692:AE701,'UEC Development'!$D$437:$D$446)+'Product Class Dist'!AA$30*SUMPRODUCT('Efficiency Dist'!AE725:AE732,'UEC Development'!$D$458:$D$465)+'Product Class Dist'!AA$31*SUMPRODUCT('Efficiency Dist'!AE756:AE763,'UEC Development'!$D$477:$D$484)+'Product Class Dist'!AA$32*SUMPRODUCT('Efficiency Dist'!AE789:AE798,'UEC Development'!$D$496:$D$505)+'Product Class Dist'!AA$33*SUMPRODUCT('Efficiency Dist'!AE824:AE833,'UEC Development'!$D$519:$D$528)+'Product Class Dist'!AA$34*SUMPRODUCT('Efficiency Dist'!AE859:AE868,'UEC Development'!$D$542:$D$551)","v":4147.362870478938},{"$f":"'Product Class Dist'!AB$10*SUMPRODUCT('Efficiency Dist'!AF27:AF36,'UEC Development'!$D$14:$D$23)+'Product Class Dist'!AB$11*SUMPRODUCT('Efficiency Dist'!AF62:AF71,'UEC Development'!$D$37:$D$46)+'Product Class Dist'!AB$12*SUMPRODUCT('Efficiency Dist'!AF97:AF106,'UEC Development'!$D$60:$D$69)+'Product Class Dist'!AB$13*SUMPRODUCT('Efficiency Dist'!AF132:AF141,'UEC Development'!$D$83:$D$92)+'Product Class Dist'!AB$14*SUMPRODUCT('Efficiency Dist'!AF167:AF176,'UEC Development'!$D$106:$D$115)+'Product Class Dist'!AB$15*SUMPRODUCT('Efficiency Dist'!AF202:AF211,'UEC Development'!$D$129:$D$138)+'Product Class Dist'!AB$16*SUMPRODUCT('Efficiency Dist'!AF237:AF246,'UEC Development'!$D$152:$D$161)+'Product Class Dist'!AB$17*SUMPRODUCT('Efficiency Dist'!AF272:AF281,'UEC Development'!$D$175:$D$184)+'Product Class Dist'!AB$18*SUMPRODUCT('Efficiency Dist'!AF307:AF316,'UEC Development'!$D$198:$D$207)+'Product Class Dist'!AB$19*SUMPRODUCT('Efficiency Dist'!AF342:AF351,'UEC Development'!$D$221:$D$230)+'Product Class Dist'!AB$20*SUMPRODUCT('Efficiency Dist'!AF377:AF386,'UEC Development'!$D$244:$D$253)+'Product Class Dist'!AB$21*SUMPRODUCT('Efficiency Dist'!AF412:AF421,'UEC Development'!$D$267:$D$276)+'Product Class Dist'!AB$22*SUMPRODUCT('Efficiency Dist'!AF447:AF456,'UEC Development'!$D$290:$D$299)+'Product Class Dist'!AB$23*SUMPRODUCT('Efficiency Dist'!AF482:AF491,'UEC Development'!$D$311:$D$320)+'Product Class Dist'!AB$24*SUMPRODUCT('Efficiency Dist'!AF517:AF526,'UEC Development'!$D$332:$D$341)+'Product Class Dist'!AB$25*SUMPRODUCT('Efficiency Dist'!AF552:AF561,'UEC Development'!$D$353:$D$362)+'Product Class Dist'!AB$26*SUMPRODUCT('Efficiency Dist'!AF587:AF596,'UEC Development'!$D$374:$D$383)+'Product Class Dist'!AB$27*SUMPRODUCT('Efficiency Dist'!AF622:AF631,'UEC Development'!$D$395:$D$404)+'Product Class Dist'!AB$28*SUMPRODUCT('Efficiency Dist'!AF657:AF666,'UEC Development'!$D$416:$D$425)+'Product Class Dist'!AB$29*SUMPRODUCT('Efficiency Dist'!AF692:AF701,'UEC Development'!$D$437:$D$446)+'Product Class Dist'!AB$30*SUMPRODUCT('Efficiency Dist'!AF725:AF732,'UEC Development'!$D$458:$D$465)+'Product Class Dist'!AB$31*SUMPRODUCT('Efficiency Dist'!AF756:AF763,'UEC Development'!$D$477:$D$484)+'Product Class Dist'!AB$32*SUMPRODUCT('Efficiency Dist'!AF789:AF798,'UEC Development'!$D$496:$D$505)+'Product Class Dist'!AB$33*SUMPRODUCT('Efficiency Dist'!AF824:AF833,'UEC Development'!$D$519:$D$528)+'Product Class Dist'!AB$34*SUMPRODUCT('Efficiency Dist'!AF859:AF868,'UEC Development'!$D$542:$D$551)","v":4147.3628704789362},{"$f":"'Product Class Dist'!AC$10*SUMPRODUCT('Efficiency Dist'!AG27:AG36,'UEC Development'!$D$14:$D$23)+'Product Class Dist'!AC$11*SUMPRODUCT('Efficiency Dist'!AG62:AG71,'UEC Development'!$D$37:$D$46)+'Product Class Dist'!AC$12*SUMPRODUCT('Efficiency Dist'!AG97:AG106,'UEC Development'!$D$60:$D$69)+'Product Class Dist'!AC$13*SUMPRODUCT('Efficiency Dist'!AG132:AG141,'UEC Development'!$D$83:$D$92)+'Product Class Dist'!AC$14*SUMPRODUCT('Efficiency Dist'!AG167:AG176,'UEC Development'!$D$106:$D$115)+'Product Class Dist'!AC$15*SUMPRODUCT('Efficiency Dist'!AG202:AG211,'UEC Development'!$D$129:$D$138)+'Product Class Dist'!AC$16*SUMPRODUCT('Efficiency Dist'!AG237:AG246,'UEC Development'!$D$152:$D$161)+'Product Class Dist'!AC$17*SUMPRODUCT('Efficiency Dist'!AG272:AG281,'UEC Development'!$D$175:$D$184)+'Product Class Dist'!AC$18*SUMPRODUCT('Efficiency Dist'!AG307:AG316,'UEC Development'!$D$198:$D$207)+'Product Class Dist'!AC$19*SUMPRODUCT('Efficiency Dist'!AG342:AG351,'UEC Development'!$D$221:$D$230)+'Product Class Dist'!AC$20*SUMPRODUCT('Efficiency Dist'!AG377:AG386,'UEC Development'!$D$244:$D$253)+'Product Class Dist'!AC$21*SUMPRODUCT('Efficiency Dist'!AG412:AG421,'UEC Development'!$D$267:$D$276)+'Product Class Dist'!AC$22*SUMPRODUCT('Efficiency Dist'!AG447:AG456,'UEC Development'!$D$290:$D$299)+'Product Class Dist'!AC$23*SUMPRODUCT('Efficiency Dist'!AG482:AG491,'UEC Development'!$D$311:$D$320)+'Product Class Dist'!AC$24*SUMPRODUCT('Efficiency Dist'!AG517:AG526,'UEC Development'!$D$332:$D$341)+'Product Class Dist'!AC$25*SUMPRODUCT('Efficiency Dist'!AG552:AG561,'UEC Development'!$D$353:$D$362)+'Product Class Dist'!AC$26*SUMPRODUCT('Efficiency Dist'!AG587:AG596,'UEC Development'!$D$374:$D$383)+'Product Class Dist'!AC$27*SUMPRODUCT('Efficiency Dist'!AG622:AG631,'UEC Development'!$D$395:$D$404)+'Product Class Dist'!AC$28*SUMPRODUCT('Efficiency Dist'!AG657:AG666,'UEC Development'!$D$416:$D$425)+'Product Class Dist'!AC$29*SUMPRODUCT('Efficiency Dist'!AG692:AG701,'UEC Development'!$D$437:$D$446)+'Product Class Dist'!AC$30*SUMPRODUCT('Efficiency Dist'!AG725:AG732,'UEC Development'!$D$458:$D$465)+'Product Class Dist'!AC$31*SUMPRODUCT('Efficiency Dist'!AG756:AG763,'UEC Development'!$D$477:$D$484)+'Product Class Dist'!AC$32*SUMPRODUCT('Efficiency Dist'!AG789:AG798,'UEC Development'!$D$496:$D$505)+'Product Class Dist'!AC$33*SUMPRODUCT('Efficiency Dist'!AG824:AG833,'UEC Development'!$D$519:$D$528)+'Product Class Dist'!AC$34*SUMPRODUCT('Efficiency Dist'!AG859:AG868,'UEC Development'!$D$542:$D$551)","v":4147.3628704789353},{"$f":"'Product Class Dist'!AD$10*SUMPRODUCT('Efficiency Dist'!AH27:AH36,'UEC Development'!$D$14:$D$23)+'Product Class Dist'!AD$11*SUMPRODUCT('Efficiency Dist'!AH62:AH71,'UEC Development'!$D$37:$D$46)+'Product Class Dist'!AD$12*SUMPRODUCT('Efficiency Dist'!AH97:AH106,'UEC Development'!$D$60:$D$69)+'Product Class Dist'!AD$13*SUMPRODUCT('Efficiency Dist'!AH132:AH141,'UEC Development'!$D$83:$D$92)+'Product Class Dist'!AD$14*SUMPRODUCT('Efficiency Dist'!AH167:AH176,'UEC Development'!$D$106:$D$115)+'Product Class Dist'!AD$15*SUMPRODUCT('Efficiency Dist'!AH202:AH211,'UEC Development'!$D$129:$D$138)+'Product Class Dist'!AD$16*SUMPRODUCT('Efficiency Dist'!AH237:AH246,'UEC Development'!$D$152:$D$161)+'Product Class Dist'!AD$17*SUMPRODUCT('Efficiency Dist'!AH272:AH281,'UEC Development'!$D$175:$D$184)+'Product Class Dist'!AD$18*SUMPRODUCT('Efficiency Dist'!AH307:AH316,'UEC Development'!$D$198:$D$207)+'Product Class Dist'!AD$19*SUMPRODUCT('Efficiency Dist'!AH342:AH351,'UEC Development'!$D$221:$D$230)+'Product Class Dist'!AD$20*SUMPRODUCT('Efficiency Dist'!AH377:AH386,'UEC Development'!$D$244:$D$253)+'Product Class Dist'!AD$21*SUMPRODUCT('Efficiency Dist'!AH412:AH421,'UEC Development'!$D$267:$D$276)+'Product Class Dist'!AD$22*SUMPRODUCT('Efficiency Dist'!AH447:AH456,'UEC Development'!$D$290:$D$299)+'Product Class Dist'!AD$23*SUMPRODUCT('Efficiency Dist'!AH482:AH491,'UEC Development'!$D$311:$D$320)+'Product Class Dist'!AD$24*SUMPRODUCT('Efficiency Dist'!AH517:AH526,'UEC Development'!$D$332:$D$341)+'Product Class Dist'!AD$25*SUMPRODUCT('Efficiency Dist'!AH552:AH561,'UEC Development'!$D$353:$D$362)+'Product Class Dist'!AD$26*SUMPRODUCT('Efficiency Dist'!AH587:AH596,'UEC Development'!$D$374:$D$383)+'Product Class Dist'!AD$27*SUMPRODUCT('Efficiency Dist'!AH622:AH631,'UEC Development'!$D$395:$D$404)+'Product Class Dist'!AD$28*SUMPRODUCT('Efficiency Dist'!AH657:AH666,'UEC Development'!$D$416:$D$425)+'Product Class Dist'!AD$29*SUMPRODUCT('Efficiency Dist'!AH692:AH701,'UEC Development'!$D$437:$D$446)+'Product Class Dist'!AD$30*SUMPRODUCT('Efficiency Dist'!AH725:AH732,'UEC Development'!$D$458:$D$465)+'Product Class Dist'!AD$31*SUMPRODUCT('Efficiency Dist'!AH756:AH763,'UEC Development'!$D$477:$D$484)+'Product Class Dist'!AD$32*SUMPRODUCT('Efficiency Dist'!AH789:AH798,'UEC Development'!$D$496:$D$505)+'Product Class Dist'!AD$33*SUMPRODUCT('Efficiency Dist'!AH824:AH833,'UEC Development'!$D$519:$D$528)+'Product Class Dist'!AD$34*SUMPRODUCT('Efficiency Dist'!AH859:AH868,'UEC Development'!$D$542:$D$551)","v":4147.362870478938},{"$f":"'Product Class Dist'!AE$10*SUMPRODUCT('Efficiency Dist'!AI27:AI36,'UEC Development'!$D$14:$D$23)+'Product Class Dist'!AE$11*SUMPRODUCT('Efficiency Dist'!AI62:AI71,'UEC Development'!$D$37:$D$46)+'Product Class Dist'!AE$12*SUMPRODUCT('Efficiency Dist'!AI97:AI106,'UEC Development'!$D$60:$D$69)+'Product Class Dist'!AE$13*SUMPRODUCT('Efficiency Dist'!AI132:AI141,'UEC Development'!$D$83:$D$92)+'Product Class Dist'!AE$14*SUMPRODUCT('Efficiency Dist'!AI167:AI176,'UEC Development'!$D$106:$D$115)+'Product Class Dist'!AE$15*SUMPRODUCT('Efficiency Dist'!AI202:AI211,'UEC Development'!$D$129:$D$138)+'Product Class Dist'!AE$16*SUMPRODUCT('Efficiency Dist'!AI237:AI246,'UEC Development'!$D$152:$D$161)+'Product Class Dist'!AE$17*SUMPRODUCT('Efficiency Dist'!AI272:AI281,'UEC Development'!$D$175:$D$184)+'Product Class Dist'!AE$18*SUMPRODUCT('Efficiency Dist'!AI307:AI316,'UEC Development'!$D$198:$D$207)+'Product Class Dist'!AE$19*SUMPRODUCT('Efficiency Dist'!AI342:AI351,'UEC Development'!$D$221:$D$230)+'Product Class Dist'!AE$20*SUMPRODUCT('Efficiency Dist'!AI377:AI386,'UEC Development'!$D$244:$D$253)+'Product Class Dist'!AE$21*SUMPRODUCT('Efficiency Dist'!AI412:AI421,'UEC Development'!$D$267:$D$276)+'Product Class Dist'!AE$22*SUMPRODUCT('Efficiency Dist'!AI447:AI456,'UEC Development'!$D$290:$D$299)+'Product Class Dist'!AE$23*SUMPRODUCT('Efficiency Dist'!AI482:AI491,'UEC Development'!$D$311:$D$320)+'Product Class Dist'!AE$24*SUMPRODUCT('Efficiency Dist'!AI517:AI526,'UEC Development'!$D$332:$D$341)+'Product Class Dist'!AE$25*SUMPRODUCT('Efficiency Dist'!AI552:AI561,'UEC Development'!$D$353:$D$362)+'Product Class Dist'!AE$26*SUMPRODUCT('Efficiency Dist'!AI587:AI596,'UEC Development'!$D$374:$D$383)+'Product Class Dist'!AE$27*SUMPRODUCT('Efficiency Dist'!AI622:AI631,'UEC Development'!$D$395:$D$404)+'Product Class Dist'!AE$28*SUMPRODUCT('Efficiency Dist'!AI657:AI666,'UEC Development'!$D$416:$D$425)+'Product Class Dist'!AE$29*SUMPRODUCT('Efficiency Dist'!AI692:AI701,'UEC Development'!$D$437:$D$446)+'Product Class Dist'!AE$30*SUMPRODUCT('Efficiency Dist'!AI725:AI732,'UEC Development'!$D$458:$D$465)+'Product Class Dist'!AE$31*SUMPRODUCT('Efficiency Dist'!AI756:AI763,'UEC Development'!$D$477:$D$484)+'Product Class Dist'!AE$32*SUMPRODUCT('Efficiency Dist'!AI789:AI798,'UEC Development'!$D$496:$D$505)+'Product Class Dist'!AE$33*SUMPRODUCT('Efficiency Dist'!AI824:AI833,'UEC Development'!$D$519:$D$528)+'Product Class Dist'!AE$34*SUMPRODUCT('Efficiency Dist'!AI859:AI868,'UEC Development'!$D$542:$D$551)","v":3563.8082218270747},{"$f":"'Product Class Dist'!AF$10*SUMPRODUCT('Efficiency Dist'!AJ27:AJ36,'UEC Development'!$D$14:$D$23)+'Product Class Dist'!AF$11*SUMPRODUCT('Efficiency Dist'!AJ62:AJ71,'UEC Development'!$D$37:$D$46)+'Product Class Dist'!AF$12*SUMPRODUCT('Efficiency Dist'!AJ97:AJ106,'UEC Development'!$D$60:$D$69)+'Product Class Dist'!AF$13*SUMPRODUCT('Efficiency Dist'!AJ132:AJ141,'UEC Development'!$D$83:$D$92)+'Product Class Dist'!AF$14*SUMPRODUCT('Efficiency Dist'!AJ167:AJ176,'UEC Development'!$D$106:$D$115)+'Product Class Dist'!AF$15*SUMPRODUCT('Efficiency Dist'!AJ202:AJ211,'UEC Development'!$D$129:$D$138)+'Product Class Dist'!AF$16*SUMPRODUCT('Efficiency Dist'!AJ237:AJ246,'UEC Development'!$D$152:$D$161)+'Product Class Dist'!AF$17*SUMPRODUCT('Efficiency Dist'!AJ272:AJ281,'UEC Development'!$D$175:$D$184)+'Product Class Dist'!AF$18*SUMPRODUCT('Efficiency Dist'!AJ307:AJ316,'UEC Development'!$D$198:$D$207)+'Product Class Dist'!AF$19*SUMPRODUCT('Efficiency Dist'!AJ342:AJ351,'UEC Development'!$D$221:$D$230)+'Product Class Dist'!AF$20*SUMPRODUCT('Efficiency Dist'!AJ377:AJ386,'UEC Development'!$D$244:$D$253)+'Product Class Dist'!AF$21*SUMPRODUCT('Efficiency Dist'!AJ412:AJ421,'UEC Development'!$D$267:$D$276)+'Product Class Dist'!AF$22*SUMPRODUCT('Efficiency Dist'!AJ447:AJ456,'UEC Development'!$D$290:$D$299)+'Product Class Dist'!AF$23*SUMPRODUCT('Efficiency Dist'!AJ482:AJ491,'UEC Development'!$D$311:$D$320)+'Product Class Dist'!AF$24*SUMPRODUCT('Efficiency Dist'!AJ517:AJ526,'UEC Development'!$D$332:$D$341)+'Product Class Dist'!AF$25*SUMPRODUCT('Efficiency Dist'!AJ552:AJ561,'UEC Development'!$D$353:$D$362)+'Product Class Dist'!AF$26*SUMPRODUCT('Efficiency Dist'!AJ587:AJ596,'UEC Development'!$D$374:$D$383)+'Product Class Dist'!AF$27*SUMPRODUCT('Efficiency Dist'!AJ622:AJ631,'UEC Development'!$D$395:$D$404)+'Product Class Dist'!AF$28*SUMPRODUCT('Efficiency Dist'!AJ657:AJ666,'UEC Development'!$D$416:$D$425)+'Product Class Dist'!AF$29*SUMPRODUCT('Efficiency Dist'!AJ692:AJ701,'UEC Development'!$D$437:$D$446)+'Product Class Dist'!AF$30*SUMPRODUCT('Efficiency Dist'!AJ725:AJ732,'UEC Development'!$D$458:$D$465)+'Product Class Dist'!AF$31*SUMPRODUCT('Efficiency Dist'!AJ756:AJ763,'UEC Development'!$D$477:$D$484)+'Product Class Dist'!AF$32*SUMPRODUCT('Efficiency Dist'!AJ789:AJ798,'UEC Development'!$D$496:$D$505)+'Product Class Dist'!AF$33*SUMPRODUCT('Efficiency Dist'!AJ824:AJ833,'UEC Development'!$D$519:$D$528)+'Product Class Dist'!AF$34*SUMPRODUCT('Efficiency Dist'!AJ859:AJ868,'UEC Development'!$D$542:$D$551)","v":3562.1897379715251},{"$f":"'Product Class Dist'!AG$10*SUMPRODUCT('Efficiency Dist'!AK27:AK36,'UEC Development'!$D$14:$D$23)+'Product Class Dist'!AG$11*SUMPRODUCT('Efficiency Dist'!AK62:AK71,'UEC Development'!$D$37:$D$46)+'Product Class Dist'!AG$12*SUMPRODUCT('Efficiency Dist'!AK97:AK106,'UEC Development'!$D$60:$D$69)+'Product Class Dist'!AG$13*SUMPRODUCT('Efficiency Dist'!AK132:AK141,'UEC Development'!$D$83:$D$92)+'Product Class Dist'!AG$14*SUMPRODUCT('Efficiency Dist'!AK167:AK176,'UEC Development'!$D$106:$D$115)+'Product Class Dist'!AG$15*SUMPRODUCT('Efficiency Dist'!AK202:AK211,'UEC Development'!$D$129:$D$138)+'Product Class Dist'!AG$16*SUMPRODUCT('Efficiency Dist'!AK237:AK246,'UEC Development'!$D$152:$D$161)+'Product Class Dist'!AG$17*SUMPRODUCT('Efficiency Dist'!AK272:AK281,'UEC Development'!$D$175:$D$184)+'Product Class Dist'!AG$18*SUMPRODUCT('Efficiency Dist'!AK307:AK316,'UEC Development'!$D$198:$D$207)+'Product Class Dist'!AG$19*SUMPRODUCT('Efficiency Dist'!AK342:AK351,'UEC Development'!$D$221:$D$230)+'Product Class Dist'!AG$20*SUMPRODUCT('Efficiency Dist'!AK377:AK386,'UEC Development'!$D$244:$D$253)+'Product Class Dist'!AG$21*SUMPRODUCT('Efficiency Dist'!AK412:AK421,'UEC Development'!$D$267:$D$276)+'Product Class Dist'!AG$22*SUMPRODUCT('Efficiency Dist'!AK447:AK456,'UEC Development'!$D$290:$D$299)+'Product Class Dist'!AG$23*SUMPRODUCT('Efficiency Dist'!AK482:AK491,'UEC Development'!$D$311:$D$320)+'Product Class Dist'!AG$24*SUMPRODUCT('Efficiency Dist'!AK517:AK526,'UEC Development'!$D$332:$D$341)+'Product Class Dist'!AG$25*SUMPRODUCT('Efficiency Dist'!AK552:AK561,'UEC Development'!$D$353:$D$362)+'Product Class Dist'!AG$26*SUMPRODUCT('Efficiency Dist'!AK587:AK596,'UEC Development'!$D$374:$D$383)+'Product Class Dist'!AG$27*SUMPRODUCT('Efficiency Dist'!AK622:AK631,'UEC Development'!$D$395:$D$404)+'Product Class Dist'!AG$28*SUMPRODUCT('Efficiency Dist'!AK657:AK666,'UEC Development'!$D$416:$D$425)+'Product Class Dist'!AG$29*SUMPRODUCT('Efficiency Dist'!AK692:AK701,'UEC Development'!$D$437:$D$446)+'Product Class Dist'!AG$30*SUMPRODUCT('Efficiency Dist'!AK725:AK732,'UEC Development'!$D$458:$D$465)+'Product Class Dist'!AG$31*SUMPRODUCT('Efficiency Dist'!AK756:AK763,'UEC Development'!$D$477:$D$484)+'Product Class Dist'!AG$32*SUMPRODUCT('Efficiency Dist'!AK789:AK798,'UEC Development'!$D$496:$D$505)+'Product Class Dist'!AG$33*SUMPRODUCT('Efficiency Dist'!AK824:AK833,'UEC Development'!$D$519:$D$528)+'Product Class Dist'!AG$34*SUMPRODUCT('Efficiency Dist'!AK859:AK868,'UEC Development'!$D$542:$D$551)","v":3560.5712541159742},{"$f":"'Product Class Dist'!AH$10*SUMPRODUCT('Efficiency Dist'!AL27:AL36,'UEC Development'!$D$14:$D$23)+'Product Class Dist'!AH$11*SUMPRODUCT('Efficiency Dist'!AL62:AL71,'UEC Development'!$D$37:$D$46)+'Product Class Dist'!AH$12*SUMPRODUCT('Efficiency Dist'!AL97:AL106,'UEC Development'!$D$60:$D$69)+'Product Class Dist'!AH$13*SUMPRODUCT('Efficiency Dist'!AL132:AL141,'UEC Development'!$D$83:$D$92)+'Product Class Dist'!AH$14*SUMPRODUCT('Efficiency Dist'!AL167:AL176,'UEC Development'!$D$106:$D$115)+'Product Class Dist'!AH$15*SUMPRODUCT('Efficiency Dist'!AL202:AL211,'UEC Development'!$D$129:$D$138)+'Product Class Dist'!AH$16*SUMPRODUCT('Efficiency Dist'!AL237:AL246,'UEC Development'!$D$152:$D$161)+'Product Class Dist'!AH$17*SUMPRODUCT('Efficiency Dist'!AL272:AL281,'UEC Development'!$D$175:$D$184)+'Product Class Dist'!AH$18*SUMPRODUCT('Efficiency Dist'!AL307:AL316,'UEC Development'!$D$198:$D$207)+'Product Class Dist'!AH$19*SUMPRODUCT('Efficiency Dist'!AL342:AL351,'UEC Development'!$D$221:$D$230)+'Product Class Dist'!AH$20*SUMPRODUCT('Efficiency Dist'!AL377:AL386,'UEC Development'!$D$244:$D$253)+'Product Class Dist'!AH$21*SUMPRODUCT('Efficiency Dist'!AL412:AL421,'UEC Development'!$D$267:$D$276)+'Product Class Dist'!AH$22*SUMPRODUCT('Efficiency Dist'!AL447:AL456,'UEC Development'!$D$290:$D$299)+'Product Class Dist'!AH$23*SUMPRODUCT('Efficiency Dist'!AL482:AL491,'UEC Development'!$D$311:$D$320)+'Product Class Dist'!AH$24*SUMPRODUCT('Efficiency Dist'!AL517:AL526,'UEC Development'!$D$332:$D$341)+'Product Class Dist'!AH$25*SUMPRODUCT('Efficiency Dist'!AL552:AL561,'UEC Development'!$D$353:$D$362)+'Product Class Dist'!AH$26*SUMPRODUCT('Efficiency Dist'!AL587:AL596,'UEC Development'!$D$374:$D$383)+'Product Class Dist'!AH$27*SUMPRODUCT('Efficiency Dist'!AL622:AL631,'UEC Development'!$D$395:$D$404)+'Product Class Dist'!AH$28*SUMPRODUCT('Efficiency Dist'!AL657:AL666,'UEC Development'!$D$416:$D$425)+'Product Class Dist'!AH$29*SUMPRODUCT('Efficiency Dist'!AL692:AL701,'UEC Development'!$D$437:$D$446)+'Product Class Dist'!AH$30*SUMPRODUCT('Efficiency Dist'!AL725:AL732,'UEC Development'!$D$458:$D$465)+'Product Class Dist'!AH$31*SUMPRODUCT('Efficiency Dist'!AL756:AL763,'UEC Development'!$D$477:$D$484)+'Product Class Dist'!AH$32*SUMPRODUCT('Efficiency Dist'!AL789:AL798,'UEC Development'!$D$496:$D$505)+'Product Class Dist'!AH$33*SUMPRODUCT('Efficiency Dist'!AL824:AL833,'UEC Development'!$D$519:$D$528)+'Product Class Dist'!AH$34*SUMPRODUCT('Efficiency Dist'!AL859:AL868,'UEC Development'!$D$542:$D$551)","v":3558.9527702604241},{"$f":"'Product Class Dist'!AI$10*SUMPRODUCT('Efficiency Dist'!AM27:AM36,'UEC Development'!$D$14:$D$23)+'Product Class Dist'!AI$11*SUMPRODUCT('Efficiency Dist'!AM62:AM71,'UEC Development'!$D$37:$D$46)+'Product Class Dist'!AI$12*SUMPRODUCT('Efficiency Dist'!AM97:AM106,'UEC Development'!$D$60:$D$69)+'Product Class Dist'!AI$13*SUMPRODUCT('Efficiency Dist'!AM132:AM141,'UEC Development'!$D$83:$D$92)+'Product Class Dist'!AI$14*SUMPRODUCT('Efficiency Dist'!AM167:AM176,'UEC Development'!$D$106:$D$115)+'Product Class Dist'!AI$15*SUMPRODUCT('Efficiency Dist'!AM202:AM211,'UEC Development'!$D$129:$D$138)+'Product Class Dist'!AI$16*SUMPRODUCT('Efficiency Dist'!AM237:AM246,'UEC Development'!$D$152:$D$161)+'Product Class Dist'!AI$17*SUMPRODUCT('Efficiency Dist'!AM272:AM281,'UEC Development'!$D$175:$D$184)+'Product Class Dist'!AI$18*SUMPRODUCT('Efficiency Dist'!AM307:AM316,'UEC Development'!$D$198:$D$207)+'Product Class Dist'!AI$19*SUMPRODUCT('Efficiency Dist'!AM342:AM351,'UEC Development'!$D$221:$D$230)+'Product Class Dist'!AI$20*SUMPRODUCT('Efficiency Dist'!AM377:AM386,'UEC Development'!$D$244:$D$253)+'Product Class Dist'!AI$21*SUMPRODUCT('Efficiency Dist'!AM412:AM421,'UEC Development'!$D$267:$D$276)+'Product Class Dist'!AI$22*SUMPRODUCT('Efficiency Dist'!AM447:AM456,'UEC Development'!$D$290:$D$299)+'Product Class Dist'!AI$23*SUMPRODUCT('Efficiency Dist'!AM482:AM491,'UEC Development'!$D$311:$D$320)+'Product Class Dist'!AI$24*SUMPRODUCT('Efficiency Dist'!AM517:AM526,'UEC Development'!$D$332:$D$341)+'Product Class Dist'!AI$25*SUMPRODUCT('Efficiency Dist'!AM552:AM561,'UEC Development'!$D$353:$D$362)+'Product Class Dist'!AI$26*SUMPRODUCT('Efficiency Dist'!AM587:AM596,'UEC Development'!$D$374:$D$383)+'Product Class Dist'!AI$27*SUMPRODUCT('Efficiency Dist'!AM622:AM631,'UEC Development'!$D$395:$D$404)+'Product Class Dist'!AI$28*SUMPRODUCT('Efficiency Dist'!AM657:AM666,'UEC Development'!$D$416:$D$425)+'Product Class Dist'!AI$29*SUMPRODUCT('Efficiency Dist'!AM692:AM701,'UEC Development'!$D$437:$D$446)+'Product Class Dist'!AI$30*SUMPRODUCT('Efficiency Dist'!AM725:AM732,'UEC Development'!$D$458:$D$465)+'Product Class Dist'!AI$31*SUMPRODUCT('Efficiency Dist'!AM756:AM763,'UEC Development'!$D$477:$D$484)+'Product Class Dist'!AI$32*SUMPRODUCT('Efficiency Dist'!AM789:AM798,'UEC Development'!$D$496:$D$505)+'Product Class Dist'!AI$33*SUMPRODUCT('Efficiency Dist'!AM824:AM833,'UEC Development'!$D$519:$D$528)+'Product Class Dist'!AI$34*SUMPRODUCT('Efficiency Dist'!AM859:AM868,'UEC Development'!$D$542:$D$551)","v":3557.3342864048732},{"$f":"'Product Class Dist'!AJ$10*SUMPRODUCT('Efficiency Dist'!AN27:AN36,'UEC Development'!$D$14:$D$23)+'Product Class Dist'!AJ$11*SUMPRODUCT('Efficiency Dist'!AN62:AN71,'UEC Development'!$D$37:$D$46)+'Product Class Dist'!AJ$12*SUMPRODUCT('Efficiency Dist'!AN97:AN106,'UEC Development'!$D$60:$D$69)+'Product Class Dist'!AJ$13*SUMPRODUCT('Efficiency Dist'!AN132:AN141,'UEC Development'!$D$83:$D$92)+'Product Class Dist'!AJ$14*SUMPRODUCT('Efficiency Dist'!AN167:AN176,'UEC Development'!$D$106:$D$115)+'Product Class Dist'!AJ$15*SUMPRODUCT('Efficiency Dist'!AN202:AN211,'UEC Development'!$D$129:$D$138)+'Product Class Dist'!AJ$16*SUMPRODUCT('Efficiency Dist'!AN237:AN246,'UEC Development'!$D$152:$D$161)+'Product Class Dist'!AJ$17*SUMPRODUCT('Efficiency Dist'!AN272:AN281,'UEC Development'!$D$175:$D$184)+'Product Class Dist'!AJ$18*SUMPRODUCT('Efficiency Dist'!AN307:AN316,'UEC Development'!$D$198:$D$207)+'Product Class Dist'!AJ$19*SUMPRODUCT('Efficiency Dist'!AN342:AN351,'UEC Development'!$D$221:$D$230)+'Product Class Dist'!AJ$20*SUMPRODUCT('Efficiency Dist'!AN377:AN386,'UEC Development'!$D$244:$D$253)+'Product Class Dist'!AJ$21*SUMPRODUCT('Efficiency Dist'!AN412:AN421,'UEC Development'!$D$267:$D$276)+'Product Class Dist'!AJ$22*SUMPRODUCT('Efficiency Dist'!AN447:AN456,'UEC Development'!$D$290:$D$299)+'Product Class Dist'!AJ$23*SUMPRODUCT('Efficiency Dist'!AN482:AN491,'UEC Development'!$D$311:$D$320)+'Product Class Dist'!AJ$24*SUMPRODUCT('Efficiency Dist'!AN517:AN526,'UEC Development'!$D$332:$D$341)+'Product Class Dist'!AJ$25*SUMPRODUCT('Efficiency Dist'!AN552:AN561,'UEC Development'!$D$353:$D$362)+'Product Class Dist'!AJ$26*SUMPRODUCT('Efficiency Dist'!AN587:AN596,'UEC Development'!$D$374:$D$383)+'Product Class Dist'!AJ$27*SUMPRODUCT('Efficiency Dist'!AN622:AN631,'UEC Development'!$D$395:$D$404)+'Product Class Dist'!AJ$28*SUMPRODUCT('Efficiency Dist'!AN657:AN666,'UEC Development'!$D$416:$D$425)+'Product Class Dist'!AJ$29*SUMPRODUCT('Efficiency Dist'!AN692:AN701,'UEC Development'!$D$437:$D$446)+'Product Class Dist'!AJ$30*SUMPRODUCT('Efficiency Dist'!AN725:AN732,'UEC Development'!$D$458:$D$465)+'Product Class Dist'!AJ$31*SUMPRODUCT('Efficiency Dist'!AN756:AN763,'UEC Development'!$D$477:$D$484)+'Product Class Dist'!AJ$32*SUMPRODUCT('Efficiency Dist'!AN789:AN798,'UEC Development'!$D$496:$D$505)+'Product Class Dist'!AJ$33*SUMPRODUCT('Efficiency Dist'!AN824:AN833,'UEC Development'!$D$519:$D$528)+'Product Class Dist'!AJ$34*SUMPRODUCT('Efficiency Dist'!AN859:AN868,'UEC Development'!$D$542:$D$551)","v":3555.7158025493231},{"$f":"'Product Class Dist'!AK$10*SUMPRODUCT('Efficiency Dist'!AO27:AO36,'UEC Development'!$D$14:$D$23)+'Product Class Dist'!AK$11*SUMPRODUCT('Efficiency Dist'!AO62:AO71,'UEC Development'!$D$37:$D$46)+'Product Class Dist'!AK$12*SUMPRODUCT('Efficiency Dist'!AO97:AO106,'UEC Development'!$D$60:$D$69)+'Product Class Dist'!AK$13*SUMPRODUCT('Efficiency Dist'!AO132:AO141,'UEC Development'!$D$83:$D$92)+'Product Class Dist'!AK$14*SUMPRODUCT('Efficiency Dist'!AO167:AO176,'UEC Development'!$D$106:$D$115)+'Product Class Dist'!AK$15*SUMPRODUCT('Efficiency Dist'!AO202:AO211,'UEC Development'!$D$129:$D$138)+'Product Class Dist'!AK$16*SUMPRODUCT('Efficiency Dist'!AO237:AO246,'UEC Development'!$D$152:$D$161)+'Product Class Dist'!AK$17*SUMPRODUCT('Efficiency Dist'!AO272:AO281,'UEC Development'!$D$175:$D$184)+'Product Class Dist'!AK$18*SUMPRODUCT('Efficiency Dist'!AO307:AO316,'UEC Development'!$D$198:$D$207)+'Product Class Dist'!AK$19*SUMPRODUCT('Efficiency Dist'!AO342:AO351,'UEC Development'!$D$221:$D$230)+'Product Class Dist'!AK$20*SUMPRODUCT('Efficiency Dist'!AO377:AO386,'UEC Development'!$D$244:$D$253)+'Product Class Dist'!AK$21*SUMPRODUCT('Efficiency Dist'!AO412:AO421,'UEC Development'!$D$267:$D$276)+'Product Class Dist'!AK$22*SUMPRODUCT('Efficiency Dist'!AO447:AO456,'UEC Development'!$D$290:$D$299)+'Product Class Dist'!AK$23*SUMPRODUCT('Efficiency Dist'!AO482:AO491,'UEC Development'!$D$311:$D$320)+'Product Class Dist'!AK$24*SUMPRODUCT('Efficiency Dist'!AO517:AO526,'UEC Development'!$D$332:$D$341)+'Product Class Dist'!AK$25*SUMPRODUCT('Efficiency Dist'!AO552:AO561,'UEC Development'!$D$353:$D$362)+'Product Class Dist'!AK$26*SUMPRODUCT('Efficiency Dist'!AO587:AO596,'UEC Development'!$D$374:$D$383)+'Product Class Dist'!AK$27*SUMPRODUCT('Efficiency Dist'!AO622:AO631,'UEC Development'!$D$395:$D$404)+'Product Class Dist'!AK$28*SUMPRODUCT('Efficiency Dist'!AO657:AO666,'UEC Development'!$D$416:$D$425)+'Product Class Dist'!AK$29*SUMPRODUCT('Efficiency Dist'!AO692:AO701,'UEC Development'!$D$437:$D$446)+'Product Class Dist'!AK$30*SUMPRODUCT('Efficiency Dist'!AO725:AO732,'UEC Development'!$D$458:$D$465)+'Product Class Dist'!AK$31*SUMPRODUCT('Efficiency Dist'!AO756:AO763,'UEC Development'!$D$477:$D$484)+'Product Class Dist'!AK$32*SUMPRODUCT('Efficiency Dist'!AO789:AO798,'UEC Development'!$D$496:$D$505)+'Product Class Dist'!AK$33*SUMPRODUCT('Efficiency Dist'!AO824:AO833,'UEC Development'!$D$519:$D$528)+'Product Class Dist'!AK$34*SUMPRODUCT('Efficiency Dist'!AO859:AO868,'UEC Development'!$D$542:$D$551)","v":3554.0973186937736},{"$f":"'Product Class Dist'!AL$10*SUMPRODUCT('Efficiency Dist'!AP27:AP36,'UEC Development'!$D$14:$D$23)+'Product Class Dist'!AL$11*SUMPRODUCT('Efficiency Dist'!AP62:AP71,'UEC Development'!$D$37:$D$46)+'Product Class Dist'!AL$12*SUMPRODUCT('Efficiency Dist'!AP97:AP106,'UEC Development'!$D$60:$D$69)+'Product Class Dist'!AL$13*SUMPRODUCT('Efficiency Dist'!AP132:AP141,'UEC Development'!$D$83:$D$92)+'Product Class Dist'!AL$14*SUMPRODUCT('Efficiency Dist'!AP167:AP176,'UEC Development'!$D$106:$D$115)+'Product Class Dist'!AL$15*SUMPRODUCT('Efficiency Dist'!AP202:AP211,'UEC Development'!$D$129:$D$138)+'Product Class Dist'!AL$16*SUMPRODUCT('Efficiency Dist'!AP237:AP246,'UEC Development'!$D$152:$D$161)+'Product Class Dist'!AL$17*SUMPRODUCT('Efficiency Dist'!AP272:AP281,'UEC Development'!$D$175:$D$184)+'Product Class Dist'!AL$18*SUMPRODUCT('Efficiency Dist'!AP307:AP316,'UEC Development'!$D$198:$D$207)+'Product Class Dist'!AL$19*SUMPRODUCT('Efficiency Dist'!AP342:AP351,'UEC Development'!$D$221:$D$230)+'Product Class Dist'!AL$20*SUMPRODUCT('Efficiency Dist'!AP377:AP386,'UEC Development'!$D$244:$D$253)+'Product Class Dist'!AL$21*SUMPRODUCT('Efficiency Dist'!AP412:AP421,'UEC Development'!$D$267:$D$276)+'Product Class Dist'!AL$22*SUMPRODUCT('Efficiency Dist'!AP447:AP456,'UEC Development'!$D$290:$D$299)+'Product Class Dist'!AL$23*SUMPRODUCT('Efficiency Dist'!AP482:AP491,'UEC Development'!$D$311:$D$320)+'Product Class Dist'!AL$24*SUMPRODUCT('Efficiency Dist'!AP517:AP526,'UEC Development'!$D$332:$D$341)+'Product Class Dist'!AL$25*SUMPRODUCT('Efficiency Dist'!AP552:AP561,'UEC Development'!$D$353:$D$362)+'Product Class Dist'!AL$26*SUMPRODUCT('Efficiency Dist'!AP587:AP596,'UEC Development'!$D$374:$D$383)+'Product Class Dist'!AL$27*SUMPRODUCT('Efficiency Dist'!AP622:AP631,'UEC Development'!$D$395:$D$404)+'Product Class Dist'!AL$28*SUMPRODUCT('Efficiency Dist'!AP657:AP666,'UEC Development'!$D$416:$D$425)+'Product Class Dist'!AL$29*SUMPRODUCT('Efficiency Dist'!AP692:AP701,'UEC Development'!$D$437:$D$446)+'Product Class Dist'!AL$30*SUMPRODUCT('Efficiency Dist'!AP725:AP732,'UEC Development'!$D$458:$D$465)+'Product Class Dist'!AL$31*SUMPRODUCT('Efficiency Dist'!AP756:AP763,'UEC Development'!$D$477:$D$484)+'Product Class Dist'!AL$32*SUMPRODUCT('Efficiency Dist'!AP789:AP798,'UEC Development'!$D$496:$D$505)+'Product Class Dist'!AL$33*SUMPRODUCT('Efficiency Dist'!AP824:AP833,'UEC Development'!$D$519:$D$528)+'Product Class Dist'!AL$34*SUMPRODUCT('Efficiency Dist'!AP859:AP868,'UEC Development'!$D$542:$D$551)","v":3554.0973186937726},{"$f":"'Product Class Dist'!AM$10*SUMPRODUCT('Efficiency Dist'!AQ27:AQ36,'UEC Development'!$D$14:$D$23)+'Product Class Dist'!AM$11*SUMPRODUCT('Efficiency Dist'!AQ62:AQ71,'UEC Development'!$D$37:$D$46)+'Product Class Dist'!AM$12*SUMPRODUCT('Efficiency Dist'!AQ97:AQ106,'UEC Development'!$D$60:$D$69)+'Product Class Dist'!AM$13*SUMPRODUCT('Efficiency Dist'!AQ132:AQ141,'UEC Development'!$D$83:$D$92)+'Product Class Dist'!AM$14*SUMPRODUCT('Efficiency Dist'!AQ167:AQ176,'UEC Development'!$D$106:$D$115)+'Product Class Dist'!AM$15*SUMPRODUCT('Efficiency Dist'!AQ202:AQ211,'UEC Development'!$D$129:$D$138)+'Product Class Dist'!AM$16*SUMPRODUCT('Efficiency Dist'!AQ237:AQ246,'UEC Development'!$D$152:$D$161)+'Product Class Dist'!AM$17*SUMPRODUCT('Efficiency Dist'!AQ272:AQ281,'UEC Development'!$D$175:$D$184)+'Product Class Dist'!AM$18*SUMPRODUCT('Efficiency Dist'!AQ307:AQ316,'UEC Development'!$D$198:$D$207)+'Product Class Dist'!AM$19*SUMPRODUCT('Efficiency Dist'!AQ342:AQ351,'UEC Development'!$D$221:$D$230)+'Product Class Dist'!AM$20*SUMPRODUCT('Efficiency Dist'!AQ377:AQ386,'UEC Development'!$D$244:$D$253)+'Product Class Dist'!AM$21*SUMPRODUCT('Efficiency Dist'!AQ412:AQ421,'UEC Development'!$D$267:$D$276)+'Product Class Dist'!AM$22*SUMPRODUCT('Efficiency Dist'!AQ447:AQ456,'UEC Development'!$D$290:$D$299)+'Product Class Dist'!AM$23*SUMPRODUCT('Efficiency Dist'!AQ482:AQ491,'UEC Development'!$D$311:$D$320)+'Product Class Dist'!AM$24*SUMPRODUCT('Efficiency Dist'!AQ517:AQ526,'UEC Development'!$D$332:$D$341)+'Product Class Dist'!AM$25*SUMPRODUCT('Efficiency Dist'!AQ552:AQ561,'UEC Development'!$D$353:$D$362)+'Product Class Dist'!AM$26*SUMPRODUCT('Efficiency Dist'!AQ587:AQ596,'UEC Development'!$D$374:$D$383)+'Product Class Dist'!AM$27*SUMPRODUCT('Efficiency Dist'!AQ622:AQ631,'UEC Development'!$D$395:$D$404)+'Product Class Dist'!AM$28*SUMPRODUCT('Efficiency Dist'!AQ657:AQ666,'UEC Development'!$D$416:$D$425)+'Product Class Dist'!AM$29*SUMPRODUCT('Efficiency Dist'!AQ692:AQ701,'UEC Development'!$D$437:$D$446)+'Product Class Dist'!AM$30*SUMPRODUCT('Efficiency Dist'!AQ725:AQ732,'UEC Development'!$D$458:$D$465)+'Product Class Dist'!AM$31*SUMPRODUCT('Efficiency Dist'!AQ756:AQ763,'UEC Development'!$D$477:$D$484)+'Product Class Dist'!AM$32*SUMPRODUCT('Efficiency Dist'!AQ789:AQ798,'UEC Development'!$D$496:$D$505)+'Product Class Dist'!AM$33*SUMPRODUCT('Efficiency Dist'!AQ824:AQ833,'UEC Development'!$D$519:$D$528)+'Product Class Dist'!AM$34*SUMPRODUCT('Efficiency Dist'!AQ859:AQ868,'UEC Development'!$D$542:$D$551)","v":3554.097318693774},{"$f":"'Product Class Dist'!AN$10*SUMPRODUCT('Efficiency Dist'!AR27:AR36,'UEC Development'!$D$14:$D$23)+'Product Class Dist'!AN$11*SUMPRODUCT('Efficiency Dist'!AR62:AR71,'UEC Development'!$D$37:$D$46)+'Product Class Dist'!AN$12*SUMPRODUCT('Efficiency Dist'!AR97:AR106,'UEC Development'!$D$60:$D$69)+'Product Class Dist'!AN$13*SUMPRODUCT('Efficiency Dist'!AR132:AR141,'UEC Development'!$D$83:$D$92)+'Product Class Dist'!AN$14*SUMPRODUCT('Efficiency Dist'!AR167:AR176,'UEC Development'!$D$106:$D$115)+'Product Class Dist'!AN$15*SUMPRODUCT('Efficiency Dist'!AR202:AR211,'UEC Development'!$D$129:$D$138)+'Product Class Dist'!AN$16*SUMPRODUCT('Efficiency Dist'!AR237:AR246,'UEC Development'!$D$152:$D$161)+'Product Class Dist'!AN$17*SUMPRODUCT('Efficiency Dist'!AR272:AR281,'UEC Development'!$D$175:$D$184)+'Product Class Dist'!AN$18*SUMPRODUCT('Efficiency Dist'!AR307:AR316,'UEC Development'!$D$198:$D$207)+'Product Class Dist'!AN$19*SUMPRODUCT('Efficiency Dist'!AR342:AR351,'UEC Development'!$D$221:$D$230)+'Product Class Dist'!AN$20*SUMPRODUCT('Efficiency Dist'!AR377:AR386,'UEC Development'!$D$244:$D$253)+'Product Class Dist'!AN$21*SUMPRODUCT('Efficiency Dist'!AR412:AR421,'UEC Development'!$D$267:$D$276)+'Product Class Dist'!AN$22*SUMPRODUCT('Efficiency Dist'!AR447:AR456,'UEC Development'!$D$290:$D$299)+'Product Class Dist'!AN$23*SUMPRODUCT('Efficiency Dist'!AR482:AR491,'UEC Development'!$D$311:$D$320)+'Product Class Dist'!AN$24*SUMPRODUCT('Efficiency Dist'!AR517:AR526,'UEC Development'!$D$332:$D$341)+'Product Class Dist'!AN$25*SUMPRODUCT('Efficiency Dist'!AR552:AR561,'UEC Development'!$D$353:$D$362)+'Product Class Dist'!AN$26*SUMPRODUCT('Efficiency Dist'!AR587:AR596,'UEC Development'!$D$374:$D$383)+'Product Class Dist'!AN$27*SUMPRODUCT('Efficiency Dist'!AR622:AR631,'UEC Development'!$D$395:$D$404)+'Product Class Dist'!AN$28*SUMPRODUCT('Efficiency Dist'!AR657:AR666,'UEC Development'!$D$416:$D$425)+'Product Class Dist'!AN$29*SUMPRODUCT('Efficiency Dist'!AR692:AR701,'UEC Development'!$D$437:$D$446)+'Product Class Dist'!AN$30*SUMPRODUCT('Efficiency Dist'!AR725:AR732,'UEC Development'!$D$458:$D$465)+'Product Class Dist'!AN$31*SUMPRODUCT('Efficiency Dist'!AR756:AR763,'UEC Development'!$D$477:$D$484)+'Product Class Dist'!AN$32*SUMPRODUCT('Efficiency Dist'!AR789:AR798,'UEC Development'!$D$496:$D$505)+'Product Class Dist'!AN$33*SUMPRODUCT('Efficiency Dist'!AR824:AR833,'UEC Development'!$D$519:$D$528)+'Product Class Dist'!AN$34*SUMPRODUCT('Efficiency Dist'!AR859:AR868,'UEC Development'!$D$542:$D$551)","v":3554.0973186937731},{"$f":"'Product Class Dist'!AO$10*SUMPRODUCT('Efficiency Dist'!AS27:AS36,'UEC Development'!$D$14:$D$23)+'Product Class Dist'!AO$11*SUMPRODUCT('Efficiency Dist'!AS62:AS71,'UEC Development'!$D$37:$D$46)+'Product Class Dist'!AO$12*SUMPRODUCT('Efficiency Dist'!AS97:AS106,'UEC Development'!$D$60:$D$69)+'Product Class Dist'!AO$13*SUMPRODUCT('Efficiency Dist'!AS132:AS141,'UEC Development'!$D$83:$D$92)+'Product Class Dist'!AO$14*SUMPRODUCT('Efficiency Dist'!AS167:AS176,'UEC Development'!$D$106:$D$115)+'Product Class Dist'!AO$15*SUMPRODUCT('Efficiency Dist'!AS202:AS211,'UEC Development'!$D$129:$D$138)+'Product Class Dist'!AO$16*SUMPRODUCT('Efficiency Dist'!AS237:AS246,'UEC Development'!$D$152:$D$161)+'Product Class Dist'!AO$17*SUMPRODUCT('Efficiency Dist'!AS272:AS281,'UEC Development'!$D$175:$D$184)+'Product Class Dist'!AO$18*SUMPRODUCT('Efficiency Dist'!AS307:AS316,'UEC Development'!$D$198:$D$207)+'Product Class Dist'!AO$19*SUMPRODUCT('Efficiency Dist'!AS342:AS351,'UEC Development'!$D$221:$D$230)+'Product Class Dist'!AO$20*SUMPRODUCT('Efficiency Dist'!AS377:AS386,'UEC Development'!$D$244:$D$253)+'Product Class Dist'!AO$21*SUMPRODUCT('Efficiency Dist'!AS412:AS421,'UEC Development'!$D$267:$D$276)+'Product Class Dist'!AO$22*SUMPRODUCT('Efficiency Dist'!AS447:AS456,'UEC Development'!$D$290:$D$299)+'Product Class Dist'!AO$23*SUMPRODUCT('Efficiency Dist'!AS482:AS491,'UEC Development'!$D$311:$D$320)+'Product Class Dist'!AO$24*SUMPRODUCT('Efficiency Dist'!AS517:AS526,'UEC Development'!$D$332:$D$341)+'Product Class Dist'!AO$25*SUMPRODUCT('Efficiency Dist'!AS552:AS561,'UEC Development'!$D$353:$D$362)+'Product Class Dist'!AO$26*SUMPRODUCT('Efficiency Dist'!AS587:AS596,'UEC Development'!$D$374:$D$383)+'Product Class Dist'!AO$27*SUMPRODUCT('Efficiency Dist'!AS622:AS631,'UEC Development'!$D$395:$D$404)+'Product Class Dist'!AO$28*SUMPRODUCT('Efficiency Dist'!AS657:AS666,'UEC Development'!$D$416:$D$425)+'Product Class Dist'!AO$29*SUMPRODUCT('Efficiency Dist'!AS692:AS701,'UEC Development'!$D$437:$D$446)+'Product Class Dist'!AO$30*SUMPRODUCT('Efficiency Dist'!AS725:AS732,'UEC Development'!$D$458:$D$465)+'Product Class Dist'!AO$31*SUMPRODUCT('Efficiency Dist'!AS756:AS763,'UEC Development'!$D$477:$D$484)+'Product Class Dist'!AO$32*SUMPRODUCT('Efficiency Dist'!AS789:AS798,'UEC Development'!$D$496:$D$505)+'Product Class Dist'!AO$33*SUMPRODUCT('Efficiency Dist'!AS824:AS833,'UEC Development'!$D$519:$D$528)+'Product Class Dist'!AO$34*SUMPRODUCT('Efficiency Dist'!AS859:AS868,'UEC Development'!$D$542:$D$551)","v":3554.0973186937736},{"$f":"'Product Class Dist'!AP$10*SUMPRODUCT('Efficiency Dist'!AT27:AT36,'UEC Development'!$D$14:$D$23)+'Product Class Dist'!AP$11*SUMPRODUCT('Efficiency Dist'!AT62:AT71,'UEC Development'!$D$37:$D$46)+'Product Class Dist'!AP$12*SUMPRODUCT('Efficiency Dist'!AT97:AT106,'UEC Development'!$D$60:$D$69)+'Product Class Dist'!AP$13*SUMPRODUCT('Efficiency Dist'!AT132:AT141,'UEC Development'!$D$83:$D$92)+'Product Class Dist'!AP$14*SUMPRODUCT('Efficiency Dist'!AT167:AT176,'UEC Development'!$D$106:$D$115)+'Product Class Dist'!AP$15*SUMPRODUCT('Efficiency Dist'!AT202:AT211,'UEC Development'!$D$129:$D$138)+'Product Class Dist'!AP$16*SUMPRODUCT('Efficiency Dist'!AT237:AT246,'UEC Development'!$D$152:$D$161)+'Product Class Dist'!AP$17*SUMPRODUCT('Efficiency Dist'!AT272:AT281,'UEC Development'!$D$175:$D$184)+'Product Class Dist'!AP$18*SUMPRODUCT('Efficiency Dist'!AT307:AT316,'UEC Development'!$D$198:$D$207)+'Product Class Dist'!AP$19*SUMPRODUCT('Efficiency Dist'!AT342:AT351,'UEC Development'!$D$221:$D$230)+'Product Class Dist'!AP$20*SUMPRODUCT('Efficiency Dist'!AT377:AT386,'UEC Development'!$D$244:$D$253)+'Product Class Dist'!AP$21*SUMPRODUCT('Efficiency Dist'!AT412:AT421,'UEC Development'!$D$267:$D$276)+'Product Class Dist'!AP$22*SUMPRODUCT('Efficiency Dist'!AT447:AT456,'UEC Development'!$D$290:$D$299)+'Product Class Dist'!AP$23*SUMPRODUCT('Efficiency Dist'!AT482:AT491,'UEC Development'!$D$311:$D$320)+'Product Class Dist'!AP$24*SUMPRODUCT('Efficiency Dist'!AT517:AT526,'UEC Development'!$D$332:$D$341)+'Product Class Dist'!AP$25*SUMPRODUCT('Efficiency Dist'!AT552:AT561,'UEC Development'!$D$353:$D$362)+'Product Class Dist'!AP$26*SUMPRODUCT('Efficiency Dist'!AT587:AT596,'UEC Development'!$D$374:$D$383)+'Product Class Dist'!AP$27*SUMPRODUCT('Efficiency Dist'!AT622:AT631,'UEC Development'!$D$395:$D$404)+'Product Class Dist'!AP$28*SUMPRODUCT('Efficiency Dist'!AT657:AT666,'UEC Development'!$D$416:$D$425)+'Product Class Dist'!AP$29*SUMPRODUCT('Efficiency Dist'!AT692:AT701,'UEC Development'!$D$437:$D$446)+'Product Class Dist'!AP$30*SUMPRODUCT('Efficiency Dist'!AT725:AT732,'UEC Development'!$D$458:$D$465)+'Product Class Dist'!AP$31*SUMPRODUCT('Efficiency Dist'!AT756:AT763,'UEC Development'!$D$477:$D$484)+'Product Class Dist'!AP$32*SUMPRODUCT('Efficiency Dist'!AT789:AT798,'UEC Development'!$D$496:$D$505)+'Product Class Dist'!AP$33*SUMPRODUCT('Efficiency Dist'!AT824:AT833,'UEC Development'!$D$519:$D$528)+'Product Class Dist'!AP$34*SUMPRODUCT('Efficiency Dist'!AT859:AT868,'UEC Development'!$D$542:$D$551)","v":3554.0973186937722},{"$f":"'Product Class Dist'!AQ$10*SUMPRODUCT('Efficiency Dist'!AU27:AU36,'UEC Development'!$D$14:$D$23)+'Product Class Dist'!AQ$11*SUMPRODUCT('Efficiency Dist'!AU62:AU71,'UEC Development'!$D$37:$D$46)+'Product Class Dist'!AQ$12*SUMPRODUCT('Efficiency Dist'!AU97:AU106,'UEC Development'!$D$60:$D$69)+'Product Class Dist'!AQ$13*SUMPRODUCT('Efficiency Dist'!AU132:AU141,'UEC Development'!$D$83:$D$92)+'Product Class Dist'!AQ$14*SUMPRODUCT('Efficiency Dist'!AU167:AU176,'UEC Development'!$D$106:$D$115)+'Product Class Dist'!AQ$15*SUMPRODUCT('Efficiency Dist'!AU202:AU211,'UEC Development'!$D$129:$D$138)+'Product Class Dist'!AQ$16*SUMPRODUCT('Efficiency Dist'!AU237:AU246,'UEC Development'!$D$152:$D$161)+'Product Class Dist'!AQ$17*SUMPRODUCT('Efficiency Dist'!AU272:AU281,'UEC Development'!$D$175:$D$184)+'Product Class Dist'!AQ$18*SUMPRODUCT('Efficiency Dist'!AU307:AU316,'UEC Development'!$D$198:$D$207)+'Product Class Dist'!AQ$19*SUMPRODUCT('Efficiency Dist'!AU342:AU351,'UEC Development'!$D$221:$D$230)+'Product Class Dist'!AQ$20*SUMPRODUCT('Efficiency Dist'!AU377:AU386,'UEC Development'!$D$244:$D$253)+'Product Class Dist'!AQ$21*SUMPRODUCT('Efficiency Dist'!AU412:AU421,'UEC Development'!$D$267:$D$276)+'Product Class Dist'!AQ$22*SUMPRODUCT('Efficiency Dist'!AU447:AU456,'UEC Development'!$D$290:$D$299)+'Product Class Dist'!AQ$23*SUMPRODUCT('Efficiency Dist'!AU482:AU491,'UEC Development'!$D$311:$D$320)+'Product Class Dist'!AQ$24*SUMPRODUCT('Efficiency Dist'!AU517:AU526,'UEC Development'!$D$332:$D$341)+'Product Class Dist'!AQ$25*SUMPRODUCT('Efficiency Dist'!AU552:AU561,'UEC Development'!$D$353:$D$362)+'Product Class Dist'!AQ$26*SUMPRODUCT('Efficiency Dist'!AU587:AU596,'UEC Development'!$D$374:$D$383)+'Product Class Dist'!AQ$27*SUMPRODUCT('Efficiency Dist'!AU622:AU631,'UEC Development'!$D$395:$D$404)+'Product Class Dist'!AQ$28*SUMPRODUCT('Efficiency Dist'!AU657:AU666,'UEC Development'!$D$416:$D$425)+'Product Class Dist'!AQ$29*SUMPRODUCT('Efficiency Dist'!AU692:AU701,'UEC Development'!$D$437:$D$446)+'Product Class Dist'!AQ$30*SUMPRODUCT('Efficiency Dist'!AU725:AU732,'UEC Development'!$D$458:$D$465)+'Product Class Dist'!AQ$31*SUMPRODUCT('Efficiency Dist'!AU756:AU763,'UEC Development'!$D$477:$D$484)+'Product Class Dist'!AQ$32*SUMPRODUCT('Efficiency Dist'!AU789:AU798,'UEC Development'!$D$496:$D$505)+'Product Class Dist'!AQ$33*SUMPRODUCT('Efficiency Dist'!AU824:AU833,'UEC Development'!$D$519:$D$528)+'Product Class Dist'!AQ$34*SUMPRODUCT('Efficiency Dist'!AU859:AU868,'UEC Development'!$D$542:$D$551)","v":3554.0973186937726},{"$f":"'Product Class Dist'!AR$10*SUMPRODUCT('Efficiency Dist'!AV27:AV36,'UEC Development'!$D$14:$D$23)+'Product Class Dist'!AR$11*SUMPRODUCT('Efficiency Dist'!AV62:AV71,'UEC Development'!$D$37:$D$46)+'Product Class Dist'!AR$12*SUMPRODUCT('Efficiency Dist'!AV97:AV106,'UEC Development'!$D$60:$D$69)+'Product Class Dist'!AR$13*SUMPRODUCT('Efficiency Dist'!AV132:AV141,'UEC Development'!$D$83:$D$92)+'Product Class Dist'!AR$14*SUMPRODUCT('Efficiency Dist'!AV167:AV176,'UEC Development'!$D$106:$D$115)+'Product Class Dist'!AR$15*SUMPRODUCT('Efficiency Dist'!AV202:AV211,'UEC Development'!$D$129:$D$138)+'Product Class Dist'!AR$16*SUMPRODUCT('Efficiency Dist'!AV237:AV246,'UEC Development'!$D$152:$D$161)+'Product Class Dist'!AR$17*SUMPRODUCT('Efficiency Dist'!AV272:AV281,'UEC Development'!$D$175:$D$184)+'Product Class Dist'!AR$18*SUMPRODUCT('Efficiency Dist'!AV307:AV316,'UEC Development'!$D$198:$D$207)+'Product Class Dist'!AR$19*SUMPRODUCT('Efficiency Dist'!AV342:AV351,'UEC Development'!$D$221:$D$230)+'Product Class Dist'!AR$20*SUMPRODUCT('Efficiency Dist'!AV377:AV386,'UEC Development'!$D$244:$D$253)+'Product Class Dist'!AR$21*SUMPRODUCT('Efficiency Dist'!AV412:AV421,'UEC Development'!$D$267:$D$276)+'Product Class Dist'!AR$22*SUMPRODUCT('Efficiency Dist'!AV447:AV456,'UEC Development'!$D$290:$D$299)+'Product Class Dist'!AR$23*SUMPRODUCT('Efficiency Dist'!AV482:AV491,'UEC Development'!$D$311:$D$320)+'Product Class Dist'!AR$24*SUMPRODUCT('Efficiency Dist'!AV517:AV526,'UEC Development'!$D$332:$D$341)+'Product Class Dist'!AR$25*SUMPRODUCT('Efficiency Dist'!AV552:AV561,'UEC Development'!$D$353:$D$362)+'Product Class Dist'!AR$26*SUMPRODUCT('Efficiency Dist'!AV587:AV596,'UEC Development'!$D$374:$D$383)+'Product Class Dist'!AR$27*SUMPRODUCT('Efficiency Dist'!AV622:AV631,'UEC Development'!$D$395:$D$404)+'Product Class Dist'!AR$28*SUMPRODUCT('Efficiency Dist'!AV657:AV666,'UEC Development'!$D$416:$D$425)+'Product Class Dist'!AR$29*SUMPRODUCT('Efficiency Dist'!AV692:AV701,'UEC Development'!$D$437:$D$446)+'Product Class Dist'!AR$30*SUMPRODUCT('Efficiency Dist'!AV725:AV732,'UEC Development'!$D$458:$D$465)+'Product Class Dist'!AR$31*SUMPRODUCT('Efficiency Dist'!AV756:AV763,'UEC Development'!$D$477:$D$484)+'Product Class Dist'!AR$32*SUMPRODUCT('Efficiency Dist'!AV789:AV798,'UEC Development'!$D$496:$D$505)+'Product Class Dist'!AR$33*SUMPRODUCT('Efficiency Dist'!AV824:AV833,'UEC Development'!$D$519:$D$528)+'Product Class Dist'!AR$34*SUMPRODUCT('Efficiency Dist'!AV859:AV868,'UEC Development'!$D$542:$D$551)","v":3554.0973186937726},{"$f":"'Product Class Dist'!AS$10*SUMPRODUCT('Efficiency Dist'!AW27:AW36,'UEC Development'!$D$14:$D$23)+'Product Class Dist'!AS$11*SUMPRODUCT('Efficiency Dist'!AW62:AW71,'UEC Development'!$D$37:$D$46)+'Product Class Dist'!AS$12*SUMPRODUCT('Efficiency Dist'!AW97:AW106,'UEC Development'!$D$60:$D$69)+'Product Class Dist'!AS$13*SUMPRODUCT('Efficiency Dist'!AW132:AW141,'UEC Development'!$D$83:$D$92)+'Product Class Dist'!AS$14*SUMPRODUCT('Efficiency Dist'!AW167:AW176,'UEC Development'!$D$106:$D$115)+'Product Class Dist'!AS$15*SUMPRODUCT('Efficiency Dist'!AW202:AW211,'UEC Development'!$D$129:$D$138)+'Product Class Dist'!AS$16*SUMPRODUCT('Efficiency Dist'!AW237:AW246,'UEC Development'!$D$152:$D$161)+'Product Class Dist'!AS$17*SUMPRODUCT('Efficiency Dist'!AW272:AW281,'UEC Development'!$D$175:$D$184)+'Product Class Dist'!AS$18*SUMPRODUCT('Efficiency Dist'!AW307:AW316,'UEC Development'!$D$198:$D$207)+'Product Class Dist'!AS$19*SUMPRODUCT('Efficiency Dist'!AW342:AW351,'UEC Development'!$D$221:$D$230)+'Product Class Dist'!AS$20*SUMPRODUCT('Efficiency Dist'!AW377:AW386,'UEC Development'!$D$244:$D$253)+'Product Class Dist'!AS$21*SUMPRODUCT('Efficiency Dist'!AW412:AW421,'UEC Development'!$D$267:$D$276)+'Product Class Dist'!AS$22*SUMPRODUCT('Efficiency Dist'!AW447:AW456,'UEC Development'!$D$290:$D$299)+'Product Class Dist'!AS$23*SUMPRODUCT('Efficiency Dist'!AW482:AW491,'UEC Development'!$D$311:$D$320)+'Product Class Dist'!AS$24*SUMPRODUCT('Efficiency Dist'!AW517:AW526,'UEC Development'!$D$332:$D$341)+'Product Class Dist'!AS$25*SUMPRODUCT('Efficiency Dist'!AW552:AW561,'UEC Development'!$D$353:$D$362)+'Product Class Dist'!AS$26*SUMPRODUCT('Efficiency Dist'!AW587:AW596,'UEC Development'!$D$374:$D$383)+'Product Class Dist'!AS$27*SUMPRODUCT('Efficiency Dist'!AW622:AW631,'UEC Development'!$D$395:$D$404)+'Product Class Dist'!AS$28*SUMPRODUCT('Efficiency Dist'!AW657:AW666,'UEC Development'!$D$416:$D$425)+'Product Class Dist'!AS$29*SUMPRODUCT('Efficiency Dist'!AW692:AW701,'UEC Development'!$D$437:$D$446)+'Product Class Dist'!AS$30*SUMPRODUCT('Efficiency Dist'!AW725:AW732,'UEC Development'!$D$458:$D$465)+'Product Class Dist'!AS$31*SUMPRODUCT('Efficiency Dist'!AW756:AW763,'UEC Development'!$D$477:$D$484)+'Product Class Dist'!AS$32*SUMPRODUCT('Efficiency Dist'!AW789:AW798,'UEC Development'!$D$496:$D$505)+'Product Class Dist'!AS$33*SUMPRODUCT('Efficiency Dist'!AW824:AW833,'UEC Development'!$D$519:$D$528)+'Product Class Dist'!AS$34*SUMPRODUCT('Efficiency Dist'!AW859:AW868,'UEC Development'!$D$542:$D$551)","v":3554.0973186937726},{"$f":"'Product Class Dist'!AT$10*SUMPRODUCT('Efficiency Dist'!AX27:AX36,'UEC Development'!$D$14:$D$23)+'Product Class Dist'!AT$11*SUMPRODUCT('Efficiency Dist'!AX62:AX71,'UEC Development'!$D$37:$D$46)+'Product Class Dist'!AT$12*SUMPRODUCT('Efficiency Dist'!AX97:AX106,'UEC Development'!$D$60:$D$69)+'Product Class Dist'!AT$13*SUMPRODUCT('Efficiency Dist'!AX132:AX141,'UEC Development'!$D$83:$D$92)+'Product Class Dist'!AT$14*SUMPRODUCT('Efficiency Dist'!AX167:AX176,'UEC Development'!$D$106:$D$115)+'Product Class Dist'!AT$15*SUMPRODUCT('Efficiency Dist'!AX202:AX211,'UEC Development'!$D$129:$D$138)+'Product Class Dist'!AT$16*SUMPRODUCT('Efficiency Dist'!AX237:AX246,'UEC Development'!$D$152:$D$161)+'Product Class Dist'!AT$17*SUMPRODUCT('Efficiency Dist'!AX272:AX281,'UEC Development'!$D$175:$D$184)+'Product Class Dist'!AT$18*SUMPRODUCT('Efficiency Dist'!AX307:AX316,'UEC Development'!$D$198:$D$207)+'Product Class Dist'!AT$19*SUMPRODUCT('Efficiency Dist'!AX342:AX351,'UEC Development'!$D$221:$D$230)+'Product Class Dist'!AT$20*SUMPRODUCT('Efficiency Dist'!AX377:AX386,'UEC Development'!$D$244:$D$253)+'Product Class Dist'!AT$21*SUMPRODUCT('Efficiency Dist'!AX412:AX421,'UEC Development'!$D$267:$D$276)+'Product Class Dist'!AT$22*SUMPRODUCT('Efficiency Dist'!AX447:AX456,'UEC Development'!$D$290:$D$299)+'Product Class Dist'!AT$23*SUMPRODUCT('Efficiency Dist'!AX482:AX491,'UEC Development'!$D$311:$D$320)+'Product Class Dist'!AT$24*SUMPRODUCT('Efficiency Dist'!AX517:AX526,'UEC Development'!$D$332:$D$341)+'Product Class Dist'!AT$25*SUMPRODUCT('Efficiency Dist'!AX552:AX561,'UEC Development'!$D$353:$D$362)+'Product Class Dist'!AT$26*SUMPRODUCT('Efficiency Dist'!AX587:AX596,'UEC Development'!$D$374:$D$383)+'Product Class Dist'!AT$27*SUMPRODUCT('Efficiency Dist'!AX622:AX631,'UEC Development'!$D$395:$D$404)+'Product Class Dist'!AT$28*SUMPRODUCT('Efficiency Dist'!AX657:AX666,'UEC Development'!$D$416:$D$425)+'Product Class Dist'!AT$29*SUMPRODUCT('Efficiency Dist'!AX692:AX701,'UEC Development'!$D$437:$D$446)+'Product Class Dist'!AT$30*SUMPRODUCT('Efficiency Dist'!AX725:AX732,'UEC Development'!$D$458:$D$465)+'Product Class Dist'!AT$31*SUMPRODUCT('Efficiency Dist'!AX756:AX763,'UEC Development'!$D$477:$D$484)+'Product Class Dist'!AT$32*SUMPRODUCT('Efficiency Dist'!AX789:AX798,'UEC Development'!$D$496:$D$505)+'Product Class Dist'!AT$33*SUMPRODUCT('Efficiency Dist'!AX824:AX833,'UEC Development'!$D$519:$D$528)+'Product Class Dist'!AT$34*SUMPRODUCT('Efficiency Dist'!AX859:AX868,'UEC Development'!$D$542:$D$551)","v":3554.0973186937722},{"$f":"'Product Class Dist'!AU$10*SUMPRODUCT('Efficiency Dist'!AY27:AY36,'UEC Development'!$D$14:$D$23)+'Product Class Dist'!AU$11*SUMPRODUCT('Efficiency Dist'!AY62:AY71,'UEC Development'!$D$37:$D$46)+'Product Class Dist'!AU$12*SUMPRODUCT('Efficiency Dist'!AY97:AY106,'UEC Development'!$D$60:$D$69)+'Product Class Dist'!AU$13*SUMPRODUCT('Efficiency Dist'!AY132:AY141,'UEC Development'!$D$83:$D$92)+'Product Class Dist'!AU$14*SUMPRODUCT('Efficiency Dist'!AY167:AY176,'UEC Development'!$D$106:$D$115)+'Product Class Dist'!AU$15*SUMPRODUCT('Efficiency Dist'!AY202:AY211,'UEC Development'!$D$129:$D$138)+'Product Class Dist'!AU$16*SUMPRODUCT('Efficiency Dist'!AY237:AY246,'UEC Development'!$D$152:$D$161)+'Product Class Dist'!AU$17*SUMPRODUCT('Efficiency Dist'!AY272:AY281,'UEC Development'!$D$175:$D$184)+'Product Class Dist'!AU$18*SUMPRODUCT('Efficiency Dist'!AY307:AY316,'UEC Development'!$D$198:$D$207)+'Product Class Dist'!AU$19*SUMPRODUCT('Efficiency Dist'!AY342:AY351,'UEC Development'!$D$221:$D$230)+'Product Class Dist'!AU$20*SUMPRODUCT('Efficiency Dist'!AY377:AY386,'UEC Development'!$D$244:$D$253)+'Product Class Dist'!AU$21*SUMPRODUCT('Efficiency Dist'!AY412:AY421,'UEC Development'!$D$267:$D$276)+'Product Class Dist'!AU$22*SUMPRODUCT('Efficiency Dist'!AY447:AY456,'UEC Development'!$D$290:$D$299)+'Product Class Dist'!AU$23*SUMPRODUCT('Efficiency Dist'!AY482:AY491,'UEC Development'!$D$311:$D$320)+'Product Class Dist'!AU$24*SUMPRODUCT('Efficiency Dist'!AY517:AY526,'UEC Development'!$D$332:$D$341)+'Product Class Dist'!AU$25*SUMPRODUCT('Efficiency Dist'!AY552:AY561,'UEC Development'!$D$353:$D$362)+'Product Class Dist'!AU$26*SUMPRODUCT('Efficiency Dist'!AY587:AY596,'UEC Development'!$D$374:$D$383)+'Product Class Dist'!AU$27*SUMPRODUCT('Efficiency Dist'!AY622:AY631,'UEC Development'!$D$395:$D$404)+'Product Class Dist'!AU$28*SUMPRODUCT('Efficiency Dist'!AY657:AY666,'UEC Development'!$D$416:$D$425)+'Product Class Dist'!AU$29*SUMPRODUCT('Efficiency Dist'!AY692:AY701,'UEC Development'!$D$437:$D$446)+'Product Class Dist'!AU$30*SUMPRODUCT('Efficiency Dist'!AY725:AY732,'UEC Development'!$D$458:$D$465)+'Product Class Dist'!AU$31*SUMPRODUCT('Efficiency Dist'!AY756:AY763,'UEC Development'!$D$477:$D$484)+'Product Class Dist'!AU$32*SUMPRODUCT('Efficiency Dist'!AY789:AY798,'UEC Development'!$D$496:$D$505)+'Product Class Dist'!AU$33*SUMPRODUCT('Efficiency Dist'!AY824:AY833,'UEC Development'!$D$519:$D$528)+'Product Class Dist'!AU$34*SUMPRODUCT('Efficiency Dist'!AY859:AY868,'UEC Development'!$D$542:$D$551)","v":3554.0973186937717},{"$f":"'Product Class Dist'!AV$10*SUMPRODUCT('Efficiency Dist'!AZ27:AZ36,'UEC Development'!$D$14:$D$23)+'Product Class Dist'!AV$11*SUMPRODUCT('Efficiency Dist'!AZ62:AZ71,'UEC Development'!$D$37:$D$46)+'Product Class Dist'!AV$12*SUMPRODUCT('Efficiency Dist'!AZ97:AZ106,'UEC Development'!$D$60:$D$69)+'Product Class Dist'!AV$13*SUMPRODUCT('Efficiency Dist'!AZ132:AZ141,'UEC Development'!$D$83:$D$92)+'Product Class Dist'!AV$14*SUMPRODUCT('Efficiency Dist'!AZ167:AZ176,'UEC Development'!$D$106:$D$115)+'Product Class Dist'!AV$15*SUMPRODUCT('Efficiency Dist'!AZ202:AZ211,'UEC Development'!$D$129:$D$138)+'Product Class Dist'!AV$16*SUMPRODUCT('Efficiency Dist'!AZ237:AZ246,'UEC Development'!$D$152:$D$161)+'Product Class Dist'!AV$17*SUMPRODUCT('Efficiency Dist'!AZ272:AZ281,'UEC Development'!$D$175:$D$184)+'Product Class Dist'!AV$18*SUMPRODUCT('Efficiency Dist'!AZ307:AZ316,'UEC Development'!$D$198:$D$207)+'Product Class Dist'!AV$19*SUMPRODUCT('Efficiency Dist'!AZ342:AZ351,'UEC Development'!$D$221:$D$230)+'Product Class Dist'!AV$20*SUMPRODUCT('Efficiency Dist'!AZ377:AZ386,'UEC Development'!$D$244:$D$253)+'Product Class Dist'!AV$21*SUMPRODUCT('Efficiency Dist'!AZ412:AZ421,'UEC Development'!$D$267:$D$276)+'Product Class Dist'!AV$22*SUMPRODUCT('Efficiency Dist'!AZ447:AZ456,'UEC Development'!$D$290:$D$299)+'Product Class Dist'!AV$23*SUMPRODUCT('Efficiency Dist'!AZ482:AZ491,'UEC Development'!$D$311:$D$320)+'Product Class Dist'!AV$24*SUMPRODUCT('Efficiency Dist'!AZ517:AZ526,'UEC Development'!$D$332:$D$341)+'Product Class Dist'!AV$25*SUMPRODUCT('Efficiency Dist'!AZ552:AZ561,'UEC Development'!$D$353:$D$362)+'Product Class Dist'!AV$26*SUMPRODUCT('Efficiency Dist'!AZ587:AZ596,'UEC Development'!$D$374:$D$383)+'Product Class Dist'!AV$27*SUMPRODUCT('Efficiency Dist'!AZ622:AZ631,'UEC Development'!$D$395:$D$404)+'Product Class Dist'!AV$28*SUMPRODUCT('Efficiency Dist'!AZ657:AZ666,'UEC Development'!$D$416:$D$425)+'Product Class Dist'!AV$29*SUMPRODUCT('Efficiency Dist'!AZ692:AZ701,'UEC Development'!$D$437:$D$446)+'Product Class Dist'!AV$30*SUMPRODUCT('Efficiency Dist'!AZ725:AZ732,'UEC Development'!$D$458:$D$465)+'Product Class Dist'!AV$31*SUMPRODUCT('Efficiency Dist'!AZ756:AZ763,'UEC Development'!$D$477:$D$484)+'Product Class Dist'!AV$32*SUMPRODUCT('Efficiency Dist'!AZ789:AZ798,'UEC Development'!$D$496:$D$505)+'Product Class Dist'!AV$33*SUMPRODUCT('Efficiency Dist'!AZ824:AZ833,'UEC Development'!$D$519:$D$528)+'Product Class Dist'!AV$34*SUMPRODUCT('Efficiency Dist'!AZ859:AZ868,'UEC Development'!$D$542:$D$551)","v":3554.0973186937731}]
[]
[]
[null,null,"Installed UEC (Vintage Weighted Average) "]
[null,null,null,1990,{"$f":"D16+1","v":1991},{"$f":"E16+1","v":1992},{"$f":"F16+1","v":1993},{"$f":"G16+1","v":1994},{"$f":"H16+1","v":1995},{"$f":"I16+1","v":1996},{"$f":"J16+1","v":1997},{"$f":"K16+1","v":1998},{"$f":"L16+1","v":1999},{"$f":"M16+1","v":2000},{"$f":"N16+1","v":2001},{"$f":"O16+1","v":2002},{"$f":"P16+1","v":2003},{"$f":"Q16+1","v":2004},{"$f":"R16+1","v":2005},{"$f":"S16+1","v":2006},{"$f":"T16+1","v":2007},{"$f":"U16+1","v":2008},{"$f":"V16+1","v":2009},{"$f":"W16+1","v":2010},{"$f":"X16+1","v":2011},{"$f":"Y16+1","v":2012},{"$f":"Z16+1","v":2013},{"$f":"AA16+1","v":2014},{"$f":"AB16+1","v":2015},{"$f":"AC16+1","v":2016},{"$f":"AD16+1","v":2017},{"$f":"AE16+1","v":2018},{"$f":"AF16+1","v":2019},{"$f":"AG16+1","v":2020},{"$f":"AH16+1","v":2021},{"$f":"AI16+1","v":2022},{"$f":"AJ16+1","v":2023},{"$f":"AK16+1","v":2024},{"$f":"AL16+1","v":2025},{"$f":"AM16+1","v":2026},{"$f":"AN16+1","v":2027},{"$f":"AO16+1","v":2028},{"$f":"AP16+1","v":2029},{"$f":"AQ16+1","v":2030},{"$f":"AR16+1","v":2031},{"$f":"AS16+1","v":2032},{"$f":"AT16+1","v":2033},{"$f":"AU16+1","v":2034}]
[null,null,"PRE-Case UEC",{"$f":"IF(D$16-$D$16<=Lifetime,D11,\nSUMPRODUCT(OFFSET(D11,0,(-1*Lifetime)+1,1,Lifetime),OFFSET('Shipments and Stock'!E$17,0,(-1*Lifetime)+1,1,Lifetime))/SUM(OFFSET('Shipments and Stock'!E$17,0,(-1*Lifetime)+1,1,Lifetime)))","v":5722.5521561297064},{"$f":"IF(E$16-$D$16<=Lifetime,E11,\nSUMPRODUCT(OFFSET(E11,0,(-1*Lifetime)+1,1,Lifetime),OFFSET('Shipments and Stock'!F$17,0,(-1*Lifetime)+1,1,Lifetime))/SUM(OFFSET('Shipments and Stock'!F$17,0,(-1*Lifetime)+1,1,Lifetime)))","v":5722.5521561297064},{"$f":"IF(F$16-$D$16<=Lifetime,F11,\nSUMPRODUCT(OFFSET(F11,0,(-1*Lifetime)+1,1,Lifetime),OFFSET('Shipments and Stock'!G$17,0,(-1*Lifetime)+1,1,Lifetime))/SUM(OFFSET('Shipments and Stock'!G$17,0,(-1*Lifetime)+1,1,Lifetime)))","v":5722.5521561297064},{"$f":"IF(G$16-$D$16<=Lifetime,G11,\nSUMPRODUCT(OFFSET(G11,0,(-1*Lifetime)+1,1,Lifetime),OFFSET('Shipments and Stock'!H$17,0,(-1*Lifetime)+1,1,Lifetime))/SUM(OFFSET('Shipments and Stock'!H$17,0,(-1*Lifetime)+1,1,Lifetime)))","v":5722.5521561297064},{"$f":"IF(H$16-$D$16<=Lifetime,H11,\nSUMPRODUCT(OFFSET(H11,0,(-1*Lifetime)+1,1,Lifetime),OFFSET('Shipments and Stock'!I$17,0,(-1*Lifetime)+1,1,Lifetime))/SUM(OFFSET('Shipments and Stock'!I$17,0,(-1*Lifetime)+1,1,Lifetime)))","v":5722.5521561297064},{"$f":"IF(I$16-$D$16<=Lifetime,I11,\nSUMPRODUCT(OFFSET(I11,0,(-1*Lifetime)+1,1,Lifetime),OFFSET('Shipments and Stock'!J$17,0,(-1*Lifetime)+1,1,Lifetime))/SUM(OFFSET('Shipments and Stock'!J$17,0,(-1*Lifetime)+1,1,Lifetime)))","v":5722.5521561297064},{"$f":"IF(J$16-$D$16<=Lifetime,J11,\nSUMPRODUCT(OFFSET(J11,0,(-1*Lifetime)+1,1,Lifetime),OFFSET('Shipments and Stock'!K$17,0,(-1*Lifetime)+1,1,Lifetime))/SUM(OFFSET('Shipments and Stock'!K$17,0,(-1*Lifetime)+1,1,Lifetime)))","v":5722.5521561297064},{"$f":"IF(K$16-$D$16<=Lifetime,K11,\nSUMPRODUCT(OFFSET(K11,0,(-1*Lifetime)+1,1,Lifetime),OFFSET('Shipments and Stock'!L$17,0,(-1*Lifetime)+1,1,Lifetime))/SUM(OFFSET('Shipments and Stock'!L$17,0,(-1*Lifetime)+1,1,Lifetime)))","v":5722.5521561297064},{"$f":"IF(L$16-$D$16<=Lifetime,L11,\nSUMPRODUCT(OFFSET(L11,0,(-1*Lifetime)+1,1,Lifetime),OFFSET('Shipments and Stock'!M$17,0,(-1*Lifetime)+1,1,Lifetime))/SUM(OFFSET('Shipments and Stock'!M$17,0,(-1*Lifetime)+1,1,Lifetime)))","v":5722.5521561297064},{"$f":"IF(M$16-$D$16<=Lifetime,M11,\nSUMPRODUCT(OFFSET(M11,0,(-1*Lifetime)+1,1,Lifetime),OFFSET('Shipments and Stock'!N$17,0,(-1*Lifetime)+1,1,Lifetime))/SUM(OFFSET('Shipments and Stock'!N$17,0,(-1*Lifetime)+1,1,Lifetime)))","v":5722.5521561297064},{"$f":"IF(N$16-$D$16<=Lifetime,N11,\nSUMPRODUCT(OFFSET(N11,0,(-1*Lifetime)+1,1,Lifetime),OFFSET('Shipments and Stock'!O$17,0,(-1*Lifetime)+1,1,Lifetime))/SUM(OFFSET('Shipments and Stock'!O$17,0,(-1*Lifetime)+1,1,Lifetime)))","v":5722.5521561297064},{"$f":"IF(O$16-$D$16<=Lifetime,O11,\nSUMPRODUCT(OFFSET(O11,0,(-1*Lifetime)+1,1,Lifetime),OFFSET('Shipments and Stock'!P$17,0,(-1*Lifetime)+1,1,Lifetime))/SUM(OFFSET('Shipments and Stock'!P$17,0,(-1*Lifetime)+1,1,Lifetime)))","v":5722.5521561297064},{"$f":"IF(P$16-$D$16<=Lifetime,P11,\nSUMPRODUCT(OFFSET(P11,0,(-1*Lifetime)+1,1,Lifetime),OFFSET('Shipments and Stock'!Q$17,0,(-1*Lifetime)+1,1,Lifetime))/SUM(OFFSET('Shipments and Stock'!Q$17,0,(-1*Lifetime)+1,1,Lifetime)))","v":5722.5521561297064},{"$f":"IF(Q$16-$D$16<=Lifetime,Q11,\nSUMPRODUCT(OFFSET(Q11,0,(-1*Lifetime)+1,1,Lifetime),OFFSET('Shipments and Stock'!R$17,0,(-1*Lifetime)+1,1,Lifetime))/SUM(OFFSET('Shipments and Stock'!R$17,0,(-1*Lifetime)+1,1,Lifetime)))","v":{"$error":"#VALUE!"}},{"$f":"IF(R$16-$D$16<=Lifetime,R11,\nSUMPRODUCT(OFFSET(R11,0,(-1*Lifetime)+1,1,Lifetime),OFFSET('Shipments and Stock'!S$17,0,(-1*Lifetime)+1,1,Lifetime))/SUM(OFFSET('Shipments and Stock'!S$17,0,(-1*Lifetime)+1,1,Lifetime)))","v":{"$error":"#VALUE!"}},{"$f":"IF(S$16-$D$16<=Lifetime,S11,\nSUMPRODUCT(OFFSET(S11,0,(-1*Lifetime)+1,1,Lifetime),OFFSET('Shipments and Stock'!T$17,0,(-1*Lifetime)+1,1,Lifetime))/SUM(OFFSET('Shipments and Stock'!T$17,0,(-1*Lifetime)+1,1,Lifetime)))","v":{"$error":"#VALUE!"}},{"$f":"IF(T$16-$D$16<=Lifetime,T11,\nSUMPRODUCT(OFFSET(T11,0,(-1*Lifetime)+1,1,Lifetime),OFFSET('Shipments and Stock'!U$17,0,(-1*Lifetime)+1,1,Lifetime))/SUM(OFFSET('Shipments and Stock'!U$17,0,(-1*Lifetime)+1,1,Lifetime)))","v":{"$error":"#VALUE!"}},{"$f":"IF(U$16-$D$16<=Lifetime,U11,\nSUMPRODUCT(OFFSET(U11,0,(-1*Lifetime)+1,1,Lifetime),OFFSET('Shipments and Stock'!V$17,0,(-1*Lifetime)+1,1,Lifetime))/SUM(OFFSET('Shipments and Stock'!V$17,0,(-1*Lifetime)+1,1,Lifetime)))","v":{"$error":"#VALUE!"}},{"$f":"IF(V$16-$D$16<=Lifetime,V11,\nSUMPRODUCT(OFFSET(V11,0,(-1*Lifetime)+1,1,Lifetime),OFFSET('Shipments and Stock'!W$17,0,(-1*Lifetime)+1,1,Lifetime))/SUM(OFFSET('Shipments and Stock'!W$17,0,(-1*Lifetime)+1,1,Lifetime)))","v":{"$error":"#VALUE!"}},{"$f":"IF(W$16-$D$16<=Lifetime,W11,\nSUMPRODUCT(OFFSET(W11,0,(-1*Lifetime)+1,1,Lifetime),OFFSET('Shipments and Stock'!X$17,0,(-1*Lifetime)+1,1,Lifetime))/SUM(OFFSET('Shipments and Stock'!X$17,0,(-1*Lifetime)+1,1,Lifetime)))","v":{"$error":"#VALUE!"}},{"$f":"IF(X$16-$D$16<=Lifetime,X11,\nSUMPRODUCT(OFFSET(X11,0,(-1*Lifetime)+1,1,Lifetime),OFFSET('Shipments and Stock'!Y$17,0,(-1*Lifetime)+1,1,Lifetime))/SUM(OFFSET('Shipments and Stock'!Y$17,0,(-1*Lifetime)+1,1,Lifetime)))","v":{"$error":"#VALUE!"}},{"$f":"IF(Y$16-$D$16<=Lifetime,Y11,\nSUMPRODUCT(OFFSET(Y11,0,(-1*Lifetime)+1,1,Lifetime),OFFSET('Shipments and Stock'!Z$17,0,(-1*Lifetime)+1,1,Lifetime))/SUM(OFFSET('Shipments and Stock'!Z$17,0,(-1*Lifetime)+1,1,Lifetime)))","v":{"$error":"#VALUE!"}},{"$f":"IF(Z$16-$D$16<=Lifetime,Z11,\nSUMPRODUCT(OFFSET(Z11,0,(-1*Lifetime)+1,1,Lifetime),OFFSET('Shipments and Stock'!AA$17,0,(-1*Lifetime)+1,1,Lifetime))/SUM(OFFSET('Shipments and Stock'!AA$17,0,(-1*Lifetime)+1,1,Lifetime)))","v":{"$error":"#VALUE!"}},{"$f":"IF(AA$16-$D$16<=Lifetime,AA11,\nSUMPRODUCT(OFFSET(AA11,0,(-1*Lifetime)+1,1,Lifetime),OFFSET('Shipments and Stock'!AB$17,0,(-1*Lifetime)+1,1,Lifetime))/SUM(OFFSET('Shipments and Stock'!AB$17,0,(-1*Lifetime)+1,1,Lifetime)))","v":{"$error":"#VALUE!"}},{"$f":"IF(AB$16-$D$16<=Lifetime,AB11,\nSUMPRODUCT(OFFSET(AB11,0,(-1*Lifetime)+1,1,Lifetime),OFFSET('Shipments and Stock'!AC$17,0,(-1*Lifetime)+1,1,Lifetime))/SUM(OFFSET('Shipments and Stock'!AC$17,0,(-1*Lifetime)+1,1,Lifetime)))","v":{"$error":"#VALUE!"}},{"$f":"IF(AC$16-$D$16<=Lifetime,AC11,\nSUMPRODUCT(OFFSET(AC11,0,(-1*Lifetime)+1,1,Lifetime),OFFSET('Shipments and Stock'!AD$17,0,(-1*Lifetime)+1,1,Lifetime))/SUM(OFFSET('Shipments and Stock'!AD$17,0,(-1*Lifetime)+1,1,Lifetime)))","v":{"$error":"#VALUE!"}},{"$f":"IF(AD$16-$D$16<=Lifetime,AD11,\nSUMPRODUCT(OFFSET(AD11,0,(-1*Lifetime)+1,1,Lifetime),OFFSET('Shipments and Stock'!AE$17,0,(-1*Lifetime)+1,1,Lifetime))/SUM(OFFSET('Shipments and Stock'!AE$17,0,(-1*Lifetime)+1,1,Lifetime)))","v":{"$error":"#VALUE!"}},{"$f":"IF(AE$16-$D$16<=Lifetime,AE11,\nSUMPRODUCT(OFFSET(AE11,0,(-1*Lifetime)+1,1,Lifetime),OFFSET('Shipments and Stock'!AF$17,0,(-1*Lifetime)+1,1,Lifetime))/SUM(OFFSET('Shipments and Stock'!AF$17,0,(-1*Lifetime)+1,1,Lifetime)))","v":{"$error":"#VALUE!"}},{"$f":"IF(AF$16-$D$16<=Lifetime,AF11,\nSUMPRODUCT(OFFSET(AF11,0,(-1*Lifetime)+1,1,Lifetime),OFFSET('Shipments and Stock'!AG$17,0,(-1*Lifetime)+1,1,Lifetime))/SUM(OFFSET('Shipments and Stock'!AG$17,0,(-1*Lifetime)+1,1,Lifetime)))","v":{"$error":"#VALUE!"}},{"$f":"IF(AG$16-$D$16<=Lifetime,AG11,\nSUMPRODUCT(OFFSET(AG11,0,(-1*Lifetime)+1,1,Lifetime),OFFSET('Shipments and Stock'!AH$17,0,(-1*Lifetime)+1,1,Lifetime))/SUM(OFFSET('Shipments and Stock'!AH$17,0,(-1*Lifetime)+1,1,Lifetime)))","v":{"$error":"#VALUE!"}},{"$f":"IF(AH$16-$D$16<=Lifetime,AH11,\nSUMPRODUCT(OFFSET(AH11,0,(-1*Lifetime)+1,1,Lifetime),OFFSET('Shipments and Stock'!AI$17,0,(-1*Lifetime)+1,1,Lifetime))/SUM(OFFSET('Shipments and Stock'!AI$17,0,(-1*Lifetime)+1,1,Lifetime)))","v":{"$error":"#VALUE!"}},{"$f":"IF(AI$16-$D$16<=Lifetime,AI11,\nSUMPRODUCT(OFFSET(AI11,0,(-1*Lifetime)+1,1,Lifetime),OFFSET('Shipments and Stock'!AJ$17,0,(-1*Lifetime)+1,1,Lifetime))/SUM(OFFSET('Shipments and Stock'!AJ$17,0,(-1*Lifetime)+1,1,Lifetime)))","v":{"$error":"#VALUE!"}},{"$f":"IF(AJ$16-$D$16<=Lifetime,AJ11,\nSUMPRODUCT(OFFSET(AJ11,0,(-1*Lifetime)+1,1,Lifetime),OFFSET('Shipments and Stock'!AK$17,0,(-1*Lifetime)+1,1,Lifetime))/SUM(OFFSET('Shipments and Stock'!AK$17,0,(-1*Lifetime)+1,1,Lifetime)))","v":{"$error":"#VALUE!"}},{"$f":"IF(AK$16-$D$16<=Lifetime,AK11,\nSUMPRODUCT(OFFSET(AK11,0,(-1*Lifetime)+1,1,Lifetime),OFFSET('Shipments and Stock'!AL$17,0,(-1*Lifetime)+1,1,Lifetime))/SUM(OFFSET('Shipments and Stock'!AL$17,0,(-1*Lifetime)+1,1,Lifetime)))","v":{"$error":"#VALUE!"}},{"$f":"IF(AL$16-$D$16<=Lifetime,AL11,\nSUMPRODUCT(OFFSET(AL11,0,(-1*Lifetime)+1,1,Lifetime),OFFSET('Shipments and Stock'!AM$17,0,(-1*Lifetime)+1,1,Lifetime))/SUM(OFFSET('Shipments and Stock'!AM$17,0,(-1*Lifetime)+1,1,Lifetime)))","v":{"$error":"#VALUE!"}},{"$f":"IF(AM$16-$D$16<=Lifetime,AM11,\nSUMPRODUCT(OFFSET(AM11,0,(-1*Lifetime)+1,1,Lifetime),OFFSET('Shipments and Stock'!AN$17,0,(-1*Lifetime)+1,1,Lifetime))/SUM(OFFSET('Shipments and Stock'!AN$17,0,(-1*Lifetime)+1,1,Lifetime)))","v":{"$error":"#VALUE!"}},{"$f":"IF(AN$16-$D$16<=Lifetime,AN11,\nSUMPRODUCT(OFFSET(AN11,0,(-1*Lifetime)+1,1,Lifetime),OFFSET('Shipments and Stock'!AO$17,0,(-1*Lifetime)+1,1,Lifetime))/SUM(OFFSET('Shipments and Stock'!AO$17,0,(-1*Lifetime)+1,1,Lifetime)))","v":{"$error":"#VALUE!"}},{"$f":"IF(AO$16-$D$16<=Lifetime,AO11,\nSUMPRODUCT(OFFSET(AO11,0,(-1*Lifetime)+1,1,Lifetime),OFFSET('Shipments and Stock'!AP$17,0,(-1*Lifetime)+1,1,Lifetime))/SUM(OFFSET('Shipments and Stock'!AP$17,0,(-1*Lifetime)+1,1,Lifetime)))","v":{"$error":"#VALUE!"}},{"$f":"IF(AP$16-$D$16<=Lifetime,AP11,\nSUMPRODUCT(OFFSET(AP11,0,(-1*Lifetime)+1,1,Lifetime),OFFSET('Shipments and Stock'!AQ$17,0,(-1*Lifetime)+1,1,Lifetime))/SUM(OFFSET('Shipments and Stock'!AQ$17,0,(-1*Lifetime)+1,1,Lifetime)))","v":{"$error":"#VALUE!"}},{"$f":"IF(AQ$16-$D$16<=Lifetime,AQ11,\nSUMPRODUCT(OFFSET(AQ11,0,(-1*Lifetime)+1,1,Lifetime),OFFSET('Shipments and Stock'!AR$17,0,(-1*Lifetime)+1,1,Lifetime))/SUM(OFFSET('Shipments and Stock'!AR$17,0,(-1*Lifetime)+1,1,Lifetime)))","v":{"$error":"#VALUE!"}},{"$f":"IF(AR$16-$D$16<=Lifetime,AR11,\nSUMPRODUCT(OFFSET(AR11,0,(-1*Lifetime)+1,1,Lifetime),OFFSET('Shipments and Stock'!AS$17,0,(-1*Lifetime)+1,1,Lifetime))/SUM(OFFSET('Shipments and Stock'!AS$17,0,(-1*Lifetime)+1,1,Lifetime)))","v":{"$error":"#VALUE!"}},{"$f":"IF(AS$16-$D$16<=Lifetime,AS11,\nSUMPRODUCT(OFFSET(AS11,0,(-1*Lifetime)+1,1,Lifetime),OFFSET('Shipments and Stock'!AT$17,0,(-1*Lifetime)+1,1,Lifetime))/SUM(OFFSET('Shipments and Stock'!AT$17,0,(-1*Lifetime)+1,1,Lifetime)))","v":{"$error":"#VALUE!"}},{"$f":"IF(AT$16-$D$16<=Lifetime,AT11,\nSUMPRODUCT(OFFSET(AT11,0,(-1*Lifetime)+1,1,Lifetime),OFFSET('Shipments and Stock'!AU$17,0,(-1*Lifetime)+1,1,Lifetime))/SUM(OFFSET('Shipments and Stock'!AU$17,0,(-1*Lifetime)+1,1,Lifetime)))","v":{"$error":"#VALUE!"}},{"$f":"IF(AU$16-$D$16<=Lifetime,AU11,\nSUMPRODUCT(OFFSET(AU11,0,(-1*Lifetime)+1,1,Lifetime),OFFSET('Shipments and Stock'!AV$17,0,(-1*Lifetime)+1,1,Lifetime))/SUM(OFFSET('Shipments and Stock'!AV$17,0,(-1*Lifetime)+1,1,Lifetime)))","v":{"$error":"#VALUE!"}},{"$f":"IF(AV$16-$D$16<=Lifetime,AV11,\nSUMPRODUCT(OFFSET(AV11,0,(-1*Lifetime)+1,1,Lifetime),OFFSET('Shipments and Stock'!AW$17,0,(-1*Lifetime)+1,1,Lifetime))/SUM(OFFSET('Shipments and Stock'!AW$17,0,(-1*Lifetime)+1,1,Lifetime)))","v":{"$error":"#VALUE!"}}]
[null,null,"POST-Case UEC",{"$f":"IF(D$16-$D$16<Lifetime,D12,\nSUMPRODUCT(OFFSET(D12,0,(-1*Lifetime)+1,1,Lifetime),OFFSET('Shipments and Stock'!E$17,0,(-1*Lifetime)+1,1,Lifetime))/SUM(OFFSET('Shipments and Stock'!E$17,0,(-1*Lifetime)+1,1,Lifetime)))","v":5722.5521561297064},{"$f":"IF(E$16-$D$16<Lifetime,E12,\nSUMPRODUCT(OFFSET(E12,0,(-1*Lifetime)+1,1,Lifetime),OFFSET('Shipments and Stock'!F$17,0,(-1*Lifetime)+1,1,Lifetime))/SUM(OFFSET('Shipments and Stock'!F$17,0,(-1*Lifetime)+1,1,Lifetime)))","v":5722.5521561297064},{"$f":"IF(F$16-$D$16<Lifetime,F12,\nSUMPRODUCT(OFFSET(F12,0,(-1*Lifetime)+1,1,Lifetime),OFFSET('Shipments and Stock'!G$17,0,(-1*Lifetime)+1,1,Lifetime))/SUM(OFFSET('Shipments and Stock'!G$17,0,(-1*Lifetime)+1,1,Lifetime)))","v":5722.5521561297064},{"$f":"IF(G$16-$D$16<Lifetime,G12,\nSUMPRODUCT(OFFSET(G12,0,(-1*Lifetime)+1,1,Lifetime),OFFSET('Shipments and Stock'!H$17,0,(-1*Lifetime)+1,1,Lifetime))/SUM(OFFSET('Shipments and Stock'!H$17,0,(-1*Lifetime)+1,1,Lifetime)))","v":5722.5521561297064},{"$f":"IF(H$16-$D$16<Lifetime,H12,\nSUMPRODUCT(OFFSET(H12,0,(-1*Lifetime)+1,1,Lifetime),OFFSET('Shipments and Stock'!I$17,0,(-1*Lifetime)+1,1,Lifetime))/SUM(OFFSET('Shipments and Stock'!I$17,0,(-1*Lifetime)+1,1,Lifetime)))","v":5722.5521561297064},{"$f":"IF(I$16-$D$16<Lifetime,I12,\nSUMPRODUCT(OFFSET(I12,0,(-1*Lifetime)+1,1,Lifetime),OFFSET('Shipments and Stock'!J$17,0,(-1*Lifetime)+1,1,Lifetime))/SUM(OFFSET('Shipments and Stock'!J$17,0,(-1*Lifetime)+1,1,Lifetime)))","v":5722.5521561297064},{"$f":"IF(J$16-$D$16<Lifetime,J12,\nSUMPRODUCT(OFFSET(J12,0,(-1*Lifetime)+1,1,Lifetime),OFFSET('Shipments and Stock'!K$17,0,(-1*Lifetime)+1,1,Lifetime))/SUM(OFFSET('Shipments and Stock'!K$17,0,(-1*Lifetime)+1,1,Lifetime)))","v":5722.5521561297064},{"$f":"IF(K$16-$D$16<Lifetime,K12,\nSUMPRODUCT(OFFSET(K12,0,(-1*Lifetime)+1,1,Lifetime),OFFSET('Shipments and Stock'!L$17,0,(-1*Lifetime)+1,1,Lifetime))/SUM(OFFSET('Shipments and Stock'!L$17,0,(-1*Lifetime)+1,1,Lifetime)))","v":5722.5521561297064},{"$f":"IF(L$16-$D$16<Lifetime,L12,\nSUMPRODUCT(OFFSET(L12,0,(-1*Lifetime)+1,1,Lifetime),OFFSET('Shipments and Stock'!M$17,0,(-1*Lifetime)+1,1,Lifetime))/SUM(OFFSET('Shipments and Stock'!M$17,0,(-1*Lifetime)+1,1,Lifetime)))","v":5722.5521561297064},{"$f":"IF(M$16-$D$16<Lifetime,M12,\nSUMPRODUCT(OFFSET(M12,0,(-1*Lifetime)+1,1,Lifetime),OFFSET('Shipments and Stock'!N$17,0,(-1*Lifetime)+1,1,Lifetime))/SUM(OFFSET('Shipments and Stock'!N$17,0,(-1*Lifetime)+1,1,Lifetime)))","v":5722.5521561297064},{"$f":"IF(N$16-$D$16<Lifetime,N12,\nSUMPRODUCT(OFFSET(N12,0,(-1*Lifetime)+1,1,Lifetime),OFFSET('Shipments and Stock'!O$17,0,(-1*Lifetime)+1,1,Lifetime))/SUM(OFFSET('Shipments and Stock'!O$17,0,(-1*Lifetime)+1,1,Lifetime)))","v":5722.5521561297064},{"$f":"IF(O$16-$D$16<Lifetime,O12,\nSUMPRODUCT(OFFSET(O12,0,(-1*Lifetime)+1,1,Lifetime),OFFSET('Shipments and Stock'!P$17,0,(-1*Lifetime)+1,1,Lifetime))/SUM(OFFSET('Shipments and Stock'!P$17,0,(-1*Lifetime)+1,1,Lifetime)))","v":5722.5521561297064},{"$f":"IF(P$16-$D$16<Lifetime,P12,\nSUMPRODUCT(OFFSET(P12,0,(-1*Lifetime)+1,1,Lifetime),OFFSET('Shipments and Stock'!Q$17,0,(-1*Lifetime)+1,1,Lifetime))/SUM(OFFSET('Shipments and Stock'!Q$17,0,(-1*Lifetime)+1,1,Lifetime)))","v":5722.5521561297064},{"$f":"IF(Q$16-$D$16<Lifetime,Q12,\nSUMPRODUCT(OFFSET(Q12,0,(-1*Lifetime)+1,1,Lifetime),OFFSET('Shipments and Stock'!R$17,0,(-1*Lifetime)+1,1,Lifetime))/SUM(OFFSET('Shipments and Stock'!R$17,0,(-1*Lifetime)+1,1,Lifetime)))","v":{"$error":"#VALUE!"}},{"$f":"IF(R$16-$D$16<Lifetime,R12,\nSUMPRODUCT(OFFSET(R12,0,(-1*Lifetime)+1,1,Lifetime),OFFSET('Shipments and Stock'!S$17,0,(-1*Lifetime)+1,1,Lifetime))/SUM(OFFSET('Shipments and Stock'!S$17,0,(-1*Lifetime)+1,1,Lifetime)))","v":{"$error":"#VALUE!"}},{"$f":"IF(S$16-$D$16<Lifetime,S12,\nSUMPRODUCT(OFFSET(S12,0,(-1*Lifetime)+1,1,Lifetime),OFFSET('Shipments and Stock'!T$17,0,(-1*Lifetime)+1,1,Lifetime))/SUM(OFFSET('Shipments and Stock'!T$17,0,(-1*Lifetime)+1,1,Lifetime)))","v":{"$error":"#VALUE!"}},{"$f":"IF(T$16-$D$16<Lifetime,T12,\nSUMPRODUCT(OFFSET(T12,0,(-1*Lifetime)+1,1,Lifetime),OFFSET('Shipments and Stock'!U$17,0,(-1*Lifetime)+1,1,Lifetime))/SUM(OFFSET('Shipments and Stock'!U$17,0,(-1*Lifetime)+1,1,Lifetime)))","v":{"$error":"#VALUE!"}},{"$f":"IF(U$16-$D$16<Lifetime,U12,\nSUMPRODUCT(OFFSET(U12,0,(-1*Lifetime)+1,1,Lifetime),OFFSET('Shipments and Stock'!V$17,0,(-1*Lifetime)+1,1,Lifetime))/SUM(OFFSET('Shipments and Stock'!V$17,0,(-1*Lifetime)+1,1,Lifetime)))","v":{"$error":"#VALUE!"}},{"$f":"IF(V$16-$D$16<Lifetime,V12,\nSUMPRODUCT(OFFSET(V12,0,(-1*Lifetime)+1,1,Lifetime),OFFSET('Shipments and Stock'!W$17,0,(-1*Lifetime)+1,1,Lifetime))/SUM(OFFSET('Shipments and Stock'!W$17,0,(-1*Lifetime)+1,1,Lifetime)))","v":{"$error":"#VALUE!"}},{"$f":"IF(W$16-$D$16<Lifetime,W12,\nSUMPRODUCT(OFFSET(W12,0,(-1*Lifetime)+1,1,Lifetime),OFFSET('Shipments and Stock'!X$17,0,(-1*Lifetime)+1,1,Lifetime))/SUM(OFFSET('Shipments and Stock'!X$17,0,(-1*Lifetime)+1,1,Lifetime)))","v":{"$error":"#VALUE!"}},{"$f":"IF(X$16-$D$16<Lifetime,X12,\nSUMPRODUCT(OFFSET(X12,0,(-1*Lifetime)+1,1,Lifetime),OFFSET('Shipments and Stock'!Y$17,0,(-1*Lifetime)+1,1,Lifetime))/SUM(OFFSET('Shipments and Stock'!Y$17,0,(-1*Lifetime)+1,1,Lifetime)))","v":{"$error":"#VALUE!"}},{"$f":"IF(Y$16-$D$16<Lifetime,Y12,\nSUMPRODUCT(OFFSET(Y12,0,(-1*Lifetime)+1,1,Lifetime),OFFSET('Shipments and Stock'!Z$17,0,(-1*Lifetime)+1,1,Lifetime))/SUM(OFFSET('Shipments and Stock'!Z$17,0,(-1*Lifetime)+1,1,Lifetime)))","v":{"$error":"#VALUE!"}},{"$f":"IF(Z$16-$D$16<Lifetime,Z12,\nSUMPRODUCT(OFFSET(Z12,0,(-1*Lifetime)+1,1,Lifetime),OFFSET('Shipments and Stock'!AA$17,0,(-1*Lifetime)+1,1,Lifetime))/SUM(OFFSET('Shipments and Stock'!AA$17,0,(-1*Lifetime)+1,1,Lifetime)))","v":{"$error":"#VALUE!"}},{"$f":"IF(AA$16-$D$16<Lifetime,AA12,\nSUMPRODUCT(OFFSET(AA12,0,(-1*Lifetime)+1,1,Lifetime),OFFSET('Shipments and Stock'!AB$17,0,(-1*Lifetime)+1,1,Lifetime))/SUM(OFFSET('Shipments and Stock'!AB$17,0,(-1*Lifetime)+1,1,Lifetime)))","v":{"$error":"#VALUE!"}},{"$f":"IF(AB$16-$D$16<Lifetime,AB12,\nSUMPRODUCT(OFFSET(AB12,0,(-1*Lifetime)+1,1,Lifetime),OFFSET('Shipments and Stock'!AC$17,0,(-1*Lifetime)+1,1,Lifetime))/SUM(OFFSET('Shipments and Stock'!AC$17,0,(-1*Lifetime)+1,1,Lifetime)))","v":{"$error":"#VALUE!"}},{"$f":"IF(AC$16-$D$16<Lifetime,AC12,\nSUMPRODUCT(OFFSET(AC12,0,(-1*Lifetime)+1,1,Lifetime),OFFSET('Shipments and Stock'!AD$17,0,(-1*Lifetime)+1,1,Lifetime))/SUM(OFFSET('Shipments and Stock'!AD$17,0,(-1*Lifetime)+1,1,Lifetime)))","v":{"$error":"#VALUE!"}},{"$f":"IF(AD$16-$D$16<Lifetime,AD12,\nSUMPRODUCT(OFFSET(AD12,0,(-1*Lifetime)+1,1,Lifetime),OFFSET('Shipments and Stock'!AE$17,0,(-1*Lifetime)+1,1,Lifetime))/SUM(OFFSET('Shipments and Stock'!AE$17,0,(-1*Lifetime)+1,1,Lifetime)))","v":{"$error":"#VALUE!"}},{"$f":"IF(AE$16-$D$16<Lifetime,AE12,\nSUMPRODUCT(OFFSET(AE12,0,(-1*Lifetime)+1,1,Lifetime),OFFSET('Shipments and Stock'!AF$17,0,(-1*Lifetime)+1,1,Lifetime))/SUM(OFFSET('Shipments and Stock'!AF$17,0,(-1*Lifetime)+1,1,Lifetime)))","v":{"$error":"#VALUE!"}},{"$f":"IF(AF$16-$D$16<Lifetime,AF12,\nSUMPRODUCT(OFFSET(AF12,0,(-1*Lifetime)+1,1,Lifetime),OFFSET('Shipments and Stock'!AG$17,0,(-1*Lifetime)+1,1,Lifetime))/SUM(OFFSET('Shipments and Stock'!AG$17,0,(-1*Lifetime)+1,1,Lifetime)))","v":{"$error":"#VALUE!"}},{"$f":"IF(AG$16-$D$16<Lifetime,AG12,\nSUMPRODUCT(OFFSET(AG12,0,(-1*Lifetime)+1,1,Lifetime),OFFSET('Shipments and Stock'!AH$17,0,(-1*Lifetime)+1,1,Lifetime))/SUM(OFFSET('Shipments and Stock'!AH$17,0,(-1*Lifetime)+1,1,Lifetime)))","v":{"$error":"#VALUE!"}},{"$f":"IF(AH$16-$D$16<Lifetime,AH12,\nSUMPRODUCT(OFFSET(AH12,0,(-1*Lifetime)+1,1,Lifetime),OFFSET('Shipments and Stock'!AI$17,0,(-1*Lifetime)+1,1,Lifetime))/SUM(OFFSET('Shipments and Stock'!AI$17,0,(-1*Lifetime)+1,1,Lifetime)))","v":{"$error":"#VALUE!"}},{"$f":"IF(AI$16-$D$16<Lifetime,AI12,\nSUMPRODUCT(OFFSET(AI12,0,(-1*Lifetime)+1,1,Lifetime),OFFSET('Shipments and Stock'!AJ$17,0,(-1*Lifetime)+1,1,Lifetime))/SUM(OFFSET('Shipments and Stock'!AJ$17,0,(-1*Lifetime)+1,1,Lifetime)))","v":{"$error":"#VALUE!"}},{"$f":"IF(AJ$16-$D$16<Lifetime,AJ12,\nSUMPRODUCT(OFFSET(AJ12,0,(-1*Lifetime)+1,1,Lifetime),OFFSET('Shipments and Stock'!AK$17,0,(-1*Lifetime)+1,1,Lifetime))/SUM(OFFSET('Shipments and Stock'!AK$17,0,(-1*Lifetime)+1,1,Lifetime)))","v":{"$error":"#VALUE!"}},{"$f":"IF(AK$16-$D$16<Lifetime,AK12,\nSUMPRODUCT(OFFSET(AK12,0,(-1*Lifetime)+1,1,Lifetime),OFFSET('Shipments and Stock'!AL$17,0,(-1*Lifetime)+1,1,Lifetime))/SUM(OFFSET('Shipments and Stock'!AL$17,0,(-1*Lifetime)+1,1,Lifetime)))","v":{"$error":"#VALUE!"}},{"$f":"IF(AL$16-$D$16<Lifetime,AL12,\nSUMPRODUCT(OFFSET(AL12,0,(-1*Lifetime)+1,1,Lifetime),OFFSET('Shipments and Stock'!AM$17,0,(-1*Lifetime)+1,1,Lifetime))/SUM(OFFSET('Shipments and Stock'!AM$17,0,(-1*Lifetime)+1,1,Lifetime)))","v":{"$error":"#VALUE!"}},{"$f":"IF(AM$16-$D$16<Lifetime,AM12,\nSUMPRODUCT(OFFSET(AM12,0,(-1*Lifetime)+1,1,Lifetime),OFFSET('Shipments and Stock'!AN$17,0,(-1*Lifetime)+1,1,Lifetime))/SUM(OFFSET('Shipments and Stock'!AN$17,0,(-1*Lifetime)+1,1,Lifetime)))","v":{"$error":"#VALUE!"}},{"$f":"IF(AN$16-$D$16<Lifetime,AN12,\nSUMPRODUCT(OFFSET(AN12,0,(-1*Lifetime)+1,1,Lifetime),OFFSET('Shipments and Stock'!AO$17,0,(-1*Lifetime)+1,1,Lifetime))/SUM(OFFSET('Shipments and Stock'!AO$17,0,(-1*Lifetime)+1,1,Lifetime)))","v":{"$error":"#VALUE!"}},{"$f":"IF(AO$16-$D$16<Lifetime,AO12,\nSUMPRODUCT(OFFSET(AO12,0,(-1*Lifetime)+1,1,Lifetime),OFFSET('Shipments and Stock'!AP$17,0,(-1*Lifetime)+1,1,Lifetime))/SUM(OFFSET('Shipments and Stock'!AP$17,0,(-1*Lifetime)+1,1,Lifetime)))","v":{"$error":"#VALUE!"}},{"$f":"IF(AP$16-$D$16<Lifetime,AP12,\nSUMPRODUCT(OFFSET(AP12,0,(-1*Lifetime)+1,1,Lifetime),OFFSET('Shipments and Stock'!AQ$17,0,(-1*Lifetime)+1,1,Lifetime))/SUM(OFFSET('Shipments and Stock'!AQ$17,0,(-1*Lifetime)+1,1,Lifetime)))","v":{"$error":"#VALUE!"}},{"$f":"IF(AQ$16-$D$16<Lifetime,AQ12,\nSUMPRODUCT(OFFSET(AQ12,0,(-1*Lifetime)+1,1,Lifetime),OFFSET('Shipments and Stock'!AR$17,0,(-1*Lifetime)+1,1,Lifetime))/SUM(OFFSET('Shipments and Stock'!AR$17,0,(-1*Lifetime)+1,1,Lifetime)))","v":{"$error":"#VALUE!"}},{"$f":"IF(AR$16-$D$16<Lifetime,AR12,\nSUMPRODUCT(OFFSET(AR12,0,(-1*Lifetime)+1,1,Lifetime),OFFSET('Shipments and Stock'!AS$17,0,(-1*Lifetime)+1,1,Lifetime))/SUM(OFFSET('Shipments and Stock'!AS$17,0,(-1*Lifetime)+1,1,Lifetime)))","v":{"$error":"#VALUE!"}},{"$f":"IF(AS$16-$D$16<Lifetime,AS12,\nSUMPRODUCT(OFFSET(AS12,0,(-1*Lifetime)+1,1,Lifetime),OFFSET('Shipments and Stock'!AT$17,0,(-1*Lifetime)+1,1,Lifetime))/SUM(OFFSET('Shipments and Stock'!AT$17,0,(-1*Lifetime)+1,1,Lifetime)))","v":{"$error":"#VALUE!"}},{"$f":"IF(AT$16-$D$16<Lifetime,AT12,\nSUMPRODUCT(OFFSET(AT12,0,(-1*Lifetime)+1,1,Lifetime),OFFSET('Shipments and Stock'!AU$17,0,(-1*Lifetime)+1,1,Lifetime))/SUM(OFFSET('Shipments and Stock'!AU$17,0,(-1*Lifetime)+1,1,Lifetime)))","v":{"$error":"#VALUE!"}},{"$f":"IF(AU$16-$D$16<Lifetime,AU12,\nSUMPRODUCT(OFFSET(AU12,0,(-1*Lifetime)+1,1,Lifetime),OFFSET('Shipments and Stock'!AV$17,0,(-1*Lifetime)+1,1,Lifetime))/SUM(OFFSET('Shipments and Stock'!AV$17,0,(-1*Lifetime)+1,1,Lifetime)))","v":{"$error":"#VALUE!"}},{"$f":"IF(AV$16-$D$16<Lifetime,AV12,\nSUMPRODUCT(OFFSET(AV12,0,(-1*Lifetime)+1,1,Lifetime),OFFSET('Shipments and Stock'!AW$17,0,(-1*Lifetime)+1,1,Lifetime))/SUM(OFFSET('Shipments and Stock'!AW$17,0,(-1*Lifetime)+1,1,Lifetime)))","v":{"$error":"#VALUE!"}}]

{"sheet":"RESULTS","index":14,"n_rows":44,"n_cols":28,"rows_kept":44,"cut":false,"hidden":false,"merged":[]}
[]
[null,null,"RESULTS "]
[]
[null,null,"NAVIGATION"]
[]
[null,null,"COMMENTS"]
[]
[null,null,"Building Type "]
[null,null,"TOTAL","Dropdown "]
[]
[null,null,"Unit Energy Consumption (kWh/year) ",2010,{"$f":"D11+1","v":2011},{"$f":"E11+1","v":2012},{"$f":"F11+1","v":2013},{"$f":"G11+1","v":2014},{"$f":"H11+1","v":2015},{"$f":"I11+1","v":2016},{"$f":"J11+1","v":2017},{"$f":"K11+1","v":2018},{"$f":"L11+1","v":2019},{"$f":"M11+1","v":2020},{"$f":"N11+1","v":2021},{"$f":"O11+1","v":2022},{"$f":"P11+1","v":2023},{"$f":"Q11+1","v":2024},{"$f":"R11+1","v":2025},{"$f":"S11+1","v":2026},{"$f":"T11+1","v":2027},{"$f":"U11+1","v":2028},{"$f":"V11+1","v":2029},{"$f":"W11+1","v":2030},{"$f":"X11+1","v":2031},{"$f":"Y11+1","v":2032},{"$f":"Z11+1","v":2033},{"$f":"AA11+1","v":2034}]
[null,null,"6P Pre-case Shipment UEC",{"$f":"'6P UEC Development'!$D$9","v":7171.8104464906},{"$f":"'6P UEC Development'!$D$9","v":7171.8104464906},{"$f":"'6P UEC Development'!$D$9","v":7171.8104464906},{"$f":"'6P UEC Development'!$D$9","v":7171.8104464906},{"$f":"'6P UEC Development'!$D$9","v":7171.8104464906},{"$f":"'6P UEC Development'!$D$9","v":7171.8104464906},{"$f":"'6P UEC Development'!$D$9","v":7171.8104464906},{"$f":"'6P UEC Development'!$D$9","v":7171.8104464906},{"$f":"'6P UEC Development'!$D$9","v":7171.8104464906},{"$f":"'6P UEC Development'!$D$9","v":7171.8104464906},{"$f":"'6P UEC Development'!$D$9","v":7171.8104464906},{"$f":"'6P UEC Development'!$D$9","v":7171.8104464906},{"$f":"'6P UEC Development'!$D$9","v":7171.8104464906},{"$f":"'6P UEC Development'!$D$9","v":7171.8104464906},{"$f":"'6P UEC Development'!$D$9","v":7171.8104464906},{"$f":"'6P UEC Development'!$D$9","v":7171.8104464906},{"$f":"'6P UEC Development'!$D$9","v":7171.8104464906},{"$f":"'6P UEC Development'!$D$9","v":7171.8104464906},{"$f":"'6P UEC Development'!$D$9","v":7171.8104464906},{"$f":"'6P UEC Development'!$D$9","v":7171.8104464906},{"$f":"'6P UEC Development'!$D$9","v":7171.8104464906},{"$f":"'6P UEC Development'!$D$9","v":7171.8104464906},{"$f":"'6P UEC Development'!$D$9","v":7171.8104464906},{"$f":"'6P UEC Development'!$D$9","v":7171.8104464906},{"$f":"'6P UEC Development'!$D$9","v":7171.8104464906}]
[null,null,"Market UEC (Shipment Weighted Average) - PRE-Case UEC",{"$f":"OFFSET(UEC!$C11,0,MATCH(D$11,UEC!$D$10:$AV$10,0))","v":5223.7451976393404},{"$f":"OFFSET(UEC!$C11,0,MATCH(E$11,UEC!$D$10:$AV$10,0))","v":5223.7451976393413},{"$f":"OFFSET(UEC!$C11,0,MATCH(F$11,UEC!$D$10:$AV$10,0))","v":4147.362870478938},{"$f":"OFFSET(UEC!$C11,0,MATCH(G$11,UEC!$D$10:$AV$10,0))","v":4147.362870478938},{"$f":"OFFSET(UEC!$C11,0,MATCH(H$11,UEC!$D$10:$AV$10,0))","v":4147.3628704789362},{"$f":"OFFSET(UEC!$C11,0,MATCH(I$11,UEC!$D$10:$AV$10,0))","v":4147.3628704789353},{"$f":"OFFSET(UEC!$C11,0,MATCH(J$11,UEC!$D$10:$AV$10,0))","v":4147.362870478938},{"$f":"OFFSET(UEC!$C11,0,MATCH(K$11,UEC!$D$10:$AV$10,0))","v":4147.3628704789362},{"$f":"OFFSET(UEC!$C11,0,MATCH(L$11,UEC!$D$10:$AV$10,0))","v":4140.3662983062623},{"$f":"OFFSET(UEC!$C11,0,MATCH(M$11,UEC!$D$10:$AV$10,0))","v":4133.3697261335883},{"$f":"OFFSET(UEC!$C11,0,MATCH(N$11,UEC!$D$10:$AV$10,0))","v":4126.3731539609125},{"$f":"OFFSET(UEC!$C11,0,MATCH(O$11,UEC!$D$10:$AV$10,0))","v":4119.3765817882359},{"$f":"OFFSET(UEC!$C11,0,MATCH(P$11,UEC!$D$10:$AV$10,0))","v":4112.3800096155619},{"$f":"OFFSET(UEC!$C11,0,MATCH(Q$11,UEC!$D$10:$AV$10,0))","v":4105.3834374428861},{"$f":"OFFSET(UEC!$C11,0,MATCH(R$11,UEC!$D$10:$AV$10,0))","v":4105.3834374428852},{"$f":"OFFSET(UEC!$C11,0,MATCH(S$11,UEC!$D$10:$AV$10,0))","v":4105.383437442887},{"$f":"OFFSET(UEC!$C11,0,MATCH(T$11,UEC!$D$10:$AV$10,0))","v":4105.3834374428861},{"$f":"OFFSET(UEC!$C11,0,MATCH(U$11,UEC!$D$10:$AV$10,0))","v":4105.383437442887},{"$f":"OFFSET(UEC!$C11,0,MATCH(V$11,UEC!$D$10:$AV$10,0))","v":4105.3834374428861},{"$f":"OFFSET(UEC!$C11,0,MATCH(W$11,UEC!$D$10:$AV$10,0))","v":4105.3834374428852},{"$f":"OFFSET(UEC!$C11,0,MATCH(X$11,UEC!$D$10:$AV$10,0))","v":4105.3834374428861},{"$f":"OFFSET(UEC!$C11,0,MATCH(Y$11,UEC!$D$10:$AV$10,0))","v":4105.3834374428852},{"$f":"OFFSET(UEC!$C11,0,MATCH(Z$11,UEC!$D$10:$AV$10,0))","v":4105.3834374428852},{"$f":"OFFSET(UEC!$C11,0,MATCH(AA$11,UEC!$D$10:$AV$10,0))","v":4105.3834374428852},{"$f":"OFFSET(UEC!$C11,0,MATCH(AB$11,UEC!$D$10:$AV$10,0))","v":4105.3834374428861}]
[null,null,"Market UEC (Shipment Weighted Average) - POST-Case UEC",{"$f":"OFFSET(UEC!$C12,0,MATCH(D$11,UEC!$D$10:$AV$10,0))","v":5223.7451976393404},{"$f":"OFFSET(UEC!$C12,0,MATCH(E$11,UEC!$D$10:$AV$10,0))","v":5223.7451976393413},{"$f":"OFFSET(UEC!$C12,0,MATCH(F$11,UEC!$D$10:$AV$10,0))","v":4147.362870478938},{"$f":"OFFSET(UEC!$C12,0,MATCH(G$11,UEC!$D$10:$AV$10,0))","v":4147.362870478938},{"$f":"OFFSET(UEC!$C12,0,MATCH(H$11,UEC!$D$10:$AV$10,0))","v":4147.3628704789362},{"$f":"OFFSET(UEC!$C12,0,MATCH(I$11,UEC!$D$10:$AV$10,0))","v":4147.3628704789353},{"$f":"OFFSET(UEC!$C12,0,MATCH(J$11,UEC!$D$10:$AV$10,0))","v":4147.362870478938},{"$f":"OFFSET(UEC!$C12,0,MATCH(K$11,UEC!$D$10:$AV$10,0))","v":3563.8082218270747},{"$f":"OFFSET(UEC!$C12,0,MATCH(L$11,UEC!$D$10:$AV$10,0))","v":3562.1897379715251},{"$f":"OFFSET(UEC!$C12,0,MATCH(M$11,UEC!$D$10:$AV$10,0))","v":3560.5712541159742},{"$f":"OFFSET(UEC!$C12,0,MATCH(N$11,UEC!$D$10:$AV$10,0))","v":3558.9527702604241},{"$f":"OFFSET(UEC!$C12,0,MATCH(O$11,UEC!$D$10:$AV$10,0))","v":3557.3342864048732},{"$f":"OFFSET(UEC!$C12,0,MATCH(P$11,UEC!$D$10:$AV$10,0))","v":3555.7158025493231},{"$f":"OFFSET(UEC!$C12,0,MATCH(Q$11,UEC!$D$10:$AV$10,0))","v":3554.0973186937736},{"$f":"OFFSET(UEC!$C12,0,MATCH(R$11,UEC!$D$10:$AV$10,0))","v":3554.0973186937726},{"$f":"OFFSET(UEC!$C12,0,MATCH(S$11,UEC!$D$10:$AV$10,0))","v":3554.097318693774},{"$f":"OFFSET(UEC!$C12,0,MATCH(T$11,UEC!$D$10:$AV$10,0))","v":3554.0973186937731},{"$f":"OFFSET(UEC!$C12,0,MATCH(U$11,UEC!$D$10:$AV$10,0))","v":3554.0973186937736},{"$f":"OFFSET(UEC!$C12,0,MATCH(V$11,UEC!$D$10:$AV$10,0))","v":3554.0973186937722},{"$f":"OFFSET(UEC!$C12,0,MATCH(W$11,UEC!$D$10:$AV$10,0))","v":3554.0973186937726},{"$f":"OFFSET(UEC!$C12,0,MATCH(X$11,UEC!$D$10:$AV$10,0))","v":3554.0973186937726},{"$f":"OFFSET(UEC!$C12,0,MATCH(Y$11,UEC!$D$10:$AV$10,0))","v":3554.0973186937726},{"$f":"OFFSET(UEC!$C12,0,MATCH(Z$11,UEC!$D$10:$AV$10,0))","v":3554.0973186937722},{"$f":"OFFSET(UEC!$C12,0,MATCH(AA$11,UEC!$D$10:$AV$10,0))","v":3554.0973186937717},{"$f":"OFFSET(UEC!$C12,0,MATCH(AB$11,UEC!$D$10:$AV$10,0))","v":3554.0973186937731}]
[null,null,"Installed UEC (Vintage Weighted Average)  - PRE-Case UEC",{"$f":"OFFSET(UEC!$C17,0,MATCH(D$11,UEC!$D$10:$AV$10,0))","v":{"$error":"#VALUE!"}},{"$f":"OFFSET(UEC!$C17,0,MATCH(E$11,UEC!$D$10:$AV$10,0))","v":{"$error":"#VALUE!"}},{"$f":"OFFSET(UEC!$C17,0,MATCH(F$11,UEC!$D$10:$AV$10,0))","v":{"$error":"#VALUE!"}},{"$f":"OFFSET(UEC!$C17,0,MATCH(G$11,UEC!$D$10:$AV$10,0))","v":{"$error":"#VALUE!"}},{"$f":"OFFSET(UEC!$C17,0,MATCH(H$11,UEC!$D$10:$AV$10,0))","v":{"$error":"#VALUE!"}},{"$f":"OFFSET(UEC!$C17,0,MATCH(I$11,UEC!$D$10:$AV$10,0))","v":{"$error":"#VALUE!"}},{"$f":"OFFSET(UEC!$C17,0,MATCH(J$11,UEC!$D$10:$AV$10,0))","v":{"$error":"#VALUE!"}},{"$f":"OFFSET(UEC!$C17,0,MATCH(K$11,UEC!$D$10:$AV$10,0))","v":{"$error":"#VALUE!"}},{"$f":"OFFSET(UEC!$C17,0,MATCH(L$11,UEC!$D$10:$AV$10,0))","v":{"$error":"#VALUE!"}},{"$f":"OFFSET(UEC!$C17,0,MATCH(M$11,UEC!$D$10:$AV$10,0))","v":{"$error":"#VALUE!"}},{"$f":"OFFSET(UEC!$C17,0,MATCH(N$11,UEC!$D$10:$AV$10,0))","v":{"$error":"#VALUE!"}},{"$f":"OFFSET(UEC!$C17,0,MATCH(O$11,UEC!$D$10:$AV$10,0))","v":{"$error":"#VALUE!"}},{"$f":"OFFSET(UEC!$C17,0,MATCH(P$11,UEC!$D$10:$AV$10,0))","v":{"$error":"#VALUE!"}},{"$f":"OFFSET(UEC!$C17,0,MATCH(Q$11,UEC!$D$10:$AV$10,0))","v":{"$error":"#VALUE!"}},{"$f":"OFFSET(UEC!$C17,0,MATCH(R$11,UEC!$D$10:$AV$10,0))","v":{"$error":"#VALUE!"}},{"$f":"OFFSET(UEC!$C17,0,MATCH(S$11,UEC!$D$10:$AV$10,0))","v":{"$error":"#VALUE!"}},{"$f":"OFFSET(UEC!$C17,0,MATCH(T$11,UEC!$D$10:$AV$10,0))","v":{"$error":"#VALUE!"}},{"$f":"OFFSET(UEC!$C17,0,MATCH(U$11,UEC!$D$10:$AV$10,0))","v":{"$error":"#VALUE!"}},{"$f":"OFFSET(UEC!$C17,0,MATCH(V$11,UEC!$D$10:$AV$10,0))","v":{"$error":"#VALUE!"}},{"$f":"OFFSET(UEC!$C17,0,MATCH(W$11,UEC!$D$10:$AV$10,0))","v":{"$error":"#VALUE!"}},{"$f":"OFFSET(UEC!$C17,0,MATCH(X$11,UEC!$D$10:$AV$10,0))","v":{"$error":"#VALUE!"}},{"$f":"OFFSET(UEC!$C17,0,MATCH(Y$11,UEC!$D$10:$AV$10,0))","v":{"$error":"#VALUE!"}},{"$f":"OFFSET(UEC!$C17,0,MATCH(Z$11,UEC!$D$10:$AV$10,0))","v":{"$error":"#VALUE!"}},{"$f":"OFFSET(UEC!$C17,0,MATCH(AA$11,UEC!$D$10:$AV$10,0))","v":{"$error":"#VALUE!"}},{"$f":"OFFSET(UEC!$C17,0,MATCH(AB$11,UEC!$D$10:$AV$10,0))","v":{"$error":"#VALUE!"}}]
[null,null,"Installed UEC (Vintage Weighted Average)  - POST-Case UEC",{"$f":"OFFSET(UEC!$C18,0,MATCH(D$11,UEC!$D$10:$AV$10,0))","v":{"$error":"#VALUE!"}},{"$f":"OFFSET(UEC!$C18,0,MATCH(E$11,UEC!$D$10:$AV$10,0))","v":{"$error":"#VALUE!"}},{"$f":"OFFSET(UEC!$C18,0,MATCH(F$11,UEC!$D$10:$AV$10,0))","v":{"$error":"#VALUE!"}},{"$f":"OFFSET(UEC!$C18,0,MATCH(G$11,UEC!$D$10:$AV$10,0))","v":{"$error":"#VALUE!"}},{"$f":"OFFSET(UEC!$C18,0,MATCH(H$11,UEC!$D$10:$AV$10,0))","v":{"$error":"#VALUE!"}},{"$f":"OFFSET(UEC!$C18,0,MATCH(I$11,UEC!$D$10:$AV$10,0))","v":{"$error":"#VALUE!"}},{"$f":"OFFSET(UEC!$C18,0,MATCH(J$11,UEC!$D$10:$AV$10,0))","v":{"$error":"#VALUE!"}},{"$f":"OFFSET(UEC!$C18,0,MATCH(K$11,UEC!$D$10:$AV$10,0))","v":{"$error":"#VALUE!"}},{"$f":"OFFSET(UEC!$C18,0,MATCH(L$11,UEC!$D$10:$AV$10,0))","v":{"$error":"#VALUE!"}},{"$f":"OFFSET(UEC!$C18,0,MATCH(M$11,UEC!$D$10:$AV$10,0))","v":{"$error":"#VALUE!"}},{"$f":"OFFSET(UEC!$C18,0,MATCH(N$11,UEC!$D$10:$AV$10,0))","v":{"$error":"#VALUE!"}},{"$f":"OFFSET(UEC!$C18,0,MATCH(O$11,UEC!$D$10:$AV$10,0))","v":{"$error":"#VALUE!"}},{"$f":"OFFSET(UEC!$C18,0,MATCH(P$11,UEC!$D$10:$AV$10,0))","v":{"$error":"#VALUE!"}},{"$f":"OFFSET(UEC!$C18,0,MATCH(Q$11,UEC!$D$10:$AV$10,0))","v":{"$error":"#VALUE!"}},{"$f":"OFFSET(UEC!$C18,0,MATCH(R$11,UEC!$D$10:$AV$10,0))","v":{"$error":"#VALUE!"}},{"$f":"OFFSET(UEC!$C18,0,MATCH(S$11,UEC!$D$10:$AV$10,0))","v":{"$error":"#VALUE!"}},{"$f":"OFFSET(UEC!$C18,0,MATCH(T$11,UEC!$D$10:$AV$10,0))","v":{"$error":"#VALUE!"}},{"$f":"OFFSET(UEC!$C18,0,MATCH(U$11,UEC!$D$10:$AV$10,0))","v":{"$error":"#VALUE!"}},{"$f":"OFFSET(UEC!$C18,0,MATCH(V$11,UEC!$D$10:$AV$10,0))","v":{"$error":"#VALUE!"}},{"$f":"OFFSET(UEC!$C18,0,MATCH(W$11,UEC!$D$10:$AV$10,0))","v":{"$error":"#VALUE!"}},{"$f":"OFFSET(UEC!$C18,0,MATCH(X$11,UEC!$D$10:$AV$10,0))","v":{"$error":"#VALUE!"}},{"$f":"OFFSET(UEC!$C18,0,MATCH(Y$11,UEC!$D$10:$AV$10,0))","v":{"$error":"#VALUE!"}},{"$f":"OFFSET(UEC!$C18,0,MATCH(Z$11,UEC!$D$10:$AV$10,0))","v":{"$error":"#VALUE!"}},{"$f":"OFFSET(UEC!$C18,0,MATCH(AA$11,UEC!$D$10:$AV$10,0))","v":{"$error":"#VALUE!"}},{"$f":"OFFSET(UEC!$C18,0,MATCH(AB$11,UEC!$D$10:$AV$10,0))","v":{"$error":"#VALUE!"}}]
[]
[null,null,"Stock and Shipments",{"$f":"D11","v":2010},{"$f":"D18+1","v":2011},{"$f":"E18+1","v":2012},{"$f":"F18+1","v":2013},{"$f":"G18+1","v":2014},{"$f":"H18+1","v":2015},{"$f":"I18+1","v":2016},{"$f":"J18+1","v":2017},{"$f":"K18+1","v":2018},{"$f":"L18+1","v":2019},{"$f":"M18+1","v":2020},{"$f":"N18+1","v":2021},{"$f":"O18+1","v":2022},{"$f":"P18+1","v":2023},{"$f":"Q18+1","v":2024},{"$f":"R18+1","v":2025},{"$f":"S18+1","v":2026},{"$f":"T18+1","v":2027},{"$f":"U18+1","v":2028},{"$f":"V18+1","v":2029},{"$f":"W18+1","v":2030},{"$f":"X18+1","v":2031},{"$f":"Y18+1","v":2032},{"$f":"Z18+1","v":2033},{"$f":"AA18+1","v":2034}]
[null,null,"6P Shipments",{"$f":"'Shipments and Stock'!AB14","v":32423.473837372203},{"$f":"'Shipments and Stock'!AC14","v":33169.232948518606},{"$f":"'Shipments and Stock'!AD14","v":33900.856649913614},{"$f":"'Shipments and Stock'!AE14","v":34594.501581013654},{"$f":"'Shipments and Stock'!AF14","v":35130.625553869497},{"$f":"'Shipments and Stock'!AG14","v":35603.645911624757},{"$f":"'Shipments and Stock'!AH14","v":36026.390056994482},{"$f":"'Shipments and Stock'!AI14","v":36410.705527423546},{"$f":"'Shipments and Stock'!AJ14","v":36769.894660397804},{"$f":"'Shipments and Stock'!AK14","v":37110.801923766805},{"$f":"'Shipments and Stock'!AL14","v":37442.585203815019},{"$f":"'Shipments and Stock'!AM14","v":37766.592423804352},{"$f":"'Shipments and Stock'!AN14","v":38075.07964553473},{"$f":"'Shipments and Stock'!AO14","v":38365.045732308237},{"$f":"'Shipments and Stock'!AP14","v":38643.706616765798},{"$f":"'Shipments and Stock'!AQ14","v":38925.153385089892},{"$f":"'Shipments and Stock'!AR14","v":39220.578895920196},{"$f":"'Shipments and Stock'!AS14","v":39536.598372939203},{"$f":"'Shipments and Stock'!AT14","v":39877.381372044445},{"$f":"'Shipments and Stock'!AU14","v":40240.704224176414},{"$f":"'Shipments and Stock'!AV14","v":40620.455632086196},{"$f":"'Shipments and Stock'!AW14","v":40620.455632086196},{"$f":"'Shipments and Stock'!AX14","v":40620.455632086196},{"$f":"'Shipments and Stock'!AY14","v":40620.455632086196},{"$f":"'Shipments and Stock'!AZ14","v":40620.455632086196}]
[null,null,"Replacement Shipments",{"$f":"'Shipments and Stock'!AB15","v":{"$error":"#VALUE!"}},{"$f":"'Shipments and Stock'!AC15","v":{"$error":"#VALUE!"}},{"$f":"'Shipments and Stock'!AD15","v":{"$error":"#VALUE!"}},{"$f":"'Shipments and Stock'!AE15","v":{"$error":"#VALUE!"}},{"$f":"'Shipments and Stock'!AF15","v":{"$error":"#VALUE!"}},{"$f":"'Shipments and Stock'!AG15","v":{"$error":"#VALUE!"}},{"$f":"'Shipments and Stock'!AH15","v":{"$error":"#VALUE!"}},{"$f":"'Shipments and Stock'!AI15","v":{"$error":"#VALUE!"}},{"$f":"'Shipments and Stock'!AJ15","v":{"$error":"#VALUE!"}},{"$f":"'Shipments and Stock'!AK15","v":{"$error":"#VALUE!"}},{"$f":"'Shipments and Stock'!AL15","v":{"$error":"#VALUE!"}},{"$f":"'Shipments and Stock'!AM15","v":{"$error":"#VALUE!"}},{"$f":"'Shipments and Stock'!AN15","v":{"$error":"#VALUE!"}},{"$f":"'Shipments and Stock'!AO15","v":{"$error":"#VALUE!"}},{"$f":"'Shipments and Stock'!AP15","v":{"$error":"#VALUE!"}},{"$f":"'Shipments and Stock'!AQ15","v":{"$error":"#VALUE!"}},{"$f":"'Shipments and Stock'!AR15","v":{"$error":"#VALUE!"}},{"$f":"'Shipments and Stock'!AS15","v":{"$error":"#VALUE!"}},{"$f":"'Shipments and Stock'!AT15","v":{"$error":"#VALUE!"}},{"$f":"'Shipments and Stock'!AU15","v":{"$error":"#VALUE!"}},{"$f":"'Shipments and Stock'!AV15","v":{"$error":"#VALUE!"}},{"$f":"'Shipments and Stock'!AW15","v":{"$error":"#VALUE!"}},{"$f":"'Shipments and Stock'!AX15","v":{"$error":"#VALUE!"}},{"$f":"'Shipments and Stock'!AY15","v":{"$error":"#VALUE!"}},{"$f":"'Shipments and Stock'!AZ15","v":{"$error":"#VALUE!"}}]
[null,null,"Net New Shipments",{"$f":"'Shipments and Stock'!AB16","v":{"$error":"#VALUE!"}},{"$f":"'Shipments and Stock'!AC16","v":{"$error":"#VALUE!"}},{"$f":"'Shipments and Stock'!AD16","v":{"$error":"#VALUE!"}},{"$f":"'Shipments and Stock'!AE16","v":{"$error":"#VALUE!"}},{"$f":"'Shipments and Stock'!AF16","v":{"$error":"#VALUE!"}},{"$f":"'Shipments and Stock'!AG16","v":{"$error":"#VALUE!"}},{"$f":"'Shipments and Stock'!AH16","v":{"$error":"#VALUE!"}},{"$f":"'Shipments and Stock'!AI16","v":{"$error":"#VALUE!"}},{"$f":"'Shipments and Stock'!AJ16","v":{"$error":"#VALUE!"}},{"$f":"'Shipments and Stock'!AK16","v":{"$error":"#VALUE!"}},{"$f":"'Shipments and Stock'!AL16","v":{"$error":"#VALUE!"}},{"$f":"'Shipments and Stock'!AM16","v":{"$error":"#VALUE!"}},{"$f":"'Shipments and Stock'!AN16","v":{"$error":"#VALUE!"}},{"$f":"'Shipments and Stock'!AO16","v":{"$error":"#VALUE!"}},{"$f":"'Shipments and Stock'!AP16","v":{"$error":"#VALUE!"}},{"$f":"'Shipments and Stock'!AQ16","v":{"$error":"#VALUE!"}},{"$f":"'Shipments and Stock'!AR16","v":{"$error":"#VALUE!"}},{"$f":"'Shipments and Stock'!AS16","v":{"$error":"#VALUE!"}},{"$f":"'Shipments and Stock'!AT16","v":{"$error":"#VALUE!"}},{"$f":"'Shipments and Stock'!AU16","v":{"$error":"#VALUE!"}},{"$f":"'Shipments and Stock'!AV16","v":{"$error":"#VALUE!"}},{"$f":"'Shipments and Stock'!AW16","v":{"$error":"#VALUE!"}},{"$f":"'Shipments and Stock'!AX16","v":{"$error":"#VALUE!"}},{"$f":"'Shipments and Stock'!AY16","v":{"$error":"#VALUE!"}},{"$f":"'Shipments and Stock'!AZ16","v":{"$error":"#VALUE!"}}]
[null,null,"Total Model Shipments",{"$f":"'Shipments and Stock'!AB17","v":{"$error":"#VALUE!"}},{"$f":"'Shipments and Stock'!AC17","v":{"$error":"#VALUE!"}},{"$f":"'Shipments and Stock'!AD17","v":{"$error":"#VALUE!"}},{"$f":"'Shipments and Stock'!AE17","v":{"$error":"#VALUE!"}},{"$f":"'Shipments and Stock'!AF17","v":{"$error":"#VALUE!"}},{"$f":"'Shipments and Stock'!AG17","v":{"$error":"#VALUE!"}},{"$f":"'Shipments and Stock'!AH17","v":{"$error":"#VALUE!"}},{"$f":"'Shipments and Stock'!AI17","v":{"$error":"#VALUE!"}},{"$f":"'Shipments and Stock'!AJ17","v":{"$error":"#VALUE!"}},{"$f":"'Shipments and Stock'!AK17","v":{"$error":"#VALUE!"}},{"$f":"'Shipments and Stock'!AL17","v":{"$error":"#VALUE!"}},{"$f":"'Shipments and Stock'!AM17","v":{"$error":"#VALUE!"}},{"$f":"'Shipments and Stock'!AN17","v":{"$error":"#VALUE!"}},{"$f":"'Shipments and Stock'!AO17","v":{"$error":"#VALUE!"}},{"$f":"'Shipments and Stock'!AP17","v":{"$error":"#VALUE!"}},{"$f":"'Shipments and Stock'!AQ17","v":{"$error":"#VALUE!"}},{"$f":"'Shipments and Stock'!AR17","v":{"$error":"#VALUE!"}},{"$f":"'Shipments and Stock'!AS17","v":{"$error":"#VALUE!"}},{"$f":"'Shipments and Stock'!AT17","v":{"$error":"#VALUE!"}},{"$f":"'Shipments and Stock'!AU17","v":{"$error":"#VALUE!"}},{"$f":"'Shipments and Stock'!AV17","v":{"$error":"#VALUE!"}},{"$f":"'Shipments and Stock'!AW17","v":{"$error":"#VALUE!"}},{"$f":"'Shipments and Stock'!AX17","v":{"$error":"#VALUE!"}},{"$f":"'Shipments and Stock'!AY17","v":{"$error":"#VALUE!"}},{"$f":"'Shipments and Stock'!AZ17","v":{"$error":"#VALUE!"}}]
[null,null,"Model Installed Stock",{"$f":"'Shipments and Stock'!AB18","v":{"$error":"#VALUE!"}},{"$f":"'Shipments and Stock'!AC18","v":{"$error":"#VALUE!"}},{"$f":"'Shipments and Stock'!AD18","v":{"$error":"#VALUE!"}},{"$f":"'Shipments and Stock'!AE18","v":{"$error":"#VALUE!"}},{"$f":"'Shipments and Stock'!AF18","v":{"$error":"#VALUE!"}},{"$f":"'Shipments and Stock'!AG18","v":{"$error":"#VALUE!"}},{"$f":"'Shipments and Stock'!AH18","v":{"$error":"#VALUE!"}},{"$f":"'Shipments and Stock'!AI18","v":{"$error":"#VALUE!"}},{"$f":"'Shipments and Stock'!AJ18","v":{"$error":"#VALUE!"}},{"$f":"'Shipments and Stock'!AK18","v":{"$error":"#VALUE!"}},{"$f":"'Shipments and Stock'!AL18","v":{"$error":"#VALUE!"}},{"$f":"'Shipments and Stock'!AM18","v":{"$error":"#VALUE!"}},{"$f":"'Shipments and Stock'!AN18","v":{"$error":"#VALUE!"}},{"$f":"'Shipments and Stock'!AO18","v":{"$error":"#VALUE!"}},{"$f":"'Shipments and Stock'!AP18","v":{"$error":"#VALUE!"}},{"$f":"'Shipments and Stock'!AQ18","v":{"$error":"#VALUE!"}},{"$f":"'Shipments and Stock'!AR18","v":{"$error":"#VALUE!"}},{"$f":"'Shipments and Stock'!AS18","v":{"$error":"#VALUE!"}},{"$f":"'Shipments and Stock'!AT18","v":{"$error":"#VALUE!"}},{"$f":"'Shipments and Stock'!AU18","v":{"$error":"#VALUE!"}},{"$f":"'Shipments and Stock'!AV18","v":{"$error":"#VALUE!"}},{"$f":"'Shipments and Stock'!AW18","v":{"$error":"#VALUE!"}},{"$f":"'Shipments and Stock'!AX18","v":{"$error":"#VALUE!"}},{"$f":"'Shipments and Stock'!AY18","v":{"$error":"#VALUE!"}},{"$f":"'Shipments and Stock'!AZ18","v":{"$error":"#VALUE!"}}]
[]
[null,null,"First Year Energy Consumption (kWh)",{"$f":"D11","v":2010},{"$f":"D25+1","v":2011},{"$f":"E25+1","v":2012},{"$f":"F25+1","v":2013},{"$f":"G25+1","v":2014},{"$f":"H25+1","v":2015},{"$f":"I25+1","v":2016},{"$f":"J25+1","v":2017},{"$f":"K25+1","v":2018},{"$f":"L25+1","v":2019},{"$f":"M25+1","v":2020},{"$f":"N25+1","v":2021},{"$f":"O25+1","v":2022},{"$f":"P25+1","v":2023},{"$f":"Q25+1","v":2024},{"$f":"R25+1","v":2025},{"$f":"S25+1","v":2026},{"$f":"T25+1","v":2027},{"$f":"U25+1","v":2028},{"$f":"V25+1","v":2029},{"$f":"W25+1","v":2030},{"$f":"X25+1","v":2031},{"$f":"Y25+1","v":2032},{"$f":"Z25+1","v":2033},{"$f":"AA25+1","v":2034}]
[null,null,"6P Shipments * 6P UEC",{"$f":"D12*D19","v":232535008.37838063},237883451.36226594,243130517.8668308,248105207.8298493,251950187.33899087,255342599.68214276,258374440.56009811,261130678.26566923,263706714.6417999,266151636.91451421,268531123.70833492,270854842.07339281,273067253.95280761,275146835.76305783,277145338.80523884,279163821.67843664,281282557.44316924,283548989.22974861,285993020.30271798,288598702.9290868,291322208.04340369,291322208.04340369,291322208.04340369,291322208.04340369,291322208.04340369]
[null,null,"Model Shipments * Model Pre-Case UEC",{"$f":"D13*D22","v":{"$error":"#VALUE!"}},{"$f":"E13*E22","v":{"$error":"#VALUE!"}},{"$error":"#VALUE!"},{"$error":"#VALUE!"},{"$error":"#VALUE!"},{"$error":"#VALUE!"},{"$error":"#VALUE!"},{"$error":"#VALUE!"},{"$error":"#VALUE!"},{"$error":"#VALUE!"},{"$error":"#VALUE!"},{"$error":"#VALUE!"},{"$error":"#VALUE!"},{"$error":"#VALUE!"},{"$error":"#VALUE!"},{"$error":"#VALUE!"},{"$error":"#VALUE!"},{"$error":"#VALUE!"},{"$error":"#VALUE!"},{"$error":"#VALUE!"},{"$error":"#VALUE!"},{"$error":"#VALUE!"},{"$error":"#VALUE!"},{"$error":"#VALUE!"},{"$error":"#VALUE!"}]
[null,null,"Model Shipments * Model Post-Case UEC",{"$f":"D14*D22","v":{"$error":"#VALUE!"}},{"$f":"E14*E22","v":{"$error":"#VALUE!"}},{"$error":"#VALUE!"},{"$error":"#VALUE!"},{"$error":"#VALUE!"},{"$error":"#VALUE!"},{"$error":"#VALUE!"},{"$error":"#VALUE!"},{"$error":"#VALUE!"},{"$error":"#VALUE!"},{"$error":"#VALUE!"},{"$error":"#VALUE!"},{"$error":"#VALUE!"},{"$error":"#VALUE!"},{"$error":"#VALUE!"},{"$error":"#VALUE!"},{"$error":"#VALUE!"},{"$error":"#VALUE!"},{"$error":"#VALUE!"},{"$error":"#VALUE!"},{"$error":"#VALUE!"},{"$error":"#VALUE!"},{"$error":"#VALUE!"},{"$error":"#VALUE!"},{"$error":"#VALUE!"}]
[]
[null,null,"Total Energy Consumption (kWh)",{"$f":"D11","v":2010},{"$f":"D30+1","v":2011},{"$f":"E30+1","v":2012},{"$f":"F30+1","v":2013},{"$f":"G30+1","v":2014},{"$f":"H30+1","v":2015},{"$f":"I30+1","v":2016},{"$f":"J30+1","v":2017},{"$f":"K30+1","v":2018},{"$f":"L30+1","v":2019},{"$f":"M30+1","v":2020},{"$f":"N30+1","v":2021},{"$f":"O30+1","v":2022},{"$f":"P30+1","v":2023},{"$f":"Q30+1","v":2024},{"$f":"R30+1","v":2025},{"$f":"S30+1","v":2026},{"$f":"T30+1","v":2027},{"$f":"U30+1","v":2028},{"$f":"V30+1","v":2029},{"$f":"W30+1","v":2030},{"$f":"X30+1","v":2031},{"$f":"Y30+1","v":2032},{"$f":"Z30+1","v":2033},{"$f":"AA30+1","v":2034}]
[null,null,"Modeled Pre-case Consumption \n(Installed UEC * Stock)",{"$f":"D15*D23","v":{"$error":"#VALUE!"}},{"$error":"#VALUE!"},{"$error":"#VALUE!"},{"$error":"#VALUE!"},{"$error":"#VALUE!"},{"$error":"#VALUE!"},{"$error":"#VALUE!"},{"$error":"#VALUE!"},{"$error":"#VALUE!"},{"$error":"#VALUE!"},{"$error":"#VALUE!"},{"$error":"#VALUE!"},{"$error":"#VALUE!"},{"$error":"#VALUE!"},{"$error":"#VALUE!"},{"$error":"#VALUE!"},{"$error":"#VALUE!"},{"$error":"#VALUE!"},{"$error":"#VALUE!"},{"$error":"#VALUE!"},{"$error":"#VALUE!"},{"$error":"#VALUE!"},{"$error":"#VALUE!"},{"$error":"#VALUE!"},{"$error":"#VALUE!"}]
[null,null,"Modeled Post-case Consumption \n(Installed UEC* Stock)",{"$f":"D16*D23","v":{"$error":"#VALUE!"}},{"$error":"#VALUE!"},{"$error":"#VALUE!"},{"$error":"#VALUE!"},{"$error":"#VALUE!"},{"$error":"#VALUE!"},{"$error":"#VALUE!"},{"$error":"#VALUE!"},{"$error":"#VALUE!"},{"$error":"#VALUE!"},{"$error":"#VALUE!"},{"$error":"#VALUE!"},{"$error":"#VALUE!"},{"$error":"#VALUE!"},{"$error":"#VALUE!"},{"$error":"#VALUE!"},{"$error":"#VALUE!"},{"$error":"#VALUE!"},{"$error":"#VALUE!"},{"$error":"#VALUE!"},{"$error":"#VALUE!"},{"$error":"#VALUE!"},{"$error":"#VALUE!"},{"$error":"#VALUE!"},{"$error":"#VALUE!"}]
[]
[]
[]
[null,null,"Total Energy Consumption (aMW)",{"$f":"D11","v":2010},{"$f":"D36+1","v":2011},{"$f":"E36+1","v":2012},{"$f":"F36+1","v":2013},{"$f":"G36+1","v":2014},{"$f":"H36+1","v":2015},{"$f":"I36+1","v":2016},{"$f":"J36+1","v":2017},{"$f":"K36+1","v":2018},{"$f":"L36+1","v":2019},{"$f":"M36+1","v":2020},{"$f":"N36+1","v":2021},{"$f":"O36+1","v":2022},{"$f":"P36+1","v":2023},{"$f":"Q36+1","v":2024},{"$f":"R36+1","v":2025},{"$f":"S36+1","v":2026},{"$f":"T36+1","v":2027},{"$f":"U36+1","v":2028},{"$f":"V36+1","v":2029},{"$f":"W36+1","v":2030},{"$f":"X36+1","v":2031},{"$f":"Y36+1","v":2032},{"$f":"Z36+1","v":2033},{"$f":"AA36+1","v":2034}]
[null,null,{"$f":"C31","v":"Modeled Pre-case Consumption \n(Installed UEC * Stock)"},{"$f":"D31/'Constants and Menus'!$D$13/('Constants and Menus'!$D$12*'Constants and Menus'!$D$10)","v":{"$error":"#VALUE!"}},{"$f":"E31/'Constants and Menus'!$D$13/('Constants and Menus'!$D$12*'Constants and Menus'!$D$10)","v":{"$error":"#VALUE!"}},{"$f":"F31/'Constants and Menus'!$D$13/('Constants and Menus'!$D$12*'Constants and Menus'!$D$10)","v":{"$error":"#VALUE!"}},{"$f":"G31/'Constants and Menus'!$D$13/('Constants and Menus'!$D$12*'Constants and Menus'!$D$10)","v":{"$error":"#VALUE!"}},{"$f":"H31/'Constants and Menus'!$D$13/('Constants and Menus'!$D$12*'Constants and Menus'!$D$10)","v":{"$error":"#VALUE!"}},{"$f":"I31/'Constants and Menus'!$D$13/('Constants and Menus'!$D$12*'Constants and Menus'!$D$10)","v":{"$error":"#VALUE!"}},{"$f":"J31/'Constants and Menus'!$D$13/('Constants and Menus'!$D$12*'Constants and Menus'!$D$10)","v":{"$error":"#VALUE!"}},{"$f":"K31/'Constants and Menus'!$D$13/('Constants and Menus'!$D$12*'Constants and Menus'!$D$10)","v":{"$error":"#VALUE!"}},{"$f":"L31/'Constants and Menus'!$D$13/('Constants and Menus'!$D$12*'Constants and Menus'!$D$10)","v":{"$error":"#VALUE!"}},{"$f":"M31/'Constants and Menus'!$D$13/('Constants and Menus'!$D$12*'Constants and Menus'!$D$10)","v":{"$error":"#VALUE!"}},{"$f":"N31/'Constants and Menus'!$D$13/('Constants and Menus'!$D$12*'Constants and Menus'!$D$10)","v":{"$error":"#VALUE!"}},{"$f":"O31/'Constants and Menus'!$D$13/('Constants and Menus'!$D$12*'Constants and Menus'!$D$10)","v":{"$error":"#VALUE!"}},{"$f":"P31/'Constants and Menus'!$D$13/('Constants and Menus'!$D$12*'Constants and Menus'!$D$10)","v":{"$error":"#VALUE!"}},{"$f":"Q31/'Constants and Menus'!$D$13/('Constants and Menus'!$D$12*'Constants and Menus'!$D$10)","v":{"$error":"#VALUE!"}},{"$f":"R31/'Constants and Menus'!$D$13/('Constants and Menus'!$D$12*'Constants and Menus'!$D$10)","v":{"$error":"#VALUE!"}},{"$f":"S31/'Constants and Menus'!$D$13/('Constants and Menus'!$D$12*'Constants and Menus'!$D$10)","v":{"$error":"#VALUE!"}},{"$f":"T31/'Constants and Menus'!$D$13/('Constants and Menus'!$D$12*'Constants and Menus'!$D$10)","v":{"$error":"#VALUE!"}},{"$f":"U31/'Constants and Menus'!$D$13/('Constants and Menus'!$D$12*'Constants and Menus'!$D$10)","v":{"$error":"#VALUE!"}},{"$f":"V31/'Constants and Menus'!$D$13/('Constants and Menus'!$D$12*'Constants and Menus'!$D$10)","v":{"$error":"#VALUE!"}},{"$f":"W31/'Constants and Menus'!$D$13/('Constants and Menus'!$D$12*'Constants and Menus'!$D$10)","v":{"$error":"#VALUE!"}},{"$f":"X31/'Constants and Menus'!$D$13/('Constants and Menus'!$D$12*'Constants and Menus'!$D$10)","v":{"$error":"#VALUE!"}},{"$f":"Y31/'Constants and Menus'!$D$13/('Constants and Menus'!$D$12*'Constants and Menus'!$D$10)","v":{"$error":"#VALUE!"}},{"$f":"Z31/'Constants and Menus'!$D$13/('Constants and Menus'!$D$12*'Constants and Menus'!$D$10)","v":{"$error":"#VALUE!"}},{"$f":"AA31/'Constants and Menus'!$D$13/('Constants and Menus'!$D$12*'Constants and Menus'!$D$10)","v":{"$error":"#VALUE!"}},{"$f":"AB31/'Constants and Menus'!$D$13/('Constants and Menus'!$D$12*'Constants and Menus'!$D$10)","v":{"$error":"#VALUE!"}}]
[null,null,{"$f":"C32","v":"Modeled Post-case Consumption \n(Installed UEC* Stock)"},{"$f":"D32/'Constants and Menus'!$D$13/('Constants and Menus'!$D$12*'Constants and Menus'!$D$10)","v":{"$error":"#VALUE!"}},{"$f":"E32/'Constants and Menus'!$D$13/('Constants and Menus'!$D$12*'Constants and Menus'!$D$10)","v":{"$error":"#VALUE!"}},{"$f":"F32/'Constants and Menus'!$D$13/('Constants and Menus'!$D$12*'Constants and Menus'!$D$10)","v":{"$error":"#VALUE!"}},{"$f":"G32/'Constants and Menus'!$D$13/('Constants and Menus'!$D$12*'Constants and Menus'!$D$10)","v":{"$error":"#VALUE!"}},{"$f":"H32/'Constants and Menus'!$D$13/('Constants and Menus'!$D$12*'Constants and Menus'!$D$10)","v":{"$error":"#VALUE!"}},{"$f":"I32/'Constants and Menus'!$D$13/('Constants and Menus'!$D$12*'Constants and Menus'!$D$10)","v":{"$error":"#VALUE!"}},{"$f":"J32/'Constants and Menus'!$D$13/('Constants and Menus'!$D$12*'Constants and Menus'!$D$10)","v":{"$error":"#VALUE!"}},{"$f":"K32/'Constants and Menus'!$D$13/('Constants and Menus'!$D$12*'Constants and Menus'!$D$10)","v":{"$error":"#VALUE!"}},{"$f":"L32/'Constants and Menus'!$D$13/('Constants and Menus'!$D$12*'Constants and Menus'!$D$10)","v":{"$error":"#VALUE!"}},{"$f":"M32/'Constants and Menus'!$D$13/('Constants and Menus'!$D$12*'Constants and Menus'!$D$10)","v":{"$error":"#VALUE!"}},{"$f":"N32/'Constants and Menus'!$D$13/('Constants and Menus'!$D$12*'Constants and Menus'!$D$10)","v":{"$error":"#VALUE!"}},{"$f":"O32/'Constants and Menus'!$D$13/('Constants and Menus'!$D$12*'Constants and Menus'!$D$10)","v":{"$error":"#VALUE!"}},{"$f":"P32/'Constants and Menus'!$D$13/('Constants and Menus'!$D$12*'Constants and Menus'!$D$10)","v":{"$error":"#VALUE!"}},{"$f":"Q32/'Constants and Menus'!$D$13/('Constants and Menus'!$D$12*'Constants and Menus'!$D$10)","v":{"$error":"#VALUE!"}},{"$f":"R32/'Constants and Menus'!$D$13/('Constants and Menus'!$D$12*'Constants and Menus'!$D$10)","v":{"$error":"#VALUE!"}},{"$f":"S32/'Constants and Menus'!$D$13/('Constants and Menus'!$D$12*'Constants and Menus'!$D$10)","v":{"$error":"#VALUE!"}},{"$f":"T32/'Constants and Menus'!$D$13/('Constants and Menus'!$D$12*'Constants and Menus'!$D$10)","v":{"$error":"#VALUE!"}},{"$f":"U32/'Constants and Menus'!$D$13/('Constants and Menus'!$D$12*'Constants and Menus'!$D$10)","v":{"$error":"#VALUE!"}},{"$f":"V32/'Constants and Menus'!$D$13/('Constants and Menus'!$D$12*'Constants and Menus'!$D$10)","v":{"$error":"#VALUE!"}},{"$f":"W32/'Constants and Menus'!$D$13/('Constants and Menus'!$D$12*'Constants and Menus'!$D$10)","v":{"$error":"#VALUE!"}},{"$f":"X32/'Constants and Menus'!$D$13/('Constants and Menus'!$D$12*'Constants and Menus'!$D$10)","v":{"$error":"#VALUE!"}},{"$f":"Y32/'Constants and Menus'!$D$13/('Constants and Menus'!$D$12*'Constants and Menus'!$D$10)","v":{"$error":"#VALUE!"}},{"$f":"Z32/'Constants and Menus'!$D$13/('Constants and Menus'!$D$12*'Constants and Menus'!$D$10)","v":{"$error":"#VALUE!"}},{"$f":"AA32/'Constants and Menus'!$D$13/('Constants and Menus'!$D$12*'Constants and Menus'!$D$10)","v":{"$error":"#VALUE!"}},{"$f":"AB32/'Constants and Menus'!$D$13/('Constants and Menus'!$D$12*'Constants and Menus'!$D$10)","v":{"$error":"#VALUE!"}}]
[]
[null,null,"Savings (aMW)",{"$f":"D11","v":2010},{"$f":"D40+1","v":2011},{"$f":"E40+1","v":2012},{"$f":"F40+1","v":2013},{"$f":"G40+1","v":2014},{"$f":"H40+1","v":2015},{"$f":"I40+1","v":2016},{"$f":"J40+1","v":2017},{"$f":"K40+1","v":2018},{"$f":"L40+1","v":2019},{"$f":"M40+1","v":2020},{"$f":"N40+1","v":2021},{"$f":"O40+1","v":2022},{"$f":"P40+1","v":2023},{"$f":"Q40+1","v":2024},{"$f":"R40+1","v":2025},{"$f":"S40+1","v":2026},{"$f":"T40+1","v":2027},{"$f":"U40+1","v":2028},{"$f":"V40+1","v":2029},{"$f":"W40+1","v":2030},{"$f":"X40+1","v":2031},{"$f":"Y40+1","v":2032},{"$f":"Z40+1","v":2033},{"$f":"AA40+1","v":2034}]
[null,null,"Incremental Savings",{"$f":"IF(AND(D40>='Constants and Menus'!$D$15,(D40-'Constants and Menus'!$D$15)<=Lifetime),\n(D13-D14)*D22,\n(D13-D14)*D21)\n/'Constants and Menus'!$D$13/('Constants and Menus'!$D$12*'Constants and Menus'!$D$10)","v":{"$error":"#VALUE!"}},{"$f":"IF(AND(E40>='Constants and Menus'!$D$15,(E40-'Constants and Menus'!$D$15)<=Lifetime),\n(E13-E14)*E22,\n(E13-E14)*E21)\n/'Constants and Menus'!$D$13/('Constants and Menus'!$D$12*'Constants and Menus'!$D$10)","v":{"$error":"#VALUE!"}},{"$f":"IF(AND(F40>='Constants and Menus'!$D$15,(F40-'Constants and Menus'!$D$15)<=Lifetime),\n(F13-F14)*F22,\n(F13-F14)*F21)\n/'Constants and Menus'!$D$13/('Constants and Menus'!$D$12*'Constants and Menus'!$D$10)","v":{"$error":"#VALUE!"}},{"$f":"IF(AND(G40>='Constants and Menus'!$D$15,(G40-'Constants and Menus'!$D$15)<=Lifetime),\n(G13-G14)*G22,\n(G13-G14)*G21)\n/'Constants and Menus'!$D$13/('Constants and Menus'!$D$12*'Constants and Menus'!$D$10)","v":{"$error":"#VALUE!"}},{"$f":"IF(AND(H40>='Constants and Menus'!$D$15,(H40-'Constants and Menus'!$D$15)<=Lifetime),\n(H13-H14)*H22,\n(H13-H14)*H21)\n/'Constants and Menus'!$D$13/('Constants and Menus'!$D$12*'Constants and Menus'!$D$10)","v":{"$error":"#VALUE!"}},{"$f":"IF(AND(I40>='Constants and Menus'!$D$15,(I40-'Constants and Menus'!$D$15)<=Lifetime),\n(I13-I14)*I22,\n(I13-I14)*I21)\n/'Constants and Menus'!$D$13/('Constants and Menus'!$D$12*'Constants and Menus'!$D$10)","v":{"$error":"#VALUE!"}},{"$f":"IF(AND(J40>='Constants and Menus'!$D$15,(J40-'Constants and Menus'!$D$15)<=Lifetime),\n(J13-J14)*J22,\n(J13-J14)*J21)\n/'Constants and Menus'!$D$13/('Constants and Menus'!$D$12*'Constants and Menus'!$D$10)","v":{"$error":"#VALUE!"}},{"$f":"IF(AND(K40>='Constants and Menus'!$D$15,(K40-'Constants and Menus'!$D$15)<=Lifetime),\n(K13-K14)*K22,\n(K13-K14)*K21)\n/'Constants and Menus'!$D$13/('Constants and Menus'!$D$12*'Constants and Menus'!$D$10)","v":{"$error":"#VALUE!"}},{"$f":"IF(AND(L40>='Constants and Menus'!$D$15,(L40-'Constants and Menus'!$D$15)<=Lifetime),\n(L13-L14)*L22,\n(L13-L14)*L21)\n/'Constants and Menus'!$D$13/('Constants and Menus'!$D$12*'Constants and Menus'!$D$10)","v":{"$error":"#VALUE!"}},{"$f":"IF(AND(M40>='Constants and Menus'!$D$15,(M40-'Constants and Menus'!$D$15)<=Lifetime),\n(M13-M14)*M22,\n(M13-M14)*M21)\n/'Constants and Menus'!$D$13/('Constants and Menus'!$D$12*'Constants and Menus'!$D$10)","v":{"$error":"#VALUE!"}},{"$f":"IF(AND(N40>='Constants and Menus'!$D$15,(N40-'Constants and Menus'!$D$15)<=Lifetime),\n(N13-N14)*N22,\n(N13-N14)*N21)\n/'Constants and Menus'!$D$13/('Constants and Menus'!$D$12*'Constants and Menus'!$D$10)","v":{"$error":"#VALUE!"}},{"$f":"IF(AND(O40>='Constants and Menus'!$D$15,(O40-'Constants and Menus'!$D$15)<=Lifetime),\n(O13-O14)*O22,\n(O13-O14)*O21)\n/'Constants and Menus'!$D$13/('Constants and Menus'!$D$12*'Constants and Menus'!$D$10)","v":{"$error":"#VALUE!"}},{"$f":"IF(AND(P40>='Constants and Menus'!$D$15,(P40-'Constants and Menus'!$D$15)<=Lifetime),\n(P13-P14)*P22,\n(P13-P14)*P21)\n/'Constants and Menus'!$D$13/('Constants and Menus'!$D$12*'Constants and Menus'!$D$10)","v":{"$error":"#VALUE!"}},{"$f":"IF(AND(Q40>='Constants and Menus'!$D$15,(Q40-'Constants and Menus'!$D$15)<=Lifetime),\n(Q13-Q14)*Q22,\n(Q13-Q14)*Q21)\n/'Constants and Menus'!$D$13/('Constants and Menus'!$D$12*'Constants and Menus'!$D$10)","v":{"$error":"#VALUE!"}},{"$f":"IF(AND(R40>='Constants and Menus'!$D$15,(R40-'Constants and Menus'!$D$15)<=Lifetime),\n(R13-R14)*R22,\n(R13-R14)*R21)\n/'Constants and Menus'!$D$13/('Constants and Menus'!$D$12*'Constants and Menus'!$D$10)","v":{"$error":"#VALUE!"}},{"$f":"IF(AND(S40>='Constants and Menus'!$D$15,(S40-'Constants and Menus'!$D$15)<=Lifetime),\n(S13-S14)*S22,\n(S13-S14)*S21)\n/'Constants and Menus'!$D$13/('Constants and Menus'!$D$12*'Constants and Menus'!$D$10)","v":{"$error":"#VALUE!"}},{"$f":"IF(AND(T40>='Constants and Menus'!$D$15,(T40-'Constants and Menus'!$D$15)<=Lifetime),\n(T13-T14)*T22,\n(T13-T14)*T21)\n/'Constants and Menus'!$D$13/('Constants and Menus'!$D$12*'Constants and Menus'!$D$10)","v":{"$error":"#VALUE!"}},{"$f":"IF(AND(U40>='Constants and Menus'!$D$15,(U40-'Constants and Menus'!$D$15)<=Lifetime),\n(U13-U14)*U22,\n(U13-U14)*U21)\n/'Constants and Menus'!$D$13/('Constants and Menus'!$D$12*'Constants and Menus'!$D$10)","v":{"$error":"#VALUE!"}},{"$f":"IF(AND(V40>='Constants and Menus'!$D$15,(V40-'Constants and Menus'!$D$15)<=Lifetime),\n(V13-V14)*V22,\n(V13-V14)*V21)\n/'Constants and Menus'!$D$13/('Constants and Menus'!$D$12*'Constants and Menus'!$D$10)","v":{"$error":"#VALUE!"}},{"$f":"IF(AND(W40>='Constants and Menus'!$D$15,(W40-'Constants and Menus'!$D$15)<=Lifetime),\n(W13-W14)*W22,\n(W13-W14)*W21)\n/'Constants and Menus'!$D$13/('Constants and Menus'!$D$12*'Constants and Menus'!$D$10)","v":{"$error":"#VALUE!"}},{"$f":"IF(AND(X40>='Constants and Menus'!$D$15,(X40-'Constants and Menus'!$D$15)<=Lifetime),\n(X13-X14)*X22,\n(X13-X14)*X21)\n/'Constants and Menus'!$D$13/('Constants and Menus'!$D$12*'Constants and Menus'!$D$10)","v":{"$error":"#VALUE!"}},{"$f":"IF(AND(Y40>='Constants and Menus'!$D$15,(Y40-'Constants and Menus'!$D$15)<=Lifetime),\n(Y13-Y14)*Y22,\n(Y13-Y14)*Y21)\n/'Constants and Menus'!$D$13/('Constants and Menus'!$D$12*'Constants and Menus'!$D$10)","v":{"$error":"#VALUE!"}},{"$f":"IF(AND(Z40>='Constants and Menus'!$D$15,(Z40-'Constants and Menus'!$D$15)<=Lifetime),\n(Z13-Z14)*Z22,\n(Z13-Z14)*Z21)\n/'Constants and Menus'!$D$13/('Constants and Menus'!$D$12*'Constants and Menus'!$D$10)","v":{"$error":"#VALUE!"}},{"$f":"IF(AND(AA40>='Constants and Menus'!$D$15,(AA40-'Constants and Menus'!$D$15)<=Lifetime),\n(AA13-AA14)*AA22,\n(AA13-AA14)*AA21)\n/'Constants and Menus'!$D$13/('Constants and Menus'!$D$12*'Constants and Menus'!$D$10)","v":{"$error":"#VALUE!"}},{"$f":"IF(AND(AB40>='Constants and Menus'!$D$15,(AB40-'Constants and Menus'!$D$15)<=Lifetime),\n(AB13-AB14)*AB22,\n(AB13-AB14)*AB21)\n/'Constants and Menus'!$D$13/('Constants and Menus'!$D$12*'Constants and Menus'!$D$10)","v":{"$error":"#VALUE!"}}]
[null,null,"Cumulative Savings",{"$f":"SUM($D$41:D41)","v":{"$error":"#VALUE!"}},{"$f":"SUM($D$41:E41)","v":{"$error":"#VALUE!"}},{"$f":"SUM($D$41:F41)","v":{"$error":"#VALUE!"}},{"$f":"SUM($D$41:G41)","v":{"$error":"#VALUE!"}},{"$f":"SUM($D$41:H41)","v":{"$error":"#VALUE!"}},{"$f":"SUM($D$41:I41)","v":{"$error":"#VALUE!"}},{"$f":"SUM($D$41:J41)","v":{"$error":"#VALUE!"}},{"$f":"SUM($D$41:K41)","v":{"$error":"#VALUE!"}},{"$f":"SUM($D$41:L41)","v":{"$error":"#VALUE!"}},{"$f":"SUM($D$41:M41)","v":{"$error":"#VALUE!"}},{"$f":"SUM($D$41:N41)","v":{"$error":"#VALUE!"}},{"$f":"SUM($D$41:O41)","v":{"$error":"#VALUE!"}},{"$f":"SUM($D$41:P41)","v":{"$error":"#VALUE!"}},{"$f":"SUM($D$41:Q41)","v":{"$error":"#VALUE!"}},{"$f":"SUM($D$41:R41)","v":{"$error":"#VALUE!"}},{"$f":"SUM($D$41:S41)","v":{"$error":"#VALUE!"}},{"$f":"SUM($D$41:T41)","v":{"$error":"#VALUE!"}},{"$f":"SUM($D$41:U41)","v":{"$error":"#VALUE!"}},{"$f":"SUM($D$41:V41)","v":{"$error":"#VALUE!"}},{"$f":"SUM($D$41:W41)","v":{"$error":"#VALUE!"}},{"$f":"SUM($D$41:X41)","v":{"$error":"#VALUE!"}},{"$f":"SUM($D$41:Y41)","v":{"$error":"#VALUE!"}},{"$f":"SUM($D$41:Z41)","v":{"$error":"#VALUE!"}},{"$f":"SUM($D$41:AA41)","v":{"$error":"#VALUE!"}},{"$f":"SUM($D$41:AB41)","v":{"$error":"#VALUE!"}}]
[null,null,"DOE Aggregate Lifecycle Savings (formerly DOE Carbon proxy)",{"$f":"SUM($D$42:D42)","v":{"$error":"#VALUE!"}},{"$f":"SUM($D$42:E42)","v":{"$error":"#VALUE!"}},{"$f":"SUM($D$42:F42)","v":{"$error":"#VALUE!"}},{"$f":"SUM($D$42:G42)","v":{"$error":"#VALUE!"}},{"$f":"SUM($D$42:H42)","v":{"$error":"#VALUE!"}},{"$f":"SUM($D$42:I42)","v":{"$error":"#VALUE!"}},{"$f":"SUM($D$42:J42)","v":{"$error":"#VALUE!"}},{"$f":"SUM($D$42:K42)","v":{"$error":"#VALUE!"}},{"$f":"SUM($D$42:L42)","v":{"$error":"#VALUE!"}},{"$f":"SUM($D$42:M42)","v":{"$error":"#VALUE!"}},{"$f":"SUM($D$42:N42)","v":{"$error":"#VALUE!"}},{"$f":"SUM($D$42:O42)","v":{"$error":"#VALUE!"}},{"$f":"SUM($D$42:P42)","v":{"$error":"#VALUE!"}},{"$f":"SUM($D$42:Q42)","v":{"$error":"#VALUE!"}},{"$f":"SUM($D$42:R42)","v":{"$error":"#VALUE!"}},{"$f":"SUM($D$42:S42)","v":{"$error":"#VALUE!"}},{"$f":"SUM($D$42:T42)","v":{"$error":"#VALUE!"}},{"$f":"SUM($D$42:U42)","v":{"$error":"#VALUE!"}},{"$f":"SUM($D$42:V42)","v":{"$error":"#VALUE!"}},{"$f":"SUM($D$42:W42)","v":{"$error":"#VALUE!"}},{"$f":"SUM($D$42:X42)","v":{"$error":"#VALUE!"}},{"$f":"SUM($D$42:Y42)","v":{"$error":"#VALUE!"}},{"$f":"SUM($D$42:Z42)","v":{"$error":"#VALUE!"}},{"$f":"SUM($D$42:AA42)","v":{"$error":"#VALUE!"}},{"$f":"SUM($D$42:AB42)","v":{"$error":"#VALUE!"}}]
[null,null,"Check",null,{"$f":"ROUND(E42-D42-E41,3)","v":{"$error":"#VALUE!"}},{"$f":"ROUND(F42-E42-F41,3)","v":{"$error":"#VALUE!"}},{"$f":"ROUND(G42-F42-G41,3)","v":{"$error":"#VALUE!"}},{"$error":"#VALUE!"},{"$error":"#VALUE!"},{"$error":"#VALUE!"},{"$error":"#VALUE!"},{"$error":"#VALUE!"},{"$error":"#VALUE!"},{"$error":"#VALUE!"},{"$error":"#VALUE!"},{"$error":"#VALUE!"},{"$error":"#VALUE!"},{"$error":"#VALUE!"},{"$error":"#VALUE!"},{"$error":"#VALUE!"},{"$error":"#VALUE!"},{"$error":"#VALUE!"},{"$error":"#VALUE!"},{"$error":"#VALUE!"},{"$error":"#VALUE!"},{"$error":"#VALUE!"},{"$error":"#VALUE!"},{"$error":"#VALUE!"}]

{"sheet":"SUMMARY RESULTS","index":15,"n_rows":12,"n_cols":4,"rows_kept":12,"cut":false,"hidden":false,"merged":[]}
[]
[null,null,"SUMMARY RESULTS"]
[]
[null,null,"NAVIGATION"]
[]
[null,null,"COMMENTS"]
[]
[]
[null,null,null,{"$f":"RESULTS!$C$9","v":"TOTAL"}]
[null,null,"Adjustment to 6P Baseline (aMW)","N/A"]
[null,null,"Total First Year Savings 2010 through 2015 (aMW)",{"$f":"SUM(RESULTS!$D$41:$I$41)","v":{"$error":"#VALUE!"}}]
[null,null,"Total First Year Savings through 2034 (aMW)",{"$f":"SUM(RESULTS!$D$41:$AB$41)","v":{"$error":"#VALUE!"}}]

{"sheet":"Charts","index":16,"n_rows":6,"n_cols":3,"rows_kept":6,"cut":false,"hidden":false,"merged":[]}
[]
[null,null,"CHARTS "]
[]
[null,null,"NAVIGATION"]
[]
[null,null,"COMMENTS"]