{"text_format":"1","workbook":"xlsx","n_sheets":17,"sheets":["COVER","Definitions","Comments","Navigation","Product Classes","Efficiency Levels","Constants and Menus","Product Class Dist","Efficiency Dist","Shipments and Stock - Component","Shipments and Stock - System","6P UEC Development","UEC Development","UEC","RESULTS","SUMMARY RESULTS","Charts"],"not_rendered":{"charts":15,"images":0,"macros":1,"external_links":1,"defined_names":7,"comments":0,"pivot_tables":0},"unopened":[],"bounds":{"document_bytes":16777216,"sheet_cells":100000,"rows_first":2000,"rows_last":500,"rows_between":2000,"halvings":0,"cell_chars":16384,"cell_head_chars":4096},"cells_cut":0,"cells_raw":0,"read":"whole","date_system":"1900"}

{"sheet":"COVER","index":0,"n_rows":28,"n_cols":4,"rows_kept":28,"cut":false,"hidden":false,"merged":[[22,2,22,3],[8,2,8,3],[9,2,9,3],[10,2,10,3],[13,2,13,3],[16,2,16,3],[18,2,18,3],[19,2,19,3]]}
[]
[null,null,"Cover"]
[]
[null,null,"NAVIGATION"]
[]
[null,null,"COMMENTS"]
[]
[]
[null,null,"Bonneville Power Administration"]
[null,null,"6P Energy Conservation Standards Savings Model"]
[null,null,"WALK-IN COOLERS AND FREEZERS"]
[]
[null,null,"Product Description"]
[null,null,"DOE defines a “walk-in cooler and walk-in freezer” as an enclosed storage space refrigerated to temperatures, respectively, above, and at or below 32 degrees Farenheit that can be walked into, and has a total chilled storage area of less than 3,000 square feet; however, the terms do not include products designed and marketed exclusively for medical, scientific, or research purposes.\n(Source: 10CFR431.302)"]
[]
[null,null,"Standard Compliance Year"]
[null,null,"2017 (Source: DOE Walk-In Coolers and Freezers 2014 Final Rule, Feder Register Notice, page 32050, \"Dates\" section, http://www.regulations.gov/#!documentDetail;D=EERE-2008-BT-STD-0015-0141)"]
[]
[null,null,"Major changes from previous rulemaking (2009 effective standard)"]
[null,null,"EISA 2009 specifies prescriptive requirements for WICFs. The new standards that are effective in 2017 specify equations for maximum energy consumption for doors and Annual Walk-In Energy Factor (AWEF) for refrigeration systems. (Source: 10CFR431.306)"]
[]
[null,null,"6P Baseline "]
[null,null,"The product was not modeled in the 6P."]
[]
[null,null,"Prepared By:"]
[null,null,"Navigant Consulting","Cadeo Group"]
[null,null,"One Market Street | Spear Street Tower, Suite 1200 ","840 First Street, Suite 300"]
[null,null,"San Francisco, CA 94105","Washington, DC  20002"]

{"sheet":"Definitions","index":1,"n_rows":32,"n_cols":4,"rows_kept":32,"cut":false,"hidden":false,"merged":[]}
[]
[null,null,"Definitions"]
[]
[null,null,"NAVIGATION"]
[]
[null,null,"COMMENTS"]
[]
[]
[null,null,"Average Megawatt (aMW)","The average number of megawatts over a specified time period"]
[null,null,"Adjustment to 6P Baseline ","Adjustment to reconcile the 6P projected energy consumption and the modeled consumption calculated using best available data."]
[null,null,"Department of Energy Aggregate Lifecycle Savings ","Sum of 'Total First Year Savings'.  This accounts for the cumulative savings in accordance with DOE Carbon Accounting Practices."]
[null,null,"Department of Energy Notice of Proposed Rulemaking (DOE NOPR)","Federal Register notice detailing analyses conducted by the DOE to establish proposed energy conservation standards. "]
[null,null,"Efficiency Level (EL)","The discrete efficiency ratings of a product.  Each efficiency level is associated with a different UEC."]
[null,null,"Efficiency Level Distribution","The mix of various equipment efficiencies shipped in a given year."]
[null,null,"Incremental Savings","Savings due to the higher standards for units installed in a particular year. First year savings are highest following the standards compliance year while the stock turns over, after which first year savings are only attributed to shipments associated with new construction. "]
[null,null,"Governmental Regulatory Impact Model (GRIM)","The industry cash flow model used by DOE to assess impacts on manufacturers due to proposed energy conservation standards"]
[null,null,"Installed Unit Energy Consumption (Installed UEC)","The average annual unit energy consumption of all installed units in a given year."]
[null,null,"Market Unit Energy Consumption (Market UEC)","The average annual unit energy consumption of units shipped in a given year.   "]
[null,null,"National Impact Analysis (NIA)","The energy impact analysis used by DOE to calculate energy savings associated with each standard. "]
[null,null,"Pre-case ","The case representing 6P baseline assumptions where energy consumption due to the product accounts for shipment and shipment UEC by year, without the affect of standards announced following the development of the 6P."]
[null,null,"Post-case","The case in which standards are implemented. If the 6P already captured the analyzed standard, the post-case will be the same as the pre-case."]
[null,null,"Product Class","Product classificiation determined by product configuration, size, application, location, and other attributes that contribute to consumer utility.  DOE is allowed to establish different standards for each product class."]
[null,null,"Product Class Distribution ","Market share/mix of each product class shipped in a given year."]
[null,null,"Product Lifetime","The average time a given class of products stays in the field as part of the installed stock.  Some products will last longer (delaying replacement) whereas others will fail and be retired earlier (accelerating replacement), but the lifetime represents the market average."]
[null,null,"Shipments ","Sales of products.  This may be presented by product class, efficiency distribution, or delineated by other metrics. Shipments may be attributed to new construction and/or replacements and retrofits. "]
[null,null,"Sixth Power Plan (6P)","The Pacific Northwest Resource Plan published by the Northwest Power Conservation Council. The 6P timeframe is from 2010-2015."]
[null,null,"Sixth Power Plan Baseline (6P Baseline)","The 6P assumes equipment efficiency and shipment units in the region.  When available, the 6P assumptions are the baseline for each standard impact analysis."]
[null,null,"Standard Compliance Year","The year when the appliance standard goes into effect. "]
[null,null,"Stock ","All units installed in previous years which remain in operation."]
[null,null,"Technical Support Document (TSD)","TSDs are published by the DOE as companion documents to Federal Register notices (e.g., ANOPRs/preliminary analyses and NOPRs).  The TSDs include technical detail that supports the notices.  The final rule TSD includes the discussion of the Manufacturer Impact Analysis (MIA) and National Impact Analysis (NIA)."]
[null,null,"Cumulative Savings","The sum of first year savings from 2010 through 2034"]
[null,null,"Trial Standard Level (TSL)","A proposed  efficiency standard evaluated by DOE during the NOPR and Final Rule phase analyses.  A TSL may specify different standard efficiency levels for each product class included in the rulemaking."]

{"sheet":"Comments","index":2,"n_rows":8,"n_cols":4,"rows_kept":8,"cut":false,"hidden":false,"merged":[[13,3,13,7],[14,3,14,7],[15,3,15,7],[16,3,16,7],[7,3,7,7],[8,3,8,7],[9,3,9,7],[10,3,10,7],[11,3,11,7],[12,3,12,7]]}
[]
[null,null,"Comments"]
[]
[null,null,"NAVIGATION"]
[]
[]
[null,null,"Tab","Comment"]
[null,null,"Example","Please use this space to document your comments as you review the model.  We look forward to receiving your feedback.  Thank you."]

{"sheet":"Navigation","index":3,"n_rows":25,"n_cols":11,"rows_kept":25,"cut":false,"hidden":false,"merged":[[16,10,17,10],[16,2,20,2],[10,6,12,6],[16,8,17,8],[19,8,24,8],[16,6,22,6]]}
[]
[null,null,"NAVIGATION"]
[]
[null,null,"COMMENTS"]
[]
[]
[null,null,"INFORMATION TABS",null,"INPUT TABS",null,"UEC CALCULATIONS",null,"RESULTS",null,"CHARTS"]
[]
[null,null,"COVER",null,"PRODUCT CLASSES"]
[]
[null,null,"DEFINITIONS",null,"EFFICIENCY LEVELS",null,"UEC DEVELOPMENT"]
[]
[null,null,"COMMENTS"]
[]
[null,null,"NAVIGATION",null,"CONSTANTS AND MENUS"]
[]
[null,null,"CENTRAL COMMERCIAL MODEL \n(EXTERNAL)",null,"PRODUCT CLASS DISTRIBUTION",null,"UEC ",null,"RESULTS",null,"CHARTS"]
[]
[null,null,null,null,"EFFICIENCY DISTRIBUTION"]
[null,null,null,null,null,null,null,null,"SUMMARY RESULTS"]
[null,null,null,null,"SHIPMENTS AND STOCK - COMPONENT"]
[]
[null,null,null,null,"SHIPMENTS AND STOCK - SYSTEM"]
[]
[null,null,null,null,"6P UEC DEVELOPMENT"]

{"sheet":"Product Classes","index":4,"n_rows":56,"n_cols":12,"rows_kept":56,"cut":false,"hidden":false,"merged":[[22,5,22,11],[48,6,50,6],[30,6,31,6],[33,6,35,6],[37,6,39,6],[41,6,43,6],[44,6,47,6]]}
[]
[null,null,"Selection of Product Classes for Model"]
[]
[null,null,"NAVIGATION"]
[]
[null,null,"COMMENTS"]
[]
[]
[null,null,null,null,"Components"]
[null,null,null,null,"Type","All Product Classes","2014 DOE FR PCs 1","DOE Representative PCs 1","6th Plan PCs",null,"Model PCs","Rationale"]
[null,null,null,null,"Panels","Structural Panel, Medium Temperature","SP.M","SP.M","N/A",null,"SP.M","Aligns with DOE FR assumptions"]
[null,null,null,null,null,"Structural Panel, Low Temperature","SP.L","SP.L","N/A",null,"SP.L","Aligns with DOE FR assumptions"]
[null,null,null,null,null,"Floor Panel, Low Temperature","FP.L","FP.L","N/A",null,"FP.L","Aligns with DOE FR assumptions"]
[null,null,null,null,"Non-Display Doors","Passage Door, Medium Temperature","PD.M","PD.M","N/A",null,"PD.M","Aligns with DOE FR assumptions"]
[null,null,null,null,null,"Passage Door, Low Temperature","PD.L","PD.L","N/A",null,"PD.L","Aligns with DOE FR assumptions"]
[null,null,null,null,null,"Freight Door, Medium Temperature","FD.M","FD.M","N/A",null,"FD.M","Aligns with DOE FR assumptions"]
[null,null,null,null,null,"Freight Door, Low Temperature","FD.L","FD.L","N/A",null,"FD.L","Aligns with DOE FR assumptions"]
[null,null,null,null,"Display Doors","Display Door, Medium Temperature","DD.M","DD.M","N/A",null,"DD.M","Aligns with DOE FR assumptions"]
[null,null,null,null,null,"Display Door, Low Temperature","DD.L","DD.L","N/A",null,"DD.L","Aligns with DOE FR assumptions"]
[]
[null,null,null,null,"Selection rationale ","The DOE 2014 Final Rule used these product classes, therefore the same product classes are used in this analysis "]
[]
[null,null,null,null,"Sources","1. DOE Walk-In Coolers and Freezers 2014 Final Rule, Technical Support Document: Final Rule National Impact Analysis (NIA) - Components, 'Simulation Inputs' tab, cells G5:G13, http://www.regulations.gov/#!documentDetail;D=EERE-2008-BT-STD-0015-0134"]
[]
[]
[]
[null,null,"Systems"]
[]
[null,null,"Condensing Type","Operating Temperature","Condenser Location","Size (Btu/h)","2014 DOE FR PCs 1","DOE Representative PCs 1","6th Plan PCs",null,"Model PCs","Rationale"]
[null,null,"Dedicated","Low","Indoor","<9000","DC.L.I. <9000","DC.L.I.006","N/A",null,{"$f":"H30","v":"DC.L.I.006"},"Used in GRIM model"]
[null,null,"Dedicated","Low","Indoor",">9000","DC.L.I. >9000","DC.L.I.009","N/A",null,{"$f":"H31","v":"DC.L.I.009"},"Used in GRIM model"]
[null,null,"Dedicated","Low","Indoor",">9000",null,"DC.L.I.054","N/A"]
[null,null,"Dedicated","Low","Outdoor","<9000","DC.L.O. <9000","DC.L.O.006","N/A",null,{"$f":"H33","v":"DC.L.O.006"},"Used in GRIM model"]
[null,null,"Dedicated","Low","Outdoor",">9000","DC.L.O. >9000","DC.L.O.009","N/A",null,"DC.L.O.009","Used in GRIM model"]
[null,null,"Dedicated","Low","Outdoor",">9000",null,"DC.L.O.054","N/A"]
[null,null,"Dedicated","Low","Outdoor",">9000",null,"DC.L.O.072","N/A"]
[null,null,"Dedicated","Medium","Indoor","<9000","DC.M.I. <9000","DC.M.I.006","N/A",null,"DC.M.I.006","Used in GRIM model"]
[null,null,"Dedicated","Medium","Indoor",">9000","DC.M.I. >9000","DC.M.I.018","N/A",null,"DC.M.I.018","Used in GRIM model"]
[null,null,"Dedicated","Medium","Indoor",">9000",null,"DC.M.I.054","N/A"]
[null,null,"Dedicated","Medium","Indoor",">9000",null,"DC.M.I.096","N/A"]
[null,null,"Dedicated","Medium","Outdoor","<9000","DC.M.O. <9000","DC.M.O.006","N/A",null,"DC.M.O.006","Used in GRIM model"]
[null,null,"Dedicated","Medium","Outdoor",">9000","DC.M.O. >9000","DC.M.O.018","N/A",null,"DC.M.O.018","Used in GRIM model"]
[null,null,"Dedicated","Medium","Outdoor",">9000",null,"DC.M.O.054","N/A"]
[null,null,"Dedicated","Medium","Outdoor",">9000",null,"DC.M.O.096","N/A"]
[null,null,"Multiplex","Low","N/A","N/A","MC.L","MC.L.004","N/A"]
[null,null,"Multiplex","Low","N/A","N/A",null,"MC.L.009","N/A",null,"MC.L.009","Used in GRIM model"]
[null,null,"Multiplex","Low","N/A","N/A",null,"MC.L.018","N/A"]
[null,null,"Multiplex","Low","N/A","N/A",null,"MC.L.040","N/A"]
[null,null,"Multiplex","Medium","N/A","N/A","MC.M","MC.M.004","N/A"]
[null,null,"Multiplex","Medium","N/A","N/A",null,"MC.M.009","N/A",null,"MC.M.009","Used in GRIM model"]
[null,null,"Multiplex","Medium","N/A","N/A",null,"MC.M.024","N/A"]
[]
[null,null,"Selection rationale ","The DOE 2014 Final Rule used 10 product classes with several representative units for each product class. For this analysis, only the representative units used in the GRIM model were used."]
[]
[null,null,"Sources","DOE Walk-In Coolers and Freezers 2014 Final Rule, Technical Support Document: Final Rule National Impact Analysis (NIA) - Systems, 'Simulation Inputs' tab, cells G5:G26, http://www.regulations.gov/#!documentDetail;D=EERE-2008-BT-STD-0015-0135"]
[null,null,null,"DOE Walk-In Coolers and Freezers 2014 Final Rule, Technical Support Document: 2014-04 Final Rule Government Regulatory Impact Model (GRIM), 'Assumptions (INPUT)' tab, cells A7:A16, http://www.regulations.gov/#!documentDetail;D=EERE-2008-BT-STD-0015-0142"]

{"sheet":"Efficiency Levels","index":5,"n_rows":205,"n_cols":13,"rows_kept":205,"cut":false,"hidden":false,"merged":[[1,2,1,3],[3,2,3,3],[5,2,5,3],[24,3,24,5],[42,3,42,5],[23,3,23,5],[41,3,41,5],[25,3,25,5],[7,1,7,6],[127,10,127,12],[148,10,148,12],[24,10,24,12],[42,10,42,12],[167,3,167,5],[60,3,60,5],[83,3,83,5],[104,3,104,5],[127,3,127,5],[148,3,148,5],[103,3,103,5],[147,3,147,5],[43,3,43,5],[7,8,7,13],[60,10,60,12],[83,10,83,12],[104,10,104,12],[149,3,149,5],[59,3,59,5],[82,3,82,5],[126,3,126,5],[61,3,61,5],[84,3,84,5],[105,3,105,5],[23,10,23,12],[41,10,41,12],[59,10,59,12],[82,10,82,12],[103,10,103,12],[168,3,168,5],[167,10,167,12],[185,10,185,12],[203,10,203,12],[185,3,185,5],[204,10,204,12],[186,3,186,5],[84,10,84,12],[105,10,105,12],[128,10,128,12],[149,10,149,12],[168,10,168,12],[186,10,186,12],[126,10,126,12],[147,10,147,12],[166,10,166,12],[184,10,184,12],[202,10,202,12],[166,3,166,5],[184,3,184,5],[128,3,128,5]]}
[]
[null,null,"Efficiency Levels and Standards for Each Product Class"]
[]
[null,null,"NAVIGATION"]
[]
[null,null,"COMMENTS"]
[]
[null,"COMPONENTS",null,null,null,null,null,null,"SYSTEMS"]
[]
[]
[null,null,{"$f":"'Product Classes'!K11","v":"SP.M"},{"$f":"OFFSET('Product Classes'!$F$10,MATCH(C11,'Product Classes'!$K$11:$K$16,0),0)","v":"Structural Panel, Medium Temperature"},null,null,null,null,null,{"$f":"'Product Classes'!K30","v":"DC.L.I.006"},{"$f":"CONCATENATE('Product Classes'!C30,\" \",'Product Classes'!D30,\" \",'Product Classes'!E30,\" \",'Product Classes'!F30)","v":"Dedicated Low Indoor <9000"}]
[]
[null,null," Model ELs","Energy Level (kWh/year)1,2","Compliance Year3","Model Efficiency Levels",null,null,null," Model ELs","Energy Level (kWh/year)1,2","Compliance Year3","Model Efficiency Levels"]
[null,null,"EL0",1.8017218410798299,null,"DOE NOPR Pre-EISA",null,null,null,"EL0",15952.3192173487,null,"DOE NOPR Pre-EISA"]
[null,null,"EL1",1.60782393805437,null,"DOE NOPR EISA",null,null,null,"EL1",12280.33426,null,"DOE NOPR EISA"]
[null,null,"EL2",1.3247436745343499,"2009, 2017","DOE 2014 Final Rule Baseline",null,null,null,"EL2",10273.018079543825,2009,"DOE 2014 Final Rule Baseline"]
[null,null,"EL3",1.15915071521756,null,"DOE 2014 Final Rule EL1",null,null,null,"EL3",8809.3012323402709,null,"DOE 2014 Final Rule EL1"]
[null,null,"EL4",0.92732057217403796,null,"DOE 2014 Final Rule EL2",null,null,null,"EL4",8344.6955096709589,null,"DOE 2014 Final Rule EL2"]
[null,null,"EL5",0.77276714347837505,null,"DOE 2014 Final Rule EL3",null,null,null,"EL5",8041.1391434064226,null,"DOE 2014 Final Rule EL3"]
[null,null,"EL6",0.41214247652179198,null,"DOE 2014 Final Rule EL4",null,null,null,"EL6",7648.8582881540506,null,"DOE 2014 Final Rule EL4"]
[null,null,null,null,null,null,null,null,null,"EL7",7562.9333018800926,null,"DOE 2014 Final Rule EL5"]
[null,null,null,null,null,null,null,null,null,"EL8",7064.4648152921718,2017,"DOE 2014 Final Rule EL6"]
[]
[null,null,"Sources","1. DOE Walk-In Coolers and Freezers 2014 Final Rule, Technical Support Document: Final Rule National Impact Analysis (NIA) - Components, 'LCC Inputs' tab, cells C5:G5, http://www.regulations.gov/#!documentDetail;D=EERE-2008-BT-STD-0015-0134",null,null,null,null,null,"Sources","1. DOE Walk-In Coolers and Freezers 2014 Final Rule, Technical Support Document: Final Rule National Impact Analysis (NIA) - Systems, 'LCC Inputs' tab, cells C5:I5, http://www.regulations.gov/#!documentDetail;D=EERE-2008-BT-STD-0015-0135"]
[null,null,null,"2. Pre-EISA and EISA values calculated from shipment weighted average by size from 2013 NOPR NIA Components Model. Refrigeration System TSL 5 values were selected since the criteria for TSL 5 in the NOPR matched the criteria for TSL 2, which was the TSL selected in the final rule. DOE Walk-In Coolers and Freezers 2013 NOPR, Technical Support Document: 2013-08-22 NOPR Component National Impact Analysis Model, 'Shipment-Stock Inputs' tab, cells D5:D7, 'INPUT_LCC' tab, cells CW11:CW12, CW35:CW36, CW59:CW60, http://www.regulations.gov/#!documentDetail;D=EERE-2008-BT-STD-0015-0127",null,null,null,null,null,null,"2. DOE Walk-In Coolers and Freezers 2013 NOPR, Technical Support Document: 2013-08-22 NOPR National Impact Analysis - Refrigeration Systems, 'INPUT_LCC' tab, cells J112:J113, http://www.regulations.gov/#!documentDetail;D=EERE-2008-BT-STD-0015-0126"]
[null,null,null,"3. EISA standards were effective in 2009 (10CFR431.306). Assumed EISA standards were equivalent to baseline standard in 2014 Final Rule.\nIn the 2014 Final Rule, TSL 2 was the final selected TSL. (DOE Walk-In Coolers and Freezers 2014 Final Rule, Feder Register Notice, page 32117, \"Benefits and Burdens of Trial Standard Levels Considered for Walk-in Coolers and Walk-In Freezers\" section, http://www.regulations.gov/#!documentDetail;D=EERE-2008-BT-STD-0015-0141)\nTSL Mapping used to determine EL for each product class at TSL 2. (DOE Walk-In Coolers and Freezers 2014 Final Rule, Technical Support Document: Final Rule National Impact Analysis (NIA) - Components, 'TSL Mapping' tab, cells C6:K6, http://www.regulations.gov/#!documentDetail;D=EERE-2008-BT-STD-0015-0134)"]
[]
[]
[]
[null,null,{"$f":"'Product Classes'!K12","v":"SP.L"},{"$f":"OFFSET('Product Classes'!$F$10,MATCH(C30,'Product Classes'!$K$11:$K$16,0),0)","v":"Structural Panel, Low Temperature"},null,null,null,null,null,{"$f":"'Product Classes'!K31","v":"DC.L.I.009"},{"$f":"CONCATENATE('Product Classes'!C31,\" \",'Product Classes'!D31,\" \",'Product Classes'!E31,\" \",'Product Classes'!F31)","v":"Dedicated Low Indoor >9000"}]
[]
[null,null," Model ELs","Energy Level (kWh/year)1,2","Compliance Year3","Model Efficiency Levels",null,null,null," Model ELs","Energy Level (kWh/year)1,2","Compliance Year3","Model Efficiency Levels"]
[null,null,"EL0",6.9074611106941299,null,"DOE NOPR Pre-EISA",null,null,null,"EL0",20094.239816492802,null,"DOE NOPR Pre-EISA"]
[null,null,"EL1",6.1587046294091499,null,"DOE NOPR EISA",null,null,null,"EL1",16422.181446291499,null,"DOE NOPR EISA"]
[null,null,"EL2",5.5934147658797428,"2009, 2017","DOE 2014 Final Rule Baseline",null,null,null,"EL2",14690.001597391414,2009,"DOE 2014 Final Rule Baseline"]
[null,null,"EL3",4.4747318127035731,null,"DOE 2014 Final Rule EL1",null,null,null,"EL3",13937.940334327146,null,"DOE 2014 Final Rule EL1"]
[null,null,"EL4",3.7289431772531758,null,"DOE 2014 Final Rule EL2",null,null,null,"EL4",13481.883761194316,null,"DOE 2014 Final Rule EL2"]
[null,null,"EL5",1.9887696945350712,null,"DOE 2014 Final Rule EL3",null,null,null,"EL5",11815.045318509072,null,"DOE 2014 Final Rule EL3"]
[null,null,"EL6",1.9887696945350712,null,"DOE 2014 Final Rule EL4",null,null,null,"EL6",11500.354845162687,null,"DOE 2014 Final Rule EL4"]
[null,null,null,null,null,null,null,null,null,"EL7",11078.185160244479,2017,"DOE 2014 Final Rule EL5"]
[]
[null,null,"Sources","1. DOE Walk-In Coolers and Freezers 2014 Final Rule, Technical Support Document: Final Rule National Impact Analysis (NIA) - Components, 'LCC Inputs' tab, cells C6:G6, http://www.regulations.gov/#!documentDetail;D=EERE-2008-BT-STD-0015-0134",null,null,null,null,null,"Sources","1. DOE Walk-In Coolers and Freezers 2014 Final Rule, Technical Support Document: Final Rule National Impact Analysis (NIA) - Systems, 'LCC Inputs' tab, cells C6:H6, http://www.regulations.gov/#!documentDetail;D=EERE-2008-BT-STD-0015-0135"]
[null,null,null,"2. Pre-EISA and EISA values calculated from shipment weighted average by size from 2013 NOPR NIA Components Model. Refrigeration System TSL 5 values were selected since the criteria for TSL 5 in the NOPR matched the criteria for TSL 2, which was the TSL selected in the final rule. DOE Walk-In Coolers and Freezers 2013 NOPR, Technical Support Document: 2013-08-22 NOPR Component National Impact Analysis Model, 'Shipment-Stock Inputs' tab, cells D9:D11, 'INPUT_LCC' tab, cells DG11:DG12, DG35:DG36, DG59:DG60, http://www.regulations.gov/#!documentDetail;D=EERE-2008-BT-STD-0015-0127",null,null,null,null,null,null,"2. DOE Walk-In Coolers and Freezers 2013 NOPR, Technical Support Document: 2013-08-22 NOPR National Impact Analysis - Refrigeration Systems, 'INPUT_LCC' tab, cells J137:J138, http://www.regulations.gov/#!documentDetail;D=EERE-2008-BT-STD-0015-0126"]
[null,null,null,"3. EISA standards were effective in 2009 (10CFR431.306). Assumed EISA standards were equivalent to baseline standard in 2014 Final Rule.\nIn the 2014 Final Rule, TSL 2 was the final selected TSL. (DOE Walk-In Coolers and Freezers 2014 Final Rule, Feder Register Notice, page 32117, \"Benefits and Burdens of Trial Standard Levels Considered for Walk-in Coolers and Walk-In Freezers\" section, http://www.regulations.gov/#!documentDetail;D=EERE-2008-BT-STD-0015-0141)\nTSL Mapping used to determine EL for each product class at TSL 2. (DOE Walk-In Coolers and Freezers 2014 Final Rule, Technical Support Document: Final Rule National Impact Analysis (NIA) - Components, 'TSL Mapping' tab, cells C6:K6, http://www.regulations.gov/#!documentDetail;D=EERE-2008-BT-STD-0015-0134)"]
[]
[]
[]
[null,null,{"$f":"'Product Classes'!K13","v":"FP.L"},{"$f":"OFFSET('Product Classes'!$F$10,MATCH(C48,'Product Classes'!$K$11:$K$16,0),0)","v":"Floor Panel, Low Temperature"},null,null,null,null,null,{"$f":"'Product Classes'!K33","v":"DC.L.O.006"},{"$f":"CONCATENATE('Product Classes'!C33,\" \",'Product Classes'!D33,\" \",'Product Classes'!E33,\" \",'Product Classes'!F33)","v":"Dedicated Low Outdoor <9000"}]
[]
[null,null," Model ELs","Energy Level (kWh/year)1,2","Compliance Year3","Model Efficiency Levels",null,null,null," Model ELs","Energy Level (kWh/year)1,2","Compliance Year3","Model Efficiency Levels"]
[null,null,"EL0",5.5262234155235497,null,"DOE NOPR Pre-EISA",null,null,null,"EL0",13403.338585777399,null,"DOE NOPR Pre-EISA"]
[null,null,"EL1",4.9072599631074496,null,"DOE NOPR EISA",null,null,null,"EL1",10457.466266036699,null,"DOE NOPR EISA"]
[null,null,"EL2",4.8883624844662039,"2009, 2017","DOE 2014 Final Rule Baseline",null,null,null,"EL2",7804.5000339605676,2009,"DOE 2014 Final Rule Baseline"]
[null,null,"EL3",4.2773171739080285,null,"DOE 2014 Final Rule EL1",null,null,null,"EL3",6264.4192328489844,null,"DOE 2014 Final Rule EL1"]
[null,null,"EL4",3.4218537391263673,null,"DOE 2014 Final Rule EL2",null,null,null,"EL4",5563.7474187691823,null,"DOE 2014 Final Rule EL2"]
[null,null,"EL5",2.8515447826052975,null,"DOE 2014 Final Rule EL3",null,null,null,"EL5",5411.8455069210331,null,"DOE 2014 Final Rule EL3"]
[null,null,"EL6",1.5208238840562245,null,"DOE 2014 Final Rule EL4",null,null,null,"EL6",5199.5704507769342,null,"DOE 2014 Final Rule EL4"]
[null,null,null,null,null,null,null,null,null,"EL7",4898.1956289453965,2017,"DOE 2014 Final Rule EL5"]
[]
[null,null,"Sources","1. DOE Walk-In Coolers and Freezers 2014 Final Rule, Technical Support Document: Final Rule National Impact Analysis (NIA) - Components, 'LCC Inputs' tab, cells C7:G7, http://www.regulations.gov/#!documentDetail;D=EERE-2008-BT-STD-0015-0134",null,null,null,null,null,"Sources","1. DOE Walk-In Coolers and Freezers 2014 Final Rule, Technical Support Document: Final Rule National Impact Analysis (NIA) - Systems, 'LCC Inputs' tab, cells C8:H8, http://www.regulations.gov/#!documentDetail;D=EERE-2008-BT-STD-0015-0135"]
[null,null,null,"2. Pre-EISA and EISA values calculated from shipment weighted average by size from 2013 NOPR NIA Components Model. Refrigeration System TSL 5 values were selected since the criteria for TSL 5 in the NOPR matched the criteria for TSL 2, which was the TSL selected in the final rule. DOE Walk-In Coolers and Freezers 2013 NOPR, Technical Support Document: 2013-08-22 NOPR Component National Impact Analysis Model, 'Shipment-Stock Inputs' tab, cell D13, 'INPUT_LCC' tab, cells DG108:109, http://www.regulations.gov/#!documentDetail;D=EERE-2008-BT-STD-0015-0127",null,null,null,null,null,null,"2. DOE Walk-In Coolers and Freezers 2013 NOPR, Technical Support Document: 2013-08-22 NOPR National Impact Analysis - Refrigeration Systems, 'INPUT_LCC' tab, cells U112:U113, http://www.regulations.gov/#!documentDetail;D=EERE-2008-BT-STD-0015-0126"]
[null,null,null,"3. EISA standards were effective in 2009 (10CFR431.306). Assumed EISA standards were equivalent to baseline standard in 2014 Final Rule.\nIn the 2014 Final Rule, TSL 2 was the final selected TSL. (DOE Walk-In Coolers and Freezers 2014 Final Rule, Feder Register Notice, page 32117, \"Benefits and Burdens of Trial Standard Levels Considered for Walk-in Coolers and Walk-In Freezers\" section, http://www.regulations.gov/#!documentDetail;D=EERE-2008-BT-STD-0015-0141)\nTSL Mapping used to determine EL for each product class at TSL 2. (DOE Walk-In Coolers and Freezers 2014 Final Rule, Technical Support Document: Final Rule National Impact Analysis (NIA) - Components, 'TSL Mapping' tab, cells C6:K6, http://www.regulations.gov/#!documentDetail;D=EERE-2008-BT-STD-0015-0134)"]
[]
[]
[]
[null,null,{"$f":"'Product Classes'!K14","v":"PD.M"},{"$f":"OFFSET('Product Classes'!$F$10,MATCH(C66,'Product Classes'!$K$11:$K$16,0),0)","v":"Passage Door, Medium Temperature"},null,null,null,null,null,{"$f":"'Product Classes'!K34","v":"DC.L.O.009"},{"$f":"CONCATENATE('Product Classes'!C34,\" \",'Product Classes'!D34,\" \",'Product Classes'!E34,\" \",'Product Classes'!F34)","v":"Dedicated Low Outdoor >9000"}]
[]
[null,null," Model ELs","Energy Level (kWh/year)1,2","Compliance Year3","Model Efficiency Levels",null,null,null," Model ELs","Energy Level (kWh/year)1,2","Compliance Year3","Model Efficiency Levels"]
[null,null,"EL0*",181.26152289108296,null,"DOE NOPR Pre-EISA",null,null,null,"EL0",16967.807542487601,null,"DOE NOPR Pre-EISA"]
[null,null,"EL1*",188.26337597381084,null,"DOE NOPR EISA",null,null,null,"EL1",13920.6311216555,null,"DOE NOPR EISA"]
[null,null,"EL2",1317.0370819714344,"2009, 2017","DOE 2014 Final Rule Baseline",null,null,null,"EL2",11146.089869654876,2009,"DOE 2014 Final Rule Baseline"]
[null,null,"EL3",1305.3865204668714,null,"DOE 2014 Final Rule EL1",null,null,null,"EL3",9418.8701097652647,null,"DOE 2014 Final Rule EL1"]
[null,null,"EL4",1270.9123444041893,null,"DOE 2014 Final Rule EL2",null,null,null,"EL4",9042.1263745266406,null,"DOE 2014 Final Rule EL2"]
[null,null,"EL5",1264.2829773881908,null,"DOE 2014 Final Rule EL3",null,null,null,"EL5",8506.7995911730668,null,"DOE 2014 Final Rule EL3"]
[null,null,"EL6",1250.9022150986243,null,"DOE 2014 Final Rule EL4",null,null,null,"EL6",8019.0189141700539,null,"DOE 2014 Final Rule EL4"]
[null,null,"EL7",1241.3363514033222,null,"DOE 2014 Final Rule EL5",null,null,null,"EL7",7672.8304578090329,null,"DOE 2014 Final Rule EL5"]
[null,null,"EL8",1234.961569747772,null,"DOE 2014 Final Rule EL6",null,null,null,"EL8",7627.95191524027,null,"DOE 2014 Final Rule EL6"]
[null,null,"EL9",1224.8553627321762,null,"DOE 2014 Final Rule EL7",null,null,null,"EL9",7511.2173985853615,null,"DOE 2014 Final Rule EL7"]
[null,null,"EL10",1206.8622633235746,null,"DOE 2014 Final Rule EL8",null,null,null,"EL10",7068.1565700929896,null,"DOE 2014 Final Rule EL8"]
[null,null,"EL11",1192.7236470912158,null,"DOE 2014 Final Rule EL9",null,null,null,"EL11",7032.3065391570626,2017,"DOE 2014 Final Rule EL9"]
[null,null,null,"*See UEC Development tab Information box for discussion of these values being lower than at the other levels."]
[]
[null,null,"Sources","1. DOE Walk-In Coolers and Freezers 2014 Final Rule, Technical Support Document: Final Rule National Impact Analysis (NIA) - Components, 'LCC Inputs' tab, cells C10:L10, http://www.regulations.gov/#!documentDetail;D=EERE-2008-BT-STD-0015-0134",null,null,null,null,null,"Sources","1. DOE Walk-In Coolers and Freezers 2014 Final Rule, Technical Support Document: Final Rule National Impact Analysis (NIA) - Systems, 'LCC Inputs' tab, cells C9:L9, http://www.regulations.gov/#!documentDetail;D=EERE-2008-BT-STD-0015-0135"]
[null,null,null,"2. Pre-EISA and EISA values calculated from shipment weighted average by size from 2013 NOPR NIA Components Model. Refrigeration System TSL 5 values were selected since the criteria for TSL 5 in the NOPR matched the criteria for TSL 2, which was the TSL selected in the final rule. DOE Walk-In Coolers and Freezers 2013 NOPR, Technical Support Document: 2013-08-22 NOPR Component National Impact Analysis Model, 'Shipment-Stock Inputs' tab, cells D25:D27, 'INPUT_LCC' tab, cells CW230:CW231, CW254:CW255, CW278:CW279, http://www.regulations.gov/#!documentDetail;D=EERE-2008-BT-STD-0015-0127",null,null,null,null,null,null,"2. DOE Walk-In Coolers and Freezers 2013 NOPR, Technical Support Document: 2013-08-22 NOPR National Impact Analysis - Refrigeration Systems, 'INPUT_LCC' tab, cells U137:U138, http://www.regulations.gov/#!documentDetail;D=EERE-2008-BT-STD-0015-0126"]
[null,null,null,"3. EISA standards were effective in 2009 (10CFR431.306). Assumed EISA standards were equivalent to baseline standard in 2014 Final Rule.\nIn the 2014 Final Rule, TSL 2 was the final selected TSL. (DOE Walk-In Coolers and Freezers 2014 Final Rule, Feder Register Notice, page 32117, \"Benefits and Burdens of Trial Standard Levels Considered for Walk-in Coolers and Walk-In Freezers\" section, http://www.regulations.gov/#!documentDetail;D=EERE-2008-BT-STD-0015-0141)\nTSL Mapping used to determine EL for each product class at TSL 2. (DOE Walk-In Coolers and Freezers 2014 Final Rule, Technical Support Document: Final Rule National Impact Analysis (NIA) - Components, 'TSL Mapping' tab, cells C6:K6, http://www.regulations.gov/#!documentDetail;D=EERE-2008-BT-STD-0015-0134)",null,null,null,null,null,null,"3. EISA standards were effective in 2009 (10CFR431.306). Assumed EISA standards were equivalent to baseline standard in 2014 Final Rule.\nIn the 2014 Final Rule, TSL 2 was the final selected TSL. (DOE Walk-In Coolers and Freezers 2014 Final Rule, Feder Register Notice, page 32117, \"Benefits and Burdens of Trial Standard Levels Considered for Walk-in Coolers and Walk-In Freezers\" section, http://www.regulations.gov/#!documentDetail;D=EERE-2008-BT-STD-0015-0141)\nTSL Mapping used to determine EL for each product class at TSL 2. (DOE Walk-In Coolers and Freezers 2014 Final Rule, Technical Support Document: Final Rule National Impact Analysis (NIA) - Systems, 'TSL Mapping' tab, cells C6:X6, http://www.regulations.gov/#!documentDetail;D=EERE-2008-BT-STD-0015-0134)"]
[]
[]
[]
[null,null,{"$f":"'Product Classes'!K15","v":"PD.L"},{"$f":"OFFSET('Product Classes'!$F$10,MATCH(C89,'Product Classes'!$K$11:$K$16,0),0)","v":"Passage Door, Low Temperature"},null,null,null,null,null,{"$f":"'Product Classes'!K37","v":"DC.M.I.006"},{"$f":"CONCATENATE('Product Classes'!C37,\" \",'Product Classes'!D37,\" \",'Product Classes'!E37,\" \",'Product Classes'!F37)","v":"Dedicated Medium Indoor <9000"}]
[]
[null,null," Model ELs","Energy Level (kWh/year)1,2","Compliance Year3","Model Efficiency Levels",null,null,null," Model ELs","Energy Level (kWh/year)1,2","Compliance Year3","Model Efficiency Levels"]
[null,null,"EL0",2862.9560875766201,null,"DOE NOPR Pre-EISA",null,null,null,"EL0",8287.0672367631196,null,"DOE NOPR Pre-EISA"]
[null,null,"EL1",3914.5800840873799,null,"DOE NOPR EISA",null,null,null,"EL1",6525.45455620757,null,"DOE NOPR EISA"]
[null,null,"EL2",4937.601718010962,"2009, 2017","DOE 2014 Final Rule Baseline",null,null,null,"EL2",5376.8849976899564,2009,"DOE 2014 Final Rule Baseline"]
[null,null,"EL3",4666.5193857798513,null,"DOE 2014 Final Rule EL1",null,null,null,"EL3",5247.162239130641,null,"DOE 2014 Final Rule EL1"]
[null,null,"EL4",4511.0196055818078,null,"DOE 2014 Final Rule EL2",null,null,null,"EL4",4423.2741631402414,null,"DOE 2014 Final Rule EL2"]
[null,null,"EL5",4345.4342419078275,null,"DOE 2014 Final Rule EL3",null,null,null,"EL5",4273.9276984472981,null,"DOE 2014 Final Rule EL3"]
[null,null,"EL6",4297.1082629679431,null,"DOE 2014 Final Rule EL4",null,null,null,"EL6",4158.139275379408,null,"DOE 2014 Final Rule EL4"]
[null,null,"EL7",4215.9544740666424,null,"DOE 2014 Final Rule EL5",null,null,null,"EL7",3483.8696528465771,null,"DOE 2014 Final Rule EL5"]
[null,null,"EL8",4183.3699854610513,null,"DOE 2014 Final Rule EL6",null,null,null,"EL8",3348.3567207732299,2017,"DOE 2014 Final Rule EL6"]
[null,null,"EL9",4140.7799259064495,null,"DOE 2014 Final Rule EL7"]
[null,null,"EL10",4099.2791203001507,null,"DOE 2014 Final Rule EL8"]
[]
[null,null,"Sources","1. DOE Walk-In Coolers and Freezers 2014 Final Rule, Technical Support Document: Final Rule National Impact Analysis (NIA) - Components, 'LCC Inputs' tab, cells C11:K11, http://www.regulations.gov/#!documentDetail;D=EERE-2008-BT-STD-0015-0134",null,null,null,null,null,"Sources","1. DOE Walk-In Coolers and Freezers 2014 Final Rule, Technical Support Document: Final Rule National Impact Analysis (NIA) - Systems, 'LCC Inputs' tab, cells C12:I12, http://www.regulations.gov/#!documentDetail;D=EERE-2008-BT-STD-0015-0135"]
[null,null,null,"2. Pre-EISA and EISA values calculated from shipment weighted average by size from 2013 NOPR NIA Components Model. Refrigeration System TSL 5 values were selected since the criteria for TSL 5 in the NOPR matched the criteria for TSL 2, which was the TSL selected in the final rule. DOE Walk-In Coolers and Freezers 2013 NOPR, Technical Support Document: 2013-08-22 NOPR Component National Impact Analysis Model, 'Shipment-Stock Inputs' tab, cells D29:D31, 'INPUT_LCC' tab, cells DG230:DG231, DG254:DG255, DG278:DG279, http://www.regulations.gov/#!documentDetail;D=EERE-2008-BT-STD-0015-0127",null,null,null,null,null,null,"2. DOE Walk-In Coolers and Freezers 2013 NOPR, Technical Support Document: 2013-08-22 NOPR National Impact Analysis - Refrigeration Systems, 'INPUT_LCC' tab, cells J9:J10, http://www.regulations.gov/#!documentDetail;D=EERE-2008-BT-STD-0015-0126"]
[null,null,null,"3. EISA standards were effective in 2009 (10CFR431.306). Assumed EISA standards were equivalent to baseline standard in 2014 Final Rule.\nIn the 2014 Final Rule, TSL 2 was the final selected TSL. (DOE Walk-In Coolers and Freezers 2014 Final Rule, Feder Register Notice, page 32117, \"Benefits and Burdens of Trial Standard Levels Considered for Walk-in Coolers and Walk-In Freezers\" section, http://www.regulations.gov/#!documentDetail;D=EERE-2008-BT-STD-0015-0141)\nTSL Mapping used to determine EL for each product class at TSL 2. (DOE Walk-In Coolers and Freezers 2014 Final Rule, Technical Support Document: Final Rule National Impact Analysis (NIA) - Components, 'TSL Mapping' tab, cells C6:K6, http://www.regulations.gov/#!documentDetail;D=EERE-2008-BT-STD-0015-0134)",null,null,null,null,null,null,"3. EISA standards were effective in 2009 (10CFR431.306). Assumed EISA standards were equivalent to baseline standard in 2014 Final Rule.\nIn the 2014 Final Rule, TSL 2 was the final selected TSL. (DOE Walk-In Coolers and Freezers 2014 Final Rule, Feder Register Notice, page 32117, \"Benefits and Burdens of Trial Standard Levels Considered for Walk-in Coolers and Walk-In Freezers\" section, http://www.regulations.gov/#!documentDetail;D=EERE-2008-BT-STD-0015-0141)\nTSL Mapping used to determine EL for each product class at TSL 2. (DOE Walk-In Coolers and Freezers 2014 Final Rule, Technical Support Document: Final Rule National Impact Analysis (NIA) - Systems, 'TSL Mapping' tab, cells C6:X6, http://www.regulations.gov/#!documentDetail;D=EERE-2008-BT-STD-0015-0134)"]
[]
[]
[]
[null,null,{"$f":"'Product Classes'!K16","v":"FD.M"},{"$f":"OFFSET('Product Classes'!$F$10,MATCH(C110,'Product Classes'!$K$11:$K$16,0),0)","v":"Freight Door, Medium Temperature"},null,null,null,null,null,{"$f":"'Product Classes'!K38","v":"DC.M.I.018"},{"$f":"CONCATENATE('Product Classes'!C38,\" \",'Product Classes'!D38,\" \",'Product Classes'!E38,\" \",'Product Classes'!F38)","v":"Dedicated Medium Indoor >9000"}]
[]
[null,null," Model ELs","Energy Level (kWh/year)1,2","Compliance Year3","Model Efficiency Levels",null,null,null," Model ELs","Energy Level (kWh/year)1,2","Compliance Year3","Model Efficiency Levels"]
[null,null,"EL0*",195.94022937686199,null,"DOE NOPR Pre-EISA",null,null,null,"EL0",21166.4581895019,null,"DOE NOPR Pre-EISA"]
[null,null,"EL1*",205.56549142375201,null,"DOE NOPR EISA",null,null,null,"EL1",15181.5114172797,null,"DOE NOPR EISA"]
[null,null,"EL2",2006.2402820280488,"2009, 2017","DOE 2014 Final Rule Baseline",null,null,null,"EL2",15160.463946731112,2009,"DOE 2014 Final Rule Baseline"]
[null,null,"EL3",1966.7443071859993,null,"DOE 2014 Final Rule EL1",null,null,null,"EL3",13461.777600218718,null,"DOE 2014 Final Rule EL1"]
[null,null,"EL4",1914.2423126716717,null,"DOE 2014 Final Rule EL2",null,null,null,"EL4",12896.327213101886,null,"DOE 2014 Final Rule EL2"]
[null,null,"EL5",1897.4366993407891,null,"DOE 2014 Final Rule EL3",null,null,null,"EL5",12557.056980831894,null,"DOE 2014 Final Rule EL3"]
[null,null,"EL6",1876.1241110555127,null,"DOE 2014 Final Rule EL4",null,null,null,"EL6",11414.207782501275,null,"DOE 2014 Final Rule EL4"]
[null,null,"EL7",1852.1979304733545,null,"DOE 2014 Final Rule EL5",null,null,null,"EL7",11272.705477149391,null,"DOE 2014 Final Rule EL5"]
[null,null,"EL8",1836.0951528056928,null,"DOE 2014 Final Rule EL6",null,null,null,"EL8",10487.294926769302,2017,"DOE 2014 Final Rule EL6"]
[null,null,"EL9",1820.2874542664706,null,"DOE 2014 Final Rule EL7"]
[null,null,"EL10",1793.8138456372776,null,"DOE 2014 Final Rule EL8"]
[null,null,"EL11",1757.0903179569655,null,"DOE 2014 Final Rule EL9"]
[null,null,null,"*See UEC Development tab Information box for discussion of these values being lower than at the other levels."]
[]
[null,null,"Sources","1. DOE Walk-In Coolers and Freezers 2014 Final Rule, Technical Support Document: Final Rule National Impact Analysis (NIA) - Components, 'LCC Inputs' tab, cells C12:L12, http://www.regulations.gov/#!documentDetail;D=EERE-2008-BT-STD-0015-0134",null,null,null,null,null,"Sources","1. DOE Walk-In Coolers and Freezers 2014 Final Rule, Technical Support Document: Final Rule National Impact Analysis (NIA) - Systems, 'LCC Inputs' tab, cells C13:I13, http://www.regulations.gov/#!documentDetail;D=EERE-2008-BT-STD-0015-0135"]
[null,null,null,"2. Pre-EISA and EISA values calculated from shipment weighted average by size from 2013 NOPR NIA Components Model. Refrigeration System TSL 5 values were selected since the criteria for TSL 5 in the NOPR matched the criteria for TSL 2, which was the TSL selected in the final rule. DOE Walk-In Coolers and Freezers 2013 NOPR, Technical Support Document: 2013-08-22 NOPR Component National Impact Analysis Model, 'Shipment-Stock Inputs' tab, cells D33:D35, 'INPUT_LCC' tab, cells CW303:CW304, CW327:CW328, CW351:CW352, http://www.regulations.gov/#!documentDetail;D=EERE-2008-BT-STD-0015-0127",null,null,null,null,null,null,"2. DOE Walk-In Coolers and Freezers 2013 NOPR, Technical Support Document: 2013-08-22 NOPR National Impact Analysis - Refrigeration Systems, 'INPUT_LCC' tab, cells J34:J35, http://www.regulations.gov/#!documentDetail;D=EERE-2008-BT-STD-0015-0126"]
[null,null,null,"3. EISA standards were effective in 2009 (10CFR431.306). Assumed EISA standards were equivalent to baseline standard in 2014 Final Rule.\nIn the 2014 Final Rule, TSL 2 was the final selected TSL. (DOE Walk-In Coolers and Freezers 2014 Final Rule, Feder Register Notice, page 32117, \"Benefits and Burdens of Trial Standard Levels Considered for Walk-in Coolers and Walk-In Freezers\" section, http://www.regulations.gov/#!documentDetail;D=EERE-2008-BT-STD-0015-0141)\nTSL Mapping used to determine EL for each product class at TSL 2. (DOE Walk-In Coolers and Freezers 2014 Final Rule, Technical Support Document: Final Rule National Impact Analysis (NIA) - Components, 'TSL Mapping' tab, cells C6:K6, http://www.regulations.gov/#!documentDetail;D=EERE-2008-BT-STD-0015-0134)",null,null,null,null,null,null,"3. EISA standards were effective in 2009 (10CFR431.306). Assumed EISA standards were equivalent to baseline standard in 2014 Final Rule.\nIn the 2014 Final Rule, TSL 2 was the final selected TSL. (DOE Walk-In Coolers and Freezers 2014 Final Rule, Feder Register Notice, page 32117, \"Benefits and Burdens of Trial Standard Levels Considered for Walk-in Coolers and Walk-In Freezers\" section, http://www.regulations.gov/#!documentDetail;D=EERE-2008-BT-STD-0015-0141)\nTSL Mapping used to determine EL for each product class at TSL 2. (DOE Walk-In Coolers and Freezers 2014 Final Rule, Technical Support Document: Final Rule National Impact Analysis (NIA) - Systems, 'TSL Mapping' tab, cells C6:X6, http://www.regulations.gov/#!documentDetail;D=EERE-2008-BT-STD-0015-0134)"]
[]
[]
[]
[null,null,{"$f":"'Product Classes'!K17","v":"FD.L"},{"$f":"OFFSET('Product Classes'!$F$10,MATCH(C133,'Product Classes'!$K$11:$K$19,0),0)","v":"Freight Door, Low Temperature"},null,null,null,null,null,{"$f":"'Product Classes'!K41","v":"DC.M.O.006"},{"$f":"CONCATENATE('Product Classes'!C41,\" \",'Product Classes'!D41,\" \",'Product Classes'!E41,\" \",'Product Classes'!F41)","v":"Dedicated Medium Outdoor <9000"}]
[]
[null,null," Model ELs","Energy Level (kWh/year)1,2","Compliance Year3","Model Efficiency Levels",null,null,null," Model ELs","Energy Level (kWh/year)1,2","Compliance Year3","Model Efficiency Levels"]
[null,null,"EL0",4477.06534889674,null,"DOE NOPR Pre-EISA",null,null,null,"EL0",6944.6726315879596,null,"DOE NOPR Pre-EISA"]
[null,null,"EL1",6044.1762430008403,null,"DOE NOPR EISA",null,null,null,"EL1",5372.2553613902101,null,"DOE NOPR EISA"]
[null,null,"EL2",7768.5588338511307,"2009, 2017","DOE 2014 Final Rule Baseline",null,null,null,"EL2",3910.5754070216203,2009,"DOE 2014 Final Rule Baseline"]
[null,null,"EL3",7356.4720262820674,null,"DOE 2014 Final Rule EL1",null,null,null,"EL3",3259.5849555312366,null,"DOE 2014 Final Rule EL1"]
[null,null,"EL4",7120.4847706009432,null,"DOE 2014 Final Rule EL2",null,null,null,"EL4",3079.6937668717978,null,"DOE 2014 Final Rule EL2"]
[null,null,"EL5",6873.7059283035323,null,"DOE 2014 Final Rule EL3",null,null,null,"EL5",2953.7506924033291,null,"DOE 2014 Final Rule EL3"]
[null,null,"EL6",6751.9336162241725,null,"DOE 2014 Final Rule EL4",null,null,null,"EL6",2527.184121821188,null,"DOE 2014 Final Rule EL4"]
[null,null,"EL7",6636.5245188924782,null,"DOE 2014 Final Rule EL5",null,null,null,"EL7",2395.8201735145235,null,"DOE 2014 Final Rule EL5"]
[null,null,"EL8",6554.4765278792502,null,"DOE 2014 Final Rule EL6",null,null,null,"EL8",2313.5536125124772,null,"DOE 2014 Final Rule EL6"]
[null,null,"EL9",6490.4972750778898,null,"DOE 2014 Final Rule EL7",null,null,null,"EL9",2255.8373698587443,2017,"DOE 2014 Final Rule EL7"]
[null,null,"EL10",6349.8231836124633,null,"DOE 2014 Final Rule EL8"]
[]
[null,null,"Sources","1. DOE Walk-In Coolers and Freezers 2014 Final Rule, Technical Support Document: Final Rule National Impact Analysis (NIA) - Components, 'LCC Inputs' tab, cells C13:K13, http://www.regulations.gov/#!documentDetail;D=EERE-2008-BT-STD-0015-0134",null,null,null,null,null,"Sources","1. DOE Walk-In Coolers and Freezers 2014 Final Rule, Technical Support Document: Final Rule National Impact Analysis (NIA) - Systems, 'LCC Inputs' tab, cells C16:J16, http://www.regulations.gov/#!documentDetail;D=EERE-2008-BT-STD-0015-0135"]
[null,null,null,"2. Pre-EISA and EISA values calculated from shipment weighted average by size from 2013 NOPR NIA Components Model. Refrigeration System TSL 5 values were selected since the criteria for TSL 5 in the NOPR matched the criteria for TSL 2, which was the TSL selected in the final rule. DOE Walk-In Coolers and Freezers 2013 NOPR, Technical Support Document: 2013-08-22 NOPR Component National Impact Analysis Model, 'Shipment-Stock Inputs' tab, cells D37:D39, 'INPUT_LCC' tab, cells DG303:DG304, DG327:DG328, DG351:DG352, http://www.regulations.gov/#!documentDetail;D=EERE-2008-BT-STD-0015-0127",null,null,null,null,null,null,"2. DOE Walk-In Coolers and Freezers 2013 NOPR, Technical Support Document: 2013-08-22 NOPR National Impact Analysis - Refrigeration Systems, 'INPUT_LCC' tab, cells U9:U10, http://www.regulations.gov/#!documentDetail;D=EERE-2008-BT-STD-0015-0126"]
[null,null,null,"3. EISA standards were effective in 2009 (10CFR431.306). Assumed EISA standards were equivalent to baseline standard in 2014 Final Rule.\nIn the 2014 Final Rule, TSL 2 was the final selected TSL. (DOE Walk-In Coolers and Freezers 2014 Final Rule, Feder Register Notice, page 32117, \"Benefits and Burdens of Trial Standard Levels Considered for Walk-in Coolers and Walk-In Freezers\" section, http://www.regulations.gov/#!documentDetail;D=EERE-2008-BT-STD-0015-0141)\nTSL Mapping used to determine EL for each product class at TSL 2. (DOE Walk-In Coolers and Freezers 2014 Final Rule, Technical Support Document: Final Rule National Impact Analysis (NIA) - Components, 'TSL Mapping' tab, cells C6:K6, http://www.regulations.gov/#!documentDetail;D=EERE-2008-BT-STD-0015-0134)",null,null,null,null,null,null,"3. EISA standards were effective in 2009 (10CFR431.306). Assumed EISA standards were equivalent to baseline standard in 2014 Final Rule.\nIn the 2014 Final Rule, TSL 2 was the final selected TSL. (DOE Walk-In Coolers and Freezers 2014 Final Rule, Feder Register Notice, page 32117, \"Benefits and Burdens of Trial Standard Levels Considered for Walk-in Coolers and Walk-In Freezers\" section, http://www.regulations.gov/#!documentDetail;D=EERE-2008-BT-STD-0015-0141)\nTSL Mapping used to determine EL for each product class at TSL 2. (DOE Walk-In Coolers and Freezers 2014 Final Rule, Technical Support Document: Final Rule National Impact Analysis (NIA) - Systems, 'TSL Mapping' tab, cells C6:X6, http://www.regulations.gov/#!documentDetail;D=EERE-2008-BT-STD-0015-0134)"]
[]
[]
[]
[null,null,{"$f":"'Product Classes'!K18","v":"DD.M"},{"$f":"OFFSET('Product Classes'!$F$10,MATCH(C154,'Product Classes'!$K$11:$K$19,0),0)","v":"Display Door, Medium Temperature"},null,null,null,null,null,{"$f":"'Product Classes'!K42","v":"DC.M.O.018"},{"$f":"CONCATENATE('Product Classes'!C42,\" \",'Product Classes'!D42,\" \",'Product Classes'!E42,\" \",'Product Classes'!F42)","v":"Dedicated Medium Outdoor >9000"}]
[]
[null,null," Model ELs","Energy Level (kWh/year)1,2","Compliance Year3","Model Efficiency Levels",null,null,null," Model ELs","Energy Level (kWh/year)1,2","Compliance Year3","Model Efficiency Levels"]
[null,null,"EL0",1619.51799300571,null,"DOE NOPR Pre-EISA",null,null,null,"EL0",17789.501762618002,null,"DOE NOPR Pre-EISA"]
[null,null,"EL1",626.63966666686804,null,"DOE NOPR EISA",null,null,null,"EL1",12254.521748499101,null,"DOE NOPR EISA"]
[null,null,"EL2",1413.7193812727664,2009,"DOE 2014 Final Rule Baseline",null,null,null,"EL2",10464.565870606368,2009,"DOE 2014 Final Rule Baseline"]
[null,null,"EL3",1043.5018849781932,null,"DOE 2014 Final Rule EL1",null,null,null,"EL3",8866.7233661116952,null,"DOE 2014 Final Rule EL1"]
[null,null,"EL4",557.7457795339709,null,"DOE 2014 Final Rule EL2",null,null,null,"EL4",8127.2247079940107,null,"DOE 2014 Final Rule EL2"]
[null,null,"EL5",466.15153728551064,2017,"DOE 2014 Final Rule EL3",null,null,null,"EL5",7428.1549996186704,null,"DOE 2014 Final Rule EL3"]
[null,null,"EL6",387.52246612348893,null,"DOE 2014 Final Rule EL4",null,null,null,"EL6",7136.7638121428772,null,"DOE 2014 Final Rule EL4"]
[null,null,"EL7",320.22204720691883,null,"DOE 2014 Final Rule EL5",null,null,null,"EL7",5878.3429063160538,2017,"DOE 2014 Final Rule EL5"]
[null,null,"EL8",192.72273591592901,null,"DOE 2014 Final Rule EL6"]
[]
[null,null,"Sources","1. DOE Walk-In Coolers and Freezers 2014 Final Rule, Technical Support Document: Final Rule National Impact Analysis (NIA) - Components, 'LCC Inputs' tab, cells C8:I8, http://www.regulations.gov/#!documentDetail;D=EERE-2008-BT-STD-0015-0134",null,null,null,null,null,"Sources","1. DOE Walk-In Coolers and Freezers 2014 Final Rule, Technical Support Document: Final Rule National Impact Analysis (NIA) - Systems, 'LCC Inputs' tab, cells C17:H17, http://www.regulations.gov/#!documentDetail;D=EERE-2008-BT-STD-0015-0135"]
[null,null,null,"2. Pre-EISA and EISA values calculated from shipment weighted average by size from 2013 NOPR NIA Components Model. Refrigeration System TSL 5 values were selected since the criteria for TSL 5 in the NOPR matched the criteria for TSL 2, which was the TSL selected in the final rule. DOE Walk-In Coolers and Freezers 2013 NOPR, Technical Support Document: 2013-08-22 NOPR Component National Impact Analysis Model, 'Shipment-Stock Inputs' tab, cells D17:D19, 'INPUT_LCC' tab, cells CW157:CW158, CW181:CW182, CW205:CW206, http://www.regulations.gov/#!documentDetail;D=EERE-2008-BT-STD-0015-0127",null,null,null,null,null,null,"2. DOE Walk-In Coolers and Freezers 2013 NOPR, Technical Support Document: 2013-08-22 NOPR National Impact Analysis - Refrigeration Systems, 'INPUT_LCC' tab, cells U34:U35, http://www.regulations.gov/#!documentDetail;D=EERE-2008-BT-STD-0015-0126"]
[null,null,null,"3. EISA standards were effective in 2009 (10CFR431.306). Assumed EISA standards were equivalent to baseline standard in 2014 Final Rule.\nIn the 2014 Final Rule, TSL 2 was the final selected TSL. (DOE Walk-In Coolers and Freezers 2014 Final Rule, Feder Register Notice, page 32117, \"Benefits and Burdens of Trial Standard Levels Considered for Walk-in Coolers and Walk-In Freezers\" section, http://www.regulations.gov/#!documentDetail;D=EERE-2008-BT-STD-0015-0141)\nTSL Mapping used to determine EL for each product class at TSL 2. (DOE Walk-In Coolers and Freezers 2014 Final Rule, Technical Support Document: Final Rule National Impact Analysis (NIA) - Components, 'TSL Mapping' tab, cells C6:K6, http://www.regulations.gov/#!documentDetail;D=EERE-2008-BT-STD-0015-0134)",null,null,null,null,null,null,"3. EISA standards were effective in 2009 (10CFR431.306). Assumed EISA standards were equivalent to baseline standard in 2014 Final Rule.\nIn the 2014 Final Rule, TSL 2 was the final selected TSL. (DOE Walk-In Coolers and Freezers 2014 Final Rule, Feder Register Notice, page 32117, \"Benefits and Burdens of Trial Standard Levels Considered for Walk-in Coolers and Walk-In Freezers\" section, http://www.regulations.gov/#!documentDetail;D=EERE-2008-BT-STD-0015-0141)\nTSL Mapping used to determine EL for each product class at TSL 2. (DOE Walk-In Coolers and Freezers 2014 Final Rule, Technical Support Document: Final Rule National Impact Analysis (NIA) - Systems, 'TSL Mapping' tab, cells C6:X6, http://www.regulations.gov/#!documentDetail;D=EERE-2008-BT-STD-0015-0134)"]
[]
[]
[]
[null,null,{"$f":"'Product Classes'!K19","v":"DD.L"},{"$f":"OFFSET('Product Classes'!$F$10,MATCH(C173,'Product Classes'!$K$11:$K$19,0),0)","v":"Display Door, Low Temperature"},null,null,null,null,null,{"$f":"'Product Classes'!K46","v":"MC.L.009"},{"$f":"CONCATENATE('Product Classes'!C46,\" \",'Product Classes'!D46)","v":"Multiplex Low"}]
[]
[null,null," Model ELs","Energy Level (kWh/year)1,2","Compliance Year3","Model Efficiency Levels",null,null,null," Model ELs","Energy Level (kWh/year)1,2","Compliance Year3","Model Efficiency Levels"]
[null,null,"EL0",3912.2465808682696,null,"DOE NOPR Pre-EISA",null,null,null,"EL0",11654.313904648337,null,"DOE NOPR Pre-EISA"]
[null,null,"EL1",1913.6831081227256,null,"DOE NOPR EISA",null,null,null,"EL1",9207.09266289691,null,"DOE NOPR EISA"]
[null,null,"EL2",3996.9665605456298,2009,"DOE 2014 Final Rule Baseline",null,null,null,"EL2",8849.6382214385249,2009,"DOE 2014 Final Rule Baseline"]
[null,null,"EL3",3449.0248110135117,null,"DOE 2014 Final Rule EL1",null,null,null,"EL3",8127.5341890783038,null,"DOE 2014 Final Rule EL1"]
[null,null,"EL4",3106.5833506060558,null,"DOE 2014 Final Rule EL2",null,null,null,"EL4",7933.8497192797377,2017,"DOE 2014 Final Rule EL2"]
[null,null,"EL5",2054.7117868669638,null,"DOE 2014 Final Rule EL3"]
[null,null,"EL6",1578.0265416574318,2017,"DOE 2014 Final Rule EL4"]
[null,null,"EL7",1276.6799409743451,null,"DOE 2014 Final Rule EL5"]
[]
[null,null,"Sources","1. DOE Walk-In Coolers and Freezers 2014 Final Rule, Technical Support Document: Final Rule National Impact Analysis (NIA) - Components, 'LCC Inputs' tab, cells C9:H9, http://www.regulations.gov/#!documentDetail;D=EERE-2008-BT-STD-0015-0134",null,null,null,null,null,"Sources","1. DOE Walk-In Coolers and Freezers 2014 Final Rule, Technical Support Document: Final Rule National Impact Analysis (NIA) - Systems, 'LCC Inputs' tab, cells C21:E21, http://www.regulations.gov/#!documentDetail;D=EERE-2008-BT-STD-0015-0135"]
[null,null,null,"2. Pre-EISA and EISA values calculated from shipment weighted average by size from 2013 NOPR NIA Components Model. Refrigeration System TSL 5 values were selected since the criteria for TSL 5 in the NOPR matched the criteria for TSL 2, which was the TSL selected in the final rule. DOE Walk-In Coolers and Freezers 2013 NOPR, Technical Support Document: 2013-08-22 NOPR Component National Impact Analysis Model, 'Shipment-Stock Inputs' tab, cells D21:D23, 'INPUT_LCC' tab, cells DG157:DG158, DG181:DG182, DG205:DG206, http://www.regulations.gov/#!documentDetail;D=EERE-2008-BT-STD-0015-0127",null,null,null,null,null,null,"2. DOE Walk-In Coolers and Freezers 2013 NOPR, Technical Support Document: 2013-08-22 NOPR National Impact Analysis - Refrigeration Systems, 'INPUT_LCC' tab, cells U237:U238, http://www.regulations.gov/#!documentDetail;D=EERE-2008-BT-STD-0015-0126"]
[null,null,null,"3. EISA standards were effective in 2009 (10CFR431.306). Assumed EISA standards were equivalent to baseline standard in 2014 Final Rule.\nIn the 2014 Final Rule, TSL 2 was the final selected TSL. (DOE Walk-In Coolers and Freezers 2014 Final Rule, Feder Register Notice, page 32117, \"Benefits and Burdens of Trial Standard Levels Considered for Walk-in Coolers and Walk-In Freezers\" section, http://www.regulations.gov/#!documentDetail;D=EERE-2008-BT-STD-0015-0141)\nTSL Mapping used to determine EL for each product class at TSL 2. (DOE Walk-In Coolers and Freezers 2014 Final Rule, Technical Support Document: Final Rule National Impact Analysis (NIA) - Components, 'TSL Mapping' tab, cells C6:K6, http://www.regulations.gov/#!documentDetail;D=EERE-2008-BT-STD-0015-0134)",null,null,null,null,null,null,"3. EISA standards were effective in 2009 (10CFR431.306). Assumed EISA standards were equivalent to baseline standard in 2014 Final Rule.\nIn the 2014 Final Rule, TSL 2 was the final selected TSL. (DOE Walk-In Coolers and Freezers 2014 Final Rule, Feder Register Notice, page 32117, \"Benefits and Burdens of Trial Standard Levels Considered for Walk-in Coolers and Walk-In Freezers\" section, http://www.regulations.gov/#!documentDetail;D=EERE-2008-BT-STD-0015-0141)\nTSL Mapping used to determine EL for each product class at TSL 2. (DOE Walk-In Coolers and Freezers 2014 Final Rule, Technical Support Document: Final Rule National Impact Analysis (NIA) - Systems, 'TSL Mapping' tab, cells C6:X6, http://www.regulations.gov/#!documentDetail;D=EERE-2008-BT-STD-0015-0134)"]
[]
[]
[]
[null,null,null,null,null,null,null,null,null,{"$f":"'Product Classes'!K50","v":"MC.M.009"},{"$f":"CONCATENATE('Product Classes'!C50,\" \",'Product Classes'!D50)","v":"Multiplex Medium"}]
[]
[null,null,null,null,null,null,null,null,null," Model ELs","Energy Level (kWh/year)1,2","Compliance Year3","Model Efficiency Levels"]
[null,null,null,null,null,null,null,null,null,"EL0",7003.2231015335001,null,"DOE NOPR Pre-EISA"]
[null,null,null,null,null,null,null,null,null,"EL1",4541.5016904223803,null,"DOE NOPR EISA"]
[null,null,null,null,null,null,null,null,null,"EL2",4912.0831321932301,2009,"DOE 2014 Final Rule Baseline"]
[null,null,null,null,null,null,null,null,null,"EL3",4655.0983394921632,null,"DOE 2014 Final Rule EL1"]
[null,null,null,null,null,null,null,null,null,"EL4",4453.1836086431695,2017,"DOE 2014 Final Rule EL2"]
[]
[]
[]
[]
[null,null,null,null,null,null,null,null,null,"Sources","1. DOE Walk-In Coolers and Freezers 2014 Final Rule, Technical Support Document: Final Rule National Impact Analysis (NIA) - Systems, 'LCC Inputs' tab, cells C25:E25, http://www.regulations.gov/#!documentDetail;D=EERE-2008-BT-STD-0015-0135"]
[null,null,null,null,null,null,null,null,null,null,"2. DOE Walk-In Coolers and Freezers 2013 NOPR, Technical Support Document: 2013-08-22 NOPR National Impact Analysis - Refrigeration Systems, 'INPUT_LCC' tab, cells J237:J238, http://www.regulations.gov/#!documentDetail;D=EERE-2008-BT-STD-0015-0126"]
[null,null,null,null,null,null,null,null,null,null,"3. EISA standards were effective in 2009 (10CFR431.306). Assumed EISA standards were equivalent to baseline standard in 2014 Final Rule.\nIn the 2014 Final Rule, TSL 2 was the final selected TSL. (DOE Walk-In Coolers and Freezers 2014 Final Rule, Feder Register Notice, page 32117, \"Benefits and Burdens of Trial Standard Levels Considered for Walk-in Coolers and Walk-In Freezers\" section, http://www.regulations.gov/#!documentDetail;D=EERE-2008-BT-STD-0015-0141)\nTSL Mapping used to determine EL for each product class at TSL 2. (DOE Walk-In Coolers and Freezers 2014 Final Rule, Technical Support Document: Final Rule National Impact Analysis (NIA) - Systems, 'TSL Mapping' tab, cells C6:X6, http://www.regulations.gov/#!documentDetail;D=EERE-2008-BT-STD-0015-0134)"]

{"sheet":"Constants and Menus","index":6,"n_rows":42,"n_cols":4,"rows_kept":42,"cut":false,"hidden":false,"merged":[[14,4,15,5],[17,2,17,5]]}
[]
[null,null,"Constants and Menus"]
[]
[null,null,"NAVIGATION"]
[]
[null,null,"COMMENTS"]
[]
[]
[null,null,"Constant"]
[null,null,"Hours/Day",24]
[null,null,"Days/Week",7]
[null,null,"Days per Year",365.25]
[null,null,"kW/MW",1000]
[null,null,"Standard Compliance Year",2017]
[null,null,"WICF Component Lifetime1",12]
[null,null,"WICF System Lifetime1",10]
[]
[null,null,"1. Lifetime Source: DOE Walk-in Coolers and Freezers 2014 Final Rule, Technical Support Document Chapter 9: Shipment Analysis, Table 9.5.1 (page 9-13)"]
[]
[]
[]
[null,null,"Building Types Included in Analysis"]
[null,null,null,"Building Type "]
[null,null,null,"Large Off"]
[null,null,null,"Medium Off"]
[null,null,null,"Small Off"]
[null,null,null,"Big Box"]
[null,null,null,"Small Box"]
[null,null,null,"High End"]
[null,null,null,"Anchor"]
[null,null,null,"K-12"]
[null,null,null,"University"]
[null,null,null,"Warehouse"]
[null,null,null,"Supermarket"]
[null,null,null,"MiniMart"]
[null,null,null,"Restaurant"]
[null,null,null,"Lodging"]
[null,null,null,"Hospital"]
[null,null,null,"OtherHealth"]
[null,null,null,"Assembly"]
[null,null,null,"Other"]
[null,null,null,"TOTAL"]

{"sheet":"Product Class Dist","index":7,"n_rows":34,"n_cols":97,"rows_kept":34,"cut":false,"hidden":false,"merged":[]}
[]
[null,null,"Product Class Distributions"]
[]
[null,null,"NAVIGATION"]
[]
[null,null,"COMMENTS"]
[]
[]
[null,null,"COMPONENTS",null,null,null,null,null,null,null,null,null,null,null,null,null,null,null,null,null,null,null,null,null,null,null,null,null,null,null,null,null,null,null,null,null,null,null,null,null,null,null,null,null,null,null,null,null,null,null,null,"SYSTEMS"]
[null,null,null,null,null,null,null,null,null,null,null,null,null,null,null,null,null,null,null,null,null,null,null,null,null,null,null,null,null,null,null,null,null,null,null,null,null,null,null,null,null,null,null,null,null,null,null,null,null,null,null,"PRE-Case",1990,{"$f":"BA10+1","v":1991},{"$f":"BB10+1","v":1992},{"$f":"BC10+1","v":1993},{"$f":"BD10+1","v":1994},{"$f":"BE10+1","v":1995},{"$f":"BF10+1","v":1996},{"$f":"BG10+1","v":1997},{"$f":"BH10+1","v":1998},{"$f":"BI10+1","v":1999},{"$f":"BJ10+1","v":2000},{"$f":"BK10+1","v":2001},{"$f":"BL10+1","v":2002},{"$f":"BM10+1","v":2003},{"$f":"BN10+1","v":2004},{"$f":"BO10+1","v":2005},{"$f":"BP10+1","v":2006},{"$f":"BQ10+1","v":2007},{"$f":"BR10+1","v":2008},{"$f":"BS10+1","v":2009},{"$f":"BT10+1","v":2010},{"$f":"BU10+1","v":2011},{"$f":"BV10+1","v":2012},{"$f":"BW10+1","v":2013},{"$f":"BX10+1","v":2014},{"$f":"BY10+1","v":2015},{"$f":"BZ10+1","v":2016},{"$f":"CA10+1","v":2017},{"$f":"CB10+1","v":2018},{"$f":"CC10+1","v":2019},{"$f":"CD10+1","v":2020},{"$f":"CE10+1","v":2021},{"$f":"CF10+1","v":2022},{"$f":"CG10+1","v":2023},{"$f":"CH10+1","v":2024},{"$f":"CI10+1","v":2025},{"$f":"CJ10+1","v":2026},{"$f":"CK10+1","v":2027},{"$f":"CL10+1","v":2028},{"$f":"CM10+1","v":2029},{"$f":"CN10+1","v":2030},{"$f":"CO10+1","v":2031},{"$f":"CP10+1","v":2032},{"$f":"CQ10+1","v":2033},{"$f":"CR10+1","v":2034}]
[null,null,"PRE-Case",1990,{"$f":"D11+1","v":1991},{"$f":"E11+1","v":1992},1993,1994,1995,1996,1997,1998,1999,2000,2001,2002,2003,2004,2005,2006,2007,2008,{"$f":"V11+1","v":2009},2010,2011,2012,2013,2014,2015,2016,2017,2018,2019,2020,2021,2022,2023,2024,2025,2026,2027,2028,2029,2030,2031,2032,2033,2034,null,null,null,{"$f":"'Product Classes'!K30","v":"DC.L.I.006"},{"$f":"$BU$11","v":7.3140370271781475E-3},7.3140370271781475E-3,7.3140370271781475E-3,7.3140370271781475E-3,7.3140370271781475E-3,7.3140370271781475E-3,7.3140370271781475E-3,7.3140370271781475E-3,7.3140370271781475E-3,7.3140370271781475E-3,7.3140370271781475E-3,7.3140370271781475E-3,7.3140370271781475E-3,7.3140370271781475E-3,7.3140370271781475E-3,7.3140370271781475E-3,7.3140370271781475E-3,7.3140370271781475E-3,7.3140370271781475E-3,7.3140370271781475E-3,7.3140370271781475E-3,7.3140370271781484E-3,7.3140370271781484E-3,7.3140370271781484E-3,7.4168377535264035E-3,7.5664123904093036E-3,7.6693010958376667E-3,7.7111235628072265E-3,7.7124893380683688E-3,7.6663508854170545E-3,7.6196427794304042E-3,7.6112016743426492E-3,7.6610433104212184E-3,7.7462746550076133E-3,7.8406470228174867E-3,7.9212883465157487E-3,7.9696494458306091E-3,7.9819995136863938E-3,7.9728520477016559E-3,7.9621015343456641E-3,7.9704493731560053E-3,8.0046643479219134E-3,8.0573517915152482E-3,8.1179073240369992E-3,8.1693250604175892E-3]
[null,null,{"$f":"'Product Classes'!K11&\" - \"&OFFSET('Product Classes'!$F$10,MATCH('Product Classes'!K11,MODEL_PCS,0),0)","v":"SP.M - Structural Panel, Medium Temperature"},{"$f":"$X$12","v":0},0,0,0,0,0,0,0,0,0,0,0,0,0,0,0,0,0,0,{"$f":"$X$12","v":0},0,0,0,0,0,0,0,0,0,0,0,0,0,0,0,0,0,0,0,0,0,0,0,0,0,null,null,null,{"$f":"'Product Classes'!K31","v":"DC.L.I.009"},{"$f":"$BU$12","v":5.3706938557057078E-3},5.3706938557057078E-3,5.3706938557057078E-3,5.3706938557057078E-3,5.3706938557057078E-3,5.3706938557057078E-3,5.3706938557057078E-3,5.3706938557057078E-3,5.3706938557057078E-3,5.3706938557057078E-3,5.3706938557057078E-3,5.3706938557057078E-3,5.3706938557057078E-3,5.3706938557057078E-3,5.3706938557057078E-3,5.3706938557057078E-3,5.3706938557057078E-3,5.3706938557057078E-3,5.3706938557057078E-3,5.3706938557057078E-3,5.3706938557057078E-3,5.3706938557057078E-3,5.3706938557057078E-3,5.3706938557057078E-3,5.4461803794010142E-3,5.5560129630058512E-3,5.631564089697224E-3,5.6622743069888936E-3,5.6632771951033193E-3,5.6293977516105893E-3,5.5951000119488746E-3,5.5889017125607936E-3,5.6255004018551692E-3,5.6880857370104169E-3,5.7573833211027135E-3,5.8165982061371803E-3,5.8521097380012108E-3,5.8611783868614915E-3,5.8544614070079899E-3,5.8465673102441598E-3,5.8526971242498175E-3,5.8778211636914615E-3,5.9165095280691591E-3,5.9609754263460187E-3,5.9987314453307803E-3]
[null,null,{"$f":"'Product Classes'!K12&\" - \"&OFFSET('Product Classes'!$F$10,MATCH('Product Classes'!K12,MODEL_PCS,0),0)","v":"SP.L - Structural Panel, Low Temperature"},{"$f":"$X$13","v":0},0,0,0,0,0,0,0,0,0,0,0,0,0,0,0,0,0,0,{"$f":"$X$13","v":0},0,0,0,0,0,0,0,0,0,0,0,0,0,0,0,0,0,0,0,0,0,0,0,0,0,null,null,null,{"$f":"'Product Classes'!K33","v":"DC.L.O.006"},{"$f":"$BU$13","v":0.13071971147603331},0.13071971147603331,0.13071971147603331,0.13071971147603331,0.13071971147603331,0.13071971147603331,0.13071971147603331,0.13071971147603331,0.13071971147603331,0.13071971147603331,0.13071971147603331,0.13071971147603331,0.13071971147603331,0.13071971147603331,0.13071971147603331,0.13071971147603331,0.13071971147603331,0.13071971147603331,0.13071971147603331,0.13071971147603331,0.13071971147603331,0.13071971147603331,0.13071971147603331,0.13071971147603331,0.13195366860908439,0.13360258319784549,0.13464236540743155,0.13504877631923762,0.13514065843380382,0.13472349546776302,0.13431083318541362,0.13433897469713052,0.1350240176122201,0.13604017549842537,0.13706920811696013,0.13790382957188335,0.13840574097735125,0.13856665208551835,0.13854518801629079,0.13853208778888088,0.1387322346453041,0.13919165828203234,0.13980467270055705,0.14045693601555018,0.14097765041195828]
[null,null,{"$f":"'Product Classes'!K13&\" - \"&OFFSET('Product Classes'!$F$10,MATCH('Product Classes'!K13,MODEL_PCS,0),0)","v":"FP.L - Floor Panel, Low Temperature"},{"$f":"$X$14","v":0},0,0,0,0,0,0,0,0,0,0,0,0,0,0,0,0,0,0,{"$f":"$X$14","v":0},0,0,0,0,0,0,0,0,0,0,0,0,0,0,0,0,0,0,0,0,0,0,0,0,0,null,null,null,{"$f":"'Product Classes'!K34","v":"DC.L.O.009"},{"$f":"$BU$14","v":0.18809114040162581},0.18809114040162581,0.18809114040162581,0.18809114040162581,0.18809114040162581,0.18809114040162581,0.18809114040162581,0.18809114040162581,0.18809114040162581,0.18809114040162581,0.18809114040162581,0.18809114040162581,0.18809114040162581,0.18809114040162581,0.18809114040162581,0.18809114040162581,0.18809114040162581,0.18809114040162581,0.18809114040162581,0.18809114040162581,0.18809114040162581,0.18809114040162583,0.18809114040162583,0.18809114040162583,0.18986666760973797,0.1922392724902332,0.19373540355847116,0.19432018370379198,0.19445239185752924,0.19385214070083681,0.19325836552790074,0.19329885803642666,0.19428455867536137,0.19574669696717886,0.19722736056829301,0.19842828810621002,0.19915048285074463,0.19938201605638473,0.19935113164566293,0.19933228187400104,0.199620270961854,0.20028133052803565,0.2011633901635792,0.20210192460015272,0.20285117475942904]
[null,null,{"$f":"'Product Classes'!K14&\" - \"&OFFSET('Product Classes'!$F$10,MATCH('Product Classes'!K14,MODEL_PCS,0),0)","v":"PD.M - Passage Door, Medium Temperature"},{"$f":"$X$15","v":0.37347087070296409},0.37347087070296409,0.37347087070296409,0.37347087070296409,0.37347087070296409,0.37347087070296409,0.37347087070296409,0.37347087070296409,0.37347087070296409,0.37347087070296409,0.37347087070296409,0.37347087070296409,0.37347087070296409,0.37347087070296409,0.37347087070296409,0.37347087070296409,0.37347087070296409,0.37347087070296409,0.37347087070296409,{"$f":"$X$15","v":0.37347087070296409},0.37347087070296409,0.37347087070296414,0.37347087070296414,0.37347087070296414,0.37352104693840271,0.3735791961552708,0.373940261707643,0.37450589859812566,0.37512167769911436,0.37559640588096926,0.37601634464678446,0.37632252026091956,0.37659030327085213,0.37681047486267016,0.37695149931959204,0.37710357401255529,0.37732265154542893,0.37757318366455545,0.37782736412016393,0.37807940684956753,0.37832826963011651,0.37854863089007107,0.37873713317208813,0.37893606733654456,0.37911954836823925,null,null,null,{"$f":"'Product Classes'!K37","v":"DC.M.I.006"},{"$f":"$BU$15","v":2.8521905698894241E-2},2.8521905698894241E-2,2.8521905698894241E-2,2.8521905698894241E-2,2.8521905698894241E-2,2.8521905698894241E-2,2.8521905698894241E-2,2.8521905698894241E-2,2.8521905698894241E-2,2.8521905698894241E-2,2.8521905698894241E-2,2.8521905698894241E-2,2.8521905698894241E-2,2.8521905698894241E-2,2.8521905698894241E-2,2.8521905698894241E-2,2.8521905698894241E-2,2.8521905698894241E-2,2.8521905698894241E-2,2.8521905698894241E-2,2.8521905698894241E-2,2.8521905698894245E-2,2.8521905698894245E-2,2.8521905698894241E-2,2.8730736745537659E-2,2.9198554911851589E-2,2.9643862909397765E-2,2.9939666905169495E-2,3.0041944090140042E-2,2.9951604872125344E-2,2.9796581419533549E-2,2.9727633194114627E-2,2.9831747095738971E-2,3.0053241926118659E-2,3.0330977999683529E-2,3.0620793283135699E-2,3.0836211329317957E-2,3.0931237484714602E-2,3.0928696790768498E-2,3.089426007544473E-2,3.0899940404804867E-2,3.0983236461530589E-2,3.114219597504762E-2,3.1340135414499128E-2,3.1527746011405393E-2]
[null,null,{"$f":"'Product Classes'!K15&\" - \"&OFFSET('Product Classes'!$F$10,MATCH('Product Classes'!K15,MODEL_PCS,0),0)","v":"PD.L - Passage Door, Low Temperature"},{"$f":"$X$16","v":0.1840609854406125},0.1840609854406125,0.1840609854406125,0.1840609854406125,0.1840609854406125,0.1840609854406125,0.1840609854406125,0.1840609854406125,0.1840609854406125,0.1840609854406125,0.1840609854406125,0.1840609854406125,0.1840609854406125,0.1840609854406125,0.1840609854406125,0.1840609854406125,0.1840609854406125,0.1840609854406125,0.1840609854406125,{"$f":"$X$16","v":0.1840609854406125},0.1840609854406125,0.18406098544061253,0.18406098544061256,0.18406098544061256,0.18404392328290908,0.18397463452783605,0.18403386412856834,0.18432922827552625,0.18475136767074304,0.18517423079716921,0.18548310683365152,0.18571184349917,0.18587425598186647,0.18596327791399664,0.18595599144105382,0.18595627698554054,0.18598729032643213,0.18605742655813537,0.18614494356501632,0.18625122231134836,0.1863607539409525,0.18646879797567978,0.18660125695034899,0.18672030695106662,0.18681221707677242,null,null,null,{"$f":"'Product Classes'!K38","v":"DC.M.I.018"},{"$f":"$BU$16","v":4.8353936248786509E-3},4.8353936248786509E-3,4.8353936248786509E-3,4.8353936248786509E-3,4.8353936248786509E-3,4.8353936248786509E-3,4.8353936248786509E-3,4.8353936248786509E-3,4.8353936248786509E-3,4.8353936248786509E-3,4.8353936248786509E-3,4.8353936248786509E-3,4.8353936248786509E-3,4.8353936248786509E-3,4.8353936248786509E-3,4.8353936248786509E-3,4.8353936248786509E-3,4.8353936248786509E-3,4.8353936248786509E-3,4.8353936248786509E-3,4.8353936248786509E-3,4.8353936248786518E-3,4.8353936248786518E-3,4.8353936248786518E-3,4.8707973009961209E-3,4.950107744094749E-3,5.0256019791284755E-3,5.0757504078649375E-3,5.0930897278037221E-3,5.0777742827743224E-3,5.0514927494755696E-3,5.0398037756336214E-3,5.057454478973363E-3,5.095005079626372E-3,5.1420904060309859E-3,5.1912235526303408E-3,5.22774394008937E-3,5.2438539739297916E-3,5.2434232434085092E-3,5.2375850965646264E-3,5.238548097728158E-3,5.2526694971157467E-3,5.2796183211666139E-3,5.3131755144950931E-3,5.3449816320041543E-3]
[null,null,{"$f":"'Product Classes'!K16&\" - \"&OFFSET('Product Classes'!$F$10,MATCH('Product Classes'!K16,MODEL_PCS,0),0)","v":"FD.M - Freight Door, Medium Temperature"},{"$f":"$X$17","v":2.2164681371485119E-2},2.2164681371485119E-2,2.2164681371485119E-2,2.2164681371485119E-2,2.2164681371485119E-2,2.2164681371485119E-2,2.2164681371485119E-2,2.2164681371485119E-2,2.2164681371485119E-2,2.2164681371485119E-2,2.2164681371485119E-2,2.2164681371485119E-2,2.2164681371485119E-2,2.2164681371485119E-2,2.2164681371485119E-2,2.2164681371485119E-2,2.2164681371485119E-2,2.2164681371485119E-2,2.2164681371485119E-2,{"$f":"$X$17","v":2.2164681371485119E-2},2.2164681371485119E-2,2.2164681371485122E-2,2.2164681371485122E-2,2.2164681371485126E-2,2.2166851844952342E-2,2.2170584846992906E-2,2.2193470391946853E-2,2.2229224527646481E-2,2.2267368308160864E-2,2.2296284167290022E-2,2.2320858447806357E-2,2.2338671803212504E-2,2.2354433453546967E-2,2.2367586033787381E-2,2.2376073253992872E-2,2.2385330680860471E-2,2.2398468783234728E-2,2.2413400031764126E-2,2.2428396708507291E-2,2.2443197298605829E-2,2.2457781698513472E-2,2.2470814094916164E-2,2.248228494270366E-2,2.2494392578235274E-2,2.2505541846695898E-2,null,null,null,{"$f":"'Product Classes'!K41","v":"DC.M.O.006"},{"$f":"$BU$17","v":0.20664538683908781},0.20664538683908781,0.20664538683908781,0.20664538683908781,0.20664538683908781,0.20664538683908781,0.20664538683908781,0.20664538683908781,0.20664538683908781,0.20664538683908781,0.20664538683908781,0.20664538683908781,0.20664538683908781,0.20664538683908781,0.20664538683908781,0.20664538683908781,0.20664538683908781,0.20664538683908781,0.20664538683908781,0.20664538683908781,0.20664538683908781,0.20664538683908784,0.20664538683908781,0.20664538683908781,0.20454549154541954,0.20122813537248552,0.19872978358933266,0.19745963197993149,0.19713695349027391,0.19796075355057641,0.19891442671904588,0.19907538301924496,0.19795790861237014,0.19610663608384579,0.19407485221357926,0.19225871882762843,0.19107047472655356,0.19064496310731294,0.19071173213897283,0.19084716914241379,0.1906007350906247,0.18982058812785843,0.18864998310934597,0.1873221938755891,0.18618373203555313]
[null,null,{"$f":"'Product Classes'!K17&\" - \"&OFFSET('Product Classes'!$F$10,MATCH('Product Classes'!K17,MODEL_PCS,0),0)","v":"FD.L - Freight Door, Low Temperature"},{"$f":"$X$18","v":1.19726051411906E-2},1.19726051411906E-2,1.19726051411906E-2,1.19726051411906E-2,1.19726051411906E-2,1.19726051411906E-2,1.19726051411906E-2,1.19726051411906E-2,1.19726051411906E-2,1.19726051411906E-2,1.19726051411906E-2,1.19726051411906E-2,1.19726051411906E-2,1.19726051411906E-2,1.19726051411906E-2,1.19726051411906E-2,1.19726051411906E-2,1.19726051411906E-2,1.19726051411906E-2,{"$f":"$X$18","v":1.19726051411906E-2},1.19726051411906E-2,1.1972605141190598E-2,1.1972605141190598E-2,1.1972605141190598E-2,1.1971128129768947E-2,1.1966003643459044E-2,1.1969232639864354E-2,1.1988799408625139E-2,1.2017223247005457E-2,1.204606376293608E-2,1.2066791554012529E-2,1.2082145978153129E-2,1.2092897487121043E-2,1.2098568572397656E-2,1.2097598974453753E-2,1.2097148790111065E-2,1.2098671446203387E-2,1.2102887206630273E-2,1.2108319891038112E-2,1.2115096525403194E-2,1.2122113616553406E-2,1.2129132755972613E-2,1.2138042626865631E-2,1.2145959349041989E-2,1.2151976728143091E-2,null,null,null,{"$f":"'Product Classes'!K42","v":"DC.M.O.018"},{"$f":"$BU$18","v":0.25447996712591364},0.25447996712591364,0.25447996712591364,0.25447996712591364,0.25447996712591364,0.25447996712591364,0.25447996712591364,0.25447996712591364,0.25447996712591364,0.25447996712591364,0.25447996712591364,0.25447996712591364,0.25447996712591364,0.25447996712591364,0.25447996712591364,0.25447996712591364,0.25447996712591364,0.25447996712591364,0.25447996712591364,0.25447996712591364,0.25447996712591364,0.2544799671259137,0.2544799671259137,0.2544799671259137,0.25189398495871118,0.24780872226426459,0.2447320483090856,0.24316788012343415,0.24277050753894844,0.24378500205765469,0.24495943290401023,0.24515764760703307,0.24378149856893727,0.24150169073288413,0.23899958652227815,0.23676305188957952,0.23529975128362615,0.23477574160437611,0.23485796643040213,0.23502475459204661,0.23472127562086184,0.23376053908338121,0.23231896068095384,0.23068381282827174,0.22928181815489412]
[null,null,{"$f":"'Product Classes'!K18&\" - \"&OFFSET('Product Classes'!$F$10,MATCH('Product Classes'!K18,MODEL_PCS,0),0)","v":"DD.M - Display Door, Medium Temperature"},{"$f":"$X$19","v":0.37739903604382363},0.37739903604382363,0.37739903604382363,0.37739903604382363,0.37739903604382363,0.37739903604382363,0.37739903604382363,0.37739903604382363,0.37739903604382363,0.37739903604382363,0.37739903604382363,0.37739903604382363,0.37739903604382363,0.37739903604382363,0.37739903604382363,0.37739903604382363,0.37739903604382363,0.37739903604382363,0.37739903604382363,{"$f":"$X$19","v":0.37739903604382363},0.37739903604382363,0.37739903604382363,0.37739903604382369,0.37739903604382369,0.37727337144899414,0.37718133878271676,0.37668224745793355,0.37584685898077436,0.37489537988451155,0.37412136245106037,0.37345511949738047,0.37296029023781346,0.37252867580411131,0.37217889035837687,0.37197242233222494,0.371757640611937,0.3714544557995807,0.37110488437277828,0.37075061208478777,0.37039421443121756,0.37003911567526349,0.36971838034052279,0.36942533344975398,0.36911926237989007,0.36884118722999654,null,null,null,{"$f":"'Product Classes'!K46","v":"MC.L.009"},{"$f":"$BU$19","v":2.8236688912212145E-2},2.8236688912212145E-2,2.8236688912212145E-2,2.8236688912212145E-2,2.8236688912212145E-2,2.8236688912212145E-2,2.8236688912212145E-2,2.8236688912212145E-2,2.8236688912212145E-2,2.8236688912212145E-2,2.8236688912212145E-2,2.8236688912212145E-2,2.8236688912212145E-2,2.8236688912212145E-2,2.8236688912212145E-2,2.8236688912212145E-2,2.8236688912212145E-2,2.8236688912212145E-2,2.8236688912212145E-2,2.8236688912212145E-2,2.8236688912212145E-2,2.8236688912212152E-2,2.8236688912212152E-2,2.8236688912212149E-2,2.8635004000711159E-2,2.9214830869198856E-2,2.9615812236479983E-2,2.9775013067534706E-2,2.977191762822741E-2,2.9583614478770143E-2,2.9400093951897521E-2,2.936753487354626E-2,2.9560803981407792E-2,2.9891513210869886E-2,3.0259399478235877E-2,3.0573682058416062E-2,3.0761676672950718E-2,3.0807557439558455E-2,3.0769014751228074E-2,3.0724758110081525E-2,3.0755933282389882E-2,3.0887659859310544E-2,3.1089843837583026E-2,3.1323370688648405E-2,3.1522111756784127E-2]
[null,null,{"$f":"'Product Classes'!K19&\" - \"&OFFSET('Product Classes'!$F$10,MATCH('Product Classes'!K19,MODEL_PCS,0),0)","v":"DD.L - Display Door, Low Temperature"},{"$f":"$X$20","v":3.0931821299923994E-2},3.0931821299923994E-2,3.0931821299923994E-2,3.0931821299923994E-2,3.0931821299923994E-2,3.0931821299923994E-2,3.0931821299923994E-2,3.0931821299923994E-2,3.0931821299923994E-2,3.0931821299923994E-2,3.0931821299923994E-2,3.0931821299923994E-2,3.0931821299923994E-2,3.0931821299923994E-2,3.0931821299923994E-2,3.0931821299923994E-2,3.0931821299923994E-2,3.0931821299923994E-2,3.0931821299923994E-2,{"$f":"$X$20","v":3.0931821299923994E-2},3.0931821299923994E-2,3.0931821299923997E-2,3.0931821299923997E-2,3.0931821299923997E-2,3.1023678354972811E-2,3.1128242043724559E-2,3.118092367404391E-2,3.109999020930208E-2,3.0946983190464773E-2,3.0765652940575046E-2,3.0657779020364605E-2,3.0584528220731381E-2,3.0559434002502127E-2,3.058120225877136E-2,3.0646414678682635E-2,3.070002891899563E-2,3.0738462099120172E-2,3.0748218166136539E-2,3.0740363630486552E-2,3.0716862583857491E-2,3.0691965438600716E-2,3.0664243942837673E-2,3.0615948858239563E-2,3.0584011405221451E-2,3.0569528750152761E-2,null,null,null,{"$f":"'Product Classes'!K50","v":"MC.M.009"},{"$f":"$BU$20","v":0.14578507503847038},0.14578507503847038,0.14578507503847038,0.14578507503847038,0.14578507503847038,0.14578507503847038,0.14578507503847038,0.14578507503847038,0.14578507503847038,0.14578507503847038,0.14578507503847038,0.14578507503847038,0.14578507503847038,0.14578507503847038,0.14578507503847038,0.14578507503847038,0.14578507503847038,0.14578507503847038,0.14578507503847038,0.14578507503847038,0.14578507503847038,0.14578507503847038,0.14578507503847038,0.14578507503847038,0.1466406310968747,0.14863536779661071,0.15057425682513786,0.15183969962323948,0.15221677070010181,0.15176986595247155,0.15109403075134364,0.15079406140996679,0.15121546726271451,0.15213068010903277,0.15329849435101889,0.15452252615786366,0.15542615903553456,0.15580480034765723,0.15576553352855657,0.1555984344759771,0.1556079153990266,0.1559398326491222,0.15657747389218243,0.15737956831241062,0.15814272873222343]
[]
[null,null,"POST-Case",1990,{"$f":"D22+1","v":1991},1992,1993,1994,1995,1996,1997,1998,1999,2000,2001,2002,2003,2004,2005,2006,2007,2008,2009,2010,2011,2012,2013,2014,2015,2016,2017,2018,2019,2020,2021,2022,2023,2024,2025,2026,2027,2028,2029,2030,2031,2032,2033,2034,null,null,null,"POST-Case",1990,{"$f":"BA22+1","v":1991},{"$f":"BB22+1","v":1992},{"$f":"BC22+1","v":1993},{"$f":"BD22+1","v":1994},{"$f":"BE22+1","v":1995},{"$f":"BF22+1","v":1996},{"$f":"BG22+1","v":1997},{"$f":"BH22+1","v":1998},{"$f":"BI22+1","v":1999},{"$f":"BJ22+1","v":2000},{"$f":"BK22+1","v":2001},{"$f":"BL22+1","v":2002},{"$f":"BM22+1","v":2003},{"$f":"BN22+1","v":2004},{"$f":"BO22+1","v":2005},{"$f":"BP22+1","v":2006},{"$f":"BQ22+1","v":2007},{"$f":"BR22+1","v":2008},{"$f":"BS22+1","v":2009},{"$f":"BT22+1","v":2010},{"$f":"BU22+1","v":2011},{"$f":"BV22+1","v":2012},{"$f":"BW22+1","v":2013},{"$f":"BX22+1","v":2014},{"$f":"BY22+1","v":2015},{"$f":"BZ22+1","v":2016},{"$f":"CA22+1","v":2017},{"$f":"CB22+1","v":2018},{"$f":"CC22+1","v":2019},{"$f":"CD22+1","v":2020},{"$f":"CE22+1","v":2021},{"$f":"CF22+1","v":2022},{"$f":"CG22+1","v":2023},{"$f":"CH22+1","v":2024},{"$f":"CI22+1","v":2025},{"$f":"CJ22+1","v":2026},{"$f":"CK22+1","v":2027},{"$f":"CL22+1","v":2028},{"$f":"CM22+1","v":2029},{"$f":"CN22+1","v":2030},{"$f":"CO22+1","v":2031},{"$f":"CP22+1","v":2032},{"$f":"CQ22+1","v":2033},{"$f":"CR22+1","v":2034}]
[null,null,{"$f":"'Product Classes'!K11&\" - \"&OFFSET('Product Classes'!$F$10,MATCH('Product Classes'!K11,MODEL_PCS,0),0)","v":"SP.M - Structural Panel, Medium Temperature"},{"$f":"$X$23","v":0},0,0,0,0,0,0,0,0,0,0,0,0,0,0,0,0,0,0,{"$f":"$X$23","v":0},0,0,0,0,0,0,0,0,0,0,0,0,0,0,0,0,0,0,0,0,0,0,0,0,0,null,null,null,{"$f":"AZ11","v":"DC.L.I.006"},{"$f":"$BU$23","v":7.3140370271781475E-3},7.3140370271781475E-3,7.3140370271781475E-3,7.3140370271781475E-3,7.3140370271781475E-3,7.3140370271781475E-3,7.3140370271781475E-3,7.3140370271781475E-3,7.3140370271781475E-3,7.3140370271781475E-3,7.3140370271781475E-3,7.3140370271781475E-3,7.3140370271781475E-3,7.3140370271781475E-3,7.3140370271781475E-3,7.3140370271781475E-3,7.3140370271781475E-3,7.3140370271781475E-3,7.3140370271781475E-3,7.3140370271781475E-3,7.3140370271781475E-3,7.3140370271781484E-3,7.3140370271781484E-3,7.3140370271781484E-3,7.4168377535264035E-3,7.5664123904093036E-3,7.6693010958376667E-3,7.7111235628072265E-3,7.7124893380683688E-3,7.6663508854170545E-3,7.6196427794304042E-3,7.6112016743426492E-3,7.6610433104212184E-3,7.7462746550076133E-3,7.8406470228174867E-3,7.9212883465157487E-3,7.9696494458306091E-3,7.9819995136863938E-3,7.9728520477016559E-3,7.9621015343456641E-3,7.9704493731560053E-3,8.0046643479219134E-3,8.0573517915152482E-3,8.1179073240369992E-3,8.1693250604175892E-3]
[null,null,{"$f":"'Product Classes'!K12&\" - \"&OFFSET('Product Classes'!$F$10,MATCH('Product Classes'!K12,MODEL_PCS,0),0)","v":"SP.L - Structural Panel, Low Temperature"},{"$f":"$X$24","v":0},0,0,0,0,0,0,0,0,0,0,0,0,0,0,0,0,0,0,{"$f":"$X$24","v":0},0,0,0,0,0,0,0,0,0,0,0,0,0,0,0,0,0,0,0,0,0,0,0,0,0,null,null,null,"DC.L.I.009",{"$f":"$BU$24","v":5.3706938557057078E-3},5.3706938557057078E-3,5.3706938557057078E-3,5.3706938557057078E-3,5.3706938557057078E-3,5.3706938557057078E-3,5.3706938557057078E-3,5.3706938557057078E-3,5.3706938557057078E-3,5.3706938557057078E-3,5.3706938557057078E-3,5.3706938557057078E-3,5.3706938557057078E-3,5.3706938557057078E-3,5.3706938557057078E-3,5.3706938557057078E-3,5.3706938557057078E-3,5.3706938557057078E-3,5.3706938557057078E-3,5.3706938557057078E-3,5.3706938557057078E-3,5.3706938557057078E-3,5.3706938557057078E-3,5.3706938557057078E-3,5.4461803794010142E-3,5.5560129630058512E-3,5.631564089697224E-3,5.6622743069888936E-3,5.6632771951033193E-3,5.6293977516105893E-3,5.5951000119488746E-3,5.5889017125607936E-3,5.6255004018551692E-3,5.6880857370104169E-3,5.7573833211027135E-3,5.8165982061371803E-3,5.8521097380012108E-3,5.8611783868614915E-3,5.8544614070079899E-3,5.8465673102441598E-3,5.8526971242498175E-3,5.8778211636914615E-3,5.9165095280691591E-3,5.9609754263460187E-3,5.9987314453307803E-3]
[null,null,{"$f":"'Product Classes'!K13&\" - \"&OFFSET('Product Classes'!$F$10,MATCH('Product Classes'!K13,MODEL_PCS,0),0)","v":"FP.L - Floor Panel, Low Temperature"},{"$f":"$X$25","v":0},0,0,0,0,0,0,0,0,0,0,0,0,0,0,0,0,0,0,{"$f":"$X$25","v":0},0,0,0,0,0,0,0,0,0,0,0,0,0,0,0,0,0,0,0,0,0,0,0,0,0,null,null,null,"DC.L.O.006",{"$f":"$BU$25","v":0.13071971147603331},0.13071971147603331,0.13071971147603331,0.13071971147603331,0.13071971147603331,0.13071971147603331,0.13071971147603331,0.13071971147603331,0.13071971147603331,0.13071971147603331,0.13071971147603331,0.13071971147603331,0.13071971147603331,0.13071971147603331,0.13071971147603331,0.13071971147603331,0.13071971147603331,0.13071971147603331,0.13071971147603331,0.13071971147603331,0.13071971147603331,0.13071971147603331,0.13071971147603331,0.13071971147603331,0.13195366860908439,0.13360258319784549,0.13464236540743155,0.13504877631923762,0.13514065843380382,0.13472349546776302,0.13431083318541362,0.13433897469713052,0.1350240176122201,0.13604017549842537,0.13706920811696013,0.13790382957188335,0.13840574097735125,0.13856665208551835,0.13854518801629079,0.13853208778888088,0.1387322346453041,0.13919165828203234,0.13980467270055705,0.14045693601555018,0.14097765041195828]
[null,null,{"$f":"'Product Classes'!K14&\" - \"&OFFSET('Product Classes'!$F$10,MATCH('Product Classes'!K14,MODEL_PCS,0),0)","v":"PD.M - Passage Door, Medium Temperature"},{"$f":"$X$26","v":0.37347087070296409},0.37347087070296409,0.37347087070296409,0.37347087070296409,0.37347087070296409,0.37347087070296409,0.37347087070296409,0.37347087070296409,0.37347087070296409,0.37347087070296409,0.37347087070296409,0.37347087070296409,0.37347087070296409,0.37347087070296409,0.37347087070296409,0.37347087070296409,0.37347087070296409,0.37347087070296409,0.37347087070296409,{"$f":"$X$26","v":0.37347087070296409},0.37347087070296409,0.37347087070296414,0.37347087070296414,0.37347087070296414,0.37352104693840271,0.3735791961552708,0.373940261707643,0.37450589859812566,0.37512167769911436,0.37559640588096926,0.37601634464678446,0.37632252026091956,0.37659030327085213,0.37681047486267016,0.37695149931959204,0.37710357401255529,0.37732265154542893,0.37757318366455545,0.37782736412016393,0.37807940684956753,0.37832826963011651,0.37854863089007107,0.37873713317208813,0.37893606733654456,0.37911954836823925,null,null,null,"DC.L.O.009",{"$f":"$BU$26","v":0.18809114040162581},0.18809114040162581,0.18809114040162581,0.18809114040162581,0.18809114040162581,0.18809114040162581,0.18809114040162581,0.18809114040162581,0.18809114040162581,0.18809114040162581,0.18809114040162581,0.18809114040162581,0.18809114040162581,0.18809114040162581,0.18809114040162581,0.18809114040162581,0.18809114040162581,0.18809114040162581,0.18809114040162581,0.18809114040162581,0.18809114040162581,0.18809114040162583,0.18809114040162583,0.18809114040162583,0.18986666760973797,0.1922392724902332,0.19373540355847116,0.19432018370379198,0.19445239185752924,0.19385214070083681,0.19325836552790074,0.19329885803642666,0.19428455867536137,0.19574669696717886,0.19722736056829301,0.19842828810621002,0.19915048285074463,0.19938201605638473,0.19935113164566293,0.19933228187400104,0.199620270961854,0.20028133052803565,0.2011633901635792,0.20210192460015272,0.20285117475942904]
[null,null,{"$f":"'Product Classes'!K15&\" - \"&OFFSET('Product Classes'!$F$10,MATCH('Product Classes'!K15,MODEL_PCS,0),0)","v":"PD.L - Passage Door, Low Temperature"},{"$f":"$X$27","v":0.1840609854406125},0.1840609854406125,0.1840609854406125,0.1840609854406125,0.1840609854406125,0.1840609854406125,0.1840609854406125,0.1840609854406125,0.1840609854406125,0.1840609854406125,0.1840609854406125,0.1840609854406125,0.1840609854406125,0.1840609854406125,0.1840609854406125,0.1840609854406125,0.1840609854406125,0.1840609854406125,0.1840609854406125,{"$f":"$X$27","v":0.1840609854406125},0.1840609854406125,0.18406098544061253,0.18406098544061256,0.18406098544061256,0.18404392328290908,0.18397463452783605,0.18403386412856834,0.18432922827552625,0.18475136767074304,0.18517423079716921,0.18548310683365152,0.18571184349917,0.18587425598186647,0.18596327791399664,0.18595599144105382,0.18595627698554054,0.18598729032643213,0.18605742655813537,0.18614494356501632,0.18625122231134836,0.1863607539409525,0.18646879797567978,0.18660125695034899,0.18672030695106662,0.18681221707677242,null,null,null,"DC.M.I.006",{"$f":"$BU$27","v":2.8521905698894241E-2},2.8521905698894241E-2,2.8521905698894241E-2,2.8521905698894241E-2,2.8521905698894241E-2,2.8521905698894241E-2,2.8521905698894241E-2,2.8521905698894241E-2,2.8521905698894241E-2,2.8521905698894241E-2,2.8521905698894241E-2,2.8521905698894241E-2,2.8521905698894241E-2,2.8521905698894241E-2,2.8521905698894241E-2,2.8521905698894241E-2,2.8521905698894241E-2,2.8521905698894241E-2,2.8521905698894241E-2,2.8521905698894241E-2,2.8521905698894241E-2,2.8521905698894245E-2,2.8521905698894245E-2,2.8521905698894241E-2,2.8730736745537659E-2,2.9198554911851589E-2,2.9643862909397765E-2,2.9939666905169495E-2,3.0041944090140042E-2,2.9951604872125344E-2,2.9796581419533549E-2,2.9727633194114627E-2,2.9831747095738971E-2,3.0053241926118659E-2,3.0330977999683529E-2,3.0620793283135699E-2,3.0836211329317957E-2,3.0931237484714602E-2,3.0928696790768498E-2,3.089426007544473E-2,3.0899940404804867E-2,3.0983236461530589E-2,3.114219597504762E-2,3.1340135414499128E-2,3.1527746011405393E-2]
[null,null,{"$f":"'Product Classes'!K16&\" - \"&OFFSET('Product Classes'!$F$10,MATCH('Product Classes'!K16,MODEL_PCS,0),0)","v":"FD.M - Freight Door, Medium Temperature"},{"$f":"$X$28","v":2.2164681371485119E-2},2.2164681371485119E-2,2.2164681371485119E-2,2.2164681371485119E-2,2.2164681371485119E-2,2.2164681371485119E-2,2.2164681371485119E-2,2.2164681371485119E-2,2.2164681371485119E-2,2.2164681371485119E-2,2.2164681371485119E-2,2.2164681371485119E-2,2.2164681371485119E-2,2.2164681371485119E-2,2.2164681371485119E-2,2.2164681371485119E-2,2.2164681371485119E-2,2.2164681371485119E-2,2.2164681371485119E-2,{"$f":"$X$28","v":2.2164681371485119E-2},2.2164681371485119E-2,2.2164681371485122E-2,2.2164681371485122E-2,2.2164681371485126E-2,2.2166851844952342E-2,2.2170584846992906E-2,2.2193470391946853E-2,2.2229224527646481E-2,2.2267368308160864E-2,2.2296284167290022E-2,2.2320858447806357E-2,2.2338671803212504E-2,2.2354433453546967E-2,2.2367586033787381E-2,2.2376073253992872E-2,2.2385330680860471E-2,2.2398468783234728E-2,2.2413400031764126E-2,2.2428396708507291E-2,2.2443197298605829E-2,2.2457781698513472E-2,2.2470814094916164E-2,2.248228494270366E-2,2.2494392578235274E-2,2.2505541846695898E-2,null,null,null,"DC.M.I.018",{"$f":"$BU$28","v":4.8353936248786509E-3},4.8353936248786509E-3,4.8353936248786509E-3,4.8353936248786509E-3,4.8353936248786509E-3,4.8353936248786509E-3,4.8353936248786509E-3,4.8353936248786509E-3,4.8353936248786509E-3,4.8353936248786509E-3,4.8353936248786509E-3,4.8353936248786509E-3,4.8353936248786509E-3,4.8353936248786509E-3,4.8353936248786509E-3,4.8353936248786509E-3,4.8353936248786509E-3,4.8353936248786509E-3,4.8353936248786509E-3,4.8353936248786509E-3,4.8353936248786509E-3,4.8353936248786518E-3,4.8353936248786518E-3,4.8353936248786518E-3,4.8707973009961209E-3,4.950107744094749E-3,5.0256019791284755E-3,5.0757504078649375E-3,5.0930897278037221E-3,5.0777742827743224E-3,5.0514927494755696E-3,5.0398037756336214E-3,5.057454478973363E-3,5.095005079626372E-3,5.1420904060309859E-3,5.1912235526303408E-3,5.22774394008937E-3,5.2438539739297916E-3,5.2434232434085092E-3,5.2375850965646264E-3,5.238548097728158E-3,5.2526694971157467E-3,5.2796183211666139E-3,5.3131755144950931E-3,5.3449816320041543E-3]
[null,null,{"$f":"'Product Classes'!K17&\" - \"&OFFSET('Product Classes'!$F$10,MATCH('Product Classes'!K17,MODEL_PCS,0),0)","v":"FD.L - Freight Door, Low Temperature"},{"$f":"$X$29","v":1.19726051411906E-2},1.19726051411906E-2,1.19726051411906E-2,1.19726051411906E-2,1.19726051411906E-2,1.19726051411906E-2,1.19726051411906E-2,1.19726051411906E-2,1.19726051411906E-2,1.19726051411906E-2,1.19726051411906E-2,1.19726051411906E-2,1.19726051411906E-2,1.19726051411906E-2,1.19726051411906E-2,1.19726051411906E-2,1.19726051411906E-2,1.19726051411906E-2,1.19726051411906E-2,{"$f":"$X$29","v":1.19726051411906E-2},1.19726051411906E-2,1.1972605141190598E-2,1.1972605141190598E-2,1.1972605141190598E-2,1.1971128129768947E-2,1.1966003643459044E-2,1.1969232639864354E-2,1.1988799408625139E-2,1.2017223247005457E-2,1.204606376293608E-2,1.2066791554012529E-2,1.2082145978153129E-2,1.2092897487121043E-2,1.2098568572397656E-2,1.2097598974453753E-2,1.2097148790111065E-2,1.2098671446203387E-2,1.2102887206630273E-2,1.2108319891038112E-2,1.2115096525403194E-2,1.2122113616553406E-2,1.2129132755972613E-2,1.2138042626865631E-2,1.2145959349041989E-2,1.2151976728143091E-2,null,null,null,"DC.M.O.006",{"$f":"$BU$29","v":0.20664538683908781},0.20664538683908781,0.20664538683908781,0.20664538683908781,0.20664538683908781,0.20664538683908781,0.20664538683908781,0.20664538683908781,0.20664538683908781,0.20664538683908781,0.20664538683908781,0.20664538683908781,0.20664538683908781,0.20664538683908781,0.20664538683908781,0.20664538683908781,0.20664538683908781,0.20664538683908781,0.20664538683908781,0.20664538683908781,0.20664538683908781,0.20664538683908784,0.20664538683908781,0.20664538683908781,0.20454549154541954,0.20122813537248552,0.19872978358933266,0.19745963197993149,0.19713695349027391,0.19796075355057641,0.19891442671904588,0.19907538301924496,0.19795790861237014,0.19610663608384579,0.19407485221357926,0.19225871882762843,0.19107047472655356,0.19064496310731294,0.19071173213897283,0.19084716914241379,0.1906007350906247,0.18982058812785843,0.18864998310934597,0.1873221938755891,0.18618373203555313]
[null,null,{"$f":"'Product Classes'!K18&\" - \"&OFFSET('Product Classes'!$F$10,MATCH('Product Classes'!K18,MODEL_PCS,0),0)","v":"DD.M - Display Door, Medium Temperature"},{"$f":"$X$30","v":0.37739903604382363},0.37739903604382363,0.37739903604382363,0.37739903604382363,0.37739903604382363,0.37739903604382363,0.37739903604382363,0.37739903604382363,0.37739903604382363,0.37739903604382363,0.37739903604382363,0.37739903604382363,0.37739903604382363,0.37739903604382363,0.37739903604382363,0.37739903604382363,0.37739903604382363,0.37739903604382363,0.37739903604382363,{"$f":"$X$30","v":0.37739903604382363},0.37739903604382363,0.37739903604382363,0.37739903604382369,0.37739903604382369,0.37727337144899414,0.37718133878271676,0.37668224745793355,0.37584685898077436,0.37489537988451155,0.37412136245106037,0.37345511949738047,0.37296029023781346,0.37252867580411131,0.37217889035837687,0.37197242233222494,0.371757640611937,0.3714544557995807,0.37110488437277828,0.37075061208478777,0.37039421443121756,0.37003911567526349,0.36971838034052279,0.36942533344975398,0.36911926237989007,0.36884118722999654,null,null,null,"DC.M.O.018",{"$f":"$BU$30","v":0.25447996712591364},0.25447996712591364,0.25447996712591364,0.25447996712591364,0.25447996712591364,0.25447996712591364,0.25447996712591364,0.25447996712591364,0.25447996712591364,0.25447996712591364,0.25447996712591364,0.25447996712591364,0.25447996712591364,0.25447996712591364,0.25447996712591364,0.25447996712591364,0.25447996712591364,0.25447996712591364,0.25447996712591364,0.25447996712591364,0.25447996712591364,0.2544799671259137,0.2544799671259137,0.2544799671259137,0.25189398495871118,0.24780872226426459,0.2447320483090856,0.24316788012343415,0.24277050753894844,0.24378500205765469,0.24495943290401023,0.24515764760703307,0.24378149856893727,0.24150169073288413,0.23899958652227815,0.23676305188957952,0.23529975128362615,0.23477574160437611,0.23485796643040213,0.23502475459204661,0.23472127562086184,0.23376053908338121,0.23231896068095384,0.23068381282827174,0.22928181815489412]
[null,null,{"$f":"'Product Classes'!K19&\" - \"&OFFSET('Product Classes'!$F$10,MATCH('Product Classes'!K19,MODEL_PCS,0),0)","v":"DD.L - Display Door, Low Temperature"},{"$f":"$X$31","v":3.0931821299923994E-2},3.0931821299923994E-2,3.0931821299923994E-2,3.0931821299923994E-2,3.0931821299923994E-2,3.0931821299923994E-2,3.0931821299923994E-2,3.0931821299923994E-2,3.0931821299923994E-2,3.0931821299923994E-2,3.0931821299923994E-2,3.0931821299923994E-2,3.0931821299923994E-2,3.0931821299923994E-2,3.0931821299923994E-2,3.0931821299923994E-2,3.0931821299923994E-2,3.0931821299923994E-2,3.0931821299923994E-2,{"$f":"$X$31","v":3.0931821299923994E-2},3.0931821299923994E-2,3.0931821299923997E-2,3.0931821299923997E-2,3.0931821299923997E-2,3.1023678354972811E-2,3.1128242043724559E-2,3.118092367404391E-2,3.109999020930208E-2,3.0946983190464773E-2,3.0765652940575046E-2,3.0657779020364605E-2,3.0584528220731381E-2,3.0559434002502127E-2,3.058120225877136E-2,3.0646414678682635E-2,3.070002891899563E-2,3.0738462099120172E-2,3.0748218166136539E-2,3.0740363630486552E-2,3.0716862583857491E-2,3.0691965438600716E-2,3.0664243942837673E-2,3.0615948858239563E-2,3.0584011405221451E-2,3.0569528750152761E-2,null,null,null,"MC.L.009",{"$f":"$BU$31","v":2.8236688912212145E-2},2.8236688912212145E-2,2.8236688912212145E-2,2.8236688912212145E-2,2.8236688912212145E-2,2.8236688912212145E-2,2.8236688912212145E-2,2.8236688912212145E-2,2.8236688912212145E-2,2.8236688912212145E-2,2.8236688912212145E-2,2.8236688912212145E-2,2.8236688912212145E-2,2.8236688912212145E-2,2.8236688912212145E-2,2.8236688912212145E-2,2.8236688912212145E-2,2.8236688912212145E-2,2.8236688912212145E-2,2.8236688912212145E-2,2.8236688912212145E-2,2.8236688912212152E-2,2.8236688912212152E-2,2.8236688912212149E-2,2.8635004000711159E-2,2.9214830869198856E-2,2.9615812236479983E-2,2.9775013067534706E-2,2.977191762822741E-2,2.9583614478770143E-2,2.9400093951897521E-2,2.936753487354626E-2,2.9560803981407792E-2,2.9891513210869886E-2,3.0259399478235877E-2,3.0573682058416062E-2,3.0761676672950718E-2,3.0807557439558455E-2,3.0769014751228074E-2,3.0724758110081525E-2,3.0755933282389882E-2,3.0887659859310544E-2,3.1089843837583026E-2,3.1323370688648405E-2,3.1522111756784127E-2]
[null,null,null,null,null,null,null,null,null,null,null,null,null,null,null,null,null,null,null,null,null,null,null,null,null,null,null,null,null,null,null,null,null,null,null,null,null,null,null,null,null,null,null,null,null,null,null,null,null,null,null,{"$f":"AZ20","v":"MC.M.009"},{"$f":"$BU$32","v":0.14578507503847038},0.14578507503847038,0.14578507503847038,0.14578507503847038,0.14578507503847038,0.14578507503847038,0.14578507503847038,0.14578507503847038,0.14578507503847038,0.14578507503847038,0.14578507503847038,0.14578507503847038,0.14578507503847038,0.14578507503847038,0.14578507503847038,0.14578507503847038,0.14578507503847038,0.14578507503847038,0.14578507503847038,0.14578507503847038,0.14578507503847038,0.14578507503847038,0.14578507503847038,0.14578507503847038,0.1466406310968747,0.14863536779661071,0.15057425682513786,0.15183969962323948,0.15221677070010181,0.15176986595247155,0.15109403075134364,0.15079406140996679,0.15121546726271451,0.15213068010903277,0.15329849435101889,0.15452252615786366,0.15542615903553456,0.15580480034765723,0.15576553352855657,0.1555984344759771,0.1556079153990266,0.1559398326491222,0.15657747389218243,0.15737956831241062,0.15814272873222343]
[null,null,"Source/Rationale","Calculated from DOE Walk-In Coolers and Freezers 2014 Final Rule, Technical Support Document: 2014-04 Final Rule Government Regulatory Impact Model (GRIM), 'Assumptions (INPUT)' tab, cells B1036:U1073, http://www.regulations.gov/#!documentDetail;D=EERE-2008-BT-STD-0015-0142. Note: Values are the same at the baseline and TSL 2 in the GRIM model."]
[null,null,null,"Note: Since no standards were set for panels in the 2014 rulemaking, they were not included in this analysis.",null,null,null,null,null,null,null,null,null,null,null,null,null,null,null,null,null,null,null,null,null,null,null,null,null,null,null,null,null,null,null,null,null,null,null,null,null,null,null,null,null,null,null,null,null,null,null,"Source/Rationale","Calculated from DOE Walk-In Coolers and Freezers 2014 Final Rule, Technical Support Document: 2014-04 Final Rule Government Regulatory Impact Model (GRIM), 'Assumptions (INPUT)' tab, cells B1036:U1073, http://www.regulations.gov/#!documentDetail;D=EERE-2008-BT-STD-0015-0142. Note: Values are the same at the baseline and TSL 2 in the GRIM model."]

{"sheet":"Efficiency Dist","index":8,"n_rows":320,"n_cols":105,"rows_kept":320,"cut":false,"hidden":false,"merged":[[1,2,1,6],[3,2,3,6],[5,2,5,6]]}
[]
[null,null,"Efficiency Distributions by Product Class"]
[]
[null,null,{"$f":"Navigation!$C$15","v":"NAVIGATION"}]
[]
[null,null,"COMMENTS"]
[]
[null,null,null,"COMPONENTS",null,null,null,null,null,null,null,null,null,null,null,null,null,null,null,null,null,null,null,null,null,null,null,null,null,null,null,null,null,null,null,null,null,null,null,null,null,null,null,null,null,null,null,null,null,null,null,null,null,null,null,null,"SYSTEMS"]
[null,null,null,{"$f":"'Product Classes'!K11&\" - \"&OFFSET('Product Classes'!$F$10,MATCH('Product Classes'!K11,MODEL_PCS,0),0)","v":"SP.M - Structural Panel, Medium Temperature"},null,null,null,null,null,null,null,null,null,null,null,null,null,null,null,null,null,null,null,null,null,null,null,null,null,null,null,null,null,null,null,null,null,null,null,null,null,null,null,null,null,null,null,null,null,null,null,null,null,null,null,null,{"$f":"'Product Class Dist'!AZ11","v":"DC.L.I.006"}]
[]
[null,null,null,"PRE-Case",null,"Static Distribution",null,null,null,null,null,null,null,null,null,null,null,null,null,null,null,null,null,null,null,null,null,null,null,null,null,null,null,null,null,null,null,null,null,null,null,null,null,null,null,null,null,null,null,null,null,null,null,null,null,null,"PRE-Case",null,"Static Distribution"]
[null,null,null,"Efficiency Level","EL (kWh/year)",2006,null,1990,{"$f":"H12+1","v":1991},{"$f":"I12+1","v":1992},1993,1994,1995,1996,1997,1998,1999,2000,2001,2002,2003,2004,2005,2006,2007,2008,2009,2010,2011,2012,2013,2014,2015,2016,2017,2018,2019,2020,2021,2022,2023,2024,2025,2026,2027,2028,2029,2030,2031,2032,2033,2034,null,null,null,null,"Efficiency Level","EL (kWh/year)",2014,null,1990,{"$f":"BI12+1","v":1991},{"$f":"BJ12+1","v":1992},{"$f":"BK12+1","v":1993},{"$f":"BL12+1","v":1994},{"$f":"BM12+1","v":1995},{"$f":"BN12+1","v":1996},{"$f":"BO12+1","v":1997},{"$f":"BP12+1","v":1998},{"$f":"BQ12+1","v":1999},{"$f":"BR12+1","v":2000},{"$f":"BS12+1","v":2001},{"$f":"BT12+1","v":2002},{"$f":"BU12+1","v":2003},{"$f":"BV12+1","v":2004},{"$f":"BW12+1","v":2005},{"$f":"BX12+1","v":2006},{"$f":"BY12+1","v":2007},{"$f":"BZ12+1","v":2008},{"$f":"CA12+1","v":2009},{"$f":"CB12+1","v":2010},{"$f":"CC12+1","v":2011},{"$f":"CD12+1","v":2012},{"$f":"CE12+1","v":2013},{"$f":"CF12+1","v":2014},{"$f":"CG12+1","v":2015},{"$f":"CH12+1","v":2016},{"$f":"CI12+1","v":2017},{"$f":"CJ12+1","v":2018},{"$f":"CK12+1","v":2019},{"$f":"CL12+1","v":2020},{"$f":"CM12+1","v":2021},{"$f":"CN12+1","v":2022},{"$f":"CO12+1","v":2023},{"$f":"CP12+1","v":2024},{"$f":"CQ12+1","v":2025},{"$f":"CR12+1","v":2026},{"$f":"CS12+1","v":2027},{"$f":"CT12+1","v":2028},{"$f":"CU12+1","v":2029},{"$f":"CV12+1","v":2030},{"$f":"CW12+1","v":2031},{"$f":"CX12+1","v":2032},{"$f":"CY12+1","v":2033},{"$f":"CZ12+1","v":2034}]
[null,null,null,{"$f":"'Efficiency Levels'!C14","v":"EL0"},{"$f":"'Efficiency Levels'!D14","v":1.8017218410798299},1,null,{"$f":"$F13","v":1},1,1,1,1,1,1,1,1,1,1,1,1,1,1,1,{"$f":"$F13","v":1},1,1,0,0,0,0,0,0,0,0,0,0,0,0,0,0,0,0,0,0,0,0,0,0,0,0,0,0,null,null,null,null,{"$f":"'Efficiency Levels'!J14","v":"EL0"},{"$f":"'Efficiency Levels'!K14","v":15952.3192173487},0,null,1,1,1,1,1,1,1,1,1,1,1,1,1,1,1,1,1,1,1,{"$f":"$BG13","v":0},0,0,0,0,0,0,0,0,0,0,0,0,0,0,0,{"$f":"$BG13","v":0},0,0,0,0,0,0,0,0,0]
[null,null,null,{"$f":"'Efficiency Levels'!C15","v":"EL1"},{"$f":"'Efficiency Levels'!D15","v":1.60782393805437},0,null,0,0,0,0,0,0,0,0,0,0,0,0,0,0,0,0,0,0,0,0,0,0,0,0,0,0,0,0,0,0,0,0,0,0,0,0,0,0,0,0,0,0,0,0,0,null,null,null,null,{"$f":"'Efficiency Levels'!J15","v":"EL1"},{"$f":"'Efficiency Levels'!K15","v":12280.33426},0,null,0,0,0,0,0,0,0,0,0,0,0,0,0,0,0,0,0,0,0,0,0,0,0,0,0,0,0,0,0,0,0,0,0,0,0,0,0,0,0,0,0,0,0,0,0]
[null,null,null,{"$f":"'Efficiency Levels'!C16","v":"EL2"},{"$f":"'Efficiency Levels'!D16","v":1.3247436745343499},0,null,0,{"$f":"$F15","v":0},0,0,0,0,0,0,0,0,0,0,0,0,0,0,0,0,0,1,1,1,1,1,1,1,1,1,1,1,1,1,1,1,1,1,1,1,1,1,1,1,1,1,1,null,null,null,null,{"$f":"'Efficiency Levels'!J16","v":"EL2"},{"$f":"'Efficiency Levels'!K16","v":10273.018079543825},0.75,null,0,0,0,0,0,0,0,0,0,0,0,0,0,0,0,0,0,0,0,{"$f":"$BG15","v":0.75},0.75,0.75,0.75,0.75,0.75,0.75,0.75,0.75,0.75,0.75,0.75,0.75,0.75,0.75,0.75,0.75,0.75,0.75,0.75,0.75,0.75,0.75,0.75,0.75,0.75]
[null,null,null,{"$f":"'Efficiency Levels'!C17","v":"EL3"},{"$f":"'Efficiency Levels'!D17","v":1.15915071521756},0,null,0,{"$f":"$F16","v":0},0,0,0,0,0,0,0,0,0,0,0,0,0,0,0,0,0,0,0,0,0,0,0,0,0,0,0,0,0,0,0,0,0,0,0,0,0,0,0,0,0,0,0,null,null,null,null,{"$f":"'Efficiency Levels'!J17","v":"EL3"},{"$f":"'Efficiency Levels'!K17","v":8809.3012323402709},0.25,null,0,0,0,0,0,0,0,0,0,0,0,0,0,0,0,0,0,0,0,0.25,0.25,0.25,0.25,0.25,0.25,0.25,0.25,0.25,0.25,0.25,0.25,0.25,0.25,0.25,0.25,0.25,0.25,0.25,0.25,0.25,0.25,0.25,0.25,0.25,0.25]
[null,null,null,{"$f":"'Efficiency Levels'!C18","v":"EL4"},{"$f":"'Efficiency Levels'!D18","v":0.92732057217403796},0,null,0,0,0,0,0,0,0,0,0,0,0,0,0,0,0,0,0,0,0,0,0,0,{"$f":"$F17","v":0},0,0,0,0,0,0,0,0,0,0,0,0,0,0,0,0,0,0,0,0,0,0,null,null,null,null,{"$f":"'Efficiency Levels'!J18","v":"EL4"},{"$f":"'Efficiency Levels'!K18","v":8344.6955096709589},0,null,0,0,0,0,0,0,0,0,0,0,0,0,0,0,0,0,0,0,0,0,0,0,0,0,0,0,0,0,0,0,0,0,0,0,0,0,0,0,0,0,0,0,0,0,0]
[null,null,null,{"$f":"'Efficiency Levels'!C19","v":"EL5"},{"$f":"'Efficiency Levels'!D19","v":0.77276714347837505},0,null,0,0,0,0,0,0,0,0,0,0,0,0,0,0,0,0,0,0,0,0,0,0,0,0,0,0,0,0,0,0,0,0,0,0,0,0,0,0,0,0,0,0,0,0,0,null,null,null,null,{"$f":"'Efficiency Levels'!J19","v":"EL5"},{"$f":"'Efficiency Levels'!K19","v":8041.1391434064226},0,null,0,0,0,0,0,0,0,0,0,0,0,0,0,0,0,0,0,0,0,0,0,0,0,0,0,0,0,0,0,0,0,0,0,0,0,0,0,0,0,0,0,0,0,0,0]
[null,null,null,{"$f":"'Efficiency Levels'!C20","v":"EL6"},{"$f":"'Efficiency Levels'!D20","v":0.41214247652179198},0,null,0,0,0,0,0,0,0,0,0,0,0,0,0,0,0,0,0,0,0,0,0,0,0,0,0,0,0,0,0,0,0,0,0,0,0,0,0,0,0,0,0,0,0,0,0,null,null,null,null,{"$f":"'Efficiency Levels'!J20","v":"EL6"},{"$f":"'Efficiency Levels'!K20","v":7648.8582881540506},0,null,0,0,0,0,0,0,0,0,0,0,0,0,0,0,0,0,0,0,0,0,0,0,0,0,0,0,0,0,0,0,0,0,0,0,0,0,0,0,0,0,0,0,0,0,0]
[null,null,null,"TOTAL",null,{"$f":"SUM(F13:F19)","v":1},null,{"$f":"SUM(H13:H19)","v":1},{"$f":"SUM(I13:I19)","v":1},1,1,1,1,1,1,1,1,1,1,1,1,1,1,1,1,1,1,1,1,1,1,1,1,1,1,1,1,1,1,1,1,1,1,1,1,1,1,1,1,1,1,1,null,null,null,null,{"$f":"'Efficiency Levels'!J21","v":"EL7"},{"$f":"'Efficiency Levels'!K21","v":7562.9333018800926},0,null,0,0,0,0,0,0,0,0,0,0,0,0,0,0,0,0,0,0,0,0,0,0,0,0,0,0,0,0,0,0,0,0,0,0,0,0,0,0,0,0,0,0,0,0,0]
[null,null,null,null,null,null,null,null,null,null,null,null,null,null,null,null,null,null,null,null,null,null,null,null,null,null,null,null,null,null,null,null,null,null,null,null,null,null,null,null,null,null,null,null,null,null,null,null,null,null,null,null,null,null,null,null,{"$f":"'Efficiency Levels'!J22","v":"EL8"},{"$f":"'Efficiency Levels'!K22","v":7064.4648152921718},0,null,0,0,0,0,0,0,0,0,0,0,0,0,0,0,0,0,0,0,0,{"$f":"$BG21","v":0},0,0,0,0,0,0,0,0,0,0,0,0,0,0,0,0,0,0,0,0,0,0,0,0,0]
[null,null,null,"POST-Case",null,null,null,null,null,null,null,null,null,null,null,null,null,null,null,null,null,null,null,null,null,null,null,null,null,null,null,null,null,null,null,null,null,null,null,null,null,null,null,null,null,null,null,null,null,null,null,null,null,null,null,null,"TOTAL",null,{"$f":"SUM(BG13:BG21)","v":1},null,{"$f":"SUM(BI13:BI21)","v":1},{"$f":"SUM(BJ13:BJ21)","v":1},1,1,1,1,1,1,1,1,1,1,1,1,1,1,1,1,1,1,1,1,1,1,1,1,1,1,1,1,1,1,1,1,1,1,1,1,1,1,1,1,1,1,1]
[null,null,null,"Efficiency Level","EL (kWh/year)",null,null,1990,{"$f":"H23+1","v":1991},{"$f":"I23+1","v":1992},1993,1994,1995,1996,1997,1998,1999,2000,2001,2002,2003,2004,2005,{"$f":"X12","v":2006},2007,2008,2009,2010,2011,2012,2013,2014,2015,2016,2017,2018,2019,2020,2021,2022,2023,2024,2025,2026,2027,2028,2029,2030,2031,2032,2033,2034]
[null,null,null,{"$f":"'Efficiency Levels'!C14","v":"EL0"},{"$f":"'Efficiency Levels'!D14","v":1.8017218410798299},null,null,{"$f":"H13","v":1},{"$f":"I13","v":1},1,1,1,1,1,1,1,1,1,1,1,1,1,1,1,1,1,0,0,0,0,0,0,0,0,0,0,0,0,0,0,0,0,0,0,0,0,0,0,0,0,0,0,null,null,null,null,"POST-Case"]
[null,null,null,{"$f":"'Efficiency Levels'!C15","v":"EL1"},{"$f":"'Efficiency Levels'!D15","v":1.60782393805437},null,null,0,{"$f":"I14","v":0},0,0,0,0,0,0,0,0,0,0,0,0,0,0,0,0,0,0,0,0,0,0,0,0,0,0,0,0,0,0,0,0,0,0,0,0,0,0,0,0,0,0,0,null,null,null,null,"Efficiency Level","EL (kWh/year)",null,null,1990,{"$f":"BI25+1","v":1991},{"$f":"BJ25+1","v":1992},{"$f":"BK25+1","v":1993},{"$f":"BL25+1","v":1994},{"$f":"BM25+1","v":1995},{"$f":"BN25+1","v":1996},{"$f":"BO25+1","v":1997},{"$f":"BP25+1","v":1998},{"$f":"BQ25+1","v":1999},{"$f":"BR25+1","v":2000},{"$f":"BS25+1","v":2001},{"$f":"BT25+1","v":2002},{"$f":"BU25+1","v":2003},{"$f":"BV25+1","v":2004},{"$f":"BW25+1","v":2005},{"$f":"BY12","v":2006},2007,2008,2009,2010,2011,2012,2013,2014,2015,2016,2017,2018,2019,2020,2021,2022,2023,2024,2025,2026,2027,2028,2029,2030,2031,2032,2033,2034]
[null,null,null,{"$f":"'Efficiency Levels'!C16","v":"EL2"},{"$f":"'Efficiency Levels'!D16","v":1.3247436745343499},null,null,{"$f":"H15","v":0},{"$f":"I15","v":0},0,0,0,0,0,0,0,0,0,0,0,0,0,0,0,0,0,{"$f":"SUM(AA13:AA15)","v":1},{"$f":"SUM(AB13:AB15)","v":1},1,1,1,1,1,{"$f":"SUM(AH13:AH15)","v":1},{"$f":"SUM(AI13:AI15)","v":1},{"$f":"SUM(AJ13:AJ15)","v":1},1,1,1,1,1,1,1,1,1,1,1,1,1,1,1,1,null,null,null,null,{"$f":"BE13","v":"EL0"},15952.3192173487,null,null,{"$f":"BI13","v":1},1,1,1,1,1,1,1,1,1,1,1,1,1,1,1,1,1,1,{"$f":"CB13","v":0},0,0,0,0,0,0,0,0,0,0,0,0,0,0,0,0,0,0,0,0,0,0,0,0,0]
[null,null,null,{"$f":"'Efficiency Levels'!C17","v":"EL3"},{"$f":"'Efficiency Levels'!D17","v":1.15915071521756},null,null,{"$f":"H16","v":0},{"$f":"I16","v":0},0,0,0,0,0,0,0,0,0,0,0,0,0,0,0,0,0,{"$f":"AA16","v":0},0,0,0,0,0,0,0,{"$f":"AI16","v":0},0,0,0,0,0,0,0,0,0,0,0,0,0,0,0,0,0,null,null,null,null,{"$f":"BE14","v":"EL1"},12280.33426,null,null,{"$f":"BI14","v":0},0,0,0,0,0,0,0,0,0,0,0,0,0,0,0,0,0,0,{"$f":"CB14","v":0},0,0,0,0,0,0,0,0,0,0,0,0,0,0,0,0,0,0,0,0,0,0,0,0,0]
[null,null,null,{"$f":"'Efficiency Levels'!C18","v":"EL4"},{"$f":"'Efficiency Levels'!D18","v":0.92732057217403796},null,null,{"$f":"H17","v":0},{"$f":"I17","v":0},0,0,0,0,0,0,0,0,0,0,0,0,0,0,0,0,0,0,0,0,0,0,0,0,0,{"$f":"AI17","v":0},0,0,0,0,0,0,0,0,0,0,0,0,0,0,0,0,0,null,null,null,null,{"$f":"BE15","v":"EL2"},10273.018079543825,null,null,{"$f":"BI15","v":0},0,0,0,0,0,0,0,0,0,0,0,0,0,0,0,0,0,0,0.75,0.75,0.75,0.75,0.75,0.75,0.75,0.75,0,0,0,0,0,0,0,0,0,0,0,0,0,0,0,0,0,0]
[null,null,null,{"$f":"'Efficiency Levels'!C19","v":"EL5"},{"$f":"'Efficiency Levels'!D19","v":0.77276714347837505},null,null,{"$f":"H18","v":0},{"$f":"I18","v":0},0,0,0,0,0,0,0,0,0,0,0,0,0,0,0,0,0,0,0,0,0,0,0,0,0,{"$f":"AI18","v":0},0,0,0,0,0,0,0,0,0,0,0,0,0,0,0,0,0,null,null,null,null,"EL3",8809.3012323402709,null,null,{"$f":"BI16","v":0},0,0,0,0,0,0,0,0,0,0,0,0,0,0,0,0,0,0,0.25,0.25,0.25,0.25,0.25,0.25,0.25,0.25,0,0,0,0,0,0,0,0,0,0,0,0,0,0,0,0,0,0]
[null,null,null,{"$f":"'Efficiency Levels'!C20","v":"EL6"},{"$f":"'Efficiency Levels'!D20","v":0.41214247652179198},null,null,{"$f":"H19","v":0},{"$f":"I19","v":0},0,0,0,0,0,0,0,0,0,0,0,0,0,0,0,0,0,0,0,0,0,0,0,0,0,{"$f":"AI19","v":0},0,0,0,0,0,0,0,0,0,0,0,0,0,0,0,0,0,null,null,null,null,"EL4",8344.6955096709589,null,null,{"$f":"BI17","v":0},0,0,0,0,0,0,0,0,0,0,0,0,0,0,0,0,0,0,0,0,0,0,0,0,0,0,0,0,0,0,0,0,0,0,0,0,0,0,0,0,0,0,0,0]
[null,null,null,"TOTAL",null,null,null,{"$f":"SUM(H24:H30)","v":1},{"$f":"SUM(I24:I30)","v":1},1,1,1,1,1,1,1,1,1,1,1,1,1,1,1,1,1,{"$f":"SUM(AA24:AA30)","v":1},{"$f":"SUM(AB24:AB30)","v":1},1,1,1,1,1,1,1,{"$f":"SUM(AJ24:AJ30)","v":1},{"$f":"SUM(AK24:AK30)","v":1},{"$f":"SUM(AL24:AL30)","v":1},{"$f":"SUM(AM24:AM30)","v":1},{"$f":"SUM(AN24:AN30)","v":1},{"$f":"SUM(AO24:AO30)","v":1},{"$f":"SUM(AP24:AP30)","v":1},1,{"$f":"SUM(AR24:AR30)","v":1},{"$f":"SUM(AS24:AS30)","v":1},{"$f":"SUM(AT24:AT30)","v":1},{"$f":"SUM(AU24:AU30)","v":1},{"$f":"SUM(AV24:AV30)","v":1},{"$f":"SUM(AW24:AW30)","v":1},{"$f":"SUM(AX24:AX30)","v":1},1,{"$f":"SUM(AZ24:AZ30)","v":1},null,null,null,null,"EL5",8041.1391434064226,null,null,{"$f":"BI18","v":0},0,0,0,0,0,0,0,0,0,0,0,0,0,0,0,0,0,0,0,0,0,0,0,0,0,0,0,0,0,0,0,0,0,0,0,0,0,0,0,0,0,0,0,0]
[null,null,null,null,null,null,null,null,null,null,null,null,null,null,null,null,null,null,null,null,null,null,null,null,null,null,null,null,null,null,null,null,null,null,null,null,null,null,null,null,null,null,null,null,null,null,null,null,null,null,null,null,null,null,null,null,"EL6",7648.8582881540506,null,null,{"$f":"BI19","v":0},0,0,0,0,0,0,0,0,0,0,0,0,0,0,0,0,0,0,0,0,0,0,0,0,0,0,0,0,0,0,0,0,0,0,0,0,0,0,0,0,0,0,0,0]
[null,null,null,"Sources","1. DOE Walk-In Coolers and Freezers 2014 Final Rule, Technical Support Document: Final Rule National Impact Analysis (NIA) - Components, 'Market Share Inputs' tab, cells B3:M35, http://www.regulations.gov/#!documentDetail;D=EERE-2008-BT-STD-0015-0134",null,null,null,null,null,null,null,null,null,null,null,null,null,null,null,null,null,null,null,null,null,null,null,null,null,null,null,null,null,null,null,null,null,null,null,null,null,null,null,null,null,null,null,null,null,null,null,null,null,null,null,"EL7",7562.9333018800926,null,null,{"$f":"BI20","v":0},0,0,0,0,0,0,0,0,0,0,0,0,0,0,0,0,0,0,0,0,0,0,0,0,0,0,0,0,0,0,0,0,0,0,0,0,0,0,0,0,0,0,0,0]
[null,null,null,null,null,null,null,null,null,null,null,null,null,null,null,null,null,null,null,null,null,null,null,null,null,null,null,null,null,null,null,null,null,null,null,null,null,null,null,null,null,null,null,null,null,null,null,null,null,null,null,null,null,null,null,null,"EL8",7064.4648152921718,null,null,{"$f":"BI21","v":0},0,0,0,0,0,0,0,0,0,0,0,0,0,0,0,0,0,0,0,0,0,0,0,0,0,0,{"$f":"SUM(CJ15:CJ21)","v":1},1,1,1,1,1,1,1,1,1,1,1,1,1,1,1,1,1]
[null,null,null,null,null,null,null,null,null,null,null,null,null,null,null,null,null,null,null,null,null,null,null,null,null,null,null,null,null,null,null,null,null,null,null,null,null,null,null,null,null,null,null,null,null,null,null,null,null,null,null,null,null,null,null,null,"TOTAL",null,null,null,{"$f":"SUM(BI26:BI34)","v":1},{"$f":"SUM(BJ26:BJ34)","v":1},1,1,1,1,1,1,1,1,1,1,1,1,1,1,1,1,1,1,1,1,1,1,1,1,1,1,1,1,1,1,1,1,1,1,1,1,1,1,1,1,1,1,1]
[]
[null,null,null,null,null,null,null,null,null,null,null,null,null,null,null,null,null,null,null,null,null,null,null,null,null,null,null,null,null,null,null,null,null,null,null,null,null,null,null,null,null,null,null,null,null,null,null,null,null,null,null,null,null,null,null,null,"Sources","1. DOE Walk-In Coolers and Freezers 2014 Final Rule, Technical Support Document: Final Rule National Impact Analysis (NIA) - Systems, 'Market Share Inputs' tab, cells B3:M35, http://www.regulations.gov/#!documentDetail;D=EERE-2008-BT-STD-0015-0134"]
[null,null,null,{"$f":"'Product Classes'!K12&\" - \"&OFFSET('Product Classes'!$F$10,MATCH('Product Classes'!K12,MODEL_PCS,0),0)","v":"SP.L - Structural Panel, Low Temperature"}]
[]
[null,null,null,"PRE-Case",null,"Static Distribution"]
[null,null,null,"Efficiency Level","EL (kWh/year)",2006,null,1990,{"$f":"H41+1","v":1991},1992,1993,1994,1995,1996,1997,1998,1999,2000,2001,2002,2003,2004,2005,2006,2007,2008,2009,2010,2011,2012,2013,2014,2015,2016,2017,2018,2019,2020,2021,2022,2023,2024,2025,2026,2027,2028,2029,2030,2031,2032,2033,2034]
[null,null,null,{"$f":"'Efficiency Levels'!C33","v":"EL0"},{"$f":"'Efficiency Levels'!D33","v":6.9074611106941299},1,null,{"$f":"$F42","v":1},1,1,1,1,1,1,1,1,1,1,1,1,1,1,1,{"$f":"$F42","v":1},1,1,0,0,0,0,0,0,0,0,0,0,0,0,0,0,0,0,0,0,0,0,0,0,0,0,0,0,null,null,null,null,{"$f":"'Product Class Dist'!AZ12","v":"DC.L.I.009"}]
[null,null,null,{"$f":"'Efficiency Levels'!C34","v":"EL1"},{"$f":"'Efficiency Levels'!D34","v":6.1587046294091499},0,null,0,0,0,0,0,0,0,0,0,0,0,0,0,0,0,0,0,0,0,0,0,0,0,0,0,0,0,0,0,0,0,0,0,0,0,0,0,0,0,0,0,0,0,0,0]
[null,null,null,{"$f":"'Efficiency Levels'!C35","v":"EL2"},{"$f":"'Efficiency Levels'!D35","v":5.5934147658797428},0,null,0,0,0,0,0,0,0,0,0,0,0,0,0,0,0,0,0,0,0,1,1,1,1,1,1,1,1,1,1,1,1,1,1,1,1,1,1,1,1,1,1,1,1,1,1,null,null,null,null,"PRE-Case",null,"Static Distribution"]
[null,null,null,{"$f":"'Efficiency Levels'!C36","v":"EL3"},{"$f":"'Efficiency Levels'!D36","v":4.4747318127035731},0,null,0,0,0,0,0,0,0,0,0,0,0,0,0,0,0,0,0,0,0,0,0,0,0,0,0,0,0,0,0,0,0,0,0,0,0,0,0,0,0,0,0,0,0,0,0,null,null,null,null,"Efficiency Level","EL (kWh/year)",2014,null,1990,{"$f":"BI45+1","v":1991},{"$f":"BJ45+1","v":1992},{"$f":"BK45+1","v":1993},{"$f":"BL45+1","v":1994},{"$f":"BM45+1","v":1995},{"$f":"BN45+1","v":1996},{"$f":"BO45+1","v":1997},{"$f":"BP45+1","v":1998},{"$f":"BQ45+1","v":1999},{"$f":"BR45+1","v":2000},{"$f":"BS45+1","v":2001},{"$f":"BT45+1","v":2002},{"$f":"BU45+1","v":2003},{"$f":"BV45+1","v":2004},{"$f":"BW45+1","v":2005},{"$f":"BX45+1","v":2006},{"$f":"BY45+1","v":2007},{"$f":"BZ45+1","v":2008},{"$f":"CA45+1","v":2009},{"$f":"CB45+1","v":2010},{"$f":"CC45+1","v":2011},{"$f":"CD45+1","v":2012},{"$f":"CE45+1","v":2013},{"$f":"CF45+1","v":2014},{"$f":"CG45+1","v":2015},{"$f":"CH45+1","v":2016},{"$f":"CI45+1","v":2017},{"$f":"CJ45+1","v":2018},{"$f":"CK45+1","v":2019},{"$f":"CL45+1","v":2020},{"$f":"CM45+1","v":2021},{"$f":"CN45+1","v":2022},{"$f":"CO45+1","v":2023},{"$f":"CP45+1","v":2024},{"$f":"CQ45+1","v":2025},{"$f":"CR45+1","v":2026},{"$f":"CS45+1","v":2027},{"$f":"CT45+1","v":2028},{"$f":"CU45+1","v":2029},{"$f":"CV45+1","v":2030},{"$f":"CW45+1","v":2031},{"$f":"CX45+1","v":2032},{"$f":"CY45+1","v":2033},{"$f":"CZ45+1","v":2034}]
[null,null,null,{"$f":"'Efficiency Levels'!C37","v":"EL4"},{"$f":"'Efficiency Levels'!D37","v":3.7289431772531758},0,null,0,0,0,0,0,0,0,0,0,0,0,0,0,0,0,0,0,0,0,0,0,0,0,0,0,0,0,0,0,0,0,0,0,0,0,0,0,0,0,0,0,0,0,0,0,null,null,null,null,{"$f":"'Efficiency Levels'!J33","v":"EL0"},{"$f":"'Efficiency Levels'!K33","v":20094.239816492802},0,null,1,1,1,1,1,1,1,1,1,1,1,1,1,1,1,1,1,1,1,{"$f":"$BG46","v":0},0,0,0,0,{"$f":"$BG46","v":0},0,0,0,0,0,0,0,0,0,0,0,0,0,0,0,0,0,0,0,0]
[null,null,null,{"$f":"'Efficiency Levels'!C38","v":"EL5"},{"$f":"'Efficiency Levels'!D38","v":1.9887696945350712},0,null,0,0,0,0,0,0,0,0,0,0,0,0,0,0,0,0,0,0,0,0,0,0,0,0,0,0,0,0,0,0,0,0,0,0,0,0,0,0,0,0,0,0,0,0,0,null,null,null,null,{"$f":"'Efficiency Levels'!J34","v":"EL1"},{"$f":"'Efficiency Levels'!K34","v":16422.181446291499},0,null,0,0,0,0,0,0,0,0,0,0,0,0,0,0,0,0,0,0,0,0,0,0,0,0,0,0,0,0,0,0,0,0,0,0,0,0,0,0,0,0,0,0,0,0,0]
[null,null,null,{"$f":"'Efficiency Levels'!C39","v":"EL6"},{"$f":"'Efficiency Levels'!D39","v":1.9887696945350712},0,null,0,0,0,0,0,0,0,{"$f":"$F48","v":0},0,0,0,0,0,0,0,0,0,0,0,0,0,0,0,0,0,0,0,0,0,0,0,0,0,0,0,0,0,0,0,0,0,0,0,0,0,null,null,null,null,{"$f":"'Efficiency Levels'!J35","v":"EL2"},{"$f":"'Efficiency Levels'!K35","v":14690.001597391414},0.75,null,0,0,0,0,0,0,0,0,0,0,0,0,0,0,0,0,0,0,0,0.75,0.75,0.75,0.75,0.75,0.75,0.75,0.75,0.75,0.75,0.75,0.75,0.75,0.75,0.75,0.75,0.75,0.75,0.75,0.75,0.75,0.75,0.75,0.75,0.75,0.75]
[null,null,null,"TOTAL",null,{"$f":"SUM(F42:F48)","v":1},null,{"$f":"SUM(H42:H48)","v":1},{"$f":"SUM(I42:I48)","v":1},1,1,1,1,1,1,1,1,1,1,1,1,1,1,1,1,1,1,1,1,1,1,1,1,1,1,1,1,1,1,1,1,1,1,1,1,1,1,1,1,1,1,1,null,null,null,null,{"$f":"'Efficiency Levels'!J36","v":"EL3"},{"$f":"'Efficiency Levels'!K36","v":13937.940334327146},0.25,null,0,0,0,0,0,0,0,0,0,0,0,0,0,0,0,0,0,0,0,0.25,0.25,0.25,0.25,0.25,0.25,0.25,0.25,0.25,0.25,0.25,0.25,0.25,0.25,0.25,0.25,0.25,0.25,0.25,0.25,0.25,0.25,0.25,0.25,0.25,0.25]
[null,null,null,null,null,null,null,null,null,null,null,null,null,null,null,null,null,null,null,null,null,null,null,null,null,null,null,null,null,null,null,null,null,null,null,null,null,null,null,null,null,null,null,null,null,null,null,null,null,null,null,null,null,null,null,null,{"$f":"'Efficiency Levels'!J37","v":"EL4"},{"$f":"'Efficiency Levels'!K37","v":13481.883761194316},0,null,0,0,0,0,0,0,0,0,0,0,0,0,0,0,0,0,0,0,0,0,0,0,0,0,0,0,0,0,0,0,0,0,0,0,0,0,0,0,0,0,0,0,0,0,0]
[null,null,null,"POST-Case",null,null,null,null,null,null,null,null,null,null,null,null,null,null,null,null,null,null,null,null,null,null,null,null,null,null,null,null,null,null,null,null,null,null,null,null,null,null,null,null,null,null,null,null,null,null,null,null,null,null,null,null,{"$f":"'Efficiency Levels'!J38","v":"EL5"},{"$f":"'Efficiency Levels'!K38","v":11815.045318509072},0,null,0,0,0,0,0,0,0,0,0,0,0,0,0,0,0,0,0,0,0,0,0,0,0,0,0,0,0,0,0,0,0,0,0,0,0,0,0,0,0,0,0,0,0,0,0]
[null,null,null,"Efficiency Level","EL (kWh/year)",null,null,1990,{"$f":"H52+1","v":1991},1992,1993,1994,1995,1996,1997,1998,1999,2000,2001,2002,2003,2004,2005,{"$f":"X41","v":2006},2007,2008,2009,2010,2011,2012,2013,2014,2015,2016,2017,2018,2019,2020,2021,2022,2023,2024,2025,2026,2027,2028,2029,2030,2031,2032,2033,2034,null,null,null,null,{"$f":"'Efficiency Levels'!J39","v":"EL6"},{"$f":"'Efficiency Levels'!K39","v":11500.354845162687},0,null,0,0,0,0,0,0,0,0,0,0,0,0,0,0,0,0,0,0,0,0,0,0,0,0,0,0,0,0,0,0,0,0,0,0,0,0,0,0,0,0,0,0,0,0,0]
[null,null,null,{"$f":"'Efficiency Levels'!C33","v":"EL0"},{"$f":"'Efficiency Levels'!D33","v":6.9074611106941299},null,null,{"$f":"H42","v":1},1,1,1,1,1,1,1,1,1,1,1,1,1,1,1,{"$f":"X42","v":1},1,1,0,0,0,0,0,0,0,0,0,0,0,0,0,0,0,0,0,0,0,0,0,0,0,0,0,0,null,null,null,null,{"$f":"'Efficiency Levels'!J40","v":"EL7"},{"$f":"'Efficiency Levels'!K40","v":11078.185160244479},0,null,0,0,0,0,0,0,0,0,0,0,0,0,0,0,0,0,0,0,0,0,0,0,0,0,0,0,0,0,0,0,0,0,0,0,0,0,0,0,0,0,0,0,0,0,0]
[null,null,null,{"$f":"'Efficiency Levels'!C34","v":"EL1"},{"$f":"'Efficiency Levels'!D34","v":6.1587046294091499},null,null,0,0,0,0,0,0,0,0,0,0,0,0,0,0,0,0,0,0,0,0,0,0,0,0,0,0,0,0,0,0,0,0,0,0,0,0,0,0,0,0,0,0,0,0,0,null,null,null,null,"TOTAL",null,{"$f":"SUM(BG46:BG53)","v":1},null,{"$f":"SUM(BI46:BI53)","v":1},{"$f":"SUM(BJ46:BJ53)","v":1},1,1,1,1,1,1,1,1,1,1,1,1,1,1,1,1,1,1,1,1,1,1,1,1,1,1,1,1,1,1,1,1,1,1,1,1,1,1,1,1,1,1,1]
[null,null,null,{"$f":"'Efficiency Levels'!C35","v":"EL2"},{"$f":"'Efficiency Levels'!D35","v":5.5934147658797428},null,null,{"$f":"H44","v":0},0,0,0,0,0,0,0,0,0,0,0,0,0,0,0,0,0,0,{"$f":"SUM(AA42:AA44)","v":1},{"$f":"SUM(AB42:AB44)","v":1},1,1,1,1,1,1,{"$f":"SUM(AI42:AI44)","v":1},{"$f":"SUM(AJ42:AJ44)","v":1},1,1,1,1,1,1,1,1,1,1,1,1,1,1,1,1]
[null,null,null,{"$f":"'Efficiency Levels'!C36","v":"EL3"},{"$f":"'Efficiency Levels'!D36","v":4.4747318127035731},null,null,{"$f":"H45","v":0},0,0,0,0,0,0,0,0,0,0,0,0,0,0,0,0,0,0,0,0,0,0,0,0,0,0,{"$f":"AI45","v":0},0,0,0,0,0,0,0,0,0,0,0,0,0,0,0,0,0,null,null,null,null,"POST-Case"]
[null,null,null,{"$f":"'Efficiency Levels'!C37","v":"EL4"},{"$f":"'Efficiency Levels'!D37","v":3.7289431772531758},null,null,{"$f":"H46","v":0},0,0,0,0,0,0,0,0,0,0,0,0,0,0,0,0,0,0,0,0,0,0,0,0,0,0,{"$f":"AI46","v":0},0,0,0,0,0,0,0,0,0,0,0,0,0,0,0,0,0,null,null,null,null,"Efficiency Level","EL (kWh/year)",null,null,1990,{"$f":"BI57+1","v":1991},{"$f":"BJ57+1","v":1992},{"$f":"BK57+1","v":1993},{"$f":"BL57+1","v":1994},{"$f":"BM57+1","v":1995},{"$f":"BN57+1","v":1996},{"$f":"BO57+1","v":1997},{"$f":"BP57+1","v":1998},{"$f":"BQ57+1","v":1999},{"$f":"BR57+1","v":2000},{"$f":"BS57+1","v":2001},{"$f":"BT57+1","v":2002},{"$f":"BU57+1","v":2003},{"$f":"BV57+1","v":2004},{"$f":"BW57+1","v":2005},{"$f":"BY45","v":2006},2007,2008,2009,2010,2011,2012,2013,2014,2015,2016,2017,2018,2019,2020,2021,2022,2023,2024,2025,2026,2027,2028,2029,2030,2031,2032,2033,2034]
[null,null,null,{"$f":"'Efficiency Levels'!C38","v":"EL5"},{"$f":"'Efficiency Levels'!D38","v":1.9887696945350712},null,null,{"$f":"H47","v":0},0,0,0,0,0,0,0,0,0,0,0,0,0,0,0,0,0,0,0,0,0,0,0,0,0,0,{"$f":"AI47","v":0},0,0,0,0,0,0,0,0,0,0,0,0,0,0,0,0,0,null,null,null,null,{"$f":"BE46","v":"EL0"},20094.239816492802,null,null,{"$f":"BI46","v":1},1,1,1,1,1,1,1,1,1,1,1,1,1,1,1,1,1,1,0,0,0,0,0,0,0,0,0,0,0,0,0,0,0,0,0,0,0,0,0,0,0,0,0,0]
[null,null,null,{"$f":"'Efficiency Levels'!C39","v":"EL6"},{"$f":"'Efficiency Levels'!D39","v":1.9887696945350712},null,null,{"$f":"H48","v":0},0,0,0,0,0,0,0,0,0,0,0,0,0,0,0,0,0,0,0,0,0,0,0,0,0,0,{"$f":"AI48","v":0},0,0,0,0,0,0,0,0,0,0,0,0,0,0,0,0,0,null,null,null,null,{"$f":"BE47","v":"EL1"},16422.181446291499,null,null,{"$f":"BI47","v":0},0,0,0,0,0,0,0,0,0,0,0,0,0,0,0,0,0,0,0,0,0,0,0,0,0,0,0,0,0,0,0,0,0,0,0,0,0,0,0,0,0,0,0,0]
[null,null,null,"TOTAL",null,null,null,{"$f":"SUM(H53:H59)","v":1},{"$f":"SUM(I53:I59)","v":1},1,1,1,1,1,1,1,1,1,1,1,1,1,1,1,1,1,1,1,1,1,1,1,1,1,1,1,1,1,1,1,1,1,1,1,1,1,1,1,1,1,1,{"$f":"SUM(AZ53:AZ59)","v":1},null,null,null,null,{"$f":"BE48","v":"EL2"},14690.001597391414,null,null,{"$f":"BI48","v":0},0,0,0,0,0,0,0,0,0,0,0,0,0,0,0,0,0,0,0.75,0.75,0.75,0.75,0.75,0.75,0.75,0.75,0,0,0,0,0,0,0,0,0,0,0,0,0,0,0,0,0,0]
[null,null,null,null,null,null,null,null,null,null,null,null,null,null,null,null,null,null,null,null,null,null,null,null,null,null,null,null,null,null,null,null,null,null,null,null,null,null,null,null,null,null,null,null,null,null,null,null,null,null,null,null,null,null,null,null,"EL3",13937.940334327146,null,null,{"$f":"BI49","v":0},0,0,0,0,0,0,0,0,0,0,0,0,0,0,0,0,0,0,0.25,0.25,0.25,0.25,0.25,0.25,0.25,0.25,0,0,0,0,0,0,0,0,0,0,0,0,0,0,0,0,0,0]
[null,null,null,"Sources","1. DOE Walk-In Coolers and Freezers 2014 Final Rule, Technical Support Document: Final Rule National Impact Analysis (NIA) - Components, 'Market Share Inputs' tab, cells B3:M35, http://www.regulations.gov/#!documentDetail;D=EERE-2008-BT-STD-0015-0134",null,null,null,null,null,null,null,null,null,null,null,null,null,null,null,null,null,null,null,null,null,null,null,null,null,null,null,null,null,null,null,null,null,null,null,null,null,null,null,null,null,null,null,null,null,null,null,null,null,null,null,"EL4",13481.883761194316,null,null,{"$f":"BI50","v":0},0,0,0,0,0,0,0,0,0,0,0,0,0,0,0,0,0,0,0,0,0,0,0,0,0,0,0,0,0,0,0,0,0,0,0,0,0,0,0,0,0,0,0,0]
[null,null,null,null,null,null,null,null,null,null,null,null,null,null,null,null,null,null,null,null,null,null,null,null,null,null,null,null,null,null,null,null,null,null,null,null,null,null,null,null,null,null,null,null,null,null,null,null,null,null,null,null,null,null,null,null,"EL5",11815.045318509072,null,null,{"$f":"BI51","v":0},0,0,0,0,0,0,0,0,0,0,0,0,0,0,0,0,0,0,0,0,0,0,0,0,0,0,0,0,0,0,0,0,0,0,0,0,0,0,0,0,0,0,0,0]
[null,null,null,null,null,null,null,null,null,null,null,null,null,null,null,null,null,null,null,null,null,null,null,null,null,null,null,null,null,null,null,null,null,null,null,null,null,null,null,null,null,null,null,null,null,null,null,null,null,null,null,null,null,null,null,null,"EL6",11500.354845162687,null,null,{"$f":"BI52","v":0},0,0,0,0,0,0,0,0,0,0,0,0,0,0,0,0,0,0,0,0,0,0,0,0,0,0,0,0,0,0,0,0,0,0,0,0,0,0,0,0,0,0,0,0]
[null,null,null,null,null,null,null,null,null,null,null,null,null,null,null,null,null,null,null,null,null,null,null,null,null,null,null,null,null,null,null,null,null,null,null,null,null,null,null,null,null,null,null,null,null,null,null,null,null,null,null,null,null,null,null,null,"EL7",11078.185160244479,null,null,{"$f":"BI53","v":0},0,0,0,0,0,0,0,0,0,0,0,0,0,0,0,0,0,0,0,0,0,0,0,0,0,0,{"$f":"SUM(CJ48:CJ53)","v":1},1,1,1,1,1,1,1,1,1,1,1,1,1,1,1,1,1]
[null,null,null,null,null,null,null,null,null,null,null,null,null,null,null,null,null,null,null,null,null,null,null,null,null,null,null,null,null,null,null,null,null,null,null,null,null,null,null,null,null,null,null,null,null,null,null,null,null,null,null,null,null,null,null,null,"TOTAL",null,null,null,{"$f":"SUM(BI58:BI65)","v":1},{"$f":"SUM(BJ58:BJ65)","v":1},1,1,1,1,1,1,1,1,1,1,1,1,1,1,1,1,1,1,1,1,1,1,1,1,1,1,1,1,1,1,1,1,1,1,1,1,1,1,1,1,1,1,1]
[null,null,null,{"$f":"'Product Classes'!K13&\" - \"&OFFSET('Product Classes'!$F$10,MATCH('Product Classes'!K13,MODEL_PCS,0),0)","v":"FP.L - Floor Panel, Low Temperature"}]
[null,null,null,null,null,null,null,null,null,null,null,null,null,null,null,null,null,null,null,null,null,null,null,null,null,null,null,null,null,null,null,null,null,null,null,null,null,null,null,null,null,null,null,null,null,null,null,null,null,null,null,null,null,null,null,null,"Sources","1. DOE Walk-In Coolers and Freezers 2014 Final Rule, Technical Support Document: Final Rule National Impact Analysis (NIA) - Systems, 'Market Share Inputs' tab, cells B3:M35, http://www.regulations.gov/#!documentDetail;D=EERE-2008-BT-STD-0015-0134"]
[null,null,null,"PRE-Case",null,"Static Distribution"]
[null,null,null,"Efficiency Level","EL (kWh/year)",2006,null,1990,{"$f":"H70+1","v":1991},1992,1993,1994,1995,1996,1997,1998,1999,2000,2001,2002,2003,2004,2005,2006,2007,2008,2009,2010,2011,2012,2013,2014,2015,2016,2017,2018,2019,2020,2021,2022,2023,2024,2025,2026,2027,2028,2029,2030,2031,2032,2033,2034]
[null,null,null,{"$f":"'Efficiency Levels'!C51","v":"EL0"},{"$f":"'Efficiency Levels'!D51","v":5.5262234155235497},1,null,{"$f":"$F71","v":1},1,1,1,1,1,1,1,1,1,1,1,1,1,1,1,{"$f":"$F71","v":1},1,1,0,0,0,0,0,0,0,0,0,0,0,0,0,0,0,0,0,0,0,0,0,0,0,0,0,0]
[null,null,null,{"$f":"'Efficiency Levels'!C52","v":"EL1"},{"$f":"'Efficiency Levels'!D52","v":4.9072599631074496},0,null,0,0,0,0,0,0,0,0,0,0,0,0,0,0,0,0,0,0,0,0,0,0,0,0,0,0,0,0,0,0,0,0,0,0,0,0,0,0,0,0,0,0,0,0,0]
[null,null,null,{"$f":"'Efficiency Levels'!C53","v":"EL2"},{"$f":"'Efficiency Levels'!D53","v":4.8883624844662039},0,null,0,{"$f":"$F73","v":0},0,0,0,0,0,0,0,0,0,0,0,0,0,0,0,0,0,1,1,1,1,1,1,1,1,1,1,1,1,1,1,1,1,1,1,1,1,1,1,1,1,1,1,null,null,null,null,{"$f":"'Product Class Dist'!AZ13","v":"DC.L.O.006"}]
[null,null,null,{"$f":"'Efficiency Levels'!C54","v":"EL3"},{"$f":"'Efficiency Levels'!D54","v":4.2773171739080285},0,null,0,{"$f":"$F74","v":0},0,0,0,0,0,0,0,0,0,0,0,0,0,0,0,0,0,0,0,0,{"$f":"$F74","v":0},0,0,0,0,0,0,0,0,0,0,0,0,0,0,0,0,0,0,0,0,0,0]
[null,null,null,{"$f":"'Efficiency Levels'!C55","v":"EL4"},{"$f":"'Efficiency Levels'!D55","v":3.4218537391263673},0,null,0,0,0,0,0,0,0,0,0,0,0,0,0,0,0,0,0,0,0,0,0,0,0,0,0,0,0,0,0,0,0,0,0,0,0,0,0,0,0,0,0,0,0,0,0,null,null,null,null,"PRE-Case",null,"Static Distribution"]
[null,null,null,{"$f":"'Efficiency Levels'!C56","v":"EL5"},{"$f":"'Efficiency Levels'!D56","v":2.8515447826052975},0,null,0,0,0,0,0,0,0,0,0,0,0,0,0,0,0,0,0,0,0,0,0,0,0,0,0,0,0,0,0,0,0,0,0,0,0,0,0,0,0,0,0,0,0,0,0,null,null,null,null,"Efficiency Level","EL (kWh/year)",2014,null,1990,{"$f":"BI76+1","v":1991},{"$f":"BJ76+1","v":1992},{"$f":"BK76+1","v":1993},{"$f":"BL76+1","v":1994},{"$f":"BM76+1","v":1995},{"$f":"BN76+1","v":1996},{"$f":"BO76+1","v":1997},{"$f":"BP76+1","v":1998},{"$f":"BQ76+1","v":1999},{"$f":"BR76+1","v":2000},{"$f":"BS76+1","v":2001},{"$f":"BT76+1","v":2002},{"$f":"BU76+1","v":2003},{"$f":"BV76+1","v":2004},{"$f":"BW76+1","v":2005},{"$f":"BX76+1","v":2006},{"$f":"BY76+1","v":2007},{"$f":"BZ76+1","v":2008},{"$f":"CA76+1","v":2009},{"$f":"CB76+1","v":2010},{"$f":"CC76+1","v":2011},{"$f":"CD76+1","v":2012},{"$f":"CE76+1","v":2013},{"$f":"CF76+1","v":2014},{"$f":"CG76+1","v":2015},{"$f":"CH76+1","v":2016},{"$f":"CI76+1","v":2017},{"$f":"CJ76+1","v":2018},{"$f":"CK76+1","v":2019},{"$f":"CL76+1","v":2020},{"$f":"CM76+1","v":2021},{"$f":"CN76+1","v":2022},{"$f":"CO76+1","v":2023},{"$f":"CP76+1","v":2024},{"$f":"CQ76+1","v":2025},{"$f":"CR76+1","v":2026},{"$f":"CS76+1","v":2027},{"$f":"CT76+1","v":2028},{"$f":"CU76+1","v":2029},{"$f":"CV76+1","v":2030},{"$f":"CW76+1","v":2031},{"$f":"CX76+1","v":2032},{"$f":"CY76+1","v":2033},{"$f":"CZ76+1","v":2034}]
[null,null,null,{"$f":"'Efficiency Levels'!C57","v":"EL6"},{"$f":"'Efficiency Levels'!D57","v":1.5208238840562245},0,null,0,0,0,0,0,0,0,0,0,0,0,0,0,0,0,0,0,0,0,0,0,0,0,0,0,0,0,0,0,0,0,0,0,0,0,0,0,0,0,0,0,0,0,0,0,null,null,null,null,{"$f":"'Efficiency Levels'!J51","v":"EL0"},{"$f":"'Efficiency Levels'!K51","v":13403.338585777399},0,null,1,1,1,1,1,1,1,1,1,1,1,1,1,1,1,1,1,1,1,{"$f":"$BG77","v":0},0,0,0,0,{"$f":"$BG77","v":0},0,0,0,0,0,0,0,0,0,0,0,0,0,0,0,0,0,0,0,{"$f":"$BG77","v":0}]
[null,null,null,"TOTAL",null,{"$f":"SUM(F71:F77)","v":1},null,{"$f":"SUM(H71:H77)","v":1},{"$f":"SUM(I71:I77)","v":1},1,1,1,1,1,1,1,1,1,1,1,1,1,1,1,1,1,1,1,1,1,1,1,1,1,1,1,1,1,1,1,1,1,1,1,1,1,1,1,1,1,1,1,null,null,null,null,{"$f":"'Efficiency Levels'!J52","v":"EL1"},{"$f":"'Efficiency Levels'!K52","v":10457.466266036699},0,null,0,0,0,0,0,0,0,0,0,0,0,0,0,0,0,0,0,0,0,0,0,0,0,0,0,0,0,0,0,0,0,0,0,0,0,0,0,0,0,0,0,0,0,0,0]
[null,null,null,null,null,null,null,null,null,null,null,null,null,null,null,null,null,null,null,null,null,null,null,null,null,null,null,null,null,null,null,null,null,null,null,null,null,null,null,null,null,null,null,null,null,null,null,null,null,null,null,null,null,null,null,null,{"$f":"'Efficiency Levels'!J53","v":"EL2"},{"$f":"'Efficiency Levels'!K53","v":7804.5000339605676},0.75,null,0,0,0,0,0,0,0,0,0,0,0,0,0,0,0,0,0,0,0,0.75,0.75,0.75,0.75,0.75,0.75,0.75,0.75,0.75,0.75,0.75,0.75,0.75,0.75,0.75,0.75,0.75,0.75,0.75,0.75,0.75,0.75,0.75,0.75,0.75,0.75]
[null,null,null,"POST-Case",null,null,null,null,null,null,null,null,null,null,null,null,null,null,null,null,null,null,null,null,null,null,null,null,null,null,null,null,null,null,null,null,null,null,null,null,null,null,null,null,null,null,null,null,null,null,null,null,null,null,null,null,{"$f":"'Efficiency Levels'!J54","v":"EL3"},{"$f":"'Efficiency Levels'!K54","v":6264.4192328489844},0.25,null,0,0,0,0,0,0,0,0,0,0,0,0,0,0,0,0,0,0,0,0.25,0.25,0.25,0.25,0.25,0.25,0.25,0.25,0.25,0.25,0.25,0.25,0.25,0.25,0.25,0.25,0.25,0.25,0.25,0.25,0.25,0.25,0.25,0.25,0.25,0.25]
[null,null,null,"Efficiency Level","EL (kWh/year)",null,null,1990,{"$f":"H81+1","v":1991},1992,1993,1994,1995,1996,1997,1998,1999,2000,2001,2002,2003,2004,2005,{"$f":"X70","v":2006},2007,2008,2009,2010,2011,2012,2013,2014,2015,2016,2017,2018,2019,2020,2021,2022,2023,2024,2025,2026,2027,2028,2029,2030,2031,2032,2033,2034,null,null,null,null,{"$f":"'Efficiency Levels'!J55","v":"EL4"},{"$f":"'Efficiency Levels'!K55","v":5563.7474187691823},0,null,0,0,0,0,0,0,0,0,0,0,0,0,0,0,0,0,0,0,0,0,0,0,0,0,0,0,0,0,0,0,0,0,0,0,0,0,0,0,0,0,0,0,0,0,0]
[null,null,null,{"$f":"'Efficiency Levels'!C51","v":"EL0"},{"$f":"'Efficiency Levels'!D51","v":5.5262234155235497},null,null,{"$f":"H71","v":1},1,1,1,1,1,1,1,1,1,1,1,1,1,1,1,1,1,1,0,0,0,0,0,0,0,0,0,0,0,0,0,0,0,0,0,0,0,0,0,0,0,0,0,0,null,null,null,null,{"$f":"'Efficiency Levels'!J56","v":"EL5"},{"$f":"'Efficiency Levels'!K56","v":5411.8455069210331},0,null,0,0,0,0,0,0,0,0,0,0,0,0,0,0,0,0,0,0,0,0,0,0,0,0,0,0,0,0,0,0,0,0,0,0,0,0,0,0,0,0,0,0,0,0,0]
[null,null,null,{"$f":"'Efficiency Levels'!C52","v":"EL1"},{"$f":"'Efficiency Levels'!D52","v":4.9072599631074496},null,null,{"$f":"H72","v":0},0,0,0,0,0,0,0,0,0,0,0,0,0,0,0,0,0,0,0,0,0,0,0,0,0,0,0,0,0,0,0,0,0,0,0,0,0,0,0,0,0,0,0,0,null,null,null,null,{"$f":"'Efficiency Levels'!J57","v":"EL6"},{"$f":"'Efficiency Levels'!K57","v":5199.5704507769342},0,null,0,0,0,0,0,0,0,0,0,0,0,0,0,0,0,0,0,0,0,0,0,0,0,0,0,0,0,0,0,0,0,0,0,0,0,0,0,0,0,0,0,0,0,0,0]
[null,null,null,{"$f":"'Efficiency Levels'!C53","v":"EL2"},{"$f":"'Efficiency Levels'!D53","v":4.8883624844662039},null,null,{"$f":"H73","v":0},0,0,0,0,0,0,0,0,0,0,0,0,0,0,0,0,0,0,{"$f":"SUM(AA71:AA73)","v":1},{"$f":"SUM(AB71:AB73)","v":1},{"$f":"SUM(AC71:AC73)","v":1},1,1,1,1,1,1,1,1,1,1,1,1,1,1,1,1,1,1,1,1,1,1,1,null,null,null,null,{"$f":"'Efficiency Levels'!J58","v":"EL7"},{"$f":"'Efficiency Levels'!K58","v":4898.1956289453965},0,null,0,0,0,0,0,0,0,0,0,0,0,0,0,0,0,0,0,0,0,0,0,0,0,0,0,0,0,0,0,0,0,0,0,0,0,0,0,0,0,0,0,0,0,0,0]
[null,null,null,{"$f":"'Efficiency Levels'!C54","v":"EL3"},{"$f":"'Efficiency Levels'!D54","v":4.2773171739080285},null,null,{"$f":"H74","v":0},0,0,0,0,0,0,0,0,0,0,0,0,0,0,0,0,0,0,0,0,0,0,0,0,0,0,0,0,0,0,0,0,0,0,0,0,0,0,0,0,0,0,0,0,null,null,null,null,"TOTAL",null,{"$f":"SUM(BG77:BG84)","v":1},null,{"$f":"SUM(BI77:BI84)","v":1},{"$f":"SUM(BJ77:BJ84)","v":1},1,1,1,1,1,1,1,1,1,1,1,1,1,1,1,1,1,1,1,1,1,1,1,1,1,1,1,1,1,1,1,1,1,1,1,1,1,1,1,1,1,1,1]
[null,null,null,{"$f":"'Efficiency Levels'!C55","v":"EL4"},{"$f":"'Efficiency Levels'!D55","v":3.4218537391263673},null,null,{"$f":"H75","v":0},0,0,0,0,0,0,0,0,0,0,0,0,0,0,0,0,0,0,0,0,0,0,0,0,0,0,0,0,0,0,0,0,0,0,0,0,0,0,0,0,0,0,0,0]
[null,null,null,{"$f":"'Efficiency Levels'!C56","v":"EL5"},{"$f":"'Efficiency Levels'!D56","v":2.8515447826052975},null,null,{"$f":"H76","v":0},0,0,0,0,0,0,0,0,0,0,0,0,0,0,0,0,0,0,0,0,0,0,0,0,0,0,0,0,0,0,0,0,0,0,0,0,0,0,0,0,0,0,0,0,null,null,null,null,"POST-Case"]
[null,null,null,{"$f":"'Efficiency Levels'!C57","v":"EL6"},{"$f":"'Efficiency Levels'!D57","v":1.5208238840562245},null,null,{"$f":"H77","v":0},0,0,0,0,0,0,0,0,0,0,0,0,0,0,0,0,0,0,0,0,0,0,0,0,0,0,0,0,0,0,0,0,0,0,0,0,0,0,0,0,0,0,0,0,null,null,null,null,"Efficiency Level","EL (kWh/year)",null,null,1990,{"$f":"BI88+1","v":1991},{"$f":"BJ88+1","v":1992},{"$f":"BK88+1","v":1993},{"$f":"BL88+1","v":1994},{"$f":"BM88+1","v":1995},{"$f":"BN88+1","v":1996},{"$f":"BO88+1","v":1997},{"$f":"BP88+1","v":1998},{"$f":"BQ88+1","v":1999},{"$f":"BR88+1","v":2000},{"$f":"BS88+1","v":2001},{"$f":"BT88+1","v":2002},{"$f":"BU88+1","v":2003},{"$f":"BV88+1","v":2004},{"$f":"BW88+1","v":2005},{"$f":"BY76","v":2006},2007,2008,2009,2010,2011,2012,2013,2014,2015,2016,2017,2018,2019,2020,2021,2022,2023,2024,2025,2026,2027,2028,2029,2030,2031,2032,2033,2034]
[null,null,null,"TOTAL",null,null,null,{"$f":"SUM(H82:H88)","v":1},{"$f":"SUM(I82:I88)","v":1},1,1,1,1,1,1,1,1,1,1,1,1,1,1,1,1,1,1,1,1,1,1,1,1,1,1,1,1,1,1,1,1,1,1,1,1,1,1,1,1,1,1,1,null,null,null,null,{"$f":"BE77","v":"EL0"},13403.338585777399,null,null,{"$f":"BI77","v":1},1,1,1,1,1,1,1,1,1,1,1,1,1,1,1,1,1,1,0,0,0,0,0,0,0,0,0,0,0,0,0,0,0,0,0,0,0,0,0,0,0,0,0,0]
[null,null,null,null,null,null,null,null,null,null,null,null,null,null,null,null,null,null,null,null,null,null,null,null,null,null,null,null,null,null,null,null,null,null,null,null,null,null,null,null,null,null,null,null,null,null,null,null,null,null,null,null,null,null,null,null,{"$f":"BE78","v":"EL1"},10457.466266036699,null,null,{"$f":"BI78","v":0},0,0,0,0,0,0,0,0,0,0,0,0,0,0,0,0,0,0,0,0,0,0,0,0,0,0,0,0,0,0,0,0,0,0,0,0,0,0,0,0,0,0,0,0]
[null,null,null,"Sources","1. DOE Walk-In Coolers and Freezers 2014 Final Rule, Technical Support Document: Final Rule National Impact Analysis (NIA) - Components, 'Market Share Inputs' tab, cells B3:M35, http://www.regulations.gov/#!documentDetail;D=EERE-2008-BT-STD-0015-0134",null,null,null,null,null,null,null,null,null,null,null,null,null,null,null,null,null,null,null,null,null,null,null,null,null,null,null,null,null,null,null,null,null,null,null,null,null,null,null,null,null,null,null,null,null,null,null,null,null,null,null,{"$f":"BE79","v":"EL2"},7804.5000339605676,null,null,{"$f":"BI79","v":0},0,0,0,0,0,0,0,0,0,0,0,0,0,0,0,0,0,0,0.75,0.75,0.75,0.75,0.75,0.75,0.75,0.75,0,0,0,0,0,0,0,0,0,0,0,0,0,0,0,0,0,0]
[null,null,null,null,null,null,null,null,null,null,null,null,null,null,null,null,null,null,null,null,null,null,null,null,null,null,null,null,null,null,null,null,null,null,null,null,null,null,null,null,null,null,null,null,null,null,null,null,null,null,null,null,null,null,null,null,"EL3",6264.4192328489844,null,null,{"$f":"BI80","v":0},0,0,0,0,0,0,0,0,0,0,0,0,0,0,0,0,0,0,0.25,0.25,0.25,0.25,0.25,0.25,0.25,0.25,0,0,0,0,0,0,0,0,0,0,0,0,0,0,0,0,0,0]
[null,null,null,null,null,null,null,null,null,null,null,null,null,null,null,null,null,null,null,null,null,null,null,null,null,null,null,null,null,null,null,null,null,null,null,null,null,null,null,null,null,null,null,null,null,null,null,null,null,null,null,null,null,null,null,null,"EL4",5563.7474187691823,null,null,{"$f":"BI81","v":0},0,0,0,0,0,0,0,0,0,0,0,0,0,0,0,0,0,0,0,0,0,0,0,0,0,0,0,0,0,0,0,0,0,0,0,0,0,0,0,0,0,0,0,0]
[null,null,null,null,null,null,null,null,null,null,null,null,null,null,null,null,null,null,null,null,null,null,null,null,null,null,null,null,null,null,null,null,null,null,null,null,null,null,null,null,null,null,null,null,null,null,null,null,null,null,null,null,null,null,null,null,"EL5",5411.8455069210331,null,null,{"$f":"BI82","v":0},0,0,0,0,0,0,0,0,0,0,0,0,0,0,0,0,0,0,0,0,0,0,0,0,0,0,0,0,0,0,0,0,0,0,0,0,0,0,0,0,0,0,0,0]
[null,null,null,null,null,null,null,null,null,null,null,null,null,null,null,null,null,null,null,null,null,null,null,null,null,null,null,null,null,null,null,null,null,null,null,null,null,null,null,null,null,null,null,null,null,null,null,null,null,null,null,null,null,null,null,null,"EL6",5199.5704507769342,null,null,{"$f":"BI83","v":0},0,0,0,0,0,0,0,0,0,0,0,0,0,0,0,0,0,0,0,0,0,0,0,0,0,0,0,0,0,0,0,0,0,0,0,0,0,0,0,0,0,0,0,0]
[null,null,null,{"$f":"'Product Classes'!K14&\" - \"&OFFSET('Product Classes'!$F$10,MATCH('Product Classes'!K14,MODEL_PCS,0),0)","v":"PD.M - Passage Door, Medium Temperature"},null,null,null,null,null,null,null,null,null,null,null,null,null,null,null,null,null,null,null,null,null,null,null,null,null,null,null,null,null,null,null,null,null,null,null,null,null,null,null,null,null,null,null,null,null,null,null,null,null,null,null,null,"EL7",4898.1956289453965,null,null,{"$f":"BI84","v":0},0,0,0,0,0,0,0,0,0,0,0,0,0,0,0,0,0,0,0,0,0,0,0,0,0,0,{"$f":"SUM(CJ79:CJ84)","v":1},1,1,1,1,1,1,1,1,1,1,1,1,1,1,1,1,1]
[null,null,null,null,null,null,null,null,null,null,null,null,null,null,null,null,null,null,null,null,null,null,null,null,null,null,null,null,null,null,null,null,null,null,null,null,null,null,null,null,null,null,null,null,null,null,null,null,null,null,null,null,null,null,null,null,"TOTAL",null,null,null,{"$f":"SUM(BI89:BI96)","v":1},{"$f":"SUM(BJ89:BJ96)","v":1},1,1,1,1,1,1,1,1,1,1,1,1,1,1,1,1,1,1,1,1,1,1,1,1,1,1,1,1,1,1,1,1,1,1,1,1,1,1,1,1,1,1,1]
[null,null,null,"PRE-Case",null,"Static Distribution"]
[null,null,null,"Efficiency Level","EL (kWh/year)",2006,null,1990,{"$f":"H99+1","v":1991},1992,1993,1994,1995,1996,1997,1998,1999,2000,2001,2002,2003,2004,2005,2006,2007,2008,2009,2010,2011,2012,2013,2014,2015,2016,2017,2018,2019,2020,2021,2022,2023,2024,2025,2026,2027,2028,2029,2030,2031,2032,2033,2034,null,null,null,null,"Sources","1. DOE Walk-In Coolers and Freezers 2014 Final Rule, Technical Support Document: Final Rule National Impact Analysis (NIA) - Systems, 'Market Share Inputs' tab, cells B3:M35, http://www.regulations.gov/#!documentDetail;D=EERE-2008-BT-STD-0015-0134"]
[null,null,null,{"$f":"'Efficiency Levels'!C69","v":"EL0*"},{"$f":"'Efficiency Levels'!D69","v":181.26152289108296},1,null,{"$f":"$F100","v":1},1,1,1,1,1,1,1,1,1,1,1,1,1,1,1,{"$f":"$F100","v":1},1,1,0,0,0,0,0,0,0,0,0,0,0,0,0,0,0,0,0,0,0,0,0,0,0,0,0,0]
[null,null,null,{"$f":"'Efficiency Levels'!C70","v":"EL1*"},{"$f":"'Efficiency Levels'!D70","v":188.26337597381084},0,null,0,0,0,0,0,0,0,0,0,0,0,0,0,0,0,0,0,0,0,0,0,0,0,0,0,0,0,0,0,0,0,0,0,0,0,0,0,0,0,0,0,0,0,0,0]
[null,null,null,{"$f":"'Efficiency Levels'!C71","v":"EL2"},{"$f":"'Efficiency Levels'!D71","v":1317.0370819714344},0,null,0,0,0,0,0,0,0,0,0,0,0,0,0,0,0,0,{"$f":"$F102","v":0},0,0,1,1,1,1,1,1,1,1,1,1,1,1,1,1,1,1,1,1,1,1,1,1,1,1,1,1]
[null,null,null,{"$f":"'Efficiency Levels'!C72","v":"EL3"},{"$f":"'Efficiency Levels'!D72","v":1305.3865204668714},0,null,0,0,0,0,0,0,0,0,0,0,0,0,0,0,0,0,0,0,0,0,0,0,0,0,0,0,0,0,0,0,0,0,0,0,0,0,0,0,0,0,0,0,0,0,0]
[null,null,null,{"$f":"'Efficiency Levels'!C73","v":"EL4"},{"$f":"'Efficiency Levels'!D73","v":1270.9123444041893},0,null,0,0,0,0,0,0,0,0,0,0,0,0,0,0,0,0,0,0,0,0,0,0,0,0,0,0,0,0,0,0,0,0,0,0,0,0,0,0,0,0,0,0,0,0,0,null,null,null,null,{"$f":"'Product Class Dist'!AZ14","v":"DC.L.O.009"}]
[null,null,null,{"$f":"'Efficiency Levels'!C74","v":"EL5"},{"$f":"'Efficiency Levels'!D74","v":1264.2829773881908},0,null,0,0,0,0,0,0,0,0,0,0,0,0,0,0,0,0,0,0,0,0,0,0,0,0,0,0,0,0,0,0,0,0,0,0,0,0,0,0,0,0,0,0,0,0,0]
[null,null,null,{"$f":"'Efficiency Levels'!C75","v":"EL6"},{"$f":"'Efficiency Levels'!D75","v":1250.9022150986243},0,null,0,0,0,0,0,0,0,0,0,0,0,0,0,0,0,0,0,0,0,0,0,0,0,0,0,0,0,0,0,0,0,0,0,0,0,0,0,0,0,0,0,0,0,0,0,null,null,null,null,"PRE-Case",null,"Static Distribution"]
[null,null,null,{"$f":"'Efficiency Levels'!C76","v":"EL7"},{"$f":"'Efficiency Levels'!D76","v":1241.3363514033222},0,null,0,0,0,0,0,0,0,0,0,0,0,0,0,0,0,0,0,0,0,0,0,0,0,0,0,0,0,0,0,0,0,0,0,0,0,0,0,0,0,0,0,0,0,0,0,null,null,null,null,"Efficiency Level","EL (kWh/year)",2014,null,1990,{"$f":"BI107+1","v":1991},{"$f":"BJ107+1","v":1992},{"$f":"BK107+1","v":1993},{"$f":"BL107+1","v":1994},{"$f":"BM107+1","v":1995},{"$f":"BN107+1","v":1996},{"$f":"BO107+1","v":1997},{"$f":"BP107+1","v":1998},{"$f":"BQ107+1","v":1999},{"$f":"BR107+1","v":2000},{"$f":"BS107+1","v":2001},{"$f":"BT107+1","v":2002},{"$f":"BU107+1","v":2003},{"$f":"BV107+1","v":2004},{"$f":"BW107+1","v":2005},{"$f":"BX107+1","v":2006},{"$f":"BY107+1","v":2007},{"$f":"BZ107+1","v":2008},{"$f":"CA107+1","v":2009},{"$f":"CB107+1","v":2010},{"$f":"CC107+1","v":2011},{"$f":"CD107+1","v":2012},{"$f":"CE107+1","v":2013},{"$f":"CF107+1","v":2014},{"$f":"CG107+1","v":2015},{"$f":"CH107+1","v":2016},{"$f":"CI107+1","v":2017},{"$f":"CJ107+1","v":2018},{"$f":"CK107+1","v":2019},{"$f":"CL107+1","v":2020},{"$f":"CM107+1","v":2021},{"$f":"CN107+1","v":2022},{"$f":"CO107+1","v":2023},{"$f":"CP107+1","v":2024},{"$f":"CQ107+1","v":2025},{"$f":"CR107+1","v":2026},{"$f":"CS107+1","v":2027},{"$f":"CT107+1","v":2028},{"$f":"CU107+1","v":2029},{"$f":"CV107+1","v":2030},{"$f":"CW107+1","v":2031},{"$f":"CX107+1","v":2032},{"$f":"CY107+1","v":2033},{"$f":"CZ107+1","v":2034}]
[null,null,null,{"$f":"'Efficiency Levels'!C77","v":"EL8"},{"$f":"'Efficiency Levels'!D77","v":1234.961569747772},0,null,0,0,0,0,0,0,0,{"$f":"$F108","v":0},0,0,0,0,0,0,0,0,0,0,0,0,0,0,0,0,0,0,0,0,0,0,0,0,0,0,0,0,0,0,0,0,0,0,0,0,0,null,null,null,null,{"$f":"'Efficiency Levels'!J69","v":"EL0"},{"$f":"'Efficiency Levels'!K69","v":16967.807542487601},0,null,1,1,1,1,1,1,1,1,1,1,1,1,1,1,1,1,1,1,1,{"$f":"$BG108","v":0},0,0,0,0,0,0,0,0,0,0,0,0,0,0,0,{"$f":"$BG108","v":0},0,0,0,0,0,0,0,0,0]
[null,null,null,{"$f":"'Efficiency Levels'!C78","v":"EL9"},{"$f":"'Efficiency Levels'!D78","v":1224.8553627321762},0,null,0,0,0,0,0,0,0,0,0,0,0,0,0,0,0,0,0,0,0,0,0,0,0,0,0,0,0,0,0,0,0,0,0,0,0,0,0,0,0,0,0,0,0,0,0,null,null,null,null,{"$f":"'Efficiency Levels'!J70","v":"EL1"},{"$f":"'Efficiency Levels'!K70","v":13920.6311216555},0,null,0,0,0,0,0,0,0,0,0,0,0,0,0,0,0,0,0,0,0,0,0,0,0,0,0,0,0,0,0,0,0,0,0,0,0,0,0,0,0,0,0,0,0,0,0]
[null,null,null,{"$f":"'Efficiency Levels'!C79","v":"EL10"},{"$f":"'Efficiency Levels'!D79","v":1206.8622633235746},0,null,0,0,0,0,0,0,0,0,0,0,0,0,0,0,0,0,0,0,0,0,0,0,0,0,0,0,0,0,0,0,0,0,0,0,0,0,0,0,0,0,0,0,0,0,0,null,null,null,null,{"$f":"'Efficiency Levels'!J71","v":"EL2"},{"$f":"'Efficiency Levels'!K71","v":11146.089869654876},0.75,null,0,0,0,0,0,0,0,0,0,0,0,0,0,0,0,0,0,0,0,{"$f":"$BG110","v":0.75},0.75,0.75,0.75,0.75,0.75,0.75,0.75,0.75,0.75,0.75,0.75,0.75,0.75,0.75,0.75,0.75,0.75,0.75,0.75,0.75,0.75,0.75,0.75,0.75,0.75]
[null,null,null,{"$f":"'Efficiency Levels'!C80","v":"EL11"},{"$f":"'Efficiency Levels'!D80","v":1192.7236470912158},0,null,0,0,0,0,0,0,0,0,0,0,0,0,0,0,0,0,0,0,0,0,0,0,0,0,0,0,0,0,0,0,0,0,0,0,0,0,0,0,0,0,0,0,0,0,0,null,null,null,null,{"$f":"'Efficiency Levels'!J72","v":"EL3"},{"$f":"'Efficiency Levels'!K72","v":9418.8701097652647},0.25,null,0,0,0,0,0,0,0,0,0,0,0,0,0,0,0,0,0,0,0,0.25,0.25,0.25,0.25,0.25,0.25,0.25,0.25,0.25,0.25,0.25,0.25,0.25,0.25,0.25,0.25,0.25,0.25,0.25,0.25,0.25,0.25,0.25,0.25,0.25,0.25]
[null,null,null,"TOTAL",null,{"$f":"SUM(F100:F111)","v":1},null,{"$f":"SUM(H100:H111)","v":1},{"$f":"SUM(I100:I111)","v":1},1,1,1,1,1,1,1,1,1,1,1,1,1,1,1,1,1,1,1,1,1,1,1,1,1,1,1,1,1,1,1,1,1,1,1,1,1,1,1,1,1,1,1,null,null,null,null,{"$f":"'Efficiency Levels'!J73","v":"EL4"},{"$f":"'Efficiency Levels'!K73","v":9042.1263745266406},0,null,0,0,0,0,0,0,0,0,0,0,0,0,0,0,0,0,0,0,0,0,0,0,0,0,0,0,0,0,0,0,0,0,0,0,0,0,0,0,0,0,0,0,0,0,0]
[null,null,null,null,null,null,null,null,null,null,null,null,null,null,null,null,null,null,null,null,null,null,null,null,null,null,null,null,null,null,null,null,null,null,null,null,null,null,null,null,null,null,null,null,null,null,null,null,null,null,null,null,null,null,null,null,{"$f":"'Efficiency Levels'!J74","v":"EL5"},{"$f":"'Efficiency Levels'!K74","v":8506.7995911730668},0,null,0,0,0,0,0,0,0,0,0,0,0,0,0,0,0,0,0,0,0,0,0,0,0,0,0,0,0,0,0,0,0,0,0,0,0,0,0,0,0,0,0,0,0,0,0]
[null,null,null,"POST-Case",null,null,null,null,null,null,null,null,null,null,null,null,null,null,null,null,null,null,null,null,null,null,null,null,null,null,null,null,null,null,null,null,null,null,null,null,null,null,null,null,null,null,null,null,null,null,null,null,null,null,null,null,{"$f":"'Efficiency Levels'!J75","v":"EL6"},{"$f":"'Efficiency Levels'!K75","v":8019.0189141700539},0,null,0,0,0,0,0,0,0,0,0,0,0,0,0,0,0,0,0,0,0,0,0,0,0,0,0,0,0,0,0,0,0,0,0,0,0,0,0,0,0,0,0,0,0,0,0]
[null,null,null,"Efficiency Level","EL (kWh/year)",null,null,1990,{"$f":"H115+1","v":1991},1992,1993,1994,1995,1996,1997,1998,1999,2000,2001,2002,2003,2004,2005,{"$f":"X99","v":2006},2007,2008,2009,2010,2011,2012,2013,2014,2015,2016,2017,2018,2019,2020,2021,2022,2023,2024,2025,2026,2027,2028,2029,2030,2031,2032,2033,2034,null,null,null,null,{"$f":"'Efficiency Levels'!J76","v":"EL7"},{"$f":"'Efficiency Levels'!K76","v":7672.8304578090329},0,null,0,0,0,0,0,0,0,0,0,0,0,0,0,0,0,0,0,0,0,0,0,0,0,0,0,0,0,0,0,0,0,0,0,0,0,0,0,0,0,0,0,0,0,0,0]
[null,null,null,{"$f":"'Efficiency Levels'!C69","v":"EL0*"},{"$f":"'Efficiency Levels'!D69","v":181.26152289108296},null,null,{"$f":"H100","v":1},1,1,1,1,1,1,1,1,1,1,1,1,1,1,1,1,1,1,0,0,0,0,0,0,0,0,0,0,0,0,0,0,0,0,0,0,0,0,0,0,0,0,0,0,null,null,null,null,{"$f":"'Efficiency Levels'!J77","v":"EL8"},{"$f":"'Efficiency Levels'!K77","v":7627.95191524027},0,null,0,0,0,0,0,0,0,0,0,0,0,0,0,0,0,0,0,0,0,{"$f":"$BG116","v":0},0,0,0,0,0,0,0,0,0,0,0,0,0,0,0,0,0,0,0,0,0,0,0,0,0]
[null,null,null,{"$f":"'Efficiency Levels'!C70","v":"EL1*"},{"$f":"'Efficiency Levels'!D70","v":188.26337597381084},null,null,{"$f":"H101","v":0},0,0,0,0,0,0,0,0,0,0,0,0,0,0,0,0,0,0,0,0,0,0,0,0,0,0,0,0,0,0,0,0,0,0,0,0,0,0,0,0,0,0,0,0,null,null,null,null,{"$f":"'Efficiency Levels'!J78","v":"EL9"},{"$f":"'Efficiency Levels'!K78","v":7511.2173985853615},0,null,0,0,0,0,0,0,0,0,0,0,0,0,0,0,0,0,0,0,0,0,0,0,0,0,0,0,0,0,0,0,0,0,0,0,0,0,0,0,0,0,0,0,0,0,0]
[null,null,null,{"$f":"'Efficiency Levels'!C71","v":"EL2"},{"$f":"'Efficiency Levels'!D71","v":1317.0370819714344},null,null,{"$f":"H102","v":0},0,0,0,0,0,0,0,0,0,0,0,0,0,0,0,0,0,0,{"$f":"SUM(AA100:AA102)","v":1},{"$f":"SUM(AB100:AB102)","v":1},1,1,1,1,1,1,1,1,1,1,1,1,1,1,1,1,1,1,1,1,1,1,1,1,null,null,null,null,{"$f":"'Efficiency Levels'!J79","v":"EL10"},{"$f":"'Efficiency Levels'!K79","v":7068.1565700929896},0,null,0,0,0,0,0,0,0,0,0,0,0,0,0,0,0,0,0,0,0,0,0,0,0,0,0,0,0,0,0,0,0,0,0,0,0,0,0,0,0,0,0,0,0,0,0]
[null,null,null,{"$f":"'Efficiency Levels'!C72","v":"EL3"},{"$f":"'Efficiency Levels'!D72","v":1305.3865204668714},null,null,{"$f":"H103","v":0},0,0,0,0,0,0,0,0,0,0,0,0,0,0,0,0,0,0,0,0,0,0,0,0,0,0,0,0,0,0,0,0,0,0,0,0,0,0,0,0,0,0,0,0,null,null,null,null,{"$f":"'Efficiency Levels'!J80","v":"EL11"},{"$f":"'Efficiency Levels'!K80","v":7032.3065391570626},0,null,0,0,0,0,0,0,0,0,0,0,0,0,0,0,0,0,0,0,0,0,0,0,0,0,0,0,0,0,0,0,0,0,0,0,0,0,0,0,0,0,0,0,0,0,0]
[null,null,null,{"$f":"'Efficiency Levels'!C73","v":"EL4"},{"$f":"'Efficiency Levels'!D73","v":1270.9123444041893},null,null,{"$f":"H104","v":0},0,0,0,0,0,0,0,0,0,0,0,0,0,0,0,0,0,0,0,0,0,0,0,0,0,0,0,0,0,0,0,0,0,0,0,0,0,0,0,0,0,0,0,0,null,null,null,null,"TOTAL",null,{"$f":"SUM(BG108:BG119)","v":1},null,{"$f":"SUM(BI108:BI119)","v":1},{"$f":"SUM(BJ108:BJ119)","v":1},1,1,1,1,1,1,1,1,1,1,1,1,1,1,1,1,1,1,1,1,1,1,1,1,1,1,1,1,1,1,1,1,1,1,1,1,1,1,1,1,1,1,1]
[null,null,null,{"$f":"'Efficiency Levels'!C74","v":"EL5"},{"$f":"'Efficiency Levels'!D74","v":1264.2829773881908},null,null,{"$f":"H105","v":0},0,0,0,0,0,0,0,0,0,0,0,0,0,0,0,0,0,0,0,0,0,0,0,0,0,0,0,0,0,0,0,0,0,0,0,0,0,0,0,0,0,0,0,0]
[null,null,null,{"$f":"'Efficiency Levels'!C75","v":"EL6"},{"$f":"'Efficiency Levels'!D75","v":1250.9022150986243},null,null,{"$f":"H106","v":0},0,0,0,0,0,0,0,0,0,0,0,0,0,0,0,0,0,0,0,0,0,0,0,0,0,0,0,0,0,0,0,0,0,0,0,0,0,0,0,0,0,0,0,0,null,null,null,null,"POST-Case"]
[null,null,null,{"$f":"'Efficiency Levels'!C76","v":"EL7"},{"$f":"'Efficiency Levels'!D76","v":1241.3363514033222},null,null,{"$f":"H107","v":0},0,0,0,0,0,0,0,0,0,0,0,0,0,0,0,0,0,0,0,0,0,0,0,0,0,0,0,0,0,0,0,0,0,0,0,0,0,0,0,0,0,0,0,0,null,null,null,null,"Efficiency Level","EL (kWh/year)",null,null,1990,{"$f":"BI123+1","v":1991},{"$f":"BJ123+1","v":1992},{"$f":"BK123+1","v":1993},{"$f":"BL123+1","v":1994},{"$f":"BM123+1","v":1995},{"$f":"BN123+1","v":1996},{"$f":"BO123+1","v":1997},{"$f":"BP123+1","v":1998},{"$f":"BQ123+1","v":1999},{"$f":"BR123+1","v":2000},{"$f":"BS123+1","v":2001},{"$f":"BT123+1","v":2002},{"$f":"BU123+1","v":2003},{"$f":"BV123+1","v":2004},{"$f":"BW123+1","v":2005},{"$f":"BY107","v":2006},2007,2008,2009,2010,2011,2012,2013,2014,2015,2016,2017,2018,2019,2020,2021,2022,2023,2024,2025,2026,2027,2028,2029,2030,2031,2032,2033,2034]
[null,null,null,{"$f":"'Efficiency Levels'!C77","v":"EL8"},{"$f":"'Efficiency Levels'!D77","v":1234.961569747772},null,null,{"$f":"H108","v":0},0,0,0,0,0,0,0,0,0,0,0,0,0,0,0,0,0,0,0,0,0,0,0,0,0,0,0,0,0,0,0,0,0,0,0,0,0,0,0,0,0,0,0,0,null,null,null,null,{"$f":"BE108","v":"EL0"},16967.807542487601,null,null,{"$f":"BI108","v":1},1,1,1,1,1,1,1,1,1,1,1,1,1,1,1,1,1,1,0,0,0,0,0,0,0,0,0,0,0,0,0,0,0,0,0,0,0,0,0,0,0,0,0,0]
[null,null,null,{"$f":"'Efficiency Levels'!C78","v":"EL9"},{"$f":"'Efficiency Levels'!D78","v":1224.8553627321762},null,null,{"$f":"H109","v":0},0,0,0,0,0,0,0,0,0,0,0,0,0,0,0,0,0,0,0,0,0,0,0,0,0,0,0,0,0,0,0,0,0,0,0,0,0,0,0,0,0,0,0,0,null,null,null,null,{"$f":"BE109","v":"EL1"},13920.6311216555,null,null,{"$f":"BI109","v":0},0,0,0,0,0,0,0,0,0,0,0,0,0,0,0,0,0,0,0,0,0,0,0,0,0,0,0,0,0,0,0,0,0,0,0,0,0,0,0,0,0,0,0,0]
[null,null,null,{"$f":"'Efficiency Levels'!C79","v":"EL10"},{"$f":"'Efficiency Levels'!D79","v":1206.8622633235746},null,null,{"$f":"H110","v":0},0,0,0,0,0,0,0,0,0,0,0,0,0,0,0,0,0,0,0,0,0,0,0,0,0,0,0,0,0,0,0,0,0,0,0,0,0,0,0,0,0,0,0,0,null,null,null,null,{"$f":"BE110","v":"EL2"},11146.089869654876,null,null,{"$f":"BI110","v":0},0,0,0,0,0,0,0,0,0,0,0,0,0,0,0,0,0,0,0.75,0.75,0.75,0.75,0.75,0.75,0.75,0.75,0,0,0,0,0,0,0,0,0,0,0,0,0,0,0,0,0,0]
[null,null,null,{"$f":"'Efficiency Levels'!C80","v":"EL11"},{"$f":"'Efficiency Levels'!D80","v":1192.7236470912158},null,null,{"$f":"H111","v":0},0,0,0,0,0,0,0,0,0,0,0,0,0,0,0,0,0,0,0,0,0,0,0,0,0,0,0,0,0,0,0,0,0,0,0,0,0,0,0,0,0,0,0,0,null,null,null,null,"EL3",9418.8701097652647,null,null,{"$f":"BI111","v":0},0,0,0,0,0,0,0,0,0,0,0,0,0,0,0,0,0,0,0.25,0.25,0.25,0.25,0.25,0.25,0.25,0.25,0,0,0,0,0,0,0,0,0,0,0,0,0,0,0,0,0,0]
[null,null,null,"TOTAL",null,null,null,{"$f":"SUM(H116:H127)","v":1},{"$f":"SUM(I116:I127)","v":1},1,1,1,1,1,1,1,1,1,1,1,1,1,1,1,1,1,1,1,1,1,1,1,1,1,1,1,1,1,1,1,1,1,1,1,1,1,1,1,1,1,1,1,null,null,null,null,"EL4",9042.1263745266406,null,null,{"$f":"BI112","v":0},0,0,0,0,0,0,0,0,0,0,0,0,0,0,0,0,0,0,0,0,0,0,0,0,0,0,0,0,0,0,0,0,0,0,0,0,0,0,0,0,0,0,0,0]
[null,null,null,null,null,null,null,null,null,null,null,null,null,null,null,null,null,null,null,null,null,null,null,null,null,null,null,null,null,null,null,null,null,null,null,null,null,null,null,null,null,null,null,null,null,null,null,null,null,null,null,null,null,null,null,null,"EL5",8506.7995911730668,null,null,{"$f":"BI113","v":0},0,0,0,0,0,0,0,0,0,0,0,0,0,0,0,0,0,0,0,0,0,0,0,0,0,0,0,0,0,0,0,0,0,0,0,0,0,0,0,0,0,0,0,0]
[null,null,null,"Sources","1. DOE Walk-In Coolers and Freezers 2014 Final Rule, Technical Support Document: Final Rule National Impact Analysis (NIA) - Components, 'Market Share Inputs' tab, cells B3:M35, http://www.regulations.gov/#!documentDetail;D=EERE-2008-BT-STD-0015-0134",null,null,null,null,null,null,null,null,null,null,null,null,null,null,null,null,null,null,null,null,null,null,null,null,null,null,null,null,null,null,null,null,null,null,null,null,null,null,null,null,null,null,null,null,null,null,null,null,null,null,null,"EL6",8019.0189141700539,null,null,{"$f":"BI114","v":0},0,0,0,0,0,0,0,0,0,0,0,0,0,0,0,0,0,0,0,0,0,0,0,0,0,0,0,0,0,0,0,0,0,0,0,0,0,0,0,0,0,0,0,0]
[null,null,null,null,null,null,null,null,null,null,null,null,null,null,null,null,null,null,null,null,null,null,null,null,null,null,null,null,null,null,null,null,null,null,null,null,null,null,null,null,null,null,null,null,null,null,null,null,null,null,null,null,null,null,null,null,"EL7",7672.8304578090329,null,null,{"$f":"BI115","v":0},0,0,0,0,0,0,0,0,0,0,0,0,0,0,0,0,0,0,0,0,0,0,0,0,0,0,0,0,0,0,0,0,0,0,0,0,0,0,0,0,0,0,0,0]
[null,null,null,null,null,null,null,null,null,null,null,null,null,null,null,null,null,null,null,null,null,null,null,null,null,null,null,null,null,null,null,null,null,null,null,null,null,null,null,null,null,null,null,null,null,null,null,null,null,null,null,null,null,null,null,null,"EL8",7627.95191524027,null,null,{"$f":"BI116","v":0},0,0,0,0,0,0,0,0,0,0,0,0,0,0,0,0,0,0,0,0,0,0,0,0,0,0,0,0,0,0,0,0,0,0,0,0,0,0,0,0,0,0,0,0]
[null,null,null,null,null,null,null,null,null,null,null,null,null,null,null,null,null,null,null,null,null,null,null,null,null,null,null,null,null,null,null,null,null,null,null,null,null,null,null,null,null,null,null,null,null,null,null,null,null,null,null,null,null,null,null,null,"EL9",7511.2173985853615,null,null,{"$f":"BI117","v":0},0,0,0,0,0,0,0,0,0,0,0,0,0,0,0,0,0,0,0,0,0,0,0,0,0,0,0,0,0,0,0,0,0,0,0,0,0,0,0,0,0,0,0,0]
[null,null,null,null,null,null,null,null,null,null,null,null,null,null,null,null,null,null,null,null,null,null,null,null,null,null,null,null,null,null,null,null,null,null,null,null,null,null,null,null,null,null,null,null,null,null,null,null,null,null,null,null,null,null,null,null,"EL10",7068.1565700929896,null,null,{"$f":"BI118","v":0},0,0,0,0,0,0,0,0,0,0,0,0,0,0,0,0,0,0,0,0,0,0,0,0,0,0,0,0,0,0,0,0,0,0,0,0,0,0,0,0,0,0,0,0]
[null,null,null,{"$f":"'Product Classes'!K15&\" - \"&OFFSET('Product Classes'!$F$10,MATCH('Product Classes'!K15,MODEL_PCS,0),0)","v":"PD.L - Passage Door, Low Temperature"},null,null,null,null,null,null,null,null,null,null,null,null,null,null,null,null,null,null,null,null,null,null,null,null,null,null,null,null,null,null,null,null,null,null,null,null,null,null,null,null,null,null,null,null,null,null,null,null,null,null,null,null,"EL11",7032.3065391570626,null,null,{"$f":"BI119","v":0},0,0,0,0,0,0,0,0,0,0,0,0,0,0,0,0,0,0,0,0,0,0,0,0,0,0,{"$f":"SUM(CJ110:CJ119)","v":1},1,1,1,1,1,1,1,1,1,1,1,1,1,1,1,1,1]
[null,null,null,null,null,null,null,null,null,null,null,null,null,null,null,null,null,null,null,null,null,null,null,null,null,null,null,null,null,null,null,null,null,null,null,null,null,null,null,null,null,null,null,null,null,null,null,null,null,null,null,null,null,null,null,null,"TOTAL",null,null,null,{"$f":"SUM(BI124:BI135)","v":1},{"$f":"SUM(BJ124:BJ135)","v":1},1,1,1,1,1,1,1,1,1,1,1,1,1,1,1,1,1,1,1,1,1,1,1,1,1,1,1,1,1,1,1,1,1,1,1,1,1,1,1,1,1,1,1]
[null,null,null,"PRE-Case",null,"Static Distribution"]
[null,null,null,"Efficiency Level","EL (kWh/year)",2006,null,1990,{"$f":"H138+1","v":1991},1992,1993,1994,1995,1996,1997,1998,1999,2000,2001,2002,2003,2004,2005,2006,2007,2008,2009,2010,2011,2012,2013,2014,2015,2016,2017,2018,2019,2020,2021,2022,2023,2024,2025,2026,2027,2028,2029,2030,2031,2032,2033,2034,null,null,null,null,"Sources","1. DOE Walk-In Coolers and Freezers 2014 Final Rule, Technical Support Document: Final Rule National Impact Analysis (NIA) - Systems, 'Market Share Inputs' tab, cells B3:M35, http://www.regulations.gov/#!documentDetail;D=EERE-2008-BT-STD-0015-0134"]
[null,null,null,{"$f":"'Efficiency Levels'!C92","v":"EL0"},{"$f":"'Efficiency Levels'!D92","v":2862.9560875766201},1,null,{"$f":"$F139","v":1},1,1,1,1,1,1,1,1,1,1,1,1,1,1,1,{"$f":"$F139","v":1},1,1,0,0,0,0,0,0,0,0,0,0,0,0,0,0,0,0,0,0,0,0,0,0,0,0,0,0]
[null,null,null,{"$f":"'Efficiency Levels'!C93","v":"EL1"},{"$f":"'Efficiency Levels'!D93","v":3914.5800840873799},0,null,0,0,0,0,0,0,0,0,0,0,0,0,0,0,0,0,0,0,0,0,0,0,0,0,0,0,0,0,0,0,0,0,0,0,0,0,0,0,0,0,0,0,0,0,0]
[null,null,null,{"$f":"'Efficiency Levels'!C94","v":"EL2"},{"$f":"'Efficiency Levels'!D94","v":4937.601718010962},0,null,0,0,0,0,0,0,0,0,0,0,0,0,0,0,0,0,{"$f":"$F141","v":0},0,0,1,1,1,1,1,1,1,1,1,1,1,1,1,1,1,1,1,1,1,1,1,1,1,1,1,1]
[null,null,null,{"$f":"'Efficiency Levels'!C95","v":"EL3"},{"$f":"'Efficiency Levels'!D95","v":4666.5193857798513},0,null,0,0,0,0,0,0,0,0,0,0,0,0,0,0,0,0,0,0,0,0,0,0,0,0,0,0,0,0,0,0,0,0,0,0,0,0,0,0,0,0,0,0,0,0,0]
[null,null,null,{"$f":"'Efficiency Levels'!C96","v":"EL4"},{"$f":"'Efficiency Levels'!D96","v":4511.0196055818078},0,null,0,0,0,0,0,0,0,0,0,0,0,0,0,0,0,0,0,0,0,0,0,0,0,0,0,0,0,0,0,0,0,0,0,0,0,0,0,0,0,0,0,0,0,0,0,null,null,null,null,{"$f":"'Product Class Dist'!AZ15","v":"DC.M.I.006"}]
[null,null,null,{"$f":"'Efficiency Levels'!C97","v":"EL5"},{"$f":"'Efficiency Levels'!D97","v":4345.4342419078275},0,null,0,0,0,0,0,0,0,0,0,0,0,0,0,0,0,0,0,0,0,0,0,0,0,0,0,0,0,0,0,0,0,0,0,0,0,0,0,0,0,0,0,0,0,0,0]
[null,null,null,{"$f":"'Efficiency Levels'!C98","v":"EL6"},{"$f":"'Efficiency Levels'!D98","v":4297.1082629679431},0,null,0,0,0,0,0,0,0,0,0,0,0,0,0,0,0,0,0,0,0,0,0,0,0,0,0,0,0,0,0,0,0,0,0,0,0,0,0,0,0,0,0,0,0,0,0,null,null,null,null,"PRE-Case",null,"Static Distribution"]
[null,null,null,{"$f":"'Efficiency Levels'!C99","v":"EL7"},{"$f":"'Efficiency Levels'!D99","v":4215.9544740666424},0,null,0,0,0,0,0,0,0,0,0,0,0,0,0,0,0,0,0,0,0,0,0,0,0,0,0,0,0,0,0,0,0,0,0,0,0,0,0,0,0,0,0,0,0,0,0,null,null,null,null,"Efficiency Level","EL (kWh/year)",2014,null,1990,{"$f":"BI146+1","v":1991},{"$f":"BJ146+1","v":1992},{"$f":"BK146+1","v":1993},{"$f":"BL146+1","v":1994},{"$f":"BM146+1","v":1995},{"$f":"BN146+1","v":1996},{"$f":"BO146+1","v":1997},{"$f":"BP146+1","v":1998},{"$f":"BQ146+1","v":1999},{"$f":"BR146+1","v":2000},{"$f":"BS146+1","v":2001},{"$f":"BT146+1","v":2002},{"$f":"BU146+1","v":2003},{"$f":"BV146+1","v":2004},{"$f":"BW146+1","v":2005},{"$f":"BX146+1","v":2006},{"$f":"BY146+1","v":2007},{"$f":"BZ146+1","v":2008},{"$f":"CA146+1","v":2009},{"$f":"CB146+1","v":2010},{"$f":"CC146+1","v":2011},{"$f":"CD146+1","v":2012},{"$f":"CE146+1","v":2013},{"$f":"CF146+1","v":2014},{"$f":"CG146+1","v":2015},{"$f":"CH146+1","v":2016},{"$f":"CI146+1","v":2017},{"$f":"CJ146+1","v":2018},{"$f":"CK146+1","v":2019},{"$f":"CL146+1","v":2020},{"$f":"CM146+1","v":2021},{"$f":"CN146+1","v":2022},{"$f":"CO146+1","v":2023},{"$f":"CP146+1","v":2024},{"$f":"CQ146+1","v":2025},{"$f":"CR146+1","v":2026},{"$f":"CS146+1","v":2027},{"$f":"CT146+1","v":2028},{"$f":"CU146+1","v":2029},{"$f":"CV146+1","v":2030},{"$f":"CW146+1","v":2031},{"$f":"CX146+1","v":2032},{"$f":"CY146+1","v":2033},{"$f":"CZ146+1","v":2034}]
[null,null,null,{"$f":"'Efficiency Levels'!C100","v":"EL8"},{"$f":"'Efficiency Levels'!D100","v":4183.3699854610513},0,null,0,0,0,0,0,0,0,{"$f":"$F147","v":0},0,0,0,0,0,0,0,0,0,0,0,0,0,0,0,0,0,0,0,0,0,0,0,0,0,0,0,0,0,0,0,0,0,0,0,0,0,null,null,null,null,{"$f":"'Efficiency Levels'!J92","v":"EL0"},{"$f":"'Efficiency Levels'!K92","v":8287.0672367631196},0,null,1,1,1,1,1,1,1,1,1,1,1,1,1,1,1,1,1,1,1,{"$f":"$BG147","v":0},0,0,0,0,0,0,0,0,0,0,0,0,0,0,0,{"$f":"$BG147","v":0},0,0,0,0,0,0,0,0,0]
[null,null,null,{"$f":"'Efficiency Levels'!C101","v":"EL9"},{"$f":"'Efficiency Levels'!D101","v":4140.7799259064495},0,null,0,0,0,0,0,0,0,0,0,0,0,0,0,0,0,0,0,0,0,0,0,0,0,0,0,0,0,0,0,0,0,0,0,0,0,0,0,0,0,0,0,0,0,0,0,null,null,null,null,{"$f":"'Efficiency Levels'!J93","v":"EL1"},{"$f":"'Efficiency Levels'!K93","v":6525.45455620757},0,null,0,0,0,0,0,0,0,0,0,0,0,0,0,0,0,0,0,0,0,0,0,0,0,0,0,0,0,0,0,0,0,0,0,0,0,0,0,0,0,0,0,0,0,0,0]
[null,null,null,{"$f":"'Efficiency Levels'!C102","v":"EL10"},{"$f":"'Efficiency Levels'!D102","v":4099.2791203001507},0,null,0,0,0,0,0,0,0,0,0,0,0,0,0,0,0,0,0,0,0,0,0,0,0,0,0,0,0,0,0,0,0,0,0,0,0,0,0,0,0,0,0,0,0,0,0,null,null,null,null,{"$f":"'Efficiency Levels'!J94","v":"EL2"},{"$f":"'Efficiency Levels'!K94","v":5376.8849976899564},0.75,null,0,0,0,0,0,0,0,0,0,0,0,0,0,0,0,0,0,0,0,{"$f":"$BG149","v":0.75},0.75,0.75,0.75,0.75,0.75,0.75,0.75,0.75,0.75,0.75,0.75,0.75,0.75,0.75,0.75,0.75,0.75,0.75,0.75,0.75,0.75,0.75,0.75,0.75,0.75]
[null,null,null,"TOTAL",null,{"$f":"SUM(F139:F149)","v":1},null,{"$f":"SUM(H139:H149)","v":1},{"$f":"SUM(I139:I149)","v":1},1,1,1,1,1,1,1,1,1,1,1,1,1,1,1,1,1,1,1,1,1,1,1,1,1,1,1,1,1,1,1,1,1,1,1,1,1,1,1,1,1,1,1,null,null,null,null,{"$f":"'Efficiency Levels'!J95","v":"EL3"},{"$f":"'Efficiency Levels'!K95","v":5247.162239130641},0.25,null,0,0,0,0,0,0,0,0,0,0,0,0,0,0,0,0,0,0,0,0.25,0.25,0.25,0.25,0.25,0.25,0.25,0.25,0.25,0.25,0.25,0.25,0.25,0.25,0.25,0.25,0.25,0.25,0.25,0.25,0.25,0.25,0.25,0.25,0.25,0.25]
[null,null,null,null,null,null,null,null,null,null,null,null,null,null,null,null,null,null,null,null,null,null,null,null,null,null,null,null,null,null,null,null,null,null,null,null,null,null,null,null,null,null,null,null,null,null,null,null,null,null,null,null,null,null,null,null,{"$f":"'Efficiency Levels'!J96","v":"EL4"},{"$f":"'Efficiency Levels'!K96","v":4423.2741631402414},0,null,0,0,0,0,0,0,0,0,0,0,0,0,0,0,0,0,0,0,0,0,0,0,0,0,0,0,0,0,0,0,0,0,0,0,0,0,0,0,0,0,0,0,0,0,0]
[null,null,null,"POST-Case",null,null,null,null,null,null,null,null,null,null,null,null,null,null,null,null,null,null,null,null,null,null,null,null,null,null,null,null,null,null,null,null,null,null,null,null,null,null,null,null,null,null,null,null,null,null,null,null,null,null,null,null,{"$f":"'Efficiency Levels'!J97","v":"EL5"},{"$f":"'Efficiency Levels'!K97","v":4273.9276984472981},0,null,0,0,0,0,0,0,0,0,0,0,0,0,0,0,0,0,0,0,0,0,0,0,0,0,0,0,0,0,0,0,0,0,0,0,0,0,0,0,0,0,0,0,0,0,0]
[null,null,null,"Efficiency Level","EL (kWh/year)",null,null,1990,{"$f":"H153+1","v":1991},1992,1993,1994,1995,1996,1997,1998,1999,2000,2001,2002,2003,2004,2005,{"$f":"X138","v":2006},2007,2008,2009,2010,2011,2012,2013,2014,2015,2016,2017,2018,2019,2020,2021,2022,2023,2024,2025,2026,2027,2028,2029,2030,2031,2032,2033,2034,null,null,null,null,{"$f":"'Efficiency Levels'!J98","v":"EL6"},{"$f":"'Efficiency Levels'!K98","v":4158.139275379408},0,null,0,0,0,0,0,0,0,0,0,0,0,0,0,0,0,0,0,0,0,0,0,0,0,0,0,0,0,0,0,0,0,0,0,0,0,0,0,0,0,0,0,0,0,0,0]
[null,null,null,{"$f":"'Efficiency Levels'!C92","v":"EL0"},{"$f":"'Efficiency Levels'!D92","v":2862.9560875766201},null,null,{"$f":"H139","v":1},1,1,1,1,1,1,1,1,1,1,1,1,1,1,1,1,1,1,0,0,0,0,0,0,0,0,0,0,0,0,0,0,0,0,0,0,0,0,0,0,0,0,0,0,null,null,null,null,{"$f":"'Efficiency Levels'!J99","v":"EL7"},{"$f":"'Efficiency Levels'!K99","v":3483.8696528465771},0,null,0,0,0,0,0,0,0,0,0,0,0,0,0,0,0,0,0,0,0,0,0,0,0,0,0,0,0,0,0,0,0,0,0,0,0,0,0,0,0,0,0,0,0,0,0]
[null,null,null,{"$f":"'Efficiency Levels'!C93","v":"EL1"},{"$f":"'Efficiency Levels'!D93","v":3914.5800840873799},null,null,{"$f":"H140","v":0},0,0,0,0,0,0,0,0,0,0,0,0,0,0,0,0,0,0,0,0,0,0,0,0,0,0,0,0,0,0,0,0,0,0,0,0,0,0,0,0,0,0,0,0,null,null,null,null,{"$f":"'Efficiency Levels'!J100","v":"EL8"},{"$f":"'Efficiency Levels'!K100","v":3348.3567207732299},0,null,0,0,0,0,0,0,0,0,0,0,0,0,0,0,0,0,0,0,0,{"$f":"$BG155","v":0},0,0,0,0,0,0,0,0,0,0,0,0,0,0,0,0,0,0,0,0,0,0,0,0,0]
[null,null,null,{"$f":"'Efficiency Levels'!C94","v":"EL2"},{"$f":"'Efficiency Levels'!D94","v":4937.601718010962},null,null,{"$f":"H141","v":0},0,0,0,0,0,0,0,0,0,0,0,0,0,0,0,0,0,0,{"$f":"SUM(AA139:AA141)","v":1},{"$f":"SUM(AB139:AB141)","v":1},1,1,1,1,1,1,1,1,1,1,1,1,1,1,1,1,1,1,1,1,1,1,1,1,null,null,null,null,"TOTAL",null,{"$f":"SUM(BG147:BG155)","v":1},null,{"$f":"SUM(BI147:BI155)","v":1},{"$f":"SUM(BJ147:BJ155)","v":1},1,1,1,1,1,1,1,1,1,1,1,1,1,1,1,1,1,1,1,1,1,1,1,1,1,1,1,1,1,1,1,1,1,1,1,1,1,1,1,1,1,1,1]
[null,null,null,{"$f":"'Efficiency Levels'!C95","v":"EL3"},{"$f":"'Efficiency Levels'!D95","v":4666.5193857798513},null,null,{"$f":"H142","v":0},0,0,0,0,0,0,0,0,0,0,0,0,0,0,0,0,0,0,0,0,0,0,0,0,0,0,0,0,0,0,0,0,0,0,0,0,0,0,0,0,0,0,0,0]
[null,null,null,{"$f":"'Efficiency Levels'!C96","v":"EL4"},{"$f":"'Efficiency Levels'!D96","v":4511.0196055818078},null,null,{"$f":"H143","v":0},0,0,0,0,0,0,0,0,0,0,0,0,0,0,0,0,0,0,0,0,0,0,0,0,0,0,0,0,0,0,0,0,0,0,0,0,0,0,0,0,0,0,0,0,null,null,null,null,"POST-Case"]
[null,null,null,{"$f":"'Efficiency Levels'!C97","v":"EL5"},{"$f":"'Efficiency Levels'!D97","v":4345.4342419078275},null,null,{"$f":"H144","v":0},0,0,0,0,0,0,0,0,0,0,0,0,0,0,0,0,0,0,0,0,0,0,0,0,0,0,0,0,0,0,0,0,0,0,0,0,0,0,0,0,0,0,0,0,null,null,null,null,"Efficiency Level","EL (kWh/year)",null,null,1990,{"$f":"BI159+1","v":1991},{"$f":"BJ159+1","v":1992},{"$f":"BK159+1","v":1993},{"$f":"BL159+1","v":1994},{"$f":"BM159+1","v":1995},{"$f":"BN159+1","v":1996},{"$f":"BO159+1","v":1997},{"$f":"BP159+1","v":1998},{"$f":"BQ159+1","v":1999},{"$f":"BR159+1","v":2000},{"$f":"BS159+1","v":2001},{"$f":"BT159+1","v":2002},{"$f":"BU159+1","v":2003},{"$f":"BV159+1","v":2004},{"$f":"BW159+1","v":2005},{"$f":"BY146","v":2006},2007,2008,2009,2010,2011,2012,2013,2014,2015,2016,2017,2018,2019,2020,2021,2022,2023,2024,2025,2026,2027,2028,2029,2030,2031,2032,2033,2034]
[null,null,null,{"$f":"'Efficiency Levels'!C98","v":"EL6"},{"$f":"'Efficiency Levels'!D98","v":4297.1082629679431},null,null,{"$f":"H145","v":0},0,0,0,0,0,0,0,0,0,0,0,0,0,0,0,0,0,0,0,0,0,0,0,0,0,0,0,0,0,0,0,0,0,0,0,0,0,0,0,0,0,0,0,0,null,null,null,null,{"$f":"BE147","v":"EL0"},8287.0672367631196,null,null,{"$f":"BI147","v":1},1,1,1,1,1,1,1,1,1,1,1,1,1,1,1,1,1,1,0,0,0,0,0,0,0,0,0,0,0,0,0,0,0,0,0,0,0,0,0,0,0,0,0,0]
[null,null,null,{"$f":"'Efficiency Levels'!C99","v":"EL7"},{"$f":"'Efficiency Levels'!D99","v":4215.9544740666424},null,null,{"$f":"H146","v":0},0,0,0,0,0,0,0,0,0,0,0,0,0,0,0,0,0,0,0,0,0,0,0,0,0,0,0,0,0,0,0,0,0,0,0,0,0,0,0,0,0,0,0,0,null,null,null,null,{"$f":"BE148","v":"EL1"},6525.45455620757,null,null,{"$f":"BI148","v":0},0,0,0,0,0,0,0,0,0,0,0,0,0,0,0,0,0,0,0,0,0,0,0,0,0,0,0,0,0,0,0,0,0,0,0,0,0,0,0,0,0,0,0,0]
[null,null,null,{"$f":"'Efficiency Levels'!C100","v":"EL8"},{"$f":"'Efficiency Levels'!D100","v":4183.3699854610513},null,null,{"$f":"H147","v":0},0,0,0,0,0,0,0,0,0,0,0,0,0,0,0,0,0,0,0,0,0,0,0,0,0,0,0,0,0,0,0,0,0,0,0,0,0,0,0,0,0,0,0,0,null,null,null,null,{"$f":"BE149","v":"EL2"},5376.8849976899564,null,null,{"$f":"BI149","v":0},0,0,0,0,0,0,0,0,0,0,0,0,0,0,0,0,0,0,0.75,0.75,0.75,0.75,0.75,0.75,0.75,0.75,0,0,0,0,0,0,0,0,0,0,0,0,0,0,0,0,0,0]
[null,null,null,{"$f":"'Efficiency Levels'!C101","v":"EL9"},{"$f":"'Efficiency Levels'!D101","v":4140.7799259064495},null,null,{"$f":"H148","v":0},0,0,0,0,0,0,0,0,0,0,0,0,0,0,0,0,0,0,0,0,0,0,0,0,0,0,0,0,0,0,0,0,0,0,0,0,0,0,0,0,0,0,0,0,null,null,null,null,"EL3",5247.162239130641,null,null,{"$f":"BI150","v":0},0,0,0,0,0,0,0,0,0,0,0,0,0,0,0,0,0,0,0.25,0.25,0.25,0.25,0.25,0.25,0.25,0.25,0,0,0,0,0,0,0,0,0,0,0,0,0,0,0,0,0,0]
[null,null,null,{"$f":"'Efficiency Levels'!C102","v":"EL10"},{"$f":"'Efficiency Levels'!D102","v":4099.2791203001507},null,null,{"$f":"H149","v":0},0,0,0,0,0,0,0,0,0,0,0,0,0,0,0,0,0,0,0,0,0,0,0,0,0,0,0,0,0,0,0,0,0,0,0,0,0,0,0,0,0,0,0,0,null,null,null,null,"EL4",4423.2741631402414,null,null,{"$f":"BI151","v":0},0,0,0,0,0,0,0,0,0,0,0,0,0,0,0,0,0,0,0,0,0,0,0,0,0,0,0,0,0,0,0,0,0,0,0,0,0,0,0,0,0,0,0,0]
[null,null,null,"TOTAL",null,null,null,{"$f":"SUM(H154:H164)","v":1},{"$f":"SUM(I154:I164)","v":1},1,1,1,1,1,1,1,1,1,1,1,1,1,1,1,1,1,1,1,1,1,1,1,1,1,1,1,1,1,1,1,1,1,1,1,1,1,1,1,1,1,1,1,null,null,null,null,"EL5",4273.9276984472981,null,null,{"$f":"BI152","v":0},0,0,0,0,0,0,0,0,0,0,0,0,0,0,0,0,0,0,0,0,0,0,0,0,0,0,0,0,0,0,0,0,0,0,0,0,0,0,0,0,0,0,0,0]
[null,null,null,null,null,null,null,null,null,null,null,null,null,null,null,null,null,null,null,null,null,null,null,null,null,null,null,null,null,null,null,null,null,null,null,null,null,null,null,null,null,null,null,null,null,null,null,null,null,null,null,null,null,null,null,null,"EL6",4158.139275379408,null,null,{"$f":"BI153","v":0},0,0,0,0,0,0,0,0,0,0,0,0,0,0,0,0,0,0,0,0,0,0,0,0,0,0,0,0,0,0,0,0,0,0,0,0,0,0,0,0,0,0,0,0]
[null,null,null,"Sources","1. DOE Walk-In Coolers and Freezers 2014 Final Rule, Technical Support Document: Final Rule National Impact Analysis (NIA) - Components, 'Market Share Inputs' tab, cells B3:M35, http://www.regulations.gov/#!documentDetail;D=EERE-2008-BT-STD-0015-0134",null,null,null,null,null,null,null,null,null,null,null,null,null,null,null,null,null,null,null,null,null,null,null,null,null,null,null,null,null,null,null,null,null,null,null,null,null,null,null,null,null,null,null,null,null,null,null,null,null,null,null,"EL7",3483.8696528465771,null,null,{"$f":"BI154","v":0},0,0,0,0,0,0,0,0,0,0,0,0,0,0,0,0,0,0,0,0,0,0,0,0,0,0,0,0,0,0,0,0,0,0,0,0,0,0,0,0,0,0,0,0]
[null,null,null,null,null,null,null,null,null,null,null,null,null,null,null,null,null,null,null,null,null,null,null,null,null,null,null,null,null,null,null,null,null,null,null,null,null,null,null,null,null,null,null,null,null,null,null,null,null,null,null,null,null,null,null,null,"EL8",3348.3567207732299,null,null,{"$f":"BI155","v":0},0,0,0,0,0,0,0,0,0,0,0,0,0,0,0,0,0,0,0,0,0,0,0,0,0,0,{"$f":"SUM(CJ149:CJ155)","v":1},1,1,1,1,1,1,1,1,1,1,1,1,1,1,1,1,1]
[null,null,null,null,null,null,null,null,null,null,null,null,null,null,null,null,null,null,null,null,null,null,null,null,null,null,null,null,null,null,null,null,null,null,null,null,null,null,null,null,null,null,null,null,null,null,null,null,null,null,null,null,null,null,null,null,"TOTAL",null,null,null,{"$f":"SUM(BI160:BI168)","v":1},{"$f":"SUM(BJ160:BJ168)","v":1},1,1,1,1,1,1,1,1,1,1,1,1,1,1,1,1,1,1,1,1,1,1,1,1,1,1,1,1,1,1,1,1,1,1,1,1,1,1,1,1,1,1,1]
[]
[null,null,null,null,null,null,null,null,null,null,null,null,null,null,null,null,null,null,null,null,null,null,null,null,null,null,null,null,null,null,null,null,null,null,null,null,null,null,null,null,null,null,null,null,null,null,null,null,null,null,null,null,null,null,null,null,"Sources","1. DOE Walk-In Coolers and Freezers 2014 Final Rule, Technical Support Document: Final Rule National Impact Analysis (NIA) - Systems, 'Market Share Inputs' tab, cells B3:M35, http://www.regulations.gov/#!documentDetail;D=EERE-2008-BT-STD-0015-0134"]
[null,null,null,{"$f":"'Product Classes'!K16&\" - \"&OFFSET('Product Classes'!$F$10,MATCH('Product Classes'!K16,MODEL_PCS,0),0)","v":"FD.M - Freight Door, Medium Temperature"}]
[]
[null,null,null,"PRE-Case",null,"Static Distribution"]
[null,null,null,"Efficiency Level","EL (kWh/year)",2006,null,1990,{"$f":"H175+1","v":1991},1992,1993,1994,1995,1996,1997,1998,1999,2000,2001,2002,2003,2004,2005,2006,2007,2008,2009,2010,2011,2012,2013,2014,2015,2016,2017,2018,2019,2020,2021,2022,2023,2024,2025,2026,2027,2028,2029,2030,2031,2032,2033,2034]
[null,null,null,{"$f":"'Efficiency Levels'!C113","v":"EL0*"},{"$f":"'Efficiency Levels'!D113","v":195.94022937686199},1,null,{"$f":"$F176","v":1},1,1,1,1,1,1,1,1,1,1,1,1,1,1,1,{"$f":"$F176","v":1},1,1,0,0,0,0,0,0,0,0,0,0,0,0,0,0,0,0,0,0,0,0,0,0,0,0,0,0,null,null,null,null,{"$f":"'Product Class Dist'!AZ16","v":"DC.M.I.018"}]
[null,null,null,{"$f":"'Efficiency Levels'!C114","v":"EL1*"},{"$f":"'Efficiency Levels'!D114","v":205.56549142375201},0,null,0,0,0,0,0,0,0,0,0,0,0,0,0,0,0,0,0,0,0,0,0,0,0,0,0,0,0,0,0,0,0,0,0,0,0,0,0,0,0,0,0,0,0,0,0]
[null,null,null,{"$f":"'Efficiency Levels'!C115","v":"EL2"},{"$f":"'Efficiency Levels'!D115","v":2006.2402820280488},0,null,0,0,0,0,0,0,0,0,0,0,0,0,0,0,0,0,{"$f":"$F178","v":0},0,0,1,1,1,1,1,1,1,1,1,1,1,1,1,1,1,1,1,1,1,1,1,1,1,1,1,1,null,null,null,null,"PRE-Case",null,"Static Distribution"]
[null,null,null,{"$f":"'Efficiency Levels'!C116","v":"EL3"},{"$f":"'Efficiency Levels'!D116","v":1966.7443071859993},0,null,0,0,0,0,0,0,0,0,0,0,0,0,0,0,0,0,0,0,0,0,0,0,0,0,0,0,0,0,0,0,0,0,0,0,0,0,0,0,0,0,0,0,0,0,0,null,null,null,null,"Efficiency Level","EL (kWh/year)",2014,null,1990,{"$f":"BI179+1","v":1991},{"$f":"BJ179+1","v":1992},{"$f":"BK179+1","v":1993},{"$f":"BL179+1","v":1994},{"$f":"BM179+1","v":1995},{"$f":"BN179+1","v":1996},{"$f":"BO179+1","v":1997},{"$f":"BP179+1","v":1998},{"$f":"BQ179+1","v":1999},{"$f":"BR179+1","v":2000},{"$f":"BS179+1","v":2001},{"$f":"BT179+1","v":2002},{"$f":"BU179+1","v":2003},{"$f":"BV179+1","v":2004},{"$f":"BW179+1","v":2005},{"$f":"BX179+1","v":2006},{"$f":"BY179+1","v":2007},{"$f":"BZ179+1","v":2008},{"$f":"CA179+1","v":2009},{"$f":"CB179+1","v":2010},{"$f":"CC179+1","v":2011},{"$f":"CD179+1","v":2012},{"$f":"CE179+1","v":2013},{"$f":"CF179+1","v":2014},{"$f":"CG179+1","v":2015},{"$f":"CH179+1","v":2016},{"$f":"CI179+1","v":2017},{"$f":"CJ179+1","v":2018},{"$f":"CK179+1","v":2019},{"$f":"CL179+1","v":2020},{"$f":"CM179+1","v":2021},{"$f":"CN179+1","v":2022},{"$f":"CO179+1","v":2023},{"$f":"CP179+1","v":2024},{"$f":"CQ179+1","v":2025},{"$f":"CR179+1","v":2026},{"$f":"CS179+1","v":2027},{"$f":"CT179+1","v":2028},{"$f":"CU179+1","v":2029},{"$f":"CV179+1","v":2030},{"$f":"CW179+1","v":2031},{"$f":"CX179+1","v":2032},{"$f":"CY179+1","v":2033},{"$f":"CZ179+1","v":2034}]
[null,null,null,{"$f":"'Efficiency Levels'!C117","v":"EL4"},{"$f":"'Efficiency Levels'!D117","v":1914.2423126716717},0,null,0,0,0,0,0,0,0,0,0,0,0,0,0,0,0,0,0,0,0,0,0,0,0,0,0,0,0,0,0,0,0,0,0,0,0,0,0,0,0,0,0,0,0,0,0,null,null,null,null,{"$f":"'Efficiency Levels'!J113","v":"EL0"},{"$f":"'Efficiency Levels'!K113","v":21166.4581895019},0,null,1,1,1,1,1,1,1,1,1,1,1,1,1,1,1,1,1,1,1,{"$f":"$BG180","v":0},0,0,0,0,0,0,0,0,0,0,0,0,0,0,0,{"$f":"$BG180","v":0},0,0,0,0,0,0,0,0,0]
[null,null,null,{"$f":"'Efficiency Levels'!C118","v":"EL5"},{"$f":"'Efficiency Levels'!D118","v":1897.4366993407891},0,null,0,0,0,0,0,0,0,0,0,0,0,0,0,0,0,0,0,0,0,0,0,0,0,0,0,0,0,0,0,0,0,0,0,0,0,0,0,0,0,0,0,0,0,0,0,null,null,null,null,{"$f":"'Efficiency Levels'!J114","v":"EL1"},{"$f":"'Efficiency Levels'!K114","v":15181.5114172797},0,null,0,0,0,0,0,0,0,0,0,0,0,0,0,0,0,0,0,0,0,0,0,0,0,0,0,0,0,0,0,0,0,0,0,0,0,0,0,0,0,0,0,0,0,0,0]
[null,null,null,{"$f":"'Efficiency Levels'!C119","v":"EL6"},{"$f":"'Efficiency Levels'!D119","v":1876.1241110555127},0,null,0,0,0,0,0,0,0,0,0,0,0,0,0,0,0,0,0,0,0,0,0,0,0,0,0,0,0,0,0,0,0,0,0,0,0,0,0,0,0,0,0,0,0,0,0,null,null,null,null,{"$f":"'Efficiency Levels'!J115","v":"EL2"},{"$f":"'Efficiency Levels'!K115","v":15160.463946731112},0.75,null,0,0,0,0,0,0,0,0,0,0,0,0,0,0,0,0,0,0,0,{"$f":"$BG182","v":0.75},0.75,0.75,0.75,0.75,0.75,0.75,0.75,0.75,0.75,0.75,0.75,0.75,0.75,0.75,0.75,0.75,0.75,0.75,0.75,0.75,0.75,0.75,0.75,0.75,0.75]
[null,null,null,{"$f":"'Efficiency Levels'!C120","v":"EL7"},{"$f":"'Efficiency Levels'!D120","v":1852.1979304733545},0,null,0,0,0,0,0,0,0,0,0,0,0,0,0,0,0,0,0,0,0,0,0,0,0,0,0,0,0,0,0,0,0,0,0,0,0,0,0,0,0,0,0,0,0,0,0,null,null,null,null,{"$f":"'Efficiency Levels'!J116","v":"EL3"},{"$f":"'Efficiency Levels'!K116","v":13461.777600218718},0.25,null,0,0,0,0,0,0,0,0,0,0,0,0,0,0,0,0,0,0,0,0.25,0.25,0.25,0.25,0.25,0.25,0.25,0.25,0.25,0.25,0.25,0.25,0.25,0.25,0.25,0.25,0.25,0.25,0.25,0.25,0.25,0.25,0.25,0.25,0.25,0.25]
[null,null,null,{"$f":"'Efficiency Levels'!C121","v":"EL8"},{"$f":"'Efficiency Levels'!D121","v":1836.0951528056928},0,null,0,0,0,0,0,0,0,{"$f":"$F184","v":0},0,0,0,0,0,0,0,0,0,0,0,0,0,0,0,0,0,0,0,0,0,0,0,0,0,0,0,0,0,0,0,0,0,0,0,0,0,null,null,null,null,{"$f":"'Efficiency Levels'!J117","v":"EL4"},{"$f":"'Efficiency Levels'!K117","v":12896.327213101886},0,null,0,0,0,0,0,0,0,0,0,0,0,0,0,0,0,0,0,0,0,0,0,0,0,0,0,0,0,0,0,0,0,0,0,0,0,0,0,0,0,0,0,0,0,0,0]
[null,null,null,{"$f":"'Efficiency Levels'!C122","v":"EL9"},{"$f":"'Efficiency Levels'!D122","v":1820.2874542664706},0,null,0,0,0,0,0,0,0,0,0,0,0,0,0,0,0,0,0,0,0,0,0,0,0,0,0,0,0,0,0,0,0,0,0,0,0,0,0,0,0,0,0,0,0,0,0,null,null,null,null,{"$f":"'Efficiency Levels'!J118","v":"EL5"},{"$f":"'Efficiency Levels'!K118","v":12557.056980831894},0,null,0,0,0,0,0,0,0,0,0,0,0,0,0,0,0,0,0,0,0,0,0,0,0,0,0,0,0,0,0,0,0,0,0,0,0,0,0,0,0,0,0,0,0,0,0]
[null,null,null,{"$f":"'Efficiency Levels'!C123","v":"EL10"},{"$f":"'Efficiency Levels'!D123","v":1793.8138456372776},0,null,0,0,0,0,0,0,0,0,0,0,0,0,0,0,0,0,0,0,0,0,0,0,0,0,0,0,0,0,0,0,0,0,0,0,0,0,0,0,0,0,0,0,0,0,0,null,null,null,null,{"$f":"'Efficiency Levels'!J119","v":"EL6"},{"$f":"'Efficiency Levels'!K119","v":11414.207782501275},0,null,0,0,0,0,0,0,0,0,0,0,0,0,0,0,0,0,0,0,0,0,0,0,0,0,0,0,0,0,0,0,0,0,0,0,0,0,0,0,0,0,0,0,0,0,0]
[null,null,null,{"$f":"'Efficiency Levels'!C124","v":"EL11"},{"$f":"'Efficiency Levels'!D124","v":1757.0903179569655},0,null,0,0,0,0,0,0,0,0,0,0,0,0,0,0,0,0,0,0,0,0,0,0,0,0,0,0,0,0,0,0,0,0,0,0,0,0,0,0,0,0,0,0,0,0,0,null,null,null,null,{"$f":"'Efficiency Levels'!J120","v":"EL7"},{"$f":"'Efficiency Levels'!K120","v":11272.705477149391},0,null,0,0,0,0,0,0,0,0,0,0,0,0,0,0,0,0,0,0,0,0,0,0,0,0,0,0,0,0,0,0,0,0,0,0,0,0,0,0,0,0,0,0,0,0,0]
[null,null,null,"TOTAL",null,{"$f":"SUM(F176:F187)","v":1},null,{"$f":"SUM(H176:H187)","v":1},{"$f":"SUM(I176:I187)","v":1},1,1,1,1,1,1,1,1,1,1,1,1,1,1,1,1,1,1,1,1,1,1,1,1,1,1,1,1,1,1,1,1,1,1,1,1,1,1,1,1,1,1,1,null,null,null,null,{"$f":"'Efficiency Levels'!J121","v":"EL8"},{"$f":"'Efficiency Levels'!K121","v":10487.294926769302},0,null,0,0,0,0,0,0,0,0,0,0,0,0,0,0,0,0,0,0,0,{"$f":"$BG188","v":0},0,0,0,0,0,0,0,0,0,0,0,0,0,0,0,0,0,0,0,0,0,0,0,0,0]
[null,null,null,null,null,null,null,null,null,null,null,null,null,null,null,null,null,null,null,null,null,null,null,null,null,null,null,null,null,null,null,null,null,null,null,null,null,null,null,null,null,null,null,null,null,null,null,null,null,null,null,null,null,null,null,null,"TOTAL",null,{"$f":"SUM(BG180:BG188)","v":1},null,{"$f":"SUM(BI180:BI188)","v":1},{"$f":"SUM(BJ180:BJ188)","v":1},1,1,1,1,1,1,1,1,1,1,1,1,1,1,1,1,1,1,1,1,1,1,1,1,1,1,1,1,1,1,1,1,1,1,1,1,1,1,1,1,1,1,1]
[null,null,null,"POST-Case"]
[null,null,null,"Efficiency Level","EL (kWh/year)",null,null,1990,{"$f":"H191+1","v":1991},1992,1993,1994,1995,1996,1997,1998,1999,2000,2001,2002,2003,2004,2005,{"$f":"X175","v":2006},2007,2008,2009,2010,2011,2012,2013,2014,2015,2016,2017,2018,2019,2020,2021,2022,2023,2024,2025,2026,2027,2028,2029,2030,2031,2032,2033,2034,null,null,null,null,"POST-Case"]
[null,null,null,{"$f":"'Efficiency Levels'!C113","v":"EL0*"},{"$f":"'Efficiency Levels'!D113","v":195.94022937686199},null,null,{"$f":"H176","v":1},1,1,1,1,1,1,1,1,1,1,1,1,1,1,1,1,1,1,0,0,0,0,0,0,0,0,0,0,0,0,0,0,0,0,0,0,0,0,0,0,0,0,0,0,null,null,null,null,"Efficiency Level","EL (kWh/year)",null,null,1990,{"$f":"BI192+1","v":1991},{"$f":"BJ192+1","v":1992},{"$f":"BK192+1","v":1993},{"$f":"BL192+1","v":1994},{"$f":"BM192+1","v":1995},{"$f":"BN192+1","v":1996},{"$f":"BO192+1","v":1997},{"$f":"BP192+1","v":1998},{"$f":"BQ192+1","v":1999},{"$f":"BR192+1","v":2000},{"$f":"BS192+1","v":2001},{"$f":"BT192+1","v":2002},{"$f":"BU192+1","v":2003},{"$f":"BV192+1","v":2004},{"$f":"BW192+1","v":2005},{"$f":"BY179","v":2006},2007,2008,2009,2010,2011,2012,2013,2014,2015,2016,2017,2018,2019,2020,2021,2022,2023,2024,2025,2026,2027,2028,2029,2030,2031,2032,2033,2034]
[null,null,null,{"$f":"'Efficiency Levels'!C114","v":"EL1*"},{"$f":"'Efficiency Levels'!D114","v":205.56549142375201},null,null,{"$f":"H177","v":0},0,0,0,0,0,0,0,0,0,0,0,0,0,0,0,0,0,0,0,0,0,0,0,0,0,0,0,0,0,0,0,0,0,0,0,0,0,0,0,0,0,0,0,0,null,null,null,null,{"$f":"BE180","v":"EL0"},21166.4581895019,null,null,{"$f":"BI180","v":1},{"$f":"BJ180","v":1},1,1,1,1,1,1,1,1,1,1,1,1,1,1,1,1,1,0,0,0,0,0,0,0,0,0,0,0,0,0,0,0,0,0,0,0,0,0,0,0,0,0,0]
[null,null,null,{"$f":"'Efficiency Levels'!C115","v":"EL2"},{"$f":"'Efficiency Levels'!D115","v":2006.2402820280488},null,null,{"$f":"H178","v":0},0,0,0,0,0,0,0,0,0,0,0,0,0,0,0,0,0,0,{"$f":"SUM(AA176:AA178)","v":1},{"$f":"SUM(AB176:AB178)","v":1},1,1,1,1,1,1,1,1,1,1,1,1,1,1,1,1,1,1,1,1,1,1,1,1,null,null,null,null,{"$f":"BE181","v":"EL1"},15181.5114172797,null,null,0,{"$f":"BJ181","v":0},0,0,0,0,0,0,0,0,0,0,0,0,0,0,0,0,0,0,0,0,0,0,0,0,0,0,0,0,0,0,0,0,0,0,0,0,0,0,0,0,0,0,0]
[null,null,null,{"$f":"'Efficiency Levels'!C116","v":"EL3"},{"$f":"'Efficiency Levels'!D116","v":1966.7443071859993},null,null,{"$f":"H179","v":0},0,0,0,0,0,0,0,0,0,0,0,0,0,0,0,0,0,0,0,0,0,0,0,0,0,0,0,0,0,0,0,0,0,0,0,0,0,0,0,0,0,0,0,0,null,null,null,null,{"$f":"BE182","v":"EL2"},15160.463946731112,null,null,0,{"$f":"BJ182","v":0},0,0,0,0,0,0,0,0,0,0,0,0,0,0,0,0,0,0.75,0.75,0.75,0.75,0.75,0.75,0.75,0.75,0,0,0,0,0,0,0,0,0,0,0,0,0,0,0,0,0,0]
[null,null,null,{"$f":"'Efficiency Levels'!C117","v":"EL4"},{"$f":"'Efficiency Levels'!D117","v":1914.2423126716717},null,null,{"$f":"H180","v":0},0,0,0,0,0,0,0,0,0,0,0,0,0,0,0,0,0,0,0,0,0,0,0,0,0,0,0,0,0,0,0,0,0,0,0,0,0,0,0,0,0,0,0,0,null,null,null,null,"EL3",13461.777600218718,null,null,{"$f":"BI183","v":0},{"$f":"BJ183","v":0},0,0,0,0,0,0,0,0,0,0,0,0,0,0,0,0,0,0.25,0.25,0.25,0.25,0.25,0.25,0.25,0.25,0,0,0,0,0,0,0,0,0,0,0,0,0,0,0,0,0,0]
[null,null,null,{"$f":"'Efficiency Levels'!C118","v":"EL5"},{"$f":"'Efficiency Levels'!D118","v":1897.4366993407891},null,null,{"$f":"H181","v":0},0,0,0,0,0,0,0,0,0,0,0,0,0,0,0,0,0,0,0,0,0,0,0,0,0,0,0,0,0,0,0,0,0,0,0,0,0,0,0,0,0,0,0,0,null,null,null,null,"EL4",12896.327213101886,null,null,{"$f":"BI184","v":0},{"$f":"BJ184","v":0},0,0,0,0,0,0,0,0,0,0,0,0,0,0,0,0,0,0,0,0,0,0,0,0,0,0,0,0,0,0,0,0,0,0,0,0,0,0,0,0,0,0,0]
[null,null,null,{"$f":"'Efficiency Levels'!C119","v":"EL6"},{"$f":"'Efficiency Levels'!D119","v":1876.1241110555127},null,null,{"$f":"H182","v":0},0,0,0,0,0,0,0,0,0,0,0,0,0,0,0,0,0,0,0,0,0,0,0,0,0,0,0,0,0,0,0,0,0,0,0,0,0,0,0,0,0,0,0,0,null,null,null,null,"EL5",12557.056980831894,null,null,{"$f":"BI185","v":0},{"$f":"BJ185","v":0},0,0,0,0,0,0,0,0,0,0,0,0,0,0,0,0,0,0,0,0,0,0,0,0,0,0,0,0,0,0,0,0,0,0,0,0,0,0,0,0,0,0,0]
[null,null,null,{"$f":"'Efficiency Levels'!C120","v":"EL7"},{"$f":"'Efficiency Levels'!D120","v":1852.1979304733545},null,null,{"$f":"H183","v":0},0,0,0,0,0,0,0,0,0,0,0,0,0,0,0,0,0,0,0,0,0,0,0,0,0,0,0,0,0,0,0,0,0,0,0,0,0,0,0,0,0,0,0,0,null,null,null,null,"EL6",11414.207782501275,null,null,{"$f":"BI186","v":0},{"$f":"BJ186","v":0},0,0,0,0,0,0,0,0,0,0,0,0,0,0,0,0,0,0,0,0,0,0,0,0,0,0,0,0,0,0,0,0,0,0,0,0,0,0,0,0,0,0,0]
[null,null,null,{"$f":"'Efficiency Levels'!C121","v":"EL8"},{"$f":"'Efficiency Levels'!D121","v":1836.0951528056928},null,null,{"$f":"H184","v":0},0,0,0,0,0,0,0,0,0,0,0,0,0,0,0,0,0,0,0,0,0,0,0,0,0,0,0,0,0,0,0,0,0,0,0,0,0,0,0,0,0,0,0,0,null,null,null,null,"EL7",11272.705477149391,null,null,{"$f":"BI187","v":0},{"$f":"BJ187","v":0},0,0,0,0,0,0,0,0,0,0,0,0,0,0,0,0,0,0,0,0,0,0,0,0,0,0,0,0,0,0,0,0,0,0,0,0,0,0,0,0,0,0,0]
[null,null,null,{"$f":"'Efficiency Levels'!C122","v":"EL9"},{"$f":"'Efficiency Levels'!D122","v":1820.2874542664706},null,null,{"$f":"H185","v":0},0,0,0,0,0,0,0,0,0,0,0,0,0,0,0,0,0,0,0,0,0,0,0,0,0,0,0,0,0,0,0,0,0,0,0,0,0,0,0,0,0,0,0,0,null,null,null,null,"EL8",10487.294926769302,null,null,{"$f":"BI188","v":0},{"$f":"BJ188","v":0},0,0,0,0,0,0,0,0,0,0,0,0,0,0,0,0,0,0,0,0,0,0,0,0,0,{"$f":"SUM(CJ182:CJ188)","v":1},1,1,1,1,1,1,1,1,1,1,1,1,1,1,1,1,1]
[null,null,null,{"$f":"'Efficiency Levels'!C123","v":"EL10"},{"$f":"'Efficiency Levels'!D123","v":1793.8138456372776},null,null,{"$f":"H186","v":0},0,0,0,0,0,0,0,0,0,0,0,0,0,0,0,0,0,0,0,0,0,0,0,0,0,0,0,0,0,0,0,0,0,0,0,0,0,0,0,0,0,0,0,0,null,null,null,null,"TOTAL",null,null,null,{"$f":"SUM(BI193:BI201)","v":1},{"$f":"SUM(BJ193:BJ201)","v":1},1,1,1,1,1,1,1,1,1,1,1,1,1,1,1,1,1,1,1,1,1,1,1,1,1,1,1,1,1,1,1,1,1,1,1,1,1,1,1,1,1,1,1]
[null,null,null,{"$f":"'Efficiency Levels'!C124","v":"EL11"},{"$f":"'Efficiency Levels'!D124","v":1757.0903179569655},null,null,{"$f":"H187","v":0},0,0,0,0,0,0,0,0,0,0,0,0,0,0,0,0,0,0,0,0,0,0,0,0,0,0,0,0,0,0,0,0,0,0,0,0,0,0,0,0,0,0,0,0]
[null,null,null,"TOTAL",null,null,null,{"$f":"SUM(H192:H203)","v":1},{"$f":"SUM(I192:I203)","v":1},1,1,1,1,1,1,1,1,1,1,1,1,1,1,1,1,1,1,1,1,1,1,1,1,1,1,1,1,1,1,1,1,1,1,1,1,1,1,1,1,1,1,1,null,null,null,null,"Sources","1. DOE Walk-In Coolers and Freezers 2014 Final Rule, Technical Support Document: Final Rule National Impact Analysis (NIA) - Systems, 'Market Share Inputs' tab, cells B3:M35, http://www.regulations.gov/#!documentDetail;D=EERE-2008-BT-STD-0015-0134"]
[]
[null,null,null,"Sources","1. DOE Walk-In Coolers and Freezers 2014 Final Rule, Technical Support Document: Final Rule National Impact Analysis (NIA) - Components, 'Market Share Inputs' tab, cells B3:M35, http://www.regulations.gov/#!documentDetail;D=EERE-2008-BT-STD-0015-0134"]
[]
[]
[null,null,null,null,null,null,null,null,null,null,null,null,null,null,null,null,null,null,null,null,null,null,null,null,null,null,null,null,null,null,null,null,null,null,null,null,null,null,null,null,null,null,null,null,null,null,null,null,null,null,null,null,null,null,null,null,{"$f":"'Product Class Dist'!AZ17","v":"DC.M.O.006"}]
[]
[null,null,null,{"$f":"'Product Classes'!K17&\" - \"&OFFSET('Product Classes'!$F$10,MATCH('Product Classes'!K17,MODEL_PCS,0),0)","v":"FD.L - Freight Door, Low Temperature"},null,null,null,null,null,null,null,null,null,null,null,null,null,null,null,null,null,null,null,null,null,null,null,null,null,null,null,null,null,null,null,null,null,null,null,null,null,null,null,null,null,null,null,null,null,null,null,null,null,null,null,null,"PRE-Case",null,"Static Distribution"]
[null,null,null,null,null,null,null,null,null,null,null,null,null,null,null,null,null,null,null,null,null,null,null,null,null,null,null,null,null,null,null,null,null,null,null,null,null,null,null,null,null,null,null,null,null,null,null,null,null,null,null,null,null,null,null,null,"Efficiency Level","EL (kWh/year)",2014,null,1990,{"$f":"BI212+1","v":1991},{"$f":"BJ212+1","v":1992},{"$f":"BK212+1","v":1993},{"$f":"BL212+1","v":1994},{"$f":"BM212+1","v":1995},{"$f":"BN212+1","v":1996},{"$f":"BO212+1","v":1997},{"$f":"BP212+1","v":1998},{"$f":"BQ212+1","v":1999},{"$f":"BR212+1","v":2000},{"$f":"BS212+1","v":2001},{"$f":"BT212+1","v":2002},{"$f":"BU212+1","v":2003},{"$f":"BV212+1","v":2004},{"$f":"BW212+1","v":2005},{"$f":"BX212+1","v":2006},{"$f":"BY212+1","v":2007},{"$f":"BZ212+1","v":2008},{"$f":"CA212+1","v":2009},{"$f":"CB212+1","v":2010},{"$f":"CC212+1","v":2011},{"$f":"CD212+1","v":2012},{"$f":"CE212+1","v":2013},{"$f":"CF212+1","v":2014},{"$f":"CG212+1","v":2015},{"$f":"CH212+1","v":2016},{"$f":"CI212+1","v":2017},{"$f":"CJ212+1","v":2018},{"$f":"CK212+1","v":2019},{"$f":"CL212+1","v":2020},{"$f":"CM212+1","v":2021},{"$f":"CN212+1","v":2022},{"$f":"CO212+1","v":2023},{"$f":"CP212+1","v":2024},{"$f":"CQ212+1","v":2025},{"$f":"CR212+1","v":2026},{"$f":"CS212+1","v":2027},{"$f":"CT212+1","v":2028},{"$f":"CU212+1","v":2029},{"$f":"CV212+1","v":2030},{"$f":"CW212+1","v":2031},{"$f":"CX212+1","v":2032},{"$f":"CY212+1","v":2033},{"$f":"CZ212+1","v":2034}]
[null,null,null,"PRE-Case",null,"Static Distribution",null,null,null,null,null,null,null,null,null,null,null,null,null,null,null,null,null,null,null,null,null,null,null,null,null,null,null,null,null,null,null,null,null,null,null,null,null,null,null,null,null,null,null,null,null,null,null,null,null,null,{"$f":"'Efficiency Levels'!J136","v":"EL0"},{"$f":"'Efficiency Levels'!K136","v":6944.6726315879596},0,null,1,1,1,1,1,1,1,1,1,1,1,1,1,1,1,1,1,1,1,{"$f":"$BG213","v":0},0,0,0,0,0,0,0,0,0,0,0,0,0,0,0,{"$f":"$BG213","v":0},0,0,0,0,0,0,0,0,0]
[null,null,null,"Efficiency Level","EL (kWh/year)",2006,null,1990,{"$f":"H214+1","v":1991},{"$f":"I214+1","v":1992},{"$f":"J214+1","v":1993},{"$f":"K214+1","v":1994},{"$f":"L214+1","v":1995},{"$f":"M214+1","v":1996},{"$f":"N214+1","v":1997},{"$f":"O214+1","v":1998},{"$f":"P214+1","v":1999},{"$f":"Q214+1","v":2000},{"$f":"R214+1","v":2001},{"$f":"S214+1","v":2002},{"$f":"T214+1","v":2003},{"$f":"U214+1","v":2004},{"$f":"V214+1","v":2005},{"$f":"W214+1","v":2006},{"$f":"X214+1","v":2007},{"$f":"Y214+1","v":2008},{"$f":"Z214+1","v":2009},{"$f":"AA214+1","v":2010},{"$f":"AB214+1","v":2011},{"$f":"AC214+1","v":2012},{"$f":"AD214+1","v":2013},{"$f":"AE214+1","v":2014},{"$f":"AF214+1","v":2015},{"$f":"AG214+1","v":2016},{"$f":"AH214+1","v":2017},{"$f":"AI214+1","v":2018},{"$f":"AJ214+1","v":2019},{"$f":"AK214+1","v":2020},{"$f":"AL214+1","v":2021},{"$f":"AM214+1","v":2022},{"$f":"AN214+1","v":2023},{"$f":"AO214+1","v":2024},{"$f":"AP214+1","v":2025},{"$f":"AQ214+1","v":2026},{"$f":"AR214+1","v":2027},{"$f":"AS214+1","v":2028},{"$f":"AT214+1","v":2029},{"$f":"AU214+1","v":2030},{"$f":"AV214+1","v":2031},{"$f":"AW214+1","v":2032},{"$f":"AX214+1","v":2033},{"$f":"AY214+1","v":2034},null,null,null,null,{"$f":"'Efficiency Levels'!J137","v":"EL1"},{"$f":"'Efficiency Levels'!K137","v":5372.2553613902101},0,null,0,0,0,0,0,0,0,0,0,0,0,0,0,0,0,0,0,0,0,0,0,0,0,0,0,0,0,0,0,0,0,0,0,0,0,0,0,0,0,0,0,0,0,0,0]
[null,null,null,{"$f":"'Efficiency Levels'!C136","v":"EL0"},{"$f":"'Efficiency Levels'!D136","v":4477.06534889674},1,null,{"$f":"$F215","v":1},1,1,1,1,1,1,1,1,1,1,1,1,1,1,1,{"$f":"$F215","v":1},1,1,0,0,0,0,0,0,0,0,0,0,0,0,0,0,0,0,0,0,0,0,0,0,0,0,0,0,null,null,null,null,{"$f":"'Efficiency Levels'!J138","v":"EL2"},{"$f":"'Efficiency Levels'!K138","v":3910.5754070216203},0.75,null,0,0,0,0,0,0,0,0,0,0,0,0,0,0,0,0,0,0,0,{"$f":"$BG215","v":0.75},0.75,0.75,0.75,0.75,0.75,0.75,0.75,0.75,0.75,0.75,0.75,0.75,0.75,0.75,0.75,0.75,0.75,0.75,0.75,0.75,0.75,0.75,0.75,0.75,0.75]
[null,null,null,{"$f":"'Efficiency Levels'!C137","v":"EL1"},{"$f":"'Efficiency Levels'!D137","v":6044.1762430008403},0,null,0,0,0,0,0,0,0,0,0,0,0,0,0,0,0,0,0,0,0,0,0,0,0,0,0,0,0,0,0,0,0,0,0,0,0,0,0,0,0,0,0,0,0,0,0,null,null,null,null,{"$f":"'Efficiency Levels'!J139","v":"EL3"},{"$f":"'Efficiency Levels'!K139","v":3259.5849555312366},0.25,null,0,0,0,0,0,0,0,0,0,0,0,0,0,0,0,0,0,0,0,0.25,0.25,0.25,0.25,0.25,0.25,0.25,0.25,0.25,0.25,0.25,0.25,0.25,0.25,0.25,0.25,0.25,0.25,0.25,0.25,0.25,0.25,0.25,0.25,0.25,0.25]
[null,null,null,{"$f":"'Efficiency Levels'!C138","v":"EL2"},{"$f":"'Efficiency Levels'!D138","v":7768.5588338511307},0,null,0,0,0,0,0,0,0,0,0,0,0,0,0,0,0,0,{"$f":"$F217","v":0},0,0,1,1,1,1,1,1,1,1,1,1,1,1,1,1,1,1,1,1,1,1,1,1,1,1,1,1,null,null,null,null,{"$f":"'Efficiency Levels'!J140","v":"EL4"},{"$f":"'Efficiency Levels'!K140","v":3079.6937668717978},0,null,0,0,0,0,0,0,0,0,0,0,0,0,0,0,0,0,0,0,0,0,0,0,0,0,0,0,0,0,0,0,0,0,0,0,0,0,0,0,0,0,0,0,0,0,0]
[null,null,null,{"$f":"'Efficiency Levels'!C139","v":"EL3"},{"$f":"'Efficiency Levels'!D139","v":7356.4720262820674},0,null,0,0,0,0,0,0,0,0,0,0,0,0,0,0,0,0,0,0,0,0,0,0,0,0,0,0,0,0,0,0,0,0,0,0,0,0,0,0,0,0,0,0,0,0,0,null,null,null,null,{"$f":"'Efficiency Levels'!J141","v":"EL5"},{"$f":"'Efficiency Levels'!K141","v":2953.7506924033291},0,null,0,0,0,0,0,0,0,0,0,0,0,0,0,0,0,0,0,0,0,0,0,0,0,0,0,0,0,0,0,0,0,0,0,0,0,0,0,0,0,0,0,0,0,0,0]
[null,null,null,{"$f":"'Efficiency Levels'!C140","v":"EL4"},{"$f":"'Efficiency Levels'!D140","v":7120.4847706009432},0,null,0,0,0,0,0,0,0,0,0,0,0,0,0,0,0,0,0,0,0,0,0,0,0,0,0,0,0,0,0,0,0,0,0,0,0,0,0,0,0,0,0,0,0,0,0,null,null,null,null,{"$f":"'Efficiency Levels'!J142","v":"EL6"},{"$f":"'Efficiency Levels'!K142","v":2527.184121821188},0,null,0,0,0,0,0,0,0,0,0,0,0,0,0,0,0,0,0,0,0,0,0,0,0,0,0,0,0,0,0,0,0,0,0,0,0,0,0,0,0,0,0,0,0,0,0]
[null,null,null,{"$f":"'Efficiency Levels'!C141","v":"EL5"},{"$f":"'Efficiency Levels'!D141","v":6873.7059283035323},0,null,0,0,0,0,0,0,0,0,0,0,0,0,0,0,0,0,0,0,0,0,0,0,0,0,0,0,0,0,0,0,0,0,0,0,0,0,0,0,0,0,0,0,0,0,0,null,null,null,null,{"$f":"'Efficiency Levels'!J143","v":"EL7"},{"$f":"'Efficiency Levels'!K143","v":2395.8201735145235},0,null,0,0,0,0,0,0,0,0,0,0,0,0,0,0,0,0,0,0,0,0,0,0,0,0,0,0,0,0,0,0,0,0,0,0,0,0,0,0,0,0,0,0,0,0,0]
[null,null,null,{"$f":"'Efficiency Levels'!C142","v":"EL6"},{"$f":"'Efficiency Levels'!D142","v":6751.9336162241725},0,null,0,0,0,0,0,0,0,0,0,0,0,0,0,0,0,0,0,0,0,0,0,0,0,0,0,0,0,0,0,0,0,0,0,0,0,0,0,0,0,0,0,0,0,0,0,null,null,null,null,{"$f":"'Efficiency Levels'!J144","v":"EL8"},{"$f":"'Efficiency Levels'!K144","v":2313.5536125124772},0,null,0,0,0,0,0,0,0,0,0,0,0,0,0,0,0,0,0,0,0,{"$f":"$BG221","v":0},0,0,0,0,0,0,0,0,0,0,0,0,0,0,0,0,0,0,0,0,0,0,0,0,0]
[null,null,null,{"$f":"'Efficiency Levels'!C143","v":"EL7"},{"$f":"'Efficiency Levels'!D143","v":6636.5245188924782},0,null,0,0,0,0,0,0,0,0,0,0,0,0,0,0,0,0,0,0,0,0,0,0,0,0,0,0,0,0,0,0,0,0,0,0,0,0,0,0,0,0,0,0,0,0,0,null,null,null,null,{"$f":"'Efficiency Levels'!J145","v":"EL9"},{"$f":"'Efficiency Levels'!K145","v":2255.8373698587443},0,null,0,0,0,0,0,0,0,0,0,0,0,0,0,0,0,0,0,0,0,0,0,0,0,0,0,0,0,0,0,0,0,0,0,0,0,0,0,0,0,0,0,0,0,0,0]
[null,null,null,{"$f":"'Efficiency Levels'!C144","v":"EL8"},{"$f":"'Efficiency Levels'!D144","v":6554.4765278792502},0,null,0,0,0,0,0,0,0,0,0,0,0,0,0,0,0,0,0,0,0,0,0,0,0,0,0,0,0,0,0,0,0,0,0,0,0,0,0,0,0,0,0,0,0,0,0,null,null,null,null,"TOTAL",null,{"$f":"SUM(BG213:BG222)","v":1},null,{"$f":"SUM(BI213:BI222)","v":1},{"$f":"SUM(BJ213:BJ222)","v":1},1,1,1,1,1,1,1,1,1,1,1,1,1,1,1,1,1,1,1,1,1,1,1,1,1,1,1,1,1,1,1,1,1,1,1,1,1,1,1,1,1,1,1]
[null,null,null,{"$f":"'Efficiency Levels'!C145","v":"EL9"},{"$f":"'Efficiency Levels'!D145","v":6490.4972750778898},0,null,0,0,0,0,0,0,0,0,0,0,0,0,0,0,0,0,0,0,0,0,0,0,0,0,0,0,0,0,0,0,0,0,0,0,0,0,0,0,0,0,0,0,0,0,0]
[null,null,null,{"$f":"'Efficiency Levels'!C146","v":"EL10"},{"$f":"'Efficiency Levels'!D146","v":6349.8231836124633},0,null,0,0,0,0,0,0,0,0,0,0,0,0,0,0,0,0,0,0,0,0,0,0,0,0,0,0,0,0,0,0,0,0,0,0,0,0,0,0,0,{"$f":"$F225","v":0},0,0,0,0,0,null,null,null,null,"POST-Case"]
[null,null,null,"TOTAL",null,{"$f":"SUM(F215:F225)","v":1},null,{"$f":"SUM(H215:H225)","v":1},{"$f":"SUM(I215:I225)","v":1},1,1,1,1,1,1,1,1,1,1,1,1,1,1,1,1,1,1,1,1,1,1,1,1,1,1,1,1,1,1,1,1,1,1,1,1,1,1,1,1,1,1,1,null,null,null,null,"Efficiency Level","EL (kWh/year)",null,null,1990,{"$f":"BI226+1","v":1991},{"$f":"BJ226+1","v":1992},{"$f":"BK226+1","v":1993},{"$f":"BL226+1","v":1994},{"$f":"BM226+1","v":1995},{"$f":"BN226+1","v":1996},{"$f":"BO226+1","v":1997},{"$f":"BP226+1","v":1998},{"$f":"BQ226+1","v":1999},{"$f":"BR226+1","v":2000},{"$f":"BS226+1","v":2001},{"$f":"BT226+1","v":2002},{"$f":"BU226+1","v":2003},{"$f":"BV226+1","v":2004},{"$f":"BW226+1","v":2005},{"$f":"BY212","v":2006},2007,2008,2009,2010,2011,2012,2013,2014,2015,2016,2017,2018,2019,2020,2021,2022,2023,2024,2025,2026,2027,2028,2029,2030,2031,2032,2033,2034]
[null,null,null,null,null,null,null,null,null,null,null,null,null,null,null,null,null,null,null,null,null,null,null,null,null,null,null,null,null,null,null,null,null,null,null,null,null,null,null,null,null,null,null,null,null,null,null,null,null,null,null,null,null,null,null,null,{"$f":"BE213","v":"EL0"},6944.6726315879596,null,null,{"$f":"BI213","v":1},1,1,1,1,1,1,1,1,1,1,1,1,1,1,1,1,1,1,0,{"$f":"CC213","v":0},0,0,0,0,0,0,0,0,0,0,0,0,0,0,0,0,0,0,0,0,0,0,0,0]
[null,null,null,"POST-Case",null,null,null,null,null,null,null,null,null,null,null,null,null,null,null,null,null,null,null,null,null,null,null,null,null,null,null,null,null,null,null,null,null,null,null,null,null,null,null,null,null,null,null,null,null,null,null,null,null,null,null,null,{"$f":"BE214","v":"EL1"},5372.2553613902101,null,null,{"$f":"BI214","v":0},0,0,0,0,0,0,0,0,0,0,0,0,0,0,0,0,0,0,0,{"$f":"CC214","v":0},0,0,0,0,0,0,0,0,0,0,0,0,0,0,0,0,0,0,0,0,0,0,0,0]
[null,null,null,"Efficiency Level","EL (kWh/year)",null,null,1990,{"$f":"H229+1","v":1991},{"$f":"I229+1","v":1992},{"$f":"J229+1","v":1993},{"$f":"K229+1","v":1994},{"$f":"L229+1","v":1995},{"$f":"M229+1","v":1996},{"$f":"N229+1","v":1997},{"$f":"O229+1","v":1998},{"$f":"P229+1","v":1999},{"$f":"Q229+1","v":2000},{"$f":"R229+1","v":2001},{"$f":"S229+1","v":2002},{"$f":"T229+1","v":2003},{"$f":"U229+1","v":2004},{"$f":"V229+1","v":2005},{"$f":"X214","v":2006},2007,2008,2009,2010,2011,2012,2013,2014,2015,2016,2017,2018,2019,2020,2021,2022,2023,2024,2025,2026,2027,2028,2029,2030,2031,2032,2033,2034,null,null,null,null,{"$f":"BE215","v":"EL2"},3910.5754070216203,null,null,{"$f":"BI215","v":0},0,0,0,0,0,0,0,0,0,0,0,0,0,0,0,0,0,0,0.75,0.75,0.75,0.75,0.75,0.75,0.75,0.75,0,0,0,0,0,0,0,0,0,0,0,0,0,0,0,0,0,0]
[null,null,null,{"$f":"'Efficiency Levels'!C136","v":"EL0"},{"$f":"'Efficiency Levels'!D136","v":4477.06534889674},null,null,{"$f":"H215","v":1},1,1,1,1,1,1,1,1,1,1,1,1,1,1,1,1,1,1,0,0,0,0,0,0,0,0,0,0,0,0,0,0,0,0,0,0,0,0,0,0,0,0,0,0,null,null,null,null,"EL3",3259.5849555312366,null,null,{"$f":"BI216","v":0},0,0,0,0,0,0,0,0,0,0,0,0,0,0,0,0,0,0,0.25,0.25,0.25,0.25,0.25,0.25,0.25,0.25,0,0,0,0,0,0,0,0,0,0,0,0,0,0,0,0,0,0]
[null,null,null,{"$f":"'Efficiency Levels'!C137","v":"EL1"},{"$f":"'Efficiency Levels'!D137","v":6044.1762430008403},null,null,{"$f":"H216","v":0},0,0,0,0,0,0,0,0,0,0,0,0,0,0,0,0,0,0,0,0,0,0,0,0,0,0,0,0,0,0,0,0,0,0,0,0,0,0,0,0,0,0,0,0,null,null,null,null,"EL4",3079.6937668717978,null,null,{"$f":"BI217","v":0},0,0,0,0,0,0,0,0,0,0,0,0,0,0,0,0,0,0,0,0,0,0,0,0,0,0,0,0,0,0,0,0,0,0,0,0,0,0,0,0,0,0,0,0]
[null,null,null,{"$f":"'Efficiency Levels'!C138","v":"EL2"},{"$f":"'Efficiency Levels'!D138","v":7768.5588338511307},null,null,{"$f":"H217","v":0},0,0,0,0,0,0,0,0,0,0,0,0,0,0,0,0,0,0,{"$f":"SUM(AA215:AA217)","v":1},{"$f":"SUM(AB215:AB217)","v":1},1,1,1,1,1,1,1,1,1,1,1,1,1,1,1,1,1,1,1,1,1,1,1,1,null,null,null,null,"EL5",2953.7506924033291,null,null,{"$f":"BI218","v":0},0,0,0,0,0,0,0,0,0,0,0,0,0,0,0,0,0,0,0,0,0,0,0,0,0,0,0,0,0,0,0,0,0,0,0,0,0,0,0,0,0,0,0,0]
[null,null,null,{"$f":"'Efficiency Levels'!C139","v":"EL3"},{"$f":"'Efficiency Levels'!D139","v":7356.4720262820674},null,null,{"$f":"H218","v":0},0,0,0,0,0,0,0,0,0,0,0,0,0,0,0,0,0,0,0,0,0,0,0,0,0,0,0,0,0,0,0,0,0,0,0,0,0,0,0,0,0,0,0,0,null,null,null,null,"EL6",2527.184121821188,null,null,{"$f":"BI219","v":0},0,0,0,0,0,0,0,0,0,0,0,0,0,0,0,0,0,0,0,0,0,0,0,0,0,0,0,0,0,0,0,0,0,0,0,0,0,0,0,0,0,0,0,0]
[null,null,null,{"$f":"'Efficiency Levels'!C140","v":"EL4"},{"$f":"'Efficiency Levels'!D140","v":7120.4847706009432},null,null,{"$f":"H219","v":0},0,0,0,0,0,0,0,0,0,0,0,0,0,0,0,0,0,0,0,0,0,0,0,0,0,0,0,0,0,0,0,0,0,0,0,0,0,0,0,0,0,0,0,0,null,null,null,null,"EL7",2395.8201735145235,null,null,{"$f":"BI220","v":0},0,0,0,0,0,0,0,0,0,0,0,0,0,0,0,0,0,0,0,0,0,0,0,0,0,0,0,0,0,0,0,0,0,0,0,0,0,0,0,0,0,0,0,0]
[null,null,null,{"$f":"'Efficiency Levels'!C141","v":"EL5"},{"$f":"'Efficiency Levels'!D141","v":6873.7059283035323},null,null,{"$f":"H220","v":0},0,0,0,0,0,0,0,0,0,0,0,0,0,0,0,0,0,0,0,0,0,0,0,0,0,0,0,0,0,0,0,0,0,0,0,0,0,0,0,0,0,0,0,0,null,null,null,null,"EL8",2313.5536125124772,null,null,{"$f":"BI221","v":0},0,0,0,0,0,0,0,0,0,0,0,0,0,0,0,0,0,0,0,0,0,0,0,0,0,0,0,0,0,0,0,0,0,0,0,0,0,0,0,0,0,0,0,0]
[null,null,null,{"$f":"'Efficiency Levels'!C142","v":"EL6"},{"$f":"'Efficiency Levels'!D142","v":6751.9336162241725},null,null,{"$f":"H221","v":0},0,0,0,0,0,0,0,0,0,0,0,0,0,0,0,0,0,0,0,0,0,0,0,0,0,0,0,0,0,0,0,0,0,0,0,0,0,0,0,0,0,0,0,0,null,null,null,null,"EL9",2255.8373698587443,null,null,{"$f":"BI222","v":0},0,0,0,0,0,0,0,0,0,0,0,0,0,0,0,0,0,0,0,0,0,0,0,0,0,0,{"$f":"SUM(CJ215:CJ222)","v":1},1,1,1,1,1,1,1,1,1,1,1,1,1,1,1,1,1]
[null,null,null,{"$f":"'Efficiency Levels'!C143","v":"EL7"},{"$f":"'Efficiency Levels'!D143","v":6636.5245188924782},null,null,{"$f":"H222","v":0},0,0,0,0,0,0,0,0,0,0,0,0,0,0,0,0,0,0,0,0,0,0,0,0,0,0,0,0,0,0,0,0,0,0,0,0,0,0,0,0,0,0,0,0,null,null,null,null,"TOTAL",null,null,null,{"$f":"SUM(BI227:BI236)","v":1},{"$f":"SUM(BJ227:BJ236)","v":1},1,1,1,1,1,1,1,1,1,1,1,1,1,1,1,1,1,1,1,1,1,1,1,1,1,1,1,1,1,1,1,1,1,1,1,1,1,1,1,1,1,1,1]
[null,null,null,{"$f":"'Efficiency Levels'!C144","v":"EL8"},{"$f":"'Efficiency Levels'!D144","v":6554.4765278792502},null,null,{"$f":"H223","v":0},0,0,0,0,0,0,0,0,0,0,0,0,0,0,0,0,0,0,0,0,0,0,0,0,0,0,0,0,0,0,0,0,0,0,0,0,0,0,0,0,0,0,0,0]
[null,null,null,{"$f":"'Efficiency Levels'!C145","v":"EL9"},{"$f":"'Efficiency Levels'!D145","v":6490.4972750778898},null,null,{"$f":"H224","v":0},0,0,0,0,0,0,0,0,0,0,0,0,0,0,0,0,0,0,0,0,0,0,0,0,0,0,0,0,0,0,0,0,0,0,0,0,0,0,0,0,0,0,0,0,null,null,null,null,"Sources","1. DOE Walk-In Coolers and Freezers 2014 Final Rule, Technical Support Document: Final Rule National Impact Analysis (NIA) - Systems, 'Market Share Inputs' tab, cells B3:M35, http://www.regulations.gov/#!documentDetail;D=EERE-2008-BT-STD-0015-0134"]
[null,null,null,{"$f":"'Efficiency Levels'!C146","v":"EL10"},{"$f":"'Efficiency Levels'!D146","v":6349.8231836124633},null,null,{"$f":"H225","v":0},0,0,0,0,0,0,0,0,0,0,0,0,0,0,0,0,0,0,0,0,0,0,0,0,0,0,0,0,0,0,0,0,0,0,0,0,0,0,0,0,0,0,0,0]
[null,null,null,"TOTAL",null,null,null,{"$f":"SUM(H230:H240)","v":1},{"$f":"SUM(I230:I240)","v":1},1,1,1,1,1,1,1,1,1,1,1,1,1,1,1,1,1,1,1,1,1,1,1,1,1,1,1,1,1,1,1,1,1,1,1,1,1,1,1,1,1,1,1]
[]
[null,null,null,"Sources","1. DOE Walk-In Coolers and Freezers 2014 Final Rule, Technical Support Document: Final Rule National Impact Analysis (NIA) - Components, 'Market Share Inputs' tab, cells B3:M35, http://www.regulations.gov/#!documentDetail;D=EERE-2008-BT-STD-0015-0134"]
[null,null,null,null,null,null,null,null,null,null,null,null,null,null,null,null,null,null,null,null,null,null,null,null,null,null,null,null,null,null,null,null,null,null,null,null,null,null,null,null,null,null,null,null,null,null,null,null,null,null,null,null,null,null,null,null,{"$f":"'Product Class Dist'!AZ18","v":"DC.M.O.018"}]
[]
[null,null,null,null,null,null,null,null,null,null,null,null,null,null,null,null,null,null,null,null,null,null,null,null,null,null,null,null,null,null,null,null,null,null,null,null,null,null,null,null,null,null,null,null,null,null,null,null,null,null,null,null,null,null,null,null,"PRE-Case",null,"Static Distribution"]
[null,null,null,null,null,null,null,null,null,null,null,null,null,null,null,null,null,null,null,null,null,null,null,null,null,null,null,null,null,null,null,null,null,null,null,null,null,null,null,null,null,null,null,null,null,null,null,null,null,null,null,null,null,null,null,null,"Efficiency Level","EL (kWh/year)",2014,null,1990,{"$f":"BI247+1","v":1991},{"$f":"BJ247+1","v":1992},{"$f":"BK247+1","v":1993},{"$f":"BL247+1","v":1994},{"$f":"BM247+1","v":1995},{"$f":"BN247+1","v":1996},{"$f":"BO247+1","v":1997},{"$f":"BP247+1","v":1998},{"$f":"BQ247+1","v":1999},{"$f":"BR247+1","v":2000},{"$f":"BS247+1","v":2001},{"$f":"BT247+1","v":2002},{"$f":"BU247+1","v":2003},{"$f":"BV247+1","v":2004},{"$f":"BW247+1","v":2005},{"$f":"BX247+1","v":2006},{"$f":"BY247+1","v":2007},{"$f":"BZ247+1","v":2008},{"$f":"CA247+1","v":2009},{"$f":"CB247+1","v":2010},{"$f":"CC247+1","v":2011},{"$f":"CD247+1","v":2012},{"$f":"CE247+1","v":2013},{"$f":"CF247+1","v":2014},{"$f":"CG247+1","v":2015},{"$f":"CH247+1","v":2016},{"$f":"CI247+1","v":2017},{"$f":"CJ247+1","v":2018},{"$f":"CK247+1","v":2019},{"$f":"CL247+1","v":2020},{"$f":"CM247+1","v":2021},{"$f":"CN247+1","v":2022},{"$f":"CO247+1","v":2023},{"$f":"CP247+1","v":2024},{"$f":"CQ247+1","v":2025},{"$f":"CR247+1","v":2026},{"$f":"CS247+1","v":2027},{"$f":"CT247+1","v":2028},{"$f":"CU247+1","v":2029},{"$f":"CV247+1","v":2030},{"$f":"CW247+1","v":2031},{"$f":"CX247+1","v":2032},{"$f":"CY247+1","v":2033},{"$f":"CZ247+1","v":2034}]
[null,null,null,{"$f":"'Product Classes'!K18&\" - \"&OFFSET('Product Classes'!$F$10,MATCH('Product Classes'!K18,MODEL_PCS,0),0)","v":"DD.M - Display Door, Medium Temperature"},null,null,null,null,null,null,null,null,null,null,null,null,null,null,null,null,null,null,null,null,null,null,null,null,null,null,null,null,null,null,null,null,null,null,null,null,null,null,null,null,null,null,null,null,null,null,null,null,null,null,null,null,{"$f":"'Efficiency Levels'!J157","v":"EL0"},{"$f":"'Efficiency Levels'!K157","v":17789.501762618002},0,null,1,1,1,1,1,1,1,1,1,1,1,1,1,1,1,1,1,1,1,{"$f":"$BG248","v":0},0,0,0,0,{"$f":"$BG248","v":0},0,0,0,0,0,0,0,0,0,0,0,0,0,0,0,0,0,0,0,0]
[null,null,null,null,null,null,null,null,null,null,null,null,null,null,null,null,null,null,null,null,null,null,null,null,null,null,null,null,null,null,null,null,null,null,null,null,null,null,null,null,null,null,null,null,null,null,null,null,null,null,null,null,null,null,null,null,{"$f":"'Efficiency Levels'!J158","v":"EL1"},{"$f":"'Efficiency Levels'!K158","v":12254.521748499101},0,null,0,0,0,0,0,0,0,0,0,0,0,0,0,0,0,0,0,0,0,0,0,0,0,0,0,0,0,0,0,0,0,0,0,0,0,0,0,0,0,0,0,0,0,0,0]
[null,null,null,"PRE-Case",null,"Static Distribution",null,null,null,null,null,null,null,null,null,null,null,null,null,null,null,null,null,null,null,null,null,null,null,null,null,null,null,null,null,null,null,null,null,null,null,null,null,null,null,null,null,null,null,null,null,null,null,null,null,null,{"$f":"'Efficiency Levels'!J159","v":"EL2"},{"$f":"'Efficiency Levels'!K159","v":10464.565870606368},0.75,null,0,0,0,0,0,0,0,0,0,0,0,0,0,0,0,0,0,0,0,0.75,0.75,0.75,0.75,0.75,0.75,0.75,0.75,0.75,0.75,0.75,0.75,0.75,0.75,0.75,0.75,0.75,0.75,0.75,0.75,0.75,0.75,0.75,0.75,0.75,0.75]
[null,null,null,"Efficiency Level","EL (kWh/year)",2014,null,1990,{"$f":"H251+1","v":1991},{"$f":"I251+1","v":1992},{"$f":"J251+1","v":1993},{"$f":"K251+1","v":1994},{"$f":"L251+1","v":1995},{"$f":"M251+1","v":1996},{"$f":"N251+1","v":1997},{"$f":"O251+1","v":1998},{"$f":"P251+1","v":1999},{"$f":"Q251+1","v":2000},{"$f":"R251+1","v":2001},{"$f":"S251+1","v":2002},{"$f":"T251+1","v":2003},{"$f":"U251+1","v":2004},{"$f":"V251+1","v":2005},{"$f":"W251+1","v":2006},{"$f":"X251+1","v":2007},{"$f":"Y251+1","v":2008},{"$f":"Z251+1","v":2009},{"$f":"AA251+1","v":2010},{"$f":"AB251+1","v":2011},{"$f":"AC251+1","v":2012},{"$f":"AD251+1","v":2013},{"$f":"AE251+1","v":2014},{"$f":"AF251+1","v":2015},{"$f":"AG251+1","v":2016},{"$f":"AH251+1","v":2017},{"$f":"AI251+1","v":2018},{"$f":"AJ251+1","v":2019},{"$f":"AK251+1","v":2020},{"$f":"AL251+1","v":2021},{"$f":"AM251+1","v":2022},{"$f":"AN251+1","v":2023},{"$f":"AO251+1","v":2024},{"$f":"AP251+1","v":2025},{"$f":"AQ251+1","v":2026},{"$f":"AR251+1","v":2027},{"$f":"AS251+1","v":2028},{"$f":"AT251+1","v":2029},{"$f":"AU251+1","v":2030},{"$f":"AV251+1","v":2031},{"$f":"AW251+1","v":2032},{"$f":"AX251+1","v":2033},{"$f":"AY251+1","v":2034},null,null,null,null,{"$f":"'Efficiency Levels'!J160","v":"EL3"},{"$f":"'Efficiency Levels'!K160","v":8866.7233661116952},0.25,null,0,0,0,0,0,0,0,0,0,0,0,0,0,0,0,0,0,0,0,0.25,0.25,0.25,0.25,0.25,0.25,0.25,0.25,0.25,0.25,0.25,0.25,0.25,0.25,0.25,0.25,0.25,0.25,0.25,0.25,0.25,0.25,0.25,0.25,0.25,0.25]
[null,null,null,{"$f":"'Efficiency Levels'!C157","v":"EL0"},{"$f":"'Efficiency Levels'!D157","v":1619.51799300571},0,null,1,1,1,1,1,1,1,1,1,1,1,1,1,1,1,1,1,1,1,0,0,0,0,0,0,0,0,0,0,0,0,0,0,0,0,0,0,0,0,0,0,0,0,0,0,null,null,null,null,{"$f":"'Efficiency Levels'!J161","v":"EL4"},{"$f":"'Efficiency Levels'!K161","v":8127.2247079940107},0,null,0,0,0,0,0,0,0,0,0,0,0,0,0,0,0,0,0,0,0,0,0,0,0,0,0,0,0,0,0,0,0,0,0,0,0,0,0,0,0,0,0,0,0,0,0]
[null,null,null,{"$f":"'Efficiency Levels'!C158","v":"EL1"},{"$f":"'Efficiency Levels'!D158","v":626.63966666686804},0,null,0,0,0,0,0,0,0,0,0,0,0,0,0,0,0,0,0,0,0,0,0,0,0,0,0,0,0,0,0,0,0,0,0,0,0,0,0,0,0,0,0,0,0,0,0,null,null,null,null,{"$f":"'Efficiency Levels'!J162","v":"EL5"},{"$f":"'Efficiency Levels'!K162","v":7428.1549996186704},0,null,0,0,0,0,0,0,0,0,0,0,0,0,0,0,0,0,0,0,0,0,0,0,0,0,0,0,0,0,0,0,0,0,0,0,0,0,0,0,0,0,0,0,0,0,0]
[null,null,null,{"$f":"'Efficiency Levels'!C159","v":"EL2"},{"$f":"'Efficiency Levels'!D159","v":1413.7193812727664},0.25,null,0,0,0,0,0,0,0,0,0,0,0,0,0,0,0,0,0,0,0,{"$f":"$F254","v":0.25},0.25,0.25,0.25,0.25,0.25,0.25,0.25,0.25,0.25,0.25,0.25,0.25,0.25,0.25,0.25,0.25,0.25,0.25,0.25,0.25,0.25,0.25,0.25,0.25,0.25,null,null,null,null,{"$f":"'Efficiency Levels'!J163","v":"EL6"},{"$f":"'Efficiency Levels'!K163","v":7136.7638121428772},0,null,0,0,0,0,0,0,0,0,0,0,0,0,0,0,0,0,0,0,0,0,0,0,0,0,0,0,0,0,0,0,0,0,0,0,0,0,0,0,0,0,0,0,0,0,0]
[null,null,null,{"$f":"'Efficiency Levels'!C160","v":"EL3"},{"$f":"'Efficiency Levels'!D160","v":1043.5018849781932},0.45,null,0,0,0,0,0,0,0,0,0,0,0,0,0,0,0,0,0,0,0,0.45,0.45,0.45,0.45,0.45,0.45,0.45,0.45,0.45,0.45,0.45,0.45,0.45,0.45,0.45,0.45,0.45,0.45,0.45,0.45,0.45,0.45,0.45,0.45,0.45,0.45,null,null,null,null,{"$f":"'Efficiency Levels'!J164","v":"EL7"},{"$f":"'Efficiency Levels'!K164","v":5878.3429063160538},0,null,0,0,0,0,0,0,0,0,0,0,0,0,0,0,0,0,0,0,0,0,0,0,0,0,0,0,0,0,0,0,0,0,0,0,0,0,0,0,0,0,0,0,0,0,0]
[null,null,null,{"$f":"'Efficiency Levels'!C161","v":"EL4"},{"$f":"'Efficiency Levels'!D161","v":557.7457795339709},0.3,null,0,0,0,0,0,0,0,0,0,0,0,0,0,0,0,0,0,0,0,0.3,0.3,0.3,0.3,0.3,0.3,0.3,0.3,0.3,0.3,0.3,0.3,0.3,0.3,0.3,0.3,0.3,0.3,0.3,0.3,0.3,0.3,0.3,0.3,0.3,0.3,null,null,null,null,"TOTAL",null,{"$f":"SUM(BG248:BG255)","v":1},null,{"$f":"SUM(BI248:BI255)","v":1},{"$f":"SUM(BJ248:BJ255)","v":1},1,1,1,1,1,1,1,1,1,1,1,1,1,1,1,1,1,1,1,1,1,1,1,1,1,1,1,1,1,1,1,1,1,1,1,1,1,1,1,1,1,1,1]
[null,null,null,{"$f":"'Efficiency Levels'!C162","v":"EL5"},{"$f":"'Efficiency Levels'!D162","v":466.15153728551064},0,null,0,0,0,0,0,0,0,0,0,0,0,0,0,0,0,0,0,0,0,0,0,0,0,0,0,0,0,0,0,0,0,0,0,0,0,0,0,0,0,0,0,0,0,0,0]
[null,null,null,{"$f":"'Efficiency Levels'!C163","v":"EL6"},{"$f":"'Efficiency Levels'!D163","v":387.52246612348893},0,null,0,0,0,0,0,0,0,0,0,0,0,0,0,0,0,0,0,0,0,0,0,0,0,0,0,0,0,0,0,0,0,0,0,0,0,0,0,0,0,0,0,0,0,0,0,null,null,null,null,"POST-Case"]
[null,null,null,{"$f":"'Efficiency Levels'!C164","v":"EL7"},{"$f":"'Efficiency Levels'!D164","v":320.22204720691883},0,null,0,0,0,0,0,0,0,0,0,0,0,0,0,0,0,0,0,0,0,0,0,0,0,0,0,0,0,0,0,0,0,0,0,0,0,0,0,0,0,0,0,0,0,0,0,null,null,null,null,"Efficiency Level","EL (kWh/year)",null,null,1990,{"$f":"BI259+1","v":1991},{"$f":"BJ259+1","v":1992},{"$f":"BK259+1","v":1993},{"$f":"BL259+1","v":1994},{"$f":"BM259+1","v":1995},{"$f":"BN259+1","v":1996},{"$f":"BO259+1","v":1997},{"$f":"BP259+1","v":1998},{"$f":"BQ259+1","v":1999},{"$f":"BR259+1","v":2000},{"$f":"BS259+1","v":2001},{"$f":"BT259+1","v":2002},{"$f":"BU259+1","v":2003},{"$f":"BV259+1","v":2004},{"$f":"BW259+1","v":2005},{"$f":"BY247","v":2006},2007,2008,2009,2010,2011,2012,2013,2014,2015,2016,2017,2018,2019,2020,2021,2022,2023,2024,2025,2026,2027,2028,2029,2030,2031,2032,2033,2034]
[null,null,null,{"$f":"'Efficiency Levels'!C165","v":"EL8"},{"$f":"'Efficiency Levels'!D165","v":192.72273591592901},0,null,0,0,0,0,0,0,0,0,0,0,0,0,0,0,0,0,0,0,0,0,0,0,0,0,0,0,0,0,0,0,0,0,0,0,0,0,0,0,0,0,0,0,0,0,0,null,null,null,null,{"$f":"BE248","v":"EL0"},17789.501762618002,null,null,{"$f":"BI248","v":1},1,1,1,1,1,1,1,1,1,1,1,1,1,1,1,1,1,1,0,0,0,0,0,0,0,0,0,0,0,0,0,0,0,0,0,0,0,0,0,0,0,0,0,0]
[null,null,null,"TOTAL",null,{"$f":"SUM(F252:F260)","v":1},null,{"$f":"SUM(H252:H260)","v":1},{"$f":"SUM(I252:I260)","v":1},1,1,1,1,1,1,1,1,1,1,1,1,1,1,1,1,1,1,1,1,1,1,1,1,1,1,1,1,1,1,1,1,1,1,1,1,1,1,1,1,1,1,1,null,null,null,null,{"$f":"BE249","v":"EL1"},12254.521748499101,null,null,{"$f":"BI249","v":0},0,0,0,0,0,0,0,0,0,0,0,0,0,0,0,0,0,0,0,0,0,0,0,0,0,0,0,0,0,0,0,0,0,0,0,0,0,0,0,0,0,0,0,0]
[null,null,null,null,null,null,null,null,null,null,null,null,null,null,null,null,null,null,null,null,null,null,null,null,null,null,null,null,null,null,null,null,null,null,null,null,null,null,null,null,null,null,null,null,null,null,null,null,null,null,null,null,null,null,null,null,{"$f":"BE250","v":"EL2"},10464.565870606368,null,null,{"$f":"BI250","v":0},0,0,0,0,0,0,0,0,0,0,0,0,0,0,0,0,0,0,0.75,0.75,0.75,0.75,0.75,0.75,0.75,0.75,0,0,0,0,0,0,0,0,0,0,0,0,0,0,0,0,0,0]
[null,null,null,"POST-Case",null,null,null,null,null,null,null,null,null,null,null,null,null,null,null,null,null,null,null,null,null,null,null,null,null,null,null,null,null,null,null,null,null,null,null,null,null,null,null,null,null,null,null,null,null,null,null,null,null,null,null,null,"EL3",8866.7233661116952,null,null,{"$f":"BI251","v":0},0,0,0,0,0,0,0,0,0,0,0,0,0,0,0,0,0,0,0.25,0.25,0.25,0.25,0.25,0.25,0.25,0.25,0,0,0,0,0,0,0,0,0,0,0,0,0,0,0,0,0,0]
[null,null,null,"Efficiency Level","EL (kWh/year)",null,null,1990,{"$f":"H264+1","v":1991},{"$f":"I264+1","v":1992},{"$f":"J264+1","v":1993},{"$f":"K264+1","v":1994},{"$f":"L264+1","v":1995},{"$f":"M264+1","v":1996},{"$f":"N264+1","v":1997},{"$f":"O264+1","v":1998},{"$f":"P264+1","v":1999},{"$f":"Q264+1","v":2000},{"$f":"R264+1","v":2001},{"$f":"S264+1","v":2002},{"$f":"T264+1","v":2003},{"$f":"U264+1","v":2004},{"$f":"V264+1","v":2005},{"$f":"X251","v":2006},2007,2008,2009,2010,2011,2012,2013,2014,2015,2016,2017,2018,2019,2020,2021,2022,2023,2024,2025,2026,2027,2028,2029,2030,2031,2032,2033,2034,null,null,null,null,"EL4",8127.2247079940107,null,null,{"$f":"BI252","v":0},0,0,0,0,0,0,0,0,0,0,0,0,0,0,0,0,0,0,0,0,0,0,0,0,0,0,0,0,0,0,0,0,0,0,0,0,0,0,0,0,0,0,0,0]
[null,null,null,{"$f":"'Efficiency Levels'!C157","v":"EL0"},{"$f":"'Efficiency Levels'!D157","v":1619.51799300571},null,null,{"$f":"H252","v":1},{"$f":"I252","v":1},1,1,1,1,1,1,1,1,1,1,1,1,1,1,1,1,1,0,0,0,0,0,0,0,0,0,0,0,0,0,0,0,0,0,0,0,0,0,0,0,0,0,0,null,null,null,null,"EL5",7428.1549996186704,null,null,{"$f":"BI253","v":0},0,0,0,0,0,0,0,0,0,0,0,0,0,0,0,0,0,0,0,0,0,0,0,0,0,0,0,0,0,0,0,0,0,0,0,0,0,0,0,0,0,0,0,0]
[null,null,null,{"$f":"'Efficiency Levels'!C158","v":"EL1"},{"$f":"'Efficiency Levels'!D158","v":626.63966666686804},null,null,0,{"$f":"I253","v":0},0,0,0,0,0,0,0,0,0,0,0,0,0,0,0,0,0,0,0,0,0,0,0,0,0,0,0,0,0,0,0,0,0,0,0,0,0,0,0,0,0,0,0,null,null,null,null,"EL6",7136.7638121428772,null,null,{"$f":"BI254","v":0},0,0,0,0,0,0,0,0,0,0,0,0,0,0,0,0,0,0,0,0,0,0,0,0,0,0,0,0,0,0,0,0,0,0,0,0,0,0,0,0,0,0,0,0]
[null,null,null,{"$f":"'Efficiency Levels'!C159","v":"EL2"},{"$f":"'Efficiency Levels'!D159","v":1413.7193812727664},null,null,0,0,0,0,0,0,0,0,0,0,0,0,0,0,0,0,0,0,0,0.25,0.25,0.25,0.25,0.25,0.25,0.25,0.25,0,0,0,0,0,0,0,0,0,0,0,0,0,0,0,0,0,0,null,null,null,null,"EL7",5878.3429063160538,null,null,{"$f":"BI255","v":0},0,0,0,0,0,0,0,0,0,0,0,0,0,0,0,0,0,0,0,0,0,0,0,0,0,0,{"$f":"SUM(CJ250:CJ255)","v":1},1,1,1,1,1,1,1,1,1,1,1,1,1,1,1,1,1]
[null,null,null,{"$f":"'Efficiency Levels'!C160","v":"EL3"},{"$f":"'Efficiency Levels'!D160","v":1043.5018849781932},null,null,{"$f":"H255","v":0},0,0,0,0,0,0,0,0,0,0,0,0,0,0,0,0,0,0,0.45,0.45,0.45,0.45,0.45,0.45,0.45,0.45,0,0,0,0,0,0,0,0,0,0,0,0,0,0,0,0,0,0,null,null,null,null,"TOTAL",null,null,null,{"$f":"SUM(BI260:BI267)","v":1},{"$f":"SUM(BJ260:BJ267)","v":1},1,1,1,1,1,1,1,1,1,1,1,1,1,1,1,1,1,1,1,1,1,1,1,1,1,1,1,1,1,1,1,1,1,1,1,1,1,1,1,1,1,1,1]
[null,null,null,{"$f":"'Efficiency Levels'!C161","v":"EL4"},{"$f":"'Efficiency Levels'!D161","v":557.7457795339709},null,null,{"$f":"H256","v":0},0,0,0,0,0,0,0,0,0,0,0,0,0,0,0,0,0,0,0.3,0.3,0.3,0.3,0.3,0.3,0.3,0.3,0,0,0,0,0,0,0,0,0,0,0,0,0,0,0,0,0,0]
[null,null,null,{"$f":"'Efficiency Levels'!C162","v":"EL5"},{"$f":"'Efficiency Levels'!D162","v":466.15153728551064},null,null,{"$f":"H257","v":0},0,0,0,0,0,0,0,0,0,0,0,0,0,0,0,0,0,0,0,0,0,0,0,0,0,0,{"$f":"SUM(AI254:AI257)","v":1},1,1,1,1,1,1,1,1,1,1,1,1,1,1,1,1,1,null,null,null,null,"Sources","1. DOE Walk-In Coolers and Freezers 2014 Final Rule, Technical Support Document: Final Rule National Impact Analysis (NIA) - Systems, 'Market Share Inputs' tab, cells B3:M35, http://www.regulations.gov/#!documentDetail;D=EERE-2008-BT-STD-0015-0134"]
[null,null,null,{"$f":"'Efficiency Levels'!C163","v":"EL6"},{"$f":"'Efficiency Levels'!D163","v":387.52246612348893},null,null,{"$f":"H258","v":0},0,0,0,0,0,0,0,0,0,0,0,0,0,0,0,0,0,0,0,0,0,0,0,0,0,0,{"$f":"AI258","v":0},0,0,0,0,0,0,0,0,0,0,0,0,0,0,0,0,0]
[null,null,null,{"$f":"'Efficiency Levels'!C164","v":"EL7"},{"$f":"'Efficiency Levels'!D164","v":320.22204720691883},null,null,{"$f":"H259","v":0},0,0,0,0,0,0,0,0,0,0,0,0,0,0,0,0,0,0,0,0,0,0,0,0,0,0,{"$f":"AI259","v":0},0,0,0,0,0,0,0,0,0,0,0,0,0,0,0,0,0]
[null,null,null,{"$f":"'Efficiency Levels'!C165","v":"EL8"},{"$f":"'Efficiency Levels'!D165","v":192.72273591592901},null,null,{"$f":"H260","v":0},0,0,0,0,0,0,0,0,0,0,0,0,0,0,0,0,0,0,0,0,0,0,0,0,0,0,{"$f":"AI260","v":0},0,0,0,0,0,0,0,0,0,0,0,0,0,0,0,0,0]
[null,null,null,"TOTAL",null,null,null,{"$f":"SUM(H265:H273)","v":1},{"$f":"SUM(I265:I273)","v":1},1,1,1,1,1,1,1,1,1,1,1,1,1,1,1,1,1,1,1,1,1,1,1,1,1,1,1,1,1,1,1,1,1,1,1,1,1,1,1,1,1,1,1]
[null,null,null,null,null,null,null,null,null,null,null,null,null,null,null,null,null,null,null,null,null,null,null,null,null,null,null,null,null,null,null,null,null,null,null,null,null,null,null,null,null,null,null,null,null,null,null,null,null,null,null,null,null,null,null,null,{"$f":"'Efficiency Levels'!J173","v":"MC.L.009"}]
[null,null,null,"Sources","1. DOE Walk-In Coolers and Freezers 2014 Final Rule, Technical Support Document: Final Rule National Impact Analysis (NIA) - Components, 'Market Share Inputs' tab, cells O3:Z35, http://www.regulations.gov/#!documentDetail;D=EERE-2008-BT-STD-0015-0134"]
[null,null,null,null,null,null,null,null,null,null,null,null,null,null,null,null,null,null,null,null,null,null,null,null,null,null,null,null,null,null,null,null,null,null,null,null,null,null,null,null,null,null,null,null,null,null,null,null,null,null,null,null,null,null,null,null,"PRE-Case",null,"Static Distribution"]
[null,null,null,null,null,null,null,null,null,null,null,null,null,null,null,null,null,null,null,null,null,null,null,null,null,null,null,null,null,null,null,null,null,null,null,null,null,null,null,null,null,null,null,null,null,null,null,null,null,null,null,null,null,null,null,null,"Efficiency Level","EL (kWh/year)",2014,null,1990,{"$f":"BI278+1","v":1991},{"$f":"BJ278+1","v":1992},{"$f":"BK278+1","v":1993},{"$f":"BL278+1","v":1994},{"$f":"BM278+1","v":1995},{"$f":"BN278+1","v":1996},{"$f":"BO278+1","v":1997},{"$f":"BP278+1","v":1998},{"$f":"BQ278+1","v":1999},{"$f":"BR278+1","v":2000},{"$f":"BS278+1","v":2001},{"$f":"BT278+1","v":2002},{"$f":"BU278+1","v":2003},{"$f":"BV278+1","v":2004},{"$f":"BW278+1","v":2005},{"$f":"BX278+1","v":2006},{"$f":"BY278+1","v":2007},{"$f":"BZ278+1","v":2008},{"$f":"CA278+1","v":2009},{"$f":"CB278+1","v":2010},{"$f":"CC278+1","v":2011},{"$f":"CD278+1","v":2012},{"$f":"CE278+1","v":2013},{"$f":"CF278+1","v":2014},{"$f":"CG278+1","v":2015},{"$f":"CH278+1","v":2016},{"$f":"CI278+1","v":2017},{"$f":"CJ278+1","v":2018},{"$f":"CK278+1","v":2019},{"$f":"CL278+1","v":2020},{"$f":"CM278+1","v":2021},{"$f":"CN278+1","v":2022},{"$f":"CO278+1","v":2023},{"$f":"CP278+1","v":2024},{"$f":"CQ278+1","v":2025},{"$f":"CR278+1","v":2026},{"$f":"CS278+1","v":2027},{"$f":"CT278+1","v":2028},{"$f":"CU278+1","v":2029},{"$f":"CV278+1","v":2030},{"$f":"CW278+1","v":2031},{"$f":"CX278+1","v":2032},{"$f":"CY278+1","v":2033},{"$f":"CZ278+1","v":2034}]
[null,null,null,null,null,null,null,null,null,null,null,null,null,null,null,null,null,null,null,null,null,null,null,null,null,null,null,null,null,null,null,null,null,null,null,null,null,null,null,null,null,null,null,null,null,null,null,null,null,null,null,null,null,null,null,null,{"$f":"'Efficiency Levels'!J176","v":"EL0"},{"$f":"'Efficiency Levels'!K176","v":11654.313904648337},0,null,1,1,1,1,1,1,1,1,1,1,1,1,1,1,1,1,1,1,1,{"$f":"$BG279","v":0},0,0,0,0,0,0,0,0,0,0,0,0,0,0,0,0,0,0,0,0,0,0,0,0,0]
[null,null,null,null,null,null,null,null,null,null,null,null,null,null,null,null,null,null,null,null,null,null,null,null,null,null,null,null,null,null,null,null,null,null,null,null,null,null,null,null,null,null,null,null,null,null,null,null,null,null,null,null,null,null,null,null,{"$f":"'Efficiency Levels'!J177","v":"EL1"},{"$f":"'Efficiency Levels'!K177","v":9207.09266289691},0,null,0,0,0,0,0,0,0,0,0,0,0,0,0,0,0,0,0,0,0,0,0,0,0,0,0,0,0,0,0,0,0,0,0,0,0,0,0,0,0,0,0,0,0,0,0]
[null,null,null,{"$f":"'Product Classes'!K19&\" - \"&OFFSET('Product Classes'!$F$10,MATCH('Product Classes'!K19,MODEL_PCS,0),0)","v":"DD.L - Display Door, Low Temperature"},null,null,null,null,null,null,null,null,null,null,null,null,null,null,null,null,null,null,null,null,null,null,null,null,null,null,null,null,null,null,null,null,null,null,null,null,null,null,null,null,null,null,null,null,null,null,null,null,null,null,null,null,{"$f":"'Efficiency Levels'!J178","v":"EL2"},{"$f":"'Efficiency Levels'!K178","v":8849.6382214385249},0.75,null,0,0,0,0,0,0,0,0,0,0,0,0,0,0,0,0,0,0,0,0.75,0.75,0.75,0.75,0.75,0.75,0.75,0.75,0.75,0.75,0.75,0.75,0.75,0.75,0.75,0.75,0.75,0.75,0.75,0.75,0.75,0.75,0.75,0.75,0.75,0.75]
[null,null,null,null,null,null,null,null,null,null,null,null,null,null,null,null,null,null,null,null,null,null,null,null,null,null,null,null,null,null,null,null,null,null,null,null,null,null,null,null,null,null,null,null,null,null,null,null,null,null,null,null,null,null,null,null,{"$f":"'Efficiency Levels'!J179","v":"EL3"},{"$f":"'Efficiency Levels'!K179","v":8127.5341890783038},0.25,null,0,0,0,0,0,0,0,0,0,0,0,0,0,0,0,0,0,0,0,0.25,0.25,0.25,0.25,0.25,0.25,0.25,0.25,0.25,0.25,0.25,0.25,0.25,0.25,0.25,0.25,0.25,0.25,0.25,0.25,0.25,0.25,0.25,0.25,0.25,0.25]
[null,null,null,"PRE-Case",null,"Static Distribution",null,null,null,null,null,null,null,null,null,null,null,null,null,null,null,null,null,null,null,null,null,null,null,null,null,null,null,null,null,null,null,null,null,null,null,null,null,null,null,null,null,null,null,null,null,null,null,null,null,null,{"$f":"'Efficiency Levels'!J180","v":"EL4"},{"$f":"'Efficiency Levels'!K180","v":7933.8497192797377},0,null,0,0,0,0,0,0,0,0,0,0,0,0,0,0,0,0,0,0,0,0,0,0,0,0,0,0,0,0,0,0,0,0,0,0,0,0,0,0,0,0,0,0,0,0,0]
[null,null,null,"Efficiency Level","EL (kWh/year)",2014,null,1990,{"$f":"H284+1","v":1991},{"$f":"I284+1","v":1992},{"$f":"J284+1","v":1993},{"$f":"K284+1","v":1994},{"$f":"L284+1","v":1995},{"$f":"M284+1","v":1996},{"$f":"N284+1","v":1997},{"$f":"O284+1","v":1998},{"$f":"P284+1","v":1999},{"$f":"Q284+1","v":2000},{"$f":"R284+1","v":2001},{"$f":"S284+1","v":2002},{"$f":"T284+1","v":2003},{"$f":"U284+1","v":2004},{"$f":"V284+1","v":2005},{"$f":"W284+1","v":2006},{"$f":"X284+1","v":2007},{"$f":"Y284+1","v":2008},{"$f":"Z284+1","v":2009},{"$f":"AA284+1","v":2010},{"$f":"AB284+1","v":2011},{"$f":"AC284+1","v":2012},{"$f":"AD284+1","v":2013},{"$f":"AE284+1","v":2014},{"$f":"AF284+1","v":2015},{"$f":"AG284+1","v":2016},{"$f":"AH284+1","v":2017},{"$f":"AI284+1","v":2018},{"$f":"AJ284+1","v":2019},{"$f":"AK284+1","v":2020},{"$f":"AL284+1","v":2021},{"$f":"AM284+1","v":2022},{"$f":"AN284+1","v":2023},{"$f":"AO284+1","v":2024},{"$f":"AP284+1","v":2025},{"$f":"AQ284+1","v":2026},{"$f":"AR284+1","v":2027},{"$f":"AS284+1","v":2028},{"$f":"AT284+1","v":2029},{"$f":"AU284+1","v":2030},{"$f":"AV284+1","v":2031},{"$f":"AW284+1","v":2032},{"$f":"AX284+1","v":2033},{"$f":"AY284+1","v":2034},null,null,null,null,"TOTAL",null,{"$f":"SUM(BG279:BG283)","v":1},null,{"$f":"SUM(BI279:BI283)","v":1},{"$f":"SUM(BJ279:BJ283)","v":1},1,1,1,1,1,1,1,1,1,1,1,1,1,1,1,1,1,1,1,1,1,1,1,1,1,1,1,1,1,1,1,1,1,1,1,1,1,1,1,1,1,1,1]
[null,null,null,{"$f":"'Efficiency Levels'!C176","v":"EL0"},{"$f":"'Efficiency Levels'!D176","v":3912.2465808682696},0,null,1,1,1,1,1,1,1,1,1,1,1,1,1,1,1,1,1,1,1,{"$f":"$F285","v":0},0,0,0,0,0,0,0,0,0,0,0,0,0,0,0,0,0,0,0,0,0,0,0,0,0]
[null,null,null,{"$f":"'Efficiency Levels'!C177","v":"EL1"},{"$f":"'Efficiency Levels'!D177","v":1913.6831081227256},0,null,0,0,0,0,0,0,0,0,0,0,0,0,0,0,0,0,0,0,0,0,0,0,0,0,0,0,0,0,0,0,0,0,0,0,0,0,0,0,0,0,0,0,0,0,0,null,null,null,null,"POST-Case"]
[null,null,null,{"$f":"'Efficiency Levels'!C178","v":"EL2"},{"$f":"'Efficiency Levels'!D178","v":3996.9665605456298},0.8,null,0,0,0,0,0,0,0,0,0,0,0,0,0,0,0,0,0,0,0,0.8,0.8,0.8,0.8,0.8,0.8,0.8,0.8,0.8,0.8,0.8,0.8,0.8,0.8,0.8,0.8,0.8,0.8,0.8,0.8,0.8,0.8,0.8,0.8,0.8,0.8,null,null,null,null,"Efficiency Level","EL (kWh/year)",null,null,1990,{"$f":"BI287+1","v":1991},{"$f":"BJ287+1","v":1992},{"$f":"BK287+1","v":1993},{"$f":"BL287+1","v":1994},{"$f":"BM287+1","v":1995},{"$f":"BN287+1","v":1996},{"$f":"BO287+1","v":1997},{"$f":"BP287+1","v":1998},{"$f":"BQ287+1","v":1999},{"$f":"BR287+1","v":2000},{"$f":"BS287+1","v":2001},{"$f":"BT287+1","v":2002},{"$f":"BU287+1","v":2003},{"$f":"BV287+1","v":2004},{"$f":"BW287+1","v":2005},{"$f":"BY278","v":2006},2007,2008,2009,2010,2011,2012,2013,2014,2015,2016,2017,2018,2019,2020,2021,2022,2023,2024,2025,2026,2027,2028,2029,2030,2031,2032,2033,2034]
[null,null,null,{"$f":"'Efficiency Levels'!C179","v":"EL3"},{"$f":"'Efficiency Levels'!D179","v":3449.0248110135117},0.2,null,0,0,0,0,0,0,0,0,0,0,0,0,0,0,0,0,0,0,0,0.2,0.2,0.2,0.2,0.2,0.2,0.2,0.2,0.2,0.2,0.2,0.2,0.2,0.2,0.2,0.2,0.2,0.2,0.2,0.2,0.2,0.2,0.2,0.2,0.2,0.2,null,null,null,null,{"$f":"BE279","v":"EL0"},11654.313904648337,null,null,{"$f":"BI279","v":1},1,1,1,1,1,1,1,1,1,1,1,1,1,1,1,1,1,1,0,0,0,0,0,0,0,0,0,0,0,0,0,0,0,0,0,0,0,0,0,0,0,0,0,0]
[null,null,null,{"$f":"'Efficiency Levels'!C180","v":"EL4"},{"$f":"'Efficiency Levels'!D180","v":3106.5833506060558},0,null,0,0,0,0,0,0,0,0,0,0,0,0,0,0,0,0,0,0,0,0,0,0,0,0,0,0,0,0,0,0,0,0,0,0,0,0,0,0,0,0,0,0,0,0,0,null,null,null,null,{"$f":"BE280","v":"EL1"},9207.09266289691,null,null,{"$f":"BI280","v":0},0,0,0,0,0,0,0,0,0,0,0,0,0,0,0,0,0,0,0,0,0,0,0,0,0,0,0,0,0,0,0,0,0,0,0,0,0,0,0,0,0,0,0,0]
[null,null,null,{"$f":"'Efficiency Levels'!C181","v":"EL5"},{"$f":"'Efficiency Levels'!D181","v":2054.7117868669638},0,null,0,0,0,0,0,0,0,0,0,0,0,0,0,0,0,0,0,0,0,0,0,0,0,0,0,0,0,0,0,0,0,0,0,0,0,0,0,0,0,0,0,0,0,0,0,null,null,null,null,{"$f":"BE281","v":"EL2"},8849.6382214385249,null,null,{"$f":"BI281","v":0},0,0,0,0,0,0,0,0,0,0,0,0,0,0,0,0,0,0,0.75,0.75,0.75,0.75,0.75,0.75,0.75,0.75,0,0,0,0,0,0,0,0,0,0,0,0,0,0,0,0,0,0]
[null,null,null,{"$f":"'Efficiency Levels'!C182","v":"EL6"},{"$f":"'Efficiency Levels'!D182","v":1578.0265416574318},0,null,0,0,0,0,0,0,0,0,0,0,0,0,0,0,0,0,0,0,0,0,0,0,0,0,0,0,0,0,0,0,0,0,0,0,0,0,0,0,0,0,0,0,0,0,0,null,null,null,null,"EL3",8127.5341890783038,null,null,{"$f":"BI282","v":0},0,0,0,0,0,0,0,0,0,0,0,0,0,0,0,0,0,0,0.25,0.25,0.25,0.25,0.25,0.25,0.25,0.25,0,0,0,0,0,0,0,0,0,0,0,0,0,0,0,0,0,0]
[null,null,null,{"$f":"'Efficiency Levels'!C183","v":"EL7"},{"$f":"'Efficiency Levels'!D183","v":1276.6799409743451},0,null,0,0,0,0,0,0,0,0,0,0,0,0,0,0,0,0,0,0,0,0,0,0,0,0,0,0,0,0,0,0,0,0,0,0,0,0,0,0,0,0,0,0,0,0,0,null,null,null,null,"EL4",7933.8497192797377,null,null,{"$f":"BI283","v":0},0,0,0,0,0,0,0,0,0,0,0,0,0,0,0,0,0,0,0,0,0,0,0,0,0,0,{"$f":"SUM(CJ281:CJ283)","v":1},1,1,1,1,1,1,1,1,1,1,1,1,1,1,1,1,1]
[null,null,null,"TOTAL",null,{"$f":"SUM(F285:F292)","v":1},null,{"$f":"SUM(H285:H292)","v":1},{"$f":"SUM(I285:I292)","v":1},1,1,1,1,1,1,1,1,1,1,1,1,1,1,1,1,1,1,1,1,1,1,1,1,1,1,1,1,1,1,1,1,1,1,1,1,1,1,1,1,1,1,1,null,null,null,null,"TOTAL",null,null,null,{"$f":"SUM(BI288:BI292)","v":1},{"$f":"SUM(BJ288:BJ292)","v":1},1,1,1,1,1,1,1,1,1,1,1,1,1,1,1,1,1,1,1,1,1,1,1,1,1,1,1,1,1,1,1,1,1,1,1,1,1,1,1,1,1,1,1]
[]
[null,null,null,"POST-Case",null,null,null,null,null,null,null,null,null,null,null,null,null,null,null,null,null,null,null,null,null,null,null,null,null,null,null,null,null,null,null,null,null,null,null,null,null,null,null,null,null,null,null,null,null,null,null,null,null,null,null,null,"Sources","1. DOE Walk-In Coolers and Freezers 2014 Final Rule, Technical Support Document: Final Rule National Impact Analysis (NIA) - Systems, 'Market Share Inputs' tab, cells O3:Z35, http://www.regulations.gov/#!documentDetail;D=EERE-2008-BT-STD-0015-0134"]
[null,null,null,"Efficiency Level","EL (kWh/year)",null,null,1990,{"$f":"H296+1","v":1991},{"$f":"I296+1","v":1992},{"$f":"J296+1","v":1993},{"$f":"K296+1","v":1994},{"$f":"L296+1","v":1995},{"$f":"M296+1","v":1996},{"$f":"N296+1","v":1997},{"$f":"O296+1","v":1998},{"$f":"P296+1","v":1999},{"$f":"Q296+1","v":2000},{"$f":"R296+1","v":2001},{"$f":"S296+1","v":2002},{"$f":"T296+1","v":2003},{"$f":"U296+1","v":2004},{"$f":"V296+1","v":2005},{"$f":"X284","v":2006},2007,2008,2009,2010,2011,2012,2013,2014,2015,2016,2017,2018,2019,2020,2021,2022,2023,2024,2025,2026,2027,2028,2029,2030,2031,2032,2033,2034]
[null,null,null,{"$f":"'Efficiency Levels'!C176","v":"EL0"},{"$f":"'Efficiency Levels'!D176","v":3912.2465808682696},null,null,{"$f":"H285","v":1},1,1,1,1,1,1,1,1,1,1,1,1,1,1,1,1,1,1,0,{"$f":"AB285","v":0},0,0,0,0,0,0,0,0,0,0,0,0,0,0,0,0,0,0,0,0,0,0,0,0]
[null,null,null,{"$f":"'Efficiency Levels'!C177","v":"EL1"},{"$f":"'Efficiency Levels'!D177","v":1913.6831081227256},null,null,{"$f":"H286","v":0},0,0,0,0,0,0,0,0,0,0,0,0,0,0,0,0,0,0,0,{"$f":"AB286","v":0},0,0,0,0,0,0,0,0,0,0,0,0,0,0,0,0,0,0,0,0,0,0,0,0]
[null,null,null,{"$f":"'Efficiency Levels'!C178","v":"EL2"},{"$f":"'Efficiency Levels'!D178","v":3996.9665605456298},null,null,{"$f":"H287","v":0},0,0,0,0,0,0,0,0,0,0,0,0,0,0,0,0,0,0,0.8,0.8,0.8,0.8,0.8,0.8,0.8,0.8,0,0,0,0,0,0,0,0,0,0,0,0,0,0,0,0,0,0]
[null,null,null,{"$f":"'Efficiency Levels'!C179","v":"EL3"},{"$f":"'Efficiency Levels'!D179","v":3449.0248110135117},null,null,{"$f":"H288","v":0},0,0,0,0,0,0,0,0,0,0,0,0,0,0,0,0,0,0,0.2,0.2,0.2,0.2,0.2,0.2,0.2,0.2,0,0,0,0,0,0,0,0,0,0,0,0,0,0,0,0,0,0,null,null,null,null,{"$f":"'Efficiency Levels'!J191","v":"MC.M.009"}]
[null,null,null,{"$f":"'Efficiency Levels'!C180","v":"EL4"},{"$f":"'Efficiency Levels'!D180","v":3106.5833506060558},null,null,{"$f":"H289","v":0},0,0,0,0,0,0,0,0,0,0,0,0,0,0,0,0,0,0,0,0,0,0,0,0,0,0,0,0,0,0,0,0,0,0,0,0,0,0,0,0,0,0,0,0]
[null,null,null,{"$f":"'Efficiency Levels'!C181","v":"EL5"},{"$f":"'Efficiency Levels'!D181","v":2054.7117868669638},null,null,{"$f":"H290","v":0},0,0,0,0,0,0,0,0,0,0,0,0,0,0,0,0,0,0,0,0,0,0,0,0,0,0,0,0,0,0,0,0,0,0,0,0,0,0,0,0,0,0,0,0,null,null,null,null,"PRE-Case",null,"Static Distribution"]
[null,null,null,{"$f":"'Efficiency Levels'!C182","v":"EL6"},{"$f":"'Efficiency Levels'!D182","v":1578.0265416574318},null,null,{"$f":"H291","v":0},0,0,0,0,0,0,0,0,0,0,0,0,0,0,0,0,0,0,0,0,0,0,0,0,0,0,{"$f":"SUM(AI287:AI291)","v":1},1,1,1,1,1,1,1,1,1,1,1,1,1,1,1,1,1,null,null,null,null,"Efficiency Level","EL (kWh/year)",2014,null,1990,{"$f":"BI303+1","v":1991},{"$f":"BJ303+1","v":1992},{"$f":"BK303+1","v":1993},{"$f":"BL303+1","v":1994},{"$f":"BM303+1","v":1995},{"$f":"BN303+1","v":1996},{"$f":"BO303+1","v":1997},{"$f":"BP303+1","v":1998},{"$f":"BQ303+1","v":1999},{"$f":"BR303+1","v":2000},{"$f":"BS303+1","v":2001},{"$f":"BT303+1","v":2002},{"$f":"BU303+1","v":2003},{"$f":"BV303+1","v":2004},{"$f":"BW303+1","v":2005},{"$f":"BX303+1","v":2006},{"$f":"BY303+1","v":2007},{"$f":"BZ303+1","v":2008},{"$f":"CA303+1","v":2009},{"$f":"CB303+1","v":2010},{"$f":"CC303+1","v":2011},{"$f":"CD303+1","v":2012},{"$f":"CE303+1","v":2013},{"$f":"CF303+1","v":2014},{"$f":"CG303+1","v":2015},{"$f":"CH303+1","v":2016},{"$f":"CI303+1","v":2017},{"$f":"CJ303+1","v":2018},{"$f":"CK303+1","v":2019},{"$f":"CL303+1","v":2020},{"$f":"CM303+1","v":2021},{"$f":"CN303+1","v":2022},{"$f":"CO303+1","v":2023},{"$f":"CP303+1","v":2024},{"$f":"CQ303+1","v":2025},{"$f":"CR303+1","v":2026},{"$f":"CS303+1","v":2027},{"$f":"CT303+1","v":2028},{"$f":"CU303+1","v":2029},{"$f":"CV303+1","v":2030},{"$f":"CW303+1","v":2031},{"$f":"CX303+1","v":2032},{"$f":"CY303+1","v":2033},{"$f":"CZ303+1","v":2034}]
[null,null,null,{"$f":"'Efficiency Levels'!C183","v":"EL7"},{"$f":"'Efficiency Levels'!D183","v":1276.6799409743451},null,null,{"$f":"H292","v":0},0,0,0,0,0,0,0,0,0,0,0,0,0,0,0,0,0,0,0,0,0,0,0,0,0,0,{"$f":"AI292","v":0},0,0,0,0,0,0,0,0,0,0,0,0,0,0,0,0,0,null,null,null,null,{"$f":"'Efficiency Levels'!J194","v":"EL0"},{"$f":"'Efficiency Levels'!K194","v":7003.2231015335001},0,null,1,1,1,1,1,1,1,1,1,1,1,1,1,1,1,1,1,1,1,{"$f":"$BG304","v":0},0,0,0,0,0,0,0,0,0,0,0,0,0,0,0,0,0,0,0,0,0,0,0,0,0]
[null,null,null,"TOTAL",null,null,null,{"$f":"SUM(H297:H304)","v":1},{"$f":"SUM(I297:I304)","v":1},1,1,1,1,1,1,1,1,1,1,1,1,1,1,1,1,1,1,1,1,1,1,1,1,1,1,1,1,1,1,1,1,1,1,1,1,1,1,1,1,1,1,1,null,null,null,null,{"$f":"'Efficiency Levels'!J195","v":"EL1"},{"$f":"'Efficiency Levels'!K195","v":4541.5016904223803},0,null,0,0,0,0,0,0,0,0,0,0,0,0,0,0,0,0,0,0,0,0,0,0,0,0,0,0,0,0,0,0,0,0,0,0,0,0,0,0,0,0,0,0,0,0,0]
[null,null,null,null,null,null,null,null,null,null,null,null,null,null,null,null,null,null,null,null,null,null,null,null,null,null,null,null,null,null,null,null,null,null,null,null,null,null,null,null,null,null,null,null,null,null,null,null,null,null,null,null,null,null,null,null,{"$f":"'Efficiency Levels'!J196","v":"EL2"},{"$f":"'Efficiency Levels'!K196","v":4912.0831321932301},0.75,null,0,0,0,0,0,0,0,0,0,0,0,0,0,0,0,0,0,0,0,0.75,0.75,0.75,0.75,0.75,0.75,0.75,0.75,0.75,0.75,0.75,0.75,0.75,0.75,0.75,0.75,0.75,0.75,0.75,0.75,0.75,0.75,0.75,0.75,0.75,0.75]
[null,null,null,"Sources","1. DOE Walk-In Coolers and Freezers 2014 Final Rule, Technical Support Document: Final Rule National Impact Analysis (NIA) - Components, 'Market Share Inputs' tab, cells AB3:AM35, http://www.regulations.gov/#!documentDetail;D=EERE-2008-BT-STD-0015-0134",null,null,null,null,null,null,null,null,null,null,null,null,null,null,null,null,null,null,null,null,null,null,null,null,null,null,null,null,null,null,null,null,null,null,null,null,null,null,null,null,null,null,null,null,null,null,null,null,null,null,null,{"$f":"'Efficiency Levels'!J197","v":"EL3"},{"$f":"'Efficiency Levels'!K197","v":4655.0983394921632},0.25,null,0,0,0,0,0,0,0,0,0,0,0,0,0,0,0,0,0,0,0,0.25,0.25,0.25,0.25,0.25,0.25,0.25,0.25,0.25,0.25,0.25,0.25,0.25,0.25,0.25,0.25,0.25,0.25,0.25,0.25,0.25,0.25,0.25,0.25,0.25,0.25]
[null,null,null,null,null,null,null,null,null,null,null,null,null,null,null,null,null,null,null,null,null,null,null,null,null,null,null,null,null,null,null,null,null,null,null,null,null,null,null,null,null,null,null,null,null,null,null,null,null,null,null,null,null,null,null,null,{"$f":"'Efficiency Levels'!J198","v":"EL4"},{"$f":"'Efficiency Levels'!K198","v":4453.1836086431695},0,null,0,0,0,0,0,0,0,0,0,0,0,0,0,0,0,0,0,0,0,0,0,0,0,0,0,0,0,0,0,0,0,0,0,0,0,0,0,0,0,0,0,0,0,0,0]
[null,null,null,null,null,null,null,null,null,null,null,null,null,null,null,null,null,null,null,null,null,null,null,null,null,null,null,null,null,null,null,null,null,null,null,null,null,null,null,null,null,null,null,null,null,null,null,null,null,null,null,null,null,null,null,null,"TOTAL",null,{"$f":"SUM(BG304:BG308)","v":1},null,{"$f":"SUM(BI304:BI308)","v":1},{"$f":"SUM(BJ304:BJ308)","v":1},1,1,1,1,1,1,1,1,1,1,1,1,1,1,1,1,1,1,1,1,1,1,1,1,1,1,1,1,1,1,1,1,1,1,1,1,1,1,1,1,1,1,1]
[]
[null,null,null,null,null,null,null,null,null,null,null,null,null,null,null,null,null,null,null,null,null,null,null,null,null,null,null,null,null,null,null,null,null,null,null,null,null,null,null,null,null,null,null,null,null,null,null,null,null,null,null,null,null,null,null,null,"POST-Case"]
[null,null,null,null,null,null,null,null,null,null,null,null,null,null,null,null,null,null,null,null,null,null,null,null,null,null,null,null,null,null,null,null,null,null,null,null,null,null,null,null,null,null,null,null,null,null,null,null,null,null,null,null,null,null,null,null,"Efficiency Level","EL (kWh/year)",null,null,1990,{"$f":"BI312+1","v":1991},{"$f":"BJ312+1","v":1992},{"$f":"BK312+1","v":1993},{"$f":"BL312+1","v":1994},{"$f":"BM312+1","v":1995},{"$f":"BN312+1","v":1996},{"$f":"BO312+1","v":1997},{"$f":"BP312+1","v":1998},{"$f":"BQ312+1","v":1999},{"$f":"BR312+1","v":2000},{"$f":"BS312+1","v":2001},{"$f":"BT312+1","v":2002},{"$f":"BU312+1","v":2003},{"$f":"BV312+1","v":2004},{"$f":"BW312+1","v":2005},{"$f":"BY303","v":2006},2007,2008,2009,2010,2011,2012,2013,2014,2015,2016,2017,2018,2019,2020,2021,2022,2023,2024,2025,2026,2027,2028,2029,2030,2031,2032,2033,2034]
[null,null,null,null,null,null,null,null,null,null,null,null,null,null,null,null,null,null,null,null,null,null,null,null,null,null,null,null,null,null,null,null,null,null,null,null,null,null,null,null,null,null,null,null,null,null,null,null,null,null,null,null,null,null,null,null,{"$f":"BE304","v":"EL0"},7003.2231015335001,null,null,{"$f":"BI304","v":1},1,1,1,1,1,1,1,1,1,1,1,1,1,1,1,1,1,1,0,0,0,0,0,0,0,0,0,0,0,0,0,0,0,0,0,0,0,0,0,0,0,0,0,0]
[null,null,null,null,null,null,null,null,null,null,null,null,null,null,null,null,null,null,null,null,null,null,null,null,null,null,null,null,null,null,null,null,null,null,null,null,null,null,null,null,null,null,null,null,null,null,null,null,null,null,null,null,null,null,null,null,{"$f":"BE305","v":"EL1"},4541.5016904223803,null,null,{"$f":"BI305","v":0},0,0,0,0,0,0,0,0,0,0,0,0,0,0,0,0,0,0,0,0,0,0,0,0,0,0,0,0,0,0,0,0,0,0,0,0,0,0,0,0,0,0,0,0]
[null,null,null,null,null,null,null,null,null,null,null,null,null,null,null,null,null,null,null,null,null,null,null,null,null,null,null,null,null,null,null,null,null,null,null,null,null,null,null,null,null,null,null,null,null,null,null,null,null,null,null,null,null,null,null,null,{"$f":"BE306","v":"EL2"},4912.0831321932301,null,null,{"$f":"BI306","v":0},0,0,0,0,0,0,0,0,0,0,0,0,0,0,0,0,0,0,0.75,0.75,0.75,0.75,0.75,0.75,0.75,0.75,0,0,0,0,0,0,0,0,0,0,0,0,0,0,0,0,0,0]
[null,null,null,null,null,null,null,null,null,null,null,null,null,null,null,null,null,null,null,null,null,null,null,null,null,null,null,null,null,null,null,null,null,null,null,null,null,null,null,null,null,null,null,null,null,null,null,null,null,null,null,null,null,null,null,null,"EL3",4655.0983394921632,null,null,{"$f":"BI307","v":0},0,0,0,0,0,0,0,0,0,0,0,0,0,0,0,0,0,0,0.25,0.25,0.25,0.25,0.25,0.25,0.25,0.25,0,0,0,0,0,0,0,0,0,0,0,0,0,0,0,0,0,0]
[null,null,null,null,null,null,null,null,null,null,null,null,null,null,null,null,null,null,null,null,null,null,null,null,null,null,null,null,null,null,null,null,null,null,null,null,null,null,null,null,null,null,null,null,null,null,null,null,null,null,null,null,null,null,null,null,"EL4",4453.1836086431695,null,null,{"$f":"BI308","v":0},0,0,0,0,0,0,0,0,0,0,0,0,0,0,0,0,0,0,0,0,0,0,0,0,0,0,{"$f":"SUM(CJ306:CJ308)","v":1},1,1,1,1,1,1,1,1,1,1,1,1,1,1,1,1,1]
[null,null,null,null,null,null,null,null,null,null,null,null,null,null,null,null,null,null,null,null,null,null,null,null,null,null,null,null,null,null,null,null,null,null,null,null,null,null,null,null,null,null,null,null,null,null,null,null,null,null,null,null,null,null,null,null,"TOTAL",null,null,null,{"$f":"SUM(BI313:BI317)","v":1},{"$f":"SUM(BJ313:BJ317)","v":1},1,1,1,1,1,1,1,1,1,1,1,1,1,1,1,1,1,1,1,1,1,1,1,1,1,1,1,1,1,1,1,1,1,1,1,1,1,1,1,1,1,1,1]
[]
[null,null,null,null,null,null,null,null,null,null,null,null,null,null,null,null,null,null,null,null,null,null,null,null,null,null,null,null,null,null,null,null,null,null,null,null,null,null,null,null,null,null,null,null,null,null,null,null,null,null,null,null,null,null,null,null,"Sources","1. DOE Walk-In Coolers and Freezers 2014 Final Rule, Technical Support Document: Final Rule National Impact Analysis (NIA) - Systems, 'Market Share Inputs' tab, cells O3:Z35, http://www.regulations.gov/#!documentDetail;D=EERE-2008-BT-STD-0015-0134"]

{"sheet":"Shipments and Stock - Component","index":9,"n_rows":18,"n_cols":52,"rows_kept":18,"cut":false,"hidden":false,"merged":[[1,2,1,3],[3,2,3,3],[5,2,5,3]]}
[]
[null,null,"Shipments and Stock - Component"]
[]
[null,null,{"$f":"Navigation!$C$15","v":"NAVIGATION"}]
[]
[null,null,"COMMENTS"]
[]
[null,null,"Building Type "]
[null,null,{"$f":"RESULTS!C9","v":"TOTAL"}]
[]
[]
[null,null,"Walk_In_Coolers_Freezers_Components"]
[null,null,null,null,1987,1988,1989,1990,1991,1992,1993,1994,1995,1996,1997,1998,1999,2000,2001,2002,2003,2004,2005,2006,2007,2008,2009,2010,2011,2012,2013,2014,2015,2016,2017,2018,2019,2020,2021,2022,2023,2024,2025,2026,2027,2028,2029,2030,2031,2032,2033,2034]
[null,null,"6P Shipments","(units)","Not in 6P","Not in 6P","Not in 6P","Not in 6P","Not in 6P","Not in 6P","Not in 6P","Not in 6P","Not in 6P","Not in 6P","Not in 6P","Not in 6P","Not in 6P","Not in 6P","Not in 6P","Not in 6P","Not in 6P","Not in 6P","Not in 6P","Not in 6P","Not in 6P","Not in 6P","Not in 6P","Not in 6P","Not in 6P","Not in 6P","Not in 6P","Not in 6P","Not in 6P","Not in 6P","Not in 6P","Not in 6P","Not in 6P","Not in 6P","Not in 6P","Not in 6P","Not in 6P","Not in 6P","Not in 6P","Not in 6P","Not in 6P","Not in 6P","Not in 6P","Not in 6P","Not in 6P","Not in 6P","Not in 6P","Not in 6P"]
[null,null,"Replacement Shipments","(units)",{"$f":"OFFSET(INDEX('[1]SHIPMENTS - TOTAL'!$E$8:$BF$467,MATCH($C$12,'[1]SHIPMENTS - TOTAL'!$C$8:$C$25,0),MATCH(E$13,'[1]SHIPMENTS - TOTAL'!$E$7:$BF$7,0)),MATCH($C$9,'[1]SHIPMENTS - TOTAL'!$D$2:$D$467,0)-1,0)","v":{"$error":"#VALUE!"}},{"$f":"OFFSET(INDEX('[1]SHIPMENTS - TOTAL'!$E$8:$BF$467,MATCH($C$12,'[1]SHIPMENTS - TOTAL'!$C$8:$C$25,0),MATCH(F$13,'[1]SHIPMENTS - TOTAL'!$E$7:$BF$7,0)),MATCH($C$9,'[1]SHIPMENTS - TOTAL'!$D$2:$D$467,0)-1,0)","v":{"$error":"#VALUE!"}},{"$f":"OFFSET(INDEX('[1]SHIPMENTS - TOTAL'!$E$8:$BF$467,MATCH($C$12,'[1]SHIPMENTS - TOTAL'!$C$8:$C$25,0),MATCH(G$13,'[1]SHIPMENTS - TOTAL'!$E$7:$BF$7,0)),MATCH($C$9,'[1]SHIPMENTS - TOTAL'!$D$2:$D$467,0)-1,0)","v":{"$error":"#VALUE!"}},{"$f":"OFFSET(INDEX('[1]SHIPMENTS - TOTAL'!$E$8:$BF$467,MATCH($C$12,'[1]SHIPMENTS - TOTAL'!$C$8:$C$25,0),MATCH(H$13,'[1]SHIPMENTS - TOTAL'!$E$7:$BF$7,0)),MATCH($C$9,'[1]SHIPMENTS - TOTAL'!$D$2:$D$467,0)-1,0)","v":{"$error":"#VALUE!"}},{"$f":"OFFSET(INDEX('[1]SHIPMENTS - TOTAL'!$E$8:$BF$467,MATCH($C$12,'[1]SHIPMENTS - TOTAL'!$C$8:$C$25,0),MATCH(I$13,'[1]SHIPMENTS - TOTAL'!$E$7:$BF$7,0)),MATCH($C$9,'[1]SHIPMENTS - TOTAL'!$D$2:$D$467,0)-1,0)","v":{"$error":"#VALUE!"}},{"$f":"OFFSET(INDEX('[1]SHIPMENTS - TOTAL'!$E$8:$BF$467,MATCH($C$12,'[1]SHIPMENTS - TOTAL'!$C$8:$C$25,0),MATCH(J$13,'[1]SHIPMENTS - TOTAL'!$E$7:$BF$7,0)),MATCH($C$9,'[1]SHIPMENTS - TOTAL'!$D$2:$D$467,0)-1,0)","v":{"$error":"#VALUE!"}},{"$f":"OFFSET(INDEX('[1]SHIPMENTS - TOTAL'!$E$8:$BF$467,MATCH($C$12,'[1]SHIPMENTS - TOTAL'!$C$8:$C$25,0),MATCH(K$13,'[1]SHIPMENTS - TOTAL'!$E$7:$BF$7,0)),MATCH($C$9,'[1]SHIPMENTS - TOTAL'!$D$2:$D$467,0)-1,0)","v":{"$error":"#VALUE!"}},{"$f":"OFFSET(INDEX('[1]SHIPMENTS - TOTAL'!$E$8:$BF$467,MATCH($C$12,'[1]SHIPMENTS - TOTAL'!$C$8:$C$25,0),MATCH(L$13,'[1]SHIPMENTS - TOTAL'!$E$7:$BF$7,0)),MATCH($C$9,'[1]SHIPMENTS - TOTAL'!$D$2:$D$467,0)-1,0)","v":{"$error":"#VALUE!"}},{"$f":"OFFSET(INDEX('[1]SHIPMENTS - TOTAL'!$E$8:$BF$467,MATCH($C$12,'[1]SHIPMENTS - TOTAL'!$C$8:$C$25,0),MATCH(M$13,'[1]SHIPMENTS - TOTAL'!$E$7:$BF$7,0)),MATCH($C$9,'[1]SHIPMENTS - TOTAL'!$D$2:$D$467,0)-1,0)","v":{"$error":"#VALUE!"}},{"$f":"OFFSET(INDEX('[1]SHIPMENTS - TOTAL'!$E$8:$BF$467,MATCH($C$12,'[1]SHIPMENTS - TOTAL'!$C$8:$C$25,0),MATCH(N$13,'[1]SHIPMENTS - TOTAL'!$E$7:$BF$7,0)),MATCH($C$9,'[1]SHIPMENTS - TOTAL'!$D$2:$D$467,0)-1,0)","v":{"$error":"#VALUE!"}},{"$f":"OFFSET(INDEX('[1]SHIPMENTS - TOTAL'!$E$8:$BF$467,MATCH($C$12,'[1]SHIPMENTS - TOTAL'!$C$8:$C$25,0),MATCH(O$13,'[1]SHIPMENTS - TOTAL'!$E$7:$BF$7,0)),MATCH($C$9,'[1]SHIPMENTS - TOTAL'!$D$2:$D$467,0)-1,0)","v":{"$error":"#VALUE!"}},{"$f":"OFFSET(INDEX('[1]SHIPMENTS - TOTAL'!$E$8:$BF$467,MATCH($C$12,'[1]SHIPMENTS - TOTAL'!$C$8:$C$25,0),MATCH(P$13,'[1]SHIPMENTS - TOTAL'!$E$7:$BF$7,0)),MATCH($C$9,'[1]SHIPMENTS - TOTAL'!$D$2:$D$467,0)-1,0)","v":{"$error":"#VALUE!"}},{"$f":"OFFSET(INDEX('[1]SHIPMENTS - TOTAL'!$E$8:$BF$467,MATCH($C$12,'[1]SHIPMENTS - TOTAL'!$C$8:$C$25,0),MATCH(Q$13,'[1]SHIPMENTS - TOTAL'!$E$7:$BF$7,0)),MATCH($C$9,'[1]SHIPMENTS - TOTAL'!$D$2:$D$467,0)-1,0)","v":{"$error":"#VALUE!"}},{"$f":"OFFSET(INDEX('[1]SHIPMENTS - TOTAL'!$E$8:$BF$467,MATCH($C$12,'[1]SHIPMENTS - TOTAL'!$C$8:$C$25,0),MATCH(R$13,'[1]SHIPMENTS - TOTAL'!$E$7:$BF$7,0)),MATCH($C$9,'[1]SHIPMENTS - TOTAL'!$D$2:$D$467,0)-1,0)","v":{"$error":"#VALUE!"}},{"$f":"OFFSET(INDEX('[1]SHIPMENTS - TOTAL'!$E$8:$BF$467,MATCH($C$12,'[1]SHIPMENTS - TOTAL'!$C$8:$C$25,0),MATCH(S$13,'[1]SHIPMENTS - TOTAL'!$E$7:$BF$7,0)),MATCH($C$9,'[1]SHIPMENTS - TOTAL'!$D$2:$D$467,0)-1,0)","v":{"$error":"#VALUE!"}},{"$f":"OFFSET(INDEX('[1]SHIPMENTS - TOTAL'!$E$8:$BF$467,MATCH($C$12,'[1]SHIPMENTS - TOTAL'!$C$8:$C$25,0),MATCH(T$13,'[1]SHIPMENTS - TOTAL'!$E$7:$BF$7,0)),MATCH($C$9,'[1]SHIPMENTS - TOTAL'!$D$2:$D$467,0)-1,0)","v":{"$error":"#VALUE!"}},{"$f":"OFFSET(INDEX('[1]SHIPMENTS - TOTAL'!$E$8:$BF$467,MATCH($C$12,'[1]SHIPMENTS - TOTAL'!$C$8:$C$25,0),MATCH(U$13,'[1]SHIPMENTS - TOTAL'!$E$7:$BF$7,0)),MATCH($C$9,'[1]SHIPMENTS - TOTAL'!$D$2:$D$467,0)-1,0)","v":{"$error":"#VALUE!"}},{"$f":"OFFSET(INDEX('[1]SHIPMENTS - TOTAL'!$E$8:$BF$467,MATCH($C$12,'[1]SHIPMENTS - TOTAL'!$C$8:$C$25,0),MATCH(V$13,'[1]SHIPMENTS - TOTAL'!$E$7:$BF$7,0)),MATCH($C$9,'[1]SHIPMENTS - TOTAL'!$D$2:$D$467,0)-1,0)","v":{"$error":"#VALUE!"}},{"$f":"OFFSET(INDEX('[1]SHIPMENTS - TOTAL'!$E$8:$BF$467,MATCH($C$12,'[1]SHIPMENTS - TOTAL'!$C$8:$C$25,0),MATCH(W$13,'[1]SHIPMENTS - TOTAL'!$E$7:$BF$7,0)),MATCH($C$9,'[1]SHIPMENTS - TOTAL'!$D$2:$D$467,0)-1,0)","v":{"$error":"#VALUE!"}},{"$f":"OFFSET(INDEX('[1]SHIPMENTS - TOTAL'!$E$8:$BF$467,MATCH($C$12,'[1]SHIPMENTS - TOTAL'!$C$8:$C$25,0),MATCH(X$13,'[1]SHIPMENTS - TOTAL'!$E$7:$BF$7,0)),MATCH($C$9,'[1]SHIPMENTS - TOTAL'!$D$2:$D$467,0)-1,0)","v":{"$error":"#VALUE!"}},{"$f":"OFFSET(INDEX('[1]SHIPMENTS - TOTAL'!$E$8:$BF$467,MATCH($C$12,'[1]SHIPMENTS - TOTAL'!$C$8:$C$25,0),MATCH(Y$13,'[1]SHIPMENTS - TOTAL'!$E$7:$BF$7,0)),MATCH($C$9,'[1]SHIPMENTS - TOTAL'!$D$2:$D$467,0)-1,0)","v":{"$error":"#VALUE!"}},{"$f":"OFFSET(INDEX('[1]SHIPMENTS - TOTAL'!$E$8:$BF$467,MATCH($C$12,'[1]SHIPMENTS - TOTAL'!$C$8:$C$25,0),MATCH(Z$13,'[1]SHIPMENTS - TOTAL'!$E$7:$BF$7,0)),MATCH($C$9,'[1]SHIPMENTS - TOTAL'!$D$2:$D$467,0)-1,0)","v":{"$error":"#VALUE!"}},{"$f":"OFFSET(INDEX('[1]SHIPMENTS - TOTAL'!$E$8:$BF$467,MATCH($C$12,'[1]SHIPMENTS - TOTAL'!$C$8:$C$25,0),MATCH(AA$13,'[1]SHIPMENTS - TOTAL'!$E$7:$BF$7,0)),MATCH($C$9,'[1]SHIPMENTS - TOTAL'!$D$2:$D$467,0)-1,0)","v":{"$error":"#VALUE!"}},{"$f":"OFFSET(INDEX('[1]SHIPMENTS - TOTAL'!$E$8:$BF$467,MATCH($C$12,'[1]SHIPMENTS - TOTAL'!$C$8:$C$25,0),MATCH(AB$13,'[1]SHIPMENTS - TOTAL'!$E$7:$BF$7,0)),MATCH($C$9,'[1]SHIPMENTS - TOTAL'!$D$2:$D$467,0)-1,0)","v":{"$error":"#VALUE!"}},{"$f":"OFFSET(INDEX('[1]SHIPMENTS - TOTAL'!$E$8:$BF$467,MATCH($C$12,'[1]SHIPMENTS - TOTAL'!$C$8:$C$25,0),MATCH(AC$13,'[1]SHIPMENTS - TOTAL'!$E$7:$BF$7,0)),MATCH($C$9,'[1]SHIPMENTS - TOTAL'!$D$2:$D$467,0)-1,0)","v":{"$error":"#VALUE!"}},{"$f":"OFFSET(INDEX('[1]SHIPMENTS - TOTAL'!$E$8:$BF$467,MATCH($C$12,'[1]SHIPMENTS - TOTAL'!$C$8:$C$25,0),MATCH(AD$13,'[1]SHIPMENTS - TOTAL'!$E$7:$BF$7,0)),MATCH($C$9,'[1]SHIPMENTS - TOTAL'!$D$2:$D$467,0)-1,0)","v":{"$error":"#VALUE!"}},{"$f":"OFFSET(INDEX('[1]SHIPMENTS - TOTAL'!$E$8:$BF$467,MATCH($C$12,'[1]SHIPMENTS - TOTAL'!$C$8:$C$25,0),MATCH(AE$13,'[1]SHIPMENTS - TOTAL'!$E$7:$BF$7,0)),MATCH($C$9,'[1]SHIPMENTS - TOTAL'!$D$2:$D$467,0)-1,0)","v":{"$error":"#VALUE!"}},{"$f":"OFFSET(INDEX('[1]SHIPMENTS - TOTAL'!$E$8:$BF$467,MATCH($C$12,'[1]SHIPMENTS - TOTAL'!$C$8:$C$25,0),MATCH(AF$13,'[1]SHIPMENTS - TOTAL'!$E$7:$BF$7,0)),MATCH($C$9,'[1]SHIPMENTS - TOTAL'!$D$2:$D$467,0)-1,0)","v":{"$error":"#VALUE!"}},{"$f":"OFFSET(INDEX('[1]SHIPMENTS - TOTAL'!$E$8:$BF$467,MATCH($C$12,'[1]SHIPMENTS - TOTAL'!$C$8:$C$25,0),MATCH(AG$13,'[1]SHIPMENTS - TOTAL'!$E$7:$BF$7,0)),MATCH($C$9,'[1]SHIPMENTS - TOTAL'!$D$2:$D$467,0)-1,0)","v":{"$error":"#VALUE!"}},{"$f":"OFFSET(INDEX('[1]SHIPMENTS - TOTAL'!$E$8:$BF$467,MATCH($C$12,'[1]SHIPMENTS - TOTAL'!$C$8:$C$25,0),MATCH(AH$13,'[1]SHIPMENTS - TOTAL'!$E$7:$BF$7,0)),MATCH($C$9,'[1]SHIPMENTS - TOTAL'!$D$2:$D$467,0)-1,0)","v":{"$error":"#VALUE!"}},{"$f":"OFFSET(INDEX('[1]SHIPMENTS - TOTAL'!$E$8:$BF$467,MATCH($C$12,'[1]SHIPMENTS - TOTAL'!$C$8:$C$25,0),MATCH(AI$13,'[1]SHIPMENTS - TOTAL'!$E$7:$BF$7,0)),MATCH($C$9,'[1]SHIPMENTS - TOTAL'!$D$2:$D$467,0)-1,0)","v":{"$error":"#VALUE!"}},{"$f":"OFFSET(INDEX('[1]SHIPMENTS - TOTAL'!$E$8:$BF$467,MATCH($C$12,'[1]SHIPMENTS - TOTAL'!$C$8:$C$25,0),MATCH(AJ$13,'[1]SHIPMENTS - TOTAL'!$E$7:$BF$7,0)),MATCH($C$9,'[1]SHIPMENTS - TOTAL'!$D$2:$D$467,0)-1,0)","v":{"$error":"#VALUE!"}},{"$f":"OFFSET(INDEX('[1]SHIPMENTS - TOTAL'!$E$8:$BF$467,MATCH($C$12,'[1]SHIPMENTS - TOTAL'!$C$8:$C$25,0),MATCH(AK$13,'[1]SHIPMENTS - TOTAL'!$E$7:$BF$7,0)),MATCH($C$9,'[1]SHIPMENTS - TOTAL'!$D$2:$D$467,0)-1,0)","v":{"$error":"#VALUE!"}},{"$f":"OFFSET(INDEX('[1]SHIPMENTS - TOTAL'!$E$8:$BF$467,MATCH($C$12,'[1]SHIPMENTS - TOTAL'!$C$8:$C$25,0),MATCH(AL$13,'[1]SHIPMENTS - TOTAL'!$E$7:$BF$7,0)),MATCH($C$9,'[1]SHIPMENTS - TOTAL'!$D$2:$D$467,0)-1,0)","v":{"$error":"#VALUE!"}},{"$f":"OFFSET(INDEX('[1]SHIPMENTS - TOTAL'!$E$8:$BF$467,MATCH($C$12,'[1]SHIPMENTS - TOTAL'!$C$8:$C$25,0),MATCH(AM$13,'[1]SHIPMENTS - TOTAL'!$E$7:$BF$7,0)),MATCH($C$9,'[1]SHIPMENTS - TOTAL'!$D$2:$D$467,0)-1,0)","v":{"$error":"#VALUE!"}},{"$f":"OFFSET(INDEX('[1]SHIPMENTS - TOTAL'!$E$8:$BF$467,MATCH($C$12,'[1]SHIPMENTS - TOTAL'!$C$8:$C$25,0),MATCH(AN$13,'[1]SHIPMENTS - TOTAL'!$E$7:$BF$7,0)),MATCH($C$9,'[1]SHIPMENTS - TOTAL'!$D$2:$D$467,0)-1,0)","v":{"$error":"#VALUE!"}},{"$f":"OFFSET(INDEX('[1]SHIPMENTS - TOTAL'!$E$8:$BF$467,MATCH($C$12,'[1]SHIPMENTS - TOTAL'!$C$8:$C$25,0),MATCH(AO$13,'[1]SHIPMENTS - TOTAL'!$E$7:$BF$7,0)),MATCH($C$9,'[1]SHIPMENTS - TOTAL'!$D$2:$D$467,0)-1,0)","v":{"$error":"#VALUE!"}},{"$f":"OFFSET(INDEX('[1]SHIPMENTS - TOTAL'!$E$8:$BF$467,MATCH($C$12,'[1]SHIPMENTS - TOTAL'!$C$8:$C$25,0),MATCH(AP$13,'[1]SHIPMENTS - TOTAL'!$E$7:$BF$7,0)),MATCH($C$9,'[1]SHIPMENTS - TOTAL'!$D$2:$D$467,0)-1,0)","v":{"$error":"#VALUE!"}},{"$f":"OFFSET(INDEX('[1]SHIPMENTS - TOTAL'!$E$8:$BF$467,MATCH($C$12,'[1]SHIPMENTS - TOTAL'!$C$8:$C$25,0),MATCH(AQ$13,'[1]SHIPMENTS - TOTAL'!$E$7:$BF$7,0)),MATCH($C$9,'[1]SHIPMENTS - TOTAL'!$D$2:$D$467,0)-1,0)","v":{"$error":"#VALUE!"}},{"$f":"OFFSET(INDEX('[1]SHIPMENTS - TOTAL'!$E$8:$BF$467,MATCH($C$12,'[1]SHIPMENTS - TOTAL'!$C$8:$C$25,0),MATCH(AR$13,'[1]SHIPMENTS - TOTAL'!$E$7:$BF$7,0)),MATCH($C$9,'[1]SHIPMENTS - TOTAL'!$D$2:$D$467,0)-1,0)","v":{"$error":"#VALUE!"}},{"$f":"OFFSET(INDEX('[1]SHIPMENTS - TOTAL'!$E$8:$BF$467,MATCH($C$12,'[1]SHIPMENTS - TOTAL'!$C$8:$C$25,0),MATCH(AS$13,'[1]SHIPMENTS - TOTAL'!$E$7:$BF$7,0)),MATCH($C$9,'[1]SHIPMENTS - TOTAL'!$D$2:$D$467,0)-1,0)","v":{"$error":"#VALUE!"}},{"$f":"OFFSET(INDEX('[1]SHIPMENTS - TOTAL'!$E$8:$BF$467,MATCH($C$12,'[1]SHIPMENTS - TOTAL'!$C$8:$C$25,0),MATCH(AT$13,'[1]SHIPMENTS - TOTAL'!$E$7:$BF$7,0)),MATCH($C$9,'[1]SHIPMENTS - TOTAL'!$D$2:$D$467,0)-1,0)","v":{"$error":"#VALUE!"}},{"$f":"OFFSET(INDEX('[1]SHIPMENTS - TOTAL'!$E$8:$BF$467,MATCH($C$12,'[1]SHIPMENTS - TOTAL'!$C$8:$C$25,0),MATCH(AU$13,'[1]SHIPMENTS - TOTAL'!$E$7:$BF$7,0)),MATCH($C$9,'[1]SHIPMENTS - TOTAL'!$D$2:$D$467,0)-1,0)","v":{"$error":"#VALUE!"}},{"$f":"OFFSET(INDEX('[1]SHIPMENTS - TOTAL'!$E$8:$BF$467,MATCH($C$12,'[1]SHIPMENTS - TOTAL'!$C$8:$C$25,0),MATCH(AV$13,'[1]SHIPMENTS - TOTAL'!$E$7:$BF$7,0)),MATCH($C$9,'[1]SHIPMENTS - TOTAL'!$D$2:$D$467,0)-1,0)","v":{"$error":"#VALUE!"}},{"$f":"OFFSET(INDEX('[1]SHIPMENTS - TOTAL'!$E$8:$BF$467,MATCH($C$12,'[1]SHIPMENTS - TOTAL'!$C$8:$C$25,0),MATCH(AW$13,'[1]SHIPMENTS - TOTAL'!$E$7:$BF$7,0)),MATCH($C$9,'[1]SHIPMENTS - TOTAL'!$D$2:$D$467,0)-1,0)","v":{"$error":"#VALUE!"}},{"$f":"OFFSET(INDEX('[1]SHIPMENTS - TOTAL'!$E$8:$BF$467,MATCH($C$12,'[1]SHIPMENTS - TOTAL'!$C$8:$C$25,0),MATCH(AX$13,'[1]SHIPMENTS - TOTAL'!$E$7:$BF$7,0)),MATCH($C$9,'[1]SHIPMENTS - TOTAL'!$D$2:$D$467,0)-1,0)","v":{"$error":"#VALUE!"}},{"$f":"OFFSET(INDEX('[1]SHIPMENTS - TOTAL'!$E$8:$BF$467,MATCH($C$12,'[1]SHIPMENTS - TOTAL'!$C$8:$C$25,0),MATCH(AY$13,'[1]SHIPMENTS - TOTAL'!$E$7:$BF$7,0)),MATCH($C$9,'[1]SHIPMENTS - TOTAL'!$D$2:$D$467,0)-1,0)","v":{"$error":"#VALUE!"}},{"$f":"OFFSET(INDEX('[1]SHIPMENTS - TOTAL'!$E$8:$BF$467,MATCH($C$12,'[1]SHIPMENTS - TOTAL'!$C$8:$C$25,0),MATCH(AZ$13,'[1]SHIPMENTS - TOTAL'!$E$7:$BF$7,0)),MATCH($C$9,'[1]SHIPMENTS - TOTAL'!$D$2:$D$467,0)-1,0)","v":{"$error":"#VALUE!"}}]
[null,null,"Net New Shipments","(units)",{"$f":"OFFSET(INDEX('[1]SHIPMENTS - TOTAL'!$E$8:$BF$467,MATCH($C$12,'[1]SHIPMENTS - TOTAL'!$C$8:$C$25,0),MATCH(E$13,'[1]SHIPMENTS - TOTAL'!$E$7:$BF$7,0)),MATCH($C$9,'[1]SHIPMENTS - TOTAL'!$D$2:$D$467,0)-1+1,0)","v":{"$error":"#VALUE!"}},{"$f":"OFFSET(INDEX('[1]SHIPMENTS - TOTAL'!$E$8:$BF$467,MATCH($C$12,'[1]SHIPMENTS - TOTAL'!$C$8:$C$25,0),MATCH(F$13,'[1]SHIPMENTS - TOTAL'!$E$7:$BF$7,0)),MATCH($C$9,'[1]SHIPMENTS - TOTAL'!$D$2:$D$467,0)-1+1,0)","v":{"$error":"#VALUE!"}},{"$f":"OFFSET(INDEX('[1]SHIPMENTS - TOTAL'!$E$8:$BF$467,MATCH($C$12,'[1]SHIPMENTS - TOTAL'!$C$8:$C$25,0),MATCH(G$13,'[1]SHIPMENTS - TOTAL'!$E$7:$BF$7,0)),MATCH($C$9,'[1]SHIPMENTS - TOTAL'!$D$2:$D$467,0)-1+1,0)","v":{"$error":"#VALUE!"}},{"$f":"OFFSET(INDEX('[1]SHIPMENTS - TOTAL'!$E$8:$BF$467,MATCH($C$12,'[1]SHIPMENTS - TOTAL'!$C$8:$C$25,0),MATCH(H$13,'[1]SHIPMENTS - TOTAL'!$E$7:$BF$7,0)),MATCH($C$9,'[1]SHIPMENTS - TOTAL'!$D$2:$D$467,0)-1+1,0)","v":{"$error":"#VALUE!"}},{"$f":"OFFSET(INDEX('[1]SHIPMENTS - TOTAL'!$E$8:$BF$467,MATCH($C$12,'[1]SHIPMENTS - TOTAL'!$C$8:$C$25,0),MATCH(I$13,'[1]SHIPMENTS - TOTAL'!$E$7:$BF$7,0)),MATCH($C$9,'[1]SHIPMENTS - TOTAL'!$D$2:$D$467,0)-1+1,0)","v":{"$error":"#VALUE!"}},{"$f":"OFFSET(INDEX('[1]SHIPMENTS - TOTAL'!$E$8:$BF$467,MATCH($C$12,'[1]SHIPMENTS - TOTAL'!$C$8:$C$25,0),MATCH(J$13,'[1]SHIPMENTS - TOTAL'!$E$7:$BF$7,0)),MATCH($C$9,'[1]SHIPMENTS - TOTAL'!$D$2:$D$467,0)-1+1,0)","v":{"$error":"#VALUE!"}},{"$f":"OFFSET(INDEX('[1]SHIPMENTS - TOTAL'!$E$8:$BF$467,MATCH($C$12,'[1]SHIPMENTS - TOTAL'!$C$8:$C$25,0),MATCH(K$13,'[1]SHIPMENTS - TOTAL'!$E$7:$BF$7,0)),MATCH($C$9,'[1]SHIPMENTS - TOTAL'!$D$2:$D$467,0)-1+1,0)","v":{"$error":"#VALUE!"}},{"$f":"OFFSET(INDEX('[1]SHIPMENTS - TOTAL'!$E$8:$BF$467,MATCH($C$12,'[1]SHIPMENTS - TOTAL'!$C$8:$C$25,0),MATCH(L$13,'[1]SHIPMENTS - TOTAL'!$E$7:$BF$7,0)),MATCH($C$9,'[1]SHIPMENTS - TOTAL'!$D$2:$D$467,0)-1+1,0)","v":{"$error":"#VALUE!"}},{"$f":"OFFSET(INDEX('[1]SHIPMENTS - TOTAL'!$E$8:$BF$467,MATCH($C$12,'[1]SHIPMENTS - TOTAL'!$C$8:$C$25,0),MATCH(M$13,'[1]SHIPMENTS - TOTAL'!$E$7:$BF$7,0)),MATCH($C$9,'[1]SHIPMENTS - TOTAL'!$D$2:$D$467,0)-1+1,0)","v":{"$error":"#VALUE!"}},{"$f":"OFFSET(INDEX('[1]SHIPMENTS - TOTAL'!$E$8:$BF$467,MATCH($C$12,'[1]SHIPMENTS - TOTAL'!$C$8:$C$25,0),MATCH(N$13,'[1]SHIPMENTS - TOTAL'!$E$7:$BF$7,0)),MATCH($C$9,'[1]SHIPMENTS - TOTAL'!$D$2:$D$467,0)-1+1,0)","v":{"$error":"#VALUE!"}},{"$f":"OFFSET(INDEX('[1]SHIPMENTS - TOTAL'!$E$8:$BF$467,MATCH($C$12,'[1]SHIPMENTS - TOTAL'!$C$8:$C$25,0),MATCH(O$13,'[1]SHIPMENTS - TOTAL'!$E$7:$BF$7,0)),MATCH($C$9,'[1]SHIPMENTS - TOTAL'!$D$2:$D$467,0)-1+1,0)","v":{"$error":"#VALUE!"}},{"$f":"OFFSET(INDEX('[1]SHIPMENTS - TOTAL'!$E$8:$BF$467,MATCH($C$12,'[1]SHIPMENTS - TOTAL'!$C$8:$C$25,0),MATCH(P$13,'[1]SHIPMENTS - TOTAL'!$E$7:$BF$7,0)),MATCH($C$9,'[1]SHIPMENTS - TOTAL'!$D$2:$D$467,0)-1+1,0)","v":{"$error":"#VALUE!"}},{"$f":"OFFSET(INDEX('[1]SHIPMENTS - TOTAL'!$E$8:$BF$467,MATCH($C$12,'[1]SHIPMENTS - TOTAL'!$C$8:$C$25,0),MATCH(Q$13,'[1]SHIPMENTS - TOTAL'!$E$7:$BF$7,0)),MATCH($C$9,'[1]SHIPMENTS - TOTAL'!$D$2:$D$467,0)-1+1,0)","v":{"$error":"#VALUE!"}},{"$f":"OFFSET(INDEX('[1]SHIPMENTS - TOTAL'!$E$8:$BF$467,MATCH($C$12,'[1]SHIPMENTS - TOTAL'!$C$8:$C$25,0),MATCH(R$13,'[1]SHIPMENTS - TOTAL'!$E$7:$BF$7,0)),MATCH($C$9,'[1]SHIPMENTS - TOTAL'!$D$2:$D$467,0)-1+1,0)","v":{"$error":"#VALUE!"}},{"$f":"OFFSET(INDEX('[1]SHIPMENTS - TOTAL'!$E$8:$BF$467,MATCH($C$12,'[1]SHIPMENTS - TOTAL'!$C$8:$C$25,0),MATCH(S$13,'[1]SHIPMENTS - TOTAL'!$E$7:$BF$7,0)),MATCH($C$9,'[1]SHIPMENTS - TOTAL'!$D$2:$D$467,0)-1+1,0)","v":{"$error":"#VALUE!"}},{"$f":"OFFSET(INDEX('[1]SHIPMENTS - TOTAL'!$E$8:$BF$467,MATCH($C$12,'[1]SHIPMENTS - TOTAL'!$C$8:$C$25,0),MATCH(T$13,'[1]SHIPMENTS - TOTAL'!$E$7:$BF$7,0)),MATCH($C$9,'[1]SHIPMENTS - TOTAL'!$D$2:$D$467,0)-1+1,0)","v":{"$error":"#VALUE!"}},{"$f":"OFFSET(INDEX('[1]SHIPMENTS - TOTAL'!$E$8:$BF$467,MATCH($C$12,'[1]SHIPMENTS - TOTAL'!$C$8:$C$25,0),MATCH(U$13,'[1]SHIPMENTS - TOTAL'!$E$7:$BF$7,0)),MATCH($C$9,'[1]SHIPMENTS - TOTAL'!$D$2:$D$467,0)-1+1,0)","v":{"$error":"#VALUE!"}},{"$f":"OFFSET(INDEX('[1]SHIPMENTS - TOTAL'!$E$8:$BF$467,MATCH($C$12,'[1]SHIPMENTS - TOTAL'!$C$8:$C$25,0),MATCH(V$13,'[1]SHIPMENTS - TOTAL'!$E$7:$BF$7,0)),MATCH($C$9,'[1]SHIPMENTS - TOTAL'!$D$2:$D$467,0)-1+1,0)","v":{"$error":"#VALUE!"}},{"$f":"OFFSET(INDEX('[1]SHIPMENTS - TOTAL'!$E$8:$BF$467,MATCH($C$12,'[1]SHIPMENTS - TOTAL'!$C$8:$C$25,0),MATCH(W$13,'[1]SHIPMENTS - TOTAL'!$E$7:$BF$7,0)),MATCH($C$9,'[1]SHIPMENTS - TOTAL'!$D$2:$D$467,0)-1+1,0)","v":{"$error":"#VALUE!"}},{"$f":"OFFSET(INDEX('[1]SHIPMENTS - TOTAL'!$E$8:$BF$467,MATCH($C$12,'[1]SHIPMENTS - TOTAL'!$C$8:$C$25,0),MATCH(X$13,'[1]SHIPMENTS - TOTAL'!$E$7:$BF$7,0)),MATCH($C$9,'[1]SHIPMENTS - TOTAL'!$D$2:$D$467,0)-1+1,0)","v":{"$error":"#VALUE!"}},{"$f":"OFFSET(INDEX('[1]SHIPMENTS - TOTAL'!$E$8:$BF$467,MATCH($C$12,'[1]SHIPMENTS - TOTAL'!$C$8:$C$25,0),MATCH(Y$13,'[1]SHIPMENTS - TOTAL'!$E$7:$BF$7,0)),MATCH($C$9,'[1]SHIPMENTS - TOTAL'!$D$2:$D$467,0)-1+1,0)","v":{"$error":"#VALUE!"}},{"$f":"OFFSET(INDEX('[1]SHIPMENTS - TOTAL'!$E$8:$BF$467,MATCH($C$12,'[1]SHIPMENTS - TOTAL'!$C$8:$C$25,0),MATCH(Z$13,'[1]SHIPMENTS - TOTAL'!$E$7:$BF$7,0)),MATCH($C$9,'[1]SHIPMENTS - TOTAL'!$D$2:$D$467,0)-1+1,0)","v":{"$error":"#VALUE!"}},{"$f":"OFFSET(INDEX('[1]SHIPMENTS - TOTAL'!$E$8:$BF$467,MATCH($C$12,'[1]SHIPMENTS - TOTAL'!$C$8:$C$25,0),MATCH(AA$13,'[1]SHIPMENTS - TOTAL'!$E$7:$BF$7,0)),MATCH($C$9,'[1]SHIPMENTS - TOTAL'!$D$2:$D$467,0)-1+1,0)","v":{"$error":"#VALUE!"}},{"$f":"OFFSET(INDEX('[1]SHIPMENTS - TOTAL'!$E$8:$BF$467,MATCH($C$12,'[1]SHIPMENTS - TOTAL'!$C$8:$C$25,0),MATCH(AB$13,'[1]SHIPMENTS - TOTAL'!$E$7:$BF$7,0)),MATCH($C$9,'[1]SHIPMENTS - TOTAL'!$D$2:$D$467,0)-1+1,0)","v":{"$error":"#VALUE!"}},{"$f":"OFFSET(INDEX('[1]SHIPMENTS - TOTAL'!$E$8:$BF$467,MATCH($C$12,'[1]SHIPMENTS - TOTAL'!$C$8:$C$25,0),MATCH(AC$13,'[1]SHIPMENTS - TOTAL'!$E$7:$BF$7,0)),MATCH($C$9,'[1]SHIPMENTS - TOTAL'!$D$2:$D$467,0)-1+1,0)","v":{"$error":"#VALUE!"}},{"$f":"OFFSET(INDEX('[1]SHIPMENTS - TOTAL'!$E$8:$BF$467,MATCH($C$12,'[1]SHIPMENTS - TOTAL'!$C$8:$C$25,0),MATCH(AD$13,'[1]SHIPMENTS - TOTAL'!$E$7:$BF$7,0)),MATCH($C$9,'[1]SHIPMENTS - TOTAL'!$D$2:$D$467,0)-1+1,0)","v":{"$error":"#VALUE!"}},{"$f":"OFFSET(INDEX('[1]SHIPMENTS - TOTAL'!$E$8:$BF$467,MATCH($C$12,'[1]SHIPMENTS - TOTAL'!$C$8:$C$25,0),MATCH(AE$13,'[1]SHIPMENTS - TOTAL'!$E$7:$BF$7,0)),MATCH($C$9,'[1]SHIPMENTS - TOTAL'!$D$2:$D$467,0)-1+1,0)","v":{"$error":"#VALUE!"}},{"$f":"OFFSET(INDEX('[1]SHIPMENTS - TOTAL'!$E$8:$BF$467,MATCH($C$12,'[1]SHIPMENTS - TOTAL'!$C$8:$C$25,0),MATCH(AF$13,'[1]SHIPMENTS - TOTAL'!$E$7:$BF$7,0)),MATCH($C$9,'[1]SHIPMENTS - TOTAL'!$D$2:$D$467,0)-1+1,0)","v":{"$error":"#VALUE!"}},{"$f":"OFFSET(INDEX('[1]SHIPMENTS - TOTAL'!$E$8:$BF$467,MATCH($C$12,'[1]SHIPMENTS - TOTAL'!$C$8:$C$25,0),MATCH(AG$13,'[1]SHIPMENTS - TOTAL'!$E$7:$BF$7,0)),MATCH($C$9,'[1]SHIPMENTS - TOTAL'!$D$2:$D$467,0)-1+1,0)","v":{"$error":"#VALUE!"}},{"$f":"OFFSET(INDEX('[1]SHIPMENTS - TOTAL'!$E$8:$BF$467,MATCH($C$12,'[1]SHIPMENTS - TOTAL'!$C$8:$C$25,0),MATCH(AH$13,'[1]SHIPMENTS - TOTAL'!$E$7:$BF$7,0)),MATCH($C$9,'[1]SHIPMENTS - TOTAL'!$D$2:$D$467,0)-1+1,0)","v":{"$error":"#VALUE!"}},{"$f":"OFFSET(INDEX('[1]SHIPMENTS - TOTAL'!$E$8:$BF$467,MATCH($C$12,'[1]SHIPMENTS - TOTAL'!$C$8:$C$25,0),MATCH(AI$13,'[1]SHIPMENTS - TOTAL'!$E$7:$BF$7,0)),MATCH($C$9,'[1]SHIPMENTS - TOTAL'!$D$2:$D$467,0)-1+1,0)","v":{"$error":"#VALUE!"}},{"$f":"OFFSET(INDEX('[1]SHIPMENTS - TOTAL'!$E$8:$BF$467,MATCH($C$12,'[1]SHIPMENTS - TOTAL'!$C$8:$C$25,0),MATCH(AJ$13,'[1]SHIPMENTS - TOTAL'!$E$7:$BF$7,0)),MATCH($C$9,'[1]SHIPMENTS - TOTAL'!$D$2:$D$467,0)-1+1,0)","v":{"$error":"#VALUE!"}},{"$f":"OFFSET(INDEX('[1]SHIPMENTS - TOTAL'!$E$8:$BF$467,MATCH($C$12,'[1]SHIPMENTS - TOTAL'!$C$8:$C$25,0),MATCH(AK$13,'[1]SHIPMENTS - TOTAL'!$E$7:$BF$7,0)),MATCH($C$9,'[1]SHIPMENTS - TOTAL'!$D$2:$D$467,0)-1+1,0)","v":{"$error":"#VALUE!"}},{"$f":"OFFSET(INDEX('[1]SHIPMENTS - TOTAL'!$E$8:$BF$467,MATCH($C$12,'[1]SHIPMENTS - TOTAL'!$C$8:$C$25,0),MATCH(AL$13,'[1]SHIPMENTS - TOTAL'!$E$7:$BF$7,0)),MATCH($C$9,'[1]SHIPMENTS - TOTAL'!$D$2:$D$467,0)-1+1,0)","v":{"$error":"#VALUE!"}},{"$f":"OFFSET(INDEX('[1]SHIPMENTS - TOTAL'!$E$8:$BF$467,MATCH($C$12,'[1]SHIPMENTS - TOTAL'!$C$8:$C$25,0),MATCH(AM$13,'[1]SHIPMENTS - TOTAL'!$E$7:$BF$7,0)),MATCH($C$9,'[1]SHIPMENTS - TOTAL'!$D$2:$D$467,0)-1+1,0)","v":{"$error":"#VALUE!"}},{"$f":"OFFSET(INDEX('[1]SHIPMENTS - TOTAL'!$E$8:$BF$467,MATCH($C$12,'[1]SHIPMENTS - TOTAL'!$C$8:$C$25,0),MATCH(AN$13,'[1]SHIPMENTS - TOTAL'!$E$7:$BF$7,0)),MATCH($C$9,'[1]SHIPMENTS - TOTAL'!$D$2:$D$467,0)-1+1,0)","v":{"$error":"#VALUE!"}},{"$f":"OFFSET(INDEX('[1]SHIPMENTS - TOTAL'!$E$8:$BF$467,MATCH($C$12,'[1]SHIPMENTS - TOTAL'!$C$8:$C$25,0),MATCH(AO$13,'[1]SHIPMENTS - TOTAL'!$E$7:$BF$7,0)),MATCH($C$9,'[1]SHIPMENTS - TOTAL'!$D$2:$D$467,0)-1+1,0)","v":{"$error":"#VALUE!"}},{"$f":"OFFSET(INDEX('[1]SHIPMENTS - TOTAL'!$E$8:$BF$467,MATCH($C$12,'[1]SHIPMENTS - TOTAL'!$C$8:$C$25,0),MATCH(AP$13,'[1]SHIPMENTS - TOTAL'!$E$7:$BF$7,0)),MATCH($C$9,'[1]SHIPMENTS - TOTAL'!$D$2:$D$467,0)-1+1,0)","v":{"$error":"#VALUE!"}},{"$f":"OFFSET(INDEX('[1]SHIPMENTS - TOTAL'!$E$8:$BF$467,MATCH($C$12,'[1]SHIPMENTS - TOTAL'!$C$8:$C$25,0),MATCH(AQ$13,'[1]SHIPMENTS - TOTAL'!$E$7:$BF$7,0)),MATCH($C$9,'[1]SHIPMENTS - TOTAL'!$D$2:$D$467,0)-1+1,0)","v":{"$error":"#VALUE!"}},{"$f":"OFFSET(INDEX('[1]SHIPMENTS - TOTAL'!$E$8:$BF$467,MATCH($C$12,'[1]SHIPMENTS - TOTAL'!$C$8:$C$25,0),MATCH(AR$13,'[1]SHIPMENTS - TOTAL'!$E$7:$BF$7,0)),MATCH($C$9,'[1]SHIPMENTS - TOTAL'!$D$2:$D$467,0)-1+1,0)","v":{"$error":"#VALUE!"}},{"$f":"OFFSET(INDEX('[1]SHIPMENTS - TOTAL'!$E$8:$BF$467,MATCH($C$12,'[1]SHIPMENTS - TOTAL'!$C$8:$C$25,0),MATCH(AS$13,'[1]SHIPMENTS - TOTAL'!$E$7:$BF$7,0)),MATCH($C$9,'[1]SHIPMENTS - TOTAL'!$D$2:$D$467,0)-1+1,0)","v":{"$error":"#VALUE!"}},{"$f":"OFFSET(INDEX('[1]SHIPMENTS - TOTAL'!$E$8:$BF$467,MATCH($C$12,'[1]SHIPMENTS - TOTAL'!$C$8:$C$25,0),MATCH(AT$13,'[1]SHIPMENTS - TOTAL'!$E$7:$BF$7,0)),MATCH($C$9,'[1]SHIPMENTS - TOTAL'!$D$2:$D$467,0)-1+1,0)","v":{"$error":"#VALUE!"}},{"$f":"OFFSET(INDEX('[1]SHIPMENTS - TOTAL'!$E$8:$BF$467,MATCH($C$12,'[1]SHIPMENTS - TOTAL'!$C$8:$C$25,0),MATCH(AU$13,'[1]SHIPMENTS - TOTAL'!$E$7:$BF$7,0)),MATCH($C$9,'[1]SHIPMENTS - TOTAL'!$D$2:$D$467,0)-1+1,0)","v":{"$error":"#VALUE!"}},{"$f":"OFFSET(INDEX('[1]SHIPMENTS - TOTAL'!$E$8:$BF$467,MATCH($C$12,'[1]SHIPMENTS - TOTAL'!$C$8:$C$25,0),MATCH(AV$13,'[1]SHIPMENTS - TOTAL'!$E$7:$BF$7,0)),MATCH($C$9,'[1]SHIPMENTS - TOTAL'!$D$2:$D$467,0)-1+1,0)","v":{"$error":"#VALUE!"}},{"$f":"OFFSET(INDEX('[1]SHIPMENTS - TOTAL'!$E$8:$BF$467,MATCH($C$12,'[1]SHIPMENTS - TOTAL'!$C$8:$C$25,0),MATCH(AW$13,'[1]SHIPMENTS - TOTAL'!$E$7:$BF$7,0)),MATCH($C$9,'[1]SHIPMENTS - TOTAL'!$D$2:$D$467,0)-1+1,0)","v":{"$error":"#VALUE!"}},{"$f":"OFFSET(INDEX('[1]SHIPMENTS - TOTAL'!$E$8:$BF$467,MATCH($C$12,'[1]SHIPMENTS - TOTAL'!$C$8:$C$25,0),MATCH(AX$13,'[1]SHIPMENTS - TOTAL'!$E$7:$BF$7,0)),MATCH($C$9,'[1]SHIPMENTS - TOTAL'!$D$2:$D$467,0)-1+1,0)","v":{"$error":"#VALUE!"}},{"$f":"OFFSET(INDEX('[1]SHIPMENTS - TOTAL'!$E$8:$BF$467,MATCH($C$12,'[1]SHIPMENTS - TOTAL'!$C$8:$C$25,0),MATCH(AY$13,'[1]SHIPMENTS - TOTAL'!$E$7:$BF$7,0)),MATCH($C$9,'[1]SHIPMENTS - TOTAL'!$D$2:$D$467,0)-1+1,0)","v":{"$error":"#VALUE!"}},{"$f":"OFFSET(INDEX('[1]SHIPMENTS - TOTAL'!$E$8:$BF$467,MATCH($C$12,'[1]SHIPMENTS - TOTAL'!$C$8:$C$25,0),MATCH(AZ$13,'[1]SHIPMENTS - TOTAL'!$E$7:$BF$7,0)),MATCH($C$9,'[1]SHIPMENTS - TOTAL'!$D$2:$D$467,0)-1+1,0)","v":{"$error":"#VALUE!"}}]
[null,null,"Total Model Shipments","(units)",{"$f":"SUM(E15:E16)","v":{"$error":"#VALUE!"}},{"$error":"#VALUE!"},{"$error":"#VALUE!"},{"$error":"#VALUE!"},{"$error":"#VALUE!"},{"$error":"#VALUE!"},{"$error":"#VALUE!"},{"$error":"#VALUE!"},{"$error":"#VALUE!"},{"$error":"#VALUE!"},{"$error":"#VALUE!"},{"$error":"#VALUE!"},{"$error":"#VALUE!"},{"$error":"#VALUE!"},{"$error":"#VALUE!"},{"$error":"#VALUE!"},{"$error":"#VALUE!"},{"$error":"#VALUE!"},{"$error":"#VALUE!"},{"$error":"#VALUE!"},{"$error":"#VALUE!"},{"$error":"#VALUE!"},{"$error":"#VALUE!"},{"$error":"#VALUE!"},{"$error":"#VALUE!"},{"$error":"#VALUE!"},{"$error":"#VALUE!"},{"$error":"#VALUE!"},{"$error":"#VALUE!"},{"$error":"#VALUE!"},{"$error":"#VALUE!"},{"$error":"#VALUE!"},{"$error":"#VALUE!"},{"$error":"#VALUE!"},{"$error":"#VALUE!"},{"$error":"#VALUE!"},{"$error":"#VALUE!"},{"$error":"#VALUE!"},{"$error":"#VALUE!"},{"$error":"#VALUE!"},{"$error":"#VALUE!"},{"$error":"#VALUE!"},{"$error":"#VALUE!"},{"$error":"#VALUE!"},{"$error":"#VALUE!"},{"$error":"#VALUE!"},{"$error":"#VALUE!"},{"$error":"#VALUE!"}]
[null,null,"Model Installed Stock","(units)",{"$f":"OFFSET(INDEX('[1]STOCK - TOTAL'!$E$8:$BF$305,MATCH($C$12,'[1]STOCK - TOTAL'!$C$8:$C$16,0),MATCH(E$13,'[1]STOCK - TOTAL'!$E$7:$BF$7,0)),MATCH($C$9,'[1]STOCK - TOTAL'!$D:$D,0)-2,0)","v":{"$error":"#VALUE!"}},{"$f":"OFFSET(INDEX('[1]STOCK - TOTAL'!$E$8:$BF$305,MATCH($C$12,'[1]STOCK - TOTAL'!$C$8:$C$16,0),MATCH(F$13,'[1]STOCK - TOTAL'!$E$7:$BF$7,0)),MATCH($C$9,'[1]STOCK - TOTAL'!$D:$D,0)-2,0)","v":{"$error":"#VALUE!"}},{"$f":"OFFSET(INDEX('[1]STOCK - TOTAL'!$E$8:$BF$305,MATCH($C$12,'[1]STOCK - TOTAL'!$C$8:$C$16,0),MATCH(G$13,'[1]STOCK - TOTAL'!$E$7:$BF$7,0)),MATCH($C$9,'[1]STOCK - TOTAL'!$D:$D,0)-2,0)","v":{"$error":"#VALUE!"}},{"$f":"OFFSET(INDEX('[1]STOCK - TOTAL'!$E$8:$BF$305,MATCH($C$12,'[1]STOCK - TOTAL'!$C$8:$C$16,0),MATCH(H$13,'[1]STOCK - TOTAL'!$E$7:$BF$7,0)),MATCH($C$9,'[1]STOCK - TOTAL'!$D:$D,0)-2,0)","v":{"$error":"#VALUE!"}},{"$f":"OFFSET(INDEX('[1]STOCK - TOTAL'!$E$8:$BF$305,MATCH($C$12,'[1]STOCK - TOTAL'!$C$8:$C$16,0),MATCH(I$13,'[1]STOCK - TOTAL'!$E$7:$BF$7,0)),MATCH($C$9,'[1]STOCK - TOTAL'!$D:$D,0)-2,0)","v":{"$error":"#VALUE!"}},{"$f":"OFFSET(INDEX('[1]STOCK - TOTAL'!$E$8:$BF$305,MATCH($C$12,'[1]STOCK - TOTAL'!$C$8:$C$16,0),MATCH(J$13,'[1]STOCK - TOTAL'!$E$7:$BF$7,0)),MATCH($C$9,'[1]STOCK - TOTAL'!$D:$D,0)-2,0)","v":{"$error":"#VALUE!"}},{"$f":"OFFSET(INDEX('[1]STOCK - TOTAL'!$E$8:$BF$305,MATCH($C$12,'[1]STOCK - TOTAL'!$C$8:$C$16,0),MATCH(K$13,'[1]STOCK - TOTAL'!$E$7:$BF$7,0)),MATCH($C$9,'[1]STOCK - TOTAL'!$D:$D,0)-2,0)","v":{"$error":"#VALUE!"}},{"$f":"OFFSET(INDEX('[1]STOCK - TOTAL'!$E$8:$BF$305,MATCH($C$12,'[1]STOCK - TOTAL'!$C$8:$C$16,0),MATCH(L$13,'[1]STOCK - TOTAL'!$E$7:$BF$7,0)),MATCH($C$9,'[1]STOCK - TOTAL'!$D:$D,0)-2,0)","v":{"$error":"#VALUE!"}},{"$f":"OFFSET(INDEX('[1]STOCK - TOTAL'!$E$8:$BF$305,MATCH($C$12,'[1]STOCK - TOTAL'!$C$8:$C$16,0),MATCH(M$13,'[1]STOCK - TOTAL'!$E$7:$BF$7,0)),MATCH($C$9,'[1]STOCK - TOTAL'!$D:$D,0)-2,0)","v":{"$error":"#VALUE!"}},{"$f":"OFFSET(INDEX('[1]STOCK - TOTAL'!$E$8:$BF$305,MATCH($C$12,'[1]STOCK - TOTAL'!$C$8:$C$16,0),MATCH(N$13,'[1]STOCK - TOTAL'!$E$7:$BF$7,0)),MATCH($C$9,'[1]STOCK - TOTAL'!$D:$D,0)-2,0)","v":{"$error":"#VALUE!"}},{"$f":"OFFSET(INDEX('[1]STOCK - TOTAL'!$E$8:$BF$305,MATCH($C$12,'[1]STOCK - TOTAL'!$C$8:$C$16,0),MATCH(O$13,'[1]STOCK - TOTAL'!$E$7:$BF$7,0)),MATCH($C$9,'[1]STOCK - TOTAL'!$D:$D,0)-2,0)","v":{"$error":"#VALUE!"}},{"$f":"OFFSET(INDEX('[1]STOCK - TOTAL'!$E$8:$BF$305,MATCH($C$12,'[1]STOCK - TOTAL'!$C$8:$C$16,0),MATCH(P$13,'[1]STOCK - TOTAL'!$E$7:$BF$7,0)),MATCH($C$9,'[1]STOCK - TOTAL'!$D:$D,0)-2,0)","v":{"$error":"#VALUE!"}},{"$f":"OFFSET(INDEX('[1]STOCK - TOTAL'!$E$8:$BF$305,MATCH($C$12,'[1]STOCK - TOTAL'!$C$8:$C$16,0),MATCH(Q$13,'[1]STOCK - TOTAL'!$E$7:$BF$7,0)),MATCH($C$9,'[1]STOCK - TOTAL'!$D:$D,0)-2,0)","v":{"$error":"#VALUE!"}},{"$f":"OFFSET(INDEX('[1]STOCK - TOTAL'!$E$8:$BF$305,MATCH($C$12,'[1]STOCK - TOTAL'!$C$8:$C$16,0),MATCH(R$13,'[1]STOCK - TOTAL'!$E$7:$BF$7,0)),MATCH($C$9,'[1]STOCK - TOTAL'!$D:$D,0)-2,0)","v":{"$error":"#VALUE!"}},{"$f":"OFFSET(INDEX('[1]STOCK - TOTAL'!$E$8:$BF$305,MATCH($C$12,'[1]STOCK - TOTAL'!$C$8:$C$16,0),MATCH(S$13,'[1]STOCK - TOTAL'!$E$7:$BF$7,0)),MATCH($C$9,'[1]STOCK - TOTAL'!$D:$D,0)-2,0)","v":{"$error":"#VALUE!"}},{"$f":"OFFSET(INDEX('[1]STOCK - TOTAL'!$E$8:$BF$305,MATCH($C$12,'[1]STOCK - TOTAL'!$C$8:$C$16,0),MATCH(T$13,'[1]STOCK - TOTAL'!$E$7:$BF$7,0)),MATCH($C$9,'[1]STOCK - TOTAL'!$D:$D,0)-2,0)","v":{"$error":"#VALUE!"}},{"$f":"OFFSET(INDEX('[1]STOCK - TOTAL'!$E$8:$BF$305,MATCH($C$12,'[1]STOCK - TOTAL'!$C$8:$C$16,0),MATCH(U$13,'[1]STOCK - TOTAL'!$E$7:$BF$7,0)),MATCH($C$9,'[1]STOCK - TOTAL'!$D:$D,0)-2,0)","v":{"$error":"#VALUE!"}},{"$f":"OFFSET(INDEX('[1]STOCK - TOTAL'!$E$8:$BF$305,MATCH($C$12,'[1]STOCK - TOTAL'!$C$8:$C$16,0),MATCH(V$13,'[1]STOCK - TOTAL'!$E$7:$BF$7,0)),MATCH($C$9,'[1]STOCK - TOTAL'!$D:$D,0)-2,0)","v":{"$error":"#VALUE!"}},{"$f":"OFFSET(INDEX('[1]STOCK - TOTAL'!$E$8:$BF$305,MATCH($C$12,'[1]STOCK - TOTAL'!$C$8:$C$16,0),MATCH(W$13,'[1]STOCK - TOTAL'!$E$7:$BF$7,0)),MATCH($C$9,'[1]STOCK - TOTAL'!$D:$D,0)-2,0)","v":{"$error":"#VALUE!"}},{"$f":"OFFSET(INDEX('[1]STOCK - TOTAL'!$E$8:$BF$305,MATCH($C$12,'[1]STOCK - TOTAL'!$C$8:$C$16,0),MATCH(X$13,'[1]STOCK - TOTAL'!$E$7:$BF$7,0)),MATCH($C$9,'[1]STOCK - TOTAL'!$D:$D,0)-2,0)","v":{"$error":"#VALUE!"}},{"$f":"OFFSET(INDEX('[1]STOCK - TOTAL'!$E$8:$BF$305,MATCH($C$12,'[1]STOCK - TOTAL'!$C$8:$C$16,0),MATCH(Y$13,'[1]STOCK - TOTAL'!$E$7:$BF$7,0)),MATCH($C$9,'[1]STOCK - TOTAL'!$D:$D,0)-2,0)","v":{"$error":"#VALUE!"}},{"$f":"OFFSET(INDEX('[1]STOCK - TOTAL'!$E$8:$BF$305,MATCH($C$12,'[1]STOCK - TOTAL'!$C$8:$C$16,0),MATCH(Z$13,'[1]STOCK - TOTAL'!$E$7:$BF$7,0)),MATCH($C$9,'[1]STOCK - TOTAL'!$D:$D,0)-2,0)","v":{"$error":"#VALUE!"}},{"$f":"OFFSET(INDEX('[1]STOCK - TOTAL'!$E$8:$BF$305,MATCH($C$12,'[1]STOCK - TOTAL'!$C$8:$C$16,0),MATCH(AA$13,'[1]STOCK - TOTAL'!$E$7:$BF$7,0)),MATCH($C$9,'[1]STOCK - TOTAL'!$D:$D,0)-2,0)","v":{"$error":"#VALUE!"}},{"$f":"OFFSET(INDEX('[1]STOCK - TOTAL'!$E$8:$BF$305,MATCH($C$12,'[1]STOCK - TOTAL'!$C$8:$C$16,0),MATCH(AB$13,'[1]STOCK - TOTAL'!$E$7:$BF$7,0)),MATCH($C$9,'[1]STOCK - TOTAL'!$D:$D,0)-2,0)","v":{"$error":"#VALUE!"}},{"$f":"OFFSET(INDEX('[1]STOCK - TOTAL'!$E$8:$BF$305,MATCH($C$12,'[1]STOCK - TOTAL'!$C$8:$C$16,0),MATCH(AC$13,'[1]STOCK - TOTAL'!$E$7:$BF$7,0)),MATCH($C$9,'[1]STOCK - TOTAL'!$D:$D,0)-2,0)","v":{"$error":"#VALUE!"}},{"$f":"OFFSET(INDEX('[1]STOCK - TOTAL'!$E$8:$BF$305,MATCH($C$12,'[1]STOCK - TOTAL'!$C$8:$C$16,0),MATCH(AD$13,'[1]STOCK - TOTAL'!$E$7:$BF$7,0)),MATCH($C$9,'[1]STOCK - TOTAL'!$D:$D,0)-2,0)","v":{"$error":"#VALUE!"}},{"$f":"OFFSET(INDEX('[1]STOCK - TOTAL'!$E$8:$BF$305,MATCH($C$12,'[1]STOCK - TOTAL'!$C$8:$C$16,0),MATCH(AE$13,'[1]STOCK - TOTAL'!$E$7:$BF$7,0)),MATCH($C$9,'[1]STOCK - TOTAL'!$D:$D,0)-2,0)","v":{"$error":"#VALUE!"}},{"$f":"OFFSET(INDEX('[1]STOCK - TOTAL'!$E$8:$BF$305,MATCH($C$12,'[1]STOCK - TOTAL'!$C$8:$C$16,0),MATCH(AF$13,'[1]STOCK - TOTAL'!$E$7:$BF$7,0)),MATCH($C$9,'[1]STOCK - TOTAL'!$D:$D,0)-2,0)","v":{"$error":"#VALUE!"}},{"$f":"OFFSET(INDEX('[1]STOCK - TOTAL'!$E$8:$BF$305,MATCH($C$12,'[1]STOCK - TOTAL'!$C$8:$C$16,0),MATCH(AG$13,'[1]STOCK - TOTAL'!$E$7:$BF$7,0)),MATCH($C$9,'[1]STOCK - TOTAL'!$D:$D,0)-2,0)","v":{"$error":"#VALUE!"}},{"$f":"OFFSET(INDEX('[1]STOCK - TOTAL'!$E$8:$BF$305,MATCH($C$12,'[1]STOCK - TOTAL'!$C$8:$C$16,0),MATCH(AH$13,'[1]STOCK - TOTAL'!$E$7:$BF$7,0)),MATCH($C$9,'[1]STOCK - TOTAL'!$D:$D,0)-2,0)","v":{"$error":"#VALUE!"}},{"$f":"OFFSET(INDEX('[1]STOCK - TOTAL'!$E$8:$BF$305,MATCH($C$12,'[1]STOCK - TOTAL'!$C$8:$C$16,0),MATCH(AI$13,'[1]STOCK - TOTAL'!$E$7:$BF$7,0)),MATCH($C$9,'[1]STOCK - TOTAL'!$D:$D,0)-2,0)","v":{"$error":"#VALUE!"}},{"$f":"OFFSET(INDEX('[1]STOCK - TOTAL'!$E$8:$BF$305,MATCH($C$12,'[1]STOCK - TOTAL'!$C$8:$C$16,0),MATCH(AJ$13,'[1]STOCK - TOTAL'!$E$7:$BF$7,0)),MATCH($C$9,'[1]STOCK - TOTAL'!$D:$D,0)-2,0)","v":{"$error":"#VALUE!"}},{"$f":"OFFSET(INDEX('[1]STOCK - TOTAL'!$E$8:$BF$305,MATCH($C$12,'[1]STOCK - TOTAL'!$C$8:$C$16,0),MATCH(AK$13,'[1]STOCK - TOTAL'!$E$7:$BF$7,0)),MATCH($C$9,'[1]STOCK - TOTAL'!$D:$D,0)-2,0)","v":{"$error":"#VALUE!"}},{"$f":"OFFSET(INDEX('[1]STOCK - TOTAL'!$E$8:$BF$305,MATCH($C$12,'[1]STOCK - TOTAL'!$C$8:$C$16,0),MATCH(AL$13,'[1]STOCK - TOTAL'!$E$7:$BF$7,0)),MATCH($C$9,'[1]STOCK - TOTAL'!$D:$D,0)-2,0)","v":{"$error":"#VALUE!"}},{"$f":"OFFSET(INDEX('[1]STOCK - TOTAL'!$E$8:$BF$305,MATCH($C$12,'[1]STOCK - TOTAL'!$C$8:$C$16,0),MATCH(AM$13,'[1]STOCK - TOTAL'!$E$7:$BF$7,0)),MATCH($C$9,'[1]STOCK - TOTAL'!$D:$D,0)-2,0)","v":{"$error":"#VALUE!"}},{"$f":"OFFSET(INDEX('[1]STOCK - TOTAL'!$E$8:$BF$305,MATCH($C$12,'[1]STOCK - TOTAL'!$C$8:$C$16,0),MATCH(AN$13,'[1]STOCK - TOTAL'!$E$7:$BF$7,0)),MATCH($C$9,'[1]STOCK - TOTAL'!$D:$D,0)-2,0)","v":{"$error":"#VALUE!"}},{"$f":"OFFSET(INDEX('[1]STOCK - TOTAL'!$E$8:$BF$305,MATCH($C$12,'[1]STOCK - TOTAL'!$C$8:$C$16,0),MATCH(AO$13,'[1]STOCK - TOTAL'!$E$7:$BF$7,0)),MATCH($C$9,'[1]STOCK - TOTAL'!$D:$D,0)-2,0)","v":{"$error":"#VALUE!"}},{"$f":"OFFSET(INDEX('[1]STOCK - TOTAL'!$E$8:$BF$305,MATCH($C$12,'[1]STOCK - TOTAL'!$C$8:$C$16,0),MATCH(AP$13,'[1]STOCK - TOTAL'!$E$7:$BF$7,0)),MATCH($C$9,'[1]STOCK - TOTAL'!$D:$D,0)-2,0)","v":{"$error":"#VALUE!"}},{"$f":"OFFSET(INDEX('[1]STOCK - TOTAL'!$E$8:$BF$305,MATCH($C$12,'[1]STOCK - TOTAL'!$C$8:$C$16,0),MATCH(AQ$13,'[1]STOCK - TOTAL'!$E$7:$BF$7,0)),MATCH($C$9,'[1]STOCK - TOTAL'!$D:$D,0)-2,0)","v":{"$error":"#VALUE!"}},{"$f":"OFFSET(INDEX('[1]STOCK - TOTAL'!$E$8:$BF$305,MATCH($C$12,'[1]STOCK - TOTAL'!$C$8:$C$16,0),MATCH(AR$13,'[1]STOCK - TOTAL'!$E$7:$BF$7,0)),MATCH($C$9,'[1]STOCK - TOTAL'!$D:$D,0)-2,0)","v":{"$error":"#VALUE!"}},{"$f":"OFFSET(INDEX('[1]STOCK - TOTAL'!$E$8:$BF$305,MATCH($C$12,'[1]STOCK - TOTAL'!$C$8:$C$16,0),MATCH(AS$13,'[1]STOCK - TOTAL'!$E$7:$BF$7,0)),MATCH($C$9,'[1]STOCK - TOTAL'!$D:$D,0)-2,0)","v":{"$error":"#VALUE!"}},{"$f":"OFFSET(INDEX('[1]STOCK - TOTAL'!$E$8:$BF$305,MATCH($C$12,'[1]STOCK - TOTAL'!$C$8:$C$16,0),MATCH(AT$13,'[1]STOCK - TOTAL'!$E$7:$BF$7,0)),MATCH($C$9,'[1]STOCK - TOTAL'!$D:$D,0)-2,0)","v":{"$error":"#VALUE!"}},{"$f":"OFFSET(INDEX('[1]STOCK - TOTAL'!$E$8:$BF$305,MATCH($C$12,'[1]STOCK - TOTAL'!$C$8:$C$16,0),MATCH(AU$13,'[1]STOCK - TOTAL'!$E$7:$BF$7,0)),MATCH($C$9,'[1]STOCK - TOTAL'!$D:$D,0)-2,0)","v":{"$error":"#VALUE!"}},{"$f":"OFFSET(INDEX('[1]STOCK - TOTAL'!$E$8:$BF$305,MATCH($C$12,'[1]STOCK - TOTAL'!$C$8:$C$16,0),MATCH(AV$13,'[1]STOCK - TOTAL'!$E$7:$BF$7,0)),MATCH($C$9,'[1]STOCK - TOTAL'!$D:$D,0)-2,0)","v":{"$error":"#VALUE!"}},{"$f":"OFFSET(INDEX('[1]STOCK - TOTAL'!$E$8:$BF$305,MATCH($C$12,'[1]STOCK - TOTAL'!$C$8:$C$16,0),MATCH(AW$13,'[1]STOCK - TOTAL'!$E$7:$BF$7,0)),MATCH($C$9,'[1]STOCK - TOTAL'!$D:$D,0)-2,0)","v":{"$error":"#VALUE!"}},{"$f":"OFFSET(INDEX('[1]STOCK - TOTAL'!$E$8:$BF$305,MATCH($C$12,'[1]STOCK - TOTAL'!$C$8:$C$16,0),MATCH(AX$13,'[1]STOCK - TOTAL'!$E$7:$BF$7,0)),MATCH($C$9,'[1]STOCK - TOTAL'!$D:$D,0)-2,0)","v":{"$error":"#VALUE!"}},{"$f":"OFFSET(INDEX('[1]STOCK - TOTAL'!$E$8:$BF$305,MATCH($C$12,'[1]STOCK - TOTAL'!$C$8:$C$16,0),MATCH(AY$13,'[1]STOCK - TOTAL'!$E$7:$BF$7,0)),MATCH($C$9,'[1]STOCK - TOTAL'!$D:$D,0)-2,0)","v":{"$error":"#VALUE!"}},{"$f":"OFFSET(INDEX('[1]STOCK - TOTAL'!$E$8:$BF$305,MATCH($C$12,'[1]STOCK - TOTAL'!$C$8:$C$16,0),MATCH(AZ$13,'[1]STOCK - TOTAL'!$E$7:$BF$7,0)),MATCH($C$9,'[1]STOCK - TOTAL'!$D:$D,0)-2,0)","v":{"$error":"#VALUE!"}}]

{"sheet":"Shipments and Stock - System","index":10,"n_rows":18,"n_cols":52,"rows_kept":18,"cut":false,"hidden":false,"merged":[[1,2,1,3],[3,2,3,3],[5,2,5,3]]}
[]
[null,null,"Shipments and Stock - System"]
[]
[null,null,{"$f":"Navigation!$C$15","v":"NAVIGATION"}]
[]
[null,null,"COMMENTS"]
[]
[null,null,"Building Type "]
[null,null,{"$f":"RESULTS!C9","v":"TOTAL"}]
[]
[]
[null,null,"Walk_In_Coolers_Freezers_Systems"]
[null,null,null,null,1987,1988,1989,1990,1991,1992,1993,1994,1995,1996,1997,1998,1999,2000,2001,2002,2003,2004,2005,2006,2007,2008,2009,2010,2011,2012,2013,2014,2015,2016,2017,2018,2019,2020,2021,2022,2023,2024,2025,2026,2027,2028,2029,2030,2031,2032,2033,2034]
[null,null,"6P Shipments","(units)","Not in 6P","Not in 6P","Not in 6P","Not in 6P","Not in 6P","Not in 6P","Not in 6P","Not in 6P","Not in 6P","Not in 6P","Not in 6P","Not in 6P","Not in 6P","Not in 6P","Not in 6P","Not in 6P","Not in 6P","Not in 6P","Not in 6P","Not in 6P","Not in 6P","Not in 6P","Not in 6P","Not in 6P","Not in 6P","Not in 6P","Not in 6P","Not in 6P","Not in 6P","Not in 6P","Not in 6P","Not in 6P","Not in 6P","Not in 6P","Not in 6P","Not in 6P","Not in 6P","Not in 6P","Not in 6P","Not in 6P","Not in 6P","Not in 6P","Not in 6P","Not in 6P","Not in 6P","Not in 6P","Not in 6P","Not in 6P"]
[null,null,"Replacement Shipments","(units)",{"$f":"OFFSET(INDEX('[1]SHIPMENTS - TOTAL'!$E$8:$BF$467,MATCH($C$12,'[1]SHIPMENTS - TOTAL'!$C$8:$C$25,0),MATCH(E$13,'[1]SHIPMENTS - TOTAL'!$E$7:$BF$7,0)),MATCH($C$9,'[1]SHIPMENTS - TOTAL'!$D$2:$D$467,0)-1,0)","v":{"$error":"#VALUE!"}},{"$f":"OFFSET(INDEX('[1]SHIPMENTS - TOTAL'!$E$8:$BF$467,MATCH($C$12,'[1]SHIPMENTS - TOTAL'!$C$8:$C$25,0),MATCH(F$13,'[1]SHIPMENTS - TOTAL'!$E$7:$BF$7,0)),MATCH($C$9,'[1]SHIPMENTS - TOTAL'!$D$2:$D$467,0)-1,0)","v":{"$error":"#VALUE!"}},{"$f":"OFFSET(INDEX('[1]SHIPMENTS - TOTAL'!$E$8:$BF$467,MATCH($C$12,'[1]SHIPMENTS - TOTAL'!$C$8:$C$25,0),MATCH(G$13,'[1]SHIPMENTS - TOTAL'!$E$7:$BF$7,0)),MATCH($C$9,'[1]SHIPMENTS - TOTAL'!$D$2:$D$467,0)-1,0)","v":{"$error":"#VALUE!"}},{"$f":"OFFSET(INDEX('[1]SHIPMENTS - TOTAL'!$E$8:$BF$467,MATCH($C$12,'[1]SHIPMENTS - TOTAL'!$C$8:$C$25,0),MATCH(H$13,'[1]SHIPMENTS - TOTAL'!$E$7:$BF$7,0)),MATCH($C$9,'[1]SHIPMENTS - TOTAL'!$D$2:$D$467,0)-1,0)","v":{"$error":"#VALUE!"}},{"$f":"OFFSET(INDEX('[1]SHIPMENTS - TOTAL'!$E$8:$BF$467,MATCH($C$12,'[1]SHIPMENTS - TOTAL'!$C$8:$C$25,0),MATCH(I$13,'[1]SHIPMENTS - TOTAL'!$E$7:$BF$7,0)),MATCH($C$9,'[1]SHIPMENTS - TOTAL'!$D$2:$D$467,0)-1,0)","v":{"$error":"#VALUE!"}},{"$f":"OFFSET(INDEX('[1]SHIPMENTS - TOTAL'!$E$8:$BF$467,MATCH($C$12,'[1]SHIPMENTS - TOTAL'!$C$8:$C$25,0),MATCH(J$13,'[1]SHIPMENTS - TOTAL'!$E$7:$BF$7,0)),MATCH($C$9,'[1]SHIPMENTS - TOTAL'!$D$2:$D$467,0)-1,0)","v":{"$error":"#VALUE!"}},{"$f":"OFFSET(INDEX('[1]SHIPMENTS - TOTAL'!$E$8:$BF$467,MATCH($C$12,'[1]SHIPMENTS - TOTAL'!$C$8:$C$25,0),MATCH(K$13,'[1]SHIPMENTS - TOTAL'!$E$7:$BF$7,0)),MATCH($C$9,'[1]SHIPMENTS - TOTAL'!$D$2:$D$467,0)-1,0)","v":{"$error":"#VALUE!"}},{"$f":"OFFSET(INDEX('[1]SHIPMENTS - TOTAL'!$E$8:$BF$467,MATCH($C$12,'[1]SHIPMENTS - TOTAL'!$C$8:$C$25,0),MATCH(L$13,'[1]SHIPMENTS - TOTAL'!$E$7:$BF$7,0)),MATCH($C$9,'[1]SHIPMENTS - TOTAL'!$D$2:$D$467,0)-1,0)","v":{"$error":"#VALUE!"}},{"$f":"OFFSET(INDEX('[1]SHIPMENTS - TOTAL'!$E$8:$BF$467,MATCH($C$12,'[1]SHIPMENTS - TOTAL'!$C$8:$C$25,0),MATCH(M$13,'[1]SHIPMENTS - TOTAL'!$E$7:$BF$7,0)),MATCH($C$9,'[1]SHIPMENTS - TOTAL'!$D$2:$D$467,0)-1,0)","v":{"$error":"#VALUE!"}},{"$f":"OFFSET(INDEX('[1]SHIPMENTS - TOTAL'!$E$8:$BF$467,MATCH($C$12,'[1]SHIPMENTS - TOTAL'!$C$8:$C$25,0),MATCH(N$13,'[1]SHIPMENTS - TOTAL'!$E$7:$BF$7,0)),MATCH($C$9,'[1]SHIPMENTS - TOTAL'!$D$2:$D$467,0)-1,0)","v":{"$error":"#VALUE!"}},{"$f":"OFFSET(INDEX('[1]SHIPMENTS - TOTAL'!$E$8:$BF$467,MATCH($C$12,'[1]SHIPMENTS - TOTAL'!$C$8:$C$25,0),MATCH(O$13,'[1]SHIPMENTS - TOTAL'!$E$7:$BF$7,0)),MATCH($C$9,'[1]SHIPMENTS - TOTAL'!$D$2:$D$467,0)-1,0)","v":{"$error":"#VALUE!"}},{"$f":"OFFSET(INDEX('[1]SHIPMENTS - TOTAL'!$E$8:$BF$467,MATCH($C$12,'[1]SHIPMENTS - TOTAL'!$C$8:$C$25,0),MATCH(P$13,'[1]SHIPMENTS - TOTAL'!$E$7:$BF$7,0)),MATCH($C$9,'[1]SHIPMENTS - TOTAL'!$D$2:$D$467,0)-1,0)","v":{"$error":"#VALUE!"}},{"$f":"OFFSET(INDEX('[1]SHIPMENTS - TOTAL'!$E$8:$BF$467,MATCH($C$12,'[1]SHIPMENTS - TOTAL'!$C$8:$C$25,0),MATCH(Q$13,'[1]SHIPMENTS - TOTAL'!$E$7:$BF$7,0)),MATCH($C$9,'[1]SHIPMENTS - TOTAL'!$D$2:$D$467,0)-1,0)","v":{"$error":"#VALUE!"}},{"$f":"OFFSET(INDEX('[1]SHIPMENTS - TOTAL'!$E$8:$BF$467,MATCH($C$12,'[1]SHIPMENTS - TOTAL'!$C$8:$C$25,0),MATCH(R$13,'[1]SHIPMENTS - TOTAL'!$E$7:$BF$7,0)),MATCH($C$9,'[1]SHIPMENTS - TOTAL'!$D$2:$D$467,0)-1,0)","v":{"$error":"#VALUE!"}},{"$f":"OFFSET(INDEX('[1]SHIPMENTS - TOTAL'!$E$8:$BF$467,MATCH($C$12,'[1]SHIPMENTS - TOTAL'!$C$8:$C$25,0),MATCH(S$13,'[1]SHIPMENTS - TOTAL'!$E$7:$BF$7,0)),MATCH($C$9,'[1]SHIPMENTS - TOTAL'!$D$2:$D$467,0)-1,0)","v":{"$error":"#VALUE!"}},{"$f":"OFFSET(INDEX('[1]SHIPMENTS - TOTAL'!$E$8:$BF$467,MATCH($C$12,'[1]SHIPMENTS - TOTAL'!$C$8:$C$25,0),MATCH(T$13,'[1]SHIPMENTS - TOTAL'!$E$7:$BF$7,0)),MATCH($C$9,'[1]SHIPMENTS - TOTAL'!$D$2:$D$467,0)-1,0)","v":{"$error":"#VALUE!"}},{"$f":"OFFSET(INDEX('[1]SHIPMENTS - TOTAL'!$E$8:$BF$467,MATCH($C$12,'[1]SHIPMENTS - TOTAL'!$C$8:$C$25,0),MATCH(U$13,'[1]SHIPMENTS - TOTAL'!$E$7:$BF$7,0)),MATCH($C$9,'[1]SHIPMENTS - TOTAL'!$D$2:$D$467,0)-1,0)","v":{"$error":"#VALUE!"}},{"$f":"OFFSET(INDEX('[1]SHIPMENTS - TOTAL'!$E$8:$BF$467,MATCH($C$12,'[1]SHIPMENTS - TOTAL'!$C$8:$C$25,0),MATCH(V$13,'[1]SHIPMENTS - TOTAL'!$E$7:$BF$7,0)),MATCH($C$9,'[1]SHIPMENTS - TOTAL'!$D$2:$D$467,0)-1,0)","v":{"$error":"#VALUE!"}},{"$f":"OFFSET(INDEX('[1]SHIPMENTS - TOTAL'!$E$8:$BF$467,MATCH($C$12,'[1]SHIPMENTS - TOTAL'!$C$8:$C$25,0),MATCH(W$13,'[1]SHIPMENTS - TOTAL'!$E$7:$BF$7,0)),MATCH($C$9,'[1]SHIPMENTS - TOTAL'!$D$2:$D$467,0)-1,0)","v":{"$error":"#VALUE!"}},{"$f":"OFFSET(INDEX('[1]SHIPMENTS - TOTAL'!$E$8:$BF$467,MATCH($C$12,'[1]SHIPMENTS - TOTAL'!$C$8:$C$25,0),MATCH(X$13,'[1]SHIPMENTS - TOTAL'!$E$7:$BF$7,0)),MATCH($C$9,'[1]SHIPMENTS - TOTAL'!$D$2:$D$467,0)-1,0)","v":{"$error":"#VALUE!"}},{"$f":"OFFSET(INDEX('[1]SHIPMENTS - TOTAL'!$E$8:$BF$467,MATCH($C$12,'[1]SHIPMENTS - TOTAL'!$C$8:$C$25,0),MATCH(Y$13,'[1]SHIPMENTS - TOTAL'!$E$7:$BF$7,0)),MATCH($C$9,'[1]SHIPMENTS - TOTAL'!$D$2:$D$467,0)-1,0)","v":{"$error":"#VALUE!"}},{"$f":"OFFSET(INDEX('[1]SHIPMENTS - TOTAL'!$E$8:$BF$467,MATCH($C$12,'[1]SHIPMENTS - TOTAL'!$C$8:$C$25,0),MATCH(Z$13,'[1]SHIPMENTS - TOTAL'!$E$7:$BF$7,0)),MATCH($C$9,'[1]SHIPMENTS - TOTAL'!$D$2:$D$467,0)-1,0)","v":{"$error":"#VALUE!"}},{"$f":"OFFSET(INDEX('[1]SHIPMENTS - TOTAL'!$E$8:$BF$467,MATCH($C$12,'[1]SHIPMENTS - TOTAL'!$C$8:$C$25,0),MATCH(AA$13,'[1]SHIPMENTS - TOTAL'!$E$7:$BF$7,0)),MATCH($C$9,'[1]SHIPMENTS - TOTAL'!$D$2:$D$467,0)-1,0)","v":{"$error":"#VALUE!"}},{"$f":"OFFSET(INDEX('[1]SHIPMENTS - TOTAL'!$E$8:$BF$467,MATCH($C$12,'[1]SHIPMENTS - TOTAL'!$C$8:$C$25,0),MATCH(AB$13,'[1]SHIPMENTS - TOTAL'!$E$7:$BF$7,0)),MATCH($C$9,'[1]SHIPMENTS - TOTAL'!$D$2:$D$467,0)-1,0)","v":{"$error":"#VALUE!"}},{"$f":"OFFSET(INDEX('[1]SHIPMENTS - TOTAL'!$E$8:$BF$467,MATCH($C$12,'[1]SHIPMENTS - TOTAL'!$C$8:$C$25,0),MATCH(AC$13,'[1]SHIPMENTS - TOTAL'!$E$7:$BF$7,0)),MATCH($C$9,'[1]SHIPMENTS - TOTAL'!$D$2:$D$467,0)-1,0)","v":{"$error":"#VALUE!"}},{"$f":"OFFSET(INDEX('[1]SHIPMENTS - TOTAL'!$E$8:$BF$467,MATCH($C$12,'[1]SHIPMENTS - TOTAL'!$C$8:$C$25,0),MATCH(AD$13,'[1]SHIPMENTS - TOTAL'!$E$7:$BF$7,0)),MATCH($C$9,'[1]SHIPMENTS - TOTAL'!$D$2:$D$467,0)-1,0)","v":{"$error":"#VALUE!"}},{"$f":"OFFSET(INDEX('[1]SHIPMENTS - TOTAL'!$E$8:$BF$467,MATCH($C$12,'[1]SHIPMENTS - TOTAL'!$C$8:$C$25,0),MATCH(AE$13,'[1]SHIPMENTS - TOTAL'!$E$7:$BF$7,0)),MATCH($C$9,'[1]SHIPMENTS - TOTAL'!$D$2:$D$467,0)-1,0)","v":{"$error":"#VALUE!"}},{"$f":"OFFSET(INDEX('[1]SHIPMENTS - TOTAL'!$E$8:$BF$467,MATCH($C$12,'[1]SHIPMENTS - TOTAL'!$C$8:$C$25,0),MATCH(AF$13,'[1]SHIPMENTS - TOTAL'!$E$7:$BF$7,0)),MATCH($C$9,'[1]SHIPMENTS - TOTAL'!$D$2:$D$467,0)-1,0)","v":{"$error":"#VALUE!"}},{"$f":"OFFSET(INDEX('[1]SHIPMENTS - TOTAL'!$E$8:$BF$467,MATCH($C$12,'[1]SHIPMENTS - TOTAL'!$C$8:$C$25,0),MATCH(AG$13,'[1]SHIPMENTS - TOTAL'!$E$7:$BF$7,0)),MATCH($C$9,'[1]SHIPMENTS - TOTAL'!$D$2:$D$467,0)-1,0)","v":{"$error":"#VALUE!"}},{"$f":"OFFSET(INDEX('[1]SHIPMENTS - TOTAL'!$E$8:$BF$467,MATCH($C$12,'[1]SHIPMENTS - TOTAL'!$C$8:$C$25,0),MATCH(AH$13,'[1]SHIPMENTS - TOTAL'!$E$7:$BF$7,0)),MATCH($C$9,'[1]SHIPMENTS - TOTAL'!$D$2:$D$467,0)-1,0)","v":{"$error":"#VALUE!"}},{"$f":"OFFSET(INDEX('[1]SHIPMENTS - TOTAL'!$E$8:$BF$467,MATCH($C$12,'[1]SHIPMENTS - TOTAL'!$C$8:$C$25,0),MATCH(AI$13,'[1]SHIPMENTS - TOTAL'!$E$7:$BF$7,0)),MATCH($C$9,'[1]SHIPMENTS - TOTAL'!$D$2:$D$467,0)-1,0)","v":{"$error":"#VALUE!"}},{"$f":"OFFSET(INDEX('[1]SHIPMENTS - TOTAL'!$E$8:$BF$467,MATCH($C$12,'[1]SHIPMENTS - TOTAL'!$C$8:$C$25,0),MATCH(AJ$13,'[1]SHIPMENTS - TOTAL'!$E$7:$BF$7,0)),MATCH($C$9,'[1]SHIPMENTS - TOTAL'!$D$2:$D$467,0)-1,0)","v":{"$error":"#VALUE!"}},{"$f":"OFFSET(INDEX('[1]SHIPMENTS - TOTAL'!$E$8:$BF$467,MATCH($C$12,'[1]SHIPMENTS - TOTAL'!$C$8:$C$25,0),MATCH(AK$13,'[1]SHIPMENTS - TOTAL'!$E$7:$BF$7,0)),MATCH($C$9,'[1]SHIPMENTS - TOTAL'!$D$2:$D$467,0)-1,0)","v":{"$error":"#VALUE!"}},{"$f":"OFFSET(INDEX('[1]SHIPMENTS - TOTAL'!$E$8:$BF$467,MATCH($C$12,'[1]SHIPMENTS - TOTAL'!$C$8:$C$25,0),MATCH(AL$13,'[1]SHIPMENTS - TOTAL'!$E$7:$BF$7,0)),MATCH($C$9,'[1]SHIPMENTS - TOTAL'!$D$2:$D$467,0)-1,0)","v":{"$error":"#VALUE!"}},{"$f":"OFFSET(INDEX('[1]SHIPMENTS - TOTAL'!$E$8:$BF$467,MATCH($C$12,'[1]SHIPMENTS - TOTAL'!$C$8:$C$25,0),MATCH(AM$13,'[1]SHIPMENTS - TOTAL'!$E$7:$BF$7,0)),MATCH($C$9,'[1]SHIPMENTS - TOTAL'!$D$2:$D$467,0)-1,0)","v":{"$error":"#VALUE!"}},{"$f":"OFFSET(INDEX('[1]SHIPMENTS - TOTAL'!$E$8:$BF$467,MATCH($C$12,'[1]SHIPMENTS - TOTAL'!$C$8:$C$25,0),MATCH(AN$13,'[1]SHIPMENTS - TOTAL'!$E$7:$BF$7,0)),MATCH($C$9,'[1]SHIPMENTS - TOTAL'!$D$2:$D$467,0)-1,0)","v":{"$error":"#VALUE!"}},{"$f":"OFFSET(INDEX('[1]SHIPMENTS - TOTAL'!$E$8:$BF$467,MATCH($C$12,'[1]SHIPMENTS - TOTAL'!$C$8:$C$25,0),MATCH(AO$13,'[1]SHIPMENTS - TOTAL'!$E$7:$BF$7,0)),MATCH($C$9,'[1]SHIPMENTS - TOTAL'!$D$2:$D$467,0)-1,0)","v":{"$error":"#VALUE!"}},{"$f":"OFFSET(INDEX('[1]SHIPMENTS - TOTAL'!$E$8:$BF$467,MATCH($C$12,'[1]SHIPMENTS - TOTAL'!$C$8:$C$25,0),MATCH(AP$13,'[1]SHIPMENTS - TOTAL'!$E$7:$BF$7,0)),MATCH($C$9,'[1]SHIPMENTS - TOTAL'!$D$2:$D$467,0)-1,0)","v":{"$error":"#VALUE!"}},{"$f":"OFFSET(INDEX('[1]SHIPMENTS - TOTAL'!$E$8:$BF$467,MATCH($C$12,'[1]SHIPMENTS - TOTAL'!$C$8:$C$25,0),MATCH(AQ$13,'[1]SHIPMENTS - TOTAL'!$E$7:$BF$7,0)),MATCH($C$9,'[1]SHIPMENTS - TOTAL'!$D$2:$D$467,0)-1,0)","v":{"$error":"#VALUE!"}},{"$f":"OFFSET(INDEX('[1]SHIPMENTS - TOTAL'!$E$8:$BF$467,MATCH($C$12,'[1]SHIPMENTS - TOTAL'!$C$8:$C$25,0),MATCH(AR$13,'[1]SHIPMENTS - TOTAL'!$E$7:$BF$7,0)),MATCH($C$9,'[1]SHIPMENTS - TOTAL'!$D$2:$D$467,0)-1,0)","v":{"$error":"#VALUE!"}},{"$f":"OFFSET(INDEX('[1]SHIPMENTS - TOTAL'!$E$8:$BF$467,MATCH($C$12,'[1]SHIPMENTS - TOTAL'!$C$8:$C$25,0),MATCH(AS$13,'[1]SHIPMENTS - TOTAL'!$E$7:$BF$7,0)),MATCH($C$9,'[1]SHIPMENTS - TOTAL'!$D$2:$D$467,0)-1,0)","v":{"$error":"#VALUE!"}},{"$f":"OFFSET(INDEX('[1]SHIPMENTS - TOTAL'!$E$8:$BF$467,MATCH($C$12,'[1]SHIPMENTS - TOTAL'!$C$8:$C$25,0),MATCH(AT$13,'[1]SHIPMENTS - TOTAL'!$E$7:$BF$7,0)),MATCH($C$9,'[1]SHIPMENTS - TOTAL'!$D$2:$D$467,0)-1,0)","v":{"$error":"#VALUE!"}},{"$f":"OFFSET(INDEX('[1]SHIPMENTS - TOTAL'!$E$8:$BF$467,MATCH($C$12,'[1]SHIPMENTS - TOTAL'!$C$8:$C$25,0),MATCH(AU$13,'[1]SHIPMENTS - TOTAL'!$E$7:$BF$7,0)),MATCH($C$9,'[1]SHIPMENTS - TOTAL'!$D$2:$D$467,0)-1,0)","v":{"$error":"#VALUE!"}},{"$f":"OFFSET(INDEX('[1]SHIPMENTS - TOTAL'!$E$8:$BF$467,MATCH($C$12,'[1]SHIPMENTS - TOTAL'!$C$8:$C$25,0),MATCH(AV$13,'[1]SHIPMENTS - TOTAL'!$E$7:$BF$7,0)),MATCH($C$9,'[1]SHIPMENTS - TOTAL'!$D$2:$D$467,0)-1,0)","v":{"$error":"#VALUE!"}},{"$f":"OFFSET(INDEX('[1]SHIPMENTS - TOTAL'!$E$8:$BF$467,MATCH($C$12,'[1]SHIPMENTS - TOTAL'!$C$8:$C$25,0),MATCH(AW$13,'[1]SHIPMENTS - TOTAL'!$E$7:$BF$7,0)),MATCH($C$9,'[1]SHIPMENTS - TOTAL'!$D$2:$D$467,0)-1,0)","v":{"$error":"#VALUE!"}},{"$f":"OFFSET(INDEX('[1]SHIPMENTS - TOTAL'!$E$8:$BF$467,MATCH($C$12,'[1]SHIPMENTS - TOTAL'!$C$8:$C$25,0),MATCH(AX$13,'[1]SHIPMENTS - TOTAL'!$E$7:$BF$7,0)),MATCH($C$9,'[1]SHIPMENTS - TOTAL'!$D$2:$D$467,0)-1,0)","v":{"$error":"#VALUE!"}},{"$f":"OFFSET(INDEX('[1]SHIPMENTS - TOTAL'!$E$8:$BF$467,MATCH($C$12,'[1]SHIPMENTS - TOTAL'!$C$8:$C$25,0),MATCH(AY$13,'[1]SHIPMENTS - TOTAL'!$E$7:$BF$7,0)),MATCH($C$9,'[1]SHIPMENTS - TOTAL'!$D$2:$D$467,0)-1,0)","v":{"$error":"#VALUE!"}},{"$f":"OFFSET(INDEX('[1]SHIPMENTS - TOTAL'!$E$8:$BF$467,MATCH($C$12,'[1]SHIPMENTS - TOTAL'!$C$8:$C$25,0),MATCH(AZ$13,'[1]SHIPMENTS - TOTAL'!$E$7:$BF$7,0)),MATCH($C$9,'[1]SHIPMENTS - TOTAL'!$D$2:$D$467,0)-1,0)","v":{"$error":"#VALUE!"}}]
[null,null,"Net New Shipments","(units)",{"$f":"OFFSET(INDEX('[1]SHIPMENTS - TOTAL'!$E$8:$BF$467,MATCH($C$12,'[1]SHIPMENTS - TOTAL'!$C$8:$C$25,0),MATCH(E$13,'[1]SHIPMENTS - TOTAL'!$E$7:$BF$7,0)),MATCH($C$9,'[1]SHIPMENTS - TOTAL'!$D$2:$D$467,0)-1+1,0)","v":{"$error":"#VALUE!"}},{"$f":"OFFSET(INDEX('[1]SHIPMENTS - TOTAL'!$E$8:$BF$467,MATCH($C$12,'[1]SHIPMENTS - TOTAL'!$C$8:$C$25,0),MATCH(F$13,'[1]SHIPMENTS - TOTAL'!$E$7:$BF$7,0)),MATCH($C$9,'[1]SHIPMENTS - TOTAL'!$D$2:$D$467,0)-1+1,0)","v":{"$error":"#VALUE!"}},{"$f":"OFFSET(INDEX('[1]SHIPMENTS - TOTAL'!$E$8:$BF$467,MATCH($C$12,'[1]SHIPMENTS - TOTAL'!$C$8:$C$25,0),MATCH(G$13,'[1]SHIPMENTS - TOTAL'!$E$7:$BF$7,0)),MATCH($C$9,'[1]SHIPMENTS - TOTAL'!$D$2:$D$467,0)-1+1,0)","v":{"$error":"#VALUE!"}},{"$f":"OFFSET(INDEX('[1]SHIPMENTS - TOTAL'!$E$8:$BF$467,MATCH($C$12,'[1]SHIPMENTS - TOTAL'!$C$8:$C$25,0),MATCH(H$13,'[1]SHIPMENTS - TOTAL'!$E$7:$BF$7,0)),MATCH($C$9,'[1]SHIPMENTS - TOTAL'!$D$2:$D$467,0)-1+1,0)","v":{"$error":"#VALUE!"}},{"$f":"OFFSET(INDEX('[1]SHIPMENTS - TOTAL'!$E$8:$BF$467,MATCH($C$12,'[1]SHIPMENTS - TOTAL'!$C$8:$C$25,0),MATCH(I$13,'[1]SHIPMENTS - TOTAL'!$E$7:$BF$7,0)),MATCH($C$9,'[1]SHIPMENTS - TOTAL'!$D$2:$D$467,0)-1+1,0)","v":{"$error":"#VALUE!"}},{"$f":"OFFSET(INDEX('[1]SHIPMENTS - TOTAL'!$E$8:$BF$467,MATCH($C$12,'[1]SHIPMENTS - TOTAL'!$C$8:$C$25,0),MATCH(J$13,'[1]SHIPMENTS - TOTAL'!$E$7:$BF$7,0)),MATCH($C$9,'[1]SHIPMENTS - TOTAL'!$D$2:$D$467,0)-1+1,0)","v":{"$error":"#VALUE!"}},{"$f":"OFFSET(INDEX('[1]SHIPMENTS - TOTAL'!$E$8:$BF$467,MATCH($C$12,'[1]SHIPMENTS - TOTAL'!$C$8:$C$25,0),MATCH(K$13,'[1]SHIPMENTS - TOTAL'!$E$7:$BF$7,0)),MATCH($C$9,'[1]SHIPMENTS - TOTAL'!$D$2:$D$467,0)-1+1,0)","v":{"$error":"#VALUE!"}},{"$f":"OFFSET(INDEX('[1]SHIPMENTS - TOTAL'!$E$8:$BF$467,MATCH($C$12,'[1]SHIPMENTS - TOTAL'!$C$8:$C$25,0),MATCH(L$13,'[1]SHIPMENTS - TOTAL'!$E$7:$BF$7,0)),MATCH($C$9,'[1]SHIPMENTS - TOTAL'!$D$2:$D$467,0)-1+1,0)","v":{"$error":"#VALUE!"}},{"$f":"OFFSET(INDEX('[1]SHIPMENTS - TOTAL'!$E$8:$BF$467,MATCH($C$12,'[1]SHIPMENTS - TOTAL'!$C$8:$C$25,0),MATCH(M$13,'[1]SHIPMENTS - TOTAL'!$E$7:$BF$7,0)),MATCH($C$9,'[1]SHIPMENTS - TOTAL'!$D$2:$D$467,0)-1+1,0)","v":{"$error":"#VALUE!"}},{"$f":"OFFSET(INDEX('[1]SHIPMENTS - TOTAL'!$E$8:$BF$467,MATCH($C$12,'[1]SHIPMENTS - TOTAL'!$C$8:$C$25,0),MATCH(N$13,'[1]SHIPMENTS - TOTAL'!$E$7:$BF$7,0)),MATCH($C$9,'[1]SHIPMENTS - TOTAL'!$D$2:$D$467,0)-1+1,0)","v":{"$error":"#VALUE!"}},{"$f":"OFFSET(INDEX('[1]SHIPMENTS - TOTAL'!$E$8:$BF$467,MATCH($C$12,'[1]SHIPMENTS - TOTAL'!$C$8:$C$25,0),MATCH(O$13,'[1]SHIPMENTS - TOTAL'!$E$7:$BF$7,0)),MATCH($C$9,'[1]SHIPMENTS - TOTAL'!$D$2:$D$467,0)-1+1,0)","v":{"$error":"#VALUE!"}},{"$f":"OFFSET(INDEX('[1]SHIPMENTS - TOTAL'!$E$8:$BF$467,MATCH($C$12,'[1]SHIPMENTS - TOTAL'!$C$8:$C$25,0),MATCH(P$13,'[1]SHIPMENTS - TOTAL'!$E$7:$BF$7,0)),MATCH($C$9,'[1]SHIPMENTS - TOTAL'!$D$2:$D$467,0)-1+1,0)","v":{"$error":"#VALUE!"}},{"$f":"OFFSET(INDEX('[1]SHIPMENTS - TOTAL'!$E$8:$BF$467,MATCH($C$12,'[1]SHIPMENTS - TOTAL'!$C$8:$C$25,0),MATCH(Q$13,'[1]SHIPMENTS - TOTAL'!$E$7:$BF$7,0)),MATCH($C$9,'[1]SHIPMENTS - TOTAL'!$D$2:$D$467,0)-1+1,0)","v":{"$error":"#VALUE!"}},{"$f":"OFFSET(INDEX('[1]SHIPMENTS - TOTAL'!$E$8:$BF$467,MATCH($C$12,'[1]SHIPMENTS - TOTAL'!$C$8:$C$25,0),MATCH(R$13,'[1]SHIPMENTS - TOTAL'!$E$7:$BF$7,0)),MATCH($C$9,'[1]SHIPMENTS - TOTAL'!$D$2:$D$467,0)-1+1,0)","v":{"$error":"#VALUE!"}},{"$f":"OFFSET(INDEX('[1]SHIPMENTS - TOTAL'!$E$8:$BF$467,MATCH($C$12,'[1]SHIPMENTS - TOTAL'!$C$8:$C$25,0),MATCH(S$13,'[1]SHIPMENTS - TOTAL'!$E$7:$BF$7,0)),MATCH($C$9,'[1]SHIPMENTS - TOTAL'!$D$2:$D$467,0)-1+1,0)","v":{"$error":"#VALUE!"}},{"$f":"OFFSET(INDEX('[1]SHIPMENTS - TOTAL'!$E$8:$BF$467,MATCH($C$12,'[1]SHIPMENTS - TOTAL'!$C$8:$C$25,0),MATCH(T$13,'[1]SHIPMENTS - TOTAL'!$E$7:$BF$7,0)),MATCH($C$9,'[1]SHIPMENTS - TOTAL'!$D$2:$D$467,0)-1+1,0)","v":{"$error":"#VALUE!"}},{"$f":"OFFSET(INDEX('[1]SHIPMENTS - TOTAL'!$E$8:$BF$467,MATCH($C$12,'[1]SHIPMENTS - TOTAL'!$C$8:$C$25,0),MATCH(U$13,'[1]SHIPMENTS - TOTAL'!$E$7:$BF$7,0)),MATCH($C$9,'[1]SHIPMENTS - TOTAL'!$D$2:$D$467,0)-1+1,0)","v":{"$error":"#VALUE!"}},{"$f":"OFFSET(INDEX('[1]SHIPMENTS - TOTAL'!$E$8:$BF$467,MATCH($C$12,'[1]SHIPMENTS - TOTAL'!$C$8:$C$25,0),MATCH(V$13,'[1]SHIPMENTS - TOTAL'!$E$7:$BF$7,0)),MATCH($C$9,'[1]SHIPMENTS - TOTAL'!$D$2:$D$467,0)-1+1,0)","v":{"$error":"#VALUE!"}},{"$f":"OFFSET(INDEX('[1]SHIPMENTS - TOTAL'!$E$8:$BF$467,MATCH($C$12,'[1]SHIPMENTS - TOTAL'!$C$8:$C$25,0),MATCH(W$13,'[1]SHIPMENTS - TOTAL'!$E$7:$BF$7,0)),MATCH($C$9,'[1]SHIPMENTS - TOTAL'!$D$2:$D$467,0)-1+1,0)","v":{"$error":"#VALUE!"}},{"$f":"OFFSET(INDEX('[1]SHIPMENTS - TOTAL'!$E$8:$BF$467,MATCH($C$12,'[1]SHIPMENTS - TOTAL'!$C$8:$C$25,0),MATCH(X$13,'[1]SHIPMENTS - TOTAL'!$E$7:$BF$7,0)),MATCH($C$9,'[1]SHIPMENTS - TOTAL'!$D$2:$D$467,0)-1+1,0)","v":{"$error":"#VALUE!"}},{"$f":"OFFSET(INDEX('[1]SHIPMENTS - TOTAL'!$E$8:$BF$467,MATCH($C$12,'[1]SHIPMENTS - TOTAL'!$C$8:$C$25,0),MATCH(Y$13,'[1]SHIPMENTS - TOTAL'!$E$7:$BF$7,0)),MATCH($C$9,'[1]SHIPMENTS - TOTAL'!$D$2:$D$467,0)-1+1,0)","v":{"$error":"#VALUE!"}},{"$f":"OFFSET(INDEX('[1]SHIPMENTS - TOTAL'!$E$8:$BF$467,MATCH($C$12,'[1]SHIPMENTS - TOTAL'!$C$8:$C$25,0),MATCH(Z$13,'[1]SHIPMENTS - TOTAL'!$E$7:$BF$7,0)),MATCH($C$9,'[1]SHIPMENTS - TOTAL'!$D$2:$D$467,0)-1+1,0)","v":{"$error":"#VALUE!"}},{"$f":"OFFSET(INDEX('[1]SHIPMENTS - TOTAL'!$E$8:$BF$467,MATCH($C$12,'[1]SHIPMENTS - TOTAL'!$C$8:$C$25,0),MATCH(AA$13,'[1]SHIPMENTS - TOTAL'!$E$7:$BF$7,0)),MATCH($C$9,'[1]SHIPMENTS - TOTAL'!$D$2:$D$467,0)-1+1,0)","v":{"$error":"#VALUE!"}},{"$f":"OFFSET(INDEX('[1]SHIPMENTS - TOTAL'!$E$8:$BF$467,MATCH($C$12,'[1]SHIPMENTS - TOTAL'!$C$8:$C$25,0),MATCH(AB$13,'[1]SHIPMENTS - TOTAL'!$E$7:$BF$7,0)),MATCH($C$9,'[1]SHIPMENTS - TOTAL'!$D$2:$D$467,0)-1+1,0)","v":{"$error":"#VALUE!"}},{"$f":"OFFSET(INDEX('[1]SHIPMENTS - TOTAL'!$E$8:$BF$467,MATCH($C$12,'[1]SHIPMENTS - TOTAL'!$C$8:$C$25,0),MATCH(AC$13,'[1]SHIPMENTS - TOTAL'!$E$7:$BF$7,0)),MATCH($C$9,'[1]SHIPMENTS - TOTAL'!$D$2:$D$467,0)-1+1,0)","v":{"$error":"#VALUE!"}},{"$f":"OFFSET(INDEX('[1]SHIPMENTS - TOTAL'!$E$8:$BF$467,MATCH($C$12,'[1]SHIPMENTS - TOTAL'!$C$8:$C$25,0),MATCH(AD$13,'[1]SHIPMENTS - TOTAL'!$E$7:$BF$7,0)),MATCH($C$9,'[1]SHIPMENTS - TOTAL'!$D$2:$D$467,0)-1+1,0)","v":{"$error":"#VALUE!"}},{"$f":"OFFSET(INDEX('[1]SHIPMENTS - TOTAL'!$E$8:$BF$467,MATCH($C$12,'[1]SHIPMENTS - TOTAL'!$C$8:$C$25,0),MATCH(AE$13,'[1]SHIPMENTS - TOTAL'!$E$7:$BF$7,0)),MATCH($C$9,'[1]SHIPMENTS - TOTAL'!$D$2:$D$467,0)-1+1,0)","v":{"$error":"#VALUE!"}},{"$f":"OFFSET(INDEX('[1]SHIPMENTS - TOTAL'!$E$8:$BF$467,MATCH($C$12,'[1]SHIPMENTS - TOTAL'!$C$8:$C$25,0),MATCH(AF$13,'[1]SHIPMENTS - TOTAL'!$E$7:$BF$7,0)),MATCH($C$9,'[1]SHIPMENTS - TOTAL'!$D$2:$D$467,0)-1+1,0)","v":{"$error":"#VALUE!"}},{"$f":"OFFSET(INDEX('[1]SHIPMENTS - TOTAL'!$E$8:$BF$467,MATCH($C$12,'[1]SHIPMENTS - TOTAL'!$C$8:$C$25,0),MATCH(AG$13,'[1]SHIPMENTS - TOTAL'!$E$7:$BF$7,0)),MATCH($C$9,'[1]SHIPMENTS - TOTAL'!$D$2:$D$467,0)-1+1,0)","v":{"$error":"#VALUE!"}},{"$f":"OFFSET(INDEX('[1]SHIPMENTS - TOTAL'!$E$8:$BF$467,MATCH($C$12,'[1]SHIPMENTS - TOTAL'!$C$8:$C$25,0),MATCH(AH$13,'[1]SHIPMENTS - TOTAL'!$E$7:$BF$7,0)),MATCH($C$9,'[1]SHIPMENTS - TOTAL'!$D$2:$D$467,0)-1+1,0)","v":{"$error":"#VALUE!"}},{"$f":"OFFSET(INDEX('[1]SHIPMENTS - TOTAL'!$E$8:$BF$467,MATCH($C$12,'[1]SHIPMENTS - TOTAL'!$C$8:$C$25,0),MATCH(AI$13,'[1]SHIPMENTS - TOTAL'!$E$7:$BF$7,0)),MATCH($C$9,'[1]SHIPMENTS - TOTAL'!$D$2:$D$467,0)-1+1,0)","v":{"$error":"#VALUE!"}},{"$f":"OFFSET(INDEX('[1]SHIPMENTS - TOTAL'!$E$8:$BF$467,MATCH($C$12,'[1]SHIPMENTS - TOTAL'!$C$8:$C$25,0),MATCH(AJ$13,'[1]SHIPMENTS - TOTAL'!$E$7:$BF$7,0)),MATCH($C$9,'[1]SHIPMENTS - TOTAL'!$D$2:$D$467,0)-1+1,0)","v":{"$error":"#VALUE!"}},{"$f":"OFFSET(INDEX('[1]SHIPMENTS - TOTAL'!$E$8:$BF$467,MATCH($C$12,'[1]SHIPMENTS - TOTAL'!$C$8:$C$25,0),MATCH(AK$13,'[1]SHIPMENTS - TOTAL'!$E$7:$BF$7,0)),MATCH($C$9,'[1]SHIPMENTS - TOTAL'!$D$2:$D$467,0)-1+1,0)","v":{"$error":"#VALUE!"}},{"$f":"OFFSET(INDEX('[1]SHIPMENTS - TOTAL'!$E$8:$BF$467,MATCH($C$12,'[1]SHIPMENTS - TOTAL'!$C$8:$C$25,0),MATCH(AL$13,'[1]SHIPMENTS - TOTAL'!$E$7:$BF$7,0)),MATCH($C$9,'[1]SHIPMENTS - TOTAL'!$D$2:$D$467,0)-1+1,0)","v":{"$error":"#VALUE!"}},{"$f":"OFFSET(INDEX('[1]SHIPMENTS - TOTAL'!$E$8:$BF$467,MATCH($C$12,'[1]SHIPMENTS - TOTAL'!$C$8:$C$25,0),MATCH(AM$13,'[1]SHIPMENTS - TOTAL'!$E$7:$BF$7,0)),MATCH($C$9,'[1]SHIPMENTS - TOTAL'!$D$2:$D$467,0)-1+1,0)","v":{"$error":"#VALUE!"}},{"$f":"OFFSET(INDEX('[1]SHIPMENTS - TOTAL'!$E$8:$BF$467,MATCH($C$12,'[1]SHIPMENTS - TOTAL'!$C$8:$C$25,0),MATCH(AN$13,'[1]SHIPMENTS - TOTAL'!$E$7:$BF$7,0)),MATCH($C$9,'[1]SHIPMENTS - TOTAL'!$D$2:$D$467,0)-1+1,0)","v":{"$error":"#VALUE!"}},{"$f":"OFFSET(INDEX('[1]SHIPMENTS - TOTAL'!$E$8:$BF$467,MATCH($C$12,'[1]SHIPMENTS - TOTAL'!$C$8:$C$25,0),MATCH(AO$13,'[1]SHIPMENTS - TOTAL'!$E$7:$BF$7,0)),MATCH($C$9,'[1]SHIPMENTS - TOTAL'!$D$2:$D$467,0)-1+1,0)","v":{"$error":"#VALUE!"}},{"$f":"OFFSET(INDEX('[1]SHIPMENTS - TOTAL'!$E$8:$BF$467,MATCH($C$12,'[1]SHIPMENTS - TOTAL'!$C$8:$C$25,0),MATCH(AP$13,'[1]SHIPMENTS - TOTAL'!$E$7:$BF$7,0)),MATCH($C$9,'[1]SHIPMENTS - TOTAL'!$D$2:$D$467,0)-1+1,0)","v":{"$error":"#VALUE!"}},{"$f":"OFFSET(INDEX('[1]SHIPMENTS - TOTAL'!$E$8:$BF$467,MATCH($C$12,'[1]SHIPMENTS - TOTAL'!$C$8:$C$25,0),MATCH(AQ$13,'[1]SHIPMENTS - TOTAL'!$E$7:$BF$7,0)),MATCH($C$9,'[1]SHIPMENTS - TOTAL'!$D$2:$D$467,0)-1+1,0)","v":{"$error":"#VALUE!"}},{"$f":"OFFSET(INDEX('[1]SHIPMENTS - TOTAL'!$E$8:$BF$467,MATCH($C$12,'[1]SHIPMENTS - TOTAL'!$C$8:$C$25,0),MATCH(AR$13,'[1]SHIPMENTS - TOTAL'!$E$7:$BF$7,0)),MATCH($C$9,'[1]SHIPMENTS - TOTAL'!$D$2:$D$467,0)-1+1,0)","v":{"$error":"#VALUE!"}},{"$f":"OFFSET(INDEX('[1]SHIPMENTS - TOTAL'!$E$8:$BF$467,MATCH($C$12,'[1]SHIPMENTS - TOTAL'!$C$8:$C$25,0),MATCH(AS$13,'[1]SHIPMENTS - TOTAL'!$E$7:$BF$7,0)),MATCH($C$9,'[1]SHIPMENTS - TOTAL'!$D$2:$D$467,0)-1+1,0)","v":{"$error":"#VALUE!"}},{"$f":"OFFSET(INDEX('[1]SHIPMENTS - TOTAL'!$E$8:$BF$467,MATCH($C$12,'[1]SHIPMENTS - TOTAL'!$C$8:$C$25,0),MATCH(AT$13,'[1]SHIPMENTS - TOTAL'!$E$7:$BF$7,0)),MATCH($C$9,'[1]SHIPMENTS - TOTAL'!$D$2:$D$467,0)-1+1,0)","v":{"$error":"#VALUE!"}},{"$f":"OFFSET(INDEX('[1]SHIPMENTS - TOTAL'!$E$8:$BF$467,MATCH($C$12,'[1]SHIPMENTS - TOTAL'!$C$8:$C$25,0),MATCH(AU$13,'[1]SHIPMENTS - TOTAL'!$E$7:$BF$7,0)),MATCH($C$9,'[1]SHIPMENTS - TOTAL'!$D$2:$D$467,0)-1+1,0)","v":{"$error":"#VALUE!"}},{"$f":"OFFSET(INDEX('[1]SHIPMENTS - TOTAL'!$E$8:$BF$467,MATCH($C$12,'[1]SHIPMENTS - TOTAL'!$C$8:$C$25,0),MATCH(AV$13,'[1]SHIPMENTS - TOTAL'!$E$7:$BF$7,0)),MATCH($C$9,'[1]SHIPMENTS - TOTAL'!$D$2:$D$467,0)-1+1,0)","v":{"$error":"#VALUE!"}},{"$f":"OFFSET(INDEX('[1]SHIPMENTS - TOTAL'!$E$8:$BF$467,MATCH($C$12,'[1]SHIPMENTS - TOTAL'!$C$8:$C$25,0),MATCH(AW$13,'[1]SHIPMENTS - TOTAL'!$E$7:$BF$7,0)),MATCH($C$9,'[1]SHIPMENTS - TOTAL'!$D$2:$D$467,0)-1+1,0)","v":{"$error":"#VALUE!"}},{"$f":"OFFSET(INDEX('[1]SHIPMENTS - TOTAL'!$E$8:$BF$467,MATCH($C$12,'[1]SHIPMENTS - TOTAL'!$C$8:$C$25,0),MATCH(AX$13,'[1]SHIPMENTS - TOTAL'!$E$7:$BF$7,0)),MATCH($C$9,'[1]SHIPMENTS - TOTAL'!$D$2:$D$467,0)-1+1,0)","v":{"$error":"#VALUE!"}},{"$f":"OFFSET(INDEX('[1]SHIPMENTS - TOTAL'!$E$8:$BF$467,MATCH($C$12,'[1]SHIPMENTS - TOTAL'!$C$8:$C$25,0),MATCH(AY$13,'[1]SHIPMENTS - TOTAL'!$E$7:$BF$7,0)),MATCH($C$9,'[1]SHIPMENTS - TOTAL'!$D$2:$D$467,0)-1+1,0)","v":{"$error":"#VALUE!"}},{"$f":"OFFSET(INDEX('[1]SHIPMENTS - TOTAL'!$E$8:$BF$467,MATCH($C$12,'[1]SHIPMENTS - TOTAL'!$C$8:$C$25,0),MATCH(AZ$13,'[1]SHIPMENTS - TOTAL'!$E$7:$BF$7,0)),MATCH($C$9,'[1]SHIPMENTS - TOTAL'!$D$2:$D$467,0)-1+1,0)","v":{"$error":"#VALUE!"}}]
[null,null,"Total Model Shipments","(units)",{"$f":"SUM(E15:E16)","v":{"$error":"#VALUE!"}},{"$error":"#VALUE!"},{"$error":"#VALUE!"},{"$error":"#VALUE!"},{"$error":"#VALUE!"},{"$error":"#VALUE!"},{"$error":"#VALUE!"},{"$error":"#VALUE!"},{"$error":"#VALUE!"},{"$error":"#VALUE!"},{"$error":"#VALUE!"},{"$error":"#VALUE!"},{"$error":"#VALUE!"},{"$error":"#VALUE!"},{"$error":"#VALUE!"},{"$error":"#VALUE!"},{"$error":"#VALUE!"},{"$error":"#VALUE!"},{"$error":"#VALUE!"},{"$error":"#VALUE!"},{"$error":"#VALUE!"},{"$error":"#VALUE!"},{"$error":"#VALUE!"},{"$error":"#VALUE!"},{"$error":"#VALUE!"},{"$error":"#VALUE!"},{"$error":"#VALUE!"},{"$error":"#VALUE!"},{"$error":"#VALUE!"},{"$error":"#VALUE!"},{"$error":"#VALUE!"},{"$error":"#VALUE!"},{"$error":"#VALUE!"},{"$error":"#VALUE!"},{"$error":"#VALUE!"},{"$error":"#VALUE!"},{"$error":"#VALUE!"},{"$error":"#VALUE!"},{"$error":"#VALUE!"},{"$error":"#VALUE!"},{"$error":"#VALUE!"},{"$error":"#VALUE!"},{"$error":"#VALUE!"},{"$error":"#VALUE!"},{"$error":"#VALUE!"},{"$error":"#VALUE!"},{"$error":"#VALUE!"},{"$error":"#VALUE!"}]
[null,null,"Model Installed Stock","(units)",{"$f":"OFFSET(INDEX('[1]STOCK - TOTAL'!$E$8:$BF$305,MATCH($C$12,'[1]STOCK - TOTAL'!$C$8:$C$16,0),MATCH(E$13,'[1]STOCK - TOTAL'!$E$7:$BF$7,0)),MATCH($C$9,'[1]STOCK - TOTAL'!$D:$D,0)-2,0)","v":{"$error":"#VALUE!"}},{"$f":"OFFSET(INDEX('[1]STOCK - TOTAL'!$E$8:$BF$305,MATCH($C$12,'[1]STOCK - TOTAL'!$C$8:$C$16,0),MATCH(F$13,'[1]STOCK - TOTAL'!$E$7:$BF$7,0)),MATCH($C$9,'[1]STOCK - TOTAL'!$D:$D,0)-2,0)","v":{"$error":"#VALUE!"}},{"$f":"OFFSET(INDEX('[1]STOCK - TOTAL'!$E$8:$BF$305,MATCH($C$12,'[1]STOCK - TOTAL'!$C$8:$C$16,0),MATCH(G$13,'[1]STOCK - TOTAL'!$E$7:$BF$7,0)),MATCH($C$9,'[1]STOCK - TOTAL'!$D:$D,0)-2,0)","v":{"$error":"#VALUE!"}},{"$f":"OFFSET(INDEX('[1]STOCK - TOTAL'!$E$8:$BF$305,MATCH($C$12,'[1]STOCK - TOTAL'!$C$8:$C$16,0),MATCH(H$13,'[1]STOCK - TOTAL'!$E$7:$BF$7,0)),MATCH($C$9,'[1]STOCK - TOTAL'!$D:$D,0)-2,0)","v":{"$error":"#VALUE!"}},{"$f":"OFFSET(INDEX('[1]STOCK - TOTAL'!$E$8:$BF$305,MATCH($C$12,'[1]STOCK - TOTAL'!$C$8:$C$16,0),MATCH(I$13,'[1]STOCK - TOTAL'!$E$7:$BF$7,0)),MATCH($C$9,'[1]STOCK - TOTAL'!$D:$D,0)-2,0)","v":{"$error":"#VALUE!"}},{"$f":"OFFSET(INDEX('[1]STOCK - TOTAL'!$E$8:$BF$305,MATCH($C$12,'[1]STOCK - TOTAL'!$C$8:$C$16,0),MATCH(J$13,'[1]STOCK - TOTAL'!$E$7:$BF$7,0)),MATCH($C$9,'[1]STOCK - TOTAL'!$D:$D,0)-2,0)","v":{"$error":"#VALUE!"}},{"$f":"OFFSET(INDEX('[1]STOCK - TOTAL'!$E$8:$BF$305,MATCH($C$12,'[1]STOCK - TOTAL'!$C$8:$C$16,0),MATCH(K$13,'[1]STOCK - TOTAL'!$E$7:$BF$7,0)),MATCH($C$9,'[1]STOCK - TOTAL'!$D:$D,0)-2,0)","v":{"$error":"#VALUE!"}},{"$f":"OFFSET(INDEX('[1]STOCK - TOTAL'!$E$8:$BF$305,MATCH($C$12,'[1]STOCK - TOTAL'!$C$8:$C$16,0),MATCH(L$13,'[1]STOCK - TOTAL'!$E$7:$BF$7,0)),MATCH($C$9,'[1]STOCK - TOTAL'!$D:$D,0)-2,0)","v":{"$error":"#VALUE!"}},{"$f":"OFFSET(INDEX('[1]STOCK - TOTAL'!$E$8:$BF$305,MATCH($C$12,'[1]STOCK - TOTAL'!$C$8:$C$16,0),MATCH(M$13,'[1]STOCK - TOTAL'!$E$7:$BF$7,0)),MATCH($C$9,'[1]STOCK - TOTAL'!$D:$D,0)-2,0)","v":{"$error":"#VALUE!"}},{"$f":"OFFSET(INDEX('[1]STOCK - TOTAL'!$E$8:$BF$305,MATCH($C$12,'[1]STOCK - TOTAL'!$C$8:$C$16,0),MATCH(N$13,'[1]STOCK - TOTAL'!$E$7:$BF$7,0)),MATCH($C$9,'[1]STOCK - TOTAL'!$D:$D,0)-2,0)","v":{"$error":"#VALUE!"}},{"$f":"OFFSET(INDEX('[1]STOCK - TOTAL'!$E$8:$BF$305,MATCH($C$12,'[1]STOCK - TOTAL'!$C$8:$C$16,0),MATCH(O$13,'[1]STOCK - TOTAL'!$E$7:$BF$7,0)),MATCH($C$9,'[1]STOCK - TOTAL'!$D:$D,0)-2,0)","v":{"$error":"#VALUE!"}},{"$f":"OFFSET(INDEX('[1]STOCK - TOTAL'!$E$8:$BF$305,MATCH($C$12,'[1]STOCK - TOTAL'!$C$8:$C$16,0),MATCH(P$13,'[1]STOCK - TOTAL'!$E$7:$BF$7,0)),MATCH($C$9,'[1]STOCK - TOTAL'!$D:$D,0)-2,0)","v":{"$error":"#VALUE!"}},{"$f":"OFFSET(INDEX('[1]STOCK - TOTAL'!$E$8:$BF$305,MATCH($C$12,'[1]STOCK - TOTAL'!$C$8:$C$16,0),MATCH(Q$13,'[1]STOCK - TOTAL'!$E$7:$BF$7,0)),MATCH($C$9,'[1]STOCK - TOTAL'!$D:$D,0)-2,0)","v":{"$error":"#VALUE!"}},{"$f":"OFFSET(INDEX('[1]STOCK - TOTAL'!$E$8:$BF$305,MATCH($C$12,'[1]STOCK - TOTAL'!$C$8:$C$16,0),MATCH(R$13,'[1]STOCK - TOTAL'!$E$7:$BF$7,0)),MATCH($C$9,'[1]STOCK - TOTAL'!$D:$D,0)-2,0)","v":{"$error":"#VALUE!"}},{"$f":"OFFSET(INDEX('[1]STOCK - TOTAL'!$E$8:$BF$305,MATCH($C$12,'[1]STOCK - TOTAL'!$C$8:$C$16,0),MATCH(S$13,'[1]STOCK - TOTAL'!$E$7:$BF$7,0)),MATCH($C$9,'[1]STOCK - TOTAL'!$D:$D,0)-2,0)","v":{"$error":"#VALUE!"}},{"$f":"OFFSET(INDEX('[1]STOCK - TOTAL'!$E$8:$BF$305,MATCH($C$12,'[1]STOCK - TOTAL'!$C$8:$C$16,0),MATCH(T$13,'[1]STOCK - TOTAL'!$E$7:$BF$7,0)),MATCH($C$9,'[1]STOCK - TOTAL'!$D:$D,0)-2,0)","v":{"$error":"#VALUE!"}},{"$f":"OFFSET(INDEX('[1]STOCK - TOTAL'!$E$8:$BF$305,MATCH($C$12,'[1]STOCK - TOTAL'!$C$8:$C$16,0),MATCH(U$13,'[1]STOCK - TOTAL'!$E$7:$BF$7,0)),MATCH($C$9,'[1]STOCK - TOTAL'!$D:$D,0)-2,0)","v":{"$error":"#VALUE!"}},{"$f":"OFFSET(INDEX('[1]STOCK - TOTAL'!$E$8:$BF$305,MATCH($C$12,'[1]STOCK - TOTAL'!$C$8:$C$16,0),MATCH(V$13,'[1]STOCK - TOTAL'!$E$7:$BF$7,0)),MATCH($C$9,'[1]STOCK - TOTAL'!$D:$D,0)-2,0)","v":{"$error":"#VALUE!"}},{"$f":"OFFSET(INDEX('[1]STOCK - TOTAL'!$E$8:$BF$305,MATCH($C$12,'[1]STOCK - TOTAL'!$C$8:$C$16,0),MATCH(W$13,'[1]STOCK - TOTAL'!$E$7:$BF$7,0)),MATCH($C$9,'[1]STOCK - TOTAL'!$D:$D,0)-2,0)","v":{"$error":"#VALUE!"}},{"$f":"OFFSET(INDEX('[1]STOCK - TOTAL'!$E$8:$BF$305,MATCH($C$12,'[1]STOCK - TOTAL'!$C$8:$C$16,0),MATCH(X$13,'[1]STOCK - TOTAL'!$E$7:$BF$7,0)),MATCH($C$9,'[1]STOCK - TOTAL'!$D:$D,0)-2,0)","v":{"$error":"#VALUE!"}},{"$f":"OFFSET(INDEX('[1]STOCK - TOTAL'!$E$8:$BF$305,MATCH($C$12,'[1]STOCK - TOTAL'!$C$8:$C$16,0),MATCH(Y$13,'[1]STOCK - TOTAL'!$E$7:$BF$7,0)),MATCH($C$9,'[1]STOCK - TOTAL'!$D:$D,0)-2,0)","v":{"$error":"#VALUE!"}},{"$f":"OFFSET(INDEX('[1]STOCK - TOTAL'!$E$8:$BF$305,MATCH($C$12,'[1]STOCK - TOTAL'!$C$8:$C$16,0),MATCH(Z$13,'[1]STOCK - TOTAL'!$E$7:$BF$7,0)),MATCH($C$9,'[1]STOCK - TOTAL'!$D:$D,0)-2,0)","v":{"$error":"#VALUE!"}},{"$f":"OFFSET(INDEX('[1]STOCK - TOTAL'!$E$8:$BF$305,MATCH($C$12,'[1]STOCK - TOTAL'!$C$8:$C$16,0),MATCH(AA$13,'[1]STOCK - TOTAL'!$E$7:$BF$7,0)),MATCH($C$9,'[1]STOCK - TOTAL'!$D:$D,0)-2,0)","v":{"$error":"#VALUE!"}},{"$f":"OFFSET(INDEX('[1]STOCK - TOTAL'!$E$8:$BF$305,MATCH($C$12,'[1]STOCK - TOTAL'!$C$8:$C$16,0),MATCH(AB$13,'[1]STOCK - TOTAL'!$E$7:$BF$7,0)),MATCH($C$9,'[1]STOCK - TOTAL'!$D:$D,0)-2,0)","v":{"$error":"#VALUE!"}},{"$f":"OFFSET(INDEX('[1]STOCK - TOTAL'!$E$8:$BF$305,MATCH($C$12,'[1]STOCK - TOTAL'!$C$8:$C$16,0),MATCH(AC$13,'[1]STOCK - TOTAL'!$E$7:$BF$7,0)),MATCH($C$9,'[1]STOCK - TOTAL'!$D:$D,0)-2,0)","v":{"$error":"#VALUE!"}},{"$f":"OFFSET(INDEX('[1]STOCK - TOTAL'!$E$8:$BF$305,MATCH($C$12,'[1]STOCK - TOTAL'!$C$8:$C$16,0),MATCH(AD$13,'[1]STOCK - TOTAL'!$E$7:$BF$7,0)),MATCH($C$9,'[1]STOCK - TOTAL'!$D:$D,0)-2,0)","v":{"$error":"#VALUE!"}},{"$f":"OFFSET(INDEX('[1]STOCK - TOTAL'!$E$8:$BF$305,MATCH($C$12,'[1]STOCK - TOTAL'!$C$8:$C$16,0),MATCH(AE$13,'[1]STOCK - TOTAL'!$E$7:$BF$7,0)),MATCH($C$9,'[1]STOCK - TOTAL'!$D:$D,0)-2,0)","v":{"$error":"#VALUE!"}},{"$f":"OFFSET(INDEX('[1]STOCK - TOTAL'!$E$8:$BF$305,MATCH($C$12,'[1]STOCK - TOTAL'!$C$8:$C$16,0),MATCH(AF$13,'[1]STOCK - TOTAL'!$E$7:$BF$7,0)),MATCH($C$9,'[1]STOCK - TOTAL'!$D:$D,0)-2,0)","v":{"$error":"#VALUE!"}},{"$f":"OFFSET(INDEX('[1]STOCK - TOTAL'!$E$8:$BF$305,MATCH($C$12,'[1]STOCK - TOTAL'!$C$8:$C$16,0),MATCH(AG$13,'[1]STOCK - TOTAL'!$E$7:$BF$7,0)),MATCH($C$9,'[1]STOCK - TOTAL'!$D:$D,0)-2,0)","v":{"$error":"#VALUE!"}},{"$f":"OFFSET(INDEX('[1]STOCK - TOTAL'!$E$8:$BF$305,MATCH($C$12,'[1]STOCK - TOTAL'!$C$8:$C$16,0),MATCH(AH$13,'[1]STOCK - TOTAL'!$E$7:$BF$7,0)),MATCH($C$9,'[1]STOCK - TOTAL'!$D:$D,0)-2,0)","v":{"$error":"#VALUE!"}},{"$f":"OFFSET(INDEX('[1]STOCK - TOTAL'!$E$8:$BF$305,MATCH($C$12,'[1]STOCK - TOTAL'!$C$8:$C$16,0),MATCH(AI$13,'[1]STOCK - TOTAL'!$E$7:$BF$7,0)),MATCH($C$9,'[1]STOCK - TOTAL'!$D:$D,0)-2,0)","v":{"$error":"#VALUE!"}},{"$f":"OFFSET(INDEX('[1]STOCK - TOTAL'!$E$8:$BF$305,MATCH($C$12,'[1]STOCK - TOTAL'!$C$8:$C$16,0),MATCH(AJ$13,'[1]STOCK - TOTAL'!$E$7:$BF$7,0)),MATCH($C$9,'[1]STOCK - TOTAL'!$D:$D,0)-2,0)","v":{"$error":"#VALUE!"}},{"$f":"OFFSET(INDEX('[1]STOCK - TOTAL'!$E$8:$BF$305,MATCH($C$12,'[1]STOCK - TOTAL'!$C$8:$C$16,0),MATCH(AK$13,'[1]STOCK - TOTAL'!$E$7:$BF$7,0)),MATCH($C$9,'[1]STOCK - TOTAL'!$D:$D,0)-2,0)","v":{"$error":"#VALUE!"}},{"$f":"OFFSET(INDEX('[1]STOCK - TOTAL'!$E$8:$BF$305,MATCH($C$12,'[1]STOCK - TOTAL'!$C$8:$C$16,0),MATCH(AL$13,'[1]STOCK - TOTAL'!$E$7:$BF$7,0)),MATCH($C$9,'[1]STOCK - TOTAL'!$D:$D,0)-2,0)","v":{"$error":"#VALUE!"}},{"$f":"OFFSET(INDEX('[1]STOCK - TOTAL'!$E$8:$BF$305,MATCH($C$12,'[1]STOCK - TOTAL'!$C$8:$C$16,0),MATCH(AM$13,'[1]STOCK - TOTAL'!$E$7:$BF$7,0)),MATCH($C$9,'[1]STOCK - TOTAL'!$D:$D,0)-2,0)","v":{"$error":"#VALUE!"}},{"$f":"OFFSET(INDEX('[1]STOCK - TOTAL'!$E$8:$BF$305,MATCH($C$12,'[1]STOCK - TOTAL'!$C$8:$C$16,0),MATCH(AN$13,'[1]STOCK - TOTAL'!$E$7:$BF$7,0)),MATCH($C$9,'[1]STOCK - TOTAL'!$D:$D,0)-2,0)","v":{"$error":"#VALUE!"}},{"$f":"OFFSET(INDEX('[1]STOCK - TOTAL'!$E$8:$BF$305,MATCH($C$12,'[1]STOCK - TOTAL'!$C$8:$C$16,0),MATCH(AO$13,'[1]STOCK - TOTAL'!$E$7:$BF$7,0)),MATCH($C$9,'[1]STOCK - TOTAL'!$D:$D,0)-2,0)","v":{"$error":"#VALUE!"}},{"$f":"OFFSET(INDEX('[1]STOCK - TOTAL'!$E$8:$BF$305,MATCH($C$12,'[1]STOCK - TOTAL'!$C$8:$C$16,0),MATCH(AP$13,'[1]STOCK - TOTAL'!$E$7:$BF$7,0)),MATCH($C$9,'[1]STOCK - TOTAL'!$D:$D,0)-2,0)","v":{"$error":"#VALUE!"}},{"$f":"OFFSET(INDEX('[1]STOCK - TOTAL'!$E$8:$BF$305,MATCH($C$12,'[1]STOCK - TOTAL'!$C$8:$C$16,0),MATCH(AQ$13,'[1]STOCK - TOTAL'!$E$7:$BF$7,0)),MATCH($C$9,'[1]STOCK - TOTAL'!$D:$D,0)-2,0)","v":{"$error":"#VALUE!"}},{"$f":"OFFSET(INDEX('[1]STOCK - TOTAL'!$E$8:$BF$305,MATCH($C$12,'[1]STOCK - TOTAL'!$C$8:$C$16,0),MATCH(AR$13,'[1]STOCK - TOTAL'!$E$7:$BF$7,0)),MATCH($C$9,'[1]STOCK - TOTAL'!$D:$D,0)-2,0)","v":{"$error":"#VALUE!"}},{"$f":"OFFSET(INDEX('[1]STOCK - TOTAL'!$E$8:$BF$305,MATCH($C$12,'[1]STOCK - TOTAL'!$C$8:$C$16,0),MATCH(AS$13,'[1]STOCK - TOTAL'!$E$7:$BF$7,0)),MATCH($C$9,'[1]STOCK - TOTAL'!$D:$D,0)-2,0)","v":{"$error":"#VALUE!"}},{"$f":"OFFSET(INDEX('[1]STOCK - TOTAL'!$E$8:$BF$305,MATCH($C$12,'[1]STOCK - TOTAL'!$C$8:$C$16,0),MATCH(AT$13,'[1]STOCK - TOTAL'!$E$7:$BF$7,0)),MATCH($C$9,'[1]STOCK - TOTAL'!$D:$D,0)-2,0)","v":{"$error":"#VALUE!"}},{"$f":"OFFSET(INDEX('[1]STOCK - TOTAL'!$E$8:$BF$305,MATCH($C$12,'[1]STOCK - TOTAL'!$C$8:$C$16,0),MATCH(AU$13,'[1]STOCK - TOTAL'!$E$7:$BF$7,0)),MATCH($C$9,'[1]STOCK - TOTAL'!$D:$D,0)-2,0)","v":{"$error":"#VALUE!"}},{"$f":"OFFSET(INDEX('[1]STOCK - TOTAL'!$E$8:$BF$305,MATCH($C$12,'[1]STOCK - TOTAL'!$C$8:$C$16,0),MATCH(AV$13,'[1]STOCK - TOTAL'!$E$7:$BF$7,0)),MATCH($C$9,'[1]STOCK - TOTAL'!$D:$D,0)-2,0)","v":{"$error":"#VALUE!"}},{"$f":"OFFSET(INDEX('[1]STOCK - TOTAL'!$E$8:$BF$305,MATCH($C$12,'[1]STOCK - TOTAL'!$C$8:$C$16,0),MATCH(AW$13,'[1]STOCK - TOTAL'!$E$7:$BF$7,0)),MATCH($C$9,'[1]STOCK - TOTAL'!$D:$D,0)-2,0)","v":{"$error":"#VALUE!"}},{"$f":"OFFSET(INDEX('[1]STOCK - TOTAL'!$E$8:$BF$305,MATCH($C$12,'[1]STOCK - TOTAL'!$C$8:$C$16,0),MATCH(AX$13,'[1]STOCK - TOTAL'!$E$7:$BF$7,0)),MATCH($C$9,'[1]STOCK - TOTAL'!$D:$D,0)-2,0)","v":{"$error":"#VALUE!"}},{"$f":"OFFSET(INDEX('[1]STOCK - TOTAL'!$E$8:$BF$305,MATCH($C$12,'[1]STOCK - TOTAL'!$C$8:$C$16,0),MATCH(AY$13,'[1]STOCK - TOTAL'!$E$7:$BF$7,0)),MATCH($C$9,'[1]STOCK - TOTAL'!$D:$D,0)-2,0)","v":{"$error":"#VALUE!"}},{"$f":"OFFSET(INDEX('[1]STOCK - TOTAL'!$E$8:$BF$305,MATCH($C$12,'[1]STOCK - TOTAL'!$C$8:$C$16,0),MATCH(AZ$13,'[1]STOCK - TOTAL'!$E$7:$BF$7,0)),MATCH($C$9,'[1]STOCK - TOTAL'!$D:$D,0)-2,0)","v":{"$error":"#VALUE!"}}]

{"sheet":"6P UEC Development","index":11,"n_rows":11,"n_cols":5,"rows_kept":11,"cut":false,"hidden":false,"merged":[]}
[]
[null,null,"Council UEC Development"]
[]
[null,null,"NAVIGATION"]
[]
[null,null,"COMMENTS"]
[]
[]
[null,null,"6P Average UEC","N/A","kWh/year"]
[]
[null,null,"Source"]

{"sheet":"UEC Development","index":12,"n_rows":185,"n_cols":11,"rows_kept":185,"cut":false,"hidden":false,"merged":[[1,2,1,3],[3,2,3,3],[5,2,5,3],[12,1,12,5],[12,7,12,11]]}
[]
[null,null,"UEC Development "]
[]
[null,null,"NAVIGATION"]
[]
[null,null,"COMMENTS"]
[]
[]
[]
[]
[]
[]
[null,"COMPONENTS",null,null,null,null,null,"SYSTEMS"]
[]
[]
[null,null,{"$f":"'Product Classes'!K11&\" - \"&OFFSET('Product Classes'!$F$10,MATCH('Product Classes'!K11,MODEL_PCS,0),0)","v":"SP.M - Structural Panel, Medium Temperature"},null,null,null,null,null,{"$f":"'Product Classes'!K30","v":"DC.L.I.006"}]
[]
[null,null,null,"Annual Energy Consumption",null,null,null,null,null,"Annual Energy Consumption"]
[null,null,"Efficiency Level",null,null,null,null,null,"Efficiency Level"]
[null,null,null,"kWh/year Calculated*","kWh/year",null,null,null,null,"kWh/year Calculated*","kWh/year"]
[null,null,{"$f":"'Efficiency Levels'!C14","v":"EL0"},{"$f":"D22+(E21-E22)","v":1.5186415775598099},{"$f":"'Efficiency Levels'!D14","v":1.8017218410798299},null,null,null,{"$f":"'Efficiency Levels'!J14","v":"EL0"},{"$f":"J22+(K21-K22)","v":13945.003036892525},{"$f":"'Efficiency Levels'!K14","v":15952.3192173487}]
[null,null,{"$f":"'Efficiency Levels'!C15","v":"EL1"},{"$f":"E23","v":1.3247436745343499},{"$f":"'Efficiency Levels'!D15","v":1.60782393805437},null,null,null,{"$f":"'Efficiency Levels'!J15","v":"EL1"},{"$f":"K23","v":10273.018079543825},{"$f":"'Efficiency Levels'!K15","v":12280.33426}]
[null,null,{"$f":"'Efficiency Levels'!C16","v":"EL2"},{"$f":"E23","v":1.3247436745343499},{"$f":"'Efficiency Levels'!D16","v":1.3247436745343499},null,null,null,{"$f":"'Efficiency Levels'!J16","v":"EL2"},{"$f":"K23","v":10273.018079543825},{"$f":"'Efficiency Levels'!K16","v":10273.018079543825}]
[null,null,{"$f":"'Efficiency Levels'!C17","v":"EL3"},{"$f":"E24","v":1.15915071521756},{"$f":"'Efficiency Levels'!D17","v":1.15915071521756},null,null,null,{"$f":"'Efficiency Levels'!J17","v":"EL3"},8809.3012323402709,{"$f":"'Efficiency Levels'!K17","v":8809.3012323402709}]
[null,null,{"$f":"'Efficiency Levels'!C18","v":"EL4"},0.92732057217403796,{"$f":"'Efficiency Levels'!D18","v":0.92732057217403796},null,null,null,{"$f":"'Efficiency Levels'!J18","v":"EL4"},8344.6955096709589,{"$f":"'Efficiency Levels'!K18","v":8344.6955096709589}]
[null,null,{"$f":"'Efficiency Levels'!C19","v":"EL5"},0.77276714347837505,{"$f":"'Efficiency Levels'!D19","v":0.77276714347837505},null,null,null,{"$f":"'Efficiency Levels'!J19","v":"EL5"},8041.1391434064226,{"$f":"'Efficiency Levels'!K19","v":8041.1391434064226}]
[null,null,{"$f":"'Efficiency Levels'!C20","v":"EL6"},0.41214247652179198,{"$f":"'Efficiency Levels'!D20","v":0.41214247652179198},null,null,null,{"$f":"'Efficiency Levels'!J20","v":"EL6"},7648.8582881540506,{"$f":"'Efficiency Levels'!K20","v":7648.8582881540506}]
[null,null,null,"*See INFORMATION box at the top of this tab.",null,null,null,null,{"$f":"'Efficiency Levels'!J21","v":"EL7"},7562.9333018800926,{"$f":"'Efficiency Levels'!K21","v":7562.9333018800926}]
[null,null,null,null,null,null,null,null,{"$f":"'Efficiency Levels'!J22","v":"EL8"},{"$f":"K29","v":7064.4648152921718},{"$f":"'Efficiency Levels'!K22","v":7064.4648152921718}]
[null,null,null,null,null,null,null,null,null,"*See INFORMATION box at the top of this tab."]
[]
[null,null,{"$f":"'Product Classes'!K12&\" - \"&OFFSET('Product Classes'!$F$10,MATCH('Product Classes'!K12,MODEL_PCS,0),0)","v":"SP.L - Structural Panel, Low Temperature"}]
[]
[null,null,null,"Annual Energy Consumption",null,null,null,null,{"$f":"'Product Classes'!K31","v":"DC.L.I.009"}]
[null,null,"Efficiency Level"]
[null,null,null,"kWh/year Calculated*","kWh/year",null,null,null,null,"Annual Energy Consumption"]
[null,null,{"$f":"'Efficiency Levels'!C33","v":"EL0"},{"$f":"D38+(E37-E38)","v":6.3421712471647229},{"$f":"'Efficiency Levels'!D33","v":6.9074611106941299},null,null,null,"Efficiency Level"]
[null,null,{"$f":"'Efficiency Levels'!C34","v":"EL1"},{"$f":"E39","v":5.5934147658797428},{"$f":"'Efficiency Levels'!D34","v":6.1587046294091499},null,null,null,null,"kWh/year Calculated*","kWh/year"]
[null,null,{"$f":"'Efficiency Levels'!C35","v":"EL2"},{"$f":"E39","v":5.5934147658797428},{"$f":"'Efficiency Levels'!D35","v":5.5934147658797428},null,null,null,{"$f":"'Efficiency Levels'!J33","v":"EL0"},{"$f":"J40+(K39-K40)","v":18362.059967592715},{"$f":"'Efficiency Levels'!K33","v":20094.239816492802}]
[null,null,{"$f":"'Efficiency Levels'!C36","v":"EL3"},{"$f":"E40","v":4.4747318127035731},{"$f":"'Efficiency Levels'!D36","v":4.4747318127035731},null,null,null,{"$f":"'Efficiency Levels'!J34","v":"EL1"},{"$f":"K41","v":14690.001597391414},{"$f":"'Efficiency Levels'!K34","v":16422.181446291499}]
[null,null,{"$f":"'Efficiency Levels'!C37","v":"EL4"},3.7289431772531758,{"$f":"'Efficiency Levels'!D37","v":3.7289431772531758},null,null,null,{"$f":"'Efficiency Levels'!J35","v":"EL2"},{"$f":"K41","v":14690.001597391414},{"$f":"'Efficiency Levels'!K35","v":14690.001597391414}]
[null,null,{"$f":"'Efficiency Levels'!C38","v":"EL5"},1.9887696945350712,{"$f":"'Efficiency Levels'!D38","v":1.9887696945350712},null,null,null,{"$f":"'Efficiency Levels'!J36","v":"EL3"},13937.940334327146,{"$f":"'Efficiency Levels'!K36","v":13937.940334327146}]
[null,null,{"$f":"'Efficiency Levels'!C39","v":"EL6"},1.9887696945350712,{"$f":"'Efficiency Levels'!D39","v":1.9887696945350712},null,null,null,{"$f":"'Efficiency Levels'!J37","v":"EL4"},13481.883761194316,{"$f":"'Efficiency Levels'!K37","v":13481.883761194316}]
[null,null,null,"*See INFORMATION box at the top of this tab.",null,null,null,null,{"$f":"'Efficiency Levels'!J38","v":"EL5"},11815.045318509072,{"$f":"'Efficiency Levels'!K38","v":11815.045318509072}]
[null,null,null,null,null,null,null,null,{"$f":"'Efficiency Levels'!J39","v":"EL6"},11500.354845162687,{"$f":"'Efficiency Levels'!K39","v":11500.354845162687}]
[null,null,null,null,null,null,null,null,{"$f":"'Efficiency Levels'!J40","v":"EL7"},{"$f":"K46","v":11078.185160244479},{"$f":"'Efficiency Levels'!K40","v":11078.185160244479}]
[null,null,null,null,null,null,null,null,null,"*See INFORMATION box at the top of this tab."]
[null,null,{"$f":"'Product Classes'!K13&\" - \"&OFFSET('Product Classes'!$F$10,MATCH('Product Classes'!K13,MODEL_PCS,0),0)","v":"FP.L - Floor Panel, Low Temperature"}]
[]
[null,null,null,"Annual Energy Consumption"]
[null,null,"Efficiency Level",null,null,null,null,null,{"$f":"'Product Classes'!K33","v":"DC.L.O.006"}]
[null,null,null,"kWh/year Calculated*","kWh/year"]
[null,null,{"$f":"'Efficiency Levels'!C51","v":"EL0"},{"$f":"D54+(E53-E54)","v":5.507325936882304},{"$f":"'Efficiency Levels'!D51","v":5.5262234155235497},null,null,null,null,"Annual Energy Consumption"]
[null,null,{"$f":"'Efficiency Levels'!C52","v":"EL1"},{"$f":"E55","v":4.8883624844662039},{"$f":"'Efficiency Levels'!D52","v":4.9072599631074496},null,null,null,"Efficiency Level"]
[null,null,{"$f":"'Efficiency Levels'!C53","v":"EL2"},{"$f":"E55","v":4.8883624844662039},{"$f":"'Efficiency Levels'!D53","v":4.8883624844662039},null,null,null,null,"kWh/year Calculated*","kWh/year"]
[null,null,{"$f":"'Efficiency Levels'!C54","v":"EL3"},{"$f":"E56","v":4.2773171739080285},{"$f":"'Efficiency Levels'!D54","v":4.2773171739080285},null,null,null,{"$f":"'Efficiency Levels'!J51","v":"EL0"},{"$f":"J57+(K56-K57)","v":10750.372353701267},{"$f":"'Efficiency Levels'!K51","v":13403.338585777399}]
[null,null,{"$f":"'Efficiency Levels'!C55","v":"EL4"},3.4218537391263673,{"$f":"'Efficiency Levels'!D55","v":3.4218537391263673},null,null,null,{"$f":"'Efficiency Levels'!J52","v":"EL1"},{"$f":"K58","v":7804.5000339605676},{"$f":"'Efficiency Levels'!K52","v":10457.466266036699}]
[null,null,{"$f":"'Efficiency Levels'!C56","v":"EL5"},2.8515447826052975,{"$f":"'Efficiency Levels'!D56","v":2.8515447826052975},null,null,null,{"$f":"'Efficiency Levels'!J53","v":"EL2"},{"$f":"K58","v":7804.5000339605676},{"$f":"'Efficiency Levels'!K53","v":7804.5000339605676}]
[null,null,{"$f":"'Efficiency Levels'!C57","v":"EL6"},1.5208238840562245,{"$f":"'Efficiency Levels'!D57","v":1.5208238840562245},null,null,null,{"$f":"'Efficiency Levels'!J54","v":"EL3"},6264.4192328489844,{"$f":"'Efficiency Levels'!K54","v":6264.4192328489844}]
[null,null,null,"*See INFORMATION box at the top of this tab.",null,null,null,null,{"$f":"'Efficiency Levels'!J55","v":"EL4"},5563.7474187691823,{"$f":"'Efficiency Levels'!K55","v":5563.7474187691823}]
[null,null,null,null,null,null,null,null,{"$f":"'Efficiency Levels'!J56","v":"EL5"},5411.8455069210331,{"$f":"'Efficiency Levels'!K56","v":5411.8455069210331}]
[null,null,null,null,null,null,null,null,{"$f":"'Efficiency Levels'!J57","v":"EL6"},5199.5704507769342,{"$f":"'Efficiency Levels'!K57","v":5199.5704507769342}]
[null,null,null,null,null,null,null,null,{"$f":"'Efficiency Levels'!J58","v":"EL7"},{"$f":"K63","v":4898.1956289453965},{"$f":"'Efficiency Levels'!K58","v":4898.1956289453965}]
[null,null,{"$f":"'Product Classes'!K14&\" - \"&OFFSET('Product Classes'!$F$10,MATCH('Product Classes'!K14,MODEL_PCS,0),0)","v":"PD.M - Passage Door, Medium Temperature"},null,null,null,null,null,null,"*See INFORMATION box at the top of this tab."]
[]
[null,null,null,"Annual Energy Consumption"]
[null,null,"Efficiency Level"]
[null,null,null,"kWh/year Calculated*","kWh/year",null,null,null,{"$f":"'Product Classes'!K34","v":"DC.L.O.009"}]
[null,null,{"$f":"'Efficiency Levels'!C69","v":"EL0*"},{"$f":"D70+(E69-E70)","v":1310.0352288887066},{"$f":"'Efficiency Levels'!D69","v":181.26152289108296}]
[null,null,{"$f":"'Efficiency Levels'!C70","v":"EL1*"},{"$f":"E71","v":1317.0370819714344},{"$f":"'Efficiency Levels'!D70","v":188.26337597381084},null,null,null,null,"Annual Energy Consumption"]
[null,null,{"$f":"'Efficiency Levels'!C71","v":"EL2"},{"$f":"E71","v":1317.0370819714344},{"$f":"'Efficiency Levels'!D71","v":1317.0370819714344},null,null,null,"Efficiency Level"]
[null,null,{"$f":"'Efficiency Levels'!C72","v":"EL3"},1305.3865204668714,{"$f":"'Efficiency Levels'!D72","v":1305.3865204668714},null,null,null,null,"kWh/year Calculated*","kWh/year"]
[null,null,{"$f":"'Efficiency Levels'!C73","v":"EL4"},1270.9123444041893,{"$f":"'Efficiency Levels'!D73","v":1270.9123444041893},null,null,null,{"$f":"'Efficiency Levels'!J69","v":"EL0"},{"$f":"J74+(K73-K74)","v":14193.266290486976},{"$f":"'Efficiency Levels'!K69","v":16967.807542487601}]
[null,null,{"$f":"'Efficiency Levels'!C74","v":"EL5"},1264.2829773881908,{"$f":"'Efficiency Levels'!D74","v":1264.2829773881908},null,null,null,{"$f":"'Efficiency Levels'!J70","v":"EL1"},{"$f":"K75","v":11146.089869654876},{"$f":"'Efficiency Levels'!K70","v":13920.6311216555}]
[null,null,{"$f":"'Efficiency Levels'!C75","v":"EL6"},1250.9022150986243,{"$f":"'Efficiency Levels'!D75","v":1250.9022150986243},null,null,null,{"$f":"'Efficiency Levels'!J71","v":"EL2"},{"$f":"K75","v":11146.089869654876},{"$f":"'Efficiency Levels'!K71","v":11146.089869654876}]
[null,null,{"$f":"'Efficiency Levels'!C76","v":"EL7"},1241.3363514033222,{"$f":"'Efficiency Levels'!D76","v":1241.3363514033222},null,null,null,{"$f":"'Efficiency Levels'!J72","v":"EL3"},9418.8701097652647,{"$f":"'Efficiency Levels'!K72","v":9418.8701097652647}]
[null,null,{"$f":"'Efficiency Levels'!C77","v":"EL8"},1234.961569747772,{"$f":"'Efficiency Levels'!D77","v":1234.961569747772},null,null,null,{"$f":"'Efficiency Levels'!J73","v":"EL4"},9042.1263745266406,{"$f":"'Efficiency Levels'!K73","v":9042.1263745266406}]
[null,null,{"$f":"'Efficiency Levels'!C78","v":"EL9"},1224.8553627321762,{"$f":"'Efficiency Levels'!D78","v":1224.8553627321762},null,null,null,{"$f":"'Efficiency Levels'!J74","v":"EL5"},8506.7995911730668,{"$f":"'Efficiency Levels'!K74","v":8506.7995911730668}]
[null,null,{"$f":"'Efficiency Levels'!C79","v":"EL10"},1206.8622633235746,{"$f":"'Efficiency Levels'!D79","v":1206.8622633235746},null,null,null,{"$f":"'Efficiency Levels'!J75","v":"EL6"},8019.0189141700539,{"$f":"'Efficiency Levels'!K75","v":8019.0189141700539}]
[null,null,{"$f":"'Efficiency Levels'!C80","v":"EL11"},{"$f":"E80","v":1192.7236470912158},{"$f":"'Efficiency Levels'!D80","v":1192.7236470912158},null,null,null,{"$f":"'Efficiency Levels'!J76","v":"EL7"},7672.8304578090329,{"$f":"'Efficiency Levels'!K76","v":7672.8304578090329}]
[null,null,null,"*See INFORMATION box at the top of this tab.",null,null,null,null,{"$f":"'Efficiency Levels'!J77","v":"EL8"},7627.95191524027,{"$f":"'Efficiency Levels'!K77","v":7627.95191524027}]
[null,null,null,null,null,null,null,null,{"$f":"'Efficiency Levels'!J78","v":"EL9"},7511.2173985853615,{"$f":"'Efficiency Levels'!K78","v":7511.2173985853615}]
[null,null,null,null,null,null,null,null,{"$f":"'Efficiency Levels'!J79","v":"EL10"},7068.1565700929896,{"$f":"'Efficiency Levels'!K79","v":7068.1565700929896}]
[null,null,null,null,null,null,null,null,{"$f":"'Efficiency Levels'!J80","v":"EL11"},{"$f":"K84","v":7032.3065391570626},{"$f":"'Efficiency Levels'!K80","v":7032.3065391570626}]
[null,null,{"$f":"'Product Classes'!K15&\" - \"&OFFSET('Product Classes'!$F$10,MATCH('Product Classes'!K15,MODEL_PCS,0),0)","v":"PD.L - Passage Door, Low Temperature"},null,null,null,null,null,null,"*See INFORMATION box at the top of this tab."]
[]
[null,null,null,"Annual Energy Consumption"]
[null,null,"Efficiency Level"]
[null,null,null,"kWh/year Calculated*","kWh/year",null,null,null,{"$f":"'Product Classes'!K37","v":"DC.M.I.006"}]
[null,null,{"$f":"'Efficiency Levels'!C92","v":"EL0"},{"$f":"D91+(E90-E91)","v":3885.9777215002023},{"$f":"'Efficiency Levels'!D92","v":2862.9560875766201}]
[null,null,{"$f":"'Efficiency Levels'!C93","v":"EL1"},{"$f":"E92","v":4937.601718010962},{"$f":"'Efficiency Levels'!D93","v":3914.5800840873799},null,null,null,null,"Annual Energy Consumption"]
[null,null,{"$f":"'Efficiency Levels'!C94","v":"EL2"},{"$f":"E92","v":4937.601718010962},{"$f":"'Efficiency Levels'!D94","v":4937.601718010962},null,null,null,"Efficiency Level"]
[null,null,{"$f":"'Efficiency Levels'!C95","v":"EL3"},4666.5193857798513,{"$f":"'Efficiency Levels'!D95","v":4666.5193857798513},null,null,null,null,"kWh/year Calculated*","kWh/year"]
[null,null,{"$f":"'Efficiency Levels'!C96","v":"EL4"},4511.0196055818078,{"$f":"'Efficiency Levels'!D96","v":4511.0196055818078},null,null,null,{"$f":"'Efficiency Levels'!J92","v":"EL0"},{"$f":"J95+(K94-K95)","v":7138.497678245506},{"$f":"'Efficiency Levels'!K92","v":8287.0672367631196}]
[null,null,{"$f":"'Efficiency Levels'!C97","v":"EL5"},4345.4342419078275,{"$f":"'Efficiency Levels'!D97","v":4345.4342419078275},null,null,null,{"$f":"'Efficiency Levels'!J93","v":"EL1"},{"$f":"K96","v":5376.8849976899564},{"$f":"'Efficiency Levels'!K93","v":6525.45455620757}]
[null,null,{"$f":"'Efficiency Levels'!C98","v":"EL6"},4297.1082629679431,{"$f":"'Efficiency Levels'!D98","v":4297.1082629679431},null,null,null,{"$f":"'Efficiency Levels'!J94","v":"EL2"},{"$f":"K96","v":5376.8849976899564},{"$f":"'Efficiency Levels'!K94","v":5376.8849976899564}]
[null,null,{"$f":"'Efficiency Levels'!C99","v":"EL7"},4215.9544740666424,{"$f":"'Efficiency Levels'!D99","v":4215.9544740666424},null,null,null,{"$f":"'Efficiency Levels'!J95","v":"EL3"},5247.162239130641,{"$f":"'Efficiency Levels'!K95","v":5247.162239130641}]
[null,null,{"$f":"'Efficiency Levels'!C100","v":"EL8"},4183.3699854610513,{"$f":"'Efficiency Levels'!D100","v":4183.3699854610513},null,null,null,{"$f":"'Efficiency Levels'!J96","v":"EL4"},4423.2741631402414,{"$f":"'Efficiency Levels'!K96","v":4423.2741631402414}]
[null,null,{"$f":"'Efficiency Levels'!C101","v":"EL9"},4140.7799259064495,{"$f":"'Efficiency Levels'!D101","v":4140.7799259064495},null,null,null,{"$f":"'Efficiency Levels'!J97","v":"EL5"},4273.9276984472981,{"$f":"'Efficiency Levels'!K97","v":4273.9276984472981}]
[null,null,{"$f":"'Efficiency Levels'!C102","v":"EL10"},{"$f":"E100","v":4099.2791203001507},{"$f":"'Efficiency Levels'!D102","v":4099.2791203001507},null,null,null,{"$f":"'Efficiency Levels'!J98","v":"EL6"},4158.139275379408,{"$f":"'Efficiency Levels'!K98","v":4158.139275379408}]
[null,null,null,"*See INFORMATION box at the top of this tab.",null,null,null,null,{"$f":"'Efficiency Levels'!J99","v":"EL7"},3483.8696528465771,{"$f":"'Efficiency Levels'!K99","v":3483.8696528465771}]
[null,null,null,null,null,null,null,null,{"$f":"'Efficiency Levels'!J100","v":"EL8"},{"$f":"K102","v":3348.3567207732299},{"$f":"'Efficiency Levels'!K100","v":3348.3567207732299}]
[null,null,null,null,null,null,null,null,null,"*See INFORMATION box at the top of this tab."]
[]
[null,null,{"$f":"'Product Classes'!K16&\" - \"&OFFSET('Product Classes'!$F$10,MATCH('Product Classes'!K16,MODEL_PCS,0),0)","v":"FD.M - Freight Door, Medium Temperature"}]
[]
[null,null,null,"Annual Energy Consumption",null,null,null,null,{"$f":"'Product Classes'!K38","v":"DC.M.I.018"}]
[null,null,"Efficiency Level"]
[null,null,null,"kWh/year Calculated*","kWh/year",null,null,null,null,"Annual Energy Consumption"]
[null,null,{"$f":"'Efficiency Levels'!C113","v":"EL0*"},{"$f":"D111+(E110-E111)","v":1996.6150199811589},{"$f":"'Efficiency Levels'!D113","v":195.94022937686199},null,null,null,"Efficiency Level"]
[null,null,{"$f":"'Efficiency Levels'!C114","v":"EL1*"},{"$f":"E112","v":2006.2402820280488},{"$f":"'Efficiency Levels'!D114","v":205.56549142375201},null,null,null,null,"kWh/year Calculated*","kWh/year"]
[null,null,{"$f":"'Efficiency Levels'!C115","v":"EL2"},{"$f":"E112","v":2006.2402820280488},{"$f":"'Efficiency Levels'!D115","v":2006.2402820280488},null,null,null,{"$f":"'Efficiency Levels'!J113","v":"EL0"},{"$f":"J113+(K112-K113)","v":21145.41071895331},{"$f":"'Efficiency Levels'!K113","v":21166.4581895019}]
[null,null,{"$f":"'Efficiency Levels'!C116","v":"EL3"},1966.7443071859993,{"$f":"'Efficiency Levels'!D116","v":1966.7443071859993},null,null,null,{"$f":"'Efficiency Levels'!J114","v":"EL1"},{"$f":"K114","v":15160.463946731112},{"$f":"'Efficiency Levels'!K114","v":15181.5114172797}]
[null,null,{"$f":"'Efficiency Levels'!C117","v":"EL4"},1914.2423126716717,{"$f":"'Efficiency Levels'!D117","v":1914.2423126716717},null,null,null,{"$f":"'Efficiency Levels'!J115","v":"EL2"},{"$f":"K114","v":15160.463946731112},{"$f":"'Efficiency Levels'!K115","v":15160.463946731112}]
[null,null,{"$f":"'Efficiency Levels'!C118","v":"EL5"},1897.4366993407891,{"$f":"'Efficiency Levels'!D118","v":1897.4366993407891},null,null,null,{"$f":"'Efficiency Levels'!J116","v":"EL3"},13461.777600218718,{"$f":"'Efficiency Levels'!K116","v":13461.777600218718}]
[null,null,{"$f":"'Efficiency Levels'!C119","v":"EL6"},1876.1241110555127,{"$f":"'Efficiency Levels'!D119","v":1876.1241110555127},null,null,null,{"$f":"'Efficiency Levels'!J117","v":"EL4"},12896.327213101886,{"$f":"'Efficiency Levels'!K117","v":12896.327213101886}]
[null,null,{"$f":"'Efficiency Levels'!C120","v":"EL7"},1852.1979304733545,{"$f":"'Efficiency Levels'!D120","v":1852.1979304733545},null,null,null,{"$f":"'Efficiency Levels'!J118","v":"EL5"},12557.056980831894,{"$f":"'Efficiency Levels'!K118","v":12557.056980831894}]
[null,null,{"$f":"'Efficiency Levels'!C121","v":"EL8"},1836.0951528056928,{"$f":"'Efficiency Levels'!D121","v":1836.0951528056928},null,null,null,{"$f":"'Efficiency Levels'!J119","v":"EL6"},11414.207782501275,{"$f":"'Efficiency Levels'!K119","v":11414.207782501275}]
[null,null,{"$f":"'Efficiency Levels'!C122","v":"EL9"},1820.2874542664706,{"$f":"'Efficiency Levels'!D122","v":1820.2874542664706},null,null,null,{"$f":"'Efficiency Levels'!J120","v":"EL7"},11272.705477149391,{"$f":"'Efficiency Levels'!K120","v":11272.705477149391}]
[null,null,{"$f":"'Efficiency Levels'!C123","v":"EL10"},1793.8138456372776,{"$f":"'Efficiency Levels'!D123","v":1793.8138456372776},null,null,null,{"$f":"'Efficiency Levels'!J121","v":"EL8"},{"$f":"K120","v":10487.294926769302},{"$f":"'Efficiency Levels'!K121","v":10487.294926769302}]
[null,null,{"$f":"'Efficiency Levels'!C124","v":"EL11"},{"$f":"E121","v":1757.0903179569655},{"$f":"'Efficiency Levels'!D124","v":1757.0903179569655},null,null,null,null,"*See INFORMATION box at the top of this tab."]
[null,null,null,"*See INFORMATION box at the top of this tab."]
[]
[]
[null,null,null,null,null,null,null,null,{"$f":"'Product Classes'!K41","v":"DC.M.O.006"}]
[null,null,{"$f":"'Product Classes'!K17&\" - \"&OFFSET('Product Classes'!$F$10,MATCH('Product Classes'!K17,MODEL_PCS,0),0)","v":"FD.L - Freight Door, Low Temperature"}]
[null,null,null,null,null,null,null,null,null,"Annual Energy Consumption"]
[null,null,null,"Annual Energy Consumption",null,null,null,null,"Efficiency Level"]
[null,null,"Efficiency Level",null,null,null,null,null,null,"kWh/year Calculated*","kWh/year"]
[null,null,null,"kWh/year Calculated*","kWh/year",null,null,null,{"$f":"'Efficiency Levels'!J136","v":"EL0"},{"$f":"J131+(K130-K131)","v":5482.9926772193703},{"$f":"'Efficiency Levels'!K136","v":6944.6726315879596}]
[null,null,{"$f":"'Efficiency Levels'!C136","v":"EL0"},{"$f":"D132+(E131-E132)","v":6201.4479397470304},{"$f":"'Efficiency Levels'!D136","v":4477.06534889674},null,null,null,{"$f":"'Efficiency Levels'!J137","v":"EL1"},{"$f":"K132","v":3910.5754070216203},{"$f":"'Efficiency Levels'!K137","v":5372.2553613902101}]
[null,null,{"$f":"'Efficiency Levels'!C137","v":"EL1"},{"$f":"E133","v":7768.5588338511307},{"$f":"'Efficiency Levels'!D137","v":6044.1762430008403},null,null,null,{"$f":"'Efficiency Levels'!J138","v":"EL2"},{"$f":"K132","v":3910.5754070216203},{"$f":"'Efficiency Levels'!K138","v":3910.5754070216203}]
[null,null,{"$f":"'Efficiency Levels'!C138","v":"EL2"},{"$f":"E133","v":7768.5588338511307},{"$f":"'Efficiency Levels'!D138","v":7768.5588338511307},null,null,null,{"$f":"'Efficiency Levels'!J139","v":"EL3"},3259.5849555312366,{"$f":"'Efficiency Levels'!K139","v":3259.5849555312366}]
[null,null,{"$f":"'Efficiency Levels'!C139","v":"EL3"},7356.4720262820674,{"$f":"'Efficiency Levels'!D139","v":7356.4720262820674},null,null,null,{"$f":"'Efficiency Levels'!J140","v":"EL4"},3079.6937668717978,{"$f":"'Efficiency Levels'!K140","v":3079.6937668717978}]
[null,null,{"$f":"'Efficiency Levels'!C140","v":"EL4"},7120.4847706009432,{"$f":"'Efficiency Levels'!D140","v":7120.4847706009432},null,null,null,{"$f":"'Efficiency Levels'!J141","v":"EL5"},2953.7506924033291,{"$f":"'Efficiency Levels'!K141","v":2953.7506924033291}]
[null,null,{"$f":"'Efficiency Levels'!C141","v":"EL5"},6873.7059283035323,{"$f":"'Efficiency Levels'!D141","v":6873.7059283035323},null,null,null,{"$f":"'Efficiency Levels'!J142","v":"EL6"},2527.184121821188,{"$f":"'Efficiency Levels'!K142","v":2527.184121821188}]
[null,null,{"$f":"'Efficiency Levels'!C142","v":"EL6"},6751.9336162241725,{"$f":"'Efficiency Levels'!D142","v":6751.9336162241725},null,null,null,{"$f":"'Efficiency Levels'!J143","v":"EL7"},2395.8201735145235,{"$f":"'Efficiency Levels'!K143","v":2395.8201735145235}]
[null,null,{"$f":"'Efficiency Levels'!C143","v":"EL7"},6636.5245188924782,{"$f":"'Efficiency Levels'!D143","v":6636.5245188924782},null,null,null,{"$f":"'Efficiency Levels'!J144","v":"EL8"},2313.5536125124772,{"$f":"'Efficiency Levels'!K144","v":2313.5536125124772}]
[null,null,{"$f":"'Efficiency Levels'!C144","v":"EL8"},6554.4765278792502,{"$f":"'Efficiency Levels'!D144","v":6554.4765278792502},null,null,null,{"$f":"'Efficiency Levels'!J145","v":"EL9"},{"$f":"K139","v":2255.8373698587443},{"$f":"'Efficiency Levels'!K145","v":2255.8373698587443}]
[null,null,{"$f":"'Efficiency Levels'!C145","v":"EL9"},6490.4972750778898,{"$f":"'Efficiency Levels'!D145","v":6490.4972750778898},null,null,null,null,"*See INFORMATION box at the top of this tab."]
[null,null,{"$f":"'Efficiency Levels'!C146","v":"EL10"},{"$f":"E141","v":6349.8231836124633},{"$f":"'Efficiency Levels'!D146","v":6349.8231836124633}]
[null,null,null,"*See INFORMATION box at the top of this tab."]
[]
[null,null,null,null,null,null,null,null,{"$f":"'Product Classes'!K42","v":"DC.M.O.018"}]
[]
[null,null,{"$f":"'Product Classes'!K18&\" - \"&OFFSET('Product Classes'!$F$10,MATCH('Product Classes'!K18,MODEL_PCS,0),0)","v":"DD.M - Display Door, Medium Temperature"},null,null,null,null,null,null,"Annual Energy Consumption"]
[null,null,null,null,null,null,null,null,"Efficiency Level"]
[null,null,null,"Annual Energy Consumption",null,null,null,null,null,"kWh/year Calculated*","kWh/year"]
[null,null,"Efficiency Level",null,null,null,null,null,{"$f":"'Efficiency Levels'!J157","v":"EL0"},{"$f":"J150+(K149-K150)","v":15999.545884725268},{"$f":"'Efficiency Levels'!K157","v":17789.501762618002}]
[null,null,null,"kWh/year Calculated*","kWh/year",null,null,null,{"$f":"'Efficiency Levels'!J158","v":"EL1"},{"$f":"K151","v":10464.565870606368},{"$f":"'Efficiency Levels'!K158","v":12254.521748499101}]
[null,null,{"$f":"'Efficiency Levels'!C157","v":"EL0"},{"$f":"D152+(E151-E152)","v":2406.5977076116083},{"$f":"'Efficiency Levels'!D157","v":1619.51799300571},null,null,null,{"$f":"'Efficiency Levels'!J159","v":"EL2"},{"$f":"K151","v":10464.565870606368},{"$f":"'Efficiency Levels'!K159","v":10464.565870606368}]
[null,null,{"$f":"'Efficiency Levels'!C158","v":"EL1"},{"$f":"E153","v":1413.7193812727664},{"$f":"'Efficiency Levels'!D158","v":626.63966666686804},null,null,null,{"$f":"'Efficiency Levels'!J160","v":"EL3"},8866.7233661116952,{"$f":"'Efficiency Levels'!K160","v":8866.7233661116952}]
[null,null,{"$f":"'Efficiency Levels'!C159","v":"EL2"},{"$f":"E153","v":1413.7193812727664},{"$f":"'Efficiency Levels'!D159","v":1413.7193812727664},null,null,null,{"$f":"'Efficiency Levels'!J161","v":"EL4"},8127.2247079940107,{"$f":"'Efficiency Levels'!K161","v":8127.2247079940107}]
[null,null,{"$f":"'Efficiency Levels'!C160","v":"EL3"},1043.5018849781932,{"$f":"'Efficiency Levels'!D160","v":1043.5018849781932},null,null,null,{"$f":"'Efficiency Levels'!J162","v":"EL5"},7428.1549996186704,{"$f":"'Efficiency Levels'!K162","v":7428.1549996186704}]
[null,null,{"$f":"'Efficiency Levels'!C161","v":"EL4"},557.7457795339709,{"$f":"'Efficiency Levels'!D161","v":557.7457795339709},null,null,null,{"$f":"'Efficiency Levels'!J163","v":"EL6"},7136.7638121428772,{"$f":"'Efficiency Levels'!K163","v":7136.7638121428772}]
[null,null,{"$f":"'Efficiency Levels'!C162","v":"EL5"},466.15153728551064,{"$f":"'Efficiency Levels'!D162","v":466.15153728551064},null,null,null,{"$f":"'Efficiency Levels'!J164","v":"EL7"},{"$f":"K156","v":5878.3429063160538},{"$f":"'Efficiency Levels'!K164","v":5878.3429063160538}]
[null,null,{"$f":"'Efficiency Levels'!C163","v":"EL6"},387.52246612348893,{"$f":"'Efficiency Levels'!D163","v":387.52246612348893},null,null,null,null,"*See INFORMATION box at the top of this tab."]
[null,null,{"$f":"'Efficiency Levels'!C164","v":"EL7"},320.22204720691883,{"$f":"'Efficiency Levels'!D164","v":320.22204720691883}]
[null,null,{"$f":"'Efficiency Levels'!C165","v":"EL8"},{"$f":"E159","v":192.72273591592901},{"$f":"'Efficiency Levels'!D165","v":192.72273591592901}]
[null,null,null,"*See INFORMATION box at the top of this tab."]
[null,null,null,null,null,null,null,null,{"$f":"'Product Classes'!K46","v":"MC.L.009"}]
[]
[null,null,null,null,null,null,null,null,null,"Annual Energy Consumption"]
[null,null,{"$f":"'Product Classes'!K19&\" - \"&OFFSET('Product Classes'!$F$10,MATCH('Product Classes'!K19,MODEL_PCS,0),0)","v":"DD.L - Display Door, Low Temperature"},null,null,null,null,null,"Efficiency Level"]
[null,null,null,null,null,null,null,null,null,"kWh/year Calculated*","kWh/year"]
[null,null,null,"Annual Energy Consumption",null,null,null,null,{"$f":"'Efficiency Levels'!J176","v":"EL0"},{"$f":"J167+(K166-K167)","v":11296.859463189952},{"$f":"'Efficiency Levels'!K176","v":11654.313904648337}]
[null,null,"Efficiency Level",null,null,null,null,null,{"$f":"'Efficiency Levels'!J177","v":"EL1"},{"$f":"K168","v":8849.6382214385249},{"$f":"'Efficiency Levels'!K177","v":9207.09266289691}]
[null,null,null,"kWh/year Calculated*","kWh/year",null,null,null,{"$f":"'Efficiency Levels'!J178","v":"EL2"},{"$f":"K168","v":8849.6382214385249},{"$f":"'Efficiency Levels'!K178","v":8849.6382214385249}]
[null,null,{"$f":"'Efficiency Levels'!C176","v":"EL0"},{"$f":"D170+(E169-E170)","v":5995.5300332911738},{"$f":"'Efficiency Levels'!D176","v":3912.2465808682696},null,null,null,{"$f":"'Efficiency Levels'!J179","v":"EL3"},8127.5341890783038,{"$f":"'Efficiency Levels'!K179","v":8127.5341890783038}]
[null,null,{"$f":"'Efficiency Levels'!C177","v":"EL1"},{"$f":"E171","v":3996.9665605456298},{"$f":"'Efficiency Levels'!D177","v":1913.6831081227256},null,null,null,{"$f":"'Efficiency Levels'!J180","v":"EL4"},{"$f":"K170","v":7933.8497192797377},{"$f":"'Efficiency Levels'!K180","v":7933.8497192797377}]
[null,null,{"$f":"'Efficiency Levels'!C178","v":"EL2"},{"$f":"E171","v":3996.9665605456298},{"$f":"'Efficiency Levels'!D178","v":3996.9665605456298},null,null,null,null,"*See INFORMATION box at the top of this tab."]
[null,null,{"$f":"'Efficiency Levels'!C179","v":"EL3"},3449.0248110135117,{"$f":"'Efficiency Levels'!D179","v":3449.0248110135117}]
[null,null,{"$f":"'Efficiency Levels'!C180","v":"EL4"},3106.5833506060558,{"$f":"'Efficiency Levels'!D180","v":3106.5833506060558}]
[null,null,{"$f":"'Efficiency Levels'!C181","v":"EL5"},2054.7117868669638,{"$f":"'Efficiency Levels'!D181","v":2054.7117868669638}]
[null,null,{"$f":"'Efficiency Levels'!C182","v":"EL6"},1578.0265416574318,{"$f":"'Efficiency Levels'!D182","v":1578.0265416574318},null,null,null,{"$f":"'Product Classes'!K50","v":"MC.M.009"}]
[null,null,{"$f":"'Efficiency Levels'!C183","v":"EL7"},{"$f":"E176","v":1276.6799409743451},{"$f":"'Efficiency Levels'!D183","v":1276.6799409743451}]
[null,null,null,"*See INFORMATION box at the top of this tab.",null,null,null,null,null,"Annual Energy Consumption"]
[null,null,null,null,null,null,null,null,"Efficiency Level"]
[null,null,null,null,null,null,null,null,null,"kWh/year Calculated*","kWh/year"]
[null,null,null,null,null,null,null,null,{"$f":"'Efficiency Levels'!J194","v":"EL0"},{"$f":"J181+(K180-K181)","v":7373.8045433043499},{"$f":"'Efficiency Levels'!K194","v":7003.2231015335001}]
[null,null,null,null,null,null,null,null,{"$f":"'Efficiency Levels'!J195","v":"EL1"},{"$f":"K182","v":4912.0831321932301},{"$f":"'Efficiency Levels'!K195","v":4541.5016904223803}]
[null,null,null,null,null,null,null,null,{"$f":"'Efficiency Levels'!J196","v":"EL2"},{"$f":"K182","v":4912.0831321932301},{"$f":"'Efficiency Levels'!K196","v":4912.0831321932301}]
[null,null,null,null,null,null,null,null,{"$f":"'Efficiency Levels'!J197","v":"EL3"},4655.0983394921632,{"$f":"'Efficiency Levels'!K197","v":4655.0983394921632}]
[null,null,null,null,null,null,null,null,{"$f":"'Efficiency Levels'!J198","v":"EL4"},{"$f":"K184","v":4453.1836086431695},{"$f":"'Efficiency Levels'!K198","v":4453.1836086431695}]
[null,null,null,null,null,null,null,null,null,"*See INFORMATION box at the top of this tab."]

{"sheet":"UEC","index":13,"n_rows":59,"n_cols":48,"rows_kept":59,"cut":false,"hidden":false,"merged":[]}
[]
[null,null,"Weighted Annual UEC"]
[]
[null,null,"NAVIGATION"]
[]
[null,null,"COMMENTS"]
[]
[]
[null,null,"Market UEC (Shipment Weighted Average)"]
[null,null,null,1990,{"$f":"D10+1","v":1991},{"$f":"E10+1","v":1992},1993,1994,1995,1996,1997,1998,1999,2000,2001,2002,2003,2004,2005,2006,2007,2008,2009,2010,2011,2012,2013,2014,2015,2016,2017,2018,2019,2020,2021,2022,2023,2024,2025,2026,2027,2028,2029,2030,2031,2032,2033,2034]
[null,null,"PRE-Case UEC",{"$f":"D39+D52","v":13596.669064757833},{"$f":"E39+E52","v":13596.669064757833},13596.669064757833,13596.669064757833,13596.669064757833,13596.669064757833,13596.669064757833,13596.669064757833,13596.669064757833,13596.669064757833,13596.669064757833,13596.669064757833,13596.669064757833,13596.669064757833,13596.669064757833,13596.669064757833,13596.669064757833,13596.669064757833,13596.669064757833,9678.7019749321935,9678.7019749321935,9678.7019749321953,9678.7019749321953,9678.7019749321953,9684.5415067448284,9690.1026784422356,9692.5493076477014,9693.3058789010047,9694.482139462556,9694.3221359205872,9694.4596343773192,9696.1627315223868,9700.0714938164692,9704.7229286894981,9708.600350369863,9711.1438951803466,9712.446976842708,9712.9157755845226,9713.2288096789325,9713.9259310786983,9715.5546509570377,9718.0389390095497,9720.8311689050588,9723.5104779689991,9725.4073884366135]
[null,null,"POST-Case UEC",{"$f":"D40+D53","v":13596.669064757833},{"$f":"E40+E53","v":13596.669064757833},13596.669064757833,13596.669064757833,13596.669064757833,13596.669064757833,13596.669064757833,13596.669064757833,13596.669064757833,13596.669064757833,13596.669064757833,13596.669064757833,13596.669064757833,13596.669064757833,13596.669064757833,13596.669064757833,13596.669064757833,13596.669064757833,13596.669064757833,9678.7019749321935,9678.7019749321935,9678.7019749321953,9678.7019749321953,9678.7019749321953,9684.5415067448284,9690.1026784422356,9692.5493076477014,6851.3517561231029,6854.375123535101,6853.6323160377324,6852.3278928776363,6853.5442899956306,6858.9513892630166,6866.434844199227,6873.7394248747823,6879.8857618256206,6883.894728309011,6885.5873476032866,6885.9279180884487,6886.3178045086497,6888.176619990275,6891.8496641807324,6896.7814745604146,6902.0714878259196,6906.4120471510851]
[]
[]
[null,null,"Installed UEC (Vintage Weighted Average) "]
[null,null,null,1990,{"$f":"D16+1","v":1991},{"$f":"E16+1","v":1992},1993,1994,1995,1996,1997,1998,1999,2000,2001,2002,2003,2004,2005,2006,2007,2008,2009,2010,2011,2012,2013,2014,2015,2016,2017,2018,2019,2020,2021,2022,2023,2024,2025,2026,2027,2028,2029,2030,2031,2032,2033,2034]
[null,null,"PRE-Case UEC",{"$f":"D45+D58","v":13596.669064757833},{"$f":"E45+E58","v":13596.669064757833},13596.669064757833,13596.669064757833,13596.669064757833,13596.669064757833,13596.669064757833,13596.669064757833,13596.669064757833,13596.669064757833,13596.669064757833,{"$error":"#VALUE!"},{"$error":"#VALUE!"},{"$error":"#VALUE!"},{"$error":"#VALUE!"},{"$error":"#VALUE!"},{"$error":"#VALUE!"},{"$error":"#VALUE!"},{"$error":"#VALUE!"},{"$error":"#VALUE!"},{"$error":"#VALUE!"},{"$error":"#VALUE!"},{"$error":"#VALUE!"},{"$error":"#VALUE!"},{"$error":"#VALUE!"},{"$error":"#VALUE!"},{"$error":"#VALUE!"},{"$error":"#VALUE!"},{"$error":"#VALUE!"},{"$error":"#VALUE!"},{"$error":"#VALUE!"},{"$error":"#VALUE!"},{"$error":"#VALUE!"},{"$error":"#VALUE!"},{"$error":"#VALUE!"},{"$error":"#VALUE!"},{"$error":"#VALUE!"},{"$error":"#VALUE!"},{"$error":"#VALUE!"},{"$error":"#VALUE!"},{"$error":"#VALUE!"},{"$error":"#VALUE!"},{"$error":"#VALUE!"},{"$error":"#VALUE!"},{"$error":"#VALUE!"}]
[null,null,"POST-Case UEC",{"$f":"D46+D59","v":13596.669064757833},{"$f":"E46+E59","v":13596.669064757833},13596.669064757833,13596.669064757833,13596.669064757833,13596.669064757833,13596.669064757833,13596.669064757833,13596.669064757833,13596.669064757833,{"$error":"#VALUE!"},{"$error":"#VALUE!"},{"$error":"#VALUE!"},{"$error":"#VALUE!"},{"$error":"#VALUE!"},{"$error":"#VALUE!"},{"$error":"#VALUE!"},{"$error":"#VALUE!"},{"$error":"#VALUE!"},{"$error":"#VALUE!"},{"$error":"#VALUE!"},{"$error":"#VALUE!"},{"$error":"#VALUE!"},{"$error":"#VALUE!"},{"$error":"#VALUE!"},{"$error":"#VALUE!"},{"$error":"#VALUE!"},{"$error":"#VALUE!"},{"$error":"#VALUE!"},{"$error":"#VALUE!"},{"$error":"#VALUE!"},{"$error":"#VALUE!"},{"$error":"#VALUE!"},{"$error":"#VALUE!"},{"$error":"#VALUE!"},{"$error":"#VALUE!"},{"$error":"#VALUE!"},{"$error":"#VALUE!"},{"$error":"#VALUE!"},{"$error":"#VALUE!"},{"$error":"#VALUE!"},{"$error":"#VALUE!"},{"$error":"#VALUE!"},{"$error":"#VALUE!"},{"$error":"#VALUE!"}]
[]
[]
[]
[]
[]
[]
[]
[]
[]
[]
[]
[]
[]
[]
[]
[]
[]
[null,null,"COMPONENTS"]
[null,null,"Market UEC (Shipment Weighted Average)"]
[null,null,null,1990,{"$f":"D38+1","v":1991},{"$f":"E38+1","v":1992},{"$f":"F38+1","v":1993},{"$f":"G38+1","v":1994},{"$f":"H38+1","v":1995},{"$f":"I38+1","v":1996},{"$f":"J38+1","v":1997},{"$f":"K38+1","v":1998},{"$f":"L38+1","v":1999},{"$f":"M38+1","v":2000},{"$f":"N38+1","v":2001},{"$f":"O38+1","v":2002},{"$f":"P38+1","v":2003},{"$f":"Q38+1","v":2004},{"$f":"R38+1","v":2005},{"$f":"S38+1","v":2006},{"$f":"T38+1","v":2007},{"$f":"U38+1","v":2008},{"$f":"V38+1","v":2009},{"$f":"W38+1","v":2010},{"$f":"X38+1","v":2011},{"$f":"Y38+1","v":2012},{"$f":"Z38+1","v":2013},{"$f":"AA38+1","v":2014},{"$f":"AB38+1","v":2015},{"$f":"AC38+1","v":2016},{"$f":"AD38+1","v":2017},{"$f":"AE38+1","v":2018},{"$f":"AF38+1","v":2019},{"$f":"AG38+1","v":2020},{"$f":"AH38+1","v":2021},{"$f":"AI38+1","v":2022},{"$f":"AJ38+1","v":2023},{"$f":"AK38+1","v":2024},{"$f":"AL38+1","v":2025},{"$f":"AM38+1","v":2026},{"$f":"AN38+1","v":2027},{"$f":"AO38+1","v":2028},{"$f":"AP38+1","v":2029},{"$f":"AQ38+1","v":2030},{"$f":"AR38+1","v":2031},{"$f":"AS38+1","v":2032},{"$f":"AT38+1","v":2033},{"$f":"AU38+1","v":2034}]
[null,null,"PRE-Case UEC",{"$f":"'Product Class Dist'!D$12*SUMPRODUCT('Efficiency Dist'!H13:H19,'UEC Development'!$D$21:$D$27)+'Product Class Dist'!D$13*SUMPRODUCT('Efficiency Dist'!H42:H48,'UEC Development'!$D$37:$D$43)+'Product Class Dist'!D$14*SUMPRODUCT('Efficiency Dist'!H71:H77,'UEC Development'!$D$53:$D$59)+'Product Class Dist'!D$15*SUMPRODUCT('Efficiency Dist'!H100:H111,'UEC Development'!$D$69:$D$80)+'Product Class Dist'!D$16*SUMPRODUCT('Efficiency Dist'!H139:H149,'UEC Development'!$D$90:$D$100)+'Product Class Dist'!D$17*SUMPRODUCT('Efficiency Dist'!H176:H187,'UEC Development'!$D$110:$D$121)+'Product Class Dist'!D$18*SUMPRODUCT('Efficiency Dist'!H215:H225,'UEC Development'!$D$131:$D$141)+'Product Class Dist'!D$19*SUMPRODUCT('Efficiency Dist'!H252:H260,'UEC Development'!$D$151:$D$159)+'Product Class Dist'!D$20*SUMPRODUCT('Efficiency Dist'!H285:H292,'UEC Development'!$D$169:$D$176)","v":2416.7190282158467},{"$f":"'Product Class Dist'!E$12*SUMPRODUCT('Efficiency Dist'!I13:I19,'UEC Development'!$D$21:$D$27)+'Product Class Dist'!E$13*SUMPRODUCT('Efficiency Dist'!I42:I48,'UEC Development'!$D$37:$D$43)+'Product Class Dist'!E$14*SUMPRODUCT('Efficiency Dist'!I71:I77,'UEC Development'!$D$53:$D$59)+'Product Class Dist'!E$15*SUMPRODUCT('Efficiency Dist'!I100:I111,'UEC Development'!$D$69:$D$80)+'Product Class Dist'!E$16*SUMPRODUCT('Efficiency Dist'!I139:I149,'UEC Development'!$D$90:$D$100)+'Product Class Dist'!E$17*SUMPRODUCT('Efficiency Dist'!I176:I187,'UEC Development'!$D$110:$D$121)+'Product Class Dist'!E$18*SUMPRODUCT('Efficiency Dist'!I215:I225,'UEC Development'!$D$131:$D$141)+'Product Class Dist'!E$19*SUMPRODUCT('Efficiency Dist'!I252:I260,'UEC Development'!$D$151:$D$159)+'Product Class Dist'!E$20*SUMPRODUCT('Efficiency Dist'!I285:I292,'UEC Development'!$D$169:$D$176)","v":2416.7190282158467},{"$f":"'Product Class Dist'!F$12*SUMPRODUCT('Efficiency Dist'!J13:J19,'UEC Development'!$D$21:$D$27)+'Product Class Dist'!F$13*SUMPRODUCT('Efficiency Dist'!J42:J48,'UEC Development'!$D$37:$D$43)+'Product Class Dist'!F$14*SUMPRODUCT('Efficiency Dist'!J71:J77,'UEC Development'!$D$53:$D$59)+'Product Class Dist'!F$15*SUMPRODUCT('Efficiency Dist'!J100:J111,'UEC Development'!$D$69:$D$80)+'Product Class Dist'!F$16*SUMPRODUCT('Efficiency Dist'!J139:J149,'UEC Development'!$D$90:$D$100)+'Product Class Dist'!F$17*SUMPRODUCT('Efficiency Dist'!J176:J187,'UEC Development'!$D$110:$D$121)+'Product Class Dist'!F$18*SUMPRODUCT('Efficiency Dist'!J215:J225,'UEC Development'!$D$131:$D$141)+'Product Class Dist'!F$19*SUMPRODUCT('Efficiency Dist'!J252:J260,'UEC Development'!$D$151:$D$159)+'Product Class Dist'!F$20*SUMPRODUCT('Efficiency Dist'!J285:J292,'UEC Development'!$D$169:$D$176)","v":2416.7190282158467},{"$f":"'Product Class Dist'!G$12*SUMPRODUCT('Efficiency Dist'!K13:K19,'UEC Development'!$D$21:$D$27)+'Product Class Dist'!G$13*SUMPRODUCT('Efficiency Dist'!K42:K48,'UEC Development'!$D$37:$D$43)+'Product Class Dist'!G$14*SUMPRODUCT('Efficiency Dist'!K71:K77,'UEC Development'!$D$53:$D$59)+'Product Class Dist'!G$15*SUMPRODUCT('Efficiency Dist'!K100:K111,'UEC Development'!$D$69:$D$80)+'Product Class Dist'!G$16*SUMPRODUCT('Efficiency Dist'!K139:K149,'UEC Development'!$D$90:$D$100)+'Product Class Dist'!G$17*SUMPRODUCT('Efficiency Dist'!K176:K187,'UEC Development'!$D$110:$D$121)+'Product Class Dist'!G$18*SUMPRODUCT('Efficiency Dist'!K215:K225,'UEC Development'!$D$131:$D$141)+'Product Class Dist'!G$19*SUMPRODUCT('Efficiency Dist'!K252:K260,'UEC Development'!$D$151:$D$159)+'Product Class Dist'!G$20*SUMPRODUCT('Efficiency Dist'!K285:K292,'UEC Development'!$D$169:$D$176)","v":2416.7190282158467},{"$f":"'Product Class Dist'!H$12*SUMPRODUCT('Efficiency Dist'!L13:L19,'UEC Development'!$D$21:$D$27)+'Product Class Dist'!H$13*SUMPRODUCT('Efficiency Dist'!L42:L48,'UEC Development'!$D$37:$D$43)+'Product Class Dist'!H$14*SUMPRODUCT('Efficiency Dist'!L71:L77,'UEC Development'!$D$53:$D$59)+'Product Class Dist'!H$15*SUMPRODUCT('Efficiency Dist'!L100:L111,'UEC Development'!$D$69:$D$80)+'Product Class Dist'!H$16*SUMPRODUCT('Efficiency Dist'!L139:L149,'UEC Development'!$D$90:$D$100)+'Product Class Dist'!H$17*SUMPRODUCT('Efficiency Dist'!L176:L187,'UEC Development'!$D$110:$D$121)+'Product Class Dist'!H$18*SUMPRODUCT('Efficiency Dist'!L215:L225,'UEC Development'!$D$131:$D$141)+'Product Class Dist'!H$19*SUMPRODUCT('Efficiency Dist'!L252:L260,'UEC Development'!$D$151:$D$159)+'Product Class Dist'!H$20*SUMPRODUCT('Efficiency Dist'!L285:L292,'UEC Development'!$D$169:$D$176)","v":2416.7190282158467},{"$f":"'Product Class Dist'!I$12*SUMPRODUCT('Efficiency Dist'!M13:M19,'UEC Development'!$D$21:$D$27)+'Product Class Dist'!I$13*SUMPRODUCT('Efficiency Dist'!M42:M48,'UEC Development'!$D$37:$D$43)+'Product Class Dist'!I$14*SUMPRODUCT('Efficiency Dist'!M71:M77,'UEC Development'!$D$53:$D$59)+'Product Class Dist'!I$15*SUMPRODUCT('Efficiency Dist'!M100:M111,'UEC Development'!$D$69:$D$80)+'Product Class Dist'!I$16*SUMPRODUCT('Efficiency Dist'!M139:M149,'UEC Development'!$D$90:$D$100)+'Product Class Dist'!I$17*SUMPRODUCT('Efficiency Dist'!M176:M187,'UEC Development'!$D$110:$D$121)+'Product Class Dist'!I$18*SUMPRODUCT('Efficiency Dist'!M215:M225,'UEC Development'!$D$131:$D$141)+'Product Class Dist'!I$19*SUMPRODUCT('Efficiency Dist'!M252:M260,'UEC Development'!$D$151:$D$159)+'Product Class Dist'!I$20*SUMPRODUCT('Efficiency Dist'!M285:M292,'UEC Development'!$D$169:$D$176)","v":2416.7190282158467},{"$f":"'Product Class Dist'!J$12*SUMPRODUCT('Efficiency Dist'!N13:N19,'UEC Development'!$D$21:$D$27)+'Product Class Dist'!J$13*SUMPRODUCT('Efficiency Dist'!N42:N48,'UEC Development'!$D$37:$D$43)+'Product Class Dist'!J$14*SUMPRODUCT('Efficiency Dist'!N71:N77,'UEC Development'!$D$53:$D$59)+'Product Class Dist'!J$15*SUMPRODUCT('Efficiency Dist'!N100:N111,'UEC Development'!$D$69:$D$80)+'Product Class Dist'!J$16*SUMPRODUCT('Efficiency Dist'!N139:N149,'UEC Development'!$D$90:$D$100)+'Product Class Dist'!J$17*SUMPRODUCT('Efficiency Dist'!N176:N187,'UEC Development'!$D$110:$D$121)+'Product Class Dist'!J$18*SUMPRODUCT('Efficiency Dist'!N215:N225,'UEC Development'!$D$131:$D$141)+'Product Class Dist'!J$19*SUMPRODUCT('Efficiency Dist'!N252:N260,'UEC Development'!$D$151:$D$159)+'Product Class Dist'!J$20*SUMPRODUCT('Efficiency Dist'!N285:N292,'UEC Development'!$D$169:$D$176)","v":2416.7190282158467},{"$f":"'Product Class Dist'!K$12*SUMPRODUCT('Efficiency Dist'!O13:O19,'UEC Development'!$D$21:$D$27)+'Product Class Dist'!K$13*SUMPRODUCT('Efficiency Dist'!O42:O48,'UEC Development'!$D$37:$D$43)+'Product Class Dist'!K$14*SUMPRODUCT('Efficiency Dist'!O71:O77,'UEC Development'!$D$53:$D$59)+'Product Class Dist'!K$15*SUMPRODUCT('Efficiency Dist'!O100:O111,'UEC Development'!$D$69:$D$80)+'Product Class Dist'!K$16*SUMPRODUCT('Efficiency Dist'!O139:O149,'UEC Development'!$D$90:$D$100)+'Product Class Dist'!K$17*SUMPRODUCT('Efficiency Dist'!O176:O187,'UEC Development'!$D$110:$D$121)+'Product Class Dist'!K$18*SUMPRODUCT('Efficiency Dist'!O215:O225,'UEC Development'!$D$131:$D$141)+'Product Class Dist'!K$19*SUMPRODUCT('Efficiency Dist'!O252:O260,'UEC Development'!$D$151:$D$159)+'Product Class Dist'!K$20*SUMPRODUCT('Efficiency Dist'!O285:O292,'UEC Development'!$D$169:$D$176)","v":2416.7190282158467},{"$f":"'Product Class Dist'!L$12*SUMPRODUCT('Efficiency Dist'!P13:P19,'UEC Development'!$D$21:$D$27)+'Product Class Dist'!L$13*SUMPRODUCT('Efficiency Dist'!P42:P48,'UEC Development'!$D$37:$D$43)+'Product Class Dist'!L$14*SUMPRODUCT('Efficiency Dist'!P71:P77,'UEC Development'!$D$53:$D$59)+'Product Class Dist'!L$15*SUMPRODUCT('Efficiency Dist'!P100:P111,'UEC Development'!$D$69:$D$80)+'Product Class Dist'!L$16*SUMPRODUCT('Efficiency Dist'!P139:P149,'UEC Development'!$D$90:$D$100)+'Product Class Dist'!L$17*SUMPRODUCT('Efficiency Dist'!P176:P187,'UEC Development'!$D$110:$D$121)+'Product Class Dist'!L$18*SUMPRODUCT('Efficiency Dist'!P215:P225,'UEC Development'!$D$131:$D$141)+'Product Class Dist'!L$19*SUMPRODUCT('Efficiency Dist'!P252:P260,'UEC Development'!$D$151:$D$159)+'Product Class Dist'!L$20*SUMPRODUCT('Efficiency Dist'!P285:P292,'UEC Development'!$D$169:$D$176)","v":2416.7190282158467},{"$f":"'Product Class Dist'!M$12*SUMPRODUCT('Efficiency Dist'!Q13:Q19,'UEC Development'!$D$21:$D$27)+'Product Class Dist'!M$13*SUMPRODUCT('Efficiency Dist'!Q42:Q48,'UEC Development'!$D$37:$D$43)+'Product Class Dist'!M$14*SUMPRODUCT('Efficiency Dist'!Q71:Q77,'UEC Development'!$D$53:$D$59)+'Product Class Dist'!M$15*SUMPRODUCT('Efficiency Dist'!Q100:Q111,'UEC Development'!$D$69:$D$80)+'Product Class Dist'!M$16*SUMPRODUCT('Efficiency Dist'!Q139:Q149,'UEC Development'!$D$90:$D$100)+'Product Class Dist'!M$17*SUMPRODUCT('Efficiency Dist'!Q176:Q187,'UEC Development'!$D$110:$D$121)+'Product Class Dist'!M$18*SUMPRODUCT('Efficiency Dist'!Q215:Q225,'UEC Development'!$D$131:$D$141)+'Product Class Dist'!M$19*SUMPRODUCT('Efficiency Dist'!Q252:Q260,'UEC Development'!$D$151:$D$159)+'Product Class Dist'!M$20*SUMPRODUCT('Efficiency Dist'!Q285:Q292,'UEC Development'!$D$169:$D$176)","v":2416.7190282158467},{"$f":"'Product Class Dist'!N$12*SUMPRODUCT('Efficiency Dist'!R13:R19,'UEC Development'!$D$21:$D$27)+'Product Class Dist'!N$13*SUMPRODUCT('Efficiency Dist'!R42:R48,'UEC Development'!$D$37:$D$43)+'Product Class Dist'!N$14*SUMPRODUCT('Efficiency Dist'!R71:R77,'UEC Development'!$D$53:$D$59)+'Product Class Dist'!N$15*SUMPRODUCT('Efficiency Dist'!R100:R111,'UEC Development'!$D$69:$D$80)+'Product Class Dist'!N$16*SUMPRODUCT('Efficiency Dist'!R139:R149,'UEC Development'!$D$90:$D$100)+'Product Class Dist'!N$17*SUMPRODUCT('Efficiency Dist'!R176:R187,'UEC Development'!$D$110:$D$121)+'Product Class Dist'!N$18*SUMPRODUCT('Efficiency Dist'!R215:R225,'UEC Development'!$D$131:$D$141)+'Product Class Dist'!N$19*SUMPRODUCT('Efficiency Dist'!R252:R260,'UEC Development'!$D$151:$D$159)+'Product Class Dist'!N$20*SUMPRODUCT('Efficiency Dist'!R285:R292,'UEC Development'!$D$169:$D$176)","v":2416.7190282158467},{"$f":"'Product Class Dist'!O$12*SUMPRODUCT('Efficiency Dist'!S13:S19,'UEC Development'!$D$21:$D$27)+'Product Class Dist'!O$13*SUMPRODUCT('Efficiency Dist'!S42:S48,'UEC Development'!$D$37:$D$43)+'Product Class Dist'!O$14*SUMPRODUCT('Efficiency Dist'!S71:S77,'UEC Development'!$D$53:$D$59)+'Product Class Dist'!O$15*SUMPRODUCT('Efficiency Dist'!S100:S111,'UEC Development'!$D$69:$D$80)+'Product Class Dist'!O$16*SUMPRODUCT('Efficiency Dist'!S139:S149,'UEC Development'!$D$90:$D$100)+'Product Class Dist'!O$17*SUMPRODUCT('Efficiency Dist'!S176:S187,'UEC Development'!$D$110:$D$121)+'Product Class Dist'!O$18*SUMPRODUCT('Efficiency Dist'!S215:S225,'UEC Development'!$D$131:$D$141)+'Product Class Dist'!O$19*SUMPRODUCT('Efficiency Dist'!S252:S260,'UEC Development'!$D$151:$D$159)+'Product Class Dist'!O$20*SUMPRODUCT('Efficiency Dist'!S285:S292,'UEC Development'!$D$169:$D$176)","v":2416.7190282158467},{"$f":"'Product Class Dist'!P$12*SUMPRODUCT('Efficiency Dist'!T13:T19,'UEC Development'!$D$21:$D$27)+'Product Class Dist'!P$13*SUMPRODUCT('Efficiency Dist'!T42:T48,'UEC Development'!$D$37:$D$43)+'Product Class Dist'!P$14*SUMPRODUCT('Efficiency Dist'!T71:T77,'UEC Development'!$D$53:$D$59)+'Product Class Dist'!P$15*SUMPRODUCT('Efficiency Dist'!T100:T111,'UEC Development'!$D$69:$D$80)+'Product Class Dist'!P$16*SUMPRODUCT('Efficiency Dist'!T139:T149,'UEC Development'!$D$90:$D$100)+'Product Class Dist'!P$17*SUMPRODUCT('Efficiency Dist'!T176:T187,'UEC Development'!$D$110:$D$121)+'Product Class Dist'!P$18*SUMPRODUCT('Efficiency Dist'!T215:T225,'UEC Development'!$D$131:$D$141)+'Product Class Dist'!P$19*SUMPRODUCT('Efficiency Dist'!T252:T260,'UEC Development'!$D$151:$D$159)+'Product Class Dist'!P$20*SUMPRODUCT('Efficiency Dist'!T285:T292,'UEC Development'!$D$169:$D$176)","v":2416.7190282158467},{"$f":"'Product Class Dist'!Q$12*SUMPRODUCT('Efficiency Dist'!U13:U19,'UEC Development'!$D$21:$D$27)+'Product Class Dist'!Q$13*SUMPRODUCT('Efficiency Dist'!U42:U48,'UEC Development'!$D$37:$D$43)+'Product Class Dist'!Q$14*SUMPRODUCT('Efficiency Dist'!U71:U77,'UEC Development'!$D$53:$D$59)+'Product Class Dist'!Q$15*SUMPRODUCT('Efficiency Dist'!U100:U111,'UEC Development'!$D$69:$D$80)+'Product Class Dist'!Q$16*SUMPRODUCT('Efficiency Dist'!U139:U149,'UEC Development'!$D$90:$D$100)+'Product Class Dist'!Q$17*SUMPRODUCT('Efficiency Dist'!U176:U187,'UEC Development'!$D$110:$D$121)+'Product Class Dist'!Q$18*SUMPRODUCT('Efficiency Dist'!U215:U225,'UEC Development'!$D$131:$D$141)+'Product Class Dist'!Q$19*SUMPRODUCT('Efficiency Dist'!U252:U260,'UEC Development'!$D$151:$D$159)+'Product Class Dist'!Q$20*SUMPRODUCT('Efficiency Dist'!U285:U292,'UEC Development'!$D$169:$D$176)","v":2416.7190282158467},{"$f":"'Product Class Dist'!R$12*SUMPRODUCT('Efficiency Dist'!V13:V19,'UEC Development'!$D$21:$D$27)+'Product Class Dist'!R$13*SUMPRODUCT('Efficiency Dist'!V42:V48,'UEC Development'!$D$37:$D$43)+'Product Class Dist'!R$14*SUMPRODUCT('Efficiency Dist'!V71:V77,'UEC Development'!$D$53:$D$59)+'Product Class Dist'!R$15*SUMPRODUCT('Efficiency Dist'!V100:V111,'UEC Development'!$D$69:$D$80)+'Product Class Dist'!R$16*SUMPRODUCT('Efficiency Dist'!V139:V149,'UEC Development'!$D$90:$D$100)+'Product Class Dist'!R$17*SUMPRODUCT('Efficiency Dist'!V176:V187,'UEC Development'!$D$110:$D$121)+'Product Class Dist'!R$18*SUMPRODUCT('Efficiency Dist'!V215:V225,'UEC Development'!$D$131:$D$141)+'Product Class Dist'!R$19*SUMPRODUCT('Efficiency Dist'!V252:V260,'UEC Development'!$D$151:$D$159)+'Product Class Dist'!R$20*SUMPRODUCT('Efficiency Dist'!V285:V292,'UEC Development'!$D$169:$D$176)","v":2416.7190282158467},{"$f":"'Product Class Dist'!S$12*SUMPRODUCT('Efficiency Dist'!W13:W19,'UEC Development'!$D$21:$D$27)+'Product Class Dist'!S$13*SUMPRODUCT('Efficiency Dist'!W42:W48,'UEC Development'!$D$37:$D$43)+'Product Class Dist'!S$14*SUMPRODUCT('Efficiency Dist'!W71:W77,'UEC Development'!$D$53:$D$59)+'Product Class Dist'!S$15*SUMPRODUCT('Efficiency Dist'!W100:W111,'UEC Development'!$D$69:$D$80)+'Product Class Dist'!S$16*SUMPRODUCT('Efficiency Dist'!W139:W149,'UEC Development'!$D$90:$D$100)+'Product Class Dist'!S$17*SUMPRODUCT('Efficiency Dist'!W176:W187,'UEC Development'!$D$110:$D$121)+'Product Class Dist'!S$18*SUMPRODUCT('Efficiency Dist'!W215:W225,'UEC Development'!$D$131:$D$141)+'Product Class Dist'!S$19*SUMPRODUCT('Efficiency Dist'!W252:W260,'UEC Development'!$D$151:$D$159)+'Product Class Dist'!S$20*SUMPRODUCT('Efficiency Dist'!W285:W292,'UEC Development'!$D$169:$D$176)","v":2416.7190282158467},{"$f":"'Product Class Dist'!T$12*SUMPRODUCT('Efficiency Dist'!X13:X19,'UEC Development'!$D$21:$D$27)+'Product Class Dist'!T$13*SUMPRODUCT('Efficiency Dist'!X42:X48,'UEC Development'!$D$37:$D$43)+'Product Class Dist'!T$14*SUMPRODUCT('Efficiency Dist'!X71:X77,'UEC Development'!$D$53:$D$59)+'Product Class Dist'!T$15*SUMPRODUCT('Efficiency Dist'!X100:X111,'UEC Development'!$D$69:$D$80)+'Product Class Dist'!T$16*SUMPRODUCT('Efficiency Dist'!X139:X149,'UEC Development'!$D$90:$D$100)+'Product Class Dist'!T$17*SUMPRODUCT('Efficiency Dist'!X176:X187,'UEC Development'!$D$110:$D$121)+'Product Class Dist'!T$18*SUMPRODUCT('Efficiency Dist'!X215:X225,'UEC Development'!$D$131:$D$141)+'Product Class Dist'!T$19*SUMPRODUCT('Efficiency Dist'!X252:X260,'UEC Development'!$D$151:$D$159)+'Product Class Dist'!T$20*SUMPRODUCT('Efficiency Dist'!X285:X292,'UEC Development'!$D$169:$D$176)","v":2416.7190282158467},{"$f":"'Product Class Dist'!U$12*SUMPRODUCT('Efficiency Dist'!Y13:Y19,'UEC Development'!$D$21:$D$27)+'Product Class Dist'!U$13*SUMPRODUCT('Efficiency Dist'!Y42:Y48,'UEC Development'!$D$37:$D$43)+'Product Class Dist'!U$14*SUMPRODUCT('Efficiency Dist'!Y71:Y77,'UEC Development'!$D$53:$D$59)+'Product Class Dist'!U$15*SUMPRODUCT('Efficiency Dist'!Y100:Y111,'UEC Development'!$D$69:$D$80)+'Product Class Dist'!U$16*SUMPRODUCT('Efficiency Dist'!Y139:Y149,'UEC Development'!$D$90:$D$100)+'Product Class Dist'!U$17*SUMPRODUCT('Efficiency Dist'!Y176:Y187,'UEC Development'!$D$110:$D$121)+'Product Class Dist'!U$18*SUMPRODUCT('Efficiency Dist'!Y215:Y225,'UEC Development'!$D$131:$D$141)+'Product Class Dist'!U$19*SUMPRODUCT('Efficiency Dist'!Y252:Y260,'UEC Development'!$D$151:$D$159)+'Product Class Dist'!U$20*SUMPRODUCT('Efficiency Dist'!Y285:Y292,'UEC Development'!$D$169:$D$176)","v":2416.7190282158467},{"$f":"'Product Class Dist'!V$12*SUMPRODUCT('Efficiency Dist'!Z13:Z19,'UEC Development'!$D$21:$D$27)+'Product Class Dist'!V$13*SUMPRODUCT('Efficiency Dist'!Z42:Z48,'UEC Development'!$D$37:$D$43)+'Product Class Dist'!V$14*SUMPRODUCT('Efficiency Dist'!Z71:Z77,'UEC Development'!$D$53:$D$59)+'Product Class Dist'!V$15*SUMPRODUCT('Efficiency Dist'!Z100:Z111,'UEC Development'!$D$69:$D$80)+'Product Class Dist'!V$16*SUMPRODUCT('Efficiency Dist'!Z139:Z149,'UEC Development'!$D$90:$D$100)+'Product Class Dist'!V$17*SUMPRODUCT('Efficiency Dist'!Z176:Z187,'UEC Development'!$D$110:$D$121)+'Product Class Dist'!V$18*SUMPRODUCT('Efficiency Dist'!Z215:Z225,'UEC Development'!$D$131:$D$141)+'Product Class Dist'!V$19*SUMPRODUCT('Efficiency Dist'!Z252:Z260,'UEC Development'!$D$151:$D$159)+'Product Class Dist'!V$20*SUMPRODUCT('Efficiency Dist'!Z285:Z292,'UEC Development'!$D$169:$D$176)","v":2416.7190282158467},{"$f":"'Product Class Dist'!W$12*SUMPRODUCT('Efficiency Dist'!AA13:AA19,'UEC Development'!$D$21:$D$27)+'Product Class Dist'!W$13*SUMPRODUCT('Efficiency Dist'!AA42:AA48,'UEC Development'!$D$37:$D$43)+'Product Class Dist'!W$14*SUMPRODUCT('Efficiency Dist'!AA71:AA77,'UEC Development'!$D$53:$D$59)+'Product Class Dist'!W$15*SUMPRODUCT('Efficiency Dist'!AA100:AA111,'UEC Development'!$D$69:$D$80)+'Product Class Dist'!W$16*SUMPRODUCT('Efficiency Dist'!AA139:AA149,'UEC Development'!$D$90:$D$100)+'Product Class Dist'!W$17*SUMPRODUCT('Efficiency Dist'!AA176:AA187,'UEC Development'!$D$110:$D$121)+'Product Class Dist'!W$18*SUMPRODUCT('Efficiency Dist'!AA215:AA225,'UEC Development'!$D$131:$D$141)+'Product Class Dist'!W$19*SUMPRODUCT('Efficiency Dist'!AA252:AA260,'UEC Development'!$D$151:$D$159)+'Product Class Dist'!W$20*SUMPRODUCT('Efficiency Dist'!AA285:AA292,'UEC Development'!$D$169:$D$176)","v":2032.1654471322297},{"$f":"'Product Class Dist'!X$12*SUMPRODUCT('Efficiency Dist'!AB13:AB19,'UEC Development'!$D$21:$D$27)+'Product Class Dist'!X$13*SUMPRODUCT('Efficiency Dist'!AB42:AB48,'UEC Development'!$D$37:$D$43)+'Product Class Dist'!X$14*SUMPRODUCT('Efficiency Dist'!AB71:AB77,'UEC Development'!$D$53:$D$59)+'Product Class Dist'!X$15*SUMPRODUCT('Efficiency Dist'!AB100:AB111,'UEC Development'!$D$69:$D$80)+'Product Class Dist'!X$16*SUMPRODUCT('Efficiency Dist'!AB139:AB149,'UEC Development'!$D$90:$D$100)+'Product Class Dist'!X$17*SUMPRODUCT('Efficiency Dist'!AB176:AB187,'UEC Development'!$D$110:$D$121)+'Product Class Dist'!X$18*SUMPRODUCT('Efficiency Dist'!AB215:AB225,'UEC Development'!$D$131:$D$141)+'Product Class Dist'!X$19*SUMPRODUCT('Efficiency Dist'!AB252:AB260,'UEC Development'!$D$151:$D$159)+'Product Class Dist'!X$20*SUMPRODUCT('Efficiency Dist'!AB285:AB292,'UEC Development'!$D$169:$D$176)","v":2032.1654471322297},{"$f":"'Product Class Dist'!Y$12*SUMPRODUCT('Efficiency Dist'!AC13:AC19,'UEC Development'!$D$21:$D$27)+'Product Class Dist'!Y$13*SUMPRODUCT('Efficiency Dist'!AC42:AC48,'UEC Development'!$D$37:$D$43)+'Product Class Dist'!Y$14*SUMPRODUCT('Efficiency Dist'!AC71:AC77,'UEC Development'!$D$53:$D$59)+'Product Class Dist'!Y$15*SUMPRODUCT('Efficiency Dist'!AC100:AC111,'UEC Development'!$D$69:$D$80)+'Product Class Dist'!Y$16*SUMPRODUCT('Efficiency Dist'!AC139:AC149,'UEC Development'!$D$90:$D$100)+'Product Class Dist'!Y$17*SUMPRODUCT('Efficiency Dist'!AC176:AC187,'UEC Development'!$D$110:$D$121)+'Product Class Dist'!Y$18*SUMPRODUCT('Efficiency Dist'!AC215:AC225,'UEC Development'!$D$131:$D$141)+'Product Class Dist'!Y$19*SUMPRODUCT('Efficiency Dist'!AC252:AC260,'UEC Development'!$D$151:$D$159)+'Product Class Dist'!Y$20*SUMPRODUCT('Efficiency Dist'!AC285:AC292,'UEC Development'!$D$169:$D$176)","v":2032.1654471322299},{"$f":"'Product Class Dist'!Z$12*SUMPRODUCT('Efficiency Dist'!AD13:AD19,'UEC Development'!$D$21:$D$27)+'Product Class Dist'!Z$13*SUMPRODUCT('Efficiency Dist'!AD42:AD48,'UEC Development'!$D$37:$D$43)+'Product Class Dist'!Z$14*SUMPRODUCT('Efficiency Dist'!AD71:AD77,'UEC Development'!$D$53:$D$59)+'Product Class Dist'!Z$15*SUMPRODUCT('Efficiency Dist'!AD100:AD111,'UEC Development'!$D$69:$D$80)+'Product Class Dist'!Z$16*SUMPRODUCT('Efficiency Dist'!AD139:AD149,'UEC Development'!$D$90:$D$100)+'Product Class Dist'!Z$17*SUMPRODUCT('Efficiency Dist'!AD176:AD187,'UEC Development'!$D$110:$D$121)+'Product Class Dist'!Z$18*SUMPRODUCT('Efficiency Dist'!AD215:AD225,'UEC Development'!$D$131:$D$141)+'Product Class Dist'!Z$19*SUMPRODUCT('Efficiency Dist'!AD252:AD260,'UEC Development'!$D$151:$D$159)+'Product Class Dist'!Z$20*SUMPRODUCT('Efficiency Dist'!AD285:AD292,'UEC Development'!$D$169:$D$176)","v":2032.1654471322299},{"$f":"'Product Class Dist'!AA$12*SUMPRODUCT('Efficiency Dist'!AE13:AE19,'UEC Development'!$D$21:$D$27)+'Product Class Dist'!AA$13*SUMPRODUCT('Efficiency Dist'!AE42:AE48,'UEC Development'!$D$37:$D$43)+'Product Class Dist'!AA$14*SUMPRODUCT('Efficiency Dist'!AE71:AE77,'UEC Development'!$D$53:$D$59)+'Product Class Dist'!AA$15*SUMPRODUCT('Efficiency Dist'!AE100:AE111,'UEC Development'!$D$69:$D$80)+'Product Class Dist'!AA$16*SUMPRODUCT('Efficiency Dist'!AE139:AE149,'UEC Development'!$D$90:$D$100)+'Product Class Dist'!AA$17*SUMPRODUCT('Efficiency Dist'!AE176:AE187,'UEC Development'!$D$110:$D$121)+'Product Class Dist'!AA$18*SUMPRODUCT('Efficiency Dist'!AE215:AE225,'UEC Development'!$D$131:$D$141)+'Product Class Dist'!AA$19*SUMPRODUCT('Efficiency Dist'!AE252:AE260,'UEC Development'!$D$151:$D$159)+'Product Class Dist'!AA$20*SUMPRODUCT('Efficiency Dist'!AE285:AE292,'UEC Development'!$D$169:$D$176)","v":2032.1654471322299},{"$f":"'Product Class Dist'!AB$12*SUMPRODUCT('Efficiency Dist'!AF13:AF19,'UEC Development'!$D$21:$D$27)+'Product Class Dist'!AB$13*SUMPRODUCT('Efficiency Dist'!AF42:AF48,'UEC Development'!$D$37:$D$43)+'Product Class Dist'!AB$14*SUMPRODUCT('Efficiency Dist'!AF71:AF77,'UEC Development'!$D$53:$D$59)+'Product Class Dist'!AB$15*SUMPRODUCT('Efficiency Dist'!AF100:AF111,'UEC Development'!$D$69:$D$80)+'Product Class Dist'!AB$16*SUMPRODUCT('Efficiency Dist'!AF139:AF149,'UEC Development'!$D$90:$D$100)+'Product Class Dist'!AB$17*SUMPRODUCT('Efficiency Dist'!AF176:AF187,'UEC Development'!$D$110:$D$121)+'Product Class Dist'!AB$18*SUMPRODUCT('Efficiency Dist'!AF215:AF225,'UEC Development'!$D$131:$D$141)+'Product Class Dist'!AB$19*SUMPRODUCT('Efficiency Dist'!AF252:AF260,'UEC Development'!$D$151:$D$159)+'Product Class Dist'!AB$20*SUMPRODUCT('Efficiency Dist'!AF285:AF292,'UEC Development'!$D$169:$D$176)","v":2032.372798964966},{"$f":"'Product Class Dist'!AC$12*SUMPRODUCT('Efficiency Dist'!AG13:AG19,'UEC Development'!$D$21:$D$27)+'Product Class Dist'!AC$13*SUMPRODUCT('Efficiency Dist'!AG42:AG48,'UEC Development'!$D$37:$D$43)+'Product Class Dist'!AC$14*SUMPRODUCT('Efficiency Dist'!AG71:AG77,'UEC Development'!$D$53:$D$59)+'Product Class Dist'!AC$15*SUMPRODUCT('Efficiency Dist'!AG100:AG111,'UEC Development'!$D$69:$D$80)+'Product Class Dist'!AC$16*SUMPRODUCT('Efficiency Dist'!AG139:AG149,'UEC Development'!$D$90:$D$100)+'Product Class Dist'!AC$17*SUMPRODUCT('Efficiency Dist'!AG176:AG187,'UEC Development'!$D$110:$D$121)+'Product Class Dist'!AC$18*SUMPRODUCT('Efficiency Dist'!AG215:AG225,'UEC Development'!$D$131:$D$141)+'Product Class Dist'!AC$19*SUMPRODUCT('Efficiency Dist'!AG252:AG260,'UEC Development'!$D$151:$D$159)+'Product Class Dist'!AC$20*SUMPRODUCT('Efficiency Dist'!AG285:AG292,'UEC Development'!$D$169:$D$176)","v":2032.3902787370362},{"$f":"'Product Class Dist'!AD$12*SUMPRODUCT('Efficiency Dist'!AH13:AH19,'UEC Development'!$D$21:$D$27)+'Product Class Dist'!AD$13*SUMPRODUCT('Efficiency Dist'!AH42:AH48,'UEC Development'!$D$37:$D$43)+'Product Class Dist'!AD$14*SUMPRODUCT('Efficiency Dist'!AH71:AH77,'UEC Development'!$D$53:$D$59)+'Product Class Dist'!AD$15*SUMPRODUCT('Efficiency Dist'!AH100:AH111,'UEC Development'!$D$69:$D$80)+'Product Class Dist'!AD$16*SUMPRODUCT('Efficiency Dist'!AH139:AH149,'UEC Development'!$D$90:$D$100)+'Product Class Dist'!AD$17*SUMPRODUCT('Efficiency Dist'!AH176:AH187,'UEC Development'!$D$110:$D$121)+'Product Class Dist'!AD$18*SUMPRODUCT('Efficiency Dist'!AH215:AH225,'UEC Development'!$D$131:$D$141)+'Product Class Dist'!AD$19*SUMPRODUCT('Efficiency Dist'!AH252:AH260,'UEC Development'!$D$151:$D$159)+'Product Class Dist'!AD$20*SUMPRODUCT('Efficiency Dist'!AH285:AH292,'UEC Development'!$D$169:$D$176)","v":2032.9397947834796},{"$f":"'Product Class Dist'!AE$12*SUMPRODUCT('Efficiency Dist'!AI13:AI19,'UEC Development'!$D$21:$D$27)+'Product Class Dist'!AE$13*SUMPRODUCT('Efficiency Dist'!AI42:AI48,'UEC Development'!$D$37:$D$43)+'Product Class Dist'!AE$14*SUMPRODUCT('Efficiency Dist'!AI71:AI77,'UEC Development'!$D$53:$D$59)+'Product Class Dist'!AE$15*SUMPRODUCT('Efficiency Dist'!AI100:AI111,'UEC Development'!$D$69:$D$80)+'Product Class Dist'!AE$16*SUMPRODUCT('Efficiency Dist'!AI139:AI149,'UEC Development'!$D$90:$D$100)+'Product Class Dist'!AE$17*SUMPRODUCT('Efficiency Dist'!AI176:AI187,'UEC Development'!$D$110:$D$121)+'Product Class Dist'!AE$18*SUMPRODUCT('Efficiency Dist'!AI215:AI225,'UEC Development'!$D$131:$D$141)+'Product Class Dist'!AE$19*SUMPRODUCT('Efficiency Dist'!AI252:AI260,'UEC Development'!$D$151:$D$159)+'Product Class Dist'!AE$20*SUMPRODUCT('Efficiency Dist'!AI285:AI292,'UEC Development'!$D$169:$D$176)","v":2034.2249582646245},{"$f":"'Product Class Dist'!AF$12*SUMPRODUCT('Efficiency Dist'!AJ13:AJ19,'UEC Development'!$D$21:$D$27)+'Product Class Dist'!AF$13*SUMPRODUCT('Efficiency Dist'!AJ42:AJ48,'UEC Development'!$D$37:$D$43)+'Product Class Dist'!AF$14*SUMPRODUCT('Efficiency Dist'!AJ71:AJ77,'UEC Development'!$D$53:$D$59)+'Product Class Dist'!AF$15*SUMPRODUCT('Efficiency Dist'!AJ100:AJ111,'UEC Development'!$D$69:$D$80)+'Product Class Dist'!AF$16*SUMPRODUCT('Efficiency Dist'!AJ139:AJ149,'UEC Development'!$D$90:$D$100)+'Product Class Dist'!AF$17*SUMPRODUCT('Efficiency Dist'!AJ176:AJ187,'UEC Development'!$D$110:$D$121)+'Product Class Dist'!AF$18*SUMPRODUCT('Efficiency Dist'!AJ215:AJ225,'UEC Development'!$D$131:$D$141)+'Product Class Dist'!AF$19*SUMPRODUCT('Efficiency Dist'!AJ252:AJ260,'UEC Development'!$D$151:$D$159)+'Product Class Dist'!AF$20*SUMPRODUCT('Efficiency Dist'!AJ285:AJ292,'UEC Development'!$D$169:$D$176)","v":2035.8805823280049},{"$f":"'Product Class Dist'!AG$12*SUMPRODUCT('Efficiency Dist'!AK13:AK19,'UEC Development'!$D$21:$D$27)+'Product Class Dist'!AG$13*SUMPRODUCT('Efficiency Dist'!AK42:AK48,'UEC Development'!$D$37:$D$43)+'Product Class Dist'!AG$14*SUMPRODUCT('Efficiency Dist'!AK71:AK77,'UEC Development'!$D$53:$D$59)+'Product Class Dist'!AG$15*SUMPRODUCT('Efficiency Dist'!AK100:AK111,'UEC Development'!$D$69:$D$80)+'Product Class Dist'!AG$16*SUMPRODUCT('Efficiency Dist'!AK139:AK149,'UEC Development'!$D$90:$D$100)+'Product Class Dist'!AG$17*SUMPRODUCT('Efficiency Dist'!AK176:AK187,'UEC Development'!$D$110:$D$121)+'Product Class Dist'!AG$18*SUMPRODUCT('Efficiency Dist'!AK215:AK225,'UEC Development'!$D$131:$D$141)+'Product Class Dist'!AG$19*SUMPRODUCT('Efficiency Dist'!AK252:AK260,'UEC Development'!$D$151:$D$159)+'Product Class Dist'!AG$20*SUMPRODUCT('Efficiency Dist'!AK285:AK292,'UEC Development'!$D$169:$D$176)","v":2037.4043765490374},{"$f":"'Product Class Dist'!AH$12*SUMPRODUCT('Efficiency Dist'!AL13:AL19,'UEC Development'!$D$21:$D$27)+'Product Class Dist'!AH$13*SUMPRODUCT('Efficiency Dist'!AL42:AL48,'UEC Development'!$D$37:$D$43)+'Product Class Dist'!AH$14*SUMPRODUCT('Efficiency Dist'!AL71:AL77,'UEC Development'!$D$53:$D$59)+'Product Class Dist'!AH$15*SUMPRODUCT('Efficiency Dist'!AL100:AL111,'UEC Development'!$D$69:$D$80)+'Product Class Dist'!AH$16*SUMPRODUCT('Efficiency Dist'!AL139:AL149,'UEC Development'!$D$90:$D$100)+'Product Class Dist'!AH$17*SUMPRODUCT('Efficiency Dist'!AL176:AL187,'UEC Development'!$D$110:$D$121)+'Product Class Dist'!AH$18*SUMPRODUCT('Efficiency Dist'!AL215:AL225,'UEC Development'!$D$131:$D$141)+'Product Class Dist'!AH$19*SUMPRODUCT('Efficiency Dist'!AL252:AL260,'UEC Development'!$D$151:$D$159)+'Product Class Dist'!AH$20*SUMPRODUCT('Efficiency Dist'!AL285:AL292,'UEC Development'!$D$169:$D$176)","v":2038.613738570346},{"$f":"'Product Class Dist'!AI$12*SUMPRODUCT('Efficiency Dist'!AM13:AM19,'UEC Development'!$D$21:$D$27)+'Product Class Dist'!AI$13*SUMPRODUCT('Efficiency Dist'!AM42:AM48,'UEC Development'!$D$37:$D$43)+'Product Class Dist'!AI$14*SUMPRODUCT('Efficiency Dist'!AM71:AM77,'UEC Development'!$D$53:$D$59)+'Product Class Dist'!AI$15*SUMPRODUCT('Efficiency Dist'!AM100:AM111,'UEC Development'!$D$69:$D$80)+'Product Class Dist'!AI$16*SUMPRODUCT('Efficiency Dist'!AM139:AM149,'UEC Development'!$D$90:$D$100)+'Product Class Dist'!AI$17*SUMPRODUCT('Efficiency Dist'!AM176:AM187,'UEC Development'!$D$110:$D$121)+'Product Class Dist'!AI$18*SUMPRODUCT('Efficiency Dist'!AM215:AM225,'UEC Development'!$D$131:$D$141)+'Product Class Dist'!AI$19*SUMPRODUCT('Efficiency Dist'!AM252:AM260,'UEC Development'!$D$151:$D$159)+'Product Class Dist'!AI$20*SUMPRODUCT('Efficiency Dist'!AM285:AM292,'UEC Development'!$D$169:$D$176)","v":2039.5266158391603},{"$f":"'Product Class Dist'!AJ$12*SUMPRODUCT('Efficiency Dist'!AN13:AN19,'UEC Development'!$D$21:$D$27)+'Product Class Dist'!AJ$13*SUMPRODUCT('Efficiency Dist'!AN42:AN48,'UEC Development'!$D$37:$D$43)+'Product Class Dist'!AJ$14*SUMPRODUCT('Efficiency Dist'!AN71:AN77,'UEC Development'!$D$53:$D$59)+'Product Class Dist'!AJ$15*SUMPRODUCT('Efficiency Dist'!AN100:AN111,'UEC Development'!$D$69:$D$80)+'Product Class Dist'!AJ$16*SUMPRODUCT('Efficiency Dist'!AN139:AN149,'UEC Development'!$D$90:$D$100)+'Product Class Dist'!AJ$17*SUMPRODUCT('Efficiency Dist'!AN176:AN187,'UEC Development'!$D$110:$D$121)+'Product Class Dist'!AJ$18*SUMPRODUCT('Efficiency Dist'!AN215:AN225,'UEC Development'!$D$131:$D$141)+'Product Class Dist'!AJ$19*SUMPRODUCT('Efficiency Dist'!AN252:AN260,'UEC Development'!$D$151:$D$159)+'Product Class Dist'!AJ$20*SUMPRODUCT('Efficiency Dist'!AN285:AN292,'UEC Development'!$D$169:$D$176)","v":2040.2713783423826},{"$f":"'Product Class Dist'!AK$12*SUMPRODUCT('Efficiency Dist'!AO13:AO19,'UEC Development'!$D$21:$D$27)+'Product Class Dist'!AK$13*SUMPRODUCT('Efficiency Dist'!AO42:AO48,'UEC Development'!$D$37:$D$43)+'Product Class Dist'!AK$14*SUMPRODUCT('Efficiency Dist'!AO71:AO77,'UEC Development'!$D$53:$D$59)+'Product Class Dist'!AK$15*SUMPRODUCT('Efficiency Dist'!AO100:AO111,'UEC Development'!$D$69:$D$80)+'Product Class Dist'!AK$16*SUMPRODUCT('Efficiency Dist'!AO139:AO149,'UEC Development'!$D$90:$D$100)+'Product Class Dist'!AK$17*SUMPRODUCT('Efficiency Dist'!AO176:AO187,'UEC Development'!$D$110:$D$121)+'Product Class Dist'!AK$18*SUMPRODUCT('Efficiency Dist'!AO215:AO225,'UEC Development'!$D$131:$D$141)+'Product Class Dist'!AK$19*SUMPRODUCT('Efficiency Dist'!AO252:AO260,'UEC Development'!$D$151:$D$159)+'Product Class Dist'!AK$20*SUMPRODUCT('Efficiency Dist'!AO285:AO292,'UEC Development'!$D$169:$D$176)","v":2040.8095693590556},{"$f":"'Product Class Dist'!AL$12*SUMPRODUCT('Efficiency Dist'!AP13:AP19,'UEC Development'!$D$21:$D$27)+'Product Class Dist'!AL$13*SUMPRODUCT('Efficiency Dist'!AP42:AP48,'UEC Development'!$D$37:$D$43)+'Product Class Dist'!AL$14*SUMPRODUCT('Efficiency Dist'!AP71:AP77,'UEC Development'!$D$53:$D$59)+'Product Class Dist'!AL$15*SUMPRODUCT('Efficiency Dist'!AP100:AP111,'UEC Development'!$D$69:$D$80)+'Product Class Dist'!AL$16*SUMPRODUCT('Efficiency Dist'!AP139:AP149,'UEC Development'!$D$90:$D$100)+'Product Class Dist'!AL$17*SUMPRODUCT('Efficiency Dist'!AP176:AP187,'UEC Development'!$D$110:$D$121)+'Product Class Dist'!AL$18*SUMPRODUCT('Efficiency Dist'!AP215:AP225,'UEC Development'!$D$131:$D$141)+'Product Class Dist'!AL$19*SUMPRODUCT('Efficiency Dist'!AP252:AP260,'UEC Development'!$D$151:$D$159)+'Product Class Dist'!AL$20*SUMPRODUCT('Efficiency Dist'!AP285:AP292,'UEC Development'!$D$169:$D$176)","v":2041.0178550994588},{"$f":"'Product Class Dist'!AM$12*SUMPRODUCT('Efficiency Dist'!AQ13:AQ19,'UEC Development'!$D$21:$D$27)+'Product Class Dist'!AM$13*SUMPRODUCT('Efficiency Dist'!AQ42:AQ48,'UEC Development'!$D$37:$D$43)+'Product Class Dist'!AM$14*SUMPRODUCT('Efficiency Dist'!AQ71:AQ77,'UEC Development'!$D$53:$D$59)+'Product Class Dist'!AM$15*SUMPRODUCT('Efficiency Dist'!AQ100:AQ111,'UEC Development'!$D$69:$D$80)+'Product Class Dist'!AM$16*SUMPRODUCT('Efficiency Dist'!AQ139:AQ149,'UEC Development'!$D$90:$D$100)+'Product Class Dist'!AM$17*SUMPRODUCT('Efficiency Dist'!AQ176:AQ187,'UEC Development'!$D$110:$D$121)+'Product Class Dist'!AM$18*SUMPRODUCT('Efficiency Dist'!AQ215:AQ225,'UEC Development'!$D$131:$D$141)+'Product Class Dist'!AM$19*SUMPRODUCT('Efficiency Dist'!AQ252:AQ260,'UEC Development'!$D$151:$D$159)+'Product Class Dist'!AM$20*SUMPRODUCT('Efficiency Dist'!AQ285:AQ292,'UEC Development'!$D$169:$D$176)","v":2041.2303425249065},{"$f":"'Product Class Dist'!AN$12*SUMPRODUCT('Efficiency Dist'!AR13:AR19,'UEC Development'!$D$21:$D$27)+'Product Class Dist'!AN$13*SUMPRODUCT('Efficiency Dist'!AR42:AR48,'UEC Development'!$D$37:$D$43)+'Product Class Dist'!AN$14*SUMPRODUCT('Efficiency Dist'!AR71:AR77,'UEC Development'!$D$53:$D$59)+'Product Class Dist'!AN$15*SUMPRODUCT('Efficiency Dist'!AR100:AR111,'UEC Development'!$D$69:$D$80)+'Product Class Dist'!AN$16*SUMPRODUCT('Efficiency Dist'!AR139:AR149,'UEC Development'!$D$90:$D$100)+'Product Class Dist'!AN$17*SUMPRODUCT('Efficiency Dist'!AR176:AR187,'UEC Development'!$D$110:$D$121)+'Product Class Dist'!AN$18*SUMPRODUCT('Efficiency Dist'!AR215:AR225,'UEC Development'!$D$131:$D$141)+'Product Class Dist'!AN$19*SUMPRODUCT('Efficiency Dist'!AR252:AR260,'UEC Development'!$D$151:$D$159)+'Product Class Dist'!AN$20*SUMPRODUCT('Efficiency Dist'!AR285:AR292,'UEC Development'!$D$169:$D$176)","v":2041.559345783804},{"$f":"'Product Class Dist'!AO$12*SUMPRODUCT('Efficiency Dist'!AS13:AS19,'UEC Development'!$D$21:$D$27)+'Product Class Dist'!AO$13*SUMPRODUCT('Efficiency Dist'!AS42:AS48,'UEC Development'!$D$37:$D$43)+'Product Class Dist'!AO$14*SUMPRODUCT('Efficiency Dist'!AS71:AS77,'UEC Development'!$D$53:$D$59)+'Product Class Dist'!AO$15*SUMPRODUCT('Efficiency Dist'!AS100:AS111,'UEC Development'!$D$69:$D$80)+'Product Class Dist'!AO$16*SUMPRODUCT('Efficiency Dist'!AS139:AS149,'UEC Development'!$D$90:$D$100)+'Product Class Dist'!AO$17*SUMPRODUCT('Efficiency Dist'!AS176:AS187,'UEC Development'!$D$110:$D$121)+'Product Class Dist'!AO$18*SUMPRODUCT('Efficiency Dist'!AS215:AS225,'UEC Development'!$D$131:$D$141)+'Product Class Dist'!AO$19*SUMPRODUCT('Efficiency Dist'!AS252:AS260,'UEC Development'!$D$151:$D$159)+'Product Class Dist'!AO$20*SUMPRODUCT('Efficiency Dist'!AS285:AS292,'UEC Development'!$D$169:$D$176)","v":2041.9900513596315},{"$f":"'Product Class Dist'!AP$12*SUMPRODUCT('Efficiency Dist'!AT13:AT19,'UEC Development'!$D$21:$D$27)+'Product Class Dist'!AP$13*SUMPRODUCT('Efficiency Dist'!AT42:AT48,'UEC Development'!$D$37:$D$43)+'Product Class Dist'!AP$14*SUMPRODUCT('Efficiency Dist'!AT71:AT77,'UEC Development'!$D$53:$D$59)+'Product Class Dist'!AP$15*SUMPRODUCT('Efficiency Dist'!AT100:AT111,'UEC Development'!$D$69:$D$80)+'Product Class Dist'!AP$16*SUMPRODUCT('Efficiency Dist'!AT139:AT149,'UEC Development'!$D$90:$D$100)+'Product Class Dist'!AP$17*SUMPRODUCT('Efficiency Dist'!AT176:AT187,'UEC Development'!$D$110:$D$121)+'Product Class Dist'!AP$18*SUMPRODUCT('Efficiency Dist'!AT215:AT225,'UEC Development'!$D$131:$D$141)+'Product Class Dist'!AP$19*SUMPRODUCT('Efficiency Dist'!AT252:AT260,'UEC Development'!$D$151:$D$159)+'Product Class Dist'!AP$20*SUMPRODUCT('Efficiency Dist'!AT285:AT292,'UEC Development'!$D$169:$D$176)","v":2042.4478518112812},{"$f":"'Product Class Dist'!AQ$12*SUMPRODUCT('Efficiency Dist'!AU13:AU19,'UEC Development'!$D$21:$D$27)+'Product Class Dist'!AQ$13*SUMPRODUCT('Efficiency Dist'!AU42:AU48,'UEC Development'!$D$37:$D$43)+'Product Class Dist'!AQ$14*SUMPRODUCT('Efficiency Dist'!AU71:AU77,'UEC Development'!$D$53:$D$59)+'Product Class Dist'!AQ$15*SUMPRODUCT('Efficiency Dist'!AU100:AU111,'UEC Development'!$D$69:$D$80)+'Product Class Dist'!AQ$16*SUMPRODUCT('Efficiency Dist'!AU139:AU149,'UEC Development'!$D$90:$D$100)+'Product Class Dist'!AQ$17*SUMPRODUCT('Efficiency Dist'!AU176:AU187,'UEC Development'!$D$110:$D$121)+'Product Class Dist'!AQ$18*SUMPRODUCT('Efficiency Dist'!AU215:AU225,'UEC Development'!$D$131:$D$141)+'Product Class Dist'!AQ$19*SUMPRODUCT('Efficiency Dist'!AU252:AU260,'UEC Development'!$D$151:$D$159)+'Product Class Dist'!AQ$20*SUMPRODUCT('Efficiency Dist'!AU285:AU292,'UEC Development'!$D$169:$D$176)","v":2042.9425932346517},{"$f":"'Product Class Dist'!AR$12*SUMPRODUCT('Efficiency Dist'!AV13:AV19,'UEC Development'!$D$21:$D$27)+'Product Class Dist'!AR$13*SUMPRODUCT('Efficiency Dist'!AV42:AV48,'UEC Development'!$D$37:$D$43)+'Product Class Dist'!AR$14*SUMPRODUCT('Efficiency Dist'!AV71:AV77,'UEC Development'!$D$53:$D$59)+'Product Class Dist'!AR$15*SUMPRODUCT('Efficiency Dist'!AV100:AV111,'UEC Development'!$D$69:$D$80)+'Product Class Dist'!AR$16*SUMPRODUCT('Efficiency Dist'!AV139:AV149,'UEC Development'!$D$90:$D$100)+'Product Class Dist'!AR$17*SUMPRODUCT('Efficiency Dist'!AV176:AV187,'UEC Development'!$D$110:$D$121)+'Product Class Dist'!AR$18*SUMPRODUCT('Efficiency Dist'!AV215:AV225,'UEC Development'!$D$131:$D$141)+'Product Class Dist'!AR$19*SUMPRODUCT('Efficiency Dist'!AV252:AV260,'UEC Development'!$D$151:$D$159)+'Product Class Dist'!AR$20*SUMPRODUCT('Efficiency Dist'!AV285:AV292,'UEC Development'!$D$169:$D$176)","v":2043.4465014358548},{"$f":"'Product Class Dist'!AS$12*SUMPRODUCT('Efficiency Dist'!AW13:AW19,'UEC Development'!$D$21:$D$27)+'Product Class Dist'!AS$13*SUMPRODUCT('Efficiency Dist'!AW42:AW48,'UEC Development'!$D$37:$D$43)+'Product Class Dist'!AS$14*SUMPRODUCT('Efficiency Dist'!AW71:AW77,'UEC Development'!$D$53:$D$59)+'Product Class Dist'!AS$15*SUMPRODUCT('Efficiency Dist'!AW100:AW111,'UEC Development'!$D$69:$D$80)+'Product Class Dist'!AS$16*SUMPRODUCT('Efficiency Dist'!AW139:AW149,'UEC Development'!$D$90:$D$100)+'Product Class Dist'!AS$17*SUMPRODUCT('Efficiency Dist'!AW176:AW187,'UEC Development'!$D$110:$D$121)+'Product Class Dist'!AS$18*SUMPRODUCT('Efficiency Dist'!AW215:AW225,'UEC Development'!$D$131:$D$141)+'Product Class Dist'!AS$19*SUMPRODUCT('Efficiency Dist'!AW252:AW260,'UEC Development'!$D$151:$D$159)+'Product Class Dist'!AS$20*SUMPRODUCT('Efficiency Dist'!AW285:AW292,'UEC Development'!$D$169:$D$176)","v":2043.9254809353083},{"$f":"'Product Class Dist'!AT$12*SUMPRODUCT('Efficiency Dist'!AX13:AX19,'UEC Development'!$D$21:$D$27)+'Product Class Dist'!AT$13*SUMPRODUCT('Efficiency Dist'!AX42:AX48,'UEC Development'!$D$37:$D$43)+'Product Class Dist'!AT$14*SUMPRODUCT('Efficiency Dist'!AX71:AX77,'UEC Development'!$D$53:$D$59)+'Product Class Dist'!AT$15*SUMPRODUCT('Efficiency Dist'!AX100:AX111,'UEC Development'!$D$69:$D$80)+'Product Class Dist'!AT$16*SUMPRODUCT('Efficiency Dist'!AX139:AX149,'UEC Development'!$D$90:$D$100)+'Product Class Dist'!AT$17*SUMPRODUCT('Efficiency Dist'!AX176:AX187,'UEC Development'!$D$110:$D$121)+'Product Class Dist'!AT$18*SUMPRODUCT('Efficiency Dist'!AX215:AX225,'UEC Development'!$D$131:$D$141)+'Product Class Dist'!AT$19*SUMPRODUCT('Efficiency Dist'!AX252:AX260,'UEC Development'!$D$151:$D$159)+'Product Class Dist'!AT$20*SUMPRODUCT('Efficiency Dist'!AX285:AX292,'UEC Development'!$D$169:$D$176)","v":2044.4420510056989},{"$f":"'Product Class Dist'!AU$12*SUMPRODUCT('Efficiency Dist'!AY13:AY19,'UEC Development'!$D$21:$D$27)+'Product Class Dist'!AU$13*SUMPRODUCT('Efficiency Dist'!AY42:AY48,'UEC Development'!$D$37:$D$43)+'Product Class Dist'!AU$14*SUMPRODUCT('Efficiency Dist'!AY71:AY77,'UEC Development'!$D$53:$D$59)+'Product Class Dist'!AU$15*SUMPRODUCT('Efficiency Dist'!AY100:AY111,'UEC Development'!$D$69:$D$80)+'Product Class Dist'!AU$16*SUMPRODUCT('Efficiency Dist'!AY139:AY149,'UEC Development'!$D$90:$D$100)+'Product Class Dist'!AU$17*SUMPRODUCT('Efficiency Dist'!AY176:AY187,'UEC Development'!$D$110:$D$121)+'Product Class Dist'!AU$18*SUMPRODUCT('Efficiency Dist'!AY215:AY225,'UEC Development'!$D$131:$D$141)+'Product Class Dist'!AU$19*SUMPRODUCT('Efficiency Dist'!AY252:AY260,'UEC Development'!$D$151:$D$159)+'Product Class Dist'!AU$20*SUMPRODUCT('Efficiency Dist'!AY285:AY292,'UEC Development'!$D$169:$D$176)","v":2044.9504043670197},{"$f":"'Product Class Dist'!AV$12*SUMPRODUCT('Efficiency Dist'!AZ13:AZ19,'UEC Development'!$D$21:$D$27)+'Product Class Dist'!AV$13*SUMPRODUCT('Efficiency Dist'!AZ42:AZ48,'UEC Development'!$D$37:$D$43)+'Product Class Dist'!AV$14*SUMPRODUCT('Efficiency Dist'!AZ71:AZ77,'UEC Development'!$D$53:$D$59)+'Product Class Dist'!AV$15*SUMPRODUCT('Efficiency Dist'!AZ100:AZ111,'UEC Development'!$D$69:$D$80)+'Product Class Dist'!AV$16*SUMPRODUCT('Efficiency Dist'!AZ139:AZ149,'UEC Development'!$D$90:$D$100)+'Product Class Dist'!AV$17*SUMPRODUCT('Efficiency Dist'!AZ176:AZ187,'UEC Development'!$D$110:$D$121)+'Product Class Dist'!AV$18*SUMPRODUCT('Efficiency Dist'!AZ215:AZ225,'UEC Development'!$D$131:$D$141)+'Product Class Dist'!AV$19*SUMPRODUCT('Efficiency Dist'!AZ252:AZ260,'UEC Development'!$D$151:$D$159)+'Product Class Dist'!AV$20*SUMPRODUCT('Efficiency Dist'!AZ285:AZ292,'UEC Development'!$D$169:$D$176)","v":2045.3833001975415}]
[null,null,"POST-Case UEC",{"$f":"'Product Class Dist'!D$23*SUMPRODUCT('Efficiency Dist'!H24:H30,'UEC Development'!$D$21:$D$27)+'Product Class Dist'!D$24*SUMPRODUCT('Efficiency Dist'!H53:H59,'UEC Development'!$D$37:$D$43)+'Product Class Dist'!D$25*SUMPRODUCT('Efficiency Dist'!H82:H88,'UEC Development'!$D$53:$D$59)+'Product Class Dist'!D$26*SUMPRODUCT('Efficiency Dist'!H116:H127,'UEC Development'!$D$69:$D$80)+'Product Class Dist'!D$27*SUMPRODUCT('Efficiency Dist'!H154:H164,'UEC Development'!$D$90:$D$100)+'Product Class Dist'!D$28*SUMPRODUCT('Efficiency Dist'!H192:H203,'UEC Development'!$D$110:$D$121)+'Product Class Dist'!D$29*SUMPRODUCT('Efficiency Dist'!H230:H240,'UEC Development'!$D$131:$D$141)+'Product Class Dist'!D$30*SUMPRODUCT('Efficiency Dist'!H265:H273,'UEC Development'!$D$151:$D$159)+'Product Class Dist'!D$31*SUMPRODUCT('Efficiency Dist'!H297:H304,'UEC Development'!$D$169:$D$176)","v":2416.7190282158467},{"$f":"'Product Class Dist'!E$23*SUMPRODUCT('Efficiency Dist'!I24:I30,'UEC Development'!$D$21:$D$27)+'Product Class Dist'!E$24*SUMPRODUCT('Efficiency Dist'!I53:I59,'UEC Development'!$D$37:$D$43)+'Product Class Dist'!E$25*SUMPRODUCT('Efficiency Dist'!I82:I88,'UEC Development'!$D$53:$D$59)+'Product Class Dist'!E$26*SUMPRODUCT('Efficiency Dist'!I116:I127,'UEC Development'!$D$69:$D$80)+'Product Class Dist'!E$27*SUMPRODUCT('Efficiency Dist'!I154:I164,'UEC Development'!$D$90:$D$100)+'Product Class Dist'!E$28*SUMPRODUCT('Efficiency Dist'!I192:I203,'UEC Development'!$D$110:$D$121)+'Product Class Dist'!E$29*SUMPRODUCT('Efficiency Dist'!I230:I240,'UEC Development'!$D$131:$D$141)+'Product Class Dist'!E$30*SUMPRODUCT('Efficiency Dist'!I265:I273,'UEC Development'!$D$151:$D$159)+'Product Class Dist'!E$31*SUMPRODUCT('Efficiency Dist'!I297:I304,'UEC Development'!$D$169:$D$176)","v":2416.7190282158467},{"$f":"'Product Class Dist'!F$23*SUMPRODUCT('Efficiency Dist'!J24:J30,'UEC Development'!$D$21:$D$27)+'Product Class Dist'!F$24*SUMPRODUCT('Efficiency Dist'!J53:J59,'UEC Development'!$D$37:$D$43)+'Product Class Dist'!F$25*SUMPRODUCT('Efficiency Dist'!J82:J88,'UEC Development'!$D$53:$D$59)+'Product Class Dist'!F$26*SUMPRODUCT('Efficiency Dist'!J116:J127,'UEC Development'!$D$69:$D$80)+'Product Class Dist'!F$27*SUMPRODUCT('Efficiency Dist'!J154:J164,'UEC Development'!$D$90:$D$100)+'Product Class Dist'!F$28*SUMPRODUCT('Efficiency Dist'!J192:J203,'UEC Development'!$D$110:$D$121)+'Product Class Dist'!F$29*SUMPRODUCT('Efficiency Dist'!J230:J240,'UEC Development'!$D$131:$D$141)+'Product Class Dist'!F$30*SUMPRODUCT('Efficiency Dist'!J265:J273,'UEC Development'!$D$151:$D$159)+'Product Class Dist'!F$31*SUMPRODUCT('Efficiency Dist'!J297:J304,'UEC Development'!$D$169:$D$176)","v":2416.7190282158467},{"$f":"'Product Class Dist'!G$23*SUMPRODUCT('Efficiency Dist'!K24:K30,'UEC Development'!$D$21:$D$27)+'Product Class Dist'!G$24*SUMPRODUCT('Efficiency Dist'!K53:K59,'UEC Development'!$D$37:$D$43)+'Product Class Dist'!G$25*SUMPRODUCT('Efficiency Dist'!K82:K88,'UEC Development'!$D$53:$D$59)+'Product Class Dist'!G$26*SUMPRODUCT('Efficiency Dist'!K116:K127,'UEC Development'!$D$69:$D$80)+'Product Class Dist'!G$27*SUMPRODUCT('Efficiency Dist'!K154:K164,'UEC Development'!$D$90:$D$100)+'Product Class Dist'!G$28*SUMPRODUCT('Efficiency Dist'!K192:K203,'UEC Development'!$D$110:$D$121)+'Product Class Dist'!G$29*SUMPRODUCT('Efficiency Dist'!K230:K240,'UEC Development'!$D$131:$D$141)+'Product Class Dist'!G$30*SUMPRODUCT('Efficiency Dist'!K265:K273,'UEC Development'!$D$151:$D$159)+'Product Class Dist'!G$31*SUMPRODUCT('Efficiency Dist'!K297:K304,'UEC Development'!$D$169:$D$176)","v":2416.7190282158467},{"$f":"'Product Class Dist'!H$23*SUMPRODUCT('Efficiency Dist'!L24:L30,'UEC Development'!$D$21:$D$27)+'Product Class Dist'!H$24*SUMPRODUCT('Efficiency Dist'!L53:L59,'UEC Development'!$D$37:$D$43)+'Product Class Dist'!H$25*SUMPRODUCT('Efficiency Dist'!L82:L88,'UEC Development'!$D$53:$D$59)+'Product Class Dist'!H$26*SUMPRODUCT('Efficiency Dist'!L116:L127,'UEC Development'!$D$69:$D$80)+'Product Class Dist'!H$27*SUMPRODUCT('Efficiency Dist'!L154:L164,'UEC Development'!$D$90:$D$100)+'Product Class Dist'!H$28*SUMPRODUCT('Efficiency Dist'!L192:L203,'UEC Development'!$D$110:$D$121)+'Product Class Dist'!H$29*SUMPRODUCT('Efficiency Dist'!L230:L240,'UEC Development'!$D$131:$D$141)+'Product Class Dist'!H$30*SUMPRODUCT('Efficiency Dist'!L265:L273,'UEC Development'!$D$151:$D$159)+'Product Class Dist'!H$31*SUMPRODUCT('Efficiency Dist'!L297:L304,'UEC Development'!$D$169:$D$176)","v":2416.7190282158467},{"$f":"'Product Class Dist'!I$23*SUMPRODUCT('Efficiency Dist'!M24:M30,'UEC Development'!$D$21:$D$27)+'Product Class Dist'!I$24*SUMPRODUCT('Efficiency Dist'!M53:M59,'UEC Development'!$D$37:$D$43)+'Product Class Dist'!I$25*SUMPRODUCT('Efficiency Dist'!M82:M88,'UEC Development'!$D$53:$D$59)+'Product Class Dist'!I$26*SUMPRODUCT('Efficiency Dist'!M116:M127,'UEC Development'!$D$69:$D$80)+'Product Class Dist'!I$27*SUMPRODUCT('Efficiency Dist'!M154:M164,'UEC Development'!$D$90:$D$100)+'Product Class Dist'!I$28*SUMPRODUCT('Efficiency Dist'!M192:M203,'UEC Development'!$D$110:$D$121)+'Product Class Dist'!I$29*SUMPRODUCT('Efficiency Dist'!M230:M240,'UEC Development'!$D$131:$D$141)+'Product Class Dist'!I$30*SUMPRODUCT('Efficiency Dist'!M265:M273,'UEC Development'!$D$151:$D$159)+'Product Class Dist'!I$31*SUMPRODUCT('Efficiency Dist'!M297:M304,'UEC Development'!$D$169:$D$176)","v":2416.7190282158467},{"$f":"'Product Class Dist'!J$23*SUMPRODUCT('Efficiency Dist'!N24:N30,'UEC Development'!$D$21:$D$27)+'Product Class Dist'!J$24*SUMPRODUCT('Efficiency Dist'!N53:N59,'UEC Development'!$D$37:$D$43)+'Product Class Dist'!J$25*SUMPRODUCT('Efficiency Dist'!N82:N88,'UEC Development'!$D$53:$D$59)+'Product Class Dist'!J$26*SUMPRODUCT('Efficiency Dist'!N116:N127,'UEC Development'!$D$69:$D$80)+'Product Class Dist'!J$27*SUMPRODUCT('Efficiency Dist'!N154:N164,'UEC Development'!$D$90:$D$100)+'Product Class Dist'!J$28*SUMPRODUCT('Efficiency Dist'!N192:N203,'UEC Development'!$D$110:$D$121)+'Product Class Dist'!J$29*SUMPRODUCT('Efficiency Dist'!N230:N240,'UEC Development'!$D$131:$D$141)+'Product Class Dist'!J$30*SUMPRODUCT('Efficiency Dist'!N265:N273,'UEC Development'!$D$151:$D$159)+'Product Class Dist'!J$31*SUMPRODUCT('Efficiency Dist'!N297:N304,'UEC Development'!$D$169:$D$176)","v":2416.7190282158467},{"$f":"'Product Class Dist'!K$23*SUMPRODUCT('Efficiency Dist'!O24:O30,'UEC Development'!$D$21:$D$27)+'Product Class Dist'!K$24*SUMPRODUCT('Efficiency Dist'!O53:O59,'UEC Development'!$D$37:$D$43)+'Product Class Dist'!K$25*SUMPRODUCT('Efficiency Dist'!O82:O88,'UEC Development'!$D$53:$D$59)+'Product Class Dist'!K$26*SUMPRODUCT('Efficiency Dist'!O116:O127,'UEC Development'!$D$69:$D$80)+'Product Class Dist'!K$27*SUMPRODUCT('Efficiency Dist'!O154:O164,'UEC Development'!$D$90:$D$100)+'Product Class Dist'!K$28*SUMPRODUCT('Efficiency Dist'!O192:O203,'UEC Development'!$D$110:$D$121)+'Product Class Dist'!K$29*SUMPRODUCT('Efficiency Dist'!O230:O240,'UEC Development'!$D$131:$D$141)+'Product Class Dist'!K$30*SUMPRODUCT('Efficiency Dist'!O265:O273,'UEC Development'!$D$151:$D$159)+'Product Class Dist'!K$31*SUMPRODUCT('Efficiency Dist'!O297:O304,'UEC Development'!$D$169:$D$176)","v":2416.7190282158467},{"$f":"'Product Class Dist'!L$23*SUMPRODUCT('Efficiency Dist'!P24:P30,'UEC Development'!$D$21:$D$27)+'Product Class Dist'!L$24*SUMPRODUCT('Efficiency Dist'!P53:P59,'UEC Development'!$D$37:$D$43)+'Product Class Dist'!L$25*SUMPRODUCT('Efficiency Dist'!P82:P88,'UEC Development'!$D$53:$D$59)+'Product Class Dist'!L$26*SUMPRODUCT('Efficiency Dist'!P116:P127,'UEC Development'!$D$69:$D$80)+'Product Class Dist'!L$27*SUMPRODUCT('Efficiency Dist'!P154:P164,'UEC Development'!$D$90:$D$100)+'Product Class Dist'!L$28*SUMPRODUCT('Efficiency Dist'!P192:P203,'UEC Development'!$D$110:$D$121)+'Product Class Dist'!L$29*SUMPRODUCT('Efficiency Dist'!P230:P240,'UEC Development'!$D$131:$D$141)+'Product Class Dist'!L$30*SUMPRODUCT('Efficiency Dist'!P265:P273,'UEC Development'!$D$151:$D$159)+'Product Class Dist'!L$31*SUMPRODUCT('Efficiency Dist'!P297:P304,'UEC Development'!$D$169:$D$176)","v":2416.7190282158467},{"$f":"'Product Class Dist'!M$23*SUMPRODUCT('Efficiency Dist'!Q24:Q30,'UEC Development'!$D$21:$D$27)+'Product Class Dist'!M$24*SUMPRODUCT('Efficiency Dist'!Q53:Q59,'UEC Development'!$D$37:$D$43)+'Product Class Dist'!M$25*SUMPRODUCT('Efficiency Dist'!Q82:Q88,'UEC Development'!$D$53:$D$59)+'Product Class Dist'!M$26*SUMPRODUCT('Efficiency Dist'!Q116:Q127,'UEC Development'!$D$69:$D$80)+'Product Class Dist'!M$27*SUMPRODUCT('Efficiency Dist'!Q154:Q164,'UEC Development'!$D$90:$D$100)+'Product Class Dist'!M$28*SUMPRODUCT('Efficiency Dist'!Q192:Q203,'UEC Development'!$D$110:$D$121)+'Product Class Dist'!M$29*SUMPRODUCT('Efficiency Dist'!Q230:Q240,'UEC Development'!$D$131:$D$141)+'Product Class Dist'!M$30*SUMPRODUCT('Efficiency Dist'!Q265:Q273,'UEC Development'!$D$151:$D$159)+'Product Class Dist'!M$31*SUMPRODUCT('Efficiency Dist'!Q297:Q304,'UEC Development'!$D$169:$D$176)","v":2416.7190282158467},{"$f":"'Product Class Dist'!N$23*SUMPRODUCT('Efficiency Dist'!R24:R30,'UEC Development'!$D$21:$D$27)+'Product Class Dist'!N$24*SUMPRODUCT('Efficiency Dist'!R53:R59,'UEC Development'!$D$37:$D$43)+'Product Class Dist'!N$25*SUMPRODUCT('Efficiency Dist'!R82:R88,'UEC Development'!$D$53:$D$59)+'Product Class Dist'!N$26*SUMPRODUCT('Efficiency Dist'!R116:R127,'UEC Development'!$D$69:$D$80)+'Product Class Dist'!N$27*SUMPRODUCT('Efficiency Dist'!R154:R164,'UEC Development'!$D$90:$D$100)+'Product Class Dist'!N$28*SUMPRODUCT('Efficiency Dist'!R192:R203,'UEC Development'!$D$110:$D$121)+'Product Class Dist'!N$29*SUMPRODUCT('Efficiency Dist'!R230:R240,'UEC Development'!$D$131:$D$141)+'Product Class Dist'!N$30*SUMPRODUCT('Efficiency Dist'!R265:R273,'UEC Development'!$D$151:$D$159)+'Product Class Dist'!N$31*SUMPRODUCT('Efficiency Dist'!R297:R304,'UEC Development'!$D$169:$D$176)","v":2416.7190282158467},{"$f":"'Product Class Dist'!O$23*SUMPRODUCT('Efficiency Dist'!S24:S30,'UEC Development'!$D$21:$D$27)+'Product Class Dist'!O$24*SUMPRODUCT('Efficiency Dist'!S53:S59,'UEC Development'!$D$37:$D$43)+'Product Class Dist'!O$25*SUMPRODUCT('Efficiency Dist'!S82:S88,'UEC Development'!$D$53:$D$59)+'Product Class Dist'!O$26*SUMPRODUCT('Efficiency Dist'!S116:S127,'UEC Development'!$D$69:$D$80)+'Product Class Dist'!O$27*SUMPRODUCT('Efficiency Dist'!S154:S164,'UEC Development'!$D$90:$D$100)+'Product Class Dist'!O$28*SUMPRODUCT('Efficiency Dist'!S192:S203,'UEC Development'!$D$110:$D$121)+'Product Class Dist'!O$29*SUMPRODUCT('Efficiency Dist'!S230:S240,'UEC Development'!$D$131:$D$141)+'Product Class Dist'!O$30*SUMPRODUCT('Efficiency Dist'!S265:S273,'UEC Development'!$D$151:$D$159)+'Product Class Dist'!O$31*SUMPRODUCT('Efficiency Dist'!S297:S304,'UEC Development'!$D$169:$D$176)","v":2416.7190282158467},{"$f":"'Product Class Dist'!P$23*SUMPRODUCT('Efficiency Dist'!T24:T30,'UEC Development'!$D$21:$D$27)+'Product Class Dist'!P$24*SUMPRODUCT('Efficiency Dist'!T53:T59,'UEC Development'!$D$37:$D$43)+'Product Class Dist'!P$25*SUMPRODUCT('Efficiency Dist'!T82:T88,'UEC Development'!$D$53:$D$59)+'Product Class Dist'!P$26*SUMPRODUCT('Efficiency Dist'!T116:T127,'UEC Development'!$D$69:$D$80)+'Product Class Dist'!P$27*SUMPRODUCT('Efficiency Dist'!T154:T164,'UEC Development'!$D$90:$D$100)+'Product Class Dist'!P$28*SUMPRODUCT('Efficiency Dist'!T192:T203,'UEC Development'!$D$110:$D$121)+'Product Class Dist'!P$29*SUMPRODUCT('Efficiency Dist'!T230:T240,'UEC Development'!$D$131:$D$141)+'Product Class Dist'!P$30*SUMPRODUCT('Efficiency Dist'!T265:T273,'UEC Development'!$D$151:$D$159)+'Product Class Dist'!P$31*SUMPRODUCT('Efficiency Dist'!T297:T304,'UEC Development'!$D$169:$D$176)","v":2416.7190282158467},{"$f":"'Product Class Dist'!Q$23*SUMPRODUCT('Efficiency Dist'!U24:U30,'UEC Development'!$D$21:$D$27)+'Product Class Dist'!Q$24*SUMPRODUCT('Efficiency Dist'!U53:U59,'UEC Development'!$D$37:$D$43)+'Product Class Dist'!Q$25*SUMPRODUCT('Efficiency Dist'!U82:U88,'UEC Development'!$D$53:$D$59)+'Product Class Dist'!Q$26*SUMPRODUCT('Efficiency Dist'!U116:U127,'UEC Development'!$D$69:$D$80)+'Product Class Dist'!Q$27*SUMPRODUCT('Efficiency Dist'!U154:U164,'UEC Development'!$D$90:$D$100)+'Product Class Dist'!Q$28*SUMPRODUCT('Efficiency Dist'!U192:U203,'UEC Development'!$D$110:$D$121)+'Product Class Dist'!Q$29*SUMPRODUCT('Efficiency Dist'!U230:U240,'UEC Development'!$D$131:$D$141)+'Product Class Dist'!Q$30*SUMPRODUCT('Efficiency Dist'!U265:U273,'UEC Development'!$D$151:$D$159)+'Product Class Dist'!Q$31*SUMPRODUCT('Efficiency Dist'!U297:U304,'UEC Development'!$D$169:$D$176)","v":2416.7190282158467},{"$f":"'Product Class Dist'!R$23*SUMPRODUCT('Efficiency Dist'!V24:V30,'UEC Development'!$D$21:$D$27)+'Product Class Dist'!R$24*SUMPRODUCT('Efficiency Dist'!V53:V59,'UEC Development'!$D$37:$D$43)+'Product Class Dist'!R$25*SUMPRODUCT('Efficiency Dist'!V82:V88,'UEC Development'!$D$53:$D$59)+'Product Class Dist'!R$26*SUMPRODUCT('Efficiency Dist'!V116:V127,'UEC Development'!$D$69:$D$80)+'Product Class Dist'!R$27*SUMPRODUCT('Efficiency Dist'!V154:V164,'UEC Development'!$D$90:$D$100)+'Product Class Dist'!R$28*SUMPRODUCT('Efficiency Dist'!V192:V203,'UEC Development'!$D$110:$D$121)+'Product Class Dist'!R$29*SUMPRODUCT('Efficiency Dist'!V230:V240,'UEC Development'!$D$131:$D$141)+'Product Class Dist'!R$30*SUMPRODUCT('Efficiency Dist'!V265:V273,'UEC Development'!$D$151:$D$159)+'Product Class Dist'!R$31*SUMPRODUCT('Efficiency Dist'!V297:V304,'UEC Development'!$D$169:$D$176)","v":2416.7190282158467},{"$f":"'Product Class Dist'!S$23*SUMPRODUCT('Efficiency Dist'!W24:W30,'UEC Development'!$D$21:$D$27)+'Product Class Dist'!S$24*SUMPRODUCT('Efficiency Dist'!W53:W59,'UEC Development'!$D$37:$D$43)+'Product Class Dist'!S$25*SUMPRODUCT('Efficiency Dist'!W82:W88,'UEC Development'!$D$53:$D$59)+'Product Class Dist'!S$26*SUMPRODUCT('Efficiency Dist'!W116:W127,'UEC Development'!$D$69:$D$80)+'Product Class Dist'!S$27*SUMPRODUCT('Efficiency Dist'!W154:W164,'UEC Development'!$D$90:$D$100)+'Product Class Dist'!S$28*SUMPRODUCT('Efficiency Dist'!W192:W203,'UEC Development'!$D$110:$D$121)+'Product Class Dist'!S$29*SUMPRODUCT('Efficiency Dist'!W230:W240,'UEC Development'!$D$131:$D$141)+'Product Class Dist'!S$30*SUMPRODUCT('Efficiency Dist'!W265:W273,'UEC Development'!$D$151:$D$159)+'Product Class Dist'!S$31*SUMPRODUCT('Efficiency Dist'!W297:W304,'UEC Development'!$D$169:$D$176)","v":2416.7190282158467},{"$f":"'Product Class Dist'!T$23*SUMPRODUCT('Efficiency Dist'!X24:X30,'UEC Development'!$D$21:$D$27)+'Product Class Dist'!T$24*SUMPRODUCT('Efficiency Dist'!X53:X59,'UEC Development'!$D$37:$D$43)+'Product Class Dist'!T$25*SUMPRODUCT('Efficiency Dist'!X82:X88,'UEC Development'!$D$53:$D$59)+'Product Class Dist'!T$26*SUMPRODUCT('Efficiency Dist'!X116:X127,'UEC Development'!$D$69:$D$80)+'Product Class Dist'!T$27*SUMPRODUCT('Efficiency Dist'!X154:X164,'UEC Development'!$D$90:$D$100)+'Product Class Dist'!T$28*SUMPRODUCT('Efficiency Dist'!X192:X203,'UEC Development'!$D$110:$D$121)+'Product Class Dist'!T$29*SUMPRODUCT('Efficiency Dist'!X230:X240,'UEC Development'!$D$131:$D$141)+'Product Class Dist'!T$30*SUMPRODUCT('Efficiency Dist'!X265:X273,'UEC Development'!$D$151:$D$159)+'Product Class Dist'!T$31*SUMPRODUCT('Efficiency Dist'!X297:X304,'UEC Development'!$D$169:$D$176)","v":2416.7190282158467},{"$f":"'Product Class Dist'!U$23*SUMPRODUCT('Efficiency Dist'!Y24:Y30,'UEC Development'!$D$21:$D$27)+'Product Class Dist'!U$24*SUMPRODUCT('Efficiency Dist'!Y53:Y59,'UEC Development'!$D$37:$D$43)+'Product Class Dist'!U$25*SUMPRODUCT('Efficiency Dist'!Y82:Y88,'UEC Development'!$D$53:$D$59)+'Product Class Dist'!U$26*SUMPRODUCT('Efficiency Dist'!Y116:Y127,'UEC Development'!$D$69:$D$80)+'Product Class Dist'!U$27*SUMPRODUCT('Efficiency Dist'!Y154:Y164,'UEC Development'!$D$90:$D$100)+'Product Class Dist'!U$28*SUMPRODUCT('Efficiency Dist'!Y192:Y203,'UEC Development'!$D$110:$D$121)+'Product Class Dist'!U$29*SUMPRODUCT('Efficiency Dist'!Y230:Y240,'UEC Development'!$D$131:$D$141)+'Product Class Dist'!U$30*SUMPRODUCT('Efficiency Dist'!Y265:Y273,'UEC Development'!$D$151:$D$159)+'Product Class Dist'!U$31*SUMPRODUCT('Efficiency Dist'!Y297:Y304,'UEC Development'!$D$169:$D$176)","v":2416.7190282158467},{"$f":"'Product Class Dist'!V$23*SUMPRODUCT('Efficiency Dist'!Z24:Z30,'UEC Development'!$D$21:$D$27)+'Product Class Dist'!V$24*SUMPRODUCT('Efficiency Dist'!Z53:Z59,'UEC Development'!$D$37:$D$43)+'Product Class Dist'!V$25*SUMPRODUCT('Efficiency Dist'!Z82:Z88,'UEC Development'!$D$53:$D$59)+'Product Class Dist'!V$26*SUMPRODUCT('Efficiency Dist'!Z116:Z127,'UEC Development'!$D$69:$D$80)+'Product Class Dist'!V$27*SUMPRODUCT('Efficiency Dist'!Z154:Z164,'UEC Development'!$D$90:$D$100)+'Product Class Dist'!V$28*SUMPRODUCT('Efficiency Dist'!Z192:Z203,'UEC Development'!$D$110:$D$121)+'Product Class Dist'!V$29*SUMPRODUCT('Efficiency Dist'!Z230:Z240,'UEC Development'!$D$131:$D$141)+'Product Class Dist'!V$30*SUMPRODUCT('Efficiency Dist'!Z265:Z273,'UEC Development'!$D$151:$D$159)+'Product Class Dist'!V$31*SUMPRODUCT('Efficiency Dist'!Z297:Z304,'UEC Development'!$D$169:$D$176)","v":2416.7190282158467},{"$f":"'Product Class Dist'!W$23*SUMPRODUCT('Efficiency Dist'!AA24:AA30,'UEC Development'!$D$21:$D$27)+'Product Class Dist'!W$24*SUMPRODUCT('Efficiency Dist'!AA53:AA59,'UEC Development'!$D$37:$D$43)+'Product Class Dist'!W$25*SUMPRODUCT('Efficiency Dist'!AA82:AA88,'UEC Development'!$D$53:$D$59)+'Product Class Dist'!W$26*SUMPRODUCT('Efficiency Dist'!AA116:AA127,'UEC Development'!$D$69:$D$80)+'Product Class Dist'!W$27*SUMPRODUCT('Efficiency Dist'!AA154:AA164,'UEC Development'!$D$90:$D$100)+'Product Class Dist'!W$28*SUMPRODUCT('Efficiency Dist'!AA192:AA203,'UEC Development'!$D$110:$D$121)+'Product Class Dist'!W$29*SUMPRODUCT('Efficiency Dist'!AA230:AA240,'UEC Development'!$D$131:$D$141)+'Product Class Dist'!W$30*SUMPRODUCT('Efficiency Dist'!AA265:AA273,'UEC Development'!$D$151:$D$159)+'Product Class Dist'!W$31*SUMPRODUCT('Efficiency Dist'!AA297:AA304,'UEC Development'!$D$169:$D$176)","v":2032.1654471322297},{"$f":"'Product Class Dist'!X$23*SUMPRODUCT('Efficiency Dist'!AB24:AB30,'UEC Development'!$D$21:$D$27)+'Product Class Dist'!X$24*SUMPRODUCT('Efficiency Dist'!AB53:AB59,'UEC Development'!$D$37:$D$43)+'Product Class Dist'!X$25*SUMPRODUCT('Efficiency Dist'!AB82:AB88,'UEC Development'!$D$53:$D$59)+'Product Class Dist'!X$26*SUMPRODUCT('Efficiency Dist'!AB116:AB127,'UEC Development'!$D$69:$D$80)+'Product Class Dist'!X$27*SUMPRODUCT('Efficiency Dist'!AB154:AB164,'UEC Development'!$D$90:$D$100)+'Product Class Dist'!X$28*SUMPRODUCT('Efficiency Dist'!AB192:AB203,'UEC Development'!$D$110:$D$121)+'Product Class Dist'!X$29*SUMPRODUCT('Efficiency Dist'!AB230:AB240,'UEC Development'!$D$131:$D$141)+'Product Class Dist'!X$30*SUMPRODUCT('Efficiency Dist'!AB265:AB273,'UEC Development'!$D$151:$D$159)+'Product Class Dist'!X$31*SUMPRODUCT('Efficiency Dist'!AB297:AB304,'UEC Development'!$D$169:$D$176)","v":2032.1654471322297},{"$f":"'Product Class Dist'!Y$23*SUMPRODUCT('Efficiency Dist'!AC24:AC30,'UEC Development'!$D$21:$D$27)+'Product Class Dist'!Y$24*SUMPRODUCT('Efficiency Dist'!AC53:AC59,'UEC Development'!$D$37:$D$43)+'Product Class Dist'!Y$25*SUMPRODUCT('Efficiency Dist'!AC82:AC88,'UEC Development'!$D$53:$D$59)+'Product Class Dist'!Y$26*SUMPRODUCT('Efficiency Dist'!AC116:AC127,'UEC Development'!$D$69:$D$80)+'Product Class Dist'!Y$27*SUMPRODUCT('Efficiency Dist'!AC154:AC164,'UEC Development'!$D$90:$D$100)+'Product Class Dist'!Y$28*SUMPRODUCT('Efficiency Dist'!AC192:AC203,'UEC Development'!$D$110:$D$121)+'Product Class Dist'!Y$29*SUMPRODUCT('Efficiency Dist'!AC230:AC240,'UEC Development'!$D$131:$D$141)+'Product Class Dist'!Y$30*SUMPRODUCT('Efficiency Dist'!AC265:AC273,'UEC Development'!$D$151:$D$159)+'Product Class Dist'!Y$31*SUMPRODUCT('Efficiency Dist'!AC297:AC304,'UEC Development'!$D$169:$D$176)","v":2032.1654471322299},{"$f":"'Product Class Dist'!Z$23*SUMPRODUCT('Efficiency Dist'!AD24:AD30,'UEC Development'!$D$21:$D$27)+'Product Class Dist'!Z$24*SUMPRODUCT('Efficiency Dist'!AD53:AD59,'UEC Development'!$D$37:$D$43)+'Product Class Dist'!Z$25*SUMPRODUCT('Efficiency Dist'!AD82:AD88,'UEC Development'!$D$53:$D$59)+'Product Class Dist'!Z$26*SUMPRODUCT('Efficiency Dist'!AD116:AD127,'UEC Development'!$D$69:$D$80)+'Product Class Dist'!Z$27*SUMPRODUCT('Efficiency Dist'!AD154:AD164,'UEC Development'!$D$90:$D$100)+'Product Class Dist'!Z$28*SUMPRODUCT('Efficiency Dist'!AD192:AD203,'UEC Development'!$D$110:$D$121)+'Product Class Dist'!Z$29*SUMPRODUCT('Efficiency Dist'!AD230:AD240,'UEC Development'!$D$131:$D$141)+'Product Class Dist'!Z$30*SUMPRODUCT('Efficiency Dist'!AD265:AD273,'UEC Development'!$D$151:$D$159)+'Product Class Dist'!Z$31*SUMPRODUCT('Efficiency Dist'!AD297:AD304,'UEC Development'!$D$169:$D$176)","v":2032.1654471322299},{"$f":"'Product Class Dist'!AA$23*SUMPRODUCT('Efficiency Dist'!AE24:AE30,'UEC Development'!$D$21:$D$27)+'Product Class Dist'!AA$24*SUMPRODUCT('Efficiency Dist'!AE53:AE59,'UEC Development'!$D$37:$D$43)+'Product Class Dist'!AA$25*SUMPRODUCT('Efficiency Dist'!AE82:AE88,'UEC Development'!$D$53:$D$59)+'Product Class Dist'!AA$26*SUMPRODUCT('Efficiency Dist'!AE116:AE127,'UEC Development'!$D$69:$D$80)+'Product Class Dist'!AA$27*SUMPRODUCT('Efficiency Dist'!AE154:AE164,'UEC Development'!$D$90:$D$100)+'Product Class Dist'!AA$28*SUMPRODUCT('Efficiency Dist'!AE192:AE203,'UEC Development'!$D$110:$D$121)+'Product Class Dist'!AA$29*SUMPRODUCT('Efficiency Dist'!AE230:AE240,'UEC Development'!$D$131:$D$141)+'Product Class Dist'!AA$30*SUMPRODUCT('Efficiency Dist'!AE265:AE273,'UEC Development'!$D$151:$D$159)+'Product Class Dist'!AA$31*SUMPRODUCT('Efficiency Dist'!AE297:AE304,'UEC Development'!$D$169:$D$176)","v":2032.1654471322299},{"$f":"'Product Class Dist'!AB$23*SUMPRODUCT('Efficiency Dist'!AF24:AF30,'UEC Development'!$D$21:$D$27)+'Product Class Dist'!AB$24*SUMPRODUCT('Efficiency Dist'!AF53:AF59,'UEC Development'!$D$37:$D$43)+'Product Class Dist'!AB$25*SUMPRODUCT('Efficiency Dist'!AF82:AF88,'UEC Development'!$D$53:$D$59)+'Product Class Dist'!AB$26*SUMPRODUCT('Efficiency Dist'!AF116:AF127,'UEC Development'!$D$69:$D$80)+'Product Class Dist'!AB$27*SUMPRODUCT('Efficiency Dist'!AF154:AF164,'UEC Development'!$D$90:$D$100)+'Product Class Dist'!AB$28*SUMPRODUCT('Efficiency Dist'!AF192:AF203,'UEC Development'!$D$110:$D$121)+'Product Class Dist'!AB$29*SUMPRODUCT('Efficiency Dist'!AF230:AF240,'UEC Development'!$D$131:$D$141)+'Product Class Dist'!AB$30*SUMPRODUCT('Efficiency Dist'!AF265:AF273,'UEC Development'!$D$151:$D$159)+'Product Class Dist'!AB$31*SUMPRODUCT('Efficiency Dist'!AF297:AF304,'UEC Development'!$D$169:$D$176)","v":2032.372798964966},{"$f":"'Product Class Dist'!AC$23*SUMPRODUCT('Efficiency Dist'!AG24:AG30,'UEC Development'!$D$21:$D$27)+'Product Class Dist'!AC$24*SUMPRODUCT('Efficiency Dist'!AG53:AG59,'UEC Development'!$D$37:$D$43)+'Product Class Dist'!AC$25*SUMPRODUCT('Efficiency Dist'!AG82:AG88,'UEC Development'!$D$53:$D$59)+'Product Class Dist'!AC$26*SUMPRODUCT('Efficiency Dist'!AG116:AG127,'UEC Development'!$D$69:$D$80)+'Product Class Dist'!AC$27*SUMPRODUCT('Efficiency Dist'!AG154:AG164,'UEC Development'!$D$90:$D$100)+'Product Class Dist'!AC$28*SUMPRODUCT('Efficiency Dist'!AG192:AG203,'UEC Development'!$D$110:$D$121)+'Product Class Dist'!AC$29*SUMPRODUCT('Efficiency Dist'!AG230:AG240,'UEC Development'!$D$131:$D$141)+'Product Class Dist'!AC$30*SUMPRODUCT('Efficiency Dist'!AG265:AG273,'UEC Development'!$D$151:$D$159)+'Product Class Dist'!AC$31*SUMPRODUCT('Efficiency Dist'!AG297:AG304,'UEC Development'!$D$169:$D$176)","v":2032.3902787370362},{"$f":"'Product Class Dist'!AD$23*SUMPRODUCT('Efficiency Dist'!AH24:AH30,'UEC Development'!$D$21:$D$27)+'Product Class Dist'!AD$24*SUMPRODUCT('Efficiency Dist'!AH53:AH59,'UEC Development'!$D$37:$D$43)+'Product Class Dist'!AD$25*SUMPRODUCT('Efficiency Dist'!AH82:AH88,'UEC Development'!$D$53:$D$59)+'Product Class Dist'!AD$26*SUMPRODUCT('Efficiency Dist'!AH116:AH127,'UEC Development'!$D$69:$D$80)+'Product Class Dist'!AD$27*SUMPRODUCT('Efficiency Dist'!AH154:AH164,'UEC Development'!$D$90:$D$100)+'Product Class Dist'!AD$28*SUMPRODUCT('Efficiency Dist'!AH192:AH203,'UEC Development'!$D$110:$D$121)+'Product Class Dist'!AD$29*SUMPRODUCT('Efficiency Dist'!AH230:AH240,'UEC Development'!$D$131:$D$141)+'Product Class Dist'!AD$30*SUMPRODUCT('Efficiency Dist'!AH265:AH273,'UEC Development'!$D$151:$D$159)+'Product Class Dist'!AD$31*SUMPRODUCT('Efficiency Dist'!AH297:AH304,'UEC Development'!$D$169:$D$176)","v":2032.9397947834796},{"$f":"'Product Class Dist'!AE$23*SUMPRODUCT('Efficiency Dist'!AI24:AI30,'UEC Development'!$D$21:$D$27)+'Product Class Dist'!AE$24*SUMPRODUCT('Efficiency Dist'!AI53:AI59,'UEC Development'!$D$37:$D$43)+'Product Class Dist'!AE$25*SUMPRODUCT('Efficiency Dist'!AI82:AI88,'UEC Development'!$D$53:$D$59)+'Product Class Dist'!AE$26*SUMPRODUCT('Efficiency Dist'!AI116:AI127,'UEC Development'!$D$69:$D$80)+'Product Class Dist'!AE$27*SUMPRODUCT('Efficiency Dist'!AI154:AI164,'UEC Development'!$D$90:$D$100)+'Product Class Dist'!AE$28*SUMPRODUCT('Efficiency Dist'!AI192:AI203,'UEC Development'!$D$110:$D$121)+'Product Class Dist'!AE$29*SUMPRODUCT('Efficiency Dist'!AI230:AI240,'UEC Development'!$D$131:$D$141)+'Product Class Dist'!AE$30*SUMPRODUCT('Efficiency Dist'!AI265:AI273,'UEC Development'!$D$151:$D$159)+'Product Class Dist'!AE$31*SUMPRODUCT('Efficiency Dist'!AI297:AI304,'UEC Development'!$D$169:$D$176)","v":1765.393530415776},{"$f":"'Product Class Dist'!AF$23*SUMPRODUCT('Efficiency Dist'!AJ24:AJ30,'UEC Development'!$D$21:$D$27)+'Product Class Dist'!AF$24*SUMPRODUCT('Efficiency Dist'!AJ53:AJ59,'UEC Development'!$D$37:$D$43)+'Product Class Dist'!AF$25*SUMPRODUCT('Efficiency Dist'!AJ82:AJ88,'UEC Development'!$D$53:$D$59)+'Product Class Dist'!AF$26*SUMPRODUCT('Efficiency Dist'!AJ116:AJ127,'UEC Development'!$D$69:$D$80)+'Product Class Dist'!AF$27*SUMPRODUCT('Efficiency Dist'!AJ154:AJ164,'UEC Development'!$D$90:$D$100)+'Product Class Dist'!AF$28*SUMPRODUCT('Efficiency Dist'!AJ192:AJ203,'UEC Development'!$D$110:$D$121)+'Product Class Dist'!AF$29*SUMPRODUCT('Efficiency Dist'!AJ230:AJ240,'UEC Development'!$D$131:$D$141)+'Product Class Dist'!AF$30*SUMPRODUCT('Efficiency Dist'!AJ265:AJ273,'UEC Development'!$D$151:$D$159)+'Product Class Dist'!AF$31*SUMPRODUCT('Efficiency Dist'!AJ297:AJ304,'UEC Development'!$D$169:$D$176)","v":1767.9012457986591},{"$f":"'Product Class Dist'!AG$23*SUMPRODUCT('Efficiency Dist'!AK24:AK30,'UEC Development'!$D$21:$D$27)+'Product Class Dist'!AG$24*SUMPRODUCT('Efficiency Dist'!AK53:AK59,'UEC Development'!$D$37:$D$43)+'Product Class Dist'!AG$25*SUMPRODUCT('Efficiency Dist'!AK82:AK88,'UEC Development'!$D$53:$D$59)+'Product Class Dist'!AG$26*SUMPRODUCT('Efficiency Dist'!AK116:AK127,'UEC Development'!$D$69:$D$80)+'Product Class Dist'!AG$27*SUMPRODUCT('Efficiency Dist'!AK154:AK164,'UEC Development'!$D$90:$D$100)+'Product Class Dist'!AG$28*SUMPRODUCT('Efficiency Dist'!AK192:AK203,'UEC Development'!$D$110:$D$121)+'Product Class Dist'!AG$29*SUMPRODUCT('Efficiency Dist'!AK230:AK240,'UEC Development'!$D$131:$D$141)+'Product Class Dist'!AG$30*SUMPRODUCT('Efficiency Dist'!AK265:AK273,'UEC Development'!$D$151:$D$159)+'Product Class Dist'!AG$31*SUMPRODUCT('Efficiency Dist'!AK297:AK304,'UEC Development'!$D$169:$D$176)","v":1770.2495181601039},{"$f":"'Product Class Dist'!AH$23*SUMPRODUCT('Efficiency Dist'!AL24:AL30,'UEC Development'!$D$21:$D$27)+'Product Class Dist'!AH$24*SUMPRODUCT('Efficiency Dist'!AL53:AL59,'UEC Development'!$D$37:$D$43)+'Product Class Dist'!AH$25*SUMPRODUCT('Efficiency Dist'!AL82:AL88,'UEC Development'!$D$53:$D$59)+'Product Class Dist'!AH$26*SUMPRODUCT('Efficiency Dist'!AL116:AL127,'UEC Development'!$D$69:$D$80)+'Product Class Dist'!AH$27*SUMPRODUCT('Efficiency Dist'!AL154:AL164,'UEC Development'!$D$90:$D$100)+'Product Class Dist'!AH$28*SUMPRODUCT('Efficiency Dist'!AL192:AL203,'UEC Development'!$D$110:$D$121)+'Product Class Dist'!AH$29*SUMPRODUCT('Efficiency Dist'!AL230:AL240,'UEC Development'!$D$131:$D$141)+'Product Class Dist'!AH$30*SUMPRODUCT('Efficiency Dist'!AL265:AL273,'UEC Development'!$D$151:$D$159)+'Product Class Dist'!AH$31*SUMPRODUCT('Efficiency Dist'!AL297:AL304,'UEC Development'!$D$169:$D$176)","v":1772.0572288248659},{"$f":"'Product Class Dist'!AI$23*SUMPRODUCT('Efficiency Dist'!AM24:AM30,'UEC Development'!$D$21:$D$27)+'Product Class Dist'!AI$24*SUMPRODUCT('Efficiency Dist'!AM53:AM59,'UEC Development'!$D$37:$D$43)+'Product Class Dist'!AI$25*SUMPRODUCT('Efficiency Dist'!AM82:AM88,'UEC Development'!$D$53:$D$59)+'Product Class Dist'!AI$26*SUMPRODUCT('Efficiency Dist'!AM116:AM127,'UEC Development'!$D$69:$D$80)+'Product Class Dist'!AI$27*SUMPRODUCT('Efficiency Dist'!AM154:AM164,'UEC Development'!$D$90:$D$100)+'Product Class Dist'!AI$28*SUMPRODUCT('Efficiency Dist'!AM192:AM203,'UEC Development'!$D$110:$D$121)+'Product Class Dist'!AI$29*SUMPRODUCT('Efficiency Dist'!AM230:AM240,'UEC Development'!$D$131:$D$141)+'Product Class Dist'!AI$30*SUMPRODUCT('Efficiency Dist'!AM265:AM273,'UEC Development'!$D$151:$D$159)+'Product Class Dist'!AI$31*SUMPRODUCT('Efficiency Dist'!AM297:AM304,'UEC Development'!$D$169:$D$176)","v":1773.3986465073235},{"$f":"'Product Class Dist'!AJ$23*SUMPRODUCT('Efficiency Dist'!AN24:AN30,'UEC Development'!$D$21:$D$27)+'Product Class Dist'!AJ$24*SUMPRODUCT('Efficiency Dist'!AN53:AN59,'UEC Development'!$D$37:$D$43)+'Product Class Dist'!AJ$25*SUMPRODUCT('Efficiency Dist'!AN82:AN88,'UEC Development'!$D$53:$D$59)+'Product Class Dist'!AJ$26*SUMPRODUCT('Efficiency Dist'!AN116:AN127,'UEC Development'!$D$69:$D$80)+'Product Class Dist'!AJ$27*SUMPRODUCT('Efficiency Dist'!AN154:AN164,'UEC Development'!$D$90:$D$100)+'Product Class Dist'!AJ$28*SUMPRODUCT('Efficiency Dist'!AN192:AN203,'UEC Development'!$D$110:$D$121)+'Product Class Dist'!AJ$29*SUMPRODUCT('Efficiency Dist'!AN230:AN240,'UEC Development'!$D$131:$D$141)+'Product Class Dist'!AJ$30*SUMPRODUCT('Efficiency Dist'!AN265:AN273,'UEC Development'!$D$151:$D$159)+'Product Class Dist'!AJ$31*SUMPRODUCT('Efficiency Dist'!AN297:AN304,'UEC Development'!$D$169:$D$176)","v":1774.4276031285044},{"$f":"'Product Class Dist'!AK$23*SUMPRODUCT('Efficiency Dist'!AO24:AO30,'UEC Development'!$D$21:$D$27)+'Product Class Dist'!AK$24*SUMPRODUCT('Efficiency Dist'!AO53:AO59,'UEC Development'!$D$37:$D$43)+'Product Class Dist'!AK$25*SUMPRODUCT('Efficiency Dist'!AO82:AO88,'UEC Development'!$D$53:$D$59)+'Product Class Dist'!AK$26*SUMPRODUCT('Efficiency Dist'!AO116:AO127,'UEC Development'!$D$69:$D$80)+'Product Class Dist'!AK$27*SUMPRODUCT('Efficiency Dist'!AO154:AO164,'UEC Development'!$D$90:$D$100)+'Product Class Dist'!AK$28*SUMPRODUCT('Efficiency Dist'!AO192:AO203,'UEC Development'!$D$110:$D$121)+'Product Class Dist'!AK$29*SUMPRODUCT('Efficiency Dist'!AO230:AO240,'UEC Development'!$D$131:$D$141)+'Product Class Dist'!AK$30*SUMPRODUCT('Efficiency Dist'!AO265:AO273,'UEC Development'!$D$151:$D$159)+'Product Class Dist'!AK$31*SUMPRODUCT('Efficiency Dist'!AO297:AO304,'UEC Development'!$D$169:$D$176)","v":1775.0988733831755},{"$f":"'Product Class Dist'!AL$23*SUMPRODUCT('Efficiency Dist'!AP24:AP30,'UEC Development'!$D$21:$D$27)+'Product Class Dist'!AL$24*SUMPRODUCT('Efficiency Dist'!AP53:AP59,'UEC Development'!$D$37:$D$43)+'Product Class Dist'!AL$25*SUMPRODUCT('Efficiency Dist'!AP82:AP88,'UEC Development'!$D$53:$D$59)+'Product Class Dist'!AL$26*SUMPRODUCT('Efficiency Dist'!AP116:AP127,'UEC Development'!$D$69:$D$80)+'Product Class Dist'!AL$27*SUMPRODUCT('Efficiency Dist'!AP154:AP164,'UEC Development'!$D$90:$D$100)+'Product Class Dist'!AL$28*SUMPRODUCT('Efficiency Dist'!AP192:AP203,'UEC Development'!$D$110:$D$121)+'Product Class Dist'!AL$29*SUMPRODUCT('Efficiency Dist'!AP230:AP240,'UEC Development'!$D$131:$D$141)+'Product Class Dist'!AL$30*SUMPRODUCT('Efficiency Dist'!AP265:AP273,'UEC Development'!$D$151:$D$159)+'Product Class Dist'!AL$31*SUMPRODUCT('Efficiency Dist'!AP297:AP304,'UEC Development'!$D$169:$D$176)","v":1775.2647866871466},{"$f":"'Product Class Dist'!AM$23*SUMPRODUCT('Efficiency Dist'!AQ24:AQ30,'UEC Development'!$D$21:$D$27)+'Product Class Dist'!AM$24*SUMPRODUCT('Efficiency Dist'!AQ53:AQ59,'UEC Development'!$D$37:$D$43)+'Product Class Dist'!AM$25*SUMPRODUCT('Efficiency Dist'!AQ82:AQ88,'UEC Development'!$D$53:$D$59)+'Product Class Dist'!AM$26*SUMPRODUCT('Efficiency Dist'!AQ116:AQ127,'UEC Development'!$D$69:$D$80)+'Product Class Dist'!AM$27*SUMPRODUCT('Efficiency Dist'!AQ154:AQ164,'UEC Development'!$D$90:$D$100)+'Product Class Dist'!AM$28*SUMPRODUCT('Efficiency Dist'!AQ192:AQ203,'UEC Development'!$D$110:$D$121)+'Product Class Dist'!AM$29*SUMPRODUCT('Efficiency Dist'!AQ230:AQ240,'UEC Development'!$D$131:$D$141)+'Product Class Dist'!AM$30*SUMPRODUCT('Efficiency Dist'!AQ265:AQ273,'UEC Development'!$D$151:$D$159)+'Product Class Dist'!AM$31*SUMPRODUCT('Efficiency Dist'!AQ297:AQ304,'UEC Development'!$D$169:$D$176)","v":1775.4660438062263},{"$f":"'Product Class Dist'!AN$23*SUMPRODUCT('Efficiency Dist'!AR24:AR30,'UEC Development'!$D$21:$D$27)+'Product Class Dist'!AN$24*SUMPRODUCT('Efficiency Dist'!AR53:AR59,'UEC Development'!$D$37:$D$43)+'Product Class Dist'!AN$25*SUMPRODUCT('Efficiency Dist'!AR82:AR88,'UEC Development'!$D$53:$D$59)+'Product Class Dist'!AN$26*SUMPRODUCT('Efficiency Dist'!AR116:AR127,'UEC Development'!$D$69:$D$80)+'Product Class Dist'!AN$27*SUMPRODUCT('Efficiency Dist'!AR154:AR164,'UEC Development'!$D$90:$D$100)+'Product Class Dist'!AN$28*SUMPRODUCT('Efficiency Dist'!AR192:AR203,'UEC Development'!$D$110:$D$121)+'Product Class Dist'!AN$29*SUMPRODUCT('Efficiency Dist'!AR230:AR240,'UEC Development'!$D$131:$D$141)+'Product Class Dist'!AN$30*SUMPRODUCT('Efficiency Dist'!AR265:AR273,'UEC Development'!$D$151:$D$159)+'Product Class Dist'!AN$31*SUMPRODUCT('Efficiency Dist'!AR297:AR304,'UEC Development'!$D$169:$D$176)","v":1775.86521411172},{"$f":"'Product Class Dist'!AO$23*SUMPRODUCT('Efficiency Dist'!AS24:AS30,'UEC Development'!$D$21:$D$27)+'Product Class Dist'!AO$24*SUMPRODUCT('Efficiency Dist'!AS53:AS59,'UEC Development'!$D$37:$D$43)+'Product Class Dist'!AO$25*SUMPRODUCT('Efficiency Dist'!AS82:AS88,'UEC Development'!$D$53:$D$59)+'Product Class Dist'!AO$26*SUMPRODUCT('Efficiency Dist'!AS116:AS127,'UEC Development'!$D$69:$D$80)+'Product Class Dist'!AO$27*SUMPRODUCT('Efficiency Dist'!AS154:AS164,'UEC Development'!$D$90:$D$100)+'Product Class Dist'!AO$28*SUMPRODUCT('Efficiency Dist'!AS192:AS203,'UEC Development'!$D$110:$D$121)+'Product Class Dist'!AO$29*SUMPRODUCT('Efficiency Dist'!AS230:AS240,'UEC Development'!$D$131:$D$141)+'Product Class Dist'!AO$30*SUMPRODUCT('Efficiency Dist'!AS265:AS273,'UEC Development'!$D$151:$D$159)+'Product Class Dist'!AO$31*SUMPRODUCT('Efficiency Dist'!AS297:AS304,'UEC Development'!$D$169:$D$176)","v":1776.4566271108524},{"$f":"'Product Class Dist'!AP$23*SUMPRODUCT('Efficiency Dist'!AT24:AT30,'UEC Development'!$D$21:$D$27)+'Product Class Dist'!AP$24*SUMPRODUCT('Efficiency Dist'!AT53:AT59,'UEC Development'!$D$37:$D$43)+'Product Class Dist'!AP$25*SUMPRODUCT('Efficiency Dist'!AT82:AT88,'UEC Development'!$D$53:$D$59)+'Product Class Dist'!AP$26*SUMPRODUCT('Efficiency Dist'!AT116:AT127,'UEC Development'!$D$69:$D$80)+'Product Class Dist'!AP$27*SUMPRODUCT('Efficiency Dist'!AT154:AT164,'UEC Development'!$D$90:$D$100)+'Product Class Dist'!AP$28*SUMPRODUCT('Efficiency Dist'!AT192:AT203,'UEC Development'!$D$110:$D$121)+'Product Class Dist'!AP$29*SUMPRODUCT('Efficiency Dist'!AT230:AT240,'UEC Development'!$D$131:$D$141)+'Product Class Dist'!AP$30*SUMPRODUCT('Efficiency Dist'!AT265:AT273,'UEC Development'!$D$151:$D$159)+'Product Class Dist'!AP$31*SUMPRODUCT('Efficiency Dist'!AT297:AT304,'UEC Development'!$D$169:$D$176)","v":1777.1182681479661},{"$f":"'Product Class Dist'!AQ$23*SUMPRODUCT('Efficiency Dist'!AU24:AU30,'UEC Development'!$D$21:$D$27)+'Product Class Dist'!AQ$24*SUMPRODUCT('Efficiency Dist'!AU53:AU59,'UEC Development'!$D$37:$D$43)+'Product Class Dist'!AQ$25*SUMPRODUCT('Efficiency Dist'!AU82:AU88,'UEC Development'!$D$53:$D$59)+'Product Class Dist'!AQ$26*SUMPRODUCT('Efficiency Dist'!AU116:AU127,'UEC Development'!$D$69:$D$80)+'Product Class Dist'!AQ$27*SUMPRODUCT('Efficiency Dist'!AU154:AU164,'UEC Development'!$D$90:$D$100)+'Product Class Dist'!AQ$28*SUMPRODUCT('Efficiency Dist'!AU192:AU203,'UEC Development'!$D$110:$D$121)+'Product Class Dist'!AQ$29*SUMPRODUCT('Efficiency Dist'!AU230:AU240,'UEC Development'!$D$131:$D$141)+'Product Class Dist'!AQ$30*SUMPRODUCT('Efficiency Dist'!AU265:AU273,'UEC Development'!$D$151:$D$159)+'Product Class Dist'!AQ$31*SUMPRODUCT('Efficiency Dist'!AU297:AU304,'UEC Development'!$D$169:$D$176)","v":1777.854097522689},{"$f":"'Product Class Dist'!AR$23*SUMPRODUCT('Efficiency Dist'!AV24:AV30,'UEC Development'!$D$21:$D$27)+'Product Class Dist'!AR$24*SUMPRODUCT('Efficiency Dist'!AV53:AV59,'UEC Development'!$D$37:$D$43)+'Product Class Dist'!AR$25*SUMPRODUCT('Efficiency Dist'!AV82:AV88,'UEC Development'!$D$53:$D$59)+'Product Class Dist'!AR$26*SUMPRODUCT('Efficiency Dist'!AV116:AV127,'UEC Development'!$D$69:$D$80)+'Product Class Dist'!AR$27*SUMPRODUCT('Efficiency Dist'!AV154:AV164,'UEC Development'!$D$90:$D$100)+'Product Class Dist'!AR$28*SUMPRODUCT('Efficiency Dist'!AV192:AV203,'UEC Development'!$D$110:$D$121)+'Product Class Dist'!AR$29*SUMPRODUCT('Efficiency Dist'!AV230:AV240,'UEC Development'!$D$131:$D$141)+'Product Class Dist'!AR$30*SUMPRODUCT('Efficiency Dist'!AV265:AV273,'UEC Development'!$D$151:$D$159)+'Product Class Dist'!AR$31*SUMPRODUCT('Efficiency Dist'!AV297:AV304,'UEC Development'!$D$169:$D$176)","v":1778.6016369045285},{"$f":"'Product Class Dist'!AS$23*SUMPRODUCT('Efficiency Dist'!AW24:AW30,'UEC Development'!$D$21:$D$27)+'Product Class Dist'!AS$24*SUMPRODUCT('Efficiency Dist'!AW53:AW59,'UEC Development'!$D$37:$D$43)+'Product Class Dist'!AS$25*SUMPRODUCT('Efficiency Dist'!AW82:AW88,'UEC Development'!$D$53:$D$59)+'Product Class Dist'!AS$26*SUMPRODUCT('Efficiency Dist'!AW116:AW127,'UEC Development'!$D$69:$D$80)+'Product Class Dist'!AS$27*SUMPRODUCT('Efficiency Dist'!AW154:AW164,'UEC Development'!$D$90:$D$100)+'Product Class Dist'!AS$28*SUMPRODUCT('Efficiency Dist'!AW192:AW203,'UEC Development'!$D$110:$D$121)+'Product Class Dist'!AS$29*SUMPRODUCT('Efficiency Dist'!AW230:AW240,'UEC Development'!$D$131:$D$141)+'Product Class Dist'!AS$30*SUMPRODUCT('Efficiency Dist'!AW265:AW273,'UEC Development'!$D$151:$D$159)+'Product Class Dist'!AS$31*SUMPRODUCT('Efficiency Dist'!AW297:AW304,'UEC Development'!$D$169:$D$176)","v":1779.3127574575449},{"$f":"'Product Class Dist'!AT$23*SUMPRODUCT('Efficiency Dist'!AX24:AX30,'UEC Development'!$D$21:$D$27)+'Product Class Dist'!AT$24*SUMPRODUCT('Efficiency Dist'!AX53:AX59,'UEC Development'!$D$37:$D$43)+'Product Class Dist'!AT$25*SUMPRODUCT('Efficiency Dist'!AX82:AX88,'UEC Development'!$D$53:$D$59)+'Product Class Dist'!AT$26*SUMPRODUCT('Efficiency Dist'!AX116:AX127,'UEC Development'!$D$69:$D$80)+'Product Class Dist'!AT$27*SUMPRODUCT('Efficiency Dist'!AX154:AX164,'UEC Development'!$D$90:$D$100)+'Product Class Dist'!AT$28*SUMPRODUCT('Efficiency Dist'!AX192:AX203,'UEC Development'!$D$110:$D$121)+'Product Class Dist'!AT$29*SUMPRODUCT('Efficiency Dist'!AX230:AX240,'UEC Development'!$D$131:$D$141)+'Product Class Dist'!AT$30*SUMPRODUCT('Efficiency Dist'!AX265:AX273,'UEC Development'!$D$151:$D$159)+'Product Class Dist'!AT$31*SUMPRODUCT('Efficiency Dist'!AX297:AX304,'UEC Development'!$D$169:$D$176)","v":1780.0944665630686},{"$f":"'Product Class Dist'!AU$23*SUMPRODUCT('Efficiency Dist'!AY24:AY30,'UEC Development'!$D$21:$D$27)+'Product Class Dist'!AU$24*SUMPRODUCT('Efficiency Dist'!AY53:AY59,'UEC Development'!$D$37:$D$43)+'Product Class Dist'!AU$25*SUMPRODUCT('Efficiency Dist'!AY82:AY88,'UEC Development'!$D$53:$D$59)+'Product Class Dist'!AU$26*SUMPRODUCT('Efficiency Dist'!AY116:AY127,'UEC Development'!$D$69:$D$80)+'Product Class Dist'!AU$27*SUMPRODUCT('Efficiency Dist'!AY154:AY164,'UEC Development'!$D$90:$D$100)+'Product Class Dist'!AU$28*SUMPRODUCT('Efficiency Dist'!AY192:AY203,'UEC Development'!$D$110:$D$121)+'Product Class Dist'!AU$29*SUMPRODUCT('Efficiency Dist'!AY230:AY240,'UEC Development'!$D$131:$D$141)+'Product Class Dist'!AU$30*SUMPRODUCT('Efficiency Dist'!AY265:AY273,'UEC Development'!$D$151:$D$159)+'Product Class Dist'!AU$31*SUMPRODUCT('Efficiency Dist'!AY297:AY304,'UEC Development'!$D$169:$D$176)","v":1780.8370104224521},{"$f":"'Product Class Dist'!AV$23*SUMPRODUCT('Efficiency Dist'!AZ24:AZ30,'UEC Development'!$D$21:$D$27)+'Product Class Dist'!AV$24*SUMPRODUCT('Efficiency Dist'!AZ53:AZ59,'UEC Development'!$D$37:$D$43)+'Product Class Dist'!AV$25*SUMPRODUCT('Efficiency Dist'!AZ82:AZ88,'UEC Development'!$D$53:$D$59)+'Product Class Dist'!AV$26*SUMPRODUCT('Efficiency Dist'!AZ116:AZ127,'UEC Development'!$D$69:$D$80)+'Product Class Dist'!AV$27*SUMPRODUCT('Efficiency Dist'!AZ154:AZ164,'UEC Development'!$D$90:$D$100)+'Product Class Dist'!AV$28*SUMPRODUCT('Efficiency Dist'!AZ192:AZ203,'UEC Development'!$D$110:$D$121)+'Product Class Dist'!AV$29*SUMPRODUCT('Efficiency Dist'!AZ230:AZ240,'UEC Development'!$D$131:$D$141)+'Product Class Dist'!AV$30*SUMPRODUCT('Efficiency Dist'!AZ265:AZ273,'UEC Development'!$D$151:$D$159)+'Product Class Dist'!AV$31*SUMPRODUCT('Efficiency Dist'!AZ297:AZ304,'UEC Development'!$D$169:$D$176)","v":1781.4491126419975}]
[]
[]
[null,null,"Installed UEC (Vintage Weighted Average) "]
[null,null,null,1990,{"$f":"D44+1","v":1991},{"$f":"E44+1","v":1992},{"$f":"F44+1","v":1993},{"$f":"G44+1","v":1994},{"$f":"H44+1","v":1995},{"$f":"I44+1","v":1996},{"$f":"J44+1","v":1997},{"$f":"K44+1","v":1998},{"$f":"L44+1","v":1999},{"$f":"M44+1","v":2000},{"$f":"N44+1","v":2001},{"$f":"O44+1","v":2002},{"$f":"P44+1","v":2003},{"$f":"Q44+1","v":2004},{"$f":"R44+1","v":2005},{"$f":"S44+1","v":2006},{"$f":"T44+1","v":2007},{"$f":"U44+1","v":2008},{"$f":"V44+1","v":2009},{"$f":"W44+1","v":2010},{"$f":"X44+1","v":2011},{"$f":"Y44+1","v":2012},{"$f":"Z44+1","v":2013},{"$f":"AA44+1","v":2014},{"$f":"AB44+1","v":2015},{"$f":"AC44+1","v":2016},{"$f":"AD44+1","v":2017},{"$f":"AE44+1","v":2018},{"$f":"AF44+1","v":2019},{"$f":"AG44+1","v":2020},{"$f":"AH44+1","v":2021},{"$f":"AI44+1","v":2022},{"$f":"AJ44+1","v":2023},{"$f":"AK44+1","v":2024},{"$f":"AL44+1","v":2025},{"$f":"AM44+1","v":2026},{"$f":"AN44+1","v":2027},{"$f":"AO44+1","v":2028},{"$f":"AP44+1","v":2029},{"$f":"AQ44+1","v":2030},{"$f":"AR44+1","v":2031},{"$f":"AS44+1","v":2032},{"$f":"AT44+1","v":2033},{"$f":"AU44+1","v":2034}]
[null,null,"PRE-Case UEC",{"$f":"IF(D$44-$D$44<=CompLifetime,D39,\nSUMPRODUCT(OFFSET(D39,0,(-1*CompLifetime)+1,1,CompLifetime),OFFSET('Shipments and Stock - Component'!E$17,0,(-1*CompLifetime)+1,1,CompLifetime))/SUM(OFFSET('Shipments and Stock - Component'!E$17,0,(-1*CompLifetime)+1,1,CompLifetime)))","v":2416.7190282158467},{"$f":"IF(E$44-$D$44<=CompLifetime,E39,\nSUMPRODUCT(OFFSET(E39,0,(-1*CompLifetime)+1,1,CompLifetime),OFFSET('Shipments and Stock - Component'!F$17,0,(-1*CompLifetime)+1,1,CompLifetime))/SUM(OFFSET('Shipments and Stock - Component'!F$17,0,(-1*CompLifetime)+1,1,CompLifetime)))","v":2416.7190282158467},{"$f":"IF(F$44-$D$44<=CompLifetime,F39,\nSUMPRODUCT(OFFSET(F39,0,(-1*CompLifetime)+1,1,CompLifetime),OFFSET('Shipments and Stock - Component'!G$17,0,(-1*CompLifetime)+1,1,CompLifetime))/SUM(OFFSET('Shipments and Stock - Component'!G$17,0,(-1*CompLifetime)+1,1,CompLifetime)))","v":2416.7190282158467},{"$f":"IF(G$44-$D$44<=CompLifetime,G39,\nSUMPRODUCT(OFFSET(G39,0,(-1*CompLifetime)+1,1,CompLifetime),OFFSET('Shipments and Stock - Component'!H$17,0,(-1*CompLifetime)+1,1,CompLifetime))/SUM(OFFSET('Shipments and Stock - Component'!H$17,0,(-1*CompLifetime)+1,1,CompLifetime)))","v":2416.7190282158467},{"$f":"IF(H$44-$D$44<=CompLifetime,H39,\nSUMPRODUCT(OFFSET(H39,0,(-1*CompLifetime)+1,1,CompLifetime),OFFSET('Shipments and Stock - Component'!I$17,0,(-1*CompLifetime)+1,1,CompLifetime))/SUM(OFFSET('Shipments and Stock - Component'!I$17,0,(-1*CompLifetime)+1,1,CompLifetime)))","v":2416.7190282158467},{"$f":"IF(I$44-$D$44<=CompLifetime,I39,\nSUMPRODUCT(OFFSET(I39,0,(-1*CompLifetime)+1,1,CompLifetime),OFFSET('Shipments and Stock - Component'!J$17,0,(-1*CompLifetime)+1,1,CompLifetime))/SUM(OFFSET('Shipments and Stock - Component'!J$17,0,(-1*CompLifetime)+1,1,CompLifetime)))","v":2416.7190282158467},{"$f":"IF(J$44-$D$44<=CompLifetime,J39,\nSUMPRODUCT(OFFSET(J39,0,(-1*CompLifetime)+1,1,CompLifetime),OFFSET('Shipments and Stock - Component'!K$17,0,(-1*CompLifetime)+1,1,CompLifetime))/SUM(OFFSET('Shipments and Stock - Component'!K$17,0,(-1*CompLifetime)+1,1,CompLifetime)))","v":2416.7190282158467},{"$f":"IF(K$44-$D$44<=CompLifetime,K39,\nSUMPRODUCT(OFFSET(K39,0,(-1*CompLifetime)+1,1,CompLifetime),OFFSET('Shipments and Stock - Component'!L$17,0,(-1*CompLifetime)+1,1,CompLifetime))/SUM(OFFSET('Shipments and Stock - Component'!L$17,0,(-1*CompLifetime)+1,1,CompLifetime)))","v":2416.7190282158467},{"$f":"IF(L$44-$D$44<=CompLifetime,L39,\nSUMPRODUCT(OFFSET(L39,0,(-1*CompLifetime)+1,1,CompLifetime),OFFSET('Shipments and Stock - Component'!M$17,0,(-1*CompLifetime)+1,1,CompLifetime))/SUM(OFFSET('Shipments and Stock - Component'!M$17,0,(-1*CompLifetime)+1,1,CompLifetime)))","v":2416.7190282158467},{"$f":"IF(M$44-$D$44<=CompLifetime,M39,\nSUMPRODUCT(OFFSET(M39,0,(-1*CompLifetime)+1,1,CompLifetime),OFFSET('Shipments and Stock - Component'!N$17,0,(-1*CompLifetime)+1,1,CompLifetime))/SUM(OFFSET('Shipments and Stock - Component'!N$17,0,(-1*CompLifetime)+1,1,CompLifetime)))","v":2416.7190282158467},{"$f":"IF(N$44-$D$44<=CompLifetime,N39,\nSUMPRODUCT(OFFSET(N39,0,(-1*CompLifetime)+1,1,CompLifetime),OFFSET('Shipments and Stock - Component'!O$17,0,(-1*CompLifetime)+1,1,CompLifetime))/SUM(OFFSET('Shipments and Stock - Component'!O$17,0,(-1*CompLifetime)+1,1,CompLifetime)))","v":2416.7190282158467},{"$f":"IF(O$44-$D$44<=CompLifetime,O39,\nSUMPRODUCT(OFFSET(O39,0,(-1*CompLifetime)+1,1,CompLifetime),OFFSET('Shipments and Stock - Component'!P$17,0,(-1*CompLifetime)+1,1,CompLifetime))/SUM(OFFSET('Shipments and Stock - Component'!P$17,0,(-1*CompLifetime)+1,1,CompLifetime)))","v":2416.7190282158467},{"$f":"IF(P$44-$D$44<=CompLifetime,P39,\nSUMPRODUCT(OFFSET(P39,0,(-1*CompLifetime)+1,1,CompLifetime),OFFSET('Shipments and Stock - Component'!Q$17,0,(-1*CompLifetime)+1,1,CompLifetime))/SUM(OFFSET('Shipments and Stock - Component'!Q$17,0,(-1*CompLifetime)+1,1,CompLifetime)))","v":2416.7190282158467},{"$f":"IF(Q$44-$D$44<=CompLifetime,Q39,\nSUMPRODUCT(OFFSET(Q39,0,(-1*CompLifetime)+1,1,CompLifetime),OFFSET('Shipments and Stock - Component'!R$17,0,(-1*CompLifetime)+1,1,CompLifetime))/SUM(OFFSET('Shipments and Stock - Component'!R$17,0,(-1*CompLifetime)+1,1,CompLifetime)))","v":{"$error":"#VALUE!"}},{"$f":"IF(R$44-$D$44<=CompLifetime,R39,\nSUMPRODUCT(OFFSET(R39,0,(-1*CompLifetime)+1,1,CompLifetime),OFFSET('Shipments and Stock - Component'!S$17,0,(-1*CompLifetime)+1,1,CompLifetime))/SUM(OFFSET('Shipments and Stock - Component'!S$17,0,(-1*CompLifetime)+1,1,CompLifetime)))","v":{"$error":"#VALUE!"}},{"$f":"IF(S$44-$D$44<=CompLifetime,S39,\nSUMPRODUCT(OFFSET(S39,0,(-1*CompLifetime)+1,1,CompLifetime),OFFSET('Shipments and Stock - Component'!T$17,0,(-1*CompLifetime)+1,1,CompLifetime))/SUM(OFFSET('Shipments and Stock - Component'!T$17,0,(-1*CompLifetime)+1,1,CompLifetime)))","v":{"$error":"#VALUE!"}},{"$f":"IF(T$44-$D$44<=CompLifetime,T39,\nSUMPRODUCT(OFFSET(T39,0,(-1*CompLifetime)+1,1,CompLifetime),OFFSET('Shipments and Stock - Component'!U$17,0,(-1*CompLifetime)+1,1,CompLifetime))/SUM(OFFSET('Shipments and Stock - Component'!U$17,0,(-1*CompLifetime)+1,1,CompLifetime)))","v":{"$error":"#VALUE!"}},{"$f":"IF(U$44-$D$44<=CompLifetime,U39,\nSUMPRODUCT(OFFSET(U39,0,(-1*CompLifetime)+1,1,CompLifetime),OFFSET('Shipments and Stock - Component'!V$17,0,(-1*CompLifetime)+1,1,CompLifetime))/SUM(OFFSET('Shipments and Stock - Component'!V$17,0,(-1*CompLifetime)+1,1,CompLifetime)))","v":{"$error":"#VALUE!"}},{"$f":"IF(V$44-$D$44<=CompLifetime,V39,\nSUMPRODUCT(OFFSET(V39,0,(-1*CompLifetime)+1,1,CompLifetime),OFFSET('Shipments and Stock - Component'!W$17,0,(-1*CompLifetime)+1,1,CompLifetime))/SUM(OFFSET('Shipments and Stock - Component'!W$17,0,(-1*CompLifetime)+1,1,CompLifetime)))","v":{"$error":"#VALUE!"}},{"$f":"IF(W$44-$D$44<=CompLifetime,W39,\nSUMPRODUCT(OFFSET(W39,0,(-1*CompLifetime)+1,1,CompLifetime),OFFSET('Shipments and Stock - Component'!X$17,0,(-1*CompLifetime)+1,1,CompLifetime))/SUM(OFFSET('Shipments and Stock - Component'!X$17,0,(-1*CompLifetime)+1,1,CompLifetime)))","v":{"$error":"#VALUE!"}},{"$f":"IF(X$44-$D$44<=CompLifetime,X39,\nSUMPRODUCT(OFFSET(X39,0,(-1*CompLifetime)+1,1,CompLifetime),OFFSET('Shipments and Stock - Component'!Y$17,0,(-1*CompLifetime)+1,1,CompLifetime))/SUM(OFFSET('Shipments and Stock - Component'!Y$17,0,(-1*CompLifetime)+1,1,CompLifetime)))","v":{"$error":"#VALUE!"}},{"$f":"IF(Y$44-$D$44<=CompLifetime,Y39,\nSUMPRODUCT(OFFSET(Y39,0,(-1*CompLifetime)+1,1,CompLifetime),OFFSET('Shipments and Stock - Component'!Z$17,0,(-1*CompLifetime)+1,1,CompLifetime))/SUM(OFFSET('Shipments and Stock - Component'!Z$17,0,(-1*CompLifetime)+1,1,CompLifetime)))","v":{"$error":"#VALUE!"}},{"$f":"IF(Z$44-$D$44<=CompLifetime,Z39,\nSUMPRODUCT(OFFSET(Z39,0,(-1*CompLifetime)+1,1,CompLifetime),OFFSET('Shipments and Stock - Component'!AA$17,0,(-1*CompLifetime)+1,1,CompLifetime))/SUM(OFFSET('Shipments and Stock - Component'!AA$17,0,(-1*CompLifetime)+1,1,CompLifetime)))","v":{"$error":"#VALUE!"}},{"$f":"IF(AA$44-$D$44<=CompLifetime,AA39,\nSUMPRODUCT(OFFSET(AA39,0,(-1*CompLifetime)+1,1,CompLifetime),OFFSET('Shipments and Stock - Component'!AB$17,0,(-1*CompLifetime)+1,1,CompLifetime))/SUM(OFFSET('Shipments and Stock - Component'!AB$17,0,(-1*CompLifetime)+1,1,CompLifetime)))","v":{"$error":"#VALUE!"}},{"$f":"IF(AB$44-$D$44<=CompLifetime,AB39,\nSUMPRODUCT(OFFSET(AB39,0,(-1*CompLifetime)+1,1,CompLifetime),OFFSET('Shipments and Stock - Component'!AC$17,0,(-1*CompLifetime)+1,1,CompLifetime))/SUM(OFFSET('Shipments and Stock - Component'!AC$17,0,(-1*CompLifetime)+1,1,CompLifetime)))","v":{"$error":"#VALUE!"}},{"$f":"IF(AC$44-$D$44<=CompLifetime,AC39,\nSUMPRODUCT(OFFSET(AC39,0,(-1*CompLifetime)+1,1,CompLifetime),OFFSET('Shipments and Stock - Component'!AD$17,0,(-1*CompLifetime)+1,1,CompLifetime))/SUM(OFFSET('Shipments and Stock - Component'!AD$17,0,(-1*CompLifetime)+1,1,CompLifetime)))","v":{"$error":"#VALUE!"}},{"$f":"IF(AD$44-$D$44<=CompLifetime,AD39,\nSUMPRODUCT(OFFSET(AD39,0,(-1*CompLifetime)+1,1,CompLifetime),OFFSET('Shipments and Stock - Component'!AE$17,0,(-1*CompLifetime)+1,1,CompLifetime))/SUM(OFFSET('Shipments and Stock - Component'!AE$17,0,(-1*CompLifetime)+1,1,CompLifetime)))","v":{"$error":"#VALUE!"}},{"$f":"IF(AE$44-$D$44<=CompLifetime,AE39,\nSUMPRODUCT(OFFSET(AE39,0,(-1*CompLifetime)+1,1,CompLifetime),OFFSET('Shipments and Stock - Component'!AF$17,0,(-1*CompLifetime)+1,1,CompLifetime))/SUM(OFFSET('Shipments and Stock - Component'!AF$17,0,(-1*CompLifetime)+1,1,CompLifetime)))","v":{"$error":"#VALUE!"}},{"$f":"IF(AF$44-$D$44<=CompLifetime,AF39,\nSUMPRODUCT(OFFSET(AF39,0,(-1*CompLifetime)+1,1,CompLifetime),OFFSET('Shipments and Stock - Component'!AG$17,0,(-1*CompLifetime)+1,1,CompLifetime))/SUM(OFFSET('Shipments and Stock - Component'!AG$17,0,(-1*CompLifetime)+1,1,CompLifetime)))","v":{"$error":"#VALUE!"}},{"$f":"IF(AG$44-$D$44<=CompLifetime,AG39,\nSUMPRODUCT(OFFSET(AG39,0,(-1*CompLifetime)+1,1,CompLifetime),OFFSET('Shipments and Stock - Component'!AH$17,0,(-1*CompLifetime)+1,1,CompLifetime))/SUM(OFFSET('Shipments and Stock - Component'!AH$17,0,(-1*CompLifetime)+1,1,CompLifetime)))","v":{"$error":"#VALUE!"}},{"$f":"IF(AH$44-$D$44<=CompLifetime,AH39,\nSUMPRODUCT(OFFSET(AH39,0,(-1*CompLifetime)+1,1,CompLifetime),OFFSET('Shipments and Stock - Component'!AI$17,0,(-1*CompLifetime)+1,1,CompLifetime))/SUM(OFFSET('Shipments and Stock - Component'!AI$17,0,(-1*CompLifetime)+1,1,CompLifetime)))","v":{"$error":"#VALUE!"}},{"$f":"IF(AI$44-$D$44<=CompLifetime,AI39,\nSUMPRODUCT(OFFSET(AI39,0,(-1*CompLifetime)+1,1,CompLifetime),OFFSET('Shipments and Stock - Component'!AJ$17,0,(-1*CompLifetime)+1,1,CompLifetime))/SUM(OFFSET('Shipments and Stock - Component'!AJ$17,0,(-1*CompLifetime)+1,1,CompLifetime)))","v":{"$error":"#VALUE!"}},{"$f":"IF(AJ$44-$D$44<=CompLifetime,AJ39,\nSUMPRODUCT(OFFSET(AJ39,0,(-1*CompLifetime)+1,1,CompLifetime),OFFSET('Shipments and Stock - Component'!AK$17,0,(-1*CompLifetime)+1,1,CompLifetime))/SUM(OFFSET('Shipments and Stock - Component'!AK$17,0,(-1*CompLifetime)+1,1,CompLifetime)))","v":{"$error":"#VALUE!"}},{"$f":"IF(AK$44-$D$44<=CompLifetime,AK39,\nSUMPRODUCT(OFFSET(AK39,0,(-1*CompLifetime)+1,1,CompLifetime),OFFSET('Shipments and Stock - Component'!AL$17,0,(-1*CompLifetime)+1,1,CompLifetime))/SUM(OFFSET('Shipments and Stock - Component'!AL$17,0,(-1*CompLifetime)+1,1,CompLifetime)))","v":{"$error":"#VALUE!"}},{"$f":"IF(AL$44-$D$44<=CompLifetime,AL39,\nSUMPRODUCT(OFFSET(AL39,0,(-1*CompLifetime)+1,1,CompLifetime),OFFSET('Shipments and Stock - Component'!AM$17,0,(-1*CompLifetime)+1,1,CompLifetime))/SUM(OFFSET('Shipments and Stock - Component'!AM$17,0,(-1*CompLifetime)+1,1,CompLifetime)))","v":{"$error":"#VALUE!"}},{"$f":"IF(AM$44-$D$44<=CompLifetime,AM39,\nSUMPRODUCT(OFFSET(AM39,0,(-1*CompLifetime)+1,1,CompLifetime),OFFSET('Shipments and Stock - Component'!AN$17,0,(-1*CompLifetime)+1,1,CompLifetime))/SUM(OFFSET('Shipments and Stock - Component'!AN$17,0,(-1*CompLifetime)+1,1,CompLifetime)))","v":{"$error":"#VALUE!"}},{"$f":"IF(AN$44-$D$44<=CompLifetime,AN39,\nSUMPRODUCT(OFFSET(AN39,0,(-1*CompLifetime)+1,1,CompLifetime),OFFSET('Shipments and Stock - Component'!AO$17,0,(-1*CompLifetime)+1,1,CompLifetime))/SUM(OFFSET('Shipments and Stock - Component'!AO$17,0,(-1*CompLifetime)+1,1,CompLifetime)))","v":{"$error":"#VALUE!"}},{"$f":"IF(AO$44-$D$44<=CompLifetime,AO39,\nSUMPRODUCT(OFFSET(AO39,0,(-1*CompLifetime)+1,1,CompLifetime),OFFSET('Shipments and Stock - Component'!AP$17,0,(-1*CompLifetime)+1,1,CompLifetime))/SUM(OFFSET('Shipments and Stock - Component'!AP$17,0,(-1*CompLifetime)+1,1,CompLifetime)))","v":{"$error":"#VALUE!"}},{"$f":"IF(AP$44-$D$44<=CompLifetime,AP39,\nSUMPRODUCT(OFFSET(AP39,0,(-1*CompLifetime)+1,1,CompLifetime),OFFSET('Shipments and Stock - Component'!AQ$17,0,(-1*CompLifetime)+1,1,CompLifetime))/SUM(OFFSET('Shipments and Stock - Component'!AQ$17,0,(-1*CompLifetime)+1,1,CompLifetime)))","v":{"$error":"#VALUE!"}},{"$f":"IF(AQ$44-$D$44<=CompLifetime,AQ39,\nSUMPRODUCT(OFFSET(AQ39,0,(-1*CompLifetime)+1,1,CompLifetime),OFFSET('Shipments and Stock - Component'!AR$17,0,(-1*CompLifetime)+1,1,CompLifetime))/SUM(OFFSET('Shipments and Stock - Component'!AR$17,0,(-1*CompLifetime)+1,1,CompLifetime)))","v":{"$error":"#VALUE!"}},{"$f":"IF(AR$44-$D$44<=CompLifetime,AR39,\nSUMPRODUCT(OFFSET(AR39,0,(-1*CompLifetime)+1,1,CompLifetime),OFFSET('Shipments and Stock - Component'!AS$17,0,(-1*CompLifetime)+1,1,CompLifetime))/SUM(OFFSET('Shipments and Stock - Component'!AS$17,0,(-1*CompLifetime)+1,1,CompLifetime)))","v":{"$error":"#VALUE!"}},{"$f":"IF(AS$44-$D$44<=CompLifetime,AS39,\nSUMPRODUCT(OFFSET(AS39,0,(-1*CompLifetime)+1,1,CompLifetime),OFFSET('Shipments and Stock - Component'!AT$17,0,(-1*CompLifetime)+1,1,CompLifetime))/SUM(OFFSET('Shipments and Stock - Component'!AT$17,0,(-1*CompLifetime)+1,1,CompLifetime)))","v":{"$error":"#VALUE!"}},{"$f":"IF(AT$44-$D$44<=CompLifetime,AT39,\nSUMPRODUCT(OFFSET(AT39,0,(-1*CompLifetime)+1,1,CompLifetime),OFFSET('Shipments and Stock - Component'!AU$17,0,(-1*CompLifetime)+1,1,CompLifetime))/SUM(OFFSET('Shipments and Stock - Component'!AU$17,0,(-1*CompLifetime)+1,1,CompLifetime)))","v":{"$error":"#VALUE!"}},{"$f":"IF(AU$44-$D$44<=CompLifetime,AU39,\nSUMPRODUCT(OFFSET(AU39,0,(-1*CompLifetime)+1,1,CompLifetime),OFFSET('Shipments and Stock - Component'!AV$17,0,(-1*CompLifetime)+1,1,CompLifetime))/SUM(OFFSET('Shipments and Stock - Component'!AV$17,0,(-1*CompLifetime)+1,1,CompLifetime)))","v":{"$error":"#VALUE!"}},{"$f":"IF(AV$44-$D$44<=CompLifetime,AV39,\nSUMPRODUCT(OFFSET(AV39,0,(-1*CompLifetime)+1,1,CompLifetime),OFFSET('Shipments and Stock - Component'!AW$17,0,(-1*CompLifetime)+1,1,CompLifetime))/SUM(OFFSET('Shipments and Stock - Component'!AW$17,0,(-1*CompLifetime)+1,1,CompLifetime)))","v":{"$error":"#VALUE!"}}]
[null,null,"POST-Case UEC",{"$f":"IF(D$44-$D$44<CompLifetime,D40,\nSUMPRODUCT(OFFSET(D40,0,(-1*CompLifetime)+1,1,CompLifetime),OFFSET('Shipments and Stock - Component'!E$17,0,(-1*CompLifetime)+1,1,CompLifetime))/SUM(OFFSET('Shipments and Stock - Component'!E$17,0,(-1*CompLifetime)+1,1,CompLifetime)))","v":2416.7190282158467},{"$f":"IF(E$44-$D$44<CompLifetime,E40,\nSUMPRODUCT(OFFSET(E40,0,(-1*CompLifetime)+1,1,CompLifetime),OFFSET('Shipments and Stock - Component'!F$17,0,(-1*CompLifetime)+1,1,CompLifetime))/SUM(OFFSET('Shipments and Stock - Component'!F$17,0,(-1*CompLifetime)+1,1,CompLifetime)))","v":2416.7190282158467},{"$f":"IF(F$44-$D$44<CompLifetime,F40,\nSUMPRODUCT(OFFSET(F40,0,(-1*CompLifetime)+1,1,CompLifetime),OFFSET('Shipments and Stock - Component'!G$17,0,(-1*CompLifetime)+1,1,CompLifetime))/SUM(OFFSET('Shipments and Stock - Component'!G$17,0,(-1*CompLifetime)+1,1,CompLifetime)))","v":2416.7190282158467},{"$f":"IF(G$44-$D$44<CompLifetime,G40,\nSUMPRODUCT(OFFSET(G40,0,(-1*CompLifetime)+1,1,CompLifetime),OFFSET('Shipments and Stock - Component'!H$17,0,(-1*CompLifetime)+1,1,CompLifetime))/SUM(OFFSET('Shipments and Stock - Component'!H$17,0,(-1*CompLifetime)+1,1,CompLifetime)))","v":2416.7190282158467},{"$f":"IF(H$44-$D$44<CompLifetime,H40,\nSUMPRODUCT(OFFSET(H40,0,(-1*CompLifetime)+1,1,CompLifetime),OFFSET('Shipments and Stock - Component'!I$17,0,(-1*CompLifetime)+1,1,CompLifetime))/SUM(OFFSET('Shipments and Stock - Component'!I$17,0,(-1*CompLifetime)+1,1,CompLifetime)))","v":2416.7190282158467},{"$f":"IF(I$44-$D$44<CompLifetime,I40,\nSUMPRODUCT(OFFSET(I40,0,(-1*CompLifetime)+1,1,CompLifetime),OFFSET('Shipments and Stock - Component'!J$17,0,(-1*CompLifetime)+1,1,CompLifetime))/SUM(OFFSET('Shipments and Stock - Component'!J$17,0,(-1*CompLifetime)+1,1,CompLifetime)))","v":2416.7190282158467},{"$f":"IF(J$44-$D$44<CompLifetime,J40,\nSUMPRODUCT(OFFSET(J40,0,(-1*CompLifetime)+1,1,CompLifetime),OFFSET('Shipments and Stock - Component'!K$17,0,(-1*CompLifetime)+1,1,CompLifetime))/SUM(OFFSET('Shipments and Stock - Component'!K$17,0,(-1*CompLifetime)+1,1,CompLifetime)))","v":2416.7190282158467},{"$f":"IF(K$44-$D$44<CompLifetime,K40,\nSUMPRODUCT(OFFSET(K40,0,(-1*CompLifetime)+1,1,CompLifetime),OFFSET('Shipments and Stock - Component'!L$17,0,(-1*CompLifetime)+1,1,CompLifetime))/SUM(OFFSET('Shipments and Stock - Component'!L$17,0,(-1*CompLifetime)+1,1,CompLifetime)))","v":2416.7190282158467},{"$f":"IF(L$44-$D$44<CompLifetime,L40,\nSUMPRODUCT(OFFSET(L40,0,(-1*CompLifetime)+1,1,CompLifetime),OFFSET('Shipments and Stock - Component'!M$17,0,(-1*CompLifetime)+1,1,CompLifetime))/SUM(OFFSET('Shipments and Stock - Component'!M$17,0,(-1*CompLifetime)+1,1,CompLifetime)))","v":2416.7190282158467},{"$f":"IF(M$44-$D$44<CompLifetime,M40,\nSUMPRODUCT(OFFSET(M40,0,(-1*CompLifetime)+1,1,CompLifetime),OFFSET('Shipments and Stock - Component'!N$17,0,(-1*CompLifetime)+1,1,CompLifetime))/SUM(OFFSET('Shipments and Stock - Component'!N$17,0,(-1*CompLifetime)+1,1,CompLifetime)))","v":2416.7190282158467},{"$f":"IF(N$44-$D$44<CompLifetime,N40,\nSUMPRODUCT(OFFSET(N40,0,(-1*CompLifetime)+1,1,CompLifetime),OFFSET('Shipments and Stock - Component'!O$17,0,(-1*CompLifetime)+1,1,CompLifetime))/SUM(OFFSET('Shipments and Stock - Component'!O$17,0,(-1*CompLifetime)+1,1,CompLifetime)))","v":2416.7190282158467},{"$f":"IF(O$44-$D$44<CompLifetime,O40,\nSUMPRODUCT(OFFSET(O40,0,(-1*CompLifetime)+1,1,CompLifetime),OFFSET('Shipments and Stock - Component'!P$17,0,(-1*CompLifetime)+1,1,CompLifetime))/SUM(OFFSET('Shipments and Stock - Component'!P$17,0,(-1*CompLifetime)+1,1,CompLifetime)))","v":2416.7190282158467},{"$f":"IF(P$44-$D$44<CompLifetime,P40,\nSUMPRODUCT(OFFSET(P40,0,(-1*CompLifetime)+1,1,CompLifetime),OFFSET('Shipments and Stock - Component'!Q$17,0,(-1*CompLifetime)+1,1,CompLifetime))/SUM(OFFSET('Shipments and Stock - Component'!Q$17,0,(-1*CompLifetime)+1,1,CompLifetime)))","v":{"$error":"#VALUE!"}},{"$f":"IF(Q$44-$D$44<CompLifetime,Q40,\nSUMPRODUCT(OFFSET(Q40,0,(-1*CompLifetime)+1,1,CompLifetime),OFFSET('Shipments and Stock - Component'!R$17,0,(-1*CompLifetime)+1,1,CompLifetime))/SUM(OFFSET('Shipments and Stock - Component'!R$17,0,(-1*CompLifetime)+1,1,CompLifetime)))","v":{"$error":"#VALUE!"}},{"$f":"IF(R$44-$D$44<CompLifetime,R40,\nSUMPRODUCT(OFFSET(R40,0,(-1*CompLifetime)+1,1,CompLifetime),OFFSET('Shipments and Stock - Component'!S$17,0,(-1*CompLifetime)+1,1,CompLifetime))/SUM(OFFSET('Shipments and Stock - Component'!S$17,0,(-1*CompLifetime)+1,1,CompLifetime)))","v":{"$error":"#VALUE!"}},{"$f":"IF(S$44-$D$44<CompLifetime,S40,\nSUMPRODUCT(OFFSET(S40,0,(-1*CompLifetime)+1,1,CompLifetime),OFFSET('Shipments and Stock - Component'!T$17,0,(-1*CompLifetime)+1,1,CompLifetime))/SUM(OFFSET('Shipments and Stock - Component'!T$17,0,(-1*CompLifetime)+1,1,CompLifetime)))","v":{"$error":"#VALUE!"}},{"$f":"IF(T$44-$D$44<CompLifetime,T40,\nSUMPRODUCT(OFFSET(T40,0,(-1*CompLifetime)+1,1,CompLifetime),OFFSET('Shipments and Stock - Component'!U$17,0,(-1*CompLifetime)+1,1,CompLifetime))/SUM(OFFSET('Shipments and Stock - Component'!U$17,0,(-1*CompLifetime)+1,1,CompLifetime)))","v":{"$error":"#VALUE!"}},{"$f":"IF(U$44-$D$44<CompLifetime,U40,\nSUMPRODUCT(OFFSET(U40,0,(-1*CompLifetime)+1,1,CompLifetime),OFFSET('Shipments and Stock - Component'!V$17,0,(-1*CompLifetime)+1,1,CompLifetime))/SUM(OFFSET('Shipments and Stock - Component'!V$17,0,(-1*CompLifetime)+1,1,CompLifetime)))","v":{"$error":"#VALUE!"}},{"$f":"IF(V$44-$D$44<CompLifetime,V40,\nSUMPRODUCT(OFFSET(V40,0,(-1*CompLifetime)+1,1,CompLifetime),OFFSET('Shipments and Stock - Component'!W$17,0,(-1*CompLifetime)+1,1,CompLifetime))/SUM(OFFSET('Shipments and Stock - Component'!W$17,0,(-1*CompLifetime)+1,1,CompLifetime)))","v":{"$error":"#VALUE!"}},{"$f":"IF(W$44-$D$44<CompLifetime,W40,\nSUMPRODUCT(OFFSET(W40,0,(-1*CompLifetime)+1,1,CompLifetime),OFFSET('Shipments and Stock - Component'!X$17,0,(-1*CompLifetime)+1,1,CompLifetime))/SUM(OFFSET('Shipments and Stock - Component'!X$17,0,(-1*CompLifetime)+1,1,CompLifetime)))","v":{"$error":"#VALUE!"}},{"$f":"IF(X$44-$D$44<CompLifetime,X40,\nSUMPRODUCT(OFFSET(X40,0,(-1*CompLifetime)+1,1,CompLifetime),OFFSET('Shipments and Stock - Component'!Y$17,0,(-1*CompLifetime)+1,1,CompLifetime))/SUM(OFFSET('Shipments and Stock - Component'!Y$17,0,(-1*CompLifetime)+1,1,CompLifetime)))","v":{"$error":"#VALUE!"}},{"$f":"IF(Y$44-$D$44<CompLifetime,Y40,\nSUMPRODUCT(OFFSET(Y40,0,(-1*CompLifetime)+1,1,CompLifetime),OFFSET('Shipments and Stock - Component'!Z$17,0,(-1*CompLifetime)+1,1,CompLifetime))/SUM(OFFSET('Shipments and Stock - Component'!Z$17,0,(-1*CompLifetime)+1,1,CompLifetime)))","v":{"$error":"#VALUE!"}},{"$f":"IF(Z$44-$D$44<CompLifetime,Z40,\nSUMPRODUCT(OFFSET(Z40,0,(-1*CompLifetime)+1,1,CompLifetime),OFFSET('Shipments and Stock - Component'!AA$17,0,(-1*CompLifetime)+1,1,CompLifetime))/SUM(OFFSET('Shipments and Stock - Component'!AA$17,0,(-1*CompLifetime)+1,1,CompLifetime)))","v":{"$error":"#VALUE!"}},{"$f":"IF(AA$44-$D$44<CompLifetime,AA40,\nSUMPRODUCT(OFFSET(AA40,0,(-1*CompLifetime)+1,1,CompLifetime),OFFSET('Shipments and Stock - Component'!AB$17,0,(-1*CompLifetime)+1,1,CompLifetime))/SUM(OFFSET('Shipments and Stock - Component'!AB$17,0,(-1*CompLifetime)+1,1,CompLifetime)))","v":{"$error":"#VALUE!"}},{"$f":"IF(AB$44-$D$44<CompLifetime,AB40,\nSUMPRODUCT(OFFSET(AB40,0,(-1*CompLifetime)+1,1,CompLifetime),OFFSET('Shipments and Stock - Component'!AC$17,0,(-1*CompLifetime)+1,1,CompLifetime))/SUM(OFFSET('Shipments and Stock - Component'!AC$17,0,(-1*CompLifetime)+1,1,CompLifetime)))","v":{"$error":"#VALUE!"}},{"$f":"IF(AC$44-$D$44<CompLifetime,AC40,\nSUMPRODUCT(OFFSET(AC40,0,(-1*CompLifetime)+1,1,CompLifetime),OFFSET('Shipments and Stock - Component'!AD$17,0,(-1*CompLifetime)+1,1,CompLifetime))/SUM(OFFSET('Shipments and Stock - Component'!AD$17,0,(-1*CompLifetime)+1,1,CompLifetime)))","v":{"$error":"#VALUE!"}},{"$f":"IF(AD$44-$D$44<CompLifetime,AD40,\nSUMPRODUCT(OFFSET(AD40,0,(-1*CompLifetime)+1,1,CompLifetime),OFFSET('Shipments and Stock - Component'!AE$17,0,(-1*CompLifetime)+1,1,CompLifetime))/SUM(OFFSET('Shipments and Stock - Component'!AE$17,0,(-1*CompLifetime)+1,1,CompLifetime)))","v":{"$error":"#VALUE!"}},{"$f":"IF(AE$44-$D$44<CompLifetime,AE40,\nSUMPRODUCT(OFFSET(AE40,0,(-1*CompLifetime)+1,1,CompLifetime),OFFSET('Shipments and Stock - Component'!AF$17,0,(-1*CompLifetime)+1,1,CompLifetime))/SUM(OFFSET('Shipments and Stock - Component'!AF$17,0,(-1*CompLifetime)+1,1,CompLifetime)))","v":{"$error":"#VALUE!"}},{"$f":"IF(AF$44-$D$44<CompLifetime,AF40,\nSUMPRODUCT(OFFSET(AF40,0,(-1*CompLifetime)+1,1,CompLifetime),OFFSET('Shipments and Stock - Component'!AG$17,0,(-1*CompLifetime)+1,1,CompLifetime))/SUM(OFFSET('Shipments and Stock - Component'!AG$17,0,(-1*CompLifetime)+1,1,CompLifetime)))","v":{"$error":"#VALUE!"}},{"$f":"IF(AG$44-$D$44<CompLifetime,AG40,\nSUMPRODUCT(OFFSET(AG40,0,(-1*CompLifetime)+1,1,CompLifetime),OFFSET('Shipments and Stock - Component'!AH$17,0,(-1*CompLifetime)+1,1,CompLifetime))/SUM(OFFSET('Shipments and Stock - Component'!AH$17,0,(-1*CompLifetime)+1,1,CompLifetime)))","v":{"$error":"#VALUE!"}},{"$f":"IF(AH$44-$D$44<CompLifetime,AH40,\nSUMPRODUCT(OFFSET(AH40,0,(-1*CompLifetime)+1,1,CompLifetime),OFFSET('Shipments and Stock - Component'!AI$17,0,(-1*CompLifetime)+1,1,CompLifetime))/SUM(OFFSET('Shipments and Stock - Component'!AI$17,0,(-1*CompLifetime)+1,1,CompLifetime)))","v":{"$error":"#VALUE!"}},{"$f":"IF(AI$44-$D$44<CompLifetime,AI40,\nSUMPRODUCT(OFFSET(AI40,0,(-1*CompLifetime)+1,1,CompLifetime),OFFSET('Shipments and Stock - Component'!AJ$17,0,(-1*CompLifetime)+1,1,CompLifetime))/SUM(OFFSET('Shipments and Stock - Component'!AJ$17,0,(-1*CompLifetime)+1,1,CompLifetime)))","v":{"$error":"#VALUE!"}},{"$f":"IF(AJ$44-$D$44<CompLifetime,AJ40,\nSUMPRODUCT(OFFSET(AJ40,0,(-1*CompLifetime)+1,1,CompLifetime),OFFSET('Shipments and Stock - Component'!AK$17,0,(-1*CompLifetime)+1,1,CompLifetime))/SUM(OFFSET('Shipments and Stock - Component'!AK$17,0,(-1*CompLifetime)+1,1,CompLifetime)))","v":{"$error":"#VALUE!"}},{"$f":"IF(AK$44-$D$44<CompLifetime,AK40,\nSUMPRODUCT(OFFSET(AK40,0,(-1*CompLifetime)+1,1,CompLifetime),OFFSET('Shipments and Stock - Component'!AL$17,0,(-1*CompLifetime)+1,1,CompLifetime))/SUM(OFFSET('Shipments and Stock - Component'!AL$17,0,(-1*CompLifetime)+1,1,CompLifetime)))","v":{"$error":"#VALUE!"}},{"$f":"IF(AL$44-$D$44<CompLifetime,AL40,\nSUMPRODUCT(OFFSET(AL40,0,(-1*CompLifetime)+1,1,CompLifetime),OFFSET('Shipments and Stock - Component'!AM$17,0,(-1*CompLifetime)+1,1,CompLifetime))/SUM(OFFSET('Shipments and Stock - Component'!AM$17,0,(-1*CompLifetime)+1,1,CompLifetime)))","v":{"$error":"#VALUE!"}},{"$f":"IF(AM$44-$D$44<CompLifetime,AM40,\nSUMPRODUCT(OFFSET(AM40,0,(-1*CompLifetime)+1,1,CompLifetime),OFFSET('Shipments and Stock - Component'!AN$17,0,(-1*CompLifetime)+1,1,CompLifetime))/SUM(OFFSET('Shipments and Stock - Component'!AN$17,0,(-1*CompLifetime)+1,1,CompLifetime)))","v":{"$error":"#VALUE!"}},{"$f":"IF(AN$44-$D$44<CompLifetime,AN40,\nSUMPRODUCT(OFFSET(AN40,0,(-1*CompLifetime)+1,1,CompLifetime),OFFSET('Shipments and Stock - Component'!AO$17,0,(-1*CompLifetime)+1,1,CompLifetime))/SUM(OFFSET('Shipments and Stock - Component'!AO$17,0,(-1*CompLifetime)+1,1,CompLifetime)))","v":{"$error":"#VALUE!"}},{"$f":"IF(AO$44-$D$44<CompLifetime,AO40,\nSUMPRODUCT(OFFSET(AO40,0,(-1*CompLifetime)+1,1,CompLifetime),OFFSET('Shipments and Stock - Component'!AP$17,0,(-1*CompLifetime)+1,1,CompLifetime))/SUM(OFFSET('Shipments and Stock - Component'!AP$17,0,(-1*CompLifetime)+1,1,CompLifetime)))","v":{"$error":"#VALUE!"}},{"$f":"IF(AP$44-$D$44<CompLifetime,AP40,\nSUMPRODUCT(OFFSET(AP40,0,(-1*CompLifetime)+1,1,CompLifetime),OFFSET('Shipments and Stock - Component'!AQ$17,0,(-1*CompLifetime)+1,1,CompLifetime))/SUM(OFFSET('Shipments and Stock - Component'!AQ$17,0,(-1*CompLifetime)+1,1,CompLifetime)))","v":{"$error":"#VALUE!"}},{"$f":"IF(AQ$44-$D$44<CompLifetime,AQ40,\nSUMPRODUCT(OFFSET(AQ40,0,(-1*CompLifetime)+1,1,CompLifetime),OFFSET('Shipments and Stock - Component'!AR$17,0,(-1*CompLifetime)+1,1,CompLifetime))/SUM(OFFSET('Shipments and Stock - Component'!AR$17,0,(-1*CompLifetime)+1,1,CompLifetime)))","v":{"$error":"#VALUE!"}},{"$f":"IF(AR$44-$D$44<CompLifetime,AR40,\nSUMPRODUCT(OFFSET(AR40,0,(-1*CompLifetime)+1,1,CompLifetime),OFFSET('Shipments and Stock - Component'!AS$17,0,(-1*CompLifetime)+1,1,CompLifetime))/SUM(OFFSET('Shipments and Stock - Component'!AS$17,0,(-1*CompLifetime)+1,1,CompLifetime)))","v":{"$error":"#VALUE!"}},{"$f":"IF(AS$44-$D$44<CompLifetime,AS40,\nSUMPRODUCT(OFFSET(AS40,0,(-1*CompLifetime)+1,1,CompLifetime),OFFSET('Shipments and Stock - Component'!AT$17,0,(-1*CompLifetime)+1,1,CompLifetime))/SUM(OFFSET('Shipments and Stock - Component'!AT$17,0,(-1*CompLifetime)+1,1,CompLifetime)))","v":{"$error":"#VALUE!"}},{"$f":"IF(AT$44-$D$44<CompLifetime,AT40,\nSUMPRODUCT(OFFSET(AT40,0,(-1*CompLifetime)+1,1,CompLifetime),OFFSET('Shipments and Stock - Component'!AU$17,0,(-1*CompLifetime)+1,1,CompLifetime))/SUM(OFFSET('Shipments and Stock - Component'!AU$17,0,(-1*CompLifetime)+1,1,CompLifetime)))","v":{"$error":"#VALUE!"}},{"$f":"IF(AU$44-$D$44<CompLifetime,AU40,\nSUMPRODUCT(OFFSET(AU40,0,(-1*CompLifetime)+1,1,CompLifetime),OFFSET('Shipments and Stock - Component'!AV$17,0,(-1*CompLifetime)+1,1,CompLifetime))/SUM(OFFSET('Shipments and Stock - Component'!AV$17,0,(-1*CompLifetime)+1,1,CompLifetime)))","v":{"$error":"#VALUE!"}},{"$f":"IF(AV$44-$D$44<CompLifetime,AV40,\nSUMPRODUCT(OFFSET(AV40,0,(-1*CompLifetime)+1,1,CompLifetime),OFFSET('Shipments and Stock - Component'!AW$17,0,(-1*CompLifetime)+1,1,CompLifetime))/SUM(OFFSET('Shipments and Stock - Component'!AW$17,0,(-1*CompLifetime)+1,1,CompLifetime)))","v":{"$error":"#VALUE!"}}]
[]
[]
[null,null,"SYSTEMS"]
[null,null,"Market UEC (Shipment Weighted Average)"]
[null,null,null,1990,{"$f":"D51+1","v":1991},{"$f":"E51+1","v":1992},{"$f":"F51+1","v":1993},{"$f":"G51+1","v":1994},{"$f":"H51+1","v":1995},{"$f":"I51+1","v":1996},{"$f":"J51+1","v":1997},{"$f":"K51+1","v":1998},{"$f":"L51+1","v":1999},{"$f":"M51+1","v":2000},{"$f":"N51+1","v":2001},{"$f":"O51+1","v":2002},{"$f":"P51+1","v":2003},{"$f":"Q51+1","v":2004},{"$f":"R51+1","v":2005},{"$f":"S51+1","v":2006},{"$f":"T51+1","v":2007},{"$f":"U51+1","v":2008},{"$f":"V51+1","v":2009},{"$f":"W51+1","v":2010},{"$f":"X51+1","v":2011},{"$f":"Y51+1","v":2012},{"$f":"Z51+1","v":2013},{"$f":"AA51+1","v":2014},{"$f":"AB51+1","v":2015},{"$f":"AC51+1","v":2016},{"$f":"AD51+1","v":2017},{"$f":"AE51+1","v":2018},{"$f":"AF51+1","v":2019},{"$f":"AG51+1","v":2020},{"$f":"AH51+1","v":2021},{"$f":"AI51+1","v":2022},{"$f":"AJ51+1","v":2023},{"$f":"AK51+1","v":2024},{"$f":"AL51+1","v":2025},{"$f":"AM51+1","v":2026},{"$f":"AN51+1","v":2027},{"$f":"AO51+1","v":2028},{"$f":"AP51+1","v":2029},{"$f":"AQ51+1","v":2030},{"$f":"AR51+1","v":2031},{"$f":"AS51+1","v":2032},{"$f":"AT51+1","v":2033},{"$f":"AU51+1","v":2034}]
[null,null,"PRE-Case UEC",{"$f":"'Product Class Dist'!BA$11*SUMPRODUCT('Efficiency Dist'!BI13:BI21,'UEC Development'!$J$21:$J$29)+'Product Class Dist'!BA$12*SUMPRODUCT('Efficiency Dist'!BI46:BI53,'UEC Development'!$J$39:$J$46)+'Product Class Dist'!BA$13*SUMPRODUCT('Efficiency Dist'!BI77:BI84,'UEC Development'!$J$56:$J$63)+'Product Class Dist'!BA$14*SUMPRODUCT('Efficiency Dist'!BI108:BI119,'UEC Development'!$J$73:$J$84)+'Product Class Dist'!BA$15*SUMPRODUCT('Efficiency Dist'!BI147:BI155,'UEC Development'!$J$94:$J$102)+'Product Class Dist'!BA$16*SUMPRODUCT('Efficiency Dist'!BI180:BI188,'UEC Development'!$J$112:$J$120)+'Product Class Dist'!BA$17*SUMPRODUCT('Efficiency Dist'!BI213:BI222,'UEC Development'!$J$130:$J$139)+'Product Class Dist'!BA$18*SUMPRODUCT('Efficiency Dist'!BI248:BI255,'UEC Development'!$J$149:$J$156)+'Product Class Dist'!BA$19*SUMPRODUCT('Efficiency Dist'!BI279:BI283,'UEC Development'!$J$166:$J$170)+'Product Class Dist'!BA$20*SUMPRODUCT('Efficiency Dist'!BI304:BI308,'UEC Development'!$J$180:$J$184)","v":11179.950036541986},{"$f":"'Product Class Dist'!BB$11*SUMPRODUCT('Efficiency Dist'!BJ13:BJ21,'UEC Development'!$J$21:$J$29)+'Product Class Dist'!BB$12*SUMPRODUCT('Efficiency Dist'!BJ46:BJ53,'UEC Development'!$J$39:$J$46)+'Product Class Dist'!BB$13*SUMPRODUCT('Efficiency Dist'!BJ77:BJ84,'UEC Development'!$J$56:$J$63)+'Product Class Dist'!BB$14*SUMPRODUCT('Efficiency Dist'!BJ108:BJ119,'UEC Development'!$J$73:$J$84)+'Product Class Dist'!BB$15*SUMPRODUCT('Efficiency Dist'!BJ147:BJ155,'UEC Development'!$J$94:$J$102)+'Product Class Dist'!BB$16*SUMPRODUCT('Efficiency Dist'!BJ180:BJ188,'UEC Development'!$J$112:$J$120)+'Product Class Dist'!BB$17*SUMPRODUCT('Efficiency Dist'!BJ213:BJ222,'UEC Development'!$J$130:$J$139)+'Product Class Dist'!BB$18*SUMPRODUCT('Efficiency Dist'!BJ248:BJ255,'UEC Development'!$J$149:$J$156)+'Product Class Dist'!BB$19*SUMPRODUCT('Efficiency Dist'!BJ279:BJ283,'UEC Development'!$J$166:$J$170)+'Product Class Dist'!BB$20*SUMPRODUCT('Efficiency Dist'!BJ304:BJ308,'UEC Development'!$J$180:$J$184)","v":11179.950036541986},{"$f":"'Product Class Dist'!BC$11*SUMPRODUCT('Efficiency Dist'!BK13:BK21,'UEC Development'!$J$21:$J$29)+'Product Class Dist'!BC$12*SUMPRODUCT('Efficiency Dist'!BK46:BK53,'UEC Development'!$J$39:$J$46)+'Product Class Dist'!BC$13*SUMPRODUCT('Efficiency Dist'!BK77:BK84,'UEC Development'!$J$56:$J$63)+'Product Class Dist'!BC$14*SUMPRODUCT('Efficiency Dist'!BK108:BK119,'UEC Development'!$J$73:$J$84)+'Product Class Dist'!BC$15*SUMPRODUCT('Efficiency Dist'!BK147:BK155,'UEC Development'!$J$94:$J$102)+'Product Class Dist'!BC$16*SUMPRODUCT('Efficiency Dist'!BK180:BK188,'UEC Development'!$J$112:$J$120)+'Product Class Dist'!BC$17*SUMPRODUCT('Efficiency Dist'!BK213:BK222,'UEC Development'!$J$130:$J$139)+'Product Class Dist'!BC$18*SUMPRODUCT('Efficiency Dist'!BK248:BK255,'UEC Development'!$J$149:$J$156)+'Product Class Dist'!BC$19*SUMPRODUCT('Efficiency Dist'!BK279:BK283,'UEC Development'!$J$166:$J$170)+'Product Class Dist'!BC$20*SUMPRODUCT('Efficiency Dist'!BK304:BK308,'UEC Development'!$J$180:$J$184)","v":11179.950036541986},{"$f":"'Product Class Dist'!BD$11*SUMPRODUCT('Efficiency Dist'!BL13:BL21,'UEC Development'!$J$21:$J$29)+'Product Class Dist'!BD$12*SUMPRODUCT('Efficiency Dist'!BL46:BL53,'UEC Development'!$J$39:$J$46)+'Product Class Dist'!BD$13*SUMPRODUCT('Efficiency Dist'!BL77:BL84,'UEC Development'!$J$56:$J$63)+'Product Class Dist'!BD$14*SUMPRODUCT('Efficiency Dist'!BL108:BL119,'UEC Development'!$J$73:$J$84)+'Product Class Dist'!BD$15*SUMPRODUCT('Efficiency Dist'!BL147:BL155,'UEC Development'!$J$94:$J$102)+'Product Class Dist'!BD$16*SUMPRODUCT('Efficiency Dist'!BL180:BL188,'UEC Development'!$J$112:$J$120)+'Product Class Dist'!BD$17*SUMPRODUCT('Efficiency Dist'!BL213:BL222,'UEC Development'!$J$130:$J$139)+'Product Class Dist'!BD$18*SUMPRODUCT('Efficiency Dist'!BL248:BL255,'UEC Development'!$J$149:$J$156)+'Product Class Dist'!BD$19*SUMPRODUCT('Efficiency Dist'!BL279:BL283,'UEC Development'!$J$166:$J$170)+'Product Class Dist'!BD$20*SUMPRODUCT('Efficiency Dist'!BL304:BL308,'UEC Development'!$J$180:$J$184)","v":11179.950036541986},{"$f":"'Product Class Dist'!BE$11*SUMPRODUCT('Efficiency Dist'!BM13:BM21,'UEC Development'!$J$21:$J$29)+'Product Class Dist'!BE$12*SUMPRODUCT('Efficiency Dist'!BM46:BM53,'UEC Development'!$J$39:$J$46)+'Product Class Dist'!BE$13*SUMPRODUCT('Efficiency Dist'!BM77:BM84,'UEC Development'!$J$56:$J$63)+'Product Class Dist'!BE$14*SUMPRODUCT('Efficiency Dist'!BM108:BM119,'UEC Development'!$J$73:$J$84)+'Product Class Dist'!BE$15*SUMPRODUCT('Efficiency Dist'!BM147:BM155,'UEC Development'!$J$94:$J$102)+'Product Class Dist'!BE$16*SUMPRODUCT('Efficiency Dist'!BM180:BM188,'UEC Development'!$J$112:$J$120)+'Product Class Dist'!BE$17*SUMPRODUCT('Efficiency Dist'!BM213:BM222,'UEC Development'!$J$130:$J$139)+'Product Class Dist'!BE$18*SUMPRODUCT('Efficiency Dist'!BM248:BM255,'UEC Development'!$J$149:$J$156)+'Product Class Dist'!BE$19*SUMPRODUCT('Efficiency Dist'!BM279:BM283,'UEC Development'!$J$166:$J$170)+'Product Class Dist'!BE$20*SUMPRODUCT('Efficiency Dist'!BM304:BM308,'UEC Development'!$J$180:$J$184)","v":11179.950036541986},{"$f":"'Product Class Dist'!BF$11*SUMPRODUCT('Efficiency Dist'!BN13:BN21,'UEC Development'!$J$21:$J$29)+'Product Class Dist'!BF$12*SUMPRODUCT('Efficiency Dist'!BN46:BN53,'UEC Development'!$J$39:$J$46)+'Product Class Dist'!BF$13*SUMPRODUCT('Efficiency Dist'!BN77:BN84,'UEC Development'!$J$56:$J$63)+'Product Class Dist'!BF$14*SUMPRODUCT('Efficiency Dist'!BN108:BN119,'UEC Development'!$J$73:$J$84)+'Product Class Dist'!BF$15*SUMPRODUCT('Efficiency Dist'!BN147:BN155,'UEC Development'!$J$94:$J$102)+'Product Class Dist'!BF$16*SUMPRODUCT('Efficiency Dist'!BN180:BN188,'UEC Development'!$J$112:$J$120)+'Product Class Dist'!BF$17*SUMPRODUCT('Efficiency Dist'!BN213:BN222,'UEC Development'!$J$130:$J$139)+'Product Class Dist'!BF$18*SUMPRODUCT('Efficiency Dist'!BN248:BN255,'UEC Development'!$J$149:$J$156)+'Product Class Dist'!BF$19*SUMPRODUCT('Efficiency Dist'!BN279:BN283,'UEC Development'!$J$166:$J$170)+'Product Class Dist'!BF$20*SUMPRODUCT('Efficiency Dist'!BN304:BN308,'UEC Development'!$J$180:$J$184)","v":11179.950036541986},{"$f":"'Product Class Dist'!BG$11*SUMPRODUCT('Efficiency Dist'!BO13:BO21,'UEC Development'!$J$21:$J$29)+'Product Class Dist'!BG$12*SUMPRODUCT('Efficiency Dist'!BO46:BO53,'UEC Development'!$J$39:$J$46)+'Product Class Dist'!BG$13*SUMPRODUCT('Efficiency Dist'!BO77:BO84,'UEC Development'!$J$56:$J$63)+'Product Class Dist'!BG$14*SUMPRODUCT('Efficiency Dist'!BO108:BO119,'UEC Development'!$J$73:$J$84)+'Product Class Dist'!BG$15*SUMPRODUCT('Efficiency Dist'!BO147:BO155,'UEC Development'!$J$94:$J$102)+'Product Class Dist'!BG$16*SUMPRODUCT('Efficiency Dist'!BO180:BO188,'UEC Development'!$J$112:$J$120)+'Product Class Dist'!BG$17*SUMPRODUCT('Efficiency Dist'!BO213:BO222,'UEC Development'!$J$130:$J$139)+'Product Class Dist'!BG$18*SUMPRODUCT('Efficiency Dist'!BO248:BO255,'UEC Development'!$J$149:$J$156)+'Product Class Dist'!BG$19*SUMPRODUCT('Efficiency Dist'!BO279:BO283,'UEC Development'!$J$166:$J$170)+'Product Class Dist'!BG$20*SUMPRODUCT('Efficiency Dist'!BO304:BO308,'UEC Development'!$J$180:$J$184)","v":11179.950036541986},{"$f":"'Product Class Dist'!BH$11*SUMPRODUCT('Efficiency Dist'!BP13:BP21,'UEC Development'!$J$21:$J$29)+'Product Class Dist'!BH$12*SUMPRODUCT('Efficiency Dist'!BP46:BP53,'UEC Development'!$J$39:$J$46)+'Product Class Dist'!BH$13*SUMPRODUCT('Efficiency Dist'!BP77:BP84,'UEC Development'!$J$56:$J$63)+'Product Class Dist'!BH$14*SUMPRODUCT('Efficiency Dist'!BP108:BP119,'UEC Development'!$J$73:$J$84)+'Product Class Dist'!BH$15*SUMPRODUCT('Efficiency Dist'!BP147:BP155,'UEC Development'!$J$94:$J$102)+'Product Class Dist'!BH$16*SUMPRODUCT('Efficiency Dist'!BP180:BP188,'UEC Development'!$J$112:$J$120)+'Product Class Dist'!BH$17*SUMPRODUCT('Efficiency Dist'!BP213:BP222,'UEC Development'!$J$130:$J$139)+'Product Class Dist'!BH$18*SUMPRODUCT('Efficiency Dist'!BP248:BP255,'UEC Development'!$J$149:$J$156)+'Product Class Dist'!BH$19*SUMPRODUCT('Efficiency Dist'!BP279:BP283,'UEC Development'!$J$166:$J$170)+'Product Class Dist'!BH$20*SUMPRODUCT('Efficiency Dist'!BP304:BP308,'UEC Development'!$J$180:$J$184)","v":11179.950036541986},{"$f":"'Product Class Dist'!BI$11*SUMPRODUCT('Efficiency Dist'!BQ13:BQ21,'UEC Development'!$J$21:$J$29)+'Product Class Dist'!BI$12*SUMPRODUCT('Efficiency Dist'!BQ46:BQ53,'UEC Development'!$J$39:$J$46)+'Product Class Dist'!BI$13*SUMPRODUCT('Efficiency Dist'!BQ77:BQ84,'UEC Development'!$J$56:$J$63)+'Product Class Dist'!BI$14*SUMPRODUCT('Efficiency Dist'!BQ108:BQ119,'UEC Development'!$J$73:$J$84)+'Product Class Dist'!BI$15*SUMPRODUCT('Efficiency Dist'!BQ147:BQ155,'UEC Development'!$J$94:$J$102)+'Product Class Dist'!BI$16*SUMPRODUCT('Efficiency Dist'!BQ180:BQ188,'UEC Development'!$J$112:$J$120)+'Product Class Dist'!BI$17*SUMPRODUCT('Efficiency Dist'!BQ213:BQ222,'UEC Development'!$J$130:$J$139)+'Product Class Dist'!BI$18*SUMPRODUCT('Efficiency Dist'!BQ248:BQ255,'UEC Development'!$J$149:$J$156)+'Product Class Dist'!BI$19*SUMPRODUCT('Efficiency Dist'!BQ279:BQ283,'UEC Development'!$J$166:$J$170)+'Product Class Dist'!BI$20*SUMPRODUCT('Efficiency Dist'!BQ304:BQ308,'UEC Development'!$J$180:$J$184)","v":11179.950036541986},{"$f":"'Product Class Dist'!BJ$11*SUMPRODUCT('Efficiency Dist'!BR13:BR21,'UEC Development'!$J$21:$J$29)+'Product Class Dist'!BJ$12*SUMPRODUCT('Efficiency Dist'!BR46:BR53,'UEC Development'!$J$39:$J$46)+'Product Class Dist'!BJ$13*SUMPRODUCT('Efficiency Dist'!BR77:BR84,'UEC Development'!$J$56:$J$63)+'Product Class Dist'!BJ$14*SUMPRODUCT('Efficiency Dist'!BR108:BR119,'UEC Development'!$J$73:$J$84)+'Product Class Dist'!BJ$15*SUMPRODUCT('Efficiency Dist'!BR147:BR155,'UEC Development'!$J$94:$J$102)+'Product Class Dist'!BJ$16*SUMPRODUCT('Efficiency Dist'!BR180:BR188,'UEC Development'!$J$112:$J$120)+'Product Class Dist'!BJ$17*SUMPRODUCT('Efficiency Dist'!BR213:BR222,'UEC Development'!$J$130:$J$139)+'Product Class Dist'!BJ$18*SUMPRODUCT('Efficiency Dist'!BR248:BR255,'UEC Development'!$J$149:$J$156)+'Product Class Dist'!BJ$19*SUMPRODUCT('Efficiency Dist'!BR279:BR283,'UEC Development'!$J$166:$J$170)+'Product Class Dist'!BJ$20*SUMPRODUCT('Efficiency Dist'!BR304:BR308,'UEC Development'!$J$180:$J$184)","v":11179.950036541986},{"$f":"'Product Class Dist'!BK$11*SUMPRODUCT('Efficiency Dist'!BS13:BS21,'UEC Development'!$J$21:$J$29)+'Product Class Dist'!BK$12*SUMPRODUCT('Efficiency Dist'!BS46:BS53,'UEC Development'!$J$39:$J$46)+'Product Class Dist'!BK$13*SUMPRODUCT('Efficiency Dist'!BS77:BS84,'UEC Development'!$J$56:$J$63)+'Product Class Dist'!BK$14*SUMPRODUCT('Efficiency Dist'!BS108:BS119,'UEC Development'!$J$73:$J$84)+'Product Class Dist'!BK$15*SUMPRODUCT('Efficiency Dist'!BS147:BS155,'UEC Development'!$J$94:$J$102)+'Product Class Dist'!BK$16*SUMPRODUCT('Efficiency Dist'!BS180:BS188,'UEC Development'!$J$112:$J$120)+'Product Class Dist'!BK$17*SUMPRODUCT('Efficiency Dist'!BS213:BS222,'UEC Development'!$J$130:$J$139)+'Product Class Dist'!BK$18*SUMPRODUCT('Efficiency Dist'!BS248:BS255,'UEC Development'!$J$149:$J$156)+'Product Class Dist'!BK$19*SUMPRODUCT('Efficiency Dist'!BS279:BS283,'UEC Development'!$J$166:$J$170)+'Product Class Dist'!BK$20*SUMPRODUCT('Efficiency Dist'!BS304:BS308,'UEC Development'!$J$180:$J$184)","v":11179.950036541986},{"$f":"'Product Class Dist'!BL$11*SUMPRODUCT('Efficiency Dist'!BT13:BT21,'UEC Development'!$J$21:$J$29)+'Product Class Dist'!BL$12*SUMPRODUCT('Efficiency Dist'!BT46:BT53,'UEC Development'!$J$39:$J$46)+'Product Class Dist'!BL$13*SUMPRODUCT('Efficiency Dist'!BT77:BT84,'UEC Development'!$J$56:$J$63)+'Product Class Dist'!BL$14*SUMPRODUCT('Efficiency Dist'!BT108:BT119,'UEC Development'!$J$73:$J$84)+'Product Class Dist'!BL$15*SUMPRODUCT('Efficiency Dist'!BT147:BT155,'UEC Development'!$J$94:$J$102)+'Product Class Dist'!BL$16*SUMPRODUCT('Efficiency Dist'!BT180:BT188,'UEC Development'!$J$112:$J$120)+'Product Class Dist'!BL$17*SUMPRODUCT('Efficiency Dist'!BT213:BT222,'UEC Development'!$J$130:$J$139)+'Product Class Dist'!BL$18*SUMPRODUCT('Efficiency Dist'!BT248:BT255,'UEC Development'!$J$149:$J$156)+'Product Class Dist'!BL$19*SUMPRODUCT('Efficiency Dist'!BT279:BT283,'UEC Development'!$J$166:$J$170)+'Product Class Dist'!BL$20*SUMPRODUCT('Efficiency Dist'!BT304:BT308,'UEC Development'!$J$180:$J$184)","v":11179.950036541986},{"$f":"'Product Class Dist'!BM$11*SUMPRODUCT('Efficiency Dist'!BU13:BU21,'UEC Development'!$J$21:$J$29)+'Product Class Dist'!BM$12*SUMPRODUCT('Efficiency Dist'!BU46:BU53,'UEC Development'!$J$39:$J$46)+'Product Class Dist'!BM$13*SUMPRODUCT('Efficiency Dist'!BU77:BU84,'UEC Development'!$J$56:$J$63)+'Product Class Dist'!BM$14*SUMPRODUCT('Efficiency Dist'!BU108:BU119,'UEC Development'!$J$73:$J$84)+'Product Class Dist'!BM$15*SUMPRODUCT('Efficiency Dist'!BU147:BU155,'UEC Development'!$J$94:$J$102)+'Product Class Dist'!BM$16*SUMPRODUCT('Efficiency Dist'!BU180:BU188,'UEC Development'!$J$112:$J$120)+'Product Class Dist'!BM$17*SUMPRODUCT('Efficiency Dist'!BU213:BU222,'UEC Development'!$J$130:$J$139)+'Product Class Dist'!BM$18*SUMPRODUCT('Efficiency Dist'!BU248:BU255,'UEC Development'!$J$149:$J$156)+'Product Class Dist'!BM$19*SUMPRODUCT('Efficiency Dist'!BU279:BU283,'UEC Development'!$J$166:$J$170)+'Product Class Dist'!BM$20*SUMPRODUCT('Efficiency Dist'!BU304:BU308,'UEC Development'!$J$180:$J$184)","v":11179.950036541986},{"$f":"'Product Class Dist'!BN$11*SUMPRODUCT('Efficiency Dist'!BV13:BV21,'UEC Development'!$J$21:$J$29)+'Product Class Dist'!BN$12*SUMPRODUCT('Efficiency Dist'!BV46:BV53,'UEC Development'!$J$39:$J$46)+'Product Class Dist'!BN$13*SUMPRODUCT('Efficiency Dist'!BV77:BV84,'UEC Development'!$J$56:$J$63)+'Product Class Dist'!BN$14*SUMPRODUCT('Efficiency Dist'!BV108:BV119,'UEC Development'!$J$73:$J$84)+'Product Class Dist'!BN$15*SUMPRODUCT('Efficiency Dist'!BV147:BV155,'UEC Development'!$J$94:$J$102)+'Product Class Dist'!BN$16*SUMPRODUCT('Efficiency Dist'!BV180:BV188,'UEC Development'!$J$112:$J$120)+'Product Class Dist'!BN$17*SUMPRODUCT('Efficiency Dist'!BV213:BV222,'UEC Development'!$J$130:$J$139)+'Product Class Dist'!BN$18*SUMPRODUCT('Efficiency Dist'!BV248:BV255,'UEC Development'!$J$149:$J$156)+'Product Class Dist'!BN$19*SUMPRODUCT('Efficiency Dist'!BV279:BV283,'UEC Development'!$J$166:$J$170)+'Product Class Dist'!BN$20*SUMPRODUCT('Efficiency Dist'!BV304:BV308,'UEC Development'!$J$180:$J$184)","v":11179.950036541986},{"$f":"'Product Class Dist'!BO$11*SUMPRODUCT('Efficiency Dist'!BW13:BW21,'UEC Development'!$J$21:$J$29)+'Product Class Dist'!BO$12*SUMPRODUCT('Efficiency Dist'!BW46:BW53,'UEC Development'!$J$39:$J$46)+'Product Class Dist'!BO$13*SUMPRODUCT('Efficiency Dist'!BW77:BW84,'UEC Development'!$J$56:$J$63)+'Product Class Dist'!BO$14*SUMPRODUCT('Efficiency Dist'!BW108:BW119,'UEC Development'!$J$73:$J$84)+'Product Class Dist'!BO$15*SUMPRODUCT('Efficiency Dist'!BW147:BW155,'UEC Development'!$J$94:$J$102)+'Product Class Dist'!BO$16*SUMPRODUCT('Efficiency Dist'!BW180:BW188,'UEC Development'!$J$112:$J$120)+'Product Class Dist'!BO$17*SUMPRODUCT('Efficiency Dist'!BW213:BW222,'UEC Development'!$J$130:$J$139)+'Product Class Dist'!BO$18*SUMPRODUCT('Efficiency Dist'!BW248:BW255,'UEC Development'!$J$149:$J$156)+'Product Class Dist'!BO$19*SUMPRODUCT('Efficiency Dist'!BW279:BW283,'UEC Development'!$J$166:$J$170)+'Product Class Dist'!BO$20*SUMPRODUCT('Efficiency Dist'!BW304:BW308,'UEC Development'!$J$180:$J$184)","v":11179.950036541986},{"$f":"'Product Class Dist'!BP$11*SUMPRODUCT('Efficiency Dist'!BX13:BX21,'UEC Development'!$J$21:$J$29)+'Product Class Dist'!BP$12*SUMPRODUCT('Efficiency Dist'!BX46:BX53,'UEC Development'!$J$39:$J$46)+'Product Class Dist'!BP$13*SUMPRODUCT('Efficiency Dist'!BX77:BX84,'UEC Development'!$J$56:$J$63)+'Product Class Dist'!BP$14*SUMPRODUCT('Efficiency Dist'!BX108:BX119,'UEC Development'!$J$73:$J$84)+'Product Class Dist'!BP$15*SUMPRODUCT('Efficiency Dist'!BX147:BX155,'UEC Development'!$J$94:$J$102)+'Product Class Dist'!BP$16*SUMPRODUCT('Efficiency Dist'!BX180:BX188,'UEC Development'!$J$112:$J$120)+'Product Class Dist'!BP$17*SUMPRODUCT('Efficiency Dist'!BX213:BX222,'UEC Development'!$J$130:$J$139)+'Product Class Dist'!BP$18*SUMPRODUCT('Efficiency Dist'!BX248:BX255,'UEC Development'!$J$149:$J$156)+'Product Class Dist'!BP$19*SUMPRODUCT('Efficiency Dist'!BX279:BX283,'UEC Development'!$J$166:$J$170)+'Product Class Dist'!BP$20*SUMPRODUCT('Efficiency Dist'!BX304:BX308,'UEC Development'!$J$180:$J$184)","v":11179.950036541986},{"$f":"'Product Class Dist'!BQ$11*SUMPRODUCT('Efficiency Dist'!BY13:BY21,'UEC Development'!$J$21:$J$29)+'Product Class Dist'!BQ$12*SUMPRODUCT('Efficiency Dist'!BY46:BY53,'UEC Development'!$J$39:$J$46)+'Product Class Dist'!BQ$13*SUMPRODUCT('Efficiency Dist'!BY77:BY84,'UEC Development'!$J$56:$J$63)+'Product Class Dist'!BQ$14*SUMPRODUCT('Efficiency Dist'!BY108:BY119,'UEC Development'!$J$73:$J$84)+'Product Class Dist'!BQ$15*SUMPRODUCT('Efficiency Dist'!BY147:BY155,'UEC Development'!$J$94:$J$102)+'Product Class Dist'!BQ$16*SUMPRODUCT('Efficiency Dist'!BY180:BY188,'UEC Development'!$J$112:$J$120)+'Product Class Dist'!BQ$17*SUMPRODUCT('Efficiency Dist'!BY213:BY222,'UEC Development'!$J$130:$J$139)+'Product Class Dist'!BQ$18*SUMPRODUCT('Efficiency Dist'!BY248:BY255,'UEC Development'!$J$149:$J$156)+'Product Class Dist'!BQ$19*SUMPRODUCT('Efficiency Dist'!BY279:BY283,'UEC Development'!$J$166:$J$170)+'Product Class Dist'!BQ$20*SUMPRODUCT('Efficiency Dist'!BY304:BY308,'UEC Development'!$J$180:$J$184)","v":11179.950036541986},{"$f":"'Product Class Dist'!BR$11*SUMPRODUCT('Efficiency Dist'!BZ13:BZ21,'UEC Development'!$J$21:$J$29)+'Product Class Dist'!BR$12*SUMPRODUCT('Efficiency Dist'!BZ46:BZ53,'UEC Development'!$J$39:$J$46)+'Product Class Dist'!BR$13*SUMPRODUCT('Efficiency Dist'!BZ77:BZ84,'UEC Development'!$J$56:$J$63)+'Product Class Dist'!BR$14*SUMPRODUCT('Efficiency Dist'!BZ108:BZ119,'UEC Development'!$J$73:$J$84)+'Product Class Dist'!BR$15*SUMPRODUCT('Efficiency Dist'!BZ147:BZ155,'UEC Development'!$J$94:$J$102)+'Product Class Dist'!BR$16*SUMPRODUCT('Efficiency Dist'!BZ180:BZ188,'UEC Development'!$J$112:$J$120)+'Product Class Dist'!BR$17*SUMPRODUCT('Efficiency Dist'!BZ213:BZ222,'UEC Development'!$J$130:$J$139)+'Product Class Dist'!BR$18*SUMPRODUCT('Efficiency Dist'!BZ248:BZ255,'UEC Development'!$J$149:$J$156)+'Product Class Dist'!BR$19*SUMPRODUCT('Efficiency Dist'!BZ279:BZ283,'UEC Development'!$J$166:$J$170)+'Product Class Dist'!BR$20*SUMPRODUCT('Efficiency Dist'!BZ304:BZ308,'UEC Development'!$J$180:$J$184)","v":11179.950036541986},{"$f":"'Product Class Dist'!BS$11*SUMPRODUCT('Efficiency Dist'!CA13:CA21,'UEC Development'!$J$21:$J$29)+'Product Class Dist'!BS$12*SUMPRODUCT('Efficiency Dist'!CA46:CA53,'UEC Development'!$J$39:$J$46)+'Product Class Dist'!BS$13*SUMPRODUCT('Efficiency Dist'!CA77:CA84,'UEC Development'!$J$56:$J$63)+'Product Class Dist'!BS$14*SUMPRODUCT('Efficiency Dist'!CA108:CA119,'UEC Development'!$J$73:$J$84)+'Product Class Dist'!BS$15*SUMPRODUCT('Efficiency Dist'!CA147:CA155,'UEC Development'!$J$94:$J$102)+'Product Class Dist'!BS$16*SUMPRODUCT('Efficiency Dist'!CA180:CA188,'UEC Development'!$J$112:$J$120)+'Product Class Dist'!BS$17*SUMPRODUCT('Efficiency Dist'!CA213:CA222,'UEC Development'!$J$130:$J$139)+'Product Class Dist'!BS$18*SUMPRODUCT('Efficiency Dist'!CA248:CA255,'UEC Development'!$J$149:$J$156)+'Product Class Dist'!BS$19*SUMPRODUCT('Efficiency Dist'!CA279:CA283,'UEC Development'!$J$166:$J$170)+'Product Class Dist'!BS$20*SUMPRODUCT('Efficiency Dist'!CA304:CA308,'UEC Development'!$J$180:$J$184)","v":11179.950036541986},{"$f":"'Product Class Dist'!BT$11*SUMPRODUCT('Efficiency Dist'!CB13:CB21,'UEC Development'!$J$21:$J$29)+'Product Class Dist'!BT$12*SUMPRODUCT('Efficiency Dist'!CB46:CB53,'UEC Development'!$J$39:$J$46)+'Product Class Dist'!BT$13*SUMPRODUCT('Efficiency Dist'!CB77:CB84,'UEC Development'!$J$56:$J$63)+'Product Class Dist'!BT$14*SUMPRODUCT('Efficiency Dist'!CB108:CB119,'UEC Development'!$J$73:$J$84)+'Product Class Dist'!BT$15*SUMPRODUCT('Efficiency Dist'!CB147:CB155,'UEC Development'!$J$94:$J$102)+'Product Class Dist'!BT$16*SUMPRODUCT('Efficiency Dist'!CB180:CB188,'UEC Development'!$J$112:$J$120)+'Product Class Dist'!BT$17*SUMPRODUCT('Efficiency Dist'!CB213:CB222,'UEC Development'!$J$130:$J$139)+'Product Class Dist'!BT$18*SUMPRODUCT('Efficiency Dist'!CB248:CB255,'UEC Development'!$J$149:$J$156)+'Product Class Dist'!BT$19*SUMPRODUCT('Efficiency Dist'!CB279:CB283,'UEC Development'!$J$166:$J$170)+'Product Class Dist'!BT$20*SUMPRODUCT('Efficiency Dist'!CB304:CB308,'UEC Development'!$J$180:$J$184)","v":7646.5365277999645},{"$f":"'Product Class Dist'!BU$11*SUMPRODUCT('Efficiency Dist'!CC13:CC21,'UEC Development'!$J$21:$J$29)+'Product Class Dist'!BU$12*SUMPRODUCT('Efficiency Dist'!CC46:CC53,'UEC Development'!$J$39:$J$46)+'Product Class Dist'!BU$13*SUMPRODUCT('Efficiency Dist'!CC77:CC84,'UEC Development'!$J$56:$J$63)+'Product Class Dist'!BU$14*SUMPRODUCT('Efficiency Dist'!CC108:CC119,'UEC Development'!$J$73:$J$84)+'Product Class Dist'!BU$15*SUMPRODUCT('Efficiency Dist'!CC147:CC155,'UEC Development'!$J$94:$J$102)+'Product Class Dist'!BU$16*SUMPRODUCT('Efficiency Dist'!CC180:CC188,'UEC Development'!$J$112:$J$120)+'Product Class Dist'!BU$17*SUMPRODUCT('Efficiency Dist'!CC213:CC222,'UEC Development'!$J$130:$J$139)+'Product Class Dist'!BU$18*SUMPRODUCT('Efficiency Dist'!CC248:CC255,'UEC Development'!$J$149:$J$156)+'Product Class Dist'!BU$19*SUMPRODUCT('Efficiency Dist'!CC279:CC283,'UEC Development'!$J$166:$J$170)+'Product Class Dist'!BU$20*SUMPRODUCT('Efficiency Dist'!CC304:CC308,'UEC Development'!$J$180:$J$184)","v":7646.5365277999645},{"$f":"'Product Class Dist'!BV$11*SUMPRODUCT('Efficiency Dist'!CD13:CD21,'UEC Development'!$J$21:$J$29)+'Product Class Dist'!BV$12*SUMPRODUCT('Efficiency Dist'!CD46:CD53,'UEC Development'!$J$39:$J$46)+'Product Class Dist'!BV$13*SUMPRODUCT('Efficiency Dist'!CD77:CD84,'UEC Development'!$J$56:$J$63)+'Product Class Dist'!BV$14*SUMPRODUCT('Efficiency Dist'!CD108:CD119,'UEC Development'!$J$73:$J$84)+'Product Class Dist'!BV$15*SUMPRODUCT('Efficiency Dist'!CD147:CD155,'UEC Development'!$J$94:$J$102)+'Product Class Dist'!BV$16*SUMPRODUCT('Efficiency Dist'!CD180:CD188,'UEC Development'!$J$112:$J$120)+'Product Class Dist'!BV$17*SUMPRODUCT('Efficiency Dist'!CD213:CD222,'UEC Development'!$J$130:$J$139)+'Product Class Dist'!BV$18*SUMPRODUCT('Efficiency Dist'!CD248:CD255,'UEC Development'!$J$149:$J$156)+'Product Class Dist'!BV$19*SUMPRODUCT('Efficiency Dist'!CD279:CD283,'UEC Development'!$J$166:$J$170)+'Product Class Dist'!BV$20*SUMPRODUCT('Efficiency Dist'!CD304:CD308,'UEC Development'!$J$180:$J$184)","v":7646.5365277999645},{"$f":"'Product Class Dist'!BW$11*SUMPRODUCT('Efficiency Dist'!CE13:CE21,'UEC Development'!$J$21:$J$29)+'Product Class Dist'!BW$12*SUMPRODUCT('Efficiency Dist'!CE46:CE53,'UEC Development'!$J$39:$J$46)+'Product Class Dist'!BW$13*SUMPRODUCT('Efficiency Dist'!CE77:CE84,'UEC Development'!$J$56:$J$63)+'Product Class Dist'!BW$14*SUMPRODUCT('Efficiency Dist'!CE108:CE119,'UEC Development'!$J$73:$J$84)+'Product Class Dist'!BW$15*SUMPRODUCT('Efficiency Dist'!CE147:CE155,'UEC Development'!$J$94:$J$102)+'Product Class Dist'!BW$16*SUMPRODUCT('Efficiency Dist'!CE180:CE188,'UEC Development'!$J$112:$J$120)+'Product Class Dist'!BW$17*SUMPRODUCT('Efficiency Dist'!CE213:CE222,'UEC Development'!$J$130:$J$139)+'Product Class Dist'!BW$18*SUMPRODUCT('Efficiency Dist'!CE248:CE255,'UEC Development'!$J$149:$J$156)+'Product Class Dist'!BW$19*SUMPRODUCT('Efficiency Dist'!CE279:CE283,'UEC Development'!$J$166:$J$170)+'Product Class Dist'!BW$20*SUMPRODUCT('Efficiency Dist'!CE304:CE308,'UEC Development'!$J$180:$J$184)","v":7646.5365277999645},{"$f":"'Product Class Dist'!BX$11*SUMPRODUCT('Efficiency Dist'!CF13:CF21,'UEC Development'!$J$21:$J$29)+'Product Class Dist'!BX$12*SUMPRODUCT('Efficiency Dist'!CF46:CF53,'UEC Development'!$J$39:$J$46)+'Product Class Dist'!BX$13*SUMPRODUCT('Efficiency Dist'!CF77:CF84,'UEC Development'!$J$56:$J$63)+'Product Class Dist'!BX$14*SUMPRODUCT('Efficiency Dist'!CF108:CF119,'UEC Development'!$J$73:$J$84)+'Product Class Dist'!BX$15*SUMPRODUCT('Efficiency Dist'!CF147:CF155,'UEC Development'!$J$94:$J$102)+'Product Class Dist'!BX$16*SUMPRODUCT('Efficiency Dist'!CF180:CF188,'UEC Development'!$J$112:$J$120)+'Product Class Dist'!BX$17*SUMPRODUCT('Efficiency Dist'!CF213:CF222,'UEC Development'!$J$130:$J$139)+'Product Class Dist'!BX$18*SUMPRODUCT('Efficiency Dist'!CF248:CF255,'UEC Development'!$J$149:$J$156)+'Product Class Dist'!BX$19*SUMPRODUCT('Efficiency Dist'!CF279:CF283,'UEC Development'!$J$166:$J$170)+'Product Class Dist'!BX$20*SUMPRODUCT('Efficiency Dist'!CF304:CF308,'UEC Development'!$J$180:$J$184)","v":7646.5365277999645},{"$f":"'Product Class Dist'!BY$11*SUMPRODUCT('Efficiency Dist'!CG13:CG21,'UEC Development'!$J$21:$J$29)+'Product Class Dist'!BY$12*SUMPRODUCT('Efficiency Dist'!CG46:CG53,'UEC Development'!$J$39:$J$46)+'Product Class Dist'!BY$13*SUMPRODUCT('Efficiency Dist'!CG77:CG84,'UEC Development'!$J$56:$J$63)+'Product Class Dist'!BY$14*SUMPRODUCT('Efficiency Dist'!CG108:CG119,'UEC Development'!$J$73:$J$84)+'Product Class Dist'!BY$15*SUMPRODUCT('Efficiency Dist'!CG147:CG155,'UEC Development'!$J$94:$J$102)+'Product Class Dist'!BY$16*SUMPRODUCT('Efficiency Dist'!CG180:CG188,'UEC Development'!$J$112:$J$120)+'Product Class Dist'!BY$17*SUMPRODUCT('Efficiency Dist'!CG213:CG222,'UEC Development'!$J$130:$J$139)+'Product Class Dist'!BY$18*SUMPRODUCT('Efficiency Dist'!CG248:CG255,'UEC Development'!$J$149:$J$156)+'Product Class Dist'!BY$19*SUMPRODUCT('Efficiency Dist'!CG279:CG283,'UEC Development'!$J$166:$J$170)+'Product Class Dist'!BY$20*SUMPRODUCT('Efficiency Dist'!CG304:CG308,'UEC Development'!$J$180:$J$184)","v":7652.1687077798624},{"$f":"'Product Class Dist'!BZ$11*SUMPRODUCT('Efficiency Dist'!CH13:CH21,'UEC Development'!$J$21:$J$29)+'Product Class Dist'!BZ$12*SUMPRODUCT('Efficiency Dist'!CH46:CH53,'UEC Development'!$J$39:$J$46)+'Product Class Dist'!BZ$13*SUMPRODUCT('Efficiency Dist'!CH77:CH84,'UEC Development'!$J$56:$J$63)+'Product Class Dist'!BZ$14*SUMPRODUCT('Efficiency Dist'!CH108:CH119,'UEC Development'!$J$73:$J$84)+'Product Class Dist'!BZ$15*SUMPRODUCT('Efficiency Dist'!CH147:CH155,'UEC Development'!$J$94:$J$102)+'Product Class Dist'!BZ$16*SUMPRODUCT('Efficiency Dist'!CH180:CH188,'UEC Development'!$J$112:$J$120)+'Product Class Dist'!BZ$17*SUMPRODUCT('Efficiency Dist'!CH213:CH222,'UEC Development'!$J$130:$J$139)+'Product Class Dist'!BZ$18*SUMPRODUCT('Efficiency Dist'!CH248:CH255,'UEC Development'!$J$149:$J$156)+'Product Class Dist'!BZ$19*SUMPRODUCT('Efficiency Dist'!CH279:CH283,'UEC Development'!$J$166:$J$170)+'Product Class Dist'!BZ$20*SUMPRODUCT('Efficiency Dist'!CH304:CH308,'UEC Development'!$J$180:$J$184)","v":7657.7123997052004},{"$f":"'Product Class Dist'!CA$11*SUMPRODUCT('Efficiency Dist'!CI13:CI21,'UEC Development'!$J$21:$J$29)+'Product Class Dist'!CA$12*SUMPRODUCT('Efficiency Dist'!CI46:CI53,'UEC Development'!$J$39:$J$46)+'Product Class Dist'!CA$13*SUMPRODUCT('Efficiency Dist'!CI77:CI84,'UEC Development'!$J$56:$J$63)+'Product Class Dist'!CA$14*SUMPRODUCT('Efficiency Dist'!CI108:CI119,'UEC Development'!$J$73:$J$84)+'Product Class Dist'!CA$15*SUMPRODUCT('Efficiency Dist'!CI147:CI155,'UEC Development'!$J$94:$J$102)+'Product Class Dist'!CA$16*SUMPRODUCT('Efficiency Dist'!CI180:CI188,'UEC Development'!$J$112:$J$120)+'Product Class Dist'!CA$17*SUMPRODUCT('Efficiency Dist'!CI213:CI222,'UEC Development'!$J$130:$J$139)+'Product Class Dist'!CA$18*SUMPRODUCT('Efficiency Dist'!CI248:CI255,'UEC Development'!$J$149:$J$156)+'Product Class Dist'!CA$19*SUMPRODUCT('Efficiency Dist'!CI279:CI283,'UEC Development'!$J$166:$J$170)+'Product Class Dist'!CA$20*SUMPRODUCT('Efficiency Dist'!CI304:CI308,'UEC Development'!$J$180:$J$184)","v":7659.6095128642219},{"$f":"'Product Class Dist'!CB$11*SUMPRODUCT('Efficiency Dist'!CJ13:CJ21,'UEC Development'!$J$21:$J$29)+'Product Class Dist'!CB$12*SUMPRODUCT('Efficiency Dist'!CJ46:CJ53,'UEC Development'!$J$39:$J$46)+'Product Class Dist'!CB$13*SUMPRODUCT('Efficiency Dist'!CJ77:CJ84,'UEC Development'!$J$56:$J$63)+'Product Class Dist'!CB$14*SUMPRODUCT('Efficiency Dist'!CJ108:CJ119,'UEC Development'!$J$73:$J$84)+'Product Class Dist'!CB$15*SUMPRODUCT('Efficiency Dist'!CJ147:CJ155,'UEC Development'!$J$94:$J$102)+'Product Class Dist'!CB$16*SUMPRODUCT('Efficiency Dist'!CJ180:CJ188,'UEC Development'!$J$112:$J$120)+'Product Class Dist'!CB$17*SUMPRODUCT('Efficiency Dist'!CJ213:CJ222,'UEC Development'!$J$130:$J$139)+'Product Class Dist'!CB$18*SUMPRODUCT('Efficiency Dist'!CJ248:CJ255,'UEC Development'!$J$149:$J$156)+'Product Class Dist'!CB$19*SUMPRODUCT('Efficiency Dist'!CJ279:CJ283,'UEC Development'!$J$166:$J$170)+'Product Class Dist'!CB$20*SUMPRODUCT('Efficiency Dist'!CJ304:CJ308,'UEC Development'!$J$180:$J$184)","v":7659.0809206363801},{"$f":"'Product Class Dist'!CC$11*SUMPRODUCT('Efficiency Dist'!CK13:CK21,'UEC Development'!$J$21:$J$29)+'Product Class Dist'!CC$12*SUMPRODUCT('Efficiency Dist'!CK46:CK53,'UEC Development'!$J$39:$J$46)+'Product Class Dist'!CC$13*SUMPRODUCT('Efficiency Dist'!CK77:CK84,'UEC Development'!$J$56:$J$63)+'Product Class Dist'!CC$14*SUMPRODUCT('Efficiency Dist'!CK108:CK119,'UEC Development'!$J$73:$J$84)+'Product Class Dist'!CC$15*SUMPRODUCT('Efficiency Dist'!CK147:CK155,'UEC Development'!$J$94:$J$102)+'Product Class Dist'!CC$16*SUMPRODUCT('Efficiency Dist'!CK180:CK188,'UEC Development'!$J$112:$J$120)+'Product Class Dist'!CC$17*SUMPRODUCT('Efficiency Dist'!CK213:CK222,'UEC Development'!$J$130:$J$139)+'Product Class Dist'!CC$18*SUMPRODUCT('Efficiency Dist'!CK248:CK255,'UEC Development'!$J$149:$J$156)+'Product Class Dist'!CC$19*SUMPRODUCT('Efficiency Dist'!CK279:CK283,'UEC Development'!$J$166:$J$170)+'Product Class Dist'!CC$20*SUMPRODUCT('Efficiency Dist'!CK304:CK308,'UEC Development'!$J$180:$J$184)","v":7658.6015571345506},{"$f":"'Product Class Dist'!CD$11*SUMPRODUCT('Efficiency Dist'!CL13:CL21,'UEC Development'!$J$21:$J$29)+'Product Class Dist'!CD$12*SUMPRODUCT('Efficiency Dist'!CL46:CL53,'UEC Development'!$J$39:$J$46)+'Product Class Dist'!CD$13*SUMPRODUCT('Efficiency Dist'!CL77:CL84,'UEC Development'!$J$56:$J$63)+'Product Class Dist'!CD$14*SUMPRODUCT('Efficiency Dist'!CL108:CL119,'UEC Development'!$J$73:$J$84)+'Product Class Dist'!CD$15*SUMPRODUCT('Efficiency Dist'!CL147:CL155,'UEC Development'!$J$94:$J$102)+'Product Class Dist'!CD$16*SUMPRODUCT('Efficiency Dist'!CL180:CL188,'UEC Development'!$J$112:$J$120)+'Product Class Dist'!CD$17*SUMPRODUCT('Efficiency Dist'!CL213:CL222,'UEC Development'!$J$130:$J$139)+'Product Class Dist'!CD$18*SUMPRODUCT('Efficiency Dist'!CL248:CL255,'UEC Development'!$J$149:$J$156)+'Product Class Dist'!CD$19*SUMPRODUCT('Efficiency Dist'!CL279:CL283,'UEC Development'!$J$166:$J$170)+'Product Class Dist'!CD$20*SUMPRODUCT('Efficiency Dist'!CL304:CL308,'UEC Development'!$J$180:$J$184)","v":7656.9177593715503},{"$f":"'Product Class Dist'!CE$11*SUMPRODUCT('Efficiency Dist'!CM13:CM21,'UEC Development'!$J$21:$J$29)+'Product Class Dist'!CE$12*SUMPRODUCT('Efficiency Dist'!CM46:CM53,'UEC Development'!$J$39:$J$46)+'Product Class Dist'!CE$13*SUMPRODUCT('Efficiency Dist'!CM77:CM84,'UEC Development'!$J$56:$J$63)+'Product Class Dist'!CE$14*SUMPRODUCT('Efficiency Dist'!CM108:CM119,'UEC Development'!$J$73:$J$84)+'Product Class Dist'!CE$15*SUMPRODUCT('Efficiency Dist'!CM147:CM155,'UEC Development'!$J$94:$J$102)+'Product Class Dist'!CE$16*SUMPRODUCT('Efficiency Dist'!CM180:CM188,'UEC Development'!$J$112:$J$120)+'Product Class Dist'!CE$17*SUMPRODUCT('Efficiency Dist'!CM213:CM222,'UEC Development'!$J$130:$J$139)+'Product Class Dist'!CE$18*SUMPRODUCT('Efficiency Dist'!CM248:CM255,'UEC Development'!$J$149:$J$156)+'Product Class Dist'!CE$19*SUMPRODUCT('Efficiency Dist'!CM279:CM283,'UEC Development'!$J$166:$J$170)+'Product Class Dist'!CE$20*SUMPRODUCT('Efficiency Dist'!CM304:CM308,'UEC Development'!$J$180:$J$184)","v":7655.8458958069732},{"$f":"'Product Class Dist'!CF$11*SUMPRODUCT('Efficiency Dist'!CN13:CN21,'UEC Development'!$J$21:$J$29)+'Product Class Dist'!CF$12*SUMPRODUCT('Efficiency Dist'!CN46:CN53,'UEC Development'!$J$39:$J$46)+'Product Class Dist'!CF$13*SUMPRODUCT('Efficiency Dist'!CN77:CN84,'UEC Development'!$J$56:$J$63)+'Product Class Dist'!CF$14*SUMPRODUCT('Efficiency Dist'!CN108:CN119,'UEC Development'!$J$73:$J$84)+'Product Class Dist'!CF$15*SUMPRODUCT('Efficiency Dist'!CN147:CN155,'UEC Development'!$J$94:$J$102)+'Product Class Dist'!CF$16*SUMPRODUCT('Efficiency Dist'!CN180:CN188,'UEC Development'!$J$112:$J$120)+'Product Class Dist'!CF$17*SUMPRODUCT('Efficiency Dist'!CN213:CN222,'UEC Development'!$J$130:$J$139)+'Product Class Dist'!CF$18*SUMPRODUCT('Efficiency Dist'!CN248:CN255,'UEC Development'!$J$149:$J$156)+'Product Class Dist'!CF$19*SUMPRODUCT('Efficiency Dist'!CN279:CN283,'UEC Development'!$J$166:$J$170)+'Product Class Dist'!CF$20*SUMPRODUCT('Efficiency Dist'!CN304:CN308,'UEC Development'!$J$180:$J$184)","v":7656.6361156832263},{"$f":"'Product Class Dist'!CG$11*SUMPRODUCT('Efficiency Dist'!CO13:CO21,'UEC Development'!$J$21:$J$29)+'Product Class Dist'!CG$12*SUMPRODUCT('Efficiency Dist'!CO46:CO53,'UEC Development'!$J$39:$J$46)+'Product Class Dist'!CG$13*SUMPRODUCT('Efficiency Dist'!CO77:CO84,'UEC Development'!$J$56:$J$63)+'Product Class Dist'!CG$14*SUMPRODUCT('Efficiency Dist'!CO108:CO119,'UEC Development'!$J$73:$J$84)+'Product Class Dist'!CG$15*SUMPRODUCT('Efficiency Dist'!CO147:CO155,'UEC Development'!$J$94:$J$102)+'Product Class Dist'!CG$16*SUMPRODUCT('Efficiency Dist'!CO180:CO188,'UEC Development'!$J$112:$J$120)+'Product Class Dist'!CG$17*SUMPRODUCT('Efficiency Dist'!CO213:CO222,'UEC Development'!$J$130:$J$139)+'Product Class Dist'!CG$18*SUMPRODUCT('Efficiency Dist'!CO248:CO255,'UEC Development'!$J$149:$J$156)+'Product Class Dist'!CG$19*SUMPRODUCT('Efficiency Dist'!CO279:CO283,'UEC Development'!$J$166:$J$170)+'Product Class Dist'!CG$20*SUMPRODUCT('Efficiency Dist'!CO304:CO308,'UEC Development'!$J$180:$J$184)","v":7659.8001154740869},{"$f":"'Product Class Dist'!CH$11*SUMPRODUCT('Efficiency Dist'!CP13:CP21,'UEC Development'!$J$21:$J$29)+'Product Class Dist'!CH$12*SUMPRODUCT('Efficiency Dist'!CP46:CP53,'UEC Development'!$J$39:$J$46)+'Product Class Dist'!CH$13*SUMPRODUCT('Efficiency Dist'!CP77:CP84,'UEC Development'!$J$56:$J$63)+'Product Class Dist'!CH$14*SUMPRODUCT('Efficiency Dist'!CP108:CP119,'UEC Development'!$J$73:$J$84)+'Product Class Dist'!CH$15*SUMPRODUCT('Efficiency Dist'!CP147:CP155,'UEC Development'!$J$94:$J$102)+'Product Class Dist'!CH$16*SUMPRODUCT('Efficiency Dist'!CP180:CP188,'UEC Development'!$J$112:$J$120)+'Product Class Dist'!CH$17*SUMPRODUCT('Efficiency Dist'!CP213:CP222,'UEC Development'!$J$130:$J$139)+'Product Class Dist'!CH$18*SUMPRODUCT('Efficiency Dist'!CP248:CP255,'UEC Development'!$J$149:$J$156)+'Product Class Dist'!CH$19*SUMPRODUCT('Efficiency Dist'!CP279:CP283,'UEC Development'!$J$166:$J$170)+'Product Class Dist'!CH$20*SUMPRODUCT('Efficiency Dist'!CP304:CP308,'UEC Development'!$J$180:$J$184)","v":7663.9133593304423},{"$f":"'Product Class Dist'!CI$11*SUMPRODUCT('Efficiency Dist'!CQ13:CQ21,'UEC Development'!$J$21:$J$29)+'Product Class Dist'!CI$12*SUMPRODUCT('Efficiency Dist'!CQ46:CQ53,'UEC Development'!$J$39:$J$46)+'Product Class Dist'!CI$13*SUMPRODUCT('Efficiency Dist'!CQ77:CQ84,'UEC Development'!$J$56:$J$63)+'Product Class Dist'!CI$14*SUMPRODUCT('Efficiency Dist'!CQ108:CQ119,'UEC Development'!$J$73:$J$84)+'Product Class Dist'!CI$15*SUMPRODUCT('Efficiency Dist'!CQ147:CQ155,'UEC Development'!$J$94:$J$102)+'Product Class Dist'!CI$16*SUMPRODUCT('Efficiency Dist'!CQ180:CQ188,'UEC Development'!$J$112:$J$120)+'Product Class Dist'!CI$17*SUMPRODUCT('Efficiency Dist'!CQ213:CQ222,'UEC Development'!$J$130:$J$139)+'Product Class Dist'!CI$18*SUMPRODUCT('Efficiency Dist'!CQ248:CQ255,'UEC Development'!$J$149:$J$156)+'Product Class Dist'!CI$19*SUMPRODUCT('Efficiency Dist'!CQ279:CQ283,'UEC Development'!$J$166:$J$170)+'Product Class Dist'!CI$20*SUMPRODUCT('Efficiency Dist'!CQ304:CQ308,'UEC Development'!$J$180:$J$184)","v":7667.5824952704043},{"$f":"'Product Class Dist'!CJ$11*SUMPRODUCT('Efficiency Dist'!CR13:CR21,'UEC Development'!$J$21:$J$29)+'Product Class Dist'!CJ$12*SUMPRODUCT('Efficiency Dist'!CR46:CR53,'UEC Development'!$J$39:$J$46)+'Product Class Dist'!CJ$13*SUMPRODUCT('Efficiency Dist'!CR77:CR84,'UEC Development'!$J$56:$J$63)+'Product Class Dist'!CJ$14*SUMPRODUCT('Efficiency Dist'!CR108:CR119,'UEC Development'!$J$73:$J$84)+'Product Class Dist'!CJ$15*SUMPRODUCT('Efficiency Dist'!CR147:CR155,'UEC Development'!$J$94:$J$102)+'Product Class Dist'!CJ$16*SUMPRODUCT('Efficiency Dist'!CR180:CR188,'UEC Development'!$J$112:$J$120)+'Product Class Dist'!CJ$17*SUMPRODUCT('Efficiency Dist'!CR213:CR222,'UEC Development'!$J$130:$J$139)+'Product Class Dist'!CJ$18*SUMPRODUCT('Efficiency Dist'!CR248:CR255,'UEC Development'!$J$149:$J$156)+'Product Class Dist'!CJ$19*SUMPRODUCT('Efficiency Dist'!CR279:CR283,'UEC Development'!$J$166:$J$170)+'Product Class Dist'!CJ$20*SUMPRODUCT('Efficiency Dist'!CR304:CR308,'UEC Development'!$J$180:$J$184)","v":7669.9135526554392},{"$f":"'Product Class Dist'!CK$11*SUMPRODUCT('Efficiency Dist'!CS13:CS21,'UEC Development'!$J$21:$J$29)+'Product Class Dist'!CK$12*SUMPRODUCT('Efficiency Dist'!CS46:CS53,'UEC Development'!$J$39:$J$46)+'Product Class Dist'!CK$13*SUMPRODUCT('Efficiency Dist'!CS77:CS84,'UEC Development'!$J$56:$J$63)+'Product Class Dist'!CK$14*SUMPRODUCT('Efficiency Dist'!CS108:CS119,'UEC Development'!$J$73:$J$84)+'Product Class Dist'!CK$15*SUMPRODUCT('Efficiency Dist'!CS147:CS155,'UEC Development'!$J$94:$J$102)+'Product Class Dist'!CK$16*SUMPRODUCT('Efficiency Dist'!CS180:CS188,'UEC Development'!$J$112:$J$120)+'Product Class Dist'!CK$17*SUMPRODUCT('Efficiency Dist'!CS213:CS222,'UEC Development'!$J$130:$J$139)+'Product Class Dist'!CK$18*SUMPRODUCT('Efficiency Dist'!CS248:CS255,'UEC Development'!$J$149:$J$156)+'Product Class Dist'!CK$19*SUMPRODUCT('Efficiency Dist'!CS279:CS283,'UEC Development'!$J$166:$J$170)+'Product Class Dist'!CK$20*SUMPRODUCT('Efficiency Dist'!CS304:CS308,'UEC Development'!$J$180:$J$184)","v":7670.8876310589039},{"$f":"'Product Class Dist'!CL$11*SUMPRODUCT('Efficiency Dist'!CT13:CT21,'UEC Development'!$J$21:$J$29)+'Product Class Dist'!CL$12*SUMPRODUCT('Efficiency Dist'!CT46:CT53,'UEC Development'!$J$39:$J$46)+'Product Class Dist'!CL$13*SUMPRODUCT('Efficiency Dist'!CT77:CT84,'UEC Development'!$J$56:$J$63)+'Product Class Dist'!CL$14*SUMPRODUCT('Efficiency Dist'!CT108:CT119,'UEC Development'!$J$73:$J$84)+'Product Class Dist'!CL$15*SUMPRODUCT('Efficiency Dist'!CT147:CT155,'UEC Development'!$J$94:$J$102)+'Product Class Dist'!CL$16*SUMPRODUCT('Efficiency Dist'!CT180:CT188,'UEC Development'!$J$112:$J$120)+'Product Class Dist'!CL$17*SUMPRODUCT('Efficiency Dist'!CT213:CT222,'UEC Development'!$J$130:$J$139)+'Product Class Dist'!CL$18*SUMPRODUCT('Efficiency Dist'!CT248:CT255,'UEC Development'!$J$149:$J$156)+'Product Class Dist'!CL$19*SUMPRODUCT('Efficiency Dist'!CT279:CT283,'UEC Development'!$J$166:$J$170)+'Product Class Dist'!CL$20*SUMPRODUCT('Efficiency Dist'!CT304:CT308,'UEC Development'!$J$180:$J$184)","v":7670.9257242248914},{"$f":"'Product Class Dist'!CM$11*SUMPRODUCT('Efficiency Dist'!CU13:CU21,'UEC Development'!$J$21:$J$29)+'Product Class Dist'!CM$12*SUMPRODUCT('Efficiency Dist'!CU46:CU53,'UEC Development'!$J$39:$J$46)+'Product Class Dist'!CM$13*SUMPRODUCT('Efficiency Dist'!CU77:CU84,'UEC Development'!$J$56:$J$63)+'Product Class Dist'!CM$14*SUMPRODUCT('Efficiency Dist'!CU108:CU119,'UEC Development'!$J$73:$J$84)+'Product Class Dist'!CM$15*SUMPRODUCT('Efficiency Dist'!CU147:CU155,'UEC Development'!$J$94:$J$102)+'Product Class Dist'!CM$16*SUMPRODUCT('Efficiency Dist'!CU180:CU188,'UEC Development'!$J$112:$J$120)+'Product Class Dist'!CM$17*SUMPRODUCT('Efficiency Dist'!CU213:CU222,'UEC Development'!$J$130:$J$139)+'Product Class Dist'!CM$18*SUMPRODUCT('Efficiency Dist'!CU248:CU255,'UEC Development'!$J$149:$J$156)+'Product Class Dist'!CM$19*SUMPRODUCT('Efficiency Dist'!CU279:CU283,'UEC Development'!$J$166:$J$170)+'Product Class Dist'!CM$20*SUMPRODUCT('Efficiency Dist'!CU304:CU308,'UEC Development'!$J$180:$J$184)","v":7670.7809578676515},{"$f":"'Product Class Dist'!CN$11*SUMPRODUCT('Efficiency Dist'!CV13:CV21,'UEC Development'!$J$21:$J$29)+'Product Class Dist'!CN$12*SUMPRODUCT('Efficiency Dist'!CV46:CV53,'UEC Development'!$J$39:$J$46)+'Product Class Dist'!CN$13*SUMPRODUCT('Efficiency Dist'!CV77:CV84,'UEC Development'!$J$56:$J$63)+'Product Class Dist'!CN$14*SUMPRODUCT('Efficiency Dist'!CV108:CV119,'UEC Development'!$J$73:$J$84)+'Product Class Dist'!CN$15*SUMPRODUCT('Efficiency Dist'!CV147:CV155,'UEC Development'!$J$94:$J$102)+'Product Class Dist'!CN$16*SUMPRODUCT('Efficiency Dist'!CV180:CV188,'UEC Development'!$J$112:$J$120)+'Product Class Dist'!CN$17*SUMPRODUCT('Efficiency Dist'!CV213:CV222,'UEC Development'!$J$130:$J$139)+'Product Class Dist'!CN$18*SUMPRODUCT('Efficiency Dist'!CV248:CV255,'UEC Development'!$J$149:$J$156)+'Product Class Dist'!CN$19*SUMPRODUCT('Efficiency Dist'!CV279:CV283,'UEC Development'!$J$166:$J$170)+'Product Class Dist'!CN$20*SUMPRODUCT('Efficiency Dist'!CV304:CV308,'UEC Development'!$J$180:$J$184)","v":7670.9833378440471},{"$f":"'Product Class Dist'!CO$11*SUMPRODUCT('Efficiency Dist'!CW13:CW21,'UEC Development'!$J$21:$J$29)+'Product Class Dist'!CO$12*SUMPRODUCT('Efficiency Dist'!CW46:CW53,'UEC Development'!$J$39:$J$46)+'Product Class Dist'!CO$13*SUMPRODUCT('Efficiency Dist'!CW77:CW84,'UEC Development'!$J$56:$J$63)+'Product Class Dist'!CO$14*SUMPRODUCT('Efficiency Dist'!CW108:CW119,'UEC Development'!$J$73:$J$84)+'Product Class Dist'!CO$15*SUMPRODUCT('Efficiency Dist'!CW147:CW155,'UEC Development'!$J$94:$J$102)+'Product Class Dist'!CO$16*SUMPRODUCT('Efficiency Dist'!CW180:CW188,'UEC Development'!$J$112:$J$120)+'Product Class Dist'!CO$17*SUMPRODUCT('Efficiency Dist'!CW213:CW222,'UEC Development'!$J$130:$J$139)+'Product Class Dist'!CO$18*SUMPRODUCT('Efficiency Dist'!CW248:CW255,'UEC Development'!$J$149:$J$156)+'Product Class Dist'!CO$19*SUMPRODUCT('Efficiency Dist'!CW279:CW283,'UEC Development'!$J$166:$J$170)+'Product Class Dist'!CO$20*SUMPRODUCT('Efficiency Dist'!CW304:CW308,'UEC Development'!$J$180:$J$184)","v":7672.1081495211829},{"$f":"'Product Class Dist'!CP$11*SUMPRODUCT('Efficiency Dist'!CX13:CX21,'UEC Development'!$J$21:$J$29)+'Product Class Dist'!CP$12*SUMPRODUCT('Efficiency Dist'!CX46:CX53,'UEC Development'!$J$39:$J$46)+'Product Class Dist'!CP$13*SUMPRODUCT('Efficiency Dist'!CX77:CX84,'UEC Development'!$J$56:$J$63)+'Product Class Dist'!CP$14*SUMPRODUCT('Efficiency Dist'!CX108:CX119,'UEC Development'!$J$73:$J$84)+'Product Class Dist'!CP$15*SUMPRODUCT('Efficiency Dist'!CX147:CX155,'UEC Development'!$J$94:$J$102)+'Product Class Dist'!CP$16*SUMPRODUCT('Efficiency Dist'!CX180:CX188,'UEC Development'!$J$112:$J$120)+'Product Class Dist'!CP$17*SUMPRODUCT('Efficiency Dist'!CX213:CX222,'UEC Development'!$J$130:$J$139)+'Product Class Dist'!CP$18*SUMPRODUCT('Efficiency Dist'!CX248:CX255,'UEC Development'!$J$149:$J$156)+'Product Class Dist'!CP$19*SUMPRODUCT('Efficiency Dist'!CX279:CX283,'UEC Development'!$J$166:$J$170)+'Product Class Dist'!CP$20*SUMPRODUCT('Efficiency Dist'!CX304:CX308,'UEC Development'!$J$180:$J$184)","v":7674.1134580742419},{"$f":"'Product Class Dist'!CQ$11*SUMPRODUCT('Efficiency Dist'!CY13:CY21,'UEC Development'!$J$21:$J$29)+'Product Class Dist'!CQ$12*SUMPRODUCT('Efficiency Dist'!CY46:CY53,'UEC Development'!$J$39:$J$46)+'Product Class Dist'!CQ$13*SUMPRODUCT('Efficiency Dist'!CY77:CY84,'UEC Development'!$J$56:$J$63)+'Product Class Dist'!CQ$14*SUMPRODUCT('Efficiency Dist'!CY108:CY119,'UEC Development'!$J$73:$J$84)+'Product Class Dist'!CQ$15*SUMPRODUCT('Efficiency Dist'!CY147:CY155,'UEC Development'!$J$94:$J$102)+'Product Class Dist'!CQ$16*SUMPRODUCT('Efficiency Dist'!CY180:CY188,'UEC Development'!$J$112:$J$120)+'Product Class Dist'!CQ$17*SUMPRODUCT('Efficiency Dist'!CY213:CY222,'UEC Development'!$J$130:$J$139)+'Product Class Dist'!CQ$18*SUMPRODUCT('Efficiency Dist'!CY248:CY255,'UEC Development'!$J$149:$J$156)+'Product Class Dist'!CQ$19*SUMPRODUCT('Efficiency Dist'!CY279:CY283,'UEC Development'!$J$166:$J$170)+'Product Class Dist'!CQ$20*SUMPRODUCT('Efficiency Dist'!CY304:CY308,'UEC Development'!$J$180:$J$184)","v":7676.3891178993599},{"$f":"'Product Class Dist'!CR$11*SUMPRODUCT('Efficiency Dist'!CZ13:CZ21,'UEC Development'!$J$21:$J$29)+'Product Class Dist'!CR$12*SUMPRODUCT('Efficiency Dist'!CZ46:CZ53,'UEC Development'!$J$39:$J$46)+'Product Class Dist'!CR$13*SUMPRODUCT('Efficiency Dist'!CZ77:CZ84,'UEC Development'!$J$56:$J$63)+'Product Class Dist'!CR$14*SUMPRODUCT('Efficiency Dist'!CZ108:CZ119,'UEC Development'!$J$73:$J$84)+'Product Class Dist'!CR$15*SUMPRODUCT('Efficiency Dist'!CZ147:CZ155,'UEC Development'!$J$94:$J$102)+'Product Class Dist'!CR$16*SUMPRODUCT('Efficiency Dist'!CZ180:CZ188,'UEC Development'!$J$112:$J$120)+'Product Class Dist'!CR$17*SUMPRODUCT('Efficiency Dist'!CZ213:CZ222,'UEC Development'!$J$130:$J$139)+'Product Class Dist'!CR$18*SUMPRODUCT('Efficiency Dist'!CZ248:CZ255,'UEC Development'!$J$149:$J$156)+'Product Class Dist'!CR$19*SUMPRODUCT('Efficiency Dist'!CZ279:CZ283,'UEC Development'!$J$166:$J$170)+'Product Class Dist'!CR$20*SUMPRODUCT('Efficiency Dist'!CZ304:CZ308,'UEC Development'!$J$180:$J$184)","v":7678.5600736019796},{"$f":"'Product Class Dist'!CS$11*SUMPRODUCT('Efficiency Dist'!DA13:DA21,'UEC Development'!$J$21:$J$29)+'Product Class Dist'!CS$12*SUMPRODUCT('Efficiency Dist'!DA46:DA53,'UEC Development'!$J$39:$J$46)+'Product Class Dist'!CS$13*SUMPRODUCT('Efficiency Dist'!DA77:DA84,'UEC Development'!$J$56:$J$63)+'Product Class Dist'!CS$14*SUMPRODUCT('Efficiency Dist'!DA108:DA119,'UEC Development'!$J$73:$J$84)+'Product Class Dist'!CS$15*SUMPRODUCT('Efficiency Dist'!DA147:DA155,'UEC Development'!$J$94:$J$102)+'Product Class Dist'!CS$16*SUMPRODUCT('Efficiency Dist'!DA180:DA188,'UEC Development'!$J$112:$J$120)+'Product Class Dist'!CS$17*SUMPRODUCT('Efficiency Dist'!DA213:DA222,'UEC Development'!$J$130:$J$139)+'Product Class Dist'!CS$18*SUMPRODUCT('Efficiency Dist'!DA248:DA255,'UEC Development'!$J$149:$J$156)+'Product Class Dist'!CS$19*SUMPRODUCT('Efficiency Dist'!DA279:DA283,'UEC Development'!$J$166:$J$170)+'Product Class Dist'!CS$20*SUMPRODUCT('Efficiency Dist'!DA304:DA308,'UEC Development'!$J$180:$J$184)","v":7680.0240882390717}]
[null,null,"POST-Case UEC",{"$f":"'Product Class Dist'!BA$23*SUMPRODUCT('Efficiency Dist'!BI26:BI34,'UEC Development'!$J$21:$J$29)+'Product Class Dist'!BA$24*SUMPRODUCT('Efficiency Dist'!BI58:BI65,'UEC Development'!$J$39:$J$46)+'Product Class Dist'!BA$25*SUMPRODUCT('Efficiency Dist'!BI89:BI96,'UEC Development'!$J$56:$J$63)+'Product Class Dist'!BA$26*SUMPRODUCT('Efficiency Dist'!BI124:BI135,'UEC Development'!$J$73:$J$84)+'Product Class Dist'!BA$27*SUMPRODUCT('Efficiency Dist'!BI160:BI168,'UEC Development'!$J$94:$J$102)+'Product Class Dist'!BA$28*SUMPRODUCT('Efficiency Dist'!BI193:BI201,'UEC Development'!$J$112:$J$120)+'Product Class Dist'!BA$29*SUMPRODUCT('Efficiency Dist'!BI227:BI236,'UEC Development'!$J$130:$J$139)+'Product Class Dist'!BA$30*SUMPRODUCT('Efficiency Dist'!BI260:BI267,'UEC Development'!$J$149:$J$156)+'Product Class Dist'!BA$31*SUMPRODUCT('Efficiency Dist'!BI288:BI292,'UEC Development'!$J$166:$J$170)+'Product Class Dist'!BA$32*SUMPRODUCT('Efficiency Dist'!BI313:BI317,'UEC Development'!$J$180:$J$184)","v":11179.950036541986},{"$f":"'Product Class Dist'!BB$23*SUMPRODUCT('Efficiency Dist'!BJ26:BJ34,'UEC Development'!$J$21:$J$29)+'Product Class Dist'!BB$24*SUMPRODUCT('Efficiency Dist'!BJ58:BJ65,'UEC Development'!$J$39:$J$46)+'Product Class Dist'!BB$25*SUMPRODUCT('Efficiency Dist'!BJ89:BJ96,'UEC Development'!$J$56:$J$63)+'Product Class Dist'!BB$26*SUMPRODUCT('Efficiency Dist'!BJ124:BJ135,'UEC Development'!$J$73:$J$84)+'Product Class Dist'!BB$27*SUMPRODUCT('Efficiency Dist'!BJ160:BJ168,'UEC Development'!$J$94:$J$102)+'Product Class Dist'!BB$28*SUMPRODUCT('Efficiency Dist'!BJ193:BJ201,'UEC Development'!$J$112:$J$120)+'Product Class Dist'!BB$29*SUMPRODUCT('Efficiency Dist'!BJ227:BJ236,'UEC Development'!$J$130:$J$139)+'Product Class Dist'!BB$30*SUMPRODUCT('Efficiency Dist'!BJ260:BJ267,'UEC Development'!$J$149:$J$156)+'Product Class Dist'!BB$31*SUMPRODUCT('Efficiency Dist'!BJ288:BJ292,'UEC Development'!$J$166:$J$170)+'Product Class Dist'!BB$32*SUMPRODUCT('Efficiency Dist'!BJ313:BJ317,'UEC Development'!$J$180:$J$184)","v":11179.950036541986},{"$f":"'Product Class Dist'!BC$23*SUMPRODUCT('Efficiency Dist'!BK26:BK34,'UEC Development'!$J$21:$J$29)+'Product Class Dist'!BC$24*SUMPRODUCT('Efficiency Dist'!BK58:BK65,'UEC Development'!$J$39:$J$46)+'Product Class Dist'!BC$25*SUMPRODUCT('Efficiency Dist'!BK89:BK96,'UEC Development'!$J$56:$J$63)+'Product Class Dist'!BC$26*SUMPRODUCT('Efficiency Dist'!BK124:BK135,'UEC Development'!$J$73:$J$84)+'Product Class Dist'!BC$27*SUMPRODUCT('Efficiency Dist'!BK160:BK168,'UEC Development'!$J$94:$J$102)+'Product Class Dist'!BC$28*SUMPRODUCT('Efficiency Dist'!BK193:BK201,'UEC Development'!$J$112:$J$120)+'Product Class Dist'!BC$29*SUMPRODUCT('Efficiency Dist'!BK227:BK236,'UEC Development'!$J$130:$J$139)+'Product Class Dist'!BC$30*SUMPRODUCT('Efficiency Dist'!BK260:BK267,'UEC Development'!$J$149:$J$156)+'Product Class Dist'!BC$31*SUMPRODUCT('Efficiency Dist'!BK288:BK292,'UEC Development'!$J$166:$J$170)+'Product Class Dist'!BC$32*SUMPRODUCT('Efficiency Dist'!BK313:BK317,'UEC Development'!$J$180:$J$184)","v":11179.950036541986},{"$f":"'Product Class Dist'!BD$23*SUMPRODUCT('Efficiency Dist'!BL26:BL34,'UEC Development'!$J$21:$J$29)+'Product Class Dist'!BD$24*SUMPRODUCT('Efficiency Dist'!BL58:BL65,'UEC Development'!$J$39:$J$46)+'Product Class Dist'!BD$25*SUMPRODUCT('Efficiency Dist'!BL89:BL96,'UEC Development'!$J$56:$J$63)+'Product Class Dist'!BD$26*SUMPRODUCT('Efficiency Dist'!BL124:BL135,'UEC Development'!$J$73:$J$84)+'Product Class Dist'!BD$27*SUMPRODUCT('Efficiency Dist'!BL160:BL168,'UEC Development'!$J$94:$J$102)+'Product Class Dist'!BD$28*SUMPRODUCT('Efficiency Dist'!BL193:BL201,'UEC Development'!$J$112:$J$120)+'Product Class Dist'!BD$29*SUMPRODUCT('Efficiency Dist'!BL227:BL236,'UEC Development'!$J$130:$J$139)+'Product Class Dist'!BD$30*SUMPRODUCT('Efficiency Dist'!BL260:BL267,'UEC Development'!$J$149:$J$156)+'Product Class Dist'!BD$31*SUMPRODUCT('Efficiency Dist'!BL288:BL292,'UEC Development'!$J$166:$J$170)+'Product Class Dist'!BD$32*SUMPRODUCT('Efficiency Dist'!BL313:BL317,'UEC Development'!$J$180:$J$184)","v":11179.950036541986},{"$f":"'Product Class Dist'!BE$23*SUMPRODUCT('Efficiency Dist'!BM26:BM34,'UEC Development'!$J$21:$J$29)+'Product Class Dist'!BE$24*SUMPRODUCT('Efficiency Dist'!BM58:BM65,'UEC Development'!$J$39:$J$46)+'Product Class Dist'!BE$25*SUMPRODUCT('Efficiency Dist'!BM89:BM96,'UEC Development'!$J$56:$J$63)+'Product Class Dist'!BE$26*SUMPRODUCT('Efficiency Dist'!BM124:BM135,'UEC Development'!$J$73:$J$84)+'Product Class Dist'!BE$27*SUMPRODUCT('Efficiency Dist'!BM160:BM168,'UEC Development'!$J$94:$J$102)+'Product Class Dist'!BE$28*SUMPRODUCT('Efficiency Dist'!BM193:BM201,'UEC Development'!$J$112:$J$120)+'Product Class Dist'!BE$29*SUMPRODUCT('Efficiency Dist'!BM227:BM236,'UEC Development'!$J$130:$J$139)+'Product Class Dist'!BE$30*SUMPRODUCT('Efficiency Dist'!BM260:BM267,'UEC Development'!$J$149:$J$156)+'Product Class Dist'!BE$31*SUMPRODUCT('Efficiency Dist'!BM288:BM292,'UEC Development'!$J$166:$J$170)+'Product Class Dist'!BE$32*SUMPRODUCT('Efficiency Dist'!BM313:BM317,'UEC Development'!$J$180:$J$184)","v":11179.950036541986},{"$f":"'Product Class Dist'!BF$23*SUMPRODUCT('Efficiency Dist'!BN26:BN34,'UEC Development'!$J$21:$J$29)+'Product Class Dist'!BF$24*SUMPRODUCT('Efficiency Dist'!BN58:BN65,'UEC Development'!$J$39:$J$46)+'Product Class Dist'!BF$25*SUMPRODUCT('Efficiency Dist'!BN89:BN96,'UEC Development'!$J$56:$J$63)+'Product Class Dist'!BF$26*SUMPRODUCT('Efficiency Dist'!BN124:BN135,'UEC Development'!$J$73:$J$84)+'Product Class Dist'!BF$27*SUMPRODUCT('Efficiency Dist'!BN160:BN168,'UEC Development'!$J$94:$J$102)+'Product Class Dist'!BF$28*SUMPRODUCT('Efficiency Dist'!BN193:BN201,'UEC Development'!$J$112:$J$120)+'Product Class Dist'!BF$29*SUMPRODUCT('Efficiency Dist'!BN227:BN236,'UEC Development'!$J$130:$J$139)+'Product Class Dist'!BF$30*SUMPRODUCT('Efficiency Dist'!BN260:BN267,'UEC Development'!$J$149:$J$156)+'Product Class Dist'!BF$31*SUMPRODUCT('Efficiency Dist'!BN288:BN292,'UEC Development'!$J$166:$J$170)+'Product Class Dist'!BF$32*SUMPRODUCT('Efficiency Dist'!BN313:BN317,'UEC Development'!$J$180:$J$184)","v":11179.950036541986},{"$f":"'Product Class Dist'!BG$23*SUMPRODUCT('Efficiency Dist'!BO26:BO34,'UEC Development'!$J$21:$J$29)+'Product Class Dist'!BG$24*SUMPRODUCT('Efficiency Dist'!BO58:BO65,'UEC Development'!$J$39:$J$46)+'Product Class Dist'!BG$25*SUMPRODUCT('Efficiency Dist'!BO89:BO96,'UEC Development'!$J$56:$J$63)+'Product Class Dist'!BG$26*SUMPRODUCT('Efficiency Dist'!BO124:BO135,'UEC Development'!$J$73:$J$84)+'Product Class Dist'!BG$27*SUMPRODUCT('Efficiency Dist'!BO160:BO168,'UEC Development'!$J$94:$J$102)+'Product Class Dist'!BG$28*SUMPRODUCT('Efficiency Dist'!BO193:BO201,'UEC Development'!$J$112:$J$120)+'Product Class Dist'!BG$29*SUMPRODUCT('Efficiency Dist'!BO227:BO236,'UEC Development'!$J$130:$J$139)+'Product Class Dist'!BG$30*SUMPRODUCT('Efficiency Dist'!BO260:BO267,'UEC Development'!$J$149:$J$156)+'Product Class Dist'!BG$31*SUMPRODUCT('Efficiency Dist'!BO288:BO292,'UEC Development'!$J$166:$J$170)+'Product Class Dist'!BG$32*SUMPRODUCT('Efficiency Dist'!BO313:BO317,'UEC Development'!$J$180:$J$184)","v":11179.950036541986},{"$f":"'Product Class Dist'!BH$23*SUMPRODUCT('Efficiency Dist'!BP26:BP34,'UEC Development'!$J$21:$J$29)+'Product Class Dist'!BH$24*SUMPRODUCT('Efficiency Dist'!BP58:BP65,'UEC Development'!$J$39:$J$46)+'Product Class Dist'!BH$25*SUMPRODUCT('Efficiency Dist'!BP89:BP96,'UEC Development'!$J$56:$J$63)+'Product Class Dist'!BH$26*SUMPRODUCT('Efficiency Dist'!BP124:BP135,'UEC Development'!$J$73:$J$84)+'Product Class Dist'!BH$27*SUMPRODUCT('Efficiency Dist'!BP160:BP168,'UEC Development'!$J$94:$J$102)+'Product Class Dist'!BH$28*SUMPRODUCT('Efficiency Dist'!BP193:BP201,'UEC Development'!$J$112:$J$120)+'Product Class Dist'!BH$29*SUMPRODUCT('Efficiency Dist'!BP227:BP236,'UEC Development'!$J$130:$J$139)+'Product Class Dist'!BH$30*SUMPRODUCT('Efficiency Dist'!BP260:BP267,'UEC Development'!$J$149:$J$156)+'Product Class Dist'!BH$31*SUMPRODUCT('Efficiency Dist'!BP288:BP292,'UEC Development'!$J$166:$J$170)+'Product Class Dist'!BH$32*SUMPRODUCT('Efficiency Dist'!BP313:BP317,'UEC Development'!$J$180:$J$184)","v":11179.950036541986},{"$f":"'Product Class Dist'!BI$23*SUMPRODUCT('Efficiency Dist'!BQ26:BQ34,'UEC Development'!$J$21:$J$29)+'Product Class Dist'!BI$24*SUMPRODUCT('Efficiency Dist'!BQ58:BQ65,'UEC Development'!$J$39:$J$46)+'Product Class Dist'!BI$25*SUMPRODUCT('Efficiency Dist'!BQ89:BQ96,'UEC Development'!$J$56:$J$63)+'Product Class Dist'!BI$26*SUMPRODUCT('Efficiency Dist'!BQ124:BQ135,'UEC Development'!$J$73:$J$84)+'Product Class Dist'!BI$27*SUMPRODUCT('Efficiency Dist'!BQ160:BQ168,'UEC Development'!$J$94:$J$102)+'Product Class Dist'!BI$28*SUMPRODUCT('Efficiency Dist'!BQ193:BQ201,'UEC Development'!$J$112:$J$120)+'Product Class Dist'!BI$29*SUMPRODUCT('Efficiency Dist'!BQ227:BQ236,'UEC Development'!$J$130:$J$139)+'Product Class Dist'!BI$30*SUMPRODUCT('Efficiency Dist'!BQ260:BQ267,'UEC Development'!$J$149:$J$156)+'Product Class Dist'!BI$31*SUMPRODUCT('Efficiency Dist'!BQ288:BQ292,'UEC Development'!$J$166:$J$170)+'Product Class Dist'!BI$32*SUMPRODUCT('Efficiency Dist'!BQ313:BQ317,'UEC Development'!$J$180:$J$184)","v":11179.950036541986},{"$f":"'Product Class Dist'!BJ$23*SUMPRODUCT('Efficiency Dist'!BR26:BR34,'UEC Development'!$J$21:$J$29)+'Product Class Dist'!BJ$24*SUMPRODUCT('Efficiency Dist'!BR58:BR65,'UEC Development'!$J$39:$J$46)+'Product Class Dist'!BJ$25*SUMPRODUCT('Efficiency Dist'!BR89:BR96,'UEC Development'!$J$56:$J$63)+'Product Class Dist'!BJ$26*SUMPRODUCT('Efficiency Dist'!BR124:BR135,'UEC Development'!$J$73:$J$84)+'Product Class Dist'!BJ$27*SUMPRODUCT('Efficiency Dist'!BR160:BR168,'UEC Development'!$J$94:$J$102)+'Product Class Dist'!BJ$28*SUMPRODUCT('Efficiency Dist'!BR193:BR201,'UEC Development'!$J$112:$J$120)+'Product Class Dist'!BJ$29*SUMPRODUCT('Efficiency Dist'!BR227:BR236,'UEC Development'!$J$130:$J$139)+'Product Class Dist'!BJ$30*SUMPRODUCT('Efficiency Dist'!BR260:BR267,'UEC Development'!$J$149:$J$156)+'Product Class Dist'!BJ$31*SUMPRODUCT('Efficiency Dist'!BR288:BR292,'UEC Development'!$J$166:$J$170)+'Product Class Dist'!BJ$32*SUMPRODUCT('Efficiency Dist'!BR313:BR317,'UEC Development'!$J$180:$J$184)","v":11179.950036541986},{"$f":"'Product Class Dist'!BK$23*SUMPRODUCT('Efficiency Dist'!BS26:BS34,'UEC Development'!$J$21:$J$29)+'Product Class Dist'!BK$24*SUMPRODUCT('Efficiency Dist'!BS58:BS65,'UEC Development'!$J$39:$J$46)+'Product Class Dist'!BK$25*SUMPRODUCT('Efficiency Dist'!BS89:BS96,'UEC Development'!$J$56:$J$63)+'Product Class Dist'!BK$26*SUMPRODUCT('Efficiency Dist'!BS124:BS135,'UEC Development'!$J$73:$J$84)+'Product Class Dist'!BK$27*SUMPRODUCT('Efficiency Dist'!BS160:BS168,'UEC Development'!$J$94:$J$102)+'Product Class Dist'!BK$28*SUMPRODUCT('Efficiency Dist'!BS193:BS201,'UEC Development'!$J$112:$J$120)+'Product Class Dist'!BK$29*SUMPRODUCT('Efficiency Dist'!BS227:BS236,'UEC Development'!$J$130:$J$139)+'Product Class Dist'!BK$30*SUMPRODUCT('Efficiency Dist'!BS260:BS267,'UEC Development'!$J$149:$J$156)+'Product Class Dist'!BK$31*SUMPRODUCT('Efficiency Dist'!BS288:BS292,'UEC Development'!$J$166:$J$170)+'Product Class Dist'!BK$32*SUMPRODUCT('Efficiency Dist'!BS313:BS317,'UEC Development'!$J$180:$J$184)","v":11179.950036541986},{"$f":"'Product Class Dist'!BL$23*SUMPRODUCT('Efficiency Dist'!BT26:BT34,'UEC Development'!$J$21:$J$29)+'Product Class Dist'!BL$24*SUMPRODUCT('Efficiency Dist'!BT58:BT65,'UEC Development'!$J$39:$J$46)+'Product Class Dist'!BL$25*SUMPRODUCT('Efficiency Dist'!BT89:BT96,'UEC Development'!$J$56:$J$63)+'Product Class Dist'!BL$26*SUMPRODUCT('Efficiency Dist'!BT124:BT135,'UEC Development'!$J$73:$J$84)+'Product Class Dist'!BL$27*SUMPRODUCT('Efficiency Dist'!BT160:BT168,'UEC Development'!$J$94:$J$102)+'Product Class Dist'!BL$28*SUMPRODUCT('Efficiency Dist'!BT193:BT201,'UEC Development'!$J$112:$J$120)+'Product Class Dist'!BL$29*SUMPRODUCT('Efficiency Dist'!BT227:BT236,'UEC Development'!$J$130:$J$139)+'Product Class Dist'!BL$30*SUMPRODUCT('Efficiency Dist'!BT260:BT267,'UEC Development'!$J$149:$J$156)+'Product Class Dist'!BL$31*SUMPRODUCT('Efficiency Dist'!BT288:BT292,'UEC Development'!$J$166:$J$170)+'Product Class Dist'!BL$32*SUMPRODUCT('Efficiency Dist'!BT313:BT317,'UEC Development'!$J$180:$J$184)","v":11179.950036541986},{"$f":"'Product Class Dist'!BM$23*SUMPRODUCT('Efficiency Dist'!BU26:BU34,'UEC Development'!$J$21:$J$29)+'Product Class Dist'!BM$24*SUMPRODUCT('Efficiency Dist'!BU58:BU65,'UEC Development'!$J$39:$J$46)+'Product Class Dist'!BM$25*SUMPRODUCT('Efficiency Dist'!BU89:BU96,'UEC Development'!$J$56:$J$63)+'Product Class Dist'!BM$26*SUMPRODUCT('Efficiency Dist'!BU124:BU135,'UEC Development'!$J$73:$J$84)+'Product Class Dist'!BM$27*SUMPRODUCT('Efficiency Dist'!BU160:BU168,'UEC Development'!$J$94:$J$102)+'Product Class Dist'!BM$28*SUMPRODUCT('Efficiency Dist'!BU193:BU201,'UEC Development'!$J$112:$J$120)+'Product Class Dist'!BM$29*SUMPRODUCT('Efficiency Dist'!BU227:BU236,'UEC Development'!$J$130:$J$139)+'Product Class Dist'!BM$30*SUMPRODUCT('Efficiency Dist'!BU260:BU267,'UEC Development'!$J$149:$J$156)+'Product Class Dist'!BM$31*SUMPRODUCT('Efficiency Dist'!BU288:BU292,'UEC Development'!$J$166:$J$170)+'Product Class Dist'!BM$32*SUMPRODUCT('Efficiency Dist'!BU313:BU317,'UEC Development'!$J$180:$J$184)","v":11179.950036541986},{"$f":"'Product Class Dist'!BN$23*SUMPRODUCT('Efficiency Dist'!BV26:BV34,'UEC Development'!$J$21:$J$29)+'Product Class Dist'!BN$24*SUMPRODUCT('Efficiency Dist'!BV58:BV65,'UEC Development'!$J$39:$J$46)+'Product Class Dist'!BN$25*SUMPRODUCT('Efficiency Dist'!BV89:BV96,'UEC Development'!$J$56:$J$63)+'Product Class Dist'!BN$26*SUMPRODUCT('Efficiency Dist'!BV124:BV135,'UEC Development'!$J$73:$J$84)+'Product Class Dist'!BN$27*SUMPRODUCT('Efficiency Dist'!BV160:BV168,'UEC Development'!$J$94:$J$102)+'Product Class Dist'!BN$28*SUMPRODUCT('Efficiency Dist'!BV193:BV201,'UEC Development'!$J$112:$J$120)+'Product Class Dist'!BN$29*SUMPRODUCT('Efficiency Dist'!BV227:BV236,'UEC Development'!$J$130:$J$139)+'Product Class Dist'!BN$30*SUMPRODUCT('Efficiency Dist'!BV260:BV267,'UEC Development'!$J$149:$J$156)+'Product Class Dist'!BN$31*SUMPRODUCT('Efficiency Dist'!BV288:BV292,'UEC Development'!$J$166:$J$170)+'Product Class Dist'!BN$32*SUMPRODUCT('Efficiency Dist'!BV313:BV317,'UEC Development'!$J$180:$J$184)","v":11179.950036541986},{"$f":"'Product Class Dist'!BO$23*SUMPRODUCT('Efficiency Dist'!BW26:BW34,'UEC Development'!$J$21:$J$29)+'Product Class Dist'!BO$24*SUMPRODUCT('Efficiency Dist'!BW58:BW65,'UEC Development'!$J$39:$J$46)+'Product Class Dist'!BO$25*SUMPRODUCT('Efficiency Dist'!BW89:BW96,'UEC Development'!$J$56:$J$63)+'Product Class Dist'!BO$26*SUMPRODUCT('Efficiency Dist'!BW124:BW135,'UEC Development'!$J$73:$J$84)+'Product Class Dist'!BO$27*SUMPRODUCT('Efficiency Dist'!BW160:BW168,'UEC Development'!$J$94:$J$102)+'Product Class Dist'!BO$28*SUMPRODUCT('Efficiency Dist'!BW193:BW201,'UEC Development'!$J$112:$J$120)+'Product Class Dist'!BO$29*SUMPRODUCT('Efficiency Dist'!BW227:BW236,'UEC Development'!$J$130:$J$139)+'Product Class Dist'!BO$30*SUMPRODUCT('Efficiency Dist'!BW260:BW267,'UEC Development'!$J$149:$J$156)+'Product Class Dist'!BO$31*SUMPRODUCT('Efficiency Dist'!BW288:BW292,'UEC Development'!$J$166:$J$170)+'Product Class Dist'!BO$32*SUMPRODUCT('Efficiency Dist'!BW313:BW317,'UEC Development'!$J$180:$J$184)","v":11179.950036541986},{"$f":"'Product Class Dist'!BP$23*SUMPRODUCT('Efficiency Dist'!BX26:BX34,'UEC Development'!$J$21:$J$29)+'Product Class Dist'!BP$24*SUMPRODUCT('Efficiency Dist'!BX58:BX65,'UEC Development'!$J$39:$J$46)+'Product Class Dist'!BP$25*SUMPRODUCT('Efficiency Dist'!BX89:BX96,'UEC Development'!$J$56:$J$63)+'Product Class Dist'!BP$26*SUMPRODUCT('Efficiency Dist'!BX124:BX135,'UEC Development'!$J$73:$J$84)+'Product Class Dist'!BP$27*SUMPRODUCT('Efficiency Dist'!BX160:BX168,'UEC Development'!$J$94:$J$102)+'Product Class Dist'!BP$28*SUMPRODUCT('Efficiency Dist'!BX193:BX201,'UEC Development'!$J$112:$J$120)+'Product Class Dist'!BP$29*SUMPRODUCT('Efficiency Dist'!BX227:BX236,'UEC Development'!$J$130:$J$139)+'Product Class Dist'!BP$30*SUMPRODUCT('Efficiency Dist'!BX260:BX267,'UEC Development'!$J$149:$J$156)+'Product Class Dist'!BP$31*SUMPRODUCT('Efficiency Dist'!BX288:BX292,'UEC Development'!$J$166:$J$170)+'Product Class Dist'!BP$32*SUMPRODUCT('Efficiency Dist'!BX313:BX317,'UEC Development'!$J$180:$J$184)","v":11179.950036541986},{"$f":"'Product Class Dist'!BQ$23*SUMPRODUCT('Efficiency Dist'!BY26:BY34,'UEC Development'!$J$21:$J$29)+'Product Class Dist'!BQ$24*SUMPRODUCT('Efficiency Dist'!BY58:BY65,'UEC Development'!$J$39:$J$46)+'Product Class Dist'!BQ$25*SUMPRODUCT('Efficiency Dist'!BY89:BY96,'UEC Development'!$J$56:$J$63)+'Product Class Dist'!BQ$26*SUMPRODUCT('Efficiency Dist'!BY124:BY135,'UEC Development'!$J$73:$J$84)+'Product Class Dist'!BQ$27*SUMPRODUCT('Efficiency Dist'!BY160:BY168,'UEC Development'!$J$94:$J$102)+'Product Class Dist'!BQ$28*SUMPRODUCT('Efficiency Dist'!BY193:BY201,'UEC Development'!$J$112:$J$120)+'Product Class Dist'!BQ$29*SUMPRODUCT('Efficiency Dist'!BY227:BY236,'UEC Development'!$J$130:$J$139)+'Product Class Dist'!BQ$30*SUMPRODUCT('Efficiency Dist'!BY260:BY267,'UEC Development'!$J$149:$J$156)+'Product Class Dist'!BQ$31*SUMPRODUCT('Efficiency Dist'!BY288:BY292,'UEC Development'!$J$166:$J$170)+'Product Class Dist'!BQ$32*SUMPRODUCT('Efficiency Dist'!BY313:BY317,'UEC Development'!$J$180:$J$184)","v":11179.950036541986},{"$f":"'Product Class Dist'!BR$23*SUMPRODUCT('Efficiency Dist'!BZ26:BZ34,'UEC Development'!$J$21:$J$29)+'Product Class Dist'!BR$24*SUMPRODUCT('Efficiency Dist'!BZ58:BZ65,'UEC Development'!$J$39:$J$46)+'Product Class Dist'!BR$25*SUMPRODUCT('Efficiency Dist'!BZ89:BZ96,'UEC Development'!$J$56:$J$63)+'Product Class Dist'!BR$26*SUMPRODUCT('Efficiency Dist'!BZ124:BZ135,'UEC Development'!$J$73:$J$84)+'Product Class Dist'!BR$27*SUMPRODUCT('Efficiency Dist'!BZ160:BZ168,'UEC Development'!$J$94:$J$102)+'Product Class Dist'!BR$28*SUMPRODUCT('Efficiency Dist'!BZ193:BZ201,'UEC Development'!$J$112:$J$120)+'Product Class Dist'!BR$29*SUMPRODUCT('Efficiency Dist'!BZ227:BZ236,'UEC Development'!$J$130:$J$139)+'Product Class Dist'!BR$30*SUMPRODUCT('Efficiency Dist'!BZ260:BZ267,'UEC Development'!$J$149:$J$156)+'Product Class Dist'!BR$31*SUMPRODUCT('Efficiency Dist'!BZ288:BZ292,'UEC Development'!$J$166:$J$170)+'Product Class Dist'!BR$32*SUMPRODUCT('Efficiency Dist'!BZ313:BZ317,'UEC Development'!$J$180:$J$184)","v":11179.950036541986},{"$f":"'Product Class Dist'!BS$23*SUMPRODUCT('Efficiency Dist'!CA26:CA34,'UEC Development'!$J$21:$J$29)+'Product Class Dist'!BS$24*SUMPRODUCT('Efficiency Dist'!CA58:CA65,'UEC Development'!$J$39:$J$46)+'Product Class Dist'!BS$25*SUMPRODUCT('Efficiency Dist'!CA89:CA96,'UEC Development'!$J$56:$J$63)+'Product Class Dist'!BS$26*SUMPRODUCT('Efficiency Dist'!CA124:CA135,'UEC Development'!$J$73:$J$84)+'Product Class Dist'!BS$27*SUMPRODUCT('Efficiency Dist'!CA160:CA168,'UEC Development'!$J$94:$J$102)+'Product Class Dist'!BS$28*SUMPRODUCT('Efficiency Dist'!CA193:CA201,'UEC Development'!$J$112:$J$120)+'Product Class Dist'!BS$29*SUMPRODUCT('Efficiency Dist'!CA227:CA236,'UEC Development'!$J$130:$J$139)+'Product Class Dist'!BS$30*SUMPRODUCT('Efficiency Dist'!CA260:CA267,'UEC Development'!$J$149:$J$156)+'Product Class Dist'!BS$31*SUMPRODUCT('Efficiency Dist'!CA288:CA292,'UEC Development'!$J$166:$J$170)+'Product Class Dist'!BS$32*SUMPRODUCT('Efficiency Dist'!CA313:CA317,'UEC Development'!$J$180:$J$184)","v":11179.950036541986},{"$f":"'Product Class Dist'!BT$23*SUMPRODUCT('Efficiency Dist'!CB26:CB34,'UEC Development'!$J$21:$J$29)+'Product Class Dist'!BT$24*SUMPRODUCT('Efficiency Dist'!CB58:CB65,'UEC Development'!$J$39:$J$46)+'Product Class Dist'!BT$25*SUMPRODUCT('Efficiency Dist'!CB89:CB96,'UEC Development'!$J$56:$J$63)+'Product Class Dist'!BT$26*SUMPRODUCT('Efficiency Dist'!CB124:CB135,'UEC Development'!$J$73:$J$84)+'Product Class Dist'!BT$27*SUMPRODUCT('Efficiency Dist'!CB160:CB168,'UEC Development'!$J$94:$J$102)+'Product Class Dist'!BT$28*SUMPRODUCT('Efficiency Dist'!CB193:CB201,'UEC Development'!$J$112:$J$120)+'Product Class Dist'!BT$29*SUMPRODUCT('Efficiency Dist'!CB227:CB236,'UEC Development'!$J$130:$J$139)+'Product Class Dist'!BT$30*SUMPRODUCT('Efficiency Dist'!CB260:CB267,'UEC Development'!$J$149:$J$156)+'Product Class Dist'!BT$31*SUMPRODUCT('Efficiency Dist'!CB288:CB292,'UEC Development'!$J$166:$J$170)+'Product Class Dist'!BT$32*SUMPRODUCT('Efficiency Dist'!CB313:CB317,'UEC Development'!$J$180:$J$184)","v":7646.5365277999645},{"$f":"'Product Class Dist'!BU$23*SUMPRODUCT('Efficiency Dist'!CC26:CC34,'UEC Development'!$J$21:$J$29)+'Product Class Dist'!BU$24*SUMPRODUCT('Efficiency Dist'!CC58:CC65,'UEC Development'!$J$39:$J$46)+'Product Class Dist'!BU$25*SUMPRODUCT('Efficiency Dist'!CC89:CC96,'UEC Development'!$J$56:$J$63)+'Product Class Dist'!BU$26*SUMPRODUCT('Efficiency Dist'!CC124:CC135,'UEC Development'!$J$73:$J$84)+'Product Class Dist'!BU$27*SUMPRODUCT('Efficiency Dist'!CC160:CC168,'UEC Development'!$J$94:$J$102)+'Product Class Dist'!BU$28*SUMPRODUCT('Efficiency Dist'!CC193:CC201,'UEC Development'!$J$112:$J$120)+'Product Class Dist'!BU$29*SUMPRODUCT('Efficiency Dist'!CC227:CC236,'UEC Development'!$J$130:$J$139)+'Product Class Dist'!BU$30*SUMPRODUCT('Efficiency Dist'!CC260:CC267,'UEC Development'!$J$149:$J$156)+'Product Class Dist'!BU$31*SUMPRODUCT('Efficiency Dist'!CC288:CC292,'UEC Development'!$J$166:$J$170)+'Product Class Dist'!BU$32*SUMPRODUCT('Efficiency Dist'!CC313:CC317,'UEC Development'!$J$180:$J$184)","v":7646.5365277999645},{"$f":"'Product Class Dist'!BV$23*SUMPRODUCT('Efficiency Dist'!CD26:CD34,'UEC Development'!$J$21:$J$29)+'Product Class Dist'!BV$24*SUMPRODUCT('Efficiency Dist'!CD58:CD65,'UEC Development'!$J$39:$J$46)+'Product Class Dist'!BV$25*SUMPRODUCT('Efficiency Dist'!CD89:CD96,'UEC Development'!$J$56:$J$63)+'Product Class Dist'!BV$26*SUMPRODUCT('Efficiency Dist'!CD124:CD135,'UEC Development'!$J$73:$J$84)+'Product Class Dist'!BV$27*SUMPRODUCT('Efficiency Dist'!CD160:CD168,'UEC Development'!$J$94:$J$102)+'Product Class Dist'!BV$28*SUMPRODUCT('Efficiency Dist'!CD193:CD201,'UEC Development'!$J$112:$J$120)+'Product Class Dist'!BV$29*SUMPRODUCT('Efficiency Dist'!CD227:CD236,'UEC Development'!$J$130:$J$139)+'Product Class Dist'!BV$30*SUMPRODUCT('Efficiency Dist'!CD260:CD267,'UEC Development'!$J$149:$J$156)+'Product Class Dist'!BV$31*SUMPRODUCT('Efficiency Dist'!CD288:CD292,'UEC Development'!$J$166:$J$170)+'Product Class Dist'!BV$32*SUMPRODUCT('Efficiency Dist'!CD313:CD317,'UEC Development'!$J$180:$J$184)","v":7646.5365277999645},{"$f":"'Product Class Dist'!BW$23*SUMPRODUCT('Efficiency Dist'!CE26:CE34,'UEC Development'!$J$21:$J$29)+'Product Class Dist'!BW$24*SUMPRODUCT('Efficiency Dist'!CE58:CE65,'UEC Development'!$J$39:$J$46)+'Product Class Dist'!BW$25*SUMPRODUCT('Efficiency Dist'!CE89:CE96,'UEC Development'!$J$56:$J$63)+'Product Class Dist'!BW$26*SUMPRODUCT('Efficiency Dist'!CE124:CE135,'UEC Development'!$J$73:$J$84)+'Product Class Dist'!BW$27*SUMPRODUCT('Efficiency Dist'!CE160:CE168,'UEC Development'!$J$94:$J$102)+'Product Class Dist'!BW$28*SUMPRODUCT('Efficiency Dist'!CE193:CE201,'UEC Development'!$J$112:$J$120)+'Product Class Dist'!BW$29*SUMPRODUCT('Efficiency Dist'!CE227:CE236,'UEC Development'!$J$130:$J$139)+'Product Class Dist'!BW$30*SUMPRODUCT('Efficiency Dist'!CE260:CE267,'UEC Development'!$J$149:$J$156)+'Product Class Dist'!BW$31*SUMPRODUCT('Efficiency Dist'!CE288:CE292,'UEC Development'!$J$166:$J$170)+'Product Class Dist'!BW$32*SUMPRODUCT('Efficiency Dist'!CE313:CE317,'UEC Development'!$J$180:$J$184)","v":7646.5365277999645},{"$f":"'Product Class Dist'!BX$23*SUMPRODUCT('Efficiency Dist'!CF26:CF34,'UEC Development'!$J$21:$J$29)+'Product Class Dist'!BX$24*SUMPRODUCT('Efficiency Dist'!CF58:CF65,'UEC Development'!$J$39:$J$46)+'Product Class Dist'!BX$25*SUMPRODUCT('Efficiency Dist'!CF89:CF96,'UEC Development'!$J$56:$J$63)+'Product Class Dist'!BX$26*SUMPRODUCT('Efficiency Dist'!CF124:CF135,'UEC Development'!$J$73:$J$84)+'Product Class Dist'!BX$27*SUMPRODUCT('Efficiency Dist'!CF160:CF168,'UEC Development'!$J$94:$J$102)+'Product Class Dist'!BX$28*SUMPRODUCT('Efficiency Dist'!CF193:CF201,'UEC Development'!$J$112:$J$120)+'Product Class Dist'!BX$29*SUMPRODUCT('Efficiency Dist'!CF227:CF236,'UEC Development'!$J$130:$J$139)+'Product Class Dist'!BX$30*SUMPRODUCT('Efficiency Dist'!CF260:CF267,'UEC Development'!$J$149:$J$156)+'Product Class Dist'!BX$31*SUMPRODUCT('Efficiency Dist'!CF288:CF292,'UEC Development'!$J$166:$J$170)+'Product Class Dist'!BX$32*SUMPRODUCT('Efficiency Dist'!CF313:CF317,'UEC Development'!$J$180:$J$184)","v":7646.5365277999645},{"$f":"'Product Class Dist'!BY$23*SUMPRODUCT('Efficiency Dist'!CG26:CG34,'UEC Development'!$J$21:$J$29)+'Product Class Dist'!BY$24*SUMPRODUCT('Efficiency Dist'!CG58:CG65,'UEC Development'!$J$39:$J$46)+'Product Class Dist'!BY$25*SUMPRODUCT('Efficiency Dist'!CG89:CG96,'UEC Development'!$J$56:$J$63)+'Product Class Dist'!BY$26*SUMPRODUCT('Efficiency Dist'!CG124:CG135,'UEC Development'!$J$73:$J$84)+'Product Class Dist'!BY$27*SUMPRODUCT('Efficiency Dist'!CG160:CG168,'UEC Development'!$J$94:$J$102)+'Product Class Dist'!BY$28*SUMPRODUCT('Efficiency Dist'!CG193:CG201,'UEC Development'!$J$112:$J$120)+'Product Class Dist'!BY$29*SUMPRODUCT('Efficiency Dist'!CG227:CG236,'UEC Development'!$J$130:$J$139)+'Product Class Dist'!BY$30*SUMPRODUCT('Efficiency Dist'!CG260:CG267,'UEC Development'!$J$149:$J$156)+'Product Class Dist'!BY$31*SUMPRODUCT('Efficiency Dist'!CG288:CG292,'UEC Development'!$J$166:$J$170)+'Product Class Dist'!BY$32*SUMPRODUCT('Efficiency Dist'!CG313:CG317,'UEC Development'!$J$180:$J$184)","v":7652.1687077798624},{"$f":"'Product Class Dist'!BZ$23*SUMPRODUCT('Efficiency Dist'!CH26:CH34,'UEC Development'!$J$21:$J$29)+'Product Class Dist'!BZ$24*SUMPRODUCT('Efficiency Dist'!CH58:CH65,'UEC Development'!$J$39:$J$46)+'Product Class Dist'!BZ$25*SUMPRODUCT('Efficiency Dist'!CH89:CH96,'UEC Development'!$J$56:$J$63)+'Product Class Dist'!BZ$26*SUMPRODUCT('Efficiency Dist'!CH124:CH135,'UEC Development'!$J$73:$J$84)+'Product Class Dist'!BZ$27*SUMPRODUCT('Efficiency Dist'!CH160:CH168,'UEC Development'!$J$94:$J$102)+'Product Class Dist'!BZ$28*SUMPRODUCT('Efficiency Dist'!CH193:CH201,'UEC Development'!$J$112:$J$120)+'Product Class Dist'!BZ$29*SUMPRODUCT('Efficiency Dist'!CH227:CH236,'UEC Development'!$J$130:$J$139)+'Product Class Dist'!BZ$30*SUMPRODUCT('Efficiency Dist'!CH260:CH267,'UEC Development'!$J$149:$J$156)+'Product Class Dist'!BZ$31*SUMPRODUCT('Efficiency Dist'!CH288:CH292,'UEC Development'!$J$166:$J$170)+'Product Class Dist'!BZ$32*SUMPRODUCT('Efficiency Dist'!CH313:CH317,'UEC Development'!$J$180:$J$184)","v":7657.7123997052004},{"$f":"'Product Class Dist'!CA$23*SUMPRODUCT('Efficiency Dist'!CI26:CI34,'UEC Development'!$J$21:$J$29)+'Product Class Dist'!CA$24*SUMPRODUCT('Efficiency Dist'!CI58:CI65,'UEC Development'!$J$39:$J$46)+'Product Class Dist'!CA$25*SUMPRODUCT('Efficiency Dist'!CI89:CI96,'UEC Development'!$J$56:$J$63)+'Product Class Dist'!CA$26*SUMPRODUCT('Efficiency Dist'!CI124:CI135,'UEC Development'!$J$73:$J$84)+'Product Class Dist'!CA$27*SUMPRODUCT('Efficiency Dist'!CI160:CI168,'UEC Development'!$J$94:$J$102)+'Product Class Dist'!CA$28*SUMPRODUCT('Efficiency Dist'!CI193:CI201,'UEC Development'!$J$112:$J$120)+'Product Class Dist'!CA$29*SUMPRODUCT('Efficiency Dist'!CI227:CI236,'UEC Development'!$J$130:$J$139)+'Product Class Dist'!CA$30*SUMPRODUCT('Efficiency Dist'!CI260:CI267,'UEC Development'!$J$149:$J$156)+'Product Class Dist'!CA$31*SUMPRODUCT('Efficiency Dist'!CI288:CI292,'UEC Development'!$J$166:$J$170)+'Product Class Dist'!CA$32*SUMPRODUCT('Efficiency Dist'!CI313:CI317,'UEC Development'!$J$180:$J$184)","v":7659.6095128642219},{"$f":"'Product Class Dist'!CB$23*SUMPRODUCT('Efficiency Dist'!CJ26:CJ34,'UEC Development'!$J$21:$J$29)+'Product Class Dist'!CB$24*SUMPRODUCT('Efficiency Dist'!CJ58:CJ65,'UEC Development'!$J$39:$J$46)+'Product Class Dist'!CB$25*SUMPRODUCT('Efficiency Dist'!CJ89:CJ96,'UEC Development'!$J$56:$J$63)+'Product Class Dist'!CB$26*SUMPRODUCT('Efficiency Dist'!CJ124:CJ135,'UEC Development'!$J$73:$J$84)+'Product Class Dist'!CB$27*SUMPRODUCT('Efficiency Dist'!CJ160:CJ168,'UEC Development'!$J$94:$J$102)+'Product Class Dist'!CB$28*SUMPRODUCT('Efficiency Dist'!CJ193:CJ201,'UEC Development'!$J$112:$J$120)+'Product Class Dist'!CB$29*SUMPRODUCT('Efficiency Dist'!CJ227:CJ236,'UEC Development'!$J$130:$J$139)+'Product Class Dist'!CB$30*SUMPRODUCT('Efficiency Dist'!CJ260:CJ267,'UEC Development'!$J$149:$J$156)+'Product Class Dist'!CB$31*SUMPRODUCT('Efficiency Dist'!CJ288:CJ292,'UEC Development'!$J$166:$J$170)+'Product Class Dist'!CB$32*SUMPRODUCT('Efficiency Dist'!CJ313:CJ317,'UEC Development'!$J$180:$J$184)","v":5085.9582257073271},{"$f":"'Product Class Dist'!CC$23*SUMPRODUCT('Efficiency Dist'!CK26:CK34,'UEC Development'!$J$21:$J$29)+'Product Class Dist'!CC$24*SUMPRODUCT('Efficiency Dist'!CK58:CK65,'UEC Development'!$J$39:$J$46)+'Product Class Dist'!CC$25*SUMPRODUCT('Efficiency Dist'!CK89:CK96,'UEC Development'!$J$56:$J$63)+'Product Class Dist'!CC$26*SUMPRODUCT('Efficiency Dist'!CK124:CK135,'UEC Development'!$J$73:$J$84)+'Product Class Dist'!CC$27*SUMPRODUCT('Efficiency Dist'!CK160:CK168,'UEC Development'!$J$94:$J$102)+'Product Class Dist'!CC$28*SUMPRODUCT('Efficiency Dist'!CK193:CK201,'UEC Development'!$J$112:$J$120)+'Product Class Dist'!CC$29*SUMPRODUCT('Efficiency Dist'!CK227:CK236,'UEC Development'!$J$130:$J$139)+'Product Class Dist'!CC$30*SUMPRODUCT('Efficiency Dist'!CK260:CK267,'UEC Development'!$J$149:$J$156)+'Product Class Dist'!CC$31*SUMPRODUCT('Efficiency Dist'!CK288:CK292,'UEC Development'!$J$166:$J$170)+'Product Class Dist'!CC$32*SUMPRODUCT('Efficiency Dist'!CK313:CK317,'UEC Development'!$J$180:$J$184)","v":5086.4738777364419},{"$f":"'Product Class Dist'!CD$23*SUMPRODUCT('Efficiency Dist'!CL26:CL34,'UEC Development'!$J$21:$J$29)+'Product Class Dist'!CD$24*SUMPRODUCT('Efficiency Dist'!CL58:CL65,'UEC Development'!$J$39:$J$46)+'Product Class Dist'!CD$25*SUMPRODUCT('Efficiency Dist'!CL89:CL96,'UEC Development'!$J$56:$J$63)+'Product Class Dist'!CD$26*SUMPRODUCT('Efficiency Dist'!CL124:CL135,'UEC Development'!$J$73:$J$84)+'Product Class Dist'!CD$27*SUMPRODUCT('Efficiency Dist'!CL160:CL168,'UEC Development'!$J$94:$J$102)+'Product Class Dist'!CD$28*SUMPRODUCT('Efficiency Dist'!CL193:CL201,'UEC Development'!$J$112:$J$120)+'Product Class Dist'!CD$29*SUMPRODUCT('Efficiency Dist'!CL227:CL236,'UEC Development'!$J$130:$J$139)+'Product Class Dist'!CD$30*SUMPRODUCT('Efficiency Dist'!CL260:CL267,'UEC Development'!$J$149:$J$156)+'Product Class Dist'!CD$31*SUMPRODUCT('Efficiency Dist'!CL288:CL292,'UEC Development'!$J$166:$J$170)+'Product Class Dist'!CD$32*SUMPRODUCT('Efficiency Dist'!CL313:CL317,'UEC Development'!$J$180:$J$184)","v":5083.382797877628},{"$f":"'Product Class Dist'!CE$23*SUMPRODUCT('Efficiency Dist'!CM26:CM34,'UEC Development'!$J$21:$J$29)+'Product Class Dist'!CE$24*SUMPRODUCT('Efficiency Dist'!CM58:CM65,'UEC Development'!$J$39:$J$46)+'Product Class Dist'!CE$25*SUMPRODUCT('Efficiency Dist'!CM89:CM96,'UEC Development'!$J$56:$J$63)+'Product Class Dist'!CE$26*SUMPRODUCT('Efficiency Dist'!CM124:CM135,'UEC Development'!$J$73:$J$84)+'Product Class Dist'!CE$27*SUMPRODUCT('Efficiency Dist'!CM160:CM168,'UEC Development'!$J$94:$J$102)+'Product Class Dist'!CE$28*SUMPRODUCT('Efficiency Dist'!CM193:CM201,'UEC Development'!$J$112:$J$120)+'Product Class Dist'!CE$29*SUMPRODUCT('Efficiency Dist'!CM227:CM236,'UEC Development'!$J$130:$J$139)+'Product Class Dist'!CE$30*SUMPRODUCT('Efficiency Dist'!CM260:CM267,'UEC Development'!$J$149:$J$156)+'Product Class Dist'!CE$31*SUMPRODUCT('Efficiency Dist'!CM288:CM292,'UEC Development'!$J$166:$J$170)+'Product Class Dist'!CE$32*SUMPRODUCT('Efficiency Dist'!CM313:CM317,'UEC Development'!$J$180:$J$184)","v":5080.2706640527704},{"$f":"'Product Class Dist'!CF$23*SUMPRODUCT('Efficiency Dist'!CN26:CN34,'UEC Development'!$J$21:$J$29)+'Product Class Dist'!CF$24*SUMPRODUCT('Efficiency Dist'!CN58:CN65,'UEC Development'!$J$39:$J$46)+'Product Class Dist'!CF$25*SUMPRODUCT('Efficiency Dist'!CN89:CN96,'UEC Development'!$J$56:$J$63)+'Product Class Dist'!CF$26*SUMPRODUCT('Efficiency Dist'!CN124:CN135,'UEC Development'!$J$73:$J$84)+'Product Class Dist'!CF$27*SUMPRODUCT('Efficiency Dist'!CN160:CN168,'UEC Development'!$J$94:$J$102)+'Product Class Dist'!CF$28*SUMPRODUCT('Efficiency Dist'!CN193:CN201,'UEC Development'!$J$112:$J$120)+'Product Class Dist'!CF$29*SUMPRODUCT('Efficiency Dist'!CN227:CN236,'UEC Development'!$J$130:$J$139)+'Product Class Dist'!CF$30*SUMPRODUCT('Efficiency Dist'!CN260:CN267,'UEC Development'!$J$149:$J$156)+'Product Class Dist'!CF$31*SUMPRODUCT('Efficiency Dist'!CN288:CN292,'UEC Development'!$J$166:$J$170)+'Product Class Dist'!CF$32*SUMPRODUCT('Efficiency Dist'!CN313:CN317,'UEC Development'!$J$180:$J$184)","v":5080.1456434883075},{"$f":"'Product Class Dist'!CG$23*SUMPRODUCT('Efficiency Dist'!CO26:CO34,'UEC Development'!$J$21:$J$29)+'Product Class Dist'!CG$24*SUMPRODUCT('Efficiency Dist'!CO58:CO65,'UEC Development'!$J$39:$J$46)+'Product Class Dist'!CG$25*SUMPRODUCT('Efficiency Dist'!CO89:CO96,'UEC Development'!$J$56:$J$63)+'Product Class Dist'!CG$26*SUMPRODUCT('Efficiency Dist'!CO124:CO135,'UEC Development'!$J$73:$J$84)+'Product Class Dist'!CG$27*SUMPRODUCT('Efficiency Dist'!CO160:CO168,'UEC Development'!$J$94:$J$102)+'Product Class Dist'!CG$28*SUMPRODUCT('Efficiency Dist'!CO193:CO201,'UEC Development'!$J$112:$J$120)+'Product Class Dist'!CG$29*SUMPRODUCT('Efficiency Dist'!CO227:CO236,'UEC Development'!$J$130:$J$139)+'Product Class Dist'!CG$30*SUMPRODUCT('Efficiency Dist'!CO260:CO267,'UEC Development'!$J$149:$J$156)+'Product Class Dist'!CG$31*SUMPRODUCT('Efficiency Dist'!CO288:CO292,'UEC Development'!$J$166:$J$170)+'Product Class Dist'!CG$32*SUMPRODUCT('Efficiency Dist'!CO313:CO317,'UEC Development'!$J$180:$J$184)","v":5084.5237861345122},{"$f":"'Product Class Dist'!CH$23*SUMPRODUCT('Efficiency Dist'!CP26:CP34,'UEC Development'!$J$21:$J$29)+'Product Class Dist'!CH$24*SUMPRODUCT('Efficiency Dist'!CP58:CP65,'UEC Development'!$J$39:$J$46)+'Product Class Dist'!CH$25*SUMPRODUCT('Efficiency Dist'!CP89:CP96,'UEC Development'!$J$56:$J$63)+'Product Class Dist'!CH$26*SUMPRODUCT('Efficiency Dist'!CP124:CP135,'UEC Development'!$J$73:$J$84)+'Product Class Dist'!CH$27*SUMPRODUCT('Efficiency Dist'!CP160:CP168,'UEC Development'!$J$94:$J$102)+'Product Class Dist'!CH$28*SUMPRODUCT('Efficiency Dist'!CP193:CP201,'UEC Development'!$J$112:$J$120)+'Product Class Dist'!CH$29*SUMPRODUCT('Efficiency Dist'!CP227:CP236,'UEC Development'!$J$130:$J$139)+'Product Class Dist'!CH$30*SUMPRODUCT('Efficiency Dist'!CP260:CP267,'UEC Development'!$J$149:$J$156)+'Product Class Dist'!CH$31*SUMPRODUCT('Efficiency Dist'!CP288:CP292,'UEC Development'!$J$166:$J$170)+'Product Class Dist'!CH$32*SUMPRODUCT('Efficiency Dist'!CP313:CP317,'UEC Development'!$J$180:$J$184)","v":5091.3359708160515},{"$f":"'Product Class Dist'!CI$23*SUMPRODUCT('Efficiency Dist'!CQ26:CQ34,'UEC Development'!$J$21:$J$29)+'Product Class Dist'!CI$24*SUMPRODUCT('Efficiency Dist'!CQ58:CQ65,'UEC Development'!$J$39:$J$46)+'Product Class Dist'!CI$25*SUMPRODUCT('Efficiency Dist'!CQ89:CQ96,'UEC Development'!$J$56:$J$63)+'Product Class Dist'!CI$26*SUMPRODUCT('Efficiency Dist'!CQ124:CQ135,'UEC Development'!$J$73:$J$84)+'Product Class Dist'!CI$27*SUMPRODUCT('Efficiency Dist'!CQ160:CQ168,'UEC Development'!$J$94:$J$102)+'Product Class Dist'!CI$28*SUMPRODUCT('Efficiency Dist'!CQ193:CQ201,'UEC Development'!$J$112:$J$120)+'Product Class Dist'!CI$29*SUMPRODUCT('Efficiency Dist'!CQ227:CQ236,'UEC Development'!$J$130:$J$139)+'Product Class Dist'!CI$30*SUMPRODUCT('Efficiency Dist'!CQ260:CQ267,'UEC Development'!$J$149:$J$156)+'Product Class Dist'!CI$31*SUMPRODUCT('Efficiency Dist'!CQ288:CQ292,'UEC Development'!$J$166:$J$170)+'Product Class Dist'!CI$32*SUMPRODUCT('Efficiency Dist'!CQ313:CQ317,'UEC Development'!$J$180:$J$184)","v":5098.4746381876357},{"$f":"'Product Class Dist'!CJ$23*SUMPRODUCT('Efficiency Dist'!CR26:CR34,'UEC Development'!$J$21:$J$29)+'Product Class Dist'!CJ$24*SUMPRODUCT('Efficiency Dist'!CR58:CR65,'UEC Development'!$J$39:$J$46)+'Product Class Dist'!CJ$25*SUMPRODUCT('Efficiency Dist'!CR89:CR96,'UEC Development'!$J$56:$J$63)+'Product Class Dist'!CJ$26*SUMPRODUCT('Efficiency Dist'!CR124:CR135,'UEC Development'!$J$73:$J$84)+'Product Class Dist'!CJ$27*SUMPRODUCT('Efficiency Dist'!CR160:CR168,'UEC Development'!$J$94:$J$102)+'Product Class Dist'!CJ$28*SUMPRODUCT('Efficiency Dist'!CR193:CR201,'UEC Development'!$J$112:$J$120)+'Product Class Dist'!CJ$29*SUMPRODUCT('Efficiency Dist'!CR227:CR236,'UEC Development'!$J$130:$J$139)+'Product Class Dist'!CJ$30*SUMPRODUCT('Efficiency Dist'!CR260:CR267,'UEC Development'!$J$149:$J$156)+'Product Class Dist'!CJ$31*SUMPRODUCT('Efficiency Dist'!CR288:CR292,'UEC Development'!$J$166:$J$170)+'Product Class Dist'!CJ$32*SUMPRODUCT('Efficiency Dist'!CR313:CR317,'UEC Development'!$J$180:$J$184)","v":5104.4197180193942},{"$f":"'Product Class Dist'!CK$23*SUMPRODUCT('Efficiency Dist'!CS26:CS34,'UEC Development'!$J$21:$J$29)+'Product Class Dist'!CK$24*SUMPRODUCT('Efficiency Dist'!CS58:CS65,'UEC Development'!$J$39:$J$46)+'Product Class Dist'!CK$25*SUMPRODUCT('Efficiency Dist'!CS89:CS96,'UEC Development'!$J$56:$J$63)+'Product Class Dist'!CK$26*SUMPRODUCT('Efficiency Dist'!CS124:CS135,'UEC Development'!$J$73:$J$84)+'Product Class Dist'!CK$27*SUMPRODUCT('Efficiency Dist'!CS160:CS168,'UEC Development'!$J$94:$J$102)+'Product Class Dist'!CK$28*SUMPRODUCT('Efficiency Dist'!CS193:CS201,'UEC Development'!$J$112:$J$120)+'Product Class Dist'!CK$29*SUMPRODUCT('Efficiency Dist'!CS227:CS236,'UEC Development'!$J$130:$J$139)+'Product Class Dist'!CK$30*SUMPRODUCT('Efficiency Dist'!CS260:CS267,'UEC Development'!$J$149:$J$156)+'Product Class Dist'!CK$31*SUMPRODUCT('Efficiency Dist'!CS288:CS292,'UEC Development'!$J$166:$J$170)+'Product Class Dist'!CK$32*SUMPRODUCT('Efficiency Dist'!CS313:CS317,'UEC Development'!$J$180:$J$184)","v":5108.0295141972911},{"$f":"'Product Class Dist'!CL$23*SUMPRODUCT('Efficiency Dist'!CT26:CT34,'UEC Development'!$J$21:$J$29)+'Product Class Dist'!CL$24*SUMPRODUCT('Efficiency Dist'!CT58:CT65,'UEC Development'!$J$39:$J$46)+'Product Class Dist'!CL$25*SUMPRODUCT('Efficiency Dist'!CT89:CT96,'UEC Development'!$J$56:$J$63)+'Product Class Dist'!CL$26*SUMPRODUCT('Efficiency Dist'!CT124:CT135,'UEC Development'!$J$73:$J$84)+'Product Class Dist'!CL$27*SUMPRODUCT('Efficiency Dist'!CT160:CT168,'UEC Development'!$J$94:$J$102)+'Product Class Dist'!CL$28*SUMPRODUCT('Efficiency Dist'!CT193:CT201,'UEC Development'!$J$112:$J$120)+'Product Class Dist'!CL$29*SUMPRODUCT('Efficiency Dist'!CT227:CT236,'UEC Development'!$J$130:$J$139)+'Product Class Dist'!CL$30*SUMPRODUCT('Efficiency Dist'!CT260:CT267,'UEC Development'!$J$149:$J$156)+'Product Class Dist'!CL$31*SUMPRODUCT('Efficiency Dist'!CT288:CT292,'UEC Development'!$J$166:$J$170)+'Product Class Dist'!CL$32*SUMPRODUCT('Efficiency Dist'!CT313:CT317,'UEC Development'!$J$180:$J$184)","v":5109.1307204924342},{"$f":"'Product Class Dist'!CM$23*SUMPRODUCT('Efficiency Dist'!CU26:CU34,'UEC Development'!$J$21:$J$29)+'Product Class Dist'!CM$24*SUMPRODUCT('Efficiency Dist'!CU58:CU65,'UEC Development'!$J$39:$J$46)+'Product Class Dist'!CM$25*SUMPRODUCT('Efficiency Dist'!CU89:CU96,'UEC Development'!$J$56:$J$63)+'Product Class Dist'!CM$26*SUMPRODUCT('Efficiency Dist'!CU124:CU135,'UEC Development'!$J$73:$J$84)+'Product Class Dist'!CM$27*SUMPRODUCT('Efficiency Dist'!CU160:CU168,'UEC Development'!$J$94:$J$102)+'Product Class Dist'!CM$28*SUMPRODUCT('Efficiency Dist'!CU193:CU201,'UEC Development'!$J$112:$J$120)+'Product Class Dist'!CM$29*SUMPRODUCT('Efficiency Dist'!CU227:CU236,'UEC Development'!$J$130:$J$139)+'Product Class Dist'!CM$30*SUMPRODUCT('Efficiency Dist'!CU260:CU267,'UEC Development'!$J$149:$J$156)+'Product Class Dist'!CM$31*SUMPRODUCT('Efficiency Dist'!CU288:CU292,'UEC Development'!$J$166:$J$170)+'Product Class Dist'!CM$32*SUMPRODUCT('Efficiency Dist'!CU313:CU317,'UEC Development'!$J$180:$J$184)","v":5108.8096499404828},{"$f":"'Product Class Dist'!CN$23*SUMPRODUCT('Efficiency Dist'!CV26:CV34,'UEC Development'!$J$21:$J$29)+'Product Class Dist'!CN$24*SUMPRODUCT('Efficiency Dist'!CV58:CV65,'UEC Development'!$J$39:$J$46)+'Product Class Dist'!CN$25*SUMPRODUCT('Efficiency Dist'!CV89:CV96,'UEC Development'!$J$56:$J$63)+'Product Class Dist'!CN$26*SUMPRODUCT('Efficiency Dist'!CV124:CV135,'UEC Development'!$J$73:$J$84)+'Product Class Dist'!CN$27*SUMPRODUCT('Efficiency Dist'!CV160:CV168,'UEC Development'!$J$94:$J$102)+'Product Class Dist'!CN$28*SUMPRODUCT('Efficiency Dist'!CV193:CV201,'UEC Development'!$J$112:$J$120)+'Product Class Dist'!CN$29*SUMPRODUCT('Efficiency Dist'!CV227:CV236,'UEC Development'!$J$130:$J$139)+'Product Class Dist'!CN$30*SUMPRODUCT('Efficiency Dist'!CV260:CV267,'UEC Development'!$J$149:$J$156)+'Product Class Dist'!CN$31*SUMPRODUCT('Efficiency Dist'!CV288:CV292,'UEC Development'!$J$166:$J$170)+'Product Class Dist'!CN$32*SUMPRODUCT('Efficiency Dist'!CV313:CV317,'UEC Development'!$J$180:$J$184)","v":5108.4637069859609},{"$f":"'Product Class Dist'!CO$23*SUMPRODUCT('Efficiency Dist'!CW26:CW34,'UEC Development'!$J$21:$J$29)+'Product Class Dist'!CO$24*SUMPRODUCT('Efficiency Dist'!CW58:CW65,'UEC Development'!$J$39:$J$46)+'Product Class Dist'!CO$25*SUMPRODUCT('Efficiency Dist'!CW89:CW96,'UEC Development'!$J$56:$J$63)+'Product Class Dist'!CO$26*SUMPRODUCT('Efficiency Dist'!CW124:CW135,'UEC Development'!$J$73:$J$84)+'Product Class Dist'!CO$27*SUMPRODUCT('Efficiency Dist'!CW160:CW168,'UEC Development'!$J$94:$J$102)+'Product Class Dist'!CO$28*SUMPRODUCT('Efficiency Dist'!CW193:CW201,'UEC Development'!$J$112:$J$120)+'Product Class Dist'!CO$29*SUMPRODUCT('Efficiency Dist'!CW227:CW236,'UEC Development'!$J$130:$J$139)+'Product Class Dist'!CO$30*SUMPRODUCT('Efficiency Dist'!CW260:CW267,'UEC Development'!$J$149:$J$156)+'Product Class Dist'!CO$31*SUMPRODUCT('Efficiency Dist'!CW288:CW292,'UEC Development'!$J$166:$J$170)+'Product Class Dist'!CO$32*SUMPRODUCT('Efficiency Dist'!CW313:CW317,'UEC Development'!$J$180:$J$184)","v":5109.5749830857467},{"$f":"'Product Class Dist'!CP$23*SUMPRODUCT('Efficiency Dist'!CX26:CX34,'UEC Development'!$J$21:$J$29)+'Product Class Dist'!CP$24*SUMPRODUCT('Efficiency Dist'!CX58:CX65,'UEC Development'!$J$39:$J$46)+'Product Class Dist'!CP$25*SUMPRODUCT('Efficiency Dist'!CX89:CX96,'UEC Development'!$J$56:$J$63)+'Product Class Dist'!CP$26*SUMPRODUCT('Efficiency Dist'!CX124:CX135,'UEC Development'!$J$73:$J$84)+'Product Class Dist'!CP$27*SUMPRODUCT('Efficiency Dist'!CX160:CX168,'UEC Development'!$J$94:$J$102)+'Product Class Dist'!CP$28*SUMPRODUCT('Efficiency Dist'!CX193:CX201,'UEC Development'!$J$112:$J$120)+'Product Class Dist'!CP$29*SUMPRODUCT('Efficiency Dist'!CX227:CX236,'UEC Development'!$J$130:$J$139)+'Product Class Dist'!CP$30*SUMPRODUCT('Efficiency Dist'!CX260:CX267,'UEC Development'!$J$149:$J$156)+'Product Class Dist'!CP$31*SUMPRODUCT('Efficiency Dist'!CX288:CX292,'UEC Development'!$J$166:$J$170)+'Product Class Dist'!CP$32*SUMPRODUCT('Efficiency Dist'!CX313:CX317,'UEC Development'!$J$180:$J$184)","v":5112.5369067231877},{"$f":"'Product Class Dist'!CQ$23*SUMPRODUCT('Efficiency Dist'!CY26:CY34,'UEC Development'!$J$21:$J$29)+'Product Class Dist'!CQ$24*SUMPRODUCT('Efficiency Dist'!CY58:CY65,'UEC Development'!$J$39:$J$46)+'Product Class Dist'!CQ$25*SUMPRODUCT('Efficiency Dist'!CY89:CY96,'UEC Development'!$J$56:$J$63)+'Product Class Dist'!CQ$26*SUMPRODUCT('Efficiency Dist'!CY124:CY135,'UEC Development'!$J$73:$J$84)+'Product Class Dist'!CQ$27*SUMPRODUCT('Efficiency Dist'!CY160:CY168,'UEC Development'!$J$94:$J$102)+'Product Class Dist'!CQ$28*SUMPRODUCT('Efficiency Dist'!CY193:CY201,'UEC Development'!$J$112:$J$120)+'Product Class Dist'!CQ$29*SUMPRODUCT('Efficiency Dist'!CY227:CY236,'UEC Development'!$J$130:$J$139)+'Product Class Dist'!CQ$30*SUMPRODUCT('Efficiency Dist'!CY260:CY267,'UEC Development'!$J$149:$J$156)+'Product Class Dist'!CQ$31*SUMPRODUCT('Efficiency Dist'!CY288:CY292,'UEC Development'!$J$166:$J$170)+'Product Class Dist'!CQ$32*SUMPRODUCT('Efficiency Dist'!CY313:CY317,'UEC Development'!$J$180:$J$184)","v":5116.687007997346},{"$f":"'Product Class Dist'!CR$23*SUMPRODUCT('Efficiency Dist'!CZ26:CZ34,'UEC Development'!$J$21:$J$29)+'Product Class Dist'!CR$24*SUMPRODUCT('Efficiency Dist'!CZ58:CZ65,'UEC Development'!$J$39:$J$46)+'Product Class Dist'!CR$25*SUMPRODUCT('Efficiency Dist'!CZ89:CZ96,'UEC Development'!$J$56:$J$63)+'Product Class Dist'!CR$26*SUMPRODUCT('Efficiency Dist'!CZ124:CZ135,'UEC Development'!$J$73:$J$84)+'Product Class Dist'!CR$27*SUMPRODUCT('Efficiency Dist'!CZ160:CZ168,'UEC Development'!$J$94:$J$102)+'Product Class Dist'!CR$28*SUMPRODUCT('Efficiency Dist'!CZ193:CZ201,'UEC Development'!$J$112:$J$120)+'Product Class Dist'!CR$29*SUMPRODUCT('Efficiency Dist'!CZ227:CZ236,'UEC Development'!$J$130:$J$139)+'Product Class Dist'!CR$30*SUMPRODUCT('Efficiency Dist'!CZ260:CZ267,'UEC Development'!$J$149:$J$156)+'Product Class Dist'!CR$31*SUMPRODUCT('Efficiency Dist'!CZ288:CZ292,'UEC Development'!$J$166:$J$170)+'Product Class Dist'!CR$32*SUMPRODUCT('Efficiency Dist'!CZ313:CZ317,'UEC Development'!$J$180:$J$184)","v":5121.2344774034673},{"$f":"'Product Class Dist'!CS$23*SUMPRODUCT('Efficiency Dist'!DA26:DA34,'UEC Development'!$J$21:$J$29)+'Product Class Dist'!CS$24*SUMPRODUCT('Efficiency Dist'!DA58:DA65,'UEC Development'!$J$39:$J$46)+'Product Class Dist'!CS$25*SUMPRODUCT('Efficiency Dist'!DA89:DA96,'UEC Development'!$J$56:$J$63)+'Product Class Dist'!CS$26*SUMPRODUCT('Efficiency Dist'!DA124:DA135,'UEC Development'!$J$73:$J$84)+'Product Class Dist'!CS$27*SUMPRODUCT('Efficiency Dist'!DA160:DA168,'UEC Development'!$J$94:$J$102)+'Product Class Dist'!CS$28*SUMPRODUCT('Efficiency Dist'!DA193:DA201,'UEC Development'!$J$112:$J$120)+'Product Class Dist'!CS$29*SUMPRODUCT('Efficiency Dist'!DA227:DA236,'UEC Development'!$J$130:$J$139)+'Product Class Dist'!CS$30*SUMPRODUCT('Efficiency Dist'!DA260:DA267,'UEC Development'!$J$149:$J$156)+'Product Class Dist'!CS$31*SUMPRODUCT('Efficiency Dist'!DA288:DA292,'UEC Development'!$J$166:$J$170)+'Product Class Dist'!CS$32*SUMPRODUCT('Efficiency Dist'!DA313:DA317,'UEC Development'!$J$180:$J$184)","v":5124.962934509088}]
[]
[]
[null,null,"Installed UEC (Vintage Weighted Average) "]
[null,null,null,1990,{"$f":"D57+1","v":1991},{"$f":"E57+1","v":1992},{"$f":"F57+1","v":1993},{"$f":"G57+1","v":1994},{"$f":"H57+1","v":1995},{"$f":"I57+1","v":1996},{"$f":"J57+1","v":1997},{"$f":"K57+1","v":1998},{"$f":"L57+1","v":1999},{"$f":"M57+1","v":2000},{"$f":"N57+1","v":2001},{"$f":"O57+1","v":2002},{"$f":"P57+1","v":2003},{"$f":"Q57+1","v":2004},{"$f":"R57+1","v":2005},{"$f":"S57+1","v":2006},{"$f":"T57+1","v":2007},{"$f":"U57+1","v":2008},{"$f":"V57+1","v":2009},{"$f":"W57+1","v":2010},{"$f":"X57+1","v":2011},{"$f":"Y57+1","v":2012},{"$f":"Z57+1","v":2013},{"$f":"AA57+1","v":2014},{"$f":"AB57+1","v":2015},{"$f":"AC57+1","v":2016},{"$f":"AD57+1","v":2017},{"$f":"AE57+1","v":2018},{"$f":"AF57+1","v":2019},{"$f":"AG57+1","v":2020},{"$f":"AH57+1","v":2021},{"$f":"AI57+1","v":2022},{"$f":"AJ57+1","v":2023},{"$f":"AK57+1","v":2024},{"$f":"AL57+1","v":2025},{"$f":"AM57+1","v":2026},{"$f":"AN57+1","v":2027},{"$f":"AO57+1","v":2028},{"$f":"AP57+1","v":2029},{"$f":"AQ57+1","v":2030},{"$f":"AR57+1","v":2031},{"$f":"AS57+1","v":2032},{"$f":"AT57+1","v":2033},{"$f":"AU57+1","v":2034}]
[null,null,"PRE-Case UEC",{"$f":"IF(D$57-$D$57<=SystLifetime,D52,\nSUMPRODUCT(OFFSET(D52,0,(-1*SystLifetime)+1,1,SystLifetime),OFFSET('Shipments and Stock - System'!E$17,0,(-1*SystLifetime)+1,1,SystLifetime))/SUM(OFFSET('Shipments and Stock - System'!E$17,0,(-1*SystLifetime)+1,1,SystLifetime)))","v":11179.950036541986},{"$f":"IF(E$57-$D$57<=SystLifetime,E52,\nSUMPRODUCT(OFFSET(E52,0,(-1*SystLifetime)+1,1,SystLifetime),OFFSET('Shipments and Stock - System'!F$17,0,(-1*SystLifetime)+1,1,SystLifetime))/SUM(OFFSET('Shipments and Stock - System'!F$17,0,(-1*SystLifetime)+1,1,SystLifetime)))","v":11179.950036541986},{"$f":"IF(F$57-$D$57<=SystLifetime,F52,\nSUMPRODUCT(OFFSET(F52,0,(-1*SystLifetime)+1,1,SystLifetime),OFFSET('Shipments and Stock - System'!G$17,0,(-1*SystLifetime)+1,1,SystLifetime))/SUM(OFFSET('Shipments and Stock - System'!G$17,0,(-1*SystLifetime)+1,1,SystLifetime)))","v":11179.950036541986},{"$f":"IF(G$57-$D$57<=SystLifetime,G52,\nSUMPRODUCT(OFFSET(G52,0,(-1*SystLifetime)+1,1,SystLifetime),OFFSET('Shipments and Stock - System'!H$17,0,(-1*SystLifetime)+1,1,SystLifetime))/SUM(OFFSET('Shipments and Stock - System'!H$17,0,(-1*SystLifetime)+1,1,SystLifetime)))","v":11179.950036541986},{"$f":"IF(H$57-$D$57<=SystLifetime,H52,\nSUMPRODUCT(OFFSET(H52,0,(-1*SystLifetime)+1,1,SystLifetime),OFFSET('Shipments and Stock - System'!I$17,0,(-1*SystLifetime)+1,1,SystLifetime))/SUM(OFFSET('Shipments and Stock - System'!I$17,0,(-1*SystLifetime)+1,1,SystLifetime)))","v":11179.950036541986},{"$f":"IF(I$57-$D$57<=SystLifetime,I52,\nSUMPRODUCT(OFFSET(I52,0,(-1*SystLifetime)+1,1,SystLifetime),OFFSET('Shipments and Stock - System'!J$17,0,(-1*SystLifetime)+1,1,SystLifetime))/SUM(OFFSET('Shipments and Stock - System'!J$17,0,(-1*SystLifetime)+1,1,SystLifetime)))","v":11179.950036541986},{"$f":"IF(J$57-$D$57<=SystLifetime,J52,\nSUMPRODUCT(OFFSET(J52,0,(-1*SystLifetime)+1,1,SystLifetime),OFFSET('Shipments and Stock - System'!K$17,0,(-1*SystLifetime)+1,1,SystLifetime))/SUM(OFFSET('Shipments and Stock - System'!K$17,0,(-1*SystLifetime)+1,1,SystLifetime)))","v":11179.950036541986},{"$f":"IF(K$57-$D$57<=SystLifetime,K52,\nSUMPRODUCT(OFFSET(K52,0,(-1*SystLifetime)+1,1,SystLifetime),OFFSET('Shipments and Stock - System'!L$17,0,(-1*SystLifetime)+1,1,SystLifetime))/SUM(OFFSET('Shipments and Stock - System'!L$17,0,(-1*SystLifetime)+1,1,SystLifetime)))","v":11179.950036541986},{"$f":"IF(L$57-$D$57<=SystLifetime,L52,\nSUMPRODUCT(OFFSET(L52,0,(-1*SystLifetime)+1,1,SystLifetime),OFFSET('Shipments and Stock - System'!M$17,0,(-1*SystLifetime)+1,1,SystLifetime))/SUM(OFFSET('Shipments and Stock - System'!M$17,0,(-1*SystLifetime)+1,1,SystLifetime)))","v":11179.950036541986},{"$f":"IF(M$57-$D$57<=SystLifetime,M52,\nSUMPRODUCT(OFFSET(M52,0,(-1*SystLifetime)+1,1,SystLifetime),OFFSET('Shipments and Stock - System'!N$17,0,(-1*SystLifetime)+1,1,SystLifetime))/SUM(OFFSET('Shipments and Stock - System'!N$17,0,(-1*SystLifetime)+1,1,SystLifetime)))","v":11179.950036541986},{"$f":"IF(N$57-$D$57<=SystLifetime,N52,\nSUMPRODUCT(OFFSET(N52,0,(-1*SystLifetime)+1,1,SystLifetime),OFFSET('Shipments and Stock - System'!O$17,0,(-1*SystLifetime)+1,1,SystLifetime))/SUM(OFFSET('Shipments and Stock - System'!O$17,0,(-1*SystLifetime)+1,1,SystLifetime)))","v":11179.950036541986},{"$f":"IF(O$57-$D$57<=SystLifetime,O52,\nSUMPRODUCT(OFFSET(O52,0,(-1*SystLifetime)+1,1,SystLifetime),OFFSET('Shipments and Stock - System'!P$17,0,(-1*SystLifetime)+1,1,SystLifetime))/SUM(OFFSET('Shipments and Stock - System'!P$17,0,(-1*SystLifetime)+1,1,SystLifetime)))","v":{"$error":"#VALUE!"}},{"$f":"IF(P$57-$D$57<=SystLifetime,P52,\nSUMPRODUCT(OFFSET(P52,0,(-1*SystLifetime)+1,1,SystLifetime),OFFSET('Shipments and Stock - System'!Q$17,0,(-1*SystLifetime)+1,1,SystLifetime))/SUM(OFFSET('Shipments and Stock - System'!Q$17,0,(-1*SystLifetime)+1,1,SystLifetime)))","v":{"$error":"#VALUE!"}},{"$f":"IF(Q$57-$D$57<=SystLifetime,Q52,\nSUMPRODUCT(OFFSET(Q52,0,(-1*SystLifetime)+1,1,SystLifetime),OFFSET('Shipments and Stock - System'!R$17,0,(-1*SystLifetime)+1,1,SystLifetime))/SUM(OFFSET('Shipments and Stock - System'!R$17,0,(-1*SystLifetime)+1,1,SystLifetime)))","v":{"$error":"#VALUE!"}},{"$f":"IF(R$57-$D$57<=SystLifetime,R52,\nSUMPRODUCT(OFFSET(R52,0,(-1*SystLifetime)+1,1,SystLifetime),OFFSET('Shipments and Stock - System'!S$17,0,(-1*SystLifetime)+1,1,SystLifetime))/SUM(OFFSET('Shipments and Stock - System'!S$17,0,(-1*SystLifetime)+1,1,SystLifetime)))","v":{"$error":"#VALUE!"}},{"$f":"IF(S$57-$D$57<=SystLifetime,S52,\nSUMPRODUCT(OFFSET(S52,0,(-1*SystLifetime)+1,1,SystLifetime),OFFSET('Shipments and Stock - System'!T$17,0,(-1*SystLifetime)+1,1,SystLifetime))/SUM(OFFSET('Shipments and Stock - System'!T$17,0,(-1*SystLifetime)+1,1,SystLifetime)))","v":{"$error":"#VALUE!"}},{"$f":"IF(T$57-$D$57<=SystLifetime,T52,\nSUMPRODUCT(OFFSET(T52,0,(-1*SystLifetime)+1,1,SystLifetime),OFFSET('Shipments and Stock - System'!U$17,0,(-1*SystLifetime)+1,1,SystLifetime))/SUM(OFFSET('Shipments and Stock - System'!U$17,0,(-1*SystLifetime)+1,1,SystLifetime)))","v":{"$error":"#VALUE!"}},{"$f":"IF(U$57-$D$57<=SystLifetime,U52,\nSUMPRODUCT(OFFSET(U52,0,(-1*SystLifetime)+1,1,SystLifetime),OFFSET('Shipments and Stock - System'!V$17,0,(-1*SystLifetime)+1,1,SystLifetime))/SUM(OFFSET('Shipments and Stock - System'!V$17,0,(-1*SystLifetime)+1,1,SystLifetime)))","v":{"$error":"#VALUE!"}},{"$f":"IF(V$57-$D$57<=SystLifetime,V52,\nSUMPRODUCT(OFFSET(V52,0,(-1*SystLifetime)+1,1,SystLifetime),OFFSET('Shipments and Stock - System'!W$17,0,(-1*SystLifetime)+1,1,SystLifetime))/SUM(OFFSET('Shipments and Stock - System'!W$17,0,(-1*SystLifetime)+1,1,SystLifetime)))","v":{"$error":"#VALUE!"}},{"$f":"IF(W$57-$D$57<=SystLifetime,W52,\nSUMPRODUCT(OFFSET(W52,0,(-1*SystLifetime)+1,1,SystLifetime),OFFSET('Shipments and Stock - System'!X$17,0,(-1*SystLifetime)+1,1,SystLifetime))/SUM(OFFSET('Shipments and Stock - System'!X$17,0,(-1*SystLifetime)+1,1,SystLifetime)))","v":{"$error":"#VALUE!"}},{"$f":"IF(X$57-$D$57<=SystLifetime,X52,\nSUMPRODUCT(OFFSET(X52,0,(-1*SystLifetime)+1,1,SystLifetime),OFFSET('Shipments and Stock - System'!Y$17,0,(-1*SystLifetime)+1,1,SystLifetime))/SUM(OFFSET('Shipments and Stock - System'!Y$17,0,(-1*SystLifetime)+1,1,SystLifetime)))","v":{"$error":"#VALUE!"}},{"$f":"IF(Y$57-$D$57<=SystLifetime,Y52,\nSUMPRODUCT(OFFSET(Y52,0,(-1*SystLifetime)+1,1,SystLifetime),OFFSET('Shipments and Stock - System'!Z$17,0,(-1*SystLifetime)+1,1,SystLifetime))/SUM(OFFSET('Shipments and Stock - System'!Z$17,0,(-1*SystLifetime)+1,1,SystLifetime)))","v":{"$error":"#VALUE!"}},{"$f":"IF(Z$57-$D$57<=SystLifetime,Z52,\nSUMPRODUCT(OFFSET(Z52,0,(-1*SystLifetime)+1,1,SystLifetime),OFFSET('Shipments and Stock - System'!AA$17,0,(-1*SystLifetime)+1,1,SystLifetime))/SUM(OFFSET('Shipments and Stock - System'!AA$17,0,(-1*SystLifetime)+1,1,SystLifetime)))","v":{"$error":"#VALUE!"}},{"$f":"IF(AA$57-$D$57<=SystLifetime,AA52,\nSUMPRODUCT(OFFSET(AA52,0,(-1*SystLifetime)+1,1,SystLifetime),OFFSET('Shipments and Stock - System'!AB$17,0,(-1*SystLifetime)+1,1,SystLifetime))/SUM(OFFSET('Shipments and Stock - System'!AB$17,0,(-1*SystLifetime)+1,1,SystLifetime)))","v":{"$error":"#VALUE!"}},{"$f":"IF(AB$57-$D$57<=SystLifetime,AB52,\nSUMPRODUCT(OFFSET(AB52,0,(-1*SystLifetime)+1,1,SystLifetime),OFFSET('Shipments and Stock - System'!AC$17,0,(-1*SystLifetime)+1,1,SystLifetime))/SUM(OFFSET('Shipments and Stock - System'!AC$17,0,(-1*SystLifetime)+1,1,SystLifetime)))","v":{"$error":"#VALUE!"}},{"$f":"IF(AC$57-$D$57<=SystLifetime,AC52,\nSUMPRODUCT(OFFSET(AC52,0,(-1*SystLifetime)+1,1,SystLifetime),OFFSET('Shipments and Stock - System'!AD$17,0,(-1*SystLifetime)+1,1,SystLifetime))/SUM(OFFSET('Shipments and Stock - System'!AD$17,0,(-1*SystLifetime)+1,1,SystLifetime)))","v":{"$error":"#VALUE!"}},{"$f":"IF(AD$57-$D$57<=SystLifetime,AD52,\nSUMPRODUCT(OFFSET(AD52,0,(-1*SystLifetime)+1,1,SystLifetime),OFFSET('Shipments and Stock - System'!AE$17,0,(-1*SystLifetime)+1,1,SystLifetime))/SUM(OFFSET('Shipments and Stock - System'!AE$17,0,(-1*SystLifetime)+1,1,SystLifetime)))","v":{"$error":"#VALUE!"}},{"$f":"IF(AE$57-$D$57<=SystLifetime,AE52,\nSUMPRODUCT(OFFSET(AE52,0,(-1*SystLifetime)+1,1,SystLifetime),OFFSET('Shipments and Stock - System'!AF$17,0,(-1*SystLifetime)+1,1,SystLifetime))/SUM(OFFSET('Shipments and Stock - System'!AF$17,0,(-1*SystLifetime)+1,1,SystLifetime)))","v":{"$error":"#VALUE!"}},{"$f":"IF(AF$57-$D$57<=SystLifetime,AF52,\nSUMPRODUCT(OFFSET(AF52,0,(-1*SystLifetime)+1,1,SystLifetime),OFFSET('Shipments and Stock - System'!AG$17,0,(-1*SystLifetime)+1,1,SystLifetime))/SUM(OFFSET('Shipments and Stock - System'!AG$17,0,(-1*SystLifetime)+1,1,SystLifetime)))","v":{"$error":"#VALUE!"}},{"$f":"IF(AG$57-$D$57<=SystLifetime,AG52,\nSUMPRODUCT(OFFSET(AG52,0,(-1*SystLifetime)+1,1,SystLifetime),OFFSET('Shipments and Stock - System'!AH$17,0,(-1*SystLifetime)+1,1,SystLifetime))/SUM(OFFSET('Shipments and Stock - System'!AH$17,0,(-1*SystLifetime)+1,1,SystLifetime)))","v":{"$error":"#VALUE!"}},{"$f":"IF(AH$57-$D$57<=SystLifetime,AH52,\nSUMPRODUCT(OFFSET(AH52,0,(-1*SystLifetime)+1,1,SystLifetime),OFFSET('Shipments and Stock - System'!AI$17,0,(-1*SystLifetime)+1,1,SystLifetime))/SUM(OFFSET('Shipments and Stock - System'!AI$17,0,(-1*SystLifetime)+1,1,SystLifetime)))","v":{"$error":"#VALUE!"}},{"$f":"IF(AI$57-$D$57<=SystLifetime,AI52,\nSUMPRODUCT(OFFSET(AI52,0,(-1*SystLifetime)+1,1,SystLifetime),OFFSET('Shipments and Stock - System'!AJ$17,0,(-1*SystLifetime)+1,1,SystLifetime))/SUM(OFFSET('Shipments and Stock - System'!AJ$17,0,(-1*SystLifetime)+1,1,SystLifetime)))","v":{"$error":"#VALUE!"}},{"$f":"IF(AJ$57-$D$57<=SystLifetime,AJ52,\nSUMPRODUCT(OFFSET(AJ52,0,(-1*SystLifetime)+1,1,SystLifetime),OFFSET('Shipments and Stock - System'!AK$17,0,(-1*SystLifetime)+1,1,SystLifetime))/SUM(OFFSET('Shipments and Stock - System'!AK$17,0,(-1*SystLifetime)+1,1,SystLifetime)))","v":{"$error":"#VALUE!"}},{"$f":"IF(AK$57-$D$57<=SystLifetime,AK52,\nSUMPRODUCT(OFFSET(AK52,0,(-1*SystLifetime)+1,1,SystLifetime),OFFSET('Shipments and Stock - System'!AL$17,0,(-1*SystLifetime)+1,1,SystLifetime))/SUM(OFFSET('Shipments and Stock - System'!AL$17,0,(-1*SystLifetime)+1,1,SystLifetime)))","v":{"$error":"#VALUE!"}},{"$f":"IF(AL$57-$D$57<=SystLifetime,AL52,\nSUMPRODUCT(OFFSET(AL52,0,(-1*SystLifetime)+1,1,SystLifetime),OFFSET('Shipments and Stock - System'!AM$17,0,(-1*SystLifetime)+1,1,SystLifetime))/SUM(OFFSET('Shipments and Stock - System'!AM$17,0,(-1*SystLifetime)+1,1,SystLifetime)))","v":{"$error":"#VALUE!"}},{"$f":"IF(AM$57-$D$57<=SystLifetime,AM52,\nSUMPRODUCT(OFFSET(AM52,0,(-1*SystLifetime)+1,1,SystLifetime),OFFSET('Shipments and Stock - System'!AN$17,0,(-1*SystLifetime)+1,1,SystLifetime))/SUM(OFFSET('Shipments and Stock - System'!AN$17,0,(-1*SystLifetime)+1,1,SystLifetime)))","v":{"$error":"#VALUE!"}},{"$f":"IF(AN$57-$D$57<=SystLifetime,AN52,\nSUMPRODUCT(OFFSET(AN52,0,(-1*SystLifetime)+1,1,SystLifetime),OFFSET('Shipments and Stock - System'!AO$17,0,(-1*SystLifetime)+1,1,SystLifetime))/SUM(OFFSET('Shipments and Stock - System'!AO$17,0,(-1*SystLifetime)+1,1,SystLifetime)))","v":{"$error":"#VALUE!"}},{"$f":"IF(AO$57-$D$57<=SystLifetime,AO52,\nSUMPRODUCT(OFFSET(AO52,0,(-1*SystLifetime)+1,1,SystLifetime),OFFSET('Shipments and Stock - System'!AP$17,0,(-1*SystLifetime)+1,1,SystLifetime))/SUM(OFFSET('Shipments and Stock - System'!AP$17,0,(-1*SystLifetime)+1,1,SystLifetime)))","v":{"$error":"#VALUE!"}},{"$f":"IF(AP$57-$D$57<=SystLifetime,AP52,\nSUMPRODUCT(OFFSET(AP52,0,(-1*SystLifetime)+1,1,SystLifetime),OFFSET('Shipments and Stock - System'!AQ$17,0,(-1*SystLifetime)+1,1,SystLifetime))/SUM(OFFSET('Shipments and Stock - System'!AQ$17,0,(-1*SystLifetime)+1,1,SystLifetime)))","v":{"$error":"#VALUE!"}},{"$f":"IF(AQ$57-$D$57<=SystLifetime,AQ52,\nSUMPRODUCT(OFFSET(AQ52,0,(-1*SystLifetime)+1,1,SystLifetime),OFFSET('Shipments and Stock - System'!AR$17,0,(-1*SystLifetime)+1,1,SystLifetime))/SUM(OFFSET('Shipments and Stock - System'!AR$17,0,(-1*SystLifetime)+1,1,SystLifetime)))","v":{"$error":"#VALUE!"}},{"$f":"IF(AR$57-$D$57<=SystLifetime,AR52,\nSUMPRODUCT(OFFSET(AR52,0,(-1*SystLifetime)+1,1,SystLifetime),OFFSET('Shipments and Stock - System'!AS$17,0,(-1*SystLifetime)+1,1,SystLifetime))/SUM(OFFSET('Shipments and Stock - System'!AS$17,0,(-1*SystLifetime)+1,1,SystLifetime)))","v":{"$error":"#VALUE!"}},{"$f":"IF(AS$57-$D$57<=SystLifetime,AS52,\nSUMPRODUCT(OFFSET(AS52,0,(-1*SystLifetime)+1,1,SystLifetime),OFFSET('Shipments and Stock - System'!AT$17,0,(-1*SystLifetime)+1,1,SystLifetime))/SUM(OFFSET('Shipments and Stock - System'!AT$17,0,(-1*SystLifetime)+1,1,SystLifetime)))","v":{"$error":"#VALUE!"}},{"$f":"IF(AT$57-$D$57<=SystLifetime,AT52,\nSUMPRODUCT(OFFSET(AT52,0,(-1*SystLifetime)+1,1,SystLifetime),OFFSET('Shipments and Stock - System'!AU$17,0,(-1*SystLifetime)+1,1,SystLifetime))/SUM(OFFSET('Shipments and Stock - System'!AU$17,0,(-1*SystLifetime)+1,1,SystLifetime)))","v":{"$error":"#VALUE!"}},{"$f":"IF(AU$57-$D$57<=SystLifetime,AU52,\nSUMPRODUCT(OFFSET(AU52,0,(-1*SystLifetime)+1,1,SystLifetime),OFFSET('Shipments and Stock - System'!AV$17,0,(-1*SystLifetime)+1,1,SystLifetime))/SUM(OFFSET('Shipments and Stock - System'!AV$17,0,(-1*SystLifetime)+1,1,SystLifetime)))","v":{"$error":"#VALUE!"}},{"$f":"IF(AV$57-$D$57<=SystLifetime,AV52,\nSUMPRODUCT(OFFSET(AV52,0,(-1*SystLifetime)+1,1,SystLifetime),OFFSET('Shipments and Stock - System'!AW$17,0,(-1*SystLifetime)+1,1,SystLifetime))/SUM(OFFSET('Shipments and Stock - System'!AW$17,0,(-1*SystLifetime)+1,1,SystLifetime)))","v":{"$error":"#VALUE!"}}]
[null,null,"POST-Case UEC",{"$f":"IF(D$57-$D$57<SystLifetime,D53,\nSUMPRODUCT(OFFSET(D53,0,(-1*SystLifetime)+1,1,SystLifetime),OFFSET('Shipments and Stock - System'!E$17,0,(-1*SystLifetime)+1,1,SystLifetime))/SUM(OFFSET('Shipments and Stock - System'!E$17,0,(-1*SystLifetime)+1,1,SystLifetime)))","v":11179.950036541986},{"$f":"IF(E$57-$D$57<SystLifetime,E53,\nSUMPRODUCT(OFFSET(E53,0,(-1*SystLifetime)+1,1,SystLifetime),OFFSET('Shipments and Stock - System'!F$17,0,(-1*SystLifetime)+1,1,SystLifetime))/SUM(OFFSET('Shipments and Stock - System'!F$17,0,(-1*SystLifetime)+1,1,SystLifetime)))","v":11179.950036541986},{"$f":"IF(F$57-$D$57<SystLifetime,F53,\nSUMPRODUCT(OFFSET(F53,0,(-1*SystLifetime)+1,1,SystLifetime),OFFSET('Shipments and Stock - System'!G$17,0,(-1*SystLifetime)+1,1,SystLifetime))/SUM(OFFSET('Shipments and Stock - System'!G$17,0,(-1*SystLifetime)+1,1,SystLifetime)))","v":11179.950036541986},{"$f":"IF(G$57-$D$57<SystLifetime,G53,\nSUMPRODUCT(OFFSET(G53,0,(-1*SystLifetime)+1,1,SystLifetime),OFFSET('Shipments and Stock - System'!H$17,0,(-1*SystLifetime)+1,1,SystLifetime))/SUM(OFFSET('Shipments and Stock - System'!H$17,0,(-1*SystLifetime)+1,1,SystLifetime)))","v":11179.950036541986},{"$f":"IF(H$57-$D$57<SystLifetime,H53,\nSUMPRODUCT(OFFSET(H53,0,(-1*SystLifetime)+1,1,SystLifetime),OFFSET('Shipments and Stock - System'!I$17,0,(-1*SystLifetime)+1,1,SystLifetime))/SUM(OFFSET('Shipments and Stock - System'!I$17,0,(-1*SystLifetime)+1,1,SystLifetime)))","v":11179.950036541986},{"$f":"IF(I$57-$D$57<SystLifetime,I53,\nSUMPRODUCT(OFFSET(I53,0,(-1*SystLifetime)+1,1,SystLifetime),OFFSET('Shipments and Stock - System'!J$17,0,(-1*SystLifetime)+1,1,SystLifetime))/SUM(OFFSET('Shipments and Stock - System'!J$17,0,(-1*SystLifetime)+1,1,SystLifetime)))","v":11179.950036541986},{"$f":"IF(J$57-$D$57<SystLifetime,J53,\nSUMPRODUCT(OFFSET(J53,0,(-1*SystLifetime)+1,1,SystLifetime),OFFSET('Shipments and Stock - System'!K$17,0,(-1*SystLifetime)+1,1,SystLifetime))/SUM(OFFSET('Shipments and Stock - System'!K$17,0,(-1*SystLifetime)+1,1,SystLifetime)))","v":11179.950036541986},{"$f":"IF(K$57-$D$57<SystLifetime,K53,\nSUMPRODUCT(OFFSET(K53,0,(-1*SystLifetime)+1,1,SystLifetime),OFFSET('Shipments and Stock - System'!L$17,0,(-1*SystLifetime)+1,1,SystLifetime))/SUM(OFFSET('Shipments and Stock - System'!L$17,0,(-1*SystLifetime)+1,1,SystLifetime)))","v":11179.950036541986},{"$f":"IF(L$57-$D$57<SystLifetime,L53,\nSUMPRODUCT(OFFSET(L53,0,(-1*SystLifetime)+1,1,SystLifetime),OFFSET('Shipments and Stock - System'!M$17,0,(-1*SystLifetime)+1,1,SystLifetime))/SUM(OFFSET('Shipments and Stock - System'!M$17,0,(-1*SystLifetime)+1,1,SystLifetime)))","v":11179.950036541986},{"$f":"IF(M$57-$D$57<SystLifetime,M53,\nSUMPRODUCT(OFFSET(M53,0,(-1*SystLifetime)+1,1,SystLifetime),OFFSET('Shipments and Stock - System'!N$17,0,(-1*SystLifetime)+1,1,SystLifetime))/SUM(OFFSET('Shipments and Stock - System'!N$17,0,(-1*SystLifetime)+1,1,SystLifetime)))","v":11179.950036541986},{"$f":"IF(N$57-$D$57<SystLifetime,N53,\nSUMPRODUCT(OFFSET(N53,0,(-1*SystLifetime)+1,1,SystLifetime),OFFSET('Shipments and Stock - System'!O$17,0,(-1*SystLifetime)+1,1,SystLifetime))/SUM(OFFSET('Shipments and Stock - System'!O$17,0,(-1*SystLifetime)+1,1,SystLifetime)))","v":{"$error":"#VALUE!"}},{"$f":"IF(O$57-$D$57<SystLifetime,O53,\nSUMPRODUCT(OFFSET(O53,0,(-1*SystLifetime)+1,1,SystLifetime),OFFSET('Shipments and Stock - System'!P$17,0,(-1*SystLifetime)+1,1,SystLifetime))/SUM(OFFSET('Shipments and Stock - System'!P$17,0,(-1*SystLifetime)+1,1,SystLifetime)))","v":{"$error":"#VALUE!"}},{"$f":"IF(P$57-$D$57<SystLifetime,P53,\nSUMPRODUCT(OFFSET(P53,0,(-1*SystLifetime)+1,1,SystLifetime),OFFSET('Shipments and Stock - System'!Q$17,0,(-1*SystLifetime)+1,1,SystLifetime))/SUM(OFFSET('Shipments and Stock - System'!Q$17,0,(-1*SystLifetime)+1,1,SystLifetime)))","v":{"$error":"#VALUE!"}},{"$f":"IF(Q$57-$D$57<SystLifetime,Q53,\nSUMPRODUCT(OFFSET(Q53,0,(-1*SystLifetime)+1,1,SystLifetime),OFFSET('Shipments and Stock - System'!R$17,0,(-1*SystLifetime)+1,1,SystLifetime))/SUM(OFFSET('Shipments and Stock - System'!R$17,0,(-1*SystLifetime)+1,1,SystLifetime)))","v":{"$error":"#VALUE!"}},{"$f":"IF(R$57-$D$57<SystLifetime,R53,\nSUMPRODUCT(OFFSET(R53,0,(-1*SystLifetime)+1,1,SystLifetime),OFFSET('Shipments and Stock - System'!S$17,0,(-1*SystLifetime)+1,1,SystLifetime))/SUM(OFFSET('Shipments and Stock - System'!S$17,0,(-1*SystLifetime)+1,1,SystLifetime)))","v":{"$error":"#VALUE!"}},{"$f":"IF(S$57-$D$57<SystLifetime,S53,\nSUMPRODUCT(OFFSET(S53,0,(-1*SystLifetime)+1,1,SystLifetime),OFFSET('Shipments and Stock - System'!T$17,0,(-1*SystLifetime)+1,1,SystLifetime))/SUM(OFFSET('Shipments and Stock - System'!T$17,0,(-1*SystLifetime)+1,1,SystLifetime)))","v":{"$error":"#VALUE!"}},{"$f":"IF(T$57-$D$57<SystLifetime,T53,\nSUMPRODUCT(OFFSET(T53,0,(-1*SystLifetime)+1,1,SystLifetime),OFFSET('Shipments and Stock - System'!U$17,0,(-1*SystLifetime)+1,1,SystLifetime))/SUM(OFFSET('Shipments and Stock - System'!U$17,0,(-1*SystLifetime)+1,1,SystLifetime)))","v":{"$error":"#VALUE!"}},{"$f":"IF(U$57-$D$57<SystLifetime,U53,\nSUMPRODUCT(OFFSET(U53,0,(-1*SystLifetime)+1,1,SystLifetime),OFFSET('Shipments and Stock - System'!V$17,0,(-1*SystLifetime)+1,1,SystLifetime))/SUM(OFFSET('Shipments and Stock - System'!V$17,0,(-1*SystLifetime)+1,1,SystLifetime)))","v":{"$error":"#VALUE!"}},{"$f":"IF(V$57-$D$57<SystLifetime,V53,\nSUMPRODUCT(OFFSET(V53,0,(-1*SystLifetime)+1,1,SystLifetime),OFFSET('Shipments and Stock - System'!W$17,0,(-1*SystLifetime)+1,1,SystLifetime))/SUM(OFFSET('Shipments and Stock - System'!W$17,0,(-1*SystLifetime)+1,1,SystLifetime)))","v":{"$error":"#VALUE!"}},{"$f":"IF(W$57-$D$57<SystLifetime,W53,\nSUMPRODUCT(OFFSET(W53,0,(-1*SystLifetime)+1,1,SystLifetime),OFFSET('Shipments and Stock - System'!X$17,0,(-1*SystLifetime)+1,1,SystLifetime))/SUM(OFFSET('Shipments and Stock - System'!X$17,0,(-1*SystLifetime)+1,1,SystLifetime)))","v":{"$error":"#VALUE!"}},{"$f":"IF(X$57-$D$57<SystLifetime,X53,\nSUMPRODUCT(OFFSET(X53,0,(-1*SystLifetime)+1,1,SystLifetime),OFFSET('Shipments and Stock - System'!Y$17,0,(-1*SystLifetime)+1,1,SystLifetime))/SUM(OFFSET('Shipments and Stock - System'!Y$17,0,(-1*SystLifetime)+1,1,SystLifetime)))","v":{"$error":"#VALUE!"}},{"$f":"IF(Y$57-$D$57<SystLifetime,Y53,\nSUMPRODUCT(OFFSET(Y53,0,(-1*SystLifetime)+1,1,SystLifetime),OFFSET('Shipments and Stock - System'!Z$17,0,(-1*SystLifetime)+1,1,SystLifetime))/SUM(OFFSET('Shipments and Stock - System'!Z$17,0,(-1*SystLifetime)+1,1,SystLifetime)))","v":{"$error":"#VALUE!"}},{"$f":"IF(Z$57-$D$57<SystLifetime,Z53,\nSUMPRODUCT(OFFSET(Z53,0,(-1*SystLifetime)+1,1,SystLifetime),OFFSET('Shipments and Stock - System'!AA$17,0,(-1*SystLifetime)+1,1,SystLifetime))/SUM(OFFSET('Shipments and Stock - System'!AA$17,0,(-1*SystLifetime)+1,1,SystLifetime)))","v":{"$error":"#VALUE!"}},{"$f":"IF(AA$57-$D$57<SystLifetime,AA53,\nSUMPRODUCT(OFFSET(AA53,0,(-1*SystLifetime)+1,1,SystLifetime),OFFSET('Shipments and Stock - System'!AB$17,0,(-1*SystLifetime)+1,1,SystLifetime))/SUM(OFFSET('Shipments and Stock - System'!AB$17,0,(-1*SystLifetime)+1,1,SystLifetime)))","v":{"$error":"#VALUE!"}},{"$f":"IF(AB$57-$D$57<SystLifetime,AB53,\nSUMPRODUCT(OFFSET(AB53,0,(-1*SystLifetime)+1,1,SystLifetime),OFFSET('Shipments and Stock - System'!AC$17,0,(-1*SystLifetime)+1,1,SystLifetime))/SUM(OFFSET('Shipments and Stock - System'!AC$17,0,(-1*SystLifetime)+1,1,SystLifetime)))","v":{"$error":"#VALUE!"}},{"$f":"IF(AC$57-$D$57<SystLifetime,AC53,\nSUMPRODUCT(OFFSET(AC53,0,(-1*SystLifetime)+1,1,SystLifetime),OFFSET('Shipments and Stock - System'!AD$17,0,(-1*SystLifetime)+1,1,SystLifetime))/SUM(OFFSET('Shipments and Stock - System'!AD$17,0,(-1*SystLifetime)+1,1,SystLifetime)))","v":{"$error":"#VALUE!"}},{"$f":"IF(AD$57-$D$57<SystLifetime,AD53,\nSUMPRODUCT(OFFSET(AD53,0,(-1*SystLifetime)+1,1,SystLifetime),OFFSET('Shipments and Stock - System'!AE$17,0,(-1*SystLifetime)+1,1,SystLifetime))/SUM(OFFSET('Shipments and Stock - System'!AE$17,0,(-1*SystLifetime)+1,1,SystLifetime)))","v":{"$error":"#VALUE!"}},{"$f":"IF(AE$57-$D$57<SystLifetime,AE53,\nSUMPRODUCT(OFFSET(AE53,0,(-1*SystLifetime)+1,1,SystLifetime),OFFSET('Shipments and Stock - System'!AF$17,0,(-1*SystLifetime)+1,1,SystLifetime))/SUM(OFFSET('Shipments and Stock - System'!AF$17,0,(-1*SystLifetime)+1,1,SystLifetime)))","v":{"$error":"#VALUE!"}},{"$f":"IF(AF$57-$D$57<SystLifetime,AF53,\nSUMPRODUCT(OFFSET(AF53,0,(-1*SystLifetime)+1,1,SystLifetime),OFFSET('Shipments and Stock - System'!AG$17,0,(-1*SystLifetime)+1,1,SystLifetime))/SUM(OFFSET('Shipments and Stock - System'!AG$17,0,(-1*SystLifetime)+1,1,SystLifetime)))","v":{"$error":"#VALUE!"}},{"$f":"IF(AG$57-$D$57<SystLifetime,AG53,\nSUMPRODUCT(OFFSET(AG53,0,(-1*SystLifetime)+1,1,SystLifetime),OFFSET('Shipments and Stock - System'!AH$17,0,(-1*SystLifetime)+1,1,SystLifetime))/SUM(OFFSET('Shipments and Stock - System'!AH$17,0,(-1*SystLifetime)+1,1,SystLifetime)))","v":{"$error":"#VALUE!"}},{"$f":"IF(AH$57-$D$57<SystLifetime,AH53,\nSUMPRODUCT(OFFSET(AH53,0,(-1*SystLifetime)+1,1,SystLifetime),OFFSET('Shipments and Stock - System'!AI$17,0,(-1*SystLifetime)+1,1,SystLifetime))/SUM(OFFSET('Shipments and Stock - System'!AI$17,0,(-1*SystLifetime)+1,1,SystLifetime)))","v":{"$error":"#VALUE!"}},{"$f":"IF(AI$57-$D$57<SystLifetime,AI53,\nSUMPRODUCT(OFFSET(AI53,0,(-1*SystLifetime)+1,1,SystLifetime),OFFSET('Shipments and Stock - System'!AJ$17,0,(-1*SystLifetime)+1,1,SystLifetime))/SUM(OFFSET('Shipments and Stock - System'!AJ$17,0,(-1*SystLifetime)+1,1,SystLifetime)))","v":{"$error":"#VALUE!"}},{"$f":"IF(AJ$57-$D$57<SystLifetime,AJ53,\nSUMPRODUCT(OFFSET(AJ53,0,(-1*SystLifetime)+1,1,SystLifetime),OFFSET('Shipments and Stock - System'!AK$17,0,(-1*SystLifetime)+1,1,SystLifetime))/SUM(OFFSET('Shipments and Stock - System'!AK$17,0,(-1*SystLifetime)+1,1,SystLifetime)))","v":{"$error":"#VALUE!"}},{"$f":"IF(AK$57-$D$57<SystLifetime,AK53,\nSUMPRODUCT(OFFSET(AK53,0,(-1*SystLifetime)+1,1,SystLifetime),OFFSET('Shipments and Stock - System'!AL$17,0,(-1*SystLifetime)+1,1,SystLifetime))/SUM(OFFSET('Shipments and Stock - System'!AL$17,0,(-1*SystLifetime)+1,1,SystLifetime)))","v":{"$error":"#VALUE!"}},{"$f":"IF(AL$57-$D$57<SystLifetime,AL53,\nSUMPRODUCT(OFFSET(AL53,0,(-1*SystLifetime)+1,1,SystLifetime),OFFSET('Shipments and Stock - System'!AM$17,0,(-1*SystLifetime)+1,1,SystLifetime))/SUM(OFFSET('Shipments and Stock - System'!AM$17,0,(-1*SystLifetime)+1,1,SystLifetime)))","v":{"$error":"#VALUE!"}},{"$f":"IF(AM$57-$D$57<SystLifetime,AM53,\nSUMPRODUCT(OFFSET(AM53,0,(-1*SystLifetime)+1,1,SystLifetime),OFFSET('Shipments and Stock - System'!AN$17,0,(-1*SystLifetime)+1,1,SystLifetime))/SUM(OFFSET('Shipments and Stock - System'!AN$17,0,(-1*SystLifetime)+1,1,SystLifetime)))","v":{"$error":"#VALUE!"}},{"$f":"IF(AN$57-$D$57<SystLifetime,AN53,\nSUMPRODUCT(OFFSET(AN53,0,(-1*SystLifetime)+1,1,SystLifetime),OFFSET('Shipments and Stock - System'!AO$17,0,(-1*SystLifetime)+1,1,SystLifetime))/SUM(OFFSET('Shipments and Stock - System'!AO$17,0,(-1*SystLifetime)+1,1,SystLifetime)))","v":{"$error":"#VALUE!"}},{"$f":"IF(AO$57-$D$57<SystLifetime,AO53,\nSUMPRODUCT(OFFSET(AO53,0,(-1*SystLifetime)+1,1,SystLifetime),OFFSET('Shipments and Stock - System'!AP$17,0,(-1*SystLifetime)+1,1,SystLifetime))/SUM(OFFSET('Shipments and Stock - System'!AP$17,0,(-1*SystLifetime)+1,1,SystLifetime)))","v":{"$error":"#VALUE!"}},{"$f":"IF(AP$57-$D$57<SystLifetime,AP53,\nSUMPRODUCT(OFFSET(AP53,0,(-1*SystLifetime)+1,1,SystLifetime),OFFSET('Shipments and Stock - System'!AQ$17,0,(-1*SystLifetime)+1,1,SystLifetime))/SUM(OFFSET('Shipments and Stock - System'!AQ$17,0,(-1*SystLifetime)+1,1,SystLifetime)))","v":{"$error":"#VALUE!"}},{"$f":"IF(AQ$57-$D$57<SystLifetime,AQ53,\nSUMPRODUCT(OFFSET(AQ53,0,(-1*SystLifetime)+1,1,SystLifetime),OFFSET('Shipments and Stock - System'!AR$17,0,(-1*SystLifetime)+1,1,SystLifetime))/SUM(OFFSET('Shipments and Stock - System'!AR$17,0,(-1*SystLifetime)+1,1,SystLifetime)))","v":{"$error":"#VALUE!"}},{"$f":"IF(AR$57-$D$57<SystLifetime,AR53,\nSUMPRODUCT(OFFSET(AR53,0,(-1*SystLifetime)+1,1,SystLifetime),OFFSET('Shipments and Stock - System'!AS$17,0,(-1*SystLifetime)+1,1,SystLifetime))/SUM(OFFSET('Shipments and Stock - System'!AS$17,0,(-1*SystLifetime)+1,1,SystLifetime)))","v":{"$error":"#VALUE!"}},{"$f":"IF(AS$57-$D$57<SystLifetime,AS53,\nSUMPRODUCT(OFFSET(AS53,0,(-1*SystLifetime)+1,1,SystLifetime),OFFSET('Shipments and Stock - System'!AT$17,0,(-1*SystLifetime)+1,1,SystLifetime))/SUM(OFFSET('Shipments and Stock - System'!AT$17,0,(-1*SystLifetime)+1,1,SystLifetime)))","v":{"$error":"#VALUE!"}},{"$f":"IF(AT$57-$D$57<SystLifetime,AT53,\nSUMPRODUCT(OFFSET(AT53,0,(-1*SystLifetime)+1,1,SystLifetime),OFFSET('Shipments and Stock - System'!AU$17,0,(-1*SystLifetime)+1,1,SystLifetime))/SUM(OFFSET('Shipments and Stock - System'!AU$17,0,(-1*SystLifetime)+1,1,SystLifetime)))","v":{"$error":"#VALUE!"}},{"$f":"IF(AU$57-$D$57<SystLifetime,AU53,\nSUMPRODUCT(OFFSET(AU53,0,(-1*SystLifetime)+1,1,SystLifetime),OFFSET('Shipments and Stock - System'!AV$17,0,(-1*SystLifetime)+1,1,SystLifetime))/SUM(OFFSET('Shipments and Stock - System'!AV$17,0,(-1*SystLifetime)+1,1,SystLifetime)))","v":{"$error":"#VALUE!"}},{"$f":"IF(AV$57-$D$57<SystLifetime,AV53,\nSUMPRODUCT(OFFSET(AV53,0,(-1*SystLifetime)+1,1,SystLifetime),OFFSET('Shipments and Stock - System'!AW$17,0,(-1*SystLifetime)+1,1,SystLifetime))/SUM(OFFSET('Shipments and Stock - System'!AW$17,0,(-1*SystLifetime)+1,1,SystLifetime)))","v":{"$error":"#VALUE!"}}]

{"sheet":"RESULTS","index":14,"n_rows":124,"n_cols":28,"rows_kept":124,"cut":false,"hidden":false,"merged":[]}
[]
[null,null,"RESULTS "]
[]
[null,null,"NAVIGATION"]
[]
[null,null,"COMMENTS"]
[]
[null,null,"Building Type "]
[null,null,"TOTAL","<- Dropdown "]
[]
[null,null,"Unit Energy Consumption (kWh/year) ",2010,{"$f":"D11+1","v":2011},2012,2013,2014,2015,2016,2017,2018,2019,2020,2021,2022,2023,2024,2025,2026,2027,2028,2029,2030,2031,2032,2033,2034]
[null,null,"6P Pre-case Shipment UEC",{"$f":"D13","v":9678.7019749321935},9678.7019749321953,9678.7019749321953,9678.7019749321953,9684.5415067448284,9690.1026784422356,9692.5493076477014,9693.3058789010047,9694.482139462556,9694.3221359205872,9694.4596343773192,9696.1627315223868,9700.0714938164692,9704.7229286894981,9708.600350369863,9711.1438951803466,9712.446976842708,9712.9157755845226,9713.2288096789325,9713.9259310786983,9715.5546509570377,9718.0389390095497,9720.8311689050588,9723.5104779689991,9725.4073884366135]
[null,null,"Market UEC (Shipment Weighted Average) - PRE-Case UEC",{"$f":"OFFSET(UEC!$C11,0,MATCH(D$11,UEC!$D$10:$AV$10,0))","v":9678.7019749321935},{"$f":"OFFSET(UEC!$C11,0,MATCH(E$11,UEC!$D$10:$AV$10,0))","v":9678.7019749321953},{"$f":"OFFSET(UEC!$C11,0,MATCH(F$11,UEC!$D$10:$AV$10,0))","v":9678.7019749321953},{"$f":"OFFSET(UEC!$C11,0,MATCH(G$11,UEC!$D$10:$AV$10,0))","v":9678.7019749321953},{"$f":"OFFSET(UEC!$C11,0,MATCH(H$11,UEC!$D$10:$AV$10,0))","v":9684.5415067448284},{"$f":"OFFSET(UEC!$C11,0,MATCH(I$11,UEC!$D$10:$AV$10,0))","v":9690.1026784422356},{"$f":"OFFSET(UEC!$C11,0,MATCH(J$11,UEC!$D$10:$AV$10,0))","v":9692.5493076477014},{"$f":"OFFSET(UEC!$C11,0,MATCH(K$11,UEC!$D$10:$AV$10,0))","v":9693.3058789010047},{"$f":"OFFSET(UEC!$C11,0,MATCH(L$11,UEC!$D$10:$AV$10,0))","v":9694.482139462556},{"$f":"OFFSET(UEC!$C11,0,MATCH(M$11,UEC!$D$10:$AV$10,0))","v":9694.3221359205872},{"$f":"OFFSET(UEC!$C11,0,MATCH(N$11,UEC!$D$10:$AV$10,0))","v":9694.4596343773192},{"$f":"OFFSET(UEC!$C11,0,MATCH(O$11,UEC!$D$10:$AV$10,0))","v":9696.1627315223868},{"$f":"OFFSET(UEC!$C11,0,MATCH(P$11,UEC!$D$10:$AV$10,0))","v":9700.0714938164692},{"$f":"OFFSET(UEC!$C11,0,MATCH(Q$11,UEC!$D$10:$AV$10,0))","v":9704.7229286894981},{"$f":"OFFSET(UEC!$C11,0,MATCH(R$11,UEC!$D$10:$AV$10,0))","v":9708.600350369863},{"$f":"OFFSET(UEC!$C11,0,MATCH(S$11,UEC!$D$10:$AV$10,0))","v":9711.1438951803466},{"$f":"OFFSET(UEC!$C11,0,MATCH(T$11,UEC!$D$10:$AV$10,0))","v":9712.446976842708},{"$f":"OFFSET(UEC!$C11,0,MATCH(U$11,UEC!$D$10:$AV$10,0))","v":9712.9157755845226},{"$f":"OFFSET(UEC!$C11,0,MATCH(V$11,UEC!$D$10:$AV$10,0))","v":9713.2288096789325},{"$f":"OFFSET(UEC!$C11,0,MATCH(W$11,UEC!$D$10:$AV$10,0))","v":9713.9259310786983},{"$f":"OFFSET(UEC!$C11,0,MATCH(X$11,UEC!$D$10:$AV$10,0))","v":9715.5546509570377},{"$f":"OFFSET(UEC!$C11,0,MATCH(Y$11,UEC!$D$10:$AV$10,0))","v":9718.0389390095497},{"$f":"OFFSET(UEC!$C11,0,MATCH(Z$11,UEC!$D$10:$AV$10,0))","v":9720.8311689050588},{"$f":"OFFSET(UEC!$C11,0,MATCH(AA$11,UEC!$D$10:$AV$10,0))","v":9723.5104779689991},{"$f":"OFFSET(UEC!$C11,0,MATCH(AB$11,UEC!$D$10:$AV$10,0))","v":9725.4073884366135}]
[null,null,"Market UEC (Shipment Weighted Average) - POST-Case UEC",{"$f":"OFFSET(UEC!$C12,0,MATCH(D$11,UEC!$D$10:$AV$10,0))","v":9678.7019749321935},{"$f":"OFFSET(UEC!$C12,0,MATCH(E$11,UEC!$D$10:$AV$10,0))","v":9678.7019749321953},{"$f":"OFFSET(UEC!$C12,0,MATCH(F$11,UEC!$D$10:$AV$10,0))","v":9678.7019749321953},{"$f":"OFFSET(UEC!$C12,0,MATCH(G$11,UEC!$D$10:$AV$10,0))","v":9678.7019749321953},{"$f":"OFFSET(UEC!$C12,0,MATCH(H$11,UEC!$D$10:$AV$10,0))","v":9684.5415067448284},{"$f":"OFFSET(UEC!$C12,0,MATCH(I$11,UEC!$D$10:$AV$10,0))","v":9690.1026784422356},{"$f":"OFFSET(UEC!$C12,0,MATCH(J$11,UEC!$D$10:$AV$10,0))","v":9692.5493076477014},{"$f":"OFFSET(UEC!$C12,0,MATCH(K$11,UEC!$D$10:$AV$10,0))","v":6851.3517561231029},{"$f":"OFFSET(UEC!$C12,0,MATCH(L$11,UEC!$D$10:$AV$10,0))","v":6854.375123535101},{"$f":"OFFSET(UEC!$C12,0,MATCH(M$11,UEC!$D$10:$AV$10,0))","v":6853.6323160377324},{"$f":"OFFSET(UEC!$C12,0,MATCH(N$11,UEC!$D$10:$AV$10,0))","v":6852.3278928776363},{"$f":"OFFSET(UEC!$C12,0,MATCH(O$11,UEC!$D$10:$AV$10,0))","v":6853.5442899956306},{"$f":"OFFSET(UEC!$C12,0,MATCH(P$11,UEC!$D$10:$AV$10,0))","v":6858.9513892630166},{"$f":"OFFSET(UEC!$C12,0,MATCH(Q$11,UEC!$D$10:$AV$10,0))","v":6866.434844199227},{"$f":"OFFSET(UEC!$C12,0,MATCH(R$11,UEC!$D$10:$AV$10,0))","v":6873.7394248747823},{"$f":"OFFSET(UEC!$C12,0,MATCH(S$11,UEC!$D$10:$AV$10,0))","v":6879.8857618256206},{"$f":"OFFSET(UEC!$C12,0,MATCH(T$11,UEC!$D$10:$AV$10,0))","v":6883.894728309011},{"$f":"OFFSET(UEC!$C12,0,MATCH(U$11,UEC!$D$10:$AV$10,0))","v":6885.5873476032866},{"$f":"OFFSET(UEC!$C12,0,MATCH(V$11,UEC!$D$10:$AV$10,0))","v":6885.9279180884487},{"$f":"OFFSET(UEC!$C12,0,MATCH(W$11,UEC!$D$10:$AV$10,0))","v":6886.3178045086497},{"$f":"OFFSET(UEC!$C12,0,MATCH(X$11,UEC!$D$10:$AV$10,0))","v":6888.176619990275},{"$f":"OFFSET(UEC!$C12,0,MATCH(Y$11,UEC!$D$10:$AV$10,0))","v":6891.8496641807324},{"$f":"OFFSET(UEC!$C12,0,MATCH(Z$11,UEC!$D$10:$AV$10,0))","v":6896.7814745604146},{"$f":"OFFSET(UEC!$C12,0,MATCH(AA$11,UEC!$D$10:$AV$10,0))","v":6902.0714878259196},{"$f":"OFFSET(UEC!$C12,0,MATCH(AB$11,UEC!$D$10:$AV$10,0))","v":6906.4120471510851}]
[null,null,"Installed UEC (Vintage Weighted Average)  - PRE-Case UEC",{"$f":"OFFSET(UEC!$C17,0,MATCH(D$11,UEC!$D$10:$AV$10,0))","v":{"$error":"#VALUE!"}},{"$f":"OFFSET(UEC!$C17,0,MATCH(E$11,UEC!$D$10:$AV$10,0))","v":{"$error":"#VALUE!"}},{"$f":"OFFSET(UEC!$C17,0,MATCH(F$11,UEC!$D$10:$AV$10,0))","v":{"$error":"#VALUE!"}},{"$f":"OFFSET(UEC!$C17,0,MATCH(G$11,UEC!$D$10:$AV$10,0))","v":{"$error":"#VALUE!"}},{"$f":"OFFSET(UEC!$C17,0,MATCH(H$11,UEC!$D$10:$AV$10,0))","v":{"$error":"#VALUE!"}},{"$f":"OFFSET(UEC!$C17,0,MATCH(I$11,UEC!$D$10:$AV$10,0))","v":{"$error":"#VALUE!"}},{"$f":"OFFSET(UEC!$C17,0,MATCH(J$11,UEC!$D$10:$AV$10,0))","v":{"$error":"#VALUE!"}},{"$f":"OFFSET(UEC!$C17,0,MATCH(K$11,UEC!$D$10:$AV$10,0))","v":{"$error":"#VALUE!"}},{"$f":"OFFSET(UEC!$C17,0,MATCH(L$11,UEC!$D$10:$AV$10,0))","v":{"$error":"#VALUE!"}},{"$f":"OFFSET(UEC!$C17,0,MATCH(M$11,UEC!$D$10:$AV$10,0))","v":{"$error":"#VALUE!"}},{"$f":"OFFSET(UEC!$C17,0,MATCH(N$11,UEC!$D$10:$AV$10,0))","v":{"$error":"#VALUE!"}},{"$f":"OFFSET(UEC!$C17,0,MATCH(O$11,UEC!$D$10:$AV$10,0))","v":{"$error":"#VALUE!"}},{"$f":"OFFSET(UEC!$C17,0,MATCH(P$11,UEC!$D$10:$AV$10,0))","v":{"$error":"#VALUE!"}},{"$f":"OFFSET(UEC!$C17,0,MATCH(Q$11,UEC!$D$10:$AV$10,0))","v":{"$error":"#VALUE!"}},{"$f":"OFFSET(UEC!$C17,0,MATCH(R$11,UEC!$D$10:$AV$10,0))","v":{"$error":"#VALUE!"}},{"$f":"OFFSET(UEC!$C17,0,MATCH(S$11,UEC!$D$10:$AV$10,0))","v":{"$error":"#VALUE!"}},{"$f":"OFFSET(UEC!$C17,0,MATCH(T$11,UEC!$D$10:$AV$10,0))","v":{"$error":"#VALUE!"}},{"$f":"OFFSET(UEC!$C17,0,MATCH(U$11,UEC!$D$10:$AV$10,0))","v":{"$error":"#VALUE!"}},{"$f":"OFFSET(UEC!$C17,0,MATCH(V$11,UEC!$D$10:$AV$10,0))","v":{"$error":"#VALUE!"}},{"$f":"OFFSET(UEC!$C17,0,MATCH(W$11,UEC!$D$10:$AV$10,0))","v":{"$error":"#VALUE!"}},{"$f":"OFFSET(UEC!$C17,0,MATCH(X$11,UEC!$D$10:$AV$10,0))","v":{"$error":"#VALUE!"}},{"$f":"OFFSET(UEC!$C17,0,MATCH(Y$11,UEC!$D$10:$AV$10,0))","v":{"$error":"#VALUE!"}},{"$f":"OFFSET(UEC!$C17,0,MATCH(Z$11,UEC!$D$10:$AV$10,0))","v":{"$error":"#VALUE!"}},{"$f":"OFFSET(UEC!$C17,0,MATCH(AA$11,UEC!$D$10:$AV$10,0))","v":{"$error":"#VALUE!"}},{"$f":"OFFSET(UEC!$C17,0,MATCH(AB$11,UEC!$D$10:$AV$10,0))","v":{"$error":"#VALUE!"}}]
[null,null,"Installed UEC (Vintage Weighted Average)  - POST-Case UEC",{"$f":"OFFSET(UEC!$C18,0,MATCH(D$11,UEC!$D$10:$AV$10,0))","v":{"$error":"#VALUE!"}},{"$f":"OFFSET(UEC!$C18,0,MATCH(E$11,UEC!$D$10:$AV$10,0))","v":{"$error":"#VALUE!"}},{"$f":"OFFSET(UEC!$C18,0,MATCH(F$11,UEC!$D$10:$AV$10,0))","v":{"$error":"#VALUE!"}},{"$f":"OFFSET(UEC!$C18,0,MATCH(G$11,UEC!$D$10:$AV$10,0))","v":{"$error":"#VALUE!"}},{"$f":"OFFSET(UEC!$C18,0,MATCH(H$11,UEC!$D$10:$AV$10,0))","v":{"$error":"#VALUE!"}},{"$f":"OFFSET(UEC!$C18,0,MATCH(I$11,UEC!$D$10:$AV$10,0))","v":{"$error":"#VALUE!"}},{"$f":"OFFSET(UEC!$C18,0,MATCH(J$11,UEC!$D$10:$AV$10,0))","v":{"$error":"#VALUE!"}},{"$f":"OFFSET(UEC!$C18,0,MATCH(K$11,UEC!$D$10:$AV$10,0))","v":{"$error":"#VALUE!"}},{"$f":"OFFSET(UEC!$C18,0,MATCH(L$11,UEC!$D$10:$AV$10,0))","v":{"$error":"#VALUE!"}},{"$f":"OFFSET(UEC!$C18,0,MATCH(M$11,UEC!$D$10:$AV$10,0))","v":{"$error":"#VALUE!"}},{"$f":"OFFSET(UEC!$C18,0,MATCH(N$11,UEC!$D$10:$AV$10,0))","v":{"$error":"#VALUE!"}},{"$f":"OFFSET(UEC!$C18,0,MATCH(O$11,UEC!$D$10:$AV$10,0))","v":{"$error":"#VALUE!"}},{"$f":"OFFSET(UEC!$C18,0,MATCH(P$11,UEC!$D$10:$AV$10,0))","v":{"$error":"#VALUE!"}},{"$f":"OFFSET(UEC!$C18,0,MATCH(Q$11,UEC!$D$10:$AV$10,0))","v":{"$error":"#VALUE!"}},{"$f":"OFFSET(UEC!$C18,0,MATCH(R$11,UEC!$D$10:$AV$10,0))","v":{"$error":"#VALUE!"}},{"$f":"OFFSET(UEC!$C18,0,MATCH(S$11,UEC!$D$10:$AV$10,0))","v":{"$error":"#VALUE!"}},{"$f":"OFFSET(UEC!$C18,0,MATCH(T$11,UEC!$D$10:$AV$10,0))","v":{"$error":"#VALUE!"}},{"$f":"OFFSET(UEC!$C18,0,MATCH(U$11,UEC!$D$10:$AV$10,0))","v":{"$error":"#VALUE!"}},{"$f":"OFFSET(UEC!$C18,0,MATCH(V$11,UEC!$D$10:$AV$10,0))","v":{"$error":"#VALUE!"}},{"$f":"OFFSET(UEC!$C18,0,MATCH(W$11,UEC!$D$10:$AV$10,0))","v":{"$error":"#VALUE!"}},{"$f":"OFFSET(UEC!$C18,0,MATCH(X$11,UEC!$D$10:$AV$10,0))","v":{"$error":"#VALUE!"}},{"$f":"OFFSET(UEC!$C18,0,MATCH(Y$11,UEC!$D$10:$AV$10,0))","v":{"$error":"#VALUE!"}},{"$f":"OFFSET(UEC!$C18,0,MATCH(Z$11,UEC!$D$10:$AV$10,0))","v":{"$error":"#VALUE!"}},{"$f":"OFFSET(UEC!$C18,0,MATCH(AA$11,UEC!$D$10:$AV$10,0))","v":{"$error":"#VALUE!"}},{"$f":"OFFSET(UEC!$C18,0,MATCH(AB$11,UEC!$D$10:$AV$10,0))","v":{"$error":"#VALUE!"}}]
[]
[null,null,"Stock and Shipments",{"$f":"D11","v":2010},{"$f":"D18+1","v":2011},2012,2013,2014,2015,2016,2017,2018,2019,2020,2021,2022,2023,2024,2025,2026,2027,2028,2029,2030,2031,2032,2033,2034]
[null,null,"6P Shipments",{"$f":"D59+D99","v":{"$error":"#VALUE!"}},{"$error":"#VALUE!"},{"$error":"#VALUE!"},{"$error":"#VALUE!"},{"$error":"#VALUE!"},{"$error":"#VALUE!"},{"$error":"#VALUE!"},{"$error":"#VALUE!"},{"$error":"#VALUE!"},{"$error":"#VALUE!"},{"$error":"#VALUE!"},{"$error":"#VALUE!"},{"$error":"#VALUE!"},{"$error":"#VALUE!"},{"$error":"#VALUE!"},{"$error":"#VALUE!"},{"$error":"#VALUE!"},{"$error":"#VALUE!"},{"$error":"#VALUE!"},{"$error":"#VALUE!"},{"$error":"#VALUE!"},{"$error":"#VALUE!"},{"$error":"#VALUE!"},{"$error":"#VALUE!"},{"$error":"#VALUE!"}]
[null,null,"Replacement Shipments",{"$f":"D60+D100","v":{"$error":"#VALUE!"}},{"$error":"#VALUE!"},{"$error":"#VALUE!"},{"$error":"#VALUE!"},{"$error":"#VALUE!"},{"$error":"#VALUE!"},{"$error":"#VALUE!"},{"$error":"#VALUE!"},{"$error":"#VALUE!"},{"$error":"#VALUE!"},{"$error":"#VALUE!"},{"$f":"O60+O100","v":{"$error":"#VALUE!"}},{"$error":"#VALUE!"},{"$error":"#VALUE!"},{"$error":"#VALUE!"},{"$error":"#VALUE!"},{"$error":"#VALUE!"},{"$error":"#VALUE!"},{"$error":"#VALUE!"},{"$error":"#VALUE!"},{"$error":"#VALUE!"},{"$error":"#VALUE!"},{"$error":"#VALUE!"},{"$error":"#VALUE!"},{"$error":"#VALUE!"}]
[null,null,"Net New Shipments",{"$error":"#VALUE!"},{"$error":"#VALUE!"},{"$error":"#VALUE!"},{"$error":"#VALUE!"},{"$error":"#VALUE!"},{"$error":"#VALUE!"},{"$error":"#VALUE!"},{"$error":"#VALUE!"},{"$error":"#VALUE!"},{"$error":"#VALUE!"},{"$error":"#VALUE!"},{"$error":"#VALUE!"},{"$error":"#VALUE!"},{"$error":"#VALUE!"},{"$error":"#VALUE!"},{"$error":"#VALUE!"},{"$error":"#VALUE!"},{"$error":"#VALUE!"},{"$error":"#VALUE!"},{"$error":"#VALUE!"},{"$error":"#VALUE!"},{"$error":"#VALUE!"},{"$error":"#VALUE!"},{"$error":"#VALUE!"},{"$error":"#VALUE!"}]
[null,null,"Total Model Shipments",{"$f":"D62+D102","v":{"$error":"#VALUE!"}},{"$error":"#VALUE!"},{"$error":"#VALUE!"},{"$error":"#VALUE!"},{"$error":"#VALUE!"},{"$error":"#VALUE!"},{"$error":"#VALUE!"},{"$error":"#VALUE!"},{"$error":"#VALUE!"},{"$error":"#VALUE!"},{"$error":"#VALUE!"},{"$error":"#VALUE!"},{"$error":"#VALUE!"},{"$error":"#VALUE!"},{"$error":"#VALUE!"},{"$error":"#VALUE!"},{"$error":"#VALUE!"},{"$error":"#VALUE!"},{"$error":"#VALUE!"},{"$error":"#VALUE!"},{"$error":"#VALUE!"},{"$error":"#VALUE!"},{"$error":"#VALUE!"},{"$error":"#VALUE!"},{"$error":"#VALUE!"}]
[null,null,"Model Installed Stock",{"$f":"D63+D103","v":{"$error":"#VALUE!"}},{"$error":"#VALUE!"},{"$error":"#VALUE!"},{"$error":"#VALUE!"},{"$error":"#VALUE!"},{"$error":"#VALUE!"},{"$error":"#VALUE!"},{"$error":"#VALUE!"},{"$error":"#VALUE!"},{"$error":"#VALUE!"},{"$error":"#VALUE!"},{"$error":"#VALUE!"},{"$error":"#VALUE!"},{"$error":"#VALUE!"},{"$error":"#VALUE!"},{"$error":"#VALUE!"},{"$error":"#VALUE!"},{"$error":"#VALUE!"},{"$error":"#VALUE!"},{"$error":"#VALUE!"},{"$error":"#VALUE!"},{"$error":"#VALUE!"},{"$error":"#VALUE!"},{"$error":"#VALUE!"},{"$error":"#VALUE!"}]
[]
[null,null,"First Year Energy Consumption ",{"$f":"D11","v":2010},{"$f":"D25+1","v":2011},2012,2013,2014,2015,2016,2017,2018,2019,2020,2021,2022,2023,2024,2025,2026,2027,2028,2029,2030,2031,2032,2033,2034]
[null,null,"6P Shipments * 6P UEC",{"$f":"D12*D19","v":{"$error":"#VALUE!"}},{"$error":"#VALUE!"},{"$error":"#VALUE!"},{"$error":"#VALUE!"},{"$error":"#VALUE!"},{"$error":"#VALUE!"},{"$error":"#VALUE!"},{"$error":"#VALUE!"},{"$error":"#VALUE!"},{"$error":"#VALUE!"},{"$error":"#VALUE!"},{"$error":"#VALUE!"},{"$error":"#VALUE!"},{"$error":"#VALUE!"},{"$error":"#VALUE!"},{"$error":"#VALUE!"},{"$error":"#VALUE!"},{"$error":"#VALUE!"},{"$error":"#VALUE!"},{"$error":"#VALUE!"},{"$error":"#VALUE!"},{"$error":"#VALUE!"},{"$error":"#VALUE!"},{"$error":"#VALUE!"},{"$error":"#VALUE!"}]
[null,null,"Model Shipments * Model Pre-Case UEC",{"$f":"D13*D22","v":{"$error":"#VALUE!"}},{"$f":"E13*E22","v":{"$error":"#VALUE!"}},{"$error":"#VALUE!"},{"$error":"#VALUE!"},{"$error":"#VALUE!"},{"$error":"#VALUE!"},{"$error":"#VALUE!"},{"$error":"#VALUE!"},{"$error":"#VALUE!"},{"$error":"#VALUE!"},{"$error":"#VALUE!"},{"$error":"#VALUE!"},{"$error":"#VALUE!"},{"$error":"#VALUE!"},{"$error":"#VALUE!"},{"$error":"#VALUE!"},{"$error":"#VALUE!"},{"$error":"#VALUE!"},{"$error":"#VALUE!"},{"$error":"#VALUE!"},{"$error":"#VALUE!"},{"$error":"#VALUE!"},{"$error":"#VALUE!"},{"$error":"#VALUE!"},{"$error":"#VALUE!"}]
[null,null,"Model Shipments * Model Post-Case UEC",{"$f":"D14*D22","v":{"$error":"#VALUE!"}},{"$f":"E14*E22","v":{"$error":"#VALUE!"}},{"$error":"#VALUE!"},{"$error":"#VALUE!"},{"$error":"#VALUE!"},{"$error":"#VALUE!"},{"$error":"#VALUE!"},{"$error":"#VALUE!"},{"$error":"#VALUE!"},{"$error":"#VALUE!"},{"$error":"#VALUE!"},{"$error":"#VALUE!"},{"$error":"#VALUE!"},{"$error":"#VALUE!"},{"$error":"#VALUE!"},{"$error":"#VALUE!"},{"$error":"#VALUE!"},{"$error":"#VALUE!"},{"$error":"#VALUE!"},{"$error":"#VALUE!"},{"$error":"#VALUE!"},{"$error":"#VALUE!"},{"$error":"#VALUE!"},{"$error":"#VALUE!"},{"$error":"#VALUE!"}]
[]
[null,null,"Total Energy Consumption (kWh)",{"$f":"D11","v":2010},{"$f":"D30+1","v":2011},2012,2013,2014,2015,2016,2017,2018,2019,2020,2021,2022,2023,2024,2025,2026,2027,2028,2029,2030,2031,2032,2033,2034]
[null,null,"Modeled Pre-case Consumption \n(Installed UEC * Stock)",{"$f":"D15*D23","v":{"$error":"#VALUE!"}},{"$error":"#VALUE!"},{"$error":"#VALUE!"},{"$error":"#VALUE!"},{"$error":"#VALUE!"},{"$error":"#VALUE!"},{"$error":"#VALUE!"},{"$error":"#VALUE!"},{"$error":"#VALUE!"},{"$error":"#VALUE!"},{"$error":"#VALUE!"},{"$error":"#VALUE!"},{"$error":"#VALUE!"},{"$error":"#VALUE!"},{"$error":"#VALUE!"},{"$error":"#VALUE!"},{"$error":"#VALUE!"},{"$error":"#VALUE!"},{"$error":"#VALUE!"},{"$error":"#VALUE!"},{"$error":"#VALUE!"},{"$error":"#VALUE!"},{"$error":"#VALUE!"},{"$error":"#VALUE!"},{"$error":"#VALUE!"}]
[null,null,"Modeled Post-case Consumption \n(Installed UEC* Stock)",{"$f":"D16*D23","v":{"$error":"#VALUE!"}},{"$error":"#VALUE!"},{"$error":"#VALUE!"},{"$error":"#VALUE!"},{"$error":"#VALUE!"},{"$error":"#VALUE!"},{"$error":"#VALUE!"},{"$error":"#VALUE!"},{"$error":"#VALUE!"},{"$error":"#VALUE!"},{"$error":"#VALUE!"},{"$error":"#VALUE!"},{"$error":"#VALUE!"},{"$error":"#VALUE!"},{"$error":"#VALUE!"},{"$error":"#VALUE!"},{"$error":"#VALUE!"},{"$error":"#VALUE!"},{"$error":"#VALUE!"},{"$error":"#VALUE!"},{"$error":"#VALUE!"},{"$error":"#VALUE!"},{"$error":"#VALUE!"},{"$error":"#VALUE!"},{"$error":"#VALUE!"}]
[]
[]
[]
[null,null,"Total Energy Consumption (aMW)",{"$f":"D11","v":2010},{"$f":"D36+1","v":2011},2012,2013,2014,2015,2016,2017,2018,2019,2020,2021,2022,2023,2024,2025,2026,2027,2028,2029,2030,2031,2032,2033,2034]
[null,null,{"$f":"C31","v":"Modeled Pre-case Consumption \n(Installed UEC * Stock)"},{"$f":"D31/'Constants and Menus'!$D$13/('Constants and Menus'!$D$12*'Constants and Menus'!$D$10)","v":{"$error":"#VALUE!"}},{"$f":"E31/'Constants and Menus'!$D$13/('Constants and Menus'!$D$12*'Constants and Menus'!$D$10)","v":{"$error":"#VALUE!"}},{"$f":"F31/'Constants and Menus'!$D$13/('Constants and Menus'!$D$12*'Constants and Menus'!$D$10)","v":{"$error":"#VALUE!"}},{"$f":"G31/'Constants and Menus'!$D$13/('Constants and Menus'!$D$12*'Constants and Menus'!$D$10)","v":{"$error":"#VALUE!"}},{"$f":"H31/'Constants and Menus'!$D$13/('Constants and Menus'!$D$12*'Constants and Menus'!$D$10)","v":{"$error":"#VALUE!"}},{"$f":"I31/'Constants and Menus'!$D$13/('Constants and Menus'!$D$12*'Constants and Menus'!$D$10)","v":{"$error":"#VALUE!"}},{"$f":"J31/'Constants and Menus'!$D$13/('Constants and Menus'!$D$12*'Constants and Menus'!$D$10)","v":{"$error":"#VALUE!"}},{"$f":"K31/'Constants and Menus'!$D$13/('Constants and Menus'!$D$12*'Constants and Menus'!$D$10)","v":{"$error":"#VALUE!"}},{"$f":"L31/'Constants and Menus'!$D$13/('Constants and Menus'!$D$12*'Constants and Menus'!$D$10)","v":{"$error":"#VALUE!"}},{"$f":"M31/'Constants and Menus'!$D$13/('Constants and Menus'!$D$12*'Constants and Menus'!$D$10)","v":{"$error":"#VALUE!"}},{"$f":"N31/'Constants and Menus'!$D$13/('Constants and Menus'!$D$12*'Constants and Menus'!$D$10)","v":{"$error":"#VALUE!"}},{"$f":"O31/'Constants and Menus'!$D$13/('Constants and Menus'!$D$12*'Constants and Menus'!$D$10)","v":{"$error":"#VALUE!"}},{"$f":"P31/'Constants and Menus'!$D$13/('Constants and Menus'!$D$12*'Constants and Menus'!$D$10)","v":{"$error":"#VALUE!"}},{"$f":"Q31/'Constants and Menus'!$D$13/('Constants and Menus'!$D$12*'Constants and Menus'!$D$10)","v":{"$error":"#VALUE!"}},{"$f":"R31/'Constants and Menus'!$D$13/('Constants and Menus'!$D$12*'Constants and Menus'!$D$10)","v":{"$error":"#VALUE!"}},{"$f":"S31/'Constants and Menus'!$D$13/('Constants and Menus'!$D$12*'Constants and Menus'!$D$10)","v":{"$error":"#VALUE!"}},{"$f":"T31/'Constants and Menus'!$D$13/('Constants and Menus'!$D$12*'Constants and Menus'!$D$10)","v":{"$error":"#VALUE!"}},{"$f":"U31/'Constants and Menus'!$D$13/('Constants and Menus'!$D$12*'Constants and Menus'!$D$10)","v":{"$error":"#VALUE!"}},{"$f":"V31/'Constants and Menus'!$D$13/('Constants and Menus'!$D$12*'Constants and Menus'!$D$10)","v":{"$error":"#VALUE!"}},{"$f":"W31/'Constants and Menus'!$D$13/('Constants and Menus'!$D$12*'Constants and Menus'!$D$10)","v":{"$error":"#VALUE!"}},{"$f":"X31/'Constants and Menus'!$D$13/('Constants and Menus'!$D$12*'Constants and Menus'!$D$10)","v":{"$error":"#VALUE!"}},{"$f":"Y31/'Constants and Menus'!$D$13/('Constants and Menus'!$D$12*'Constants and Menus'!$D$10)","v":{"$error":"#VALUE!"}},{"$f":"Z31/'Constants and Menus'!$D$13/('Constants and Menus'!$D$12*'Constants and Menus'!$D$10)","v":{"$error":"#VALUE!"}},{"$f":"AA31/'Constants and Menus'!$D$13/('Constants and Menus'!$D$12*'Constants and Menus'!$D$10)","v":{"$error":"#VALUE!"}},{"$f":"AB31/'Constants and Menus'!$D$13/('Constants and Menus'!$D$12*'Constants and Menus'!$D$10)","v":{"$error":"#VALUE!"}}]
[null,null,{"$f":"C32","v":"Modeled Post-case Consumption \n(Installed UEC* Stock)"},{"$f":"D32/'Constants and Menus'!$D$13/('Constants and Menus'!$D$12*'Constants and Menus'!$D$10)","v":{"$error":"#VALUE!"}},{"$f":"E32/'Constants and Menus'!$D$13/('Constants and Menus'!$D$12*'Constants and Menus'!$D$10)","v":{"$error":"#VALUE!"}},{"$f":"F32/'Constants and Menus'!$D$13/('Constants and Menus'!$D$12*'Constants and Menus'!$D$10)","v":{"$error":"#VALUE!"}},{"$f":"G32/'Constants and Menus'!$D$13/('Constants and Menus'!$D$12*'Constants and Menus'!$D$10)","v":{"$error":"#VALUE!"}},{"$f":"H32/'Constants and Menus'!$D$13/('Constants and Menus'!$D$12*'Constants and Menus'!$D$10)","v":{"$error":"#VALUE!"}},{"$f":"I32/'Constants and Menus'!$D$13/('Constants and Menus'!$D$12*'Constants and Menus'!$D$10)","v":{"$error":"#VALUE!"}},{"$f":"J32/'Constants and Menus'!$D$13/('Constants and Menus'!$D$12*'Constants and Menus'!$D$10)","v":{"$error":"#VALUE!"}},{"$f":"K32/'Constants and Menus'!$D$13/('Constants and Menus'!$D$12*'Constants and Menus'!$D$10)","v":{"$error":"#VALUE!"}},{"$f":"L32/'Constants and Menus'!$D$13/('Constants and Menus'!$D$12*'Constants and Menus'!$D$10)","v":{"$error":"#VALUE!"}},{"$f":"M32/'Constants and Menus'!$D$13/('Constants and Menus'!$D$12*'Constants and Menus'!$D$10)","v":{"$error":"#VALUE!"}},{"$f":"N32/'Constants and Menus'!$D$13/('Constants and Menus'!$D$12*'Constants and Menus'!$D$10)","v":{"$error":"#VALUE!"}},{"$f":"O32/'Constants and Menus'!$D$13/('Constants and Menus'!$D$12*'Constants and Menus'!$D$10)","v":{"$error":"#VALUE!"}},{"$f":"P32/'Constants and Menus'!$D$13/('Constants and Menus'!$D$12*'Constants and Menus'!$D$10)","v":{"$error":"#VALUE!"}},{"$f":"Q32/'Constants and Menus'!$D$13/('Constants and Menus'!$D$12*'Constants and Menus'!$D$10)","v":{"$error":"#VALUE!"}},{"$f":"R32/'Constants and Menus'!$D$13/('Constants and Menus'!$D$12*'Constants and Menus'!$D$10)","v":{"$error":"#VALUE!"}},{"$f":"S32/'Constants and Menus'!$D$13/('Constants and Menus'!$D$12*'Constants and Menus'!$D$10)","v":{"$error":"#VALUE!"}},{"$f":"T32/'Constants and Menus'!$D$13/('Constants and Menus'!$D$12*'Constants and Menus'!$D$10)","v":{"$error":"#VALUE!"}},{"$f":"U32/'Constants and Menus'!$D$13/('Constants and Menus'!$D$12*'Constants and Menus'!$D$10)","v":{"$error":"#VALUE!"}},{"$f":"V32/'Constants and Menus'!$D$13/('Constants and Menus'!$D$12*'Constants and Menus'!$D$10)","v":{"$error":"#VALUE!"}},{"$f":"W32/'Constants and Menus'!$D$13/('Constants and Menus'!$D$12*'Constants and Menus'!$D$10)","v":{"$error":"#VALUE!"}},{"$f":"X32/'Constants and Menus'!$D$13/('Constants and Menus'!$D$12*'Constants and Menus'!$D$10)","v":{"$error":"#VALUE!"}},{"$f":"Y32/'Constants and Menus'!$D$13/('Constants and Menus'!$D$12*'Constants and Menus'!$D$10)","v":{"$error":"#VALUE!"}},{"$f":"Z32/'Constants and Menus'!$D$13/('Constants and Menus'!$D$12*'Constants and Menus'!$D$10)","v":{"$error":"#VALUE!"}},{"$f":"AA32/'Constants and Menus'!$D$13/('Constants and Menus'!$D$12*'Constants and Menus'!$D$10)","v":{"$error":"#VALUE!"}},{"$f":"AB32/'Constants and Menus'!$D$13/('Constants and Menus'!$D$12*'Constants and Menus'!$D$10)","v":{"$error":"#VALUE!"}}]
[]
[null,null,"Savings (aMW)",{"$f":"D11","v":2010},{"$f":"D40+1","v":2011},2012,2013,2014,2015,2016,2017,2018,2019,2020,2021,2022,2023,2024,2025,2026,2027,2028,2029,2030,2031,2032,2033,2034]
[null,null,"Incremental Savings",{"$f":"D81+D121","v":{"$error":"#VALUE!"}},{"$error":"#VALUE!"},{"$error":"#VALUE!"},{"$error":"#VALUE!"},{"$error":"#VALUE!"},{"$error":"#VALUE!"},{"$error":"#VALUE!"},{"$error":"#VALUE!"},{"$error":"#VALUE!"},{"$error":"#VALUE!"},{"$error":"#VALUE!"},{"$error":"#VALUE!"},{"$error":"#VALUE!"},{"$error":"#VALUE!"},{"$error":"#VALUE!"},{"$error":"#VALUE!"},{"$error":"#VALUE!"},{"$error":"#VALUE!"},{"$error":"#VALUE!"},{"$error":"#VALUE!"},{"$error":"#VALUE!"},{"$error":"#VALUE!"},{"$error":"#VALUE!"},{"$error":"#VALUE!"},{"$error":"#VALUE!"}]
[null,null,"Cumulative Savings",{"$f":"SUM($D$41:D41)","v":{"$error":"#VALUE!"}},{"$f":"SUM($D$41:E41)","v":{"$error":"#VALUE!"}},{"$f":"SUM($D$41:F41)","v":{"$error":"#VALUE!"}},{"$f":"SUM($D$41:G41)","v":{"$error":"#VALUE!"}},{"$f":"SUM($D$41:H41)","v":{"$error":"#VALUE!"}},{"$f":"SUM($D$41:I41)","v":{"$error":"#VALUE!"}},{"$f":"SUM($D$41:J41)","v":{"$error":"#VALUE!"}},{"$f":"SUM($D$41:K41)","v":{"$error":"#VALUE!"}},{"$f":"SUM($D$41:L41)","v":{"$error":"#VALUE!"}},{"$f":"SUM($D$41:M41)","v":{"$error":"#VALUE!"}},{"$f":"SUM($D$41:N41)","v":{"$error":"#VALUE!"}},{"$f":"SUM($D$41:O41)","v":{"$error":"#VALUE!"}},{"$f":"SUM($D$41:P41)","v":{"$error":"#VALUE!"}},{"$f":"SUM($D$41:Q41)","v":{"$error":"#VALUE!"}},{"$f":"SUM($D$41:R41)","v":{"$error":"#VALUE!"}},{"$f":"SUM($D$41:S41)","v":{"$error":"#VALUE!"}},{"$f":"SUM($D$41:T41)","v":{"$error":"#VALUE!"}},{"$f":"SUM($D$41:U41)","v":{"$error":"#VALUE!"}},{"$f":"SUM($D$41:V41)","v":{"$error":"#VALUE!"}},{"$f":"SUM($D$41:W41)","v":{"$error":"#VALUE!"}},{"$f":"SUM($D$41:X41)","v":{"$error":"#VALUE!"}},{"$f":"SUM($D$41:Y41)","v":{"$error":"#VALUE!"}},{"$f":"SUM($D$41:Z41)","v":{"$error":"#VALUE!"}},{"$f":"SUM($D$41:AA41)","v":{"$error":"#VALUE!"}},{"$f":"SUM($D$41:AB41)","v":{"$error":"#VALUE!"}}]
[null,null,"DOE Aggregate Lifecycle Savings (formerly DOE Carbon proxy)",{"$f":"SUM($D$42:D42)","v":{"$error":"#VALUE!"}},{"$f":"SUM($D$42:E42)","v":{"$error":"#VALUE!"}},{"$f":"SUM($D$42:F42)","v":{"$error":"#VALUE!"}},{"$f":"SUM($D$42:G42)","v":{"$error":"#VALUE!"}},{"$f":"SUM($D$42:H42)","v":{"$error":"#VALUE!"}},{"$f":"SUM($D$42:I42)","v":{"$error":"#VALUE!"}},{"$f":"SUM($D$42:J42)","v":{"$error":"#VALUE!"}},{"$f":"SUM($D$42:K42)","v":{"$error":"#VALUE!"}},{"$f":"SUM($D$42:L42)","v":{"$error":"#VALUE!"}},{"$f":"SUM($D$42:M42)","v":{"$error":"#VALUE!"}},{"$f":"SUM($D$42:N42)","v":{"$error":"#VALUE!"}},{"$f":"SUM($D$42:O42)","v":{"$error":"#VALUE!"}},{"$f":"SUM($D$42:P42)","v":{"$error":"#VALUE!"}},{"$f":"SUM($D$42:Q42)","v":{"$error":"#VALUE!"}},{"$f":"SUM($D$42:R42)","v":{"$error":"#VALUE!"}},{"$f":"SUM($D$42:S42)","v":{"$error":"#VALUE!"}},{"$f":"SUM($D$42:T42)","v":{"$error":"#VALUE!"}},{"$f":"SUM($D$42:U42)","v":{"$error":"#VALUE!"}},{"$f":"SUM($D$42:V42)","v":{"$error":"#VALUE!"}},{"$f":"SUM($D$42:W42)","v":{"$error":"#VALUE!"}},{"$f":"SUM($D$42:X42)","v":{"$error":"#VALUE!"}},{"$f":"SUM($D$42:Y42)","v":{"$error":"#VALUE!"}},{"$f":"SUM($D$42:Z42)","v":{"$error":"#VALUE!"}},{"$f":"SUM($D$42:AA42)","v":{"$error":"#VALUE!"}},{"$f":"SUM($D$42:AB42)","v":{"$error":"#VALUE!"}}]
[null,null,"Check",null,{"$f":"ROUND(E42-D42-E41,3)","v":{"$error":"#VALUE!"}},{"$error":"#VALUE!"},{"$error":"#VALUE!"},{"$error":"#VALUE!"},{"$error":"#VALUE!"},{"$error":"#VALUE!"},{"$error":"#VALUE!"},{"$error":"#VALUE!"},{"$error":"#VALUE!"},{"$error":"#VALUE!"},{"$error":"#VALUE!"},{"$error":"#VALUE!"},{"$error":"#VALUE!"},{"$error":"#VALUE!"},{"$error":"#VALUE!"},{"$error":"#VALUE!"},{"$error":"#VALUE!"},{"$error":"#VALUE!"},{"$error":"#VALUE!"},{"$error":"#VALUE!"},{"$error":"#VALUE!"},{"$error":"#VALUE!"},{"$error":"#VALUE!"},{"$error":"#VALUE!"}]
[]
[]
[null,null,"COMPONENTS"]
[null,null,"Building Type "]
[null,null,{"$f":"C9","v":"TOTAL"},"Dropdown "]
[]
[null,null,"Unit Energy Consumption (kWh/year) ",{"$f":"D11","v":2010},{"$f":"D51+1","v":2011},{"$f":"E51+1","v":2012},{"$f":"F51+1","v":2013},{"$f":"G51+1","v":2014},{"$f":"H51+1","v":2015},{"$f":"I51+1","v":2016},{"$f":"J51+1","v":2017},{"$f":"K51+1","v":2018},{"$f":"L51+1","v":2019},{"$f":"M51+1","v":2020},{"$f":"N51+1","v":2021},{"$f":"O51+1","v":2022},{"$f":"P51+1","v":2023},{"$f":"Q51+1","v":2024},{"$f":"R51+1","v":2025},{"$f":"S51+1","v":2026},{"$f":"T51+1","v":2027},{"$f":"U51+1","v":2028},{"$f":"V51+1","v":2029},{"$f":"W51+1","v":2030},{"$f":"X51+1","v":2031},{"$f":"Y51+1","v":2032},{"$f":"Z51+1","v":2033},{"$f":"AA51+1","v":2034}]
[null,null,"6P Pre-case Shipment UEC",{"$f":"D53","v":2032.1654471322297},2032.1654471322299,2032.1654471322299,2032.1654471322299,2032.372798964966,2032.3902787370362,2032.9397947834796,2034.2249582646245,2035.8805823280049,2037.4043765490374,2038.613738570346,2039.5266158391603,2040.2713783423826,2040.8095693590556,2041.0178550994588,2041.2303425249065,2041.559345783804,2041.9900513596315,2042.4478518112812,2042.9425932346517,2043.4465014358548,2043.9254809353083,2044.4420510056989,2044.9504043670197,2045.3833001975415]
[null,null,"Market UEC (Shipment Weighted Average) - PRE-Case UEC",{"$f":"OFFSET(UEC!$C39,0,MATCH(D$11,UEC!$D$10:$AV$10,0))","v":2032.1654471322297},{"$f":"OFFSET(UEC!$C39,0,MATCH(E$11,UEC!$D$10:$AV$10,0))","v":2032.1654471322299},{"$f":"OFFSET(UEC!$C39,0,MATCH(F$11,UEC!$D$10:$AV$10,0))","v":2032.1654471322299},{"$f":"OFFSET(UEC!$C39,0,MATCH(G$11,UEC!$D$10:$AV$10,0))","v":2032.1654471322299},{"$f":"OFFSET(UEC!$C39,0,MATCH(H$11,UEC!$D$10:$AV$10,0))","v":2032.372798964966},{"$f":"OFFSET(UEC!$C39,0,MATCH(I$11,UEC!$D$10:$AV$10,0))","v":2032.3902787370362},{"$f":"OFFSET(UEC!$C39,0,MATCH(J$11,UEC!$D$10:$AV$10,0))","v":2032.9397947834796},{"$f":"OFFSET(UEC!$C39,0,MATCH(K$11,UEC!$D$10:$AV$10,0))","v":2034.2249582646245},{"$f":"OFFSET(UEC!$C39,0,MATCH(L$11,UEC!$D$10:$AV$10,0))","v":2035.8805823280049},{"$f":"OFFSET(UEC!$C39,0,MATCH(M$11,UEC!$D$10:$AV$10,0))","v":2037.4043765490374},{"$f":"OFFSET(UEC!$C39,0,MATCH(N$11,UEC!$D$10:$AV$10,0))","v":2038.613738570346},{"$f":"OFFSET(UEC!$C39,0,MATCH(O$11,UEC!$D$10:$AV$10,0))","v":2039.5266158391603},{"$f":"OFFSET(UEC!$C39,0,MATCH(P$11,UEC!$D$10:$AV$10,0))","v":2040.2713783423826},{"$f":"OFFSET(UEC!$C39,0,MATCH(Q$11,UEC!$D$10:$AV$10,0))","v":2040.8095693590556},{"$f":"OFFSET(UEC!$C39,0,MATCH(R$11,UEC!$D$10:$AV$10,0))","v":2041.0178550994588},{"$f":"OFFSET(UEC!$C39,0,MATCH(S$11,UEC!$D$10:$AV$10,0))","v":2041.2303425249065},{"$f":"OFFSET(UEC!$C39,0,MATCH(T$11,UEC!$D$10:$AV$10,0))","v":2041.559345783804},{"$f":"OFFSET(UEC!$C39,0,MATCH(U$11,UEC!$D$10:$AV$10,0))","v":2041.9900513596315},{"$f":"OFFSET(UEC!$C39,0,MATCH(V$11,UEC!$D$10:$AV$10,0))","v":2042.4478518112812},{"$f":"OFFSET(UEC!$C39,0,MATCH(W$11,UEC!$D$10:$AV$10,0))","v":2042.9425932346517},{"$f":"OFFSET(UEC!$C39,0,MATCH(X$11,UEC!$D$10:$AV$10,0))","v":2043.4465014358548},{"$f":"OFFSET(UEC!$C39,0,MATCH(Y$11,UEC!$D$10:$AV$10,0))","v":2043.9254809353083},{"$f":"OFFSET(UEC!$C39,0,MATCH(Z$11,UEC!$D$10:$AV$10,0))","v":2044.4420510056989},{"$f":"OFFSET(UEC!$C39,0,MATCH(AA$11,UEC!$D$10:$AV$10,0))","v":2044.9504043670197},{"$f":"OFFSET(UEC!$C39,0,MATCH(AB$11,UEC!$D$10:$AV$10,0))","v":2045.3833001975415}]
[null,null,"Market UEC (Shipment Weighted Average) - POST-Case UEC",{"$f":"OFFSET(UEC!$C40,0,MATCH(D$11,UEC!$D$10:$AV$10,0))","v":2032.1654471322297},{"$f":"OFFSET(UEC!$C40,0,MATCH(E$11,UEC!$D$10:$AV$10,0))","v":2032.1654471322299},{"$f":"OFFSET(UEC!$C40,0,MATCH(F$11,UEC!$D$10:$AV$10,0))","v":2032.1654471322299},{"$f":"OFFSET(UEC!$C40,0,MATCH(G$11,UEC!$D$10:$AV$10,0))","v":2032.1654471322299},{"$f":"OFFSET(UEC!$C40,0,MATCH(H$11,UEC!$D$10:$AV$10,0))","v":2032.372798964966},{"$f":"OFFSET(UEC!$C40,0,MATCH(I$11,UEC!$D$10:$AV$10,0))","v":2032.3902787370362},{"$f":"OFFSET(UEC!$C40,0,MATCH(J$11,UEC!$D$10:$AV$10,0))","v":2032.9397947834796},{"$f":"OFFSET(UEC!$C40,0,MATCH(K$11,UEC!$D$10:$AV$10,0))","v":1765.393530415776},{"$f":"OFFSET(UEC!$C40,0,MATCH(L$11,UEC!$D$10:$AV$10,0))","v":1767.9012457986591},{"$f":"OFFSET(UEC!$C40,0,MATCH(M$11,UEC!$D$10:$AV$10,0))","v":1770.2495181601039},{"$f":"OFFSET(UEC!$C40,0,MATCH(N$11,UEC!$D$10:$AV$10,0))","v":1772.0572288248659},{"$f":"OFFSET(UEC!$C40,0,MATCH(O$11,UEC!$D$10:$AV$10,0))","v":1773.3986465073235},{"$f":"OFFSET(UEC!$C40,0,MATCH(P$11,UEC!$D$10:$AV$10,0))","v":1774.4276031285044},{"$f":"OFFSET(UEC!$C40,0,MATCH(Q$11,UEC!$D$10:$AV$10,0))","v":1775.0988733831755},{"$f":"OFFSET(UEC!$C40,0,MATCH(R$11,UEC!$D$10:$AV$10,0))","v":1775.2647866871466},{"$f":"OFFSET(UEC!$C40,0,MATCH(S$11,UEC!$D$10:$AV$10,0))","v":1775.4660438062263},{"$f":"OFFSET(UEC!$C40,0,MATCH(T$11,UEC!$D$10:$AV$10,0))","v":1775.86521411172},{"$f":"OFFSET(UEC!$C40,0,MATCH(U$11,UEC!$D$10:$AV$10,0))","v":1776.4566271108524},{"$f":"OFFSET(UEC!$C40,0,MATCH(V$11,UEC!$D$10:$AV$10,0))","v":1777.1182681479661},{"$f":"OFFSET(UEC!$C40,0,MATCH(W$11,UEC!$D$10:$AV$10,0))","v":1777.854097522689},{"$f":"OFFSET(UEC!$C40,0,MATCH(X$11,UEC!$D$10:$AV$10,0))","v":1778.6016369045285},{"$f":"OFFSET(UEC!$C40,0,MATCH(Y$11,UEC!$D$10:$AV$10,0))","v":1779.3127574575449},{"$f":"OFFSET(UEC!$C40,0,MATCH(Z$11,UEC!$D$10:$AV$10,0))","v":1780.0944665630686},{"$f":"OFFSET(UEC!$C40,0,MATCH(AA$11,UEC!$D$10:$AV$10,0))","v":1780.8370104224521},{"$f":"OFFSET(UEC!$C40,0,MATCH(AB$11,UEC!$D$10:$AV$10,0))","v":1781.4491126419975}]
[null,null,"Installed UEC (Vintage Weighted Average)  - PRE-Case UEC",{"$f":"OFFSET(UEC!$C45,0,MATCH(D$11,UEC!$D$10:$AV$10,0))","v":{"$error":"#VALUE!"}},{"$f":"OFFSET(UEC!$C45,0,MATCH(E$11,UEC!$D$10:$AV$10,0))","v":{"$error":"#VALUE!"}},{"$f":"OFFSET(UEC!$C45,0,MATCH(F$11,UEC!$D$10:$AV$10,0))","v":{"$error":"#VALUE!"}},{"$f":"OFFSET(UEC!$C45,0,MATCH(G$11,UEC!$D$10:$AV$10,0))","v":{"$error":"#VALUE!"}},{"$f":"OFFSET(UEC!$C45,0,MATCH(H$11,UEC!$D$10:$AV$10,0))","v":{"$error":"#VALUE!"}},{"$f":"OFFSET(UEC!$C45,0,MATCH(I$11,UEC!$D$10:$AV$10,0))","v":{"$error":"#VALUE!"}},{"$f":"OFFSET(UEC!$C45,0,MATCH(J$11,UEC!$D$10:$AV$10,0))","v":{"$error":"#VALUE!"}},{"$f":"OFFSET(UEC!$C45,0,MATCH(K$11,UEC!$D$10:$AV$10,0))","v":{"$error":"#VALUE!"}},{"$f":"OFFSET(UEC!$C45,0,MATCH(L$11,UEC!$D$10:$AV$10,0))","v":{"$error":"#VALUE!"}},{"$f":"OFFSET(UEC!$C45,0,MATCH(M$11,UEC!$D$10:$AV$10,0))","v":{"$error":"#VALUE!"}},{"$f":"OFFSET(UEC!$C45,0,MATCH(N$11,UEC!$D$10:$AV$10,0))","v":{"$error":"#VALUE!"}},{"$f":"OFFSET(UEC!$C45,0,MATCH(O$11,UEC!$D$10:$AV$10,0))","v":{"$error":"#VALUE!"}},{"$f":"OFFSET(UEC!$C45,0,MATCH(P$11,UEC!$D$10:$AV$10,0))","v":{"$error":"#VALUE!"}},{"$f":"OFFSET(UEC!$C45,0,MATCH(Q$11,UEC!$D$10:$AV$10,0))","v":{"$error":"#VALUE!"}},{"$f":"OFFSET(UEC!$C45,0,MATCH(R$11,UEC!$D$10:$AV$10,0))","v":{"$error":"#VALUE!"}},{"$f":"OFFSET(UEC!$C45,0,MATCH(S$11,UEC!$D$10:$AV$10,0))","v":{"$error":"#VALUE!"}},{"$f":"OFFSET(UEC!$C45,0,MATCH(T$11,UEC!$D$10:$AV$10,0))","v":{"$error":"#VALUE!"}},{"$f":"OFFSET(UEC!$C45,0,MATCH(U$11,UEC!$D$10:$AV$10,0))","v":{"$error":"#VALUE!"}},{"$f":"OFFSET(UEC!$C45,0,MATCH(V$11,UEC!$D$10:$AV$10,0))","v":{"$error":"#VALUE!"}},{"$f":"OFFSET(UEC!$C45,0,MATCH(W$11,UEC!$D$10:$AV$10,0))","v":{"$error":"#VALUE!"}},{"$f":"OFFSET(UEC!$C45,0,MATCH(X$11,UEC!$D$10:$AV$10,0))","v":{"$error":"#VALUE!"}},{"$f":"OFFSET(UEC!$C45,0,MATCH(Y$11,UEC!$D$10:$AV$10,0))","v":{"$error":"#VALUE!"}},{"$f":"OFFSET(UEC!$C45,0,MATCH(Z$11,UEC!$D$10:$AV$10,0))","v":{"$error":"#VALUE!"}},{"$f":"OFFSET(UEC!$C45,0,MATCH(AA$11,UEC!$D$10:$AV$10,0))","v":{"$error":"#VALUE!"}},{"$f":"OFFSET(UEC!$C45,0,MATCH(AB$11,UEC!$D$10:$AV$10,0))","v":{"$error":"#VALUE!"}}]
[null,null,"Installed UEC (Vintage Weighted Average)  - POST-Case UEC",{"$f":"OFFSET(UEC!$C46,0,MATCH(D$11,UEC!$D$10:$AV$10,0))","v":{"$error":"#VALUE!"}},{"$f":"OFFSET(UEC!$C46,0,MATCH(E$11,UEC!$D$10:$AV$10,0))","v":{"$error":"#VALUE!"}},{"$f":"OFFSET(UEC!$C46,0,MATCH(F$11,UEC!$D$10:$AV$10,0))","v":{"$error":"#VALUE!"}},{"$f":"OFFSET(UEC!$C46,0,MATCH(G$11,UEC!$D$10:$AV$10,0))","v":{"$error":"#VALUE!"}},{"$f":"OFFSET(UEC!$C46,0,MATCH(H$11,UEC!$D$10:$AV$10,0))","v":{"$error":"#VALUE!"}},{"$f":"OFFSET(UEC!$C46,0,MATCH(I$11,UEC!$D$10:$AV$10,0))","v":{"$error":"#VALUE!"}},{"$f":"OFFSET(UEC!$C46,0,MATCH(J$11,UEC!$D$10:$AV$10,0))","v":{"$error":"#VALUE!"}},{"$f":"OFFSET(UEC!$C46,0,MATCH(K$11,UEC!$D$10:$AV$10,0))","v":{"$error":"#VALUE!"}},{"$f":"OFFSET(UEC!$C46,0,MATCH(L$11,UEC!$D$10:$AV$10,0))","v":{"$error":"#VALUE!"}},{"$f":"OFFSET(UEC!$C46,0,MATCH(M$11,UEC!$D$10:$AV$10,0))","v":{"$error":"#VALUE!"}},{"$f":"OFFSET(UEC!$C46,0,MATCH(N$11,UEC!$D$10:$AV$10,0))","v":{"$error":"#VALUE!"}},{"$f":"OFFSET(UEC!$C46,0,MATCH(O$11,UEC!$D$10:$AV$10,0))","v":{"$error":"#VALUE!"}},{"$f":"OFFSET(UEC!$C46,0,MATCH(P$11,UEC!$D$10:$AV$10,0))","v":{"$error":"#VALUE!"}},{"$f":"OFFSET(UEC!$C46,0,MATCH(Q$11,UEC!$D$10:$AV$10,0))","v":{"$error":"#VALUE!"}},{"$f":"OFFSET(UEC!$C46,0,MATCH(R$11,UEC!$D$10:$AV$10,0))","v":{"$error":"#VALUE!"}},{"$f":"OFFSET(UEC!$C46,0,MATCH(S$11,UEC!$D$10:$AV$10,0))","v":{"$error":"#VALUE!"}},{"$f":"OFFSET(UEC!$C46,0,MATCH(T$11,UEC!$D$10:$AV$10,0))","v":{"$error":"#VALUE!"}},{"$f":"OFFSET(UEC!$C46,0,MATCH(U$11,UEC!$D$10:$AV$10,0))","v":{"$error":"#VALUE!"}},{"$f":"OFFSET(UEC!$C46,0,MATCH(V$11,UEC!$D$10:$AV$10,0))","v":{"$error":"#VALUE!"}},{"$f":"OFFSET(UEC!$C46,0,MATCH(W$11,UEC!$D$10:$AV$10,0))","v":{"$error":"#VALUE!"}},{"$f":"OFFSET(UEC!$C46,0,MATCH(X$11,UEC!$D$10:$AV$10,0))","v":{"$error":"#VALUE!"}},{"$f":"OFFSET(UEC!$C46,0,MATCH(Y$11,UEC!$D$10:$AV$10,0))","v":{"$error":"#VALUE!"}},{"$f":"OFFSET(UEC!$C46,0,MATCH(Z$11,UEC!$D$10:$AV$10,0))","v":{"$error":"#VALUE!"}},{"$f":"OFFSET(UEC!$C46,0,MATCH(AA$11,UEC!$D$10:$AV$10,0))","v":{"$error":"#VALUE!"}},{"$f":"OFFSET(UEC!$C46,0,MATCH(AB$11,UEC!$D$10:$AV$10,0))","v":{"$error":"#VALUE!"}}]
[]
[null,null,"Stock and Shipments",{"$f":"D11","v":2010},{"$f":"D58+1","v":2011},{"$f":"E58+1","v":2012},{"$f":"F58+1","v":2013},{"$f":"G58+1","v":2014},{"$f":"H58+1","v":2015},{"$f":"I58+1","v":2016},{"$f":"J58+1","v":2017},{"$f":"K58+1","v":2018},{"$f":"L58+1","v":2019},{"$f":"M58+1","v":2020},{"$f":"N58+1","v":2021},{"$f":"O58+1","v":2022},{"$f":"P58+1","v":2023},{"$f":"Q58+1","v":2024},{"$f":"R58+1","v":2025},{"$f":"S58+1","v":2026},{"$f":"T58+1","v":2027},{"$f":"U58+1","v":2028},{"$f":"V58+1","v":2029},{"$f":"W58+1","v":2030},{"$f":"X58+1","v":2031},{"$f":"Y58+1","v":2032},{"$f":"Z58+1","v":2033},{"$f":"AA58+1","v":2034}]
[null,null,"6P Shipments",{"$f":"D62","v":{"$error":"#VALUE!"}},{"$error":"#VALUE!"},{"$error":"#VALUE!"},{"$error":"#VALUE!"},{"$error":"#VALUE!"},{"$error":"#VALUE!"},{"$error":"#VALUE!"},{"$error":"#VALUE!"},{"$error":"#VALUE!"},{"$error":"#VALUE!"},{"$error":"#VALUE!"},{"$error":"#VALUE!"},{"$error":"#VALUE!"},{"$error":"#VALUE!"},{"$error":"#VALUE!"},{"$error":"#VALUE!"},{"$error":"#VALUE!"},{"$error":"#VALUE!"},{"$error":"#VALUE!"},{"$error":"#VALUE!"},{"$error":"#VALUE!"},{"$error":"#VALUE!"},{"$error":"#VALUE!"},{"$error":"#VALUE!"},{"$error":"#VALUE!"}]
[null,null,"Replacement Shipments",{"$f":"'Shipments and Stock - Component'!AB15","v":{"$error":"#VALUE!"}},{"$f":"'Shipments and Stock - Component'!AC15","v":{"$error":"#VALUE!"}},{"$f":"'Shipments and Stock - Component'!AD15","v":{"$error":"#VALUE!"}},{"$f":"'Shipments and Stock - Component'!AE15","v":{"$error":"#VALUE!"}},{"$f":"'Shipments and Stock - Component'!AF15","v":{"$error":"#VALUE!"}},{"$f":"'Shipments and Stock - Component'!AG15","v":{"$error":"#VALUE!"}},{"$f":"'Shipments and Stock - Component'!AH15","v":{"$error":"#VALUE!"}},{"$f":"'Shipments and Stock - Component'!AI15","v":{"$error":"#VALUE!"}},{"$f":"'Shipments and Stock - Component'!AJ15","v":{"$error":"#VALUE!"}},{"$f":"'Shipments and Stock - Component'!AK15","v":{"$error":"#VALUE!"}},{"$f":"'Shipments and Stock - Component'!AL15","v":{"$error":"#VALUE!"}},{"$f":"'Shipments and Stock - Component'!AM15","v":{"$error":"#VALUE!"}},{"$f":"'Shipments and Stock - Component'!AN15","v":{"$error":"#VALUE!"}},{"$f":"'Shipments and Stock - Component'!AO15","v":{"$error":"#VALUE!"}},{"$f":"'Shipments and Stock - Component'!AP15","v":{"$error":"#VALUE!"}},{"$f":"'Shipments and Stock - Component'!AQ15","v":{"$error":"#VALUE!"}},{"$f":"'Shipments and Stock - Component'!AR15","v":{"$error":"#VALUE!"}},{"$f":"'Shipments and Stock - Component'!AS15","v":{"$error":"#VALUE!"}},{"$f":"'Shipments and Stock - Component'!AT15","v":{"$error":"#VALUE!"}},{"$f":"'Shipments and Stock - Component'!AU15","v":{"$error":"#VALUE!"}},{"$f":"'Shipments and Stock - Component'!AV15","v":{"$error":"#VALUE!"}},{"$f":"'Shipments and Stock - Component'!AW15","v":{"$error":"#VALUE!"}},{"$f":"'Shipments and Stock - Component'!AX15","v":{"$error":"#VALUE!"}},{"$f":"'Shipments and Stock - Component'!AY15","v":{"$error":"#VALUE!"}},{"$f":"'Shipments and Stock - Component'!AZ15","v":{"$error":"#VALUE!"}}]
[null,null,"Net New Shipments",{"$f":"'Shipments and Stock - Component'!AB16","v":{"$error":"#VALUE!"}},{"$f":"'Shipments and Stock - Component'!AC16","v":{"$error":"#VALUE!"}},{"$f":"'Shipments and Stock - Component'!AD16","v":{"$error":"#VALUE!"}},{"$f":"'Shipments and Stock - Component'!AE16","v":{"$error":"#VALUE!"}},{"$f":"'Shipments and Stock - Component'!AF16","v":{"$error":"#VALUE!"}},{"$f":"'Shipments and Stock - Component'!AG16","v":{"$error":"#VALUE!"}},{"$f":"'Shipments and Stock - Component'!AH16","v":{"$error":"#VALUE!"}},{"$f":"'Shipments and Stock - Component'!AI16","v":{"$error":"#VALUE!"}},{"$f":"'Shipments and Stock - Component'!AJ16","v":{"$error":"#VALUE!"}},{"$f":"'Shipments and Stock - Component'!AK16","v":{"$error":"#VALUE!"}},{"$f":"'Shipments and Stock - Component'!AL16","v":{"$error":"#VALUE!"}},{"$f":"'Shipments and Stock - Component'!AM16","v":{"$error":"#VALUE!"}},{"$f":"'Shipments and Stock - Component'!AN16","v":{"$error":"#VALUE!"}},{"$f":"'Shipments and Stock - Component'!AO16","v":{"$error":"#VALUE!"}},{"$f":"'Shipments and Stock - Component'!AP16","v":{"$error":"#VALUE!"}},{"$f":"'Shipments and Stock - Component'!AQ16","v":{"$error":"#VALUE!"}},{"$f":"'Shipments and Stock - Component'!AR16","v":{"$error":"#VALUE!"}},{"$f":"'Shipments and Stock - Component'!AS16","v":{"$error":"#VALUE!"}},{"$f":"'Shipments and Stock - Component'!AT16","v":{"$error":"#VALUE!"}},{"$f":"'Shipments and Stock - Component'!AU16","v":{"$error":"#VALUE!"}},{"$f":"'Shipments and Stock - Component'!AV16","v":{"$error":"#VALUE!"}},{"$f":"'Shipments and Stock - Component'!AW16","v":{"$error":"#VALUE!"}},{"$f":"'Shipments and Stock - Component'!AX16","v":{"$error":"#VALUE!"}},{"$f":"'Shipments and Stock - Component'!AY16","v":{"$error":"#VALUE!"}},{"$f":"'Shipments and Stock - Component'!AZ16","v":{"$error":"#VALUE!"}}]
[null,null,"Total Model Shipments",{"$f":"'Shipments and Stock - Component'!AB17","v":{"$error":"#VALUE!"}},{"$f":"'Shipments and Stock - Component'!AC17","v":{"$error":"#VALUE!"}},{"$f":"'Shipments and Stock - Component'!AD17","v":{"$error":"#VALUE!"}},{"$f":"'Shipments and Stock - Component'!AE17","v":{"$error":"#VALUE!"}},{"$f":"'Shipments and Stock - Component'!AF17","v":{"$error":"#VALUE!"}},{"$f":"'Shipments and Stock - Component'!AG17","v":{"$error":"#VALUE!"}},{"$f":"'Shipments and Stock - Component'!AH17","v":{"$error":"#VALUE!"}},{"$f":"'Shipments and Stock - Component'!AI17","v":{"$error":"#VALUE!"}},{"$f":"'Shipments and Stock - Component'!AJ17","v":{"$error":"#VALUE!"}},{"$f":"'Shipments and Stock - Component'!AK17","v":{"$error":"#VALUE!"}},{"$f":"'Shipments and Stock - Component'!AL17","v":{"$error":"#VALUE!"}},{"$f":"'Shipments and Stock - Component'!AM17","v":{"$error":"#VALUE!"}},{"$f":"'Shipments and Stock - Component'!AN17","v":{"$error":"#VALUE!"}},{"$f":"'Shipments and Stock - Component'!AO17","v":{"$error":"#VALUE!"}},{"$f":"'Shipments and Stock - Component'!AP17","v":{"$error":"#VALUE!"}},{"$f":"'Shipments and Stock - Component'!AQ17","v":{"$error":"#VALUE!"}},{"$f":"'Shipments and Stock - Component'!AR17","v":{"$error":"#VALUE!"}},{"$f":"'Shipments and Stock - Component'!AS17","v":{"$error":"#VALUE!"}},{"$f":"'Shipments and Stock - Component'!AT17","v":{"$error":"#VALUE!"}},{"$f":"'Shipments and Stock - Component'!AU17","v":{"$error":"#VALUE!"}},{"$f":"'Shipments and Stock - Component'!AV17","v":{"$error":"#VALUE!"}},{"$f":"'Shipments and Stock - Component'!AW17","v":{"$error":"#VALUE!"}},{"$f":"'Shipments and Stock - Component'!AX17","v":{"$error":"#VALUE!"}},{"$f":"'Shipments and Stock - Component'!AY17","v":{"$error":"#VALUE!"}},{"$f":"'Shipments and Stock - Component'!AZ17","v":{"$error":"#VALUE!"}}]
[null,null,"Model Installed Stock",{"$f":"'Shipments and Stock - Component'!AB18","v":{"$error":"#VALUE!"}},{"$f":"'Shipments and Stock - Component'!AC18","v":{"$error":"#VALUE!"}},{"$f":"'Shipments and Stock - Component'!AD18","v":{"$error":"#VALUE!"}},{"$f":"'Shipments and Stock - Component'!AE18","v":{"$error":"#VALUE!"}},{"$f":"'Shipments and Stock - Component'!AF18","v":{"$error":"#VALUE!"}},{"$f":"'Shipments and Stock - Component'!AG18","v":{"$error":"#VALUE!"}},{"$f":"'Shipments and Stock - Component'!AH18","v":{"$error":"#VALUE!"}},{"$f":"'Shipments and Stock - Component'!AI18","v":{"$error":"#VALUE!"}},{"$f":"'Shipments and Stock - Component'!AJ18","v":{"$error":"#VALUE!"}},{"$f":"'Shipments and Stock - Component'!AK18","v":{"$error":"#VALUE!"}},{"$f":"'Shipments and Stock - Component'!AL18","v":{"$error":"#VALUE!"}},{"$f":"'Shipments and Stock - Component'!AM18","v":{"$error":"#VALUE!"}},{"$f":"'Shipments and Stock - Component'!AN18","v":{"$error":"#VALUE!"}},{"$f":"'Shipments and Stock - Component'!AO18","v":{"$error":"#VALUE!"}},{"$f":"'Shipments and Stock - Component'!AP18","v":{"$error":"#VALUE!"}},{"$f":"'Shipments and Stock - Component'!AQ18","v":{"$error":"#VALUE!"}},{"$f":"'Shipments and Stock - Component'!AR18","v":{"$error":"#VALUE!"}},{"$f":"'Shipments and Stock - Component'!AS18","v":{"$error":"#VALUE!"}},{"$f":"'Shipments and Stock - Component'!AT18","v":{"$error":"#VALUE!"}},{"$f":"'Shipments and Stock - Component'!AU18","v":{"$error":"#VALUE!"}},{"$f":"'Shipments and Stock - Component'!AV18","v":{"$error":"#VALUE!"}},{"$f":"'Shipments and Stock - Component'!AW18","v":{"$error":"#VALUE!"}},{"$f":"'Shipments and Stock - Component'!AX18","v":{"$error":"#VALUE!"}},{"$f":"'Shipments and Stock - Component'!AY18","v":{"$error":"#VALUE!"}},{"$f":"'Shipments and Stock - Component'!AZ18","v":{"$error":"#VALUE!"}}]
[]
[null,null,"First Year Energy Consumption ",{"$f":"D11","v":2010},{"$f":"D65+1","v":2011},{"$f":"E65+1","v":2012},{"$f":"F65+1","v":2013},{"$f":"G65+1","v":2014},{"$f":"H65+1","v":2015},{"$f":"I65+1","v":2016},{"$f":"J65+1","v":2017},{"$f":"K65+1","v":2018},{"$f":"L65+1","v":2019},{"$f":"M65+1","v":2020},{"$f":"N65+1","v":2021},{"$f":"O65+1","v":2022},{"$f":"P65+1","v":2023},{"$f":"Q65+1","v":2024},{"$f":"R65+1","v":2025},{"$f":"S65+1","v":2026},{"$f":"T65+1","v":2027},{"$f":"U65+1","v":2028},{"$f":"V65+1","v":2029},{"$f":"W65+1","v":2030},{"$f":"X65+1","v":2031},{"$f":"Y65+1","v":2032},{"$f":"Z65+1","v":2033},{"$f":"AA65+1","v":2034}]
[null,null,"6P Shipments * 6P UEC",{"$f":"D67","v":{"$error":"#VALUE!"}},{"$error":"#VALUE!"},{"$error":"#VALUE!"},{"$error":"#VALUE!"},{"$error":"#VALUE!"},{"$error":"#VALUE!"},{"$error":"#VALUE!"},{"$error":"#VALUE!"},{"$error":"#VALUE!"},{"$error":"#VALUE!"},{"$error":"#VALUE!"},{"$error":"#VALUE!"},{"$error":"#VALUE!"},{"$error":"#VALUE!"},{"$error":"#VALUE!"},{"$error":"#VALUE!"},{"$error":"#VALUE!"},{"$error":"#VALUE!"},{"$error":"#VALUE!"},{"$error":"#VALUE!"},{"$error":"#VALUE!"},{"$error":"#VALUE!"},{"$error":"#VALUE!"},{"$error":"#VALUE!"},{"$error":"#VALUE!"}]
[null,null,"Model Shipments * Model Pre-Case UEC",{"$f":"D53*D62","v":{"$error":"#VALUE!"}},{"$f":"E53*E62","v":{"$error":"#VALUE!"}},{"$error":"#VALUE!"},{"$error":"#VALUE!"},{"$error":"#VALUE!"},{"$error":"#VALUE!"},{"$error":"#VALUE!"},{"$error":"#VALUE!"},{"$error":"#VALUE!"},{"$error":"#VALUE!"},{"$error":"#VALUE!"},{"$error":"#VALUE!"},{"$error":"#VALUE!"},{"$error":"#VALUE!"},{"$error":"#VALUE!"},{"$error":"#VALUE!"},{"$error":"#VALUE!"},{"$error":"#VALUE!"},{"$error":"#VALUE!"},{"$error":"#VALUE!"},{"$error":"#VALUE!"},{"$error":"#VALUE!"},{"$error":"#VALUE!"},{"$error":"#VALUE!"},{"$error":"#VALUE!"}]
[null,null,"Model Shipments * Model Post-Case UEC",{"$f":"D54*D62","v":{"$error":"#VALUE!"}},{"$f":"E54*E62","v":{"$error":"#VALUE!"}},{"$error":"#VALUE!"},{"$error":"#VALUE!"},{"$error":"#VALUE!"},{"$error":"#VALUE!"},{"$error":"#VALUE!"},{"$error":"#VALUE!"},{"$error":"#VALUE!"},{"$error":"#VALUE!"},{"$error":"#VALUE!"},{"$error":"#VALUE!"},{"$error":"#VALUE!"},{"$error":"#VALUE!"},{"$error":"#VALUE!"},{"$error":"#VALUE!"},{"$error":"#VALUE!"},{"$error":"#VALUE!"},{"$error":"#VALUE!"},{"$error":"#VALUE!"},{"$error":"#VALUE!"},{"$error":"#VALUE!"},{"$error":"#VALUE!"},{"$error":"#VALUE!"},{"$error":"#VALUE!"}]
[]
[null,null,"Total Energy Consumption (kWh)",{"$f":"D11","v":2010},{"$f":"D70+1","v":2011},{"$f":"E70+1","v":2012},{"$f":"F70+1","v":2013},{"$f":"G70+1","v":2014},{"$f":"H70+1","v":2015},{"$f":"I70+1","v":2016},{"$f":"J70+1","v":2017},{"$f":"K70+1","v":2018},{"$f":"L70+1","v":2019},{"$f":"M70+1","v":2020},{"$f":"N70+1","v":2021},{"$f":"O70+1","v":2022},{"$f":"P70+1","v":2023},{"$f":"Q70+1","v":2024},{"$f":"R70+1","v":2025},{"$f":"S70+1","v":2026},{"$f":"T70+1","v":2027},{"$f":"U70+1","v":2028},{"$f":"V70+1","v":2029},{"$f":"W70+1","v":2030},{"$f":"X70+1","v":2031},{"$f":"Y70+1","v":2032},{"$f":"Z70+1","v":2033},{"$f":"AA70+1","v":2034}]
[null,null,"Modeled Pre-case Consumption \n(Installed UEC * Stock)",{"$f":"D55*D63","v":{"$error":"#VALUE!"}},{"$error":"#VALUE!"},{"$error":"#VALUE!"},{"$error":"#VALUE!"},{"$error":"#VALUE!"},{"$error":"#VALUE!"},{"$error":"#VALUE!"},{"$error":"#VALUE!"},{"$error":"#VALUE!"},{"$error":"#VALUE!"},{"$error":"#VALUE!"},{"$error":"#VALUE!"},{"$error":"#VALUE!"},{"$error":"#VALUE!"},{"$error":"#VALUE!"},{"$error":"#VALUE!"},{"$error":"#VALUE!"},{"$error":"#VALUE!"},{"$error":"#VALUE!"},{"$error":"#VALUE!"},{"$error":"#VALUE!"},{"$error":"#VALUE!"},{"$error":"#VALUE!"},{"$error":"#VALUE!"},{"$error":"#VALUE!"}]
[null,null,"Modeled Post-case Consumption \n(Installed UEC* Stock)",{"$f":"D56*D63","v":{"$error":"#VALUE!"}},{"$error":"#VALUE!"},{"$error":"#VALUE!"},{"$error":"#VALUE!"},{"$error":"#VALUE!"},{"$error":"#VALUE!"},{"$error":"#VALUE!"},{"$error":"#VALUE!"},{"$error":"#VALUE!"},{"$error":"#VALUE!"},{"$error":"#VALUE!"},{"$error":"#VALUE!"},{"$error":"#VALUE!"},{"$error":"#VALUE!"},{"$error":"#VALUE!"},{"$error":"#VALUE!"},{"$error":"#VALUE!"},{"$error":"#VALUE!"},{"$error":"#VALUE!"},{"$error":"#VALUE!"},{"$error":"#VALUE!"},{"$error":"#VALUE!"},{"$error":"#VALUE!"},{"$error":"#VALUE!"},{"$error":"#VALUE!"}]
[]
[]
[null,null,"COMPONENTS"]
[null,null,"Total Energy Consumption (aMW)",{"$f":"D11","v":2010},{"$f":"D76+1","v":2011},{"$f":"E76+1","v":2012},{"$f":"F76+1","v":2013},{"$f":"G76+1","v":2014},{"$f":"H76+1","v":2015},{"$f":"I76+1","v":2016},{"$f":"J76+1","v":2017},{"$f":"K76+1","v":2018},{"$f":"L76+1","v":2019},{"$f":"M76+1","v":2020},{"$f":"N76+1","v":2021},{"$f":"O76+1","v":2022},{"$f":"P76+1","v":2023},{"$f":"Q76+1","v":2024},{"$f":"R76+1","v":2025},{"$f":"S76+1","v":2026},{"$f":"T76+1","v":2027},{"$f":"U76+1","v":2028},{"$f":"V76+1","v":2029},{"$f":"W76+1","v":2030},{"$f":"X76+1","v":2031},{"$f":"Y76+1","v":2032},{"$f":"Z76+1","v":2033},{"$f":"AA76+1","v":2034}]
[null,null,{"$f":"C71","v":"Modeled Pre-case Consumption \n(Installed UEC * Stock)"},{"$f":"D71/'Constants and Menus'!$D$13/('Constants and Menus'!$D$12*'Constants and Menus'!$D$10)","v":{"$error":"#VALUE!"}},{"$f":"E71/'Constants and Menus'!$D$13/('Constants and Menus'!$D$12*'Constants and Menus'!$D$10)","v":{"$error":"#VALUE!"}},{"$f":"F71/'Constants and Menus'!$D$13/('Constants and Menus'!$D$12*'Constants and Menus'!$D$10)","v":{"$error":"#VALUE!"}},{"$f":"G71/'Constants and Menus'!$D$13/('Constants and Menus'!$D$12*'Constants and Menus'!$D$10)","v":{"$error":"#VALUE!"}},{"$f":"H71/'Constants and Menus'!$D$13/('Constants and Menus'!$D$12*'Constants and Menus'!$D$10)","v":{"$error":"#VALUE!"}},{"$f":"I71/'Constants and Menus'!$D$13/('Constants and Menus'!$D$12*'Constants and Menus'!$D$10)","v":{"$error":"#VALUE!"}},{"$f":"J71/'Constants and Menus'!$D$13/('Constants and Menus'!$D$12*'Constants and Menus'!$D$10)","v":{"$error":"#VALUE!"}},{"$f":"K71/'Constants and Menus'!$D$13/('Constants and Menus'!$D$12*'Constants and Menus'!$D$10)","v":{"$error":"#VALUE!"}},{"$f":"L71/'Constants and Menus'!$D$13/('Constants and Menus'!$D$12*'Constants and Menus'!$D$10)","v":{"$error":"#VALUE!"}},{"$f":"M71/'Constants and Menus'!$D$13/('Constants and Menus'!$D$12*'Constants and Menus'!$D$10)","v":{"$error":"#VALUE!"}},{"$f":"N71/'Constants and Menus'!$D$13/('Constants and Menus'!$D$12*'Constants and Menus'!$D$10)","v":{"$error":"#VALUE!"}},{"$f":"O71/'Constants and Menus'!$D$13/('Constants and Menus'!$D$12*'Constants and Menus'!$D$10)","v":{"$error":"#VALUE!"}},{"$f":"P71/'Constants and Menus'!$D$13/('Constants and Menus'!$D$12*'Constants and Menus'!$D$10)","v":{"$error":"#VALUE!"}},{"$f":"Q71/'Constants and Menus'!$D$13/('Constants and Menus'!$D$12*'Constants and Menus'!$D$10)","v":{"$error":"#VALUE!"}},{"$f":"R71/'Constants and Menus'!$D$13/('Constants and Menus'!$D$12*'Constants and Menus'!$D$10)","v":{"$error":"#VALUE!"}},{"$f":"S71/'Constants and Menus'!$D$13/('Constants and Menus'!$D$12*'Constants and Menus'!$D$10)","v":{"$error":"#VALUE!"}},{"$f":"T71/'Constants and Menus'!$D$13/('Constants and Menus'!$D$12*'Constants and Menus'!$D$10)","v":{"$error":"#VALUE!"}},{"$f":"U71/'Constants and Menus'!$D$13/('Constants and Menus'!$D$12*'Constants and Menus'!$D$10)","v":{"$error":"#VALUE!"}},{"$f":"V71/'Constants and Menus'!$D$13/('Constants and Menus'!$D$12*'Constants and Menus'!$D$10)","v":{"$error":"#VALUE!"}},{"$f":"W71/'Constants and Menus'!$D$13/('Constants and Menus'!$D$12*'Constants and Menus'!$D$10)","v":{"$error":"#VALUE!"}},{"$f":"X71/'Constants and Menus'!$D$13/('Constants and Menus'!$D$12*'Constants and Menus'!$D$10)","v":{"$error":"#VALUE!"}},{"$f":"Y71/'Constants and Menus'!$D$13/('Constants and Menus'!$D$12*'Constants and Menus'!$D$10)","v":{"$error":"#VALUE!"}},{"$f":"Z71/'Constants and Menus'!$D$13/('Constants and Menus'!$D$12*'Constants and Menus'!$D$10)","v":{"$error":"#VALUE!"}},{"$f":"AA71/'Constants and Menus'!$D$13/('Constants and Menus'!$D$12*'Constants and Menus'!$D$10)","v":{"$error":"#VALUE!"}},{"$f":"AB71/'Constants and Menus'!$D$13/('Constants and Menus'!$D$12*'Constants and Menus'!$D$10)","v":{"$error":"#VALUE!"}}]
[null,null,{"$f":"C72","v":"Modeled Post-case Consumption \n(Installed UEC* Stock)"},{"$f":"D72/'Constants and Menus'!$D$13/('Constants and Menus'!$D$12*'Constants and Menus'!$D$10)","v":{"$error":"#VALUE!"}},{"$f":"E72/'Constants and Menus'!$D$13/('Constants and Menus'!$D$12*'Constants and Menus'!$D$10)","v":{"$error":"#VALUE!"}},{"$f":"F72/'Constants and Menus'!$D$13/('Constants and Menus'!$D$12*'Constants and Menus'!$D$10)","v":{"$error":"#VALUE!"}},{"$f":"G72/'Constants and Menus'!$D$13/('Constants and Menus'!$D$12*'Constants and Menus'!$D$10)","v":{"$error":"#VALUE!"}},{"$f":"H72/'Constants and Menus'!$D$13/('Constants and Menus'!$D$12*'Constants and Menus'!$D$10)","v":{"$error":"#VALUE!"}},{"$f":"I72/'Constants and Menus'!$D$13/('Constants and Menus'!$D$12*'Constants and Menus'!$D$10)","v":{"$error":"#VALUE!"}},{"$f":"J72/'Constants and Menus'!$D$13/('Constants and Menus'!$D$12*'Constants and Menus'!$D$10)","v":{"$error":"#VALUE!"}},{"$f":"K72/'Constants and Menus'!$D$13/('Constants and Menus'!$D$12*'Constants and Menus'!$D$10)","v":{"$error":"#VALUE!"}},{"$f":"L72/'Constants and Menus'!$D$13/('Constants and Menus'!$D$12*'Constants and Menus'!$D$10)","v":{"$error":"#VALUE!"}},{"$f":"M72/'Constants and Menus'!$D$13/('Constants and Menus'!$D$12*'Constants and Menus'!$D$10)","v":{"$error":"#VALUE!"}},{"$f":"N72/'Constants and Menus'!$D$13/('Constants and Menus'!$D$12*'Constants and Menus'!$D$10)","v":{"$error":"#VALUE!"}},{"$f":"O72/'Constants and Menus'!$D$13/('Constants and Menus'!$D$12*'Constants and Menus'!$D$10)","v":{"$error":"#VALUE!"}},{"$f":"P72/'Constants and Menus'!$D$13/('Constants and Menus'!$D$12*'Constants and Menus'!$D$10)","v":{"$error":"#VALUE!"}},{"$f":"Q72/'Constants and Menus'!$D$13/('Constants and Menus'!$D$12*'Constants and Menus'!$D$10)","v":{"$error":"#VALUE!"}},{"$f":"R72/'Constants and Menus'!$D$13/('Constants and Menus'!$D$12*'Constants and Menus'!$D$10)","v":{"$error":"#VALUE!"}},{"$f":"S72/'Constants and Menus'!$D$13/('Constants and Menus'!$D$12*'Constants and Menus'!$D$10)","v":{"$error":"#VALUE!"}},{"$f":"T72/'Constants and Menus'!$D$13/('Constants and Menus'!$D$12*'Constants and Menus'!$D$10)","v":{"$error":"#VALUE!"}},{"$f":"U72/'Constants and Menus'!$D$13/('Constants and Menus'!$D$12*'Constants and Menus'!$D$10)","v":{"$error":"#VALUE!"}},{"$f":"V72/'Constants and Menus'!$D$13/('Constants and Menus'!$D$12*'Constants and Menus'!$D$10)","v":{"$error":"#VALUE!"}},{"$f":"W72/'Constants and Menus'!$D$13/('Constants and Menus'!$D$12*'Constants and Menus'!$D$10)","v":{"$error":"#VALUE!"}},{"$f":"X72/'Constants and Menus'!$D$13/('Constants and Menus'!$D$12*'Constants and Menus'!$D$10)","v":{"$error":"#VALUE!"}},{"$f":"Y72/'Constants and Menus'!$D$13/('Constants and Menus'!$D$12*'Constants and Menus'!$D$10)","v":{"$error":"#VALUE!"}},{"$f":"Z72/'Constants and Menus'!$D$13/('Constants and Menus'!$D$12*'Constants and Menus'!$D$10)","v":{"$error":"#VALUE!"}},{"$f":"AA72/'Constants and Menus'!$D$13/('Constants and Menus'!$D$12*'Constants and Menus'!$D$10)","v":{"$error":"#VALUE!"}},{"$f":"AB72/'Constants and Menus'!$D$13/('Constants and Menus'!$D$12*'Constants and Menus'!$D$10)","v":{"$error":"#VALUE!"}}]
[]
[null,null,"Savings (aMW)",{"$f":"D11","v":2010},{"$f":"D80+1","v":2011},{"$f":"E80+1","v":2012},{"$f":"F80+1","v":2013},{"$f":"G80+1","v":2014},{"$f":"H80+1","v":2015},{"$f":"I80+1","v":2016},{"$f":"J80+1","v":2017},{"$f":"K80+1","v":2018},{"$f":"L80+1","v":2019},{"$f":"M80+1","v":2020},{"$f":"N80+1","v":2021},{"$f":"O80+1","v":2022},{"$f":"P80+1","v":2023},{"$f":"Q80+1","v":2024},{"$f":"R80+1","v":2025},{"$f":"S80+1","v":2026},{"$f":"T80+1","v":2027},{"$f":"U80+1","v":2028},{"$f":"V80+1","v":2029},{"$f":"W80+1","v":2030},{"$f":"X80+1","v":2031},{"$f":"Y80+1","v":2032},{"$f":"Z80+1","v":2033},{"$f":"AA80+1","v":2034}]
[null,null,"Incremental Savings",{"$f":"IF(AND(D$80>='Constants and Menus'!$D$14,(D80-'Constants and Menus'!$D$14)<=CompLifetime),(D53-D54)*D62,\n(D53-D54)*D61)\n/'Constants and Menus'!$D$13/('Constants and Menus'!$D$12*'Constants and Menus'!$D$10)","v":{"$error":"#VALUE!"}},{"$f":"IF(AND(E$80>='Constants and Menus'!$D$14,(E80-'Constants and Menus'!$D$14)<=CompLifetime),(E53-E54)*E62,\n(E53-E54)*E61)\n/'Constants and Menus'!$D$13/('Constants and Menus'!$D$12*'Constants and Menus'!$D$10)","v":{"$error":"#VALUE!"}},{"$f":"IF(AND(F$80>='Constants and Menus'!$D$14,(F80-'Constants and Menus'!$D$14)<=CompLifetime),(F53-F54)*F62,\n(F53-F54)*F61)\n/'Constants and Menus'!$D$13/('Constants and Menus'!$D$12*'Constants and Menus'!$D$10)","v":{"$error":"#VALUE!"}},{"$f":"IF(AND(G$80>='Constants and Menus'!$D$14,(G80-'Constants and Menus'!$D$14)<=CompLifetime),(G53-G54)*G62,\n(G53-G54)*G61)\n/'Constants and Menus'!$D$13/('Constants and Menus'!$D$12*'Constants and Menus'!$D$10)","v":{"$error":"#VALUE!"}},{"$f":"IF(AND(H$80>='Constants and Menus'!$D$14,(H80-'Constants and Menus'!$D$14)<=CompLifetime),(H53-H54)*H62,\n(H53-H54)*H61)\n/'Constants and Menus'!$D$13/('Constants and Menus'!$D$12*'Constants and Menus'!$D$10)","v":{"$error":"#VALUE!"}},{"$f":"IF(AND(I$80>='Constants and Menus'!$D$14,(I80-'Constants and Menus'!$D$14)<=CompLifetime),(I53-I54)*I62,\n(I53-I54)*I61)\n/'Constants and Menus'!$D$13/('Constants and Menus'!$D$12*'Constants and Menus'!$D$10)","v":{"$error":"#VALUE!"}},{"$f":"IF(AND(J$80>='Constants and Menus'!$D$14,(J80-'Constants and Menus'!$D$14)<=CompLifetime),(J53-J54)*J62,\n(J53-J54)*J61)\n/'Constants and Menus'!$D$13/('Constants and Menus'!$D$12*'Constants and Menus'!$D$10)","v":{"$error":"#VALUE!"}},{"$f":"IF(AND(K$80>='Constants and Menus'!$D$14,(K80-'Constants and Menus'!$D$14)<=CompLifetime),(K53-K54)*K62,\n(K53-K54)*K61)\n/'Constants and Menus'!$D$13/('Constants and Menus'!$D$12*'Constants and Menus'!$D$10)","v":{"$error":"#VALUE!"}},{"$f":"IF(AND(L$80>='Constants and Menus'!$D$14,(L80-'Constants and Menus'!$D$14)<=CompLifetime),(L53-L54)*L62,\n(L53-L54)*L61)\n/'Constants and Menus'!$D$13/('Constants and Menus'!$D$12*'Constants and Menus'!$D$10)","v":{"$error":"#VALUE!"}},{"$f":"IF(AND(M$80>='Constants and Menus'!$D$14,(M80-'Constants and Menus'!$D$14)<=CompLifetime),(M53-M54)*M62,\n(M53-M54)*M61)\n/'Constants and Menus'!$D$13/('Constants and Menus'!$D$12*'Constants and Menus'!$D$10)","v":{"$error":"#VALUE!"}},{"$f":"IF(AND(N$80>='Constants and Menus'!$D$14,(N80-'Constants and Menus'!$D$14)<=CompLifetime),(N53-N54)*N62,\n(N53-N54)*N61)\n/'Constants and Menus'!$D$13/('Constants and Menus'!$D$12*'Constants and Menus'!$D$10)","v":{"$error":"#VALUE!"}},{"$f":"IF(AND(O$80>='Constants and Menus'!$D$14,(O80-'Constants and Menus'!$D$14)<=CompLifetime),(O53-O54)*O62,\n(O53-O54)*O61)\n/'Constants and Menus'!$D$13/('Constants and Menus'!$D$12*'Constants and Menus'!$D$10)","v":{"$error":"#VALUE!"}},{"$f":"IF(AND(P$80>='Constants and Menus'!$D$14,(P80-'Constants and Menus'!$D$14)<=CompLifetime),(P53-P54)*P62,\n(P53-P54)*P61)\n/'Constants and Menus'!$D$13/('Constants and Menus'!$D$12*'Constants and Menus'!$D$10)","v":{"$error":"#VALUE!"}},{"$f":"IF(AND(Q$80>='Constants and Menus'!$D$14,(Q80-'Constants and Menus'!$D$14)<=CompLifetime),(Q53-Q54)*Q62,\n(Q53-Q54)*Q61)\n/'Constants and Menus'!$D$13/('Constants and Menus'!$D$12*'Constants and Menus'!$D$10)","v":{"$error":"#VALUE!"}},{"$f":"IF(AND(R$80>='Constants and Menus'!$D$14,(R80-'Constants and Menus'!$D$14)<=CompLifetime),(R53-R54)*R62,\n(R53-R54)*R61)\n/'Constants and Menus'!$D$13/('Constants and Menus'!$D$12*'Constants and Menus'!$D$10)","v":{"$error":"#VALUE!"}},{"$f":"IF(AND(S$80>='Constants and Menus'!$D$14,(S80-'Constants and Menus'!$D$14)<=CompLifetime),(S53-S54)*S62,\n(S53-S54)*S61)\n/'Constants and Menus'!$D$13/('Constants and Menus'!$D$12*'Constants and Menus'!$D$10)","v":{"$error":"#VALUE!"}},{"$f":"IF(AND(T$80>='Constants and Menus'!$D$14,(T80-'Constants and Menus'!$D$14)<=CompLifetime),(T53-T54)*T62,\n(T53-T54)*T61)\n/'Constants and Menus'!$D$13/('Constants and Menus'!$D$12*'Constants and Menus'!$D$10)","v":{"$error":"#VALUE!"}},{"$f":"IF(AND(U$80>='Constants and Menus'!$D$14,(U80-'Constants and Menus'!$D$14)<=CompLifetime),(U53-U54)*U62,\n(U53-U54)*U61)\n/'Constants and Menus'!$D$13/('Constants and Menus'!$D$12*'Constants and Menus'!$D$10)","v":{"$error":"#VALUE!"}},{"$f":"IF(AND(V$80>='Constants and Menus'!$D$14,(V80-'Constants and Menus'!$D$14)<=CompLifetime),(V53-V54)*V62,\n(V53-V54)*V61)\n/'Constants and Menus'!$D$13/('Constants and Menus'!$D$12*'Constants and Menus'!$D$10)","v":{"$error":"#VALUE!"}},{"$f":"IF(AND(W$80>='Constants and Menus'!$D$14,(W80-'Constants and Menus'!$D$14)<=CompLifetime),(W53-W54)*W62,\n(W53-W54)*W61)\n/'Constants and Menus'!$D$13/('Constants and Menus'!$D$12*'Constants and Menus'!$D$10)","v":{"$error":"#VALUE!"}},{"$f":"IF(AND(X$80>='Constants and Menus'!$D$14,(X80-'Constants and Menus'!$D$14)<=CompLifetime),(X53-X54)*X62,\n(X53-X54)*X61)\n/'Constants and Menus'!$D$13/('Constants and Menus'!$D$12*'Constants and Menus'!$D$10)","v":{"$error":"#VALUE!"}},{"$f":"IF(AND(Y$80>='Constants and Menus'!$D$14,(Y80-'Constants and Menus'!$D$14)<=CompLifetime),(Y53-Y54)*Y62,\n(Y53-Y54)*Y61)\n/'Constants and Menus'!$D$13/('Constants and Menus'!$D$12*'Constants and Menus'!$D$10)","v":{"$error":"#VALUE!"}},{"$f":"IF(AND(Z$80>='Constants and Menus'!$D$14,(Z80-'Constants and Menus'!$D$14)<=CompLifetime),(Z53-Z54)*Z62,\n(Z53-Z54)*Z61)\n/'Constants and Menus'!$D$13/('Constants and Menus'!$D$12*'Constants and Menus'!$D$10)","v":{"$error":"#VALUE!"}},{"$f":"IF(AND(AA$80>='Constants and Menus'!$D$14,(AA80-'Constants and Menus'!$D$14)<=CompLifetime),(AA53-AA54)*AA62,\n(AA53-AA54)*AA61)\n/'Constants and Menus'!$D$13/('Constants and Menus'!$D$12*'Constants and Menus'!$D$10)","v":{"$error":"#VALUE!"}},{"$f":"IF(AND(AB$80>='Constants and Menus'!$D$14,(AB80-'Constants and Menus'!$D$14)<=CompLifetime),(AB53-AB54)*AB62,\n(AB53-AB54)*AB61)\n/'Constants and Menus'!$D$13/('Constants and Menus'!$D$12*'Constants and Menus'!$D$10)","v":{"$error":"#VALUE!"}}]
[null,null,"Cumulative Savings",{"$f":"SUM($D$81:D81)","v":{"$error":"#VALUE!"}},{"$f":"SUM($D$81:E81)","v":{"$error":"#VALUE!"}},{"$f":"SUM($D$81:F81)","v":{"$error":"#VALUE!"}},{"$f":"SUM($D$81:G81)","v":{"$error":"#VALUE!"}},{"$f":"SUM($D$81:H81)","v":{"$error":"#VALUE!"}},{"$f":"SUM($D$81:I81)","v":{"$error":"#VALUE!"}},{"$f":"SUM($D$81:J81)","v":{"$error":"#VALUE!"}},{"$f":"SUM($D$81:K81)","v":{"$error":"#VALUE!"}},{"$f":"SUM($D$81:L81)","v":{"$error":"#VALUE!"}},{"$f":"SUM($D$81:M81)","v":{"$error":"#VALUE!"}},{"$f":"SUM($D$81:N81)","v":{"$error":"#VALUE!"}},{"$f":"SUM($D$81:O81)","v":{"$error":"#VALUE!"}},{"$f":"SUM($D$81:P81)","v":{"$error":"#VALUE!"}},{"$f":"SUM($D$81:Q81)","v":{"$error":"#VALUE!"}},{"$f":"SUM($D$81:R81)","v":{"$error":"#VALUE!"}},{"$f":"SUM($D$81:S81)","v":{"$error":"#VALUE!"}},{"$f":"SUM($D$81:T81)","v":{"$error":"#VALUE!"}},{"$f":"SUM($D$81:U81)","v":{"$error":"#VALUE!"}},{"$f":"SUM($D$81:V81)","v":{"$error":"#VALUE!"}},{"$f":"SUM($D$81:W81)","v":{"$error":"#VALUE!"}},{"$f":"SUM($D$81:X81)","v":{"$error":"#VALUE!"}},{"$f":"SUM($D$81:Y81)","v":{"$error":"#VALUE!"}},{"$f":"SUM($D$81:Z81)","v":{"$error":"#VALUE!"}},{"$f":"SUM($D$81:AA81)","v":{"$error":"#VALUE!"}},{"$f":"SUM($D$81:AB81)","v":{"$error":"#VALUE!"}}]
[null,null,"DOE Aggregate Lifecycle Savings (formerly DOE Carbon proxy)",{"$f":"SUM($D$82:D82)","v":{"$error":"#VALUE!"}},{"$f":"SUM($D$82:E82)","v":{"$error":"#VALUE!"}},{"$f":"SUM($D$82:F82)","v":{"$error":"#VALUE!"}},{"$f":"SUM($D$82:G82)","v":{"$error":"#VALUE!"}},{"$f":"SUM($D$82:H82)","v":{"$error":"#VALUE!"}},{"$f":"SUM($D$82:I82)","v":{"$error":"#VALUE!"}},{"$f":"SUM($D$82:J82)","v":{"$error":"#VALUE!"}},{"$f":"SUM($D$82:K82)","v":{"$error":"#VALUE!"}},{"$f":"SUM($D$82:L82)","v":{"$error":"#VALUE!"}},{"$f":"SUM($D$82:M82)","v":{"$error":"#VALUE!"}},{"$f":"SUM($D$82:N82)","v":{"$error":"#VALUE!"}},{"$f":"SUM($D$82:O82)","v":{"$error":"#VALUE!"}},{"$f":"SUM($D$82:P82)","v":{"$error":"#VALUE!"}},{"$f":"SUM($D$82:Q82)","v":{"$error":"#VALUE!"}},{"$f":"SUM($D$82:R82)","v":{"$error":"#VALUE!"}},{"$f":"SUM($D$82:S82)","v":{"$error":"#VALUE!"}},{"$f":"SUM($D$82:T82)","v":{"$error":"#VALUE!"}},{"$f":"SUM($D$82:U82)","v":{"$error":"#VALUE!"}},{"$f":"SUM($D$82:V82)","v":{"$error":"#VALUE!"}},{"$f":"SUM($D$82:W82)","v":{"$error":"#VALUE!"}},{"$f":"SUM($D$82:X82)","v":{"$error":"#VALUE!"}},{"$f":"SUM($D$82:Y82)","v":{"$error":"#VALUE!"}},{"$f":"SUM($D$82:Z82)","v":{"$error":"#VALUE!"}},{"$f":"SUM($D$82:AA82)","v":{"$error":"#VALUE!"}},{"$f":"SUM($D$82:AB82)","v":{"$error":"#VALUE!"}}]
[null,null,"Check",null,{"$f":"ROUND(E82-D82-E81,3)","v":{"$error":"#VALUE!"}},{"$error":"#VALUE!"},{"$error":"#VALUE!"},{"$error":"#VALUE!"},{"$error":"#VALUE!"},{"$error":"#VALUE!"},{"$error":"#VALUE!"},{"$error":"#VALUE!"},{"$error":"#VALUE!"},{"$error":"#VALUE!"},{"$error":"#VALUE!"},{"$error":"#VALUE!"},{"$error":"#VALUE!"},{"$error":"#VALUE!"},{"$error":"#VALUE!"},{"$error":"#VALUE!"},{"$error":"#VALUE!"},{"$error":"#VALUE!"},{"$error":"#VALUE!"},{"$error":"#VALUE!"},{"$error":"#VALUE!"},{"$error":"#VALUE!"},{"$error":"#VALUE!"},{"$error":"#VALUE!"}]
[]
[]
[null,null,"SYSTEMS"]
[null,null,"Building Type "]
[null,null,{"$f":"C9","v":"TOTAL"}]
[]
[null,null,"Unit Energy Consumption (kWh/year) ",{"$f":"D11","v":2010},{"$f":"D91+1","v":2011},{"$f":"E91+1","v":2012},{"$f":"F91+1","v":2013},{"$f":"G91+1","v":2014},{"$f":"H91+1","v":2015},{"$f":"I91+1","v":2016},{"$f":"J91+1","v":2017},{"$f":"K91+1","v":2018},{"$f":"L91+1","v":2019},{"$f":"M91+1","v":2020},{"$f":"N91+1","v":2021},{"$f":"O91+1","v":2022},{"$f":"P91+1","v":2023},{"$f":"Q91+1","v":2024},{"$f":"R91+1","v":2025},{"$f":"S91+1","v":2026},{"$f":"T91+1","v":2027},{"$f":"U91+1","v":2028},{"$f":"V91+1","v":2029},{"$f":"W91+1","v":2030},{"$f":"X91+1","v":2031},{"$f":"Y91+1","v":2032},{"$f":"Z91+1","v":2033},{"$f":"AA91+1","v":2034}]
[null,null,"6P Pre-case Shipment UEC",{"$f":"D93","v":7646.5365277999645},7646.5365277999645,7646.5365277999645,7646.5365277999645,7652.1687077798624,7657.7123997052004,7659.6095128642219,7659.0809206363801,7658.6015571345506,7656.9177593715503,7655.8458958069732,7656.6361156832263,7659.8001154740869,7663.9133593304423,7667.5824952704043,7669.9135526554392,7670.8876310589039,7670.9257242248914,7670.7809578676515,7670.9833378440471,7672.1081495211829,7674.1134580742419,7676.3891178993599,7678.5600736019796,7680.0240882390717]
[null,null,"Market UEC (Shipment Weighted Average) - PRE-Case UEC",{"$f":"OFFSET(UEC!$C52,0,MATCH(D$11,UEC!$D$10:$AV$10,0))","v":7646.5365277999645},{"$f":"OFFSET(UEC!$C52,0,MATCH(E$11,UEC!$D$10:$AV$10,0))","v":7646.5365277999645},{"$f":"OFFSET(UEC!$C52,0,MATCH(F$11,UEC!$D$10:$AV$10,0))","v":7646.5365277999645},{"$f":"OFFSET(UEC!$C52,0,MATCH(G$11,UEC!$D$10:$AV$10,0))","v":7646.5365277999645},{"$f":"OFFSET(UEC!$C52,0,MATCH(H$11,UEC!$D$10:$AV$10,0))","v":7652.1687077798624},{"$f":"OFFSET(UEC!$C52,0,MATCH(I$11,UEC!$D$10:$AV$10,0))","v":7657.7123997052004},{"$f":"OFFSET(UEC!$C52,0,MATCH(J$11,UEC!$D$10:$AV$10,0))","v":7659.6095128642219},{"$f":"OFFSET(UEC!$C52,0,MATCH(K$11,UEC!$D$10:$AV$10,0))","v":7659.0809206363801},{"$f":"OFFSET(UEC!$C52,0,MATCH(L$11,UEC!$D$10:$AV$10,0))","v":7658.6015571345506},{"$f":"OFFSET(UEC!$C52,0,MATCH(M$11,UEC!$D$10:$AV$10,0))","v":7656.9177593715503},{"$f":"OFFSET(UEC!$C52,0,MATCH(N$11,UEC!$D$10:$AV$10,0))","v":7655.8458958069732},{"$f":"OFFSET(UEC!$C52,0,MATCH(O$11,UEC!$D$10:$AV$10,0))","v":7656.6361156832263},{"$f":"OFFSET(UEC!$C52,0,MATCH(P$11,UEC!$D$10:$AV$10,0))","v":7659.8001154740869},{"$f":"OFFSET(UEC!$C52,0,MATCH(Q$11,UEC!$D$10:$AV$10,0))","v":7663.9133593304423},{"$f":"OFFSET(UEC!$C52,0,MATCH(R$11,UEC!$D$10:$AV$10,0))","v":7667.5824952704043},{"$f":"OFFSET(UEC!$C52,0,MATCH(S$11,UEC!$D$10:$AV$10,0))","v":7669.9135526554392},{"$f":"OFFSET(UEC!$C52,0,MATCH(T$11,UEC!$D$10:$AV$10,0))","v":7670.8876310589039},{"$f":"OFFSET(UEC!$C52,0,MATCH(U$11,UEC!$D$10:$AV$10,0))","v":7670.9257242248914},{"$f":"OFFSET(UEC!$C52,0,MATCH(V$11,UEC!$D$10:$AV$10,0))","v":7670.7809578676515},{"$f":"OFFSET(UEC!$C52,0,MATCH(W$11,UEC!$D$10:$AV$10,0))","v":7670.9833378440471},{"$f":"OFFSET(UEC!$C52,0,MATCH(X$11,UEC!$D$10:$AV$10,0))","v":7672.1081495211829},{"$f":"OFFSET(UEC!$C52,0,MATCH(Y$11,UEC!$D$10:$AV$10,0))","v":7674.1134580742419},{"$f":"OFFSET(UEC!$C52,0,MATCH(Z$11,UEC!$D$10:$AV$10,0))","v":7676.3891178993599},{"$f":"OFFSET(UEC!$C52,0,MATCH(AA$11,UEC!$D$10:$AV$10,0))","v":7678.5600736019796},{"$f":"OFFSET(UEC!$C52,0,MATCH(AB$11,UEC!$D$10:$AV$10,0))","v":7680.0240882390717}]
[null,null,"Market UEC (Shipment Weighted Average) - POST-Case UEC",{"$f":"OFFSET(UEC!$C53,0,MATCH(D$11,UEC!$D$10:$AV$10,0))","v":7646.5365277999645},{"$f":"OFFSET(UEC!$C53,0,MATCH(E$11,UEC!$D$10:$AV$10,0))","v":7646.5365277999645},{"$f":"OFFSET(UEC!$C53,0,MATCH(F$11,UEC!$D$10:$AV$10,0))","v":7646.5365277999645},{"$f":"OFFSET(UEC!$C53,0,MATCH(G$11,UEC!$D$10:$AV$10,0))","v":7646.5365277999645},{"$f":"OFFSET(UEC!$C53,0,MATCH(H$11,UEC!$D$10:$AV$10,0))","v":7652.1687077798624},{"$f":"OFFSET(UEC!$C53,0,MATCH(I$11,UEC!$D$10:$AV$10,0))","v":7657.7123997052004},{"$f":"OFFSET(UEC!$C53,0,MATCH(J$11,UEC!$D$10:$AV$10,0))","v":7659.6095128642219},{"$f":"OFFSET(UEC!$C53,0,MATCH(K$11,UEC!$D$10:$AV$10,0))","v":5085.9582257073271},{"$f":"OFFSET(UEC!$C53,0,MATCH(L$11,UEC!$D$10:$AV$10,0))","v":5086.4738777364419},{"$f":"OFFSET(UEC!$C53,0,MATCH(M$11,UEC!$D$10:$AV$10,0))","v":5083.382797877628},{"$f":"OFFSET(UEC!$C53,0,MATCH(N$11,UEC!$D$10:$AV$10,0))","v":5080.2706640527704},{"$f":"OFFSET(UEC!$C53,0,MATCH(O$11,UEC!$D$10:$AV$10,0))","v":5080.1456434883075},{"$f":"OFFSET(UEC!$C53,0,MATCH(P$11,UEC!$D$10:$AV$10,0))","v":5084.5237861345122},{"$f":"OFFSET(UEC!$C53,0,MATCH(Q$11,UEC!$D$10:$AV$10,0))","v":5091.3359708160515},{"$f":"OFFSET(UEC!$C53,0,MATCH(R$11,UEC!$D$10:$AV$10,0))","v":5098.4746381876357},{"$f":"OFFSET(UEC!$C53,0,MATCH(S$11,UEC!$D$10:$AV$10,0))","v":5104.4197180193942},{"$f":"OFFSET(UEC!$C53,0,MATCH(T$11,UEC!$D$10:$AV$10,0))","v":5108.0295141972911},{"$f":"OFFSET(UEC!$C53,0,MATCH(U$11,UEC!$D$10:$AV$10,0))","v":5109.1307204924342},{"$f":"OFFSET(UEC!$C53,0,MATCH(V$11,UEC!$D$10:$AV$10,0))","v":5108.8096499404828},{"$f":"OFFSET(UEC!$C53,0,MATCH(W$11,UEC!$D$10:$AV$10,0))","v":5108.4637069859609},{"$f":"OFFSET(UEC!$C53,0,MATCH(X$11,UEC!$D$10:$AV$10,0))","v":5109.5749830857467},{"$f":"OFFSET(UEC!$C53,0,MATCH(Y$11,UEC!$D$10:$AV$10,0))","v":5112.5369067231877},{"$f":"OFFSET(UEC!$C53,0,MATCH(Z$11,UEC!$D$10:$AV$10,0))","v":5116.687007997346},{"$f":"OFFSET(UEC!$C53,0,MATCH(AA$11,UEC!$D$10:$AV$10,0))","v":5121.2344774034673},{"$f":"OFFSET(UEC!$C53,0,MATCH(AB$11,UEC!$D$10:$AV$10,0))","v":5124.962934509088}]
[null,null,"Installed UEC (Vintage Weighted Average)  - PRE-Case UEC",{"$f":"OFFSET(UEC!$C58,0,MATCH(D$11,UEC!$D$10:$AV$10,0))","v":{"$error":"#VALUE!"}},{"$f":"OFFSET(UEC!$C58,0,MATCH(E$11,UEC!$D$10:$AV$10,0))","v":{"$error":"#VALUE!"}},{"$f":"OFFSET(UEC!$C58,0,MATCH(F$11,UEC!$D$10:$AV$10,0))","v":{"$error":"#VALUE!"}},{"$f":"OFFSET(UEC!$C58,0,MATCH(G$11,UEC!$D$10:$AV$10,0))","v":{"$error":"#VALUE!"}},{"$f":"OFFSET(UEC!$C58,0,MATCH(H$11,UEC!$D$10:$AV$10,0))","v":{"$error":"#VALUE!"}},{"$f":"OFFSET(UEC!$C58,0,MATCH(I$11,UEC!$D$10:$AV$10,0))","v":{"$error":"#VALUE!"}},{"$f":"OFFSET(UEC!$C58,0,MATCH(J$11,UEC!$D$10:$AV$10,0))","v":{"$error":"#VALUE!"}},{"$f":"OFFSET(UEC!$C58,0,MATCH(K$11,UEC!$D$10:$AV$10,0))","v":{"$error":"#VALUE!"}},{"$f":"OFFSET(UEC!$C58,0,MATCH(L$11,UEC!$D$10:$AV$10,0))","v":{"$error":"#VALUE!"}},{"$f":"OFFSET(UEC!$C58,0,MATCH(M$11,UEC!$D$10:$AV$10,0))","v":{"$error":"#VALUE!"}},{"$f":"OFFSET(UEC!$C58,0,MATCH(N$11,UEC!$D$10:$AV$10,0))","v":{"$error":"#VALUE!"}},{"$f":"OFFSET(UEC!$C58,0,MATCH(O$11,UEC!$D$10:$AV$10,0))","v":{"$error":"#VALUE!"}},{"$f":"OFFSET(UEC!$C58,0,MATCH(P$11,UEC!$D$10:$AV$10,0))","v":{"$error":"#VALUE!"}},{"$f":"OFFSET(UEC!$C58,0,MATCH(Q$11,UEC!$D$10:$AV$10,0))","v":{"$error":"#VALUE!"}},{"$f":"OFFSET(UEC!$C58,0,MATCH(R$11,UEC!$D$10:$AV$10,0))","v":{"$error":"#VALUE!"}},{"$f":"OFFSET(UEC!$C58,0,MATCH(S$11,UEC!$D$10:$AV$10,0))","v":{"$error":"#VALUE!"}},{"$f":"OFFSET(UEC!$C58,0,MATCH(T$11,UEC!$D$10:$AV$10,0))","v":{"$error":"#VALUE!"}},{"$f":"OFFSET(UEC!$C58,0,MATCH(U$11,UEC!$D$10:$AV$10,0))","v":{"$error":"#VALUE!"}},{"$f":"OFFSET(UEC!$C58,0,MATCH(V$11,UEC!$D$10:$AV$10,0))","v":{"$error":"#VALUE!"}},{"$f":"OFFSET(UEC!$C58,0,MATCH(W$11,UEC!$D$10:$AV$10,0))","v":{"$error":"#VALUE!"}},{"$f":"OFFSET(UEC!$C58,0,MATCH(X$11,UEC!$D$10:$AV$10,0))","v":{"$error":"#VALUE!"}},{"$f":"OFFSET(UEC!$C58,0,MATCH(Y$11,UEC!$D$10:$AV$10,0))","v":{"$error":"#VALUE!"}},{"$f":"OFFSET(UEC!$C58,0,MATCH(Z$11,UEC!$D$10:$AV$10,0))","v":{"$error":"#VALUE!"}},{"$f":"OFFSET(UEC!$C58,0,MATCH(AA$11,UEC!$D$10:$AV$10,0))","v":{"$error":"#VALUE!"}},{"$f":"OFFSET(UEC!$C58,0,MATCH(AB$11,UEC!$D$10:$AV$10,0))","v":{"$error":"#VALUE!"}}]
[null,null,"Installed UEC (Vintage Weighted Average)  - POST-Case UEC",{"$f":"OFFSET(UEC!$C59,0,MATCH(D$11,UEC!$D$10:$AV$10,0))","v":{"$error":"#VALUE!"}},{"$f":"OFFSET(UEC!$C59,0,MATCH(E$11,UEC!$D$10:$AV$10,0))","v":{"$error":"#VALUE!"}},{"$f":"OFFSET(UEC!$C59,0,MATCH(F$11,UEC!$D$10:$AV$10,0))","v":{"$error":"#VALUE!"}},{"$f":"OFFSET(UEC!$C59,0,MATCH(G$11,UEC!$D$10:$AV$10,0))","v":{"$error":"#VALUE!"}},{"$f":"OFFSET(UEC!$C59,0,MATCH(H$11,UEC!$D$10:$AV$10,0))","v":{"$error":"#VALUE!"}},{"$f":"OFFSET(UEC!$C59,0,MATCH(I$11,UEC!$D$10:$AV$10,0))","v":{"$error":"#VALUE!"}},{"$f":"OFFSET(UEC!$C59,0,MATCH(J$11,UEC!$D$10:$AV$10,0))","v":{"$error":"#VALUE!"}},{"$f":"OFFSET(UEC!$C59,0,MATCH(K$11,UEC!$D$10:$AV$10,0))","v":{"$error":"#VALUE!"}},{"$f":"OFFSET(UEC!$C59,0,MATCH(L$11,UEC!$D$10:$AV$10,0))","v":{"$error":"#VALUE!"}},{"$f":"OFFSET(UEC!$C59,0,MATCH(M$11,UEC!$D$10:$AV$10,0))","v":{"$error":"#VALUE!"}},{"$f":"OFFSET(UEC!$C59,0,MATCH(N$11,UEC!$D$10:$AV$10,0))","v":{"$error":"#VALUE!"}},{"$f":"OFFSET(UEC!$C59,0,MATCH(O$11,UEC!$D$10:$AV$10,0))","v":{"$error":"#VALUE!"}},{"$f":"OFFSET(UEC!$C59,0,MATCH(P$11,UEC!$D$10:$AV$10,0))","v":{"$error":"#VALUE!"}},{"$f":"OFFSET(UEC!$C59,0,MATCH(Q$11,UEC!$D$10:$AV$10,0))","v":{"$error":"#VALUE!"}},{"$f":"OFFSET(UEC!$C59,0,MATCH(R$11,UEC!$D$10:$AV$10,0))","v":{"$error":"#VALUE!"}},{"$f":"OFFSET(UEC!$C59,0,MATCH(S$11,UEC!$D$10:$AV$10,0))","v":{"$error":"#VALUE!"}},{"$f":"OFFSET(UEC!$C59,0,MATCH(T$11,UEC!$D$10:$AV$10,0))","v":{"$error":"#VALUE!"}},{"$f":"OFFSET(UEC!$C59,0,MATCH(U$11,UEC!$D$10:$AV$10,0))","v":{"$error":"#VALUE!"}},{"$f":"OFFSET(UEC!$C59,0,MATCH(V$11,UEC!$D$10:$AV$10,0))","v":{"$error":"#VALUE!"}},{"$f":"OFFSET(UEC!$C59,0,MATCH(W$11,UEC!$D$10:$AV$10,0))","v":{"$error":"#VALUE!"}},{"$f":"OFFSET(UEC!$C59,0,MATCH(X$11,UEC!$D$10:$AV$10,0))","v":{"$error":"#VALUE!"}},{"$f":"OFFSET(UEC!$C59,0,MATCH(Y$11,UEC!$D$10:$AV$10,0))","v":{"$error":"#VALUE!"}},{"$f":"OFFSET(UEC!$C59,0,MATCH(Z$11,UEC!$D$10:$AV$10,0))","v":{"$error":"#VALUE!"}},{"$f":"OFFSET(UEC!$C59,0,MATCH(AA$11,UEC!$D$10:$AV$10,0))","v":{"$error":"#VALUE!"}},{"$f":"OFFSET(UEC!$C59,0,MATCH(AB$11,UEC!$D$10:$AV$10,0))","v":{"$error":"#VALUE!"}}]
[]
[null,null,"Stock and Shipments",{"$f":"D11","v":2010},{"$f":"D98+1","v":2011},{"$f":"E98+1","v":2012},{"$f":"F98+1","v":2013},{"$f":"G98+1","v":2014},{"$f":"H98+1","v":2015},{"$f":"I98+1","v":2016},{"$f":"J98+1","v":2017},{"$f":"K98+1","v":2018},{"$f":"L98+1","v":2019},{"$f":"M98+1","v":2020},{"$f":"N98+1","v":2021},{"$f":"O98+1","v":2022},{"$f":"P98+1","v":2023},{"$f":"Q98+1","v":2024},{"$f":"R98+1","v":2025},{"$f":"S98+1","v":2026},{"$f":"T98+1","v":2027},{"$f":"U98+1","v":2028},{"$f":"V98+1","v":2029},{"$f":"W98+1","v":2030},{"$f":"X98+1","v":2031},{"$f":"Y98+1","v":2032},{"$f":"Z98+1","v":2033},{"$f":"AA98+1","v":2034}]
[null,null,"6P Shipments",{"$f":"D102","v":{"$error":"#VALUE!"}},{"$error":"#VALUE!"},{"$error":"#VALUE!"},{"$error":"#VALUE!"},{"$error":"#VALUE!"},{"$error":"#VALUE!"},{"$error":"#VALUE!"},{"$error":"#VALUE!"},{"$error":"#VALUE!"},{"$error":"#VALUE!"},{"$error":"#VALUE!"},{"$error":"#VALUE!"},{"$error":"#VALUE!"},{"$error":"#VALUE!"},{"$error":"#VALUE!"},{"$error":"#VALUE!"},{"$error":"#VALUE!"},{"$error":"#VALUE!"},{"$error":"#VALUE!"},{"$error":"#VALUE!"},{"$error":"#VALUE!"},{"$error":"#VALUE!"},{"$error":"#VALUE!"},{"$error":"#VALUE!"},{"$error":"#VALUE!"}]
[null,null,"Replacement Shipments",{"$f":"'Shipments and Stock - System'!AB15","v":{"$error":"#VALUE!"}},{"$f":"'Shipments and Stock - System'!AC15","v":{"$error":"#VALUE!"}},{"$f":"'Shipments and Stock - System'!AD15","v":{"$error":"#VALUE!"}},{"$f":"'Shipments and Stock - System'!AE15","v":{"$error":"#VALUE!"}},{"$f":"'Shipments and Stock - System'!AF15","v":{"$error":"#VALUE!"}},{"$f":"'Shipments and Stock - System'!AG15","v":{"$error":"#VALUE!"}},{"$f":"'Shipments and Stock - System'!AH15","v":{"$error":"#VALUE!"}},{"$f":"'Shipments and Stock - System'!AI15","v":{"$error":"#VALUE!"}},{"$f":"'Shipments and Stock - System'!AJ15","v":{"$error":"#VALUE!"}},{"$f":"'Shipments and Stock - System'!AK15","v":{"$error":"#VALUE!"}},{"$f":"'Shipments and Stock - System'!AL15","v":{"$error":"#VALUE!"}},{"$f":"'Shipments and Stock - System'!AM15","v":{"$error":"#VALUE!"}},{"$f":"'Shipments and Stock - System'!AN15","v":{"$error":"#VALUE!"}},{"$f":"'Shipments and Stock - System'!AO15","v":{"$error":"#VALUE!"}},{"$f":"'Shipments and Stock - System'!AP15","v":{"$error":"#VALUE!"}},{"$f":"'Shipments and Stock - System'!AQ15","v":{"$error":"#VALUE!"}},{"$f":"'Shipments and Stock - System'!AR15","v":{"$error":"#VALUE!"}},{"$f":"'Shipments and Stock - System'!AS15","v":{"$error":"#VALUE!"}},{"$f":"'Shipments and Stock - System'!AT15","v":{"$error":"#VALUE!"}},{"$f":"'Shipments and Stock - System'!AU15","v":{"$error":"#VALUE!"}},{"$f":"'Shipments and Stock - System'!AV15","v":{"$error":"#VALUE!"}},{"$f":"'Shipments and Stock - System'!AW15","v":{"$error":"#VALUE!"}},{"$f":"'Shipments and Stock - System'!AX15","v":{"$error":"#VALUE!"}},{"$f":"'Shipments and Stock - System'!AY15","v":{"$error":"#VALUE!"}},{"$f":"'Shipments and Stock - System'!AZ15","v":{"$error":"#VALUE!"}}]
[null,null,"Net New Shipments",{"$f":"'Shipments and Stock - System'!AB16","v":{"$error":"#VALUE!"}},{"$f":"'Shipments and Stock - System'!AC16","v":{"$error":"#VALUE!"}},{"$f":"'Shipments and Stock - System'!AD16","v":{"$error":"#VALUE!"}},{"$f":"'Shipments and Stock - System'!AE16","v":{"$error":"#VALUE!"}},{"$f":"'Shipments and Stock - System'!AF16","v":{"$error":"#VALUE!"}},{"$f":"'Shipments and Stock - System'!AG16","v":{"$error":"#VALUE!"}},{"$f":"'Shipments and Stock - System'!AH16","v":{"$error":"#VALUE!"}},{"$f":"'Shipments and Stock - System'!AI16","v":{"$error":"#VALUE!"}},{"$f":"'Shipments and Stock - System'!AJ16","v":{"$error":"#VALUE!"}},{"$f":"'Shipments and Stock - System'!AK16","v":{"$error":"#VALUE!"}},{"$f":"'Shipments and Stock - System'!AL16","v":{"$error":"#VALUE!"}},{"$f":"'Shipments and Stock - System'!AM16","v":{"$error":"#VALUE!"}},{"$f":"'Shipments and Stock - System'!AN16","v":{"$error":"#VALUE!"}},{"$f":"'Shipments and Stock - System'!AO16","v":{"$error":"#VALUE!"}},{"$f":"'Shipments and Stock - System'!AP16","v":{"$error":"#VALUE!"}},{"$f":"'Shipments and Stock - System'!AQ16","v":{"$error":"#VALUE!"}},{"$f":"'Shipments and Stock - System'!AR16","v":{"$error":"#VALUE!"}},{"$f":"'Shipments and Stock - System'!AS16","v":{"$error":"#VALUE!"}},{"$f":"'Shipments and Stock - System'!AT16","v":{"$error":"#VALUE!"}},{"$f":"'Shipments and Stock - System'!AU16","v":{"$error":"#VALUE!"}},{"$f":"'Shipments and Stock - System'!AV16","v":{"$error":"#VALUE!"}},{"$f":"'Shipments and Stock - System'!AW16","v":{"$error":"#VALUE!"}},{"$f":"'Shipments and Stock - System'!AX16","v":{"$error":"#VALUE!"}},{"$f":"'Shipments and Stock - System'!AY16","v":{"$error":"#VALUE!"}},{"$f":"'Shipments and Stock - System'!AZ16","v":{"$error":"#VALUE!"}}]
[null,null,"Total Model Shipments",{"$f":"'Shipments and Stock - System'!AB17","v":{"$error":"#VALUE!"}},{"$f":"'Shipments and Stock - System'!AC17","v":{"$error":"#VALUE!"}},{"$f":"'Shipments and Stock - System'!AD17","v":{"$error":"#VALUE!"}},{"$f":"'Shipments and Stock - System'!AE17","v":{"$error":"#VALUE!"}},{"$f":"'Shipments and Stock - System'!AF17","v":{"$error":"#VALUE!"}},{"$f":"'Shipments and Stock - System'!AG17","v":{"$error":"#VALUE!"}},{"$f":"'Shipments and Stock - System'!AH17","v":{"$error":"#VALUE!"}},{"$f":"'Shipments and Stock - System'!AI17","v":{"$error":"#VALUE!"}},{"$f":"'Shipments and Stock - System'!AJ17","v":{"$error":"#VALUE!"}},{"$f":"'Shipments and Stock - System'!AK17","v":{"$error":"#VALUE!"}},{"$f":"'Shipments and Stock - System'!AL17","v":{"$error":"#VALUE!"}},{"$f":"'Shipments and Stock - System'!AM17","v":{"$error":"#VALUE!"}},{"$f":"'Shipments and Stock - System'!AN17","v":{"$error":"#VALUE!"}},{"$f":"'Shipments and Stock - System'!AO17","v":{"$error":"#VALUE!"}},{"$f":"'Shipments and Stock - System'!AP17","v":{"$error":"#VALUE!"}},{"$f":"'Shipments and Stock - System'!AQ17","v":{"$error":"#VALUE!"}},{"$f":"'Shipments and Stock - System'!AR17","v":{"$error":"#VALUE!"}},{"$f":"'Shipments and Stock - System'!AS17","v":{"$error":"#VALUE!"}},{"$f":"'Shipments and Stock - System'!AT17","v":{"$error":"#VALUE!"}},{"$f":"'Shipments and Stock - System'!AU17","v":{"$error":"#VALUE!"}},{"$f":"'Shipments and Stock - System'!AV17","v":{"$error":"#VALUE!"}},{"$f":"'Shipments and Stock - System'!AW17","v":{"$error":"#VALUE!"}},{"$f":"'Shipments and Stock - System'!AX17","v":{"$error":"#VALUE!"}},{"$f":"'Shipments and Stock - System'!AY17","v":{"$error":"#VALUE!"}},{"$f":"'Shipments and Stock - System'!AZ17","v":{"$error":"#VALUE!"}}]
[null,null,"Model Installed Stock",{"$f":"'Shipments and Stock - System'!AB18","v":{"$error":"#VALUE!"}},{"$f":"'Shipments and Stock - System'!AC18","v":{"$error":"#VALUE!"}},{"$f":"'Shipments and Stock - System'!AD18","v":{"$error":"#VALUE!"}},{"$f":"'Shipments and Stock - System'!AE18","v":{"$error":"#VALUE!"}},{"$f":"'Shipments and Stock - System'!AF18","v":{"$error":"#VALUE!"}},{"$f":"'Shipments and Stock - System'!AG18","v":{"$error":"#VALUE!"}},{"$f":"'Shipments and Stock - System'!AH18","v":{"$error":"#VALUE!"}},{"$f":"'Shipments and Stock - System'!AI18","v":{"$error":"#VALUE!"}},{"$f":"'Shipments and Stock - System'!AJ18","v":{"$error":"#VALUE!"}},{"$f":"'Shipments and Stock - System'!AK18","v":{"$error":"#VALUE!"}},{"$f":"'Shipments and Stock - System'!AL18","v":{"$error":"#VALUE!"}},{"$f":"'Shipments and Stock - System'!AM18","v":{"$error":"#VALUE!"}},{"$f":"'Shipments and Stock - System'!AN18","v":{"$error":"#VALUE!"}},{"$f":"'Shipments and Stock - System'!AO18","v":{"$error":"#VALUE!"}},{"$f":"'Shipments and Stock - System'!AP18","v":{"$error":"#VALUE!"}},{"$f":"'Shipments and Stock - System'!AQ18","v":{"$error":"#VALUE!"}},{"$f":"'Shipments and Stock - System'!AR18","v":{"$error":"#VALUE!"}},{"$f":"'Shipments and Stock - System'!AS18","v":{"$error":"#VALUE!"}},{"$f":"'Shipments and Stock - System'!AT18","v":{"$error":"#VALUE!"}},{"$f":"'Shipments and Stock - System'!AU18","v":{"$error":"#VALUE!"}},{"$f":"'Shipments and Stock - System'!AV18","v":{"$error":"#VALUE!"}},{"$f":"'Shipments and Stock - System'!AW18","v":{"$error":"#VALUE!"}},{"$f":"'Shipments and Stock - System'!AX18","v":{"$error":"#VALUE!"}},{"$f":"'Shipments and Stock - System'!AY18","v":{"$error":"#VALUE!"}},{"$f":"'Shipments and Stock - System'!AZ18","v":{"$error":"#VALUE!"}}]
[]
[null,null,"First Year Energy Consumption ",{"$f":"D11","v":2010},{"$f":"D105+1","v":2011},{"$f":"E105+1","v":2012},{"$f":"F105+1","v":2013},{"$f":"G105+1","v":2014},{"$f":"H105+1","v":2015},{"$f":"I105+1","v":2016},{"$f":"J105+1","v":2017},{"$f":"K105+1","v":2018},{"$f":"L105+1","v":2019},{"$f":"M105+1","v":2020},{"$f":"N105+1","v":2021},{"$f":"O105+1","v":2022},{"$f":"P105+1","v":2023},{"$f":"Q105+1","v":2024},{"$f":"R105+1","v":2025},{"$f":"S105+1","v":2026},{"$f":"T105+1","v":2027},{"$f":"U105+1","v":2028},{"$f":"V105+1","v":2029},{"$f":"W105+1","v":2030},{"$f":"X105+1","v":2031},{"$f":"Y105+1","v":2032},{"$f":"Z105+1","v":2033},{"$f":"AA105+1","v":2034}]
[null,null,"6P Shipments * 6P UEC",{"$f":"D107","v":{"$error":"#VALUE!"}},{"$error":"#VALUE!"},{"$error":"#VALUE!"},{"$error":"#VALUE!"},{"$error":"#VALUE!"},{"$error":"#VALUE!"},{"$error":"#VALUE!"},{"$error":"#VALUE!"},{"$error":"#VALUE!"},{"$error":"#VALUE!"},{"$error":"#VALUE!"},{"$error":"#VALUE!"},{"$error":"#VALUE!"},{"$error":"#VALUE!"},{"$error":"#VALUE!"},{"$error":"#VALUE!"},{"$error":"#VALUE!"},{"$error":"#VALUE!"},{"$error":"#VALUE!"},{"$error":"#VALUE!"},{"$error":"#VALUE!"},{"$error":"#VALUE!"},{"$error":"#VALUE!"},{"$error":"#VALUE!"},{"$error":"#VALUE!"}]
[null,null,"Model Shipments * Model Pre-Case UEC",{"$f":"D93*D102","v":{"$error":"#VALUE!"}},{"$f":"E93*E102","v":{"$error":"#VALUE!"}},{"$error":"#VALUE!"},{"$error":"#VALUE!"},{"$error":"#VALUE!"},{"$error":"#VALUE!"},{"$error":"#VALUE!"},{"$error":"#VALUE!"},{"$error":"#VALUE!"},{"$error":"#VALUE!"},{"$error":"#VALUE!"},{"$error":"#VALUE!"},{"$error":"#VALUE!"},{"$error":"#VALUE!"},{"$error":"#VALUE!"},{"$error":"#VALUE!"},{"$error":"#VALUE!"},{"$error":"#VALUE!"},{"$error":"#VALUE!"},{"$error":"#VALUE!"},{"$error":"#VALUE!"},{"$error":"#VALUE!"},{"$error":"#VALUE!"},{"$error":"#VALUE!"},{"$error":"#VALUE!"}]
[null,null,"Model Shipments * Model Post-Case UEC",{"$f":"D94*D102","v":{"$error":"#VALUE!"}},{"$f":"E94*E102","v":{"$error":"#VALUE!"}},{"$error":"#VALUE!"},{"$error":"#VALUE!"},{"$error":"#VALUE!"},{"$error":"#VALUE!"},{"$error":"#VALUE!"},{"$error":"#VALUE!"},{"$error":"#VALUE!"},{"$error":"#VALUE!"},{"$error":"#VALUE!"},{"$error":"#VALUE!"},{"$error":"#VALUE!"},{"$error":"#VALUE!"},{"$error":"#VALUE!"},{"$error":"#VALUE!"},{"$error":"#VALUE!"},{"$error":"#VALUE!"},{"$error":"#VALUE!"},{"$error":"#VALUE!"},{"$error":"#VALUE!"},{"$error":"#VALUE!"},{"$error":"#VALUE!"},{"$error":"#VALUE!"},{"$error":"#VALUE!"}]
[]
[null,null,"Total Energy Consumption (kWh)",{"$f":"D11","v":2010},{"$f":"D110+1","v":2011},{"$f":"E110+1","v":2012},{"$f":"F110+1","v":2013},{"$f":"G110+1","v":2014},{"$f":"H110+1","v":2015},{"$f":"I110+1","v":2016},{"$f":"J110+1","v":2017},{"$f":"K110+1","v":2018},{"$f":"L110+1","v":2019},{"$f":"M110+1","v":2020},{"$f":"N110+1","v":2021},{"$f":"O110+1","v":2022},{"$f":"P110+1","v":2023},{"$f":"Q110+1","v":2024},{"$f":"R110+1","v":2025},{"$f":"S110+1","v":2026},{"$f":"T110+1","v":2027},{"$f":"U110+1","v":2028},{"$f":"V110+1","v":2029},{"$f":"W110+1","v":2030},{"$f":"X110+1","v":2031},{"$f":"Y110+1","v":2032},{"$f":"Z110+1","v":2033},{"$f":"AA110+1","v":2034}]
[null,null,"Modeled Pre-case Consumption \n(Installed UEC * Stock)",{"$f":"D95*D103","v":{"$error":"#VALUE!"}},{"$error":"#VALUE!"},{"$error":"#VALUE!"},{"$error":"#VALUE!"},{"$error":"#VALUE!"},{"$error":"#VALUE!"},{"$error":"#VALUE!"},{"$error":"#VALUE!"},{"$error":"#VALUE!"},{"$error":"#VALUE!"},{"$error":"#VALUE!"},{"$error":"#VALUE!"},{"$error":"#VALUE!"},{"$error":"#VALUE!"},{"$error":"#VALUE!"},{"$error":"#VALUE!"},{"$error":"#VALUE!"},{"$error":"#VALUE!"},{"$error":"#VALUE!"},{"$error":"#VALUE!"},{"$error":"#VALUE!"},{"$error":"#VALUE!"},{"$error":"#VALUE!"},{"$error":"#VALUE!"},{"$error":"#VALUE!"}]
[null,null,"Modeled Post-case Consumption \n(Installed UEC* Stock)",{"$f":"D96*D103","v":{"$error":"#VALUE!"}},{"$error":"#VALUE!"},{"$error":"#VALUE!"},{"$error":"#VALUE!"},{"$error":"#VALUE!"},{"$error":"#VALUE!"},{"$error":"#VALUE!"},{"$error":"#VALUE!"},{"$error":"#VALUE!"},{"$error":"#VALUE!"},{"$error":"#VALUE!"},{"$error":"#VALUE!"},{"$error":"#VALUE!"},{"$error":"#VALUE!"},{"$error":"#VALUE!"},{"$error":"#VALUE!"},{"$error":"#VALUE!"},{"$error":"#VALUE!"},{"$error":"#VALUE!"},{"$error":"#VALUE!"},{"$error":"#VALUE!"},{"$error":"#VALUE!"},{"$error":"#VALUE!"},{"$error":"#VALUE!"},{"$error":"#VALUE!"}]
[]
[]
[null,null,"SYSTEMS"]
[null,null,"Total Energy Consumption (aMW)",{"$f":"D11","v":2010},{"$f":"D116+1","v":2011},{"$f":"E116+1","v":2012},{"$f":"F116+1","v":2013},{"$f":"G116+1","v":2014},{"$f":"H116+1","v":2015},{"$f":"I116+1","v":2016},{"$f":"J116+1","v":2017},{"$f":"K116+1","v":2018},{"$f":"L116+1","v":2019},{"$f":"M116+1","v":2020},{"$f":"N116+1","v":2021},{"$f":"O116+1","v":2022},{"$f":"P116+1","v":2023},{"$f":"Q116+1","v":2024},{"$f":"R116+1","v":2025},{"$f":"S116+1","v":2026},{"$f":"T116+1","v":2027},{"$f":"U116+1","v":2028},{"$f":"V116+1","v":2029},{"$f":"W116+1","v":2030},{"$f":"X116+1","v":2031},{"$f":"Y116+1","v":2032},{"$f":"Z116+1","v":2033},{"$f":"AA116+1","v":2034}]
[null,null,{"$f":"C111","v":"Modeled Pre-case Consumption \n(Installed UEC * Stock)"},{"$f":"D111/'Constants and Menus'!$D$13/('Constants and Menus'!$D$12*'Constants and Menus'!$D$10)","v":{"$error":"#VALUE!"}},{"$f":"E111/'Constants and Menus'!$D$13/('Constants and Menus'!$D$12*'Constants and Menus'!$D$10)","v":{"$error":"#VALUE!"}},{"$f":"F111/'Constants and Menus'!$D$13/('Constants and Menus'!$D$12*'Constants and Menus'!$D$10)","v":{"$error":"#VALUE!"}},{"$f":"G111/'Constants and Menus'!$D$13/('Constants and Menus'!$D$12*'Constants and Menus'!$D$10)","v":{"$error":"#VALUE!"}},{"$f":"H111/'Constants and Menus'!$D$13/('Constants and Menus'!$D$12*'Constants and Menus'!$D$10)","v":{"$error":"#VALUE!"}},{"$f":"I111/'Constants and Menus'!$D$13/('Constants and Menus'!$D$12*'Constants and Menus'!$D$10)","v":{"$error":"#VALUE!"}},{"$f":"J111/'Constants and Menus'!$D$13/('Constants and Menus'!$D$12*'Constants and Menus'!$D$10)","v":{"$error":"#VALUE!"}},{"$f":"K111/'Constants and Menus'!$D$13/('Constants and Menus'!$D$12*'Constants and Menus'!$D$10)","v":{"$error":"#VALUE!"}},{"$f":"L111/'Constants and Menus'!$D$13/('Constants and Menus'!$D$12*'Constants and Menus'!$D$10)","v":{"$error":"#VALUE!"}},{"$f":"M111/'Constants and Menus'!$D$13/('Constants and Menus'!$D$12*'Constants and Menus'!$D$10)","v":{"$error":"#VALUE!"}},{"$f":"N111/'Constants and Menus'!$D$13/('Constants and Menus'!$D$12*'Constants and Menus'!$D$10)","v":{"$error":"#VALUE!"}},{"$f":"O111/'Constants and Menus'!$D$13/('Constants and Menus'!$D$12*'Constants and Menus'!$D$10)","v":{"$error":"#VALUE!"}},{"$f":"P111/'Constants and Menus'!$D$13/('Constants and Menus'!$D$12*'Constants and Menus'!$D$10)","v":{"$error":"#VALUE!"}},{"$f":"Q111/'Constants and Menus'!$D$13/('Constants and Menus'!$D$12*'Constants and Menus'!$D$10)","v":{"$error":"#VALUE!"}},{"$f":"R111/'Constants and Menus'!$D$13/('Constants and Menus'!$D$12*'Constants and Menus'!$D$10)","v":{"$error":"#VALUE!"}},{"$f":"S111/'Constants and Menus'!$D$13/('Constants and Menus'!$D$12*'Constants and Menus'!$D$10)","v":{"$error":"#VALUE!"}},{"$f":"T111/'Constants and Menus'!$D$13/('Constants and Menus'!$D$12*'Constants and Menus'!$D$10)","v":{"$error":"#VALUE!"}},{"$f":"U111/'Constants and Menus'!$D$13/('Constants and Menus'!$D$12*'Constants and Menus'!$D$10)","v":{"$error":"#VALUE!"}},{"$f":"V111/'Constants and Menus'!$D$13/('Constants and Menus'!$D$12*'Constants and Menus'!$D$10)","v":{"$error":"#VALUE!"}},{"$f":"W111/'Constants and Menus'!$D$13/('Constants and Menus'!$D$12*'Constants and Menus'!$D$10)","v":{"$error":"#VALUE!"}},{"$f":"X111/'Constants and Menus'!$D$13/('Constants and Menus'!$D$12*'Constants and Menus'!$D$10)","v":{"$error":"#VALUE!"}},{"$f":"Y111/'Constants and Menus'!$D$13/('Constants and Menus'!$D$12*'Constants and Menus'!$D$10)","v":{"$error":"#VALUE!"}},{"$f":"Z111/'Constants and Menus'!$D$13/('Constants and Menus'!$D$12*'Constants and Menus'!$D$10)","v":{"$error":"#VALUE!"}},{"$f":"AA111/'Constants and Menus'!$D$13/('Constants and Menus'!$D$12*'Constants and Menus'!$D$10)","v":{"$error":"#VALUE!"}},{"$f":"AB111/'Constants and Menus'!$D$13/('Constants and Menus'!$D$12*'Constants and Menus'!$D$10)","v":{"$error":"#VALUE!"}}]
[null,null,{"$f":"C112","v":"Modeled Post-case Consumption \n(Installed UEC* Stock)"},{"$f":"D112/'Constants and Menus'!$D$13/('Constants and Menus'!$D$12*'Constants and Menus'!$D$10)","v":{"$error":"#VALUE!"}},{"$f":"E112/'Constants and Menus'!$D$13/('Constants and Menus'!$D$12*'Constants and Menus'!$D$10)","v":{"$error":"#VALUE!"}},{"$f":"F112/'Constants and Menus'!$D$13/('Constants and Menus'!$D$12*'Constants and Menus'!$D$10)","v":{"$error":"#VALUE!"}},{"$f":"G112/'Constants and Menus'!$D$13/('Constants and Menus'!$D$12*'Constants and Menus'!$D$10)","v":{"$error":"#VALUE!"}},{"$f":"H112/'Constants and Menus'!$D$13/('Constants and Menus'!$D$12*'Constants and Menus'!$D$10)","v":{"$error":"#VALUE!"}},{"$f":"I112/'Constants and Menus'!$D$13/('Constants and Menus'!$D$12*'Constants and Menus'!$D$10)","v":{"$error":"#VALUE!"}},{"$f":"J112/'Constants and Menus'!$D$13/('Constants and Menus'!$D$12*'Constants and Menus'!$D$10)","v":{"$error":"#VALUE!"}},{"$f":"K112/'Constants and Menus'!$D$13/('Constants and Menus'!$D$12*'Constants and Menus'!$D$10)","v":{"$error":"#VALUE!"}},{"$f":"L112/'Constants and Menus'!$D$13/('Constants and Menus'!$D$12*'Constants and Menus'!$D$10)","v":{"$error":"#VALUE!"}},{"$f":"M112/'Constants and Menus'!$D$13/('Constants and Menus'!$D$12*'Constants and Menus'!$D$10)","v":{"$error":"#VALUE!"}},{"$f":"N112/'Constants and Menus'!$D$13/('Constants and Menus'!$D$12*'Constants and Menus'!$D$10)","v":{"$error":"#VALUE!"}},{"$f":"O112/'Constants and Menus'!$D$13/('Constants and Menus'!$D$12*'Constants and Menus'!$D$10)","v":{"$error":"#VALUE!"}},{"$f":"P112/'Constants and Menus'!$D$13/('Constants and Menus'!$D$12*'Constants and Menus'!$D$10)","v":{"$error":"#VALUE!"}},{"$f":"Q112/'Constants and Menus'!$D$13/('Constants and Menus'!$D$12*'Constants and Menus'!$D$10)","v":{"$error":"#VALUE!"}},{"$f":"R112/'Constants and Menus'!$D$13/('Constants and Menus'!$D$12*'Constants and Menus'!$D$10)","v":{"$error":"#VALUE!"}},{"$f":"S112/'Constants and Menus'!$D$13/('Constants and Menus'!$D$12*'Constants and Menus'!$D$10)","v":{"$error":"#VALUE!"}},{"$f":"T112/'Constants and Menus'!$D$13/('Constants and Menus'!$D$12*'Constants and Menus'!$D$10)","v":{"$error":"#VALUE!"}},{"$f":"U112/'Constants and Menus'!$D$13/('Constants and Menus'!$D$12*'Constants and Menus'!$D$10)","v":{"$error":"#VALUE!"}},{"$f":"V112/'Constants and Menus'!$D$13/('Constants and Menus'!$D$12*'Constants and Menus'!$D$10)","v":{"$error":"#VALUE!"}},{"$f":"W112/'Constants and Menus'!$D$13/('Constants and Menus'!$D$12*'Constants and Menus'!$D$10)","v":{"$error":"#VALUE!"}},{"$f":"X112/'Constants and Menus'!$D$13/('Constants and Menus'!$D$12*'Constants and Menus'!$D$10)","v":{"$error":"#VALUE!"}},{"$f":"Y112/'Constants and Menus'!$D$13/('Constants and Menus'!$D$12*'Constants and Menus'!$D$10)","v":{"$error":"#VALUE!"}},{"$f":"Z112/'Constants and Menus'!$D$13/('Constants and Menus'!$D$12*'Constants and Menus'!$D$10)","v":{"$error":"#VALUE!"}},{"$f":"AA112/'Constants and Menus'!$D$13/('Constants and Menus'!$D$12*'Constants and Menus'!$D$10)","v":{"$error":"#VALUE!"}},{"$f":"AB112/'Constants and Menus'!$D$13/('Constants and Menus'!$D$12*'Constants and Menus'!$D$10)","v":{"$error":"#VALUE!"}}]
[]
[null,null,"Savings (aMW)",{"$f":"D11","v":2010},{"$f":"D120+1","v":2011},{"$f":"E120+1","v":2012},{"$f":"F120+1","v":2013},{"$f":"G120+1","v":2014},{"$f":"H120+1","v":2015},{"$f":"I120+1","v":2016},{"$f":"J120+1","v":2017},{"$f":"K120+1","v":2018},{"$f":"L120+1","v":2019},{"$f":"M120+1","v":2020},{"$f":"N120+1","v":2021},{"$f":"O120+1","v":2022},{"$f":"P120+1","v":2023},{"$f":"Q120+1","v":2024},{"$f":"R120+1","v":2025},{"$f":"S120+1","v":2026},{"$f":"T120+1","v":2027},{"$f":"U120+1","v":2028},{"$f":"V120+1","v":2029},{"$f":"W120+1","v":2030},{"$f":"X120+1","v":2031},{"$f":"Y120+1","v":2032},{"$f":"Z120+1","v":2033},{"$f":"AA120+1","v":2034}]
[null,null,"Incremental Savings",{"$f":"IF(AND(D$120>='Constants and Menus'!$D$14,(D120-'Constants and Menus'!$D$14)<=SystLifetime),(D93-D94)*D102,\n(D93-D94)*D101)\n/'Constants and Menus'!$D$13/('Constants and Menus'!$D$12*'Constants and Menus'!$D$10)","v":{"$error":"#VALUE!"}},{"$f":"IF(AND(E$120>='Constants and Menus'!$D$14,(E120-'Constants and Menus'!$D$14)<=SystLifetime),(E93-E94)*E102,\n(E93-E94)*E101)\n/'Constants and Menus'!$D$13/('Constants and Menus'!$D$12*'Constants and Menus'!$D$10)","v":{"$error":"#VALUE!"}},{"$f":"IF(AND(F$120>='Constants and Menus'!$D$14,(F120-'Constants and Menus'!$D$14)<=SystLifetime),(F93-F94)*F102,\n(F93-F94)*F101)\n/'Constants and Menus'!$D$13/('Constants and Menus'!$D$12*'Constants and Menus'!$D$10)","v":{"$error":"#VALUE!"}},{"$f":"IF(AND(G$120>='Constants and Menus'!$D$14,(G120-'Constants and Menus'!$D$14)<=SystLifetime),(G93-G94)*G102,\n(G93-G94)*G101)\n/'Constants and Menus'!$D$13/('Constants and Menus'!$D$12*'Constants and Menus'!$D$10)","v":{"$error":"#VALUE!"}},{"$f":"IF(AND(H$120>='Constants and Menus'!$D$14,(H120-'Constants and Menus'!$D$14)<=SystLifetime),(H93-H94)*H102,\n(H93-H94)*H101)\n/'Constants and Menus'!$D$13/('Constants and Menus'!$D$12*'Constants and Menus'!$D$10)","v":{"$error":"#VALUE!"}},{"$f":"IF(AND(I$120>='Constants and Menus'!$D$14,(I120-'Constants and Menus'!$D$14)<=SystLifetime),(I93-I94)*I102,\n(I93-I94)*I101)\n/'Constants and Menus'!$D$13/('Constants and Menus'!$D$12*'Constants and Menus'!$D$10)","v":{"$error":"#VALUE!"}},{"$f":"IF(AND(J$120>='Constants and Menus'!$D$14,(J120-'Constants and Menus'!$D$14)<=SystLifetime),(J93-J94)*J102,\n(J93-J94)*J101)\n/'Constants and Menus'!$D$13/('Constants and Menus'!$D$12*'Constants and Menus'!$D$10)","v":{"$error":"#VALUE!"}},{"$f":"IF(AND(K$120>='Constants and Menus'!$D$14,(K120-'Constants and Menus'!$D$14)<=SystLifetime),(K93-K94)*K102,\n(K93-K94)*K101)\n/'Constants and Menus'!$D$13/('Constants and Menus'!$D$12*'Constants and Menus'!$D$10)","v":{"$error":"#VALUE!"}},{"$f":"IF(AND(L$120>='Constants and Menus'!$D$14,(L120-'Constants and Menus'!$D$14)<=SystLifetime),(L93-L94)*L102,\n(L93-L94)*L101)\n/'Constants and Menus'!$D$13/('Constants and Menus'!$D$12*'Constants and Menus'!$D$10)","v":{"$error":"#VALUE!"}},{"$f":"IF(AND(M$120>='Constants and Menus'!$D$14,(M120-'Constants and Menus'!$D$14)<=SystLifetime),(M93-M94)*M102,\n(M93-M94)*M101)\n/'Constants and Menus'!$D$13/('Constants and Menus'!$D$12*'Constants and Menus'!$D$10)","v":{"$error":"#VALUE!"}},{"$f":"IF(AND(N$120>='Constants and Menus'!$D$14,(N120-'Constants and Menus'!$D$14)<=SystLifetime),(N93-N94)*N102,\n(N93-N94)*N101)\n/'Constants and Menus'!$D$13/('Constants and Menus'!$D$12*'Constants and Menus'!$D$10)","v":{"$error":"#VALUE!"}},{"$f":"IF(AND(O$120>='Constants and Menus'!$D$14,(O120-'Constants and Menus'!$D$14)<=SystLifetime),(O93-O94)*O102,\n(O93-O94)*O101)\n/'Constants and Menus'!$D$13/('Constants and Menus'!$D$12*'Constants and Menus'!$D$10)","v":{"$error":"#VALUE!"}},{"$f":"IF(AND(P$120>='Constants and Menus'!$D$14,(P120-'Constants and Menus'!$D$14)<=SystLifetime),(P93-P94)*P102,\n(P93-P94)*P101)\n/'Constants and Menus'!$D$13/('Constants and Menus'!$D$12*'Constants and Menus'!$D$10)","v":{"$error":"#VALUE!"}},{"$f":"IF(AND(Q$120>='Constants and Menus'!$D$14,(Q120-'Constants and Menus'!$D$14)<=SystLifetime),(Q93-Q94)*Q102,\n(Q93-Q94)*Q101)\n/'Constants and Menus'!$D$13/('Constants and Menus'!$D$12*'Constants and Menus'!$D$10)","v":{"$error":"#VALUE!"}},{"$f":"IF(AND(R$120>='Constants and Menus'!$D$14,(R120-'Constants and Menus'!$D$14)<=SystLifetime),(R93-R94)*R102,\n(R93-R94)*R101)\n/'Constants and Menus'!$D$13/('Constants and Menus'!$D$12*'Constants and Menus'!$D$10)","v":{"$error":"#VALUE!"}},{"$f":"IF(AND(S$120>='Constants and Menus'!$D$14,(S120-'Constants and Menus'!$D$14)<=SystLifetime),(S93-S94)*S102,\n(S93-S94)*S101)\n/'Constants and Menus'!$D$13/('Constants and Menus'!$D$12*'Constants and Menus'!$D$10)","v":{"$error":"#VALUE!"}},{"$f":"IF(AND(T$120>='Constants and Menus'!$D$14,(T120-'Constants and Menus'!$D$14)<=SystLifetime),(T93-T94)*T102,\n(T93-T94)*T101)\n/'Constants and Menus'!$D$13/('Constants and Menus'!$D$12*'Constants and Menus'!$D$10)","v":{"$error":"#VALUE!"}},{"$f":"IF(AND(U$120>='Constants and Menus'!$D$14,(U120-'Constants and Menus'!$D$14)<=SystLifetime),(U93-U94)*U102,\n(U93-U94)*U101)\n/'Constants and Menus'!$D$13/('Constants and Menus'!$D$12*'Constants and Menus'!$D$10)","v":{"$error":"#VALUE!"}},{"$f":"IF(AND(V$120>='Constants and Menus'!$D$14,(V120-'Constants and Menus'!$D$14)<=SystLifetime),(V93-V94)*V102,\n(V93-V94)*V101)\n/'Constants and Menus'!$D$13/('Constants and Menus'!$D$12*'Constants and Menus'!$D$10)","v":{"$error":"#VALUE!"}},{"$f":"IF(AND(W$120>='Constants and Menus'!$D$14,(W120-'Constants and Menus'!$D$14)<=SystLifetime),(W93-W94)*W102,\n(W93-W94)*W101)\n/'Constants and Menus'!$D$13/('Constants and Menus'!$D$12*'Constants and Menus'!$D$10)","v":{"$error":"#VALUE!"}},{"$f":"IF(AND(X$120>='Constants and Menus'!$D$14,(X120-'Constants and Menus'!$D$14)<=SystLifetime),(X93-X94)*X102,\n(X93-X94)*X101)\n/'Constants and Menus'!$D$13/('Constants and Menus'!$D$12*'Constants and Menus'!$D$10)","v":{"$error":"#VALUE!"}},{"$f":"IF(AND(Y$120>='Constants and Menus'!$D$14,(Y120-'Constants and Menus'!$D$14)<=SystLifetime),(Y93-Y94)*Y102,\n(Y93-Y94)*Y101)\n/'Constants and Menus'!$D$13/('Constants and Menus'!$D$12*'Constants and Menus'!$D$10)","v":{"$error":"#VALUE!"}},{"$f":"IF(AND(Z$120>='Constants and Menus'!$D$14,(Z120-'Constants and Menus'!$D$14)<=SystLifetime),(Z93-Z94)*Z102,\n(Z93-Z94)*Z101)\n/'Constants and Menus'!$D$13/('Constants and Menus'!$D$12*'Constants and Menus'!$D$10)","v":{"$error":"#VALUE!"}},{"$f":"IF(AND(AA$120>='Constants and Menus'!$D$14,(AA120-'Constants and Menus'!$D$14)<=SystLifetime),(AA93-AA94)*AA102,\n(AA93-AA94)*AA101)\n/'Constants and Menus'!$D$13/('Constants and Menus'!$D$12*'Constants and Menus'!$D$10)","v":{"$error":"#VALUE!"}},{"$f":"IF(AND(AB$120>='Constants and Menus'!$D$14,(AB120-'Constants and Menus'!$D$14)<=SystLifetime),(AB93-AB94)*AB102,\n(AB93-AB94)*AB101)\n/'Constants and Menus'!$D$13/('Constants and Menus'!$D$12*'Constants and Menus'!$D$10)","v":{"$error":"#VALUE!"}}]
[null,null,"Cumulative Savings",{"$f":"SUM($D$121:D121)","v":{"$error":"#VALUE!"}},{"$f":"SUM($D$121:E121)","v":{"$error":"#VALUE!"}},{"$f":"SUM($D$121:F121)","v":{"$error":"#VALUE!"}},{"$f":"SUM($D$121:G121)","v":{"$error":"#VALUE!"}},{"$f":"SUM($D$121:H121)","v":{"$error":"#VALUE!"}},{"$f":"SUM($D$121:I121)","v":{"$error":"#VALUE!"}},{"$f":"SUM($D$121:J121)","v":{"$error":"#VALUE!"}},{"$f":"SUM($D$121:K121)","v":{"$error":"#VALUE!"}},{"$f":"SUM($D$121:L121)","v":{"$error":"#VALUE!"}},{"$f":"SUM($D$121:M121)","v":{"$error":"#VALUE!"}},{"$f":"SUM($D$121:N121)","v":{"$error":"#VALUE!"}},{"$f":"SUM($D$121:O121)","v":{"$error":"#VALUE!"}},{"$f":"SUM($D$121:P121)","v":{"$error":"#VALUE!"}},{"$f":"SUM($D$121:Q121)","v":{"$error":"#VALUE!"}},{"$f":"SUM($D$121:R121)","v":{"$error":"#VALUE!"}},{"$f":"SUM($D$121:S121)","v":{"$error":"#VALUE!"}},{"$f":"SUM($D$121:T121)","v":{"$error":"#VALUE!"}},{"$f":"SUM($D$121:U121)","v":{"$error":"#VALUE!"}},{"$f":"SUM($D$121:V121)","v":{"$error":"#VALUE!"}},{"$f":"SUM($D$121:W121)","v":{"$error":"#VALUE!"}},{"$f":"SUM($D$121:X121)","v":{"$error":"#VALUE!"}},{"$f":"SUM($D$121:Y121)","v":{"$error":"#VALUE!"}},{"$f":"SUM($D$121:Z121)","v":{"$error":"#VALUE!"}},{"$f":"SUM($D$121:AA121)","v":{"$error":"#VALUE!"}},{"$f":"SUM($D$121:AB121)","v":{"$error":"#VALUE!"}}]
[null,null,"DOE Aggregate Lifecycle Savings (formerly DOE Carbon proxy)",{"$f":"SUM($D$122:D122)","v":{"$error":"#VALUE!"}},{"$f":"SUM($D$122:E122)","v":{"$error":"#VALUE!"}},{"$f":"SUM($D$122:F122)","v":{"$error":"#VALUE!"}},{"$f":"SUM($D$122:G122)","v":{"$error":"#VALUE!"}},{"$f":"SUM($D$122:H122)","v":{"$error":"#VALUE!"}},{"$f":"SUM($D$122:I122)","v":{"$error":"#VALUE!"}},{"$f":"SUM($D$122:J122)","v":{"$error":"#VALUE!"}},{"$f":"SUM($D$122:K122)","v":{"$error":"#VALUE!"}},{"$f":"SUM($D$122:L122)","v":{"$error":"#VALUE!"}},{"$f":"SUM($D$122:M122)","v":{"$error":"#VALUE!"}},{"$f":"SUM($D$122:N122)","v":{"$error":"#VALUE!"}},{"$f":"SUM($D$122:O122)","v":{"$error":"#VALUE!"}},{"$f":"SUM($D$122:P122)","v":{"$error":"#VALUE!"}},{"$f":"SUM($D$122:Q122)","v":{"$error":"#VALUE!"}},{"$f":"SUM($D$122:R122)","v":{"$error":"#VALUE!"}},{"$f":"SUM($D$122:S122)","v":{"$error":"#VALUE!"}},{"$f":"SUM($D$122:T122)","v":{"$error":"#VALUE!"}},{"$f":"SUM($D$122:U122)","v":{"$error":"#VALUE!"}},{"$f":"SUM($D$122:V122)","v":{"$error":"#VALUE!"}},{"$f":"SUM($D$122:W122)","v":{"$error":"#VALUE!"}},{"$f":"SUM($D$122:X122)","v":{"$error":"#VALUE!"}},{"$f":"SUM($D$122:Y122)","v":{"$error":"#VALUE!"}},{"$f":"SUM($D$122:Z122)","v":{"$error":"#VALUE!"}},{"$f":"SUM($D$122:AA122)","v":{"$error":"#VALUE!"}},{"$f":"SUM($D$122:AB122)","v":{"$error":"#VALUE!"}}]
[null,null,"Check",null,{"$f":"ROUND(E122-D122-E121,3)","v":{"$error":"#VALUE!"}},{"$error":"#VALUE!"},{"$error":"#VALUE!"},{"$error":"#VALUE!"},{"$error":"#VALUE!"},{"$error":"#VALUE!"},{"$error":"#VALUE!"},{"$error":"#VALUE!"},{"$error":"#VALUE!"},{"$error":"#VALUE!"},{"$error":"#VALUE!"},{"$error":"#VALUE!"},{"$error":"#VALUE!"},{"$error":"#VALUE!"},{"$error":"#VALUE!"},{"$error":"#VALUE!"},{"$error":"#VALUE!"},{"$error":"#VALUE!"},{"$error":"#VALUE!"},{"$error":"#VALUE!"},{"$error":"#VALUE!"},{"$error":"#VALUE!"},{"$error":"#VALUE!"},{"$error":"#VALUE!"}]

{"sheet":"SUMMARY RESULTS","index":15,"n_rows":12,"n_cols":4,"rows_kept":12,"cut":false,"hidden":false,"merged":[]}
[]
[null,null,"SUMMARY RESULTS"]
[]
[null,null,"NAVIGATION"]
[]
[null,null,"COMMENTS"]
[]
[]
[null,null,null,{"$f":"RESULTS!$C$9","v":"TOTAL"}]
[null,null,"Adjustment to 6P Baseline (aMW)","N/A"]
[null,null,"Total First Year Savings 2010 through 2015 (aMW)",{"$f":"SUM(RESULTS!$D$41:$I$41)","v":{"$error":"#VALUE!"}}]
[null,null,"Total First Year Savings through 2034 (aMW)",{"$f":"SUM(RESULTS!$D$41:$AB$41)","v":{"$error":"#VALUE!"}}]

{"sheet":"Charts","index":16,"n_rows":6,"n_cols":3,"rows_kept":6,"cut":false,"hidden":false,"merged":[]}
[]
[null,null,"CHARTS "]
[]
[null,null,"NAVIGATION"]
[]
[null,null,"COMMENTS"]