{"text_format":"1","workbook":"xlsx","n_sheets":30,"sheets":["COVER","Definitions","Comments","Navigation","Product Classes","Efficiency Levels","National Shipments Data","Lifetimes","Shipments and Stock - SF","Shipments and Stock - MF","Shipments and Stock - MH","Efficiency Dist - SF","Efficiency Dist - MF","Efficiency Dist - MH","6P UEC Development","Constants","Product Class Dist","UEC Development","UEC-SF","UEC-MF","UEC-MH","Results-SF","Results-MF","Results-MH","Results-TH","SUMMARY RESULTS","Charts-SF","Charts-MF","Charts-MH","Charts-TH"],"not_rendered":{"charts":40,"images":0,"macros":1,"external_links":1,"defined_names":10,"comments":0,"pivot_tables":0},"unopened":[],"bounds":{"document_bytes":16777216,"sheet_cells":100000,"rows_first":2000,"rows_last":500,"rows_between":2000,"halvings":0,"cell_chars":16384,"cell_head_chars":4096},"cells_cut":0,"cells_raw":0,"read":"whole","date_system":"1900"}

{"sheet":"COVER","index":0,"n_rows":30,"n_cols":4,"rows_kept":30,"cut":false,"hidden":false,"merged":[[24,2,24,3],[8,2,8,3],[9,2,9,3],[10,2,10,3],[13,2,13,3],[16,2,16,3],[18,2,18,3]]}
[]
[null,null,"Cover"]
[]
[null,null,"NAVIGATION"]
[]
[null,null,"COMMENTS"]
[]
[]
[null,null,"Bonneville Power Administration"]
[null,null,"6P Energy Conservation Standards Savings Model"]
[null,null,"Electric Cooktops"]
[]
[null,null,"Product Description"]
[null,null,"Residential cooktops include both independent cooktops and those incorporated as part of a conventional range.  These are part of a broader group classified by DOE as cooking products. Cooking products cook or heat food by means of gas, electricity, or microwave energy. This model is limited to electric cooktops only.  These products are used primarily in homes and apartments. Kitchen ranges and ovens do not include portable or countertop ovens that use electric resistance heating or are designed to use an electrical supply of approximately 120 volts."]
[]
[null,null,"Standard Compliance Year"]
[null,null,"2019; Expected Compliance Year per the DOE 2014 Request for Information "]
[]
[null,null,"Major changes from previous rulemaking (2009 effective standard)"]
[null,null,"2009 Standard only pertained to gas cooking product, effectively eliminating standing pilots."]
[null,null,"2014 Rulemaking considering standards for ovens and cooktops."]
[null,null,"No new standards issued as of the time this model was developed."]
[]
[null,null,"6P Baseline "]
[null,null,"The product was not modeled in the Sixth Power Plan. "]
[]
[null,null,"Prepared By:"]
[null,null,"Navigant Consulting","Cadeo Group"]
[null,null,"One Market Street | Spear Street Tower, Suite 1200 ","840 First Street, Suite 300"]
[null,null,"San Francisco, CA 94105","Washington, DC  20002"]

{"sheet":"Definitions","index":1,"n_rows":32,"n_cols":4,"rows_kept":32,"cut":false,"hidden":false,"merged":[]}
[]
[null,null,"Definitions"]
[]
[null,null,"NAVIGATION"]
[]
[null,null,"COMMENTS"]
[]
[]
[null,null,"Average Megawatt (aMW)","The average number of megawatts over a specified time period"]
[null,null,"Adjustment to 6P Baseline ","Adjustment to reconcile the 6P projected energy consumption and the modeled consumption calculated using best available data."]
[null,null,"Department of Energy Aggregate Lifecycle Savings ","Sum of 'Total First Year Savings'.  This accounts for the cumulative savings in accordance with DOE Carbon Accounting Practices."]
[null,null,"Department of Energy Notice of Proposed Rulemaking (DOE NOPR)","Federal Register notice detailing analyses conducted by the DOE to establish proposed energy conservation standards. "]
[null,null,"Efficiency Level (EL)","The discrete efficiency ratings of a product.  Each efficiency level is associated with a different UEC."]
[null,null,"Efficiency Level Distribution","The mix of various equipment efficiencies shipped in a given year."]
[null,null,"Incremental Savings ","Savings due to the higher standards for units installed in a particular year. First year savings are highest following the standards compliance year while the stock turns over, after which first year savings are only attributed to shipments associated with new construction. "]
[null,null,"Governmental Regulatory Impact Model (GRIM)","The industry cash flow model used by DOE to assess impacts on manufacturers due to proposed energy conservation standards"]
[null,null,"Installed Unit Energy Consumption (Installed UEC)","The average annual unit energy consumption of all installed units in a given year."]
[null,null,"Market Unit Energy Consumption (Market UEC)","The average annual unit energy consumption of units shipped in a given year.   "]
[null,null,"National Impact Analysis (NIA)","The energy impact analysis used by DOE to calculate energy savings associated with each standard. "]
[null,null,"Pre-case ","The case representing 6P baseline assumptions where energy consumption due to the product accounts for shipment and shipment UEC by year, without the affect of standards announced following the development of the 6P."]
[null,null,"Post-case","The case in which standards are implemented. If the 6P already captured the analyzed standard, the post-case will be the same as the pre-case."]
[null,null,"Product Class","Product classificiation determined by product configuration, size, application, location, and other attributes that contribute to consumer utility.  DOE is allowed to establish different standards for each product class."]
[null,null,"Product Class Distribution ","Market share/mix of each product class shipped in a given year."]
[null,null,"Product Lifetime","The average time a given class of products stays in the field as part of the installed stock.  Some products will last longer (delaying replacement) whereas others will fail and be retired earlier (accelerating replacement), but the lifetime represents the market average."]
[null,null,"Shipments ","Sales of products.  This may be presented by product class, efficiency distribution, or delineated by other metrics. Shipments may be attributed to new construction and/or replacements and retrofits. "]
[null,null,"Sixth Power Plan (6P)","The Pacific Northwest Resource Plan published by the Northwest Power Conservation Council. The 6P timeframe is from 2010-2015."]
[null,null,"Sixth Power Plan Baseline (6P Baseline)","The 6P assumes equipment efficiency and shipment units in the region.  When available, the 6P assumptions are the baseline for each standard impact analysis."]
[null,null,"Standard Compliance Year","The year when the appliance standard goes into effect. "]
[null,null,"Stock ","All units installed in previous years which remain in operation."]
[null,null,"Technical Support Document (TSD)","TSDs are published by the DOE as companion documents to Federal Register notices (e.g., ANOPRs/preliminary analyses and NOPRs).  The TSDs include technical detail that supports the notices.  The final rule TSD includes the discussion of the Manufacturer Impact Analysis (MIA) and National Impact Analysis (NIA)."]
[null,null,"Cumulative Savings through 2034","The sum of incremental savings from 2010 through 2034"]
[null,null,"Trial Standard Level (TSL)","A proposed  efficiency standard evaluated by DOE during the NOPR and Final Rule phase analyses.  A TSL may specify different standard efficiency levels for each product class included in the rulemaking."]

{"sheet":"Comments","index":2,"n_rows":8,"n_cols":4,"rows_kept":8,"cut":false,"hidden":false,"merged":[[7,3,7,7],[14,3,14,7],[15,3,15,7],[16,3,16,7],[8,3,8,7],[9,3,9,7],[10,3,10,7],[11,3,11,7],[12,3,12,7],[13,3,13,7]]}
[]
[null,null,"Comments"]
[]
[null,null,"NAVIGATION"]
[]
[]
[null,null,"Tab","Comment"]
[null,null,"Example","Please use this space to document your comments as you review the model.  We look forward to receiving your feedback.  Thank you."]

{"sheet":"Navigation","index":3,"n_rows":33,"n_cols":11,"rows_kept":33,"cut":false,"hidden":false,"merged":[[16,2,24,2],[32,8,34,8],[16,10,18,10],[20,10,22,10],[24,10,26,10],[28,10,30,10],[28,8,30,8],[16,6,18,6],[20,6,22,6],[24,6,26,6],[16,8,18,8],[20,8,22,8],[24,8,26,8]]}
[]
[null,null,"NAVIGATION"]
[]
[null,null,"COMMENTS"]
[]
[]
[null,null,"INFORMATION TABS",null,"INPUT TABS",null,"UEC CALCULATIONS",null,"RESULTS",null,"CHARTS"]
[]
[null,null,"COVER",null,"PRODUCT CLASSES"]
[]
[null,null,"DEFINITIONS",null,"EFFICIENCY LEVELS",null,"UEC DEVELOPMENT"]
[]
[null,null,"COMMENTS",null,"NATIONAL SHIPMENTS DATA",null,"PRODUCT CLASS DISTRIBUTION"]
[]
[null,null,"NAVIGATION",null,"LIFETIMES"]
[]
[null,null,"CENTRAL RESIDENTIAL MODEL (EXTERNAL)",null,"SHIPMENTS AND STOCK - SF",null,"UEC - SF",null,"RESULTS - SF",null,"CHARTS - SF"]
[]
[null,null,null,null,"EFFICIENCY DISTRIBUTION - SF"]
[]
[null,null,null,null,"SHIPMENTS AND STOCK - MF",null,"UEC - MF",null,"RESULTS - MF",null,"CHARTS - MF"]
[]
[null,null,null,null,"EFFICIENCY DISTRIBUTION - MF"]
[]
[null,null,null,null,"SHIPMENTS AND STOCK - MH",null,"UEC - MH",null,"RESULTS - MH",null,"CHARTS - MH"]
[]
[null,null,null,null,"EFFICIENCY DISTRIBUTION - MH"]
[]
[null,null,null,null,"6P UEC DEVELOPMENT",null,null,null,"RESULTS - TH",null,"CHARTS - ALL"]
[]
[null,null,null,null,"CONSTANTS"]
[]
[null,null,null,null,null,null,null,null,"SUMMARY RESULTS"]

{"sheet":"Product Classes","index":4,"n_rows":14,"n_cols":9,"rows_kept":14,"cut":false,"hidden":false,"merged":[]}
[]
[null,null,"Selection of Product Classes for Model"]
[]
[null,null,"NAVIGATION"]
[]
[null,null,"COMMENTS"]
[]
[]
[null,null,"All Product Classes","2014 DOE RFI PCs","DOE Representative PCs","6P PCs",null,"Model PCs","Rationale"]
[null,null,"Gas Cooking Tops","Included",null,null,null,null,"Rejected as gas product"]
[null,null,"Electric Cooking Tops—Low or High Wattage Open (Coil) Elements","Included",null,null,null,"PC1"]
[null,null,"Electric Cooking Tops—Smooth Elements","Included",null,null,null,"PC2"]
[]
[null,null,"Source","2014 DOE Request for Information - Table II.5—Conventional Cooking Tops Baseline Efficiency Levels"]

{"sheet":"Efficiency Levels","index":5,"n_rows":35,"n_cols":6,"rows_kept":35,"cut":false,"hidden":false,"merged":[[1,2,1,3],[3,2,3,3],[5,2,5,3]]}
[]
[null,null,"Efficiency Levels and Standards for Each Product Class"]
[]
[null,null,"NAVIGATION"]
[]
[null,null,"COMMENTS"]
[]
[]
[null,null,"PC1",{"$f":"OFFSET('Product Classes'!$C$9,MATCH(C9,'Product Classes'!$H$10:$H$12,0),0)","v":"Electric Cooking Tops—Low or High Wattage Open (Coil) Elements"}]
[]
[null,null," Model ELs","Integrated Annual Enercy Consumption (kWh)","Efficiency Factor","Efficiency Level Source"]
[null,null,"EL0",256.7,0.67400000000000004,"2009 DOE Final Rule Technnical Support Document (Baseline)"]
[null,null,"EL1",246,0.70399999999999996,"2009 DOE Final Rule Technnical Support Document (Improved Contact Conductance)"]
[]
[null,null,"Standard","Annual Energy Consumption (kWh)","Efficiency Factor","Standard Year"]
[null,null,"EL1",{"$f":"OFFSET(D11,MATCH($C16,$C12:$C13),0)","v":246},{"$f":"OFFSET(E11,MATCH($C16,$C12:$C13),0)","v":0.70399999999999996},2019]
[]
[null,null,"Sources","2014 DOE Request for Information: Table II.8—Efficiency Levels Under Consideration for Open (Coil) Element Electric Cooking Tops"]
[]
[]
[]
[null,null,"PC2",{"$f":"OFFSET('Product Classes'!$C$9,MATCH(C22,'Product Classes'!$H$10:$H$12,0),0)","v":"Electric Cooking Tops—Smooth Elements"}]
[]
[null,null," Model ELs","Integrated Annual Enercy Consumption (kWh)","Efficiency Factor","Efficiency Level Source"]
[null,null,"EL0",280.60000000000002,0.67900000000000005,"2009 DOE Final Rule Technnical Support Document Baseline"]
[null,null,"EL1",268.60000000000002,0.67900000000000005,"2009 DOE Final Rule Technnical Support Document Baseline + Switch-Mode Power Supply (SMPS)"]
[null,null,"EL2",263.5,0.67900000000000005,"2009 DOE Final Rule Technnical Support Document Baseline + 1 W Standby"]
[null,null,"EL3",259.8,0.68899999999999995,"2009 DOE Final Rule Technnical Support Document (Halogen Lamp Element) + 1 W Standby"]
[null,null,"EL4",245.9,0.746,"2009 DOE Final Rule Technnical Support Document (Induction + SMPS)"]
[null,null,"EL5",240.7,0.746,"2009 DOE Final Rule Technnical Support Document (Induction + 1 W Standby)"]
[]
[null,null,"Standard","Annual Energy Consumption (kWh)","Efficiency Factor","Standard Year"]
[null,null,"EL4",{"$f":"OFFSET(D24,MATCH($C33,$C25:$C30),0)","v":245.9},{"$f":"OFFSET(E24,MATCH($C33,$C25:$C30),0)","v":0.746},2019]
[]
[null,null,"Sources","2014 DOE Request for Information: Table II.9—Efficiency Levels Under Consideration for Smooth Element Electric Cooking Tops"]

{"sheet":"National Shipments Data","index":6,"n_rows":19,"n_cols":20,"rows_kept":19,"cut":false,"hidden":false,"merged":[]}
[]
[null,null,"National Shipments Data"]
[]
[null,null,"NAVIGATION"]
[]
[null,null,"COMMENTS"]
[]
[]
[null,null,"Product from DOE 2009 FR Shipments Analysis","Maps to Model Product Class",1990,1991,1992,1993,1994,1995,1996,1997,1998,1999,2000,2001,2002,2003,2004,2005]
[null,null,"Range w/ Coil Cooktop and Standard Oven","PC 1 - Electric Cooking Tops—Low or High Wattage Open (Coil) Elements",0.22,0.25,0.26,0.26,0.22,0.24,0.22,0.21,0.2,0.19,0.19,0.18,0.17,0.14000000000000001,0.14000000000000001,0.15]
[null,null,"Range w/ Coil Cooktop and Self-Clean Oven","PC 1 - Electric Cooking Tops—Low or High Wattage Open (Coil) Elements",0.15,0.14000000000000001,0.14000000000000001,0.14000000000000001,0.17,0.16,0.18,0.18,0.19,0.2,0.2,0.2,0.21,0.22,0.22,0.21]
[null,null,"Range w/ Smooth Cooktop and Standard Oven","PC 2 - Electric Cooking Tops—Smooth Elements",0.08,0.09,0.09,0.09,0.08,0.09,0.08,7.0000000000000007E-2,7.0000000000000007E-2,7.0000000000000007E-2,7.0000000000000007E-2,0.06,0.06,0.05,0.05,0.06]
[null,null,"Range w/ Smooth Cooktop and Self-Clean Oven","PC 2 - Electric Cooking Tops—Smooth Elements",0.23,0.22,0.22,0.22,0.26,0.26,0.27,0.28000000000000003,0.28999999999999998,0.3,0.31,0.31,0.32,0.34,0.34,0.34]
[null,null,"Built-In Coil Cooktop","PC 1 - Electric Cooking Tops—Low or High Wattage Open (Coil) Elements",0.04,0.04,0.04,0.04,0.03,0.03,0.03,0.03,0.03,0.03,0.03,0.03,0.03,0.03,0.03,0.03]
[null,null,"Built-In Smooth Cooktop","PC 2 - Electric Cooking Tops—Smooth Elements",0.09,0.08,0.08,0.08,7.0000000000000007E-2,7.0000000000000007E-2,7.0000000000000007E-2,7.0000000000000007E-2,0.08,7.0000000000000007E-2,7.0000000000000007E-2,7.0000000000000007E-2,7.0000000000000007E-2,0.06,0.06,0.06]
[null,null,"Built-In Standard Oven","none",7.0000000000000007E-2,0.04,0.04,0.03,0.05,0.03,0.03,0.03,0.02,0.02,0.02,0.02,0.02,0.02,0.02,0.01]
[null,null,"Built-In Self-Clean Oven","none",0.12,0.14000000000000001,0.14000000000000001,0.14000000000000001,0.11,0.12,0.12,0.12,0.12,0.12,0.12,0.12,0.13,0.13,0.14000000000000001,0.14000000000000001]
[]
[null,null,"Source/Rationale","2009 DOE Final Rule Technical Support Document Chapter 10: Shipments Analysis - Table 10.3.2 Electric Cooktops and Ovens: Historical Shipment Market Shares by \nProduct Type ","2009 DOE Final Rule Technical Support Document Chapter 10: Shipments Analysis - Table 10.3.2 Electric Cooktops and Ovens: Historical Shipment Market Shares by \nProduct Type "]

{"sheet":"Lifetimes","index":7,"n_rows":10,"n_cols":8,"rows_kept":10,"cut":false,"hidden":false,"merged":[]}
[]
[null,null,"Lifetimes"]
[]
[null,null,"NAVIGATION"]
[]
[null,null,"COMMENTS"]
[]
[]
[null,null,{"$f":"MODEL_NAME","v":"Electric Cooktops"},"Single Family","Multi-Family","Manufactured Homes","Total Homes","Source"]
[null,null,"Lifetime (years)",{"$f":"ROUND(INDEX([1]!LIFETIMES_TABLE,\nMATCH($C$9,[1]!APPLIANCES,0),\nMATCH(D9,[1]!LIFETIMES_HOUSING_TYPE,0)),0)","v":19},{"$f":"ROUND(INDEX([1]!LIFETIMES_TABLE,\nMATCH($C$9,[1]!APPLIANCES,0),\nMATCH(E9,[1]!LIFETIMES_HOUSING_TYPE,0)),0)","v":19},{"$f":"ROUND(INDEX([1]!LIFETIMES_TABLE,\nMATCH($C$9,[1]!APPLIANCES,0),\nMATCH(F9,[1]!LIFETIMES_HOUSING_TYPE,0)),0)","v":19},{"$f":"ROUND(INDEX([1]!LIFETIMES_TABLE,\nMATCH($C$9,[1]!APPLIANCES,0),\nMATCH(G9,[1]!LIFETIMES_HOUSING_TYPE,0)),0)","v":19},"DOE Kitchen Ranges and Ovens 2009 Final Rule, Technical Support Document Chapter 8: Lifecycle Cost Analysis, Table 8.2.43 Cooktops and Ovens: Average, Minimum, and Maximum Product Lifetimes (page 8-39)"]

{"sheet":"Shipments and Stock - SF","index":8,"n_rows":15,"n_cols":58,"rows_kept":15,"cut":false,"hidden":false,"merged":[]}
[]
[null,null,"Shipments and Stock - SF"]
[]
[null,null,"NAVIGATION"]
[]
[null,null,"COMMENTS"]
[]
[]
[null,null,{"$f":"MODEL_NAME","v":"Electric Cooktops"}]
[null,null,null,null,1981,1982,1983,1984,1985,1986,1987,1988,1989,1990,1991,1992,1993,1994,1995,1996,1997,1998,1999,2000,2001,2002,2003,2004,2005,2006,2007,2008,2009,2010,2011,2012,2013,2014,2015,2016,2017,2018,2019,2020,2021,2022,2023,2024,2025,2026,2027,2028,2029,2030,2031,2032,2033,2034]
[null,null,"6P Shipments","(units)",{"$f":"IF(ISNUMBER(MATCH(E10,[1]!SIXTH_PLAN_SF_YEARS,0)),\nINDEX([1]!SIXTH_PLAN_SF,\nMATCH($C$9,[1]!APPLIANCES,0),\nMATCH(E$10,[1]!SIXTH_PLAN_SF_YEARS,0)),\"pre-dates plan\")","v":"pre-dates plan"},{"$f":"IF(ISNUMBER(MATCH(F10,[1]!SIXTH_PLAN_SF_YEARS,0)),\nINDEX([1]!SIXTH_PLAN_SF,\nMATCH($C$9,[1]!APPLIANCES,0),\nMATCH(F$10,[1]!SIXTH_PLAN_SF_YEARS,0)),\"pre-dates plan\")","v":"pre-dates plan"},{"$f":"IF(ISNUMBER(MATCH(G10,[1]!SIXTH_PLAN_SF_YEARS,0)),\nINDEX([1]!SIXTH_PLAN_SF,\nMATCH($C$9,[1]!APPLIANCES,0),\nMATCH(G$10,[1]!SIXTH_PLAN_SF_YEARS,0)),\"pre-dates plan\")","v":"pre-dates plan"},{"$f":"IF(ISNUMBER(MATCH(H10,[1]!SIXTH_PLAN_SF_YEARS,0)),\nINDEX([1]!SIXTH_PLAN_SF,\nMATCH($C$9,[1]!APPLIANCES,0),\nMATCH(H$10,[1]!SIXTH_PLAN_SF_YEARS,0)),\"pre-dates plan\")","v":"pre-dates plan"},{"$f":"IF(ISNUMBER(MATCH(I10,[1]!SIXTH_PLAN_SF_YEARS,0)),\nINDEX([1]!SIXTH_PLAN_SF,\nMATCH($C$9,[1]!APPLIANCES,0),\nMATCH(I$10,[1]!SIXTH_PLAN_SF_YEARS,0)),\"pre-dates plan\")","v":"pre-dates plan"},{"$f":"IF(ISNUMBER(MATCH(J10,[1]!SIXTH_PLAN_SF_YEARS,0)),\nINDEX([1]!SIXTH_PLAN_SF,\nMATCH($C$9,[1]!APPLIANCES,0),\nMATCH(J$10,[1]!SIXTH_PLAN_SF_YEARS,0)),\"pre-dates plan\")","v":"pre-dates plan"},{"$f":"IF(ISNUMBER(MATCH(K10,[1]!SIXTH_PLAN_SF_YEARS,0)),\nINDEX([1]!SIXTH_PLAN_SF,\nMATCH($C$9,[1]!APPLIANCES,0),\nMATCH(K$10,[1]!SIXTH_PLAN_SF_YEARS,0)),\"pre-dates plan\")","v":"pre-dates plan"},{"$f":"IF(ISNUMBER(MATCH(L10,[1]!SIXTH_PLAN_SF_YEARS,0)),\nINDEX([1]!SIXTH_PLAN_SF,\nMATCH($C$9,[1]!APPLIANCES,0),\nMATCH(L$10,[1]!SIXTH_PLAN_SF_YEARS,0)),\"pre-dates plan\")","v":"pre-dates plan"},{"$f":"IF(ISNUMBER(MATCH(M10,[1]!SIXTH_PLAN_SF_YEARS,0)),\nINDEX([1]!SIXTH_PLAN_SF,\nMATCH($C$9,[1]!APPLIANCES,0),\nMATCH(M$10,[1]!SIXTH_PLAN_SF_YEARS,0)),\"pre-dates plan\")","v":"pre-dates plan"},{"$f":"IF(ISNUMBER(MATCH(N10,[1]!SIXTH_PLAN_SF_YEARS,0)),\nINDEX([1]!SIXTH_PLAN_SF,\nMATCH($C$9,[1]!APPLIANCES,0),\nMATCH(N$10,[1]!SIXTH_PLAN_SF_YEARS,0)),\"pre-dates plan\")","v":"pre-dates plan"},{"$f":"IF(ISNUMBER(MATCH(O10,[1]!SIXTH_PLAN_SF_YEARS,0)),\nINDEX([1]!SIXTH_PLAN_SF,\nMATCH($C$9,[1]!APPLIANCES,0),\nMATCH(O$10,[1]!SIXTH_PLAN_SF_YEARS,0)),\"pre-dates plan\")","v":"pre-dates plan"},{"$f":"IF(ISNUMBER(MATCH(P10,[1]!SIXTH_PLAN_SF_YEARS,0)),\nINDEX([1]!SIXTH_PLAN_SF,\nMATCH($C$9,[1]!APPLIANCES,0),\nMATCH(P$10,[1]!SIXTH_PLAN_SF_YEARS,0)),\"pre-dates plan\")","v":"pre-dates plan"},{"$f":"IF(ISNUMBER(MATCH(Q10,[1]!SIXTH_PLAN_SF_YEARS,0)),\nINDEX([1]!SIXTH_PLAN_SF,\nMATCH($C$9,[1]!APPLIANCES,0),\nMATCH(Q$10,[1]!SIXTH_PLAN_SF_YEARS,0)),\"pre-dates plan\")","v":"pre-dates plan"},{"$f":"IF(ISNUMBER(MATCH(R10,[1]!SIXTH_PLAN_SF_YEARS,0)),\nINDEX([1]!SIXTH_PLAN_SF,\nMATCH($C$9,[1]!APPLIANCES,0),\nMATCH(R$10,[1]!SIXTH_PLAN_SF_YEARS,0)),\"pre-dates plan\")","v":"pre-dates plan"},{"$f":"IF(ISNUMBER(MATCH(S10,[1]!SIXTH_PLAN_SF_YEARS,0)),\nINDEX([1]!SIXTH_PLAN_SF,\nMATCH($C$9,[1]!APPLIANCES,0),\nMATCH(S$10,[1]!SIXTH_PLAN_SF_YEARS,0)),\"pre-dates plan\")","v":"pre-dates plan"},{"$f":"IF(ISNUMBER(MATCH(T10,[1]!SIXTH_PLAN_SF_YEARS,0)),\nINDEX([1]!SIXTH_PLAN_SF,\nMATCH($C$9,[1]!APPLIANCES,0),\nMATCH(T$10,[1]!SIXTH_PLAN_SF_YEARS,0)),\"pre-dates plan\")","v":"pre-dates plan"},{"$f":"IF(ISNUMBER(MATCH(U10,[1]!SIXTH_PLAN_SF_YEARS,0)),\nINDEX([1]!SIXTH_PLAN_SF,\nMATCH($C$9,[1]!APPLIANCES,0),\nMATCH(U$10,[1]!SIXTH_PLAN_SF_YEARS,0)),\"pre-dates plan\")","v":"pre-dates plan"},{"$f":"IF(ISNUMBER(MATCH(V10,[1]!SIXTH_PLAN_SF_YEARS,0)),\nINDEX([1]!SIXTH_PLAN_SF,\nMATCH($C$9,[1]!APPLIANCES,0),\nMATCH(V$10,[1]!SIXTH_PLAN_SF_YEARS,0)),\"pre-dates plan\")","v":"pre-dates plan"},{"$f":"IF(ISNUMBER(MATCH(W10,[1]!SIXTH_PLAN_SF_YEARS,0)),\nINDEX([1]!SIXTH_PLAN_SF,\nMATCH($C$9,[1]!APPLIANCES,0),\nMATCH(W$10,[1]!SIXTH_PLAN_SF_YEARS,0)),\"pre-dates plan\")","v":"pre-dates plan"},{"$f":"IF(ISNUMBER(MATCH(X10,[1]!SIXTH_PLAN_SF_YEARS,0)),\nINDEX([1]!SIXTH_PLAN_SF,\nMATCH($C$9,[1]!APPLIANCES,0),\nMATCH(X$10,[1]!SIXTH_PLAN_SF_YEARS,0)),\"pre-dates plan\")","v":"pre-dates plan"},{"$f":"IF(ISNUMBER(MATCH(Y10,[1]!SIXTH_PLAN_SF_YEARS,0)),\nINDEX([1]!SIXTH_PLAN_SF,\nMATCH($C$9,[1]!APPLIANCES,0),\nMATCH(Y$10,[1]!SIXTH_PLAN_SF_YEARS,0)),\"pre-dates plan\")","v":"pre-dates plan"},{"$f":"IF(ISNUMBER(MATCH(Z10,[1]!SIXTH_PLAN_SF_YEARS,0)),\nINDEX([1]!SIXTH_PLAN_SF,\nMATCH($C$9,[1]!APPLIANCES,0),\nMATCH(Z$10,[1]!SIXTH_PLAN_SF_YEARS,0)),\"pre-dates plan\")","v":"pre-dates plan"},{"$f":"IF(ISNUMBER(MATCH(AA10,[1]!SIXTH_PLAN_SF_YEARS,0)),\nINDEX([1]!SIXTH_PLAN_SF,\nMATCH($C$9,[1]!APPLIANCES,0),\nMATCH(AA$10,[1]!SIXTH_PLAN_SF_YEARS,0)),\"pre-dates plan\")","v":"pre-dates plan"},{"$f":"IF(ISNUMBER(MATCH(AB10,[1]!SIXTH_PLAN_SF_YEARS,0)),\nINDEX([1]!SIXTH_PLAN_SF,\nMATCH($C$9,[1]!APPLIANCES,0),\nMATCH(AB$10,[1]!SIXTH_PLAN_SF_YEARS,0)),\"pre-dates plan\")","v":"pre-dates plan"},{"$f":"IF(ISNUMBER(MATCH(AC10,[1]!SIXTH_PLAN_SF_YEARS,0)),\nINDEX([1]!SIXTH_PLAN_SF,\nMATCH($C$9,[1]!APPLIANCES,0),\nMATCH(AC$10,[1]!SIXTH_PLAN_SF_YEARS,0)),\"pre-dates plan\")","v":"pre-dates plan"},{"$f":"IF(ISNUMBER(MATCH(AD10,[1]!SIXTH_PLAN_SF_YEARS,0)),\nINDEX([1]!SIXTH_PLAN_SF,\nMATCH($C$9,[1]!APPLIANCES,0),\nMATCH(AD$10,[1]!SIXTH_PLAN_SF_YEARS,0)),\"pre-dates plan\")","v":"pre-dates plan"},{"$f":"IF(ISNUMBER(MATCH(AE10,[1]!SIXTH_PLAN_SF_YEARS,0)),\nINDEX([1]!SIXTH_PLAN_SF,\nMATCH($C$9,[1]!APPLIANCES,0),\nMATCH(AE$10,[1]!SIXTH_PLAN_SF_YEARS,0)),\"pre-dates plan\")","v":"pre-dates plan"},{"$f":"IF(ISNUMBER(MATCH(AF10,[1]!SIXTH_PLAN_SF_YEARS,0)),\nINDEX([1]!SIXTH_PLAN_SF,\nMATCH($C$9,[1]!APPLIANCES,0),\nMATCH(AF$10,[1]!SIXTH_PLAN_SF_YEARS,0)),\"pre-dates plan\")","v":"pre-dates plan"},{"$f":"IF(ISNUMBER(MATCH(AG10,[1]!SIXTH_PLAN_SF_YEARS,0)),\nINDEX([1]!SIXTH_PLAN_SF,\nMATCH($C$9,[1]!APPLIANCES,0),\nMATCH(AG$10,[1]!SIXTH_PLAN_SF_YEARS,0)),\"pre-dates plan\")","v":"pre-dates plan"},{"$f":"IF(ISNUMBER(MATCH(AH10,[1]!SIXTH_PLAN_SF_YEARS,0)),\nINDEX([1]!SIXTH_PLAN_SF,\nMATCH($C$9,[1]!APPLIANCES,0),\nMATCH(AH$10,[1]!SIXTH_PLAN_SF_YEARS,0)),\"pre-dates plan\")","v":166193.92044970513},{"$f":"IF(ISNUMBER(MATCH(AI10,[1]!SIXTH_PLAN_SF_YEARS,0)),\nINDEX([1]!SIXTH_PLAN_SF,\nMATCH($C$9,[1]!APPLIANCES,0),\nMATCH(AI$10,[1]!SIXTH_PLAN_SF_YEARS,0)),\"pre-dates plan\")","v":166193.92044970513},{"$f":"IF(ISNUMBER(MATCH(AJ10,[1]!SIXTH_PLAN_SF_YEARS,0)),\nINDEX([1]!SIXTH_PLAN_SF,\nMATCH($C$9,[1]!APPLIANCES,0),\nMATCH(AJ$10,[1]!SIXTH_PLAN_SF_YEARS,0)),\"pre-dates plan\")","v":166193.92044970513},{"$f":"IF(ISNUMBER(MATCH(AK10,[1]!SIXTH_PLAN_SF_YEARS,0)),\nINDEX([1]!SIXTH_PLAN_SF,\nMATCH($C$9,[1]!APPLIANCES,0),\nMATCH(AK$10,[1]!SIXTH_PLAN_SF_YEARS,0)),\"pre-dates plan\")","v":166193.92044970513},{"$f":"IF(ISNUMBER(MATCH(AL10,[1]!SIXTH_PLAN_SF_YEARS,0)),\nINDEX([1]!SIXTH_PLAN_SF,\nMATCH($C$9,[1]!APPLIANCES,0),\nMATCH(AL$10,[1]!SIXTH_PLAN_SF_YEARS,0)),\"pre-dates plan\")","v":166193.92044970513},{"$f":"IF(ISNUMBER(MATCH(AM10,[1]!SIXTH_PLAN_SF_YEARS,0)),\nINDEX([1]!SIXTH_PLAN_SF,\nMATCH($C$9,[1]!APPLIANCES,0),\nMATCH(AM$10,[1]!SIXTH_PLAN_SF_YEARS,0)),\"pre-dates plan\")","v":166193.92044970513},{"$f":"IF(ISNUMBER(MATCH(AN10,[1]!SIXTH_PLAN_SF_YEARS,0)),\nINDEX([1]!SIXTH_PLAN_SF,\nMATCH($C$9,[1]!APPLIANCES,0),\nMATCH(AN$10,[1]!SIXTH_PLAN_SF_YEARS,0)),\"pre-dates plan\")","v":166193.92044970513},{"$f":"IF(ISNUMBER(MATCH(AO10,[1]!SIXTH_PLAN_SF_YEARS,0)),\nINDEX([1]!SIXTH_PLAN_SF,\nMATCH($C$9,[1]!APPLIANCES,0),\nMATCH(AO$10,[1]!SIXTH_PLAN_SF_YEARS,0)),\"pre-dates plan\")","v":166193.92044970513},{"$f":"IF(ISNUMBER(MATCH(AP10,[1]!SIXTH_PLAN_SF_YEARS,0)),\nINDEX([1]!SIXTH_PLAN_SF,\nMATCH($C$9,[1]!APPLIANCES,0),\nMATCH(AP$10,[1]!SIXTH_PLAN_SF_YEARS,0)),\"pre-dates plan\")","v":166193.92044970513},{"$f":"IF(ISNUMBER(MATCH(AQ10,[1]!SIXTH_PLAN_SF_YEARS,0)),\nINDEX([1]!SIXTH_PLAN_SF,\nMATCH($C$9,[1]!APPLIANCES,0),\nMATCH(AQ$10,[1]!SIXTH_PLAN_SF_YEARS,0)),\"pre-dates plan\")","v":166193.92044970513},{"$f":"IF(ISNUMBER(MATCH(AR10,[1]!SIXTH_PLAN_SF_YEARS,0)),\nINDEX([1]!SIXTH_PLAN_SF,\nMATCH($C$9,[1]!APPLIANCES,0),\nMATCH(AR$10,[1]!SIXTH_PLAN_SF_YEARS,0)),\"pre-dates plan\")","v":166193.92044970513},{"$f":"IF(ISNUMBER(MATCH(AS10,[1]!SIXTH_PLAN_SF_YEARS,0)),\nINDEX([1]!SIXTH_PLAN_SF,\nMATCH($C$9,[1]!APPLIANCES,0),\nMATCH(AS$10,[1]!SIXTH_PLAN_SF_YEARS,0)),\"pre-dates plan\")","v":166193.92044970513},{"$f":"IF(ISNUMBER(MATCH(AT10,[1]!SIXTH_PLAN_SF_YEARS,0)),\nINDEX([1]!SIXTH_PLAN_SF,\nMATCH($C$9,[1]!APPLIANCES,0),\nMATCH(AT$10,[1]!SIXTH_PLAN_SF_YEARS,0)),\"pre-dates plan\")","v":166193.92044970513},{"$f":"IF(ISNUMBER(MATCH(AU10,[1]!SIXTH_PLAN_SF_YEARS,0)),\nINDEX([1]!SIXTH_PLAN_SF,\nMATCH($C$9,[1]!APPLIANCES,0),\nMATCH(AU$10,[1]!SIXTH_PLAN_SF_YEARS,0)),\"pre-dates plan\")","v":166193.92044970513},{"$f":"IF(ISNUMBER(MATCH(AV10,[1]!SIXTH_PLAN_SF_YEARS,0)),\nINDEX([1]!SIXTH_PLAN_SF,\nMATCH($C$9,[1]!APPLIANCES,0),\nMATCH(AV$10,[1]!SIXTH_PLAN_SF_YEARS,0)),\"pre-dates plan\")","v":166193.92044970513},{"$f":"IF(ISNUMBER(MATCH(AW10,[1]!SIXTH_PLAN_SF_YEARS,0)),\nINDEX([1]!SIXTH_PLAN_SF,\nMATCH($C$9,[1]!APPLIANCES,0),\nMATCH(AW$10,[1]!SIXTH_PLAN_SF_YEARS,0)),\"pre-dates plan\")","v":166193.92044970513},{"$f":"IF(ISNUMBER(MATCH(AX10,[1]!SIXTH_PLAN_SF_YEARS,0)),\nINDEX([1]!SIXTH_PLAN_SF,\nMATCH($C$9,[1]!APPLIANCES,0),\nMATCH(AX$10,[1]!SIXTH_PLAN_SF_YEARS,0)),\"pre-dates plan\")","v":166193.92044970513},{"$f":"IF(ISNUMBER(MATCH(AY10,[1]!SIXTH_PLAN_SF_YEARS,0)),\nINDEX([1]!SIXTH_PLAN_SF,\nMATCH($C$9,[1]!APPLIANCES,0),\nMATCH(AY$10,[1]!SIXTH_PLAN_SF_YEARS,0)),\"pre-dates plan\")","v":166193.92044970513},{"$f":"IF(ISNUMBER(MATCH(AZ10,[1]!SIXTH_PLAN_SF_YEARS,0)),\nINDEX([1]!SIXTH_PLAN_SF,\nMATCH($C$9,[1]!APPLIANCES,0),\nMATCH(AZ$10,[1]!SIXTH_PLAN_SF_YEARS,0)),\"pre-dates plan\")","v":166193.92044970513},{"$f":"IF(ISNUMBER(MATCH(BA10,[1]!SIXTH_PLAN_SF_YEARS,0)),\nINDEX([1]!SIXTH_PLAN_SF,\nMATCH($C$9,[1]!APPLIANCES,0),\nMATCH(BA$10,[1]!SIXTH_PLAN_SF_YEARS,0)),\"pre-dates plan\")","v":166193.92044970513},{"$f":"IF(ISNUMBER(MATCH(BB10,[1]!SIXTH_PLAN_SF_YEARS,0)),\nINDEX([1]!SIXTH_PLAN_SF,\nMATCH($C$9,[1]!APPLIANCES,0),\nMATCH(BB$10,[1]!SIXTH_PLAN_SF_YEARS,0)),\"pre-dates plan\")","v":166193.92044970513},{"$f":"IF(ISNUMBER(MATCH(BC10,[1]!SIXTH_PLAN_SF_YEARS,0)),\nINDEX([1]!SIXTH_PLAN_SF,\nMATCH($C$9,[1]!APPLIANCES,0),\nMATCH(BC$10,[1]!SIXTH_PLAN_SF_YEARS,0)),\"pre-dates plan\")","v":166193.92044970513},{"$f":"IF(ISNUMBER(MATCH(BD10,[1]!SIXTH_PLAN_SF_YEARS,0)),\nINDEX([1]!SIXTH_PLAN_SF,\nMATCH($C$9,[1]!APPLIANCES,0),\nMATCH(BD$10,[1]!SIXTH_PLAN_SF_YEARS,0)),\"pre-dates plan\")","v":166193.92044970513},{"$f":"IF(ISNUMBER(MATCH(BE10,[1]!SIXTH_PLAN_SF_YEARS,0)),\nINDEX([1]!SIXTH_PLAN_SF,\nMATCH($C$9,[1]!APPLIANCES,0),\nMATCH(BE$10,[1]!SIXTH_PLAN_SF_YEARS,0)),\"pre-dates plan\")","v":166193.92044970513},{"$f":"IF(ISNUMBER(MATCH(BF10,[1]!SIXTH_PLAN_SF_YEARS,0)),\nINDEX([1]!SIXTH_PLAN_SF,\nMATCH($C$9,[1]!APPLIANCES,0),\nMATCH(BF$10,[1]!SIXTH_PLAN_SF_YEARS,0)),\"pre-dates plan\")","v":166193.92044970513}]
[null,null,"Replacement Shipments","(units)",{"$f":"INDEX([1]!SHIPMENTS_SF,\n((MATCH($C$9,[1]!APPLIANCES,0)-1)*2)+1,\nMATCH(E$10,[1]!SHIPMENTS_SF_YEARS,0))","v":119429.00003879103},{"$f":"INDEX([1]!SHIPMENTS_SF,\n((MATCH($C$9,[1]!APPLIANCES,0)-1)*2)+1,\nMATCH(F$10,[1]!SHIPMENTS_SF_YEARS,0))","v":119429.00003879103},{"$f":"INDEX([1]!SHIPMENTS_SF,\n((MATCH($C$9,[1]!APPLIANCES,0)-1)*2)+1,\nMATCH(G$10,[1]!SHIPMENTS_SF_YEARS,0))","v":119429.00003879103},{"$f":"INDEX([1]!SHIPMENTS_SF,\n((MATCH($C$9,[1]!APPLIANCES,0)-1)*2)+1,\nMATCH(H$10,[1]!SHIPMENTS_SF_YEARS,0))","v":119429.00003879103},{"$f":"INDEX([1]!SHIPMENTS_SF,\n((MATCH($C$9,[1]!APPLIANCES,0)-1)*2)+1,\nMATCH(I$10,[1]!SHIPMENTS_SF_YEARS,0))","v":119429.00003879103},{"$f":"INDEX([1]!SHIPMENTS_SF,\n((MATCH($C$9,[1]!APPLIANCES,0)-1)*2)+1,\nMATCH(J$10,[1]!SHIPMENTS_SF_YEARS,0))","v":119429.00003879103},{"$f":"INDEX([1]!SHIPMENTS_SF,\n((MATCH($C$9,[1]!APPLIANCES,0)-1)*2)+1,\nMATCH(K$10,[1]!SHIPMENTS_SF_YEARS,0))","v":119429.00003879103},{"$f":"INDEX([1]!SHIPMENTS_SF,\n((MATCH($C$9,[1]!APPLIANCES,0)-1)*2)+1,\nMATCH(L$10,[1]!SHIPMENTS_SF_YEARS,0))","v":119429.00003879103},{"$f":"INDEX([1]!SHIPMENTS_SF,\n((MATCH($C$9,[1]!APPLIANCES,0)-1)*2)+1,\nMATCH(M$10,[1]!SHIPMENTS_SF_YEARS,0))","v":119429.00003879103},{"$f":"INDEX([1]!SHIPMENTS_SF,\n((MATCH($C$9,[1]!APPLIANCES,0)-1)*2)+1,\nMATCH(N$10,[1]!SHIPMENTS_SF_YEARS,0))","v":119429.00003879103},{"$f":"INDEX([1]!SHIPMENTS_SF,\n((MATCH($C$9,[1]!APPLIANCES,0)-1)*2)+1,\nMATCH(O$10,[1]!SHIPMENTS_SF_YEARS,0))","v":119429.00003879103},{"$f":"INDEX([1]!SHIPMENTS_SF,\n((MATCH($C$9,[1]!APPLIANCES,0)-1)*2)+1,\nMATCH(P$10,[1]!SHIPMENTS_SF_YEARS,0))","v":119429.00003879103},{"$f":"INDEX([1]!SHIPMENTS_SF,\n((MATCH($C$9,[1]!APPLIANCES,0)-1)*2)+1,\nMATCH(Q$10,[1]!SHIPMENTS_SF_YEARS,0))","v":119429.00003879103},{"$f":"INDEX([1]!SHIPMENTS_SF,\n((MATCH($C$9,[1]!APPLIANCES,0)-1)*2)+1,\nMATCH(R$10,[1]!SHIPMENTS_SF_YEARS,0))","v":119429.00003879103},{"$f":"INDEX([1]!SHIPMENTS_SF,\n((MATCH($C$9,[1]!APPLIANCES,0)-1)*2)+1,\nMATCH(S$10,[1]!SHIPMENTS_SF_YEARS,0))","v":119429.00003879103},{"$f":"INDEX([1]!SHIPMENTS_SF,\n((MATCH($C$9,[1]!APPLIANCES,0)-1)*2)+1,\nMATCH(T$10,[1]!SHIPMENTS_SF_YEARS,0))","v":119429.00003879103},{"$f":"INDEX([1]!SHIPMENTS_SF,\n((MATCH($C$9,[1]!APPLIANCES,0)-1)*2)+1,\nMATCH(U$10,[1]!SHIPMENTS_SF_YEARS,0))","v":119429.00003879103},{"$f":"INDEX([1]!SHIPMENTS_SF,\n((MATCH($C$9,[1]!APPLIANCES,0)-1)*2)+1,\nMATCH(V$10,[1]!SHIPMENTS_SF_YEARS,0))","v":119429.00003879103},{"$f":"INDEX([1]!SHIPMENTS_SF,\n((MATCH($C$9,[1]!APPLIANCES,0)-1)*2)+1,\nMATCH(W$10,[1]!SHIPMENTS_SF_YEARS,0))","v":119429.00003879103},{"$f":"INDEX([1]!SHIPMENTS_SF,\n((MATCH($C$9,[1]!APPLIANCES,0)-1)*2)+1,\nMATCH(X$10,[1]!SHIPMENTS_SF_YEARS,0))","v":148091.58060364338},{"$f":"INDEX([1]!SHIPMENTS_SF,\n((MATCH($C$9,[1]!APPLIANCES,0)-1)*2)+1,\nMATCH(Y$10,[1]!SHIPMENTS_SF_YEARS,0))","v":139138.23204664703},{"$f":"INDEX([1]!SHIPMENTS_SF,\n((MATCH($C$9,[1]!APPLIANCES,0)-1)*2)+1,\nMATCH(Z$10,[1]!SHIPMENTS_SF_YEARS,0))","v":149998.00098965602},{"$f":"INDEX([1]!SHIPMENTS_SF,\n((MATCH($C$9,[1]!APPLIANCES,0)-1)*2)+1,\nMATCH(AA$10,[1]!SHIPMENTS_SF_YEARS,0))","v":147834.73327899264},{"$f":"INDEX([1]!SHIPMENTS_SF,\n((MATCH($C$9,[1]!APPLIANCES,0)-1)*2)+1,\nMATCH(AB$10,[1]!SHIPMENTS_SF_YEARS,0))","v":146528.86832167074},{"$f":"INDEX([1]!SHIPMENTS_SF,\n((MATCH($C$9,[1]!APPLIANCES,0)-1)*2)+1,\nMATCH(AC$10,[1]!SHIPMENTS_SF_YEARS,0))","v":148698.12942611153},{"$f":"INDEX([1]!SHIPMENTS_SF,\n((MATCH($C$9,[1]!APPLIANCES,0)-1)*2)+1,\nMATCH(AD$10,[1]!SHIPMENTS_SF_YEARS,0))","v":148871.76412410804},{"$f":"INDEX([1]!SHIPMENTS_SF,\n((MATCH($C$9,[1]!APPLIANCES,0)-1)*2)+1,\nMATCH(AE$10,[1]!SHIPMENTS_SF_YEARS,0))","v":151897.47251331626},{"$f":"INDEX([1]!SHIPMENTS_SF,\n((MATCH($C$9,[1]!APPLIANCES,0)-1)*2)+1,\nMATCH(AF$10,[1]!SHIPMENTS_SF_YEARS,0))","v":159326.84869594692},{"$f":"INDEX([1]!SHIPMENTS_SF,\n((MATCH($C$9,[1]!APPLIANCES,0)-1)*2)+1,\nMATCH(AG$10,[1]!SHIPMENTS_SF_YEARS,0))","v":159685.04979087232},{"$f":"INDEX([1]!SHIPMENTS_SF,\n((MATCH($C$9,[1]!APPLIANCES,0)-1)*2)+1,\nMATCH(AH$10,[1]!SHIPMENTS_SF_YEARS,0))","v":159223.22378613663},{"$f":"INDEX([1]!SHIPMENTS_SF,\n((MATCH($C$9,[1]!APPLIANCES,0)-1)*2)+1,\nMATCH(AI$10,[1]!SHIPMENTS_SF_YEARS,0))","v":168721.884316132},{"$f":"INDEX([1]!SHIPMENTS_SF,\n((MATCH($C$9,[1]!APPLIANCES,0)-1)*2)+1,\nMATCH(AJ$10,[1]!SHIPMENTS_SF_YEARS,0))","v":154715.35966138312},{"$f":"INDEX([1]!SHIPMENTS_SF,\n((MATCH($C$9,[1]!APPLIANCES,0)-1)*2)+1,\nMATCH(AK$10,[1]!SHIPMENTS_SF_YEARS,0))","v":157175.58519594141},{"$f":"INDEX([1]!SHIPMENTS_SF,\n((MATCH($C$9,[1]!APPLIANCES,0)-1)*2)+1,\nMATCH(AL$10,[1]!SHIPMENTS_SF_YEARS,0))","v":150253.20902691738},{"$f":"INDEX([1]!SHIPMENTS_SF,\n((MATCH($C$9,[1]!APPLIANCES,0)-1)*2)+1,\nMATCH(AM$10,[1]!SHIPMENTS_SF_YEARS,0))","v":151647.13735815653},{"$f":"INDEX([1]!SHIPMENTS_SF,\n((MATCH($C$9,[1]!APPLIANCES,0)-1)*2)+1,\nMATCH(AN$10,[1]!SHIPMENTS_SF_YEARS,0))","v":150550.206676025},{"$f":"INDEX([1]!SHIPMENTS_SF,\n((MATCH($C$9,[1]!APPLIANCES,0)-1)*2)+1,\nMATCH(AO$10,[1]!SHIPMENTS_SF_YEARS,0))","v":151670.75741106694},{"$f":"INDEX([1]!SHIPMENTS_SF,\n((MATCH($C$9,[1]!APPLIANCES,0)-1)*2)+1,\nMATCH(AP$10,[1]!SHIPMENTS_SF_YEARS,0))","v":149810.40105531929},{"$f":"INDEX([1]!SHIPMENTS_SF,\n((MATCH($C$9,[1]!APPLIANCES,0)-1)*2)+1,\nMATCH(AQ$10,[1]!SHIPMENTS_SF_YEARS,0))","v":173631.67102430115},{"$f":"INDEX([1]!SHIPMENTS_SF,\n((MATCH($C$9,[1]!APPLIANCES,0)-1)*2)+1,\nMATCH(AR$10,[1]!SHIPMENTS_SF_YEARS,0))","v":164983.53602015044},{"$f":"INDEX([1]!SHIPMENTS_SF,\n((MATCH($C$9,[1]!APPLIANCES,0)-1)*2)+1,\nMATCH(AS$10,[1]!SHIPMENTS_SF_YEARS,0))","v":180915.62014758872},{"$f":"INDEX([1]!SHIPMENTS_SF,\n((MATCH($C$9,[1]!APPLIANCES,0)-1)*2)+1,\nMATCH(AT$10,[1]!SHIPMENTS_SF_YEARS,0))","v":183591.11499887198},{"$f":"INDEX([1]!SHIPMENTS_SF,\n((MATCH($C$9,[1]!APPLIANCES,0)-1)*2)+1,\nMATCH(AU$10,[1]!SHIPMENTS_SF_YEARS,0))","v":184317.50963294884},{"$f":"INDEX([1]!SHIPMENTS_SF,\n((MATCH($C$9,[1]!APPLIANCES,0)-1)*2)+1,\nMATCH(AV$10,[1]!SHIPMENTS_SF_YEARS,0))","v":192180.88986099098},{"$f":"INDEX([1]!SHIPMENTS_SF,\n((MATCH($C$9,[1]!APPLIANCES,0)-1)*2)+1,\nMATCH(AW$10,[1]!SHIPMENTS_SF_YEARS,0))","v":184463.18227628249},{"$f":"INDEX([1]!SHIPMENTS_SF,\n((MATCH($C$9,[1]!APPLIANCES,0)-1)*2)+1,\nMATCH(AX$10,[1]!SHIPMENTS_SF_YEARS,0))","v":172422.67168075318},{"$f":"INDEX([1]!SHIPMENTS_SF,\n((MATCH($C$9,[1]!APPLIANCES,0)-1)*2)+1,\nMATCH(AY$10,[1]!SHIPMENTS_SF_YEARS,0))","v":160706.9160437333},{"$f":"INDEX([1]!SHIPMENTS_SF,\n((MATCH($C$9,[1]!APPLIANCES,0)-1)*2)+1,\nMATCH(AZ$10,[1]!SHIPMENTS_SF_YEARS,0))","v":159685.04979087232},{"$f":"INDEX([1]!SHIPMENTS_SF,\n((MATCH($C$9,[1]!APPLIANCES,0)-1)*2)+1,\nMATCH(BA$10,[1]!SHIPMENTS_SF_YEARS,0))","v":166241.78636696239},{"$f":"INDEX([1]!SHIPMENTS_SF,\n((MATCH($C$9,[1]!APPLIANCES,0)-1)*2)+1,\nMATCH(BB$10,[1]!SHIPMENTS_SF_YEARS,0))","v":187470.63026065478},{"$f":"INDEX([1]!SHIPMENTS_SF,\n((MATCH($C$9,[1]!APPLIANCES,0)-1)*2)+1,\nMATCH(BC$10,[1]!SHIPMENTS_SF_YEARS,0))","v":206329.2760484936},{"$f":"INDEX([1]!SHIPMENTS_SF,\n((MATCH($C$9,[1]!APPLIANCES,0)-1)*2)+1,\nMATCH(BD$10,[1]!SHIPMENTS_SF_YEARS,0))","v":210095.28615032698},{"$f":"INDEX([1]!SHIPMENTS_SF,\n((MATCH($C$9,[1]!APPLIANCES,0)-1)*2)+1,\nMATCH(BE$10,[1]!SHIPMENTS_SF_YEARS,0))","v":202799.64231425946},{"$f":"INDEX([1]!SHIPMENTS_SF,\n((MATCH($C$9,[1]!APPLIANCES,0)-1)*2)+1,\nMATCH(BF$10,[1]!SHIPMENTS_SF_YEARS,0))","v":204356.86026127636}]
[null,null,"Net New Shipments","(units)",{"$f":"INDEX([1]!SHIPMENTS_SF,\n((MATCH($C$9,[1]!APPLIANCES,0)-1)*2)+2,\nMATCH(E$10,[1]!SHIPMENTS_SF_YEARS,0))","v":28662.580564852338},{"$f":"INDEX([1]!SHIPMENTS_SF,\n((MATCH($C$9,[1]!APPLIANCES,0)-1)*2)+2,\nMATCH(F$10,[1]!SHIPMENTS_SF_YEARS,0))","v":19709.232007856015},{"$f":"INDEX([1]!SHIPMENTS_SF,\n((MATCH($C$9,[1]!APPLIANCES,0)-1)*2)+2,\nMATCH(G$10,[1]!SHIPMENTS_SF_YEARS,0))","v":30569.000950864982},{"$f":"INDEX([1]!SHIPMENTS_SF,\n((MATCH($C$9,[1]!APPLIANCES,0)-1)*2)+2,\nMATCH(H$10,[1]!SHIPMENTS_SF_YEARS,0))","v":28405.733240201604},{"$f":"INDEX([1]!SHIPMENTS_SF,\n((MATCH($C$9,[1]!APPLIANCES,0)-1)*2)+2,\nMATCH(I$10,[1]!SHIPMENTS_SF_YEARS,0))","v":27099.868282879703},{"$f":"INDEX([1]!SHIPMENTS_SF,\n((MATCH($C$9,[1]!APPLIANCES,0)-1)*2)+2,\nMATCH(J$10,[1]!SHIPMENTS_SF_YEARS,0))","v":29269.129387320485},{"$f":"INDEX([1]!SHIPMENTS_SF,\n((MATCH($C$9,[1]!APPLIANCES,0)-1)*2)+2,\nMATCH(K$10,[1]!SHIPMENTS_SF_YEARS,0))","v":29442.764085317031},{"$f":"INDEX([1]!SHIPMENTS_SF,\n((MATCH($C$9,[1]!APPLIANCES,0)-1)*2)+2,\nMATCH(L$10,[1]!SHIPMENTS_SF_YEARS,0))","v":32468.472474525217},{"$f":"INDEX([1]!SHIPMENTS_SF,\n((MATCH($C$9,[1]!APPLIANCES,0)-1)*2)+2,\nMATCH(M$10,[1]!SHIPMENTS_SF_YEARS,0))","v":39897.84865715589},{"$f":"INDEX([1]!SHIPMENTS_SF,\n((MATCH($C$9,[1]!APPLIANCES,0)-1)*2)+2,\nMATCH(N$10,[1]!SHIPMENTS_SF_YEARS,0))","v":45427.492733787745},{"$f":"INDEX([1]!SHIPMENTS_SF,\n((MATCH($C$9,[1]!APPLIANCES,0)-1)*2)+2,\nMATCH(O$10,[1]!SHIPMENTS_SF_YEARS,0))","v":39794.223747345619},{"$f":"INDEX([1]!SHIPMENTS_SF,\n((MATCH($C$9,[1]!APPLIANCES,0)-1)*2)+2,\nMATCH(P$10,[1]!SHIPMENTS_SF_YEARS,0))","v":49292.884277340956},{"$f":"INDEX([1]!SHIPMENTS_SF,\n((MATCH($C$9,[1]!APPLIANCES,0)-1)*2)+2,\nMATCH(Q$10,[1]!SHIPMENTS_SF_YEARS,0))","v":35286.359622592106},{"$f":"INDEX([1]!SHIPMENTS_SF,\n((MATCH($C$9,[1]!APPLIANCES,0)-1)*2)+2,\nMATCH(R$10,[1]!SHIPMENTS_SF_YEARS,0))","v":37746.585157150403},{"$f":"INDEX([1]!SHIPMENTS_SF,\n((MATCH($C$9,[1]!APPLIANCES,0)-1)*2)+2,\nMATCH(S$10,[1]!SHIPMENTS_SF_YEARS,0))","v":30824.208988126367},{"$f":"INDEX([1]!SHIPMENTS_SF,\n((MATCH($C$9,[1]!APPLIANCES,0)-1)*2)+2,\nMATCH(T$10,[1]!SHIPMENTS_SF_YEARS,0))","v":32218.137319365516},{"$f":"INDEX([1]!SHIPMENTS_SF,\n((MATCH($C$9,[1]!APPLIANCES,0)-1)*2)+2,\nMATCH(U$10,[1]!SHIPMENTS_SF_YEARS,0))","v":31121.206637233961},{"$f":"INDEX([1]!SHIPMENTS_SF,\n((MATCH($C$9,[1]!APPLIANCES,0)-1)*2)+2,\nMATCH(V$10,[1]!SHIPMENTS_SF_YEARS,0))","v":32241.757372275926},{"$f":"INDEX([1]!SHIPMENTS_SF,\n((MATCH($C$9,[1]!APPLIANCES,0)-1)*2)+2,\nMATCH(W$10,[1]!SHIPMENTS_SF_YEARS,0))","v":30381.401016528253},{"$f":"INDEX([1]!SHIPMENTS_SF,\n((MATCH($C$9,[1]!APPLIANCES,0)-1)*2)+2,\nMATCH(X$10,[1]!SHIPMENTS_SF_YEARS,0))","v":25540.090420657769},{"$f":"INDEX([1]!SHIPMENTS_SF,\n((MATCH($C$9,[1]!APPLIANCES,0)-1)*2)+2,\nMATCH(Y$10,[1]!SHIPMENTS_SF_YEARS,0))","v":25845.303973503411},{"$f":"INDEX([1]!SHIPMENTS_SF,\n((MATCH($C$9,[1]!APPLIANCES,0)-1)*2)+2,\nMATCH(Z$10,[1]!SHIPMENTS_SF_YEARS,0))","v":30917.619157932699},{"$f":"INDEX([1]!SHIPMENTS_SF,\n((MATCH($C$9,[1]!APPLIANCES,0)-1)*2)+2,\nMATCH(AA$10,[1]!SHIPMENTS_SF_YEARS,0))","v":35756.38171987934},{"$f":"INDEX([1]!SHIPMENTS_SF,\n((MATCH($C$9,[1]!APPLIANCES,0)-1)*2)+2,\nMATCH(AB$10,[1]!SHIPMENTS_SF_YEARS,0))","v":37788.641311278101},{"$f":"INDEX([1]!SHIPMENTS_SF,\n((MATCH($C$9,[1]!APPLIANCES,0)-1)*2)+2,\nMATCH(AC$10,[1]!SHIPMENTS_SF_YEARS,0))","v":43482.760434879456},{"$f":"INDEX([1]!SHIPMENTS_SF,\n((MATCH($C$9,[1]!APPLIANCES,0)-1)*2)+2,\nMATCH(AD$10,[1]!SHIPMENTS_SF_YEARS,0))","v":35591.418152174447},{"$f":"INDEX([1]!SHIPMENTS_SF,\n((MATCH($C$9,[1]!APPLIANCES,0)-1)*2)+2,\nMATCH(AE$10,[1]!SHIPMENTS_SF_YEARS,0))","v":20525.19916743692},{"$f":"INDEX([1]!SHIPMENTS_SF,\n((MATCH($C$9,[1]!APPLIANCES,0)-1)*2)+2,\nMATCH(AF$10,[1]!SHIPMENTS_SF_YEARS,0))","v":1380.0673477863893},{"$f":"INDEX([1]!SHIPMENTS_SF,\n((MATCH($C$9,[1]!APPLIANCES,0)-1)*2)+2,\nMATCH(AG$10,[1]!SHIPMENTS_SF_YEARS,0))","v":0},{"$f":"INDEX([1]!SHIPMENTS_SF,\n((MATCH($C$9,[1]!APPLIANCES,0)-1)*2)+2,\nMATCH(AH$10,[1]!SHIPMENTS_SF_YEARS,0))","v":7018.562580825761},{"$f":"INDEX([1]!SHIPMENTS_SF,\n((MATCH($C$9,[1]!APPLIANCES,0)-1)*2)+2,\nMATCH(AI$10,[1]!SHIPMENTS_SF_YEARS,0))","v":18748.745944522787},{"$f":"INDEX([1]!SHIPMENTS_SF,\n((MATCH($C$9,[1]!APPLIANCES,0)-1)*2)+2,\nMATCH(AJ$10,[1]!SHIPMENTS_SF_YEARS,0))","v":51613.916387110483},{"$f":"INDEX([1]!SHIPMENTS_SF,\n((MATCH($C$9,[1]!APPLIANCES,0)-1)*2)+2,\nMATCH(AK$10,[1]!SHIPMENTS_SF_YEARS,0))","v":52919.700954385567},{"$f":"INDEX([1]!SHIPMENTS_SF,\n((MATCH($C$9,[1]!APPLIANCES,0)-1)*2)+2,\nMATCH(AL$10,[1]!SHIPMENTS_SF_YEARS,0))","v":52546.433287342079},{"$f":"INDEX([1]!SHIPMENTS_SF,\n((MATCH($C$9,[1]!APPLIANCES,0)-1)*2)+2,\nMATCH(AM$10,[1]!SHIPMENTS_SF_YEARS,0))","v":52709.722903119866},{"$f":"INDEX([1]!SHIPMENTS_SF,\n((MATCH($C$9,[1]!APPLIANCES,0)-1)*2)+2,\nMATCH(AN$10,[1]!SHIPMENTS_SF_YEARS,0))","v":52879.381955374032},{"$f":"INDEX([1]!SHIPMENTS_SF,\n((MATCH($C$9,[1]!APPLIANCES,0)-1)*2)+2,\nMATCH(AO$10,[1]!SHIPMENTS_SF_YEARS,0))","v":51953.01899257116},{"$f":"INDEX([1]!SHIPMENTS_SF,\n((MATCH($C$9,[1]!APPLIANCES,0)-1)*2)+2,\nMATCH(AP$10,[1]!SHIPMENTS_SF_YEARS,0))","v":50918.206012547482},{"$f":"INDEX([1]!SHIPMENTS_SF,\n((MATCH($C$9,[1]!APPLIANCES,0)-1)*2)+2,\nMATCH(AQ$10,[1]!SHIPMENTS_SF_YEARS,0))","v":49802.948584893718},{"$f":"INDEX([1]!SHIPMENTS_SF,\n((MATCH($C$9,[1]!APPLIANCES,0)-1)*2)+2,\nMATCH(AR$10,[1]!SHIPMENTS_SF_YEARS,0))","v":48960.701492340304},{"$f":"INDEX([1]!SHIPMENTS_SF,\n((MATCH($C$9,[1]!APPLIANCES,0)-1)*2)+2,\nMATCH(AS$10,[1]!SHIPMENTS_SF_YEARS,0))","v":47680.582938220818},{"$f":"INDEX([1]!SHIPMENTS_SF,\n((MATCH($C$9,[1]!APPLIANCES,0)-1)*2)+2,\nMATCH(AT$10,[1]!SHIPMENTS_SF_YEARS,0))","v":46833.550101749599},{"$f":"INDEX([1]!SHIPMENTS_SF,\n((MATCH($C$9,[1]!APPLIANCES,0)-1)*2)+2,\nMATCH(AU$10,[1]!SHIPMENTS_SF_YEARS,0))","v":46222.832271969412},{"$f":"INDEX([1]!SHIPMENTS_SF,\n((MATCH($C$9,[1]!APPLIANCES,0)-1)*2)+2,\nMATCH(AV$10,[1]!SHIPMENTS_SF_YEARS,0))","v":45522.999711485114},{"$f":"INDEX([1]!SHIPMENTS_SF,\n((MATCH($C$9,[1]!APPLIANCES,0)-1)*2)+2,\nMATCH(AW$10,[1]!SHIPMENTS_SF_YEARS,0))","v":45367.726488052402},{"$f":"INDEX([1]!SHIPMENTS_SF,\n((MATCH($C$9,[1]!APPLIANCES,0)-1)*2)+2,\nMATCH(AX$10,[1]!SHIPMENTS_SF_YEARS,0))","v":44955.17211456364},{"$f":"INDEX([1]!SHIPMENTS_SF,\n((MATCH($C$9,[1]!APPLIANCES,0)-1)*2)+2,\nMATCH(AY$10,[1]!SHIPMENTS_SF_YEARS,0))","v":44073.277262243908},{"$f":"INDEX([1]!SHIPMENTS_SF,\n((MATCH($C$9,[1]!APPLIANCES,0)-1)*2)+2,\nMATCH(AZ$10,[1]!SHIPMENTS_SF_YEARS,0))","v":42925.615710645914},{"$f":"INDEX([1]!SHIPMENTS_SF,\n((MATCH($C$9,[1]!APPLIANCES,0)-1)*2)+2,\nMATCH(BA$10,[1]!SHIPMENTS_SF_YEARS,0))","v":42143.112971743569},{"$f":"INDEX([1]!SHIPMENTS_SF,\n((MATCH($C$9,[1]!APPLIANCES,0)-1)*2)+2,\nMATCH(BB$10,[1]!SHIPMENTS_SF_YEARS,0))","v":41973.881291304715},{"$f":"INDEX([1]!SHIPMENTS_SF,\n((MATCH($C$9,[1]!APPLIANCES,0)-1)*2)+2,\nMATCH(BC$10,[1]!SHIPMENTS_SF_YEARS,0))","v":42393.620104217902},{"$f":"INDEX([1]!SHIPMENTS_SF,\n((MATCH($C$9,[1]!APPLIANCES,0)-1)*2)+2,\nMATCH(BD$10,[1]!SHIPMENTS_SF_YEARS,0))","v":42817.556305259932},{"$f":"INDEX([1]!SHIPMENTS_SF,\n((MATCH($C$9,[1]!APPLIANCES,0)-1)*2)+2,\nMATCH(BE$10,[1]!SHIPMENTS_SF_YEARS,0))","v":43245.731868312228},{"$f":"INDEX([1]!SHIPMENTS_SF,\n((MATCH($C$9,[1]!APPLIANCES,0)-1)*2)+2,\nMATCH(BF$10,[1]!SHIPMENTS_SF_YEARS,0))","v":43678.189186995849}]
[null,null,"Total Model Shipments","(units)",{"$f":"SUM(E12:E13)","v":148091.58060364338},{"$f":"SUM(F12:F13)","v":139138.23204664706},149998.00098965602,147834.73327899264,146528.86832167074,148698.12942611153,148871.76412410807,151897.47251331626,159326.84869594692,164856.49277257879,159223.22378613666,168721.884316132,154715.35966138315,157175.58519594144,150253.20902691741,151647.13735815656,150550.206676025,151670.75741106697,149810.40105531929,173631.67102430115,164983.53602015044,180915.62014758872,183591.11499887198,184317.50963294884,192180.88986099098,184463.18227628249,172422.67168075318,160706.9160437333,159685.04979087232,166241.78636696239,187470.63026065478,206329.2760484936,210095.28615032698,202799.64231425946,204356.86026127639,203429.58863139903,203623.7764036381,200728.60706786677,223434.61960919487,213944.23751249074,228596.20308580954,230424.66510062158,230540.34190491826,237703.8895724761,229830.90876433489,217377.84379531682,204780.19330597721,202610.66550151823,208384.89933870596,229444.5115519595,248722.8961527115,252912.84245558691,246045.37418257169,248035.04944827221]
[null,null,"Model Installed Stock","(units)",{"$f":"INDEX([1]!STOCK_SF,\nMATCH($C$9,[1]!APPLIANCES,0),\nMATCH(E$10,[1]!STOCK_SF_YEARS,0))","v":2297813.5813018819},{"$f":"INDEX([1]!STOCK_SF,\nMATCH($C$9,[1]!APPLIANCES,0),\nMATCH(F$10,[1]!STOCK_SF_YEARS,0))","v":2317522.8133097379},{"$f":"INDEX([1]!STOCK_SF,\nMATCH($C$9,[1]!APPLIANCES,0),\nMATCH(G$10,[1]!STOCK_SF_YEARS,0))","v":2348091.8142606029},{"$f":"INDEX([1]!STOCK_SF,\nMATCH($C$9,[1]!APPLIANCES,0),\nMATCH(H$10,[1]!STOCK_SF_YEARS,0))","v":2376497.5475008045},{"$f":"INDEX([1]!STOCK_SF,\nMATCH($C$9,[1]!APPLIANCES,0),\nMATCH(I$10,[1]!STOCK_SF_YEARS,0))","v":2403597.4157836842},{"$f":"INDEX([1]!STOCK_SF,\nMATCH($C$9,[1]!APPLIANCES,0),\nMATCH(J$10,[1]!STOCK_SF_YEARS,0))","v":2432866.5451710047},{"$f":"INDEX([1]!STOCK_SF,\nMATCH($C$9,[1]!APPLIANCES,0),\nMATCH(K$10,[1]!STOCK_SF_YEARS,0))","v":2462309.3092563218},{"$f":"INDEX([1]!STOCK_SF,\nMATCH($C$9,[1]!APPLIANCES,0),\nMATCH(L$10,[1]!STOCK_SF_YEARS,0))","v":2494777.781730847},{"$f":"INDEX([1]!STOCK_SF,\nMATCH($C$9,[1]!APPLIANCES,0),\nMATCH(M$10,[1]!STOCK_SF_YEARS,0))","v":2534675.6303880028},{"$f":"INDEX([1]!STOCK_SF,\nMATCH($C$9,[1]!APPLIANCES,0),\nMATCH(N$10,[1]!STOCK_SF_YEARS,0))","v":2580103.1231217906},{"$f":"INDEX([1]!STOCK_SF,\nMATCH($C$9,[1]!APPLIANCES,0),\nMATCH(O$10,[1]!STOCK_SF_YEARS,0))","v":2619897.3468691362},{"$f":"INDEX([1]!STOCK_SF,\nMATCH($C$9,[1]!APPLIANCES,0),\nMATCH(P$10,[1]!STOCK_SF_YEARS,0))","v":2669190.2311464772},{"$f":"INDEX([1]!STOCK_SF,\nMATCH($C$9,[1]!APPLIANCES,0),\nMATCH(Q$10,[1]!STOCK_SF_YEARS,0))","v":2704476.5907690693},{"$f":"INDEX([1]!STOCK_SF,\nMATCH($C$9,[1]!APPLIANCES,0),\nMATCH(R$10,[1]!STOCK_SF_YEARS,0))","v":2742223.1759262197},{"$f":"INDEX([1]!STOCK_SF,\nMATCH($C$9,[1]!APPLIANCES,0),\nMATCH(S$10,[1]!STOCK_SF_YEARS,0))","v":2773047.384914346},{"$f":"INDEX([1]!STOCK_SF,\nMATCH($C$9,[1]!APPLIANCES,0),\nMATCH(T$10,[1]!STOCK_SF_YEARS,0))","v":2805265.5222337116},{"$f":"INDEX([1]!STOCK_SF,\nMATCH($C$9,[1]!APPLIANCES,0),\nMATCH(U$10,[1]!STOCK_SF_YEARS,0))","v":2836386.7288709455},{"$f":"INDEX([1]!STOCK_SF,\nMATCH($C$9,[1]!APPLIANCES,0),\nMATCH(V$10,[1]!STOCK_SF_YEARS,0))","v":2868628.4862432214},{"$f":"INDEX([1]!STOCK_SF,\nMATCH($C$9,[1]!APPLIANCES,0),\nMATCH(W$10,[1]!STOCK_SF_YEARS,0))","v":2899009.8872597497},{"$f":"INDEX([1]!STOCK_SF,\nMATCH($C$9,[1]!APPLIANCES,0),\nMATCH(X$10,[1]!STOCK_SF_YEARS,0))","v":2924549.9776804075},{"$f":"INDEX([1]!STOCK_SF,\nMATCH($C$9,[1]!APPLIANCES,0),\nMATCH(Y$10,[1]!STOCK_SF_YEARS,0))","v":2950395.2816539109},{"$f":"INDEX([1]!STOCK_SF,\nMATCH($C$9,[1]!APPLIANCES,0),\nMATCH(Z$10,[1]!STOCK_SF_YEARS,0))","v":2981312.9008118436},{"$f":"INDEX([1]!STOCK_SF,\nMATCH($C$9,[1]!APPLIANCES,0),\nMATCH(AA$10,[1]!STOCK_SF_YEARS,0))","v":3017069.2825317229},{"$f":"INDEX([1]!STOCK_SF,\nMATCH($C$9,[1]!APPLIANCES,0),\nMATCH(AB$10,[1]!STOCK_SF_YEARS,0))","v":3054857.923843001},{"$f":"INDEX([1]!STOCK_SF,\nMATCH($C$9,[1]!APPLIANCES,0),\nMATCH(AC$10,[1]!STOCK_SF_YEARS,0))","v":3098340.6842778805},{"$f":"INDEX([1]!STOCK_SF,\nMATCH($C$9,[1]!APPLIANCES,0),\nMATCH(AD$10,[1]!STOCK_SF_YEARS,0))","v":3133932.1024300549},{"$f":"INDEX([1]!STOCK_SF,\nMATCH($C$9,[1]!APPLIANCES,0),\nMATCH(AE$10,[1]!STOCK_SF_YEARS,0))","v":3154457.3015974918},{"$f":"INDEX([1]!STOCK_SF,\nMATCH($C$9,[1]!APPLIANCES,0),\nMATCH(AF$10,[1]!STOCK_SF_YEARS,0))","v":3155837.3689452782},{"$f":"INDEX([1]!STOCK_SF,\nMATCH($C$9,[1]!APPLIANCES,0),\nMATCH(AG$10,[1]!STOCK_SF_YEARS,0))","v":3150665.9259635718},{"$f":"INDEX([1]!STOCK_SF,\nMATCH($C$9,[1]!APPLIANCES,0),\nMATCH(AH$10,[1]!STOCK_SF_YEARS,0))","v":3157684.4885443975},{"$f":"INDEX([1]!STOCK_SF,\nMATCH($C$9,[1]!APPLIANCES,0),\nMATCH(AI$10,[1]!STOCK_SF_YEARS,0))","v":3176433.2344889203},{"$f":"INDEX([1]!STOCK_SF,\nMATCH($C$9,[1]!APPLIANCES,0),\nMATCH(AJ$10,[1]!STOCK_SF_YEARS,0))","v":3228047.1508760308},{"$f":"INDEX([1]!STOCK_SF,\nMATCH($C$9,[1]!APPLIANCES,0),\nMATCH(AK$10,[1]!STOCK_SF_YEARS,0))","v":3280966.8518304164},{"$f":"INDEX([1]!STOCK_SF,\nMATCH($C$9,[1]!APPLIANCES,0),\nMATCH(AL$10,[1]!STOCK_SF_YEARS,0))","v":3333513.2851177584},{"$f":"INDEX([1]!STOCK_SF,\nMATCH($C$9,[1]!APPLIANCES,0),\nMATCH(AM$10,[1]!STOCK_SF_YEARS,0))","v":3386223.0080208783},{"$f":"INDEX([1]!STOCK_SF,\nMATCH($C$9,[1]!APPLIANCES,0),\nMATCH(AN$10,[1]!STOCK_SF_YEARS,0))","v":3439102.3899762523},{"$f":"INDEX([1]!STOCK_SF,\nMATCH($C$9,[1]!APPLIANCES,0),\nMATCH(AO$10,[1]!STOCK_SF_YEARS,0))","v":3491055.4089688235},{"$f":"INDEX([1]!STOCK_SF,\nMATCH($C$9,[1]!APPLIANCES,0),\nMATCH(AP$10,[1]!STOCK_SF_YEARS,0))","v":3541973.614981371},{"$f":"INDEX([1]!STOCK_SF,\nMATCH($C$9,[1]!APPLIANCES,0),\nMATCH(AQ$10,[1]!STOCK_SF_YEARS,0))","v":3591776.5635662647},{"$f":"INDEX([1]!STOCK_SF,\nMATCH($C$9,[1]!APPLIANCES,0),\nMATCH(AR$10,[1]!STOCK_SF_YEARS,0))","v":3640737.265058605},{"$f":"INDEX([1]!STOCK_SF,\nMATCH($C$9,[1]!APPLIANCES,0),\nMATCH(AS$10,[1]!STOCK_SF_YEARS,0))","v":3688417.8479968258},{"$f":"INDEX([1]!STOCK_SF,\nMATCH($C$9,[1]!APPLIANCES,0),\nMATCH(AT$10,[1]!STOCK_SF_YEARS,0))","v":3735251.3980985754},{"$f":"INDEX([1]!STOCK_SF,\nMATCH($C$9,[1]!APPLIANCES,0),\nMATCH(AU$10,[1]!STOCK_SF_YEARS,0))","v":3781474.2303705448},{"$f":"INDEX([1]!STOCK_SF,\nMATCH($C$9,[1]!APPLIANCES,0),\nMATCH(AV$10,[1]!STOCK_SF_YEARS,0))","v":3826997.2300820299},{"$f":"INDEX([1]!STOCK_SF,\nMATCH($C$9,[1]!APPLIANCES,0),\nMATCH(AW$10,[1]!STOCK_SF_YEARS,0))","v":3872364.9565700823},{"$f":"INDEX([1]!STOCK_SF,\nMATCH($C$9,[1]!APPLIANCES,0),\nMATCH(AX$10,[1]!STOCK_SF_YEARS,0))","v":3917320.128684646},{"$f":"INDEX([1]!STOCK_SF,\nMATCH($C$9,[1]!APPLIANCES,0),\nMATCH(AY$10,[1]!STOCK_SF_YEARS,0))","v":3961393.4059468899},{"$f":"INDEX([1]!STOCK_SF,\nMATCH($C$9,[1]!APPLIANCES,0),\nMATCH(AZ$10,[1]!STOCK_SF_YEARS,0))","v":4004319.0216575358},{"$f":"INDEX([1]!STOCK_SF,\nMATCH($C$9,[1]!APPLIANCES,0),\nMATCH(BA$10,[1]!STOCK_SF_YEARS,0))","v":4046462.1346292794},{"$f":"INDEX([1]!STOCK_SF,\nMATCH($C$9,[1]!APPLIANCES,0),\nMATCH(BB$10,[1]!STOCK_SF_YEARS,0))","v":4088436.0159205841},{"$f":"INDEX([1]!STOCK_SF,\nMATCH($C$9,[1]!APPLIANCES,0),\nMATCH(BC$10,[1]!STOCK_SF_YEARS,0))","v":4130829.636024802},{"$f":"INDEX([1]!STOCK_SF,\nMATCH($C$9,[1]!APPLIANCES,0),\nMATCH(BD$10,[1]!STOCK_SF_YEARS,0))","v":4173647.1923300619},{"$f":"INDEX([1]!STOCK_SF,\nMATCH($C$9,[1]!APPLIANCES,0),\nMATCH(BE$10,[1]!STOCK_SF_YEARS,0))","v":4216892.9241983742},{"$f":"INDEX([1]!STOCK_SF,\nMATCH($C$9,[1]!APPLIANCES,0),\nMATCH(BF$10,[1]!STOCK_SF_YEARS,0))","v":4260571.11338537}]

{"sheet":"Shipments and Stock - MF","index":9,"n_rows":15,"n_cols":58,"rows_kept":15,"cut":false,"hidden":false,"merged":[]}
[]
[null,null,"Shipments and Stock - MF"]
[]
[null,null,"NAVIGATION"]
[]
[null,null,"COMMENTS"]
[]
[]
[null,null,{"$f":"MODEL_NAME","v":"Electric Cooktops"}]
[null,null,null,null,1981,1982,1983,1984,1985,1986,1987,1988,1989,1990,1991,1992,1993,1994,1995,1996,1997,1998,1999,2000,2001,2002,2003,2004,2005,2006,2007,2008,2009,2010,2011,2012,2013,2014,2015,2016,2017,2018,2019,2020,2021,2022,2023,2024,2025,2026,2027,2028,2029,2030,2031,2032,2033,2034]
[null,null,"6P Shipments","(units)",{"$f":"IF(ISNUMBER(MATCH(E10,[1]!SIXTH_PLAN_MF_YEARS,0)),\nINDEX([1]!SIXTH_PLAN_MF,\nMATCH($C$9,[1]!APPLIANCES,0),\nMATCH(E$10,[1]!SIXTH_PLAN_MF_YEARS,0)),\"pre-dates plan\")","v":"pre-dates plan"},{"$f":"IF(ISNUMBER(MATCH(F10,[1]!SIXTH_PLAN_MF_YEARS,0)),\nINDEX([1]!SIXTH_PLAN_MF,\nMATCH($C$9,[1]!APPLIANCES,0),\nMATCH(F$10,[1]!SIXTH_PLAN_MF_YEARS,0)),\"pre-dates plan\")","v":"pre-dates plan"},{"$f":"IF(ISNUMBER(MATCH(G10,[1]!SIXTH_PLAN_MF_YEARS,0)),\nINDEX([1]!SIXTH_PLAN_MF,\nMATCH($C$9,[1]!APPLIANCES,0),\nMATCH(G$10,[1]!SIXTH_PLAN_MF_YEARS,0)),\"pre-dates plan\")","v":"pre-dates plan"},{"$f":"IF(ISNUMBER(MATCH(H10,[1]!SIXTH_PLAN_MF_YEARS,0)),\nINDEX([1]!SIXTH_PLAN_MF,\nMATCH($C$9,[1]!APPLIANCES,0),\nMATCH(H$10,[1]!SIXTH_PLAN_MF_YEARS,0)),\"pre-dates plan\")","v":"pre-dates plan"},{"$f":"IF(ISNUMBER(MATCH(I10,[1]!SIXTH_PLAN_MF_YEARS,0)),\nINDEX([1]!SIXTH_PLAN_MF,\nMATCH($C$9,[1]!APPLIANCES,0),\nMATCH(I$10,[1]!SIXTH_PLAN_MF_YEARS,0)),\"pre-dates plan\")","v":"pre-dates plan"},{"$f":"IF(ISNUMBER(MATCH(J10,[1]!SIXTH_PLAN_MF_YEARS,0)),\nINDEX([1]!SIXTH_PLAN_MF,\nMATCH($C$9,[1]!APPLIANCES,0),\nMATCH(J$10,[1]!SIXTH_PLAN_MF_YEARS,0)),\"pre-dates plan\")","v":"pre-dates plan"},{"$f":"IF(ISNUMBER(MATCH(K10,[1]!SIXTH_PLAN_MF_YEARS,0)),\nINDEX([1]!SIXTH_PLAN_MF,\nMATCH($C$9,[1]!APPLIANCES,0),\nMATCH(K$10,[1]!SIXTH_PLAN_MF_YEARS,0)),\"pre-dates plan\")","v":"pre-dates plan"},{"$f":"IF(ISNUMBER(MATCH(L10,[1]!SIXTH_PLAN_MF_YEARS,0)),\nINDEX([1]!SIXTH_PLAN_MF,\nMATCH($C$9,[1]!APPLIANCES,0),\nMATCH(L$10,[1]!SIXTH_PLAN_MF_YEARS,0)),\"pre-dates plan\")","v":"pre-dates plan"},{"$f":"IF(ISNUMBER(MATCH(M10,[1]!SIXTH_PLAN_MF_YEARS,0)),\nINDEX([1]!SIXTH_PLAN_MF,\nMATCH($C$9,[1]!APPLIANCES,0),\nMATCH(M$10,[1]!SIXTH_PLAN_MF_YEARS,0)),\"pre-dates plan\")","v":"pre-dates plan"},{"$f":"IF(ISNUMBER(MATCH(N10,[1]!SIXTH_PLAN_MF_YEARS,0)),\nINDEX([1]!SIXTH_PLAN_MF,\nMATCH($C$9,[1]!APPLIANCES,0),\nMATCH(N$10,[1]!SIXTH_PLAN_MF_YEARS,0)),\"pre-dates plan\")","v":"pre-dates plan"},{"$f":"IF(ISNUMBER(MATCH(O10,[1]!SIXTH_PLAN_MF_YEARS,0)),\nINDEX([1]!SIXTH_PLAN_MF,\nMATCH($C$9,[1]!APPLIANCES,0),\nMATCH(O$10,[1]!SIXTH_PLAN_MF_YEARS,0)),\"pre-dates plan\")","v":"pre-dates plan"},{"$f":"IF(ISNUMBER(MATCH(P10,[1]!SIXTH_PLAN_MF_YEARS,0)),\nINDEX([1]!SIXTH_PLAN_MF,\nMATCH($C$9,[1]!APPLIANCES,0),\nMATCH(P$10,[1]!SIXTH_PLAN_MF_YEARS,0)),\"pre-dates plan\")","v":"pre-dates plan"},{"$f":"IF(ISNUMBER(MATCH(Q10,[1]!SIXTH_PLAN_MF_YEARS,0)),\nINDEX([1]!SIXTH_PLAN_MF,\nMATCH($C$9,[1]!APPLIANCES,0),\nMATCH(Q$10,[1]!SIXTH_PLAN_MF_YEARS,0)),\"pre-dates plan\")","v":"pre-dates plan"},{"$f":"IF(ISNUMBER(MATCH(R10,[1]!SIXTH_PLAN_MF_YEARS,0)),\nINDEX([1]!SIXTH_PLAN_MF,\nMATCH($C$9,[1]!APPLIANCES,0),\nMATCH(R$10,[1]!SIXTH_PLAN_MF_YEARS,0)),\"pre-dates plan\")","v":"pre-dates plan"},{"$f":"IF(ISNUMBER(MATCH(S10,[1]!SIXTH_PLAN_MF_YEARS,0)),\nINDEX([1]!SIXTH_PLAN_MF,\nMATCH($C$9,[1]!APPLIANCES,0),\nMATCH(S$10,[1]!SIXTH_PLAN_MF_YEARS,0)),\"pre-dates plan\")","v":"pre-dates plan"},{"$f":"IF(ISNUMBER(MATCH(T10,[1]!SIXTH_PLAN_MF_YEARS,0)),\nINDEX([1]!SIXTH_PLAN_MF,\nMATCH($C$9,[1]!APPLIANCES,0),\nMATCH(T$10,[1]!SIXTH_PLAN_MF_YEARS,0)),\"pre-dates plan\")","v":"pre-dates plan"},{"$f":"IF(ISNUMBER(MATCH(U10,[1]!SIXTH_PLAN_MF_YEARS,0)),\nINDEX([1]!SIXTH_PLAN_MF,\nMATCH($C$9,[1]!APPLIANCES,0),\nMATCH(U$10,[1]!SIXTH_PLAN_MF_YEARS,0)),\"pre-dates plan\")","v":"pre-dates plan"},{"$f":"IF(ISNUMBER(MATCH(V10,[1]!SIXTH_PLAN_MF_YEARS,0)),\nINDEX([1]!SIXTH_PLAN_MF,\nMATCH($C$9,[1]!APPLIANCES,0),\nMATCH(V$10,[1]!SIXTH_PLAN_MF_YEARS,0)),\"pre-dates plan\")","v":"pre-dates plan"},{"$f":"IF(ISNUMBER(MATCH(W10,[1]!SIXTH_PLAN_MF_YEARS,0)),\nINDEX([1]!SIXTH_PLAN_MF,\nMATCH($C$9,[1]!APPLIANCES,0),\nMATCH(W$10,[1]!SIXTH_PLAN_MF_YEARS,0)),\"pre-dates plan\")","v":"pre-dates plan"},{"$f":"IF(ISNUMBER(MATCH(X10,[1]!SIXTH_PLAN_MF_YEARS,0)),\nINDEX([1]!SIXTH_PLAN_MF,\nMATCH($C$9,[1]!APPLIANCES,0),\nMATCH(X$10,[1]!SIXTH_PLAN_MF_YEARS,0)),\"pre-dates plan\")","v":"pre-dates plan"},{"$f":"IF(ISNUMBER(MATCH(Y10,[1]!SIXTH_PLAN_MF_YEARS,0)),\nINDEX([1]!SIXTH_PLAN_MF,\nMATCH($C$9,[1]!APPLIANCES,0),\nMATCH(Y$10,[1]!SIXTH_PLAN_MF_YEARS,0)),\"pre-dates plan\")","v":"pre-dates plan"},{"$f":"IF(ISNUMBER(MATCH(Z10,[1]!SIXTH_PLAN_MF_YEARS,0)),\nINDEX([1]!SIXTH_PLAN_MF,\nMATCH($C$9,[1]!APPLIANCES,0),\nMATCH(Z$10,[1]!SIXTH_PLAN_MF_YEARS,0)),\"pre-dates plan\")","v":"pre-dates plan"},{"$f":"IF(ISNUMBER(MATCH(AA10,[1]!SIXTH_PLAN_MF_YEARS,0)),\nINDEX([1]!SIXTH_PLAN_MF,\nMATCH($C$9,[1]!APPLIANCES,0),\nMATCH(AA$10,[1]!SIXTH_PLAN_MF_YEARS,0)),\"pre-dates plan\")","v":"pre-dates plan"},{"$f":"IF(ISNUMBER(MATCH(AB10,[1]!SIXTH_PLAN_MF_YEARS,0)),\nINDEX([1]!SIXTH_PLAN_MF,\nMATCH($C$9,[1]!APPLIANCES,0),\nMATCH(AB$10,[1]!SIXTH_PLAN_MF_YEARS,0)),\"pre-dates plan\")","v":"pre-dates plan"},{"$f":"IF(ISNUMBER(MATCH(AC10,[1]!SIXTH_PLAN_MF_YEARS,0)),\nINDEX([1]!SIXTH_PLAN_MF,\nMATCH($C$9,[1]!APPLIANCES,0),\nMATCH(AC$10,[1]!SIXTH_PLAN_MF_YEARS,0)),\"pre-dates plan\")","v":"pre-dates plan"},{"$f":"IF(ISNUMBER(MATCH(AD10,[1]!SIXTH_PLAN_MF_YEARS,0)),\nINDEX([1]!SIXTH_PLAN_MF,\nMATCH($C$9,[1]!APPLIANCES,0),\nMATCH(AD$10,[1]!SIXTH_PLAN_MF_YEARS,0)),\"pre-dates plan\")","v":"pre-dates plan"},{"$f":"IF(ISNUMBER(MATCH(AE10,[1]!SIXTH_PLAN_MF_YEARS,0)),\nINDEX([1]!SIXTH_PLAN_MF,\nMATCH($C$9,[1]!APPLIANCES,0),\nMATCH(AE$10,[1]!SIXTH_PLAN_MF_YEARS,0)),\"pre-dates plan\")","v":"pre-dates plan"},{"$f":"IF(ISNUMBER(MATCH(AF10,[1]!SIXTH_PLAN_MF_YEARS,0)),\nINDEX([1]!SIXTH_PLAN_MF,\nMATCH($C$9,[1]!APPLIANCES,0),\nMATCH(AF$10,[1]!SIXTH_PLAN_MF_YEARS,0)),\"pre-dates plan\")","v":"pre-dates plan"},{"$f":"IF(ISNUMBER(MATCH(AG10,[1]!SIXTH_PLAN_MF_YEARS,0)),\nINDEX([1]!SIXTH_PLAN_MF,\nMATCH($C$9,[1]!APPLIANCES,0),\nMATCH(AG$10,[1]!SIXTH_PLAN_MF_YEARS,0)),\"pre-dates plan\")","v":"pre-dates plan"},{"$f":"IF(ISNUMBER(MATCH(AH10,[1]!SIXTH_PLAN_MF_YEARS,0)),\nINDEX([1]!SIXTH_PLAN_MF,\nMATCH($C$9,[1]!APPLIANCES,0),\nMATCH(AH$10,[1]!SIXTH_PLAN_MF_YEARS,0)),\"pre-dates plan\")","v":51908.863266433065},{"$f":"IF(ISNUMBER(MATCH(AI10,[1]!SIXTH_PLAN_MF_YEARS,0)),\nINDEX([1]!SIXTH_PLAN_MF,\nMATCH($C$9,[1]!APPLIANCES,0),\nMATCH(AI$10,[1]!SIXTH_PLAN_MF_YEARS,0)),\"pre-dates plan\")","v":51908.863266433065},{"$f":"IF(ISNUMBER(MATCH(AJ10,[1]!SIXTH_PLAN_MF_YEARS,0)),\nINDEX([1]!SIXTH_PLAN_MF,\nMATCH($C$9,[1]!APPLIANCES,0),\nMATCH(AJ$10,[1]!SIXTH_PLAN_MF_YEARS,0)),\"pre-dates plan\")","v":51908.863266433065},{"$f":"IF(ISNUMBER(MATCH(AK10,[1]!SIXTH_PLAN_MF_YEARS,0)),\nINDEX([1]!SIXTH_PLAN_MF,\nMATCH($C$9,[1]!APPLIANCES,0),\nMATCH(AK$10,[1]!SIXTH_PLAN_MF_YEARS,0)),\"pre-dates plan\")","v":51908.863266433065},{"$f":"IF(ISNUMBER(MATCH(AL10,[1]!SIXTH_PLAN_MF_YEARS,0)),\nINDEX([1]!SIXTH_PLAN_MF,\nMATCH($C$9,[1]!APPLIANCES,0),\nMATCH(AL$10,[1]!SIXTH_PLAN_MF_YEARS,0)),\"pre-dates plan\")","v":51908.863266433065},{"$f":"IF(ISNUMBER(MATCH(AM10,[1]!SIXTH_PLAN_MF_YEARS,0)),\nINDEX([1]!SIXTH_PLAN_MF,\nMATCH($C$9,[1]!APPLIANCES,0),\nMATCH(AM$10,[1]!SIXTH_PLAN_MF_YEARS,0)),\"pre-dates plan\")","v":51908.863266433065},{"$f":"IF(ISNUMBER(MATCH(AN10,[1]!SIXTH_PLAN_MF_YEARS,0)),\nINDEX([1]!SIXTH_PLAN_MF,\nMATCH($C$9,[1]!APPLIANCES,0),\nMATCH(AN$10,[1]!SIXTH_PLAN_MF_YEARS,0)),\"pre-dates plan\")","v":51908.863266433065},{"$f":"IF(ISNUMBER(MATCH(AO10,[1]!SIXTH_PLAN_MF_YEARS,0)),\nINDEX([1]!SIXTH_PLAN_MF,\nMATCH($C$9,[1]!APPLIANCES,0),\nMATCH(AO$10,[1]!SIXTH_PLAN_MF_YEARS,0)),\"pre-dates plan\")","v":51908.863266433065},{"$f":"IF(ISNUMBER(MATCH(AP10,[1]!SIXTH_PLAN_MF_YEARS,0)),\nINDEX([1]!SIXTH_PLAN_MF,\nMATCH($C$9,[1]!APPLIANCES,0),\nMATCH(AP$10,[1]!SIXTH_PLAN_MF_YEARS,0)),\"pre-dates plan\")","v":51908.863266433065},{"$f":"IF(ISNUMBER(MATCH(AQ10,[1]!SIXTH_PLAN_MF_YEARS,0)),\nINDEX([1]!SIXTH_PLAN_MF,\nMATCH($C$9,[1]!APPLIANCES,0),\nMATCH(AQ$10,[1]!SIXTH_PLAN_MF_YEARS,0)),\"pre-dates plan\")","v":51908.863266433065},{"$f":"IF(ISNUMBER(MATCH(AR10,[1]!SIXTH_PLAN_MF_YEARS,0)),\nINDEX([1]!SIXTH_PLAN_MF,\nMATCH($C$9,[1]!APPLIANCES,0),\nMATCH(AR$10,[1]!SIXTH_PLAN_MF_YEARS,0)),\"pre-dates plan\")","v":51908.863266433065},{"$f":"IF(ISNUMBER(MATCH(AS10,[1]!SIXTH_PLAN_MF_YEARS,0)),\nINDEX([1]!SIXTH_PLAN_MF,\nMATCH($C$9,[1]!APPLIANCES,0),\nMATCH(AS$10,[1]!SIXTH_PLAN_MF_YEARS,0)),\"pre-dates plan\")","v":51908.863266433065},{"$f":"IF(ISNUMBER(MATCH(AT10,[1]!SIXTH_PLAN_MF_YEARS,0)),\nINDEX([1]!SIXTH_PLAN_MF,\nMATCH($C$9,[1]!APPLIANCES,0),\nMATCH(AT$10,[1]!SIXTH_PLAN_MF_YEARS,0)),\"pre-dates plan\")","v":51908.863266433065},{"$f":"IF(ISNUMBER(MATCH(AU10,[1]!SIXTH_PLAN_MF_YEARS,0)),\nINDEX([1]!SIXTH_PLAN_MF,\nMATCH($C$9,[1]!APPLIANCES,0),\nMATCH(AU$10,[1]!SIXTH_PLAN_MF_YEARS,0)),\"pre-dates plan\")","v":51908.863266433065},{"$f":"IF(ISNUMBER(MATCH(AV10,[1]!SIXTH_PLAN_MF_YEARS,0)),\nINDEX([1]!SIXTH_PLAN_MF,\nMATCH($C$9,[1]!APPLIANCES,0),\nMATCH(AV$10,[1]!SIXTH_PLAN_MF_YEARS,0)),\"pre-dates plan\")","v":51908.863266433065},{"$f":"IF(ISNUMBER(MATCH(AW10,[1]!SIXTH_PLAN_MF_YEARS,0)),\nINDEX([1]!SIXTH_PLAN_MF,\nMATCH($C$9,[1]!APPLIANCES,0),\nMATCH(AW$10,[1]!SIXTH_PLAN_MF_YEARS,0)),\"pre-dates plan\")","v":51908.863266433065},{"$f":"IF(ISNUMBER(MATCH(AX10,[1]!SIXTH_PLAN_MF_YEARS,0)),\nINDEX([1]!SIXTH_PLAN_MF,\nMATCH($C$9,[1]!APPLIANCES,0),\nMATCH(AX$10,[1]!SIXTH_PLAN_MF_YEARS,0)),\"pre-dates plan\")","v":51908.863266433065},{"$f":"IF(ISNUMBER(MATCH(AY10,[1]!SIXTH_PLAN_MF_YEARS,0)),\nINDEX([1]!SIXTH_PLAN_MF,\nMATCH($C$9,[1]!APPLIANCES,0),\nMATCH(AY$10,[1]!SIXTH_PLAN_MF_YEARS,0)),\"pre-dates plan\")","v":51908.863266433065},{"$f":"IF(ISNUMBER(MATCH(AZ10,[1]!SIXTH_PLAN_MF_YEARS,0)),\nINDEX([1]!SIXTH_PLAN_MF,\nMATCH($C$9,[1]!APPLIANCES,0),\nMATCH(AZ$10,[1]!SIXTH_PLAN_MF_YEARS,0)),\"pre-dates plan\")","v":51908.863266433065},{"$f":"IF(ISNUMBER(MATCH(BA10,[1]!SIXTH_PLAN_MF_YEARS,0)),\nINDEX([1]!SIXTH_PLAN_MF,\nMATCH($C$9,[1]!APPLIANCES,0),\nMATCH(BA$10,[1]!SIXTH_PLAN_MF_YEARS,0)),\"pre-dates plan\")","v":51908.863266433065},{"$f":"IF(ISNUMBER(MATCH(BB10,[1]!SIXTH_PLAN_MF_YEARS,0)),\nINDEX([1]!SIXTH_PLAN_MF,\nMATCH($C$9,[1]!APPLIANCES,0),\nMATCH(BB$10,[1]!SIXTH_PLAN_MF_YEARS,0)),\"pre-dates plan\")","v":51908.863266433065},{"$f":"IF(ISNUMBER(MATCH(BC10,[1]!SIXTH_PLAN_MF_YEARS,0)),\nINDEX([1]!SIXTH_PLAN_MF,\nMATCH($C$9,[1]!APPLIANCES,0),\nMATCH(BC$10,[1]!SIXTH_PLAN_MF_YEARS,0)),\"pre-dates plan\")","v":51908.863266433065},{"$f":"IF(ISNUMBER(MATCH(BD10,[1]!SIXTH_PLAN_MF_YEARS,0)),\nINDEX([1]!SIXTH_PLAN_MF,\nMATCH($C$9,[1]!APPLIANCES,0),\nMATCH(BD$10,[1]!SIXTH_PLAN_MF_YEARS,0)),\"pre-dates plan\")","v":51908.863266433065},{"$f":"IF(ISNUMBER(MATCH(BE10,[1]!SIXTH_PLAN_MF_YEARS,0)),\nINDEX([1]!SIXTH_PLAN_MF,\nMATCH($C$9,[1]!APPLIANCES,0),\nMATCH(BE$10,[1]!SIXTH_PLAN_MF_YEARS,0)),\"pre-dates plan\")","v":51908.863266433065},{"$f":"IF(ISNUMBER(MATCH(BF10,[1]!SIXTH_PLAN_MF_YEARS,0)),\nINDEX([1]!SIXTH_PLAN_MF,\nMATCH($C$9,[1]!APPLIANCES,0),\nMATCH(BF$10,[1]!SIXTH_PLAN_MF_YEARS,0)),\"pre-dates plan\")","v":51908.863266433065}]
[null,null,"Replacement Shipments","(units)",{"$f":"INDEX([1]!SHIPMENTS_MF,\n((MATCH($C$9,[1]!APPLIANCES,0)-1)*2)+1,\nMATCH(E$10,[1]!SHIPMENTS_MF_YEARS,0))","v":29942.909627898131},{"$f":"INDEX([1]!SHIPMENTS_MF,\n((MATCH($C$9,[1]!APPLIANCES,0)-1)*2)+1,\nMATCH(F$10,[1]!SHIPMENTS_MF_YEARS,0))","v":29942.909627898131},{"$f":"INDEX([1]!SHIPMENTS_MF,\n((MATCH($C$9,[1]!APPLIANCES,0)-1)*2)+1,\nMATCH(G$10,[1]!SHIPMENTS_MF_YEARS,0))","v":29942.909627898131},{"$f":"INDEX([1]!SHIPMENTS_MF,\n((MATCH($C$9,[1]!APPLIANCES,0)-1)*2)+1,\nMATCH(H$10,[1]!SHIPMENTS_MF_YEARS,0))","v":29942.909627898131},{"$f":"INDEX([1]!SHIPMENTS_MF,\n((MATCH($C$9,[1]!APPLIANCES,0)-1)*2)+1,\nMATCH(I$10,[1]!SHIPMENTS_MF_YEARS,0))","v":29942.909627898131},{"$f":"INDEX([1]!SHIPMENTS_MF,\n((MATCH($C$9,[1]!APPLIANCES,0)-1)*2)+1,\nMATCH(J$10,[1]!SHIPMENTS_MF_YEARS,0))","v":29942.909627898131},{"$f":"INDEX([1]!SHIPMENTS_MF,\n((MATCH($C$9,[1]!APPLIANCES,0)-1)*2)+1,\nMATCH(K$10,[1]!SHIPMENTS_MF_YEARS,0))","v":29942.909627898131},{"$f":"INDEX([1]!SHIPMENTS_MF,\n((MATCH($C$9,[1]!APPLIANCES,0)-1)*2)+1,\nMATCH(L$10,[1]!SHIPMENTS_MF_YEARS,0))","v":29942.909627898131},{"$f":"INDEX([1]!SHIPMENTS_MF,\n((MATCH($C$9,[1]!APPLIANCES,0)-1)*2)+1,\nMATCH(M$10,[1]!SHIPMENTS_MF_YEARS,0))","v":29942.909627898131},{"$f":"INDEX([1]!SHIPMENTS_MF,\n((MATCH($C$9,[1]!APPLIANCES,0)-1)*2)+1,\nMATCH(N$10,[1]!SHIPMENTS_MF_YEARS,0))","v":29942.909627898131},{"$f":"INDEX([1]!SHIPMENTS_MF,\n((MATCH($C$9,[1]!APPLIANCES,0)-1)*2)+1,\nMATCH(O$10,[1]!SHIPMENTS_MF_YEARS,0))","v":29942.909627898131},{"$f":"INDEX([1]!SHIPMENTS_MF,\n((MATCH($C$9,[1]!APPLIANCES,0)-1)*2)+1,\nMATCH(P$10,[1]!SHIPMENTS_MF_YEARS,0))","v":29942.909627898131},{"$f":"INDEX([1]!SHIPMENTS_MF,\n((MATCH($C$9,[1]!APPLIANCES,0)-1)*2)+1,\nMATCH(Q$10,[1]!SHIPMENTS_MF_YEARS,0))","v":29942.909627898131},{"$f":"INDEX([1]!SHIPMENTS_MF,\n((MATCH($C$9,[1]!APPLIANCES,0)-1)*2)+1,\nMATCH(R$10,[1]!SHIPMENTS_MF_YEARS,0))","v":29942.909627898131},{"$f":"INDEX([1]!SHIPMENTS_MF,\n((MATCH($C$9,[1]!APPLIANCES,0)-1)*2)+1,\nMATCH(S$10,[1]!SHIPMENTS_MF_YEARS,0))","v":29942.909627898131},{"$f":"INDEX([1]!SHIPMENTS_MF,\n((MATCH($C$9,[1]!APPLIANCES,0)-1)*2)+1,\nMATCH(T$10,[1]!SHIPMENTS_MF_YEARS,0))","v":29942.909627898131},{"$f":"INDEX([1]!SHIPMENTS_MF,\n((MATCH($C$9,[1]!APPLIANCES,0)-1)*2)+1,\nMATCH(U$10,[1]!SHIPMENTS_MF_YEARS,0))","v":29942.909627898131},{"$f":"INDEX([1]!SHIPMENTS_MF,\n((MATCH($C$9,[1]!APPLIANCES,0)-1)*2)+1,\nMATCH(V$10,[1]!SHIPMENTS_MF_YEARS,0))","v":29942.909627898131},{"$f":"INDEX([1]!SHIPMENTS_MF,\n((MATCH($C$9,[1]!APPLIANCES,0)-1)*2)+1,\nMATCH(W$10,[1]!SHIPMENTS_MF_YEARS,0))","v":29942.909627898131},{"$f":"INDEX([1]!SHIPMENTS_MF,\n((MATCH($C$9,[1]!APPLIANCES,0)-1)*2)+1,\nMATCH(X$10,[1]!SHIPMENTS_MF_YEARS,0))","v":41891.85341077263},{"$f":"INDEX([1]!SHIPMENTS_MF,\n((MATCH($C$9,[1]!APPLIANCES,0)-1)*2)+1,\nMATCH(Y$10,[1]!SHIPMENTS_MF_YEARS,0))","v":38447.623184635653},{"$f":"INDEX([1]!SHIPMENTS_MF,\n((MATCH($C$9,[1]!APPLIANCES,0)-1)*2)+1,\nMATCH(Z$10,[1]!SHIPMENTS_MF_YEARS,0))","v":39974.382390531944},{"$f":"INDEX([1]!SHIPMENTS_MF,\n((MATCH($C$9,[1]!APPLIANCES,0)-1)*2)+1,\nMATCH(AA$10,[1]!SHIPMENTS_MF_YEARS,0))","v":45252.399579447811},{"$f":"INDEX([1]!SHIPMENTS_MF,\n((MATCH($C$9,[1]!APPLIANCES,0)-1)*2)+1,\nMATCH(AB$10,[1]!SHIPMENTS_MF_YEARS,0))","v":53490.642539327499},{"$f":"INDEX([1]!SHIPMENTS_MF,\n((MATCH($C$9,[1]!APPLIANCES,0)-1)*2)+1,\nMATCH(AC$10,[1]!SHIPMENTS_MF_YEARS,0))","v":50862.024622231373},{"$f":"INDEX([1]!SHIPMENTS_MF,\n((MATCH($C$9,[1]!APPLIANCES,0)-1)*2)+1,\nMATCH(AD$10,[1]!SHIPMENTS_MF_YEARS,0))","v":53290.538204328739},{"$f":"INDEX([1]!SHIPMENTS_MF,\n((MATCH($C$9,[1]!APPLIANCES,0)-1)*2)+1,\nMATCH(AE$10,[1]!SHIPMENTS_MF_YEARS,0))","v":58991.779972237186},{"$f":"INDEX([1]!SHIPMENTS_MF,\n((MATCH($C$9,[1]!APPLIANCES,0)-1)*2)+1,\nMATCH(AF$10,[1]!SHIPMENTS_MF_YEARS,0))","v":64713.803094869385},{"$f":"INDEX([1]!SHIPMENTS_MF,\n((MATCH($C$9,[1]!APPLIANCES,0)-1)*2)+1,\nMATCH(AG$10,[1]!SHIPMENTS_MF_YEARS,0))","v":57237.979784429888},{"$f":"INDEX([1]!SHIPMENTS_MF,\n((MATCH($C$9,[1]!APPLIANCES,0)-1)*2)+1,\nMATCH(AH$10,[1]!SHIPMENTS_MF_YEARS,0))","v":43704.970746541745},{"$f":"INDEX([1]!SHIPMENTS_MF,\n((MATCH($C$9,[1]!APPLIANCES,0)-1)*2)+1,\nMATCH(AI$10,[1]!SHIPMENTS_MF_YEARS,0))","v":44045.963728348841},{"$f":"INDEX([1]!SHIPMENTS_MF,\n((MATCH($C$9,[1]!APPLIANCES,0)-1)*2)+1,\nMATCH(AJ$10,[1]!SHIPMENTS_MF_YEARS,0))","v":40594.753062362433},{"$f":"INDEX([1]!SHIPMENTS_MF,\n((MATCH($C$9,[1]!APPLIANCES,0)-1)*2)+1,\nMATCH(AK$10,[1]!SHIPMENTS_MF_YEARS,0))","v":43809.523354835808},{"$f":"INDEX([1]!SHIPMENTS_MF,\n((MATCH($C$9,[1]!APPLIANCES,0)-1)*2)+1,\nMATCH(AL$10,[1]!SHIPMENTS_MF_YEARS,0))","v":45214.480297756381},{"$f":"INDEX([1]!SHIPMENTS_MF,\n((MATCH($C$9,[1]!APPLIANCES,0)-1)*2)+1,\nMATCH(AM$10,[1]!SHIPMENTS_MF_YEARS,0))","v":45085.929306852981},{"$f":"INDEX([1]!SHIPMENTS_MF,\n((MATCH($C$9,[1]!APPLIANCES,0)-1)*2)+1,\nMATCH(AN$10,[1]!SHIPMENTS_MF_YEARS,0))","v":45110.381148721091},{"$f":"INDEX([1]!SHIPMENTS_MF,\n((MATCH($C$9,[1]!APPLIANCES,0)-1)*2)+1,\nMATCH(AO$10,[1]!SHIPMENTS_MF_YEARS,0))","v":47649.583263379871},{"$f":"INDEX([1]!SHIPMENTS_MF,\n((MATCH($C$9,[1]!APPLIANCES,0)-1)*2)+1,\nMATCH(AP$10,[1]!SHIPMENTS_MF_YEARS,0))","v":43489.389036441687},{"$f":"INDEX([1]!SHIPMENTS_MF,\n((MATCH($C$9,[1]!APPLIANCES,0)-1)*2)+1,\nMATCH(AQ$10,[1]!SHIPMENTS_MF_YEARS,0))","v":51609.136861798819},{"$f":"INDEX([1]!SHIPMENTS_MF,\n((MATCH($C$9,[1]!APPLIANCES,0)-1)*2)+1,\nMATCH(AR$10,[1]!SHIPMENTS_MF_YEARS,0))","v":48150.716628974304},{"$f":"INDEX([1]!SHIPMENTS_MF,\n((MATCH($C$9,[1]!APPLIANCES,0)-1)*2)+1,\nMATCH(AS$10,[1]!SHIPMENTS_MF_YEARS,0))","v":48116.159860803513},{"$f":"INDEX([1]!SHIPMENTS_MF,\n((MATCH($C$9,[1]!APPLIANCES,0)-1)*2)+1,\nMATCH(AT$10,[1]!SHIPMENTS_MF_YEARS,0))","v":53531.907059333636},{"$f":"INDEX([1]!SHIPMENTS_MF,\n((MATCH($C$9,[1]!APPLIANCES,0)-1)*2)+1,\nMATCH(AU$10,[1]!SHIPMENTS_MF_YEARS,0))","v":63460.416073034517},{"$f":"INDEX([1]!SHIPMENTS_MF,\n((MATCH($C$9,[1]!APPLIANCES,0)-1)*2)+1,\nMATCH(AV$10,[1]!SHIPMENTS_MF_YEARS,0))","v":60252.197151809698},{"$f":"INDEX([1]!SHIPMENTS_MF,\n((MATCH($C$9,[1]!APPLIANCES,0)-1)*2)+1,\nMATCH(AW$10,[1]!SHIPMENTS_MF_YEARS,0))","v":64372.432615901809},{"$f":"INDEX([1]!SHIPMENTS_MF,\n((MATCH($C$9,[1]!APPLIANCES,0)-1)*2)+1,\nMATCH(AX$10,[1]!SHIPMENTS_MF_YEARS,0))","v":69412.984765217872},{"$f":"INDEX([1]!SHIPMENTS_MF,\n((MATCH($C$9,[1]!APPLIANCES,0)-1)*2)+1,\nMATCH(AY$10,[1]!SHIPMENTS_MF_YEARS,0))","v":70288.912444782938},{"$f":"INDEX([1]!SHIPMENTS_MF,\n((MATCH($C$9,[1]!APPLIANCES,0)-1)*2)+1,\nMATCH(AZ$10,[1]!SHIPMENTS_MF_YEARS,0))","v":57237.979784429888},{"$f":"INDEX([1]!SHIPMENTS_MF,\n((MATCH($C$9,[1]!APPLIANCES,0)-1)*2)+1,\nMATCH(BA$10,[1]!SHIPMENTS_MF_YEARS,0))","v":44835.555617442238},{"$f":"INDEX([1]!SHIPMENTS_MF,\n((MATCH($C$9,[1]!APPLIANCES,0)-1)*2)+1,\nMATCH(BB$10,[1]!SHIPMENTS_MF_YEARS,0))","v":49164.099960957654},{"$f":"INDEX([1]!SHIPMENTS_MF,\n((MATCH($C$9,[1]!APPLIANCES,0)-1)*2)+1,\nMATCH(BC$10,[1]!SHIPMENTS_MF_YEARS,0))","v":54937.620885098004},{"$f":"INDEX([1]!SHIPMENTS_MF,\n((MATCH($C$9,[1]!APPLIANCES,0)-1)*2)+1,\nMATCH(BD$10,[1]!SHIPMENTS_MF_YEARS,0))","v":58960.493966843467},{"$f":"INDEX([1]!SHIPMENTS_MF,\n((MATCH($C$9,[1]!APPLIANCES,0)-1)*2)+1,\nMATCH(BE$10,[1]!SHIPMENTS_MF_YEARS,0))","v":61486.348715260727},{"$f":"INDEX([1]!SHIPMENTS_MF,\n((MATCH($C$9,[1]!APPLIANCES,0)-1)*2)+1,\nMATCH(BF$10,[1]!SHIPMENTS_MF_YEARS,0))","v":62688.713258313946}]
[null,null,"Net New Shipments","(units)",{"$f":"INDEX([1]!SHIPMENTS_MF,\n((MATCH($C$9,[1]!APPLIANCES,0)-1)*2)+2,\nMATCH(E$10,[1]!SHIPMENTS_MF_YEARS,0))","v":11948.943782874499},{"$f":"INDEX([1]!SHIPMENTS_MF,\n((MATCH($C$9,[1]!APPLIANCES,0)-1)*2)+2,\nMATCH(F$10,[1]!SHIPMENTS_MF_YEARS,0))","v":8504.7135567375226},{"$f":"INDEX([1]!SHIPMENTS_MF,\n((MATCH($C$9,[1]!APPLIANCES,0)-1)*2)+2,\nMATCH(G$10,[1]!SHIPMENTS_MF_YEARS,0))","v":10031.472762633814},{"$f":"INDEX([1]!SHIPMENTS_MF,\n((MATCH($C$9,[1]!APPLIANCES,0)-1)*2)+2,\nMATCH(H$10,[1]!SHIPMENTS_MF_YEARS,0))","v":15309.48995154968},{"$f":"INDEX([1]!SHIPMENTS_MF,\n((MATCH($C$9,[1]!APPLIANCES,0)-1)*2)+2,\nMATCH(I$10,[1]!SHIPMENTS_MF_YEARS,0))","v":23547.732911429368},{"$f":"INDEX([1]!SHIPMENTS_MF,\n((MATCH($C$9,[1]!APPLIANCES,0)-1)*2)+2,\nMATCH(J$10,[1]!SHIPMENTS_MF_YEARS,0))","v":20919.114994333242},{"$f":"INDEX([1]!SHIPMENTS_MF,\n((MATCH($C$9,[1]!APPLIANCES,0)-1)*2)+2,\nMATCH(K$10,[1]!SHIPMENTS_MF_YEARS,0))","v":23347.628576430609},{"$f":"INDEX([1]!SHIPMENTS_MF,\n((MATCH($C$9,[1]!APPLIANCES,0)-1)*2)+2,\nMATCH(L$10,[1]!SHIPMENTS_MF_YEARS,0))","v":29048.870344339055},{"$f":"INDEX([1]!SHIPMENTS_MF,\n((MATCH($C$9,[1]!APPLIANCES,0)-1)*2)+2,\nMATCH(M$10,[1]!SHIPMENTS_MF_YEARS,0))","v":34770.893466971254},{"$f":"INDEX([1]!SHIPMENTS_MF,\n((MATCH($C$9,[1]!APPLIANCES,0)-1)*2)+2,\nMATCH(N$10,[1]!SHIPMENTS_MF_YEARS,0))","v":29392.991702126106},{"$f":"INDEX([1]!SHIPMENTS_MF,\n((MATCH($C$9,[1]!APPLIANCES,0)-1)*2)+2,\nMATCH(O$10,[1]!SHIPMENTS_MF_YEARS,0))","v":13762.061118643614},{"$f":"INDEX([1]!SHIPMENTS_MF,\n((MATCH($C$9,[1]!APPLIANCES,0)-1)*2)+2,\nMATCH(P$10,[1]!SHIPMENTS_MF_YEARS,0))","v":14103.05410045071},{"$f":"INDEX([1]!SHIPMENTS_MF,\n((MATCH($C$9,[1]!APPLIANCES,0)-1)*2)+2,\nMATCH(Q$10,[1]!SHIPMENTS_MF_YEARS,0))","v":10651.843434464303},{"$f":"INDEX([1]!SHIPMENTS_MF,\n((MATCH($C$9,[1]!APPLIANCES,0)-1)*2)+2,\nMATCH(R$10,[1]!SHIPMENTS_MF_YEARS,0))","v":13866.613726937678},{"$f":"INDEX([1]!SHIPMENTS_MF,\n((MATCH($C$9,[1]!APPLIANCES,0)-1)*2)+2,\nMATCH(S$10,[1]!SHIPMENTS_MF_YEARS,0))","v":15271.570669858251},{"$f":"INDEX([1]!SHIPMENTS_MF,\n((MATCH($C$9,[1]!APPLIANCES,0)-1)*2)+2,\nMATCH(T$10,[1]!SHIPMENTS_MF_YEARS,0))","v":15143.01967895485},{"$f":"INDEX([1]!SHIPMENTS_MF,\n((MATCH($C$9,[1]!APPLIANCES,0)-1)*2)+2,\nMATCH(U$10,[1]!SHIPMENTS_MF_YEARS,0))","v":15167.471520822961},{"$f":"INDEX([1]!SHIPMENTS_MF,\n((MATCH($C$9,[1]!APPLIANCES,0)-1)*2)+2,\nMATCH(V$10,[1]!SHIPMENTS_MF_YEARS,0))","v":17706.67363548174},{"$f":"INDEX([1]!SHIPMENTS_MF,\n((MATCH($C$9,[1]!APPLIANCES,0)-1)*2)+2,\nMATCH(W$10,[1]!SHIPMENTS_MF_YEARS,0))","v":13546.479408543557},{"$f":"INDEX([1]!SHIPMENTS_MF,\n((MATCH($C$9,[1]!APPLIANCES,0)-1)*2)+2,\nMATCH(X$10,[1]!SHIPMENTS_MF_YEARS,0))","v":9717.2834510261891},{"$f":"INDEX([1]!SHIPMENTS_MF,\n((MATCH($C$9,[1]!APPLIANCES,0)-1)*2)+2,\nMATCH(Y$10,[1]!SHIPMENTS_MF_YEARS,0))","v":9703.0934443386504},{"$f":"INDEX([1]!SHIPMENTS_MF,\n((MATCH($C$9,[1]!APPLIANCES,0)-1)*2)+2,\nMATCH(Z$10,[1]!SHIPMENTS_MF_YEARS,0))","v":8141.7774702715687},{"$f":"INDEX([1]!SHIPMENTS_MF,\n((MATCH($C$9,[1]!APPLIANCES,0)-1)*2)+2,\nMATCH(AA$10,[1]!SHIPMENTS_MF_YEARS,0))","v":8279.5074798858259},{"$f":"INDEX([1]!SHIPMENTS_MF,\n((MATCH($C$9,[1]!APPLIANCES,0)-1)*2)+2,\nMATCH(AB$10,[1]!SHIPMENTS_MF_YEARS,0))","v":9969.7735337070189},{"$f":"INDEX([1]!SHIPMENTS_MF,\n((MATCH($C$9,[1]!APPLIANCES,0)-1)*2)+2,\nMATCH(AC$10,[1]!SHIPMENTS_MF_YEARS,0))","v":9390.1725295783253},{"$f":"INDEX([1]!SHIPMENTS_MF,\n((MATCH($C$9,[1]!APPLIANCES,0)-1)*2)+2,\nMATCH(AD$10,[1]!SHIPMENTS_MF_YEARS,0))","v":11081.89441157307},{"$f":"INDEX([1]!SHIPMENTS_MF,\n((MATCH($C$9,[1]!APPLIANCES,0)-1)*2)+2,\nMATCH(AE$10,[1]!SHIPMENTS_MF_YEARS,0))","v":10421.204792980687},{"$f":"INDEX([1]!SHIPMENTS_MF,\n((MATCH($C$9,[1]!APPLIANCES,0)-1)*2)+2,\nMATCH(AF$10,[1]!SHIPMENTS_MF_YEARS,0))","v":5575.1093499135459},{"$f":"INDEX([1]!SHIPMENTS_MF,\n((MATCH($C$9,[1]!APPLIANCES,0)-1)*2)+2,\nMATCH(AG$10,[1]!SHIPMENTS_MF_YEARS,0))","v":0},{"$f":"INDEX([1]!SHIPMENTS_MF,\n((MATCH($C$9,[1]!APPLIANCES,0)-1)*2)+2,\nMATCH(AH$10,[1]!SHIPMENTS_MF_YEARS,0))","v":1130.5848709004931},{"$f":"INDEX([1]!SHIPMENTS_MF,\n((MATCH($C$9,[1]!APPLIANCES,0)-1)*2)+2,\nMATCH(AI$10,[1]!SHIPMENTS_MF_YEARS,0))","v":5118.1362326088129},{"$f":"INDEX([1]!SHIPMENTS_MF,\n((MATCH($C$9,[1]!APPLIANCES,0)-1)*2)+2,\nMATCH(AJ$10,[1]!SHIPMENTS_MF_YEARS,0))","v":14342.86782273557},{"$f":"INDEX([1]!SHIPMENTS_MF,\n((MATCH($C$9,[1]!APPLIANCES,0)-1)*2)+2,\nMATCH(AK$10,[1]!SHIPMENTS_MF_YEARS,0))","v":15150.970612007659},{"$f":"INDEX([1]!SHIPMENTS_MF,\n((MATCH($C$9,[1]!APPLIANCES,0)-1)*2)+2,\nMATCH(AL$10,[1]!SHIPMENTS_MF_YEARS,0))","v":16271.868417504349},{"$f":"INDEX([1]!SHIPMENTS_MF,\n((MATCH($C$9,[1]!APPLIANCES,0)-1)*2)+2,\nMATCH(AM$10,[1]!SHIPMENTS_MF_YEARS,0))","v":17602.783951460966},{"$f":"INDEX([1]!SHIPMENTS_MF,\n((MATCH($C$9,[1]!APPLIANCES,0)-1)*2)+2,\nMATCH(AN$10,[1]!SHIPMENTS_MF_YEARS,0))","v":18696.093731788686},{"$f":"INDEX([1]!SHIPMENTS_MF,\n((MATCH($C$9,[1]!APPLIANCES,0)-1)*2)+2,\nMATCH(AO$10,[1]!SHIPMENTS_MF_YEARS,0))","v":19309.683585679391},{"$f":"INDEX([1]!SHIPMENTS_MF,\n((MATCH($C$9,[1]!APPLIANCES,0)-1)*2)+2,\nMATCH(AP$10,[1]!SHIPMENTS_MF_YEARS,0))","v":19982.866245592479},{"$f":"INDEX([1]!SHIPMENTS_MF,\n((MATCH($C$9,[1]!APPLIANCES,0)-1)*2)+2,\nMATCH(AQ$10,[1]!SHIPMENTS_MF_YEARS,0))","v":20761.047653118141},{"$f":"INDEX([1]!SHIPMENTS_MF,\n((MATCH($C$9,[1]!APPLIANCES,0)-1)*2)+2,\nMATCH(AR$10,[1]!SHIPMENTS_MF_YEARS,0))","v":21220.955791929489},{"$f":"INDEX([1]!SHIPMENTS_MF,\n((MATCH($C$9,[1]!APPLIANCES,0)-1)*2)+2,\nMATCH(AS$10,[1]!SHIPMENTS_MF_YEARS,0))","v":20846.086642441107},{"$f":"INDEX([1]!SHIPMENTS_MF,\n((MATCH($C$9,[1]!APPLIANCES,0)-1)*2)+2,\nMATCH(AT$10,[1]!SHIPMENTS_MF_YEARS,0))","v":21079.364658175502},{"$f":"INDEX([1]!SHIPMENTS_MF,\n((MATCH($C$9,[1]!APPLIANCES,0)-1)*2)+2,\nMATCH(AU$10,[1]!SHIPMENTS_MF_YEARS,0))","v":21176.265318715712},{"$f":"INDEX([1]!SHIPMENTS_MF,\n((MATCH($C$9,[1]!APPLIANCES,0)-1)*2)+2,\nMATCH(AV$10,[1]!SHIPMENTS_MF_YEARS,0))","v":21117.481384141138},{"$f":"INDEX([1]!SHIPMENTS_MF,\n((MATCH($C$9,[1]!APPLIANCES,0)-1)*2)+2,\nMATCH(AW$10,[1]!SHIPMENTS_MF_YEARS,0))","v":20889.270019119813},{"$f":"INDEX([1]!SHIPMENTS_MF,\n((MATCH($C$9,[1]!APPLIANCES,0)-1)*2)+2,\nMATCH(AX$10,[1]!SHIPMENTS_MF_YEARS,0))","v":20576.004769150633},{"$f":"INDEX([1]!SHIPMENTS_MF,\n((MATCH($C$9,[1]!APPLIANCES,0)-1)*2)+2,\nMATCH(AY$10,[1]!SHIPMENTS_MF_YEARS,0))","v":20478.814897254808},{"$f":"INDEX([1]!SHIPMENTS_MF,\n((MATCH($C$9,[1]!APPLIANCES,0)-1)*2)+2,\nMATCH(AZ$10,[1]!SHIPMENTS_MF_YEARS,0))","v":20437.699433125556},{"$f":"INDEX([1]!SHIPMENTS_MF,\n((MATCH($C$9,[1]!APPLIANCES,0)-1)*2)+2,\nMATCH(BA$10,[1]!SHIPMENTS_MF_YEARS,0))","v":20369.566993982087},{"$f":"INDEX([1]!SHIPMENTS_MF,\n((MATCH($C$9,[1]!APPLIANCES,0)-1)*2)+2,\nMATCH(BB$10,[1]!SHIPMENTS_MF_YEARS,0))","v":20147.945442439988},{"$f":"INDEX([1]!SHIPMENTS_MF,\n((MATCH($C$9,[1]!APPLIANCES,0)-1)*2)+2,\nMATCH(BC$10,[1]!SHIPMENTS_MF_YEARS,0))","v":20349.424896864686},{"$f":"INDEX([1]!SHIPMENTS_MF,\n((MATCH($C$9,[1]!APPLIANCES,0)-1)*2)+2,\nMATCH(BD$10,[1]!SHIPMENTS_MF_YEARS,0))","v":20552.919145833002},{"$f":"INDEX([1]!SHIPMENTS_MF,\n((MATCH($C$9,[1]!APPLIANCES,0)-1)*2)+2,\nMATCH(BE$10,[1]!SHIPMENTS_MF_YEARS,0))","v":20758.4483372916},{"$f":"INDEX([1]!SHIPMENTS_MF,\n((MATCH($C$9,[1]!APPLIANCES,0)-1)*2)+2,\nMATCH(BF$10,[1]!SHIPMENTS_MF_YEARS,0))","v":20966.032820664346}]
[null,null,"Total Model Shipments","(units)",{"$f":"SUM(E12:E13)","v":41891.85341077263},{"$f":"SUM(F12:F13)","v":38447.623184635653},39974.382390531944,45252.399579447811,53490.642539327499,50862.024622231373,53290.538204328739,58991.779972237186,64713.803094869385,59335.901330024237,43704.970746541745,44045.963728348841,40594.753062362433,43809.523354835808,45214.480297756381,45085.929306852981,45110.381148721091,47649.583263379871,43489.389036441687,51609.136861798819,48150.716628974304,48116.159860803513,53531.907059333636,63460.416073034517,60252.197151809698,64372.432615901809,69412.984765217872,70288.912444782938,57237.979784429888,44835.555617442238,49164.099960957654,54937.620885098004,58960.493966843467,61486.348715260727,62688.713258313946,63806.474880509777,66959.266849059262,63472.255282034166,72370.184514916968,69371.672420903793,68962.24650324462,74611.271717509138,84636.68139175023,81369.678535950836,85261.702635021618,89988.989534368506,90767.727342037746,77675.679217555444,65205.122611424325,69312.045403397642,75287.04578196269,79513.41311267647,82244.797052552327,83654.746078978293]
[null,null,"Model Installed Stock","(units)",{"$f":"INDEX([1]!STOCK_MF,\nMATCH($C$9,[1]!APPLIANCES,0),\nMATCH(E$10,[1]!STOCK_MF_YEARS,0))","v":580864.22671293898},{"$f":"INDEX([1]!STOCK_MF,\nMATCH($C$9,[1]!APPLIANCES,0),\nMATCH(F$10,[1]!STOCK_MF_YEARS,0))","v":589368.9402696765},{"$f":"INDEX([1]!STOCK_MF,\nMATCH($C$9,[1]!APPLIANCES,0),\nMATCH(G$10,[1]!STOCK_MF_YEARS,0))","v":599400.41303231032},{"$f":"INDEX([1]!STOCK_MF,\nMATCH($C$9,[1]!APPLIANCES,0),\nMATCH(H$10,[1]!STOCK_MF_YEARS,0))","v":614709.90298386},{"$f":"INDEX([1]!STOCK_MF,\nMATCH($C$9,[1]!APPLIANCES,0),\nMATCH(I$10,[1]!STOCK_MF_YEARS,0))","v":638257.63589528936},{"$f":"INDEX([1]!STOCK_MF,\nMATCH($C$9,[1]!APPLIANCES,0),\nMATCH(J$10,[1]!STOCK_MF_YEARS,0))","v":659176.75088962261},{"$f":"INDEX([1]!STOCK_MF,\nMATCH($C$9,[1]!APPLIANCES,0),\nMATCH(K$10,[1]!STOCK_MF_YEARS,0))","v":682524.37946605321},{"$f":"INDEX([1]!STOCK_MF,\nMATCH($C$9,[1]!APPLIANCES,0),\nMATCH(L$10,[1]!STOCK_MF_YEARS,0))","v":711573.24981039227},{"$f":"INDEX([1]!STOCK_MF,\nMATCH($C$9,[1]!APPLIANCES,0),\nMATCH(M$10,[1]!STOCK_MF_YEARS,0))","v":746344.1432773635},{"$f":"INDEX([1]!STOCK_MF,\nMATCH($C$9,[1]!APPLIANCES,0),\nMATCH(N$10,[1]!STOCK_MF_YEARS,0))","v":775737.13497948961},{"$f":"INDEX([1]!STOCK_MF,\nMATCH($C$9,[1]!APPLIANCES,0),\nMATCH(O$10,[1]!STOCK_MF_YEARS,0))","v":789499.19609813322},{"$f":"INDEX([1]!STOCK_MF,\nMATCH($C$9,[1]!APPLIANCES,0),\nMATCH(P$10,[1]!STOCK_MF_YEARS,0))","v":803602.25019858393},{"$f":"INDEX([1]!STOCK_MF,\nMATCH($C$9,[1]!APPLIANCES,0),\nMATCH(Q$10,[1]!STOCK_MF_YEARS,0))","v":814254.09363304824},{"$f":"INDEX([1]!STOCK_MF,\nMATCH($C$9,[1]!APPLIANCES,0),\nMATCH(R$10,[1]!STOCK_MF_YEARS,0))","v":828120.70735998591},{"$f":"INDEX([1]!STOCK_MF,\nMATCH($C$9,[1]!APPLIANCES,0),\nMATCH(S$10,[1]!STOCK_MF_YEARS,0))","v":843392.27802984416},{"$f":"INDEX([1]!STOCK_MF,\nMATCH($C$9,[1]!APPLIANCES,0),\nMATCH(T$10,[1]!STOCK_MF_YEARS,0))","v":858535.29770879901},{"$f":"INDEX([1]!STOCK_MF,\nMATCH($C$9,[1]!APPLIANCES,0),\nMATCH(U$10,[1]!STOCK_MF_YEARS,0))","v":873702.76922962198},{"$f":"INDEX([1]!STOCK_MF,\nMATCH($C$9,[1]!APPLIANCES,0),\nMATCH(V$10,[1]!STOCK_MF_YEARS,0))","v":891409.44286510372},{"$f":"INDEX([1]!STOCK_MF,\nMATCH($C$9,[1]!APPLIANCES,0),\nMATCH(W$10,[1]!STOCK_MF_YEARS,0))","v":904955.92227364727},{"$f":"INDEX([1]!STOCK_MF,\nMATCH($C$9,[1]!APPLIANCES,0),\nMATCH(X$10,[1]!STOCK_MF_YEARS,0))","v":914673.20572467346},{"$f":"INDEX([1]!STOCK_MF,\nMATCH($C$9,[1]!APPLIANCES,0),\nMATCH(Y$10,[1]!STOCK_MF_YEARS,0))","v":924376.29916901211},{"$f":"INDEX([1]!STOCK_MF,\nMATCH($C$9,[1]!APPLIANCES,0),\nMATCH(Z$10,[1]!STOCK_MF_YEARS,0))","v":932518.07663928368},{"$f":"INDEX([1]!STOCK_MF,\nMATCH($C$9,[1]!APPLIANCES,0),\nMATCH(AA$10,[1]!STOCK_MF_YEARS,0))","v":940797.58411916951},{"$f":"INDEX([1]!STOCK_MF,\nMATCH($C$9,[1]!APPLIANCES,0),\nMATCH(AB$10,[1]!STOCK_MF_YEARS,0))","v":950767.35765287653},{"$f":"INDEX([1]!STOCK_MF,\nMATCH($C$9,[1]!APPLIANCES,0),\nMATCH(AC$10,[1]!STOCK_MF_YEARS,0))","v":960157.53018245485},{"$f":"INDEX([1]!STOCK_MF,\nMATCH($C$9,[1]!APPLIANCES,0),\nMATCH(AD$10,[1]!STOCK_MF_YEARS,0))","v":971239.42459402792},{"$f":"INDEX([1]!STOCK_MF,\nMATCH($C$9,[1]!APPLIANCES,0),\nMATCH(AE$10,[1]!STOCK_MF_YEARS,0))","v":981660.62938700861},{"$f":"INDEX([1]!STOCK_MF,\nMATCH($C$9,[1]!APPLIANCES,0),\nMATCH(AF$10,[1]!STOCK_MF_YEARS,0))","v":987235.73873692215},{"$f":"INDEX([1]!STOCK_MF,\nMATCH($C$9,[1]!APPLIANCES,0),\nMATCH(AG$10,[1]!STOCK_MF_YEARS,0))","v":985137.81719132781},{"$f":"INDEX([1]!STOCK_MF,\nMATCH($C$9,[1]!APPLIANCES,0),\nMATCH(AH$10,[1]!STOCK_MF_YEARS,0))","v":986268.4020622283},{"$f":"INDEX([1]!STOCK_MF,\nMATCH($C$9,[1]!APPLIANCES,0),\nMATCH(AI$10,[1]!STOCK_MF_YEARS,0))","v":991386.53829483711},{"$f":"INDEX([1]!STOCK_MF,\nMATCH($C$9,[1]!APPLIANCES,0),\nMATCH(AJ$10,[1]!STOCK_MF_YEARS,0))","v":1005729.4061175727},{"$f":"INDEX([1]!STOCK_MF,\nMATCH($C$9,[1]!APPLIANCES,0),\nMATCH(AK$10,[1]!STOCK_MF_YEARS,0))","v":1020880.3767295803},{"$f":"INDEX([1]!STOCK_MF,\nMATCH($C$9,[1]!APPLIANCES,0),\nMATCH(AL$10,[1]!STOCK_MF_YEARS,0))","v":1037152.2451470847},{"$f":"INDEX([1]!STOCK_MF,\nMATCH($C$9,[1]!APPLIANCES,0),\nMATCH(AM$10,[1]!STOCK_MF_YEARS,0))","v":1054755.0290985457},{"$f":"INDEX([1]!STOCK_MF,\nMATCH($C$9,[1]!APPLIANCES,0),\nMATCH(AN$10,[1]!STOCK_MF_YEARS,0))","v":1073451.1228303344},{"$f":"INDEX([1]!STOCK_MF,\nMATCH($C$9,[1]!APPLIANCES,0),\nMATCH(AO$10,[1]!STOCK_MF_YEARS,0))","v":1092760.8064160137},{"$f":"INDEX([1]!STOCK_MF,\nMATCH($C$9,[1]!APPLIANCES,0),\nMATCH(AP$10,[1]!STOCK_MF_YEARS,0))","v":1112743.6726616062},{"$f":"INDEX([1]!STOCK_MF,\nMATCH($C$9,[1]!APPLIANCES,0),\nMATCH(AQ$10,[1]!STOCK_MF_YEARS,0))","v":1133504.7203147244},{"$f":"INDEX([1]!STOCK_MF,\nMATCH($C$9,[1]!APPLIANCES,0),\nMATCH(AR$10,[1]!STOCK_MF_YEARS,0))","v":1154725.6761066539},{"$f":"INDEX([1]!STOCK_MF,\nMATCH($C$9,[1]!APPLIANCES,0),\nMATCH(AS$10,[1]!STOCK_MF_YEARS,0))","v":1175571.762749095},{"$f":"INDEX([1]!STOCK_MF,\nMATCH($C$9,[1]!APPLIANCES,0),\nMATCH(AT$10,[1]!STOCK_MF_YEARS,0))","v":1196651.1274072705},{"$f":"INDEX([1]!STOCK_MF,\nMATCH($C$9,[1]!APPLIANCES,0),\nMATCH(AU$10,[1]!STOCK_MF_YEARS,0))","v":1217827.3927259862},{"$f":"INDEX([1]!STOCK_MF,\nMATCH($C$9,[1]!APPLIANCES,0),\nMATCH(AV$10,[1]!STOCK_MF_YEARS,0))","v":1238944.8741101273},{"$f":"INDEX([1]!STOCK_MF,\nMATCH($C$9,[1]!APPLIANCES,0),\nMATCH(AW$10,[1]!STOCK_MF_YEARS,0))","v":1259834.1441292472},{"$f":"INDEX([1]!STOCK_MF,\nMATCH($C$9,[1]!APPLIANCES,0),\nMATCH(AX$10,[1]!STOCK_MF_YEARS,0))","v":1280410.1488983978},{"$f":"INDEX([1]!STOCK_MF,\nMATCH($C$9,[1]!APPLIANCES,0),\nMATCH(AY$10,[1]!STOCK_MF_YEARS,0))","v":1300888.9637956526},{"$f":"INDEX([1]!STOCK_MF,\nMATCH($C$9,[1]!APPLIANCES,0),\nMATCH(AZ$10,[1]!STOCK_MF_YEARS,0))","v":1321326.6632287782},{"$f":"INDEX([1]!STOCK_MF,\nMATCH($C$9,[1]!APPLIANCES,0),\nMATCH(BA$10,[1]!STOCK_MF_YEARS,0))","v":1341696.2302227602},{"$f":"INDEX([1]!STOCK_MF,\nMATCH($C$9,[1]!APPLIANCES,0),\nMATCH(BB$10,[1]!STOCK_MF_YEARS,0))","v":1361844.1756652002},{"$f":"INDEX([1]!STOCK_MF,\nMATCH($C$9,[1]!APPLIANCES,0),\nMATCH(BC$10,[1]!STOCK_MF_YEARS,0))","v":1382193.6005620649},{"$f":"INDEX([1]!STOCK_MF,\nMATCH($C$9,[1]!APPLIANCES,0),\nMATCH(BD$10,[1]!STOCK_MF_YEARS,0))","v":1402746.5197078979},{"$f":"INDEX([1]!STOCK_MF,\nMATCH($C$9,[1]!APPLIANCES,0),\nMATCH(BE$10,[1]!STOCK_MF_YEARS,0))","v":1423504.9680451895},{"$f":"INDEX([1]!STOCK_MF,\nMATCH($C$9,[1]!APPLIANCES,0),\nMATCH(BF$10,[1]!STOCK_MF_YEARS,0))","v":1444471.0008658539}]

{"sheet":"Shipments and Stock - MH","index":10,"n_rows":15,"n_cols":58,"rows_kept":15,"cut":false,"hidden":false,"merged":[]}
[]
[null,null,"Shipments and Stock - MH"]
[]
[null,null,"NAVIGATION"]
[]
[null,null,"COMMENTS"]
[]
[]
[null,null,{"$f":"MODEL_NAME","v":"Electric Cooktops"}]
[null,null,null,null,1981,1982,1983,1984,1985,1986,1987,1988,1989,1990,1991,1992,1993,1994,1995,1996,1997,1998,1999,2000,2001,2002,2003,2004,2005,2006,2007,2008,2009,2010,2011,2012,2013,2014,2015,2016,2017,2018,2019,2020,2021,2022,2023,2024,2025,2026,2027,2028,2029,2030,2031,2032,2033,2034]
[null,null,"6P Shipments","(units)",{"$f":"IF(ISNUMBER(MATCH(E10,[1]!SIXTH_PLAN_MH_YEARS,0)),\nINDEX([1]!SIXTH_PLAN_MH,\nMATCH($C$9,[1]!APPLIANCES,0),\nMATCH(E$10,[1]!SIXTH_PLAN_MH_YEARS,0)),\"pre-dates plan\")","v":"pre-dates plan"},{"$f":"IF(ISNUMBER(MATCH(F10,[1]!SIXTH_PLAN_MH_YEARS,0)),\nINDEX([1]!SIXTH_PLAN_MH,\nMATCH($C$9,[1]!APPLIANCES,0),\nMATCH(F$10,[1]!SIXTH_PLAN_MH_YEARS,0)),\"pre-dates plan\")","v":"pre-dates plan"},{"$f":"IF(ISNUMBER(MATCH(G10,[1]!SIXTH_PLAN_MH_YEARS,0)),\nINDEX([1]!SIXTH_PLAN_MH,\nMATCH($C$9,[1]!APPLIANCES,0),\nMATCH(G$10,[1]!SIXTH_PLAN_MH_YEARS,0)),\"pre-dates plan\")","v":"pre-dates plan"},{"$f":"IF(ISNUMBER(MATCH(H10,[1]!SIXTH_PLAN_MH_YEARS,0)),\nINDEX([1]!SIXTH_PLAN_MH,\nMATCH($C$9,[1]!APPLIANCES,0),\nMATCH(H$10,[1]!SIXTH_PLAN_MH_YEARS,0)),\"pre-dates plan\")","v":"pre-dates plan"},{"$f":"IF(ISNUMBER(MATCH(I10,[1]!SIXTH_PLAN_MH_YEARS,0)),\nINDEX([1]!SIXTH_PLAN_MH,\nMATCH($C$9,[1]!APPLIANCES,0),\nMATCH(I$10,[1]!SIXTH_PLAN_MH_YEARS,0)),\"pre-dates plan\")","v":"pre-dates plan"},{"$f":"IF(ISNUMBER(MATCH(J10,[1]!SIXTH_PLAN_MH_YEARS,0)),\nINDEX([1]!SIXTH_PLAN_MH,\nMATCH($C$9,[1]!APPLIANCES,0),\nMATCH(J$10,[1]!SIXTH_PLAN_MH_YEARS,0)),\"pre-dates plan\")","v":"pre-dates plan"},{"$f":"IF(ISNUMBER(MATCH(K10,[1]!SIXTH_PLAN_MH_YEARS,0)),\nINDEX([1]!SIXTH_PLAN_MH,\nMATCH($C$9,[1]!APPLIANCES,0),\nMATCH(K$10,[1]!SIXTH_PLAN_MH_YEARS,0)),\"pre-dates plan\")","v":"pre-dates plan"},{"$f":"IF(ISNUMBER(MATCH(L10,[1]!SIXTH_PLAN_MH_YEARS,0)),\nINDEX([1]!SIXTH_PLAN_MH,\nMATCH($C$9,[1]!APPLIANCES,0),\nMATCH(L$10,[1]!SIXTH_PLAN_MH_YEARS,0)),\"pre-dates plan\")","v":"pre-dates plan"},{"$f":"IF(ISNUMBER(MATCH(M10,[1]!SIXTH_PLAN_MH_YEARS,0)),\nINDEX([1]!SIXTH_PLAN_MH,\nMATCH($C$9,[1]!APPLIANCES,0),\nMATCH(M$10,[1]!SIXTH_PLAN_MH_YEARS,0)),\"pre-dates plan\")","v":"pre-dates plan"},{"$f":"IF(ISNUMBER(MATCH(N10,[1]!SIXTH_PLAN_MH_YEARS,0)),\nINDEX([1]!SIXTH_PLAN_MH,\nMATCH($C$9,[1]!APPLIANCES,0),\nMATCH(N$10,[1]!SIXTH_PLAN_MH_YEARS,0)),\"pre-dates plan\")","v":"pre-dates plan"},{"$f":"IF(ISNUMBER(MATCH(O10,[1]!SIXTH_PLAN_MH_YEARS,0)),\nINDEX([1]!SIXTH_PLAN_MH,\nMATCH($C$9,[1]!APPLIANCES,0),\nMATCH(O$10,[1]!SIXTH_PLAN_MH_YEARS,0)),\"pre-dates plan\")","v":"pre-dates plan"},{"$f":"IF(ISNUMBER(MATCH(P10,[1]!SIXTH_PLAN_MH_YEARS,0)),\nINDEX([1]!SIXTH_PLAN_MH,\nMATCH($C$9,[1]!APPLIANCES,0),\nMATCH(P$10,[1]!SIXTH_PLAN_MH_YEARS,0)),\"pre-dates plan\")","v":"pre-dates plan"},{"$f":"IF(ISNUMBER(MATCH(Q10,[1]!SIXTH_PLAN_MH_YEARS,0)),\nINDEX([1]!SIXTH_PLAN_MH,\nMATCH($C$9,[1]!APPLIANCES,0),\nMATCH(Q$10,[1]!SIXTH_PLAN_MH_YEARS,0)),\"pre-dates plan\")","v":"pre-dates plan"},{"$f":"IF(ISNUMBER(MATCH(R10,[1]!SIXTH_PLAN_MH_YEARS,0)),\nINDEX([1]!SIXTH_PLAN_MH,\nMATCH($C$9,[1]!APPLIANCES,0),\nMATCH(R$10,[1]!SIXTH_PLAN_MH_YEARS,0)),\"pre-dates plan\")","v":"pre-dates plan"},{"$f":"IF(ISNUMBER(MATCH(S10,[1]!SIXTH_PLAN_MH_YEARS,0)),\nINDEX([1]!SIXTH_PLAN_MH,\nMATCH($C$9,[1]!APPLIANCES,0),\nMATCH(S$10,[1]!SIXTH_PLAN_MH_YEARS,0)),\"pre-dates plan\")","v":"pre-dates plan"},{"$f":"IF(ISNUMBER(MATCH(T10,[1]!SIXTH_PLAN_MH_YEARS,0)),\nINDEX([1]!SIXTH_PLAN_MH,\nMATCH($C$9,[1]!APPLIANCES,0),\nMATCH(T$10,[1]!SIXTH_PLAN_MH_YEARS,0)),\"pre-dates plan\")","v":"pre-dates plan"},{"$f":"IF(ISNUMBER(MATCH(U10,[1]!SIXTH_PLAN_MH_YEARS,0)),\nINDEX([1]!SIXTH_PLAN_MH,\nMATCH($C$9,[1]!APPLIANCES,0),\nMATCH(U$10,[1]!SIXTH_PLAN_MH_YEARS,0)),\"pre-dates plan\")","v":"pre-dates plan"},{"$f":"IF(ISNUMBER(MATCH(V10,[1]!SIXTH_PLAN_MH_YEARS,0)),\nINDEX([1]!SIXTH_PLAN_MH,\nMATCH($C$9,[1]!APPLIANCES,0),\nMATCH(V$10,[1]!SIXTH_PLAN_MH_YEARS,0)),\"pre-dates plan\")","v":"pre-dates plan"},{"$f":"IF(ISNUMBER(MATCH(W10,[1]!SIXTH_PLAN_MH_YEARS,0)),\nINDEX([1]!SIXTH_PLAN_MH,\nMATCH($C$9,[1]!APPLIANCES,0),\nMATCH(W$10,[1]!SIXTH_PLAN_MH_YEARS,0)),\"pre-dates plan\")","v":"pre-dates plan"},{"$f":"IF(ISNUMBER(MATCH(X10,[1]!SIXTH_PLAN_MH_YEARS,0)),\nINDEX([1]!SIXTH_PLAN_MH,\nMATCH($C$9,[1]!APPLIANCES,0),\nMATCH(X$10,[1]!SIXTH_PLAN_MH_YEARS,0)),\"pre-dates plan\")","v":"pre-dates plan"},{"$f":"IF(ISNUMBER(MATCH(Y10,[1]!SIXTH_PLAN_MH_YEARS,0)),\nINDEX([1]!SIXTH_PLAN_MH,\nMATCH($C$9,[1]!APPLIANCES,0),\nMATCH(Y$10,[1]!SIXTH_PLAN_MH_YEARS,0)),\"pre-dates plan\")","v":"pre-dates plan"},{"$f":"IF(ISNUMBER(MATCH(Z10,[1]!SIXTH_PLAN_MH_YEARS,0)),\nINDEX([1]!SIXTH_PLAN_MH,\nMATCH($C$9,[1]!APPLIANCES,0),\nMATCH(Z$10,[1]!SIXTH_PLAN_MH_YEARS,0)),\"pre-dates plan\")","v":"pre-dates plan"},{"$f":"IF(ISNUMBER(MATCH(AA10,[1]!SIXTH_PLAN_MH_YEARS,0)),\nINDEX([1]!SIXTH_PLAN_MH,\nMATCH($C$9,[1]!APPLIANCES,0),\nMATCH(AA$10,[1]!SIXTH_PLAN_MH_YEARS,0)),\"pre-dates plan\")","v":"pre-dates plan"},{"$f":"IF(ISNUMBER(MATCH(AB10,[1]!SIXTH_PLAN_MH_YEARS,0)),\nINDEX([1]!SIXTH_PLAN_MH,\nMATCH($C$9,[1]!APPLIANCES,0),\nMATCH(AB$10,[1]!SIXTH_PLAN_MH_YEARS,0)),\"pre-dates plan\")","v":"pre-dates plan"},{"$f":"IF(ISNUMBER(MATCH(AC10,[1]!SIXTH_PLAN_MH_YEARS,0)),\nINDEX([1]!SIXTH_PLAN_MH,\nMATCH($C$9,[1]!APPLIANCES,0),\nMATCH(AC$10,[1]!SIXTH_PLAN_MH_YEARS,0)),\"pre-dates plan\")","v":"pre-dates plan"},{"$f":"IF(ISNUMBER(MATCH(AD10,[1]!SIXTH_PLAN_MH_YEARS,0)),\nINDEX([1]!SIXTH_PLAN_MH,\nMATCH($C$9,[1]!APPLIANCES,0),\nMATCH(AD$10,[1]!SIXTH_PLAN_MH_YEARS,0)),\"pre-dates plan\")","v":"pre-dates plan"},{"$f":"IF(ISNUMBER(MATCH(AE10,[1]!SIXTH_PLAN_MH_YEARS,0)),\nINDEX([1]!SIXTH_PLAN_MH,\nMATCH($C$9,[1]!APPLIANCES,0),\nMATCH(AE$10,[1]!SIXTH_PLAN_MH_YEARS,0)),\"pre-dates plan\")","v":"pre-dates plan"},{"$f":"IF(ISNUMBER(MATCH(AF10,[1]!SIXTH_PLAN_MH_YEARS,0)),\nINDEX([1]!SIXTH_PLAN_MH,\nMATCH($C$9,[1]!APPLIANCES,0),\nMATCH(AF$10,[1]!SIXTH_PLAN_MH_YEARS,0)),\"pre-dates plan\")","v":"pre-dates plan"},{"$f":"IF(ISNUMBER(MATCH(AG10,[1]!SIXTH_PLAN_MH_YEARS,0)),\nINDEX([1]!SIXTH_PLAN_MH,\nMATCH($C$9,[1]!APPLIANCES,0),\nMATCH(AG$10,[1]!SIXTH_PLAN_MH_YEARS,0)),\"pre-dates plan\")","v":"pre-dates plan"},{"$f":"IF(ISNUMBER(MATCH(AH10,[1]!SIXTH_PLAN_MH_YEARS,0)),\nINDEX([1]!SIXTH_PLAN_MH,\nMATCH($C$9,[1]!APPLIANCES,0),\nMATCH(AH$10,[1]!SIXTH_PLAN_MH_YEARS,0)),\"pre-dates plan\")","v":28808.940048070061},{"$f":"IF(ISNUMBER(MATCH(AI10,[1]!SIXTH_PLAN_MH_YEARS,0)),\nINDEX([1]!SIXTH_PLAN_MH,\nMATCH($C$9,[1]!APPLIANCES,0),\nMATCH(AI$10,[1]!SIXTH_PLAN_MH_YEARS,0)),\"pre-dates plan\")","v":28808.940048070061},{"$f":"IF(ISNUMBER(MATCH(AJ10,[1]!SIXTH_PLAN_MH_YEARS,0)),\nINDEX([1]!SIXTH_PLAN_MH,\nMATCH($C$9,[1]!APPLIANCES,0),\nMATCH(AJ$10,[1]!SIXTH_PLAN_MH_YEARS,0)),\"pre-dates plan\")","v":28808.940048070061},{"$f":"IF(ISNUMBER(MATCH(AK10,[1]!SIXTH_PLAN_MH_YEARS,0)),\nINDEX([1]!SIXTH_PLAN_MH,\nMATCH($C$9,[1]!APPLIANCES,0),\nMATCH(AK$10,[1]!SIXTH_PLAN_MH_YEARS,0)),\"pre-dates plan\")","v":28808.940048070061},{"$f":"IF(ISNUMBER(MATCH(AL10,[1]!SIXTH_PLAN_MH_YEARS,0)),\nINDEX([1]!SIXTH_PLAN_MH,\nMATCH($C$9,[1]!APPLIANCES,0),\nMATCH(AL$10,[1]!SIXTH_PLAN_MH_YEARS,0)),\"pre-dates plan\")","v":28808.940048070061},{"$f":"IF(ISNUMBER(MATCH(AM10,[1]!SIXTH_PLAN_MH_YEARS,0)),\nINDEX([1]!SIXTH_PLAN_MH,\nMATCH($C$9,[1]!APPLIANCES,0),\nMATCH(AM$10,[1]!SIXTH_PLAN_MH_YEARS,0)),\"pre-dates plan\")","v":28808.940048070061},{"$f":"IF(ISNUMBER(MATCH(AN10,[1]!SIXTH_PLAN_MH_YEARS,0)),\nINDEX([1]!SIXTH_PLAN_MH,\nMATCH($C$9,[1]!APPLIANCES,0),\nMATCH(AN$10,[1]!SIXTH_PLAN_MH_YEARS,0)),\"pre-dates plan\")","v":28808.940048070061},{"$f":"IF(ISNUMBER(MATCH(AO10,[1]!SIXTH_PLAN_MH_YEARS,0)),\nINDEX([1]!SIXTH_PLAN_MH,\nMATCH($C$9,[1]!APPLIANCES,0),\nMATCH(AO$10,[1]!SIXTH_PLAN_MH_YEARS,0)),\"pre-dates plan\")","v":28808.940048070061},{"$f":"IF(ISNUMBER(MATCH(AP10,[1]!SIXTH_PLAN_MH_YEARS,0)),\nINDEX([1]!SIXTH_PLAN_MH,\nMATCH($C$9,[1]!APPLIANCES,0),\nMATCH(AP$10,[1]!SIXTH_PLAN_MH_YEARS,0)),\"pre-dates plan\")","v":28808.940048070061},{"$f":"IF(ISNUMBER(MATCH(AQ10,[1]!SIXTH_PLAN_MH_YEARS,0)),\nINDEX([1]!SIXTH_PLAN_MH,\nMATCH($C$9,[1]!APPLIANCES,0),\nMATCH(AQ$10,[1]!SIXTH_PLAN_MH_YEARS,0)),\"pre-dates plan\")","v":28808.940048070061},{"$f":"IF(ISNUMBER(MATCH(AR10,[1]!SIXTH_PLAN_MH_YEARS,0)),\nINDEX([1]!SIXTH_PLAN_MH,\nMATCH($C$9,[1]!APPLIANCES,0),\nMATCH(AR$10,[1]!SIXTH_PLAN_MH_YEARS,0)),\"pre-dates plan\")","v":28808.940048070061},{"$f":"IF(ISNUMBER(MATCH(AS10,[1]!SIXTH_PLAN_MH_YEARS,0)),\nINDEX([1]!SIXTH_PLAN_MH,\nMATCH($C$9,[1]!APPLIANCES,0),\nMATCH(AS$10,[1]!SIXTH_PLAN_MH_YEARS,0)),\"pre-dates plan\")","v":28808.940048070061},{"$f":"IF(ISNUMBER(MATCH(AT10,[1]!SIXTH_PLAN_MH_YEARS,0)),\nINDEX([1]!SIXTH_PLAN_MH,\nMATCH($C$9,[1]!APPLIANCES,0),\nMATCH(AT$10,[1]!SIXTH_PLAN_MH_YEARS,0)),\"pre-dates plan\")","v":28808.940048070061},{"$f":"IF(ISNUMBER(MATCH(AU10,[1]!SIXTH_PLAN_MH_YEARS,0)),\nINDEX([1]!SIXTH_PLAN_MH,\nMATCH($C$9,[1]!APPLIANCES,0),\nMATCH(AU$10,[1]!SIXTH_PLAN_MH_YEARS,0)),\"pre-dates plan\")","v":28808.940048070061},{"$f":"IF(ISNUMBER(MATCH(AV10,[1]!SIXTH_PLAN_MH_YEARS,0)),\nINDEX([1]!SIXTH_PLAN_MH,\nMATCH($C$9,[1]!APPLIANCES,0),\nMATCH(AV$10,[1]!SIXTH_PLAN_MH_YEARS,0)),\"pre-dates plan\")","v":28808.940048070061},{"$f":"IF(ISNUMBER(MATCH(AW10,[1]!SIXTH_PLAN_MH_YEARS,0)),\nINDEX([1]!SIXTH_PLAN_MH,\nMATCH($C$9,[1]!APPLIANCES,0),\nMATCH(AW$10,[1]!SIXTH_PLAN_MH_YEARS,0)),\"pre-dates plan\")","v":28808.940048070061},{"$f":"IF(ISNUMBER(MATCH(AX10,[1]!SIXTH_PLAN_MH_YEARS,0)),\nINDEX([1]!SIXTH_PLAN_MH,\nMATCH($C$9,[1]!APPLIANCES,0),\nMATCH(AX$10,[1]!SIXTH_PLAN_MH_YEARS,0)),\"pre-dates plan\")","v":28808.940048070061},{"$f":"IF(ISNUMBER(MATCH(AY10,[1]!SIXTH_PLAN_MH_YEARS,0)),\nINDEX([1]!SIXTH_PLAN_MH,\nMATCH($C$9,[1]!APPLIANCES,0),\nMATCH(AY$10,[1]!SIXTH_PLAN_MH_YEARS,0)),\"pre-dates plan\")","v":28808.940048070061},{"$f":"IF(ISNUMBER(MATCH(AZ10,[1]!SIXTH_PLAN_MH_YEARS,0)),\nINDEX([1]!SIXTH_PLAN_MH,\nMATCH($C$9,[1]!APPLIANCES,0),\nMATCH(AZ$10,[1]!SIXTH_PLAN_MH_YEARS,0)),\"pre-dates plan\")","v":28808.940048070061},{"$f":"IF(ISNUMBER(MATCH(BA10,[1]!SIXTH_PLAN_MH_YEARS,0)),\nINDEX([1]!SIXTH_PLAN_MH,\nMATCH($C$9,[1]!APPLIANCES,0),\nMATCH(BA$10,[1]!SIXTH_PLAN_MH_YEARS,0)),\"pre-dates plan\")","v":28808.940048070061},{"$f":"IF(ISNUMBER(MATCH(BB10,[1]!SIXTH_PLAN_MH_YEARS,0)),\nINDEX([1]!SIXTH_PLAN_MH,\nMATCH($C$9,[1]!APPLIANCES,0),\nMATCH(BB$10,[1]!SIXTH_PLAN_MH_YEARS,0)),\"pre-dates plan\")","v":28808.940048070061},{"$f":"IF(ISNUMBER(MATCH(BC10,[1]!SIXTH_PLAN_MH_YEARS,0)),\nINDEX([1]!SIXTH_PLAN_MH,\nMATCH($C$9,[1]!APPLIANCES,0),\nMATCH(BC$10,[1]!SIXTH_PLAN_MH_YEARS,0)),\"pre-dates plan\")","v":28808.940048070061},{"$f":"IF(ISNUMBER(MATCH(BD10,[1]!SIXTH_PLAN_MH_YEARS,0)),\nINDEX([1]!SIXTH_PLAN_MH,\nMATCH($C$9,[1]!APPLIANCES,0),\nMATCH(BD$10,[1]!SIXTH_PLAN_MH_YEARS,0)),\"pre-dates plan\")","v":28808.940048070061},{"$f":"IF(ISNUMBER(MATCH(BE10,[1]!SIXTH_PLAN_MH_YEARS,0)),\nINDEX([1]!SIXTH_PLAN_MH,\nMATCH($C$9,[1]!APPLIANCES,0),\nMATCH(BE$10,[1]!SIXTH_PLAN_MH_YEARS,0)),\"pre-dates plan\")","v":28808.940048070061},{"$f":"IF(ISNUMBER(MATCH(BF10,[1]!SIXTH_PLAN_MH_YEARS,0)),\nINDEX([1]!SIXTH_PLAN_MH,\nMATCH($C$9,[1]!APPLIANCES,0),\nMATCH(BF$10,[1]!SIXTH_PLAN_MH_YEARS,0)),\"pre-dates plan\")","v":28808.940048070061}]
[null,null,"Replacement Shipments","(units)",{"$f":"INDEX([1]!SHIPMENTS_MH,\n((MATCH($C$9,[1]!APPLIANCES,0)-1)*2)+1,\nMATCH(E$10,[1]!SHIPMENTS_MH_YEARS,0))","v":14901.379976053833},{"$f":"INDEX([1]!SHIPMENTS_MH,\n((MATCH($C$9,[1]!APPLIANCES,0)-1)*2)+1,\nMATCH(F$10,[1]!SHIPMENTS_MH_YEARS,0))","v":14901.379976053833},{"$f":"INDEX([1]!SHIPMENTS_MH,\n((MATCH($C$9,[1]!APPLIANCES,0)-1)*2)+1,\nMATCH(G$10,[1]!SHIPMENTS_MH_YEARS,0))","v":14901.379976053833},{"$f":"INDEX([1]!SHIPMENTS_MH,\n((MATCH($C$9,[1]!APPLIANCES,0)-1)*2)+1,\nMATCH(H$10,[1]!SHIPMENTS_MH_YEARS,0))","v":14901.379976053833},{"$f":"INDEX([1]!SHIPMENTS_MH,\n((MATCH($C$9,[1]!APPLIANCES,0)-1)*2)+1,\nMATCH(I$10,[1]!SHIPMENTS_MH_YEARS,0))","v":14901.379976053833},{"$f":"INDEX([1]!SHIPMENTS_MH,\n((MATCH($C$9,[1]!APPLIANCES,0)-1)*2)+1,\nMATCH(J$10,[1]!SHIPMENTS_MH_YEARS,0))","v":14901.379976053833},{"$f":"INDEX([1]!SHIPMENTS_MH,\n((MATCH($C$9,[1]!APPLIANCES,0)-1)*2)+1,\nMATCH(K$10,[1]!SHIPMENTS_MH_YEARS,0))","v":14901.379976053833},{"$f":"INDEX([1]!SHIPMENTS_MH,\n((MATCH($C$9,[1]!APPLIANCES,0)-1)*2)+1,\nMATCH(L$10,[1]!SHIPMENTS_MH_YEARS,0))","v":14901.379976053833},{"$f":"INDEX([1]!SHIPMENTS_MH,\n((MATCH($C$9,[1]!APPLIANCES,0)-1)*2)+1,\nMATCH(M$10,[1]!SHIPMENTS_MH_YEARS,0))","v":14901.379976053833},{"$f":"INDEX([1]!SHIPMENTS_MH,\n((MATCH($C$9,[1]!APPLIANCES,0)-1)*2)+1,\nMATCH(N$10,[1]!SHIPMENTS_MH_YEARS,0))","v":14901.379976053833},{"$f":"INDEX([1]!SHIPMENTS_MH,\n((MATCH($C$9,[1]!APPLIANCES,0)-1)*2)+1,\nMATCH(O$10,[1]!SHIPMENTS_MH_YEARS,0))","v":14901.379976053833},{"$f":"INDEX([1]!SHIPMENTS_MH,\n((MATCH($C$9,[1]!APPLIANCES,0)-1)*2)+1,\nMATCH(P$10,[1]!SHIPMENTS_MH_YEARS,0))","v":14901.379976053833},{"$f":"INDEX([1]!SHIPMENTS_MH,\n((MATCH($C$9,[1]!APPLIANCES,0)-1)*2)+1,\nMATCH(Q$10,[1]!SHIPMENTS_MH_YEARS,0))","v":14901.379976053833},{"$f":"INDEX([1]!SHIPMENTS_MH,\n((MATCH($C$9,[1]!APPLIANCES,0)-1)*2)+1,\nMATCH(R$10,[1]!SHIPMENTS_MH_YEARS,0))","v":14901.379976053833},{"$f":"INDEX([1]!SHIPMENTS_MH,\n((MATCH($C$9,[1]!APPLIANCES,0)-1)*2)+1,\nMATCH(S$10,[1]!SHIPMENTS_MH_YEARS,0))","v":14901.379976053833},{"$f":"INDEX([1]!SHIPMENTS_MH,\n((MATCH($C$9,[1]!APPLIANCES,0)-1)*2)+1,\nMATCH(T$10,[1]!SHIPMENTS_MH_YEARS,0))","v":14901.379976053833},{"$f":"INDEX([1]!SHIPMENTS_MH,\n((MATCH($C$9,[1]!APPLIANCES,0)-1)*2)+1,\nMATCH(U$10,[1]!SHIPMENTS_MH_YEARS,0))","v":14901.379976053833},{"$f":"INDEX([1]!SHIPMENTS_MH,\n((MATCH($C$9,[1]!APPLIANCES,0)-1)*2)+1,\nMATCH(V$10,[1]!SHIPMENTS_MH_YEARS,0))","v":14901.379976053833},{"$f":"INDEX([1]!SHIPMENTS_MH,\n((MATCH($C$9,[1]!APPLIANCES,0)-1)*2)+1,\nMATCH(W$10,[1]!SHIPMENTS_MH_YEARS,0))","v":14901.379976053833},{"$f":"INDEX([1]!SHIPMENTS_MH,\n((MATCH($C$9,[1]!APPLIANCES,0)-1)*2)+1,\nMATCH(X$10,[1]!SHIPMENTS_MH_YEARS,0))","v":26050.356568271462},{"$f":"INDEX([1]!SHIPMENTS_MH,\n((MATCH($C$9,[1]!APPLIANCES,0)-1)*2)+1,\nMATCH(Y$10,[1]!SHIPMENTS_MH_YEARS,0))","v":23906.520342616823},{"$f":"INDEX([1]!SHIPMENTS_MH,\n((MATCH($C$9,[1]!APPLIANCES,0)-1)*2)+1,\nMATCH(Z$10,[1]!SHIPMENTS_MH_YEARS,0))","v":27357.222679929568},{"$f":"INDEX([1]!SHIPMENTS_MH,\n((MATCH($C$9,[1]!APPLIANCES,0)-1)*2)+1,\nMATCH(AA$10,[1]!SHIPMENTS_MH_YEARS,0))","v":27128.95810338499},{"$f":"INDEX([1]!SHIPMENTS_MH,\n((MATCH($C$9,[1]!APPLIANCES,0)-1)*2)+1,\nMATCH(AB$10,[1]!SHIPMENTS_MH_YEARS,0))","v":25276.107801884002},{"$f":"INDEX([1]!SHIPMENTS_MH,\n((MATCH($C$9,[1]!APPLIANCES,0)-1)*2)+1,\nMATCH(AC$10,[1]!SHIPMENTS_MH_YEARS,0))","v":23489.063504431753},{"$f":"INDEX([1]!SHIPMENTS_MH,\n((MATCH($C$9,[1]!APPLIANCES,0)-1)*2)+1,\nMATCH(AD$10,[1]!SHIPMENTS_MH_YEARS,0))","v":23026.365038463082},{"$f":"INDEX([1]!SHIPMENTS_MH,\n((MATCH($C$9,[1]!APPLIANCES,0)-1)*2)+1,\nMATCH(AE$10,[1]!SHIPMENTS_MH_YEARS,0))","v":24205.73201727651},{"$f":"INDEX([1]!SHIPMENTS_MH,\n((MATCH($C$9,[1]!APPLIANCES,0)-1)*2)+1,\nMATCH(AF$10,[1]!SHIPMENTS_MH_YEARS,0))","v":25149.636887852561},{"$f":"INDEX([1]!SHIPMENTS_MH,\n((MATCH($C$9,[1]!APPLIANCES,0)-1)*2)+1,\nMATCH(AG$10,[1]!SHIPMENTS_MH_YEARS,0))","v":27111.478383559559},{"$f":"INDEX([1]!SHIPMENTS_MH,\n((MATCH($C$9,[1]!APPLIANCES,0)-1)*2)+1,\nMATCH(AH$10,[1]!SHIPMENTS_MH_YEARS,0))","v":27049.785254763738},{"$f":"INDEX([1]!SHIPMENTS_MH,\n((MATCH($C$9,[1]!APPLIANCES,0)-1)*2)+1,\nMATCH(AI$10,[1]!SHIPMENTS_MH_YEARS,0))","v":29074.348098079845},{"$f":"INDEX([1]!SHIPMENTS_MH,\n((MATCH($C$9,[1]!APPLIANCES,0)-1)*2)+1,\nMATCH(AJ$10,[1]!SHIPMENTS_MH_YEARS,0))","v":29858.623003291312},{"$f":"INDEX([1]!SHIPMENTS_MH,\n((MATCH($C$9,[1]!APPLIANCES,0)-1)*2)+1,\nMATCH(AK$10,[1]!SHIPMENTS_MH_YEARS,0))","v":32619.035010623098},{"$f":"INDEX([1]!SHIPMENTS_MH,\n((MATCH($C$9,[1]!APPLIANCES,0)-1)*2)+1,\nMATCH(AL$10,[1]!SHIPMENTS_MH_YEARS,0))","v":31442.007274993051},{"$f":"INDEX([1]!SHIPMENTS_MH,\n((MATCH($C$9,[1]!APPLIANCES,0)-1)*2)+1,\nMATCH(AM$10,[1]!SHIPMENTS_MH_YEARS,0))","v":28640.919515246169},{"$f":"INDEX([1]!SHIPMENTS_MH,\n((MATCH($C$9,[1]!APPLIANCES,0)-1)*2)+1,\nMATCH(AN$10,[1]!SHIPMENTS_MH_YEARS,0))","v":28564.477767962024},{"$f":"INDEX([1]!SHIPMENTS_MH,\n((MATCH($C$9,[1]!APPLIANCES,0)-1)*2)+1,\nMATCH(AO$10,[1]!SHIPMENTS_MH_YEARS,0))","v":28994.99553645093},{"$f":"INDEX([1]!SHIPMENTS_MH,\n((MATCH($C$9,[1]!APPLIANCES,0)-1)*2)+1,\nMATCH(AP$10,[1]!SHIPMENTS_MH_YEARS,0))","v":25433.163321191849},{"$f":"INDEX([1]!SHIPMENTS_MH,\n((MATCH($C$9,[1]!APPLIANCES,0)-1)*2)+1,\nMATCH(AQ$10,[1]!SHIPMENTS_MH_YEARS,0))","v":31465.590038762184},{"$f":"INDEX([1]!SHIPMENTS_MH,\n((MATCH($C$9,[1]!APPLIANCES,0)-1)*2)+1,\nMATCH(AR$10,[1]!SHIPMENTS_MH_YEARS,0))","v":26986.652255704852},{"$f":"INDEX([1]!SHIPMENTS_MH,\n((MATCH($C$9,[1]!APPLIANCES,0)-1)*2)+1,\nMATCH(AS$10,[1]!SHIPMENTS_MH_YEARS,0))","v":30503.470235797042},{"$f":"INDEX([1]!SHIPMENTS_MH,\n((MATCH($C$9,[1]!APPLIANCES,0)-1)*2)+1,\nMATCH(AT$10,[1]!SHIPMENTS_MH_YEARS,0))","v":29626.628739127362},{"$f":"INDEX([1]!SHIPMENTS_MH,\n((MATCH($C$9,[1]!APPLIANCES,0)-1)*2)+1,\nMATCH(AU$10,[1]!SHIPMENTS_MH_YEARS,0))","v":27450.826178972897},{"$f":"INDEX([1]!SHIPMENTS_MH,\n((MATCH($C$9,[1]!APPLIANCES,0)-1)*2)+1,\nMATCH(AV$10,[1]!SHIPMENTS_MH_YEARS,0))","v":25564.330893057173},{"$f":"INDEX([1]!SHIPMENTS_MH,\n((MATCH($C$9,[1]!APPLIANCES,0)-1)*2)+1,\nMATCH(AW$10,[1]!SHIPMENTS_MH_YEARS,0))","v":24713.426805161456},{"$f":"INDEX([1]!SHIPMENTS_MH,\n((MATCH($C$9,[1]!APPLIANCES,0)-1)*2)+1,\nMATCH(AX$10,[1]!SHIPMENTS_MH_YEARS,0))","v":27352.783533186121},{"$f":"INDEX([1]!SHIPMENTS_MH,\n((MATCH($C$9,[1]!APPLIANCES,0)-1)*2)+1,\nMATCH(AY$10,[1]!SHIPMENTS_MH_YEARS,0))","v":28444.796925430179},{"$f":"INDEX([1]!SHIPMENTS_MH,\n((MATCH($C$9,[1]!APPLIANCES,0)-1)*2)+1,\nMATCH(AZ$10,[1]!SHIPMENTS_MH_YEARS,0))","v":30394.235629709499},{"$f":"INDEX([1]!SHIPMENTS_MH,\n((MATCH($C$9,[1]!APPLIANCES,0)-1)*2)+1,\nMATCH(BA$10,[1]!SHIPMENTS_MH_YEARS,0))","v":30239.550150584146},{"$f":"INDEX([1]!SHIPMENTS_MH,\n((MATCH($C$9,[1]!APPLIANCES,0)-1)*2)+1,\nMATCH(BB$10,[1]!SHIPMENTS_MH_YEARS,0))","v":32025.719568281253},{"$f":"INDEX([1]!SHIPMENTS_MH,\n((MATCH($C$9,[1]!APPLIANCES,0)-1)*2)+1,\nMATCH(BC$10,[1]!SHIPMENTS_MH_YEARS,0))","v":37030.487910520169},{"$f":"INDEX([1]!SHIPMENTS_MH,\n((MATCH($C$9,[1]!APPLIANCES,0)-1)*2)+1,\nMATCH(BD$10,[1]!SHIPMENTS_MH_YEARS,0))","v":39471.502185917976},{"$f":"INDEX([1]!SHIPMENTS_MH,\n((MATCH($C$9,[1]!APPLIANCES,0)-1)*2)+1,\nMATCH(BE$10,[1]!SHIPMENTS_MH_YEARS,0))","v":37885.502579420972},{"$f":"INDEX([1]!SHIPMENTS_MH,\n((MATCH($C$9,[1]!APPLIANCES,0)-1)*2)+1,\nMATCH(BF$10,[1]!SHIPMENTS_MH_YEARS,0))","v":34705.909751206738}]
[null,null,"Net New Shipments","(units)",{"$f":"INDEX([1]!SHIPMENTS_MH,\n((MATCH($C$9,[1]!APPLIANCES,0)-1)*2)+2,\nMATCH(E$10,[1]!SHIPMENTS_MH_YEARS,0))","v":11148.97659221763},{"$f":"INDEX([1]!SHIPMENTS_MH,\n((MATCH($C$9,[1]!APPLIANCES,0)-1)*2)+2,\nMATCH(F$10,[1]!SHIPMENTS_MH_YEARS,0))","v":9005.1403665629914},{"$f":"INDEX([1]!SHIPMENTS_MH,\n((MATCH($C$9,[1]!APPLIANCES,0)-1)*2)+2,\nMATCH(G$10,[1]!SHIPMENTS_MH_YEARS,0))","v":12455.842703875733},{"$f":"INDEX([1]!SHIPMENTS_MH,\n((MATCH($C$9,[1]!APPLIANCES,0)-1)*2)+2,\nMATCH(H$10,[1]!SHIPMENTS_MH_YEARS,0))","v":12227.578127331159},{"$f":"INDEX([1]!SHIPMENTS_MH,\n((MATCH($C$9,[1]!APPLIANCES,0)-1)*2)+2,\nMATCH(I$10,[1]!SHIPMENTS_MH_YEARS,0))","v":10374.727825830167},{"$f":"INDEX([1]!SHIPMENTS_MH,\n((MATCH($C$9,[1]!APPLIANCES,0)-1)*2)+2,\nMATCH(J$10,[1]!SHIPMENTS_MH_YEARS,0))","v":8587.6835283779201},{"$f":"INDEX([1]!SHIPMENTS_MH,\n((MATCH($C$9,[1]!APPLIANCES,0)-1)*2)+2,\nMATCH(K$10,[1]!SHIPMENTS_MH_YEARS,0))","v":8124.9850624092505},{"$f":"INDEX([1]!SHIPMENTS_MH,\n((MATCH($C$9,[1]!APPLIANCES,0)-1)*2)+2,\nMATCH(L$10,[1]!SHIPMENTS_MH_YEARS,0))","v":9304.3520412226771},{"$f":"INDEX([1]!SHIPMENTS_MH,\n((MATCH($C$9,[1]!APPLIANCES,0)-1)*2)+2,\nMATCH(M$10,[1]!SHIPMENTS_MH_YEARS,0))","v":10248.25691179873},{"$f":"INDEX([1]!SHIPMENTS_MH,\n((MATCH($C$9,[1]!APPLIANCES,0)-1)*2)+2,\nMATCH(N$10,[1]!SHIPMENTS_MH_YEARS,0))","v":12210.098407505724},{"$f":"INDEX([1]!SHIPMENTS_MH,\n((MATCH($C$9,[1]!APPLIANCES,0)-1)*2)+2,\nMATCH(O$10,[1]!SHIPMENTS_MH_YEARS,0))","v":12148.405278709904},{"$f":"INDEX([1]!SHIPMENTS_MH,\n((MATCH($C$9,[1]!APPLIANCES,0)-1)*2)+2,\nMATCH(P$10,[1]!SHIPMENTS_MH_YEARS,0))","v":14172.968122026012},{"$f":"INDEX([1]!SHIPMENTS_MH,\n((MATCH($C$9,[1]!APPLIANCES,0)-1)*2)+2,\nMATCH(Q$10,[1]!SHIPMENTS_MH_YEARS,0))","v":14957.243027237477},{"$f":"INDEX([1]!SHIPMENTS_MH,\n((MATCH($C$9,[1]!APPLIANCES,0)-1)*2)+2,\nMATCH(R$10,[1]!SHIPMENTS_MH_YEARS,0))","v":17717.655034569267},{"$f":"INDEX([1]!SHIPMENTS_MH,\n((MATCH($C$9,[1]!APPLIANCES,0)-1)*2)+2,\nMATCH(S$10,[1]!SHIPMENTS_MH_YEARS,0))","v":16540.627298939216},{"$f":"INDEX([1]!SHIPMENTS_MH,\n((MATCH($C$9,[1]!APPLIANCES,0)-1)*2)+2,\nMATCH(T$10,[1]!SHIPMENTS_MH_YEARS,0))","v":13739.539539192338},{"$f":"INDEX([1]!SHIPMENTS_MH,\n((MATCH($C$9,[1]!APPLIANCES,0)-1)*2)+2,\nMATCH(U$10,[1]!SHIPMENTS_MH_YEARS,0))","v":13663.097791908192},{"$f":"INDEX([1]!SHIPMENTS_MH,\n((MATCH($C$9,[1]!APPLIANCES,0)-1)*2)+2,\nMATCH(V$10,[1]!SHIPMENTS_MH_YEARS,0))","v":14093.615560397098},{"$f":"INDEX([1]!SHIPMENTS_MH,\n((MATCH($C$9,[1]!APPLIANCES,0)-1)*2)+2,\nMATCH(W$10,[1]!SHIPMENTS_MH_YEARS,0))","v":10531.783345138014},{"$f":"INDEX([1]!SHIPMENTS_MH,\n((MATCH($C$9,[1]!APPLIANCES,0)-1)*2)+2,\nMATCH(X$10,[1]!SHIPMENTS_MH_YEARS,0))","v":5415.2334704907262},{"$f":"INDEX([1]!SHIPMENTS_MH,\n((MATCH($C$9,[1]!APPLIANCES,0)-1)*2)+2,\nMATCH(Y$10,[1]!SHIPMENTS_MH_YEARS,0))","v":3080.1319130880293},{"$f":"INDEX([1]!SHIPMENTS_MH,\n((MATCH($C$9,[1]!APPLIANCES,0)-1)*2)+2,\nMATCH(Z$10,[1]!SHIPMENTS_MH_YEARS,0))","v":3146.2475558674778},{"$f":"INDEX([1]!SHIPMENTS_MH,\n((MATCH($C$9,[1]!APPLIANCES,0)-1)*2)+2,\nMATCH(AA$10,[1]!SHIPMENTS_MH_YEARS,0))","v":2497.6706357423682},{"$f":"INDEX([1]!SHIPMENTS_MH,\n((MATCH($C$9,[1]!APPLIANCES,0)-1)*2)+2,\nMATCH(AB$10,[1]!SHIPMENTS_MH_YEARS,0))","v":2174.7183770888951},{"$f":"INDEX([1]!SHIPMENTS_MH,\n((MATCH($C$9,[1]!APPLIANCES,0)-1)*2)+2,\nMATCH(AC$10,[1]!SHIPMENTS_MH_YEARS,0))","v":2075.2673886254197},{"$f":"INDEX([1]!SHIPMENTS_MH,\n((MATCH($C$9,[1]!APPLIANCES,0)-1)*2)+2,\nMATCH(AD$10,[1]!SHIPMENTS_MH_YEARS,0))","v":1687.0617666983744},{"$f":"INDEX([1]!SHIPMENTS_MH,\n((MATCH($C$9,[1]!APPLIANCES,0)-1)*2)+2,\nMATCH(AE$10,[1]!SHIPMENTS_MH_YEARS,0))","v":3147.0515159096103},{"$f":"INDEX([1]!SHIPMENTS_MH,\n((MATCH($C$9,[1]!APPLIANCES,0)-1)*2)+2,\nMATCH(AF$10,[1]!SHIPMENTS_MH_YEARS,0))","v":3295.1600375776179},{"$f":"INDEX([1]!SHIPMENTS_MH,\n((MATCH($C$9,[1]!APPLIANCES,0)-1)*2)+2,\nMATCH(AG$10,[1]!SHIPMENTS_MH_YEARS,0))","v":3282.7572461499367},{"$f":"INDEX([1]!SHIPMENTS_MH,\n((MATCH($C$9,[1]!APPLIANCES,0)-1)*2)+2,\nMATCH(AH$10,[1]!SHIPMENTS_MH_YEARS,0))","v":3189.7648958204081},{"$f":"INDEX([1]!SHIPMENTS_MH,\n((MATCH($C$9,[1]!APPLIANCES,0)-1)*2)+2,\nMATCH(AI$10,[1]!SHIPMENTS_MH_YEARS,0))","v":2951.3714702014113},{"$f":"INDEX([1]!SHIPMENTS_MH,\n((MATCH($C$9,[1]!APPLIANCES,0)-1)*2)+2,\nMATCH(AJ$10,[1]!SHIPMENTS_MH_YEARS,0))","v":7171.8649072288536},{"$f":"INDEX([1]!SHIPMENTS_MH,\n((MATCH($C$9,[1]!APPLIANCES,0)-1)*2)+2,\nMATCH(AK$10,[1]!SHIPMENTS_MH_YEARS,0))","v":6852.467175294878},{"$f":"INDEX([1]!SHIPMENTS_MH,\n((MATCH($C$9,[1]!APPLIANCES,0)-1)*2)+2,\nMATCH(AL$10,[1]!SHIPMENTS_MH_YEARS,0))","v":6443.4953044279246},{"$f":"INDEX([1]!SHIPMENTS_MH,\n((MATCH($C$9,[1]!APPLIANCES,0)-1)*2)+2,\nMATCH(AM$10,[1]!SHIPMENTS_MH_YEARS,0))","v":6064.9902359605712},{"$f":"INDEX([1]!SHIPMENTS_MH,\n((MATCH($C$9,[1]!APPLIANCES,0)-1)*2)+2,\nMATCH(AN$10,[1]!SHIPMENTS_MH_YEARS,0))","v":5778.3457222046563},{"$f":"INDEX([1]!SHIPMENTS_MH,\n((MATCH($C$9,[1]!APPLIANCES,0)-1)*2)+2,\nMATCH(AO$10,[1]!SHIPMENTS_MH_YEARS,0))","v":5612.1658020064879},{"$f":"INDEX([1]!SHIPMENTS_MH,\n((MATCH($C$9,[1]!APPLIANCES,0)-1)*2)+2,\nMATCH(AP$10,[1]!SHIPMENTS_MH_YEARS,0))","v":5582.4038236527704},{"$f":"INDEX([1]!SHIPMENTS_MH,\n((MATCH($C$9,[1]!APPLIANCES,0)-1)*2)+2,\nMATCH(AQ$10,[1]!SHIPMENTS_MH_YEARS,0))","v":5682.5847738496959},{"$f":"INDEX([1]!SHIPMENTS_MH,\n((MATCH($C$9,[1]!APPLIANCES,0)-1)*2)+2,\nMATCH(AR$10,[1]!SHIPMENTS_MH_YEARS,0))","v":5877.0796120078303},{"$f":"INDEX([1]!SHIPMENTS_MH,\n((MATCH($C$9,[1]!APPLIANCES,0)-1)*2)+2,\nMATCH(AS$10,[1]!SHIPMENTS_MH_YEARS,0))","v":6126.3190584533149},{"$f":"INDEX([1]!SHIPMENTS_MH,\n((MATCH($C$9,[1]!APPLIANCES,0)-1)*2)+2,\nMATCH(AT$10,[1]!SHIPMENTS_MH_YEARS,0))","v":6376.461728825001},{"$f":"INDEX([1]!SHIPMENTS_MH,\n((MATCH($C$9,[1]!APPLIANCES,0)-1)*2)+2,\nMATCH(AU$10,[1]!SHIPMENTS_MH_YEARS,0))","v":6575.6062993862433},{"$f":"INDEX([1]!SHIPMENTS_MH,\n((MATCH($C$9,[1]!APPLIANCES,0)-1)*2)+2,\nMATCH(AV$10,[1]!SHIPMENTS_MH_YEARS,0))","v":6684.4374896382215},{"$f":"INDEX([1]!SHIPMENTS_MH,\n((MATCH($C$9,[1]!APPLIANCES,0)-1)*2)+2,\nMATCH(AW$10,[1]!SHIPMENTS_MH_YEARS,0))","v":6680.6531367241405},{"$f":"INDEX([1]!SHIPMENTS_MH,\n((MATCH($C$9,[1]!APPLIANCES,0)-1)*2)+2,\nMATCH(AX$10,[1]!SHIPMENTS_MH_YEARS,0))","v":6562.0801635121461},{"$f":"INDEX([1]!SHIPMENTS_MH,\n((MATCH($C$9,[1]!APPLIANCES,0)-1)*2)+2,\nMATCH(AY$10,[1]!SHIPMENTS_MH_YEARS,0))","v":6348.4479499531444},{"$f":"INDEX([1]!SHIPMENTS_MH,\n((MATCH($C$9,[1]!APPLIANCES,0)-1)*2)+2,\nMATCH(AZ$10,[1]!SHIPMENTS_MH_YEARS,0))","v":6074.2264968558447},{"$f":"INDEX([1]!SHIPMENTS_MH,\n((MATCH($C$9,[1]!APPLIANCES,0)-1)*2)+2,\nMATCH(BA$10,[1]!SHIPMENTS_MH_YEARS,0))","v":5782.8494163614232},{"$f":"INDEX([1]!SHIPMENTS_MH,\n((MATCH($C$9,[1]!APPLIANCES,0)-1)*2)+2,\nMATCH(BB$10,[1]!SHIPMENTS_MH_YEARS,0))","v":5519.356765947774},{"$f":"INDEX([1]!SHIPMENTS_MH,\n((MATCH($C$9,[1]!APPLIANCES,0)-1)*2)+2,\nMATCH(BC$10,[1]!SHIPMENTS_MH_YEARS,0))","v":5574.5503336072434},{"$f":"INDEX([1]!SHIPMENTS_MH,\n((MATCH($C$9,[1]!APPLIANCES,0)-1)*2)+2,\nMATCH(BD$10,[1]!SHIPMENTS_MH_YEARS,0))","v":5630.2958369433236},{"$f":"INDEX([1]!SHIPMENTS_MH,\n((MATCH($C$9,[1]!APPLIANCES,0)-1)*2)+2,\nMATCH(BE$10,[1]!SHIPMENTS_MH_YEARS,0))","v":5686.5987953126896},{"$f":"INDEX([1]!SHIPMENTS_MH,\n((MATCH($C$9,[1]!APPLIANCES,0)-1)*2)+2,\nMATCH(BF$10,[1]!SHIPMENTS_MH_YEARS,0))","v":5743.4647832658375}]
[null,null,"Total Model Shipments","(units)",{"$f":"SUM(E12:E13)","v":26050.356568271462},{"$f":"SUM(F12:F13)","v":23906.520342616823},27357.222679929568,27128.95810338499,25276.107801883998,23489.063504431753,23026.365038463082,24205.73201727651,25149.636887852561,27111.478383559559,27049.785254763738,29074.348098079845,29858.623003291308,32619.035010623098,31442.007274993048,28640.919515246169,28564.477767962024,28994.99553645093,25433.163321191845,31465.590038762188,26986.652255704852,30503.470235797045,29626.628739127358,27450.826178972897,25564.330893057173,24713.426805161456,27352.783533186121,28444.796925430179,30394.235629709496,30239.550150584146,32025.719568281256,37030.487910520169,39471.502185917976,37885.50257942098,34705.909751206738,34342.82349016668,34607.161338457416,31015.567144844619,37148.174812611876,32863.731867712682,36629.789294250353,36003.090467952366,34026.432478359144,32248.768382695394,31394.079941885597,33914.863696698267,34793.244875383323,36468.46212656534,36022.399566945569,37545.07633422903,42605.038244127412,45101.798022861301,43572.101374733662,40449.374534472576]
[null,null,"Model Installed Stock","(units)",{"$f":"INDEX([1]!STOCK_MH,\nMATCH($C$9,[1]!APPLIANCES,0),\nMATCH(E$10,[1]!STOCK_MH_YEARS,0))","v":294275.19613724045},{"$f":"INDEX([1]!STOCK_MH,\nMATCH($C$9,[1]!APPLIANCES,0),\nMATCH(F$10,[1]!STOCK_MH_YEARS,0))","v":303280.33650380344},{"$f":"INDEX([1]!STOCK_MH,\nMATCH($C$9,[1]!APPLIANCES,0),\nMATCH(G$10,[1]!STOCK_MH_YEARS,0))","v":315736.17920767918},{"$f":"INDEX([1]!STOCK_MH,\nMATCH($C$9,[1]!APPLIANCES,0),\nMATCH(H$10,[1]!STOCK_MH_YEARS,0))","v":327963.75733501033},{"$f":"INDEX([1]!STOCK_MH,\nMATCH($C$9,[1]!APPLIANCES,0),\nMATCH(I$10,[1]!STOCK_MH_YEARS,0))","v":338338.4851608405},{"$f":"INDEX([1]!STOCK_MH,\nMATCH($C$9,[1]!APPLIANCES,0),\nMATCH(J$10,[1]!STOCK_MH_YEARS,0))","v":346926.16868921841},{"$f":"INDEX([1]!STOCK_MH,\nMATCH($C$9,[1]!APPLIANCES,0),\nMATCH(K$10,[1]!STOCK_MH_YEARS,0))","v":355051.15375162766},{"$f":"INDEX([1]!STOCK_MH,\nMATCH($C$9,[1]!APPLIANCES,0),\nMATCH(L$10,[1]!STOCK_MH_YEARS,0))","v":364355.50579285034},{"$f":"INDEX([1]!STOCK_MH,\nMATCH($C$9,[1]!APPLIANCES,0),\nMATCH(M$10,[1]!STOCK_MH_YEARS,0))","v":374603.76270464907},{"$f":"INDEX([1]!STOCK_MH,\nMATCH($C$9,[1]!APPLIANCES,0),\nMATCH(N$10,[1]!STOCK_MH_YEARS,0))","v":386813.86111215479},{"$f":"INDEX([1]!STOCK_MH,\nMATCH($C$9,[1]!APPLIANCES,0),\nMATCH(O$10,[1]!STOCK_MH_YEARS,0))","v":398962.26639086468},{"$f":"INDEX([1]!STOCK_MH,\nMATCH($C$9,[1]!APPLIANCES,0),\nMATCH(P$10,[1]!STOCK_MH_YEARS,0))","v":413135.23451289069},{"$f":"INDEX([1]!STOCK_MH,\nMATCH($C$9,[1]!APPLIANCES,0),\nMATCH(Q$10,[1]!STOCK_MH_YEARS,0))","v":428092.47754012817},{"$f":"INDEX([1]!STOCK_MH,\nMATCH($C$9,[1]!APPLIANCES,0),\nMATCH(R$10,[1]!STOCK_MH_YEARS,0))","v":445810.13257469743},{"$f":"INDEX([1]!STOCK_MH,\nMATCH($C$9,[1]!APPLIANCES,0),\nMATCH(S$10,[1]!STOCK_MH_YEARS,0))","v":462350.75987363665},{"$f":"INDEX([1]!STOCK_MH,\nMATCH($C$9,[1]!APPLIANCES,0),\nMATCH(T$10,[1]!STOCK_MH_YEARS,0))","v":476090.29941282899},{"$f":"INDEX([1]!STOCK_MH,\nMATCH($C$9,[1]!APPLIANCES,0),\nMATCH(U$10,[1]!STOCK_MH_YEARS,0))","v":489753.39720473718},{"$f":"INDEX([1]!STOCK_MH,\nMATCH($C$9,[1]!APPLIANCES,0),\nMATCH(V$10,[1]!STOCK_MH_YEARS,0))","v":503847.01276513428},{"$f":"INDEX([1]!STOCK_MH,\nMATCH($C$9,[1]!APPLIANCES,0),\nMATCH(W$10,[1]!STOCK_MH_YEARS,0))","v":514378.79611027229},{"$f":"INDEX([1]!STOCK_MH,\nMATCH($C$9,[1]!APPLIANCES,0),\nMATCH(X$10,[1]!STOCK_MH_YEARS,0))","v":519794.02958076302},{"$f":"INDEX([1]!STOCK_MH,\nMATCH($C$9,[1]!APPLIANCES,0),\nMATCH(Y$10,[1]!STOCK_MH_YEARS,0))","v":522874.16149385105},{"$f":"INDEX([1]!STOCK_MH,\nMATCH($C$9,[1]!APPLIANCES,0),\nMATCH(Z$10,[1]!STOCK_MH_YEARS,0))","v":526020.40904971852},{"$f":"INDEX([1]!STOCK_MH,\nMATCH($C$9,[1]!APPLIANCES,0),\nMATCH(AA$10,[1]!STOCK_MH_YEARS,0))","v":528518.07968546089},{"$f":"INDEX([1]!STOCK_MH,\nMATCH($C$9,[1]!APPLIANCES,0),\nMATCH(AB$10,[1]!STOCK_MH_YEARS,0))","v":530692.79806254979},{"$f":"INDEX([1]!STOCK_MH,\nMATCH($C$9,[1]!APPLIANCES,0),\nMATCH(AC$10,[1]!STOCK_MH_YEARS,0))","v":532768.06545117521},{"$f":"INDEX([1]!STOCK_MH,\nMATCH($C$9,[1]!APPLIANCES,0),\nMATCH(AD$10,[1]!STOCK_MH_YEARS,0))","v":534455.12721787358},{"$f":"INDEX([1]!STOCK_MH,\nMATCH($C$9,[1]!APPLIANCES,0),\nMATCH(AE$10,[1]!STOCK_MH_YEARS,0))","v":537602.17873378319},{"$f":"INDEX([1]!STOCK_MH,\nMATCH($C$9,[1]!APPLIANCES,0),\nMATCH(AF$10,[1]!STOCK_MH_YEARS,0))","v":540897.33877136081},{"$f":"INDEX([1]!STOCK_MH,\nMATCH($C$9,[1]!APPLIANCES,0),\nMATCH(AG$10,[1]!STOCK_MH_YEARS,0))","v":544180.09601751075},{"$f":"INDEX([1]!STOCK_MH,\nMATCH($C$9,[1]!APPLIANCES,0),\nMATCH(AH$10,[1]!STOCK_MH_YEARS,0))","v":547369.86091333115},{"$f":"INDEX([1]!STOCK_MH,\nMATCH($C$9,[1]!APPLIANCES,0),\nMATCH(AI$10,[1]!STOCK_MH_YEARS,0))","v":550321.23238353257},{"$f":"INDEX([1]!STOCK_MH,\nMATCH($C$9,[1]!APPLIANCES,0),\nMATCH(AJ$10,[1]!STOCK_MH_YEARS,0))","v":557493.09729076142},{"$f":"INDEX([1]!STOCK_MH,\nMATCH($C$9,[1]!APPLIANCES,0),\nMATCH(AK$10,[1]!STOCK_MH_YEARS,0))","v":564345.5644660563},{"$f":"INDEX([1]!STOCK_MH,\nMATCH($C$9,[1]!APPLIANCES,0),\nMATCH(AL$10,[1]!STOCK_MH_YEARS,0))","v":570789.05977048422},{"$f":"INDEX([1]!STOCK_MH,\nMATCH($C$9,[1]!APPLIANCES,0),\nMATCH(AM$10,[1]!STOCK_MH_YEARS,0))","v":576854.0500064448},{"$f":"INDEX([1]!STOCK_MH,\nMATCH($C$9,[1]!APPLIANCES,0),\nMATCH(AN$10,[1]!STOCK_MH_YEARS,0))","v":582632.39572864946},{"$f":"INDEX([1]!STOCK_MH,\nMATCH($C$9,[1]!APPLIANCES,0),\nMATCH(AO$10,[1]!STOCK_MH_YEARS,0))","v":588244.56153065595},{"$f":"INDEX([1]!STOCK_MH,\nMATCH($C$9,[1]!APPLIANCES,0),\nMATCH(AP$10,[1]!STOCK_MH_YEARS,0))","v":593826.96535430872},{"$f":"INDEX([1]!STOCK_MH,\nMATCH($C$9,[1]!APPLIANCES,0),\nMATCH(AQ$10,[1]!STOCK_MH_YEARS,0))","v":599509.55012815841},{"$f":"INDEX([1]!STOCK_MH,\nMATCH($C$9,[1]!APPLIANCES,0),\nMATCH(AR$10,[1]!STOCK_MH_YEARS,0))","v":605386.62974016625},{"$f":"INDEX([1]!STOCK_MH,\nMATCH($C$9,[1]!APPLIANCES,0),\nMATCH(AS$10,[1]!STOCK_MH_YEARS,0))","v":611512.94879861956},{"$f":"INDEX([1]!STOCK_MH,\nMATCH($C$9,[1]!APPLIANCES,0),\nMATCH(AT$10,[1]!STOCK_MH_YEARS,0))","v":617889.41052744456},{"$f":"INDEX([1]!STOCK_MH,\nMATCH($C$9,[1]!APPLIANCES,0),\nMATCH(AU$10,[1]!STOCK_MH_YEARS,0))","v":624465.0168268308},{"$f":"INDEX([1]!STOCK_MH,\nMATCH($C$9,[1]!APPLIANCES,0),\nMATCH(AV$10,[1]!STOCK_MH_YEARS,0))","v":631149.45431646903},{"$f":"INDEX([1]!STOCK_MH,\nMATCH($C$9,[1]!APPLIANCES,0),\nMATCH(AW$10,[1]!STOCK_MH_YEARS,0))","v":637830.10745319317},{"$f":"INDEX([1]!STOCK_MH,\nMATCH($C$9,[1]!APPLIANCES,0),\nMATCH(AX$10,[1]!STOCK_MH_YEARS,0))","v":644392.18761670531},{"$f":"INDEX([1]!STOCK_MH,\nMATCH($C$9,[1]!APPLIANCES,0),\nMATCH(AY$10,[1]!STOCK_MH_YEARS,0))","v":650740.63556665846},{"$f":"INDEX([1]!STOCK_MH,\nMATCH($C$9,[1]!APPLIANCES,0),\nMATCH(AZ$10,[1]!STOCK_MH_YEARS,0))","v":656814.8620635143},{"$f":"INDEX([1]!STOCK_MH,\nMATCH($C$9,[1]!APPLIANCES,0),\nMATCH(BA$10,[1]!STOCK_MH_YEARS,0))","v":662597.71147987572},{"$f":"INDEX([1]!STOCK_MH,\nMATCH($C$9,[1]!APPLIANCES,0),\nMATCH(BB$10,[1]!STOCK_MH_YEARS,0))","v":668117.0682458235},{"$f":"INDEX([1]!STOCK_MH,\nMATCH($C$9,[1]!APPLIANCES,0),\nMATCH(BC$10,[1]!STOCK_MH_YEARS,0))","v":673691.61857943074},{"$f":"INDEX([1]!STOCK_MH,\nMATCH($C$9,[1]!APPLIANCES,0),\nMATCH(BD$10,[1]!STOCK_MH_YEARS,0))","v":679321.91441637406},{"$f":"INDEX([1]!STOCK_MH,\nMATCH($C$9,[1]!APPLIANCES,0),\nMATCH(BE$10,[1]!STOCK_MH_YEARS,0))","v":685008.51321168675},{"$f":"INDEX([1]!STOCK_MH,\nMATCH($C$9,[1]!APPLIANCES,0),\nMATCH(BF$10,[1]!STOCK_MH_YEARS,0))","v":690751.97799495258}]

{"sheet":"Efficiency Dist - SF","index":11,"n_rows":49,"n_cols":62,"rows_kept":49,"cut":false,"hidden":false,"merged":[[1,2,1,6],[3,2,3,6],[5,2,5,6]]}
[]
[null,null,"Efficiency Distributions by Product Class - Single Family"]
[]
[null,null,"NAVIGATION"]
[]
[null,null,"COMMENTS"]
[]
[]
[null,null,"PC1",{"$f":"OFFSET('Product Classes'!$C$9,MATCH(C9,MODEL_PCS,0),0)","v":"Gas Cooking Tops"}]
[]
[null,null,null,"PRE-Case",null,"Static Distribution"]
[null,null,null,"Efficiency Level","UEC (kWh / year)",2011,null,null,1981,1982,1983,1984,1985,1986,1987,1988,1989,1990,1991,1992,1993,1994,1995,1996,1997,1998,1999,2000,2001,2002,2003,2004,2005,2006,2007,2008,2009,2010,2011,2012,2013,2014,2015,2016,2017,2018,2019,2020,2021,2022,2023,2024,2025,2026,2027,2028,2029,2030,2031,2032,2033,2034]
[null,null,null,"EL0",{"$f":"OFFSET('Efficiency Levels'!$D$11,MATCH($C$9,'Efficiency Levels'!$C$9:$C$995,0)+RIGHT(D13,1),0)","v":256.7},1,null,null,{"$f":"$F13","v":1},1,1,1,1,1,1,1,1,{"$f":"$F13","v":1},1,1,1,1,1,1,1,1,1,1,1,1,1,1,1,{"$f":"$F13","v":1},1,1,1,1,1,1,1,1,1,1,1,1,1,1,1,1,1,1,1,1,1,1,1,1,1,1,1,1]
[null,null,null,"EL1",{"$f":"OFFSET('Efficiency Levels'!$D$11,MATCH($C$9,'Efficiency Levels'!$C$9:$C$995,0)+RIGHT(D14,1),0)","v":246},0,null,null,0,0,0,0,0,0,0,0,0,0,0,0,0,0,0,0,0,0,0,0,0,0,0,0,0,0,0,0,0,0,0,0,0,0,0,0,0,0,0,0,0,0,0,0,0,0,0,0,0,0,0,0,0,0]
[null,null,null,"TOTAL",null,{"$f":"SUM(F13:F14)","v":1},null,null,{"$f":"SUM(I13:I14)","v":1},{"$f":"SUM(J13:J14)","v":1},1,1,1,1,1,1,1,{"$f":"SUM(R13:R14)","v":1},1,1,1,1,1,1,1,1,1,1,1,1,1,1,1,1,1,1,1,1,1,1,1,1,1,1,1,1,1,1,1,1,1,1,1,1,1,1,1,1,1,1,1,1]
[]
[null,null,null,"POST-Case"]
[null,null,null,"Efficiency Level","UEC (kWh / year)",null,null,null,1981,1982,1983,1984,1985,1986,1987,1988,1989,1990,1991,1992,1993,1994,1995,1996,1997,1998,1999,2000,2001,2002,2003,2004,2005,2006,2007,2008,2009,2010,2011,2012,2013,2014,2015,2016,2017,2018,2019,2020,2021,2022,2023,2024,2025,2026,2027,2028,2029,2030,2031,2032,2033,2034]
[null,null,null,"EL0",{"$f":"OFFSET('Efficiency Levels'!$D$11,MATCH($C$9,'Efficiency Levels'!$C$9:$C$995,0)+RIGHT(D19,1),0)","v":256.7},null,null,null,{"$f":"IF(I$18<STANDARD_YEAR,I13,\nIF(RIGHT($D19,1)>RIGHT('Efficiency Levels'!$C$16,1),I13,\nIF(RIGHT($D19,1)<RIGHT('Efficiency Levels'!$C$16,1),0,\nIF(RIGHT($D19,1)=RIGHT('Efficiency Levels'!$C$16,1),SUM(OFFSET(I13,-RIGHT($D19,1),0,RIGHT($D19,1),1)),\"ERROR\"))))","v":1},{"$f":"IF(J$18<STANDARD_YEAR,J13,\nIF(RIGHT($D19,1)>RIGHT('Efficiency Levels'!$C$16,1),J13,\nIF(RIGHT($D19,1)<RIGHT('Efficiency Levels'!$C$16,1),0,\nIF(RIGHT($D19,1)=RIGHT('Efficiency Levels'!$C$16,1),SUM(OFFSET(J13,-RIGHT($D19,1),0,RIGHT($D19,1),1)),\"ERROR\"))))","v":1},{"$f":"IF(K$18<STANDARD_YEAR,K13,\nIF(RIGHT($D19,1)>RIGHT('Efficiency Levels'!$C$16,1),K13,\nIF(RIGHT($D19,1)<RIGHT('Efficiency Levels'!$C$16,1),0,\nIF(RIGHT($D19,1)=RIGHT('Efficiency Levels'!$C$16,1),SUM(OFFSET(K13,-RIGHT($D19,1),0,RIGHT($D19,1),1)),\"ERROR\"))))","v":1},{"$f":"IF(L$18<STANDARD_YEAR,L13,\nIF(RIGHT($D19,1)>RIGHT('Efficiency Levels'!$C$16,1),L13,\nIF(RIGHT($D19,1)<RIGHT('Efficiency Levels'!$C$16,1),0,\nIF(RIGHT($D19,1)=RIGHT('Efficiency Levels'!$C$16,1),SUM(OFFSET(L13,-RIGHT($D19,1),0,RIGHT($D19,1),1)),\"ERROR\"))))","v":1},{"$f":"IF(M$18<STANDARD_YEAR,M13,\nIF(RIGHT($D19,1)>RIGHT('Efficiency Levels'!$C$16,1),M13,\nIF(RIGHT($D19,1)<RIGHT('Efficiency Levels'!$C$16,1),0,\nIF(RIGHT($D19,1)=RIGHT('Efficiency Levels'!$C$16,1),SUM(OFFSET(M13,-RIGHT($D19,1),0,RIGHT($D19,1),1)),\"ERROR\"))))","v":1},{"$f":"IF(N$18<STANDARD_YEAR,N13,\nIF(RIGHT($D19,1)>RIGHT('Efficiency Levels'!$C$16,1),N13,\nIF(RIGHT($D19,1)<RIGHT('Efficiency Levels'!$C$16,1),0,\nIF(RIGHT($D19,1)=RIGHT('Efficiency Levels'!$C$16,1),SUM(OFFSET(N13,-RIGHT($D19,1),0,RIGHT($D19,1),1)),\"ERROR\"))))","v":1},{"$f":"IF(O$18<STANDARD_YEAR,O13,\nIF(RIGHT($D19,1)>RIGHT('Efficiency Levels'!$C$16,1),O13,\nIF(RIGHT($D19,1)<RIGHT('Efficiency Levels'!$C$16,1),0,\nIF(RIGHT($D19,1)=RIGHT('Efficiency Levels'!$C$16,1),SUM(OFFSET(O13,-RIGHT($D19,1),0,RIGHT($D19,1),1)),\"ERROR\"))))","v":1},{"$f":"IF(P$18<STANDARD_YEAR,P13,\nIF(RIGHT($D19,1)>RIGHT('Efficiency Levels'!$C$16,1),P13,\nIF(RIGHT($D19,1)<RIGHT('Efficiency Levels'!$C$16,1),0,\nIF(RIGHT($D19,1)=RIGHT('Efficiency Levels'!$C$16,1),SUM(OFFSET(P13,-RIGHT($D19,1),0,RIGHT($D19,1),1)),\"ERROR\"))))","v":1},{"$f":"IF(Q$18<STANDARD_YEAR,Q13,\nIF(RIGHT($D19,1)>RIGHT('Efficiency Levels'!$C$16,1),Q13,\nIF(RIGHT($D19,1)<RIGHT('Efficiency Levels'!$C$16,1),0,\nIF(RIGHT($D19,1)=RIGHT('Efficiency Levels'!$C$16,1),SUM(OFFSET(Q13,-RIGHT($D19,1),0,RIGHT($D19,1),1)),\"ERROR\"))))","v":1},{"$f":"IF(R$18<STANDARD_YEAR,R13,\nIF(RIGHT($D19,1)>RIGHT('Efficiency Levels'!$C$16,1),R13,\nIF(RIGHT($D19,1)<RIGHT('Efficiency Levels'!$C$16,1),0,\nIF(RIGHT($D19,1)=RIGHT('Efficiency Levels'!$C$16,1),SUM(OFFSET(R13,-RIGHT($D19,1),0,RIGHT($D19,1),1)),\"ERROR\"))))","v":1},{"$f":"IF(S$18<STANDARD_YEAR,S13,\nIF(RIGHT($D19,1)>RIGHT('Efficiency Levels'!$C$16,1),S13,\nIF(RIGHT($D19,1)<RIGHT('Efficiency Levels'!$C$16,1),0,\nIF(RIGHT($D19,1)=RIGHT('Efficiency Levels'!$C$16,1),SUM(OFFSET(S13,-RIGHT($D19,1),0,RIGHT($D19,1),1)),\"ERROR\"))))","v":1},{"$f":"IF(T$18<STANDARD_YEAR,T13,\nIF(RIGHT($D19,1)>RIGHT('Efficiency Levels'!$C$16,1),T13,\nIF(RIGHT($D19,1)<RIGHT('Efficiency Levels'!$C$16,1),0,\nIF(RIGHT($D19,1)=RIGHT('Efficiency Levels'!$C$16,1),SUM(OFFSET(T13,-RIGHT($D19,1),0,RIGHT($D19,1),1)),\"ERROR\"))))","v":1},{"$f":"IF(U$18<STANDARD_YEAR,U13,\nIF(RIGHT($D19,1)>RIGHT('Efficiency Levels'!$C$16,1),U13,\nIF(RIGHT($D19,1)<RIGHT('Efficiency Levels'!$C$16,1),0,\nIF(RIGHT($D19,1)=RIGHT('Efficiency Levels'!$C$16,1),SUM(OFFSET(U13,-RIGHT($D19,1),0,RIGHT($D19,1),1)),\"ERROR\"))))","v":1},{"$f":"IF(V$18<STANDARD_YEAR,V13,\nIF(RIGHT($D19,1)>RIGHT('Efficiency Levels'!$C$16,1),V13,\nIF(RIGHT($D19,1)<RIGHT('Efficiency Levels'!$C$16,1),0,\nIF(RIGHT($D19,1)=RIGHT('Efficiency Levels'!$C$16,1),SUM(OFFSET(V13,-RIGHT($D19,1),0,RIGHT($D19,1),1)),\"ERROR\"))))","v":1},{"$f":"IF(W$18<STANDARD_YEAR,W13,\nIF(RIGHT($D19,1)>RIGHT('Efficiency Levels'!$C$16,1),W13,\nIF(RIGHT($D19,1)<RIGHT('Efficiency Levels'!$C$16,1),0,\nIF(RIGHT($D19,1)=RIGHT('Efficiency Levels'!$C$16,1),SUM(OFFSET(W13,-RIGHT($D19,1),0,RIGHT($D19,1),1)),\"ERROR\"))))","v":1},{"$f":"IF(X$18<STANDARD_YEAR,X13,\nIF(RIGHT($D19,1)>RIGHT('Efficiency Levels'!$C$16,1),X13,\nIF(RIGHT($D19,1)<RIGHT('Efficiency Levels'!$C$16,1),0,\nIF(RIGHT($D19,1)=RIGHT('Efficiency Levels'!$C$16,1),SUM(OFFSET(X13,-RIGHT($D19,1),0,RIGHT($D19,1),1)),\"ERROR\"))))","v":1},{"$f":"IF(Y$18<STANDARD_YEAR,Y13,\nIF(RIGHT($D19,1)>RIGHT('Efficiency Levels'!$C$16,1),Y13,\nIF(RIGHT($D19,1)<RIGHT('Efficiency Levels'!$C$16,1),0,\nIF(RIGHT($D19,1)=RIGHT('Efficiency Levels'!$C$16,1),SUM(OFFSET(Y13,-RIGHT($D19,1),0,RIGHT($D19,1),1)),\"ERROR\"))))","v":1},{"$f":"IF(Z$18<STANDARD_YEAR,Z13,\nIF(RIGHT($D19,1)>RIGHT('Efficiency Levels'!$C$16,1),Z13,\nIF(RIGHT($D19,1)<RIGHT('Efficiency Levels'!$C$16,1),0,\nIF(RIGHT($D19,1)=RIGHT('Efficiency Levels'!$C$16,1),SUM(OFFSET(Z13,-RIGHT($D19,1),0,RIGHT($D19,1),1)),\"ERROR\"))))","v":1},{"$f":"IF(AA$18<STANDARD_YEAR,AA13,\nIF(RIGHT($D19,1)>RIGHT('Efficiency Levels'!$C$16,1),AA13,\nIF(RIGHT($D19,1)<RIGHT('Efficiency Levels'!$C$16,1),0,\nIF(RIGHT($D19,1)=RIGHT('Efficiency Levels'!$C$16,1),SUM(OFFSET(AA13,-RIGHT($D19,1),0,RIGHT($D19,1),1)),\"ERROR\"))))","v":1},{"$f":"IF(AB$18<STANDARD_YEAR,AB13,\nIF(RIGHT($D19,1)>RIGHT('Efficiency Levels'!$C$16,1),AB13,\nIF(RIGHT($D19,1)<RIGHT('Efficiency Levels'!$C$16,1),0,\nIF(RIGHT($D19,1)=RIGHT('Efficiency Levels'!$C$16,1),SUM(OFFSET(AB13,-RIGHT($D19,1),0,RIGHT($D19,1),1)),\"ERROR\"))))","v":1},{"$f":"IF(AC$18<STANDARD_YEAR,AC13,\nIF(RIGHT($D19,1)>RIGHT('Efficiency Levels'!$C$16,1),AC13,\nIF(RIGHT($D19,1)<RIGHT('Efficiency Levels'!$C$16,1),0,\nIF(RIGHT($D19,1)=RIGHT('Efficiency Levels'!$C$16,1),SUM(OFFSET(AC13,-RIGHT($D19,1),0,RIGHT($D19,1),1)),\"ERROR\"))))","v":1},{"$f":"IF(AD$18<STANDARD_YEAR,AD13,\nIF(RIGHT($D19,1)>RIGHT('Efficiency Levels'!$C$16,1),AD13,\nIF(RIGHT($D19,1)<RIGHT('Efficiency Levels'!$C$16,1),0,\nIF(RIGHT($D19,1)=RIGHT('Efficiency Levels'!$C$16,1),SUM(OFFSET(AD13,-RIGHT($D19,1),0,RIGHT($D19,1),1)),\"ERROR\"))))","v":1},{"$f":"IF(AE$18<STANDARD_YEAR,AE13,\nIF(RIGHT($D19,1)>RIGHT('Efficiency Levels'!$C$16,1),AE13,\nIF(RIGHT($D19,1)<RIGHT('Efficiency Levels'!$C$16,1),0,\nIF(RIGHT($D19,1)=RIGHT('Efficiency Levels'!$C$16,1),SUM(OFFSET(AE13,-RIGHT($D19,1),0,RIGHT($D19,1),1)),\"ERROR\"))))","v":1},{"$f":"IF(AF$18<STANDARD_YEAR,AF13,\nIF(RIGHT($D19,1)>RIGHT('Efficiency Levels'!$C$16,1),AF13,\nIF(RIGHT($D19,1)<RIGHT('Efficiency Levels'!$C$16,1),0,\nIF(RIGHT($D19,1)=RIGHT('Efficiency Levels'!$C$16,1),SUM(OFFSET(AF13,-RIGHT($D19,1),0,RIGHT($D19,1),1)),\"ERROR\"))))","v":1},{"$f":"IF(AG$18<STANDARD_YEAR,AG13,\nIF(RIGHT($D19,1)>RIGHT('Efficiency Levels'!$C$16,1),AG13,\nIF(RIGHT($D19,1)<RIGHT('Efficiency Levels'!$C$16,1),0,\nIF(RIGHT($D19,1)=RIGHT('Efficiency Levels'!$C$16,1),SUM(OFFSET(AG13,-RIGHT($D19,1),0,RIGHT($D19,1),1)),\"ERROR\"))))","v":1},{"$f":"IF(AH$18<STANDARD_YEAR,AH13,\nIF(RIGHT($D19,1)>RIGHT('Efficiency Levels'!$C$16,1),AH13,\nIF(RIGHT($D19,1)<RIGHT('Efficiency Levels'!$C$16,1),0,\nIF(RIGHT($D19,1)=RIGHT('Efficiency Levels'!$C$16,1),SUM(OFFSET(AH13,-RIGHT($D19,1),0,RIGHT($D19,1),1)),\"ERROR\"))))","v":1},{"$f":"IF(AI$18<STANDARD_YEAR,AI13,\nIF(RIGHT($D19,1)>RIGHT('Efficiency Levels'!$C$16,1),AI13,\nIF(RIGHT($D19,1)<RIGHT('Efficiency Levels'!$C$16,1),0,\nIF(RIGHT($D19,1)=RIGHT('Efficiency Levels'!$C$16,1),SUM(OFFSET(AI13,-RIGHT($D19,1),0,RIGHT($D19,1),1)),\"ERROR\"))))","v":1},{"$f":"IF(AJ$18<STANDARD_YEAR,AJ13,\nIF(RIGHT($D19,1)>RIGHT('Efficiency Levels'!$C$16,1),AJ13,\nIF(RIGHT($D19,1)<RIGHT('Efficiency Levels'!$C$16,1),0,\nIF(RIGHT($D19,1)=RIGHT('Efficiency Levels'!$C$16,1),SUM(OFFSET(AJ13,-RIGHT($D19,1),0,RIGHT($D19,1),1)),\"ERROR\"))))","v":1},{"$f":"IF(AK$18<STANDARD_YEAR,AK13,\nIF(RIGHT($D19,1)>RIGHT('Efficiency Levels'!$C$16,1),AK13,\nIF(RIGHT($D19,1)<RIGHT('Efficiency Levels'!$C$16,1),0,\nIF(RIGHT($D19,1)=RIGHT('Efficiency Levels'!$C$16,1),SUM(OFFSET(AK13,-RIGHT($D19,1),0,RIGHT($D19,1),1)),\"ERROR\"))))","v":1},{"$f":"IF(AL$18<STANDARD_YEAR,AL13,\nIF(RIGHT($D19,1)>RIGHT('Efficiency Levels'!$C$16,1),AL13,\nIF(RIGHT($D19,1)<RIGHT('Efficiency Levels'!$C$16,1),0,\nIF(RIGHT($D19,1)=RIGHT('Efficiency Levels'!$C$16,1),SUM(OFFSET(AL13,-RIGHT($D19,1),0,RIGHT($D19,1),1)),\"ERROR\"))))","v":1},{"$f":"IF(AM$18<STANDARD_YEAR,AM13,\nIF(RIGHT($D19,1)>RIGHT('Efficiency Levels'!$C$16,1),AM13,\nIF(RIGHT($D19,1)<RIGHT('Efficiency Levels'!$C$16,1),0,\nIF(RIGHT($D19,1)=RIGHT('Efficiency Levels'!$C$16,1),SUM(OFFSET(AM13,-RIGHT($D19,1),0,RIGHT($D19,1),1)),\"ERROR\"))))","v":1},{"$f":"IF(AN$18<STANDARD_YEAR,AN13,\nIF(RIGHT($D19,1)>RIGHT('Efficiency Levels'!$C$16,1),AN13,\nIF(RIGHT($D19,1)<RIGHT('Efficiency Levels'!$C$16,1),0,\nIF(RIGHT($D19,1)=RIGHT('Efficiency Levels'!$C$16,1),SUM(OFFSET(AN13,-RIGHT($D19,1),0,RIGHT($D19,1),1)),\"ERROR\"))))","v":1},{"$f":"IF(AO$18<STANDARD_YEAR,AO13,\nIF(RIGHT($D19,1)>RIGHT('Efficiency Levels'!$C$16,1),AO13,\nIF(RIGHT($D19,1)<RIGHT('Efficiency Levels'!$C$16,1),0,\nIF(RIGHT($D19,1)=RIGHT('Efficiency Levels'!$C$16,1),SUM(OFFSET(AO13,-RIGHT($D19,1),0,RIGHT($D19,1),1)),\"ERROR\"))))","v":1},{"$f":"IF(AP$18<STANDARD_YEAR,AP13,\nIF(RIGHT($D19,1)>RIGHT('Efficiency Levels'!$C$16,1),AP13,\nIF(RIGHT($D19,1)<RIGHT('Efficiency Levels'!$C$16,1),0,\nIF(RIGHT($D19,1)=RIGHT('Efficiency Levels'!$C$16,1),SUM(OFFSET(AP13,-RIGHT($D19,1),0,RIGHT($D19,1),1)),\"ERROR\"))))","v":1},{"$f":"IF(AQ$18<STANDARD_YEAR,AQ13,\nIF(RIGHT($D19,1)>RIGHT('Efficiency Levels'!$C$16,1),AQ13,\nIF(RIGHT($D19,1)<RIGHT('Efficiency Levels'!$C$16,1),0,\nIF(RIGHT($D19,1)=RIGHT('Efficiency Levels'!$C$16,1),SUM(OFFSET(AQ13,-RIGHT($D19,1),0,RIGHT($D19,1),1)),\"ERROR\"))))","v":1},{"$f":"IF(AR$18<STANDARD_YEAR,AR13,\nIF(RIGHT($D19,1)>RIGHT('Efficiency Levels'!$C$16,1),AR13,\nIF(RIGHT($D19,1)<RIGHT('Efficiency Levels'!$C$16,1),0,\nIF(RIGHT($D19,1)=RIGHT('Efficiency Levels'!$C$16,1),SUM(OFFSET(AR13,-RIGHT($D19,1),0,RIGHT($D19,1),1)),\"ERROR\"))))","v":1},{"$f":"IF(AS$18<STANDARD_YEAR,AS13,\nIF(RIGHT($D19,1)>RIGHT('Efficiency Levels'!$C$16,1),AS13,\nIF(RIGHT($D19,1)<RIGHT('Efficiency Levels'!$C$16,1),0,\nIF(RIGHT($D19,1)=RIGHT('Efficiency Levels'!$C$16,1),SUM(OFFSET(AS13,-RIGHT($D19,1),0,RIGHT($D19,1),1)),\"ERROR\"))))","v":1},{"$f":"IF(AT$18<STANDARD_YEAR,AT13,\nIF(RIGHT($D19,1)>RIGHT('Efficiency Levels'!$C$16,1),AT13,\nIF(RIGHT($D19,1)<RIGHT('Efficiency Levels'!$C$16,1),0,\nIF(RIGHT($D19,1)=RIGHT('Efficiency Levels'!$C$16,1),SUM(OFFSET(AT13,-RIGHT($D19,1),0,RIGHT($D19,1),1)),\"ERROR\"))))","v":1},{"$f":"IF(AU$18<STANDARD_YEAR,AU13,\nIF(RIGHT($D19,1)>RIGHT('Efficiency Levels'!$C$16,1),AU13,\nIF(RIGHT($D19,1)<RIGHT('Efficiency Levels'!$C$16,1),0,\nIF(RIGHT($D19,1)=RIGHT('Efficiency Levels'!$C$16,1),SUM(OFFSET(AU13,-RIGHT($D19,1),0,RIGHT($D19,1),1)),\"ERROR\"))))","v":0},{"$f":"IF(AV$18<STANDARD_YEAR,AV13,\nIF(RIGHT($D19,1)>RIGHT('Efficiency Levels'!$C$16,1),AV13,\nIF(RIGHT($D19,1)<RIGHT('Efficiency Levels'!$C$16,1),0,\nIF(RIGHT($D19,1)=RIGHT('Efficiency Levels'!$C$16,1),SUM(OFFSET(AV13,-RIGHT($D19,1),0,RIGHT($D19,1),1)),\"ERROR\"))))","v":0},{"$f":"IF(AW$18<STANDARD_YEAR,AW13,\nIF(RIGHT($D19,1)>RIGHT('Efficiency Levels'!$C$16,1),AW13,\nIF(RIGHT($D19,1)<RIGHT('Efficiency Levels'!$C$16,1),0,\nIF(RIGHT($D19,1)=RIGHT('Efficiency Levels'!$C$16,1),SUM(OFFSET(AW13,-RIGHT($D19,1),0,RIGHT($D19,1),1)),\"ERROR\"))))","v":0},{"$f":"IF(AX$18<STANDARD_YEAR,AX13,\nIF(RIGHT($D19,1)>RIGHT('Efficiency Levels'!$C$16,1),AX13,\nIF(RIGHT($D19,1)<RIGHT('Efficiency Levels'!$C$16,1),0,\nIF(RIGHT($D19,1)=RIGHT('Efficiency Levels'!$C$16,1),SUM(OFFSET(AX13,-RIGHT($D19,1),0,RIGHT($D19,1),1)),\"ERROR\"))))","v":0},{"$f":"IF(AY$18<STANDARD_YEAR,AY13,\nIF(RIGHT($D19,1)>RIGHT('Efficiency Levels'!$C$16,1),AY13,\nIF(RIGHT($D19,1)<RIGHT('Efficiency Levels'!$C$16,1),0,\nIF(RIGHT($D19,1)=RIGHT('Efficiency Levels'!$C$16,1),SUM(OFFSET(AY13,-RIGHT($D19,1),0,RIGHT($D19,1),1)),\"ERROR\"))))","v":0},{"$f":"IF(AZ$18<STANDARD_YEAR,AZ13,\nIF(RIGHT($D19,1)>RIGHT('Efficiency Levels'!$C$16,1),AZ13,\nIF(RIGHT($D19,1)<RIGHT('Efficiency Levels'!$C$16,1),0,\nIF(RIGHT($D19,1)=RIGHT('Efficiency Levels'!$C$16,1),SUM(OFFSET(AZ13,-RIGHT($D19,1),0,RIGHT($D19,1),1)),\"ERROR\"))))","v":0},{"$f":"IF(BA$18<STANDARD_YEAR,BA13,\nIF(RIGHT($D19,1)>RIGHT('Efficiency Levels'!$C$16,1),BA13,\nIF(RIGHT($D19,1)<RIGHT('Efficiency Levels'!$C$16,1),0,\nIF(RIGHT($D19,1)=RIGHT('Efficiency Levels'!$C$16,1),SUM(OFFSET(BA13,-RIGHT($D19,1),0,RIGHT($D19,1),1)),\"ERROR\"))))","v":0},{"$f":"IF(BB$18<STANDARD_YEAR,BB13,\nIF(RIGHT($D19,1)>RIGHT('Efficiency Levels'!$C$16,1),BB13,\nIF(RIGHT($D19,1)<RIGHT('Efficiency Levels'!$C$16,1),0,\nIF(RIGHT($D19,1)=RIGHT('Efficiency Levels'!$C$16,1),SUM(OFFSET(BB13,-RIGHT($D19,1),0,RIGHT($D19,1),1)),\"ERROR\"))))","v":0},{"$f":"IF(BC$18<STANDARD_YEAR,BC13,\nIF(RIGHT($D19,1)>RIGHT('Efficiency Levels'!$C$16,1),BC13,\nIF(RIGHT($D19,1)<RIGHT('Efficiency Levels'!$C$16,1),0,\nIF(RIGHT($D19,1)=RIGHT('Efficiency Levels'!$C$16,1),SUM(OFFSET(BC13,-RIGHT($D19,1),0,RIGHT($D19,1),1)),\"ERROR\"))))","v":0},{"$f":"IF(BD$18<STANDARD_YEAR,BD13,\nIF(RIGHT($D19,1)>RIGHT('Efficiency Levels'!$C$16,1),BD13,\nIF(RIGHT($D19,1)<RIGHT('Efficiency Levels'!$C$16,1),0,\nIF(RIGHT($D19,1)=RIGHT('Efficiency Levels'!$C$16,1),SUM(OFFSET(BD13,-RIGHT($D19,1),0,RIGHT($D19,1),1)),\"ERROR\"))))","v":0},{"$f":"IF(BE$18<STANDARD_YEAR,BE13,\nIF(RIGHT($D19,1)>RIGHT('Efficiency Levels'!$C$16,1),BE13,\nIF(RIGHT($D19,1)<RIGHT('Efficiency Levels'!$C$16,1),0,\nIF(RIGHT($D19,1)=RIGHT('Efficiency Levels'!$C$16,1),SUM(OFFSET(BE13,-RIGHT($D19,1),0,RIGHT($D19,1),1)),\"ERROR\"))))","v":0},{"$f":"IF(BF$18<STANDARD_YEAR,BF13,\nIF(RIGHT($D19,1)>RIGHT('Efficiency Levels'!$C$16,1),BF13,\nIF(RIGHT($D19,1)<RIGHT('Efficiency Levels'!$C$16,1),0,\nIF(RIGHT($D19,1)=RIGHT('Efficiency Levels'!$C$16,1),SUM(OFFSET(BF13,-RIGHT($D19,1),0,RIGHT($D19,1),1)),\"ERROR\"))))","v":0},{"$f":"IF(BG$18<STANDARD_YEAR,BG13,\nIF(RIGHT($D19,1)>RIGHT('Efficiency Levels'!$C$16,1),BG13,\nIF(RIGHT($D19,1)<RIGHT('Efficiency Levels'!$C$16,1),0,\nIF(RIGHT($D19,1)=RIGHT('Efficiency Levels'!$C$16,1),SUM(OFFSET(BG13,-RIGHT($D19,1),0,RIGHT($D19,1),1)),\"ERROR\"))))","v":0},{"$f":"IF(BH$18<STANDARD_YEAR,BH13,\nIF(RIGHT($D19,1)>RIGHT('Efficiency Levels'!$C$16,1),BH13,\nIF(RIGHT($D19,1)<RIGHT('Efficiency Levels'!$C$16,1),0,\nIF(RIGHT($D19,1)=RIGHT('Efficiency Levels'!$C$16,1),SUM(OFFSET(BH13,-RIGHT($D19,1),0,RIGHT($D19,1),1)),\"ERROR\"))))","v":0},{"$f":"IF(BI$18<STANDARD_YEAR,BI13,\nIF(RIGHT($D19,1)>RIGHT('Efficiency Levels'!$C$16,1),BI13,\nIF(RIGHT($D19,1)<RIGHT('Efficiency Levels'!$C$16,1),0,\nIF(RIGHT($D19,1)=RIGHT('Efficiency Levels'!$C$16,1),SUM(OFFSET(BI13,-RIGHT($D19,1),0,RIGHT($D19,1),1)),\"ERROR\"))))","v":0},{"$f":"IF(BJ$18<STANDARD_YEAR,BJ13,\nIF(RIGHT($D19,1)>RIGHT('Efficiency Levels'!$C$16,1),BJ13,\nIF(RIGHT($D19,1)<RIGHT('Efficiency Levels'!$C$16,1),0,\nIF(RIGHT($D19,1)=RIGHT('Efficiency Levels'!$C$16,1),SUM(OFFSET(BJ13,-RIGHT($D19,1),0,RIGHT($D19,1),1)),\"ERROR\"))))","v":0}]
[null,null,null,"EL1",{"$f":"OFFSET('Efficiency Levels'!$D$11,MATCH($C$9,'Efficiency Levels'!$C$9:$C$995,0)+RIGHT(D20,1),0)","v":246},null,null,null,{"$f":"IF(I$18<STANDARD_YEAR,I14,\nIF(RIGHT($D20,1)>RIGHT('Efficiency Levels'!$C$16,1),I14,\nIF(RIGHT($D20,1)<RIGHT('Efficiency Levels'!$C$16,1),0,\nIF(RIGHT($D20,1)=RIGHT('Efficiency Levels'!$C$16,1),SUM(OFFSET(I14,-RIGHT($D20,1),0,RIGHT($D20,1),1)),\"ERROR\"))))","v":0},{"$f":"IF(J$18<STANDARD_YEAR,J14,\nIF(RIGHT($D20,1)>RIGHT('Efficiency Levels'!$C$16,1),J14,\nIF(RIGHT($D20,1)<RIGHT('Efficiency Levels'!$C$16,1),0,\nIF(RIGHT($D20,1)=RIGHT('Efficiency Levels'!$C$16,1),SUM(OFFSET(J14,-RIGHT($D20,1),0,RIGHT($D20,1),1)),\"ERROR\"))))","v":0},{"$f":"IF(K$18<STANDARD_YEAR,K14,\nIF(RIGHT($D20,1)>RIGHT('Efficiency Levels'!$C$16,1),K14,\nIF(RIGHT($D20,1)<RIGHT('Efficiency Levels'!$C$16,1),0,\nIF(RIGHT($D20,1)=RIGHT('Efficiency Levels'!$C$16,1),SUM(OFFSET(K14,-RIGHT($D20,1),0,RIGHT($D20,1),1)),\"ERROR\"))))","v":0},{"$f":"IF(L$18<STANDARD_YEAR,L14,\nIF(RIGHT($D20,1)>RIGHT('Efficiency Levels'!$C$16,1),L14,\nIF(RIGHT($D20,1)<RIGHT('Efficiency Levels'!$C$16,1),0,\nIF(RIGHT($D20,1)=RIGHT('Efficiency Levels'!$C$16,1),SUM(OFFSET(L14,-RIGHT($D20,1),0,RIGHT($D20,1),1)),\"ERROR\"))))","v":0},{"$f":"IF(M$18<STANDARD_YEAR,M14,\nIF(RIGHT($D20,1)>RIGHT('Efficiency Levels'!$C$16,1),M14,\nIF(RIGHT($D20,1)<RIGHT('Efficiency Levels'!$C$16,1),0,\nIF(RIGHT($D20,1)=RIGHT('Efficiency Levels'!$C$16,1),SUM(OFFSET(M14,-RIGHT($D20,1),0,RIGHT($D20,1),1)),\"ERROR\"))))","v":0},{"$f":"IF(N$18<STANDARD_YEAR,N14,\nIF(RIGHT($D20,1)>RIGHT('Efficiency Levels'!$C$16,1),N14,\nIF(RIGHT($D20,1)<RIGHT('Efficiency Levels'!$C$16,1),0,\nIF(RIGHT($D20,1)=RIGHT('Efficiency Levels'!$C$16,1),SUM(OFFSET(N14,-RIGHT($D20,1),0,RIGHT($D20,1),1)),\"ERROR\"))))","v":0},{"$f":"IF(O$18<STANDARD_YEAR,O14,\nIF(RIGHT($D20,1)>RIGHT('Efficiency Levels'!$C$16,1),O14,\nIF(RIGHT($D20,1)<RIGHT('Efficiency Levels'!$C$16,1),0,\nIF(RIGHT($D20,1)=RIGHT('Efficiency Levels'!$C$16,1),SUM(OFFSET(O14,-RIGHT($D20,1),0,RIGHT($D20,1),1)),\"ERROR\"))))","v":0},{"$f":"IF(P$18<STANDARD_YEAR,P14,\nIF(RIGHT($D20,1)>RIGHT('Efficiency Levels'!$C$16,1),P14,\nIF(RIGHT($D20,1)<RIGHT('Efficiency Levels'!$C$16,1),0,\nIF(RIGHT($D20,1)=RIGHT('Efficiency Levels'!$C$16,1),SUM(OFFSET(P14,-RIGHT($D20,1),0,RIGHT($D20,1),1)),\"ERROR\"))))","v":0},{"$f":"IF(Q$18<STANDARD_YEAR,Q14,\nIF(RIGHT($D20,1)>RIGHT('Efficiency Levels'!$C$16,1),Q14,\nIF(RIGHT($D20,1)<RIGHT('Efficiency Levels'!$C$16,1),0,\nIF(RIGHT($D20,1)=RIGHT('Efficiency Levels'!$C$16,1),SUM(OFFSET(Q14,-RIGHT($D20,1),0,RIGHT($D20,1),1)),\"ERROR\"))))","v":0},{"$f":"IF(R$18<STANDARD_YEAR,R14,\nIF(RIGHT($D20,1)>RIGHT('Efficiency Levels'!$C$16,1),R14,\nIF(RIGHT($D20,1)<RIGHT('Efficiency Levels'!$C$16,1),0,\nIF(RIGHT($D20,1)=RIGHT('Efficiency Levels'!$C$16,1),SUM(OFFSET(R14,-RIGHT($D20,1),0,RIGHT($D20,1),1)),\"ERROR\"))))","v":0},{"$f":"IF(S$18<STANDARD_YEAR,S14,\nIF(RIGHT($D20,1)>RIGHT('Efficiency Levels'!$C$16,1),S14,\nIF(RIGHT($D20,1)<RIGHT('Efficiency Levels'!$C$16,1),0,\nIF(RIGHT($D20,1)=RIGHT('Efficiency Levels'!$C$16,1),SUM(OFFSET(S14,-RIGHT($D20,1),0,RIGHT($D20,1),1)),\"ERROR\"))))","v":0},{"$f":"IF(T$18<STANDARD_YEAR,T14,\nIF(RIGHT($D20,1)>RIGHT('Efficiency Levels'!$C$16,1),T14,\nIF(RIGHT($D20,1)<RIGHT('Efficiency Levels'!$C$16,1),0,\nIF(RIGHT($D20,1)=RIGHT('Efficiency Levels'!$C$16,1),SUM(OFFSET(T14,-RIGHT($D20,1),0,RIGHT($D20,1),1)),\"ERROR\"))))","v":0},{"$f":"IF(U$18<STANDARD_YEAR,U14,\nIF(RIGHT($D20,1)>RIGHT('Efficiency Levels'!$C$16,1),U14,\nIF(RIGHT($D20,1)<RIGHT('Efficiency Levels'!$C$16,1),0,\nIF(RIGHT($D20,1)=RIGHT('Efficiency Levels'!$C$16,1),SUM(OFFSET(U14,-RIGHT($D20,1),0,RIGHT($D20,1),1)),\"ERROR\"))))","v":0},{"$f":"IF(V$18<STANDARD_YEAR,V14,\nIF(RIGHT($D20,1)>RIGHT('Efficiency Levels'!$C$16,1),V14,\nIF(RIGHT($D20,1)<RIGHT('Efficiency Levels'!$C$16,1),0,\nIF(RIGHT($D20,1)=RIGHT('Efficiency Levels'!$C$16,1),SUM(OFFSET(V14,-RIGHT($D20,1),0,RIGHT($D20,1),1)),\"ERROR\"))))","v":0},{"$f":"IF(W$18<STANDARD_YEAR,W14,\nIF(RIGHT($D20,1)>RIGHT('Efficiency Levels'!$C$16,1),W14,\nIF(RIGHT($D20,1)<RIGHT('Efficiency Levels'!$C$16,1),0,\nIF(RIGHT($D20,1)=RIGHT('Efficiency Levels'!$C$16,1),SUM(OFFSET(W14,-RIGHT($D20,1),0,RIGHT($D20,1),1)),\"ERROR\"))))","v":0},{"$f":"IF(X$18<STANDARD_YEAR,X14,\nIF(RIGHT($D20,1)>RIGHT('Efficiency Levels'!$C$16,1),X14,\nIF(RIGHT($D20,1)<RIGHT('Efficiency Levels'!$C$16,1),0,\nIF(RIGHT($D20,1)=RIGHT('Efficiency Levels'!$C$16,1),SUM(OFFSET(X14,-RIGHT($D20,1),0,RIGHT($D20,1),1)),\"ERROR\"))))","v":0},{"$f":"IF(Y$18<STANDARD_YEAR,Y14,\nIF(RIGHT($D20,1)>RIGHT('Efficiency Levels'!$C$16,1),Y14,\nIF(RIGHT($D20,1)<RIGHT('Efficiency Levels'!$C$16,1),0,\nIF(RIGHT($D20,1)=RIGHT('Efficiency Levels'!$C$16,1),SUM(OFFSET(Y14,-RIGHT($D20,1),0,RIGHT($D20,1),1)),\"ERROR\"))))","v":0},{"$f":"IF(Z$18<STANDARD_YEAR,Z14,\nIF(RIGHT($D20,1)>RIGHT('Efficiency Levels'!$C$16,1),Z14,\nIF(RIGHT($D20,1)<RIGHT('Efficiency Levels'!$C$16,1),0,\nIF(RIGHT($D20,1)=RIGHT('Efficiency Levels'!$C$16,1),SUM(OFFSET(Z14,-RIGHT($D20,1),0,RIGHT($D20,1),1)),\"ERROR\"))))","v":0},{"$f":"IF(AA$18<STANDARD_YEAR,AA14,\nIF(RIGHT($D20,1)>RIGHT('Efficiency Levels'!$C$16,1),AA14,\nIF(RIGHT($D20,1)<RIGHT('Efficiency Levels'!$C$16,1),0,\nIF(RIGHT($D20,1)=RIGHT('Efficiency Levels'!$C$16,1),SUM(OFFSET(AA14,-RIGHT($D20,1),0,RIGHT($D20,1),1)),\"ERROR\"))))","v":0},{"$f":"IF(AB$18<STANDARD_YEAR,AB14,\nIF(RIGHT($D20,1)>RIGHT('Efficiency Levels'!$C$16,1),AB14,\nIF(RIGHT($D20,1)<RIGHT('Efficiency Levels'!$C$16,1),0,\nIF(RIGHT($D20,1)=RIGHT('Efficiency Levels'!$C$16,1),SUM(OFFSET(AB14,-RIGHT($D20,1),0,RIGHT($D20,1),1)),\"ERROR\"))))","v":0},{"$f":"IF(AC$18<STANDARD_YEAR,AC14,\nIF(RIGHT($D20,1)>RIGHT('Efficiency Levels'!$C$16,1),AC14,\nIF(RIGHT($D20,1)<RIGHT('Efficiency Levels'!$C$16,1),0,\nIF(RIGHT($D20,1)=RIGHT('Efficiency Levels'!$C$16,1),SUM(OFFSET(AC14,-RIGHT($D20,1),0,RIGHT($D20,1),1)),\"ERROR\"))))","v":0},{"$f":"IF(AD$18<STANDARD_YEAR,AD14,\nIF(RIGHT($D20,1)>RIGHT('Efficiency Levels'!$C$16,1),AD14,\nIF(RIGHT($D20,1)<RIGHT('Efficiency Levels'!$C$16,1),0,\nIF(RIGHT($D20,1)=RIGHT('Efficiency Levels'!$C$16,1),SUM(OFFSET(AD14,-RIGHT($D20,1),0,RIGHT($D20,1),1)),\"ERROR\"))))","v":0},{"$f":"IF(AE$18<STANDARD_YEAR,AE14,\nIF(RIGHT($D20,1)>RIGHT('Efficiency Levels'!$C$16,1),AE14,\nIF(RIGHT($D20,1)<RIGHT('Efficiency Levels'!$C$16,1),0,\nIF(RIGHT($D20,1)=RIGHT('Efficiency Levels'!$C$16,1),SUM(OFFSET(AE14,-RIGHT($D20,1),0,RIGHT($D20,1),1)),\"ERROR\"))))","v":0},{"$f":"IF(AF$18<STANDARD_YEAR,AF14,\nIF(RIGHT($D20,1)>RIGHT('Efficiency Levels'!$C$16,1),AF14,\nIF(RIGHT($D20,1)<RIGHT('Efficiency Levels'!$C$16,1),0,\nIF(RIGHT($D20,1)=RIGHT('Efficiency Levels'!$C$16,1),SUM(OFFSET(AF14,-RIGHT($D20,1),0,RIGHT($D20,1),1)),\"ERROR\"))))","v":0},{"$f":"IF(AG$18<STANDARD_YEAR,AG14,\nIF(RIGHT($D20,1)>RIGHT('Efficiency Levels'!$C$16,1),AG14,\nIF(RIGHT($D20,1)<RIGHT('Efficiency Levels'!$C$16,1),0,\nIF(RIGHT($D20,1)=RIGHT('Efficiency Levels'!$C$16,1),SUM(OFFSET(AG14,-RIGHT($D20,1),0,RIGHT($D20,1),1)),\"ERROR\"))))","v":0},{"$f":"IF(AH$18<STANDARD_YEAR,AH14,\nIF(RIGHT($D20,1)>RIGHT('Efficiency Levels'!$C$16,1),AH14,\nIF(RIGHT($D20,1)<RIGHT('Efficiency Levels'!$C$16,1),0,\nIF(RIGHT($D20,1)=RIGHT('Efficiency Levels'!$C$16,1),SUM(OFFSET(AH14,-RIGHT($D20,1),0,RIGHT($D20,1),1)),\"ERROR\"))))","v":0},{"$f":"IF(AI$18<STANDARD_YEAR,AI14,\nIF(RIGHT($D20,1)>RIGHT('Efficiency Levels'!$C$16,1),AI14,\nIF(RIGHT($D20,1)<RIGHT('Efficiency Levels'!$C$16,1),0,\nIF(RIGHT($D20,1)=RIGHT('Efficiency Levels'!$C$16,1),SUM(OFFSET(AI14,-RIGHT($D20,1),0,RIGHT($D20,1),1)),\"ERROR\"))))","v":0},{"$f":"IF(AJ$18<STANDARD_YEAR,AJ14,\nIF(RIGHT($D20,1)>RIGHT('Efficiency Levels'!$C$16,1),AJ14,\nIF(RIGHT($D20,1)<RIGHT('Efficiency Levels'!$C$16,1),0,\nIF(RIGHT($D20,1)=RIGHT('Efficiency Levels'!$C$16,1),SUM(OFFSET(AJ14,-RIGHT($D20,1),0,RIGHT($D20,1),1)),\"ERROR\"))))","v":0},{"$f":"IF(AK$18<STANDARD_YEAR,AK14,\nIF(RIGHT($D20,1)>RIGHT('Efficiency Levels'!$C$16,1),AK14,\nIF(RIGHT($D20,1)<RIGHT('Efficiency Levels'!$C$16,1),0,\nIF(RIGHT($D20,1)=RIGHT('Efficiency Levels'!$C$16,1),SUM(OFFSET(AK14,-RIGHT($D20,1),0,RIGHT($D20,1),1)),\"ERROR\"))))","v":0},{"$f":"IF(AL$18<STANDARD_YEAR,AL14,\nIF(RIGHT($D20,1)>RIGHT('Efficiency Levels'!$C$16,1),AL14,\nIF(RIGHT($D20,1)<RIGHT('Efficiency Levels'!$C$16,1),0,\nIF(RIGHT($D20,1)=RIGHT('Efficiency Levels'!$C$16,1),SUM(OFFSET(AL14,-RIGHT($D20,1),0,RIGHT($D20,1),1)),\"ERROR\"))))","v":0},{"$f":"IF(AM$18<STANDARD_YEAR,AM14,\nIF(RIGHT($D20,1)>RIGHT('Efficiency Levels'!$C$16,1),AM14,\nIF(RIGHT($D20,1)<RIGHT('Efficiency Levels'!$C$16,1),0,\nIF(RIGHT($D20,1)=RIGHT('Efficiency Levels'!$C$16,1),SUM(OFFSET(AM14,-RIGHT($D20,1),0,RIGHT($D20,1),1)),\"ERROR\"))))","v":0},{"$f":"IF(AN$18<STANDARD_YEAR,AN14,\nIF(RIGHT($D20,1)>RIGHT('Efficiency Levels'!$C$16,1),AN14,\nIF(RIGHT($D20,1)<RIGHT('Efficiency Levels'!$C$16,1),0,\nIF(RIGHT($D20,1)=RIGHT('Efficiency Levels'!$C$16,1),SUM(OFFSET(AN14,-RIGHT($D20,1),0,RIGHT($D20,1),1)),\"ERROR\"))))","v":0},{"$f":"IF(AO$18<STANDARD_YEAR,AO14,\nIF(RIGHT($D20,1)>RIGHT('Efficiency Levels'!$C$16,1),AO14,\nIF(RIGHT($D20,1)<RIGHT('Efficiency Levels'!$C$16,1),0,\nIF(RIGHT($D20,1)=RIGHT('Efficiency Levels'!$C$16,1),SUM(OFFSET(AO14,-RIGHT($D20,1),0,RIGHT($D20,1),1)),\"ERROR\"))))","v":0},{"$f":"IF(AP$18<STANDARD_YEAR,AP14,\nIF(RIGHT($D20,1)>RIGHT('Efficiency Levels'!$C$16,1),AP14,\nIF(RIGHT($D20,1)<RIGHT('Efficiency Levels'!$C$16,1),0,\nIF(RIGHT($D20,1)=RIGHT('Efficiency Levels'!$C$16,1),SUM(OFFSET(AP14,-RIGHT($D20,1),0,RIGHT($D20,1),1)),\"ERROR\"))))","v":0},{"$f":"IF(AQ$18<STANDARD_YEAR,AQ14,\nIF(RIGHT($D20,1)>RIGHT('Efficiency Levels'!$C$16,1),AQ14,\nIF(RIGHT($D20,1)<RIGHT('Efficiency Levels'!$C$16,1),0,\nIF(RIGHT($D20,1)=RIGHT('Efficiency Levels'!$C$16,1),SUM(OFFSET(AQ14,-RIGHT($D20,1),0,RIGHT($D20,1),1)),\"ERROR\"))))","v":0},{"$f":"IF(AR$18<STANDARD_YEAR,AR14,\nIF(RIGHT($D20,1)>RIGHT('Efficiency Levels'!$C$16,1),AR14,\nIF(RIGHT($D20,1)<RIGHT('Efficiency Levels'!$C$16,1),0,\nIF(RIGHT($D20,1)=RIGHT('Efficiency Levels'!$C$16,1),SUM(OFFSET(AR14,-RIGHT($D20,1),0,RIGHT($D20,1),1)),\"ERROR\"))))","v":0},{"$f":"IF(AS$18<STANDARD_YEAR,AS14,\nIF(RIGHT($D20,1)>RIGHT('Efficiency Levels'!$C$16,1),AS14,\nIF(RIGHT($D20,1)<RIGHT('Efficiency Levels'!$C$16,1),0,\nIF(RIGHT($D20,1)=RIGHT('Efficiency Levels'!$C$16,1),SUM(OFFSET(AS14,-RIGHT($D20,1),0,RIGHT($D20,1),1)),\"ERROR\"))))","v":0},{"$f":"IF(AT$18<STANDARD_YEAR,AT14,\nIF(RIGHT($D20,1)>RIGHT('Efficiency Levels'!$C$16,1),AT14,\nIF(RIGHT($D20,1)<RIGHT('Efficiency Levels'!$C$16,1),0,\nIF(RIGHT($D20,1)=RIGHT('Efficiency Levels'!$C$16,1),SUM(OFFSET(AT14,-RIGHT($D20,1),0,RIGHT($D20,1),1)),\"ERROR\"))))","v":0},{"$f":"IF(AU$18<STANDARD_YEAR,AU14,\nIF(RIGHT($D20,1)>RIGHT('Efficiency Levels'!$C$16,1),AU14,\nIF(RIGHT($D20,1)<RIGHT('Efficiency Levels'!$C$16,1),0,\nIF(RIGHT($D20,1)=RIGHT('Efficiency Levels'!$C$16,1),SUM(OFFSET(AU14,-RIGHT($D20,1),0,RIGHT($D20,1),1)),\"ERROR\"))))","v":1},{"$f":"IF(AV$18<STANDARD_YEAR,AV14,\nIF(RIGHT($D20,1)>RIGHT('Efficiency Levels'!$C$16,1),AV14,\nIF(RIGHT($D20,1)<RIGHT('Efficiency Levels'!$C$16,1),0,\nIF(RIGHT($D20,1)=RIGHT('Efficiency Levels'!$C$16,1),SUM(OFFSET(AV14,-RIGHT($D20,1),0,RIGHT($D20,1),1)),\"ERROR\"))))","v":1},{"$f":"IF(AW$18<STANDARD_YEAR,AW14,\nIF(RIGHT($D20,1)>RIGHT('Efficiency Levels'!$C$16,1),AW14,\nIF(RIGHT($D20,1)<RIGHT('Efficiency Levels'!$C$16,1),0,\nIF(RIGHT($D20,1)=RIGHT('Efficiency Levels'!$C$16,1),SUM(OFFSET(AW14,-RIGHT($D20,1),0,RIGHT($D20,1),1)),\"ERROR\"))))","v":1},{"$f":"IF(AX$18<STANDARD_YEAR,AX14,\nIF(RIGHT($D20,1)>RIGHT('Efficiency Levels'!$C$16,1),AX14,\nIF(RIGHT($D20,1)<RIGHT('Efficiency Levels'!$C$16,1),0,\nIF(RIGHT($D20,1)=RIGHT('Efficiency Levels'!$C$16,1),SUM(OFFSET(AX14,-RIGHT($D20,1),0,RIGHT($D20,1),1)),\"ERROR\"))))","v":1},{"$f":"IF(AY$18<STANDARD_YEAR,AY14,\nIF(RIGHT($D20,1)>RIGHT('Efficiency Levels'!$C$16,1),AY14,\nIF(RIGHT($D20,1)<RIGHT('Efficiency Levels'!$C$16,1),0,\nIF(RIGHT($D20,1)=RIGHT('Efficiency Levels'!$C$16,1),SUM(OFFSET(AY14,-RIGHT($D20,1),0,RIGHT($D20,1),1)),\"ERROR\"))))","v":1},{"$f":"IF(AZ$18<STANDARD_YEAR,AZ14,\nIF(RIGHT($D20,1)>RIGHT('Efficiency Levels'!$C$16,1),AZ14,\nIF(RIGHT($D20,1)<RIGHT('Efficiency Levels'!$C$16,1),0,\nIF(RIGHT($D20,1)=RIGHT('Efficiency Levels'!$C$16,1),SUM(OFFSET(AZ14,-RIGHT($D20,1),0,RIGHT($D20,1),1)),\"ERROR\"))))","v":1},{"$f":"IF(BA$18<STANDARD_YEAR,BA14,\nIF(RIGHT($D20,1)>RIGHT('Efficiency Levels'!$C$16,1),BA14,\nIF(RIGHT($D20,1)<RIGHT('Efficiency Levels'!$C$16,1),0,\nIF(RIGHT($D20,1)=RIGHT('Efficiency Levels'!$C$16,1),SUM(OFFSET(BA14,-RIGHT($D20,1),0,RIGHT($D20,1),1)),\"ERROR\"))))","v":1},{"$f":"IF(BB$18<STANDARD_YEAR,BB14,\nIF(RIGHT($D20,1)>RIGHT('Efficiency Levels'!$C$16,1),BB14,\nIF(RIGHT($D20,1)<RIGHT('Efficiency Levels'!$C$16,1),0,\nIF(RIGHT($D20,1)=RIGHT('Efficiency Levels'!$C$16,1),SUM(OFFSET(BB14,-RIGHT($D20,1),0,RIGHT($D20,1),1)),\"ERROR\"))))","v":1},{"$f":"IF(BC$18<STANDARD_YEAR,BC14,\nIF(RIGHT($D20,1)>RIGHT('Efficiency Levels'!$C$16,1),BC14,\nIF(RIGHT($D20,1)<RIGHT('Efficiency Levels'!$C$16,1),0,\nIF(RIGHT($D20,1)=RIGHT('Efficiency Levels'!$C$16,1),SUM(OFFSET(BC14,-RIGHT($D20,1),0,RIGHT($D20,1),1)),\"ERROR\"))))","v":1},{"$f":"IF(BD$18<STANDARD_YEAR,BD14,\nIF(RIGHT($D20,1)>RIGHT('Efficiency Levels'!$C$16,1),BD14,\nIF(RIGHT($D20,1)<RIGHT('Efficiency Levels'!$C$16,1),0,\nIF(RIGHT($D20,1)=RIGHT('Efficiency Levels'!$C$16,1),SUM(OFFSET(BD14,-RIGHT($D20,1),0,RIGHT($D20,1),1)),\"ERROR\"))))","v":1},{"$f":"IF(BE$18<STANDARD_YEAR,BE14,\nIF(RIGHT($D20,1)>RIGHT('Efficiency Levels'!$C$16,1),BE14,\nIF(RIGHT($D20,1)<RIGHT('Efficiency Levels'!$C$16,1),0,\nIF(RIGHT($D20,1)=RIGHT('Efficiency Levels'!$C$16,1),SUM(OFFSET(BE14,-RIGHT($D20,1),0,RIGHT($D20,1),1)),\"ERROR\"))))","v":1},{"$f":"IF(BF$18<STANDARD_YEAR,BF14,\nIF(RIGHT($D20,1)>RIGHT('Efficiency Levels'!$C$16,1),BF14,\nIF(RIGHT($D20,1)<RIGHT('Efficiency Levels'!$C$16,1),0,\nIF(RIGHT($D20,1)=RIGHT('Efficiency Levels'!$C$16,1),SUM(OFFSET(BF14,-RIGHT($D20,1),0,RIGHT($D20,1),1)),\"ERROR\"))))","v":1},{"$f":"IF(BG$18<STANDARD_YEAR,BG14,\nIF(RIGHT($D20,1)>RIGHT('Efficiency Levels'!$C$16,1),BG14,\nIF(RIGHT($D20,1)<RIGHT('Efficiency Levels'!$C$16,1),0,\nIF(RIGHT($D20,1)=RIGHT('Efficiency Levels'!$C$16,1),SUM(OFFSET(BG14,-RIGHT($D20,1),0,RIGHT($D20,1),1)),\"ERROR\"))))","v":1},{"$f":"IF(BH$18<STANDARD_YEAR,BH14,\nIF(RIGHT($D20,1)>RIGHT('Efficiency Levels'!$C$16,1),BH14,\nIF(RIGHT($D20,1)<RIGHT('Efficiency Levels'!$C$16,1),0,\nIF(RIGHT($D20,1)=RIGHT('Efficiency Levels'!$C$16,1),SUM(OFFSET(BH14,-RIGHT($D20,1),0,RIGHT($D20,1),1)),\"ERROR\"))))","v":1},{"$f":"IF(BI$18<STANDARD_YEAR,BI14,\nIF(RIGHT($D20,1)>RIGHT('Efficiency Levels'!$C$16,1),BI14,\nIF(RIGHT($D20,1)<RIGHT('Efficiency Levels'!$C$16,1),0,\nIF(RIGHT($D20,1)=RIGHT('Efficiency Levels'!$C$16,1),SUM(OFFSET(BI14,-RIGHT($D20,1),0,RIGHT($D20,1),1)),\"ERROR\"))))","v":1},{"$f":"IF(BJ$18<STANDARD_YEAR,BJ14,\nIF(RIGHT($D20,1)>RIGHT('Efficiency Levels'!$C$16,1),BJ14,\nIF(RIGHT($D20,1)<RIGHT('Efficiency Levels'!$C$16,1),0,\nIF(RIGHT($D20,1)=RIGHT('Efficiency Levels'!$C$16,1),SUM(OFFSET(BJ14,-RIGHT($D20,1),0,RIGHT($D20,1),1)),\"ERROR\"))))","v":1}]
[null,null,null,"TOTAL",null,null,null,null,{"$f":"SUM(I19:I20)","v":1},{"$f":"SUM(J19:J20)","v":1},1,1,1,1,1,1,1,{"$f":"SUM(R19:R20)","v":1},1,1,1,1,1,1,1,1,1,1,1,1,1,1,1,1,1,1,1,1,1,1,1,1,1,1,1,1,1,1,1,1,1,1,1,1,1,1,1,1,1,1,1,1]
[]
[null,null,null,"Sources","Placeholder Values Assumes All Pre-Case Shipments are the Least Energy Efficient Products"]
[]
[]
[]
[null,null,"PC2",{"$f":"OFFSET('Product Classes'!$C$9,MATCH(C27,MODEL_PCS,0),0)","v":"Electric Cooking Tops—Low or High Wattage Open (Coil) Elements"}]
[]
[null,null,null,"PRE-Case",null,"Static Distribution"]
[null,null,null,"Efficiency Level","UEC (kWh / year)",2011,null,null,1981,1982,1983,1984,1985,1986,1987,1988,1989,1990,1991,1992,1993,1994,1995,1996,1997,1998,1999,2000,2001,2002,2003,2004,2005,2006,2007,2008,2009,2010,2011,2012,2013,2014,2015,2016,2017,2018,2019,2020,2021,2022,2023,2024,2025,2026,2027,2028,2029,2030,2031,2032,2033,2034]
[null,null,null,"EL0",{"$f":"OFFSET('Efficiency Levels'!$D$11,MATCH($C$27,'Efficiency Levels'!$C$9:$C$995,0)+RIGHT(D31,1),0)","v":280.60000000000002},1,null,null,{"$f":"$F31","v":1},1,1,1,1,1,1,1,1,{"$f":"$F31","v":1},1,1,1,1,1,1,1,1,1,1,1,1,1,1,1,{"$f":"$F31","v":1},1,1,1,1,1,1,1,1,1,1,1,1,1,1,1,1,1,1,1,1,1,1,1,1,1,1,1,1]
[null,null,null,"EL1",{"$f":"OFFSET('Efficiency Levels'!$D$11,MATCH($C$27,'Efficiency Levels'!$C$9:$C$995,0)+RIGHT(D32,1),0)","v":268.60000000000002},0,null,null,0,0,0,0,0,0,0,0,0,0,0,0,0,0,0,0,0,0,0,0,0,0,0,0,0,0,0,0,0,0,0,0,0,0,0,0,0,0,0,0,0,0,0,0,0,0,0,0,0,0,0,0,0,0]
[null,null,null,"EL2",{"$f":"OFFSET('Efficiency Levels'!$D$11,MATCH($C$27,'Efficiency Levels'!$C$9:$C$995,0)+RIGHT(D33,1),0)","v":263.5},0,null,null,0,0,0,0,0,0,0,0,0,0,0,0,0,0,0,0,0,0,0,0,0,0,0,0,0,0,0,0,0,0,0,0,0,0,0,0,0,0,0,0,0,0,0,0,0,0,0,0,0,0,0,0,0,0]
[null,null,null,"EL3",{"$f":"OFFSET('Efficiency Levels'!$D$11,MATCH($C$27,'Efficiency Levels'!$C$9:$C$995,0)+RIGHT(D34,1),0)","v":259.8},0,null,null,0,0,0,0,0,0,0,0,0,0,0,0,0,0,0,0,0,0,0,0,0,0,0,0,0,0,0,0,0,0,0,0,0,0,0,0,0,0,0,0,0,0,0,0,0,0,0,0,0,0,0,0,0,0]
[null,null,null,"EL4",{"$f":"OFFSET('Efficiency Levels'!$D$11,MATCH($C$27,'Efficiency Levels'!$C$9:$C$995,0)+RIGHT(D35,1),0)","v":245.9},0,null,null,0,0,0,0,0,0,0,0,0,0,0,0,0,0,0,0,0,0,0,0,0,0,0,0,0,0,0,0,0,0,0,0,0,0,0,0,0,0,0,0,0,0,0,0,0,0,0,0,0,0,0,0,0,0]
[null,null,null,"EL5",{"$f":"OFFSET('Efficiency Levels'!$D$11,MATCH($C$27,'Efficiency Levels'!$C$9:$C$995,0)+RIGHT(D36,1),0)","v":240.7},0,null,null,0,0,0,0,0,0,0,0,0,0,0,0,0,0,0,0,0,0,0,0,0,0,0,0,0,0,0,0,0,0,0,0,0,0,0,0,0,0,0,0,0,0,0,0,0,0,0,0,0,0,0,0,0,0]
[null,null,null,"TOTAL",null,{"$f":"SUM(F31:F36)","v":1},null,null,{"$f":"SUM(I31:I36)","v":1},{"$f":"SUM(J31:J36)","v":1},1,1,1,1,1,1,1,{"$f":"SUM(R31:R36)","v":1},1,1,1,1,1,1,1,1,1,1,1,1,1,1,1,1,1,1,1,1,1,1,1,1,1,1,1,1,1,1,1,1,1,1,1,1,1,1,1,1,1,1,1,1]
[]
[null,null,null,"POST-Case"]
[null,null,null,"Efficiency Level","UEC (kWh / year)",null,null,null,1981,1982,1983,1984,1985,1986,1987,1988,1989,1990,1991,1992,1993,1994,1995,1996,1997,1998,1999,2000,2001,2002,2003,2004,2005,2006,2007,2008,2009,2010,2011,2012,2013,2014,2015,2016,2017,2018,2019,2020,2021,2022,2023,2024,2025,2026,2027,2028,2029,2030,2031,2032,2033,2034]
[null,null,null,"EL0",{"$f":"OFFSET('Efficiency Levels'!$D$11,MATCH($C$27,'Efficiency Levels'!$C$9:$C$995,0)+RIGHT(D41,1),0)","v":280.60000000000002},null,null,null,{"$f":"IF(I$18<STANDARD_YEAR,I31,\nIF(RIGHT($D41,1)>RIGHT('Efficiency Levels'!$C$33,1),I31,\nIF(RIGHT($D41,1)<RIGHT('Efficiency Levels'!$C$33,1),0,\nIF(RIGHT($D41,1)=RIGHT('Efficiency Levels'!$C$33,1),SUM(OFFSET(I31,-RIGHT($D41,1),0,RIGHT($D41,1),1)),\"ERROR\"))))","v":1},{"$f":"IF(J$18<STANDARD_YEAR,J31,\nIF(RIGHT($D41,1)>RIGHT('Efficiency Levels'!$C$33,1),J31,\nIF(RIGHT($D41,1)<RIGHT('Efficiency Levels'!$C$33,1),0,\nIF(RIGHT($D41,1)=RIGHT('Efficiency Levels'!$C$33,1),SUM(OFFSET(J31,-RIGHT($D41,1),0,RIGHT($D41,1),1)),\"ERROR\"))))","v":1},{"$f":"IF(K$18<STANDARD_YEAR,K31,\nIF(RIGHT($D41,1)>RIGHT('Efficiency Levels'!$C$33,1),K31,\nIF(RIGHT($D41,1)<RIGHT('Efficiency Levels'!$C$33,1),0,\nIF(RIGHT($D41,1)=RIGHT('Efficiency Levels'!$C$33,1),SUM(OFFSET(K31,-RIGHT($D41,1),0,RIGHT($D41,1),1)),\"ERROR\"))))","v":1},{"$f":"IF(L$18<STANDARD_YEAR,L31,\nIF(RIGHT($D41,1)>RIGHT('Efficiency Levels'!$C$33,1),L31,\nIF(RIGHT($D41,1)<RIGHT('Efficiency Levels'!$C$33,1),0,\nIF(RIGHT($D41,1)=RIGHT('Efficiency Levels'!$C$33,1),SUM(OFFSET(L31,-RIGHT($D41,1),0,RIGHT($D41,1),1)),\"ERROR\"))))","v":1},{"$f":"IF(M$18<STANDARD_YEAR,M31,\nIF(RIGHT($D41,1)>RIGHT('Efficiency Levels'!$C$33,1),M31,\nIF(RIGHT($D41,1)<RIGHT('Efficiency Levels'!$C$33,1),0,\nIF(RIGHT($D41,1)=RIGHT('Efficiency Levels'!$C$33,1),SUM(OFFSET(M31,-RIGHT($D41,1),0,RIGHT($D41,1),1)),\"ERROR\"))))","v":1},{"$f":"IF(N$18<STANDARD_YEAR,N31,\nIF(RIGHT($D41,1)>RIGHT('Efficiency Levels'!$C$33,1),N31,\nIF(RIGHT($D41,1)<RIGHT('Efficiency Levels'!$C$33,1),0,\nIF(RIGHT($D41,1)=RIGHT('Efficiency Levels'!$C$33,1),SUM(OFFSET(N31,-RIGHT($D41,1),0,RIGHT($D41,1),1)),\"ERROR\"))))","v":1},{"$f":"IF(O$18<STANDARD_YEAR,O31,\nIF(RIGHT($D41,1)>RIGHT('Efficiency Levels'!$C$33,1),O31,\nIF(RIGHT($D41,1)<RIGHT('Efficiency Levels'!$C$33,1),0,\nIF(RIGHT($D41,1)=RIGHT('Efficiency Levels'!$C$33,1),SUM(OFFSET(O31,-RIGHT($D41,1),0,RIGHT($D41,1),1)),\"ERROR\"))))","v":1},{"$f":"IF(P$18<STANDARD_YEAR,P31,\nIF(RIGHT($D41,1)>RIGHT('Efficiency Levels'!$C$33,1),P31,\nIF(RIGHT($D41,1)<RIGHT('Efficiency Levels'!$C$33,1),0,\nIF(RIGHT($D41,1)=RIGHT('Efficiency Levels'!$C$33,1),SUM(OFFSET(P31,-RIGHT($D41,1),0,RIGHT($D41,1),1)),\"ERROR\"))))","v":1},{"$f":"IF(Q$18<STANDARD_YEAR,Q31,\nIF(RIGHT($D41,1)>RIGHT('Efficiency Levels'!$C$33,1),Q31,\nIF(RIGHT($D41,1)<RIGHT('Efficiency Levels'!$C$33,1),0,\nIF(RIGHT($D41,1)=RIGHT('Efficiency Levels'!$C$33,1),SUM(OFFSET(Q31,-RIGHT($D41,1),0,RIGHT($D41,1),1)),\"ERROR\"))))","v":1},{"$f":"IF(R$18<STANDARD_YEAR,R31,\nIF(RIGHT($D41,1)>RIGHT('Efficiency Levels'!$C$33,1),R31,\nIF(RIGHT($D41,1)<RIGHT('Efficiency Levels'!$C$33,1),0,\nIF(RIGHT($D41,1)=RIGHT('Efficiency Levels'!$C$33,1),SUM(OFFSET(R31,-RIGHT($D41,1),0,RIGHT($D41,1),1)),\"ERROR\"))))","v":1},{"$f":"IF(S$18<STANDARD_YEAR,S31,\nIF(RIGHT($D41,1)>RIGHT('Efficiency Levels'!$C$33,1),S31,\nIF(RIGHT($D41,1)<RIGHT('Efficiency Levels'!$C$33,1),0,\nIF(RIGHT($D41,1)=RIGHT('Efficiency Levels'!$C$33,1),SUM(OFFSET(S31,-RIGHT($D41,1),0,RIGHT($D41,1),1)),\"ERROR\"))))","v":1},{"$f":"IF(T$18<STANDARD_YEAR,T31,\nIF(RIGHT($D41,1)>RIGHT('Efficiency Levels'!$C$33,1),T31,\nIF(RIGHT($D41,1)<RIGHT('Efficiency Levels'!$C$33,1),0,\nIF(RIGHT($D41,1)=RIGHT('Efficiency Levels'!$C$33,1),SUM(OFFSET(T31,-RIGHT($D41,1),0,RIGHT($D41,1),1)),\"ERROR\"))))","v":1},{"$f":"IF(U$18<STANDARD_YEAR,U31,\nIF(RIGHT($D41,1)>RIGHT('Efficiency Levels'!$C$33,1),U31,\nIF(RIGHT($D41,1)<RIGHT('Efficiency Levels'!$C$33,1),0,\nIF(RIGHT($D41,1)=RIGHT('Efficiency Levels'!$C$33,1),SUM(OFFSET(U31,-RIGHT($D41,1),0,RIGHT($D41,1),1)),\"ERROR\"))))","v":1},{"$f":"IF(V$18<STANDARD_YEAR,V31,\nIF(RIGHT($D41,1)>RIGHT('Efficiency Levels'!$C$33,1),V31,\nIF(RIGHT($D41,1)<RIGHT('Efficiency Levels'!$C$33,1),0,\nIF(RIGHT($D41,1)=RIGHT('Efficiency Levels'!$C$33,1),SUM(OFFSET(V31,-RIGHT($D41,1),0,RIGHT($D41,1),1)),\"ERROR\"))))","v":1},{"$f":"IF(W$18<STANDARD_YEAR,W31,\nIF(RIGHT($D41,1)>RIGHT('Efficiency Levels'!$C$33,1),W31,\nIF(RIGHT($D41,1)<RIGHT('Efficiency Levels'!$C$33,1),0,\nIF(RIGHT($D41,1)=RIGHT('Efficiency Levels'!$C$33,1),SUM(OFFSET(W31,-RIGHT($D41,1),0,RIGHT($D41,1),1)),\"ERROR\"))))","v":1},{"$f":"IF(X$18<STANDARD_YEAR,X31,\nIF(RIGHT($D41,1)>RIGHT('Efficiency Levels'!$C$33,1),X31,\nIF(RIGHT($D41,1)<RIGHT('Efficiency Levels'!$C$33,1),0,\nIF(RIGHT($D41,1)=RIGHT('Efficiency Levels'!$C$33,1),SUM(OFFSET(X31,-RIGHT($D41,1),0,RIGHT($D41,1),1)),\"ERROR\"))))","v":1},{"$f":"IF(Y$18<STANDARD_YEAR,Y31,\nIF(RIGHT($D41,1)>RIGHT('Efficiency Levels'!$C$33,1),Y31,\nIF(RIGHT($D41,1)<RIGHT('Efficiency Levels'!$C$33,1),0,\nIF(RIGHT($D41,1)=RIGHT('Efficiency Levels'!$C$33,1),SUM(OFFSET(Y31,-RIGHT($D41,1),0,RIGHT($D41,1),1)),\"ERROR\"))))","v":1},{"$f":"IF(Z$18<STANDARD_YEAR,Z31,\nIF(RIGHT($D41,1)>RIGHT('Efficiency Levels'!$C$33,1),Z31,\nIF(RIGHT($D41,1)<RIGHT('Efficiency Levels'!$C$33,1),0,\nIF(RIGHT($D41,1)=RIGHT('Efficiency Levels'!$C$33,1),SUM(OFFSET(Z31,-RIGHT($D41,1),0,RIGHT($D41,1),1)),\"ERROR\"))))","v":1},{"$f":"IF(AA$18<STANDARD_YEAR,AA31,\nIF(RIGHT($D41,1)>RIGHT('Efficiency Levels'!$C$33,1),AA31,\nIF(RIGHT($D41,1)<RIGHT('Efficiency Levels'!$C$33,1),0,\nIF(RIGHT($D41,1)=RIGHT('Efficiency Levels'!$C$33,1),SUM(OFFSET(AA31,-RIGHT($D41,1),0,RIGHT($D41,1),1)),\"ERROR\"))))","v":1},{"$f":"IF(AB$18<STANDARD_YEAR,AB31,\nIF(RIGHT($D41,1)>RIGHT('Efficiency Levels'!$C$33,1),AB31,\nIF(RIGHT($D41,1)<RIGHT('Efficiency Levels'!$C$33,1),0,\nIF(RIGHT($D41,1)=RIGHT('Efficiency Levels'!$C$33,1),SUM(OFFSET(AB31,-RIGHT($D41,1),0,RIGHT($D41,1),1)),\"ERROR\"))))","v":1},{"$f":"IF(AC$18<STANDARD_YEAR,AC31,\nIF(RIGHT($D41,1)>RIGHT('Efficiency Levels'!$C$33,1),AC31,\nIF(RIGHT($D41,1)<RIGHT('Efficiency Levels'!$C$33,1),0,\nIF(RIGHT($D41,1)=RIGHT('Efficiency Levels'!$C$33,1),SUM(OFFSET(AC31,-RIGHT($D41,1),0,RIGHT($D41,1),1)),\"ERROR\"))))","v":1},{"$f":"IF(AD$18<STANDARD_YEAR,AD31,\nIF(RIGHT($D41,1)>RIGHT('Efficiency Levels'!$C$33,1),AD31,\nIF(RIGHT($D41,1)<RIGHT('Efficiency Levels'!$C$33,1),0,\nIF(RIGHT($D41,1)=RIGHT('Efficiency Levels'!$C$33,1),SUM(OFFSET(AD31,-RIGHT($D41,1),0,RIGHT($D41,1),1)),\"ERROR\"))))","v":1},{"$f":"IF(AE$18<STANDARD_YEAR,AE31,\nIF(RIGHT($D41,1)>RIGHT('Efficiency Levels'!$C$33,1),AE31,\nIF(RIGHT($D41,1)<RIGHT('Efficiency Levels'!$C$33,1),0,\nIF(RIGHT($D41,1)=RIGHT('Efficiency Levels'!$C$33,1),SUM(OFFSET(AE31,-RIGHT($D41,1),0,RIGHT($D41,1),1)),\"ERROR\"))))","v":1},{"$f":"IF(AF$18<STANDARD_YEAR,AF31,\nIF(RIGHT($D41,1)>RIGHT('Efficiency Levels'!$C$33,1),AF31,\nIF(RIGHT($D41,1)<RIGHT('Efficiency Levels'!$C$33,1),0,\nIF(RIGHT($D41,1)=RIGHT('Efficiency Levels'!$C$33,1),SUM(OFFSET(AF31,-RIGHT($D41,1),0,RIGHT($D41,1),1)),\"ERROR\"))))","v":1},{"$f":"IF(AG$18<STANDARD_YEAR,AG31,\nIF(RIGHT($D41,1)>RIGHT('Efficiency Levels'!$C$33,1),AG31,\nIF(RIGHT($D41,1)<RIGHT('Efficiency Levels'!$C$33,1),0,\nIF(RIGHT($D41,1)=RIGHT('Efficiency Levels'!$C$33,1),SUM(OFFSET(AG31,-RIGHT($D41,1),0,RIGHT($D41,1),1)),\"ERROR\"))))","v":1},{"$f":"IF(AH$18<STANDARD_YEAR,AH31,\nIF(RIGHT($D41,1)>RIGHT('Efficiency Levels'!$C$33,1),AH31,\nIF(RIGHT($D41,1)<RIGHT('Efficiency Levels'!$C$33,1),0,\nIF(RIGHT($D41,1)=RIGHT('Efficiency Levels'!$C$33,1),SUM(OFFSET(AH31,-RIGHT($D41,1),0,RIGHT($D41,1),1)),\"ERROR\"))))","v":1},{"$f":"IF(AI$18<STANDARD_YEAR,AI31,\nIF(RIGHT($D41,1)>RIGHT('Efficiency Levels'!$C$33,1),AI31,\nIF(RIGHT($D41,1)<RIGHT('Efficiency Levels'!$C$33,1),0,\nIF(RIGHT($D41,1)=RIGHT('Efficiency Levels'!$C$33,1),SUM(OFFSET(AI31,-RIGHT($D41,1),0,RIGHT($D41,1),1)),\"ERROR\"))))","v":1},{"$f":"IF(AJ$18<STANDARD_YEAR,AJ31,\nIF(RIGHT($D41,1)>RIGHT('Efficiency Levels'!$C$33,1),AJ31,\nIF(RIGHT($D41,1)<RIGHT('Efficiency Levels'!$C$33,1),0,\nIF(RIGHT($D41,1)=RIGHT('Efficiency Levels'!$C$33,1),SUM(OFFSET(AJ31,-RIGHT($D41,1),0,RIGHT($D41,1),1)),\"ERROR\"))))","v":1},{"$f":"IF(AK$18<STANDARD_YEAR,AK31,\nIF(RIGHT($D41,1)>RIGHT('Efficiency Levels'!$C$33,1),AK31,\nIF(RIGHT($D41,1)<RIGHT('Efficiency Levels'!$C$33,1),0,\nIF(RIGHT($D41,1)=RIGHT('Efficiency Levels'!$C$33,1),SUM(OFFSET(AK31,-RIGHT($D41,1),0,RIGHT($D41,1),1)),\"ERROR\"))))","v":1},{"$f":"IF(AL$18<STANDARD_YEAR,AL31,\nIF(RIGHT($D41,1)>RIGHT('Efficiency Levels'!$C$33,1),AL31,\nIF(RIGHT($D41,1)<RIGHT('Efficiency Levels'!$C$33,1),0,\nIF(RIGHT($D41,1)=RIGHT('Efficiency Levels'!$C$33,1),SUM(OFFSET(AL31,-RIGHT($D41,1),0,RIGHT($D41,1),1)),\"ERROR\"))))","v":1},{"$f":"IF(AM$18<STANDARD_YEAR,AM31,\nIF(RIGHT($D41,1)>RIGHT('Efficiency Levels'!$C$33,1),AM31,\nIF(RIGHT($D41,1)<RIGHT('Efficiency Levels'!$C$33,1),0,\nIF(RIGHT($D41,1)=RIGHT('Efficiency Levels'!$C$33,1),SUM(OFFSET(AM31,-RIGHT($D41,1),0,RIGHT($D41,1),1)),\"ERROR\"))))","v":1},{"$f":"IF(AN$18<STANDARD_YEAR,AN31,\nIF(RIGHT($D41,1)>RIGHT('Efficiency Levels'!$C$33,1),AN31,\nIF(RIGHT($D41,1)<RIGHT('Efficiency Levels'!$C$33,1),0,\nIF(RIGHT($D41,1)=RIGHT('Efficiency Levels'!$C$33,1),SUM(OFFSET(AN31,-RIGHT($D41,1),0,RIGHT($D41,1),1)),\"ERROR\"))))","v":1},{"$f":"IF(AO$18<STANDARD_YEAR,AO31,\nIF(RIGHT($D41,1)>RIGHT('Efficiency Levels'!$C$33,1),AO31,\nIF(RIGHT($D41,1)<RIGHT('Efficiency Levels'!$C$33,1),0,\nIF(RIGHT($D41,1)=RIGHT('Efficiency Levels'!$C$33,1),SUM(OFFSET(AO31,-RIGHT($D41,1),0,RIGHT($D41,1),1)),\"ERROR\"))))","v":1},{"$f":"IF(AP$18<STANDARD_YEAR,AP31,\nIF(RIGHT($D41,1)>RIGHT('Efficiency Levels'!$C$33,1),AP31,\nIF(RIGHT($D41,1)<RIGHT('Efficiency Levels'!$C$33,1),0,\nIF(RIGHT($D41,1)=RIGHT('Efficiency Levels'!$C$33,1),SUM(OFFSET(AP31,-RIGHT($D41,1),0,RIGHT($D41,1),1)),\"ERROR\"))))","v":1},{"$f":"IF(AQ$18<STANDARD_YEAR,AQ31,\nIF(RIGHT($D41,1)>RIGHT('Efficiency Levels'!$C$33,1),AQ31,\nIF(RIGHT($D41,1)<RIGHT('Efficiency Levels'!$C$33,1),0,\nIF(RIGHT($D41,1)=RIGHT('Efficiency Levels'!$C$33,1),SUM(OFFSET(AQ31,-RIGHT($D41,1),0,RIGHT($D41,1),1)),\"ERROR\"))))","v":1},{"$f":"IF(AR$18<STANDARD_YEAR,AR31,\nIF(RIGHT($D41,1)>RIGHT('Efficiency Levels'!$C$33,1),AR31,\nIF(RIGHT($D41,1)<RIGHT('Efficiency Levels'!$C$33,1),0,\nIF(RIGHT($D41,1)=RIGHT('Efficiency Levels'!$C$33,1),SUM(OFFSET(AR31,-RIGHT($D41,1),0,RIGHT($D41,1),1)),\"ERROR\"))))","v":1},{"$f":"IF(AS$18<STANDARD_YEAR,AS31,\nIF(RIGHT($D41,1)>RIGHT('Efficiency Levels'!$C$33,1),AS31,\nIF(RIGHT($D41,1)<RIGHT('Efficiency Levels'!$C$33,1),0,\nIF(RIGHT($D41,1)=RIGHT('Efficiency Levels'!$C$33,1),SUM(OFFSET(AS31,-RIGHT($D41,1),0,RIGHT($D41,1),1)),\"ERROR\"))))","v":1},{"$f":"IF(AT$18<STANDARD_YEAR,AT31,\nIF(RIGHT($D41,1)>RIGHT('Efficiency Levels'!$C$33,1),AT31,\nIF(RIGHT($D41,1)<RIGHT('Efficiency Levels'!$C$33,1),0,\nIF(RIGHT($D41,1)=RIGHT('Efficiency Levels'!$C$33,1),SUM(OFFSET(AT31,-RIGHT($D41,1),0,RIGHT($D41,1),1)),\"ERROR\"))))","v":1},{"$f":"IF(AU$18<STANDARD_YEAR,AU31,\nIF(RIGHT($D41,1)>RIGHT('Efficiency Levels'!$C$33,1),AU31,\nIF(RIGHT($D41,1)<RIGHT('Efficiency Levels'!$C$33,1),0,\nIF(RIGHT($D41,1)=RIGHT('Efficiency Levels'!$C$33,1),SUM(OFFSET(AU31,-RIGHT($D41,1),0,RIGHT($D41,1),1)),\"ERROR\"))))","v":0},{"$f":"IF(AV$18<STANDARD_YEAR,AV31,\nIF(RIGHT($D41,1)>RIGHT('Efficiency Levels'!$C$33,1),AV31,\nIF(RIGHT($D41,1)<RIGHT('Efficiency Levels'!$C$33,1),0,\nIF(RIGHT($D41,1)=RIGHT('Efficiency Levels'!$C$33,1),SUM(OFFSET(AV31,-RIGHT($D41,1),0,RIGHT($D41,1),1)),\"ERROR\"))))","v":0},{"$f":"IF(AW$18<STANDARD_YEAR,AW31,\nIF(RIGHT($D41,1)>RIGHT('Efficiency Levels'!$C$33,1),AW31,\nIF(RIGHT($D41,1)<RIGHT('Efficiency Levels'!$C$33,1),0,\nIF(RIGHT($D41,1)=RIGHT('Efficiency Levels'!$C$33,1),SUM(OFFSET(AW31,-RIGHT($D41,1),0,RIGHT($D41,1),1)),\"ERROR\"))))","v":0},{"$f":"IF(AX$18<STANDARD_YEAR,AX31,\nIF(RIGHT($D41,1)>RIGHT('Efficiency Levels'!$C$33,1),AX31,\nIF(RIGHT($D41,1)<RIGHT('Efficiency Levels'!$C$33,1),0,\nIF(RIGHT($D41,1)=RIGHT('Efficiency Levels'!$C$33,1),SUM(OFFSET(AX31,-RIGHT($D41,1),0,RIGHT($D41,1),1)),\"ERROR\"))))","v":0},{"$f":"IF(AY$18<STANDARD_YEAR,AY31,\nIF(RIGHT($D41,1)>RIGHT('Efficiency Levels'!$C$33,1),AY31,\nIF(RIGHT($D41,1)<RIGHT('Efficiency Levels'!$C$33,1),0,\nIF(RIGHT($D41,1)=RIGHT('Efficiency Levels'!$C$33,1),SUM(OFFSET(AY31,-RIGHT($D41,1),0,RIGHT($D41,1),1)),\"ERROR\"))))","v":0},{"$f":"IF(AZ$18<STANDARD_YEAR,AZ31,\nIF(RIGHT($D41,1)>RIGHT('Efficiency Levels'!$C$33,1),AZ31,\nIF(RIGHT($D41,1)<RIGHT('Efficiency Levels'!$C$33,1),0,\nIF(RIGHT($D41,1)=RIGHT('Efficiency Levels'!$C$33,1),SUM(OFFSET(AZ31,-RIGHT($D41,1),0,RIGHT($D41,1),1)),\"ERROR\"))))","v":0},{"$f":"IF(BA$18<STANDARD_YEAR,BA31,\nIF(RIGHT($D41,1)>RIGHT('Efficiency Levels'!$C$33,1),BA31,\nIF(RIGHT($D41,1)<RIGHT('Efficiency Levels'!$C$33,1),0,\nIF(RIGHT($D41,1)=RIGHT('Efficiency Levels'!$C$33,1),SUM(OFFSET(BA31,-RIGHT($D41,1),0,RIGHT($D41,1),1)),\"ERROR\"))))","v":0},{"$f":"IF(BB$18<STANDARD_YEAR,BB31,\nIF(RIGHT($D41,1)>RIGHT('Efficiency Levels'!$C$33,1),BB31,\nIF(RIGHT($D41,1)<RIGHT('Efficiency Levels'!$C$33,1),0,\nIF(RIGHT($D41,1)=RIGHT('Efficiency Levels'!$C$33,1),SUM(OFFSET(BB31,-RIGHT($D41,1),0,RIGHT($D41,1),1)),\"ERROR\"))))","v":0},{"$f":"IF(BC$18<STANDARD_YEAR,BC31,\nIF(RIGHT($D41,1)>RIGHT('Efficiency Levels'!$C$33,1),BC31,\nIF(RIGHT($D41,1)<RIGHT('Efficiency Levels'!$C$33,1),0,\nIF(RIGHT($D41,1)=RIGHT('Efficiency Levels'!$C$33,1),SUM(OFFSET(BC31,-RIGHT($D41,1),0,RIGHT($D41,1),1)),\"ERROR\"))))","v":0},{"$f":"IF(BD$18<STANDARD_YEAR,BD31,\nIF(RIGHT($D41,1)>RIGHT('Efficiency Levels'!$C$33,1),BD31,\nIF(RIGHT($D41,1)<RIGHT('Efficiency Levels'!$C$33,1),0,\nIF(RIGHT($D41,1)=RIGHT('Efficiency Levels'!$C$33,1),SUM(OFFSET(BD31,-RIGHT($D41,1),0,RIGHT($D41,1),1)),\"ERROR\"))))","v":0},{"$f":"IF(BE$18<STANDARD_YEAR,BE31,\nIF(RIGHT($D41,1)>RIGHT('Efficiency Levels'!$C$33,1),BE31,\nIF(RIGHT($D41,1)<RIGHT('Efficiency Levels'!$C$33,1),0,\nIF(RIGHT($D41,1)=RIGHT('Efficiency Levels'!$C$33,1),SUM(OFFSET(BE31,-RIGHT($D41,1),0,RIGHT($D41,1),1)),\"ERROR\"))))","v":0},{"$f":"IF(BF$18<STANDARD_YEAR,BF31,\nIF(RIGHT($D41,1)>RIGHT('Efficiency Levels'!$C$33,1),BF31,\nIF(RIGHT($D41,1)<RIGHT('Efficiency Levels'!$C$33,1),0,\nIF(RIGHT($D41,1)=RIGHT('Efficiency Levels'!$C$33,1),SUM(OFFSET(BF31,-RIGHT($D41,1),0,RIGHT($D41,1),1)),\"ERROR\"))))","v":0},{"$f":"IF(BG$18<STANDARD_YEAR,BG31,\nIF(RIGHT($D41,1)>RIGHT('Efficiency Levels'!$C$33,1),BG31,\nIF(RIGHT($D41,1)<RIGHT('Efficiency Levels'!$C$33,1),0,\nIF(RIGHT($D41,1)=RIGHT('Efficiency Levels'!$C$33,1),SUM(OFFSET(BG31,-RIGHT($D41,1),0,RIGHT($D41,1),1)),\"ERROR\"))))","v":0},{"$f":"IF(BH$18<STANDARD_YEAR,BH31,\nIF(RIGHT($D41,1)>RIGHT('Efficiency Levels'!$C$33,1),BH31,\nIF(RIGHT($D41,1)<RIGHT('Efficiency Levels'!$C$33,1),0,\nIF(RIGHT($D41,1)=RIGHT('Efficiency Levels'!$C$33,1),SUM(OFFSET(BH31,-RIGHT($D41,1),0,RIGHT($D41,1),1)),\"ERROR\"))))","v":0},{"$f":"IF(BI$18<STANDARD_YEAR,BI31,\nIF(RIGHT($D41,1)>RIGHT('Efficiency Levels'!$C$33,1),BI31,\nIF(RIGHT($D41,1)<RIGHT('Efficiency Levels'!$C$33,1),0,\nIF(RIGHT($D41,1)=RIGHT('Efficiency Levels'!$C$33,1),SUM(OFFSET(BI31,-RIGHT($D41,1),0,RIGHT($D41,1),1)),\"ERROR\"))))","v":0},{"$f":"IF(BJ$18<STANDARD_YEAR,BJ31,\nIF(RIGHT($D41,1)>RIGHT('Efficiency Levels'!$C$33,1),BJ31,\nIF(RIGHT($D41,1)<RIGHT('Efficiency Levels'!$C$33,1),0,\nIF(RIGHT($D41,1)=RIGHT('Efficiency Levels'!$C$33,1),SUM(OFFSET(BJ31,-RIGHT($D41,1),0,RIGHT($D41,1),1)),\"ERROR\"))))","v":0}]
[null,null,null,"EL1",{"$f":"OFFSET('Efficiency Levels'!$D$11,MATCH($C$27,'Efficiency Levels'!$C$9:$C$995,0)+RIGHT(D42,1),0)","v":268.60000000000002},null,null,null,{"$f":"IF(I$18<STANDARD_YEAR,I32,\nIF(RIGHT($D42,1)>RIGHT('Efficiency Levels'!$C$33,1),I32,\nIF(RIGHT($D42,1)<RIGHT('Efficiency Levels'!$C$33,1),0,\nIF(RIGHT($D42,1)=RIGHT('Efficiency Levels'!$C$33,1),SUM(OFFSET(I32,-RIGHT($D42,1),0,RIGHT($D42,1),1)),\"ERROR\"))))","v":0},{"$f":"IF(J$18<STANDARD_YEAR,J32,\nIF(RIGHT($D42,1)>RIGHT('Efficiency Levels'!$C$33,1),J32,\nIF(RIGHT($D42,1)<RIGHT('Efficiency Levels'!$C$33,1),0,\nIF(RIGHT($D42,1)=RIGHT('Efficiency Levels'!$C$33,1),SUM(OFFSET(J32,-RIGHT($D42,1),0,RIGHT($D42,1),1)),\"ERROR\"))))","v":0},{"$f":"IF(K$18<STANDARD_YEAR,K32,\nIF(RIGHT($D42,1)>RIGHT('Efficiency Levels'!$C$33,1),K32,\nIF(RIGHT($D42,1)<RIGHT('Efficiency Levels'!$C$33,1),0,\nIF(RIGHT($D42,1)=RIGHT('Efficiency Levels'!$C$33,1),SUM(OFFSET(K32,-RIGHT($D42,1),0,RIGHT($D42,1),1)),\"ERROR\"))))","v":0},{"$f":"IF(L$18<STANDARD_YEAR,L32,\nIF(RIGHT($D42,1)>RIGHT('Efficiency Levels'!$C$33,1),L32,\nIF(RIGHT($D42,1)<RIGHT('Efficiency Levels'!$C$33,1),0,\nIF(RIGHT($D42,1)=RIGHT('Efficiency Levels'!$C$33,1),SUM(OFFSET(L32,-RIGHT($D42,1),0,RIGHT($D42,1),1)),\"ERROR\"))))","v":0},{"$f":"IF(M$18<STANDARD_YEAR,M32,\nIF(RIGHT($D42,1)>RIGHT('Efficiency Levels'!$C$33,1),M32,\nIF(RIGHT($D42,1)<RIGHT('Efficiency Levels'!$C$33,1),0,\nIF(RIGHT($D42,1)=RIGHT('Efficiency Levels'!$C$33,1),SUM(OFFSET(M32,-RIGHT($D42,1),0,RIGHT($D42,1),1)),\"ERROR\"))))","v":0},{"$f":"IF(N$18<STANDARD_YEAR,N32,\nIF(RIGHT($D42,1)>RIGHT('Efficiency Levels'!$C$33,1),N32,\nIF(RIGHT($D42,1)<RIGHT('Efficiency Levels'!$C$33,1),0,\nIF(RIGHT($D42,1)=RIGHT('Efficiency Levels'!$C$33,1),SUM(OFFSET(N32,-RIGHT($D42,1),0,RIGHT($D42,1),1)),\"ERROR\"))))","v":0},{"$f":"IF(O$18<STANDARD_YEAR,O32,\nIF(RIGHT($D42,1)>RIGHT('Efficiency Levels'!$C$33,1),O32,\nIF(RIGHT($D42,1)<RIGHT('Efficiency Levels'!$C$33,1),0,\nIF(RIGHT($D42,1)=RIGHT('Efficiency Levels'!$C$33,1),SUM(OFFSET(O32,-RIGHT($D42,1),0,RIGHT($D42,1),1)),\"ERROR\"))))","v":0},{"$f":"IF(P$18<STANDARD_YEAR,P32,\nIF(RIGHT($D42,1)>RIGHT('Efficiency Levels'!$C$33,1),P32,\nIF(RIGHT($D42,1)<RIGHT('Efficiency Levels'!$C$33,1),0,\nIF(RIGHT($D42,1)=RIGHT('Efficiency Levels'!$C$33,1),SUM(OFFSET(P32,-RIGHT($D42,1),0,RIGHT($D42,1),1)),\"ERROR\"))))","v":0},{"$f":"IF(Q$18<STANDARD_YEAR,Q32,\nIF(RIGHT($D42,1)>RIGHT('Efficiency Levels'!$C$33,1),Q32,\nIF(RIGHT($D42,1)<RIGHT('Efficiency Levels'!$C$33,1),0,\nIF(RIGHT($D42,1)=RIGHT('Efficiency Levels'!$C$33,1),SUM(OFFSET(Q32,-RIGHT($D42,1),0,RIGHT($D42,1),1)),\"ERROR\"))))","v":0},{"$f":"IF(R$18<STANDARD_YEAR,R32,\nIF(RIGHT($D42,1)>RIGHT('Efficiency Levels'!$C$33,1),R32,\nIF(RIGHT($D42,1)<RIGHT('Efficiency Levels'!$C$33,1),0,\nIF(RIGHT($D42,1)=RIGHT('Efficiency Levels'!$C$33,1),SUM(OFFSET(R32,-RIGHT($D42,1),0,RIGHT($D42,1),1)),\"ERROR\"))))","v":0},{"$f":"IF(S$18<STANDARD_YEAR,S32,\nIF(RIGHT($D42,1)>RIGHT('Efficiency Levels'!$C$33,1),S32,\nIF(RIGHT($D42,1)<RIGHT('Efficiency Levels'!$C$33,1),0,\nIF(RIGHT($D42,1)=RIGHT('Efficiency Levels'!$C$33,1),SUM(OFFSET(S32,-RIGHT($D42,1),0,RIGHT($D42,1),1)),\"ERROR\"))))","v":0},{"$f":"IF(T$18<STANDARD_YEAR,T32,\nIF(RIGHT($D42,1)>RIGHT('Efficiency Levels'!$C$33,1),T32,\nIF(RIGHT($D42,1)<RIGHT('Efficiency Levels'!$C$33,1),0,\nIF(RIGHT($D42,1)=RIGHT('Efficiency Levels'!$C$33,1),SUM(OFFSET(T32,-RIGHT($D42,1),0,RIGHT($D42,1),1)),\"ERROR\"))))","v":0},{"$f":"IF(U$18<STANDARD_YEAR,U32,\nIF(RIGHT($D42,1)>RIGHT('Efficiency Levels'!$C$33,1),U32,\nIF(RIGHT($D42,1)<RIGHT('Efficiency Levels'!$C$33,1),0,\nIF(RIGHT($D42,1)=RIGHT('Efficiency Levels'!$C$33,1),SUM(OFFSET(U32,-RIGHT($D42,1),0,RIGHT($D42,1),1)),\"ERROR\"))))","v":0},{"$f":"IF(V$18<STANDARD_YEAR,V32,\nIF(RIGHT($D42,1)>RIGHT('Efficiency Levels'!$C$33,1),V32,\nIF(RIGHT($D42,1)<RIGHT('Efficiency Levels'!$C$33,1),0,\nIF(RIGHT($D42,1)=RIGHT('Efficiency Levels'!$C$33,1),SUM(OFFSET(V32,-RIGHT($D42,1),0,RIGHT($D42,1),1)),\"ERROR\"))))","v":0},{"$f":"IF(W$18<STANDARD_YEAR,W32,\nIF(RIGHT($D42,1)>RIGHT('Efficiency Levels'!$C$33,1),W32,\nIF(RIGHT($D42,1)<RIGHT('Efficiency Levels'!$C$33,1),0,\nIF(RIGHT($D42,1)=RIGHT('Efficiency Levels'!$C$33,1),SUM(OFFSET(W32,-RIGHT($D42,1),0,RIGHT($D42,1),1)),\"ERROR\"))))","v":0},{"$f":"IF(X$18<STANDARD_YEAR,X32,\nIF(RIGHT($D42,1)>RIGHT('Efficiency Levels'!$C$33,1),X32,\nIF(RIGHT($D42,1)<RIGHT('Efficiency Levels'!$C$33,1),0,\nIF(RIGHT($D42,1)=RIGHT('Efficiency Levels'!$C$33,1),SUM(OFFSET(X32,-RIGHT($D42,1),0,RIGHT($D42,1),1)),\"ERROR\"))))","v":0},{"$f":"IF(Y$18<STANDARD_YEAR,Y32,\nIF(RIGHT($D42,1)>RIGHT('Efficiency Levels'!$C$33,1),Y32,\nIF(RIGHT($D42,1)<RIGHT('Efficiency Levels'!$C$33,1),0,\nIF(RIGHT($D42,1)=RIGHT('Efficiency Levels'!$C$33,1),SUM(OFFSET(Y32,-RIGHT($D42,1),0,RIGHT($D42,1),1)),\"ERROR\"))))","v":0},{"$f":"IF(Z$18<STANDARD_YEAR,Z32,\nIF(RIGHT($D42,1)>RIGHT('Efficiency Levels'!$C$33,1),Z32,\nIF(RIGHT($D42,1)<RIGHT('Efficiency Levels'!$C$33,1),0,\nIF(RIGHT($D42,1)=RIGHT('Efficiency Levels'!$C$33,1),SUM(OFFSET(Z32,-RIGHT($D42,1),0,RIGHT($D42,1),1)),\"ERROR\"))))","v":0},{"$f":"IF(AA$18<STANDARD_YEAR,AA32,\nIF(RIGHT($D42,1)>RIGHT('Efficiency Levels'!$C$33,1),AA32,\nIF(RIGHT($D42,1)<RIGHT('Efficiency Levels'!$C$33,1),0,\nIF(RIGHT($D42,1)=RIGHT('Efficiency Levels'!$C$33,1),SUM(OFFSET(AA32,-RIGHT($D42,1),0,RIGHT($D42,1),1)),\"ERROR\"))))","v":0},{"$f":"IF(AB$18<STANDARD_YEAR,AB32,\nIF(RIGHT($D42,1)>RIGHT('Efficiency Levels'!$C$33,1),AB32,\nIF(RIGHT($D42,1)<RIGHT('Efficiency Levels'!$C$33,1),0,\nIF(RIGHT($D42,1)=RIGHT('Efficiency Levels'!$C$33,1),SUM(OFFSET(AB32,-RIGHT($D42,1),0,RIGHT($D42,1),1)),\"ERROR\"))))","v":0},{"$f":"IF(AC$18<STANDARD_YEAR,AC32,\nIF(RIGHT($D42,1)>RIGHT('Efficiency Levels'!$C$33,1),AC32,\nIF(RIGHT($D42,1)<RIGHT('Efficiency Levels'!$C$33,1),0,\nIF(RIGHT($D42,1)=RIGHT('Efficiency Levels'!$C$33,1),SUM(OFFSET(AC32,-RIGHT($D42,1),0,RIGHT($D42,1),1)),\"ERROR\"))))","v":0},{"$f":"IF(AD$18<STANDARD_YEAR,AD32,\nIF(RIGHT($D42,1)>RIGHT('Efficiency Levels'!$C$33,1),AD32,\nIF(RIGHT($D42,1)<RIGHT('Efficiency Levels'!$C$33,1),0,\nIF(RIGHT($D42,1)=RIGHT('Efficiency Levels'!$C$33,1),SUM(OFFSET(AD32,-RIGHT($D42,1),0,RIGHT($D42,1),1)),\"ERROR\"))))","v":0},{"$f":"IF(AE$18<STANDARD_YEAR,AE32,\nIF(RIGHT($D42,1)>RIGHT('Efficiency Levels'!$C$33,1),AE32,\nIF(RIGHT($D42,1)<RIGHT('Efficiency Levels'!$C$33,1),0,\nIF(RIGHT($D42,1)=RIGHT('Efficiency Levels'!$C$33,1),SUM(OFFSET(AE32,-RIGHT($D42,1),0,RIGHT($D42,1),1)),\"ERROR\"))))","v":0},{"$f":"IF(AF$18<STANDARD_YEAR,AF32,\nIF(RIGHT($D42,1)>RIGHT('Efficiency Levels'!$C$33,1),AF32,\nIF(RIGHT($D42,1)<RIGHT('Efficiency Levels'!$C$33,1),0,\nIF(RIGHT($D42,1)=RIGHT('Efficiency Levels'!$C$33,1),SUM(OFFSET(AF32,-RIGHT($D42,1),0,RIGHT($D42,1),1)),\"ERROR\"))))","v":0},{"$f":"IF(AG$18<STANDARD_YEAR,AG32,\nIF(RIGHT($D42,1)>RIGHT('Efficiency Levels'!$C$33,1),AG32,\nIF(RIGHT($D42,1)<RIGHT('Efficiency Levels'!$C$33,1),0,\nIF(RIGHT($D42,1)=RIGHT('Efficiency Levels'!$C$33,1),SUM(OFFSET(AG32,-RIGHT($D42,1),0,RIGHT($D42,1),1)),\"ERROR\"))))","v":0},{"$f":"IF(AH$18<STANDARD_YEAR,AH32,\nIF(RIGHT($D42,1)>RIGHT('Efficiency Levels'!$C$33,1),AH32,\nIF(RIGHT($D42,1)<RIGHT('Efficiency Levels'!$C$33,1),0,\nIF(RIGHT($D42,1)=RIGHT('Efficiency Levels'!$C$33,1),SUM(OFFSET(AH32,-RIGHT($D42,1),0,RIGHT($D42,1),1)),\"ERROR\"))))","v":0},{"$f":"IF(AI$18<STANDARD_YEAR,AI32,\nIF(RIGHT($D42,1)>RIGHT('Efficiency Levels'!$C$33,1),AI32,\nIF(RIGHT($D42,1)<RIGHT('Efficiency Levels'!$C$33,1),0,\nIF(RIGHT($D42,1)=RIGHT('Efficiency Levels'!$C$33,1),SUM(OFFSET(AI32,-RIGHT($D42,1),0,RIGHT($D42,1),1)),\"ERROR\"))))","v":0},{"$f":"IF(AJ$18<STANDARD_YEAR,AJ32,\nIF(RIGHT($D42,1)>RIGHT('Efficiency Levels'!$C$33,1),AJ32,\nIF(RIGHT($D42,1)<RIGHT('Efficiency Levels'!$C$33,1),0,\nIF(RIGHT($D42,1)=RIGHT('Efficiency Levels'!$C$33,1),SUM(OFFSET(AJ32,-RIGHT($D42,1),0,RIGHT($D42,1),1)),\"ERROR\"))))","v":0},{"$f":"IF(AK$18<STANDARD_YEAR,AK32,\nIF(RIGHT($D42,1)>RIGHT('Efficiency Levels'!$C$33,1),AK32,\nIF(RIGHT($D42,1)<RIGHT('Efficiency Levels'!$C$33,1),0,\nIF(RIGHT($D42,1)=RIGHT('Efficiency Levels'!$C$33,1),SUM(OFFSET(AK32,-RIGHT($D42,1),0,RIGHT($D42,1),1)),\"ERROR\"))))","v":0},{"$f":"IF(AL$18<STANDARD_YEAR,AL32,\nIF(RIGHT($D42,1)>RIGHT('Efficiency Levels'!$C$33,1),AL32,\nIF(RIGHT($D42,1)<RIGHT('Efficiency Levels'!$C$33,1),0,\nIF(RIGHT($D42,1)=RIGHT('Efficiency Levels'!$C$33,1),SUM(OFFSET(AL32,-RIGHT($D42,1),0,RIGHT($D42,1),1)),\"ERROR\"))))","v":0},{"$f":"IF(AM$18<STANDARD_YEAR,AM32,\nIF(RIGHT($D42,1)>RIGHT('Efficiency Levels'!$C$33,1),AM32,\nIF(RIGHT($D42,1)<RIGHT('Efficiency Levels'!$C$33,1),0,\nIF(RIGHT($D42,1)=RIGHT('Efficiency Levels'!$C$33,1),SUM(OFFSET(AM32,-RIGHT($D42,1),0,RIGHT($D42,1),1)),\"ERROR\"))))","v":0},{"$f":"IF(AN$18<STANDARD_YEAR,AN32,\nIF(RIGHT($D42,1)>RIGHT('Efficiency Levels'!$C$33,1),AN32,\nIF(RIGHT($D42,1)<RIGHT('Efficiency Levels'!$C$33,1),0,\nIF(RIGHT($D42,1)=RIGHT('Efficiency Levels'!$C$33,1),SUM(OFFSET(AN32,-RIGHT($D42,1),0,RIGHT($D42,1),1)),\"ERROR\"))))","v":0},{"$f":"IF(AO$18<STANDARD_YEAR,AO32,\nIF(RIGHT($D42,1)>RIGHT('Efficiency Levels'!$C$33,1),AO32,\nIF(RIGHT($D42,1)<RIGHT('Efficiency Levels'!$C$33,1),0,\nIF(RIGHT($D42,1)=RIGHT('Efficiency Levels'!$C$33,1),SUM(OFFSET(AO32,-RIGHT($D42,1),0,RIGHT($D42,1),1)),\"ERROR\"))))","v":0},{"$f":"IF(AP$18<STANDARD_YEAR,AP32,\nIF(RIGHT($D42,1)>RIGHT('Efficiency Levels'!$C$33,1),AP32,\nIF(RIGHT($D42,1)<RIGHT('Efficiency Levels'!$C$33,1),0,\nIF(RIGHT($D42,1)=RIGHT('Efficiency Levels'!$C$33,1),SUM(OFFSET(AP32,-RIGHT($D42,1),0,RIGHT($D42,1),1)),\"ERROR\"))))","v":0},{"$f":"IF(AQ$18<STANDARD_YEAR,AQ32,\nIF(RIGHT($D42,1)>RIGHT('Efficiency Levels'!$C$33,1),AQ32,\nIF(RIGHT($D42,1)<RIGHT('Efficiency Levels'!$C$33,1),0,\nIF(RIGHT($D42,1)=RIGHT('Efficiency Levels'!$C$33,1),SUM(OFFSET(AQ32,-RIGHT($D42,1),0,RIGHT($D42,1),1)),\"ERROR\"))))","v":0},{"$f":"IF(AR$18<STANDARD_YEAR,AR32,\nIF(RIGHT($D42,1)>RIGHT('Efficiency Levels'!$C$33,1),AR32,\nIF(RIGHT($D42,1)<RIGHT('Efficiency Levels'!$C$33,1),0,\nIF(RIGHT($D42,1)=RIGHT('Efficiency Levels'!$C$33,1),SUM(OFFSET(AR32,-RIGHT($D42,1),0,RIGHT($D42,1),1)),\"ERROR\"))))","v":0},{"$f":"IF(AS$18<STANDARD_YEAR,AS32,\nIF(RIGHT($D42,1)>RIGHT('Efficiency Levels'!$C$33,1),AS32,\nIF(RIGHT($D42,1)<RIGHT('Efficiency Levels'!$C$33,1),0,\nIF(RIGHT($D42,1)=RIGHT('Efficiency Levels'!$C$33,1),SUM(OFFSET(AS32,-RIGHT($D42,1),0,RIGHT($D42,1),1)),\"ERROR\"))))","v":0},{"$f":"IF(AT$18<STANDARD_YEAR,AT32,\nIF(RIGHT($D42,1)>RIGHT('Efficiency Levels'!$C$33,1),AT32,\nIF(RIGHT($D42,1)<RIGHT('Efficiency Levels'!$C$33,1),0,\nIF(RIGHT($D42,1)=RIGHT('Efficiency Levels'!$C$33,1),SUM(OFFSET(AT32,-RIGHT($D42,1),0,RIGHT($D42,1),1)),\"ERROR\"))))","v":0},{"$f":"IF(AU$18<STANDARD_YEAR,AU32,\nIF(RIGHT($D42,1)>RIGHT('Efficiency Levels'!$C$33,1),AU32,\nIF(RIGHT($D42,1)<RIGHT('Efficiency Levels'!$C$33,1),0,\nIF(RIGHT($D42,1)=RIGHT('Efficiency Levels'!$C$33,1),SUM(OFFSET(AU32,-RIGHT($D42,1),0,RIGHT($D42,1),1)),\"ERROR\"))))","v":0},{"$f":"IF(AV$18<STANDARD_YEAR,AV32,\nIF(RIGHT($D42,1)>RIGHT('Efficiency Levels'!$C$33,1),AV32,\nIF(RIGHT($D42,1)<RIGHT('Efficiency Levels'!$C$33,1),0,\nIF(RIGHT($D42,1)=RIGHT('Efficiency Levels'!$C$33,1),SUM(OFFSET(AV32,-RIGHT($D42,1),0,RIGHT($D42,1),1)),\"ERROR\"))))","v":0},{"$f":"IF(AW$18<STANDARD_YEAR,AW32,\nIF(RIGHT($D42,1)>RIGHT('Efficiency Levels'!$C$33,1),AW32,\nIF(RIGHT($D42,1)<RIGHT('Efficiency Levels'!$C$33,1),0,\nIF(RIGHT($D42,1)=RIGHT('Efficiency Levels'!$C$33,1),SUM(OFFSET(AW32,-RIGHT($D42,1),0,RIGHT($D42,1),1)),\"ERROR\"))))","v":0},{"$f":"IF(AX$18<STANDARD_YEAR,AX32,\nIF(RIGHT($D42,1)>RIGHT('Efficiency Levels'!$C$33,1),AX32,\nIF(RIGHT($D42,1)<RIGHT('Efficiency Levels'!$C$33,1),0,\nIF(RIGHT($D42,1)=RIGHT('Efficiency Levels'!$C$33,1),SUM(OFFSET(AX32,-RIGHT($D42,1),0,RIGHT($D42,1),1)),\"ERROR\"))))","v":0},{"$f":"IF(AY$18<STANDARD_YEAR,AY32,\nIF(RIGHT($D42,1)>RIGHT('Efficiency Levels'!$C$33,1),AY32,\nIF(RIGHT($D42,1)<RIGHT('Efficiency Levels'!$C$33,1),0,\nIF(RIGHT($D42,1)=RIGHT('Efficiency Levels'!$C$33,1),SUM(OFFSET(AY32,-RIGHT($D42,1),0,RIGHT($D42,1),1)),\"ERROR\"))))","v":0},{"$f":"IF(AZ$18<STANDARD_YEAR,AZ32,\nIF(RIGHT($D42,1)>RIGHT('Efficiency Levels'!$C$33,1),AZ32,\nIF(RIGHT($D42,1)<RIGHT('Efficiency Levels'!$C$33,1),0,\nIF(RIGHT($D42,1)=RIGHT('Efficiency Levels'!$C$33,1),SUM(OFFSET(AZ32,-RIGHT($D42,1),0,RIGHT($D42,1),1)),\"ERROR\"))))","v":0},{"$f":"IF(BA$18<STANDARD_YEAR,BA32,\nIF(RIGHT($D42,1)>RIGHT('Efficiency Levels'!$C$33,1),BA32,\nIF(RIGHT($D42,1)<RIGHT('Efficiency Levels'!$C$33,1),0,\nIF(RIGHT($D42,1)=RIGHT('Efficiency Levels'!$C$33,1),SUM(OFFSET(BA32,-RIGHT($D42,1),0,RIGHT($D42,1),1)),\"ERROR\"))))","v":0},{"$f":"IF(BB$18<STANDARD_YEAR,BB32,\nIF(RIGHT($D42,1)>RIGHT('Efficiency Levels'!$C$33,1),BB32,\nIF(RIGHT($D42,1)<RIGHT('Efficiency Levels'!$C$33,1),0,\nIF(RIGHT($D42,1)=RIGHT('Efficiency Levels'!$C$33,1),SUM(OFFSET(BB32,-RIGHT($D42,1),0,RIGHT($D42,1),1)),\"ERROR\"))))","v":0},{"$f":"IF(BC$18<STANDARD_YEAR,BC32,\nIF(RIGHT($D42,1)>RIGHT('Efficiency Levels'!$C$33,1),BC32,\nIF(RIGHT($D42,1)<RIGHT('Efficiency Levels'!$C$33,1),0,\nIF(RIGHT($D42,1)=RIGHT('Efficiency Levels'!$C$33,1),SUM(OFFSET(BC32,-RIGHT($D42,1),0,RIGHT($D42,1),1)),\"ERROR\"))))","v":0},{"$f":"IF(BD$18<STANDARD_YEAR,BD32,\nIF(RIGHT($D42,1)>RIGHT('Efficiency Levels'!$C$33,1),BD32,\nIF(RIGHT($D42,1)<RIGHT('Efficiency Levels'!$C$33,1),0,\nIF(RIGHT($D42,1)=RIGHT('Efficiency Levels'!$C$33,1),SUM(OFFSET(BD32,-RIGHT($D42,1),0,RIGHT($D42,1),1)),\"ERROR\"))))","v":0},{"$f":"IF(BE$18<STANDARD_YEAR,BE32,\nIF(RIGHT($D42,1)>RIGHT('Efficiency Levels'!$C$33,1),BE32,\nIF(RIGHT($D42,1)<RIGHT('Efficiency Levels'!$C$33,1),0,\nIF(RIGHT($D42,1)=RIGHT('Efficiency Levels'!$C$33,1),SUM(OFFSET(BE32,-RIGHT($D42,1),0,RIGHT($D42,1),1)),\"ERROR\"))))","v":0},{"$f":"IF(BF$18<STANDARD_YEAR,BF32,\nIF(RIGHT($D42,1)>RIGHT('Efficiency Levels'!$C$33,1),BF32,\nIF(RIGHT($D42,1)<RIGHT('Efficiency Levels'!$C$33,1),0,\nIF(RIGHT($D42,1)=RIGHT('Efficiency Levels'!$C$33,1),SUM(OFFSET(BF32,-RIGHT($D42,1),0,RIGHT($D42,1),1)),\"ERROR\"))))","v":0},{"$f":"IF(BG$18<STANDARD_YEAR,BG32,\nIF(RIGHT($D42,1)>RIGHT('Efficiency Levels'!$C$33,1),BG32,\nIF(RIGHT($D42,1)<RIGHT('Efficiency Levels'!$C$33,1),0,\nIF(RIGHT($D42,1)=RIGHT('Efficiency Levels'!$C$33,1),SUM(OFFSET(BG32,-RIGHT($D42,1),0,RIGHT($D42,1),1)),\"ERROR\"))))","v":0},{"$f":"IF(BH$18<STANDARD_YEAR,BH32,\nIF(RIGHT($D42,1)>RIGHT('Efficiency Levels'!$C$33,1),BH32,\nIF(RIGHT($D42,1)<RIGHT('Efficiency Levels'!$C$33,1),0,\nIF(RIGHT($D42,1)=RIGHT('Efficiency Levels'!$C$33,1),SUM(OFFSET(BH32,-RIGHT($D42,1),0,RIGHT($D42,1),1)),\"ERROR\"))))","v":0},{"$f":"IF(BI$18<STANDARD_YEAR,BI32,\nIF(RIGHT($D42,1)>RIGHT('Efficiency Levels'!$C$33,1),BI32,\nIF(RIGHT($D42,1)<RIGHT('Efficiency Levels'!$C$33,1),0,\nIF(RIGHT($D42,1)=RIGHT('Efficiency Levels'!$C$33,1),SUM(OFFSET(BI32,-RIGHT($D42,1),0,RIGHT($D42,1),1)),\"ERROR\"))))","v":0},{"$f":"IF(BJ$18<STANDARD_YEAR,BJ32,\nIF(RIGHT($D42,1)>RIGHT('Efficiency Levels'!$C$33,1),BJ32,\nIF(RIGHT($D42,1)<RIGHT('Efficiency Levels'!$C$33,1),0,\nIF(RIGHT($D42,1)=RIGHT('Efficiency Levels'!$C$33,1),SUM(OFFSET(BJ32,-RIGHT($D42,1),0,RIGHT($D42,1),1)),\"ERROR\"))))","v":0}]
[null,null,null,"EL2",{"$f":"OFFSET('Efficiency Levels'!$D$11,MATCH($C$27,'Efficiency Levels'!$C$9:$C$995,0)+RIGHT(D43,1),0)","v":263.5},null,null,null,{"$f":"IF(I$18<STANDARD_YEAR,I33,\nIF(RIGHT($D43,1)>RIGHT('Efficiency Levels'!$C$33,1),I33,\nIF(RIGHT($D43,1)<RIGHT('Efficiency Levels'!$C$33,1),0,\nIF(RIGHT($D43,1)=RIGHT('Efficiency Levels'!$C$33,1),SUM(OFFSET(I33,-RIGHT($D43,1),0,RIGHT($D43,1),1)),\"ERROR\"))))","v":0},{"$f":"IF(J$18<STANDARD_YEAR,J33,\nIF(RIGHT($D43,1)>RIGHT('Efficiency Levels'!$C$33,1),J33,\nIF(RIGHT($D43,1)<RIGHT('Efficiency Levels'!$C$33,1),0,\nIF(RIGHT($D43,1)=RIGHT('Efficiency Levels'!$C$33,1),SUM(OFFSET(J33,-RIGHT($D43,1),0,RIGHT($D43,1),1)),\"ERROR\"))))","v":0},{"$f":"IF(K$18<STANDARD_YEAR,K33,\nIF(RIGHT($D43,1)>RIGHT('Efficiency Levels'!$C$33,1),K33,\nIF(RIGHT($D43,1)<RIGHT('Efficiency Levels'!$C$33,1),0,\nIF(RIGHT($D43,1)=RIGHT('Efficiency Levels'!$C$33,1),SUM(OFFSET(K33,-RIGHT($D43,1),0,RIGHT($D43,1),1)),\"ERROR\"))))","v":0},{"$f":"IF(L$18<STANDARD_YEAR,L33,\nIF(RIGHT($D43,1)>RIGHT('Efficiency Levels'!$C$33,1),L33,\nIF(RIGHT($D43,1)<RIGHT('Efficiency Levels'!$C$33,1),0,\nIF(RIGHT($D43,1)=RIGHT('Efficiency Levels'!$C$33,1),SUM(OFFSET(L33,-RIGHT($D43,1),0,RIGHT($D43,1),1)),\"ERROR\"))))","v":0},{"$f":"IF(M$18<STANDARD_YEAR,M33,\nIF(RIGHT($D43,1)>RIGHT('Efficiency Levels'!$C$33,1),M33,\nIF(RIGHT($D43,1)<RIGHT('Efficiency Levels'!$C$33,1),0,\nIF(RIGHT($D43,1)=RIGHT('Efficiency Levels'!$C$33,1),SUM(OFFSET(M33,-RIGHT($D43,1),0,RIGHT($D43,1),1)),\"ERROR\"))))","v":0},{"$f":"IF(N$18<STANDARD_YEAR,N33,\nIF(RIGHT($D43,1)>RIGHT('Efficiency Levels'!$C$33,1),N33,\nIF(RIGHT($D43,1)<RIGHT('Efficiency Levels'!$C$33,1),0,\nIF(RIGHT($D43,1)=RIGHT('Efficiency Levels'!$C$33,1),SUM(OFFSET(N33,-RIGHT($D43,1),0,RIGHT($D43,1),1)),\"ERROR\"))))","v":0},{"$f":"IF(O$18<STANDARD_YEAR,O33,\nIF(RIGHT($D43,1)>RIGHT('Efficiency Levels'!$C$33,1),O33,\nIF(RIGHT($D43,1)<RIGHT('Efficiency Levels'!$C$33,1),0,\nIF(RIGHT($D43,1)=RIGHT('Efficiency Levels'!$C$33,1),SUM(OFFSET(O33,-RIGHT($D43,1),0,RIGHT($D43,1),1)),\"ERROR\"))))","v":0},{"$f":"IF(P$18<STANDARD_YEAR,P33,\nIF(RIGHT($D43,1)>RIGHT('Efficiency Levels'!$C$33,1),P33,\nIF(RIGHT($D43,1)<RIGHT('Efficiency Levels'!$C$33,1),0,\nIF(RIGHT($D43,1)=RIGHT('Efficiency Levels'!$C$33,1),SUM(OFFSET(P33,-RIGHT($D43,1),0,RIGHT($D43,1),1)),\"ERROR\"))))","v":0},{"$f":"IF(Q$18<STANDARD_YEAR,Q33,\nIF(RIGHT($D43,1)>RIGHT('Efficiency Levels'!$C$33,1),Q33,\nIF(RIGHT($D43,1)<RIGHT('Efficiency Levels'!$C$33,1),0,\nIF(RIGHT($D43,1)=RIGHT('Efficiency Levels'!$C$33,1),SUM(OFFSET(Q33,-RIGHT($D43,1),0,RIGHT($D43,1),1)),\"ERROR\"))))","v":0},{"$f":"IF(R$18<STANDARD_YEAR,R33,\nIF(RIGHT($D43,1)>RIGHT('Efficiency Levels'!$C$33,1),R33,\nIF(RIGHT($D43,1)<RIGHT('Efficiency Levels'!$C$33,1),0,\nIF(RIGHT($D43,1)=RIGHT('Efficiency Levels'!$C$33,1),SUM(OFFSET(R33,-RIGHT($D43,1),0,RIGHT($D43,1),1)),\"ERROR\"))))","v":0},{"$f":"IF(S$18<STANDARD_YEAR,S33,\nIF(RIGHT($D43,1)>RIGHT('Efficiency Levels'!$C$33,1),S33,\nIF(RIGHT($D43,1)<RIGHT('Efficiency Levels'!$C$33,1),0,\nIF(RIGHT($D43,1)=RIGHT('Efficiency Levels'!$C$33,1),SUM(OFFSET(S33,-RIGHT($D43,1),0,RIGHT($D43,1),1)),\"ERROR\"))))","v":0},{"$f":"IF(T$18<STANDARD_YEAR,T33,\nIF(RIGHT($D43,1)>RIGHT('Efficiency Levels'!$C$33,1),T33,\nIF(RIGHT($D43,1)<RIGHT('Efficiency Levels'!$C$33,1),0,\nIF(RIGHT($D43,1)=RIGHT('Efficiency Levels'!$C$33,1),SUM(OFFSET(T33,-RIGHT($D43,1),0,RIGHT($D43,1),1)),\"ERROR\"))))","v":0},{"$f":"IF(U$18<STANDARD_YEAR,U33,\nIF(RIGHT($D43,1)>RIGHT('Efficiency Levels'!$C$33,1),U33,\nIF(RIGHT($D43,1)<RIGHT('Efficiency Levels'!$C$33,1),0,\nIF(RIGHT($D43,1)=RIGHT('Efficiency Levels'!$C$33,1),SUM(OFFSET(U33,-RIGHT($D43,1),0,RIGHT($D43,1),1)),\"ERROR\"))))","v":0},{"$f":"IF(V$18<STANDARD_YEAR,V33,\nIF(RIGHT($D43,1)>RIGHT('Efficiency Levels'!$C$33,1),V33,\nIF(RIGHT($D43,1)<RIGHT('Efficiency Levels'!$C$33,1),0,\nIF(RIGHT($D43,1)=RIGHT('Efficiency Levels'!$C$33,1),SUM(OFFSET(V33,-RIGHT($D43,1),0,RIGHT($D43,1),1)),\"ERROR\"))))","v":0},{"$f":"IF(W$18<STANDARD_YEAR,W33,\nIF(RIGHT($D43,1)>RIGHT('Efficiency Levels'!$C$33,1),W33,\nIF(RIGHT($D43,1)<RIGHT('Efficiency Levels'!$C$33,1),0,\nIF(RIGHT($D43,1)=RIGHT('Efficiency Levels'!$C$33,1),SUM(OFFSET(W33,-RIGHT($D43,1),0,RIGHT($D43,1),1)),\"ERROR\"))))","v":0},{"$f":"IF(X$18<STANDARD_YEAR,X33,\nIF(RIGHT($D43,1)>RIGHT('Efficiency Levels'!$C$33,1),X33,\nIF(RIGHT($D43,1)<RIGHT('Efficiency Levels'!$C$33,1),0,\nIF(RIGHT($D43,1)=RIGHT('Efficiency Levels'!$C$33,1),SUM(OFFSET(X33,-RIGHT($D43,1),0,RIGHT($D43,1),1)),\"ERROR\"))))","v":0},{"$f":"IF(Y$18<STANDARD_YEAR,Y33,\nIF(RIGHT($D43,1)>RIGHT('Efficiency Levels'!$C$33,1),Y33,\nIF(RIGHT($D43,1)<RIGHT('Efficiency Levels'!$C$33,1),0,\nIF(RIGHT($D43,1)=RIGHT('Efficiency Levels'!$C$33,1),SUM(OFFSET(Y33,-RIGHT($D43,1),0,RIGHT($D43,1),1)),\"ERROR\"))))","v":0},{"$f":"IF(Z$18<STANDARD_YEAR,Z33,\nIF(RIGHT($D43,1)>RIGHT('Efficiency Levels'!$C$33,1),Z33,\nIF(RIGHT($D43,1)<RIGHT('Efficiency Levels'!$C$33,1),0,\nIF(RIGHT($D43,1)=RIGHT('Efficiency Levels'!$C$33,1),SUM(OFFSET(Z33,-RIGHT($D43,1),0,RIGHT($D43,1),1)),\"ERROR\"))))","v":0},{"$f":"IF(AA$18<STANDARD_YEAR,AA33,\nIF(RIGHT($D43,1)>RIGHT('Efficiency Levels'!$C$33,1),AA33,\nIF(RIGHT($D43,1)<RIGHT('Efficiency Levels'!$C$33,1),0,\nIF(RIGHT($D43,1)=RIGHT('Efficiency Levels'!$C$33,1),SUM(OFFSET(AA33,-RIGHT($D43,1),0,RIGHT($D43,1),1)),\"ERROR\"))))","v":0},{"$f":"IF(AB$18<STANDARD_YEAR,AB33,\nIF(RIGHT($D43,1)>RIGHT('Efficiency Levels'!$C$33,1),AB33,\nIF(RIGHT($D43,1)<RIGHT('Efficiency Levels'!$C$33,1),0,\nIF(RIGHT($D43,1)=RIGHT('Efficiency Levels'!$C$33,1),SUM(OFFSET(AB33,-RIGHT($D43,1),0,RIGHT($D43,1),1)),\"ERROR\"))))","v":0},{"$f":"IF(AC$18<STANDARD_YEAR,AC33,\nIF(RIGHT($D43,1)>RIGHT('Efficiency Levels'!$C$33,1),AC33,\nIF(RIGHT($D43,1)<RIGHT('Efficiency Levels'!$C$33,1),0,\nIF(RIGHT($D43,1)=RIGHT('Efficiency Levels'!$C$33,1),SUM(OFFSET(AC33,-RIGHT($D43,1),0,RIGHT($D43,1),1)),\"ERROR\"))))","v":0},{"$f":"IF(AD$18<STANDARD_YEAR,AD33,\nIF(RIGHT($D43,1)>RIGHT('Efficiency Levels'!$C$33,1),AD33,\nIF(RIGHT($D43,1)<RIGHT('Efficiency Levels'!$C$33,1),0,\nIF(RIGHT($D43,1)=RIGHT('Efficiency Levels'!$C$33,1),SUM(OFFSET(AD33,-RIGHT($D43,1),0,RIGHT($D43,1),1)),\"ERROR\"))))","v":0},{"$f":"IF(AE$18<STANDARD_YEAR,AE33,\nIF(RIGHT($D43,1)>RIGHT('Efficiency Levels'!$C$33,1),AE33,\nIF(RIGHT($D43,1)<RIGHT('Efficiency Levels'!$C$33,1),0,\nIF(RIGHT($D43,1)=RIGHT('Efficiency Levels'!$C$33,1),SUM(OFFSET(AE33,-RIGHT($D43,1),0,RIGHT($D43,1),1)),\"ERROR\"))))","v":0},{"$f":"IF(AF$18<STANDARD_YEAR,AF33,\nIF(RIGHT($D43,1)>RIGHT('Efficiency Levels'!$C$33,1),AF33,\nIF(RIGHT($D43,1)<RIGHT('Efficiency Levels'!$C$33,1),0,\nIF(RIGHT($D43,1)=RIGHT('Efficiency Levels'!$C$33,1),SUM(OFFSET(AF33,-RIGHT($D43,1),0,RIGHT($D43,1),1)),\"ERROR\"))))","v":0},{"$f":"IF(AG$18<STANDARD_YEAR,AG33,\nIF(RIGHT($D43,1)>RIGHT('Efficiency Levels'!$C$33,1),AG33,\nIF(RIGHT($D43,1)<RIGHT('Efficiency Levels'!$C$33,1),0,\nIF(RIGHT($D43,1)=RIGHT('Efficiency Levels'!$C$33,1),SUM(OFFSET(AG33,-RIGHT($D43,1),0,RIGHT($D43,1),1)),\"ERROR\"))))","v":0},{"$f":"IF(AH$18<STANDARD_YEAR,AH33,\nIF(RIGHT($D43,1)>RIGHT('Efficiency Levels'!$C$33,1),AH33,\nIF(RIGHT($D43,1)<RIGHT('Efficiency Levels'!$C$33,1),0,\nIF(RIGHT($D43,1)=RIGHT('Efficiency Levels'!$C$33,1),SUM(OFFSET(AH33,-RIGHT($D43,1),0,RIGHT($D43,1),1)),\"ERROR\"))))","v":0},{"$f":"IF(AI$18<STANDARD_YEAR,AI33,\nIF(RIGHT($D43,1)>RIGHT('Efficiency Levels'!$C$33,1),AI33,\nIF(RIGHT($D43,1)<RIGHT('Efficiency Levels'!$C$33,1),0,\nIF(RIGHT($D43,1)=RIGHT('Efficiency Levels'!$C$33,1),SUM(OFFSET(AI33,-RIGHT($D43,1),0,RIGHT($D43,1),1)),\"ERROR\"))))","v":0},{"$f":"IF(AJ$18<STANDARD_YEAR,AJ33,\nIF(RIGHT($D43,1)>RIGHT('Efficiency Levels'!$C$33,1),AJ33,\nIF(RIGHT($D43,1)<RIGHT('Efficiency Levels'!$C$33,1),0,\nIF(RIGHT($D43,1)=RIGHT('Efficiency Levels'!$C$33,1),SUM(OFFSET(AJ33,-RIGHT($D43,1),0,RIGHT($D43,1),1)),\"ERROR\"))))","v":0},{"$f":"IF(AK$18<STANDARD_YEAR,AK33,\nIF(RIGHT($D43,1)>RIGHT('Efficiency Levels'!$C$33,1),AK33,\nIF(RIGHT($D43,1)<RIGHT('Efficiency Levels'!$C$33,1),0,\nIF(RIGHT($D43,1)=RIGHT('Efficiency Levels'!$C$33,1),SUM(OFFSET(AK33,-RIGHT($D43,1),0,RIGHT($D43,1),1)),\"ERROR\"))))","v":0},{"$f":"IF(AL$18<STANDARD_YEAR,AL33,\nIF(RIGHT($D43,1)>RIGHT('Efficiency Levels'!$C$33,1),AL33,\nIF(RIGHT($D43,1)<RIGHT('Efficiency Levels'!$C$33,1),0,\nIF(RIGHT($D43,1)=RIGHT('Efficiency Levels'!$C$33,1),SUM(OFFSET(AL33,-RIGHT($D43,1),0,RIGHT($D43,1),1)),\"ERROR\"))))","v":0},{"$f":"IF(AM$18<STANDARD_YEAR,AM33,\nIF(RIGHT($D43,1)>RIGHT('Efficiency Levels'!$C$33,1),AM33,\nIF(RIGHT($D43,1)<RIGHT('Efficiency Levels'!$C$33,1),0,\nIF(RIGHT($D43,1)=RIGHT('Efficiency Levels'!$C$33,1),SUM(OFFSET(AM33,-RIGHT($D43,1),0,RIGHT($D43,1),1)),\"ERROR\"))))","v":0},{"$f":"IF(AN$18<STANDARD_YEAR,AN33,\nIF(RIGHT($D43,1)>RIGHT('Efficiency Levels'!$C$33,1),AN33,\nIF(RIGHT($D43,1)<RIGHT('Efficiency Levels'!$C$33,1),0,\nIF(RIGHT($D43,1)=RIGHT('Efficiency Levels'!$C$33,1),SUM(OFFSET(AN33,-RIGHT($D43,1),0,RIGHT($D43,1),1)),\"ERROR\"))))","v":0},{"$f":"IF(AO$18<STANDARD_YEAR,AO33,\nIF(RIGHT($D43,1)>RIGHT('Efficiency Levels'!$C$33,1),AO33,\nIF(RIGHT($D43,1)<RIGHT('Efficiency Levels'!$C$33,1),0,\nIF(RIGHT($D43,1)=RIGHT('Efficiency Levels'!$C$33,1),SUM(OFFSET(AO33,-RIGHT($D43,1),0,RIGHT($D43,1),1)),\"ERROR\"))))","v":0},{"$f":"IF(AP$18<STANDARD_YEAR,AP33,\nIF(RIGHT($D43,1)>RIGHT('Efficiency Levels'!$C$33,1),AP33,\nIF(RIGHT($D43,1)<RIGHT('Efficiency Levels'!$C$33,1),0,\nIF(RIGHT($D43,1)=RIGHT('Efficiency Levels'!$C$33,1),SUM(OFFSET(AP33,-RIGHT($D43,1),0,RIGHT($D43,1),1)),\"ERROR\"))))","v":0},{"$f":"IF(AQ$18<STANDARD_YEAR,AQ33,\nIF(RIGHT($D43,1)>RIGHT('Efficiency Levels'!$C$33,1),AQ33,\nIF(RIGHT($D43,1)<RIGHT('Efficiency Levels'!$C$33,1),0,\nIF(RIGHT($D43,1)=RIGHT('Efficiency Levels'!$C$33,1),SUM(OFFSET(AQ33,-RIGHT($D43,1),0,RIGHT($D43,1),1)),\"ERROR\"))))","v":0},{"$f":"IF(AR$18<STANDARD_YEAR,AR33,\nIF(RIGHT($D43,1)>RIGHT('Efficiency Levels'!$C$33,1),AR33,\nIF(RIGHT($D43,1)<RIGHT('Efficiency Levels'!$C$33,1),0,\nIF(RIGHT($D43,1)=RIGHT('Efficiency Levels'!$C$33,1),SUM(OFFSET(AR33,-RIGHT($D43,1),0,RIGHT($D43,1),1)),\"ERROR\"))))","v":0},{"$f":"IF(AS$18<STANDARD_YEAR,AS33,\nIF(RIGHT($D43,1)>RIGHT('Efficiency Levels'!$C$33,1),AS33,\nIF(RIGHT($D43,1)<RIGHT('Efficiency Levels'!$C$33,1),0,\nIF(RIGHT($D43,1)=RIGHT('Efficiency Levels'!$C$33,1),SUM(OFFSET(AS33,-RIGHT($D43,1),0,RIGHT($D43,1),1)),\"ERROR\"))))","v":0},{"$f":"IF(AT$18<STANDARD_YEAR,AT33,\nIF(RIGHT($D43,1)>RIGHT('Efficiency Levels'!$C$33,1),AT33,\nIF(RIGHT($D43,1)<RIGHT('Efficiency Levels'!$C$33,1),0,\nIF(RIGHT($D43,1)=RIGHT('Efficiency Levels'!$C$33,1),SUM(OFFSET(AT33,-RIGHT($D43,1),0,RIGHT($D43,1),1)),\"ERROR\"))))","v":0},{"$f":"IF(AU$18<STANDARD_YEAR,AU33,\nIF(RIGHT($D43,1)>RIGHT('Efficiency Levels'!$C$33,1),AU33,\nIF(RIGHT($D43,1)<RIGHT('Efficiency Levels'!$C$33,1),0,\nIF(RIGHT($D43,1)=RIGHT('Efficiency Levels'!$C$33,1),SUM(OFFSET(AU33,-RIGHT($D43,1),0,RIGHT($D43,1),1)),\"ERROR\"))))","v":0},{"$f":"IF(AV$18<STANDARD_YEAR,AV33,\nIF(RIGHT($D43,1)>RIGHT('Efficiency Levels'!$C$33,1),AV33,\nIF(RIGHT($D43,1)<RIGHT('Efficiency Levels'!$C$33,1),0,\nIF(RIGHT($D43,1)=RIGHT('Efficiency Levels'!$C$33,1),SUM(OFFSET(AV33,-RIGHT($D43,1),0,RIGHT($D43,1),1)),\"ERROR\"))))","v":0},{"$f":"IF(AW$18<STANDARD_YEAR,AW33,\nIF(RIGHT($D43,1)>RIGHT('Efficiency Levels'!$C$33,1),AW33,\nIF(RIGHT($D43,1)<RIGHT('Efficiency Levels'!$C$33,1),0,\nIF(RIGHT($D43,1)=RIGHT('Efficiency Levels'!$C$33,1),SUM(OFFSET(AW33,-RIGHT($D43,1),0,RIGHT($D43,1),1)),\"ERROR\"))))","v":0},{"$f":"IF(AX$18<STANDARD_YEAR,AX33,\nIF(RIGHT($D43,1)>RIGHT('Efficiency Levels'!$C$33,1),AX33,\nIF(RIGHT($D43,1)<RIGHT('Efficiency Levels'!$C$33,1),0,\nIF(RIGHT($D43,1)=RIGHT('Efficiency Levels'!$C$33,1),SUM(OFFSET(AX33,-RIGHT($D43,1),0,RIGHT($D43,1),1)),\"ERROR\"))))","v":0},{"$f":"IF(AY$18<STANDARD_YEAR,AY33,\nIF(RIGHT($D43,1)>RIGHT('Efficiency Levels'!$C$33,1),AY33,\nIF(RIGHT($D43,1)<RIGHT('Efficiency Levels'!$C$33,1),0,\nIF(RIGHT($D43,1)=RIGHT('Efficiency Levels'!$C$33,1),SUM(OFFSET(AY33,-RIGHT($D43,1),0,RIGHT($D43,1),1)),\"ERROR\"))))","v":0},{"$f":"IF(AZ$18<STANDARD_YEAR,AZ33,\nIF(RIGHT($D43,1)>RIGHT('Efficiency Levels'!$C$33,1),AZ33,\nIF(RIGHT($D43,1)<RIGHT('Efficiency Levels'!$C$33,1),0,\nIF(RIGHT($D43,1)=RIGHT('Efficiency Levels'!$C$33,1),SUM(OFFSET(AZ33,-RIGHT($D43,1),0,RIGHT($D43,1),1)),\"ERROR\"))))","v":0},{"$f":"IF(BA$18<STANDARD_YEAR,BA33,\nIF(RIGHT($D43,1)>RIGHT('Efficiency Levels'!$C$33,1),BA33,\nIF(RIGHT($D43,1)<RIGHT('Efficiency Levels'!$C$33,1),0,\nIF(RIGHT($D43,1)=RIGHT('Efficiency Levels'!$C$33,1),SUM(OFFSET(BA33,-RIGHT($D43,1),0,RIGHT($D43,1),1)),\"ERROR\"))))","v":0},{"$f":"IF(BB$18<STANDARD_YEAR,BB33,\nIF(RIGHT($D43,1)>RIGHT('Efficiency Levels'!$C$33,1),BB33,\nIF(RIGHT($D43,1)<RIGHT('Efficiency Levels'!$C$33,1),0,\nIF(RIGHT($D43,1)=RIGHT('Efficiency Levels'!$C$33,1),SUM(OFFSET(BB33,-RIGHT($D43,1),0,RIGHT($D43,1),1)),\"ERROR\"))))","v":0},{"$f":"IF(BC$18<STANDARD_YEAR,BC33,\nIF(RIGHT($D43,1)>RIGHT('Efficiency Levels'!$C$33,1),BC33,\nIF(RIGHT($D43,1)<RIGHT('Efficiency Levels'!$C$33,1),0,\nIF(RIGHT($D43,1)=RIGHT('Efficiency Levels'!$C$33,1),SUM(OFFSET(BC33,-RIGHT($D43,1),0,RIGHT($D43,1),1)),\"ERROR\"))))","v":0},{"$f":"IF(BD$18<STANDARD_YEAR,BD33,\nIF(RIGHT($D43,1)>RIGHT('Efficiency Levels'!$C$33,1),BD33,\nIF(RIGHT($D43,1)<RIGHT('Efficiency Levels'!$C$33,1),0,\nIF(RIGHT($D43,1)=RIGHT('Efficiency Levels'!$C$33,1),SUM(OFFSET(BD33,-RIGHT($D43,1),0,RIGHT($D43,1),1)),\"ERROR\"))))","v":0},{"$f":"IF(BE$18<STANDARD_YEAR,BE33,\nIF(RIGHT($D43,1)>RIGHT('Efficiency Levels'!$C$33,1),BE33,\nIF(RIGHT($D43,1)<RIGHT('Efficiency Levels'!$C$33,1),0,\nIF(RIGHT($D43,1)=RIGHT('Efficiency Levels'!$C$33,1),SUM(OFFSET(BE33,-RIGHT($D43,1),0,RIGHT($D43,1),1)),\"ERROR\"))))","v":0},{"$f":"IF(BF$18<STANDARD_YEAR,BF33,\nIF(RIGHT($D43,1)>RIGHT('Efficiency Levels'!$C$33,1),BF33,\nIF(RIGHT($D43,1)<RIGHT('Efficiency Levels'!$C$33,1),0,\nIF(RIGHT($D43,1)=RIGHT('Efficiency Levels'!$C$33,1),SUM(OFFSET(BF33,-RIGHT($D43,1),0,RIGHT($D43,1),1)),\"ERROR\"))))","v":0},{"$f":"IF(BG$18<STANDARD_YEAR,BG33,\nIF(RIGHT($D43,1)>RIGHT('Efficiency Levels'!$C$33,1),BG33,\nIF(RIGHT($D43,1)<RIGHT('Efficiency Levels'!$C$33,1),0,\nIF(RIGHT($D43,1)=RIGHT('Efficiency Levels'!$C$33,1),SUM(OFFSET(BG33,-RIGHT($D43,1),0,RIGHT($D43,1),1)),\"ERROR\"))))","v":0},{"$f":"IF(BH$18<STANDARD_YEAR,BH33,\nIF(RIGHT($D43,1)>RIGHT('Efficiency Levels'!$C$33,1),BH33,\nIF(RIGHT($D43,1)<RIGHT('Efficiency Levels'!$C$33,1),0,\nIF(RIGHT($D43,1)=RIGHT('Efficiency Levels'!$C$33,1),SUM(OFFSET(BH33,-RIGHT($D43,1),0,RIGHT($D43,1),1)),\"ERROR\"))))","v":0},{"$f":"IF(BI$18<STANDARD_YEAR,BI33,\nIF(RIGHT($D43,1)>RIGHT('Efficiency Levels'!$C$33,1),BI33,\nIF(RIGHT($D43,1)<RIGHT('Efficiency Levels'!$C$33,1),0,\nIF(RIGHT($D43,1)=RIGHT('Efficiency Levels'!$C$33,1),SUM(OFFSET(BI33,-RIGHT($D43,1),0,RIGHT($D43,1),1)),\"ERROR\"))))","v":0},{"$f":"IF(BJ$18<STANDARD_YEAR,BJ33,\nIF(RIGHT($D43,1)>RIGHT('Efficiency Levels'!$C$33,1),BJ33,\nIF(RIGHT($D43,1)<RIGHT('Efficiency Levels'!$C$33,1),0,\nIF(RIGHT($D43,1)=RIGHT('Efficiency Levels'!$C$33,1),SUM(OFFSET(BJ33,-RIGHT($D43,1),0,RIGHT($D43,1),1)),\"ERROR\"))))","v":0}]
[null,null,null,"EL3",{"$f":"OFFSET('Efficiency Levels'!$D$11,MATCH($C$27,'Efficiency Levels'!$C$9:$C$995,0)+RIGHT(D44,1),0)","v":259.8},null,null,null,{"$f":"IF(I$18<STANDARD_YEAR,I34,\nIF(RIGHT($D44,1)>RIGHT('Efficiency Levels'!$C$33,1),I34,\nIF(RIGHT($D44,1)<RIGHT('Efficiency Levels'!$C$33,1),0,\nIF(RIGHT($D44,1)=RIGHT('Efficiency Levels'!$C$33,1),SUM(OFFSET(I34,-RIGHT($D44,1),0,RIGHT($D44,1),1)),\"ERROR\"))))","v":0},{"$f":"IF(J$18<STANDARD_YEAR,J34,\nIF(RIGHT($D44,1)>RIGHT('Efficiency Levels'!$C$33,1),J34,\nIF(RIGHT($D44,1)<RIGHT('Efficiency Levels'!$C$33,1),0,\nIF(RIGHT($D44,1)=RIGHT('Efficiency Levels'!$C$33,1),SUM(OFFSET(J34,-RIGHT($D44,1),0,RIGHT($D44,1),1)),\"ERROR\"))))","v":0},{"$f":"IF(K$18<STANDARD_YEAR,K34,\nIF(RIGHT($D44,1)>RIGHT('Efficiency Levels'!$C$33,1),K34,\nIF(RIGHT($D44,1)<RIGHT('Efficiency Levels'!$C$33,1),0,\nIF(RIGHT($D44,1)=RIGHT('Efficiency Levels'!$C$33,1),SUM(OFFSET(K34,-RIGHT($D44,1),0,RIGHT($D44,1),1)),\"ERROR\"))))","v":0},{"$f":"IF(L$18<STANDARD_YEAR,L34,\nIF(RIGHT($D44,1)>RIGHT('Efficiency Levels'!$C$33,1),L34,\nIF(RIGHT($D44,1)<RIGHT('Efficiency Levels'!$C$33,1),0,\nIF(RIGHT($D44,1)=RIGHT('Efficiency Levels'!$C$33,1),SUM(OFFSET(L34,-RIGHT($D44,1),0,RIGHT($D44,1),1)),\"ERROR\"))))","v":0},{"$f":"IF(M$18<STANDARD_YEAR,M34,\nIF(RIGHT($D44,1)>RIGHT('Efficiency Levels'!$C$33,1),M34,\nIF(RIGHT($D44,1)<RIGHT('Efficiency Levels'!$C$33,1),0,\nIF(RIGHT($D44,1)=RIGHT('Efficiency Levels'!$C$33,1),SUM(OFFSET(M34,-RIGHT($D44,1),0,RIGHT($D44,1),1)),\"ERROR\"))))","v":0},{"$f":"IF(N$18<STANDARD_YEAR,N34,\nIF(RIGHT($D44,1)>RIGHT('Efficiency Levels'!$C$33,1),N34,\nIF(RIGHT($D44,1)<RIGHT('Efficiency Levels'!$C$33,1),0,\nIF(RIGHT($D44,1)=RIGHT('Efficiency Levels'!$C$33,1),SUM(OFFSET(N34,-RIGHT($D44,1),0,RIGHT($D44,1),1)),\"ERROR\"))))","v":0},{"$f":"IF(O$18<STANDARD_YEAR,O34,\nIF(RIGHT($D44,1)>RIGHT('Efficiency Levels'!$C$33,1),O34,\nIF(RIGHT($D44,1)<RIGHT('Efficiency Levels'!$C$33,1),0,\nIF(RIGHT($D44,1)=RIGHT('Efficiency Levels'!$C$33,1),SUM(OFFSET(O34,-RIGHT($D44,1),0,RIGHT($D44,1),1)),\"ERROR\"))))","v":0},{"$f":"IF(P$18<STANDARD_YEAR,P34,\nIF(RIGHT($D44,1)>RIGHT('Efficiency Levels'!$C$33,1),P34,\nIF(RIGHT($D44,1)<RIGHT('Efficiency Levels'!$C$33,1),0,\nIF(RIGHT($D44,1)=RIGHT('Efficiency Levels'!$C$33,1),SUM(OFFSET(P34,-RIGHT($D44,1),0,RIGHT($D44,1),1)),\"ERROR\"))))","v":0},{"$f":"IF(Q$18<STANDARD_YEAR,Q34,\nIF(RIGHT($D44,1)>RIGHT('Efficiency Levels'!$C$33,1),Q34,\nIF(RIGHT($D44,1)<RIGHT('Efficiency Levels'!$C$33,1),0,\nIF(RIGHT($D44,1)=RIGHT('Efficiency Levels'!$C$33,1),SUM(OFFSET(Q34,-RIGHT($D44,1),0,RIGHT($D44,1),1)),\"ERROR\"))))","v":0},{"$f":"IF(R$18<STANDARD_YEAR,R34,\nIF(RIGHT($D44,1)>RIGHT('Efficiency Levels'!$C$33,1),R34,\nIF(RIGHT($D44,1)<RIGHT('Efficiency Levels'!$C$33,1),0,\nIF(RIGHT($D44,1)=RIGHT('Efficiency Levels'!$C$33,1),SUM(OFFSET(R34,-RIGHT($D44,1),0,RIGHT($D44,1),1)),\"ERROR\"))))","v":0},{"$f":"IF(S$18<STANDARD_YEAR,S34,\nIF(RIGHT($D44,1)>RIGHT('Efficiency Levels'!$C$33,1),S34,\nIF(RIGHT($D44,1)<RIGHT('Efficiency Levels'!$C$33,1),0,\nIF(RIGHT($D44,1)=RIGHT('Efficiency Levels'!$C$33,1),SUM(OFFSET(S34,-RIGHT($D44,1),0,RIGHT($D44,1),1)),\"ERROR\"))))","v":0},{"$f":"IF(T$18<STANDARD_YEAR,T34,\nIF(RIGHT($D44,1)>RIGHT('Efficiency Levels'!$C$33,1),T34,\nIF(RIGHT($D44,1)<RIGHT('Efficiency Levels'!$C$33,1),0,\nIF(RIGHT($D44,1)=RIGHT('Efficiency Levels'!$C$33,1),SUM(OFFSET(T34,-RIGHT($D44,1),0,RIGHT($D44,1),1)),\"ERROR\"))))","v":0},{"$f":"IF(U$18<STANDARD_YEAR,U34,\nIF(RIGHT($D44,1)>RIGHT('Efficiency Levels'!$C$33,1),U34,\nIF(RIGHT($D44,1)<RIGHT('Efficiency Levels'!$C$33,1),0,\nIF(RIGHT($D44,1)=RIGHT('Efficiency Levels'!$C$33,1),SUM(OFFSET(U34,-RIGHT($D44,1),0,RIGHT($D44,1),1)),\"ERROR\"))))","v":0},{"$f":"IF(V$18<STANDARD_YEAR,V34,\nIF(RIGHT($D44,1)>RIGHT('Efficiency Levels'!$C$33,1),V34,\nIF(RIGHT($D44,1)<RIGHT('Efficiency Levels'!$C$33,1),0,\nIF(RIGHT($D44,1)=RIGHT('Efficiency Levels'!$C$33,1),SUM(OFFSET(V34,-RIGHT($D44,1),0,RIGHT($D44,1),1)),\"ERROR\"))))","v":0},{"$f":"IF(W$18<STANDARD_YEAR,W34,\nIF(RIGHT($D44,1)>RIGHT('Efficiency Levels'!$C$33,1),W34,\nIF(RIGHT($D44,1)<RIGHT('Efficiency Levels'!$C$33,1),0,\nIF(RIGHT($D44,1)=RIGHT('Efficiency Levels'!$C$33,1),SUM(OFFSET(W34,-RIGHT($D44,1),0,RIGHT($D44,1),1)),\"ERROR\"))))","v":0},{"$f":"IF(X$18<STANDARD_YEAR,X34,\nIF(RIGHT($D44,1)>RIGHT('Efficiency Levels'!$C$33,1),X34,\nIF(RIGHT($D44,1)<RIGHT('Efficiency Levels'!$C$33,1),0,\nIF(RIGHT($D44,1)=RIGHT('Efficiency Levels'!$C$33,1),SUM(OFFSET(X34,-RIGHT($D44,1),0,RIGHT($D44,1),1)),\"ERROR\"))))","v":0},{"$f":"IF(Y$18<STANDARD_YEAR,Y34,\nIF(RIGHT($D44,1)>RIGHT('Efficiency Levels'!$C$33,1),Y34,\nIF(RIGHT($D44,1)<RIGHT('Efficiency Levels'!$C$33,1),0,\nIF(RIGHT($D44,1)=RIGHT('Efficiency Levels'!$C$33,1),SUM(OFFSET(Y34,-RIGHT($D44,1),0,RIGHT($D44,1),1)),\"ERROR\"))))","v":0},{"$f":"IF(Z$18<STANDARD_YEAR,Z34,\nIF(RIGHT($D44,1)>RIGHT('Efficiency Levels'!$C$33,1),Z34,\nIF(RIGHT($D44,1)<RIGHT('Efficiency Levels'!$C$33,1),0,\nIF(RIGHT($D44,1)=RIGHT('Efficiency Levels'!$C$33,1),SUM(OFFSET(Z34,-RIGHT($D44,1),0,RIGHT($D44,1),1)),\"ERROR\"))))","v":0},{"$f":"IF(AA$18<STANDARD_YEAR,AA34,\nIF(RIGHT($D44,1)>RIGHT('Efficiency Levels'!$C$33,1),AA34,\nIF(RIGHT($D44,1)<RIGHT('Efficiency Levels'!$C$33,1),0,\nIF(RIGHT($D44,1)=RIGHT('Efficiency Levels'!$C$33,1),SUM(OFFSET(AA34,-RIGHT($D44,1),0,RIGHT($D44,1),1)),\"ERROR\"))))","v":0},{"$f":"IF(AB$18<STANDARD_YEAR,AB34,\nIF(RIGHT($D44,1)>RIGHT('Efficiency Levels'!$C$33,1),AB34,\nIF(RIGHT($D44,1)<RIGHT('Efficiency Levels'!$C$33,1),0,\nIF(RIGHT($D44,1)=RIGHT('Efficiency Levels'!$C$33,1),SUM(OFFSET(AB34,-RIGHT($D44,1),0,RIGHT($D44,1),1)),\"ERROR\"))))","v":0},{"$f":"IF(AC$18<STANDARD_YEAR,AC34,\nIF(RIGHT($D44,1)>RIGHT('Efficiency Levels'!$C$33,1),AC34,\nIF(RIGHT($D44,1)<RIGHT('Efficiency Levels'!$C$33,1),0,\nIF(RIGHT($D44,1)=RIGHT('Efficiency Levels'!$C$33,1),SUM(OFFSET(AC34,-RIGHT($D44,1),0,RIGHT($D44,1),1)),\"ERROR\"))))","v":0},{"$f":"IF(AD$18<STANDARD_YEAR,AD34,\nIF(RIGHT($D44,1)>RIGHT('Efficiency Levels'!$C$33,1),AD34,\nIF(RIGHT($D44,1)<RIGHT('Efficiency Levels'!$C$33,1),0,\nIF(RIGHT($D44,1)=RIGHT('Efficiency Levels'!$C$33,1),SUM(OFFSET(AD34,-RIGHT($D44,1),0,RIGHT($D44,1),1)),\"ERROR\"))))","v":0},{"$f":"IF(AE$18<STANDARD_YEAR,AE34,\nIF(RIGHT($D44,1)>RIGHT('Efficiency Levels'!$C$33,1),AE34,\nIF(RIGHT($D44,1)<RIGHT('Efficiency Levels'!$C$33,1),0,\nIF(RIGHT($D44,1)=RIGHT('Efficiency Levels'!$C$33,1),SUM(OFFSET(AE34,-RIGHT($D44,1),0,RIGHT($D44,1),1)),\"ERROR\"))))","v":0},{"$f":"IF(AF$18<STANDARD_YEAR,AF34,\nIF(RIGHT($D44,1)>RIGHT('Efficiency Levels'!$C$33,1),AF34,\nIF(RIGHT($D44,1)<RIGHT('Efficiency Levels'!$C$33,1),0,\nIF(RIGHT($D44,1)=RIGHT('Efficiency Levels'!$C$33,1),SUM(OFFSET(AF34,-RIGHT($D44,1),0,RIGHT($D44,1),1)),\"ERROR\"))))","v":0},{"$f":"IF(AG$18<STANDARD_YEAR,AG34,\nIF(RIGHT($D44,1)>RIGHT('Efficiency Levels'!$C$33,1),AG34,\nIF(RIGHT($D44,1)<RIGHT('Efficiency Levels'!$C$33,1),0,\nIF(RIGHT($D44,1)=RIGHT('Efficiency Levels'!$C$33,1),SUM(OFFSET(AG34,-RIGHT($D44,1),0,RIGHT($D44,1),1)),\"ERROR\"))))","v":0},{"$f":"IF(AH$18<STANDARD_YEAR,AH34,\nIF(RIGHT($D44,1)>RIGHT('Efficiency Levels'!$C$33,1),AH34,\nIF(RIGHT($D44,1)<RIGHT('Efficiency Levels'!$C$33,1),0,\nIF(RIGHT($D44,1)=RIGHT('Efficiency Levels'!$C$33,1),SUM(OFFSET(AH34,-RIGHT($D44,1),0,RIGHT($D44,1),1)),\"ERROR\"))))","v":0},{"$f":"IF(AI$18<STANDARD_YEAR,AI34,\nIF(RIGHT($D44,1)>RIGHT('Efficiency Levels'!$C$33,1),AI34,\nIF(RIGHT($D44,1)<RIGHT('Efficiency Levels'!$C$33,1),0,\nIF(RIGHT($D44,1)=RIGHT('Efficiency Levels'!$C$33,1),SUM(OFFSET(AI34,-RIGHT($D44,1),0,RIGHT($D44,1),1)),\"ERROR\"))))","v":0},{"$f":"IF(AJ$18<STANDARD_YEAR,AJ34,\nIF(RIGHT($D44,1)>RIGHT('Efficiency Levels'!$C$33,1),AJ34,\nIF(RIGHT($D44,1)<RIGHT('Efficiency Levels'!$C$33,1),0,\nIF(RIGHT($D44,1)=RIGHT('Efficiency Levels'!$C$33,1),SUM(OFFSET(AJ34,-RIGHT($D44,1),0,RIGHT($D44,1),1)),\"ERROR\"))))","v":0},{"$f":"IF(AK$18<STANDARD_YEAR,AK34,\nIF(RIGHT($D44,1)>RIGHT('Efficiency Levels'!$C$33,1),AK34,\nIF(RIGHT($D44,1)<RIGHT('Efficiency Levels'!$C$33,1),0,\nIF(RIGHT($D44,1)=RIGHT('Efficiency Levels'!$C$33,1),SUM(OFFSET(AK34,-RIGHT($D44,1),0,RIGHT($D44,1),1)),\"ERROR\"))))","v":0},{"$f":"IF(AL$18<STANDARD_YEAR,AL34,\nIF(RIGHT($D44,1)>RIGHT('Efficiency Levels'!$C$33,1),AL34,\nIF(RIGHT($D44,1)<RIGHT('Efficiency Levels'!$C$33,1),0,\nIF(RIGHT($D44,1)=RIGHT('Efficiency Levels'!$C$33,1),SUM(OFFSET(AL34,-RIGHT($D44,1),0,RIGHT($D44,1),1)),\"ERROR\"))))","v":0},{"$f":"IF(AM$18<STANDARD_YEAR,AM34,\nIF(RIGHT($D44,1)>RIGHT('Efficiency Levels'!$C$33,1),AM34,\nIF(RIGHT($D44,1)<RIGHT('Efficiency Levels'!$C$33,1),0,\nIF(RIGHT($D44,1)=RIGHT('Efficiency Levels'!$C$33,1),SUM(OFFSET(AM34,-RIGHT($D44,1),0,RIGHT($D44,1),1)),\"ERROR\"))))","v":0},{"$f":"IF(AN$18<STANDARD_YEAR,AN34,\nIF(RIGHT($D44,1)>RIGHT('Efficiency Levels'!$C$33,1),AN34,\nIF(RIGHT($D44,1)<RIGHT('Efficiency Levels'!$C$33,1),0,\nIF(RIGHT($D44,1)=RIGHT('Efficiency Levels'!$C$33,1),SUM(OFFSET(AN34,-RIGHT($D44,1),0,RIGHT($D44,1),1)),\"ERROR\"))))","v":0},{"$f":"IF(AO$18<STANDARD_YEAR,AO34,\nIF(RIGHT($D44,1)>RIGHT('Efficiency Levels'!$C$33,1),AO34,\nIF(RIGHT($D44,1)<RIGHT('Efficiency Levels'!$C$33,1),0,\nIF(RIGHT($D44,1)=RIGHT('Efficiency Levels'!$C$33,1),SUM(OFFSET(AO34,-RIGHT($D44,1),0,RIGHT($D44,1),1)),\"ERROR\"))))","v":0},{"$f":"IF(AP$18<STANDARD_YEAR,AP34,\nIF(RIGHT($D44,1)>RIGHT('Efficiency Levels'!$C$33,1),AP34,\nIF(RIGHT($D44,1)<RIGHT('Efficiency Levels'!$C$33,1),0,\nIF(RIGHT($D44,1)=RIGHT('Efficiency Levels'!$C$33,1),SUM(OFFSET(AP34,-RIGHT($D44,1),0,RIGHT($D44,1),1)),\"ERROR\"))))","v":0},{"$f":"IF(AQ$18<STANDARD_YEAR,AQ34,\nIF(RIGHT($D44,1)>RIGHT('Efficiency Levels'!$C$33,1),AQ34,\nIF(RIGHT($D44,1)<RIGHT('Efficiency Levels'!$C$33,1),0,\nIF(RIGHT($D44,1)=RIGHT('Efficiency Levels'!$C$33,1),SUM(OFFSET(AQ34,-RIGHT($D44,1),0,RIGHT($D44,1),1)),\"ERROR\"))))","v":0},{"$f":"IF(AR$18<STANDARD_YEAR,AR34,\nIF(RIGHT($D44,1)>RIGHT('Efficiency Levels'!$C$33,1),AR34,\nIF(RIGHT($D44,1)<RIGHT('Efficiency Levels'!$C$33,1),0,\nIF(RIGHT($D44,1)=RIGHT('Efficiency Levels'!$C$33,1),SUM(OFFSET(AR34,-RIGHT($D44,1),0,RIGHT($D44,1),1)),\"ERROR\"))))","v":0},{"$f":"IF(AS$18<STANDARD_YEAR,AS34,\nIF(RIGHT($D44,1)>RIGHT('Efficiency Levels'!$C$33,1),AS34,\nIF(RIGHT($D44,1)<RIGHT('Efficiency Levels'!$C$33,1),0,\nIF(RIGHT($D44,1)=RIGHT('Efficiency Levels'!$C$33,1),SUM(OFFSET(AS34,-RIGHT($D44,1),0,RIGHT($D44,1),1)),\"ERROR\"))))","v":0},{"$f":"IF(AT$18<STANDARD_YEAR,AT34,\nIF(RIGHT($D44,1)>RIGHT('Efficiency Levels'!$C$33,1),AT34,\nIF(RIGHT($D44,1)<RIGHT('Efficiency Levels'!$C$33,1),0,\nIF(RIGHT($D44,1)=RIGHT('Efficiency Levels'!$C$33,1),SUM(OFFSET(AT34,-RIGHT($D44,1),0,RIGHT($D44,1),1)),\"ERROR\"))))","v":0},{"$f":"IF(AU$18<STANDARD_YEAR,AU34,\nIF(RIGHT($D44,1)>RIGHT('Efficiency Levels'!$C$33,1),AU34,\nIF(RIGHT($D44,1)<RIGHT('Efficiency Levels'!$C$33,1),0,\nIF(RIGHT($D44,1)=RIGHT('Efficiency Levels'!$C$33,1),SUM(OFFSET(AU34,-RIGHT($D44,1),0,RIGHT($D44,1),1)),\"ERROR\"))))","v":0},{"$f":"IF(AV$18<STANDARD_YEAR,AV34,\nIF(RIGHT($D44,1)>RIGHT('Efficiency Levels'!$C$33,1),AV34,\nIF(RIGHT($D44,1)<RIGHT('Efficiency Levels'!$C$33,1),0,\nIF(RIGHT($D44,1)=RIGHT('Efficiency Levels'!$C$33,1),SUM(OFFSET(AV34,-RIGHT($D44,1),0,RIGHT($D44,1),1)),\"ERROR\"))))","v":0},{"$f":"IF(AW$18<STANDARD_YEAR,AW34,\nIF(RIGHT($D44,1)>RIGHT('Efficiency Levels'!$C$33,1),AW34,\nIF(RIGHT($D44,1)<RIGHT('Efficiency Levels'!$C$33,1),0,\nIF(RIGHT($D44,1)=RIGHT('Efficiency Levels'!$C$33,1),SUM(OFFSET(AW34,-RIGHT($D44,1),0,RIGHT($D44,1),1)),\"ERROR\"))))","v":0},{"$f":"IF(AX$18<STANDARD_YEAR,AX34,\nIF(RIGHT($D44,1)>RIGHT('Efficiency Levels'!$C$33,1),AX34,\nIF(RIGHT($D44,1)<RIGHT('Efficiency Levels'!$C$33,1),0,\nIF(RIGHT($D44,1)=RIGHT('Efficiency Levels'!$C$33,1),SUM(OFFSET(AX34,-RIGHT($D44,1),0,RIGHT($D44,1),1)),\"ERROR\"))))","v":0},{"$f":"IF(AY$18<STANDARD_YEAR,AY34,\nIF(RIGHT($D44,1)>RIGHT('Efficiency Levels'!$C$33,1),AY34,\nIF(RIGHT($D44,1)<RIGHT('Efficiency Levels'!$C$33,1),0,\nIF(RIGHT($D44,1)=RIGHT('Efficiency Levels'!$C$33,1),SUM(OFFSET(AY34,-RIGHT($D44,1),0,RIGHT($D44,1),1)),\"ERROR\"))))","v":0},{"$f":"IF(AZ$18<STANDARD_YEAR,AZ34,\nIF(RIGHT($D44,1)>RIGHT('Efficiency Levels'!$C$33,1),AZ34,\nIF(RIGHT($D44,1)<RIGHT('Efficiency Levels'!$C$33,1),0,\nIF(RIGHT($D44,1)=RIGHT('Efficiency Levels'!$C$33,1),SUM(OFFSET(AZ34,-RIGHT($D44,1),0,RIGHT($D44,1),1)),\"ERROR\"))))","v":0},{"$f":"IF(BA$18<STANDARD_YEAR,BA34,\nIF(RIGHT($D44,1)>RIGHT('Efficiency Levels'!$C$33,1),BA34,\nIF(RIGHT($D44,1)<RIGHT('Efficiency Levels'!$C$33,1),0,\nIF(RIGHT($D44,1)=RIGHT('Efficiency Levels'!$C$33,1),SUM(OFFSET(BA34,-RIGHT($D44,1),0,RIGHT($D44,1),1)),\"ERROR\"))))","v":0},{"$f":"IF(BB$18<STANDARD_YEAR,BB34,\nIF(RIGHT($D44,1)>RIGHT('Efficiency Levels'!$C$33,1),BB34,\nIF(RIGHT($D44,1)<RIGHT('Efficiency Levels'!$C$33,1),0,\nIF(RIGHT($D44,1)=RIGHT('Efficiency Levels'!$C$33,1),SUM(OFFSET(BB34,-RIGHT($D44,1),0,RIGHT($D44,1),1)),\"ERROR\"))))","v":0},{"$f":"IF(BC$18<STANDARD_YEAR,BC34,\nIF(RIGHT($D44,1)>RIGHT('Efficiency Levels'!$C$33,1),BC34,\nIF(RIGHT($D44,1)<RIGHT('Efficiency Levels'!$C$33,1),0,\nIF(RIGHT($D44,1)=RIGHT('Efficiency Levels'!$C$33,1),SUM(OFFSET(BC34,-RIGHT($D44,1),0,RIGHT($D44,1),1)),\"ERROR\"))))","v":0},{"$f":"IF(BD$18<STANDARD_YEAR,BD34,\nIF(RIGHT($D44,1)>RIGHT('Efficiency Levels'!$C$33,1),BD34,\nIF(RIGHT($D44,1)<RIGHT('Efficiency Levels'!$C$33,1),0,\nIF(RIGHT($D44,1)=RIGHT('Efficiency Levels'!$C$33,1),SUM(OFFSET(BD34,-RIGHT($D44,1),0,RIGHT($D44,1),1)),\"ERROR\"))))","v":0},{"$f":"IF(BE$18<STANDARD_YEAR,BE34,\nIF(RIGHT($D44,1)>RIGHT('Efficiency Levels'!$C$33,1),BE34,\nIF(RIGHT($D44,1)<RIGHT('Efficiency Levels'!$C$33,1),0,\nIF(RIGHT($D44,1)=RIGHT('Efficiency Levels'!$C$33,1),SUM(OFFSET(BE34,-RIGHT($D44,1),0,RIGHT($D44,1),1)),\"ERROR\"))))","v":0},{"$f":"IF(BF$18<STANDARD_YEAR,BF34,\nIF(RIGHT($D44,1)>RIGHT('Efficiency Levels'!$C$33,1),BF34,\nIF(RIGHT($D44,1)<RIGHT('Efficiency Levels'!$C$33,1),0,\nIF(RIGHT($D44,1)=RIGHT('Efficiency Levels'!$C$33,1),SUM(OFFSET(BF34,-RIGHT($D44,1),0,RIGHT($D44,1),1)),\"ERROR\"))))","v":0},{"$f":"IF(BG$18<STANDARD_YEAR,BG34,\nIF(RIGHT($D44,1)>RIGHT('Efficiency Levels'!$C$33,1),BG34,\nIF(RIGHT($D44,1)<RIGHT('Efficiency Levels'!$C$33,1),0,\nIF(RIGHT($D44,1)=RIGHT('Efficiency Levels'!$C$33,1),SUM(OFFSET(BG34,-RIGHT($D44,1),0,RIGHT($D44,1),1)),\"ERROR\"))))","v":0},{"$f":"IF(BH$18<STANDARD_YEAR,BH34,\nIF(RIGHT($D44,1)>RIGHT('Efficiency Levels'!$C$33,1),BH34,\nIF(RIGHT($D44,1)<RIGHT('Efficiency Levels'!$C$33,1),0,\nIF(RIGHT($D44,1)=RIGHT('Efficiency Levels'!$C$33,1),SUM(OFFSET(BH34,-RIGHT($D44,1),0,RIGHT($D44,1),1)),\"ERROR\"))))","v":0},{"$f":"IF(BI$18<STANDARD_YEAR,BI34,\nIF(RIGHT($D44,1)>RIGHT('Efficiency Levels'!$C$33,1),BI34,\nIF(RIGHT($D44,1)<RIGHT('Efficiency Levels'!$C$33,1),0,\nIF(RIGHT($D44,1)=RIGHT('Efficiency Levels'!$C$33,1),SUM(OFFSET(BI34,-RIGHT($D44,1),0,RIGHT($D44,1),1)),\"ERROR\"))))","v":0},{"$f":"IF(BJ$18<STANDARD_YEAR,BJ34,\nIF(RIGHT($D44,1)>RIGHT('Efficiency Levels'!$C$33,1),BJ34,\nIF(RIGHT($D44,1)<RIGHT('Efficiency Levels'!$C$33,1),0,\nIF(RIGHT($D44,1)=RIGHT('Efficiency Levels'!$C$33,1),SUM(OFFSET(BJ34,-RIGHT($D44,1),0,RIGHT($D44,1),1)),\"ERROR\"))))","v":0}]
[null,null,null,"EL4",{"$f":"OFFSET('Efficiency Levels'!$D$11,MATCH($C$27,'Efficiency Levels'!$C$9:$C$995,0)+RIGHT(D45,1),0)","v":245.9},null,null,null,{"$f":"IF(I$18<STANDARD_YEAR,I35,\nIF(RIGHT($D45,1)>RIGHT('Efficiency Levels'!$C$33,1),I35,\nIF(RIGHT($D45,1)<RIGHT('Efficiency Levels'!$C$33,1),0,\nIF(RIGHT($D45,1)=RIGHT('Efficiency Levels'!$C$33,1),SUM(OFFSET(I35,-RIGHT($D45,1),0,RIGHT($D45,1),1)),\"ERROR\"))))","v":0},{"$f":"IF(J$18<STANDARD_YEAR,J35,\nIF(RIGHT($D45,1)>RIGHT('Efficiency Levels'!$C$33,1),J35,\nIF(RIGHT($D45,1)<RIGHT('Efficiency Levels'!$C$33,1),0,\nIF(RIGHT($D45,1)=RIGHT('Efficiency Levels'!$C$33,1),SUM(OFFSET(J35,-RIGHT($D45,1),0,RIGHT($D45,1),1)),\"ERROR\"))))","v":0},{"$f":"IF(K$18<STANDARD_YEAR,K35,\nIF(RIGHT($D45,1)>RIGHT('Efficiency Levels'!$C$33,1),K35,\nIF(RIGHT($D45,1)<RIGHT('Efficiency Levels'!$C$33,1),0,\nIF(RIGHT($D45,1)=RIGHT('Efficiency Levels'!$C$33,1),SUM(OFFSET(K35,-RIGHT($D45,1),0,RIGHT($D45,1),1)),\"ERROR\"))))","v":0},{"$f":"IF(L$18<STANDARD_YEAR,L35,\nIF(RIGHT($D45,1)>RIGHT('Efficiency Levels'!$C$33,1),L35,\nIF(RIGHT($D45,1)<RIGHT('Efficiency Levels'!$C$33,1),0,\nIF(RIGHT($D45,1)=RIGHT('Efficiency Levels'!$C$33,1),SUM(OFFSET(L35,-RIGHT($D45,1),0,RIGHT($D45,1),1)),\"ERROR\"))))","v":0},{"$f":"IF(M$18<STANDARD_YEAR,M35,\nIF(RIGHT($D45,1)>RIGHT('Efficiency Levels'!$C$33,1),M35,\nIF(RIGHT($D45,1)<RIGHT('Efficiency Levels'!$C$33,1),0,\nIF(RIGHT($D45,1)=RIGHT('Efficiency Levels'!$C$33,1),SUM(OFFSET(M35,-RIGHT($D45,1),0,RIGHT($D45,1),1)),\"ERROR\"))))","v":0},{"$f":"IF(N$18<STANDARD_YEAR,N35,\nIF(RIGHT($D45,1)>RIGHT('Efficiency Levels'!$C$33,1),N35,\nIF(RIGHT($D45,1)<RIGHT('Efficiency Levels'!$C$33,1),0,\nIF(RIGHT($D45,1)=RIGHT('Efficiency Levels'!$C$33,1),SUM(OFFSET(N35,-RIGHT($D45,1),0,RIGHT($D45,1),1)),\"ERROR\"))))","v":0},{"$f":"IF(O$18<STANDARD_YEAR,O35,\nIF(RIGHT($D45,1)>RIGHT('Efficiency Levels'!$C$33,1),O35,\nIF(RIGHT($D45,1)<RIGHT('Efficiency Levels'!$C$33,1),0,\nIF(RIGHT($D45,1)=RIGHT('Efficiency Levels'!$C$33,1),SUM(OFFSET(O35,-RIGHT($D45,1),0,RIGHT($D45,1),1)),\"ERROR\"))))","v":0},{"$f":"IF(P$18<STANDARD_YEAR,P35,\nIF(RIGHT($D45,1)>RIGHT('Efficiency Levels'!$C$33,1),P35,\nIF(RIGHT($D45,1)<RIGHT('Efficiency Levels'!$C$33,1),0,\nIF(RIGHT($D45,1)=RIGHT('Efficiency Levels'!$C$33,1),SUM(OFFSET(P35,-RIGHT($D45,1),0,RIGHT($D45,1),1)),\"ERROR\"))))","v":0},{"$f":"IF(Q$18<STANDARD_YEAR,Q35,\nIF(RIGHT($D45,1)>RIGHT('Efficiency Levels'!$C$33,1),Q35,\nIF(RIGHT($D45,1)<RIGHT('Efficiency Levels'!$C$33,1),0,\nIF(RIGHT($D45,1)=RIGHT('Efficiency Levels'!$C$33,1),SUM(OFFSET(Q35,-RIGHT($D45,1),0,RIGHT($D45,1),1)),\"ERROR\"))))","v":0},{"$f":"IF(R$18<STANDARD_YEAR,R35,\nIF(RIGHT($D45,1)>RIGHT('Efficiency Levels'!$C$33,1),R35,\nIF(RIGHT($D45,1)<RIGHT('Efficiency Levels'!$C$33,1),0,\nIF(RIGHT($D45,1)=RIGHT('Efficiency Levels'!$C$33,1),SUM(OFFSET(R35,-RIGHT($D45,1),0,RIGHT($D45,1),1)),\"ERROR\"))))","v":0},{"$f":"IF(S$18<STANDARD_YEAR,S35,\nIF(RIGHT($D45,1)>RIGHT('Efficiency Levels'!$C$33,1),S35,\nIF(RIGHT($D45,1)<RIGHT('Efficiency Levels'!$C$33,1),0,\nIF(RIGHT($D45,1)=RIGHT('Efficiency Levels'!$C$33,1),SUM(OFFSET(S35,-RIGHT($D45,1),0,RIGHT($D45,1),1)),\"ERROR\"))))","v":0},{"$f":"IF(T$18<STANDARD_YEAR,T35,\nIF(RIGHT($D45,1)>RIGHT('Efficiency Levels'!$C$33,1),T35,\nIF(RIGHT($D45,1)<RIGHT('Efficiency Levels'!$C$33,1),0,\nIF(RIGHT($D45,1)=RIGHT('Efficiency Levels'!$C$33,1),SUM(OFFSET(T35,-RIGHT($D45,1),0,RIGHT($D45,1),1)),\"ERROR\"))))","v":0},{"$f":"IF(U$18<STANDARD_YEAR,U35,\nIF(RIGHT($D45,1)>RIGHT('Efficiency Levels'!$C$33,1),U35,\nIF(RIGHT($D45,1)<RIGHT('Efficiency Levels'!$C$33,1),0,\nIF(RIGHT($D45,1)=RIGHT('Efficiency Levels'!$C$33,1),SUM(OFFSET(U35,-RIGHT($D45,1),0,RIGHT($D45,1),1)),\"ERROR\"))))","v":0},{"$f":"IF(V$18<STANDARD_YEAR,V35,\nIF(RIGHT($D45,1)>RIGHT('Efficiency Levels'!$C$33,1),V35,\nIF(RIGHT($D45,1)<RIGHT('Efficiency Levels'!$C$33,1),0,\nIF(RIGHT($D45,1)=RIGHT('Efficiency Levels'!$C$33,1),SUM(OFFSET(V35,-RIGHT($D45,1),0,RIGHT($D45,1),1)),\"ERROR\"))))","v":0},{"$f":"IF(W$18<STANDARD_YEAR,W35,\nIF(RIGHT($D45,1)>RIGHT('Efficiency Levels'!$C$33,1),W35,\nIF(RIGHT($D45,1)<RIGHT('Efficiency Levels'!$C$33,1),0,\nIF(RIGHT($D45,1)=RIGHT('Efficiency Levels'!$C$33,1),SUM(OFFSET(W35,-RIGHT($D45,1),0,RIGHT($D45,1),1)),\"ERROR\"))))","v":0},{"$f":"IF(X$18<STANDARD_YEAR,X35,\nIF(RIGHT($D45,1)>RIGHT('Efficiency Levels'!$C$33,1),X35,\nIF(RIGHT($D45,1)<RIGHT('Efficiency Levels'!$C$33,1),0,\nIF(RIGHT($D45,1)=RIGHT('Efficiency Levels'!$C$33,1),SUM(OFFSET(X35,-RIGHT($D45,1),0,RIGHT($D45,1),1)),\"ERROR\"))))","v":0},{"$f":"IF(Y$18<STANDARD_YEAR,Y35,\nIF(RIGHT($D45,1)>RIGHT('Efficiency Levels'!$C$33,1),Y35,\nIF(RIGHT($D45,1)<RIGHT('Efficiency Levels'!$C$33,1),0,\nIF(RIGHT($D45,1)=RIGHT('Efficiency Levels'!$C$33,1),SUM(OFFSET(Y35,-RIGHT($D45,1),0,RIGHT($D45,1),1)),\"ERROR\"))))","v":0},{"$f":"IF(Z$18<STANDARD_YEAR,Z35,\nIF(RIGHT($D45,1)>RIGHT('Efficiency Levels'!$C$33,1),Z35,\nIF(RIGHT($D45,1)<RIGHT('Efficiency Levels'!$C$33,1),0,\nIF(RIGHT($D45,1)=RIGHT('Efficiency Levels'!$C$33,1),SUM(OFFSET(Z35,-RIGHT($D45,1),0,RIGHT($D45,1),1)),\"ERROR\"))))","v":0},{"$f":"IF(AA$18<STANDARD_YEAR,AA35,\nIF(RIGHT($D45,1)>RIGHT('Efficiency Levels'!$C$33,1),AA35,\nIF(RIGHT($D45,1)<RIGHT('Efficiency Levels'!$C$33,1),0,\nIF(RIGHT($D45,1)=RIGHT('Efficiency Levels'!$C$33,1),SUM(OFFSET(AA35,-RIGHT($D45,1),0,RIGHT($D45,1),1)),\"ERROR\"))))","v":0},{"$f":"IF(AB$18<STANDARD_YEAR,AB35,\nIF(RIGHT($D45,1)>RIGHT('Efficiency Levels'!$C$33,1),AB35,\nIF(RIGHT($D45,1)<RIGHT('Efficiency Levels'!$C$33,1),0,\nIF(RIGHT($D45,1)=RIGHT('Efficiency Levels'!$C$33,1),SUM(OFFSET(AB35,-RIGHT($D45,1),0,RIGHT($D45,1),1)),\"ERROR\"))))","v":0},{"$f":"IF(AC$18<STANDARD_YEAR,AC35,\nIF(RIGHT($D45,1)>RIGHT('Efficiency Levels'!$C$33,1),AC35,\nIF(RIGHT($D45,1)<RIGHT('Efficiency Levels'!$C$33,1),0,\nIF(RIGHT($D45,1)=RIGHT('Efficiency Levels'!$C$33,1),SUM(OFFSET(AC35,-RIGHT($D45,1),0,RIGHT($D45,1),1)),\"ERROR\"))))","v":0},{"$f":"IF(AD$18<STANDARD_YEAR,AD35,\nIF(RIGHT($D45,1)>RIGHT('Efficiency Levels'!$C$33,1),AD35,\nIF(RIGHT($D45,1)<RIGHT('Efficiency Levels'!$C$33,1),0,\nIF(RIGHT($D45,1)=RIGHT('Efficiency Levels'!$C$33,1),SUM(OFFSET(AD35,-RIGHT($D45,1),0,RIGHT($D45,1),1)),\"ERROR\"))))","v":0},{"$f":"IF(AE$18<STANDARD_YEAR,AE35,\nIF(RIGHT($D45,1)>RIGHT('Efficiency Levels'!$C$33,1),AE35,\nIF(RIGHT($D45,1)<RIGHT('Efficiency Levels'!$C$33,1),0,\nIF(RIGHT($D45,1)=RIGHT('Efficiency Levels'!$C$33,1),SUM(OFFSET(AE35,-RIGHT($D45,1),0,RIGHT($D45,1),1)),\"ERROR\"))))","v":0},{"$f":"IF(AF$18<STANDARD_YEAR,AF35,\nIF(RIGHT($D45,1)>RIGHT('Efficiency Levels'!$C$33,1),AF35,\nIF(RIGHT($D45,1)<RIGHT('Efficiency Levels'!$C$33,1),0,\nIF(RIGHT($D45,1)=RIGHT('Efficiency Levels'!$C$33,1),SUM(OFFSET(AF35,-RIGHT($D45,1),0,RIGHT($D45,1),1)),\"ERROR\"))))","v":0},{"$f":"IF(AG$18<STANDARD_YEAR,AG35,\nIF(RIGHT($D45,1)>RIGHT('Efficiency Levels'!$C$33,1),AG35,\nIF(RIGHT($D45,1)<RIGHT('Efficiency Levels'!$C$33,1),0,\nIF(RIGHT($D45,1)=RIGHT('Efficiency Levels'!$C$33,1),SUM(OFFSET(AG35,-RIGHT($D45,1),0,RIGHT($D45,1),1)),\"ERROR\"))))","v":0},{"$f":"IF(AH$18<STANDARD_YEAR,AH35,\nIF(RIGHT($D45,1)>RIGHT('Efficiency Levels'!$C$33,1),AH35,\nIF(RIGHT($D45,1)<RIGHT('Efficiency Levels'!$C$33,1),0,\nIF(RIGHT($D45,1)=RIGHT('Efficiency Levels'!$C$33,1),SUM(OFFSET(AH35,-RIGHT($D45,1),0,RIGHT($D45,1),1)),\"ERROR\"))))","v":0},{"$f":"IF(AI$18<STANDARD_YEAR,AI35,\nIF(RIGHT($D45,1)>RIGHT('Efficiency Levels'!$C$33,1),AI35,\nIF(RIGHT($D45,1)<RIGHT('Efficiency Levels'!$C$33,1),0,\nIF(RIGHT($D45,1)=RIGHT('Efficiency Levels'!$C$33,1),SUM(OFFSET(AI35,-RIGHT($D45,1),0,RIGHT($D45,1),1)),\"ERROR\"))))","v":0},{"$f":"IF(AJ$18<STANDARD_YEAR,AJ35,\nIF(RIGHT($D45,1)>RIGHT('Efficiency Levels'!$C$33,1),AJ35,\nIF(RIGHT($D45,1)<RIGHT('Efficiency Levels'!$C$33,1),0,\nIF(RIGHT($D45,1)=RIGHT('Efficiency Levels'!$C$33,1),SUM(OFFSET(AJ35,-RIGHT($D45,1),0,RIGHT($D45,1),1)),\"ERROR\"))))","v":0},{"$f":"IF(AK$18<STANDARD_YEAR,AK35,\nIF(RIGHT($D45,1)>RIGHT('Efficiency Levels'!$C$33,1),AK35,\nIF(RIGHT($D45,1)<RIGHT('Efficiency Levels'!$C$33,1),0,\nIF(RIGHT($D45,1)=RIGHT('Efficiency Levels'!$C$33,1),SUM(OFFSET(AK35,-RIGHT($D45,1),0,RIGHT($D45,1),1)),\"ERROR\"))))","v":0},{"$f":"IF(AL$18<STANDARD_YEAR,AL35,\nIF(RIGHT($D45,1)>RIGHT('Efficiency Levels'!$C$33,1),AL35,\nIF(RIGHT($D45,1)<RIGHT('Efficiency Levels'!$C$33,1),0,\nIF(RIGHT($D45,1)=RIGHT('Efficiency Levels'!$C$33,1),SUM(OFFSET(AL35,-RIGHT($D45,1),0,RIGHT($D45,1),1)),\"ERROR\"))))","v":0},{"$f":"IF(AM$18<STANDARD_YEAR,AM35,\nIF(RIGHT($D45,1)>RIGHT('Efficiency Levels'!$C$33,1),AM35,\nIF(RIGHT($D45,1)<RIGHT('Efficiency Levels'!$C$33,1),0,\nIF(RIGHT($D45,1)=RIGHT('Efficiency Levels'!$C$33,1),SUM(OFFSET(AM35,-RIGHT($D45,1),0,RIGHT($D45,1),1)),\"ERROR\"))))","v":0},{"$f":"IF(AN$18<STANDARD_YEAR,AN35,\nIF(RIGHT($D45,1)>RIGHT('Efficiency Levels'!$C$33,1),AN35,\nIF(RIGHT($D45,1)<RIGHT('Efficiency Levels'!$C$33,1),0,\nIF(RIGHT($D45,1)=RIGHT('Efficiency Levels'!$C$33,1),SUM(OFFSET(AN35,-RIGHT($D45,1),0,RIGHT($D45,1),1)),\"ERROR\"))))","v":0},{"$f":"IF(AO$18<STANDARD_YEAR,AO35,\nIF(RIGHT($D45,1)>RIGHT('Efficiency Levels'!$C$33,1),AO35,\nIF(RIGHT($D45,1)<RIGHT('Efficiency Levels'!$C$33,1),0,\nIF(RIGHT($D45,1)=RIGHT('Efficiency Levels'!$C$33,1),SUM(OFFSET(AO35,-RIGHT($D45,1),0,RIGHT($D45,1),1)),\"ERROR\"))))","v":0},{"$f":"IF(AP$18<STANDARD_YEAR,AP35,\nIF(RIGHT($D45,1)>RIGHT('Efficiency Levels'!$C$33,1),AP35,\nIF(RIGHT($D45,1)<RIGHT('Efficiency Levels'!$C$33,1),0,\nIF(RIGHT($D45,1)=RIGHT('Efficiency Levels'!$C$33,1),SUM(OFFSET(AP35,-RIGHT($D45,1),0,RIGHT($D45,1),1)),\"ERROR\"))))","v":0},{"$f":"IF(AQ$18<STANDARD_YEAR,AQ35,\nIF(RIGHT($D45,1)>RIGHT('Efficiency Levels'!$C$33,1),AQ35,\nIF(RIGHT($D45,1)<RIGHT('Efficiency Levels'!$C$33,1),0,\nIF(RIGHT($D45,1)=RIGHT('Efficiency Levels'!$C$33,1),SUM(OFFSET(AQ35,-RIGHT($D45,1),0,RIGHT($D45,1),1)),\"ERROR\"))))","v":0},{"$f":"IF(AR$18<STANDARD_YEAR,AR35,\nIF(RIGHT($D45,1)>RIGHT('Efficiency Levels'!$C$33,1),AR35,\nIF(RIGHT($D45,1)<RIGHT('Efficiency Levels'!$C$33,1),0,\nIF(RIGHT($D45,1)=RIGHT('Efficiency Levels'!$C$33,1),SUM(OFFSET(AR35,-RIGHT($D45,1),0,RIGHT($D45,1),1)),\"ERROR\"))))","v":0},{"$f":"IF(AS$18<STANDARD_YEAR,AS35,\nIF(RIGHT($D45,1)>RIGHT('Efficiency Levels'!$C$33,1),AS35,\nIF(RIGHT($D45,1)<RIGHT('Efficiency Levels'!$C$33,1),0,\nIF(RIGHT($D45,1)=RIGHT('Efficiency Levels'!$C$33,1),SUM(OFFSET(AS35,-RIGHT($D45,1),0,RIGHT($D45,1),1)),\"ERROR\"))))","v":0},{"$f":"IF(AT$18<STANDARD_YEAR,AT35,\nIF(RIGHT($D45,1)>RIGHT('Efficiency Levels'!$C$33,1),AT35,\nIF(RIGHT($D45,1)<RIGHT('Efficiency Levels'!$C$33,1),0,\nIF(RIGHT($D45,1)=RIGHT('Efficiency Levels'!$C$33,1),SUM(OFFSET(AT35,-RIGHT($D45,1),0,RIGHT($D45,1),1)),\"ERROR\"))))","v":0},{"$f":"IF(AU$18<STANDARD_YEAR,AU35,\nIF(RIGHT($D45,1)>RIGHT('Efficiency Levels'!$C$33,1),AU35,\nIF(RIGHT($D45,1)<RIGHT('Efficiency Levels'!$C$33,1),0,\nIF(RIGHT($D45,1)=RIGHT('Efficiency Levels'!$C$33,1),SUM(OFFSET(AU35,-RIGHT($D45,1),0,RIGHT($D45,1),1)),\"ERROR\"))))","v":1},{"$f":"IF(AV$18<STANDARD_YEAR,AV35,\nIF(RIGHT($D45,1)>RIGHT('Efficiency Levels'!$C$33,1),AV35,\nIF(RIGHT($D45,1)<RIGHT('Efficiency Levels'!$C$33,1),0,\nIF(RIGHT($D45,1)=RIGHT('Efficiency Levels'!$C$33,1),SUM(OFFSET(AV35,-RIGHT($D45,1),0,RIGHT($D45,1),1)),\"ERROR\"))))","v":1},{"$f":"IF(AW$18<STANDARD_YEAR,AW35,\nIF(RIGHT($D45,1)>RIGHT('Efficiency Levels'!$C$33,1),AW35,\nIF(RIGHT($D45,1)<RIGHT('Efficiency Levels'!$C$33,1),0,\nIF(RIGHT($D45,1)=RIGHT('Efficiency Levels'!$C$33,1),SUM(OFFSET(AW35,-RIGHT($D45,1),0,RIGHT($D45,1),1)),\"ERROR\"))))","v":1},{"$f":"IF(AX$18<STANDARD_YEAR,AX35,\nIF(RIGHT($D45,1)>RIGHT('Efficiency Levels'!$C$33,1),AX35,\nIF(RIGHT($D45,1)<RIGHT('Efficiency Levels'!$C$33,1),0,\nIF(RIGHT($D45,1)=RIGHT('Efficiency Levels'!$C$33,1),SUM(OFFSET(AX35,-RIGHT($D45,1),0,RIGHT($D45,1),1)),\"ERROR\"))))","v":1},{"$f":"IF(AY$18<STANDARD_YEAR,AY35,\nIF(RIGHT($D45,1)>RIGHT('Efficiency Levels'!$C$33,1),AY35,\nIF(RIGHT($D45,1)<RIGHT('Efficiency Levels'!$C$33,1),0,\nIF(RIGHT($D45,1)=RIGHT('Efficiency Levels'!$C$33,1),SUM(OFFSET(AY35,-RIGHT($D45,1),0,RIGHT($D45,1),1)),\"ERROR\"))))","v":1},{"$f":"IF(AZ$18<STANDARD_YEAR,AZ35,\nIF(RIGHT($D45,1)>RIGHT('Efficiency Levels'!$C$33,1),AZ35,\nIF(RIGHT($D45,1)<RIGHT('Efficiency Levels'!$C$33,1),0,\nIF(RIGHT($D45,1)=RIGHT('Efficiency Levels'!$C$33,1),SUM(OFFSET(AZ35,-RIGHT($D45,1),0,RIGHT($D45,1),1)),\"ERROR\"))))","v":1},{"$f":"IF(BA$18<STANDARD_YEAR,BA35,\nIF(RIGHT($D45,1)>RIGHT('Efficiency Levels'!$C$33,1),BA35,\nIF(RIGHT($D45,1)<RIGHT('Efficiency Levels'!$C$33,1),0,\nIF(RIGHT($D45,1)=RIGHT('Efficiency Levels'!$C$33,1),SUM(OFFSET(BA35,-RIGHT($D45,1),0,RIGHT($D45,1),1)),\"ERROR\"))))","v":1},{"$f":"IF(BB$18<STANDARD_YEAR,BB35,\nIF(RIGHT($D45,1)>RIGHT('Efficiency Levels'!$C$33,1),BB35,\nIF(RIGHT($D45,1)<RIGHT('Efficiency Levels'!$C$33,1),0,\nIF(RIGHT($D45,1)=RIGHT('Efficiency Levels'!$C$33,1),SUM(OFFSET(BB35,-RIGHT($D45,1),0,RIGHT($D45,1),1)),\"ERROR\"))))","v":1},{"$f":"IF(BC$18<STANDARD_YEAR,BC35,\nIF(RIGHT($D45,1)>RIGHT('Efficiency Levels'!$C$33,1),BC35,\nIF(RIGHT($D45,1)<RIGHT('Efficiency Levels'!$C$33,1),0,\nIF(RIGHT($D45,1)=RIGHT('Efficiency Levels'!$C$33,1),SUM(OFFSET(BC35,-RIGHT($D45,1),0,RIGHT($D45,1),1)),\"ERROR\"))))","v":1},{"$f":"IF(BD$18<STANDARD_YEAR,BD35,\nIF(RIGHT($D45,1)>RIGHT('Efficiency Levels'!$C$33,1),BD35,\nIF(RIGHT($D45,1)<RIGHT('Efficiency Levels'!$C$33,1),0,\nIF(RIGHT($D45,1)=RIGHT('Efficiency Levels'!$C$33,1),SUM(OFFSET(BD35,-RIGHT($D45,1),0,RIGHT($D45,1),1)),\"ERROR\"))))","v":1},{"$f":"IF(BE$18<STANDARD_YEAR,BE35,\nIF(RIGHT($D45,1)>RIGHT('Efficiency Levels'!$C$33,1),BE35,\nIF(RIGHT($D45,1)<RIGHT('Efficiency Levels'!$C$33,1),0,\nIF(RIGHT($D45,1)=RIGHT('Efficiency Levels'!$C$33,1),SUM(OFFSET(BE35,-RIGHT($D45,1),0,RIGHT($D45,1),1)),\"ERROR\"))))","v":1},{"$f":"IF(BF$18<STANDARD_YEAR,BF35,\nIF(RIGHT($D45,1)>RIGHT('Efficiency Levels'!$C$33,1),BF35,\nIF(RIGHT($D45,1)<RIGHT('Efficiency Levels'!$C$33,1),0,\nIF(RIGHT($D45,1)=RIGHT('Efficiency Levels'!$C$33,1),SUM(OFFSET(BF35,-RIGHT($D45,1),0,RIGHT($D45,1),1)),\"ERROR\"))))","v":1},{"$f":"IF(BG$18<STANDARD_YEAR,BG35,\nIF(RIGHT($D45,1)>RIGHT('Efficiency Levels'!$C$33,1),BG35,\nIF(RIGHT($D45,1)<RIGHT('Efficiency Levels'!$C$33,1),0,\nIF(RIGHT($D45,1)=RIGHT('Efficiency Levels'!$C$33,1),SUM(OFFSET(BG35,-RIGHT($D45,1),0,RIGHT($D45,1),1)),\"ERROR\"))))","v":1},{"$f":"IF(BH$18<STANDARD_YEAR,BH35,\nIF(RIGHT($D45,1)>RIGHT('Efficiency Levels'!$C$33,1),BH35,\nIF(RIGHT($D45,1)<RIGHT('Efficiency Levels'!$C$33,1),0,\nIF(RIGHT($D45,1)=RIGHT('Efficiency Levels'!$C$33,1),SUM(OFFSET(BH35,-RIGHT($D45,1),0,RIGHT($D45,1),1)),\"ERROR\"))))","v":1},{"$f":"IF(BI$18<STANDARD_YEAR,BI35,\nIF(RIGHT($D45,1)>RIGHT('Efficiency Levels'!$C$33,1),BI35,\nIF(RIGHT($D45,1)<RIGHT('Efficiency Levels'!$C$33,1),0,\nIF(RIGHT($D45,1)=RIGHT('Efficiency Levels'!$C$33,1),SUM(OFFSET(BI35,-RIGHT($D45,1),0,RIGHT($D45,1),1)),\"ERROR\"))))","v":1},{"$f":"IF(BJ$18<STANDARD_YEAR,BJ35,\nIF(RIGHT($D45,1)>RIGHT('Efficiency Levels'!$C$33,1),BJ35,\nIF(RIGHT($D45,1)<RIGHT('Efficiency Levels'!$C$33,1),0,\nIF(RIGHT($D45,1)=RIGHT('Efficiency Levels'!$C$33,1),SUM(OFFSET(BJ35,-RIGHT($D45,1),0,RIGHT($D45,1),1)),\"ERROR\"))))","v":1}]
[null,null,null,"EL5",{"$f":"OFFSET('Efficiency Levels'!$D$11,MATCH($C$27,'Efficiency Levels'!$C$9:$C$995,0)+RIGHT(D46,1),0)","v":240.7},null,null,null,{"$f":"IF(I$18<STANDARD_YEAR,I36,\nIF(RIGHT($D46,1)>RIGHT('Efficiency Levels'!$C$33,1),I36,\nIF(RIGHT($D46,1)<RIGHT('Efficiency Levels'!$C$33,1),0,\nIF(RIGHT($D46,1)=RIGHT('Efficiency Levels'!$C$33,1),SUM(OFFSET(I36,-RIGHT($D46,1),0,RIGHT($D46,1),1)),\"ERROR\"))))","v":0},{"$f":"IF(J$18<STANDARD_YEAR,J36,\nIF(RIGHT($D46,1)>RIGHT('Efficiency Levels'!$C$33,1),J36,\nIF(RIGHT($D46,1)<RIGHT('Efficiency Levels'!$C$33,1),0,\nIF(RIGHT($D46,1)=RIGHT('Efficiency Levels'!$C$33,1),SUM(OFFSET(J36,-RIGHT($D46,1),0,RIGHT($D46,1),1)),\"ERROR\"))))","v":0},{"$f":"IF(K$18<STANDARD_YEAR,K36,\nIF(RIGHT($D46,1)>RIGHT('Efficiency Levels'!$C$33,1),K36,\nIF(RIGHT($D46,1)<RIGHT('Efficiency Levels'!$C$33,1),0,\nIF(RIGHT($D46,1)=RIGHT('Efficiency Levels'!$C$33,1),SUM(OFFSET(K36,-RIGHT($D46,1),0,RIGHT($D46,1),1)),\"ERROR\"))))","v":0},{"$f":"IF(L$18<STANDARD_YEAR,L36,\nIF(RIGHT($D46,1)>RIGHT('Efficiency Levels'!$C$33,1),L36,\nIF(RIGHT($D46,1)<RIGHT('Efficiency Levels'!$C$33,1),0,\nIF(RIGHT($D46,1)=RIGHT('Efficiency Levels'!$C$33,1),SUM(OFFSET(L36,-RIGHT($D46,1),0,RIGHT($D46,1),1)),\"ERROR\"))))","v":0},{"$f":"IF(M$18<STANDARD_YEAR,M36,\nIF(RIGHT($D46,1)>RIGHT('Efficiency Levels'!$C$33,1),M36,\nIF(RIGHT($D46,1)<RIGHT('Efficiency Levels'!$C$33,1),0,\nIF(RIGHT($D46,1)=RIGHT('Efficiency Levels'!$C$33,1),SUM(OFFSET(M36,-RIGHT($D46,1),0,RIGHT($D46,1),1)),\"ERROR\"))))","v":0},{"$f":"IF(N$18<STANDARD_YEAR,N36,\nIF(RIGHT($D46,1)>RIGHT('Efficiency Levels'!$C$33,1),N36,\nIF(RIGHT($D46,1)<RIGHT('Efficiency Levels'!$C$33,1),0,\nIF(RIGHT($D46,1)=RIGHT('Efficiency Levels'!$C$33,1),SUM(OFFSET(N36,-RIGHT($D46,1),0,RIGHT($D46,1),1)),\"ERROR\"))))","v":0},{"$f":"IF(O$18<STANDARD_YEAR,O36,\nIF(RIGHT($D46,1)>RIGHT('Efficiency Levels'!$C$33,1),O36,\nIF(RIGHT($D46,1)<RIGHT('Efficiency Levels'!$C$33,1),0,\nIF(RIGHT($D46,1)=RIGHT('Efficiency Levels'!$C$33,1),SUM(OFFSET(O36,-RIGHT($D46,1),0,RIGHT($D46,1),1)),\"ERROR\"))))","v":0},{"$f":"IF(P$18<STANDARD_YEAR,P36,\nIF(RIGHT($D46,1)>RIGHT('Efficiency Levels'!$C$33,1),P36,\nIF(RIGHT($D46,1)<RIGHT('Efficiency Levels'!$C$33,1),0,\nIF(RIGHT($D46,1)=RIGHT('Efficiency Levels'!$C$33,1),SUM(OFFSET(P36,-RIGHT($D46,1),0,RIGHT($D46,1),1)),\"ERROR\"))))","v":0},{"$f":"IF(Q$18<STANDARD_YEAR,Q36,\nIF(RIGHT($D46,1)>RIGHT('Efficiency Levels'!$C$33,1),Q36,\nIF(RIGHT($D46,1)<RIGHT('Efficiency Levels'!$C$33,1),0,\nIF(RIGHT($D46,1)=RIGHT('Efficiency Levels'!$C$33,1),SUM(OFFSET(Q36,-RIGHT($D46,1),0,RIGHT($D46,1),1)),\"ERROR\"))))","v":0},{"$f":"IF(R$18<STANDARD_YEAR,R36,\nIF(RIGHT($D46,1)>RIGHT('Efficiency Levels'!$C$33,1),R36,\nIF(RIGHT($D46,1)<RIGHT('Efficiency Levels'!$C$33,1),0,\nIF(RIGHT($D46,1)=RIGHT('Efficiency Levels'!$C$33,1),SUM(OFFSET(R36,-RIGHT($D46,1),0,RIGHT($D46,1),1)),\"ERROR\"))))","v":0},{"$f":"IF(S$18<STANDARD_YEAR,S36,\nIF(RIGHT($D46,1)>RIGHT('Efficiency Levels'!$C$33,1),S36,\nIF(RIGHT($D46,1)<RIGHT('Efficiency Levels'!$C$33,1),0,\nIF(RIGHT($D46,1)=RIGHT('Efficiency Levels'!$C$33,1),SUM(OFFSET(S36,-RIGHT($D46,1),0,RIGHT($D46,1),1)),\"ERROR\"))))","v":0},{"$f":"IF(T$18<STANDARD_YEAR,T36,\nIF(RIGHT($D46,1)>RIGHT('Efficiency Levels'!$C$33,1),T36,\nIF(RIGHT($D46,1)<RIGHT('Efficiency Levels'!$C$33,1),0,\nIF(RIGHT($D46,1)=RIGHT('Efficiency Levels'!$C$33,1),SUM(OFFSET(T36,-RIGHT($D46,1),0,RIGHT($D46,1),1)),\"ERROR\"))))","v":0},{"$f":"IF(U$18<STANDARD_YEAR,U36,\nIF(RIGHT($D46,1)>RIGHT('Efficiency Levels'!$C$33,1),U36,\nIF(RIGHT($D46,1)<RIGHT('Efficiency Levels'!$C$33,1),0,\nIF(RIGHT($D46,1)=RIGHT('Efficiency Levels'!$C$33,1),SUM(OFFSET(U36,-RIGHT($D46,1),0,RIGHT($D46,1),1)),\"ERROR\"))))","v":0},{"$f":"IF(V$18<STANDARD_YEAR,V36,\nIF(RIGHT($D46,1)>RIGHT('Efficiency Levels'!$C$33,1),V36,\nIF(RIGHT($D46,1)<RIGHT('Efficiency Levels'!$C$33,1),0,\nIF(RIGHT($D46,1)=RIGHT('Efficiency Levels'!$C$33,1),SUM(OFFSET(V36,-RIGHT($D46,1),0,RIGHT($D46,1),1)),\"ERROR\"))))","v":0},{"$f":"IF(W$18<STANDARD_YEAR,W36,\nIF(RIGHT($D46,1)>RIGHT('Efficiency Levels'!$C$33,1),W36,\nIF(RIGHT($D46,1)<RIGHT('Efficiency Levels'!$C$33,1),0,\nIF(RIGHT($D46,1)=RIGHT('Efficiency Levels'!$C$33,1),SUM(OFFSET(W36,-RIGHT($D46,1),0,RIGHT($D46,1),1)),\"ERROR\"))))","v":0},{"$f":"IF(X$18<STANDARD_YEAR,X36,\nIF(RIGHT($D46,1)>RIGHT('Efficiency Levels'!$C$33,1),X36,\nIF(RIGHT($D46,1)<RIGHT('Efficiency Levels'!$C$33,1),0,\nIF(RIGHT($D46,1)=RIGHT('Efficiency Levels'!$C$33,1),SUM(OFFSET(X36,-RIGHT($D46,1),0,RIGHT($D46,1),1)),\"ERROR\"))))","v":0},{"$f":"IF(Y$18<STANDARD_YEAR,Y36,\nIF(RIGHT($D46,1)>RIGHT('Efficiency Levels'!$C$33,1),Y36,\nIF(RIGHT($D46,1)<RIGHT('Efficiency Levels'!$C$33,1),0,\nIF(RIGHT($D46,1)=RIGHT('Efficiency Levels'!$C$33,1),SUM(OFFSET(Y36,-RIGHT($D46,1),0,RIGHT($D46,1),1)),\"ERROR\"))))","v":0},{"$f":"IF(Z$18<STANDARD_YEAR,Z36,\nIF(RIGHT($D46,1)>RIGHT('Efficiency Levels'!$C$33,1),Z36,\nIF(RIGHT($D46,1)<RIGHT('Efficiency Levels'!$C$33,1),0,\nIF(RIGHT($D46,1)=RIGHT('Efficiency Levels'!$C$33,1),SUM(OFFSET(Z36,-RIGHT($D46,1),0,RIGHT($D46,1),1)),\"ERROR\"))))","v":0},{"$f":"IF(AA$18<STANDARD_YEAR,AA36,\nIF(RIGHT($D46,1)>RIGHT('Efficiency Levels'!$C$33,1),AA36,\nIF(RIGHT($D46,1)<RIGHT('Efficiency Levels'!$C$33,1),0,\nIF(RIGHT($D46,1)=RIGHT('Efficiency Levels'!$C$33,1),SUM(OFFSET(AA36,-RIGHT($D46,1),0,RIGHT($D46,1),1)),\"ERROR\"))))","v":0},{"$f":"IF(AB$18<STANDARD_YEAR,AB36,\nIF(RIGHT($D46,1)>RIGHT('Efficiency Levels'!$C$33,1),AB36,\nIF(RIGHT($D46,1)<RIGHT('Efficiency Levels'!$C$33,1),0,\nIF(RIGHT($D46,1)=RIGHT('Efficiency Levels'!$C$33,1),SUM(OFFSET(AB36,-RIGHT($D46,1),0,RIGHT($D46,1),1)),\"ERROR\"))))","v":0},{"$f":"IF(AC$18<STANDARD_YEAR,AC36,\nIF(RIGHT($D46,1)>RIGHT('Efficiency Levels'!$C$33,1),AC36,\nIF(RIGHT($D46,1)<RIGHT('Efficiency Levels'!$C$33,1),0,\nIF(RIGHT($D46,1)=RIGHT('Efficiency Levels'!$C$33,1),SUM(OFFSET(AC36,-RIGHT($D46,1),0,RIGHT($D46,1),1)),\"ERROR\"))))","v":0},{"$f":"IF(AD$18<STANDARD_YEAR,AD36,\nIF(RIGHT($D46,1)>RIGHT('Efficiency Levels'!$C$33,1),AD36,\nIF(RIGHT($D46,1)<RIGHT('Efficiency Levels'!$C$33,1),0,\nIF(RIGHT($D46,1)=RIGHT('Efficiency Levels'!$C$33,1),SUM(OFFSET(AD36,-RIGHT($D46,1),0,RIGHT($D46,1),1)),\"ERROR\"))))","v":0},{"$f":"IF(AE$18<STANDARD_YEAR,AE36,\nIF(RIGHT($D46,1)>RIGHT('Efficiency Levels'!$C$33,1),AE36,\nIF(RIGHT($D46,1)<RIGHT('Efficiency Levels'!$C$33,1),0,\nIF(RIGHT($D46,1)=RIGHT('Efficiency Levels'!$C$33,1),SUM(OFFSET(AE36,-RIGHT($D46,1),0,RIGHT($D46,1),1)),\"ERROR\"))))","v":0},{"$f":"IF(AF$18<STANDARD_YEAR,AF36,\nIF(RIGHT($D46,1)>RIGHT('Efficiency Levels'!$C$33,1),AF36,\nIF(RIGHT($D46,1)<RIGHT('Efficiency Levels'!$C$33,1),0,\nIF(RIGHT($D46,1)=RIGHT('Efficiency Levels'!$C$33,1),SUM(OFFSET(AF36,-RIGHT($D46,1),0,RIGHT($D46,1),1)),\"ERROR\"))))","v":0},{"$f":"IF(AG$18<STANDARD_YEAR,AG36,\nIF(RIGHT($D46,1)>RIGHT('Efficiency Levels'!$C$33,1),AG36,\nIF(RIGHT($D46,1)<RIGHT('Efficiency Levels'!$C$33,1),0,\nIF(RIGHT($D46,1)=RIGHT('Efficiency Levels'!$C$33,1),SUM(OFFSET(AG36,-RIGHT($D46,1),0,RIGHT($D46,1),1)),\"ERROR\"))))","v":0},{"$f":"IF(AH$18<STANDARD_YEAR,AH36,\nIF(RIGHT($D46,1)>RIGHT('Efficiency Levels'!$C$33,1),AH36,\nIF(RIGHT($D46,1)<RIGHT('Efficiency Levels'!$C$33,1),0,\nIF(RIGHT($D46,1)=RIGHT('Efficiency Levels'!$C$33,1),SUM(OFFSET(AH36,-RIGHT($D46,1),0,RIGHT($D46,1),1)),\"ERROR\"))))","v":0},{"$f":"IF(AI$18<STANDARD_YEAR,AI36,\nIF(RIGHT($D46,1)>RIGHT('Efficiency Levels'!$C$33,1),AI36,\nIF(RIGHT($D46,1)<RIGHT('Efficiency Levels'!$C$33,1),0,\nIF(RIGHT($D46,1)=RIGHT('Efficiency Levels'!$C$33,1),SUM(OFFSET(AI36,-RIGHT($D46,1),0,RIGHT($D46,1),1)),\"ERROR\"))))","v":0},{"$f":"IF(AJ$18<STANDARD_YEAR,AJ36,\nIF(RIGHT($D46,1)>RIGHT('Efficiency Levels'!$C$33,1),AJ36,\nIF(RIGHT($D46,1)<RIGHT('Efficiency Levels'!$C$33,1),0,\nIF(RIGHT($D46,1)=RIGHT('Efficiency Levels'!$C$33,1),SUM(OFFSET(AJ36,-RIGHT($D46,1),0,RIGHT($D46,1),1)),\"ERROR\"))))","v":0},{"$f":"IF(AK$18<STANDARD_YEAR,AK36,\nIF(RIGHT($D46,1)>RIGHT('Efficiency Levels'!$C$33,1),AK36,\nIF(RIGHT($D46,1)<RIGHT('Efficiency Levels'!$C$33,1),0,\nIF(RIGHT($D46,1)=RIGHT('Efficiency Levels'!$C$33,1),SUM(OFFSET(AK36,-RIGHT($D46,1),0,RIGHT($D46,1),1)),\"ERROR\"))))","v":0},{"$f":"IF(AL$18<STANDARD_YEAR,AL36,\nIF(RIGHT($D46,1)>RIGHT('Efficiency Levels'!$C$33,1),AL36,\nIF(RIGHT($D46,1)<RIGHT('Efficiency Levels'!$C$33,1),0,\nIF(RIGHT($D46,1)=RIGHT('Efficiency Levels'!$C$33,1),SUM(OFFSET(AL36,-RIGHT($D46,1),0,RIGHT($D46,1),1)),\"ERROR\"))))","v":0},{"$f":"IF(AM$18<STANDARD_YEAR,AM36,\nIF(RIGHT($D46,1)>RIGHT('Efficiency Levels'!$C$33,1),AM36,\nIF(RIGHT($D46,1)<RIGHT('Efficiency Levels'!$C$33,1),0,\nIF(RIGHT($D46,1)=RIGHT('Efficiency Levels'!$C$33,1),SUM(OFFSET(AM36,-RIGHT($D46,1),0,RIGHT($D46,1),1)),\"ERROR\"))))","v":0},{"$f":"IF(AN$18<STANDARD_YEAR,AN36,\nIF(RIGHT($D46,1)>RIGHT('Efficiency Levels'!$C$33,1),AN36,\nIF(RIGHT($D46,1)<RIGHT('Efficiency Levels'!$C$33,1),0,\nIF(RIGHT($D46,1)=RIGHT('Efficiency Levels'!$C$33,1),SUM(OFFSET(AN36,-RIGHT($D46,1),0,RIGHT($D46,1),1)),\"ERROR\"))))","v":0},{"$f":"IF(AO$18<STANDARD_YEAR,AO36,\nIF(RIGHT($D46,1)>RIGHT('Efficiency Levels'!$C$33,1),AO36,\nIF(RIGHT($D46,1)<RIGHT('Efficiency Levels'!$C$33,1),0,\nIF(RIGHT($D46,1)=RIGHT('Efficiency Levels'!$C$33,1),SUM(OFFSET(AO36,-RIGHT($D46,1),0,RIGHT($D46,1),1)),\"ERROR\"))))","v":0},{"$f":"IF(AP$18<STANDARD_YEAR,AP36,\nIF(RIGHT($D46,1)>RIGHT('Efficiency Levels'!$C$33,1),AP36,\nIF(RIGHT($D46,1)<RIGHT('Efficiency Levels'!$C$33,1),0,\nIF(RIGHT($D46,1)=RIGHT('Efficiency Levels'!$C$33,1),SUM(OFFSET(AP36,-RIGHT($D46,1),0,RIGHT($D46,1),1)),\"ERROR\"))))","v":0},{"$f":"IF(AQ$18<STANDARD_YEAR,AQ36,\nIF(RIGHT($D46,1)>RIGHT('Efficiency Levels'!$C$33,1),AQ36,\nIF(RIGHT($D46,1)<RIGHT('Efficiency Levels'!$C$33,1),0,\nIF(RIGHT($D46,1)=RIGHT('Efficiency Levels'!$C$33,1),SUM(OFFSET(AQ36,-RIGHT($D46,1),0,RIGHT($D46,1),1)),\"ERROR\"))))","v":0},{"$f":"IF(AR$18<STANDARD_YEAR,AR36,\nIF(RIGHT($D46,1)>RIGHT('Efficiency Levels'!$C$33,1),AR36,\nIF(RIGHT($D46,1)<RIGHT('Efficiency Levels'!$C$33,1),0,\nIF(RIGHT($D46,1)=RIGHT('Efficiency Levels'!$C$33,1),SUM(OFFSET(AR36,-RIGHT($D46,1),0,RIGHT($D46,1),1)),\"ERROR\"))))","v":0},{"$f":"IF(AS$18<STANDARD_YEAR,AS36,\nIF(RIGHT($D46,1)>RIGHT('Efficiency Levels'!$C$33,1),AS36,\nIF(RIGHT($D46,1)<RIGHT('Efficiency Levels'!$C$33,1),0,\nIF(RIGHT($D46,1)=RIGHT('Efficiency Levels'!$C$33,1),SUM(OFFSET(AS36,-RIGHT($D46,1),0,RIGHT($D46,1),1)),\"ERROR\"))))","v":0},{"$f":"IF(AT$18<STANDARD_YEAR,AT36,\nIF(RIGHT($D46,1)>RIGHT('Efficiency Levels'!$C$33,1),AT36,\nIF(RIGHT($D46,1)<RIGHT('Efficiency Levels'!$C$33,1),0,\nIF(RIGHT($D46,1)=RIGHT('Efficiency Levels'!$C$33,1),SUM(OFFSET(AT36,-RIGHT($D46,1),0,RIGHT($D46,1),1)),\"ERROR\"))))","v":0},{"$f":"IF(AU$18<STANDARD_YEAR,AU36,\nIF(RIGHT($D46,1)>RIGHT('Efficiency Levels'!$C$33,1),AU36,\nIF(RIGHT($D46,1)<RIGHT('Efficiency Levels'!$C$33,1),0,\nIF(RIGHT($D46,1)=RIGHT('Efficiency Levels'!$C$33,1),SUM(OFFSET(AU36,-RIGHT($D46,1),0,RIGHT($D46,1),1)),\"ERROR\"))))","v":0},{"$f":"IF(AV$18<STANDARD_YEAR,AV36,\nIF(RIGHT($D46,1)>RIGHT('Efficiency Levels'!$C$33,1),AV36,\nIF(RIGHT($D46,1)<RIGHT('Efficiency Levels'!$C$33,1),0,\nIF(RIGHT($D46,1)=RIGHT('Efficiency Levels'!$C$33,1),SUM(OFFSET(AV36,-RIGHT($D46,1),0,RIGHT($D46,1),1)),\"ERROR\"))))","v":0},{"$f":"IF(AW$18<STANDARD_YEAR,AW36,\nIF(RIGHT($D46,1)>RIGHT('Efficiency Levels'!$C$33,1),AW36,\nIF(RIGHT($D46,1)<RIGHT('Efficiency Levels'!$C$33,1),0,\nIF(RIGHT($D46,1)=RIGHT('Efficiency Levels'!$C$33,1),SUM(OFFSET(AW36,-RIGHT($D46,1),0,RIGHT($D46,1),1)),\"ERROR\"))))","v":0},{"$f":"IF(AX$18<STANDARD_YEAR,AX36,\nIF(RIGHT($D46,1)>RIGHT('Efficiency Levels'!$C$33,1),AX36,\nIF(RIGHT($D46,1)<RIGHT('Efficiency Levels'!$C$33,1),0,\nIF(RIGHT($D46,1)=RIGHT('Efficiency Levels'!$C$33,1),SUM(OFFSET(AX36,-RIGHT($D46,1),0,RIGHT($D46,1),1)),\"ERROR\"))))","v":0},{"$f":"IF(AY$18<STANDARD_YEAR,AY36,\nIF(RIGHT($D46,1)>RIGHT('Efficiency Levels'!$C$33,1),AY36,\nIF(RIGHT($D46,1)<RIGHT('Efficiency Levels'!$C$33,1),0,\nIF(RIGHT($D46,1)=RIGHT('Efficiency Levels'!$C$33,1),SUM(OFFSET(AY36,-RIGHT($D46,1),0,RIGHT($D46,1),1)),\"ERROR\"))))","v":0},{"$f":"IF(AZ$18<STANDARD_YEAR,AZ36,\nIF(RIGHT($D46,1)>RIGHT('Efficiency Levels'!$C$33,1),AZ36,\nIF(RIGHT($D46,1)<RIGHT('Efficiency Levels'!$C$33,1),0,\nIF(RIGHT($D46,1)=RIGHT('Efficiency Levels'!$C$33,1),SUM(OFFSET(AZ36,-RIGHT($D46,1),0,RIGHT($D46,1),1)),\"ERROR\"))))","v":0},{"$f":"IF(BA$18<STANDARD_YEAR,BA36,\nIF(RIGHT($D46,1)>RIGHT('Efficiency Levels'!$C$33,1),BA36,\nIF(RIGHT($D46,1)<RIGHT('Efficiency Levels'!$C$33,1),0,\nIF(RIGHT($D46,1)=RIGHT('Efficiency Levels'!$C$33,1),SUM(OFFSET(BA36,-RIGHT($D46,1),0,RIGHT($D46,1),1)),\"ERROR\"))))","v":0},{"$f":"IF(BB$18<STANDARD_YEAR,BB36,\nIF(RIGHT($D46,1)>RIGHT('Efficiency Levels'!$C$33,1),BB36,\nIF(RIGHT($D46,1)<RIGHT('Efficiency Levels'!$C$33,1),0,\nIF(RIGHT($D46,1)=RIGHT('Efficiency Levels'!$C$33,1),SUM(OFFSET(BB36,-RIGHT($D46,1),0,RIGHT($D46,1),1)),\"ERROR\"))))","v":0},{"$f":"IF(BC$18<STANDARD_YEAR,BC36,\nIF(RIGHT($D46,1)>RIGHT('Efficiency Levels'!$C$33,1),BC36,\nIF(RIGHT($D46,1)<RIGHT('Efficiency Levels'!$C$33,1),0,\nIF(RIGHT($D46,1)=RIGHT('Efficiency Levels'!$C$33,1),SUM(OFFSET(BC36,-RIGHT($D46,1),0,RIGHT($D46,1),1)),\"ERROR\"))))","v":0},{"$f":"IF(BD$18<STANDARD_YEAR,BD36,\nIF(RIGHT($D46,1)>RIGHT('Efficiency Levels'!$C$33,1),BD36,\nIF(RIGHT($D46,1)<RIGHT('Efficiency Levels'!$C$33,1),0,\nIF(RIGHT($D46,1)=RIGHT('Efficiency Levels'!$C$33,1),SUM(OFFSET(BD36,-RIGHT($D46,1),0,RIGHT($D46,1),1)),\"ERROR\"))))","v":0},{"$f":"IF(BE$18<STANDARD_YEAR,BE36,\nIF(RIGHT($D46,1)>RIGHT('Efficiency Levels'!$C$33,1),BE36,\nIF(RIGHT($D46,1)<RIGHT('Efficiency Levels'!$C$33,1),0,\nIF(RIGHT($D46,1)=RIGHT('Efficiency Levels'!$C$33,1),SUM(OFFSET(BE36,-RIGHT($D46,1),0,RIGHT($D46,1),1)),\"ERROR\"))))","v":0},{"$f":"IF(BF$18<STANDARD_YEAR,BF36,\nIF(RIGHT($D46,1)>RIGHT('Efficiency Levels'!$C$33,1),BF36,\nIF(RIGHT($D46,1)<RIGHT('Efficiency Levels'!$C$33,1),0,\nIF(RIGHT($D46,1)=RIGHT('Efficiency Levels'!$C$33,1),SUM(OFFSET(BF36,-RIGHT($D46,1),0,RIGHT($D46,1),1)),\"ERROR\"))))","v":0},{"$f":"IF(BG$18<STANDARD_YEAR,BG36,\nIF(RIGHT($D46,1)>RIGHT('Efficiency Levels'!$C$33,1),BG36,\nIF(RIGHT($D46,1)<RIGHT('Efficiency Levels'!$C$33,1),0,\nIF(RIGHT($D46,1)=RIGHT('Efficiency Levels'!$C$33,1),SUM(OFFSET(BG36,-RIGHT($D46,1),0,RIGHT($D46,1),1)),\"ERROR\"))))","v":0},{"$f":"IF(BH$18<STANDARD_YEAR,BH36,\nIF(RIGHT($D46,1)>RIGHT('Efficiency Levels'!$C$33,1),BH36,\nIF(RIGHT($D46,1)<RIGHT('Efficiency Levels'!$C$33,1),0,\nIF(RIGHT($D46,1)=RIGHT('Efficiency Levels'!$C$33,1),SUM(OFFSET(BH36,-RIGHT($D46,1),0,RIGHT($D46,1),1)),\"ERROR\"))))","v":0},{"$f":"IF(BI$18<STANDARD_YEAR,BI36,\nIF(RIGHT($D46,1)>RIGHT('Efficiency Levels'!$C$33,1),BI36,\nIF(RIGHT($D46,1)<RIGHT('Efficiency Levels'!$C$33,1),0,\nIF(RIGHT($D46,1)=RIGHT('Efficiency Levels'!$C$33,1),SUM(OFFSET(BI36,-RIGHT($D46,1),0,RIGHT($D46,1),1)),\"ERROR\"))))","v":0},{"$f":"IF(BJ$18<STANDARD_YEAR,BJ36,\nIF(RIGHT($D46,1)>RIGHT('Efficiency Levels'!$C$33,1),BJ36,\nIF(RIGHT($D46,1)<RIGHT('Efficiency Levels'!$C$33,1),0,\nIF(RIGHT($D46,1)=RIGHT('Efficiency Levels'!$C$33,1),SUM(OFFSET(BJ36,-RIGHT($D46,1),0,RIGHT($D46,1),1)),\"ERROR\"))))","v":0}]
[null,null,null,"TOTAL",null,null,null,null,{"$f":"SUM(I41:I46)","v":1},{"$f":"SUM(J41:J46)","v":1},1,1,1,1,1,1,1,{"$f":"SUM(R41:R46)","v":1},1,1,1,1,1,1,1,1,1,1,1,1,1,1,1,1,1,1,1,1,1,1,1,1,1,1,1,1,1,1,1,1,1,1,1,1,1,1,1,1,1,1,1,1]
[]
[null,null,null,"Sources","Placeholder Values Assumes All Pre-Case Shipments are the Least Energy Efficient Products"]

{"sheet":"Efficiency Dist - MF","index":12,"n_rows":49,"n_cols":62,"rows_kept":49,"cut":false,"hidden":false,"merged":[[1,2,1,6],[3,2,3,6],[5,2,5,6]]}
[]
[null,null,"Efficiency Distributions by Product Class - Multi-Family"]
[]
[null,null,"NAVIGATION"]
[]
[null,null,"COMMENTS"]
[]
[]
[null,null,"PC1",{"$f":"OFFSET('Product Classes'!$C$9,MATCH(C9,MODEL_PCS,0),0)","v":"Gas Cooking Tops"}]
[]
[null,null,null,"PRE-Case",null,"Static Distribution"]
[null,null,null,"Efficiency Level","UEC (kWh / year)",2011,null,null,1981,1982,1983,1984,1985,1986,1987,1988,1989,1990,1991,1992,1993,1994,1995,1996,1997,1998,1999,2000,2001,2002,2003,2004,2005,2006,2007,2008,2009,2010,2011,2012,2013,2014,2015,2016,2017,2018,2019,2020,2021,2022,2023,2024,2025,2026,2027,2028,2029,2030,2031,2032,2033,2034]
[null,null,null,"EL0",{"$f":"OFFSET('Efficiency Levels'!$D$11,MATCH($C$9,'Efficiency Levels'!$C$9:$C$995,0)+RIGHT(D13,1),0)","v":256.7},1,null,null,{"$f":"$F13","v":1},1,1,1,1,1,1,1,1,1,1,1,1,1,1,1,{"$f":"$F13","v":1},1,1,1,1,1,1,1,1,1,1,1,1,1,1,1,{"$f":"$F13","v":1},1,1,1,1,1,1,1,1,1,1,1,1,1,1,1,1,1,1,1,1,1]
[null,null,null,"EL1",{"$f":"OFFSET('Efficiency Levels'!$D$11,MATCH($C$9,'Efficiency Levels'!$C$9:$C$995,0)+RIGHT(D14,1),0)","v":246},0,null,null,0,0,0,0,0,0,0,0,0,0,0,0,0,0,0,0,0,0,0,0,0,0,0,0,0,0,0,0,0,0,0,0,0,0,0,0,0,0,0,0,0,0,0,0,0,0,0,0,0,0,0,0,0,0]
[null,null,null,"TOTAL",null,{"$f":"SUM(F13:F14)","v":1},null,null,{"$f":"SUM(I13:I14)","v":1},1,1,1,1,1,1,1,1,1,1,1,1,1,1,1,1,1,1,1,1,1,1,1,1,1,1,1,1,1,1,1,1,1,1,1,1,1,1,1,1,1,1,1,1,1,1,1,1,1,1,1,1,1]
[]
[null,null,null,"POST-Case"]
[null,null,null,"Efficiency Level","UEC (kWh / year)",null,null,null,1981,1982,1983,1984,1985,1986,1987,1988,1989,1990,1991,1992,1993,1994,1995,1996,1997,1998,1999,2000,2001,2002,2003,2004,2005,2006,2007,2008,2009,2010,2011,2012,2013,2014,2015,2016,2017,2018,2019,2020,2021,2022,2023,2024,2025,2026,2027,2028,2029,2030,2031,2032,2033,2034]
[null,null,null,"EL0",{"$f":"OFFSET('Efficiency Levels'!$D$11,MATCH($C$9,'Efficiency Levels'!$C$9:$C$995,0)+RIGHT(D19,1),0)","v":256.7},null,null,null,{"$f":"IF(I$18<STANDARD_YEAR,I13,\nIF(RIGHT($D19,1)>RIGHT('Efficiency Levels'!$C$16,1),I13,\nIF(RIGHT($D19,1)<RIGHT('Efficiency Levels'!$C$16,1),0,\nIF(RIGHT($D19,1)=RIGHT('Efficiency Levels'!$C$16,1),SUM(OFFSET(I13,-RIGHT($D19,1),0,RIGHT($D19,1),1)),\"ERROR\"))))","v":1},{"$f":"IF(J$18<STANDARD_YEAR,J13,\nIF(RIGHT($D19,1)>RIGHT('Efficiency Levels'!$C$16,1),J13,\nIF(RIGHT($D19,1)<RIGHT('Efficiency Levels'!$C$16,1),0,\nIF(RIGHT($D19,1)=RIGHT('Efficiency Levels'!$C$16,1),SUM(OFFSET(J13,-RIGHT($D19,1),0,RIGHT($D19,1),1)),\"ERROR\"))))","v":1},{"$f":"IF(K$18<STANDARD_YEAR,K13,\nIF(RIGHT($D19,1)>RIGHT('Efficiency Levels'!$C$16,1),K13,\nIF(RIGHT($D19,1)<RIGHT('Efficiency Levels'!$C$16,1),0,\nIF(RIGHT($D19,1)=RIGHT('Efficiency Levels'!$C$16,1),SUM(OFFSET(K13,-RIGHT($D19,1),0,RIGHT($D19,1),1)),\"ERROR\"))))","v":1},{"$f":"IF(L$18<STANDARD_YEAR,L13,\nIF(RIGHT($D19,1)>RIGHT('Efficiency Levels'!$C$16,1),L13,\nIF(RIGHT($D19,1)<RIGHT('Efficiency Levels'!$C$16,1),0,\nIF(RIGHT($D19,1)=RIGHT('Efficiency Levels'!$C$16,1),SUM(OFFSET(L13,-RIGHT($D19,1),0,RIGHT($D19,1),1)),\"ERROR\"))))","v":1},{"$f":"IF(M$18<STANDARD_YEAR,M13,\nIF(RIGHT($D19,1)>RIGHT('Efficiency Levels'!$C$16,1),M13,\nIF(RIGHT($D19,1)<RIGHT('Efficiency Levels'!$C$16,1),0,\nIF(RIGHT($D19,1)=RIGHT('Efficiency Levels'!$C$16,1),SUM(OFFSET(M13,-RIGHT($D19,1),0,RIGHT($D19,1),1)),\"ERROR\"))))","v":1},{"$f":"IF(N$18<STANDARD_YEAR,N13,\nIF(RIGHT($D19,1)>RIGHT('Efficiency Levels'!$C$16,1),N13,\nIF(RIGHT($D19,1)<RIGHT('Efficiency Levels'!$C$16,1),0,\nIF(RIGHT($D19,1)=RIGHT('Efficiency Levels'!$C$16,1),SUM(OFFSET(N13,-RIGHT($D19,1),0,RIGHT($D19,1),1)),\"ERROR\"))))","v":1},{"$f":"IF(O$18<STANDARD_YEAR,O13,\nIF(RIGHT($D19,1)>RIGHT('Efficiency Levels'!$C$16,1),O13,\nIF(RIGHT($D19,1)<RIGHT('Efficiency Levels'!$C$16,1),0,\nIF(RIGHT($D19,1)=RIGHT('Efficiency Levels'!$C$16,1),SUM(OFFSET(O13,-RIGHT($D19,1),0,RIGHT($D19,1),1)),\"ERROR\"))))","v":1},{"$f":"IF(P$18<STANDARD_YEAR,P13,\nIF(RIGHT($D19,1)>RIGHT('Efficiency Levels'!$C$16,1),P13,\nIF(RIGHT($D19,1)<RIGHT('Efficiency Levels'!$C$16,1),0,\nIF(RIGHT($D19,1)=RIGHT('Efficiency Levels'!$C$16,1),SUM(OFFSET(P13,-RIGHT($D19,1),0,RIGHT($D19,1),1)),\"ERROR\"))))","v":1},{"$f":"IF(Q$18<STANDARD_YEAR,Q13,\nIF(RIGHT($D19,1)>RIGHT('Efficiency Levels'!$C$16,1),Q13,\nIF(RIGHT($D19,1)<RIGHT('Efficiency Levels'!$C$16,1),0,\nIF(RIGHT($D19,1)=RIGHT('Efficiency Levels'!$C$16,1),SUM(OFFSET(Q13,-RIGHT($D19,1),0,RIGHT($D19,1),1)),\"ERROR\"))))","v":1},{"$f":"IF(R$18<STANDARD_YEAR,R13,\nIF(RIGHT($D19,1)>RIGHT('Efficiency Levels'!$C$16,1),R13,\nIF(RIGHT($D19,1)<RIGHT('Efficiency Levels'!$C$16,1),0,\nIF(RIGHT($D19,1)=RIGHT('Efficiency Levels'!$C$16,1),SUM(OFFSET(R13,-RIGHT($D19,1),0,RIGHT($D19,1),1)),\"ERROR\"))))","v":1},{"$f":"IF(S$18<STANDARD_YEAR,S13,\nIF(RIGHT($D19,1)>RIGHT('Efficiency Levels'!$C$16,1),S13,\nIF(RIGHT($D19,1)<RIGHT('Efficiency Levels'!$C$16,1),0,\nIF(RIGHT($D19,1)=RIGHT('Efficiency Levels'!$C$16,1),SUM(OFFSET(S13,-RIGHT($D19,1),0,RIGHT($D19,1),1)),\"ERROR\"))))","v":1},{"$f":"IF(T$18<STANDARD_YEAR,T13,\nIF(RIGHT($D19,1)>RIGHT('Efficiency Levels'!$C$16,1),T13,\nIF(RIGHT($D19,1)<RIGHT('Efficiency Levels'!$C$16,1),0,\nIF(RIGHT($D19,1)=RIGHT('Efficiency Levels'!$C$16,1),SUM(OFFSET(T13,-RIGHT($D19,1),0,RIGHT($D19,1),1)),\"ERROR\"))))","v":1},{"$f":"IF(U$18<STANDARD_YEAR,U13,\nIF(RIGHT($D19,1)>RIGHT('Efficiency Levels'!$C$16,1),U13,\nIF(RIGHT($D19,1)<RIGHT('Efficiency Levels'!$C$16,1),0,\nIF(RIGHT($D19,1)=RIGHT('Efficiency Levels'!$C$16,1),SUM(OFFSET(U13,-RIGHT($D19,1),0,RIGHT($D19,1),1)),\"ERROR\"))))","v":1},{"$f":"IF(V$18<STANDARD_YEAR,V13,\nIF(RIGHT($D19,1)>RIGHT('Efficiency Levels'!$C$16,1),V13,\nIF(RIGHT($D19,1)<RIGHT('Efficiency Levels'!$C$16,1),0,\nIF(RIGHT($D19,1)=RIGHT('Efficiency Levels'!$C$16,1),SUM(OFFSET(V13,-RIGHT($D19,1),0,RIGHT($D19,1),1)),\"ERROR\"))))","v":1},{"$f":"IF(W$18<STANDARD_YEAR,W13,\nIF(RIGHT($D19,1)>RIGHT('Efficiency Levels'!$C$16,1),W13,\nIF(RIGHT($D19,1)<RIGHT('Efficiency Levels'!$C$16,1),0,\nIF(RIGHT($D19,1)=RIGHT('Efficiency Levels'!$C$16,1),SUM(OFFSET(W13,-RIGHT($D19,1),0,RIGHT($D19,1),1)),\"ERROR\"))))","v":1},{"$f":"IF(X$18<STANDARD_YEAR,X13,\nIF(RIGHT($D19,1)>RIGHT('Efficiency Levels'!$C$16,1),X13,\nIF(RIGHT($D19,1)<RIGHT('Efficiency Levels'!$C$16,1),0,\nIF(RIGHT($D19,1)=RIGHT('Efficiency Levels'!$C$16,1),SUM(OFFSET(X13,-RIGHT($D19,1),0,RIGHT($D19,1),1)),\"ERROR\"))))","v":1},{"$f":"IF(Y$18<STANDARD_YEAR,Y13,\nIF(RIGHT($D19,1)>RIGHT('Efficiency Levels'!$C$16,1),Y13,\nIF(RIGHT($D19,1)<RIGHT('Efficiency Levels'!$C$16,1),0,\nIF(RIGHT($D19,1)=RIGHT('Efficiency Levels'!$C$16,1),SUM(OFFSET(Y13,-RIGHT($D19,1),0,RIGHT($D19,1),1)),\"ERROR\"))))","v":1},{"$f":"IF(Z$18<STANDARD_YEAR,Z13,\nIF(RIGHT($D19,1)>RIGHT('Efficiency Levels'!$C$16,1),Z13,\nIF(RIGHT($D19,1)<RIGHT('Efficiency Levels'!$C$16,1),0,\nIF(RIGHT($D19,1)=RIGHT('Efficiency Levels'!$C$16,1),SUM(OFFSET(Z13,-RIGHT($D19,1),0,RIGHT($D19,1),1)),\"ERROR\"))))","v":1},{"$f":"IF(AA$18<STANDARD_YEAR,AA13,\nIF(RIGHT($D19,1)>RIGHT('Efficiency Levels'!$C$16,1),AA13,\nIF(RIGHT($D19,1)<RIGHT('Efficiency Levels'!$C$16,1),0,\nIF(RIGHT($D19,1)=RIGHT('Efficiency Levels'!$C$16,1),SUM(OFFSET(AA13,-RIGHT($D19,1),0,RIGHT($D19,1),1)),\"ERROR\"))))","v":1},{"$f":"IF(AB$18<STANDARD_YEAR,AB13,\nIF(RIGHT($D19,1)>RIGHT('Efficiency Levels'!$C$16,1),AB13,\nIF(RIGHT($D19,1)<RIGHT('Efficiency Levels'!$C$16,1),0,\nIF(RIGHT($D19,1)=RIGHT('Efficiency Levels'!$C$16,1),SUM(OFFSET(AB13,-RIGHT($D19,1),0,RIGHT($D19,1),1)),\"ERROR\"))))","v":1},{"$f":"IF(AC$18<STANDARD_YEAR,AC13,\nIF(RIGHT($D19,1)>RIGHT('Efficiency Levels'!$C$16,1),AC13,\nIF(RIGHT($D19,1)<RIGHT('Efficiency Levels'!$C$16,1),0,\nIF(RIGHT($D19,1)=RIGHT('Efficiency Levels'!$C$16,1),SUM(OFFSET(AC13,-RIGHT($D19,1),0,RIGHT($D19,1),1)),\"ERROR\"))))","v":1},{"$f":"IF(AD$18<STANDARD_YEAR,AD13,\nIF(RIGHT($D19,1)>RIGHT('Efficiency Levels'!$C$16,1),AD13,\nIF(RIGHT($D19,1)<RIGHT('Efficiency Levels'!$C$16,1),0,\nIF(RIGHT($D19,1)=RIGHT('Efficiency Levels'!$C$16,1),SUM(OFFSET(AD13,-RIGHT($D19,1),0,RIGHT($D19,1),1)),\"ERROR\"))))","v":1},{"$f":"IF(AE$18<STANDARD_YEAR,AE13,\nIF(RIGHT($D19,1)>RIGHT('Efficiency Levels'!$C$16,1),AE13,\nIF(RIGHT($D19,1)<RIGHT('Efficiency Levels'!$C$16,1),0,\nIF(RIGHT($D19,1)=RIGHT('Efficiency Levels'!$C$16,1),SUM(OFFSET(AE13,-RIGHT($D19,1),0,RIGHT($D19,1),1)),\"ERROR\"))))","v":1},{"$f":"IF(AF$18<STANDARD_YEAR,AF13,\nIF(RIGHT($D19,1)>RIGHT('Efficiency Levels'!$C$16,1),AF13,\nIF(RIGHT($D19,1)<RIGHT('Efficiency Levels'!$C$16,1),0,\nIF(RIGHT($D19,1)=RIGHT('Efficiency Levels'!$C$16,1),SUM(OFFSET(AF13,-RIGHT($D19,1),0,RIGHT($D19,1),1)),\"ERROR\"))))","v":1},{"$f":"IF(AG$18<STANDARD_YEAR,AG13,\nIF(RIGHT($D19,1)>RIGHT('Efficiency Levels'!$C$16,1),AG13,\nIF(RIGHT($D19,1)<RIGHT('Efficiency Levels'!$C$16,1),0,\nIF(RIGHT($D19,1)=RIGHT('Efficiency Levels'!$C$16,1),SUM(OFFSET(AG13,-RIGHT($D19,1),0,RIGHT($D19,1),1)),\"ERROR\"))))","v":1},{"$f":"IF(AH$18<STANDARD_YEAR,AH13,\nIF(RIGHT($D19,1)>RIGHT('Efficiency Levels'!$C$16,1),AH13,\nIF(RIGHT($D19,1)<RIGHT('Efficiency Levels'!$C$16,1),0,\nIF(RIGHT($D19,1)=RIGHT('Efficiency Levels'!$C$16,1),SUM(OFFSET(AH13,-RIGHT($D19,1),0,RIGHT($D19,1),1)),\"ERROR\"))))","v":1},{"$f":"IF(AI$18<STANDARD_YEAR,AI13,\nIF(RIGHT($D19,1)>RIGHT('Efficiency Levels'!$C$16,1),AI13,\nIF(RIGHT($D19,1)<RIGHT('Efficiency Levels'!$C$16,1),0,\nIF(RIGHT($D19,1)=RIGHT('Efficiency Levels'!$C$16,1),SUM(OFFSET(AI13,-RIGHT($D19,1),0,RIGHT($D19,1),1)),\"ERROR\"))))","v":1},{"$f":"IF(AJ$18<STANDARD_YEAR,AJ13,\nIF(RIGHT($D19,1)>RIGHT('Efficiency Levels'!$C$16,1),AJ13,\nIF(RIGHT($D19,1)<RIGHT('Efficiency Levels'!$C$16,1),0,\nIF(RIGHT($D19,1)=RIGHT('Efficiency Levels'!$C$16,1),SUM(OFFSET(AJ13,-RIGHT($D19,1),0,RIGHT($D19,1),1)),\"ERROR\"))))","v":1},{"$f":"IF(AK$18<STANDARD_YEAR,AK13,\nIF(RIGHT($D19,1)>RIGHT('Efficiency Levels'!$C$16,1),AK13,\nIF(RIGHT($D19,1)<RIGHT('Efficiency Levels'!$C$16,1),0,\nIF(RIGHT($D19,1)=RIGHT('Efficiency Levels'!$C$16,1),SUM(OFFSET(AK13,-RIGHT($D19,1),0,RIGHT($D19,1),1)),\"ERROR\"))))","v":1},{"$f":"IF(AL$18<STANDARD_YEAR,AL13,\nIF(RIGHT($D19,1)>RIGHT('Efficiency Levels'!$C$16,1),AL13,\nIF(RIGHT($D19,1)<RIGHT('Efficiency Levels'!$C$16,1),0,\nIF(RIGHT($D19,1)=RIGHT('Efficiency Levels'!$C$16,1),SUM(OFFSET(AL13,-RIGHT($D19,1),0,RIGHT($D19,1),1)),\"ERROR\"))))","v":1},{"$f":"IF(AM$18<STANDARD_YEAR,AM13,\nIF(RIGHT($D19,1)>RIGHT('Efficiency Levels'!$C$16,1),AM13,\nIF(RIGHT($D19,1)<RIGHT('Efficiency Levels'!$C$16,1),0,\nIF(RIGHT($D19,1)=RIGHT('Efficiency Levels'!$C$16,1),SUM(OFFSET(AM13,-RIGHT($D19,1),0,RIGHT($D19,1),1)),\"ERROR\"))))","v":1},{"$f":"IF(AN$18<STANDARD_YEAR,AN13,\nIF(RIGHT($D19,1)>RIGHT('Efficiency Levels'!$C$16,1),AN13,\nIF(RIGHT($D19,1)<RIGHT('Efficiency Levels'!$C$16,1),0,\nIF(RIGHT($D19,1)=RIGHT('Efficiency Levels'!$C$16,1),SUM(OFFSET(AN13,-RIGHT($D19,1),0,RIGHT($D19,1),1)),\"ERROR\"))))","v":1},{"$f":"IF(AO$18<STANDARD_YEAR,AO13,\nIF(RIGHT($D19,1)>RIGHT('Efficiency Levels'!$C$16,1),AO13,\nIF(RIGHT($D19,1)<RIGHT('Efficiency Levels'!$C$16,1),0,\nIF(RIGHT($D19,1)=RIGHT('Efficiency Levels'!$C$16,1),SUM(OFFSET(AO13,-RIGHT($D19,1),0,RIGHT($D19,1),1)),\"ERROR\"))))","v":1},{"$f":"IF(AP$18<STANDARD_YEAR,AP13,\nIF(RIGHT($D19,1)>RIGHT('Efficiency Levels'!$C$16,1),AP13,\nIF(RIGHT($D19,1)<RIGHT('Efficiency Levels'!$C$16,1),0,\nIF(RIGHT($D19,1)=RIGHT('Efficiency Levels'!$C$16,1),SUM(OFFSET(AP13,-RIGHT($D19,1),0,RIGHT($D19,1),1)),\"ERROR\"))))","v":1},{"$f":"IF(AQ$18<STANDARD_YEAR,AQ13,\nIF(RIGHT($D19,1)>RIGHT('Efficiency Levels'!$C$16,1),AQ13,\nIF(RIGHT($D19,1)<RIGHT('Efficiency Levels'!$C$16,1),0,\nIF(RIGHT($D19,1)=RIGHT('Efficiency Levels'!$C$16,1),SUM(OFFSET(AQ13,-RIGHT($D19,1),0,RIGHT($D19,1),1)),\"ERROR\"))))","v":1},{"$f":"IF(AR$18<STANDARD_YEAR,AR13,\nIF(RIGHT($D19,1)>RIGHT('Efficiency Levels'!$C$16,1),AR13,\nIF(RIGHT($D19,1)<RIGHT('Efficiency Levels'!$C$16,1),0,\nIF(RIGHT($D19,1)=RIGHT('Efficiency Levels'!$C$16,1),SUM(OFFSET(AR13,-RIGHT($D19,1),0,RIGHT($D19,1),1)),\"ERROR\"))))","v":1},{"$f":"IF(AS$18<STANDARD_YEAR,AS13,\nIF(RIGHT($D19,1)>RIGHT('Efficiency Levels'!$C$16,1),AS13,\nIF(RIGHT($D19,1)<RIGHT('Efficiency Levels'!$C$16,1),0,\nIF(RIGHT($D19,1)=RIGHT('Efficiency Levels'!$C$16,1),SUM(OFFSET(AS13,-RIGHT($D19,1),0,RIGHT($D19,1),1)),\"ERROR\"))))","v":1},{"$f":"IF(AT$18<STANDARD_YEAR,AT13,\nIF(RIGHT($D19,1)>RIGHT('Efficiency Levels'!$C$16,1),AT13,\nIF(RIGHT($D19,1)<RIGHT('Efficiency Levels'!$C$16,1),0,\nIF(RIGHT($D19,1)=RIGHT('Efficiency Levels'!$C$16,1),SUM(OFFSET(AT13,-RIGHT($D19,1),0,RIGHT($D19,1),1)),\"ERROR\"))))","v":1},{"$f":"IF(AU$18<STANDARD_YEAR,AU13,\nIF(RIGHT($D19,1)>RIGHT('Efficiency Levels'!$C$16,1),AU13,\nIF(RIGHT($D19,1)<RIGHT('Efficiency Levels'!$C$16,1),0,\nIF(RIGHT($D19,1)=RIGHT('Efficiency Levels'!$C$16,1),SUM(OFFSET(AU13,-RIGHT($D19,1),0,RIGHT($D19,1),1)),\"ERROR\"))))","v":0},{"$f":"IF(AV$18<STANDARD_YEAR,AV13,\nIF(RIGHT($D19,1)>RIGHT('Efficiency Levels'!$C$16,1),AV13,\nIF(RIGHT($D19,1)<RIGHT('Efficiency Levels'!$C$16,1),0,\nIF(RIGHT($D19,1)=RIGHT('Efficiency Levels'!$C$16,1),SUM(OFFSET(AV13,-RIGHT($D19,1),0,RIGHT($D19,1),1)),\"ERROR\"))))","v":0},{"$f":"IF(AW$18<STANDARD_YEAR,AW13,\nIF(RIGHT($D19,1)>RIGHT('Efficiency Levels'!$C$16,1),AW13,\nIF(RIGHT($D19,1)<RIGHT('Efficiency Levels'!$C$16,1),0,\nIF(RIGHT($D19,1)=RIGHT('Efficiency Levels'!$C$16,1),SUM(OFFSET(AW13,-RIGHT($D19,1),0,RIGHT($D19,1),1)),\"ERROR\"))))","v":0},{"$f":"IF(AX$18<STANDARD_YEAR,AX13,\nIF(RIGHT($D19,1)>RIGHT('Efficiency Levels'!$C$16,1),AX13,\nIF(RIGHT($D19,1)<RIGHT('Efficiency Levels'!$C$16,1),0,\nIF(RIGHT($D19,1)=RIGHT('Efficiency Levels'!$C$16,1),SUM(OFFSET(AX13,-RIGHT($D19,1),0,RIGHT($D19,1),1)),\"ERROR\"))))","v":0},{"$f":"IF(AY$18<STANDARD_YEAR,AY13,\nIF(RIGHT($D19,1)>RIGHT('Efficiency Levels'!$C$16,1),AY13,\nIF(RIGHT($D19,1)<RIGHT('Efficiency Levels'!$C$16,1),0,\nIF(RIGHT($D19,1)=RIGHT('Efficiency Levels'!$C$16,1),SUM(OFFSET(AY13,-RIGHT($D19,1),0,RIGHT($D19,1),1)),\"ERROR\"))))","v":0},{"$f":"IF(AZ$18<STANDARD_YEAR,AZ13,\nIF(RIGHT($D19,1)>RIGHT('Efficiency Levels'!$C$16,1),AZ13,\nIF(RIGHT($D19,1)<RIGHT('Efficiency Levels'!$C$16,1),0,\nIF(RIGHT($D19,1)=RIGHT('Efficiency Levels'!$C$16,1),SUM(OFFSET(AZ13,-RIGHT($D19,1),0,RIGHT($D19,1),1)),\"ERROR\"))))","v":0},{"$f":"IF(BA$18<STANDARD_YEAR,BA13,\nIF(RIGHT($D19,1)>RIGHT('Efficiency Levels'!$C$16,1),BA13,\nIF(RIGHT($D19,1)<RIGHT('Efficiency Levels'!$C$16,1),0,\nIF(RIGHT($D19,1)=RIGHT('Efficiency Levels'!$C$16,1),SUM(OFFSET(BA13,-RIGHT($D19,1),0,RIGHT($D19,1),1)),\"ERROR\"))))","v":0},{"$f":"IF(BB$18<STANDARD_YEAR,BB13,\nIF(RIGHT($D19,1)>RIGHT('Efficiency Levels'!$C$16,1),BB13,\nIF(RIGHT($D19,1)<RIGHT('Efficiency Levels'!$C$16,1),0,\nIF(RIGHT($D19,1)=RIGHT('Efficiency Levels'!$C$16,1),SUM(OFFSET(BB13,-RIGHT($D19,1),0,RIGHT($D19,1),1)),\"ERROR\"))))","v":0},{"$f":"IF(BC$18<STANDARD_YEAR,BC13,\nIF(RIGHT($D19,1)>RIGHT('Efficiency Levels'!$C$16,1),BC13,\nIF(RIGHT($D19,1)<RIGHT('Efficiency Levels'!$C$16,1),0,\nIF(RIGHT($D19,1)=RIGHT('Efficiency Levels'!$C$16,1),SUM(OFFSET(BC13,-RIGHT($D19,1),0,RIGHT($D19,1),1)),\"ERROR\"))))","v":0},{"$f":"IF(BD$18<STANDARD_YEAR,BD13,\nIF(RIGHT($D19,1)>RIGHT('Efficiency Levels'!$C$16,1),BD13,\nIF(RIGHT($D19,1)<RIGHT('Efficiency Levels'!$C$16,1),0,\nIF(RIGHT($D19,1)=RIGHT('Efficiency Levels'!$C$16,1),SUM(OFFSET(BD13,-RIGHT($D19,1),0,RIGHT($D19,1),1)),\"ERROR\"))))","v":0},{"$f":"IF(BE$18<STANDARD_YEAR,BE13,\nIF(RIGHT($D19,1)>RIGHT('Efficiency Levels'!$C$16,1),BE13,\nIF(RIGHT($D19,1)<RIGHT('Efficiency Levels'!$C$16,1),0,\nIF(RIGHT($D19,1)=RIGHT('Efficiency Levels'!$C$16,1),SUM(OFFSET(BE13,-RIGHT($D19,1),0,RIGHT($D19,1),1)),\"ERROR\"))))","v":0},{"$f":"IF(BF$18<STANDARD_YEAR,BF13,\nIF(RIGHT($D19,1)>RIGHT('Efficiency Levels'!$C$16,1),BF13,\nIF(RIGHT($D19,1)<RIGHT('Efficiency Levels'!$C$16,1),0,\nIF(RIGHT($D19,1)=RIGHT('Efficiency Levels'!$C$16,1),SUM(OFFSET(BF13,-RIGHT($D19,1),0,RIGHT($D19,1),1)),\"ERROR\"))))","v":0},{"$f":"IF(BG$18<STANDARD_YEAR,BG13,\nIF(RIGHT($D19,1)>RIGHT('Efficiency Levels'!$C$16,1),BG13,\nIF(RIGHT($D19,1)<RIGHT('Efficiency Levels'!$C$16,1),0,\nIF(RIGHT($D19,1)=RIGHT('Efficiency Levels'!$C$16,1),SUM(OFFSET(BG13,-RIGHT($D19,1),0,RIGHT($D19,1),1)),\"ERROR\"))))","v":0},{"$f":"IF(BH$18<STANDARD_YEAR,BH13,\nIF(RIGHT($D19,1)>RIGHT('Efficiency Levels'!$C$16,1),BH13,\nIF(RIGHT($D19,1)<RIGHT('Efficiency Levels'!$C$16,1),0,\nIF(RIGHT($D19,1)=RIGHT('Efficiency Levels'!$C$16,1),SUM(OFFSET(BH13,-RIGHT($D19,1),0,RIGHT($D19,1),1)),\"ERROR\"))))","v":0},{"$f":"IF(BI$18<STANDARD_YEAR,BI13,\nIF(RIGHT($D19,1)>RIGHT('Efficiency Levels'!$C$16,1),BI13,\nIF(RIGHT($D19,1)<RIGHT('Efficiency Levels'!$C$16,1),0,\nIF(RIGHT($D19,1)=RIGHT('Efficiency Levels'!$C$16,1),SUM(OFFSET(BI13,-RIGHT($D19,1),0,RIGHT($D19,1),1)),\"ERROR\"))))","v":0},{"$f":"IF(BJ$18<STANDARD_YEAR,BJ13,\nIF(RIGHT($D19,1)>RIGHT('Efficiency Levels'!$C$16,1),BJ13,\nIF(RIGHT($D19,1)<RIGHT('Efficiency Levels'!$C$16,1),0,\nIF(RIGHT($D19,1)=RIGHT('Efficiency Levels'!$C$16,1),SUM(OFFSET(BJ13,-RIGHT($D19,1),0,RIGHT($D19,1),1)),\"ERROR\"))))","v":0}]
[null,null,null,"EL1",{"$f":"OFFSET('Efficiency Levels'!$D$11,MATCH($C$9,'Efficiency Levels'!$C$9:$C$995,0)+RIGHT(D20,1),0)","v":246},null,null,null,{"$f":"IF(I$18<STANDARD_YEAR,I14,\nIF(RIGHT($D20,1)>RIGHT('Efficiency Levels'!$C$16,1),I14,\nIF(RIGHT($D20,1)<RIGHT('Efficiency Levels'!$C$16,1),0,\nIF(RIGHT($D20,1)=RIGHT('Efficiency Levels'!$C$16,1),SUM(OFFSET(I14,-RIGHT($D20,1),0,RIGHT($D20,1),1)),\"ERROR\"))))","v":0},{"$f":"IF(J$18<STANDARD_YEAR,J14,\nIF(RIGHT($D20,1)>RIGHT('Efficiency Levels'!$C$16,1),J14,\nIF(RIGHT($D20,1)<RIGHT('Efficiency Levels'!$C$16,1),0,\nIF(RIGHT($D20,1)=RIGHT('Efficiency Levels'!$C$16,1),SUM(OFFSET(J14,-RIGHT($D20,1),0,RIGHT($D20,1),1)),\"ERROR\"))))","v":0},{"$f":"IF(K$18<STANDARD_YEAR,K14,\nIF(RIGHT($D20,1)>RIGHT('Efficiency Levels'!$C$16,1),K14,\nIF(RIGHT($D20,1)<RIGHT('Efficiency Levels'!$C$16,1),0,\nIF(RIGHT($D20,1)=RIGHT('Efficiency Levels'!$C$16,1),SUM(OFFSET(K14,-RIGHT($D20,1),0,RIGHT($D20,1),1)),\"ERROR\"))))","v":0},{"$f":"IF(L$18<STANDARD_YEAR,L14,\nIF(RIGHT($D20,1)>RIGHT('Efficiency Levels'!$C$16,1),L14,\nIF(RIGHT($D20,1)<RIGHT('Efficiency Levels'!$C$16,1),0,\nIF(RIGHT($D20,1)=RIGHT('Efficiency Levels'!$C$16,1),SUM(OFFSET(L14,-RIGHT($D20,1),0,RIGHT($D20,1),1)),\"ERROR\"))))","v":0},{"$f":"IF(M$18<STANDARD_YEAR,M14,\nIF(RIGHT($D20,1)>RIGHT('Efficiency Levels'!$C$16,1),M14,\nIF(RIGHT($D20,1)<RIGHT('Efficiency Levels'!$C$16,1),0,\nIF(RIGHT($D20,1)=RIGHT('Efficiency Levels'!$C$16,1),SUM(OFFSET(M14,-RIGHT($D20,1),0,RIGHT($D20,1),1)),\"ERROR\"))))","v":0},{"$f":"IF(N$18<STANDARD_YEAR,N14,\nIF(RIGHT($D20,1)>RIGHT('Efficiency Levels'!$C$16,1),N14,\nIF(RIGHT($D20,1)<RIGHT('Efficiency Levels'!$C$16,1),0,\nIF(RIGHT($D20,1)=RIGHT('Efficiency Levels'!$C$16,1),SUM(OFFSET(N14,-RIGHT($D20,1),0,RIGHT($D20,1),1)),\"ERROR\"))))","v":0},{"$f":"IF(O$18<STANDARD_YEAR,O14,\nIF(RIGHT($D20,1)>RIGHT('Efficiency Levels'!$C$16,1),O14,\nIF(RIGHT($D20,1)<RIGHT('Efficiency Levels'!$C$16,1),0,\nIF(RIGHT($D20,1)=RIGHT('Efficiency Levels'!$C$16,1),SUM(OFFSET(O14,-RIGHT($D20,1),0,RIGHT($D20,1),1)),\"ERROR\"))))","v":0},{"$f":"IF(P$18<STANDARD_YEAR,P14,\nIF(RIGHT($D20,1)>RIGHT('Efficiency Levels'!$C$16,1),P14,\nIF(RIGHT($D20,1)<RIGHT('Efficiency Levels'!$C$16,1),0,\nIF(RIGHT($D20,1)=RIGHT('Efficiency Levels'!$C$16,1),SUM(OFFSET(P14,-RIGHT($D20,1),0,RIGHT($D20,1),1)),\"ERROR\"))))","v":0},{"$f":"IF(Q$18<STANDARD_YEAR,Q14,\nIF(RIGHT($D20,1)>RIGHT('Efficiency Levels'!$C$16,1),Q14,\nIF(RIGHT($D20,1)<RIGHT('Efficiency Levels'!$C$16,1),0,\nIF(RIGHT($D20,1)=RIGHT('Efficiency Levels'!$C$16,1),SUM(OFFSET(Q14,-RIGHT($D20,1),0,RIGHT($D20,1),1)),\"ERROR\"))))","v":0},{"$f":"IF(R$18<STANDARD_YEAR,R14,\nIF(RIGHT($D20,1)>RIGHT('Efficiency Levels'!$C$16,1),R14,\nIF(RIGHT($D20,1)<RIGHT('Efficiency Levels'!$C$16,1),0,\nIF(RIGHT($D20,1)=RIGHT('Efficiency Levels'!$C$16,1),SUM(OFFSET(R14,-RIGHT($D20,1),0,RIGHT($D20,1),1)),\"ERROR\"))))","v":0},{"$f":"IF(S$18<STANDARD_YEAR,S14,\nIF(RIGHT($D20,1)>RIGHT('Efficiency Levels'!$C$16,1),S14,\nIF(RIGHT($D20,1)<RIGHT('Efficiency Levels'!$C$16,1),0,\nIF(RIGHT($D20,1)=RIGHT('Efficiency Levels'!$C$16,1),SUM(OFFSET(S14,-RIGHT($D20,1),0,RIGHT($D20,1),1)),\"ERROR\"))))","v":0},{"$f":"IF(T$18<STANDARD_YEAR,T14,\nIF(RIGHT($D20,1)>RIGHT('Efficiency Levels'!$C$16,1),T14,\nIF(RIGHT($D20,1)<RIGHT('Efficiency Levels'!$C$16,1),0,\nIF(RIGHT($D20,1)=RIGHT('Efficiency Levels'!$C$16,1),SUM(OFFSET(T14,-RIGHT($D20,1),0,RIGHT($D20,1),1)),\"ERROR\"))))","v":0},{"$f":"IF(U$18<STANDARD_YEAR,U14,\nIF(RIGHT($D20,1)>RIGHT('Efficiency Levels'!$C$16,1),U14,\nIF(RIGHT($D20,1)<RIGHT('Efficiency Levels'!$C$16,1),0,\nIF(RIGHT($D20,1)=RIGHT('Efficiency Levels'!$C$16,1),SUM(OFFSET(U14,-RIGHT($D20,1),0,RIGHT($D20,1),1)),\"ERROR\"))))","v":0},{"$f":"IF(V$18<STANDARD_YEAR,V14,\nIF(RIGHT($D20,1)>RIGHT('Efficiency Levels'!$C$16,1),V14,\nIF(RIGHT($D20,1)<RIGHT('Efficiency Levels'!$C$16,1),0,\nIF(RIGHT($D20,1)=RIGHT('Efficiency Levels'!$C$16,1),SUM(OFFSET(V14,-RIGHT($D20,1),0,RIGHT($D20,1),1)),\"ERROR\"))))","v":0},{"$f":"IF(W$18<STANDARD_YEAR,W14,\nIF(RIGHT($D20,1)>RIGHT('Efficiency Levels'!$C$16,1),W14,\nIF(RIGHT($D20,1)<RIGHT('Efficiency Levels'!$C$16,1),0,\nIF(RIGHT($D20,1)=RIGHT('Efficiency Levels'!$C$16,1),SUM(OFFSET(W14,-RIGHT($D20,1),0,RIGHT($D20,1),1)),\"ERROR\"))))","v":0},{"$f":"IF(X$18<STANDARD_YEAR,X14,\nIF(RIGHT($D20,1)>RIGHT('Efficiency Levels'!$C$16,1),X14,\nIF(RIGHT($D20,1)<RIGHT('Efficiency Levels'!$C$16,1),0,\nIF(RIGHT($D20,1)=RIGHT('Efficiency Levels'!$C$16,1),SUM(OFFSET(X14,-RIGHT($D20,1),0,RIGHT($D20,1),1)),\"ERROR\"))))","v":0},{"$f":"IF(Y$18<STANDARD_YEAR,Y14,\nIF(RIGHT($D20,1)>RIGHT('Efficiency Levels'!$C$16,1),Y14,\nIF(RIGHT($D20,1)<RIGHT('Efficiency Levels'!$C$16,1),0,\nIF(RIGHT($D20,1)=RIGHT('Efficiency Levels'!$C$16,1),SUM(OFFSET(Y14,-RIGHT($D20,1),0,RIGHT($D20,1),1)),\"ERROR\"))))","v":0},{"$f":"IF(Z$18<STANDARD_YEAR,Z14,\nIF(RIGHT($D20,1)>RIGHT('Efficiency Levels'!$C$16,1),Z14,\nIF(RIGHT($D20,1)<RIGHT('Efficiency Levels'!$C$16,1),0,\nIF(RIGHT($D20,1)=RIGHT('Efficiency Levels'!$C$16,1),SUM(OFFSET(Z14,-RIGHT($D20,1),0,RIGHT($D20,1),1)),\"ERROR\"))))","v":0},{"$f":"IF(AA$18<STANDARD_YEAR,AA14,\nIF(RIGHT($D20,1)>RIGHT('Efficiency Levels'!$C$16,1),AA14,\nIF(RIGHT($D20,1)<RIGHT('Efficiency Levels'!$C$16,1),0,\nIF(RIGHT($D20,1)=RIGHT('Efficiency Levels'!$C$16,1),SUM(OFFSET(AA14,-RIGHT($D20,1),0,RIGHT($D20,1),1)),\"ERROR\"))))","v":0},{"$f":"IF(AB$18<STANDARD_YEAR,AB14,\nIF(RIGHT($D20,1)>RIGHT('Efficiency Levels'!$C$16,1),AB14,\nIF(RIGHT($D20,1)<RIGHT('Efficiency Levels'!$C$16,1),0,\nIF(RIGHT($D20,1)=RIGHT('Efficiency Levels'!$C$16,1),SUM(OFFSET(AB14,-RIGHT($D20,1),0,RIGHT($D20,1),1)),\"ERROR\"))))","v":0},{"$f":"IF(AC$18<STANDARD_YEAR,AC14,\nIF(RIGHT($D20,1)>RIGHT('Efficiency Levels'!$C$16,1),AC14,\nIF(RIGHT($D20,1)<RIGHT('Efficiency Levels'!$C$16,1),0,\nIF(RIGHT($D20,1)=RIGHT('Efficiency Levels'!$C$16,1),SUM(OFFSET(AC14,-RIGHT($D20,1),0,RIGHT($D20,1),1)),\"ERROR\"))))","v":0},{"$f":"IF(AD$18<STANDARD_YEAR,AD14,\nIF(RIGHT($D20,1)>RIGHT('Efficiency Levels'!$C$16,1),AD14,\nIF(RIGHT($D20,1)<RIGHT('Efficiency Levels'!$C$16,1),0,\nIF(RIGHT($D20,1)=RIGHT('Efficiency Levels'!$C$16,1),SUM(OFFSET(AD14,-RIGHT($D20,1),0,RIGHT($D20,1),1)),\"ERROR\"))))","v":0},{"$f":"IF(AE$18<STANDARD_YEAR,AE14,\nIF(RIGHT($D20,1)>RIGHT('Efficiency Levels'!$C$16,1),AE14,\nIF(RIGHT($D20,1)<RIGHT('Efficiency Levels'!$C$16,1),0,\nIF(RIGHT($D20,1)=RIGHT('Efficiency Levels'!$C$16,1),SUM(OFFSET(AE14,-RIGHT($D20,1),0,RIGHT($D20,1),1)),\"ERROR\"))))","v":0},{"$f":"IF(AF$18<STANDARD_YEAR,AF14,\nIF(RIGHT($D20,1)>RIGHT('Efficiency Levels'!$C$16,1),AF14,\nIF(RIGHT($D20,1)<RIGHT('Efficiency Levels'!$C$16,1),0,\nIF(RIGHT($D20,1)=RIGHT('Efficiency Levels'!$C$16,1),SUM(OFFSET(AF14,-RIGHT($D20,1),0,RIGHT($D20,1),1)),\"ERROR\"))))","v":0},{"$f":"IF(AG$18<STANDARD_YEAR,AG14,\nIF(RIGHT($D20,1)>RIGHT('Efficiency Levels'!$C$16,1),AG14,\nIF(RIGHT($D20,1)<RIGHT('Efficiency Levels'!$C$16,1),0,\nIF(RIGHT($D20,1)=RIGHT('Efficiency Levels'!$C$16,1),SUM(OFFSET(AG14,-RIGHT($D20,1),0,RIGHT($D20,1),1)),\"ERROR\"))))","v":0},{"$f":"IF(AH$18<STANDARD_YEAR,AH14,\nIF(RIGHT($D20,1)>RIGHT('Efficiency Levels'!$C$16,1),AH14,\nIF(RIGHT($D20,1)<RIGHT('Efficiency Levels'!$C$16,1),0,\nIF(RIGHT($D20,1)=RIGHT('Efficiency Levels'!$C$16,1),SUM(OFFSET(AH14,-RIGHT($D20,1),0,RIGHT($D20,1),1)),\"ERROR\"))))","v":0},{"$f":"IF(AI$18<STANDARD_YEAR,AI14,\nIF(RIGHT($D20,1)>RIGHT('Efficiency Levels'!$C$16,1),AI14,\nIF(RIGHT($D20,1)<RIGHT('Efficiency Levels'!$C$16,1),0,\nIF(RIGHT($D20,1)=RIGHT('Efficiency Levels'!$C$16,1),SUM(OFFSET(AI14,-RIGHT($D20,1),0,RIGHT($D20,1),1)),\"ERROR\"))))","v":0},{"$f":"IF(AJ$18<STANDARD_YEAR,AJ14,\nIF(RIGHT($D20,1)>RIGHT('Efficiency Levels'!$C$16,1),AJ14,\nIF(RIGHT($D20,1)<RIGHT('Efficiency Levels'!$C$16,1),0,\nIF(RIGHT($D20,1)=RIGHT('Efficiency Levels'!$C$16,1),SUM(OFFSET(AJ14,-RIGHT($D20,1),0,RIGHT($D20,1),1)),\"ERROR\"))))","v":0},{"$f":"IF(AK$18<STANDARD_YEAR,AK14,\nIF(RIGHT($D20,1)>RIGHT('Efficiency Levels'!$C$16,1),AK14,\nIF(RIGHT($D20,1)<RIGHT('Efficiency Levels'!$C$16,1),0,\nIF(RIGHT($D20,1)=RIGHT('Efficiency Levels'!$C$16,1),SUM(OFFSET(AK14,-RIGHT($D20,1),0,RIGHT($D20,1),1)),\"ERROR\"))))","v":0},{"$f":"IF(AL$18<STANDARD_YEAR,AL14,\nIF(RIGHT($D20,1)>RIGHT('Efficiency Levels'!$C$16,1),AL14,\nIF(RIGHT($D20,1)<RIGHT('Efficiency Levels'!$C$16,1),0,\nIF(RIGHT($D20,1)=RIGHT('Efficiency Levels'!$C$16,1),SUM(OFFSET(AL14,-RIGHT($D20,1),0,RIGHT($D20,1),1)),\"ERROR\"))))","v":0},{"$f":"IF(AM$18<STANDARD_YEAR,AM14,\nIF(RIGHT($D20,1)>RIGHT('Efficiency Levels'!$C$16,1),AM14,\nIF(RIGHT($D20,1)<RIGHT('Efficiency Levels'!$C$16,1),0,\nIF(RIGHT($D20,1)=RIGHT('Efficiency Levels'!$C$16,1),SUM(OFFSET(AM14,-RIGHT($D20,1),0,RIGHT($D20,1),1)),\"ERROR\"))))","v":0},{"$f":"IF(AN$18<STANDARD_YEAR,AN14,\nIF(RIGHT($D20,1)>RIGHT('Efficiency Levels'!$C$16,1),AN14,\nIF(RIGHT($D20,1)<RIGHT('Efficiency Levels'!$C$16,1),0,\nIF(RIGHT($D20,1)=RIGHT('Efficiency Levels'!$C$16,1),SUM(OFFSET(AN14,-RIGHT($D20,1),0,RIGHT($D20,1),1)),\"ERROR\"))))","v":0},{"$f":"IF(AO$18<STANDARD_YEAR,AO14,\nIF(RIGHT($D20,1)>RIGHT('Efficiency Levels'!$C$16,1),AO14,\nIF(RIGHT($D20,1)<RIGHT('Efficiency Levels'!$C$16,1),0,\nIF(RIGHT($D20,1)=RIGHT('Efficiency Levels'!$C$16,1),SUM(OFFSET(AO14,-RIGHT($D20,1),0,RIGHT($D20,1),1)),\"ERROR\"))))","v":0},{"$f":"IF(AP$18<STANDARD_YEAR,AP14,\nIF(RIGHT($D20,1)>RIGHT('Efficiency Levels'!$C$16,1),AP14,\nIF(RIGHT($D20,1)<RIGHT('Efficiency Levels'!$C$16,1),0,\nIF(RIGHT($D20,1)=RIGHT('Efficiency Levels'!$C$16,1),SUM(OFFSET(AP14,-RIGHT($D20,1),0,RIGHT($D20,1),1)),\"ERROR\"))))","v":0},{"$f":"IF(AQ$18<STANDARD_YEAR,AQ14,\nIF(RIGHT($D20,1)>RIGHT('Efficiency Levels'!$C$16,1),AQ14,\nIF(RIGHT($D20,1)<RIGHT('Efficiency Levels'!$C$16,1),0,\nIF(RIGHT($D20,1)=RIGHT('Efficiency Levels'!$C$16,1),SUM(OFFSET(AQ14,-RIGHT($D20,1),0,RIGHT($D20,1),1)),\"ERROR\"))))","v":0},{"$f":"IF(AR$18<STANDARD_YEAR,AR14,\nIF(RIGHT($D20,1)>RIGHT('Efficiency Levels'!$C$16,1),AR14,\nIF(RIGHT($D20,1)<RIGHT('Efficiency Levels'!$C$16,1),0,\nIF(RIGHT($D20,1)=RIGHT('Efficiency Levels'!$C$16,1),SUM(OFFSET(AR14,-RIGHT($D20,1),0,RIGHT($D20,1),1)),\"ERROR\"))))","v":0},{"$f":"IF(AS$18<STANDARD_YEAR,AS14,\nIF(RIGHT($D20,1)>RIGHT('Efficiency Levels'!$C$16,1),AS14,\nIF(RIGHT($D20,1)<RIGHT('Efficiency Levels'!$C$16,1),0,\nIF(RIGHT($D20,1)=RIGHT('Efficiency Levels'!$C$16,1),SUM(OFFSET(AS14,-RIGHT($D20,1),0,RIGHT($D20,1),1)),\"ERROR\"))))","v":0},{"$f":"IF(AT$18<STANDARD_YEAR,AT14,\nIF(RIGHT($D20,1)>RIGHT('Efficiency Levels'!$C$16,1),AT14,\nIF(RIGHT($D20,1)<RIGHT('Efficiency Levels'!$C$16,1),0,\nIF(RIGHT($D20,1)=RIGHT('Efficiency Levels'!$C$16,1),SUM(OFFSET(AT14,-RIGHT($D20,1),0,RIGHT($D20,1),1)),\"ERROR\"))))","v":0},{"$f":"IF(AU$18<STANDARD_YEAR,AU14,\nIF(RIGHT($D20,1)>RIGHT('Efficiency Levels'!$C$16,1),AU14,\nIF(RIGHT($D20,1)<RIGHT('Efficiency Levels'!$C$16,1),0,\nIF(RIGHT($D20,1)=RIGHT('Efficiency Levels'!$C$16,1),SUM(OFFSET(AU14,-RIGHT($D20,1),0,RIGHT($D20,1),1)),\"ERROR\"))))","v":1},{"$f":"IF(AV$18<STANDARD_YEAR,AV14,\nIF(RIGHT($D20,1)>RIGHT('Efficiency Levels'!$C$16,1),AV14,\nIF(RIGHT($D20,1)<RIGHT('Efficiency Levels'!$C$16,1),0,\nIF(RIGHT($D20,1)=RIGHT('Efficiency Levels'!$C$16,1),SUM(OFFSET(AV14,-RIGHT($D20,1),0,RIGHT($D20,1),1)),\"ERROR\"))))","v":1},{"$f":"IF(AW$18<STANDARD_YEAR,AW14,\nIF(RIGHT($D20,1)>RIGHT('Efficiency Levels'!$C$16,1),AW14,\nIF(RIGHT($D20,1)<RIGHT('Efficiency Levels'!$C$16,1),0,\nIF(RIGHT($D20,1)=RIGHT('Efficiency Levels'!$C$16,1),SUM(OFFSET(AW14,-RIGHT($D20,1),0,RIGHT($D20,1),1)),\"ERROR\"))))","v":1},{"$f":"IF(AX$18<STANDARD_YEAR,AX14,\nIF(RIGHT($D20,1)>RIGHT('Efficiency Levels'!$C$16,1),AX14,\nIF(RIGHT($D20,1)<RIGHT('Efficiency Levels'!$C$16,1),0,\nIF(RIGHT($D20,1)=RIGHT('Efficiency Levels'!$C$16,1),SUM(OFFSET(AX14,-RIGHT($D20,1),0,RIGHT($D20,1),1)),\"ERROR\"))))","v":1},{"$f":"IF(AY$18<STANDARD_YEAR,AY14,\nIF(RIGHT($D20,1)>RIGHT('Efficiency Levels'!$C$16,1),AY14,\nIF(RIGHT($D20,1)<RIGHT('Efficiency Levels'!$C$16,1),0,\nIF(RIGHT($D20,1)=RIGHT('Efficiency Levels'!$C$16,1),SUM(OFFSET(AY14,-RIGHT($D20,1),0,RIGHT($D20,1),1)),\"ERROR\"))))","v":1},{"$f":"IF(AZ$18<STANDARD_YEAR,AZ14,\nIF(RIGHT($D20,1)>RIGHT('Efficiency Levels'!$C$16,1),AZ14,\nIF(RIGHT($D20,1)<RIGHT('Efficiency Levels'!$C$16,1),0,\nIF(RIGHT($D20,1)=RIGHT('Efficiency Levels'!$C$16,1),SUM(OFFSET(AZ14,-RIGHT($D20,1),0,RIGHT($D20,1),1)),\"ERROR\"))))","v":1},{"$f":"IF(BA$18<STANDARD_YEAR,BA14,\nIF(RIGHT($D20,1)>RIGHT('Efficiency Levels'!$C$16,1),BA14,\nIF(RIGHT($D20,1)<RIGHT('Efficiency Levels'!$C$16,1),0,\nIF(RIGHT($D20,1)=RIGHT('Efficiency Levels'!$C$16,1),SUM(OFFSET(BA14,-RIGHT($D20,1),0,RIGHT($D20,1),1)),\"ERROR\"))))","v":1},{"$f":"IF(BB$18<STANDARD_YEAR,BB14,\nIF(RIGHT($D20,1)>RIGHT('Efficiency Levels'!$C$16,1),BB14,\nIF(RIGHT($D20,1)<RIGHT('Efficiency Levels'!$C$16,1),0,\nIF(RIGHT($D20,1)=RIGHT('Efficiency Levels'!$C$16,1),SUM(OFFSET(BB14,-RIGHT($D20,1),0,RIGHT($D20,1),1)),\"ERROR\"))))","v":1},{"$f":"IF(BC$18<STANDARD_YEAR,BC14,\nIF(RIGHT($D20,1)>RIGHT('Efficiency Levels'!$C$16,1),BC14,\nIF(RIGHT($D20,1)<RIGHT('Efficiency Levels'!$C$16,1),0,\nIF(RIGHT($D20,1)=RIGHT('Efficiency Levels'!$C$16,1),SUM(OFFSET(BC14,-RIGHT($D20,1),0,RIGHT($D20,1),1)),\"ERROR\"))))","v":1},{"$f":"IF(BD$18<STANDARD_YEAR,BD14,\nIF(RIGHT($D20,1)>RIGHT('Efficiency Levels'!$C$16,1),BD14,\nIF(RIGHT($D20,1)<RIGHT('Efficiency Levels'!$C$16,1),0,\nIF(RIGHT($D20,1)=RIGHT('Efficiency Levels'!$C$16,1),SUM(OFFSET(BD14,-RIGHT($D20,1),0,RIGHT($D20,1),1)),\"ERROR\"))))","v":1},{"$f":"IF(BE$18<STANDARD_YEAR,BE14,\nIF(RIGHT($D20,1)>RIGHT('Efficiency Levels'!$C$16,1),BE14,\nIF(RIGHT($D20,1)<RIGHT('Efficiency Levels'!$C$16,1),0,\nIF(RIGHT($D20,1)=RIGHT('Efficiency Levels'!$C$16,1),SUM(OFFSET(BE14,-RIGHT($D20,1),0,RIGHT($D20,1),1)),\"ERROR\"))))","v":1},{"$f":"IF(BF$18<STANDARD_YEAR,BF14,\nIF(RIGHT($D20,1)>RIGHT('Efficiency Levels'!$C$16,1),BF14,\nIF(RIGHT($D20,1)<RIGHT('Efficiency Levels'!$C$16,1),0,\nIF(RIGHT($D20,1)=RIGHT('Efficiency Levels'!$C$16,1),SUM(OFFSET(BF14,-RIGHT($D20,1),0,RIGHT($D20,1),1)),\"ERROR\"))))","v":1},{"$f":"IF(BG$18<STANDARD_YEAR,BG14,\nIF(RIGHT($D20,1)>RIGHT('Efficiency Levels'!$C$16,1),BG14,\nIF(RIGHT($D20,1)<RIGHT('Efficiency Levels'!$C$16,1),0,\nIF(RIGHT($D20,1)=RIGHT('Efficiency Levels'!$C$16,1),SUM(OFFSET(BG14,-RIGHT($D20,1),0,RIGHT($D20,1),1)),\"ERROR\"))))","v":1},{"$f":"IF(BH$18<STANDARD_YEAR,BH14,\nIF(RIGHT($D20,1)>RIGHT('Efficiency Levels'!$C$16,1),BH14,\nIF(RIGHT($D20,1)<RIGHT('Efficiency Levels'!$C$16,1),0,\nIF(RIGHT($D20,1)=RIGHT('Efficiency Levels'!$C$16,1),SUM(OFFSET(BH14,-RIGHT($D20,1),0,RIGHT($D20,1),1)),\"ERROR\"))))","v":1},{"$f":"IF(BI$18<STANDARD_YEAR,BI14,\nIF(RIGHT($D20,1)>RIGHT('Efficiency Levels'!$C$16,1),BI14,\nIF(RIGHT($D20,1)<RIGHT('Efficiency Levels'!$C$16,1),0,\nIF(RIGHT($D20,1)=RIGHT('Efficiency Levels'!$C$16,1),SUM(OFFSET(BI14,-RIGHT($D20,1),0,RIGHT($D20,1),1)),\"ERROR\"))))","v":1},{"$f":"IF(BJ$18<STANDARD_YEAR,BJ14,\nIF(RIGHT($D20,1)>RIGHT('Efficiency Levels'!$C$16,1),BJ14,\nIF(RIGHT($D20,1)<RIGHT('Efficiency Levels'!$C$16,1),0,\nIF(RIGHT($D20,1)=RIGHT('Efficiency Levels'!$C$16,1),SUM(OFFSET(BJ14,-RIGHT($D20,1),0,RIGHT($D20,1),1)),\"ERROR\"))))","v":1}]
[null,null,null,"TOTAL",null,null,null,null,{"$f":"SUM(I19:I20)","v":1},1,1,1,1,1,1,1,1,1,1,1,1,1,1,1,1,1,1,1,1,1,1,1,1,1,1,1,1,1,1,1,1,1,1,1,1,1,1,1,1,1,1,1,1,1,1,1,1,1,1,1,1,1]
[]
[null,null,null,"Sources","Placeholder Values Assumes All Pre-Case Shipments are the Least Energy Efficient Products"]
[]
[]
[]
[null,null,"PC2",{"$f":"OFFSET('Product Classes'!$C$9,MATCH(C27,MODEL_PCS,0),0)","v":"Electric Cooking Tops—Low or High Wattage Open (Coil) Elements"}]
[]
[null,null,null,"PRE-Case",null,"Static Distribution"]
[null,null,null,"Efficiency Level","UEC (kWh / year)",2011,null,null,1981,1982,1983,1984,1985,1986,1987,1988,1989,1990,1991,1992,1993,1994,1995,1996,1997,1998,1999,2000,2001,2002,2003,2004,2005,2006,2007,2008,2009,2010,2011,2012,2013,2014,2015,2016,2017,2018,2019,2020,2021,2022,2023,2024,2025,2026,2027,2028,2029,2030,2031,2032,2033,2034]
[null,null,null,"EL0",{"$f":"OFFSET('Efficiency Levels'!$D$11,MATCH($C$27,'Efficiency Levels'!$C$9:$C$995,0)+RIGHT(D31,1),0)","v":280.60000000000002},1,null,null,{"$f":"$F31","v":1},1,1,1,1,1,1,1,1,1,1,1,1,1,1,1,{"$f":"$F31","v":1},1,1,1,1,1,1,1,1,1,1,1,1,1,1,1,{"$f":"$F31","v":1},1,1,1,1,1,1,1,1,1,1,1,1,1,1,1,1,1,1,1,1,1]
[null,null,null,"EL1",{"$f":"OFFSET('Efficiency Levels'!$D$11,MATCH($C$27,'Efficiency Levels'!$C$9:$C$995,0)+RIGHT(D32,1),0)","v":268.60000000000002},0,null,null,0,0,0,0,0,0,0,0,0,0,0,0,0,0,0,0,0,0,0,0,0,0,0,0,0,0,0,0,0,0,0,0,0,0,0,0,0,0,0,0,0,0,0,0,0,0,0,0,0,0,0,0,0,0]
[null,null,null,"EL2",{"$f":"OFFSET('Efficiency Levels'!$D$11,MATCH($C$27,'Efficiency Levels'!$C$9:$C$995,0)+RIGHT(D33,1),0)","v":263.5},0,null,null,0,0,0,0,0,0,0,0,0,0,0,0,0,0,0,0,0,0,0,0,0,0,0,0,0,0,0,0,0,0,0,0,0,0,0,0,0,0,0,0,0,0,0,0,0,0,0,0,0,0,0,0,0,0]
[null,null,null,"EL3",{"$f":"OFFSET('Efficiency Levels'!$D$11,MATCH($C$27,'Efficiency Levels'!$C$9:$C$995,0)+RIGHT(D34,1),0)","v":259.8},0,null,null,0,0,0,0,0,0,0,0,0,0,0,0,0,0,0,0,0,0,0,0,0,0,0,0,0,0,0,0,0,0,0,0,0,0,0,0,0,0,0,0,0,0,0,0,0,0,0,0,0,0,0,0,0,0]
[null,null,null,"EL4",{"$f":"OFFSET('Efficiency Levels'!$D$11,MATCH($C$27,'Efficiency Levels'!$C$9:$C$995,0)+RIGHT(D35,1),0)","v":245.9},0,null,null,0,0,0,0,0,0,0,0,0,0,0,0,0,0,0,0,0,0,0,0,0,0,0,0,0,0,0,0,0,0,0,0,0,0,0,0,0,0,0,0,0,0,0,0,0,0,0,0,0,0,0,0,0,0]
[null,null,null,"EL5",{"$f":"OFFSET('Efficiency Levels'!$D$11,MATCH($C$27,'Efficiency Levels'!$C$9:$C$995,0)+RIGHT(D36,1),0)","v":240.7},0,null,null,0,0,0,0,0,0,0,0,0,0,0,0,0,0,0,0,0,0,0,0,0,0,0,0,0,0,0,0,0,0,0,0,0,0,0,0,0,0,0,0,0,0,0,0,0,0,0,0,0,0,0,0,0,0]
[null,null,null,"TOTAL",null,{"$f":"SUM(F31:F36)","v":1},null,null,{"$f":"SUM(I31:I36)","v":1},1,1,1,1,1,1,1,1,1,1,1,1,1,1,1,1,1,1,1,1,1,1,1,1,1,1,1,1,1,1,1,1,1,1,1,1,1,1,1,1,1,1,1,1,1,1,1,1,1,1,1,1,1]
[]
[null,null,null,"POST-Case"]
[null,null,null,"Efficiency Level","UEC (kWh / year)",null,null,null,1981,1982,1983,1984,1985,1986,1987,1988,1989,1990,1991,1992,1993,1994,1995,1996,1997,1998,1999,2000,2001,2002,2003,2004,2005,2006,2007,2008,2009,2010,2011,2012,2013,2014,2015,2016,2017,2018,2019,2020,2021,2022,2023,2024,2025,2026,2027,2028,2029,2030,2031,2032,2033,2034]
[null,null,null,"EL0",{"$f":"OFFSET('Efficiency Levels'!$D$11,MATCH($C$27,'Efficiency Levels'!$C$9:$C$995,0)+RIGHT(D41,1),0)","v":280.60000000000002},null,null,null,{"$f":"IF(I$18<STANDARD_YEAR,I31,\nIF(RIGHT($D41,1)>RIGHT('Efficiency Levels'!$C$33,1),I31,\nIF(RIGHT($D41,1)<RIGHT('Efficiency Levels'!$C$33,1),0,\nIF(RIGHT($D41,1)=RIGHT('Efficiency Levels'!$C$33,1),SUM(OFFSET(I31,-RIGHT($D41,1),0,RIGHT($D41,1),1)),\"ERROR\"))))","v":1},{"$f":"IF(J$18<STANDARD_YEAR,J31,\nIF(RIGHT($D41,1)>RIGHT('Efficiency Levels'!$C$33,1),J31,\nIF(RIGHT($D41,1)<RIGHT('Efficiency Levels'!$C$33,1),0,\nIF(RIGHT($D41,1)=RIGHT('Efficiency Levels'!$C$33,1),SUM(OFFSET(J31,-RIGHT($D41,1),0,RIGHT($D41,1),1)),\"ERROR\"))))","v":1},{"$f":"IF(K$18<STANDARD_YEAR,K31,\nIF(RIGHT($D41,1)>RIGHT('Efficiency Levels'!$C$33,1),K31,\nIF(RIGHT($D41,1)<RIGHT('Efficiency Levels'!$C$33,1),0,\nIF(RIGHT($D41,1)=RIGHT('Efficiency Levels'!$C$33,1),SUM(OFFSET(K31,-RIGHT($D41,1),0,RIGHT($D41,1),1)),\"ERROR\"))))","v":1},{"$f":"IF(L$18<STANDARD_YEAR,L31,\nIF(RIGHT($D41,1)>RIGHT('Efficiency Levels'!$C$33,1),L31,\nIF(RIGHT($D41,1)<RIGHT('Efficiency Levels'!$C$33,1),0,\nIF(RIGHT($D41,1)=RIGHT('Efficiency Levels'!$C$33,1),SUM(OFFSET(L31,-RIGHT($D41,1),0,RIGHT($D41,1),1)),\"ERROR\"))))","v":1},{"$f":"IF(M$18<STANDARD_YEAR,M31,\nIF(RIGHT($D41,1)>RIGHT('Efficiency Levels'!$C$33,1),M31,\nIF(RIGHT($D41,1)<RIGHT('Efficiency Levels'!$C$33,1),0,\nIF(RIGHT($D41,1)=RIGHT('Efficiency Levels'!$C$33,1),SUM(OFFSET(M31,-RIGHT($D41,1),0,RIGHT($D41,1),1)),\"ERROR\"))))","v":1},{"$f":"IF(N$18<STANDARD_YEAR,N31,\nIF(RIGHT($D41,1)>RIGHT('Efficiency Levels'!$C$33,1),N31,\nIF(RIGHT($D41,1)<RIGHT('Efficiency Levels'!$C$33,1),0,\nIF(RIGHT($D41,1)=RIGHT('Efficiency Levels'!$C$33,1),SUM(OFFSET(N31,-RIGHT($D41,1),0,RIGHT($D41,1),1)),\"ERROR\"))))","v":1},{"$f":"IF(O$18<STANDARD_YEAR,O31,\nIF(RIGHT($D41,1)>RIGHT('Efficiency Levels'!$C$33,1),O31,\nIF(RIGHT($D41,1)<RIGHT('Efficiency Levels'!$C$33,1),0,\nIF(RIGHT($D41,1)=RIGHT('Efficiency Levels'!$C$33,1),SUM(OFFSET(O31,-RIGHT($D41,1),0,RIGHT($D41,1),1)),\"ERROR\"))))","v":1},{"$f":"IF(P$18<STANDARD_YEAR,P31,\nIF(RIGHT($D41,1)>RIGHT('Efficiency Levels'!$C$33,1),P31,\nIF(RIGHT($D41,1)<RIGHT('Efficiency Levels'!$C$33,1),0,\nIF(RIGHT($D41,1)=RIGHT('Efficiency Levels'!$C$33,1),SUM(OFFSET(P31,-RIGHT($D41,1),0,RIGHT($D41,1),1)),\"ERROR\"))))","v":1},{"$f":"IF(Q$18<STANDARD_YEAR,Q31,\nIF(RIGHT($D41,1)>RIGHT('Efficiency Levels'!$C$33,1),Q31,\nIF(RIGHT($D41,1)<RIGHT('Efficiency Levels'!$C$33,1),0,\nIF(RIGHT($D41,1)=RIGHT('Efficiency Levels'!$C$33,1),SUM(OFFSET(Q31,-RIGHT($D41,1),0,RIGHT($D41,1),1)),\"ERROR\"))))","v":1},{"$f":"IF(R$18<STANDARD_YEAR,R31,\nIF(RIGHT($D41,1)>RIGHT('Efficiency Levels'!$C$33,1),R31,\nIF(RIGHT($D41,1)<RIGHT('Efficiency Levels'!$C$33,1),0,\nIF(RIGHT($D41,1)=RIGHT('Efficiency Levels'!$C$33,1),SUM(OFFSET(R31,-RIGHT($D41,1),0,RIGHT($D41,1),1)),\"ERROR\"))))","v":1},{"$f":"IF(S$18<STANDARD_YEAR,S31,\nIF(RIGHT($D41,1)>RIGHT('Efficiency Levels'!$C$33,1),S31,\nIF(RIGHT($D41,1)<RIGHT('Efficiency Levels'!$C$33,1),0,\nIF(RIGHT($D41,1)=RIGHT('Efficiency Levels'!$C$33,1),SUM(OFFSET(S31,-RIGHT($D41,1),0,RIGHT($D41,1),1)),\"ERROR\"))))","v":1},{"$f":"IF(T$18<STANDARD_YEAR,T31,\nIF(RIGHT($D41,1)>RIGHT('Efficiency Levels'!$C$33,1),T31,\nIF(RIGHT($D41,1)<RIGHT('Efficiency Levels'!$C$33,1),0,\nIF(RIGHT($D41,1)=RIGHT('Efficiency Levels'!$C$33,1),SUM(OFFSET(T31,-RIGHT($D41,1),0,RIGHT($D41,1),1)),\"ERROR\"))))","v":1},{"$f":"IF(U$18<STANDARD_YEAR,U31,\nIF(RIGHT($D41,1)>RIGHT('Efficiency Levels'!$C$33,1),U31,\nIF(RIGHT($D41,1)<RIGHT('Efficiency Levels'!$C$33,1),0,\nIF(RIGHT($D41,1)=RIGHT('Efficiency Levels'!$C$33,1),SUM(OFFSET(U31,-RIGHT($D41,1),0,RIGHT($D41,1),1)),\"ERROR\"))))","v":1},{"$f":"IF(V$18<STANDARD_YEAR,V31,\nIF(RIGHT($D41,1)>RIGHT('Efficiency Levels'!$C$33,1),V31,\nIF(RIGHT($D41,1)<RIGHT('Efficiency Levels'!$C$33,1),0,\nIF(RIGHT($D41,1)=RIGHT('Efficiency Levels'!$C$33,1),SUM(OFFSET(V31,-RIGHT($D41,1),0,RIGHT($D41,1),1)),\"ERROR\"))))","v":1},{"$f":"IF(W$18<STANDARD_YEAR,W31,\nIF(RIGHT($D41,1)>RIGHT('Efficiency Levels'!$C$33,1),W31,\nIF(RIGHT($D41,1)<RIGHT('Efficiency Levels'!$C$33,1),0,\nIF(RIGHT($D41,1)=RIGHT('Efficiency Levels'!$C$33,1),SUM(OFFSET(W31,-RIGHT($D41,1),0,RIGHT($D41,1),1)),\"ERROR\"))))","v":1},{"$f":"IF(X$18<STANDARD_YEAR,X31,\nIF(RIGHT($D41,1)>RIGHT('Efficiency Levels'!$C$33,1),X31,\nIF(RIGHT($D41,1)<RIGHT('Efficiency Levels'!$C$33,1),0,\nIF(RIGHT($D41,1)=RIGHT('Efficiency Levels'!$C$33,1),SUM(OFFSET(X31,-RIGHT($D41,1),0,RIGHT($D41,1),1)),\"ERROR\"))))","v":1},{"$f":"IF(Y$18<STANDARD_YEAR,Y31,\nIF(RIGHT($D41,1)>RIGHT('Efficiency Levels'!$C$33,1),Y31,\nIF(RIGHT($D41,1)<RIGHT('Efficiency Levels'!$C$33,1),0,\nIF(RIGHT($D41,1)=RIGHT('Efficiency Levels'!$C$33,1),SUM(OFFSET(Y31,-RIGHT($D41,1),0,RIGHT($D41,1),1)),\"ERROR\"))))","v":1},{"$f":"IF(Z$18<STANDARD_YEAR,Z31,\nIF(RIGHT($D41,1)>RIGHT('Efficiency Levels'!$C$33,1),Z31,\nIF(RIGHT($D41,1)<RIGHT('Efficiency Levels'!$C$33,1),0,\nIF(RIGHT($D41,1)=RIGHT('Efficiency Levels'!$C$33,1),SUM(OFFSET(Z31,-RIGHT($D41,1),0,RIGHT($D41,1),1)),\"ERROR\"))))","v":1},{"$f":"IF(AA$18<STANDARD_YEAR,AA31,\nIF(RIGHT($D41,1)>RIGHT('Efficiency Levels'!$C$33,1),AA31,\nIF(RIGHT($D41,1)<RIGHT('Efficiency Levels'!$C$33,1),0,\nIF(RIGHT($D41,1)=RIGHT('Efficiency Levels'!$C$33,1),SUM(OFFSET(AA31,-RIGHT($D41,1),0,RIGHT($D41,1),1)),\"ERROR\"))))","v":1},{"$f":"IF(AB$18<STANDARD_YEAR,AB31,\nIF(RIGHT($D41,1)>RIGHT('Efficiency Levels'!$C$33,1),AB31,\nIF(RIGHT($D41,1)<RIGHT('Efficiency Levels'!$C$33,1),0,\nIF(RIGHT($D41,1)=RIGHT('Efficiency Levels'!$C$33,1),SUM(OFFSET(AB31,-RIGHT($D41,1),0,RIGHT($D41,1),1)),\"ERROR\"))))","v":1},{"$f":"IF(AC$18<STANDARD_YEAR,AC31,\nIF(RIGHT($D41,1)>RIGHT('Efficiency Levels'!$C$33,1),AC31,\nIF(RIGHT($D41,1)<RIGHT('Efficiency Levels'!$C$33,1),0,\nIF(RIGHT($D41,1)=RIGHT('Efficiency Levels'!$C$33,1),SUM(OFFSET(AC31,-RIGHT($D41,1),0,RIGHT($D41,1),1)),\"ERROR\"))))","v":1},{"$f":"IF(AD$18<STANDARD_YEAR,AD31,\nIF(RIGHT($D41,1)>RIGHT('Efficiency Levels'!$C$33,1),AD31,\nIF(RIGHT($D41,1)<RIGHT('Efficiency Levels'!$C$33,1),0,\nIF(RIGHT($D41,1)=RIGHT('Efficiency Levels'!$C$33,1),SUM(OFFSET(AD31,-RIGHT($D41,1),0,RIGHT($D41,1),1)),\"ERROR\"))))","v":1},{"$f":"IF(AE$18<STANDARD_YEAR,AE31,\nIF(RIGHT($D41,1)>RIGHT('Efficiency Levels'!$C$33,1),AE31,\nIF(RIGHT($D41,1)<RIGHT('Efficiency Levels'!$C$33,1),0,\nIF(RIGHT($D41,1)=RIGHT('Efficiency Levels'!$C$33,1),SUM(OFFSET(AE31,-RIGHT($D41,1),0,RIGHT($D41,1),1)),\"ERROR\"))))","v":1},{"$f":"IF(AF$18<STANDARD_YEAR,AF31,\nIF(RIGHT($D41,1)>RIGHT('Efficiency Levels'!$C$33,1),AF31,\nIF(RIGHT($D41,1)<RIGHT('Efficiency Levels'!$C$33,1),0,\nIF(RIGHT($D41,1)=RIGHT('Efficiency Levels'!$C$33,1),SUM(OFFSET(AF31,-RIGHT($D41,1),0,RIGHT($D41,1),1)),\"ERROR\"))))","v":1},{"$f":"IF(AG$18<STANDARD_YEAR,AG31,\nIF(RIGHT($D41,1)>RIGHT('Efficiency Levels'!$C$33,1),AG31,\nIF(RIGHT($D41,1)<RIGHT('Efficiency Levels'!$C$33,1),0,\nIF(RIGHT($D41,1)=RIGHT('Efficiency Levels'!$C$33,1),SUM(OFFSET(AG31,-RIGHT($D41,1),0,RIGHT($D41,1),1)),\"ERROR\"))))","v":1},{"$f":"IF(AH$18<STANDARD_YEAR,AH31,\nIF(RIGHT($D41,1)>RIGHT('Efficiency Levels'!$C$33,1),AH31,\nIF(RIGHT($D41,1)<RIGHT('Efficiency Levels'!$C$33,1),0,\nIF(RIGHT($D41,1)=RIGHT('Efficiency Levels'!$C$33,1),SUM(OFFSET(AH31,-RIGHT($D41,1),0,RIGHT($D41,1),1)),\"ERROR\"))))","v":1},{"$f":"IF(AI$18<STANDARD_YEAR,AI31,\nIF(RIGHT($D41,1)>RIGHT('Efficiency Levels'!$C$33,1),AI31,\nIF(RIGHT($D41,1)<RIGHT('Efficiency Levels'!$C$33,1),0,\nIF(RIGHT($D41,1)=RIGHT('Efficiency Levels'!$C$33,1),SUM(OFFSET(AI31,-RIGHT($D41,1),0,RIGHT($D41,1),1)),\"ERROR\"))))","v":1},{"$f":"IF(AJ$18<STANDARD_YEAR,AJ31,\nIF(RIGHT($D41,1)>RIGHT('Efficiency Levels'!$C$33,1),AJ31,\nIF(RIGHT($D41,1)<RIGHT('Efficiency Levels'!$C$33,1),0,\nIF(RIGHT($D41,1)=RIGHT('Efficiency Levels'!$C$33,1),SUM(OFFSET(AJ31,-RIGHT($D41,1),0,RIGHT($D41,1),1)),\"ERROR\"))))","v":1},{"$f":"IF(AK$18<STANDARD_YEAR,AK31,\nIF(RIGHT($D41,1)>RIGHT('Efficiency Levels'!$C$33,1),AK31,\nIF(RIGHT($D41,1)<RIGHT('Efficiency Levels'!$C$33,1),0,\nIF(RIGHT($D41,1)=RIGHT('Efficiency Levels'!$C$33,1),SUM(OFFSET(AK31,-RIGHT($D41,1),0,RIGHT($D41,1),1)),\"ERROR\"))))","v":1},{"$f":"IF(AL$18<STANDARD_YEAR,AL31,\nIF(RIGHT($D41,1)>RIGHT('Efficiency Levels'!$C$33,1),AL31,\nIF(RIGHT($D41,1)<RIGHT('Efficiency Levels'!$C$33,1),0,\nIF(RIGHT($D41,1)=RIGHT('Efficiency Levels'!$C$33,1),SUM(OFFSET(AL31,-RIGHT($D41,1),0,RIGHT($D41,1),1)),\"ERROR\"))))","v":1},{"$f":"IF(AM$18<STANDARD_YEAR,AM31,\nIF(RIGHT($D41,1)>RIGHT('Efficiency Levels'!$C$33,1),AM31,\nIF(RIGHT($D41,1)<RIGHT('Efficiency Levels'!$C$33,1),0,\nIF(RIGHT($D41,1)=RIGHT('Efficiency Levels'!$C$33,1),SUM(OFFSET(AM31,-RIGHT($D41,1),0,RIGHT($D41,1),1)),\"ERROR\"))))","v":1},{"$f":"IF(AN$18<STANDARD_YEAR,AN31,\nIF(RIGHT($D41,1)>RIGHT('Efficiency Levels'!$C$33,1),AN31,\nIF(RIGHT($D41,1)<RIGHT('Efficiency Levels'!$C$33,1),0,\nIF(RIGHT($D41,1)=RIGHT('Efficiency Levels'!$C$33,1),SUM(OFFSET(AN31,-RIGHT($D41,1),0,RIGHT($D41,1),1)),\"ERROR\"))))","v":1},{"$f":"IF(AO$18<STANDARD_YEAR,AO31,\nIF(RIGHT($D41,1)>RIGHT('Efficiency Levels'!$C$33,1),AO31,\nIF(RIGHT($D41,1)<RIGHT('Efficiency Levels'!$C$33,1),0,\nIF(RIGHT($D41,1)=RIGHT('Efficiency Levels'!$C$33,1),SUM(OFFSET(AO31,-RIGHT($D41,1),0,RIGHT($D41,1),1)),\"ERROR\"))))","v":1},{"$f":"IF(AP$18<STANDARD_YEAR,AP31,\nIF(RIGHT($D41,1)>RIGHT('Efficiency Levels'!$C$33,1),AP31,\nIF(RIGHT($D41,1)<RIGHT('Efficiency Levels'!$C$33,1),0,\nIF(RIGHT($D41,1)=RIGHT('Efficiency Levels'!$C$33,1),SUM(OFFSET(AP31,-RIGHT($D41,1),0,RIGHT($D41,1),1)),\"ERROR\"))))","v":1},{"$f":"IF(AQ$18<STANDARD_YEAR,AQ31,\nIF(RIGHT($D41,1)>RIGHT('Efficiency Levels'!$C$33,1),AQ31,\nIF(RIGHT($D41,1)<RIGHT('Efficiency Levels'!$C$33,1),0,\nIF(RIGHT($D41,1)=RIGHT('Efficiency Levels'!$C$33,1),SUM(OFFSET(AQ31,-RIGHT($D41,1),0,RIGHT($D41,1),1)),\"ERROR\"))))","v":1},{"$f":"IF(AR$18<STANDARD_YEAR,AR31,\nIF(RIGHT($D41,1)>RIGHT('Efficiency Levels'!$C$33,1),AR31,\nIF(RIGHT($D41,1)<RIGHT('Efficiency Levels'!$C$33,1),0,\nIF(RIGHT($D41,1)=RIGHT('Efficiency Levels'!$C$33,1),SUM(OFFSET(AR31,-RIGHT($D41,1),0,RIGHT($D41,1),1)),\"ERROR\"))))","v":1},{"$f":"IF(AS$18<STANDARD_YEAR,AS31,\nIF(RIGHT($D41,1)>RIGHT('Efficiency Levels'!$C$33,1),AS31,\nIF(RIGHT($D41,1)<RIGHT('Efficiency Levels'!$C$33,1),0,\nIF(RIGHT($D41,1)=RIGHT('Efficiency Levels'!$C$33,1),SUM(OFFSET(AS31,-RIGHT($D41,1),0,RIGHT($D41,1),1)),\"ERROR\"))))","v":1},{"$f":"IF(AT$18<STANDARD_YEAR,AT31,\nIF(RIGHT($D41,1)>RIGHT('Efficiency Levels'!$C$33,1),AT31,\nIF(RIGHT($D41,1)<RIGHT('Efficiency Levels'!$C$33,1),0,\nIF(RIGHT($D41,1)=RIGHT('Efficiency Levels'!$C$33,1),SUM(OFFSET(AT31,-RIGHT($D41,1),0,RIGHT($D41,1),1)),\"ERROR\"))))","v":1},{"$f":"IF(AU$18<STANDARD_YEAR,AU31,\nIF(RIGHT($D41,1)>RIGHT('Efficiency Levels'!$C$33,1),AU31,\nIF(RIGHT($D41,1)<RIGHT('Efficiency Levels'!$C$33,1),0,\nIF(RIGHT($D41,1)=RIGHT('Efficiency Levels'!$C$33,1),SUM(OFFSET(AU31,-RIGHT($D41,1),0,RIGHT($D41,1),1)),\"ERROR\"))))","v":0},{"$f":"IF(AV$18<STANDARD_YEAR,AV31,\nIF(RIGHT($D41,1)>RIGHT('Efficiency Levels'!$C$33,1),AV31,\nIF(RIGHT($D41,1)<RIGHT('Efficiency Levels'!$C$33,1),0,\nIF(RIGHT($D41,1)=RIGHT('Efficiency Levels'!$C$33,1),SUM(OFFSET(AV31,-RIGHT($D41,1),0,RIGHT($D41,1),1)),\"ERROR\"))))","v":0},{"$f":"IF(AW$18<STANDARD_YEAR,AW31,\nIF(RIGHT($D41,1)>RIGHT('Efficiency Levels'!$C$33,1),AW31,\nIF(RIGHT($D41,1)<RIGHT('Efficiency Levels'!$C$33,1),0,\nIF(RIGHT($D41,1)=RIGHT('Efficiency Levels'!$C$33,1),SUM(OFFSET(AW31,-RIGHT($D41,1),0,RIGHT($D41,1),1)),\"ERROR\"))))","v":0},{"$f":"IF(AX$18<STANDARD_YEAR,AX31,\nIF(RIGHT($D41,1)>RIGHT('Efficiency Levels'!$C$33,1),AX31,\nIF(RIGHT($D41,1)<RIGHT('Efficiency Levels'!$C$33,1),0,\nIF(RIGHT($D41,1)=RIGHT('Efficiency Levels'!$C$33,1),SUM(OFFSET(AX31,-RIGHT($D41,1),0,RIGHT($D41,1),1)),\"ERROR\"))))","v":0},{"$f":"IF(AY$18<STANDARD_YEAR,AY31,\nIF(RIGHT($D41,1)>RIGHT('Efficiency Levels'!$C$33,1),AY31,\nIF(RIGHT($D41,1)<RIGHT('Efficiency Levels'!$C$33,1),0,\nIF(RIGHT($D41,1)=RIGHT('Efficiency Levels'!$C$33,1),SUM(OFFSET(AY31,-RIGHT($D41,1),0,RIGHT($D41,1),1)),\"ERROR\"))))","v":0},{"$f":"IF(AZ$18<STANDARD_YEAR,AZ31,\nIF(RIGHT($D41,1)>RIGHT('Efficiency Levels'!$C$33,1),AZ31,\nIF(RIGHT($D41,1)<RIGHT('Efficiency Levels'!$C$33,1),0,\nIF(RIGHT($D41,1)=RIGHT('Efficiency Levels'!$C$33,1),SUM(OFFSET(AZ31,-RIGHT($D41,1),0,RIGHT($D41,1),1)),\"ERROR\"))))","v":0},{"$f":"IF(BA$18<STANDARD_YEAR,BA31,\nIF(RIGHT($D41,1)>RIGHT('Efficiency Levels'!$C$33,1),BA31,\nIF(RIGHT($D41,1)<RIGHT('Efficiency Levels'!$C$33,1),0,\nIF(RIGHT($D41,1)=RIGHT('Efficiency Levels'!$C$33,1),SUM(OFFSET(BA31,-RIGHT($D41,1),0,RIGHT($D41,1),1)),\"ERROR\"))))","v":0},{"$f":"IF(BB$18<STANDARD_YEAR,BB31,\nIF(RIGHT($D41,1)>RIGHT('Efficiency Levels'!$C$33,1),BB31,\nIF(RIGHT($D41,1)<RIGHT('Efficiency Levels'!$C$33,1),0,\nIF(RIGHT($D41,1)=RIGHT('Efficiency Levels'!$C$33,1),SUM(OFFSET(BB31,-RIGHT($D41,1),0,RIGHT($D41,1),1)),\"ERROR\"))))","v":0},{"$f":"IF(BC$18<STANDARD_YEAR,BC31,\nIF(RIGHT($D41,1)>RIGHT('Efficiency Levels'!$C$33,1),BC31,\nIF(RIGHT($D41,1)<RIGHT('Efficiency Levels'!$C$33,1),0,\nIF(RIGHT($D41,1)=RIGHT('Efficiency Levels'!$C$33,1),SUM(OFFSET(BC31,-RIGHT($D41,1),0,RIGHT($D41,1),1)),\"ERROR\"))))","v":0},{"$f":"IF(BD$18<STANDARD_YEAR,BD31,\nIF(RIGHT($D41,1)>RIGHT('Efficiency Levels'!$C$33,1),BD31,\nIF(RIGHT($D41,1)<RIGHT('Efficiency Levels'!$C$33,1),0,\nIF(RIGHT($D41,1)=RIGHT('Efficiency Levels'!$C$33,1),SUM(OFFSET(BD31,-RIGHT($D41,1),0,RIGHT($D41,1),1)),\"ERROR\"))))","v":0},{"$f":"IF(BE$18<STANDARD_YEAR,BE31,\nIF(RIGHT($D41,1)>RIGHT('Efficiency Levels'!$C$33,1),BE31,\nIF(RIGHT($D41,1)<RIGHT('Efficiency Levels'!$C$33,1),0,\nIF(RIGHT($D41,1)=RIGHT('Efficiency Levels'!$C$33,1),SUM(OFFSET(BE31,-RIGHT($D41,1),0,RIGHT($D41,1),1)),\"ERROR\"))))","v":0},{"$f":"IF(BF$18<STANDARD_YEAR,BF31,\nIF(RIGHT($D41,1)>RIGHT('Efficiency Levels'!$C$33,1),BF31,\nIF(RIGHT($D41,1)<RIGHT('Efficiency Levels'!$C$33,1),0,\nIF(RIGHT($D41,1)=RIGHT('Efficiency Levels'!$C$33,1),SUM(OFFSET(BF31,-RIGHT($D41,1),0,RIGHT($D41,1),1)),\"ERROR\"))))","v":0},{"$f":"IF(BG$18<STANDARD_YEAR,BG31,\nIF(RIGHT($D41,1)>RIGHT('Efficiency Levels'!$C$33,1),BG31,\nIF(RIGHT($D41,1)<RIGHT('Efficiency Levels'!$C$33,1),0,\nIF(RIGHT($D41,1)=RIGHT('Efficiency Levels'!$C$33,1),SUM(OFFSET(BG31,-RIGHT($D41,1),0,RIGHT($D41,1),1)),\"ERROR\"))))","v":0},{"$f":"IF(BH$18<STANDARD_YEAR,BH31,\nIF(RIGHT($D41,1)>RIGHT('Efficiency Levels'!$C$33,1),BH31,\nIF(RIGHT($D41,1)<RIGHT('Efficiency Levels'!$C$33,1),0,\nIF(RIGHT($D41,1)=RIGHT('Efficiency Levels'!$C$33,1),SUM(OFFSET(BH31,-RIGHT($D41,1),0,RIGHT($D41,1),1)),\"ERROR\"))))","v":0},{"$f":"IF(BI$18<STANDARD_YEAR,BI31,\nIF(RIGHT($D41,1)>RIGHT('Efficiency Levels'!$C$33,1),BI31,\nIF(RIGHT($D41,1)<RIGHT('Efficiency Levels'!$C$33,1),0,\nIF(RIGHT($D41,1)=RIGHT('Efficiency Levels'!$C$33,1),SUM(OFFSET(BI31,-RIGHT($D41,1),0,RIGHT($D41,1),1)),\"ERROR\"))))","v":0},{"$f":"IF(BJ$18<STANDARD_YEAR,BJ31,\nIF(RIGHT($D41,1)>RIGHT('Efficiency Levels'!$C$33,1),BJ31,\nIF(RIGHT($D41,1)<RIGHT('Efficiency Levels'!$C$33,1),0,\nIF(RIGHT($D41,1)=RIGHT('Efficiency Levels'!$C$33,1),SUM(OFFSET(BJ31,-RIGHT($D41,1),0,RIGHT($D41,1),1)),\"ERROR\"))))","v":0}]
[null,null,null,"EL1",{"$f":"OFFSET('Efficiency Levels'!$D$11,MATCH($C$27,'Efficiency Levels'!$C$9:$C$995,0)+RIGHT(D42,1),0)","v":268.60000000000002},null,null,null,{"$f":"IF(I$18<STANDARD_YEAR,I32,\nIF(RIGHT($D42,1)>RIGHT('Efficiency Levels'!$C$33,1),I32,\nIF(RIGHT($D42,1)<RIGHT('Efficiency Levels'!$C$33,1),0,\nIF(RIGHT($D42,1)=RIGHT('Efficiency Levels'!$C$33,1),SUM(OFFSET(I32,-RIGHT($D42,1),0,RIGHT($D42,1),1)),\"ERROR\"))))","v":0},{"$f":"IF(J$18<STANDARD_YEAR,J32,\nIF(RIGHT($D42,1)>RIGHT('Efficiency Levels'!$C$33,1),J32,\nIF(RIGHT($D42,1)<RIGHT('Efficiency Levels'!$C$33,1),0,\nIF(RIGHT($D42,1)=RIGHT('Efficiency Levels'!$C$33,1),SUM(OFFSET(J32,-RIGHT($D42,1),0,RIGHT($D42,1),1)),\"ERROR\"))))","v":0},{"$f":"IF(K$18<STANDARD_YEAR,K32,\nIF(RIGHT($D42,1)>RIGHT('Efficiency Levels'!$C$33,1),K32,\nIF(RIGHT($D42,1)<RIGHT('Efficiency Levels'!$C$33,1),0,\nIF(RIGHT($D42,1)=RIGHT('Efficiency Levels'!$C$33,1),SUM(OFFSET(K32,-RIGHT($D42,1),0,RIGHT($D42,1),1)),\"ERROR\"))))","v":0},{"$f":"IF(L$18<STANDARD_YEAR,L32,\nIF(RIGHT($D42,1)>RIGHT('Efficiency Levels'!$C$33,1),L32,\nIF(RIGHT($D42,1)<RIGHT('Efficiency Levels'!$C$33,1),0,\nIF(RIGHT($D42,1)=RIGHT('Efficiency Levels'!$C$33,1),SUM(OFFSET(L32,-RIGHT($D42,1),0,RIGHT($D42,1),1)),\"ERROR\"))))","v":0},{"$f":"IF(M$18<STANDARD_YEAR,M32,\nIF(RIGHT($D42,1)>RIGHT('Efficiency Levels'!$C$33,1),M32,\nIF(RIGHT($D42,1)<RIGHT('Efficiency Levels'!$C$33,1),0,\nIF(RIGHT($D42,1)=RIGHT('Efficiency Levels'!$C$33,1),SUM(OFFSET(M32,-RIGHT($D42,1),0,RIGHT($D42,1),1)),\"ERROR\"))))","v":0},{"$f":"IF(N$18<STANDARD_YEAR,N32,\nIF(RIGHT($D42,1)>RIGHT('Efficiency Levels'!$C$33,1),N32,\nIF(RIGHT($D42,1)<RIGHT('Efficiency Levels'!$C$33,1),0,\nIF(RIGHT($D42,1)=RIGHT('Efficiency Levels'!$C$33,1),SUM(OFFSET(N32,-RIGHT($D42,1),0,RIGHT($D42,1),1)),\"ERROR\"))))","v":0},{"$f":"IF(O$18<STANDARD_YEAR,O32,\nIF(RIGHT($D42,1)>RIGHT('Efficiency Levels'!$C$33,1),O32,\nIF(RIGHT($D42,1)<RIGHT('Efficiency Levels'!$C$33,1),0,\nIF(RIGHT($D42,1)=RIGHT('Efficiency Levels'!$C$33,1),SUM(OFFSET(O32,-RIGHT($D42,1),0,RIGHT($D42,1),1)),\"ERROR\"))))","v":0},{"$f":"IF(P$18<STANDARD_YEAR,P32,\nIF(RIGHT($D42,1)>RIGHT('Efficiency Levels'!$C$33,1),P32,\nIF(RIGHT($D42,1)<RIGHT('Efficiency Levels'!$C$33,1),0,\nIF(RIGHT($D42,1)=RIGHT('Efficiency Levels'!$C$33,1),SUM(OFFSET(P32,-RIGHT($D42,1),0,RIGHT($D42,1),1)),\"ERROR\"))))","v":0},{"$f":"IF(Q$18<STANDARD_YEAR,Q32,\nIF(RIGHT($D42,1)>RIGHT('Efficiency Levels'!$C$33,1),Q32,\nIF(RIGHT($D42,1)<RIGHT('Efficiency Levels'!$C$33,1),0,\nIF(RIGHT($D42,1)=RIGHT('Efficiency Levels'!$C$33,1),SUM(OFFSET(Q32,-RIGHT($D42,1),0,RIGHT($D42,1),1)),\"ERROR\"))))","v":0},{"$f":"IF(R$18<STANDARD_YEAR,R32,\nIF(RIGHT($D42,1)>RIGHT('Efficiency Levels'!$C$33,1),R32,\nIF(RIGHT($D42,1)<RIGHT('Efficiency Levels'!$C$33,1),0,\nIF(RIGHT($D42,1)=RIGHT('Efficiency Levels'!$C$33,1),SUM(OFFSET(R32,-RIGHT($D42,1),0,RIGHT($D42,1),1)),\"ERROR\"))))","v":0},{"$f":"IF(S$18<STANDARD_YEAR,S32,\nIF(RIGHT($D42,1)>RIGHT('Efficiency Levels'!$C$33,1),S32,\nIF(RIGHT($D42,1)<RIGHT('Efficiency Levels'!$C$33,1),0,\nIF(RIGHT($D42,1)=RIGHT('Efficiency Levels'!$C$33,1),SUM(OFFSET(S32,-RIGHT($D42,1),0,RIGHT($D42,1),1)),\"ERROR\"))))","v":0},{"$f":"IF(T$18<STANDARD_YEAR,T32,\nIF(RIGHT($D42,1)>RIGHT('Efficiency Levels'!$C$33,1),T32,\nIF(RIGHT($D42,1)<RIGHT('Efficiency Levels'!$C$33,1),0,\nIF(RIGHT($D42,1)=RIGHT('Efficiency Levels'!$C$33,1),SUM(OFFSET(T32,-RIGHT($D42,1),0,RIGHT($D42,1),1)),\"ERROR\"))))","v":0},{"$f":"IF(U$18<STANDARD_YEAR,U32,\nIF(RIGHT($D42,1)>RIGHT('Efficiency Levels'!$C$33,1),U32,\nIF(RIGHT($D42,1)<RIGHT('Efficiency Levels'!$C$33,1),0,\nIF(RIGHT($D42,1)=RIGHT('Efficiency Levels'!$C$33,1),SUM(OFFSET(U32,-RIGHT($D42,1),0,RIGHT($D42,1),1)),\"ERROR\"))))","v":0},{"$f":"IF(V$18<STANDARD_YEAR,V32,\nIF(RIGHT($D42,1)>RIGHT('Efficiency Levels'!$C$33,1),V32,\nIF(RIGHT($D42,1)<RIGHT('Efficiency Levels'!$C$33,1),0,\nIF(RIGHT($D42,1)=RIGHT('Efficiency Levels'!$C$33,1),SUM(OFFSET(V32,-RIGHT($D42,1),0,RIGHT($D42,1),1)),\"ERROR\"))))","v":0},{"$f":"IF(W$18<STANDARD_YEAR,W32,\nIF(RIGHT($D42,1)>RIGHT('Efficiency Levels'!$C$33,1),W32,\nIF(RIGHT($D42,1)<RIGHT('Efficiency Levels'!$C$33,1),0,\nIF(RIGHT($D42,1)=RIGHT('Efficiency Levels'!$C$33,1),SUM(OFFSET(W32,-RIGHT($D42,1),0,RIGHT($D42,1),1)),\"ERROR\"))))","v":0},{"$f":"IF(X$18<STANDARD_YEAR,X32,\nIF(RIGHT($D42,1)>RIGHT('Efficiency Levels'!$C$33,1),X32,\nIF(RIGHT($D42,1)<RIGHT('Efficiency Levels'!$C$33,1),0,\nIF(RIGHT($D42,1)=RIGHT('Efficiency Levels'!$C$33,1),SUM(OFFSET(X32,-RIGHT($D42,1),0,RIGHT($D42,1),1)),\"ERROR\"))))","v":0},{"$f":"IF(Y$18<STANDARD_YEAR,Y32,\nIF(RIGHT($D42,1)>RIGHT('Efficiency Levels'!$C$33,1),Y32,\nIF(RIGHT($D42,1)<RIGHT('Efficiency Levels'!$C$33,1),0,\nIF(RIGHT($D42,1)=RIGHT('Efficiency Levels'!$C$33,1),SUM(OFFSET(Y32,-RIGHT($D42,1),0,RIGHT($D42,1),1)),\"ERROR\"))))","v":0},{"$f":"IF(Z$18<STANDARD_YEAR,Z32,\nIF(RIGHT($D42,1)>RIGHT('Efficiency Levels'!$C$33,1),Z32,\nIF(RIGHT($D42,1)<RIGHT('Efficiency Levels'!$C$33,1),0,\nIF(RIGHT($D42,1)=RIGHT('Efficiency Levels'!$C$33,1),SUM(OFFSET(Z32,-RIGHT($D42,1),0,RIGHT($D42,1),1)),\"ERROR\"))))","v":0},{"$f":"IF(AA$18<STANDARD_YEAR,AA32,\nIF(RIGHT($D42,1)>RIGHT('Efficiency Levels'!$C$33,1),AA32,\nIF(RIGHT($D42,1)<RIGHT('Efficiency Levels'!$C$33,1),0,\nIF(RIGHT($D42,1)=RIGHT('Efficiency Levels'!$C$33,1),SUM(OFFSET(AA32,-RIGHT($D42,1),0,RIGHT($D42,1),1)),\"ERROR\"))))","v":0},{"$f":"IF(AB$18<STANDARD_YEAR,AB32,\nIF(RIGHT($D42,1)>RIGHT('Efficiency Levels'!$C$33,1),AB32,\nIF(RIGHT($D42,1)<RIGHT('Efficiency Levels'!$C$33,1),0,\nIF(RIGHT($D42,1)=RIGHT('Efficiency Levels'!$C$33,1),SUM(OFFSET(AB32,-RIGHT($D42,1),0,RIGHT($D42,1),1)),\"ERROR\"))))","v":0},{"$f":"IF(AC$18<STANDARD_YEAR,AC32,\nIF(RIGHT($D42,1)>RIGHT('Efficiency Levels'!$C$33,1),AC32,\nIF(RIGHT($D42,1)<RIGHT('Efficiency Levels'!$C$33,1),0,\nIF(RIGHT($D42,1)=RIGHT('Efficiency Levels'!$C$33,1),SUM(OFFSET(AC32,-RIGHT($D42,1),0,RIGHT($D42,1),1)),\"ERROR\"))))","v":0},{"$f":"IF(AD$18<STANDARD_YEAR,AD32,\nIF(RIGHT($D42,1)>RIGHT('Efficiency Levels'!$C$33,1),AD32,\nIF(RIGHT($D42,1)<RIGHT('Efficiency Levels'!$C$33,1),0,\nIF(RIGHT($D42,1)=RIGHT('Efficiency Levels'!$C$33,1),SUM(OFFSET(AD32,-RIGHT($D42,1),0,RIGHT($D42,1),1)),\"ERROR\"))))","v":0},{"$f":"IF(AE$18<STANDARD_YEAR,AE32,\nIF(RIGHT($D42,1)>RIGHT('Efficiency Levels'!$C$33,1),AE32,\nIF(RIGHT($D42,1)<RIGHT('Efficiency Levels'!$C$33,1),0,\nIF(RIGHT($D42,1)=RIGHT('Efficiency Levels'!$C$33,1),SUM(OFFSET(AE32,-RIGHT($D42,1),0,RIGHT($D42,1),1)),\"ERROR\"))))","v":0},{"$f":"IF(AF$18<STANDARD_YEAR,AF32,\nIF(RIGHT($D42,1)>RIGHT('Efficiency Levels'!$C$33,1),AF32,\nIF(RIGHT($D42,1)<RIGHT('Efficiency Levels'!$C$33,1),0,\nIF(RIGHT($D42,1)=RIGHT('Efficiency Levels'!$C$33,1),SUM(OFFSET(AF32,-RIGHT($D42,1),0,RIGHT($D42,1),1)),\"ERROR\"))))","v":0},{"$f":"IF(AG$18<STANDARD_YEAR,AG32,\nIF(RIGHT($D42,1)>RIGHT('Efficiency Levels'!$C$33,1),AG32,\nIF(RIGHT($D42,1)<RIGHT('Efficiency Levels'!$C$33,1),0,\nIF(RIGHT($D42,1)=RIGHT('Efficiency Levels'!$C$33,1),SUM(OFFSET(AG32,-RIGHT($D42,1),0,RIGHT($D42,1),1)),\"ERROR\"))))","v":0},{"$f":"IF(AH$18<STANDARD_YEAR,AH32,\nIF(RIGHT($D42,1)>RIGHT('Efficiency Levels'!$C$33,1),AH32,\nIF(RIGHT($D42,1)<RIGHT('Efficiency Levels'!$C$33,1),0,\nIF(RIGHT($D42,1)=RIGHT('Efficiency Levels'!$C$33,1),SUM(OFFSET(AH32,-RIGHT($D42,1),0,RIGHT($D42,1),1)),\"ERROR\"))))","v":0},{"$f":"IF(AI$18<STANDARD_YEAR,AI32,\nIF(RIGHT($D42,1)>RIGHT('Efficiency Levels'!$C$33,1),AI32,\nIF(RIGHT($D42,1)<RIGHT('Efficiency Levels'!$C$33,1),0,\nIF(RIGHT($D42,1)=RIGHT('Efficiency Levels'!$C$33,1),SUM(OFFSET(AI32,-RIGHT($D42,1),0,RIGHT($D42,1),1)),\"ERROR\"))))","v":0},{"$f":"IF(AJ$18<STANDARD_YEAR,AJ32,\nIF(RIGHT($D42,1)>RIGHT('Efficiency Levels'!$C$33,1),AJ32,\nIF(RIGHT($D42,1)<RIGHT('Efficiency Levels'!$C$33,1),0,\nIF(RIGHT($D42,1)=RIGHT('Efficiency Levels'!$C$33,1),SUM(OFFSET(AJ32,-RIGHT($D42,1),0,RIGHT($D42,1),1)),\"ERROR\"))))","v":0},{"$f":"IF(AK$18<STANDARD_YEAR,AK32,\nIF(RIGHT($D42,1)>RIGHT('Efficiency Levels'!$C$33,1),AK32,\nIF(RIGHT($D42,1)<RIGHT('Efficiency Levels'!$C$33,1),0,\nIF(RIGHT($D42,1)=RIGHT('Efficiency Levels'!$C$33,1),SUM(OFFSET(AK32,-RIGHT($D42,1),0,RIGHT($D42,1),1)),\"ERROR\"))))","v":0},{"$f":"IF(AL$18<STANDARD_YEAR,AL32,\nIF(RIGHT($D42,1)>RIGHT('Efficiency Levels'!$C$33,1),AL32,\nIF(RIGHT($D42,1)<RIGHT('Efficiency Levels'!$C$33,1),0,\nIF(RIGHT($D42,1)=RIGHT('Efficiency Levels'!$C$33,1),SUM(OFFSET(AL32,-RIGHT($D42,1),0,RIGHT($D42,1),1)),\"ERROR\"))))","v":0},{"$f":"IF(AM$18<STANDARD_YEAR,AM32,\nIF(RIGHT($D42,1)>RIGHT('Efficiency Levels'!$C$33,1),AM32,\nIF(RIGHT($D42,1)<RIGHT('Efficiency Levels'!$C$33,1),0,\nIF(RIGHT($D42,1)=RIGHT('Efficiency Levels'!$C$33,1),SUM(OFFSET(AM32,-RIGHT($D42,1),0,RIGHT($D42,1),1)),\"ERROR\"))))","v":0},{"$f":"IF(AN$18<STANDARD_YEAR,AN32,\nIF(RIGHT($D42,1)>RIGHT('Efficiency Levels'!$C$33,1),AN32,\nIF(RIGHT($D42,1)<RIGHT('Efficiency Levels'!$C$33,1),0,\nIF(RIGHT($D42,1)=RIGHT('Efficiency Levels'!$C$33,1),SUM(OFFSET(AN32,-RIGHT($D42,1),0,RIGHT($D42,1),1)),\"ERROR\"))))","v":0},{"$f":"IF(AO$18<STANDARD_YEAR,AO32,\nIF(RIGHT($D42,1)>RIGHT('Efficiency Levels'!$C$33,1),AO32,\nIF(RIGHT($D42,1)<RIGHT('Efficiency Levels'!$C$33,1),0,\nIF(RIGHT($D42,1)=RIGHT('Efficiency Levels'!$C$33,1),SUM(OFFSET(AO32,-RIGHT($D42,1),0,RIGHT($D42,1),1)),\"ERROR\"))))","v":0},{"$f":"IF(AP$18<STANDARD_YEAR,AP32,\nIF(RIGHT($D42,1)>RIGHT('Efficiency Levels'!$C$33,1),AP32,\nIF(RIGHT($D42,1)<RIGHT('Efficiency Levels'!$C$33,1),0,\nIF(RIGHT($D42,1)=RIGHT('Efficiency Levels'!$C$33,1),SUM(OFFSET(AP32,-RIGHT($D42,1),0,RIGHT($D42,1),1)),\"ERROR\"))))","v":0},{"$f":"IF(AQ$18<STANDARD_YEAR,AQ32,\nIF(RIGHT($D42,1)>RIGHT('Efficiency Levels'!$C$33,1),AQ32,\nIF(RIGHT($D42,1)<RIGHT('Efficiency Levels'!$C$33,1),0,\nIF(RIGHT($D42,1)=RIGHT('Efficiency Levels'!$C$33,1),SUM(OFFSET(AQ32,-RIGHT($D42,1),0,RIGHT($D42,1),1)),\"ERROR\"))))","v":0},{"$f":"IF(AR$18<STANDARD_YEAR,AR32,\nIF(RIGHT($D42,1)>RIGHT('Efficiency Levels'!$C$33,1),AR32,\nIF(RIGHT($D42,1)<RIGHT('Efficiency Levels'!$C$33,1),0,\nIF(RIGHT($D42,1)=RIGHT('Efficiency Levels'!$C$33,1),SUM(OFFSET(AR32,-RIGHT($D42,1),0,RIGHT($D42,1),1)),\"ERROR\"))))","v":0},{"$f":"IF(AS$18<STANDARD_YEAR,AS32,\nIF(RIGHT($D42,1)>RIGHT('Efficiency Levels'!$C$33,1),AS32,\nIF(RIGHT($D42,1)<RIGHT('Efficiency Levels'!$C$33,1),0,\nIF(RIGHT($D42,1)=RIGHT('Efficiency Levels'!$C$33,1),SUM(OFFSET(AS32,-RIGHT($D42,1),0,RIGHT($D42,1),1)),\"ERROR\"))))","v":0},{"$f":"IF(AT$18<STANDARD_YEAR,AT32,\nIF(RIGHT($D42,1)>RIGHT('Efficiency Levels'!$C$33,1),AT32,\nIF(RIGHT($D42,1)<RIGHT('Efficiency Levels'!$C$33,1),0,\nIF(RIGHT($D42,1)=RIGHT('Efficiency Levels'!$C$33,1),SUM(OFFSET(AT32,-RIGHT($D42,1),0,RIGHT($D42,1),1)),\"ERROR\"))))","v":0},{"$f":"IF(AU$18<STANDARD_YEAR,AU32,\nIF(RIGHT($D42,1)>RIGHT('Efficiency Levels'!$C$33,1),AU32,\nIF(RIGHT($D42,1)<RIGHT('Efficiency Levels'!$C$33,1),0,\nIF(RIGHT($D42,1)=RIGHT('Efficiency Levels'!$C$33,1),SUM(OFFSET(AU32,-RIGHT($D42,1),0,RIGHT($D42,1),1)),\"ERROR\"))))","v":0},{"$f":"IF(AV$18<STANDARD_YEAR,AV32,\nIF(RIGHT($D42,1)>RIGHT('Efficiency Levels'!$C$33,1),AV32,\nIF(RIGHT($D42,1)<RIGHT('Efficiency Levels'!$C$33,1),0,\nIF(RIGHT($D42,1)=RIGHT('Efficiency Levels'!$C$33,1),SUM(OFFSET(AV32,-RIGHT($D42,1),0,RIGHT($D42,1),1)),\"ERROR\"))))","v":0},{"$f":"IF(AW$18<STANDARD_YEAR,AW32,\nIF(RIGHT($D42,1)>RIGHT('Efficiency Levels'!$C$33,1),AW32,\nIF(RIGHT($D42,1)<RIGHT('Efficiency Levels'!$C$33,1),0,\nIF(RIGHT($D42,1)=RIGHT('Efficiency Levels'!$C$33,1),SUM(OFFSET(AW32,-RIGHT($D42,1),0,RIGHT($D42,1),1)),\"ERROR\"))))","v":0},{"$f":"IF(AX$18<STANDARD_YEAR,AX32,\nIF(RIGHT($D42,1)>RIGHT('Efficiency Levels'!$C$33,1),AX32,\nIF(RIGHT($D42,1)<RIGHT('Efficiency Levels'!$C$33,1),0,\nIF(RIGHT($D42,1)=RIGHT('Efficiency Levels'!$C$33,1),SUM(OFFSET(AX32,-RIGHT($D42,1),0,RIGHT($D42,1),1)),\"ERROR\"))))","v":0},{"$f":"IF(AY$18<STANDARD_YEAR,AY32,\nIF(RIGHT($D42,1)>RIGHT('Efficiency Levels'!$C$33,1),AY32,\nIF(RIGHT($D42,1)<RIGHT('Efficiency Levels'!$C$33,1),0,\nIF(RIGHT($D42,1)=RIGHT('Efficiency Levels'!$C$33,1),SUM(OFFSET(AY32,-RIGHT($D42,1),0,RIGHT($D42,1),1)),\"ERROR\"))))","v":0},{"$f":"IF(AZ$18<STANDARD_YEAR,AZ32,\nIF(RIGHT($D42,1)>RIGHT('Efficiency Levels'!$C$33,1),AZ32,\nIF(RIGHT($D42,1)<RIGHT('Efficiency Levels'!$C$33,1),0,\nIF(RIGHT($D42,1)=RIGHT('Efficiency Levels'!$C$33,1),SUM(OFFSET(AZ32,-RIGHT($D42,1),0,RIGHT($D42,1),1)),\"ERROR\"))))","v":0},{"$f":"IF(BA$18<STANDARD_YEAR,BA32,\nIF(RIGHT($D42,1)>RIGHT('Efficiency Levels'!$C$33,1),BA32,\nIF(RIGHT($D42,1)<RIGHT('Efficiency Levels'!$C$33,1),0,\nIF(RIGHT($D42,1)=RIGHT('Efficiency Levels'!$C$33,1),SUM(OFFSET(BA32,-RIGHT($D42,1),0,RIGHT($D42,1),1)),\"ERROR\"))))","v":0},{"$f":"IF(BB$18<STANDARD_YEAR,BB32,\nIF(RIGHT($D42,1)>RIGHT('Efficiency Levels'!$C$33,1),BB32,\nIF(RIGHT($D42,1)<RIGHT('Efficiency Levels'!$C$33,1),0,\nIF(RIGHT($D42,1)=RIGHT('Efficiency Levels'!$C$33,1),SUM(OFFSET(BB32,-RIGHT($D42,1),0,RIGHT($D42,1),1)),\"ERROR\"))))","v":0},{"$f":"IF(BC$18<STANDARD_YEAR,BC32,\nIF(RIGHT($D42,1)>RIGHT('Efficiency Levels'!$C$33,1),BC32,\nIF(RIGHT($D42,1)<RIGHT('Efficiency Levels'!$C$33,1),0,\nIF(RIGHT($D42,1)=RIGHT('Efficiency Levels'!$C$33,1),SUM(OFFSET(BC32,-RIGHT($D42,1),0,RIGHT($D42,1),1)),\"ERROR\"))))","v":0},{"$f":"IF(BD$18<STANDARD_YEAR,BD32,\nIF(RIGHT($D42,1)>RIGHT('Efficiency Levels'!$C$33,1),BD32,\nIF(RIGHT($D42,1)<RIGHT('Efficiency Levels'!$C$33,1),0,\nIF(RIGHT($D42,1)=RIGHT('Efficiency Levels'!$C$33,1),SUM(OFFSET(BD32,-RIGHT($D42,1),0,RIGHT($D42,1),1)),\"ERROR\"))))","v":0},{"$f":"IF(BE$18<STANDARD_YEAR,BE32,\nIF(RIGHT($D42,1)>RIGHT('Efficiency Levels'!$C$33,1),BE32,\nIF(RIGHT($D42,1)<RIGHT('Efficiency Levels'!$C$33,1),0,\nIF(RIGHT($D42,1)=RIGHT('Efficiency Levels'!$C$33,1),SUM(OFFSET(BE32,-RIGHT($D42,1),0,RIGHT($D42,1),1)),\"ERROR\"))))","v":0},{"$f":"IF(BF$18<STANDARD_YEAR,BF32,\nIF(RIGHT($D42,1)>RIGHT('Efficiency Levels'!$C$33,1),BF32,\nIF(RIGHT($D42,1)<RIGHT('Efficiency Levels'!$C$33,1),0,\nIF(RIGHT($D42,1)=RIGHT('Efficiency Levels'!$C$33,1),SUM(OFFSET(BF32,-RIGHT($D42,1),0,RIGHT($D42,1),1)),\"ERROR\"))))","v":0},{"$f":"IF(BG$18<STANDARD_YEAR,BG32,\nIF(RIGHT($D42,1)>RIGHT('Efficiency Levels'!$C$33,1),BG32,\nIF(RIGHT($D42,1)<RIGHT('Efficiency Levels'!$C$33,1),0,\nIF(RIGHT($D42,1)=RIGHT('Efficiency Levels'!$C$33,1),SUM(OFFSET(BG32,-RIGHT($D42,1),0,RIGHT($D42,1),1)),\"ERROR\"))))","v":0},{"$f":"IF(BH$18<STANDARD_YEAR,BH32,\nIF(RIGHT($D42,1)>RIGHT('Efficiency Levels'!$C$33,1),BH32,\nIF(RIGHT($D42,1)<RIGHT('Efficiency Levels'!$C$33,1),0,\nIF(RIGHT($D42,1)=RIGHT('Efficiency Levels'!$C$33,1),SUM(OFFSET(BH32,-RIGHT($D42,1),0,RIGHT($D42,1),1)),\"ERROR\"))))","v":0},{"$f":"IF(BI$18<STANDARD_YEAR,BI32,\nIF(RIGHT($D42,1)>RIGHT('Efficiency Levels'!$C$33,1),BI32,\nIF(RIGHT($D42,1)<RIGHT('Efficiency Levels'!$C$33,1),0,\nIF(RIGHT($D42,1)=RIGHT('Efficiency Levels'!$C$33,1),SUM(OFFSET(BI32,-RIGHT($D42,1),0,RIGHT($D42,1),1)),\"ERROR\"))))","v":0},{"$f":"IF(BJ$18<STANDARD_YEAR,BJ32,\nIF(RIGHT($D42,1)>RIGHT('Efficiency Levels'!$C$33,1),BJ32,\nIF(RIGHT($D42,1)<RIGHT('Efficiency Levels'!$C$33,1),0,\nIF(RIGHT($D42,1)=RIGHT('Efficiency Levels'!$C$33,1),SUM(OFFSET(BJ32,-RIGHT($D42,1),0,RIGHT($D42,1),1)),\"ERROR\"))))","v":0}]
[null,null,null,"EL2",{"$f":"OFFSET('Efficiency Levels'!$D$11,MATCH($C$27,'Efficiency Levels'!$C$9:$C$995,0)+RIGHT(D43,1),0)","v":263.5},null,null,null,{"$f":"IF(I$18<STANDARD_YEAR,I33,\nIF(RIGHT($D43,1)>RIGHT('Efficiency Levels'!$C$33,1),I33,\nIF(RIGHT($D43,1)<RIGHT('Efficiency Levels'!$C$33,1),0,\nIF(RIGHT($D43,1)=RIGHT('Efficiency Levels'!$C$33,1),SUM(OFFSET(I33,-RIGHT($D43,1),0,RIGHT($D43,1),1)),\"ERROR\"))))","v":0},{"$f":"IF(J$18<STANDARD_YEAR,J33,\nIF(RIGHT($D43,1)>RIGHT('Efficiency Levels'!$C$33,1),J33,\nIF(RIGHT($D43,1)<RIGHT('Efficiency Levels'!$C$33,1),0,\nIF(RIGHT($D43,1)=RIGHT('Efficiency Levels'!$C$33,1),SUM(OFFSET(J33,-RIGHT($D43,1),0,RIGHT($D43,1),1)),\"ERROR\"))))","v":0},{"$f":"IF(K$18<STANDARD_YEAR,K33,\nIF(RIGHT($D43,1)>RIGHT('Efficiency Levels'!$C$33,1),K33,\nIF(RIGHT($D43,1)<RIGHT('Efficiency Levels'!$C$33,1),0,\nIF(RIGHT($D43,1)=RIGHT('Efficiency Levels'!$C$33,1),SUM(OFFSET(K33,-RIGHT($D43,1),0,RIGHT($D43,1),1)),\"ERROR\"))))","v":0},{"$f":"IF(L$18<STANDARD_YEAR,L33,\nIF(RIGHT($D43,1)>RIGHT('Efficiency Levels'!$C$33,1),L33,\nIF(RIGHT($D43,1)<RIGHT('Efficiency Levels'!$C$33,1),0,\nIF(RIGHT($D43,1)=RIGHT('Efficiency Levels'!$C$33,1),SUM(OFFSET(L33,-RIGHT($D43,1),0,RIGHT($D43,1),1)),\"ERROR\"))))","v":0},{"$f":"IF(M$18<STANDARD_YEAR,M33,\nIF(RIGHT($D43,1)>RIGHT('Efficiency Levels'!$C$33,1),M33,\nIF(RIGHT($D43,1)<RIGHT('Efficiency Levels'!$C$33,1),0,\nIF(RIGHT($D43,1)=RIGHT('Efficiency Levels'!$C$33,1),SUM(OFFSET(M33,-RIGHT($D43,1),0,RIGHT($D43,1),1)),\"ERROR\"))))","v":0},{"$f":"IF(N$18<STANDARD_YEAR,N33,\nIF(RIGHT($D43,1)>RIGHT('Efficiency Levels'!$C$33,1),N33,\nIF(RIGHT($D43,1)<RIGHT('Efficiency Levels'!$C$33,1),0,\nIF(RIGHT($D43,1)=RIGHT('Efficiency Levels'!$C$33,1),SUM(OFFSET(N33,-RIGHT($D43,1),0,RIGHT($D43,1),1)),\"ERROR\"))))","v":0},{"$f":"IF(O$18<STANDARD_YEAR,O33,\nIF(RIGHT($D43,1)>RIGHT('Efficiency Levels'!$C$33,1),O33,\nIF(RIGHT($D43,1)<RIGHT('Efficiency Levels'!$C$33,1),0,\nIF(RIGHT($D43,1)=RIGHT('Efficiency Levels'!$C$33,1),SUM(OFFSET(O33,-RIGHT($D43,1),0,RIGHT($D43,1),1)),\"ERROR\"))))","v":0},{"$f":"IF(P$18<STANDARD_YEAR,P33,\nIF(RIGHT($D43,1)>RIGHT('Efficiency Levels'!$C$33,1),P33,\nIF(RIGHT($D43,1)<RIGHT('Efficiency Levels'!$C$33,1),0,\nIF(RIGHT($D43,1)=RIGHT('Efficiency Levels'!$C$33,1),SUM(OFFSET(P33,-RIGHT($D43,1),0,RIGHT($D43,1),1)),\"ERROR\"))))","v":0},{"$f":"IF(Q$18<STANDARD_YEAR,Q33,\nIF(RIGHT($D43,1)>RIGHT('Efficiency Levels'!$C$33,1),Q33,\nIF(RIGHT($D43,1)<RIGHT('Efficiency Levels'!$C$33,1),0,\nIF(RIGHT($D43,1)=RIGHT('Efficiency Levels'!$C$33,1),SUM(OFFSET(Q33,-RIGHT($D43,1),0,RIGHT($D43,1),1)),\"ERROR\"))))","v":0},{"$f":"IF(R$18<STANDARD_YEAR,R33,\nIF(RIGHT($D43,1)>RIGHT('Efficiency Levels'!$C$33,1),R33,\nIF(RIGHT($D43,1)<RIGHT('Efficiency Levels'!$C$33,1),0,\nIF(RIGHT($D43,1)=RIGHT('Efficiency Levels'!$C$33,1),SUM(OFFSET(R33,-RIGHT($D43,1),0,RIGHT($D43,1),1)),\"ERROR\"))))","v":0},{"$f":"IF(S$18<STANDARD_YEAR,S33,\nIF(RIGHT($D43,1)>RIGHT('Efficiency Levels'!$C$33,1),S33,\nIF(RIGHT($D43,1)<RIGHT('Efficiency Levels'!$C$33,1),0,\nIF(RIGHT($D43,1)=RIGHT('Efficiency Levels'!$C$33,1),SUM(OFFSET(S33,-RIGHT($D43,1),0,RIGHT($D43,1),1)),\"ERROR\"))))","v":0},{"$f":"IF(T$18<STANDARD_YEAR,T33,\nIF(RIGHT($D43,1)>RIGHT('Efficiency Levels'!$C$33,1),T33,\nIF(RIGHT($D43,1)<RIGHT('Efficiency Levels'!$C$33,1),0,\nIF(RIGHT($D43,1)=RIGHT('Efficiency Levels'!$C$33,1),SUM(OFFSET(T33,-RIGHT($D43,1),0,RIGHT($D43,1),1)),\"ERROR\"))))","v":0},{"$f":"IF(U$18<STANDARD_YEAR,U33,\nIF(RIGHT($D43,1)>RIGHT('Efficiency Levels'!$C$33,1),U33,\nIF(RIGHT($D43,1)<RIGHT('Efficiency Levels'!$C$33,1),0,\nIF(RIGHT($D43,1)=RIGHT('Efficiency Levels'!$C$33,1),SUM(OFFSET(U33,-RIGHT($D43,1),0,RIGHT($D43,1),1)),\"ERROR\"))))","v":0},{"$f":"IF(V$18<STANDARD_YEAR,V33,\nIF(RIGHT($D43,1)>RIGHT('Efficiency Levels'!$C$33,1),V33,\nIF(RIGHT($D43,1)<RIGHT('Efficiency Levels'!$C$33,1),0,\nIF(RIGHT($D43,1)=RIGHT('Efficiency Levels'!$C$33,1),SUM(OFFSET(V33,-RIGHT($D43,1),0,RIGHT($D43,1),1)),\"ERROR\"))))","v":0},{"$f":"IF(W$18<STANDARD_YEAR,W33,\nIF(RIGHT($D43,1)>RIGHT('Efficiency Levels'!$C$33,1),W33,\nIF(RIGHT($D43,1)<RIGHT('Efficiency Levels'!$C$33,1),0,\nIF(RIGHT($D43,1)=RIGHT('Efficiency Levels'!$C$33,1),SUM(OFFSET(W33,-RIGHT($D43,1),0,RIGHT($D43,1),1)),\"ERROR\"))))","v":0},{"$f":"IF(X$18<STANDARD_YEAR,X33,\nIF(RIGHT($D43,1)>RIGHT('Efficiency Levels'!$C$33,1),X33,\nIF(RIGHT($D43,1)<RIGHT('Efficiency Levels'!$C$33,1),0,\nIF(RIGHT($D43,1)=RIGHT('Efficiency Levels'!$C$33,1),SUM(OFFSET(X33,-RIGHT($D43,1),0,RIGHT($D43,1),1)),\"ERROR\"))))","v":0},{"$f":"IF(Y$18<STANDARD_YEAR,Y33,\nIF(RIGHT($D43,1)>RIGHT('Efficiency Levels'!$C$33,1),Y33,\nIF(RIGHT($D43,1)<RIGHT('Efficiency Levels'!$C$33,1),0,\nIF(RIGHT($D43,1)=RIGHT('Efficiency Levels'!$C$33,1),SUM(OFFSET(Y33,-RIGHT($D43,1),0,RIGHT($D43,1),1)),\"ERROR\"))))","v":0},{"$f":"IF(Z$18<STANDARD_YEAR,Z33,\nIF(RIGHT($D43,1)>RIGHT('Efficiency Levels'!$C$33,1),Z33,\nIF(RIGHT($D43,1)<RIGHT('Efficiency Levels'!$C$33,1),0,\nIF(RIGHT($D43,1)=RIGHT('Efficiency Levels'!$C$33,1),SUM(OFFSET(Z33,-RIGHT($D43,1),0,RIGHT($D43,1),1)),\"ERROR\"))))","v":0},{"$f":"IF(AA$18<STANDARD_YEAR,AA33,\nIF(RIGHT($D43,1)>RIGHT('Efficiency Levels'!$C$33,1),AA33,\nIF(RIGHT($D43,1)<RIGHT('Efficiency Levels'!$C$33,1),0,\nIF(RIGHT($D43,1)=RIGHT('Efficiency Levels'!$C$33,1),SUM(OFFSET(AA33,-RIGHT($D43,1),0,RIGHT($D43,1),1)),\"ERROR\"))))","v":0},{"$f":"IF(AB$18<STANDARD_YEAR,AB33,\nIF(RIGHT($D43,1)>RIGHT('Efficiency Levels'!$C$33,1),AB33,\nIF(RIGHT($D43,1)<RIGHT('Efficiency Levels'!$C$33,1),0,\nIF(RIGHT($D43,1)=RIGHT('Efficiency Levels'!$C$33,1),SUM(OFFSET(AB33,-RIGHT($D43,1),0,RIGHT($D43,1),1)),\"ERROR\"))))","v":0},{"$f":"IF(AC$18<STANDARD_YEAR,AC33,\nIF(RIGHT($D43,1)>RIGHT('Efficiency Levels'!$C$33,1),AC33,\nIF(RIGHT($D43,1)<RIGHT('Efficiency Levels'!$C$33,1),0,\nIF(RIGHT($D43,1)=RIGHT('Efficiency Levels'!$C$33,1),SUM(OFFSET(AC33,-RIGHT($D43,1),0,RIGHT($D43,1),1)),\"ERROR\"))))","v":0},{"$f":"IF(AD$18<STANDARD_YEAR,AD33,\nIF(RIGHT($D43,1)>RIGHT('Efficiency Levels'!$C$33,1),AD33,\nIF(RIGHT($D43,1)<RIGHT('Efficiency Levels'!$C$33,1),0,\nIF(RIGHT($D43,1)=RIGHT('Efficiency Levels'!$C$33,1),SUM(OFFSET(AD33,-RIGHT($D43,1),0,RIGHT($D43,1),1)),\"ERROR\"))))","v":0},{"$f":"IF(AE$18<STANDARD_YEAR,AE33,\nIF(RIGHT($D43,1)>RIGHT('Efficiency Levels'!$C$33,1),AE33,\nIF(RIGHT($D43,1)<RIGHT('Efficiency Levels'!$C$33,1),0,\nIF(RIGHT($D43,1)=RIGHT('Efficiency Levels'!$C$33,1),SUM(OFFSET(AE33,-RIGHT($D43,1),0,RIGHT($D43,1),1)),\"ERROR\"))))","v":0},{"$f":"IF(AF$18<STANDARD_YEAR,AF33,\nIF(RIGHT($D43,1)>RIGHT('Efficiency Levels'!$C$33,1),AF33,\nIF(RIGHT($D43,1)<RIGHT('Efficiency Levels'!$C$33,1),0,\nIF(RIGHT($D43,1)=RIGHT('Efficiency Levels'!$C$33,1),SUM(OFFSET(AF33,-RIGHT($D43,1),0,RIGHT($D43,1),1)),\"ERROR\"))))","v":0},{"$f":"IF(AG$18<STANDARD_YEAR,AG33,\nIF(RIGHT($D43,1)>RIGHT('Efficiency Levels'!$C$33,1),AG33,\nIF(RIGHT($D43,1)<RIGHT('Efficiency Levels'!$C$33,1),0,\nIF(RIGHT($D43,1)=RIGHT('Efficiency Levels'!$C$33,1),SUM(OFFSET(AG33,-RIGHT($D43,1),0,RIGHT($D43,1),1)),\"ERROR\"))))","v":0},{"$f":"IF(AH$18<STANDARD_YEAR,AH33,\nIF(RIGHT($D43,1)>RIGHT('Efficiency Levels'!$C$33,1),AH33,\nIF(RIGHT($D43,1)<RIGHT('Efficiency Levels'!$C$33,1),0,\nIF(RIGHT($D43,1)=RIGHT('Efficiency Levels'!$C$33,1),SUM(OFFSET(AH33,-RIGHT($D43,1),0,RIGHT($D43,1),1)),\"ERROR\"))))","v":0},{"$f":"IF(AI$18<STANDARD_YEAR,AI33,\nIF(RIGHT($D43,1)>RIGHT('Efficiency Levels'!$C$33,1),AI33,\nIF(RIGHT($D43,1)<RIGHT('Efficiency Levels'!$C$33,1),0,\nIF(RIGHT($D43,1)=RIGHT('Efficiency Levels'!$C$33,1),SUM(OFFSET(AI33,-RIGHT($D43,1),0,RIGHT($D43,1),1)),\"ERROR\"))))","v":0},{"$f":"IF(AJ$18<STANDARD_YEAR,AJ33,\nIF(RIGHT($D43,1)>RIGHT('Efficiency Levels'!$C$33,1),AJ33,\nIF(RIGHT($D43,1)<RIGHT('Efficiency Levels'!$C$33,1),0,\nIF(RIGHT($D43,1)=RIGHT('Efficiency Levels'!$C$33,1),SUM(OFFSET(AJ33,-RIGHT($D43,1),0,RIGHT($D43,1),1)),\"ERROR\"))))","v":0},{"$f":"IF(AK$18<STANDARD_YEAR,AK33,\nIF(RIGHT($D43,1)>RIGHT('Efficiency Levels'!$C$33,1),AK33,\nIF(RIGHT($D43,1)<RIGHT('Efficiency Levels'!$C$33,1),0,\nIF(RIGHT($D43,1)=RIGHT('Efficiency Levels'!$C$33,1),SUM(OFFSET(AK33,-RIGHT($D43,1),0,RIGHT($D43,1),1)),\"ERROR\"))))","v":0},{"$f":"IF(AL$18<STANDARD_YEAR,AL33,\nIF(RIGHT($D43,1)>RIGHT('Efficiency Levels'!$C$33,1),AL33,\nIF(RIGHT($D43,1)<RIGHT('Efficiency Levels'!$C$33,1),0,\nIF(RIGHT($D43,1)=RIGHT('Efficiency Levels'!$C$33,1),SUM(OFFSET(AL33,-RIGHT($D43,1),0,RIGHT($D43,1),1)),\"ERROR\"))))","v":0},{"$f":"IF(AM$18<STANDARD_YEAR,AM33,\nIF(RIGHT($D43,1)>RIGHT('Efficiency Levels'!$C$33,1),AM33,\nIF(RIGHT($D43,1)<RIGHT('Efficiency Levels'!$C$33,1),0,\nIF(RIGHT($D43,1)=RIGHT('Efficiency Levels'!$C$33,1),SUM(OFFSET(AM33,-RIGHT($D43,1),0,RIGHT($D43,1),1)),\"ERROR\"))))","v":0},{"$f":"IF(AN$18<STANDARD_YEAR,AN33,\nIF(RIGHT($D43,1)>RIGHT('Efficiency Levels'!$C$33,1),AN33,\nIF(RIGHT($D43,1)<RIGHT('Efficiency Levels'!$C$33,1),0,\nIF(RIGHT($D43,1)=RIGHT('Efficiency Levels'!$C$33,1),SUM(OFFSET(AN33,-RIGHT($D43,1),0,RIGHT($D43,1),1)),\"ERROR\"))))","v":0},{"$f":"IF(AO$18<STANDARD_YEAR,AO33,\nIF(RIGHT($D43,1)>RIGHT('Efficiency Levels'!$C$33,1),AO33,\nIF(RIGHT($D43,1)<RIGHT('Efficiency Levels'!$C$33,1),0,\nIF(RIGHT($D43,1)=RIGHT('Efficiency Levels'!$C$33,1),SUM(OFFSET(AO33,-RIGHT($D43,1),0,RIGHT($D43,1),1)),\"ERROR\"))))","v":0},{"$f":"IF(AP$18<STANDARD_YEAR,AP33,\nIF(RIGHT($D43,1)>RIGHT('Efficiency Levels'!$C$33,1),AP33,\nIF(RIGHT($D43,1)<RIGHT('Efficiency Levels'!$C$33,1),0,\nIF(RIGHT($D43,1)=RIGHT('Efficiency Levels'!$C$33,1),SUM(OFFSET(AP33,-RIGHT($D43,1),0,RIGHT($D43,1),1)),\"ERROR\"))))","v":0},{"$f":"IF(AQ$18<STANDARD_YEAR,AQ33,\nIF(RIGHT($D43,1)>RIGHT('Efficiency Levels'!$C$33,1),AQ33,\nIF(RIGHT($D43,1)<RIGHT('Efficiency Levels'!$C$33,1),0,\nIF(RIGHT($D43,1)=RIGHT('Efficiency Levels'!$C$33,1),SUM(OFFSET(AQ33,-RIGHT($D43,1),0,RIGHT($D43,1),1)),\"ERROR\"))))","v":0},{"$f":"IF(AR$18<STANDARD_YEAR,AR33,\nIF(RIGHT($D43,1)>RIGHT('Efficiency Levels'!$C$33,1),AR33,\nIF(RIGHT($D43,1)<RIGHT('Efficiency Levels'!$C$33,1),0,\nIF(RIGHT($D43,1)=RIGHT('Efficiency Levels'!$C$33,1),SUM(OFFSET(AR33,-RIGHT($D43,1),0,RIGHT($D43,1),1)),\"ERROR\"))))","v":0},{"$f":"IF(AS$18<STANDARD_YEAR,AS33,\nIF(RIGHT($D43,1)>RIGHT('Efficiency Levels'!$C$33,1),AS33,\nIF(RIGHT($D43,1)<RIGHT('Efficiency Levels'!$C$33,1),0,\nIF(RIGHT($D43,1)=RIGHT('Efficiency Levels'!$C$33,1),SUM(OFFSET(AS33,-RIGHT($D43,1),0,RIGHT($D43,1),1)),\"ERROR\"))))","v":0},{"$f":"IF(AT$18<STANDARD_YEAR,AT33,\nIF(RIGHT($D43,1)>RIGHT('Efficiency Levels'!$C$33,1),AT33,\nIF(RIGHT($D43,1)<RIGHT('Efficiency Levels'!$C$33,1),0,\nIF(RIGHT($D43,1)=RIGHT('Efficiency Levels'!$C$33,1),SUM(OFFSET(AT33,-RIGHT($D43,1),0,RIGHT($D43,1),1)),\"ERROR\"))))","v":0},{"$f":"IF(AU$18<STANDARD_YEAR,AU33,\nIF(RIGHT($D43,1)>RIGHT('Efficiency Levels'!$C$33,1),AU33,\nIF(RIGHT($D43,1)<RIGHT('Efficiency Levels'!$C$33,1),0,\nIF(RIGHT($D43,1)=RIGHT('Efficiency Levels'!$C$33,1),SUM(OFFSET(AU33,-RIGHT($D43,1),0,RIGHT($D43,1),1)),\"ERROR\"))))","v":0},{"$f":"IF(AV$18<STANDARD_YEAR,AV33,\nIF(RIGHT($D43,1)>RIGHT('Efficiency Levels'!$C$33,1),AV33,\nIF(RIGHT($D43,1)<RIGHT('Efficiency Levels'!$C$33,1),0,\nIF(RIGHT($D43,1)=RIGHT('Efficiency Levels'!$C$33,1),SUM(OFFSET(AV33,-RIGHT($D43,1),0,RIGHT($D43,1),1)),\"ERROR\"))))","v":0},{"$f":"IF(AW$18<STANDARD_YEAR,AW33,\nIF(RIGHT($D43,1)>RIGHT('Efficiency Levels'!$C$33,1),AW33,\nIF(RIGHT($D43,1)<RIGHT('Efficiency Levels'!$C$33,1),0,\nIF(RIGHT($D43,1)=RIGHT('Efficiency Levels'!$C$33,1),SUM(OFFSET(AW33,-RIGHT($D43,1),0,RIGHT($D43,1),1)),\"ERROR\"))))","v":0},{"$f":"IF(AX$18<STANDARD_YEAR,AX33,\nIF(RIGHT($D43,1)>RIGHT('Efficiency Levels'!$C$33,1),AX33,\nIF(RIGHT($D43,1)<RIGHT('Efficiency Levels'!$C$33,1),0,\nIF(RIGHT($D43,1)=RIGHT('Efficiency Levels'!$C$33,1),SUM(OFFSET(AX33,-RIGHT($D43,1),0,RIGHT($D43,1),1)),\"ERROR\"))))","v":0},{"$f":"IF(AY$18<STANDARD_YEAR,AY33,\nIF(RIGHT($D43,1)>RIGHT('Efficiency Levels'!$C$33,1),AY33,\nIF(RIGHT($D43,1)<RIGHT('Efficiency Levels'!$C$33,1),0,\nIF(RIGHT($D43,1)=RIGHT('Efficiency Levels'!$C$33,1),SUM(OFFSET(AY33,-RIGHT($D43,1),0,RIGHT($D43,1),1)),\"ERROR\"))))","v":0},{"$f":"IF(AZ$18<STANDARD_YEAR,AZ33,\nIF(RIGHT($D43,1)>RIGHT('Efficiency Levels'!$C$33,1),AZ33,\nIF(RIGHT($D43,1)<RIGHT('Efficiency Levels'!$C$33,1),0,\nIF(RIGHT($D43,1)=RIGHT('Efficiency Levels'!$C$33,1),SUM(OFFSET(AZ33,-RIGHT($D43,1),0,RIGHT($D43,1),1)),\"ERROR\"))))","v":0},{"$f":"IF(BA$18<STANDARD_YEAR,BA33,\nIF(RIGHT($D43,1)>RIGHT('Efficiency Levels'!$C$33,1),BA33,\nIF(RIGHT($D43,1)<RIGHT('Efficiency Levels'!$C$33,1),0,\nIF(RIGHT($D43,1)=RIGHT('Efficiency Levels'!$C$33,1),SUM(OFFSET(BA33,-RIGHT($D43,1),0,RIGHT($D43,1),1)),\"ERROR\"))))","v":0},{"$f":"IF(BB$18<STANDARD_YEAR,BB33,\nIF(RIGHT($D43,1)>RIGHT('Efficiency Levels'!$C$33,1),BB33,\nIF(RIGHT($D43,1)<RIGHT('Efficiency Levels'!$C$33,1),0,\nIF(RIGHT($D43,1)=RIGHT('Efficiency Levels'!$C$33,1),SUM(OFFSET(BB33,-RIGHT($D43,1),0,RIGHT($D43,1),1)),\"ERROR\"))))","v":0},{"$f":"IF(BC$18<STANDARD_YEAR,BC33,\nIF(RIGHT($D43,1)>RIGHT('Efficiency Levels'!$C$33,1),BC33,\nIF(RIGHT($D43,1)<RIGHT('Efficiency Levels'!$C$33,1),0,\nIF(RIGHT($D43,1)=RIGHT('Efficiency Levels'!$C$33,1),SUM(OFFSET(BC33,-RIGHT($D43,1),0,RIGHT($D43,1),1)),\"ERROR\"))))","v":0},{"$f":"IF(BD$18<STANDARD_YEAR,BD33,\nIF(RIGHT($D43,1)>RIGHT('Efficiency Levels'!$C$33,1),BD33,\nIF(RIGHT($D43,1)<RIGHT('Efficiency Levels'!$C$33,1),0,\nIF(RIGHT($D43,1)=RIGHT('Efficiency Levels'!$C$33,1),SUM(OFFSET(BD33,-RIGHT($D43,1),0,RIGHT($D43,1),1)),\"ERROR\"))))","v":0},{"$f":"IF(BE$18<STANDARD_YEAR,BE33,\nIF(RIGHT($D43,1)>RIGHT('Efficiency Levels'!$C$33,1),BE33,\nIF(RIGHT($D43,1)<RIGHT('Efficiency Levels'!$C$33,1),0,\nIF(RIGHT($D43,1)=RIGHT('Efficiency Levels'!$C$33,1),SUM(OFFSET(BE33,-RIGHT($D43,1),0,RIGHT($D43,1),1)),\"ERROR\"))))","v":0},{"$f":"IF(BF$18<STANDARD_YEAR,BF33,\nIF(RIGHT($D43,1)>RIGHT('Efficiency Levels'!$C$33,1),BF33,\nIF(RIGHT($D43,1)<RIGHT('Efficiency Levels'!$C$33,1),0,\nIF(RIGHT($D43,1)=RIGHT('Efficiency Levels'!$C$33,1),SUM(OFFSET(BF33,-RIGHT($D43,1),0,RIGHT($D43,1),1)),\"ERROR\"))))","v":0},{"$f":"IF(BG$18<STANDARD_YEAR,BG33,\nIF(RIGHT($D43,1)>RIGHT('Efficiency Levels'!$C$33,1),BG33,\nIF(RIGHT($D43,1)<RIGHT('Efficiency Levels'!$C$33,1),0,\nIF(RIGHT($D43,1)=RIGHT('Efficiency Levels'!$C$33,1),SUM(OFFSET(BG33,-RIGHT($D43,1),0,RIGHT($D43,1),1)),\"ERROR\"))))","v":0},{"$f":"IF(BH$18<STANDARD_YEAR,BH33,\nIF(RIGHT($D43,1)>RIGHT('Efficiency Levels'!$C$33,1),BH33,\nIF(RIGHT($D43,1)<RIGHT('Efficiency Levels'!$C$33,1),0,\nIF(RIGHT($D43,1)=RIGHT('Efficiency Levels'!$C$33,1),SUM(OFFSET(BH33,-RIGHT($D43,1),0,RIGHT($D43,1),1)),\"ERROR\"))))","v":0},{"$f":"IF(BI$18<STANDARD_YEAR,BI33,\nIF(RIGHT($D43,1)>RIGHT('Efficiency Levels'!$C$33,1),BI33,\nIF(RIGHT($D43,1)<RIGHT('Efficiency Levels'!$C$33,1),0,\nIF(RIGHT($D43,1)=RIGHT('Efficiency Levels'!$C$33,1),SUM(OFFSET(BI33,-RIGHT($D43,1),0,RIGHT($D43,1),1)),\"ERROR\"))))","v":0},{"$f":"IF(BJ$18<STANDARD_YEAR,BJ33,\nIF(RIGHT($D43,1)>RIGHT('Efficiency Levels'!$C$33,1),BJ33,\nIF(RIGHT($D43,1)<RIGHT('Efficiency Levels'!$C$33,1),0,\nIF(RIGHT($D43,1)=RIGHT('Efficiency Levels'!$C$33,1),SUM(OFFSET(BJ33,-RIGHT($D43,1),0,RIGHT($D43,1),1)),\"ERROR\"))))","v":0}]
[null,null,null,"EL3",{"$f":"OFFSET('Efficiency Levels'!$D$11,MATCH($C$27,'Efficiency Levels'!$C$9:$C$995,0)+RIGHT(D44,1),0)","v":259.8},null,null,null,{"$f":"IF(I$18<STANDARD_YEAR,I34,\nIF(RIGHT($D44,1)>RIGHT('Efficiency Levels'!$C$33,1),I34,\nIF(RIGHT($D44,1)<RIGHT('Efficiency Levels'!$C$33,1),0,\nIF(RIGHT($D44,1)=RIGHT('Efficiency Levels'!$C$33,1),SUM(OFFSET(I34,-RIGHT($D44,1),0,RIGHT($D44,1),1)),\"ERROR\"))))","v":0},{"$f":"IF(J$18<STANDARD_YEAR,J34,\nIF(RIGHT($D44,1)>RIGHT('Efficiency Levels'!$C$33,1),J34,\nIF(RIGHT($D44,1)<RIGHT('Efficiency Levels'!$C$33,1),0,\nIF(RIGHT($D44,1)=RIGHT('Efficiency Levels'!$C$33,1),SUM(OFFSET(J34,-RIGHT($D44,1),0,RIGHT($D44,1),1)),\"ERROR\"))))","v":0},{"$f":"IF(K$18<STANDARD_YEAR,K34,\nIF(RIGHT($D44,1)>RIGHT('Efficiency Levels'!$C$33,1),K34,\nIF(RIGHT($D44,1)<RIGHT('Efficiency Levels'!$C$33,1),0,\nIF(RIGHT($D44,1)=RIGHT('Efficiency Levels'!$C$33,1),SUM(OFFSET(K34,-RIGHT($D44,1),0,RIGHT($D44,1),1)),\"ERROR\"))))","v":0},{"$f":"IF(L$18<STANDARD_YEAR,L34,\nIF(RIGHT($D44,1)>RIGHT('Efficiency Levels'!$C$33,1),L34,\nIF(RIGHT($D44,1)<RIGHT('Efficiency Levels'!$C$33,1),0,\nIF(RIGHT($D44,1)=RIGHT('Efficiency Levels'!$C$33,1),SUM(OFFSET(L34,-RIGHT($D44,1),0,RIGHT($D44,1),1)),\"ERROR\"))))","v":0},{"$f":"IF(M$18<STANDARD_YEAR,M34,\nIF(RIGHT($D44,1)>RIGHT('Efficiency Levels'!$C$33,1),M34,\nIF(RIGHT($D44,1)<RIGHT('Efficiency Levels'!$C$33,1),0,\nIF(RIGHT($D44,1)=RIGHT('Efficiency Levels'!$C$33,1),SUM(OFFSET(M34,-RIGHT($D44,1),0,RIGHT($D44,1),1)),\"ERROR\"))))","v":0},{"$f":"IF(N$18<STANDARD_YEAR,N34,\nIF(RIGHT($D44,1)>RIGHT('Efficiency Levels'!$C$33,1),N34,\nIF(RIGHT($D44,1)<RIGHT('Efficiency Levels'!$C$33,1),0,\nIF(RIGHT($D44,1)=RIGHT('Efficiency Levels'!$C$33,1),SUM(OFFSET(N34,-RIGHT($D44,1),0,RIGHT($D44,1),1)),\"ERROR\"))))","v":0},{"$f":"IF(O$18<STANDARD_YEAR,O34,\nIF(RIGHT($D44,1)>RIGHT('Efficiency Levels'!$C$33,1),O34,\nIF(RIGHT($D44,1)<RIGHT('Efficiency Levels'!$C$33,1),0,\nIF(RIGHT($D44,1)=RIGHT('Efficiency Levels'!$C$33,1),SUM(OFFSET(O34,-RIGHT($D44,1),0,RIGHT($D44,1),1)),\"ERROR\"))))","v":0},{"$f":"IF(P$18<STANDARD_YEAR,P34,\nIF(RIGHT($D44,1)>RIGHT('Efficiency Levels'!$C$33,1),P34,\nIF(RIGHT($D44,1)<RIGHT('Efficiency Levels'!$C$33,1),0,\nIF(RIGHT($D44,1)=RIGHT('Efficiency Levels'!$C$33,1),SUM(OFFSET(P34,-RIGHT($D44,1),0,RIGHT($D44,1),1)),\"ERROR\"))))","v":0},{"$f":"IF(Q$18<STANDARD_YEAR,Q34,\nIF(RIGHT($D44,1)>RIGHT('Efficiency Levels'!$C$33,1),Q34,\nIF(RIGHT($D44,1)<RIGHT('Efficiency Levels'!$C$33,1),0,\nIF(RIGHT($D44,1)=RIGHT('Efficiency Levels'!$C$33,1),SUM(OFFSET(Q34,-RIGHT($D44,1),0,RIGHT($D44,1),1)),\"ERROR\"))))","v":0},{"$f":"IF(R$18<STANDARD_YEAR,R34,\nIF(RIGHT($D44,1)>RIGHT('Efficiency Levels'!$C$33,1),R34,\nIF(RIGHT($D44,1)<RIGHT('Efficiency Levels'!$C$33,1),0,\nIF(RIGHT($D44,1)=RIGHT('Efficiency Levels'!$C$33,1),SUM(OFFSET(R34,-RIGHT($D44,1),0,RIGHT($D44,1),1)),\"ERROR\"))))","v":0},{"$f":"IF(S$18<STANDARD_YEAR,S34,\nIF(RIGHT($D44,1)>RIGHT('Efficiency Levels'!$C$33,1),S34,\nIF(RIGHT($D44,1)<RIGHT('Efficiency Levels'!$C$33,1),0,\nIF(RIGHT($D44,1)=RIGHT('Efficiency Levels'!$C$33,1),SUM(OFFSET(S34,-RIGHT($D44,1),0,RIGHT($D44,1),1)),\"ERROR\"))))","v":0},{"$f":"IF(T$18<STANDARD_YEAR,T34,\nIF(RIGHT($D44,1)>RIGHT('Efficiency Levels'!$C$33,1),T34,\nIF(RIGHT($D44,1)<RIGHT('Efficiency Levels'!$C$33,1),0,\nIF(RIGHT($D44,1)=RIGHT('Efficiency Levels'!$C$33,1),SUM(OFFSET(T34,-RIGHT($D44,1),0,RIGHT($D44,1),1)),\"ERROR\"))))","v":0},{"$f":"IF(U$18<STANDARD_YEAR,U34,\nIF(RIGHT($D44,1)>RIGHT('Efficiency Levels'!$C$33,1),U34,\nIF(RIGHT($D44,1)<RIGHT('Efficiency Levels'!$C$33,1),0,\nIF(RIGHT($D44,1)=RIGHT('Efficiency Levels'!$C$33,1),SUM(OFFSET(U34,-RIGHT($D44,1),0,RIGHT($D44,1),1)),\"ERROR\"))))","v":0},{"$f":"IF(V$18<STANDARD_YEAR,V34,\nIF(RIGHT($D44,1)>RIGHT('Efficiency Levels'!$C$33,1),V34,\nIF(RIGHT($D44,1)<RIGHT('Efficiency Levels'!$C$33,1),0,\nIF(RIGHT($D44,1)=RIGHT('Efficiency Levels'!$C$33,1),SUM(OFFSET(V34,-RIGHT($D44,1),0,RIGHT($D44,1),1)),\"ERROR\"))))","v":0},{"$f":"IF(W$18<STANDARD_YEAR,W34,\nIF(RIGHT($D44,1)>RIGHT('Efficiency Levels'!$C$33,1),W34,\nIF(RIGHT($D44,1)<RIGHT('Efficiency Levels'!$C$33,1),0,\nIF(RIGHT($D44,1)=RIGHT('Efficiency Levels'!$C$33,1),SUM(OFFSET(W34,-RIGHT($D44,1),0,RIGHT($D44,1),1)),\"ERROR\"))))","v":0},{"$f":"IF(X$18<STANDARD_YEAR,X34,\nIF(RIGHT($D44,1)>RIGHT('Efficiency Levels'!$C$33,1),X34,\nIF(RIGHT($D44,1)<RIGHT('Efficiency Levels'!$C$33,1),0,\nIF(RIGHT($D44,1)=RIGHT('Efficiency Levels'!$C$33,1),SUM(OFFSET(X34,-RIGHT($D44,1),0,RIGHT($D44,1),1)),\"ERROR\"))))","v":0},{"$f":"IF(Y$18<STANDARD_YEAR,Y34,\nIF(RIGHT($D44,1)>RIGHT('Efficiency Levels'!$C$33,1),Y34,\nIF(RIGHT($D44,1)<RIGHT('Efficiency Levels'!$C$33,1),0,\nIF(RIGHT($D44,1)=RIGHT('Efficiency Levels'!$C$33,1),SUM(OFFSET(Y34,-RIGHT($D44,1),0,RIGHT($D44,1),1)),\"ERROR\"))))","v":0},{"$f":"IF(Z$18<STANDARD_YEAR,Z34,\nIF(RIGHT($D44,1)>RIGHT('Efficiency Levels'!$C$33,1),Z34,\nIF(RIGHT($D44,1)<RIGHT('Efficiency Levels'!$C$33,1),0,\nIF(RIGHT($D44,1)=RIGHT('Efficiency Levels'!$C$33,1),SUM(OFFSET(Z34,-RIGHT($D44,1),0,RIGHT($D44,1),1)),\"ERROR\"))))","v":0},{"$f":"IF(AA$18<STANDARD_YEAR,AA34,\nIF(RIGHT($D44,1)>RIGHT('Efficiency Levels'!$C$33,1),AA34,\nIF(RIGHT($D44,1)<RIGHT('Efficiency Levels'!$C$33,1),0,\nIF(RIGHT($D44,1)=RIGHT('Efficiency Levels'!$C$33,1),SUM(OFFSET(AA34,-RIGHT($D44,1),0,RIGHT($D44,1),1)),\"ERROR\"))))","v":0},{"$f":"IF(AB$18<STANDARD_YEAR,AB34,\nIF(RIGHT($D44,1)>RIGHT('Efficiency Levels'!$C$33,1),AB34,\nIF(RIGHT($D44,1)<RIGHT('Efficiency Levels'!$C$33,1),0,\nIF(RIGHT($D44,1)=RIGHT('Efficiency Levels'!$C$33,1),SUM(OFFSET(AB34,-RIGHT($D44,1),0,RIGHT($D44,1),1)),\"ERROR\"))))","v":0},{"$f":"IF(AC$18<STANDARD_YEAR,AC34,\nIF(RIGHT($D44,1)>RIGHT('Efficiency Levels'!$C$33,1),AC34,\nIF(RIGHT($D44,1)<RIGHT('Efficiency Levels'!$C$33,1),0,\nIF(RIGHT($D44,1)=RIGHT('Efficiency Levels'!$C$33,1),SUM(OFFSET(AC34,-RIGHT($D44,1),0,RIGHT($D44,1),1)),\"ERROR\"))))","v":0},{"$f":"IF(AD$18<STANDARD_YEAR,AD34,\nIF(RIGHT($D44,1)>RIGHT('Efficiency Levels'!$C$33,1),AD34,\nIF(RIGHT($D44,1)<RIGHT('Efficiency Levels'!$C$33,1),0,\nIF(RIGHT($D44,1)=RIGHT('Efficiency Levels'!$C$33,1),SUM(OFFSET(AD34,-RIGHT($D44,1),0,RIGHT($D44,1),1)),\"ERROR\"))))","v":0},{"$f":"IF(AE$18<STANDARD_YEAR,AE34,\nIF(RIGHT($D44,1)>RIGHT('Efficiency Levels'!$C$33,1),AE34,\nIF(RIGHT($D44,1)<RIGHT('Efficiency Levels'!$C$33,1),0,\nIF(RIGHT($D44,1)=RIGHT('Efficiency Levels'!$C$33,1),SUM(OFFSET(AE34,-RIGHT($D44,1),0,RIGHT($D44,1),1)),\"ERROR\"))))","v":0},{"$f":"IF(AF$18<STANDARD_YEAR,AF34,\nIF(RIGHT($D44,1)>RIGHT('Efficiency Levels'!$C$33,1),AF34,\nIF(RIGHT($D44,1)<RIGHT('Efficiency Levels'!$C$33,1),0,\nIF(RIGHT($D44,1)=RIGHT('Efficiency Levels'!$C$33,1),SUM(OFFSET(AF34,-RIGHT($D44,1),0,RIGHT($D44,1),1)),\"ERROR\"))))","v":0},{"$f":"IF(AG$18<STANDARD_YEAR,AG34,\nIF(RIGHT($D44,1)>RIGHT('Efficiency Levels'!$C$33,1),AG34,\nIF(RIGHT($D44,1)<RIGHT('Efficiency Levels'!$C$33,1),0,\nIF(RIGHT($D44,1)=RIGHT('Efficiency Levels'!$C$33,1),SUM(OFFSET(AG34,-RIGHT($D44,1),0,RIGHT($D44,1),1)),\"ERROR\"))))","v":0},{"$f":"IF(AH$18<STANDARD_YEAR,AH34,\nIF(RIGHT($D44,1)>RIGHT('Efficiency Levels'!$C$33,1),AH34,\nIF(RIGHT($D44,1)<RIGHT('Efficiency Levels'!$C$33,1),0,\nIF(RIGHT($D44,1)=RIGHT('Efficiency Levels'!$C$33,1),SUM(OFFSET(AH34,-RIGHT($D44,1),0,RIGHT($D44,1),1)),\"ERROR\"))))","v":0},{"$f":"IF(AI$18<STANDARD_YEAR,AI34,\nIF(RIGHT($D44,1)>RIGHT('Efficiency Levels'!$C$33,1),AI34,\nIF(RIGHT($D44,1)<RIGHT('Efficiency Levels'!$C$33,1),0,\nIF(RIGHT($D44,1)=RIGHT('Efficiency Levels'!$C$33,1),SUM(OFFSET(AI34,-RIGHT($D44,1),0,RIGHT($D44,1),1)),\"ERROR\"))))","v":0},{"$f":"IF(AJ$18<STANDARD_YEAR,AJ34,\nIF(RIGHT($D44,1)>RIGHT('Efficiency Levels'!$C$33,1),AJ34,\nIF(RIGHT($D44,1)<RIGHT('Efficiency Levels'!$C$33,1),0,\nIF(RIGHT($D44,1)=RIGHT('Efficiency Levels'!$C$33,1),SUM(OFFSET(AJ34,-RIGHT($D44,1),0,RIGHT($D44,1),1)),\"ERROR\"))))","v":0},{"$f":"IF(AK$18<STANDARD_YEAR,AK34,\nIF(RIGHT($D44,1)>RIGHT('Efficiency Levels'!$C$33,1),AK34,\nIF(RIGHT($D44,1)<RIGHT('Efficiency Levels'!$C$33,1),0,\nIF(RIGHT($D44,1)=RIGHT('Efficiency Levels'!$C$33,1),SUM(OFFSET(AK34,-RIGHT($D44,1),0,RIGHT($D44,1),1)),\"ERROR\"))))","v":0},{"$f":"IF(AL$18<STANDARD_YEAR,AL34,\nIF(RIGHT($D44,1)>RIGHT('Efficiency Levels'!$C$33,1),AL34,\nIF(RIGHT($D44,1)<RIGHT('Efficiency Levels'!$C$33,1),0,\nIF(RIGHT($D44,1)=RIGHT('Efficiency Levels'!$C$33,1),SUM(OFFSET(AL34,-RIGHT($D44,1),0,RIGHT($D44,1),1)),\"ERROR\"))))","v":0},{"$f":"IF(AM$18<STANDARD_YEAR,AM34,\nIF(RIGHT($D44,1)>RIGHT('Efficiency Levels'!$C$33,1),AM34,\nIF(RIGHT($D44,1)<RIGHT('Efficiency Levels'!$C$33,1),0,\nIF(RIGHT($D44,1)=RIGHT('Efficiency Levels'!$C$33,1),SUM(OFFSET(AM34,-RIGHT($D44,1),0,RIGHT($D44,1),1)),\"ERROR\"))))","v":0},{"$f":"IF(AN$18<STANDARD_YEAR,AN34,\nIF(RIGHT($D44,1)>RIGHT('Efficiency Levels'!$C$33,1),AN34,\nIF(RIGHT($D44,1)<RIGHT('Efficiency Levels'!$C$33,1),0,\nIF(RIGHT($D44,1)=RIGHT('Efficiency Levels'!$C$33,1),SUM(OFFSET(AN34,-RIGHT($D44,1),0,RIGHT($D44,1),1)),\"ERROR\"))))","v":0},{"$f":"IF(AO$18<STANDARD_YEAR,AO34,\nIF(RIGHT($D44,1)>RIGHT('Efficiency Levels'!$C$33,1),AO34,\nIF(RIGHT($D44,1)<RIGHT('Efficiency Levels'!$C$33,1),0,\nIF(RIGHT($D44,1)=RIGHT('Efficiency Levels'!$C$33,1),SUM(OFFSET(AO34,-RIGHT($D44,1),0,RIGHT($D44,1),1)),\"ERROR\"))))","v":0},{"$f":"IF(AP$18<STANDARD_YEAR,AP34,\nIF(RIGHT($D44,1)>RIGHT('Efficiency Levels'!$C$33,1),AP34,\nIF(RIGHT($D44,1)<RIGHT('Efficiency Levels'!$C$33,1),0,\nIF(RIGHT($D44,1)=RIGHT('Efficiency Levels'!$C$33,1),SUM(OFFSET(AP34,-RIGHT($D44,1),0,RIGHT($D44,1),1)),\"ERROR\"))))","v":0},{"$f":"IF(AQ$18<STANDARD_YEAR,AQ34,\nIF(RIGHT($D44,1)>RIGHT('Efficiency Levels'!$C$33,1),AQ34,\nIF(RIGHT($D44,1)<RIGHT('Efficiency Levels'!$C$33,1),0,\nIF(RIGHT($D44,1)=RIGHT('Efficiency Levels'!$C$33,1),SUM(OFFSET(AQ34,-RIGHT($D44,1),0,RIGHT($D44,1),1)),\"ERROR\"))))","v":0},{"$f":"IF(AR$18<STANDARD_YEAR,AR34,\nIF(RIGHT($D44,1)>RIGHT('Efficiency Levels'!$C$33,1),AR34,\nIF(RIGHT($D44,1)<RIGHT('Efficiency Levels'!$C$33,1),0,\nIF(RIGHT($D44,1)=RIGHT('Efficiency Levels'!$C$33,1),SUM(OFFSET(AR34,-RIGHT($D44,1),0,RIGHT($D44,1),1)),\"ERROR\"))))","v":0},{"$f":"IF(AS$18<STANDARD_YEAR,AS34,\nIF(RIGHT($D44,1)>RIGHT('Efficiency Levels'!$C$33,1),AS34,\nIF(RIGHT($D44,1)<RIGHT('Efficiency Levels'!$C$33,1),0,\nIF(RIGHT($D44,1)=RIGHT('Efficiency Levels'!$C$33,1),SUM(OFFSET(AS34,-RIGHT($D44,1),0,RIGHT($D44,1),1)),\"ERROR\"))))","v":0},{"$f":"IF(AT$18<STANDARD_YEAR,AT34,\nIF(RIGHT($D44,1)>RIGHT('Efficiency Levels'!$C$33,1),AT34,\nIF(RIGHT($D44,1)<RIGHT('Efficiency Levels'!$C$33,1),0,\nIF(RIGHT($D44,1)=RIGHT('Efficiency Levels'!$C$33,1),SUM(OFFSET(AT34,-RIGHT($D44,1),0,RIGHT($D44,1),1)),\"ERROR\"))))","v":0},{"$f":"IF(AU$18<STANDARD_YEAR,AU34,\nIF(RIGHT($D44,1)>RIGHT('Efficiency Levels'!$C$33,1),AU34,\nIF(RIGHT($D44,1)<RIGHT('Efficiency Levels'!$C$33,1),0,\nIF(RIGHT($D44,1)=RIGHT('Efficiency Levels'!$C$33,1),SUM(OFFSET(AU34,-RIGHT($D44,1),0,RIGHT($D44,1),1)),\"ERROR\"))))","v":0},{"$f":"IF(AV$18<STANDARD_YEAR,AV34,\nIF(RIGHT($D44,1)>RIGHT('Efficiency Levels'!$C$33,1),AV34,\nIF(RIGHT($D44,1)<RIGHT('Efficiency Levels'!$C$33,1),0,\nIF(RIGHT($D44,1)=RIGHT('Efficiency Levels'!$C$33,1),SUM(OFFSET(AV34,-RIGHT($D44,1),0,RIGHT($D44,1),1)),\"ERROR\"))))","v":0},{"$f":"IF(AW$18<STANDARD_YEAR,AW34,\nIF(RIGHT($D44,1)>RIGHT('Efficiency Levels'!$C$33,1),AW34,\nIF(RIGHT($D44,1)<RIGHT('Efficiency Levels'!$C$33,1),0,\nIF(RIGHT($D44,1)=RIGHT('Efficiency Levels'!$C$33,1),SUM(OFFSET(AW34,-RIGHT($D44,1),0,RIGHT($D44,1),1)),\"ERROR\"))))","v":0},{"$f":"IF(AX$18<STANDARD_YEAR,AX34,\nIF(RIGHT($D44,1)>RIGHT('Efficiency Levels'!$C$33,1),AX34,\nIF(RIGHT($D44,1)<RIGHT('Efficiency Levels'!$C$33,1),0,\nIF(RIGHT($D44,1)=RIGHT('Efficiency Levels'!$C$33,1),SUM(OFFSET(AX34,-RIGHT($D44,1),0,RIGHT($D44,1),1)),\"ERROR\"))))","v":0},{"$f":"IF(AY$18<STANDARD_YEAR,AY34,\nIF(RIGHT($D44,1)>RIGHT('Efficiency Levels'!$C$33,1),AY34,\nIF(RIGHT($D44,1)<RIGHT('Efficiency Levels'!$C$33,1),0,\nIF(RIGHT($D44,1)=RIGHT('Efficiency Levels'!$C$33,1),SUM(OFFSET(AY34,-RIGHT($D44,1),0,RIGHT($D44,1),1)),\"ERROR\"))))","v":0},{"$f":"IF(AZ$18<STANDARD_YEAR,AZ34,\nIF(RIGHT($D44,1)>RIGHT('Efficiency Levels'!$C$33,1),AZ34,\nIF(RIGHT($D44,1)<RIGHT('Efficiency Levels'!$C$33,1),0,\nIF(RIGHT($D44,1)=RIGHT('Efficiency Levels'!$C$33,1),SUM(OFFSET(AZ34,-RIGHT($D44,1),0,RIGHT($D44,1),1)),\"ERROR\"))))","v":0},{"$f":"IF(BA$18<STANDARD_YEAR,BA34,\nIF(RIGHT($D44,1)>RIGHT('Efficiency Levels'!$C$33,1),BA34,\nIF(RIGHT($D44,1)<RIGHT('Efficiency Levels'!$C$33,1),0,\nIF(RIGHT($D44,1)=RIGHT('Efficiency Levels'!$C$33,1),SUM(OFFSET(BA34,-RIGHT($D44,1),0,RIGHT($D44,1),1)),\"ERROR\"))))","v":0},{"$f":"IF(BB$18<STANDARD_YEAR,BB34,\nIF(RIGHT($D44,1)>RIGHT('Efficiency Levels'!$C$33,1),BB34,\nIF(RIGHT($D44,1)<RIGHT('Efficiency Levels'!$C$33,1),0,\nIF(RIGHT($D44,1)=RIGHT('Efficiency Levels'!$C$33,1),SUM(OFFSET(BB34,-RIGHT($D44,1),0,RIGHT($D44,1),1)),\"ERROR\"))))","v":0},{"$f":"IF(BC$18<STANDARD_YEAR,BC34,\nIF(RIGHT($D44,1)>RIGHT('Efficiency Levels'!$C$33,1),BC34,\nIF(RIGHT($D44,1)<RIGHT('Efficiency Levels'!$C$33,1),0,\nIF(RIGHT($D44,1)=RIGHT('Efficiency Levels'!$C$33,1),SUM(OFFSET(BC34,-RIGHT($D44,1),0,RIGHT($D44,1),1)),\"ERROR\"))))","v":0},{"$f":"IF(BD$18<STANDARD_YEAR,BD34,\nIF(RIGHT($D44,1)>RIGHT('Efficiency Levels'!$C$33,1),BD34,\nIF(RIGHT($D44,1)<RIGHT('Efficiency Levels'!$C$33,1),0,\nIF(RIGHT($D44,1)=RIGHT('Efficiency Levels'!$C$33,1),SUM(OFFSET(BD34,-RIGHT($D44,1),0,RIGHT($D44,1),1)),\"ERROR\"))))","v":0},{"$f":"IF(BE$18<STANDARD_YEAR,BE34,\nIF(RIGHT($D44,1)>RIGHT('Efficiency Levels'!$C$33,1),BE34,\nIF(RIGHT($D44,1)<RIGHT('Efficiency Levels'!$C$33,1),0,\nIF(RIGHT($D44,1)=RIGHT('Efficiency Levels'!$C$33,1),SUM(OFFSET(BE34,-RIGHT($D44,1),0,RIGHT($D44,1),1)),\"ERROR\"))))","v":0},{"$f":"IF(BF$18<STANDARD_YEAR,BF34,\nIF(RIGHT($D44,1)>RIGHT('Efficiency Levels'!$C$33,1),BF34,\nIF(RIGHT($D44,1)<RIGHT('Efficiency Levels'!$C$33,1),0,\nIF(RIGHT($D44,1)=RIGHT('Efficiency Levels'!$C$33,1),SUM(OFFSET(BF34,-RIGHT($D44,1),0,RIGHT($D44,1),1)),\"ERROR\"))))","v":0},{"$f":"IF(BG$18<STANDARD_YEAR,BG34,\nIF(RIGHT($D44,1)>RIGHT('Efficiency Levels'!$C$33,1),BG34,\nIF(RIGHT($D44,1)<RIGHT('Efficiency Levels'!$C$33,1),0,\nIF(RIGHT($D44,1)=RIGHT('Efficiency Levels'!$C$33,1),SUM(OFFSET(BG34,-RIGHT($D44,1),0,RIGHT($D44,1),1)),\"ERROR\"))))","v":0},{"$f":"IF(BH$18<STANDARD_YEAR,BH34,\nIF(RIGHT($D44,1)>RIGHT('Efficiency Levels'!$C$33,1),BH34,\nIF(RIGHT($D44,1)<RIGHT('Efficiency Levels'!$C$33,1),0,\nIF(RIGHT($D44,1)=RIGHT('Efficiency Levels'!$C$33,1),SUM(OFFSET(BH34,-RIGHT($D44,1),0,RIGHT($D44,1),1)),\"ERROR\"))))","v":0},{"$f":"IF(BI$18<STANDARD_YEAR,BI34,\nIF(RIGHT($D44,1)>RIGHT('Efficiency Levels'!$C$33,1),BI34,\nIF(RIGHT($D44,1)<RIGHT('Efficiency Levels'!$C$33,1),0,\nIF(RIGHT($D44,1)=RIGHT('Efficiency Levels'!$C$33,1),SUM(OFFSET(BI34,-RIGHT($D44,1),0,RIGHT($D44,1),1)),\"ERROR\"))))","v":0},{"$f":"IF(BJ$18<STANDARD_YEAR,BJ34,\nIF(RIGHT($D44,1)>RIGHT('Efficiency Levels'!$C$33,1),BJ34,\nIF(RIGHT($D44,1)<RIGHT('Efficiency Levels'!$C$33,1),0,\nIF(RIGHT($D44,1)=RIGHT('Efficiency Levels'!$C$33,1),SUM(OFFSET(BJ34,-RIGHT($D44,1),0,RIGHT($D44,1),1)),\"ERROR\"))))","v":0}]
[null,null,null,"EL4",{"$f":"OFFSET('Efficiency Levels'!$D$11,MATCH($C$27,'Efficiency Levels'!$C$9:$C$995,0)+RIGHT(D45,1),0)","v":245.9},null,null,null,{"$f":"IF(I$18<STANDARD_YEAR,I35,\nIF(RIGHT($D45,1)>RIGHT('Efficiency Levels'!$C$33,1),I35,\nIF(RIGHT($D45,1)<RIGHT('Efficiency Levels'!$C$33,1),0,\nIF(RIGHT($D45,1)=RIGHT('Efficiency Levels'!$C$33,1),SUM(OFFSET(I35,-RIGHT($D45,1),0,RIGHT($D45,1),1)),\"ERROR\"))))","v":0},{"$f":"IF(J$18<STANDARD_YEAR,J35,\nIF(RIGHT($D45,1)>RIGHT('Efficiency Levels'!$C$33,1),J35,\nIF(RIGHT($D45,1)<RIGHT('Efficiency Levels'!$C$33,1),0,\nIF(RIGHT($D45,1)=RIGHT('Efficiency Levels'!$C$33,1),SUM(OFFSET(J35,-RIGHT($D45,1),0,RIGHT($D45,1),1)),\"ERROR\"))))","v":0},{"$f":"IF(K$18<STANDARD_YEAR,K35,\nIF(RIGHT($D45,1)>RIGHT('Efficiency Levels'!$C$33,1),K35,\nIF(RIGHT($D45,1)<RIGHT('Efficiency Levels'!$C$33,1),0,\nIF(RIGHT($D45,1)=RIGHT('Efficiency Levels'!$C$33,1),SUM(OFFSET(K35,-RIGHT($D45,1),0,RIGHT($D45,1),1)),\"ERROR\"))))","v":0},{"$f":"IF(L$18<STANDARD_YEAR,L35,\nIF(RIGHT($D45,1)>RIGHT('Efficiency Levels'!$C$33,1),L35,\nIF(RIGHT($D45,1)<RIGHT('Efficiency Levels'!$C$33,1),0,\nIF(RIGHT($D45,1)=RIGHT('Efficiency Levels'!$C$33,1),SUM(OFFSET(L35,-RIGHT($D45,1),0,RIGHT($D45,1),1)),\"ERROR\"))))","v":0},{"$f":"IF(M$18<STANDARD_YEAR,M35,\nIF(RIGHT($D45,1)>RIGHT('Efficiency Levels'!$C$33,1),M35,\nIF(RIGHT($D45,1)<RIGHT('Efficiency Levels'!$C$33,1),0,\nIF(RIGHT($D45,1)=RIGHT('Efficiency Levels'!$C$33,1),SUM(OFFSET(M35,-RIGHT($D45,1),0,RIGHT($D45,1),1)),\"ERROR\"))))","v":0},{"$f":"IF(N$18<STANDARD_YEAR,N35,\nIF(RIGHT($D45,1)>RIGHT('Efficiency Levels'!$C$33,1),N35,\nIF(RIGHT($D45,1)<RIGHT('Efficiency Levels'!$C$33,1),0,\nIF(RIGHT($D45,1)=RIGHT('Efficiency Levels'!$C$33,1),SUM(OFFSET(N35,-RIGHT($D45,1),0,RIGHT($D45,1),1)),\"ERROR\"))))","v":0},{"$f":"IF(O$18<STANDARD_YEAR,O35,\nIF(RIGHT($D45,1)>RIGHT('Efficiency Levels'!$C$33,1),O35,\nIF(RIGHT($D45,1)<RIGHT('Efficiency Levels'!$C$33,1),0,\nIF(RIGHT($D45,1)=RIGHT('Efficiency Levels'!$C$33,1),SUM(OFFSET(O35,-RIGHT($D45,1),0,RIGHT($D45,1),1)),\"ERROR\"))))","v":0},{"$f":"IF(P$18<STANDARD_YEAR,P35,\nIF(RIGHT($D45,1)>RIGHT('Efficiency Levels'!$C$33,1),P35,\nIF(RIGHT($D45,1)<RIGHT('Efficiency Levels'!$C$33,1),0,\nIF(RIGHT($D45,1)=RIGHT('Efficiency Levels'!$C$33,1),SUM(OFFSET(P35,-RIGHT($D45,1),0,RIGHT($D45,1),1)),\"ERROR\"))))","v":0},{"$f":"IF(Q$18<STANDARD_YEAR,Q35,\nIF(RIGHT($D45,1)>RIGHT('Efficiency Levels'!$C$33,1),Q35,\nIF(RIGHT($D45,1)<RIGHT('Efficiency Levels'!$C$33,1),0,\nIF(RIGHT($D45,1)=RIGHT('Efficiency Levels'!$C$33,1),SUM(OFFSET(Q35,-RIGHT($D45,1),0,RIGHT($D45,1),1)),\"ERROR\"))))","v":0},{"$f":"IF(R$18<STANDARD_YEAR,R35,\nIF(RIGHT($D45,1)>RIGHT('Efficiency Levels'!$C$33,1),R35,\nIF(RIGHT($D45,1)<RIGHT('Efficiency Levels'!$C$33,1),0,\nIF(RIGHT($D45,1)=RIGHT('Efficiency Levels'!$C$33,1),SUM(OFFSET(R35,-RIGHT($D45,1),0,RIGHT($D45,1),1)),\"ERROR\"))))","v":0},{"$f":"IF(S$18<STANDARD_YEAR,S35,\nIF(RIGHT($D45,1)>RIGHT('Efficiency Levels'!$C$33,1),S35,\nIF(RIGHT($D45,1)<RIGHT('Efficiency Levels'!$C$33,1),0,\nIF(RIGHT($D45,1)=RIGHT('Efficiency Levels'!$C$33,1),SUM(OFFSET(S35,-RIGHT($D45,1),0,RIGHT($D45,1),1)),\"ERROR\"))))","v":0},{"$f":"IF(T$18<STANDARD_YEAR,T35,\nIF(RIGHT($D45,1)>RIGHT('Efficiency Levels'!$C$33,1),T35,\nIF(RIGHT($D45,1)<RIGHT('Efficiency Levels'!$C$33,1),0,\nIF(RIGHT($D45,1)=RIGHT('Efficiency Levels'!$C$33,1),SUM(OFFSET(T35,-RIGHT($D45,1),0,RIGHT($D45,1),1)),\"ERROR\"))))","v":0},{"$f":"IF(U$18<STANDARD_YEAR,U35,\nIF(RIGHT($D45,1)>RIGHT('Efficiency Levels'!$C$33,1),U35,\nIF(RIGHT($D45,1)<RIGHT('Efficiency Levels'!$C$33,1),0,\nIF(RIGHT($D45,1)=RIGHT('Efficiency Levels'!$C$33,1),SUM(OFFSET(U35,-RIGHT($D45,1),0,RIGHT($D45,1),1)),\"ERROR\"))))","v":0},{"$f":"IF(V$18<STANDARD_YEAR,V35,\nIF(RIGHT($D45,1)>RIGHT('Efficiency Levels'!$C$33,1),V35,\nIF(RIGHT($D45,1)<RIGHT('Efficiency Levels'!$C$33,1),0,\nIF(RIGHT($D45,1)=RIGHT('Efficiency Levels'!$C$33,1),SUM(OFFSET(V35,-RIGHT($D45,1),0,RIGHT($D45,1),1)),\"ERROR\"))))","v":0},{"$f":"IF(W$18<STANDARD_YEAR,W35,\nIF(RIGHT($D45,1)>RIGHT('Efficiency Levels'!$C$33,1),W35,\nIF(RIGHT($D45,1)<RIGHT('Efficiency Levels'!$C$33,1),0,\nIF(RIGHT($D45,1)=RIGHT('Efficiency Levels'!$C$33,1),SUM(OFFSET(W35,-RIGHT($D45,1),0,RIGHT($D45,1),1)),\"ERROR\"))))","v":0},{"$f":"IF(X$18<STANDARD_YEAR,X35,\nIF(RIGHT($D45,1)>RIGHT('Efficiency Levels'!$C$33,1),X35,\nIF(RIGHT($D45,1)<RIGHT('Efficiency Levels'!$C$33,1),0,\nIF(RIGHT($D45,1)=RIGHT('Efficiency Levels'!$C$33,1),SUM(OFFSET(X35,-RIGHT($D45,1),0,RIGHT($D45,1),1)),\"ERROR\"))))","v":0},{"$f":"IF(Y$18<STANDARD_YEAR,Y35,\nIF(RIGHT($D45,1)>RIGHT('Efficiency Levels'!$C$33,1),Y35,\nIF(RIGHT($D45,1)<RIGHT('Efficiency Levels'!$C$33,1),0,\nIF(RIGHT($D45,1)=RIGHT('Efficiency Levels'!$C$33,1),SUM(OFFSET(Y35,-RIGHT($D45,1),0,RIGHT($D45,1),1)),\"ERROR\"))))","v":0},{"$f":"IF(Z$18<STANDARD_YEAR,Z35,\nIF(RIGHT($D45,1)>RIGHT('Efficiency Levels'!$C$33,1),Z35,\nIF(RIGHT($D45,1)<RIGHT('Efficiency Levels'!$C$33,1),0,\nIF(RIGHT($D45,1)=RIGHT('Efficiency Levels'!$C$33,1),SUM(OFFSET(Z35,-RIGHT($D45,1),0,RIGHT($D45,1),1)),\"ERROR\"))))","v":0},{"$f":"IF(AA$18<STANDARD_YEAR,AA35,\nIF(RIGHT($D45,1)>RIGHT('Efficiency Levels'!$C$33,1),AA35,\nIF(RIGHT($D45,1)<RIGHT('Efficiency Levels'!$C$33,1),0,\nIF(RIGHT($D45,1)=RIGHT('Efficiency Levels'!$C$33,1),SUM(OFFSET(AA35,-RIGHT($D45,1),0,RIGHT($D45,1),1)),\"ERROR\"))))","v":0},{"$f":"IF(AB$18<STANDARD_YEAR,AB35,\nIF(RIGHT($D45,1)>RIGHT('Efficiency Levels'!$C$33,1),AB35,\nIF(RIGHT($D45,1)<RIGHT('Efficiency Levels'!$C$33,1),0,\nIF(RIGHT($D45,1)=RIGHT('Efficiency Levels'!$C$33,1),SUM(OFFSET(AB35,-RIGHT($D45,1),0,RIGHT($D45,1),1)),\"ERROR\"))))","v":0},{"$f":"IF(AC$18<STANDARD_YEAR,AC35,\nIF(RIGHT($D45,1)>RIGHT('Efficiency Levels'!$C$33,1),AC35,\nIF(RIGHT($D45,1)<RIGHT('Efficiency Levels'!$C$33,1),0,\nIF(RIGHT($D45,1)=RIGHT('Efficiency Levels'!$C$33,1),SUM(OFFSET(AC35,-RIGHT($D45,1),0,RIGHT($D45,1),1)),\"ERROR\"))))","v":0},{"$f":"IF(AD$18<STANDARD_YEAR,AD35,\nIF(RIGHT($D45,1)>RIGHT('Efficiency Levels'!$C$33,1),AD35,\nIF(RIGHT($D45,1)<RIGHT('Efficiency Levels'!$C$33,1),0,\nIF(RIGHT($D45,1)=RIGHT('Efficiency Levels'!$C$33,1),SUM(OFFSET(AD35,-RIGHT($D45,1),0,RIGHT($D45,1),1)),\"ERROR\"))))","v":0},{"$f":"IF(AE$18<STANDARD_YEAR,AE35,\nIF(RIGHT($D45,1)>RIGHT('Efficiency Levels'!$C$33,1),AE35,\nIF(RIGHT($D45,1)<RIGHT('Efficiency Levels'!$C$33,1),0,\nIF(RIGHT($D45,1)=RIGHT('Efficiency Levels'!$C$33,1),SUM(OFFSET(AE35,-RIGHT($D45,1),0,RIGHT($D45,1),1)),\"ERROR\"))))","v":0},{"$f":"IF(AF$18<STANDARD_YEAR,AF35,\nIF(RIGHT($D45,1)>RIGHT('Efficiency Levels'!$C$33,1),AF35,\nIF(RIGHT($D45,1)<RIGHT('Efficiency Levels'!$C$33,1),0,\nIF(RIGHT($D45,1)=RIGHT('Efficiency Levels'!$C$33,1),SUM(OFFSET(AF35,-RIGHT($D45,1),0,RIGHT($D45,1),1)),\"ERROR\"))))","v":0},{"$f":"IF(AG$18<STANDARD_YEAR,AG35,\nIF(RIGHT($D45,1)>RIGHT('Efficiency Levels'!$C$33,1),AG35,\nIF(RIGHT($D45,1)<RIGHT('Efficiency Levels'!$C$33,1),0,\nIF(RIGHT($D45,1)=RIGHT('Efficiency Levels'!$C$33,1),SUM(OFFSET(AG35,-RIGHT($D45,1),0,RIGHT($D45,1),1)),\"ERROR\"))))","v":0},{"$f":"IF(AH$18<STANDARD_YEAR,AH35,\nIF(RIGHT($D45,1)>RIGHT('Efficiency Levels'!$C$33,1),AH35,\nIF(RIGHT($D45,1)<RIGHT('Efficiency Levels'!$C$33,1),0,\nIF(RIGHT($D45,1)=RIGHT('Efficiency Levels'!$C$33,1),SUM(OFFSET(AH35,-RIGHT($D45,1),0,RIGHT($D45,1),1)),\"ERROR\"))))","v":0},{"$f":"IF(AI$18<STANDARD_YEAR,AI35,\nIF(RIGHT($D45,1)>RIGHT('Efficiency Levels'!$C$33,1),AI35,\nIF(RIGHT($D45,1)<RIGHT('Efficiency Levels'!$C$33,1),0,\nIF(RIGHT($D45,1)=RIGHT('Efficiency Levels'!$C$33,1),SUM(OFFSET(AI35,-RIGHT($D45,1),0,RIGHT($D45,1),1)),\"ERROR\"))))","v":0},{"$f":"IF(AJ$18<STANDARD_YEAR,AJ35,\nIF(RIGHT($D45,1)>RIGHT('Efficiency Levels'!$C$33,1),AJ35,\nIF(RIGHT($D45,1)<RIGHT('Efficiency Levels'!$C$33,1),0,\nIF(RIGHT($D45,1)=RIGHT('Efficiency Levels'!$C$33,1),SUM(OFFSET(AJ35,-RIGHT($D45,1),0,RIGHT($D45,1),1)),\"ERROR\"))))","v":0},{"$f":"IF(AK$18<STANDARD_YEAR,AK35,\nIF(RIGHT($D45,1)>RIGHT('Efficiency Levels'!$C$33,1),AK35,\nIF(RIGHT($D45,1)<RIGHT('Efficiency Levels'!$C$33,1),0,\nIF(RIGHT($D45,1)=RIGHT('Efficiency Levels'!$C$33,1),SUM(OFFSET(AK35,-RIGHT($D45,1),0,RIGHT($D45,1),1)),\"ERROR\"))))","v":0},{"$f":"IF(AL$18<STANDARD_YEAR,AL35,\nIF(RIGHT($D45,1)>RIGHT('Efficiency Levels'!$C$33,1),AL35,\nIF(RIGHT($D45,1)<RIGHT('Efficiency Levels'!$C$33,1),0,\nIF(RIGHT($D45,1)=RIGHT('Efficiency Levels'!$C$33,1),SUM(OFFSET(AL35,-RIGHT($D45,1),0,RIGHT($D45,1),1)),\"ERROR\"))))","v":0},{"$f":"IF(AM$18<STANDARD_YEAR,AM35,\nIF(RIGHT($D45,1)>RIGHT('Efficiency Levels'!$C$33,1),AM35,\nIF(RIGHT($D45,1)<RIGHT('Efficiency Levels'!$C$33,1),0,\nIF(RIGHT($D45,1)=RIGHT('Efficiency Levels'!$C$33,1),SUM(OFFSET(AM35,-RIGHT($D45,1),0,RIGHT($D45,1),1)),\"ERROR\"))))","v":0},{"$f":"IF(AN$18<STANDARD_YEAR,AN35,\nIF(RIGHT($D45,1)>RIGHT('Efficiency Levels'!$C$33,1),AN35,\nIF(RIGHT($D45,1)<RIGHT('Efficiency Levels'!$C$33,1),0,\nIF(RIGHT($D45,1)=RIGHT('Efficiency Levels'!$C$33,1),SUM(OFFSET(AN35,-RIGHT($D45,1),0,RIGHT($D45,1),1)),\"ERROR\"))))","v":0},{"$f":"IF(AO$18<STANDARD_YEAR,AO35,\nIF(RIGHT($D45,1)>RIGHT('Efficiency Levels'!$C$33,1),AO35,\nIF(RIGHT($D45,1)<RIGHT('Efficiency Levels'!$C$33,1),0,\nIF(RIGHT($D45,1)=RIGHT('Efficiency Levels'!$C$33,1),SUM(OFFSET(AO35,-RIGHT($D45,1),0,RIGHT($D45,1),1)),\"ERROR\"))))","v":0},{"$f":"IF(AP$18<STANDARD_YEAR,AP35,\nIF(RIGHT($D45,1)>RIGHT('Efficiency Levels'!$C$33,1),AP35,\nIF(RIGHT($D45,1)<RIGHT('Efficiency Levels'!$C$33,1),0,\nIF(RIGHT($D45,1)=RIGHT('Efficiency Levels'!$C$33,1),SUM(OFFSET(AP35,-RIGHT($D45,1),0,RIGHT($D45,1),1)),\"ERROR\"))))","v":0},{"$f":"IF(AQ$18<STANDARD_YEAR,AQ35,\nIF(RIGHT($D45,1)>RIGHT('Efficiency Levels'!$C$33,1),AQ35,\nIF(RIGHT($D45,1)<RIGHT('Efficiency Levels'!$C$33,1),0,\nIF(RIGHT($D45,1)=RIGHT('Efficiency Levels'!$C$33,1),SUM(OFFSET(AQ35,-RIGHT($D45,1),0,RIGHT($D45,1),1)),\"ERROR\"))))","v":0},{"$f":"IF(AR$18<STANDARD_YEAR,AR35,\nIF(RIGHT($D45,1)>RIGHT('Efficiency Levels'!$C$33,1),AR35,\nIF(RIGHT($D45,1)<RIGHT('Efficiency Levels'!$C$33,1),0,\nIF(RIGHT($D45,1)=RIGHT('Efficiency Levels'!$C$33,1),SUM(OFFSET(AR35,-RIGHT($D45,1),0,RIGHT($D45,1),1)),\"ERROR\"))))","v":0},{"$f":"IF(AS$18<STANDARD_YEAR,AS35,\nIF(RIGHT($D45,1)>RIGHT('Efficiency Levels'!$C$33,1),AS35,\nIF(RIGHT($D45,1)<RIGHT('Efficiency Levels'!$C$33,1),0,\nIF(RIGHT($D45,1)=RIGHT('Efficiency Levels'!$C$33,1),SUM(OFFSET(AS35,-RIGHT($D45,1),0,RIGHT($D45,1),1)),\"ERROR\"))))","v":0},{"$f":"IF(AT$18<STANDARD_YEAR,AT35,\nIF(RIGHT($D45,1)>RIGHT('Efficiency Levels'!$C$33,1),AT35,\nIF(RIGHT($D45,1)<RIGHT('Efficiency Levels'!$C$33,1),0,\nIF(RIGHT($D45,1)=RIGHT('Efficiency Levels'!$C$33,1),SUM(OFFSET(AT35,-RIGHT($D45,1),0,RIGHT($D45,1),1)),\"ERROR\"))))","v":0},{"$f":"IF(AU$18<STANDARD_YEAR,AU35,\nIF(RIGHT($D45,1)>RIGHT('Efficiency Levels'!$C$33,1),AU35,\nIF(RIGHT($D45,1)<RIGHT('Efficiency Levels'!$C$33,1),0,\nIF(RIGHT($D45,1)=RIGHT('Efficiency Levels'!$C$33,1),SUM(OFFSET(AU35,-RIGHT($D45,1),0,RIGHT($D45,1),1)),\"ERROR\"))))","v":1},{"$f":"IF(AV$18<STANDARD_YEAR,AV35,\nIF(RIGHT($D45,1)>RIGHT('Efficiency Levels'!$C$33,1),AV35,\nIF(RIGHT($D45,1)<RIGHT('Efficiency Levels'!$C$33,1),0,\nIF(RIGHT($D45,1)=RIGHT('Efficiency Levels'!$C$33,1),SUM(OFFSET(AV35,-RIGHT($D45,1),0,RIGHT($D45,1),1)),\"ERROR\"))))","v":1},{"$f":"IF(AW$18<STANDARD_YEAR,AW35,\nIF(RIGHT($D45,1)>RIGHT('Efficiency Levels'!$C$33,1),AW35,\nIF(RIGHT($D45,1)<RIGHT('Efficiency Levels'!$C$33,1),0,\nIF(RIGHT($D45,1)=RIGHT('Efficiency Levels'!$C$33,1),SUM(OFFSET(AW35,-RIGHT($D45,1),0,RIGHT($D45,1),1)),\"ERROR\"))))","v":1},{"$f":"IF(AX$18<STANDARD_YEAR,AX35,\nIF(RIGHT($D45,1)>RIGHT('Efficiency Levels'!$C$33,1),AX35,\nIF(RIGHT($D45,1)<RIGHT('Efficiency Levels'!$C$33,1),0,\nIF(RIGHT($D45,1)=RIGHT('Efficiency Levels'!$C$33,1),SUM(OFFSET(AX35,-RIGHT($D45,1),0,RIGHT($D45,1),1)),\"ERROR\"))))","v":1},{"$f":"IF(AY$18<STANDARD_YEAR,AY35,\nIF(RIGHT($D45,1)>RIGHT('Efficiency Levels'!$C$33,1),AY35,\nIF(RIGHT($D45,1)<RIGHT('Efficiency Levels'!$C$33,1),0,\nIF(RIGHT($D45,1)=RIGHT('Efficiency Levels'!$C$33,1),SUM(OFFSET(AY35,-RIGHT($D45,1),0,RIGHT($D45,1),1)),\"ERROR\"))))","v":1},{"$f":"IF(AZ$18<STANDARD_YEAR,AZ35,\nIF(RIGHT($D45,1)>RIGHT('Efficiency Levels'!$C$33,1),AZ35,\nIF(RIGHT($D45,1)<RIGHT('Efficiency Levels'!$C$33,1),0,\nIF(RIGHT($D45,1)=RIGHT('Efficiency Levels'!$C$33,1),SUM(OFFSET(AZ35,-RIGHT($D45,1),0,RIGHT($D45,1),1)),\"ERROR\"))))","v":1},{"$f":"IF(BA$18<STANDARD_YEAR,BA35,\nIF(RIGHT($D45,1)>RIGHT('Efficiency Levels'!$C$33,1),BA35,\nIF(RIGHT($D45,1)<RIGHT('Efficiency Levels'!$C$33,1),0,\nIF(RIGHT($D45,1)=RIGHT('Efficiency Levels'!$C$33,1),SUM(OFFSET(BA35,-RIGHT($D45,1),0,RIGHT($D45,1),1)),\"ERROR\"))))","v":1},{"$f":"IF(BB$18<STANDARD_YEAR,BB35,\nIF(RIGHT($D45,1)>RIGHT('Efficiency Levels'!$C$33,1),BB35,\nIF(RIGHT($D45,1)<RIGHT('Efficiency Levels'!$C$33,1),0,\nIF(RIGHT($D45,1)=RIGHT('Efficiency Levels'!$C$33,1),SUM(OFFSET(BB35,-RIGHT($D45,1),0,RIGHT($D45,1),1)),\"ERROR\"))))","v":1},{"$f":"IF(BC$18<STANDARD_YEAR,BC35,\nIF(RIGHT($D45,1)>RIGHT('Efficiency Levels'!$C$33,1),BC35,\nIF(RIGHT($D45,1)<RIGHT('Efficiency Levels'!$C$33,1),0,\nIF(RIGHT($D45,1)=RIGHT('Efficiency Levels'!$C$33,1),SUM(OFFSET(BC35,-RIGHT($D45,1),0,RIGHT($D45,1),1)),\"ERROR\"))))","v":1},{"$f":"IF(BD$18<STANDARD_YEAR,BD35,\nIF(RIGHT($D45,1)>RIGHT('Efficiency Levels'!$C$33,1),BD35,\nIF(RIGHT($D45,1)<RIGHT('Efficiency Levels'!$C$33,1),0,\nIF(RIGHT($D45,1)=RIGHT('Efficiency Levels'!$C$33,1),SUM(OFFSET(BD35,-RIGHT($D45,1),0,RIGHT($D45,1),1)),\"ERROR\"))))","v":1},{"$f":"IF(BE$18<STANDARD_YEAR,BE35,\nIF(RIGHT($D45,1)>RIGHT('Efficiency Levels'!$C$33,1),BE35,\nIF(RIGHT($D45,1)<RIGHT('Efficiency Levels'!$C$33,1),0,\nIF(RIGHT($D45,1)=RIGHT('Efficiency Levels'!$C$33,1),SUM(OFFSET(BE35,-RIGHT($D45,1),0,RIGHT($D45,1),1)),\"ERROR\"))))","v":1},{"$f":"IF(BF$18<STANDARD_YEAR,BF35,\nIF(RIGHT($D45,1)>RIGHT('Efficiency Levels'!$C$33,1),BF35,\nIF(RIGHT($D45,1)<RIGHT('Efficiency Levels'!$C$33,1),0,\nIF(RIGHT($D45,1)=RIGHT('Efficiency Levels'!$C$33,1),SUM(OFFSET(BF35,-RIGHT($D45,1),0,RIGHT($D45,1),1)),\"ERROR\"))))","v":1},{"$f":"IF(BG$18<STANDARD_YEAR,BG35,\nIF(RIGHT($D45,1)>RIGHT('Efficiency Levels'!$C$33,1),BG35,\nIF(RIGHT($D45,1)<RIGHT('Efficiency Levels'!$C$33,1),0,\nIF(RIGHT($D45,1)=RIGHT('Efficiency Levels'!$C$33,1),SUM(OFFSET(BG35,-RIGHT($D45,1),0,RIGHT($D45,1),1)),\"ERROR\"))))","v":1},{"$f":"IF(BH$18<STANDARD_YEAR,BH35,\nIF(RIGHT($D45,1)>RIGHT('Efficiency Levels'!$C$33,1),BH35,\nIF(RIGHT($D45,1)<RIGHT('Efficiency Levels'!$C$33,1),0,\nIF(RIGHT($D45,1)=RIGHT('Efficiency Levels'!$C$33,1),SUM(OFFSET(BH35,-RIGHT($D45,1),0,RIGHT($D45,1),1)),\"ERROR\"))))","v":1},{"$f":"IF(BI$18<STANDARD_YEAR,BI35,\nIF(RIGHT($D45,1)>RIGHT('Efficiency Levels'!$C$33,1),BI35,\nIF(RIGHT($D45,1)<RIGHT('Efficiency Levels'!$C$33,1),0,\nIF(RIGHT($D45,1)=RIGHT('Efficiency Levels'!$C$33,1),SUM(OFFSET(BI35,-RIGHT($D45,1),0,RIGHT($D45,1),1)),\"ERROR\"))))","v":1},{"$f":"IF(BJ$18<STANDARD_YEAR,BJ35,\nIF(RIGHT($D45,1)>RIGHT('Efficiency Levels'!$C$33,1),BJ35,\nIF(RIGHT($D45,1)<RIGHT('Efficiency Levels'!$C$33,1),0,\nIF(RIGHT($D45,1)=RIGHT('Efficiency Levels'!$C$33,1),SUM(OFFSET(BJ35,-RIGHT($D45,1),0,RIGHT($D45,1),1)),\"ERROR\"))))","v":1}]
[null,null,null,"EL5",{"$f":"OFFSET('Efficiency Levels'!$D$11,MATCH($C$27,'Efficiency Levels'!$C$9:$C$995,0)+RIGHT(D46,1),0)","v":240.7},null,null,null,{"$f":"IF(I$18<STANDARD_YEAR,I36,\nIF(RIGHT($D46,1)>RIGHT('Efficiency Levels'!$C$33,1),I36,\nIF(RIGHT($D46,1)<RIGHT('Efficiency Levels'!$C$33,1),0,\nIF(RIGHT($D46,1)=RIGHT('Efficiency Levels'!$C$33,1),SUM(OFFSET(I36,-RIGHT($D46,1),0,RIGHT($D46,1),1)),\"ERROR\"))))","v":0},{"$f":"IF(J$18<STANDARD_YEAR,J36,\nIF(RIGHT($D46,1)>RIGHT('Efficiency Levels'!$C$33,1),J36,\nIF(RIGHT($D46,1)<RIGHT('Efficiency Levels'!$C$33,1),0,\nIF(RIGHT($D46,1)=RIGHT('Efficiency Levels'!$C$33,1),SUM(OFFSET(J36,-RIGHT($D46,1),0,RIGHT($D46,1),1)),\"ERROR\"))))","v":0},{"$f":"IF(K$18<STANDARD_YEAR,K36,\nIF(RIGHT($D46,1)>RIGHT('Efficiency Levels'!$C$33,1),K36,\nIF(RIGHT($D46,1)<RIGHT('Efficiency Levels'!$C$33,1),0,\nIF(RIGHT($D46,1)=RIGHT('Efficiency Levels'!$C$33,1),SUM(OFFSET(K36,-RIGHT($D46,1),0,RIGHT($D46,1),1)),\"ERROR\"))))","v":0},{"$f":"IF(L$18<STANDARD_YEAR,L36,\nIF(RIGHT($D46,1)>RIGHT('Efficiency Levels'!$C$33,1),L36,\nIF(RIGHT($D46,1)<RIGHT('Efficiency Levels'!$C$33,1),0,\nIF(RIGHT($D46,1)=RIGHT('Efficiency Levels'!$C$33,1),SUM(OFFSET(L36,-RIGHT($D46,1),0,RIGHT($D46,1),1)),\"ERROR\"))))","v":0},{"$f":"IF(M$18<STANDARD_YEAR,M36,\nIF(RIGHT($D46,1)>RIGHT('Efficiency Levels'!$C$33,1),M36,\nIF(RIGHT($D46,1)<RIGHT('Efficiency Levels'!$C$33,1),0,\nIF(RIGHT($D46,1)=RIGHT('Efficiency Levels'!$C$33,1),SUM(OFFSET(M36,-RIGHT($D46,1),0,RIGHT($D46,1),1)),\"ERROR\"))))","v":0},{"$f":"IF(N$18<STANDARD_YEAR,N36,\nIF(RIGHT($D46,1)>RIGHT('Efficiency Levels'!$C$33,1),N36,\nIF(RIGHT($D46,1)<RIGHT('Efficiency Levels'!$C$33,1),0,\nIF(RIGHT($D46,1)=RIGHT('Efficiency Levels'!$C$33,1),SUM(OFFSET(N36,-RIGHT($D46,1),0,RIGHT($D46,1),1)),\"ERROR\"))))","v":0},{"$f":"IF(O$18<STANDARD_YEAR,O36,\nIF(RIGHT($D46,1)>RIGHT('Efficiency Levels'!$C$33,1),O36,\nIF(RIGHT($D46,1)<RIGHT('Efficiency Levels'!$C$33,1),0,\nIF(RIGHT($D46,1)=RIGHT('Efficiency Levels'!$C$33,1),SUM(OFFSET(O36,-RIGHT($D46,1),0,RIGHT($D46,1),1)),\"ERROR\"))))","v":0},{"$f":"IF(P$18<STANDARD_YEAR,P36,\nIF(RIGHT($D46,1)>RIGHT('Efficiency Levels'!$C$33,1),P36,\nIF(RIGHT($D46,1)<RIGHT('Efficiency Levels'!$C$33,1),0,\nIF(RIGHT($D46,1)=RIGHT('Efficiency Levels'!$C$33,1),SUM(OFFSET(P36,-RIGHT($D46,1),0,RIGHT($D46,1),1)),\"ERROR\"))))","v":0},{"$f":"IF(Q$18<STANDARD_YEAR,Q36,\nIF(RIGHT($D46,1)>RIGHT('Efficiency Levels'!$C$33,1),Q36,\nIF(RIGHT($D46,1)<RIGHT('Efficiency Levels'!$C$33,1),0,\nIF(RIGHT($D46,1)=RIGHT('Efficiency Levels'!$C$33,1),SUM(OFFSET(Q36,-RIGHT($D46,1),0,RIGHT($D46,1),1)),\"ERROR\"))))","v":0},{"$f":"IF(R$18<STANDARD_YEAR,R36,\nIF(RIGHT($D46,1)>RIGHT('Efficiency Levels'!$C$33,1),R36,\nIF(RIGHT($D46,1)<RIGHT('Efficiency Levels'!$C$33,1),0,\nIF(RIGHT($D46,1)=RIGHT('Efficiency Levels'!$C$33,1),SUM(OFFSET(R36,-RIGHT($D46,1),0,RIGHT($D46,1),1)),\"ERROR\"))))","v":0},{"$f":"IF(S$18<STANDARD_YEAR,S36,\nIF(RIGHT($D46,1)>RIGHT('Efficiency Levels'!$C$33,1),S36,\nIF(RIGHT($D46,1)<RIGHT('Efficiency Levels'!$C$33,1),0,\nIF(RIGHT($D46,1)=RIGHT('Efficiency Levels'!$C$33,1),SUM(OFFSET(S36,-RIGHT($D46,1),0,RIGHT($D46,1),1)),\"ERROR\"))))","v":0},{"$f":"IF(T$18<STANDARD_YEAR,T36,\nIF(RIGHT($D46,1)>RIGHT('Efficiency Levels'!$C$33,1),T36,\nIF(RIGHT($D46,1)<RIGHT('Efficiency Levels'!$C$33,1),0,\nIF(RIGHT($D46,1)=RIGHT('Efficiency Levels'!$C$33,1),SUM(OFFSET(T36,-RIGHT($D46,1),0,RIGHT($D46,1),1)),\"ERROR\"))))","v":0},{"$f":"IF(U$18<STANDARD_YEAR,U36,\nIF(RIGHT($D46,1)>RIGHT('Efficiency Levels'!$C$33,1),U36,\nIF(RIGHT($D46,1)<RIGHT('Efficiency Levels'!$C$33,1),0,\nIF(RIGHT($D46,1)=RIGHT('Efficiency Levels'!$C$33,1),SUM(OFFSET(U36,-RIGHT($D46,1),0,RIGHT($D46,1),1)),\"ERROR\"))))","v":0},{"$f":"IF(V$18<STANDARD_YEAR,V36,\nIF(RIGHT($D46,1)>RIGHT('Efficiency Levels'!$C$33,1),V36,\nIF(RIGHT($D46,1)<RIGHT('Efficiency Levels'!$C$33,1),0,\nIF(RIGHT($D46,1)=RIGHT('Efficiency Levels'!$C$33,1),SUM(OFFSET(V36,-RIGHT($D46,1),0,RIGHT($D46,1),1)),\"ERROR\"))))","v":0},{"$f":"IF(W$18<STANDARD_YEAR,W36,\nIF(RIGHT($D46,1)>RIGHT('Efficiency Levels'!$C$33,1),W36,\nIF(RIGHT($D46,1)<RIGHT('Efficiency Levels'!$C$33,1),0,\nIF(RIGHT($D46,1)=RIGHT('Efficiency Levels'!$C$33,1),SUM(OFFSET(W36,-RIGHT($D46,1),0,RIGHT($D46,1),1)),\"ERROR\"))))","v":0},{"$f":"IF(X$18<STANDARD_YEAR,X36,\nIF(RIGHT($D46,1)>RIGHT('Efficiency Levels'!$C$33,1),X36,\nIF(RIGHT($D46,1)<RIGHT('Efficiency Levels'!$C$33,1),0,\nIF(RIGHT($D46,1)=RIGHT('Efficiency Levels'!$C$33,1),SUM(OFFSET(X36,-RIGHT($D46,1),0,RIGHT($D46,1),1)),\"ERROR\"))))","v":0},{"$f":"IF(Y$18<STANDARD_YEAR,Y36,\nIF(RIGHT($D46,1)>RIGHT('Efficiency Levels'!$C$33,1),Y36,\nIF(RIGHT($D46,1)<RIGHT('Efficiency Levels'!$C$33,1),0,\nIF(RIGHT($D46,1)=RIGHT('Efficiency Levels'!$C$33,1),SUM(OFFSET(Y36,-RIGHT($D46,1),0,RIGHT($D46,1),1)),\"ERROR\"))))","v":0},{"$f":"IF(Z$18<STANDARD_YEAR,Z36,\nIF(RIGHT($D46,1)>RIGHT('Efficiency Levels'!$C$33,1),Z36,\nIF(RIGHT($D46,1)<RIGHT('Efficiency Levels'!$C$33,1),0,\nIF(RIGHT($D46,1)=RIGHT('Efficiency Levels'!$C$33,1),SUM(OFFSET(Z36,-RIGHT($D46,1),0,RIGHT($D46,1),1)),\"ERROR\"))))","v":0},{"$f":"IF(AA$18<STANDARD_YEAR,AA36,\nIF(RIGHT($D46,1)>RIGHT('Efficiency Levels'!$C$33,1),AA36,\nIF(RIGHT($D46,1)<RIGHT('Efficiency Levels'!$C$33,1),0,\nIF(RIGHT($D46,1)=RIGHT('Efficiency Levels'!$C$33,1),SUM(OFFSET(AA36,-RIGHT($D46,1),0,RIGHT($D46,1),1)),\"ERROR\"))))","v":0},{"$f":"IF(AB$18<STANDARD_YEAR,AB36,\nIF(RIGHT($D46,1)>RIGHT('Efficiency Levels'!$C$33,1),AB36,\nIF(RIGHT($D46,1)<RIGHT('Efficiency Levels'!$C$33,1),0,\nIF(RIGHT($D46,1)=RIGHT('Efficiency Levels'!$C$33,1),SUM(OFFSET(AB36,-RIGHT($D46,1),0,RIGHT($D46,1),1)),\"ERROR\"))))","v":0},{"$f":"IF(AC$18<STANDARD_YEAR,AC36,\nIF(RIGHT($D46,1)>RIGHT('Efficiency Levels'!$C$33,1),AC36,\nIF(RIGHT($D46,1)<RIGHT('Efficiency Levels'!$C$33,1),0,\nIF(RIGHT($D46,1)=RIGHT('Efficiency Levels'!$C$33,1),SUM(OFFSET(AC36,-RIGHT($D46,1),0,RIGHT($D46,1),1)),\"ERROR\"))))","v":0},{"$f":"IF(AD$18<STANDARD_YEAR,AD36,\nIF(RIGHT($D46,1)>RIGHT('Efficiency Levels'!$C$33,1),AD36,\nIF(RIGHT($D46,1)<RIGHT('Efficiency Levels'!$C$33,1),0,\nIF(RIGHT($D46,1)=RIGHT('Efficiency Levels'!$C$33,1),SUM(OFFSET(AD36,-RIGHT($D46,1),0,RIGHT($D46,1),1)),\"ERROR\"))))","v":0},{"$f":"IF(AE$18<STANDARD_YEAR,AE36,\nIF(RIGHT($D46,1)>RIGHT('Efficiency Levels'!$C$33,1),AE36,\nIF(RIGHT($D46,1)<RIGHT('Efficiency Levels'!$C$33,1),0,\nIF(RIGHT($D46,1)=RIGHT('Efficiency Levels'!$C$33,1),SUM(OFFSET(AE36,-RIGHT($D46,1),0,RIGHT($D46,1),1)),\"ERROR\"))))","v":0},{"$f":"IF(AF$18<STANDARD_YEAR,AF36,\nIF(RIGHT($D46,1)>RIGHT('Efficiency Levels'!$C$33,1),AF36,\nIF(RIGHT($D46,1)<RIGHT('Efficiency Levels'!$C$33,1),0,\nIF(RIGHT($D46,1)=RIGHT('Efficiency Levels'!$C$33,1),SUM(OFFSET(AF36,-RIGHT($D46,1),0,RIGHT($D46,1),1)),\"ERROR\"))))","v":0},{"$f":"IF(AG$18<STANDARD_YEAR,AG36,\nIF(RIGHT($D46,1)>RIGHT('Efficiency Levels'!$C$33,1),AG36,\nIF(RIGHT($D46,1)<RIGHT('Efficiency Levels'!$C$33,1),0,\nIF(RIGHT($D46,1)=RIGHT('Efficiency Levels'!$C$33,1),SUM(OFFSET(AG36,-RIGHT($D46,1),0,RIGHT($D46,1),1)),\"ERROR\"))))","v":0},{"$f":"IF(AH$18<STANDARD_YEAR,AH36,\nIF(RIGHT($D46,1)>RIGHT('Efficiency Levels'!$C$33,1),AH36,\nIF(RIGHT($D46,1)<RIGHT('Efficiency Levels'!$C$33,1),0,\nIF(RIGHT($D46,1)=RIGHT('Efficiency Levels'!$C$33,1),SUM(OFFSET(AH36,-RIGHT($D46,1),0,RIGHT($D46,1),1)),\"ERROR\"))))","v":0},{"$f":"IF(AI$18<STANDARD_YEAR,AI36,\nIF(RIGHT($D46,1)>RIGHT('Efficiency Levels'!$C$33,1),AI36,\nIF(RIGHT($D46,1)<RIGHT('Efficiency Levels'!$C$33,1),0,\nIF(RIGHT($D46,1)=RIGHT('Efficiency Levels'!$C$33,1),SUM(OFFSET(AI36,-RIGHT($D46,1),0,RIGHT($D46,1),1)),\"ERROR\"))))","v":0},{"$f":"IF(AJ$18<STANDARD_YEAR,AJ36,\nIF(RIGHT($D46,1)>RIGHT('Efficiency Levels'!$C$33,1),AJ36,\nIF(RIGHT($D46,1)<RIGHT('Efficiency Levels'!$C$33,1),0,\nIF(RIGHT($D46,1)=RIGHT('Efficiency Levels'!$C$33,1),SUM(OFFSET(AJ36,-RIGHT($D46,1),0,RIGHT($D46,1),1)),\"ERROR\"))))","v":0},{"$f":"IF(AK$18<STANDARD_YEAR,AK36,\nIF(RIGHT($D46,1)>RIGHT('Efficiency Levels'!$C$33,1),AK36,\nIF(RIGHT($D46,1)<RIGHT('Efficiency Levels'!$C$33,1),0,\nIF(RIGHT($D46,1)=RIGHT('Efficiency Levels'!$C$33,1),SUM(OFFSET(AK36,-RIGHT($D46,1),0,RIGHT($D46,1),1)),\"ERROR\"))))","v":0},{"$f":"IF(AL$18<STANDARD_YEAR,AL36,\nIF(RIGHT($D46,1)>RIGHT('Efficiency Levels'!$C$33,1),AL36,\nIF(RIGHT($D46,1)<RIGHT('Efficiency Levels'!$C$33,1),0,\nIF(RIGHT($D46,1)=RIGHT('Efficiency Levels'!$C$33,1),SUM(OFFSET(AL36,-RIGHT($D46,1),0,RIGHT($D46,1),1)),\"ERROR\"))))","v":0},{"$f":"IF(AM$18<STANDARD_YEAR,AM36,\nIF(RIGHT($D46,1)>RIGHT('Efficiency Levels'!$C$33,1),AM36,\nIF(RIGHT($D46,1)<RIGHT('Efficiency Levels'!$C$33,1),0,\nIF(RIGHT($D46,1)=RIGHT('Efficiency Levels'!$C$33,1),SUM(OFFSET(AM36,-RIGHT($D46,1),0,RIGHT($D46,1),1)),\"ERROR\"))))","v":0},{"$f":"IF(AN$18<STANDARD_YEAR,AN36,\nIF(RIGHT($D46,1)>RIGHT('Efficiency Levels'!$C$33,1),AN36,\nIF(RIGHT($D46,1)<RIGHT('Efficiency Levels'!$C$33,1),0,\nIF(RIGHT($D46,1)=RIGHT('Efficiency Levels'!$C$33,1),SUM(OFFSET(AN36,-RIGHT($D46,1),0,RIGHT($D46,1),1)),\"ERROR\"))))","v":0},{"$f":"IF(AO$18<STANDARD_YEAR,AO36,\nIF(RIGHT($D46,1)>RIGHT('Efficiency Levels'!$C$33,1),AO36,\nIF(RIGHT($D46,1)<RIGHT('Efficiency Levels'!$C$33,1),0,\nIF(RIGHT($D46,1)=RIGHT('Efficiency Levels'!$C$33,1),SUM(OFFSET(AO36,-RIGHT($D46,1),0,RIGHT($D46,1),1)),\"ERROR\"))))","v":0},{"$f":"IF(AP$18<STANDARD_YEAR,AP36,\nIF(RIGHT($D46,1)>RIGHT('Efficiency Levels'!$C$33,1),AP36,\nIF(RIGHT($D46,1)<RIGHT('Efficiency Levels'!$C$33,1),0,\nIF(RIGHT($D46,1)=RIGHT('Efficiency Levels'!$C$33,1),SUM(OFFSET(AP36,-RIGHT($D46,1),0,RIGHT($D46,1),1)),\"ERROR\"))))","v":0},{"$f":"IF(AQ$18<STANDARD_YEAR,AQ36,\nIF(RIGHT($D46,1)>RIGHT('Efficiency Levels'!$C$33,1),AQ36,\nIF(RIGHT($D46,1)<RIGHT('Efficiency Levels'!$C$33,1),0,\nIF(RIGHT($D46,1)=RIGHT('Efficiency Levels'!$C$33,1),SUM(OFFSET(AQ36,-RIGHT($D46,1),0,RIGHT($D46,1),1)),\"ERROR\"))))","v":0},{"$f":"IF(AR$18<STANDARD_YEAR,AR36,\nIF(RIGHT($D46,1)>RIGHT('Efficiency Levels'!$C$33,1),AR36,\nIF(RIGHT($D46,1)<RIGHT('Efficiency Levels'!$C$33,1),0,\nIF(RIGHT($D46,1)=RIGHT('Efficiency Levels'!$C$33,1),SUM(OFFSET(AR36,-RIGHT($D46,1),0,RIGHT($D46,1),1)),\"ERROR\"))))","v":0},{"$f":"IF(AS$18<STANDARD_YEAR,AS36,\nIF(RIGHT($D46,1)>RIGHT('Efficiency Levels'!$C$33,1),AS36,\nIF(RIGHT($D46,1)<RIGHT('Efficiency Levels'!$C$33,1),0,\nIF(RIGHT($D46,1)=RIGHT('Efficiency Levels'!$C$33,1),SUM(OFFSET(AS36,-RIGHT($D46,1),0,RIGHT($D46,1),1)),\"ERROR\"))))","v":0},{"$f":"IF(AT$18<STANDARD_YEAR,AT36,\nIF(RIGHT($D46,1)>RIGHT('Efficiency Levels'!$C$33,1),AT36,\nIF(RIGHT($D46,1)<RIGHT('Efficiency Levels'!$C$33,1),0,\nIF(RIGHT($D46,1)=RIGHT('Efficiency Levels'!$C$33,1),SUM(OFFSET(AT36,-RIGHT($D46,1),0,RIGHT($D46,1),1)),\"ERROR\"))))","v":0},{"$f":"IF(AU$18<STANDARD_YEAR,AU36,\nIF(RIGHT($D46,1)>RIGHT('Efficiency Levels'!$C$33,1),AU36,\nIF(RIGHT($D46,1)<RIGHT('Efficiency Levels'!$C$33,1),0,\nIF(RIGHT($D46,1)=RIGHT('Efficiency Levels'!$C$33,1),SUM(OFFSET(AU36,-RIGHT($D46,1),0,RIGHT($D46,1),1)),\"ERROR\"))))","v":0},{"$f":"IF(AV$18<STANDARD_YEAR,AV36,\nIF(RIGHT($D46,1)>RIGHT('Efficiency Levels'!$C$33,1),AV36,\nIF(RIGHT($D46,1)<RIGHT('Efficiency Levels'!$C$33,1),0,\nIF(RIGHT($D46,1)=RIGHT('Efficiency Levels'!$C$33,1),SUM(OFFSET(AV36,-RIGHT($D46,1),0,RIGHT($D46,1),1)),\"ERROR\"))))","v":0},{"$f":"IF(AW$18<STANDARD_YEAR,AW36,\nIF(RIGHT($D46,1)>RIGHT('Efficiency Levels'!$C$33,1),AW36,\nIF(RIGHT($D46,1)<RIGHT('Efficiency Levels'!$C$33,1),0,\nIF(RIGHT($D46,1)=RIGHT('Efficiency Levels'!$C$33,1),SUM(OFFSET(AW36,-RIGHT($D46,1),0,RIGHT($D46,1),1)),\"ERROR\"))))","v":0},{"$f":"IF(AX$18<STANDARD_YEAR,AX36,\nIF(RIGHT($D46,1)>RIGHT('Efficiency Levels'!$C$33,1),AX36,\nIF(RIGHT($D46,1)<RIGHT('Efficiency Levels'!$C$33,1),0,\nIF(RIGHT($D46,1)=RIGHT('Efficiency Levels'!$C$33,1),SUM(OFFSET(AX36,-RIGHT($D46,1),0,RIGHT($D46,1),1)),\"ERROR\"))))","v":0},{"$f":"IF(AY$18<STANDARD_YEAR,AY36,\nIF(RIGHT($D46,1)>RIGHT('Efficiency Levels'!$C$33,1),AY36,\nIF(RIGHT($D46,1)<RIGHT('Efficiency Levels'!$C$33,1),0,\nIF(RIGHT($D46,1)=RIGHT('Efficiency Levels'!$C$33,1),SUM(OFFSET(AY36,-RIGHT($D46,1),0,RIGHT($D46,1),1)),\"ERROR\"))))","v":0},{"$f":"IF(AZ$18<STANDARD_YEAR,AZ36,\nIF(RIGHT($D46,1)>RIGHT('Efficiency Levels'!$C$33,1),AZ36,\nIF(RIGHT($D46,1)<RIGHT('Efficiency Levels'!$C$33,1),0,\nIF(RIGHT($D46,1)=RIGHT('Efficiency Levels'!$C$33,1),SUM(OFFSET(AZ36,-RIGHT($D46,1),0,RIGHT($D46,1),1)),\"ERROR\"))))","v":0},{"$f":"IF(BA$18<STANDARD_YEAR,BA36,\nIF(RIGHT($D46,1)>RIGHT('Efficiency Levels'!$C$33,1),BA36,\nIF(RIGHT($D46,1)<RIGHT('Efficiency Levels'!$C$33,1),0,\nIF(RIGHT($D46,1)=RIGHT('Efficiency Levels'!$C$33,1),SUM(OFFSET(BA36,-RIGHT($D46,1),0,RIGHT($D46,1),1)),\"ERROR\"))))","v":0},{"$f":"IF(BB$18<STANDARD_YEAR,BB36,\nIF(RIGHT($D46,1)>RIGHT('Efficiency Levels'!$C$33,1),BB36,\nIF(RIGHT($D46,1)<RIGHT('Efficiency Levels'!$C$33,1),0,\nIF(RIGHT($D46,1)=RIGHT('Efficiency Levels'!$C$33,1),SUM(OFFSET(BB36,-RIGHT($D46,1),0,RIGHT($D46,1),1)),\"ERROR\"))))","v":0},{"$f":"IF(BC$18<STANDARD_YEAR,BC36,\nIF(RIGHT($D46,1)>RIGHT('Efficiency Levels'!$C$33,1),BC36,\nIF(RIGHT($D46,1)<RIGHT('Efficiency Levels'!$C$33,1),0,\nIF(RIGHT($D46,1)=RIGHT('Efficiency Levels'!$C$33,1),SUM(OFFSET(BC36,-RIGHT($D46,1),0,RIGHT($D46,1),1)),\"ERROR\"))))","v":0},{"$f":"IF(BD$18<STANDARD_YEAR,BD36,\nIF(RIGHT($D46,1)>RIGHT('Efficiency Levels'!$C$33,1),BD36,\nIF(RIGHT($D46,1)<RIGHT('Efficiency Levels'!$C$33,1),0,\nIF(RIGHT($D46,1)=RIGHT('Efficiency Levels'!$C$33,1),SUM(OFFSET(BD36,-RIGHT($D46,1),0,RIGHT($D46,1),1)),\"ERROR\"))))","v":0},{"$f":"IF(BE$18<STANDARD_YEAR,BE36,\nIF(RIGHT($D46,1)>RIGHT('Efficiency Levels'!$C$33,1),BE36,\nIF(RIGHT($D46,1)<RIGHT('Efficiency Levels'!$C$33,1),0,\nIF(RIGHT($D46,1)=RIGHT('Efficiency Levels'!$C$33,1),SUM(OFFSET(BE36,-RIGHT($D46,1),0,RIGHT($D46,1),1)),\"ERROR\"))))","v":0},{"$f":"IF(BF$18<STANDARD_YEAR,BF36,\nIF(RIGHT($D46,1)>RIGHT('Efficiency Levels'!$C$33,1),BF36,\nIF(RIGHT($D46,1)<RIGHT('Efficiency Levels'!$C$33,1),0,\nIF(RIGHT($D46,1)=RIGHT('Efficiency Levels'!$C$33,1),SUM(OFFSET(BF36,-RIGHT($D46,1),0,RIGHT($D46,1),1)),\"ERROR\"))))","v":0},{"$f":"IF(BG$18<STANDARD_YEAR,BG36,\nIF(RIGHT($D46,1)>RIGHT('Efficiency Levels'!$C$33,1),BG36,\nIF(RIGHT($D46,1)<RIGHT('Efficiency Levels'!$C$33,1),0,\nIF(RIGHT($D46,1)=RIGHT('Efficiency Levels'!$C$33,1),SUM(OFFSET(BG36,-RIGHT($D46,1),0,RIGHT($D46,1),1)),\"ERROR\"))))","v":0},{"$f":"IF(BH$18<STANDARD_YEAR,BH36,\nIF(RIGHT($D46,1)>RIGHT('Efficiency Levels'!$C$33,1),BH36,\nIF(RIGHT($D46,1)<RIGHT('Efficiency Levels'!$C$33,1),0,\nIF(RIGHT($D46,1)=RIGHT('Efficiency Levels'!$C$33,1),SUM(OFFSET(BH36,-RIGHT($D46,1),0,RIGHT($D46,1),1)),\"ERROR\"))))","v":0},{"$f":"IF(BI$18<STANDARD_YEAR,BI36,\nIF(RIGHT($D46,1)>RIGHT('Efficiency Levels'!$C$33,1),BI36,\nIF(RIGHT($D46,1)<RIGHT('Efficiency Levels'!$C$33,1),0,\nIF(RIGHT($D46,1)=RIGHT('Efficiency Levels'!$C$33,1),SUM(OFFSET(BI36,-RIGHT($D46,1),0,RIGHT($D46,1),1)),\"ERROR\"))))","v":0},{"$f":"IF(BJ$18<STANDARD_YEAR,BJ36,\nIF(RIGHT($D46,1)>RIGHT('Efficiency Levels'!$C$33,1),BJ36,\nIF(RIGHT($D46,1)<RIGHT('Efficiency Levels'!$C$33,1),0,\nIF(RIGHT($D46,1)=RIGHT('Efficiency Levels'!$C$33,1),SUM(OFFSET(BJ36,-RIGHT($D46,1),0,RIGHT($D46,1),1)),\"ERROR\"))))","v":0}]
[null,null,null,"TOTAL",null,null,null,null,{"$f":"SUM(I41:I46)","v":1},1,1,1,1,1,1,1,1,1,1,1,1,1,1,1,1,1,1,1,1,1,1,1,1,1,1,1,1,1,1,1,1,1,1,1,1,1,1,1,1,1,1,1,1,1,1,1,1,1,1,1,1,1]
[]
[null,null,null,"Sources","Placeholder Values Assumes All Pre-Case Shipments are the Least Energy Efficient Products"]

{"sheet":"Efficiency Dist - MH","index":13,"n_rows":49,"n_cols":62,"rows_kept":49,"cut":false,"hidden":false,"merged":[[1,2,1,6],[3,2,3,6],[5,2,5,6]]}
[]
[null,null,"Efficiency Distributions by Product Class - Manufactured Homes"]
[]
[null,null,"NAVIGATION"]
[]
[null,null,"COMMENTS"]
[]
[]
[null,null,"PC1",{"$f":"OFFSET('Product Classes'!$C$9,MATCH(C9,MODEL_PCS,0),0)","v":"Gas Cooking Tops"}]
[]
[null,null,null,"PRE-Case",null,"Static Distribution"]
[null,null,null,"Efficiency Level","UEC (kWh / year)",2011,null,null,1981,1982,1983,1984,1985,1986,1987,1988,1989,1990,1991,1992,1993,1994,1995,1996,1997,1998,1999,2000,2001,2002,2003,2004,2005,2006,2007,2008,2009,2010,2011,2012,2013,2014,2015,2016,2017,2018,2019,2020,2021,2022,2023,2024,2025,2026,2027,2028,2029,2030,2031,2032,2033,2034]
[null,null,null,"EL0",{"$f":"OFFSET('Efficiency Levels'!$D$11,MATCH($C$9,'Efficiency Levels'!$C$9:$C$995,0)+RIGHT(D13,1),0)","v":256.7},1,null,null,{"$f":"$F13","v":1},1,1,1,1,1,1,1,1,1,1,1,1,1,1,1,{"$f":"$F13","v":1},1,1,1,1,1,1,1,1,1,1,1,1,1,1,1,{"$f":"$F13","v":1},1,1,1,1,1,1,1,1,1,1,1,1,1,1,1,1,1,1,1,1,1]
[null,null,null,"EL1",{"$f":"OFFSET('Efficiency Levels'!$D$11,MATCH($C$9,'Efficiency Levels'!$C$9:$C$995,0)+RIGHT(D14,1),0)","v":246},0,null,null,0,0,0,0,0,0,0,0,0,0,0,0,0,0,0,0,0,0,0,0,0,0,0,0,0,0,0,0,0,0,0,0,0,0,0,0,0,0,0,0,0,0,0,0,0,0,0,0,0,0,0,0,0,0]
[null,null,null,"TOTAL",null,{"$f":"SUM(F13:F14)","v":1},null,null,{"$f":"SUM(I13:I14)","v":1},1,1,1,1,1,1,1,1,1,1,1,1,1,1,1,1,1,1,1,1,1,1,1,1,1,1,1,1,1,1,1,1,1,1,1,1,1,1,1,1,1,1,1,1,1,1,1,1,1,1,1,1,1]
[]
[null,null,null,"POST-Case"]
[null,null,null,"Efficiency Level","UEC (kWh / year)",null,null,null,1981,1982,1983,1984,1985,1986,1987,1988,1989,1990,1991,1992,1993,1994,1995,1996,1997,1998,1999,2000,2001,2002,2003,2004,2005,2006,2007,2008,2009,2010,2011,2012,2013,2014,2015,2016,2017,2018,2019,2020,2021,2022,2023,2024,2025,2026,2027,2028,2029,2030,2031,2032,2033,2034]
[null,null,null,"EL0",{"$f":"OFFSET('Efficiency Levels'!$D$11,MATCH($C$9,'Efficiency Levels'!$C$9:$C$995,0)+RIGHT(D19,1),0)","v":256.7},null,null,null,{"$f":"IF(I$18<STANDARD_YEAR,I13,\nIF(RIGHT($D19,1)>RIGHT('Efficiency Levels'!$C$16,1),I13,\nIF(RIGHT($D19,1)<RIGHT('Efficiency Levels'!$C$16,1),0,\nIF(RIGHT($D19,1)=RIGHT('Efficiency Levels'!$C$16,1),SUM(OFFSET(I13,-RIGHT($D19,1),0,RIGHT($D19,1),1)),\"ERROR\"))))","v":1},{"$f":"IF(J$18<STANDARD_YEAR,J13,\nIF(RIGHT($D19,1)>RIGHT('Efficiency Levels'!$C$16,1),J13,\nIF(RIGHT($D19,1)<RIGHT('Efficiency Levels'!$C$16,1),0,\nIF(RIGHT($D19,1)=RIGHT('Efficiency Levels'!$C$16,1),SUM(OFFSET(J13,-RIGHT($D19,1),0,RIGHT($D19,1),1)),\"ERROR\"))))","v":1},{"$f":"IF(K$18<STANDARD_YEAR,K13,\nIF(RIGHT($D19,1)>RIGHT('Efficiency Levels'!$C$16,1),K13,\nIF(RIGHT($D19,1)<RIGHT('Efficiency Levels'!$C$16,1),0,\nIF(RIGHT($D19,1)=RIGHT('Efficiency Levels'!$C$16,1),SUM(OFFSET(K13,-RIGHT($D19,1),0,RIGHT($D19,1),1)),\"ERROR\"))))","v":1},{"$f":"IF(L$18<STANDARD_YEAR,L13,\nIF(RIGHT($D19,1)>RIGHT('Efficiency Levels'!$C$16,1),L13,\nIF(RIGHT($D19,1)<RIGHT('Efficiency Levels'!$C$16,1),0,\nIF(RIGHT($D19,1)=RIGHT('Efficiency Levels'!$C$16,1),SUM(OFFSET(L13,-RIGHT($D19,1),0,RIGHT($D19,1),1)),\"ERROR\"))))","v":1},{"$f":"IF(M$18<STANDARD_YEAR,M13,\nIF(RIGHT($D19,1)>RIGHT('Efficiency Levels'!$C$16,1),M13,\nIF(RIGHT($D19,1)<RIGHT('Efficiency Levels'!$C$16,1),0,\nIF(RIGHT($D19,1)=RIGHT('Efficiency Levels'!$C$16,1),SUM(OFFSET(M13,-RIGHT($D19,1),0,RIGHT($D19,1),1)),\"ERROR\"))))","v":1},{"$f":"IF(N$18<STANDARD_YEAR,N13,\nIF(RIGHT($D19,1)>RIGHT('Efficiency Levels'!$C$16,1),N13,\nIF(RIGHT($D19,1)<RIGHT('Efficiency Levels'!$C$16,1),0,\nIF(RIGHT($D19,1)=RIGHT('Efficiency Levels'!$C$16,1),SUM(OFFSET(N13,-RIGHT($D19,1),0,RIGHT($D19,1),1)),\"ERROR\"))))","v":1},{"$f":"IF(O$18<STANDARD_YEAR,O13,\nIF(RIGHT($D19,1)>RIGHT('Efficiency Levels'!$C$16,1),O13,\nIF(RIGHT($D19,1)<RIGHT('Efficiency Levels'!$C$16,1),0,\nIF(RIGHT($D19,1)=RIGHT('Efficiency Levels'!$C$16,1),SUM(OFFSET(O13,-RIGHT($D19,1),0,RIGHT($D19,1),1)),\"ERROR\"))))","v":1},{"$f":"IF(P$18<STANDARD_YEAR,P13,\nIF(RIGHT($D19,1)>RIGHT('Efficiency Levels'!$C$16,1),P13,\nIF(RIGHT($D19,1)<RIGHT('Efficiency Levels'!$C$16,1),0,\nIF(RIGHT($D19,1)=RIGHT('Efficiency Levels'!$C$16,1),SUM(OFFSET(P13,-RIGHT($D19,1),0,RIGHT($D19,1),1)),\"ERROR\"))))","v":1},{"$f":"IF(Q$18<STANDARD_YEAR,Q13,\nIF(RIGHT($D19,1)>RIGHT('Efficiency Levels'!$C$16,1),Q13,\nIF(RIGHT($D19,1)<RIGHT('Efficiency Levels'!$C$16,1),0,\nIF(RIGHT($D19,1)=RIGHT('Efficiency Levels'!$C$16,1),SUM(OFFSET(Q13,-RIGHT($D19,1),0,RIGHT($D19,1),1)),\"ERROR\"))))","v":1},{"$f":"IF(R$18<STANDARD_YEAR,R13,\nIF(RIGHT($D19,1)>RIGHT('Efficiency Levels'!$C$16,1),R13,\nIF(RIGHT($D19,1)<RIGHT('Efficiency Levels'!$C$16,1),0,\nIF(RIGHT($D19,1)=RIGHT('Efficiency Levels'!$C$16,1),SUM(OFFSET(R13,-RIGHT($D19,1),0,RIGHT($D19,1),1)),\"ERROR\"))))","v":1},{"$f":"IF(S$18<STANDARD_YEAR,S13,\nIF(RIGHT($D19,1)>RIGHT('Efficiency Levels'!$C$16,1),S13,\nIF(RIGHT($D19,1)<RIGHT('Efficiency Levels'!$C$16,1),0,\nIF(RIGHT($D19,1)=RIGHT('Efficiency Levels'!$C$16,1),SUM(OFFSET(S13,-RIGHT($D19,1),0,RIGHT($D19,1),1)),\"ERROR\"))))","v":1},{"$f":"IF(T$18<STANDARD_YEAR,T13,\nIF(RIGHT($D19,1)>RIGHT('Efficiency Levels'!$C$16,1),T13,\nIF(RIGHT($D19,1)<RIGHT('Efficiency Levels'!$C$16,1),0,\nIF(RIGHT($D19,1)=RIGHT('Efficiency Levels'!$C$16,1),SUM(OFFSET(T13,-RIGHT($D19,1),0,RIGHT($D19,1),1)),\"ERROR\"))))","v":1},{"$f":"IF(U$18<STANDARD_YEAR,U13,\nIF(RIGHT($D19,1)>RIGHT('Efficiency Levels'!$C$16,1),U13,\nIF(RIGHT($D19,1)<RIGHT('Efficiency Levels'!$C$16,1),0,\nIF(RIGHT($D19,1)=RIGHT('Efficiency Levels'!$C$16,1),SUM(OFFSET(U13,-RIGHT($D19,1),0,RIGHT($D19,1),1)),\"ERROR\"))))","v":1},{"$f":"IF(V$18<STANDARD_YEAR,V13,\nIF(RIGHT($D19,1)>RIGHT('Efficiency Levels'!$C$16,1),V13,\nIF(RIGHT($D19,1)<RIGHT('Efficiency Levels'!$C$16,1),0,\nIF(RIGHT($D19,1)=RIGHT('Efficiency Levels'!$C$16,1),SUM(OFFSET(V13,-RIGHT($D19,1),0,RIGHT($D19,1),1)),\"ERROR\"))))","v":1},{"$f":"IF(W$18<STANDARD_YEAR,W13,\nIF(RIGHT($D19,1)>RIGHT('Efficiency Levels'!$C$16,1),W13,\nIF(RIGHT($D19,1)<RIGHT('Efficiency Levels'!$C$16,1),0,\nIF(RIGHT($D19,1)=RIGHT('Efficiency Levels'!$C$16,1),SUM(OFFSET(W13,-RIGHT($D19,1),0,RIGHT($D19,1),1)),\"ERROR\"))))","v":1},{"$f":"IF(X$18<STANDARD_YEAR,X13,\nIF(RIGHT($D19,1)>RIGHT('Efficiency Levels'!$C$16,1),X13,\nIF(RIGHT($D19,1)<RIGHT('Efficiency Levels'!$C$16,1),0,\nIF(RIGHT($D19,1)=RIGHT('Efficiency Levels'!$C$16,1),SUM(OFFSET(X13,-RIGHT($D19,1),0,RIGHT($D19,1),1)),\"ERROR\"))))","v":1},{"$f":"IF(Y$18<STANDARD_YEAR,Y13,\nIF(RIGHT($D19,1)>RIGHT('Efficiency Levels'!$C$16,1),Y13,\nIF(RIGHT($D19,1)<RIGHT('Efficiency Levels'!$C$16,1),0,\nIF(RIGHT($D19,1)=RIGHT('Efficiency Levels'!$C$16,1),SUM(OFFSET(Y13,-RIGHT($D19,1),0,RIGHT($D19,1),1)),\"ERROR\"))))","v":1},{"$f":"IF(Z$18<STANDARD_YEAR,Z13,\nIF(RIGHT($D19,1)>RIGHT('Efficiency Levels'!$C$16,1),Z13,\nIF(RIGHT($D19,1)<RIGHT('Efficiency Levels'!$C$16,1),0,\nIF(RIGHT($D19,1)=RIGHT('Efficiency Levels'!$C$16,1),SUM(OFFSET(Z13,-RIGHT($D19,1),0,RIGHT($D19,1),1)),\"ERROR\"))))","v":1},{"$f":"IF(AA$18<STANDARD_YEAR,AA13,\nIF(RIGHT($D19,1)>RIGHT('Efficiency Levels'!$C$16,1),AA13,\nIF(RIGHT($D19,1)<RIGHT('Efficiency Levels'!$C$16,1),0,\nIF(RIGHT($D19,1)=RIGHT('Efficiency Levels'!$C$16,1),SUM(OFFSET(AA13,-RIGHT($D19,1),0,RIGHT($D19,1),1)),\"ERROR\"))))","v":1},{"$f":"IF(AB$18<STANDARD_YEAR,AB13,\nIF(RIGHT($D19,1)>RIGHT('Efficiency Levels'!$C$16,1),AB13,\nIF(RIGHT($D19,1)<RIGHT('Efficiency Levels'!$C$16,1),0,\nIF(RIGHT($D19,1)=RIGHT('Efficiency Levels'!$C$16,1),SUM(OFFSET(AB13,-RIGHT($D19,1),0,RIGHT($D19,1),1)),\"ERROR\"))))","v":1},{"$f":"IF(AC$18<STANDARD_YEAR,AC13,\nIF(RIGHT($D19,1)>RIGHT('Efficiency Levels'!$C$16,1),AC13,\nIF(RIGHT($D19,1)<RIGHT('Efficiency Levels'!$C$16,1),0,\nIF(RIGHT($D19,1)=RIGHT('Efficiency Levels'!$C$16,1),SUM(OFFSET(AC13,-RIGHT($D19,1),0,RIGHT($D19,1),1)),\"ERROR\"))))","v":1},{"$f":"IF(AD$18<STANDARD_YEAR,AD13,\nIF(RIGHT($D19,1)>RIGHT('Efficiency Levels'!$C$16,1),AD13,\nIF(RIGHT($D19,1)<RIGHT('Efficiency Levels'!$C$16,1),0,\nIF(RIGHT($D19,1)=RIGHT('Efficiency Levels'!$C$16,1),SUM(OFFSET(AD13,-RIGHT($D19,1),0,RIGHT($D19,1),1)),\"ERROR\"))))","v":1},{"$f":"IF(AE$18<STANDARD_YEAR,AE13,\nIF(RIGHT($D19,1)>RIGHT('Efficiency Levels'!$C$16,1),AE13,\nIF(RIGHT($D19,1)<RIGHT('Efficiency Levels'!$C$16,1),0,\nIF(RIGHT($D19,1)=RIGHT('Efficiency Levels'!$C$16,1),SUM(OFFSET(AE13,-RIGHT($D19,1),0,RIGHT($D19,1),1)),\"ERROR\"))))","v":1},{"$f":"IF(AF$18<STANDARD_YEAR,AF13,\nIF(RIGHT($D19,1)>RIGHT('Efficiency Levels'!$C$16,1),AF13,\nIF(RIGHT($D19,1)<RIGHT('Efficiency Levels'!$C$16,1),0,\nIF(RIGHT($D19,1)=RIGHT('Efficiency Levels'!$C$16,1),SUM(OFFSET(AF13,-RIGHT($D19,1),0,RIGHT($D19,1),1)),\"ERROR\"))))","v":1},{"$f":"IF(AG$18<STANDARD_YEAR,AG13,\nIF(RIGHT($D19,1)>RIGHT('Efficiency Levels'!$C$16,1),AG13,\nIF(RIGHT($D19,1)<RIGHT('Efficiency Levels'!$C$16,1),0,\nIF(RIGHT($D19,1)=RIGHT('Efficiency Levels'!$C$16,1),SUM(OFFSET(AG13,-RIGHT($D19,1),0,RIGHT($D19,1),1)),\"ERROR\"))))","v":1},{"$f":"IF(AH$18<STANDARD_YEAR,AH13,\nIF(RIGHT($D19,1)>RIGHT('Efficiency Levels'!$C$16,1),AH13,\nIF(RIGHT($D19,1)<RIGHT('Efficiency Levels'!$C$16,1),0,\nIF(RIGHT($D19,1)=RIGHT('Efficiency Levels'!$C$16,1),SUM(OFFSET(AH13,-RIGHT($D19,1),0,RIGHT($D19,1),1)),\"ERROR\"))))","v":1},{"$f":"IF(AI$18<STANDARD_YEAR,AI13,\nIF(RIGHT($D19,1)>RIGHT('Efficiency Levels'!$C$16,1),AI13,\nIF(RIGHT($D19,1)<RIGHT('Efficiency Levels'!$C$16,1),0,\nIF(RIGHT($D19,1)=RIGHT('Efficiency Levels'!$C$16,1),SUM(OFFSET(AI13,-RIGHT($D19,1),0,RIGHT($D19,1),1)),\"ERROR\"))))","v":1},{"$f":"IF(AJ$18<STANDARD_YEAR,AJ13,\nIF(RIGHT($D19,1)>RIGHT('Efficiency Levels'!$C$16,1),AJ13,\nIF(RIGHT($D19,1)<RIGHT('Efficiency Levels'!$C$16,1),0,\nIF(RIGHT($D19,1)=RIGHT('Efficiency Levels'!$C$16,1),SUM(OFFSET(AJ13,-RIGHT($D19,1),0,RIGHT($D19,1),1)),\"ERROR\"))))","v":1},{"$f":"IF(AK$18<STANDARD_YEAR,AK13,\nIF(RIGHT($D19,1)>RIGHT('Efficiency Levels'!$C$16,1),AK13,\nIF(RIGHT($D19,1)<RIGHT('Efficiency Levels'!$C$16,1),0,\nIF(RIGHT($D19,1)=RIGHT('Efficiency Levels'!$C$16,1),SUM(OFFSET(AK13,-RIGHT($D19,1),0,RIGHT($D19,1),1)),\"ERROR\"))))","v":1},{"$f":"IF(AL$18<STANDARD_YEAR,AL13,\nIF(RIGHT($D19,1)>RIGHT('Efficiency Levels'!$C$16,1),AL13,\nIF(RIGHT($D19,1)<RIGHT('Efficiency Levels'!$C$16,1),0,\nIF(RIGHT($D19,1)=RIGHT('Efficiency Levels'!$C$16,1),SUM(OFFSET(AL13,-RIGHT($D19,1),0,RIGHT($D19,1),1)),\"ERROR\"))))","v":1},{"$f":"IF(AM$18<STANDARD_YEAR,AM13,\nIF(RIGHT($D19,1)>RIGHT('Efficiency Levels'!$C$16,1),AM13,\nIF(RIGHT($D19,1)<RIGHT('Efficiency Levels'!$C$16,1),0,\nIF(RIGHT($D19,1)=RIGHT('Efficiency Levels'!$C$16,1),SUM(OFFSET(AM13,-RIGHT($D19,1),0,RIGHT($D19,1),1)),\"ERROR\"))))","v":1},{"$f":"IF(AN$18<STANDARD_YEAR,AN13,\nIF(RIGHT($D19,1)>RIGHT('Efficiency Levels'!$C$16,1),AN13,\nIF(RIGHT($D19,1)<RIGHT('Efficiency Levels'!$C$16,1),0,\nIF(RIGHT($D19,1)=RIGHT('Efficiency Levels'!$C$16,1),SUM(OFFSET(AN13,-RIGHT($D19,1),0,RIGHT($D19,1),1)),\"ERROR\"))))","v":1},{"$f":"IF(AO$18<STANDARD_YEAR,AO13,\nIF(RIGHT($D19,1)>RIGHT('Efficiency Levels'!$C$16,1),AO13,\nIF(RIGHT($D19,1)<RIGHT('Efficiency Levels'!$C$16,1),0,\nIF(RIGHT($D19,1)=RIGHT('Efficiency Levels'!$C$16,1),SUM(OFFSET(AO13,-RIGHT($D19,1),0,RIGHT($D19,1),1)),\"ERROR\"))))","v":1},{"$f":"IF(AP$18<STANDARD_YEAR,AP13,\nIF(RIGHT($D19,1)>RIGHT('Efficiency Levels'!$C$16,1),AP13,\nIF(RIGHT($D19,1)<RIGHT('Efficiency Levels'!$C$16,1),0,\nIF(RIGHT($D19,1)=RIGHT('Efficiency Levels'!$C$16,1),SUM(OFFSET(AP13,-RIGHT($D19,1),0,RIGHT($D19,1),1)),\"ERROR\"))))","v":1},{"$f":"IF(AQ$18<STANDARD_YEAR,AQ13,\nIF(RIGHT($D19,1)>RIGHT('Efficiency Levels'!$C$16,1),AQ13,\nIF(RIGHT($D19,1)<RIGHT('Efficiency Levels'!$C$16,1),0,\nIF(RIGHT($D19,1)=RIGHT('Efficiency Levels'!$C$16,1),SUM(OFFSET(AQ13,-RIGHT($D19,1),0,RIGHT($D19,1),1)),\"ERROR\"))))","v":1},{"$f":"IF(AR$18<STANDARD_YEAR,AR13,\nIF(RIGHT($D19,1)>RIGHT('Efficiency Levels'!$C$16,1),AR13,\nIF(RIGHT($D19,1)<RIGHT('Efficiency Levels'!$C$16,1),0,\nIF(RIGHT($D19,1)=RIGHT('Efficiency Levels'!$C$16,1),SUM(OFFSET(AR13,-RIGHT($D19,1),0,RIGHT($D19,1),1)),\"ERROR\"))))","v":1},{"$f":"IF(AS$18<STANDARD_YEAR,AS13,\nIF(RIGHT($D19,1)>RIGHT('Efficiency Levels'!$C$16,1),AS13,\nIF(RIGHT($D19,1)<RIGHT('Efficiency Levels'!$C$16,1),0,\nIF(RIGHT($D19,1)=RIGHT('Efficiency Levels'!$C$16,1),SUM(OFFSET(AS13,-RIGHT($D19,1),0,RIGHT($D19,1),1)),\"ERROR\"))))","v":1},{"$f":"IF(AT$18<STANDARD_YEAR,AT13,\nIF(RIGHT($D19,1)>RIGHT('Efficiency Levels'!$C$16,1),AT13,\nIF(RIGHT($D19,1)<RIGHT('Efficiency Levels'!$C$16,1),0,\nIF(RIGHT($D19,1)=RIGHT('Efficiency Levels'!$C$16,1),SUM(OFFSET(AT13,-RIGHT($D19,1),0,RIGHT($D19,1),1)),\"ERROR\"))))","v":1},{"$f":"IF(AU$18<STANDARD_YEAR,AU13,\nIF(RIGHT($D19,1)>RIGHT('Efficiency Levels'!$C$16,1),AU13,\nIF(RIGHT($D19,1)<RIGHT('Efficiency Levels'!$C$16,1),0,\nIF(RIGHT($D19,1)=RIGHT('Efficiency Levels'!$C$16,1),SUM(OFFSET(AU13,-RIGHT($D19,1),0,RIGHT($D19,1),1)),\"ERROR\"))))","v":0},{"$f":"IF(AV$18<STANDARD_YEAR,AV13,\nIF(RIGHT($D19,1)>RIGHT('Efficiency Levels'!$C$16,1),AV13,\nIF(RIGHT($D19,1)<RIGHT('Efficiency Levels'!$C$16,1),0,\nIF(RIGHT($D19,1)=RIGHT('Efficiency Levels'!$C$16,1),SUM(OFFSET(AV13,-RIGHT($D19,1),0,RIGHT($D19,1),1)),\"ERROR\"))))","v":0},{"$f":"IF(AW$18<STANDARD_YEAR,AW13,\nIF(RIGHT($D19,1)>RIGHT('Efficiency Levels'!$C$16,1),AW13,\nIF(RIGHT($D19,1)<RIGHT('Efficiency Levels'!$C$16,1),0,\nIF(RIGHT($D19,1)=RIGHT('Efficiency Levels'!$C$16,1),SUM(OFFSET(AW13,-RIGHT($D19,1),0,RIGHT($D19,1),1)),\"ERROR\"))))","v":0},{"$f":"IF(AX$18<STANDARD_YEAR,AX13,\nIF(RIGHT($D19,1)>RIGHT('Efficiency Levels'!$C$16,1),AX13,\nIF(RIGHT($D19,1)<RIGHT('Efficiency Levels'!$C$16,1),0,\nIF(RIGHT($D19,1)=RIGHT('Efficiency Levels'!$C$16,1),SUM(OFFSET(AX13,-RIGHT($D19,1),0,RIGHT($D19,1),1)),\"ERROR\"))))","v":0},{"$f":"IF(AY$18<STANDARD_YEAR,AY13,\nIF(RIGHT($D19,1)>RIGHT('Efficiency Levels'!$C$16,1),AY13,\nIF(RIGHT($D19,1)<RIGHT('Efficiency Levels'!$C$16,1),0,\nIF(RIGHT($D19,1)=RIGHT('Efficiency Levels'!$C$16,1),SUM(OFFSET(AY13,-RIGHT($D19,1),0,RIGHT($D19,1),1)),\"ERROR\"))))","v":0},{"$f":"IF(AZ$18<STANDARD_YEAR,AZ13,\nIF(RIGHT($D19,1)>RIGHT('Efficiency Levels'!$C$16,1),AZ13,\nIF(RIGHT($D19,1)<RIGHT('Efficiency Levels'!$C$16,1),0,\nIF(RIGHT($D19,1)=RIGHT('Efficiency Levels'!$C$16,1),SUM(OFFSET(AZ13,-RIGHT($D19,1),0,RIGHT($D19,1),1)),\"ERROR\"))))","v":0},{"$f":"IF(BA$18<STANDARD_YEAR,BA13,\nIF(RIGHT($D19,1)>RIGHT('Efficiency Levels'!$C$16,1),BA13,\nIF(RIGHT($D19,1)<RIGHT('Efficiency Levels'!$C$16,1),0,\nIF(RIGHT($D19,1)=RIGHT('Efficiency Levels'!$C$16,1),SUM(OFFSET(BA13,-RIGHT($D19,1),0,RIGHT($D19,1),1)),\"ERROR\"))))","v":0},{"$f":"IF(BB$18<STANDARD_YEAR,BB13,\nIF(RIGHT($D19,1)>RIGHT('Efficiency Levels'!$C$16,1),BB13,\nIF(RIGHT($D19,1)<RIGHT('Efficiency Levels'!$C$16,1),0,\nIF(RIGHT($D19,1)=RIGHT('Efficiency Levels'!$C$16,1),SUM(OFFSET(BB13,-RIGHT($D19,1),0,RIGHT($D19,1),1)),\"ERROR\"))))","v":0},{"$f":"IF(BC$18<STANDARD_YEAR,BC13,\nIF(RIGHT($D19,1)>RIGHT('Efficiency Levels'!$C$16,1),BC13,\nIF(RIGHT($D19,1)<RIGHT('Efficiency Levels'!$C$16,1),0,\nIF(RIGHT($D19,1)=RIGHT('Efficiency Levels'!$C$16,1),SUM(OFFSET(BC13,-RIGHT($D19,1),0,RIGHT($D19,1),1)),\"ERROR\"))))","v":0},{"$f":"IF(BD$18<STANDARD_YEAR,BD13,\nIF(RIGHT($D19,1)>RIGHT('Efficiency Levels'!$C$16,1),BD13,\nIF(RIGHT($D19,1)<RIGHT('Efficiency Levels'!$C$16,1),0,\nIF(RIGHT($D19,1)=RIGHT('Efficiency Levels'!$C$16,1),SUM(OFFSET(BD13,-RIGHT($D19,1),0,RIGHT($D19,1),1)),\"ERROR\"))))","v":0},{"$f":"IF(BE$18<STANDARD_YEAR,BE13,\nIF(RIGHT($D19,1)>RIGHT('Efficiency Levels'!$C$16,1),BE13,\nIF(RIGHT($D19,1)<RIGHT('Efficiency Levels'!$C$16,1),0,\nIF(RIGHT($D19,1)=RIGHT('Efficiency Levels'!$C$16,1),SUM(OFFSET(BE13,-RIGHT($D19,1),0,RIGHT($D19,1),1)),\"ERROR\"))))","v":0},{"$f":"IF(BF$18<STANDARD_YEAR,BF13,\nIF(RIGHT($D19,1)>RIGHT('Efficiency Levels'!$C$16,1),BF13,\nIF(RIGHT($D19,1)<RIGHT('Efficiency Levels'!$C$16,1),0,\nIF(RIGHT($D19,1)=RIGHT('Efficiency Levels'!$C$16,1),SUM(OFFSET(BF13,-RIGHT($D19,1),0,RIGHT($D19,1),1)),\"ERROR\"))))","v":0},{"$f":"IF(BG$18<STANDARD_YEAR,BG13,\nIF(RIGHT($D19,1)>RIGHT('Efficiency Levels'!$C$16,1),BG13,\nIF(RIGHT($D19,1)<RIGHT('Efficiency Levels'!$C$16,1),0,\nIF(RIGHT($D19,1)=RIGHT('Efficiency Levels'!$C$16,1),SUM(OFFSET(BG13,-RIGHT($D19,1),0,RIGHT($D19,1),1)),\"ERROR\"))))","v":0},{"$f":"IF(BH$18<STANDARD_YEAR,BH13,\nIF(RIGHT($D19,1)>RIGHT('Efficiency Levels'!$C$16,1),BH13,\nIF(RIGHT($D19,1)<RIGHT('Efficiency Levels'!$C$16,1),0,\nIF(RIGHT($D19,1)=RIGHT('Efficiency Levels'!$C$16,1),SUM(OFFSET(BH13,-RIGHT($D19,1),0,RIGHT($D19,1),1)),\"ERROR\"))))","v":0},{"$f":"IF(BI$18<STANDARD_YEAR,BI13,\nIF(RIGHT($D19,1)>RIGHT('Efficiency Levels'!$C$16,1),BI13,\nIF(RIGHT($D19,1)<RIGHT('Efficiency Levels'!$C$16,1),0,\nIF(RIGHT($D19,1)=RIGHT('Efficiency Levels'!$C$16,1),SUM(OFFSET(BI13,-RIGHT($D19,1),0,RIGHT($D19,1),1)),\"ERROR\"))))","v":0},{"$f":"IF(BJ$18<STANDARD_YEAR,BJ13,\nIF(RIGHT($D19,1)>RIGHT('Efficiency Levels'!$C$16,1),BJ13,\nIF(RIGHT($D19,1)<RIGHT('Efficiency Levels'!$C$16,1),0,\nIF(RIGHT($D19,1)=RIGHT('Efficiency Levels'!$C$16,1),SUM(OFFSET(BJ13,-RIGHT($D19,1),0,RIGHT($D19,1),1)),\"ERROR\"))))","v":0}]
[null,null,null,"EL1",{"$f":"OFFSET('Efficiency Levels'!$D$11,MATCH($C$9,'Efficiency Levels'!$C$9:$C$995,0)+RIGHT(D20,1),0)","v":246},null,null,null,{"$f":"IF(I$18<STANDARD_YEAR,I14,\nIF(RIGHT($D20,1)>RIGHT('Efficiency Levels'!$C$16,1),I14,\nIF(RIGHT($D20,1)<RIGHT('Efficiency Levels'!$C$16,1),0,\nIF(RIGHT($D20,1)=RIGHT('Efficiency Levels'!$C$16,1),SUM(OFFSET(I14,-RIGHT($D20,1),0,RIGHT($D20,1),1)),\"ERROR\"))))","v":0},{"$f":"IF(J$18<STANDARD_YEAR,J14,\nIF(RIGHT($D20,1)>RIGHT('Efficiency Levels'!$C$16,1),J14,\nIF(RIGHT($D20,1)<RIGHT('Efficiency Levels'!$C$16,1),0,\nIF(RIGHT($D20,1)=RIGHT('Efficiency Levels'!$C$16,1),SUM(OFFSET(J14,-RIGHT($D20,1),0,RIGHT($D20,1),1)),\"ERROR\"))))","v":0},{"$f":"IF(K$18<STANDARD_YEAR,K14,\nIF(RIGHT($D20,1)>RIGHT('Efficiency Levels'!$C$16,1),K14,\nIF(RIGHT($D20,1)<RIGHT('Efficiency Levels'!$C$16,1),0,\nIF(RIGHT($D20,1)=RIGHT('Efficiency Levels'!$C$16,1),SUM(OFFSET(K14,-RIGHT($D20,1),0,RIGHT($D20,1),1)),\"ERROR\"))))","v":0},{"$f":"IF(L$18<STANDARD_YEAR,L14,\nIF(RIGHT($D20,1)>RIGHT('Efficiency Levels'!$C$16,1),L14,\nIF(RIGHT($D20,1)<RIGHT('Efficiency Levels'!$C$16,1),0,\nIF(RIGHT($D20,1)=RIGHT('Efficiency Levels'!$C$16,1),SUM(OFFSET(L14,-RIGHT($D20,1),0,RIGHT($D20,1),1)),\"ERROR\"))))","v":0},{"$f":"IF(M$18<STANDARD_YEAR,M14,\nIF(RIGHT($D20,1)>RIGHT('Efficiency Levels'!$C$16,1),M14,\nIF(RIGHT($D20,1)<RIGHT('Efficiency Levels'!$C$16,1),0,\nIF(RIGHT($D20,1)=RIGHT('Efficiency Levels'!$C$16,1),SUM(OFFSET(M14,-RIGHT($D20,1),0,RIGHT($D20,1),1)),\"ERROR\"))))","v":0},{"$f":"IF(N$18<STANDARD_YEAR,N14,\nIF(RIGHT($D20,1)>RIGHT('Efficiency Levels'!$C$16,1),N14,\nIF(RIGHT($D20,1)<RIGHT('Efficiency Levels'!$C$16,1),0,\nIF(RIGHT($D20,1)=RIGHT('Efficiency Levels'!$C$16,1),SUM(OFFSET(N14,-RIGHT($D20,1),0,RIGHT($D20,1),1)),\"ERROR\"))))","v":0},{"$f":"IF(O$18<STANDARD_YEAR,O14,\nIF(RIGHT($D20,1)>RIGHT('Efficiency Levels'!$C$16,1),O14,\nIF(RIGHT($D20,1)<RIGHT('Efficiency Levels'!$C$16,1),0,\nIF(RIGHT($D20,1)=RIGHT('Efficiency Levels'!$C$16,1),SUM(OFFSET(O14,-RIGHT($D20,1),0,RIGHT($D20,1),1)),\"ERROR\"))))","v":0},{"$f":"IF(P$18<STANDARD_YEAR,P14,\nIF(RIGHT($D20,1)>RIGHT('Efficiency Levels'!$C$16,1),P14,\nIF(RIGHT($D20,1)<RIGHT('Efficiency Levels'!$C$16,1),0,\nIF(RIGHT($D20,1)=RIGHT('Efficiency Levels'!$C$16,1),SUM(OFFSET(P14,-RIGHT($D20,1),0,RIGHT($D20,1),1)),\"ERROR\"))))","v":0},{"$f":"IF(Q$18<STANDARD_YEAR,Q14,\nIF(RIGHT($D20,1)>RIGHT('Efficiency Levels'!$C$16,1),Q14,\nIF(RIGHT($D20,1)<RIGHT('Efficiency Levels'!$C$16,1),0,\nIF(RIGHT($D20,1)=RIGHT('Efficiency Levels'!$C$16,1),SUM(OFFSET(Q14,-RIGHT($D20,1),0,RIGHT($D20,1),1)),\"ERROR\"))))","v":0},{"$f":"IF(R$18<STANDARD_YEAR,R14,\nIF(RIGHT($D20,1)>RIGHT('Efficiency Levels'!$C$16,1),R14,\nIF(RIGHT($D20,1)<RIGHT('Efficiency Levels'!$C$16,1),0,\nIF(RIGHT($D20,1)=RIGHT('Efficiency Levels'!$C$16,1),SUM(OFFSET(R14,-RIGHT($D20,1),0,RIGHT($D20,1),1)),\"ERROR\"))))","v":0},{"$f":"IF(S$18<STANDARD_YEAR,S14,\nIF(RIGHT($D20,1)>RIGHT('Efficiency Levels'!$C$16,1),S14,\nIF(RIGHT($D20,1)<RIGHT('Efficiency Levels'!$C$16,1),0,\nIF(RIGHT($D20,1)=RIGHT('Efficiency Levels'!$C$16,1),SUM(OFFSET(S14,-RIGHT($D20,1),0,RIGHT($D20,1),1)),\"ERROR\"))))","v":0},{"$f":"IF(T$18<STANDARD_YEAR,T14,\nIF(RIGHT($D20,1)>RIGHT('Efficiency Levels'!$C$16,1),T14,\nIF(RIGHT($D20,1)<RIGHT('Efficiency Levels'!$C$16,1),0,\nIF(RIGHT($D20,1)=RIGHT('Efficiency Levels'!$C$16,1),SUM(OFFSET(T14,-RIGHT($D20,1),0,RIGHT($D20,1),1)),\"ERROR\"))))","v":0},{"$f":"IF(U$18<STANDARD_YEAR,U14,\nIF(RIGHT($D20,1)>RIGHT('Efficiency Levels'!$C$16,1),U14,\nIF(RIGHT($D20,1)<RIGHT('Efficiency Levels'!$C$16,1),0,\nIF(RIGHT($D20,1)=RIGHT('Efficiency Levels'!$C$16,1),SUM(OFFSET(U14,-RIGHT($D20,1),0,RIGHT($D20,1),1)),\"ERROR\"))))","v":0},{"$f":"IF(V$18<STANDARD_YEAR,V14,\nIF(RIGHT($D20,1)>RIGHT('Efficiency Levels'!$C$16,1),V14,\nIF(RIGHT($D20,1)<RIGHT('Efficiency Levels'!$C$16,1),0,\nIF(RIGHT($D20,1)=RIGHT('Efficiency Levels'!$C$16,1),SUM(OFFSET(V14,-RIGHT($D20,1),0,RIGHT($D20,1),1)),\"ERROR\"))))","v":0},{"$f":"IF(W$18<STANDARD_YEAR,W14,\nIF(RIGHT($D20,1)>RIGHT('Efficiency Levels'!$C$16,1),W14,\nIF(RIGHT($D20,1)<RIGHT('Efficiency Levels'!$C$16,1),0,\nIF(RIGHT($D20,1)=RIGHT('Efficiency Levels'!$C$16,1),SUM(OFFSET(W14,-RIGHT($D20,1),0,RIGHT($D20,1),1)),\"ERROR\"))))","v":0},{"$f":"IF(X$18<STANDARD_YEAR,X14,\nIF(RIGHT($D20,1)>RIGHT('Efficiency Levels'!$C$16,1),X14,\nIF(RIGHT($D20,1)<RIGHT('Efficiency Levels'!$C$16,1),0,\nIF(RIGHT($D20,1)=RIGHT('Efficiency Levels'!$C$16,1),SUM(OFFSET(X14,-RIGHT($D20,1),0,RIGHT($D20,1),1)),\"ERROR\"))))","v":0},{"$f":"IF(Y$18<STANDARD_YEAR,Y14,\nIF(RIGHT($D20,1)>RIGHT('Efficiency Levels'!$C$16,1),Y14,\nIF(RIGHT($D20,1)<RIGHT('Efficiency Levels'!$C$16,1),0,\nIF(RIGHT($D20,1)=RIGHT('Efficiency Levels'!$C$16,1),SUM(OFFSET(Y14,-RIGHT($D20,1),0,RIGHT($D20,1),1)),\"ERROR\"))))","v":0},{"$f":"IF(Z$18<STANDARD_YEAR,Z14,\nIF(RIGHT($D20,1)>RIGHT('Efficiency Levels'!$C$16,1),Z14,\nIF(RIGHT($D20,1)<RIGHT('Efficiency Levels'!$C$16,1),0,\nIF(RIGHT($D20,1)=RIGHT('Efficiency Levels'!$C$16,1),SUM(OFFSET(Z14,-RIGHT($D20,1),0,RIGHT($D20,1),1)),\"ERROR\"))))","v":0},{"$f":"IF(AA$18<STANDARD_YEAR,AA14,\nIF(RIGHT($D20,1)>RIGHT('Efficiency Levels'!$C$16,1),AA14,\nIF(RIGHT($D20,1)<RIGHT('Efficiency Levels'!$C$16,1),0,\nIF(RIGHT($D20,1)=RIGHT('Efficiency Levels'!$C$16,1),SUM(OFFSET(AA14,-RIGHT($D20,1),0,RIGHT($D20,1),1)),\"ERROR\"))))","v":0},{"$f":"IF(AB$18<STANDARD_YEAR,AB14,\nIF(RIGHT($D20,1)>RIGHT('Efficiency Levels'!$C$16,1),AB14,\nIF(RIGHT($D20,1)<RIGHT('Efficiency Levels'!$C$16,1),0,\nIF(RIGHT($D20,1)=RIGHT('Efficiency Levels'!$C$16,1),SUM(OFFSET(AB14,-RIGHT($D20,1),0,RIGHT($D20,1),1)),\"ERROR\"))))","v":0},{"$f":"IF(AC$18<STANDARD_YEAR,AC14,\nIF(RIGHT($D20,1)>RIGHT('Efficiency Levels'!$C$16,1),AC14,\nIF(RIGHT($D20,1)<RIGHT('Efficiency Levels'!$C$16,1),0,\nIF(RIGHT($D20,1)=RIGHT('Efficiency Levels'!$C$16,1),SUM(OFFSET(AC14,-RIGHT($D20,1),0,RIGHT($D20,1),1)),\"ERROR\"))))","v":0},{"$f":"IF(AD$18<STANDARD_YEAR,AD14,\nIF(RIGHT($D20,1)>RIGHT('Efficiency Levels'!$C$16,1),AD14,\nIF(RIGHT($D20,1)<RIGHT('Efficiency Levels'!$C$16,1),0,\nIF(RIGHT($D20,1)=RIGHT('Efficiency Levels'!$C$16,1),SUM(OFFSET(AD14,-RIGHT($D20,1),0,RIGHT($D20,1),1)),\"ERROR\"))))","v":0},{"$f":"IF(AE$18<STANDARD_YEAR,AE14,\nIF(RIGHT($D20,1)>RIGHT('Efficiency Levels'!$C$16,1),AE14,\nIF(RIGHT($D20,1)<RIGHT('Efficiency Levels'!$C$16,1),0,\nIF(RIGHT($D20,1)=RIGHT('Efficiency Levels'!$C$16,1),SUM(OFFSET(AE14,-RIGHT($D20,1),0,RIGHT($D20,1),1)),\"ERROR\"))))","v":0},{"$f":"IF(AF$18<STANDARD_YEAR,AF14,\nIF(RIGHT($D20,1)>RIGHT('Efficiency Levels'!$C$16,1),AF14,\nIF(RIGHT($D20,1)<RIGHT('Efficiency Levels'!$C$16,1),0,\nIF(RIGHT($D20,1)=RIGHT('Efficiency Levels'!$C$16,1),SUM(OFFSET(AF14,-RIGHT($D20,1),0,RIGHT($D20,1),1)),\"ERROR\"))))","v":0},{"$f":"IF(AG$18<STANDARD_YEAR,AG14,\nIF(RIGHT($D20,1)>RIGHT('Efficiency Levels'!$C$16,1),AG14,\nIF(RIGHT($D20,1)<RIGHT('Efficiency Levels'!$C$16,1),0,\nIF(RIGHT($D20,1)=RIGHT('Efficiency Levels'!$C$16,1),SUM(OFFSET(AG14,-RIGHT($D20,1),0,RIGHT($D20,1),1)),\"ERROR\"))))","v":0},{"$f":"IF(AH$18<STANDARD_YEAR,AH14,\nIF(RIGHT($D20,1)>RIGHT('Efficiency Levels'!$C$16,1),AH14,\nIF(RIGHT($D20,1)<RIGHT('Efficiency Levels'!$C$16,1),0,\nIF(RIGHT($D20,1)=RIGHT('Efficiency Levels'!$C$16,1),SUM(OFFSET(AH14,-RIGHT($D20,1),0,RIGHT($D20,1),1)),\"ERROR\"))))","v":0},{"$f":"IF(AI$18<STANDARD_YEAR,AI14,\nIF(RIGHT($D20,1)>RIGHT('Efficiency Levels'!$C$16,1),AI14,\nIF(RIGHT($D20,1)<RIGHT('Efficiency Levels'!$C$16,1),0,\nIF(RIGHT($D20,1)=RIGHT('Efficiency Levels'!$C$16,1),SUM(OFFSET(AI14,-RIGHT($D20,1),0,RIGHT($D20,1),1)),\"ERROR\"))))","v":0},{"$f":"IF(AJ$18<STANDARD_YEAR,AJ14,\nIF(RIGHT($D20,1)>RIGHT('Efficiency Levels'!$C$16,1),AJ14,\nIF(RIGHT($D20,1)<RIGHT('Efficiency Levels'!$C$16,1),0,\nIF(RIGHT($D20,1)=RIGHT('Efficiency Levels'!$C$16,1),SUM(OFFSET(AJ14,-RIGHT($D20,1),0,RIGHT($D20,1),1)),\"ERROR\"))))","v":0},{"$f":"IF(AK$18<STANDARD_YEAR,AK14,\nIF(RIGHT($D20,1)>RIGHT('Efficiency Levels'!$C$16,1),AK14,\nIF(RIGHT($D20,1)<RIGHT('Efficiency Levels'!$C$16,1),0,\nIF(RIGHT($D20,1)=RIGHT('Efficiency Levels'!$C$16,1),SUM(OFFSET(AK14,-RIGHT($D20,1),0,RIGHT($D20,1),1)),\"ERROR\"))))","v":0},{"$f":"IF(AL$18<STANDARD_YEAR,AL14,\nIF(RIGHT($D20,1)>RIGHT('Efficiency Levels'!$C$16,1),AL14,\nIF(RIGHT($D20,1)<RIGHT('Efficiency Levels'!$C$16,1),0,\nIF(RIGHT($D20,1)=RIGHT('Efficiency Levels'!$C$16,1),SUM(OFFSET(AL14,-RIGHT($D20,1),0,RIGHT($D20,1),1)),\"ERROR\"))))","v":0},{"$f":"IF(AM$18<STANDARD_YEAR,AM14,\nIF(RIGHT($D20,1)>RIGHT('Efficiency Levels'!$C$16,1),AM14,\nIF(RIGHT($D20,1)<RIGHT('Efficiency Levels'!$C$16,1),0,\nIF(RIGHT($D20,1)=RIGHT('Efficiency Levels'!$C$16,1),SUM(OFFSET(AM14,-RIGHT($D20,1),0,RIGHT($D20,1),1)),\"ERROR\"))))","v":0},{"$f":"IF(AN$18<STANDARD_YEAR,AN14,\nIF(RIGHT($D20,1)>RIGHT('Efficiency Levels'!$C$16,1),AN14,\nIF(RIGHT($D20,1)<RIGHT('Efficiency Levels'!$C$16,1),0,\nIF(RIGHT($D20,1)=RIGHT('Efficiency Levels'!$C$16,1),SUM(OFFSET(AN14,-RIGHT($D20,1),0,RIGHT($D20,1),1)),\"ERROR\"))))","v":0},{"$f":"IF(AO$18<STANDARD_YEAR,AO14,\nIF(RIGHT($D20,1)>RIGHT('Efficiency Levels'!$C$16,1),AO14,\nIF(RIGHT($D20,1)<RIGHT('Efficiency Levels'!$C$16,1),0,\nIF(RIGHT($D20,1)=RIGHT('Efficiency Levels'!$C$16,1),SUM(OFFSET(AO14,-RIGHT($D20,1),0,RIGHT($D20,1),1)),\"ERROR\"))))","v":0},{"$f":"IF(AP$18<STANDARD_YEAR,AP14,\nIF(RIGHT($D20,1)>RIGHT('Efficiency Levels'!$C$16,1),AP14,\nIF(RIGHT($D20,1)<RIGHT('Efficiency Levels'!$C$16,1),0,\nIF(RIGHT($D20,1)=RIGHT('Efficiency Levels'!$C$16,1),SUM(OFFSET(AP14,-RIGHT($D20,1),0,RIGHT($D20,1),1)),\"ERROR\"))))","v":0},{"$f":"IF(AQ$18<STANDARD_YEAR,AQ14,\nIF(RIGHT($D20,1)>RIGHT('Efficiency Levels'!$C$16,1),AQ14,\nIF(RIGHT($D20,1)<RIGHT('Efficiency Levels'!$C$16,1),0,\nIF(RIGHT($D20,1)=RIGHT('Efficiency Levels'!$C$16,1),SUM(OFFSET(AQ14,-RIGHT($D20,1),0,RIGHT($D20,1),1)),\"ERROR\"))))","v":0},{"$f":"IF(AR$18<STANDARD_YEAR,AR14,\nIF(RIGHT($D20,1)>RIGHT('Efficiency Levels'!$C$16,1),AR14,\nIF(RIGHT($D20,1)<RIGHT('Efficiency Levels'!$C$16,1),0,\nIF(RIGHT($D20,1)=RIGHT('Efficiency Levels'!$C$16,1),SUM(OFFSET(AR14,-RIGHT($D20,1),0,RIGHT($D20,1),1)),\"ERROR\"))))","v":0},{"$f":"IF(AS$18<STANDARD_YEAR,AS14,\nIF(RIGHT($D20,1)>RIGHT('Efficiency Levels'!$C$16,1),AS14,\nIF(RIGHT($D20,1)<RIGHT('Efficiency Levels'!$C$16,1),0,\nIF(RIGHT($D20,1)=RIGHT('Efficiency Levels'!$C$16,1),SUM(OFFSET(AS14,-RIGHT($D20,1),0,RIGHT($D20,1),1)),\"ERROR\"))))","v":0},{"$f":"IF(AT$18<STANDARD_YEAR,AT14,\nIF(RIGHT($D20,1)>RIGHT('Efficiency Levels'!$C$16,1),AT14,\nIF(RIGHT($D20,1)<RIGHT('Efficiency Levels'!$C$16,1),0,\nIF(RIGHT($D20,1)=RIGHT('Efficiency Levels'!$C$16,1),SUM(OFFSET(AT14,-RIGHT($D20,1),0,RIGHT($D20,1),1)),\"ERROR\"))))","v":0},{"$f":"IF(AU$18<STANDARD_YEAR,AU14,\nIF(RIGHT($D20,1)>RIGHT('Efficiency Levels'!$C$16,1),AU14,\nIF(RIGHT($D20,1)<RIGHT('Efficiency Levels'!$C$16,1),0,\nIF(RIGHT($D20,1)=RIGHT('Efficiency Levels'!$C$16,1),SUM(OFFSET(AU14,-RIGHT($D20,1),0,RIGHT($D20,1),1)),\"ERROR\"))))","v":1},{"$f":"IF(AV$18<STANDARD_YEAR,AV14,\nIF(RIGHT($D20,1)>RIGHT('Efficiency Levels'!$C$16,1),AV14,\nIF(RIGHT($D20,1)<RIGHT('Efficiency Levels'!$C$16,1),0,\nIF(RIGHT($D20,1)=RIGHT('Efficiency Levels'!$C$16,1),SUM(OFFSET(AV14,-RIGHT($D20,1),0,RIGHT($D20,1),1)),\"ERROR\"))))","v":1},{"$f":"IF(AW$18<STANDARD_YEAR,AW14,\nIF(RIGHT($D20,1)>RIGHT('Efficiency Levels'!$C$16,1),AW14,\nIF(RIGHT($D20,1)<RIGHT('Efficiency Levels'!$C$16,1),0,\nIF(RIGHT($D20,1)=RIGHT('Efficiency Levels'!$C$16,1),SUM(OFFSET(AW14,-RIGHT($D20,1),0,RIGHT($D20,1),1)),\"ERROR\"))))","v":1},{"$f":"IF(AX$18<STANDARD_YEAR,AX14,\nIF(RIGHT($D20,1)>RIGHT('Efficiency Levels'!$C$16,1),AX14,\nIF(RIGHT($D20,1)<RIGHT('Efficiency Levels'!$C$16,1),0,\nIF(RIGHT($D20,1)=RIGHT('Efficiency Levels'!$C$16,1),SUM(OFFSET(AX14,-RIGHT($D20,1),0,RIGHT($D20,1),1)),\"ERROR\"))))","v":1},{"$f":"IF(AY$18<STANDARD_YEAR,AY14,\nIF(RIGHT($D20,1)>RIGHT('Efficiency Levels'!$C$16,1),AY14,\nIF(RIGHT($D20,1)<RIGHT('Efficiency Levels'!$C$16,1),0,\nIF(RIGHT($D20,1)=RIGHT('Efficiency Levels'!$C$16,1),SUM(OFFSET(AY14,-RIGHT($D20,1),0,RIGHT($D20,1),1)),\"ERROR\"))))","v":1},{"$f":"IF(AZ$18<STANDARD_YEAR,AZ14,\nIF(RIGHT($D20,1)>RIGHT('Efficiency Levels'!$C$16,1),AZ14,\nIF(RIGHT($D20,1)<RIGHT('Efficiency Levels'!$C$16,1),0,\nIF(RIGHT($D20,1)=RIGHT('Efficiency Levels'!$C$16,1),SUM(OFFSET(AZ14,-RIGHT($D20,1),0,RIGHT($D20,1),1)),\"ERROR\"))))","v":1},{"$f":"IF(BA$18<STANDARD_YEAR,BA14,\nIF(RIGHT($D20,1)>RIGHT('Efficiency Levels'!$C$16,1),BA14,\nIF(RIGHT($D20,1)<RIGHT('Efficiency Levels'!$C$16,1),0,\nIF(RIGHT($D20,1)=RIGHT('Efficiency Levels'!$C$16,1),SUM(OFFSET(BA14,-RIGHT($D20,1),0,RIGHT($D20,1),1)),\"ERROR\"))))","v":1},{"$f":"IF(BB$18<STANDARD_YEAR,BB14,\nIF(RIGHT($D20,1)>RIGHT('Efficiency Levels'!$C$16,1),BB14,\nIF(RIGHT($D20,1)<RIGHT('Efficiency Levels'!$C$16,1),0,\nIF(RIGHT($D20,1)=RIGHT('Efficiency Levels'!$C$16,1),SUM(OFFSET(BB14,-RIGHT($D20,1),0,RIGHT($D20,1),1)),\"ERROR\"))))","v":1},{"$f":"IF(BC$18<STANDARD_YEAR,BC14,\nIF(RIGHT($D20,1)>RIGHT('Efficiency Levels'!$C$16,1),BC14,\nIF(RIGHT($D20,1)<RIGHT('Efficiency Levels'!$C$16,1),0,\nIF(RIGHT($D20,1)=RIGHT('Efficiency Levels'!$C$16,1),SUM(OFFSET(BC14,-RIGHT($D20,1),0,RIGHT($D20,1),1)),\"ERROR\"))))","v":1},{"$f":"IF(BD$18<STANDARD_YEAR,BD14,\nIF(RIGHT($D20,1)>RIGHT('Efficiency Levels'!$C$16,1),BD14,\nIF(RIGHT($D20,1)<RIGHT('Efficiency Levels'!$C$16,1),0,\nIF(RIGHT($D20,1)=RIGHT('Efficiency Levels'!$C$16,1),SUM(OFFSET(BD14,-RIGHT($D20,1),0,RIGHT($D20,1),1)),\"ERROR\"))))","v":1},{"$f":"IF(BE$18<STANDARD_YEAR,BE14,\nIF(RIGHT($D20,1)>RIGHT('Efficiency Levels'!$C$16,1),BE14,\nIF(RIGHT($D20,1)<RIGHT('Efficiency Levels'!$C$16,1),0,\nIF(RIGHT($D20,1)=RIGHT('Efficiency Levels'!$C$16,1),SUM(OFFSET(BE14,-RIGHT($D20,1),0,RIGHT($D20,1),1)),\"ERROR\"))))","v":1},{"$f":"IF(BF$18<STANDARD_YEAR,BF14,\nIF(RIGHT($D20,1)>RIGHT('Efficiency Levels'!$C$16,1),BF14,\nIF(RIGHT($D20,1)<RIGHT('Efficiency Levels'!$C$16,1),0,\nIF(RIGHT($D20,1)=RIGHT('Efficiency Levels'!$C$16,1),SUM(OFFSET(BF14,-RIGHT($D20,1),0,RIGHT($D20,1),1)),\"ERROR\"))))","v":1},{"$f":"IF(BG$18<STANDARD_YEAR,BG14,\nIF(RIGHT($D20,1)>RIGHT('Efficiency Levels'!$C$16,1),BG14,\nIF(RIGHT($D20,1)<RIGHT('Efficiency Levels'!$C$16,1),0,\nIF(RIGHT($D20,1)=RIGHT('Efficiency Levels'!$C$16,1),SUM(OFFSET(BG14,-RIGHT($D20,1),0,RIGHT($D20,1),1)),\"ERROR\"))))","v":1},{"$f":"IF(BH$18<STANDARD_YEAR,BH14,\nIF(RIGHT($D20,1)>RIGHT('Efficiency Levels'!$C$16,1),BH14,\nIF(RIGHT($D20,1)<RIGHT('Efficiency Levels'!$C$16,1),0,\nIF(RIGHT($D20,1)=RIGHT('Efficiency Levels'!$C$16,1),SUM(OFFSET(BH14,-RIGHT($D20,1),0,RIGHT($D20,1),1)),\"ERROR\"))))","v":1},{"$f":"IF(BI$18<STANDARD_YEAR,BI14,\nIF(RIGHT($D20,1)>RIGHT('Efficiency Levels'!$C$16,1),BI14,\nIF(RIGHT($D20,1)<RIGHT('Efficiency Levels'!$C$16,1),0,\nIF(RIGHT($D20,1)=RIGHT('Efficiency Levels'!$C$16,1),SUM(OFFSET(BI14,-RIGHT($D20,1),0,RIGHT($D20,1),1)),\"ERROR\"))))","v":1},{"$f":"IF(BJ$18<STANDARD_YEAR,BJ14,\nIF(RIGHT($D20,1)>RIGHT('Efficiency Levels'!$C$16,1),BJ14,\nIF(RIGHT($D20,1)<RIGHT('Efficiency Levels'!$C$16,1),0,\nIF(RIGHT($D20,1)=RIGHT('Efficiency Levels'!$C$16,1),SUM(OFFSET(BJ14,-RIGHT($D20,1),0,RIGHT($D20,1),1)),\"ERROR\"))))","v":1}]
[null,null,null,"TOTAL",null,null,null,null,{"$f":"SUM(I19:I20)","v":1},1,1,1,1,1,1,1,1,1,1,1,1,1,1,1,1,1,1,1,1,1,1,1,1,1,1,1,1,1,1,1,1,1,1,1,1,1,1,1,1,1,1,1,1,1,1,1,1,1,1,1,1,1]
[]
[null,null,null,"Sources","Placeholder Values Assumes All Pre-Case Shipments are the Least Energy Efficient Products"]
[]
[]
[]
[null,null,"PC2",{"$f":"OFFSET('Product Classes'!$C$9,MATCH(C27,MODEL_PCS,0),0)","v":"Electric Cooking Tops—Low or High Wattage Open (Coil) Elements"}]
[]
[null,null,null,"PRE-Case",null,"Static Distribution"]
[null,null,null,"Efficiency Level","UEC (kWh / year)",2011,null,null,1981,1982,1983,1984,1985,1986,1987,1988,1989,1990,1991,1992,1993,1994,1995,1996,1997,1998,1999,2000,2001,2002,2003,2004,2005,2006,2007,2008,2009,2010,2011,2012,2013,2014,2015,2016,2017,2018,2019,2020,2021,2022,2023,2024,2025,2026,2027,2028,2029,2030,2031,2032,2033,2034]
[null,null,null,"EL0",{"$f":"OFFSET('Efficiency Levels'!$D$11,MATCH($C$27,'Efficiency Levels'!$C$9:$C$995,0)+RIGHT(D31,1),0)","v":280.60000000000002},1,null,null,{"$f":"$F31","v":1},1,1,1,1,1,1,1,1,1,1,1,1,1,1,1,{"$f":"$F31","v":1},1,1,1,1,1,1,1,1,1,1,1,1,1,1,1,{"$f":"$F31","v":1},1,1,1,1,1,1,1,1,1,1,1,1,1,1,1,1,1,1,1,1,1]
[null,null,null,"EL1",{"$f":"OFFSET('Efficiency Levels'!$D$11,MATCH($C$27,'Efficiency Levels'!$C$9:$C$995,0)+RIGHT(D32,1),0)","v":268.60000000000002},0,null,null,0,0,0,0,0,0,0,0,0,0,0,0,0,0,0,0,0,0,0,0,0,0,0,0,0,0,0,0,0,0,0,0,0,0,0,0,0,0,0,0,0,0,0,0,0,0,0,0,0,0,0,0,0,0]
[null,null,null,"EL2",{"$f":"OFFSET('Efficiency Levels'!$D$11,MATCH($C$27,'Efficiency Levels'!$C$9:$C$995,0)+RIGHT(D33,1),0)","v":263.5},0,null,null,0,0,0,0,0,0,0,0,0,0,0,0,0,0,0,0,0,0,0,0,0,0,0,0,0,0,0,0,0,0,0,0,0,0,0,0,0,0,0,0,0,0,0,0,0,0,0,0,0,0,0,0,0,0]
[null,null,null,"EL3",{"$f":"OFFSET('Efficiency Levels'!$D$11,MATCH($C$27,'Efficiency Levels'!$C$9:$C$995,0)+RIGHT(D34,1),0)","v":259.8},0,null,null,0,0,0,0,0,0,0,0,0,0,0,0,0,0,0,0,0,0,0,0,0,0,0,0,0,0,0,0,0,0,0,0,0,0,0,0,0,0,0,0,0,0,0,0,0,0,0,0,0,0,0,0,0,0]
[null,null,null,"EL4",{"$f":"OFFSET('Efficiency Levels'!$D$11,MATCH($C$27,'Efficiency Levels'!$C$9:$C$995,0)+RIGHT(D35,1),0)","v":245.9},0,null,null,0,0,0,0,0,0,0,0,0,0,0,0,0,0,0,0,0,0,0,0,0,0,0,0,0,0,0,0,0,0,0,0,0,0,0,0,0,0,0,0,0,0,0,0,0,0,0,0,0,0,0,0,0,0]
[null,null,null,"EL5",{"$f":"OFFSET('Efficiency Levels'!$D$11,MATCH($C$27,'Efficiency Levels'!$C$9:$C$995,0)+RIGHT(D36,1),0)","v":240.7},0,null,null,0,0,0,0,0,0,0,0,0,0,0,0,0,0,0,0,0,0,0,0,0,0,0,0,0,0,0,0,0,0,0,0,0,0,0,0,0,0,0,0,0,0,0,0,0,0,0,0,0,0,0,0,0,0]
[null,null,null,"TOTAL",null,{"$f":"SUM(F31:F36)","v":1},null,null,{"$f":"SUM(I31:I36)","v":1},1,1,1,1,1,1,1,1,1,1,1,1,1,1,1,1,1,1,1,1,1,1,1,1,1,1,1,1,1,1,1,1,1,1,1,1,1,1,1,1,1,1,1,1,1,1,1,1,1,1,1,1,1]
[]
[null,null,null,"POST-Case"]
[null,null,null,"Efficiency Level","UEC (kWh / year)",null,null,null,1981,1982,1983,1984,1985,1986,1987,1988,1989,1990,1991,1992,1993,1994,1995,1996,1997,1998,1999,2000,2001,2002,2003,2004,2005,2006,2007,2008,2009,2010,2011,2012,2013,2014,2015,2016,2017,2018,2019,2020,2021,2022,2023,2024,2025,2026,2027,2028,2029,2030,2031,2032,2033,2034]
[null,null,null,"EL0",{"$f":"OFFSET('Efficiency Levels'!$D$11,MATCH($C$27,'Efficiency Levels'!$C$9:$C$995,0)+RIGHT(D41,1),0)","v":280.60000000000002},null,null,null,{"$f":"IF(I$18<STANDARD_YEAR,I31,\nIF(RIGHT($D41,1)>RIGHT('Efficiency Levels'!$C$33,1),I31,\nIF(RIGHT($D41,1)<RIGHT('Efficiency Levels'!$C$33,1),0,\nIF(RIGHT($D41,1)=RIGHT('Efficiency Levels'!$C$33,1),SUM(OFFSET(I31,-RIGHT($D41,1),0,RIGHT($D41,1),1)),\"ERROR\"))))","v":1},{"$f":"IF(J$18<STANDARD_YEAR,J31,\nIF(RIGHT($D41,1)>RIGHT('Efficiency Levels'!$C$33,1),J31,\nIF(RIGHT($D41,1)<RIGHT('Efficiency Levels'!$C$33,1),0,\nIF(RIGHT($D41,1)=RIGHT('Efficiency Levels'!$C$33,1),SUM(OFFSET(J31,-RIGHT($D41,1),0,RIGHT($D41,1),1)),\"ERROR\"))))","v":1},{"$f":"IF(K$18<STANDARD_YEAR,K31,\nIF(RIGHT($D41,1)>RIGHT('Efficiency Levels'!$C$33,1),K31,\nIF(RIGHT($D41,1)<RIGHT('Efficiency Levels'!$C$33,1),0,\nIF(RIGHT($D41,1)=RIGHT('Efficiency Levels'!$C$33,1),SUM(OFFSET(K31,-RIGHT($D41,1),0,RIGHT($D41,1),1)),\"ERROR\"))))","v":1},{"$f":"IF(L$18<STANDARD_YEAR,L31,\nIF(RIGHT($D41,1)>RIGHT('Efficiency Levels'!$C$33,1),L31,\nIF(RIGHT($D41,1)<RIGHT('Efficiency Levels'!$C$33,1),0,\nIF(RIGHT($D41,1)=RIGHT('Efficiency Levels'!$C$33,1),SUM(OFFSET(L31,-RIGHT($D41,1),0,RIGHT($D41,1),1)),\"ERROR\"))))","v":1},{"$f":"IF(M$18<STANDARD_YEAR,M31,\nIF(RIGHT($D41,1)>RIGHT('Efficiency Levels'!$C$33,1),M31,\nIF(RIGHT($D41,1)<RIGHT('Efficiency Levels'!$C$33,1),0,\nIF(RIGHT($D41,1)=RIGHT('Efficiency Levels'!$C$33,1),SUM(OFFSET(M31,-RIGHT($D41,1),0,RIGHT($D41,1),1)),\"ERROR\"))))","v":1},{"$f":"IF(N$18<STANDARD_YEAR,N31,\nIF(RIGHT($D41,1)>RIGHT('Efficiency Levels'!$C$33,1),N31,\nIF(RIGHT($D41,1)<RIGHT('Efficiency Levels'!$C$33,1),0,\nIF(RIGHT($D41,1)=RIGHT('Efficiency Levels'!$C$33,1),SUM(OFFSET(N31,-RIGHT($D41,1),0,RIGHT($D41,1),1)),\"ERROR\"))))","v":1},{"$f":"IF(O$18<STANDARD_YEAR,O31,\nIF(RIGHT($D41,1)>RIGHT('Efficiency Levels'!$C$33,1),O31,\nIF(RIGHT($D41,1)<RIGHT('Efficiency Levels'!$C$33,1),0,\nIF(RIGHT($D41,1)=RIGHT('Efficiency Levels'!$C$33,1),SUM(OFFSET(O31,-RIGHT($D41,1),0,RIGHT($D41,1),1)),\"ERROR\"))))","v":1},{"$f":"IF(P$18<STANDARD_YEAR,P31,\nIF(RIGHT($D41,1)>RIGHT('Efficiency Levels'!$C$33,1),P31,\nIF(RIGHT($D41,1)<RIGHT('Efficiency Levels'!$C$33,1),0,\nIF(RIGHT($D41,1)=RIGHT('Efficiency Levels'!$C$33,1),SUM(OFFSET(P31,-RIGHT($D41,1),0,RIGHT($D41,1),1)),\"ERROR\"))))","v":1},{"$f":"IF(Q$18<STANDARD_YEAR,Q31,\nIF(RIGHT($D41,1)>RIGHT('Efficiency Levels'!$C$33,1),Q31,\nIF(RIGHT($D41,1)<RIGHT('Efficiency Levels'!$C$33,1),0,\nIF(RIGHT($D41,1)=RIGHT('Efficiency Levels'!$C$33,1),SUM(OFFSET(Q31,-RIGHT($D41,1),0,RIGHT($D41,1),1)),\"ERROR\"))))","v":1},{"$f":"IF(R$18<STANDARD_YEAR,R31,\nIF(RIGHT($D41,1)>RIGHT('Efficiency Levels'!$C$33,1),R31,\nIF(RIGHT($D41,1)<RIGHT('Efficiency Levels'!$C$33,1),0,\nIF(RIGHT($D41,1)=RIGHT('Efficiency Levels'!$C$33,1),SUM(OFFSET(R31,-RIGHT($D41,1),0,RIGHT($D41,1),1)),\"ERROR\"))))","v":1},{"$f":"IF(S$18<STANDARD_YEAR,S31,\nIF(RIGHT($D41,1)>RIGHT('Efficiency Levels'!$C$33,1),S31,\nIF(RIGHT($D41,1)<RIGHT('Efficiency Levels'!$C$33,1),0,\nIF(RIGHT($D41,1)=RIGHT('Efficiency Levels'!$C$33,1),SUM(OFFSET(S31,-RIGHT($D41,1),0,RIGHT($D41,1),1)),\"ERROR\"))))","v":1},{"$f":"IF(T$18<STANDARD_YEAR,T31,\nIF(RIGHT($D41,1)>RIGHT('Efficiency Levels'!$C$33,1),T31,\nIF(RIGHT($D41,1)<RIGHT('Efficiency Levels'!$C$33,1),0,\nIF(RIGHT($D41,1)=RIGHT('Efficiency Levels'!$C$33,1),SUM(OFFSET(T31,-RIGHT($D41,1),0,RIGHT($D41,1),1)),\"ERROR\"))))","v":1},{"$f":"IF(U$18<STANDARD_YEAR,U31,\nIF(RIGHT($D41,1)>RIGHT('Efficiency Levels'!$C$33,1),U31,\nIF(RIGHT($D41,1)<RIGHT('Efficiency Levels'!$C$33,1),0,\nIF(RIGHT($D41,1)=RIGHT('Efficiency Levels'!$C$33,1),SUM(OFFSET(U31,-RIGHT($D41,1),0,RIGHT($D41,1),1)),\"ERROR\"))))","v":1},{"$f":"IF(V$18<STANDARD_YEAR,V31,\nIF(RIGHT($D41,1)>RIGHT('Efficiency Levels'!$C$33,1),V31,\nIF(RIGHT($D41,1)<RIGHT('Efficiency Levels'!$C$33,1),0,\nIF(RIGHT($D41,1)=RIGHT('Efficiency Levels'!$C$33,1),SUM(OFFSET(V31,-RIGHT($D41,1),0,RIGHT($D41,1),1)),\"ERROR\"))))","v":1},{"$f":"IF(W$18<STANDARD_YEAR,W31,\nIF(RIGHT($D41,1)>RIGHT('Efficiency Levels'!$C$33,1),W31,\nIF(RIGHT($D41,1)<RIGHT('Efficiency Levels'!$C$33,1),0,\nIF(RIGHT($D41,1)=RIGHT('Efficiency Levels'!$C$33,1),SUM(OFFSET(W31,-RIGHT($D41,1),0,RIGHT($D41,1),1)),\"ERROR\"))))","v":1},{"$f":"IF(X$18<STANDARD_YEAR,X31,\nIF(RIGHT($D41,1)>RIGHT('Efficiency Levels'!$C$33,1),X31,\nIF(RIGHT($D41,1)<RIGHT('Efficiency Levels'!$C$33,1),0,\nIF(RIGHT($D41,1)=RIGHT('Efficiency Levels'!$C$33,1),SUM(OFFSET(X31,-RIGHT($D41,1),0,RIGHT($D41,1),1)),\"ERROR\"))))","v":1},{"$f":"IF(Y$18<STANDARD_YEAR,Y31,\nIF(RIGHT($D41,1)>RIGHT('Efficiency Levels'!$C$33,1),Y31,\nIF(RIGHT($D41,1)<RIGHT('Efficiency Levels'!$C$33,1),0,\nIF(RIGHT($D41,1)=RIGHT('Efficiency Levels'!$C$33,1),SUM(OFFSET(Y31,-RIGHT($D41,1),0,RIGHT($D41,1),1)),\"ERROR\"))))","v":1},{"$f":"IF(Z$18<STANDARD_YEAR,Z31,\nIF(RIGHT($D41,1)>RIGHT('Efficiency Levels'!$C$33,1),Z31,\nIF(RIGHT($D41,1)<RIGHT('Efficiency Levels'!$C$33,1),0,\nIF(RIGHT($D41,1)=RIGHT('Efficiency Levels'!$C$33,1),SUM(OFFSET(Z31,-RIGHT($D41,1),0,RIGHT($D41,1),1)),\"ERROR\"))))","v":1},{"$f":"IF(AA$18<STANDARD_YEAR,AA31,\nIF(RIGHT($D41,1)>RIGHT('Efficiency Levels'!$C$33,1),AA31,\nIF(RIGHT($D41,1)<RIGHT('Efficiency Levels'!$C$33,1),0,\nIF(RIGHT($D41,1)=RIGHT('Efficiency Levels'!$C$33,1),SUM(OFFSET(AA31,-RIGHT($D41,1),0,RIGHT($D41,1),1)),\"ERROR\"))))","v":1},{"$f":"IF(AB$18<STANDARD_YEAR,AB31,\nIF(RIGHT($D41,1)>RIGHT('Efficiency Levels'!$C$33,1),AB31,\nIF(RIGHT($D41,1)<RIGHT('Efficiency Levels'!$C$33,1),0,\nIF(RIGHT($D41,1)=RIGHT('Efficiency Levels'!$C$33,1),SUM(OFFSET(AB31,-RIGHT($D41,1),0,RIGHT($D41,1),1)),\"ERROR\"))))","v":1},{"$f":"IF(AC$18<STANDARD_YEAR,AC31,\nIF(RIGHT($D41,1)>RIGHT('Efficiency Levels'!$C$33,1),AC31,\nIF(RIGHT($D41,1)<RIGHT('Efficiency Levels'!$C$33,1),0,\nIF(RIGHT($D41,1)=RIGHT('Efficiency Levels'!$C$33,1),SUM(OFFSET(AC31,-RIGHT($D41,1),0,RIGHT($D41,1),1)),\"ERROR\"))))","v":1},{"$f":"IF(AD$18<STANDARD_YEAR,AD31,\nIF(RIGHT($D41,1)>RIGHT('Efficiency Levels'!$C$33,1),AD31,\nIF(RIGHT($D41,1)<RIGHT('Efficiency Levels'!$C$33,1),0,\nIF(RIGHT($D41,1)=RIGHT('Efficiency Levels'!$C$33,1),SUM(OFFSET(AD31,-RIGHT($D41,1),0,RIGHT($D41,1),1)),\"ERROR\"))))","v":1},{"$f":"IF(AE$18<STANDARD_YEAR,AE31,\nIF(RIGHT($D41,1)>RIGHT('Efficiency Levels'!$C$33,1),AE31,\nIF(RIGHT($D41,1)<RIGHT('Efficiency Levels'!$C$33,1),0,\nIF(RIGHT($D41,1)=RIGHT('Efficiency Levels'!$C$33,1),SUM(OFFSET(AE31,-RIGHT($D41,1),0,RIGHT($D41,1),1)),\"ERROR\"))))","v":1},{"$f":"IF(AF$18<STANDARD_YEAR,AF31,\nIF(RIGHT($D41,1)>RIGHT('Efficiency Levels'!$C$33,1),AF31,\nIF(RIGHT($D41,1)<RIGHT('Efficiency Levels'!$C$33,1),0,\nIF(RIGHT($D41,1)=RIGHT('Efficiency Levels'!$C$33,1),SUM(OFFSET(AF31,-RIGHT($D41,1),0,RIGHT($D41,1),1)),\"ERROR\"))))","v":1},{"$f":"IF(AG$18<STANDARD_YEAR,AG31,\nIF(RIGHT($D41,1)>RIGHT('Efficiency Levels'!$C$33,1),AG31,\nIF(RIGHT($D41,1)<RIGHT('Efficiency Levels'!$C$33,1),0,\nIF(RIGHT($D41,1)=RIGHT('Efficiency Levels'!$C$33,1),SUM(OFFSET(AG31,-RIGHT($D41,1),0,RIGHT($D41,1),1)),\"ERROR\"))))","v":1},{"$f":"IF(AH$18<STANDARD_YEAR,AH31,\nIF(RIGHT($D41,1)>RIGHT('Efficiency Levels'!$C$33,1),AH31,\nIF(RIGHT($D41,1)<RIGHT('Efficiency Levels'!$C$33,1),0,\nIF(RIGHT($D41,1)=RIGHT('Efficiency Levels'!$C$33,1),SUM(OFFSET(AH31,-RIGHT($D41,1),0,RIGHT($D41,1),1)),\"ERROR\"))))","v":1},{"$f":"IF(AI$18<STANDARD_YEAR,AI31,\nIF(RIGHT($D41,1)>RIGHT('Efficiency Levels'!$C$33,1),AI31,\nIF(RIGHT($D41,1)<RIGHT('Efficiency Levels'!$C$33,1),0,\nIF(RIGHT($D41,1)=RIGHT('Efficiency Levels'!$C$33,1),SUM(OFFSET(AI31,-RIGHT($D41,1),0,RIGHT($D41,1),1)),\"ERROR\"))))","v":1},{"$f":"IF(AJ$18<STANDARD_YEAR,AJ31,\nIF(RIGHT($D41,1)>RIGHT('Efficiency Levels'!$C$33,1),AJ31,\nIF(RIGHT($D41,1)<RIGHT('Efficiency Levels'!$C$33,1),0,\nIF(RIGHT($D41,1)=RIGHT('Efficiency Levels'!$C$33,1),SUM(OFFSET(AJ31,-RIGHT($D41,1),0,RIGHT($D41,1),1)),\"ERROR\"))))","v":1},{"$f":"IF(AK$18<STANDARD_YEAR,AK31,\nIF(RIGHT($D41,1)>RIGHT('Efficiency Levels'!$C$33,1),AK31,\nIF(RIGHT($D41,1)<RIGHT('Efficiency Levels'!$C$33,1),0,\nIF(RIGHT($D41,1)=RIGHT('Efficiency Levels'!$C$33,1),SUM(OFFSET(AK31,-RIGHT($D41,1),0,RIGHT($D41,1),1)),\"ERROR\"))))","v":1},{"$f":"IF(AL$18<STANDARD_YEAR,AL31,\nIF(RIGHT($D41,1)>RIGHT('Efficiency Levels'!$C$33,1),AL31,\nIF(RIGHT($D41,1)<RIGHT('Efficiency Levels'!$C$33,1),0,\nIF(RIGHT($D41,1)=RIGHT('Efficiency Levels'!$C$33,1),SUM(OFFSET(AL31,-RIGHT($D41,1),0,RIGHT($D41,1),1)),\"ERROR\"))))","v":1},{"$f":"IF(AM$18<STANDARD_YEAR,AM31,\nIF(RIGHT($D41,1)>RIGHT('Efficiency Levels'!$C$33,1),AM31,\nIF(RIGHT($D41,1)<RIGHT('Efficiency Levels'!$C$33,1),0,\nIF(RIGHT($D41,1)=RIGHT('Efficiency Levels'!$C$33,1),SUM(OFFSET(AM31,-RIGHT($D41,1),0,RIGHT($D41,1),1)),\"ERROR\"))))","v":1},{"$f":"IF(AN$18<STANDARD_YEAR,AN31,\nIF(RIGHT($D41,1)>RIGHT('Efficiency Levels'!$C$33,1),AN31,\nIF(RIGHT($D41,1)<RIGHT('Efficiency Levels'!$C$33,1),0,\nIF(RIGHT($D41,1)=RIGHT('Efficiency Levels'!$C$33,1),SUM(OFFSET(AN31,-RIGHT($D41,1),0,RIGHT($D41,1),1)),\"ERROR\"))))","v":1},{"$f":"IF(AO$18<STANDARD_YEAR,AO31,\nIF(RIGHT($D41,1)>RIGHT('Efficiency Levels'!$C$33,1),AO31,\nIF(RIGHT($D41,1)<RIGHT('Efficiency Levels'!$C$33,1),0,\nIF(RIGHT($D41,1)=RIGHT('Efficiency Levels'!$C$33,1),SUM(OFFSET(AO31,-RIGHT($D41,1),0,RIGHT($D41,1),1)),\"ERROR\"))))","v":1},{"$f":"IF(AP$18<STANDARD_YEAR,AP31,\nIF(RIGHT($D41,1)>RIGHT('Efficiency Levels'!$C$33,1),AP31,\nIF(RIGHT($D41,1)<RIGHT('Efficiency Levels'!$C$33,1),0,\nIF(RIGHT($D41,1)=RIGHT('Efficiency Levels'!$C$33,1),SUM(OFFSET(AP31,-RIGHT($D41,1),0,RIGHT($D41,1),1)),\"ERROR\"))))","v":1},{"$f":"IF(AQ$18<STANDARD_YEAR,AQ31,\nIF(RIGHT($D41,1)>RIGHT('Efficiency Levels'!$C$33,1),AQ31,\nIF(RIGHT($D41,1)<RIGHT('Efficiency Levels'!$C$33,1),0,\nIF(RIGHT($D41,1)=RIGHT('Efficiency Levels'!$C$33,1),SUM(OFFSET(AQ31,-RIGHT($D41,1),0,RIGHT($D41,1),1)),\"ERROR\"))))","v":1},{"$f":"IF(AR$18<STANDARD_YEAR,AR31,\nIF(RIGHT($D41,1)>RIGHT('Efficiency Levels'!$C$33,1),AR31,\nIF(RIGHT($D41,1)<RIGHT('Efficiency Levels'!$C$33,1),0,\nIF(RIGHT($D41,1)=RIGHT('Efficiency Levels'!$C$33,1),SUM(OFFSET(AR31,-RIGHT($D41,1),0,RIGHT($D41,1),1)),\"ERROR\"))))","v":1},{"$f":"IF(AS$18<STANDARD_YEAR,AS31,\nIF(RIGHT($D41,1)>RIGHT('Efficiency Levels'!$C$33,1),AS31,\nIF(RIGHT($D41,1)<RIGHT('Efficiency Levels'!$C$33,1),0,\nIF(RIGHT($D41,1)=RIGHT('Efficiency Levels'!$C$33,1),SUM(OFFSET(AS31,-RIGHT($D41,1),0,RIGHT($D41,1),1)),\"ERROR\"))))","v":1},{"$f":"IF(AT$18<STANDARD_YEAR,AT31,\nIF(RIGHT($D41,1)>RIGHT('Efficiency Levels'!$C$33,1),AT31,\nIF(RIGHT($D41,1)<RIGHT('Efficiency Levels'!$C$33,1),0,\nIF(RIGHT($D41,1)=RIGHT('Efficiency Levels'!$C$33,1),SUM(OFFSET(AT31,-RIGHT($D41,1),0,RIGHT($D41,1),1)),\"ERROR\"))))","v":1},{"$f":"IF(AU$18<STANDARD_YEAR,AU31,\nIF(RIGHT($D41,1)>RIGHT('Efficiency Levels'!$C$33,1),AU31,\nIF(RIGHT($D41,1)<RIGHT('Efficiency Levels'!$C$33,1),0,\nIF(RIGHT($D41,1)=RIGHT('Efficiency Levels'!$C$33,1),SUM(OFFSET(AU31,-RIGHT($D41,1),0,RIGHT($D41,1),1)),\"ERROR\"))))","v":0},{"$f":"IF(AV$18<STANDARD_YEAR,AV31,\nIF(RIGHT($D41,1)>RIGHT('Efficiency Levels'!$C$33,1),AV31,\nIF(RIGHT($D41,1)<RIGHT('Efficiency Levels'!$C$33,1),0,\nIF(RIGHT($D41,1)=RIGHT('Efficiency Levels'!$C$33,1),SUM(OFFSET(AV31,-RIGHT($D41,1),0,RIGHT($D41,1),1)),\"ERROR\"))))","v":0},{"$f":"IF(AW$18<STANDARD_YEAR,AW31,\nIF(RIGHT($D41,1)>RIGHT('Efficiency Levels'!$C$33,1),AW31,\nIF(RIGHT($D41,1)<RIGHT('Efficiency Levels'!$C$33,1),0,\nIF(RIGHT($D41,1)=RIGHT('Efficiency Levels'!$C$33,1),SUM(OFFSET(AW31,-RIGHT($D41,1),0,RIGHT($D41,1),1)),\"ERROR\"))))","v":0},{"$f":"IF(AX$18<STANDARD_YEAR,AX31,\nIF(RIGHT($D41,1)>RIGHT('Efficiency Levels'!$C$33,1),AX31,\nIF(RIGHT($D41,1)<RIGHT('Efficiency Levels'!$C$33,1),0,\nIF(RIGHT($D41,1)=RIGHT('Efficiency Levels'!$C$33,1),SUM(OFFSET(AX31,-RIGHT($D41,1),0,RIGHT($D41,1),1)),\"ERROR\"))))","v":0},{"$f":"IF(AY$18<STANDARD_YEAR,AY31,\nIF(RIGHT($D41,1)>RIGHT('Efficiency Levels'!$C$33,1),AY31,\nIF(RIGHT($D41,1)<RIGHT('Efficiency Levels'!$C$33,1),0,\nIF(RIGHT($D41,1)=RIGHT('Efficiency Levels'!$C$33,1),SUM(OFFSET(AY31,-RIGHT($D41,1),0,RIGHT($D41,1),1)),\"ERROR\"))))","v":0},{"$f":"IF(AZ$18<STANDARD_YEAR,AZ31,\nIF(RIGHT($D41,1)>RIGHT('Efficiency Levels'!$C$33,1),AZ31,\nIF(RIGHT($D41,1)<RIGHT('Efficiency Levels'!$C$33,1),0,\nIF(RIGHT($D41,1)=RIGHT('Efficiency Levels'!$C$33,1),SUM(OFFSET(AZ31,-RIGHT($D41,1),0,RIGHT($D41,1),1)),\"ERROR\"))))","v":0},{"$f":"IF(BA$18<STANDARD_YEAR,BA31,\nIF(RIGHT($D41,1)>RIGHT('Efficiency Levels'!$C$33,1),BA31,\nIF(RIGHT($D41,1)<RIGHT('Efficiency Levels'!$C$33,1),0,\nIF(RIGHT($D41,1)=RIGHT('Efficiency Levels'!$C$33,1),SUM(OFFSET(BA31,-RIGHT($D41,1),0,RIGHT($D41,1),1)),\"ERROR\"))))","v":0},{"$f":"IF(BB$18<STANDARD_YEAR,BB31,\nIF(RIGHT($D41,1)>RIGHT('Efficiency Levels'!$C$33,1),BB31,\nIF(RIGHT($D41,1)<RIGHT('Efficiency Levels'!$C$33,1),0,\nIF(RIGHT($D41,1)=RIGHT('Efficiency Levels'!$C$33,1),SUM(OFFSET(BB31,-RIGHT($D41,1),0,RIGHT($D41,1),1)),\"ERROR\"))))","v":0},{"$f":"IF(BC$18<STANDARD_YEAR,BC31,\nIF(RIGHT($D41,1)>RIGHT('Efficiency Levels'!$C$33,1),BC31,\nIF(RIGHT($D41,1)<RIGHT('Efficiency Levels'!$C$33,1),0,\nIF(RIGHT($D41,1)=RIGHT('Efficiency Levels'!$C$33,1),SUM(OFFSET(BC31,-RIGHT($D41,1),0,RIGHT($D41,1),1)),\"ERROR\"))))","v":0},{"$f":"IF(BD$18<STANDARD_YEAR,BD31,\nIF(RIGHT($D41,1)>RIGHT('Efficiency Levels'!$C$33,1),BD31,\nIF(RIGHT($D41,1)<RIGHT('Efficiency Levels'!$C$33,1),0,\nIF(RIGHT($D41,1)=RIGHT('Efficiency Levels'!$C$33,1),SUM(OFFSET(BD31,-RIGHT($D41,1),0,RIGHT($D41,1),1)),\"ERROR\"))))","v":0},{"$f":"IF(BE$18<STANDARD_YEAR,BE31,\nIF(RIGHT($D41,1)>RIGHT('Efficiency Levels'!$C$33,1),BE31,\nIF(RIGHT($D41,1)<RIGHT('Efficiency Levels'!$C$33,1),0,\nIF(RIGHT($D41,1)=RIGHT('Efficiency Levels'!$C$33,1),SUM(OFFSET(BE31,-RIGHT($D41,1),0,RIGHT($D41,1),1)),\"ERROR\"))))","v":0},{"$f":"IF(BF$18<STANDARD_YEAR,BF31,\nIF(RIGHT($D41,1)>RIGHT('Efficiency Levels'!$C$33,1),BF31,\nIF(RIGHT($D41,1)<RIGHT('Efficiency Levels'!$C$33,1),0,\nIF(RIGHT($D41,1)=RIGHT('Efficiency Levels'!$C$33,1),SUM(OFFSET(BF31,-RIGHT($D41,1),0,RIGHT($D41,1),1)),\"ERROR\"))))","v":0},{"$f":"IF(BG$18<STANDARD_YEAR,BG31,\nIF(RIGHT($D41,1)>RIGHT('Efficiency Levels'!$C$33,1),BG31,\nIF(RIGHT($D41,1)<RIGHT('Efficiency Levels'!$C$33,1),0,\nIF(RIGHT($D41,1)=RIGHT('Efficiency Levels'!$C$33,1),SUM(OFFSET(BG31,-RIGHT($D41,1),0,RIGHT($D41,1),1)),\"ERROR\"))))","v":0},{"$f":"IF(BH$18<STANDARD_YEAR,BH31,\nIF(RIGHT($D41,1)>RIGHT('Efficiency Levels'!$C$33,1),BH31,\nIF(RIGHT($D41,1)<RIGHT('Efficiency Levels'!$C$33,1),0,\nIF(RIGHT($D41,1)=RIGHT('Efficiency Levels'!$C$33,1),SUM(OFFSET(BH31,-RIGHT($D41,1),0,RIGHT($D41,1),1)),\"ERROR\"))))","v":0},{"$f":"IF(BI$18<STANDARD_YEAR,BI31,\nIF(RIGHT($D41,1)>RIGHT('Efficiency Levels'!$C$33,1),BI31,\nIF(RIGHT($D41,1)<RIGHT('Efficiency Levels'!$C$33,1),0,\nIF(RIGHT($D41,1)=RIGHT('Efficiency Levels'!$C$33,1),SUM(OFFSET(BI31,-RIGHT($D41,1),0,RIGHT($D41,1),1)),\"ERROR\"))))","v":0},{"$f":"IF(BJ$18<STANDARD_YEAR,BJ31,\nIF(RIGHT($D41,1)>RIGHT('Efficiency Levels'!$C$33,1),BJ31,\nIF(RIGHT($D41,1)<RIGHT('Efficiency Levels'!$C$33,1),0,\nIF(RIGHT($D41,1)=RIGHT('Efficiency Levels'!$C$33,1),SUM(OFFSET(BJ31,-RIGHT($D41,1),0,RIGHT($D41,1),1)),\"ERROR\"))))","v":0}]
[null,null,null,"EL1",{"$f":"OFFSET('Efficiency Levels'!$D$11,MATCH($C$27,'Efficiency Levels'!$C$9:$C$995,0)+RIGHT(D42,1),0)","v":268.60000000000002},null,null,null,{"$f":"IF(I$18<STANDARD_YEAR,I32,\nIF(RIGHT($D42,1)>RIGHT('Efficiency Levels'!$C$33,1),I32,\nIF(RIGHT($D42,1)<RIGHT('Efficiency Levels'!$C$33,1),0,\nIF(RIGHT($D42,1)=RIGHT('Efficiency Levels'!$C$33,1),SUM(OFFSET(I32,-RIGHT($D42,1),0,RIGHT($D42,1),1)),\"ERROR\"))))","v":0},{"$f":"IF(J$18<STANDARD_YEAR,J32,\nIF(RIGHT($D42,1)>RIGHT('Efficiency Levels'!$C$33,1),J32,\nIF(RIGHT($D42,1)<RIGHT('Efficiency Levels'!$C$33,1),0,\nIF(RIGHT($D42,1)=RIGHT('Efficiency Levels'!$C$33,1),SUM(OFFSET(J32,-RIGHT($D42,1),0,RIGHT($D42,1),1)),\"ERROR\"))))","v":0},{"$f":"IF(K$18<STANDARD_YEAR,K32,\nIF(RIGHT($D42,1)>RIGHT('Efficiency Levels'!$C$33,1),K32,\nIF(RIGHT($D42,1)<RIGHT('Efficiency Levels'!$C$33,1),0,\nIF(RIGHT($D42,1)=RIGHT('Efficiency Levels'!$C$33,1),SUM(OFFSET(K32,-RIGHT($D42,1),0,RIGHT($D42,1),1)),\"ERROR\"))))","v":0},{"$f":"IF(L$18<STANDARD_YEAR,L32,\nIF(RIGHT($D42,1)>RIGHT('Efficiency Levels'!$C$33,1),L32,\nIF(RIGHT($D42,1)<RIGHT('Efficiency Levels'!$C$33,1),0,\nIF(RIGHT($D42,1)=RIGHT('Efficiency Levels'!$C$33,1),SUM(OFFSET(L32,-RIGHT($D42,1),0,RIGHT($D42,1),1)),\"ERROR\"))))","v":0},{"$f":"IF(M$18<STANDARD_YEAR,M32,\nIF(RIGHT($D42,1)>RIGHT('Efficiency Levels'!$C$33,1),M32,\nIF(RIGHT($D42,1)<RIGHT('Efficiency Levels'!$C$33,1),0,\nIF(RIGHT($D42,1)=RIGHT('Efficiency Levels'!$C$33,1),SUM(OFFSET(M32,-RIGHT($D42,1),0,RIGHT($D42,1),1)),\"ERROR\"))))","v":0},{"$f":"IF(N$18<STANDARD_YEAR,N32,\nIF(RIGHT($D42,1)>RIGHT('Efficiency Levels'!$C$33,1),N32,\nIF(RIGHT($D42,1)<RIGHT('Efficiency Levels'!$C$33,1),0,\nIF(RIGHT($D42,1)=RIGHT('Efficiency Levels'!$C$33,1),SUM(OFFSET(N32,-RIGHT($D42,1),0,RIGHT($D42,1),1)),\"ERROR\"))))","v":0},{"$f":"IF(O$18<STANDARD_YEAR,O32,\nIF(RIGHT($D42,1)>RIGHT('Efficiency Levels'!$C$33,1),O32,\nIF(RIGHT($D42,1)<RIGHT('Efficiency Levels'!$C$33,1),0,\nIF(RIGHT($D42,1)=RIGHT('Efficiency Levels'!$C$33,1),SUM(OFFSET(O32,-RIGHT($D42,1),0,RIGHT($D42,1),1)),\"ERROR\"))))","v":0},{"$f":"IF(P$18<STANDARD_YEAR,P32,\nIF(RIGHT($D42,1)>RIGHT('Efficiency Levels'!$C$33,1),P32,\nIF(RIGHT($D42,1)<RIGHT('Efficiency Levels'!$C$33,1),0,\nIF(RIGHT($D42,1)=RIGHT('Efficiency Levels'!$C$33,1),SUM(OFFSET(P32,-RIGHT($D42,1),0,RIGHT($D42,1),1)),\"ERROR\"))))","v":0},{"$f":"IF(Q$18<STANDARD_YEAR,Q32,\nIF(RIGHT($D42,1)>RIGHT('Efficiency Levels'!$C$33,1),Q32,\nIF(RIGHT($D42,1)<RIGHT('Efficiency Levels'!$C$33,1),0,\nIF(RIGHT($D42,1)=RIGHT('Efficiency Levels'!$C$33,1),SUM(OFFSET(Q32,-RIGHT($D42,1),0,RIGHT($D42,1),1)),\"ERROR\"))))","v":0},{"$f":"IF(R$18<STANDARD_YEAR,R32,\nIF(RIGHT($D42,1)>RIGHT('Efficiency Levels'!$C$33,1),R32,\nIF(RIGHT($D42,1)<RIGHT('Efficiency Levels'!$C$33,1),0,\nIF(RIGHT($D42,1)=RIGHT('Efficiency Levels'!$C$33,1),SUM(OFFSET(R32,-RIGHT($D42,1),0,RIGHT($D42,1),1)),\"ERROR\"))))","v":0},{"$f":"IF(S$18<STANDARD_YEAR,S32,\nIF(RIGHT($D42,1)>RIGHT('Efficiency Levels'!$C$33,1),S32,\nIF(RIGHT($D42,1)<RIGHT('Efficiency Levels'!$C$33,1),0,\nIF(RIGHT($D42,1)=RIGHT('Efficiency Levels'!$C$33,1),SUM(OFFSET(S32,-RIGHT($D42,1),0,RIGHT($D42,1),1)),\"ERROR\"))))","v":0},{"$f":"IF(T$18<STANDARD_YEAR,T32,\nIF(RIGHT($D42,1)>RIGHT('Efficiency Levels'!$C$33,1),T32,\nIF(RIGHT($D42,1)<RIGHT('Efficiency Levels'!$C$33,1),0,\nIF(RIGHT($D42,1)=RIGHT('Efficiency Levels'!$C$33,1),SUM(OFFSET(T32,-RIGHT($D42,1),0,RIGHT($D42,1),1)),\"ERROR\"))))","v":0},{"$f":"IF(U$18<STANDARD_YEAR,U32,\nIF(RIGHT($D42,1)>RIGHT('Efficiency Levels'!$C$33,1),U32,\nIF(RIGHT($D42,1)<RIGHT('Efficiency Levels'!$C$33,1),0,\nIF(RIGHT($D42,1)=RIGHT('Efficiency Levels'!$C$33,1),SUM(OFFSET(U32,-RIGHT($D42,1),0,RIGHT($D42,1),1)),\"ERROR\"))))","v":0},{"$f":"IF(V$18<STANDARD_YEAR,V32,\nIF(RIGHT($D42,1)>RIGHT('Efficiency Levels'!$C$33,1),V32,\nIF(RIGHT($D42,1)<RIGHT('Efficiency Levels'!$C$33,1),0,\nIF(RIGHT($D42,1)=RIGHT('Efficiency Levels'!$C$33,1),SUM(OFFSET(V32,-RIGHT($D42,1),0,RIGHT($D42,1),1)),\"ERROR\"))))","v":0},{"$f":"IF(W$18<STANDARD_YEAR,W32,\nIF(RIGHT($D42,1)>RIGHT('Efficiency Levels'!$C$33,1),W32,\nIF(RIGHT($D42,1)<RIGHT('Efficiency Levels'!$C$33,1),0,\nIF(RIGHT($D42,1)=RIGHT('Efficiency Levels'!$C$33,1),SUM(OFFSET(W32,-RIGHT($D42,1),0,RIGHT($D42,1),1)),\"ERROR\"))))","v":0},{"$f":"IF(X$18<STANDARD_YEAR,X32,\nIF(RIGHT($D42,1)>RIGHT('Efficiency Levels'!$C$33,1),X32,\nIF(RIGHT($D42,1)<RIGHT('Efficiency Levels'!$C$33,1),0,\nIF(RIGHT($D42,1)=RIGHT('Efficiency Levels'!$C$33,1),SUM(OFFSET(X32,-RIGHT($D42,1),0,RIGHT($D42,1),1)),\"ERROR\"))))","v":0},{"$f":"IF(Y$18<STANDARD_YEAR,Y32,\nIF(RIGHT($D42,1)>RIGHT('Efficiency Levels'!$C$33,1),Y32,\nIF(RIGHT($D42,1)<RIGHT('Efficiency Levels'!$C$33,1),0,\nIF(RIGHT($D42,1)=RIGHT('Efficiency Levels'!$C$33,1),SUM(OFFSET(Y32,-RIGHT($D42,1),0,RIGHT($D42,1),1)),\"ERROR\"))))","v":0},{"$f":"IF(Z$18<STANDARD_YEAR,Z32,\nIF(RIGHT($D42,1)>RIGHT('Efficiency Levels'!$C$33,1),Z32,\nIF(RIGHT($D42,1)<RIGHT('Efficiency Levels'!$C$33,1),0,\nIF(RIGHT($D42,1)=RIGHT('Efficiency Levels'!$C$33,1),SUM(OFFSET(Z32,-RIGHT($D42,1),0,RIGHT($D42,1),1)),\"ERROR\"))))","v":0},{"$f":"IF(AA$18<STANDARD_YEAR,AA32,\nIF(RIGHT($D42,1)>RIGHT('Efficiency Levels'!$C$33,1),AA32,\nIF(RIGHT($D42,1)<RIGHT('Efficiency Levels'!$C$33,1),0,\nIF(RIGHT($D42,1)=RIGHT('Efficiency Levels'!$C$33,1),SUM(OFFSET(AA32,-RIGHT($D42,1),0,RIGHT($D42,1),1)),\"ERROR\"))))","v":0},{"$f":"IF(AB$18<STANDARD_YEAR,AB32,\nIF(RIGHT($D42,1)>RIGHT('Efficiency Levels'!$C$33,1),AB32,\nIF(RIGHT($D42,1)<RIGHT('Efficiency Levels'!$C$33,1),0,\nIF(RIGHT($D42,1)=RIGHT('Efficiency Levels'!$C$33,1),SUM(OFFSET(AB32,-RIGHT($D42,1),0,RIGHT($D42,1),1)),\"ERROR\"))))","v":0},{"$f":"IF(AC$18<STANDARD_YEAR,AC32,\nIF(RIGHT($D42,1)>RIGHT('Efficiency Levels'!$C$33,1),AC32,\nIF(RIGHT($D42,1)<RIGHT('Efficiency Levels'!$C$33,1),0,\nIF(RIGHT($D42,1)=RIGHT('Efficiency Levels'!$C$33,1),SUM(OFFSET(AC32,-RIGHT($D42,1),0,RIGHT($D42,1),1)),\"ERROR\"))))","v":0},{"$f":"IF(AD$18<STANDARD_YEAR,AD32,\nIF(RIGHT($D42,1)>RIGHT('Efficiency Levels'!$C$33,1),AD32,\nIF(RIGHT($D42,1)<RIGHT('Efficiency Levels'!$C$33,1),0,\nIF(RIGHT($D42,1)=RIGHT('Efficiency Levels'!$C$33,1),SUM(OFFSET(AD32,-RIGHT($D42,1),0,RIGHT($D42,1),1)),\"ERROR\"))))","v":0},{"$f":"IF(AE$18<STANDARD_YEAR,AE32,\nIF(RIGHT($D42,1)>RIGHT('Efficiency Levels'!$C$33,1),AE32,\nIF(RIGHT($D42,1)<RIGHT('Efficiency Levels'!$C$33,1),0,\nIF(RIGHT($D42,1)=RIGHT('Efficiency Levels'!$C$33,1),SUM(OFFSET(AE32,-RIGHT($D42,1),0,RIGHT($D42,1),1)),\"ERROR\"))))","v":0},{"$f":"IF(AF$18<STANDARD_YEAR,AF32,\nIF(RIGHT($D42,1)>RIGHT('Efficiency Levels'!$C$33,1),AF32,\nIF(RIGHT($D42,1)<RIGHT('Efficiency Levels'!$C$33,1),0,\nIF(RIGHT($D42,1)=RIGHT('Efficiency Levels'!$C$33,1),SUM(OFFSET(AF32,-RIGHT($D42,1),0,RIGHT($D42,1),1)),\"ERROR\"))))","v":0},{"$f":"IF(AG$18<STANDARD_YEAR,AG32,\nIF(RIGHT($D42,1)>RIGHT('Efficiency Levels'!$C$33,1),AG32,\nIF(RIGHT($D42,1)<RIGHT('Efficiency Levels'!$C$33,1),0,\nIF(RIGHT($D42,1)=RIGHT('Efficiency Levels'!$C$33,1),SUM(OFFSET(AG32,-RIGHT($D42,1),0,RIGHT($D42,1),1)),\"ERROR\"))))","v":0},{"$f":"IF(AH$18<STANDARD_YEAR,AH32,\nIF(RIGHT($D42,1)>RIGHT('Efficiency Levels'!$C$33,1),AH32,\nIF(RIGHT($D42,1)<RIGHT('Efficiency Levels'!$C$33,1),0,\nIF(RIGHT($D42,1)=RIGHT('Efficiency Levels'!$C$33,1),SUM(OFFSET(AH32,-RIGHT($D42,1),0,RIGHT($D42,1),1)),\"ERROR\"))))","v":0},{"$f":"IF(AI$18<STANDARD_YEAR,AI32,\nIF(RIGHT($D42,1)>RIGHT('Efficiency Levels'!$C$33,1),AI32,\nIF(RIGHT($D42,1)<RIGHT('Efficiency Levels'!$C$33,1),0,\nIF(RIGHT($D42,1)=RIGHT('Efficiency Levels'!$C$33,1),SUM(OFFSET(AI32,-RIGHT($D42,1),0,RIGHT($D42,1),1)),\"ERROR\"))))","v":0},{"$f":"IF(AJ$18<STANDARD_YEAR,AJ32,\nIF(RIGHT($D42,1)>RIGHT('Efficiency Levels'!$C$33,1),AJ32,\nIF(RIGHT($D42,1)<RIGHT('Efficiency Levels'!$C$33,1),0,\nIF(RIGHT($D42,1)=RIGHT('Efficiency Levels'!$C$33,1),SUM(OFFSET(AJ32,-RIGHT($D42,1),0,RIGHT($D42,1),1)),\"ERROR\"))))","v":0},{"$f":"IF(AK$18<STANDARD_YEAR,AK32,\nIF(RIGHT($D42,1)>RIGHT('Efficiency Levels'!$C$33,1),AK32,\nIF(RIGHT($D42,1)<RIGHT('Efficiency Levels'!$C$33,1),0,\nIF(RIGHT($D42,1)=RIGHT('Efficiency Levels'!$C$33,1),SUM(OFFSET(AK32,-RIGHT($D42,1),0,RIGHT($D42,1),1)),\"ERROR\"))))","v":0},{"$f":"IF(AL$18<STANDARD_YEAR,AL32,\nIF(RIGHT($D42,1)>RIGHT('Efficiency Levels'!$C$33,1),AL32,\nIF(RIGHT($D42,1)<RIGHT('Efficiency Levels'!$C$33,1),0,\nIF(RIGHT($D42,1)=RIGHT('Efficiency Levels'!$C$33,1),SUM(OFFSET(AL32,-RIGHT($D42,1),0,RIGHT($D42,1),1)),\"ERROR\"))))","v":0},{"$f":"IF(AM$18<STANDARD_YEAR,AM32,\nIF(RIGHT($D42,1)>RIGHT('Efficiency Levels'!$C$33,1),AM32,\nIF(RIGHT($D42,1)<RIGHT('Efficiency Levels'!$C$33,1),0,\nIF(RIGHT($D42,1)=RIGHT('Efficiency Levels'!$C$33,1),SUM(OFFSET(AM32,-RIGHT($D42,1),0,RIGHT($D42,1),1)),\"ERROR\"))))","v":0},{"$f":"IF(AN$18<STANDARD_YEAR,AN32,\nIF(RIGHT($D42,1)>RIGHT('Efficiency Levels'!$C$33,1),AN32,\nIF(RIGHT($D42,1)<RIGHT('Efficiency Levels'!$C$33,1),0,\nIF(RIGHT($D42,1)=RIGHT('Efficiency Levels'!$C$33,1),SUM(OFFSET(AN32,-RIGHT($D42,1),0,RIGHT($D42,1),1)),\"ERROR\"))))","v":0},{"$f":"IF(AO$18<STANDARD_YEAR,AO32,\nIF(RIGHT($D42,1)>RIGHT('Efficiency Levels'!$C$33,1),AO32,\nIF(RIGHT($D42,1)<RIGHT('Efficiency Levels'!$C$33,1),0,\nIF(RIGHT($D42,1)=RIGHT('Efficiency Levels'!$C$33,1),SUM(OFFSET(AO32,-RIGHT($D42,1),0,RIGHT($D42,1),1)),\"ERROR\"))))","v":0},{"$f":"IF(AP$18<STANDARD_YEAR,AP32,\nIF(RIGHT($D42,1)>RIGHT('Efficiency Levels'!$C$33,1),AP32,\nIF(RIGHT($D42,1)<RIGHT('Efficiency Levels'!$C$33,1),0,\nIF(RIGHT($D42,1)=RIGHT('Efficiency Levels'!$C$33,1),SUM(OFFSET(AP32,-RIGHT($D42,1),0,RIGHT($D42,1),1)),\"ERROR\"))))","v":0},{"$f":"IF(AQ$18<STANDARD_YEAR,AQ32,\nIF(RIGHT($D42,1)>RIGHT('Efficiency Levels'!$C$33,1),AQ32,\nIF(RIGHT($D42,1)<RIGHT('Efficiency Levels'!$C$33,1),0,\nIF(RIGHT($D42,1)=RIGHT('Efficiency Levels'!$C$33,1),SUM(OFFSET(AQ32,-RIGHT($D42,1),0,RIGHT($D42,1),1)),\"ERROR\"))))","v":0},{"$f":"IF(AR$18<STANDARD_YEAR,AR32,\nIF(RIGHT($D42,1)>RIGHT('Efficiency Levels'!$C$33,1),AR32,\nIF(RIGHT($D42,1)<RIGHT('Efficiency Levels'!$C$33,1),0,\nIF(RIGHT($D42,1)=RIGHT('Efficiency Levels'!$C$33,1),SUM(OFFSET(AR32,-RIGHT($D42,1),0,RIGHT($D42,1),1)),\"ERROR\"))))","v":0},{"$f":"IF(AS$18<STANDARD_YEAR,AS32,\nIF(RIGHT($D42,1)>RIGHT('Efficiency Levels'!$C$33,1),AS32,\nIF(RIGHT($D42,1)<RIGHT('Efficiency Levels'!$C$33,1),0,\nIF(RIGHT($D42,1)=RIGHT('Efficiency Levels'!$C$33,1),SUM(OFFSET(AS32,-RIGHT($D42,1),0,RIGHT($D42,1),1)),\"ERROR\"))))","v":0},{"$f":"IF(AT$18<STANDARD_YEAR,AT32,\nIF(RIGHT($D42,1)>RIGHT('Efficiency Levels'!$C$33,1),AT32,\nIF(RIGHT($D42,1)<RIGHT('Efficiency Levels'!$C$33,1),0,\nIF(RIGHT($D42,1)=RIGHT('Efficiency Levels'!$C$33,1),SUM(OFFSET(AT32,-RIGHT($D42,1),0,RIGHT($D42,1),1)),\"ERROR\"))))","v":0},{"$f":"IF(AU$18<STANDARD_YEAR,AU32,\nIF(RIGHT($D42,1)>RIGHT('Efficiency Levels'!$C$33,1),AU32,\nIF(RIGHT($D42,1)<RIGHT('Efficiency Levels'!$C$33,1),0,\nIF(RIGHT($D42,1)=RIGHT('Efficiency Levels'!$C$33,1),SUM(OFFSET(AU32,-RIGHT($D42,1),0,RIGHT($D42,1),1)),\"ERROR\"))))","v":0},{"$f":"IF(AV$18<STANDARD_YEAR,AV32,\nIF(RIGHT($D42,1)>RIGHT('Efficiency Levels'!$C$33,1),AV32,\nIF(RIGHT($D42,1)<RIGHT('Efficiency Levels'!$C$33,1),0,\nIF(RIGHT($D42,1)=RIGHT('Efficiency Levels'!$C$33,1),SUM(OFFSET(AV32,-RIGHT($D42,1),0,RIGHT($D42,1),1)),\"ERROR\"))))","v":0},{"$f":"IF(AW$18<STANDARD_YEAR,AW32,\nIF(RIGHT($D42,1)>RIGHT('Efficiency Levels'!$C$33,1),AW32,\nIF(RIGHT($D42,1)<RIGHT('Efficiency Levels'!$C$33,1),0,\nIF(RIGHT($D42,1)=RIGHT('Efficiency Levels'!$C$33,1),SUM(OFFSET(AW32,-RIGHT($D42,1),0,RIGHT($D42,1),1)),\"ERROR\"))))","v":0},{"$f":"IF(AX$18<STANDARD_YEAR,AX32,\nIF(RIGHT($D42,1)>RIGHT('Efficiency Levels'!$C$33,1),AX32,\nIF(RIGHT($D42,1)<RIGHT('Efficiency Levels'!$C$33,1),0,\nIF(RIGHT($D42,1)=RIGHT('Efficiency Levels'!$C$33,1),SUM(OFFSET(AX32,-RIGHT($D42,1),0,RIGHT($D42,1),1)),\"ERROR\"))))","v":0},{"$f":"IF(AY$18<STANDARD_YEAR,AY32,\nIF(RIGHT($D42,1)>RIGHT('Efficiency Levels'!$C$33,1),AY32,\nIF(RIGHT($D42,1)<RIGHT('Efficiency Levels'!$C$33,1),0,\nIF(RIGHT($D42,1)=RIGHT('Efficiency Levels'!$C$33,1),SUM(OFFSET(AY32,-RIGHT($D42,1),0,RIGHT($D42,1),1)),\"ERROR\"))))","v":0},{"$f":"IF(AZ$18<STANDARD_YEAR,AZ32,\nIF(RIGHT($D42,1)>RIGHT('Efficiency Levels'!$C$33,1),AZ32,\nIF(RIGHT($D42,1)<RIGHT('Efficiency Levels'!$C$33,1),0,\nIF(RIGHT($D42,1)=RIGHT('Efficiency Levels'!$C$33,1),SUM(OFFSET(AZ32,-RIGHT($D42,1),0,RIGHT($D42,1),1)),\"ERROR\"))))","v":0},{"$f":"IF(BA$18<STANDARD_YEAR,BA32,\nIF(RIGHT($D42,1)>RIGHT('Efficiency Levels'!$C$33,1),BA32,\nIF(RIGHT($D42,1)<RIGHT('Efficiency Levels'!$C$33,1),0,\nIF(RIGHT($D42,1)=RIGHT('Efficiency Levels'!$C$33,1),SUM(OFFSET(BA32,-RIGHT($D42,1),0,RIGHT($D42,1),1)),\"ERROR\"))))","v":0},{"$f":"IF(BB$18<STANDARD_YEAR,BB32,\nIF(RIGHT($D42,1)>RIGHT('Efficiency Levels'!$C$33,1),BB32,\nIF(RIGHT($D42,1)<RIGHT('Efficiency Levels'!$C$33,1),0,\nIF(RIGHT($D42,1)=RIGHT('Efficiency Levels'!$C$33,1),SUM(OFFSET(BB32,-RIGHT($D42,1),0,RIGHT($D42,1),1)),\"ERROR\"))))","v":0},{"$f":"IF(BC$18<STANDARD_YEAR,BC32,\nIF(RIGHT($D42,1)>RIGHT('Efficiency Levels'!$C$33,1),BC32,\nIF(RIGHT($D42,1)<RIGHT('Efficiency Levels'!$C$33,1),0,\nIF(RIGHT($D42,1)=RIGHT('Efficiency Levels'!$C$33,1),SUM(OFFSET(BC32,-RIGHT($D42,1),0,RIGHT($D42,1),1)),\"ERROR\"))))","v":0},{"$f":"IF(BD$18<STANDARD_YEAR,BD32,\nIF(RIGHT($D42,1)>RIGHT('Efficiency Levels'!$C$33,1),BD32,\nIF(RIGHT($D42,1)<RIGHT('Efficiency Levels'!$C$33,1),0,\nIF(RIGHT($D42,1)=RIGHT('Efficiency Levels'!$C$33,1),SUM(OFFSET(BD32,-RIGHT($D42,1),0,RIGHT($D42,1),1)),\"ERROR\"))))","v":0},{"$f":"IF(BE$18<STANDARD_YEAR,BE32,\nIF(RIGHT($D42,1)>RIGHT('Efficiency Levels'!$C$33,1),BE32,\nIF(RIGHT($D42,1)<RIGHT('Efficiency Levels'!$C$33,1),0,\nIF(RIGHT($D42,1)=RIGHT('Efficiency Levels'!$C$33,1),SUM(OFFSET(BE32,-RIGHT($D42,1),0,RIGHT($D42,1),1)),\"ERROR\"))))","v":0},{"$f":"IF(BF$18<STANDARD_YEAR,BF32,\nIF(RIGHT($D42,1)>RIGHT('Efficiency Levels'!$C$33,1),BF32,\nIF(RIGHT($D42,1)<RIGHT('Efficiency Levels'!$C$33,1),0,\nIF(RIGHT($D42,1)=RIGHT('Efficiency Levels'!$C$33,1),SUM(OFFSET(BF32,-RIGHT($D42,1),0,RIGHT($D42,1),1)),\"ERROR\"))))","v":0},{"$f":"IF(BG$18<STANDARD_YEAR,BG32,\nIF(RIGHT($D42,1)>RIGHT('Efficiency Levels'!$C$33,1),BG32,\nIF(RIGHT($D42,1)<RIGHT('Efficiency Levels'!$C$33,1),0,\nIF(RIGHT($D42,1)=RIGHT('Efficiency Levels'!$C$33,1),SUM(OFFSET(BG32,-RIGHT($D42,1),0,RIGHT($D42,1),1)),\"ERROR\"))))","v":0},{"$f":"IF(BH$18<STANDARD_YEAR,BH32,\nIF(RIGHT($D42,1)>RIGHT('Efficiency Levels'!$C$33,1),BH32,\nIF(RIGHT($D42,1)<RIGHT('Efficiency Levels'!$C$33,1),0,\nIF(RIGHT($D42,1)=RIGHT('Efficiency Levels'!$C$33,1),SUM(OFFSET(BH32,-RIGHT($D42,1),0,RIGHT($D42,1),1)),\"ERROR\"))))","v":0},{"$f":"IF(BI$18<STANDARD_YEAR,BI32,\nIF(RIGHT($D42,1)>RIGHT('Efficiency Levels'!$C$33,1),BI32,\nIF(RIGHT($D42,1)<RIGHT('Efficiency Levels'!$C$33,1),0,\nIF(RIGHT($D42,1)=RIGHT('Efficiency Levels'!$C$33,1),SUM(OFFSET(BI32,-RIGHT($D42,1),0,RIGHT($D42,1),1)),\"ERROR\"))))","v":0},{"$f":"IF(BJ$18<STANDARD_YEAR,BJ32,\nIF(RIGHT($D42,1)>RIGHT('Efficiency Levels'!$C$33,1),BJ32,\nIF(RIGHT($D42,1)<RIGHT('Efficiency Levels'!$C$33,1),0,\nIF(RIGHT($D42,1)=RIGHT('Efficiency Levels'!$C$33,1),SUM(OFFSET(BJ32,-RIGHT($D42,1),0,RIGHT($D42,1),1)),\"ERROR\"))))","v":0}]
[null,null,null,"EL2",{"$f":"OFFSET('Efficiency Levels'!$D$11,MATCH($C$27,'Efficiency Levels'!$C$9:$C$995,0)+RIGHT(D43,1),0)","v":263.5},null,null,null,{"$f":"IF(I$18<STANDARD_YEAR,I33,\nIF(RIGHT($D43,1)>RIGHT('Efficiency Levels'!$C$33,1),I33,\nIF(RIGHT($D43,1)<RIGHT('Efficiency Levels'!$C$33,1),0,\nIF(RIGHT($D43,1)=RIGHT('Efficiency Levels'!$C$33,1),SUM(OFFSET(I33,-RIGHT($D43,1),0,RIGHT($D43,1),1)),\"ERROR\"))))","v":0},{"$f":"IF(J$18<STANDARD_YEAR,J33,\nIF(RIGHT($D43,1)>RIGHT('Efficiency Levels'!$C$33,1),J33,\nIF(RIGHT($D43,1)<RIGHT('Efficiency Levels'!$C$33,1),0,\nIF(RIGHT($D43,1)=RIGHT('Efficiency Levels'!$C$33,1),SUM(OFFSET(J33,-RIGHT($D43,1),0,RIGHT($D43,1),1)),\"ERROR\"))))","v":0},{"$f":"IF(K$18<STANDARD_YEAR,K33,\nIF(RIGHT($D43,1)>RIGHT('Efficiency Levels'!$C$33,1),K33,\nIF(RIGHT($D43,1)<RIGHT('Efficiency Levels'!$C$33,1),0,\nIF(RIGHT($D43,1)=RIGHT('Efficiency Levels'!$C$33,1),SUM(OFFSET(K33,-RIGHT($D43,1),0,RIGHT($D43,1),1)),\"ERROR\"))))","v":0},{"$f":"IF(L$18<STANDARD_YEAR,L33,\nIF(RIGHT($D43,1)>RIGHT('Efficiency Levels'!$C$33,1),L33,\nIF(RIGHT($D43,1)<RIGHT('Efficiency Levels'!$C$33,1),0,\nIF(RIGHT($D43,1)=RIGHT('Efficiency Levels'!$C$33,1),SUM(OFFSET(L33,-RIGHT($D43,1),0,RIGHT($D43,1),1)),\"ERROR\"))))","v":0},{"$f":"IF(M$18<STANDARD_YEAR,M33,\nIF(RIGHT($D43,1)>RIGHT('Efficiency Levels'!$C$33,1),M33,\nIF(RIGHT($D43,1)<RIGHT('Efficiency Levels'!$C$33,1),0,\nIF(RIGHT($D43,1)=RIGHT('Efficiency Levels'!$C$33,1),SUM(OFFSET(M33,-RIGHT($D43,1),0,RIGHT($D43,1),1)),\"ERROR\"))))","v":0},{"$f":"IF(N$18<STANDARD_YEAR,N33,\nIF(RIGHT($D43,1)>RIGHT('Efficiency Levels'!$C$33,1),N33,\nIF(RIGHT($D43,1)<RIGHT('Efficiency Levels'!$C$33,1),0,\nIF(RIGHT($D43,1)=RIGHT('Efficiency Levels'!$C$33,1),SUM(OFFSET(N33,-RIGHT($D43,1),0,RIGHT($D43,1),1)),\"ERROR\"))))","v":0},{"$f":"IF(O$18<STANDARD_YEAR,O33,\nIF(RIGHT($D43,1)>RIGHT('Efficiency Levels'!$C$33,1),O33,\nIF(RIGHT($D43,1)<RIGHT('Efficiency Levels'!$C$33,1),0,\nIF(RIGHT($D43,1)=RIGHT('Efficiency Levels'!$C$33,1),SUM(OFFSET(O33,-RIGHT($D43,1),0,RIGHT($D43,1),1)),\"ERROR\"))))","v":0},{"$f":"IF(P$18<STANDARD_YEAR,P33,\nIF(RIGHT($D43,1)>RIGHT('Efficiency Levels'!$C$33,1),P33,\nIF(RIGHT($D43,1)<RIGHT('Efficiency Levels'!$C$33,1),0,\nIF(RIGHT($D43,1)=RIGHT('Efficiency Levels'!$C$33,1),SUM(OFFSET(P33,-RIGHT($D43,1),0,RIGHT($D43,1),1)),\"ERROR\"))))","v":0},{"$f":"IF(Q$18<STANDARD_YEAR,Q33,\nIF(RIGHT($D43,1)>RIGHT('Efficiency Levels'!$C$33,1),Q33,\nIF(RIGHT($D43,1)<RIGHT('Efficiency Levels'!$C$33,1),0,\nIF(RIGHT($D43,1)=RIGHT('Efficiency Levels'!$C$33,1),SUM(OFFSET(Q33,-RIGHT($D43,1),0,RIGHT($D43,1),1)),\"ERROR\"))))","v":0},{"$f":"IF(R$18<STANDARD_YEAR,R33,\nIF(RIGHT($D43,1)>RIGHT('Efficiency Levels'!$C$33,1),R33,\nIF(RIGHT($D43,1)<RIGHT('Efficiency Levels'!$C$33,1),0,\nIF(RIGHT($D43,1)=RIGHT('Efficiency Levels'!$C$33,1),SUM(OFFSET(R33,-RIGHT($D43,1),0,RIGHT($D43,1),1)),\"ERROR\"))))","v":0},{"$f":"IF(S$18<STANDARD_YEAR,S33,\nIF(RIGHT($D43,1)>RIGHT('Efficiency Levels'!$C$33,1),S33,\nIF(RIGHT($D43,1)<RIGHT('Efficiency Levels'!$C$33,1),0,\nIF(RIGHT($D43,1)=RIGHT('Efficiency Levels'!$C$33,1),SUM(OFFSET(S33,-RIGHT($D43,1),0,RIGHT($D43,1),1)),\"ERROR\"))))","v":0},{"$f":"IF(T$18<STANDARD_YEAR,T33,\nIF(RIGHT($D43,1)>RIGHT('Efficiency Levels'!$C$33,1),T33,\nIF(RIGHT($D43,1)<RIGHT('Efficiency Levels'!$C$33,1),0,\nIF(RIGHT($D43,1)=RIGHT('Efficiency Levels'!$C$33,1),SUM(OFFSET(T33,-RIGHT($D43,1),0,RIGHT($D43,1),1)),\"ERROR\"))))","v":0},{"$f":"IF(U$18<STANDARD_YEAR,U33,\nIF(RIGHT($D43,1)>RIGHT('Efficiency Levels'!$C$33,1),U33,\nIF(RIGHT($D43,1)<RIGHT('Efficiency Levels'!$C$33,1),0,\nIF(RIGHT($D43,1)=RIGHT('Efficiency Levels'!$C$33,1),SUM(OFFSET(U33,-RIGHT($D43,1),0,RIGHT($D43,1),1)),\"ERROR\"))))","v":0},{"$f":"IF(V$18<STANDARD_YEAR,V33,\nIF(RIGHT($D43,1)>RIGHT('Efficiency Levels'!$C$33,1),V33,\nIF(RIGHT($D43,1)<RIGHT('Efficiency Levels'!$C$33,1),0,\nIF(RIGHT($D43,1)=RIGHT('Efficiency Levels'!$C$33,1),SUM(OFFSET(V33,-RIGHT($D43,1),0,RIGHT($D43,1),1)),\"ERROR\"))))","v":0},{"$f":"IF(W$18<STANDARD_YEAR,W33,\nIF(RIGHT($D43,1)>RIGHT('Efficiency Levels'!$C$33,1),W33,\nIF(RIGHT($D43,1)<RIGHT('Efficiency Levels'!$C$33,1),0,\nIF(RIGHT($D43,1)=RIGHT('Efficiency Levels'!$C$33,1),SUM(OFFSET(W33,-RIGHT($D43,1),0,RIGHT($D43,1),1)),\"ERROR\"))))","v":0},{"$f":"IF(X$18<STANDARD_YEAR,X33,\nIF(RIGHT($D43,1)>RIGHT('Efficiency Levels'!$C$33,1),X33,\nIF(RIGHT($D43,1)<RIGHT('Efficiency Levels'!$C$33,1),0,\nIF(RIGHT($D43,1)=RIGHT('Efficiency Levels'!$C$33,1),SUM(OFFSET(X33,-RIGHT($D43,1),0,RIGHT($D43,1),1)),\"ERROR\"))))","v":0},{"$f":"IF(Y$18<STANDARD_YEAR,Y33,\nIF(RIGHT($D43,1)>RIGHT('Efficiency Levels'!$C$33,1),Y33,\nIF(RIGHT($D43,1)<RIGHT('Efficiency Levels'!$C$33,1),0,\nIF(RIGHT($D43,1)=RIGHT('Efficiency Levels'!$C$33,1),SUM(OFFSET(Y33,-RIGHT($D43,1),0,RIGHT($D43,1),1)),\"ERROR\"))))","v":0},{"$f":"IF(Z$18<STANDARD_YEAR,Z33,\nIF(RIGHT($D43,1)>RIGHT('Efficiency Levels'!$C$33,1),Z33,\nIF(RIGHT($D43,1)<RIGHT('Efficiency Levels'!$C$33,1),0,\nIF(RIGHT($D43,1)=RIGHT('Efficiency Levels'!$C$33,1),SUM(OFFSET(Z33,-RIGHT($D43,1),0,RIGHT($D43,1),1)),\"ERROR\"))))","v":0},{"$f":"IF(AA$18<STANDARD_YEAR,AA33,\nIF(RIGHT($D43,1)>RIGHT('Efficiency Levels'!$C$33,1),AA33,\nIF(RIGHT($D43,1)<RIGHT('Efficiency Levels'!$C$33,1),0,\nIF(RIGHT($D43,1)=RIGHT('Efficiency Levels'!$C$33,1),SUM(OFFSET(AA33,-RIGHT($D43,1),0,RIGHT($D43,1),1)),\"ERROR\"))))","v":0},{"$f":"IF(AB$18<STANDARD_YEAR,AB33,\nIF(RIGHT($D43,1)>RIGHT('Efficiency Levels'!$C$33,1),AB33,\nIF(RIGHT($D43,1)<RIGHT('Efficiency Levels'!$C$33,1),0,\nIF(RIGHT($D43,1)=RIGHT('Efficiency Levels'!$C$33,1),SUM(OFFSET(AB33,-RIGHT($D43,1),0,RIGHT($D43,1),1)),\"ERROR\"))))","v":0},{"$f":"IF(AC$18<STANDARD_YEAR,AC33,\nIF(RIGHT($D43,1)>RIGHT('Efficiency Levels'!$C$33,1),AC33,\nIF(RIGHT($D43,1)<RIGHT('Efficiency Levels'!$C$33,1),0,\nIF(RIGHT($D43,1)=RIGHT('Efficiency Levels'!$C$33,1),SUM(OFFSET(AC33,-RIGHT($D43,1),0,RIGHT($D43,1),1)),\"ERROR\"))))","v":0},{"$f":"IF(AD$18<STANDARD_YEAR,AD33,\nIF(RIGHT($D43,1)>RIGHT('Efficiency Levels'!$C$33,1),AD33,\nIF(RIGHT($D43,1)<RIGHT('Efficiency Levels'!$C$33,1),0,\nIF(RIGHT($D43,1)=RIGHT('Efficiency Levels'!$C$33,1),SUM(OFFSET(AD33,-RIGHT($D43,1),0,RIGHT($D43,1),1)),\"ERROR\"))))","v":0},{"$f":"IF(AE$18<STANDARD_YEAR,AE33,\nIF(RIGHT($D43,1)>RIGHT('Efficiency Levels'!$C$33,1),AE33,\nIF(RIGHT($D43,1)<RIGHT('Efficiency Levels'!$C$33,1),0,\nIF(RIGHT($D43,1)=RIGHT('Efficiency Levels'!$C$33,1),SUM(OFFSET(AE33,-RIGHT($D43,1),0,RIGHT($D43,1),1)),\"ERROR\"))))","v":0},{"$f":"IF(AF$18<STANDARD_YEAR,AF33,\nIF(RIGHT($D43,1)>RIGHT('Efficiency Levels'!$C$33,1),AF33,\nIF(RIGHT($D43,1)<RIGHT('Efficiency Levels'!$C$33,1),0,\nIF(RIGHT($D43,1)=RIGHT('Efficiency Levels'!$C$33,1),SUM(OFFSET(AF33,-RIGHT($D43,1),0,RIGHT($D43,1),1)),\"ERROR\"))))","v":0},{"$f":"IF(AG$18<STANDARD_YEAR,AG33,\nIF(RIGHT($D43,1)>RIGHT('Efficiency Levels'!$C$33,1),AG33,\nIF(RIGHT($D43,1)<RIGHT('Efficiency Levels'!$C$33,1),0,\nIF(RIGHT($D43,1)=RIGHT('Efficiency Levels'!$C$33,1),SUM(OFFSET(AG33,-RIGHT($D43,1),0,RIGHT($D43,1),1)),\"ERROR\"))))","v":0},{"$f":"IF(AH$18<STANDARD_YEAR,AH33,\nIF(RIGHT($D43,1)>RIGHT('Efficiency Levels'!$C$33,1),AH33,\nIF(RIGHT($D43,1)<RIGHT('Efficiency Levels'!$C$33,1),0,\nIF(RIGHT($D43,1)=RIGHT('Efficiency Levels'!$C$33,1),SUM(OFFSET(AH33,-RIGHT($D43,1),0,RIGHT($D43,1),1)),\"ERROR\"))))","v":0},{"$f":"IF(AI$18<STANDARD_YEAR,AI33,\nIF(RIGHT($D43,1)>RIGHT('Efficiency Levels'!$C$33,1),AI33,\nIF(RIGHT($D43,1)<RIGHT('Efficiency Levels'!$C$33,1),0,\nIF(RIGHT($D43,1)=RIGHT('Efficiency Levels'!$C$33,1),SUM(OFFSET(AI33,-RIGHT($D43,1),0,RIGHT($D43,1),1)),\"ERROR\"))))","v":0},{"$f":"IF(AJ$18<STANDARD_YEAR,AJ33,\nIF(RIGHT($D43,1)>RIGHT('Efficiency Levels'!$C$33,1),AJ33,\nIF(RIGHT($D43,1)<RIGHT('Efficiency Levels'!$C$33,1),0,\nIF(RIGHT($D43,1)=RIGHT('Efficiency Levels'!$C$33,1),SUM(OFFSET(AJ33,-RIGHT($D43,1),0,RIGHT($D43,1),1)),\"ERROR\"))))","v":0},{"$f":"IF(AK$18<STANDARD_YEAR,AK33,\nIF(RIGHT($D43,1)>RIGHT('Efficiency Levels'!$C$33,1),AK33,\nIF(RIGHT($D43,1)<RIGHT('Efficiency Levels'!$C$33,1),0,\nIF(RIGHT($D43,1)=RIGHT('Efficiency Levels'!$C$33,1),SUM(OFFSET(AK33,-RIGHT($D43,1),0,RIGHT($D43,1),1)),\"ERROR\"))))","v":0},{"$f":"IF(AL$18<STANDARD_YEAR,AL33,\nIF(RIGHT($D43,1)>RIGHT('Efficiency Levels'!$C$33,1),AL33,\nIF(RIGHT($D43,1)<RIGHT('Efficiency Levels'!$C$33,1),0,\nIF(RIGHT($D43,1)=RIGHT('Efficiency Levels'!$C$33,1),SUM(OFFSET(AL33,-RIGHT($D43,1),0,RIGHT($D43,1),1)),\"ERROR\"))))","v":0},{"$f":"IF(AM$18<STANDARD_YEAR,AM33,\nIF(RIGHT($D43,1)>RIGHT('Efficiency Levels'!$C$33,1),AM33,\nIF(RIGHT($D43,1)<RIGHT('Efficiency Levels'!$C$33,1),0,\nIF(RIGHT($D43,1)=RIGHT('Efficiency Levels'!$C$33,1),SUM(OFFSET(AM33,-RIGHT($D43,1),0,RIGHT($D43,1),1)),\"ERROR\"))))","v":0},{"$f":"IF(AN$18<STANDARD_YEAR,AN33,\nIF(RIGHT($D43,1)>RIGHT('Efficiency Levels'!$C$33,1),AN33,\nIF(RIGHT($D43,1)<RIGHT('Efficiency Levels'!$C$33,1),0,\nIF(RIGHT($D43,1)=RIGHT('Efficiency Levels'!$C$33,1),SUM(OFFSET(AN33,-RIGHT($D43,1),0,RIGHT($D43,1),1)),\"ERROR\"))))","v":0},{"$f":"IF(AO$18<STANDARD_YEAR,AO33,\nIF(RIGHT($D43,1)>RIGHT('Efficiency Levels'!$C$33,1),AO33,\nIF(RIGHT($D43,1)<RIGHT('Efficiency Levels'!$C$33,1),0,\nIF(RIGHT($D43,1)=RIGHT('Efficiency Levels'!$C$33,1),SUM(OFFSET(AO33,-RIGHT($D43,1),0,RIGHT($D43,1),1)),\"ERROR\"))))","v":0},{"$f":"IF(AP$18<STANDARD_YEAR,AP33,\nIF(RIGHT($D43,1)>RIGHT('Efficiency Levels'!$C$33,1),AP33,\nIF(RIGHT($D43,1)<RIGHT('Efficiency Levels'!$C$33,1),0,\nIF(RIGHT($D43,1)=RIGHT('Efficiency Levels'!$C$33,1),SUM(OFFSET(AP33,-RIGHT($D43,1),0,RIGHT($D43,1),1)),\"ERROR\"))))","v":0},{"$f":"IF(AQ$18<STANDARD_YEAR,AQ33,\nIF(RIGHT($D43,1)>RIGHT('Efficiency Levels'!$C$33,1),AQ33,\nIF(RIGHT($D43,1)<RIGHT('Efficiency Levels'!$C$33,1),0,\nIF(RIGHT($D43,1)=RIGHT('Efficiency Levels'!$C$33,1),SUM(OFFSET(AQ33,-RIGHT($D43,1),0,RIGHT($D43,1),1)),\"ERROR\"))))","v":0},{"$f":"IF(AR$18<STANDARD_YEAR,AR33,\nIF(RIGHT($D43,1)>RIGHT('Efficiency Levels'!$C$33,1),AR33,\nIF(RIGHT($D43,1)<RIGHT('Efficiency Levels'!$C$33,1),0,\nIF(RIGHT($D43,1)=RIGHT('Efficiency Levels'!$C$33,1),SUM(OFFSET(AR33,-RIGHT($D43,1),0,RIGHT($D43,1),1)),\"ERROR\"))))","v":0},{"$f":"IF(AS$18<STANDARD_YEAR,AS33,\nIF(RIGHT($D43,1)>RIGHT('Efficiency Levels'!$C$33,1),AS33,\nIF(RIGHT($D43,1)<RIGHT('Efficiency Levels'!$C$33,1),0,\nIF(RIGHT($D43,1)=RIGHT('Efficiency Levels'!$C$33,1),SUM(OFFSET(AS33,-RIGHT($D43,1),0,RIGHT($D43,1),1)),\"ERROR\"))))","v":0},{"$f":"IF(AT$18<STANDARD_YEAR,AT33,\nIF(RIGHT($D43,1)>RIGHT('Efficiency Levels'!$C$33,1),AT33,\nIF(RIGHT($D43,1)<RIGHT('Efficiency Levels'!$C$33,1),0,\nIF(RIGHT($D43,1)=RIGHT('Efficiency Levels'!$C$33,1),SUM(OFFSET(AT33,-RIGHT($D43,1),0,RIGHT($D43,1),1)),\"ERROR\"))))","v":0},{"$f":"IF(AU$18<STANDARD_YEAR,AU33,\nIF(RIGHT($D43,1)>RIGHT('Efficiency Levels'!$C$33,1),AU33,\nIF(RIGHT($D43,1)<RIGHT('Efficiency Levels'!$C$33,1),0,\nIF(RIGHT($D43,1)=RIGHT('Efficiency Levels'!$C$33,1),SUM(OFFSET(AU33,-RIGHT($D43,1),0,RIGHT($D43,1),1)),\"ERROR\"))))","v":0},{"$f":"IF(AV$18<STANDARD_YEAR,AV33,\nIF(RIGHT($D43,1)>RIGHT('Efficiency Levels'!$C$33,1),AV33,\nIF(RIGHT($D43,1)<RIGHT('Efficiency Levels'!$C$33,1),0,\nIF(RIGHT($D43,1)=RIGHT('Efficiency Levels'!$C$33,1),SUM(OFFSET(AV33,-RIGHT($D43,1),0,RIGHT($D43,1),1)),\"ERROR\"))))","v":0},{"$f":"IF(AW$18<STANDARD_YEAR,AW33,\nIF(RIGHT($D43,1)>RIGHT('Efficiency Levels'!$C$33,1),AW33,\nIF(RIGHT($D43,1)<RIGHT('Efficiency Levels'!$C$33,1),0,\nIF(RIGHT($D43,1)=RIGHT('Efficiency Levels'!$C$33,1),SUM(OFFSET(AW33,-RIGHT($D43,1),0,RIGHT($D43,1),1)),\"ERROR\"))))","v":0},{"$f":"IF(AX$18<STANDARD_YEAR,AX33,\nIF(RIGHT($D43,1)>RIGHT('Efficiency Levels'!$C$33,1),AX33,\nIF(RIGHT($D43,1)<RIGHT('Efficiency Levels'!$C$33,1),0,\nIF(RIGHT($D43,1)=RIGHT('Efficiency Levels'!$C$33,1),SUM(OFFSET(AX33,-RIGHT($D43,1),0,RIGHT($D43,1),1)),\"ERROR\"))))","v":0},{"$f":"IF(AY$18<STANDARD_YEAR,AY33,\nIF(RIGHT($D43,1)>RIGHT('Efficiency Levels'!$C$33,1),AY33,\nIF(RIGHT($D43,1)<RIGHT('Efficiency Levels'!$C$33,1),0,\nIF(RIGHT($D43,1)=RIGHT('Efficiency Levels'!$C$33,1),SUM(OFFSET(AY33,-RIGHT($D43,1),0,RIGHT($D43,1),1)),\"ERROR\"))))","v":0},{"$f":"IF(AZ$18<STANDARD_YEAR,AZ33,\nIF(RIGHT($D43,1)>RIGHT('Efficiency Levels'!$C$33,1),AZ33,\nIF(RIGHT($D43,1)<RIGHT('Efficiency Levels'!$C$33,1),0,\nIF(RIGHT($D43,1)=RIGHT('Efficiency Levels'!$C$33,1),SUM(OFFSET(AZ33,-RIGHT($D43,1),0,RIGHT($D43,1),1)),\"ERROR\"))))","v":0},{"$f":"IF(BA$18<STANDARD_YEAR,BA33,\nIF(RIGHT($D43,1)>RIGHT('Efficiency Levels'!$C$33,1),BA33,\nIF(RIGHT($D43,1)<RIGHT('Efficiency Levels'!$C$33,1),0,\nIF(RIGHT($D43,1)=RIGHT('Efficiency Levels'!$C$33,1),SUM(OFFSET(BA33,-RIGHT($D43,1),0,RIGHT($D43,1),1)),\"ERROR\"))))","v":0},{"$f":"IF(BB$18<STANDARD_YEAR,BB33,\nIF(RIGHT($D43,1)>RIGHT('Efficiency Levels'!$C$33,1),BB33,\nIF(RIGHT($D43,1)<RIGHT('Efficiency Levels'!$C$33,1),0,\nIF(RIGHT($D43,1)=RIGHT('Efficiency Levels'!$C$33,1),SUM(OFFSET(BB33,-RIGHT($D43,1),0,RIGHT($D43,1),1)),\"ERROR\"))))","v":0},{"$f":"IF(BC$18<STANDARD_YEAR,BC33,\nIF(RIGHT($D43,1)>RIGHT('Efficiency Levels'!$C$33,1),BC33,\nIF(RIGHT($D43,1)<RIGHT('Efficiency Levels'!$C$33,1),0,\nIF(RIGHT($D43,1)=RIGHT('Efficiency Levels'!$C$33,1),SUM(OFFSET(BC33,-RIGHT($D43,1),0,RIGHT($D43,1),1)),\"ERROR\"))))","v":0},{"$f":"IF(BD$18<STANDARD_YEAR,BD33,\nIF(RIGHT($D43,1)>RIGHT('Efficiency Levels'!$C$33,1),BD33,\nIF(RIGHT($D43,1)<RIGHT('Efficiency Levels'!$C$33,1),0,\nIF(RIGHT($D43,1)=RIGHT('Efficiency Levels'!$C$33,1),SUM(OFFSET(BD33,-RIGHT($D43,1),0,RIGHT($D43,1),1)),\"ERROR\"))))","v":0},{"$f":"IF(BE$18<STANDARD_YEAR,BE33,\nIF(RIGHT($D43,1)>RIGHT('Efficiency Levels'!$C$33,1),BE33,\nIF(RIGHT($D43,1)<RIGHT('Efficiency Levels'!$C$33,1),0,\nIF(RIGHT($D43,1)=RIGHT('Efficiency Levels'!$C$33,1),SUM(OFFSET(BE33,-RIGHT($D43,1),0,RIGHT($D43,1),1)),\"ERROR\"))))","v":0},{"$f":"IF(BF$18<STANDARD_YEAR,BF33,\nIF(RIGHT($D43,1)>RIGHT('Efficiency Levels'!$C$33,1),BF33,\nIF(RIGHT($D43,1)<RIGHT('Efficiency Levels'!$C$33,1),0,\nIF(RIGHT($D43,1)=RIGHT('Efficiency Levels'!$C$33,1),SUM(OFFSET(BF33,-RIGHT($D43,1),0,RIGHT($D43,1),1)),\"ERROR\"))))","v":0},{"$f":"IF(BG$18<STANDARD_YEAR,BG33,\nIF(RIGHT($D43,1)>RIGHT('Efficiency Levels'!$C$33,1),BG33,\nIF(RIGHT($D43,1)<RIGHT('Efficiency Levels'!$C$33,1),0,\nIF(RIGHT($D43,1)=RIGHT('Efficiency Levels'!$C$33,1),SUM(OFFSET(BG33,-RIGHT($D43,1),0,RIGHT($D43,1),1)),\"ERROR\"))))","v":0},{"$f":"IF(BH$18<STANDARD_YEAR,BH33,\nIF(RIGHT($D43,1)>RIGHT('Efficiency Levels'!$C$33,1),BH33,\nIF(RIGHT($D43,1)<RIGHT('Efficiency Levels'!$C$33,1),0,\nIF(RIGHT($D43,1)=RIGHT('Efficiency Levels'!$C$33,1),SUM(OFFSET(BH33,-RIGHT($D43,1),0,RIGHT($D43,1),1)),\"ERROR\"))))","v":0},{"$f":"IF(BI$18<STANDARD_YEAR,BI33,\nIF(RIGHT($D43,1)>RIGHT('Efficiency Levels'!$C$33,1),BI33,\nIF(RIGHT($D43,1)<RIGHT('Efficiency Levels'!$C$33,1),0,\nIF(RIGHT($D43,1)=RIGHT('Efficiency Levels'!$C$33,1),SUM(OFFSET(BI33,-RIGHT($D43,1),0,RIGHT($D43,1),1)),\"ERROR\"))))","v":0},{"$f":"IF(BJ$18<STANDARD_YEAR,BJ33,\nIF(RIGHT($D43,1)>RIGHT('Efficiency Levels'!$C$33,1),BJ33,\nIF(RIGHT($D43,1)<RIGHT('Efficiency Levels'!$C$33,1),0,\nIF(RIGHT($D43,1)=RIGHT('Efficiency Levels'!$C$33,1),SUM(OFFSET(BJ33,-RIGHT($D43,1),0,RIGHT($D43,1),1)),\"ERROR\"))))","v":0}]
[null,null,null,"EL3",{"$f":"OFFSET('Efficiency Levels'!$D$11,MATCH($C$27,'Efficiency Levels'!$C$9:$C$995,0)+RIGHT(D44,1),0)","v":259.8},null,null,null,{"$f":"IF(I$18<STANDARD_YEAR,I34,\nIF(RIGHT($D44,1)>RIGHT('Efficiency Levels'!$C$33,1),I34,\nIF(RIGHT($D44,1)<RIGHT('Efficiency Levels'!$C$33,1),0,\nIF(RIGHT($D44,1)=RIGHT('Efficiency Levels'!$C$33,1),SUM(OFFSET(I34,-RIGHT($D44,1),0,RIGHT($D44,1),1)),\"ERROR\"))))","v":0},{"$f":"IF(J$18<STANDARD_YEAR,J34,\nIF(RIGHT($D44,1)>RIGHT('Efficiency Levels'!$C$33,1),J34,\nIF(RIGHT($D44,1)<RIGHT('Efficiency Levels'!$C$33,1),0,\nIF(RIGHT($D44,1)=RIGHT('Efficiency Levels'!$C$33,1),SUM(OFFSET(J34,-RIGHT($D44,1),0,RIGHT($D44,1),1)),\"ERROR\"))))","v":0},{"$f":"IF(K$18<STANDARD_YEAR,K34,\nIF(RIGHT($D44,1)>RIGHT('Efficiency Levels'!$C$33,1),K34,\nIF(RIGHT($D44,1)<RIGHT('Efficiency Levels'!$C$33,1),0,\nIF(RIGHT($D44,1)=RIGHT('Efficiency Levels'!$C$33,1),SUM(OFFSET(K34,-RIGHT($D44,1),0,RIGHT($D44,1),1)),\"ERROR\"))))","v":0},{"$f":"IF(L$18<STANDARD_YEAR,L34,\nIF(RIGHT($D44,1)>RIGHT('Efficiency Levels'!$C$33,1),L34,\nIF(RIGHT($D44,1)<RIGHT('Efficiency Levels'!$C$33,1),0,\nIF(RIGHT($D44,1)=RIGHT('Efficiency Levels'!$C$33,1),SUM(OFFSET(L34,-RIGHT($D44,1),0,RIGHT($D44,1),1)),\"ERROR\"))))","v":0},{"$f":"IF(M$18<STANDARD_YEAR,M34,\nIF(RIGHT($D44,1)>RIGHT('Efficiency Levels'!$C$33,1),M34,\nIF(RIGHT($D44,1)<RIGHT('Efficiency Levels'!$C$33,1),0,\nIF(RIGHT($D44,1)=RIGHT('Efficiency Levels'!$C$33,1),SUM(OFFSET(M34,-RIGHT($D44,1),0,RIGHT($D44,1),1)),\"ERROR\"))))","v":0},{"$f":"IF(N$18<STANDARD_YEAR,N34,\nIF(RIGHT($D44,1)>RIGHT('Efficiency Levels'!$C$33,1),N34,\nIF(RIGHT($D44,1)<RIGHT('Efficiency Levels'!$C$33,1),0,\nIF(RIGHT($D44,1)=RIGHT('Efficiency Levels'!$C$33,1),SUM(OFFSET(N34,-RIGHT($D44,1),0,RIGHT($D44,1),1)),\"ERROR\"))))","v":0},{"$f":"IF(O$18<STANDARD_YEAR,O34,\nIF(RIGHT($D44,1)>RIGHT('Efficiency Levels'!$C$33,1),O34,\nIF(RIGHT($D44,1)<RIGHT('Efficiency Levels'!$C$33,1),0,\nIF(RIGHT($D44,1)=RIGHT('Efficiency Levels'!$C$33,1),SUM(OFFSET(O34,-RIGHT($D44,1),0,RIGHT($D44,1),1)),\"ERROR\"))))","v":0},{"$f":"IF(P$18<STANDARD_YEAR,P34,\nIF(RIGHT($D44,1)>RIGHT('Efficiency Levels'!$C$33,1),P34,\nIF(RIGHT($D44,1)<RIGHT('Efficiency Levels'!$C$33,1),0,\nIF(RIGHT($D44,1)=RIGHT('Efficiency Levels'!$C$33,1),SUM(OFFSET(P34,-RIGHT($D44,1),0,RIGHT($D44,1),1)),\"ERROR\"))))","v":0},{"$f":"IF(Q$18<STANDARD_YEAR,Q34,\nIF(RIGHT($D44,1)>RIGHT('Efficiency Levels'!$C$33,1),Q34,\nIF(RIGHT($D44,1)<RIGHT('Efficiency Levels'!$C$33,1),0,\nIF(RIGHT($D44,1)=RIGHT('Efficiency Levels'!$C$33,1),SUM(OFFSET(Q34,-RIGHT($D44,1),0,RIGHT($D44,1),1)),\"ERROR\"))))","v":0},{"$f":"IF(R$18<STANDARD_YEAR,R34,\nIF(RIGHT($D44,1)>RIGHT('Efficiency Levels'!$C$33,1),R34,\nIF(RIGHT($D44,1)<RIGHT('Efficiency Levels'!$C$33,1),0,\nIF(RIGHT($D44,1)=RIGHT('Efficiency Levels'!$C$33,1),SUM(OFFSET(R34,-RIGHT($D44,1),0,RIGHT($D44,1),1)),\"ERROR\"))))","v":0},{"$f":"IF(S$18<STANDARD_YEAR,S34,\nIF(RIGHT($D44,1)>RIGHT('Efficiency Levels'!$C$33,1),S34,\nIF(RIGHT($D44,1)<RIGHT('Efficiency Levels'!$C$33,1),0,\nIF(RIGHT($D44,1)=RIGHT('Efficiency Levels'!$C$33,1),SUM(OFFSET(S34,-RIGHT($D44,1),0,RIGHT($D44,1),1)),\"ERROR\"))))","v":0},{"$f":"IF(T$18<STANDARD_YEAR,T34,\nIF(RIGHT($D44,1)>RIGHT('Efficiency Levels'!$C$33,1),T34,\nIF(RIGHT($D44,1)<RIGHT('Efficiency Levels'!$C$33,1),0,\nIF(RIGHT($D44,1)=RIGHT('Efficiency Levels'!$C$33,1),SUM(OFFSET(T34,-RIGHT($D44,1),0,RIGHT($D44,1),1)),\"ERROR\"))))","v":0},{"$f":"IF(U$18<STANDARD_YEAR,U34,\nIF(RIGHT($D44,1)>RIGHT('Efficiency Levels'!$C$33,1),U34,\nIF(RIGHT($D44,1)<RIGHT('Efficiency Levels'!$C$33,1),0,\nIF(RIGHT($D44,1)=RIGHT('Efficiency Levels'!$C$33,1),SUM(OFFSET(U34,-RIGHT($D44,1),0,RIGHT($D44,1),1)),\"ERROR\"))))","v":0},{"$f":"IF(V$18<STANDARD_YEAR,V34,\nIF(RIGHT($D44,1)>RIGHT('Efficiency Levels'!$C$33,1),V34,\nIF(RIGHT($D44,1)<RIGHT('Efficiency Levels'!$C$33,1),0,\nIF(RIGHT($D44,1)=RIGHT('Efficiency Levels'!$C$33,1),SUM(OFFSET(V34,-RIGHT($D44,1),0,RIGHT($D44,1),1)),\"ERROR\"))))","v":0},{"$f":"IF(W$18<STANDARD_YEAR,W34,\nIF(RIGHT($D44,1)>RIGHT('Efficiency Levels'!$C$33,1),W34,\nIF(RIGHT($D44,1)<RIGHT('Efficiency Levels'!$C$33,1),0,\nIF(RIGHT($D44,1)=RIGHT('Efficiency Levels'!$C$33,1),SUM(OFFSET(W34,-RIGHT($D44,1),0,RIGHT($D44,1),1)),\"ERROR\"))))","v":0},{"$f":"IF(X$18<STANDARD_YEAR,X34,\nIF(RIGHT($D44,1)>RIGHT('Efficiency Levels'!$C$33,1),X34,\nIF(RIGHT($D44,1)<RIGHT('Efficiency Levels'!$C$33,1),0,\nIF(RIGHT($D44,1)=RIGHT('Efficiency Levels'!$C$33,1),SUM(OFFSET(X34,-RIGHT($D44,1),0,RIGHT($D44,1),1)),\"ERROR\"))))","v":0},{"$f":"IF(Y$18<STANDARD_YEAR,Y34,\nIF(RIGHT($D44,1)>RIGHT('Efficiency Levels'!$C$33,1),Y34,\nIF(RIGHT($D44,1)<RIGHT('Efficiency Levels'!$C$33,1),0,\nIF(RIGHT($D44,1)=RIGHT('Efficiency Levels'!$C$33,1),SUM(OFFSET(Y34,-RIGHT($D44,1),0,RIGHT($D44,1),1)),\"ERROR\"))))","v":0},{"$f":"IF(Z$18<STANDARD_YEAR,Z34,\nIF(RIGHT($D44,1)>RIGHT('Efficiency Levels'!$C$33,1),Z34,\nIF(RIGHT($D44,1)<RIGHT('Efficiency Levels'!$C$33,1),0,\nIF(RIGHT($D44,1)=RIGHT('Efficiency Levels'!$C$33,1),SUM(OFFSET(Z34,-RIGHT($D44,1),0,RIGHT($D44,1),1)),\"ERROR\"))))","v":0},{"$f":"IF(AA$18<STANDARD_YEAR,AA34,\nIF(RIGHT($D44,1)>RIGHT('Efficiency Levels'!$C$33,1),AA34,\nIF(RIGHT($D44,1)<RIGHT('Efficiency Levels'!$C$33,1),0,\nIF(RIGHT($D44,1)=RIGHT('Efficiency Levels'!$C$33,1),SUM(OFFSET(AA34,-RIGHT($D44,1),0,RIGHT($D44,1),1)),\"ERROR\"))))","v":0},{"$f":"IF(AB$18<STANDARD_YEAR,AB34,\nIF(RIGHT($D44,1)>RIGHT('Efficiency Levels'!$C$33,1),AB34,\nIF(RIGHT($D44,1)<RIGHT('Efficiency Levels'!$C$33,1),0,\nIF(RIGHT($D44,1)=RIGHT('Efficiency Levels'!$C$33,1),SUM(OFFSET(AB34,-RIGHT($D44,1),0,RIGHT($D44,1),1)),\"ERROR\"))))","v":0},{"$f":"IF(AC$18<STANDARD_YEAR,AC34,\nIF(RIGHT($D44,1)>RIGHT('Efficiency Levels'!$C$33,1),AC34,\nIF(RIGHT($D44,1)<RIGHT('Efficiency Levels'!$C$33,1),0,\nIF(RIGHT($D44,1)=RIGHT('Efficiency Levels'!$C$33,1),SUM(OFFSET(AC34,-RIGHT($D44,1),0,RIGHT($D44,1),1)),\"ERROR\"))))","v":0},{"$f":"IF(AD$18<STANDARD_YEAR,AD34,\nIF(RIGHT($D44,1)>RIGHT('Efficiency Levels'!$C$33,1),AD34,\nIF(RIGHT($D44,1)<RIGHT('Efficiency Levels'!$C$33,1),0,\nIF(RIGHT($D44,1)=RIGHT('Efficiency Levels'!$C$33,1),SUM(OFFSET(AD34,-RIGHT($D44,1),0,RIGHT($D44,1),1)),\"ERROR\"))))","v":0},{"$f":"IF(AE$18<STANDARD_YEAR,AE34,\nIF(RIGHT($D44,1)>RIGHT('Efficiency Levels'!$C$33,1),AE34,\nIF(RIGHT($D44,1)<RIGHT('Efficiency Levels'!$C$33,1),0,\nIF(RIGHT($D44,1)=RIGHT('Efficiency Levels'!$C$33,1),SUM(OFFSET(AE34,-RIGHT($D44,1),0,RIGHT($D44,1),1)),\"ERROR\"))))","v":0},{"$f":"IF(AF$18<STANDARD_YEAR,AF34,\nIF(RIGHT($D44,1)>RIGHT('Efficiency Levels'!$C$33,1),AF34,\nIF(RIGHT($D44,1)<RIGHT('Efficiency Levels'!$C$33,1),0,\nIF(RIGHT($D44,1)=RIGHT('Efficiency Levels'!$C$33,1),SUM(OFFSET(AF34,-RIGHT($D44,1),0,RIGHT($D44,1),1)),\"ERROR\"))))","v":0},{"$f":"IF(AG$18<STANDARD_YEAR,AG34,\nIF(RIGHT($D44,1)>RIGHT('Efficiency Levels'!$C$33,1),AG34,\nIF(RIGHT($D44,1)<RIGHT('Efficiency Levels'!$C$33,1),0,\nIF(RIGHT($D44,1)=RIGHT('Efficiency Levels'!$C$33,1),SUM(OFFSET(AG34,-RIGHT($D44,1),0,RIGHT($D44,1),1)),\"ERROR\"))))","v":0},{"$f":"IF(AH$18<STANDARD_YEAR,AH34,\nIF(RIGHT($D44,1)>RIGHT('Efficiency Levels'!$C$33,1),AH34,\nIF(RIGHT($D44,1)<RIGHT('Efficiency Levels'!$C$33,1),0,\nIF(RIGHT($D44,1)=RIGHT('Efficiency Levels'!$C$33,1),SUM(OFFSET(AH34,-RIGHT($D44,1),0,RIGHT($D44,1),1)),\"ERROR\"))))","v":0},{"$f":"IF(AI$18<STANDARD_YEAR,AI34,\nIF(RIGHT($D44,1)>RIGHT('Efficiency Levels'!$C$33,1),AI34,\nIF(RIGHT($D44,1)<RIGHT('Efficiency Levels'!$C$33,1),0,\nIF(RIGHT($D44,1)=RIGHT('Efficiency Levels'!$C$33,1),SUM(OFFSET(AI34,-RIGHT($D44,1),0,RIGHT($D44,1),1)),\"ERROR\"))))","v":0},{"$f":"IF(AJ$18<STANDARD_YEAR,AJ34,\nIF(RIGHT($D44,1)>RIGHT('Efficiency Levels'!$C$33,1),AJ34,\nIF(RIGHT($D44,1)<RIGHT('Efficiency Levels'!$C$33,1),0,\nIF(RIGHT($D44,1)=RIGHT('Efficiency Levels'!$C$33,1),SUM(OFFSET(AJ34,-RIGHT($D44,1),0,RIGHT($D44,1),1)),\"ERROR\"))))","v":0},{"$f":"IF(AK$18<STANDARD_YEAR,AK34,\nIF(RIGHT($D44,1)>RIGHT('Efficiency Levels'!$C$33,1),AK34,\nIF(RIGHT($D44,1)<RIGHT('Efficiency Levels'!$C$33,1),0,\nIF(RIGHT($D44,1)=RIGHT('Efficiency Levels'!$C$33,1),SUM(OFFSET(AK34,-RIGHT($D44,1),0,RIGHT($D44,1),1)),\"ERROR\"))))","v":0},{"$f":"IF(AL$18<STANDARD_YEAR,AL34,\nIF(RIGHT($D44,1)>RIGHT('Efficiency Levels'!$C$33,1),AL34,\nIF(RIGHT($D44,1)<RIGHT('Efficiency Levels'!$C$33,1),0,\nIF(RIGHT($D44,1)=RIGHT('Efficiency Levels'!$C$33,1),SUM(OFFSET(AL34,-RIGHT($D44,1),0,RIGHT($D44,1),1)),\"ERROR\"))))","v":0},{"$f":"IF(AM$18<STANDARD_YEAR,AM34,\nIF(RIGHT($D44,1)>RIGHT('Efficiency Levels'!$C$33,1),AM34,\nIF(RIGHT($D44,1)<RIGHT('Efficiency Levels'!$C$33,1),0,\nIF(RIGHT($D44,1)=RIGHT('Efficiency Levels'!$C$33,1),SUM(OFFSET(AM34,-RIGHT($D44,1),0,RIGHT($D44,1),1)),\"ERROR\"))))","v":0},{"$f":"IF(AN$18<STANDARD_YEAR,AN34,\nIF(RIGHT($D44,1)>RIGHT('Efficiency Levels'!$C$33,1),AN34,\nIF(RIGHT($D44,1)<RIGHT('Efficiency Levels'!$C$33,1),0,\nIF(RIGHT($D44,1)=RIGHT('Efficiency Levels'!$C$33,1),SUM(OFFSET(AN34,-RIGHT($D44,1),0,RIGHT($D44,1),1)),\"ERROR\"))))","v":0},{"$f":"IF(AO$18<STANDARD_YEAR,AO34,\nIF(RIGHT($D44,1)>RIGHT('Efficiency Levels'!$C$33,1),AO34,\nIF(RIGHT($D44,1)<RIGHT('Efficiency Levels'!$C$33,1),0,\nIF(RIGHT($D44,1)=RIGHT('Efficiency Levels'!$C$33,1),SUM(OFFSET(AO34,-RIGHT($D44,1),0,RIGHT($D44,1),1)),\"ERROR\"))))","v":0},{"$f":"IF(AP$18<STANDARD_YEAR,AP34,\nIF(RIGHT($D44,1)>RIGHT('Efficiency Levels'!$C$33,1),AP34,\nIF(RIGHT($D44,1)<RIGHT('Efficiency Levels'!$C$33,1),0,\nIF(RIGHT($D44,1)=RIGHT('Efficiency Levels'!$C$33,1),SUM(OFFSET(AP34,-RIGHT($D44,1),0,RIGHT($D44,1),1)),\"ERROR\"))))","v":0},{"$f":"IF(AQ$18<STANDARD_YEAR,AQ34,\nIF(RIGHT($D44,1)>RIGHT('Efficiency Levels'!$C$33,1),AQ34,\nIF(RIGHT($D44,1)<RIGHT('Efficiency Levels'!$C$33,1),0,\nIF(RIGHT($D44,1)=RIGHT('Efficiency Levels'!$C$33,1),SUM(OFFSET(AQ34,-RIGHT($D44,1),0,RIGHT($D44,1),1)),\"ERROR\"))))","v":0},{"$f":"IF(AR$18<STANDARD_YEAR,AR34,\nIF(RIGHT($D44,1)>RIGHT('Efficiency Levels'!$C$33,1),AR34,\nIF(RIGHT($D44,1)<RIGHT('Efficiency Levels'!$C$33,1),0,\nIF(RIGHT($D44,1)=RIGHT('Efficiency Levels'!$C$33,1),SUM(OFFSET(AR34,-RIGHT($D44,1),0,RIGHT($D44,1),1)),\"ERROR\"))))","v":0},{"$f":"IF(AS$18<STANDARD_YEAR,AS34,\nIF(RIGHT($D44,1)>RIGHT('Efficiency Levels'!$C$33,1),AS34,\nIF(RIGHT($D44,1)<RIGHT('Efficiency Levels'!$C$33,1),0,\nIF(RIGHT($D44,1)=RIGHT('Efficiency Levels'!$C$33,1),SUM(OFFSET(AS34,-RIGHT($D44,1),0,RIGHT($D44,1),1)),\"ERROR\"))))","v":0},{"$f":"IF(AT$18<STANDARD_YEAR,AT34,\nIF(RIGHT($D44,1)>RIGHT('Efficiency Levels'!$C$33,1),AT34,\nIF(RIGHT($D44,1)<RIGHT('Efficiency Levels'!$C$33,1),0,\nIF(RIGHT($D44,1)=RIGHT('Efficiency Levels'!$C$33,1),SUM(OFFSET(AT34,-RIGHT($D44,1),0,RIGHT($D44,1),1)),\"ERROR\"))))","v":0},{"$f":"IF(AU$18<STANDARD_YEAR,AU34,\nIF(RIGHT($D44,1)>RIGHT('Efficiency Levels'!$C$33,1),AU34,\nIF(RIGHT($D44,1)<RIGHT('Efficiency Levels'!$C$33,1),0,\nIF(RIGHT($D44,1)=RIGHT('Efficiency Levels'!$C$33,1),SUM(OFFSET(AU34,-RIGHT($D44,1),0,RIGHT($D44,1),1)),\"ERROR\"))))","v":0},{"$f":"IF(AV$18<STANDARD_YEAR,AV34,\nIF(RIGHT($D44,1)>RIGHT('Efficiency Levels'!$C$33,1),AV34,\nIF(RIGHT($D44,1)<RIGHT('Efficiency Levels'!$C$33,1),0,\nIF(RIGHT($D44,1)=RIGHT('Efficiency Levels'!$C$33,1),SUM(OFFSET(AV34,-RIGHT($D44,1),0,RIGHT($D44,1),1)),\"ERROR\"))))","v":0},{"$f":"IF(AW$18<STANDARD_YEAR,AW34,\nIF(RIGHT($D44,1)>RIGHT('Efficiency Levels'!$C$33,1),AW34,\nIF(RIGHT($D44,1)<RIGHT('Efficiency Levels'!$C$33,1),0,\nIF(RIGHT($D44,1)=RIGHT('Efficiency Levels'!$C$33,1),SUM(OFFSET(AW34,-RIGHT($D44,1),0,RIGHT($D44,1),1)),\"ERROR\"))))","v":0},{"$f":"IF(AX$18<STANDARD_YEAR,AX34,\nIF(RIGHT($D44,1)>RIGHT('Efficiency Levels'!$C$33,1),AX34,\nIF(RIGHT($D44,1)<RIGHT('Efficiency Levels'!$C$33,1),0,\nIF(RIGHT($D44,1)=RIGHT('Efficiency Levels'!$C$33,1),SUM(OFFSET(AX34,-RIGHT($D44,1),0,RIGHT($D44,1),1)),\"ERROR\"))))","v":0},{"$f":"IF(AY$18<STANDARD_YEAR,AY34,\nIF(RIGHT($D44,1)>RIGHT('Efficiency Levels'!$C$33,1),AY34,\nIF(RIGHT($D44,1)<RIGHT('Efficiency Levels'!$C$33,1),0,\nIF(RIGHT($D44,1)=RIGHT('Efficiency Levels'!$C$33,1),SUM(OFFSET(AY34,-RIGHT($D44,1),0,RIGHT($D44,1),1)),\"ERROR\"))))","v":0},{"$f":"IF(AZ$18<STANDARD_YEAR,AZ34,\nIF(RIGHT($D44,1)>RIGHT('Efficiency Levels'!$C$33,1),AZ34,\nIF(RIGHT($D44,1)<RIGHT('Efficiency Levels'!$C$33,1),0,\nIF(RIGHT($D44,1)=RIGHT('Efficiency Levels'!$C$33,1),SUM(OFFSET(AZ34,-RIGHT($D44,1),0,RIGHT($D44,1),1)),\"ERROR\"))))","v":0},{"$f":"IF(BA$18<STANDARD_YEAR,BA34,\nIF(RIGHT($D44,1)>RIGHT('Efficiency Levels'!$C$33,1),BA34,\nIF(RIGHT($D44,1)<RIGHT('Efficiency Levels'!$C$33,1),0,\nIF(RIGHT($D44,1)=RIGHT('Efficiency Levels'!$C$33,1),SUM(OFFSET(BA34,-RIGHT($D44,1),0,RIGHT($D44,1),1)),\"ERROR\"))))","v":0},{"$f":"IF(BB$18<STANDARD_YEAR,BB34,\nIF(RIGHT($D44,1)>RIGHT('Efficiency Levels'!$C$33,1),BB34,\nIF(RIGHT($D44,1)<RIGHT('Efficiency Levels'!$C$33,1),0,\nIF(RIGHT($D44,1)=RIGHT('Efficiency Levels'!$C$33,1),SUM(OFFSET(BB34,-RIGHT($D44,1),0,RIGHT($D44,1),1)),\"ERROR\"))))","v":0},{"$f":"IF(BC$18<STANDARD_YEAR,BC34,\nIF(RIGHT($D44,1)>RIGHT('Efficiency Levels'!$C$33,1),BC34,\nIF(RIGHT($D44,1)<RIGHT('Efficiency Levels'!$C$33,1),0,\nIF(RIGHT($D44,1)=RIGHT('Efficiency Levels'!$C$33,1),SUM(OFFSET(BC34,-RIGHT($D44,1),0,RIGHT($D44,1),1)),\"ERROR\"))))","v":0},{"$f":"IF(BD$18<STANDARD_YEAR,BD34,\nIF(RIGHT($D44,1)>RIGHT('Efficiency Levels'!$C$33,1),BD34,\nIF(RIGHT($D44,1)<RIGHT('Efficiency Levels'!$C$33,1),0,\nIF(RIGHT($D44,1)=RIGHT('Efficiency Levels'!$C$33,1),SUM(OFFSET(BD34,-RIGHT($D44,1),0,RIGHT($D44,1),1)),\"ERROR\"))))","v":0},{"$f":"IF(BE$18<STANDARD_YEAR,BE34,\nIF(RIGHT($D44,1)>RIGHT('Efficiency Levels'!$C$33,1),BE34,\nIF(RIGHT($D44,1)<RIGHT('Efficiency Levels'!$C$33,1),0,\nIF(RIGHT($D44,1)=RIGHT('Efficiency Levels'!$C$33,1),SUM(OFFSET(BE34,-RIGHT($D44,1),0,RIGHT($D44,1),1)),\"ERROR\"))))","v":0},{"$f":"IF(BF$18<STANDARD_YEAR,BF34,\nIF(RIGHT($D44,1)>RIGHT('Efficiency Levels'!$C$33,1),BF34,\nIF(RIGHT($D44,1)<RIGHT('Efficiency Levels'!$C$33,1),0,\nIF(RIGHT($D44,1)=RIGHT('Efficiency Levels'!$C$33,1),SUM(OFFSET(BF34,-RIGHT($D44,1),0,RIGHT($D44,1),1)),\"ERROR\"))))","v":0},{"$f":"IF(BG$18<STANDARD_YEAR,BG34,\nIF(RIGHT($D44,1)>RIGHT('Efficiency Levels'!$C$33,1),BG34,\nIF(RIGHT($D44,1)<RIGHT('Efficiency Levels'!$C$33,1),0,\nIF(RIGHT($D44,1)=RIGHT('Efficiency Levels'!$C$33,1),SUM(OFFSET(BG34,-RIGHT($D44,1),0,RIGHT($D44,1),1)),\"ERROR\"))))","v":0},{"$f":"IF(BH$18<STANDARD_YEAR,BH34,\nIF(RIGHT($D44,1)>RIGHT('Efficiency Levels'!$C$33,1),BH34,\nIF(RIGHT($D44,1)<RIGHT('Efficiency Levels'!$C$33,1),0,\nIF(RIGHT($D44,1)=RIGHT('Efficiency Levels'!$C$33,1),SUM(OFFSET(BH34,-RIGHT($D44,1),0,RIGHT($D44,1),1)),\"ERROR\"))))","v":0},{"$f":"IF(BI$18<STANDARD_YEAR,BI34,\nIF(RIGHT($D44,1)>RIGHT('Efficiency Levels'!$C$33,1),BI34,\nIF(RIGHT($D44,1)<RIGHT('Efficiency Levels'!$C$33,1),0,\nIF(RIGHT($D44,1)=RIGHT('Efficiency Levels'!$C$33,1),SUM(OFFSET(BI34,-RIGHT($D44,1),0,RIGHT($D44,1),1)),\"ERROR\"))))","v":0},{"$f":"IF(BJ$18<STANDARD_YEAR,BJ34,\nIF(RIGHT($D44,1)>RIGHT('Efficiency Levels'!$C$33,1),BJ34,\nIF(RIGHT($D44,1)<RIGHT('Efficiency Levels'!$C$33,1),0,\nIF(RIGHT($D44,1)=RIGHT('Efficiency Levels'!$C$33,1),SUM(OFFSET(BJ34,-RIGHT($D44,1),0,RIGHT($D44,1),1)),\"ERROR\"))))","v":0}]
[null,null,null,"EL4",{"$f":"OFFSET('Efficiency Levels'!$D$11,MATCH($C$27,'Efficiency Levels'!$C$9:$C$995,0)+RIGHT(D45,1),0)","v":245.9},null,null,null,{"$f":"IF(I$18<STANDARD_YEAR,I35,\nIF(RIGHT($D45,1)>RIGHT('Efficiency Levels'!$C$33,1),I35,\nIF(RIGHT($D45,1)<RIGHT('Efficiency Levels'!$C$33,1),0,\nIF(RIGHT($D45,1)=RIGHT('Efficiency Levels'!$C$33,1),SUM(OFFSET(I35,-RIGHT($D45,1),0,RIGHT($D45,1),1)),\"ERROR\"))))","v":0},{"$f":"IF(J$18<STANDARD_YEAR,J35,\nIF(RIGHT($D45,1)>RIGHT('Efficiency Levels'!$C$33,1),J35,\nIF(RIGHT($D45,1)<RIGHT('Efficiency Levels'!$C$33,1),0,\nIF(RIGHT($D45,1)=RIGHT('Efficiency Levels'!$C$33,1),SUM(OFFSET(J35,-RIGHT($D45,1),0,RIGHT($D45,1),1)),\"ERROR\"))))","v":0},{"$f":"IF(K$18<STANDARD_YEAR,K35,\nIF(RIGHT($D45,1)>RIGHT('Efficiency Levels'!$C$33,1),K35,\nIF(RIGHT($D45,1)<RIGHT('Efficiency Levels'!$C$33,1),0,\nIF(RIGHT($D45,1)=RIGHT('Efficiency Levels'!$C$33,1),SUM(OFFSET(K35,-RIGHT($D45,1),0,RIGHT($D45,1),1)),\"ERROR\"))))","v":0},{"$f":"IF(L$18<STANDARD_YEAR,L35,\nIF(RIGHT($D45,1)>RIGHT('Efficiency Levels'!$C$33,1),L35,\nIF(RIGHT($D45,1)<RIGHT('Efficiency Levels'!$C$33,1),0,\nIF(RIGHT($D45,1)=RIGHT('Efficiency Levels'!$C$33,1),SUM(OFFSET(L35,-RIGHT($D45,1),0,RIGHT($D45,1),1)),\"ERROR\"))))","v":0},{"$f":"IF(M$18<STANDARD_YEAR,M35,\nIF(RIGHT($D45,1)>RIGHT('Efficiency Levels'!$C$33,1),M35,\nIF(RIGHT($D45,1)<RIGHT('Efficiency Levels'!$C$33,1),0,\nIF(RIGHT($D45,1)=RIGHT('Efficiency Levels'!$C$33,1),SUM(OFFSET(M35,-RIGHT($D45,1),0,RIGHT($D45,1),1)),\"ERROR\"))))","v":0},{"$f":"IF(N$18<STANDARD_YEAR,N35,\nIF(RIGHT($D45,1)>RIGHT('Efficiency Levels'!$C$33,1),N35,\nIF(RIGHT($D45,1)<RIGHT('Efficiency Levels'!$C$33,1),0,\nIF(RIGHT($D45,1)=RIGHT('Efficiency Levels'!$C$33,1),SUM(OFFSET(N35,-RIGHT($D45,1),0,RIGHT($D45,1),1)),\"ERROR\"))))","v":0},{"$f":"IF(O$18<STANDARD_YEAR,O35,\nIF(RIGHT($D45,1)>RIGHT('Efficiency Levels'!$C$33,1),O35,\nIF(RIGHT($D45,1)<RIGHT('Efficiency Levels'!$C$33,1),0,\nIF(RIGHT($D45,1)=RIGHT('Efficiency Levels'!$C$33,1),SUM(OFFSET(O35,-RIGHT($D45,1),0,RIGHT($D45,1),1)),\"ERROR\"))))","v":0},{"$f":"IF(P$18<STANDARD_YEAR,P35,\nIF(RIGHT($D45,1)>RIGHT('Efficiency Levels'!$C$33,1),P35,\nIF(RIGHT($D45,1)<RIGHT('Efficiency Levels'!$C$33,1),0,\nIF(RIGHT($D45,1)=RIGHT('Efficiency Levels'!$C$33,1),SUM(OFFSET(P35,-RIGHT($D45,1),0,RIGHT($D45,1),1)),\"ERROR\"))))","v":0},{"$f":"IF(Q$18<STANDARD_YEAR,Q35,\nIF(RIGHT($D45,1)>RIGHT('Efficiency Levels'!$C$33,1),Q35,\nIF(RIGHT($D45,1)<RIGHT('Efficiency Levels'!$C$33,1),0,\nIF(RIGHT($D45,1)=RIGHT('Efficiency Levels'!$C$33,1),SUM(OFFSET(Q35,-RIGHT($D45,1),0,RIGHT($D45,1),1)),\"ERROR\"))))","v":0},{"$f":"IF(R$18<STANDARD_YEAR,R35,\nIF(RIGHT($D45,1)>RIGHT('Efficiency Levels'!$C$33,1),R35,\nIF(RIGHT($D45,1)<RIGHT('Efficiency Levels'!$C$33,1),0,\nIF(RIGHT($D45,1)=RIGHT('Efficiency Levels'!$C$33,1),SUM(OFFSET(R35,-RIGHT($D45,1),0,RIGHT($D45,1),1)),\"ERROR\"))))","v":0},{"$f":"IF(S$18<STANDARD_YEAR,S35,\nIF(RIGHT($D45,1)>RIGHT('Efficiency Levels'!$C$33,1),S35,\nIF(RIGHT($D45,1)<RIGHT('Efficiency Levels'!$C$33,1),0,\nIF(RIGHT($D45,1)=RIGHT('Efficiency Levels'!$C$33,1),SUM(OFFSET(S35,-RIGHT($D45,1),0,RIGHT($D45,1),1)),\"ERROR\"))))","v":0},{"$f":"IF(T$18<STANDARD_YEAR,T35,\nIF(RIGHT($D45,1)>RIGHT('Efficiency Levels'!$C$33,1),T35,\nIF(RIGHT($D45,1)<RIGHT('Efficiency Levels'!$C$33,1),0,\nIF(RIGHT($D45,1)=RIGHT('Efficiency Levels'!$C$33,1),SUM(OFFSET(T35,-RIGHT($D45,1),0,RIGHT($D45,1),1)),\"ERROR\"))))","v":0},{"$f":"IF(U$18<STANDARD_YEAR,U35,\nIF(RIGHT($D45,1)>RIGHT('Efficiency Levels'!$C$33,1),U35,\nIF(RIGHT($D45,1)<RIGHT('Efficiency Levels'!$C$33,1),0,\nIF(RIGHT($D45,1)=RIGHT('Efficiency Levels'!$C$33,1),SUM(OFFSET(U35,-RIGHT($D45,1),0,RIGHT($D45,1),1)),\"ERROR\"))))","v":0},{"$f":"IF(V$18<STANDARD_YEAR,V35,\nIF(RIGHT($D45,1)>RIGHT('Efficiency Levels'!$C$33,1),V35,\nIF(RIGHT($D45,1)<RIGHT('Efficiency Levels'!$C$33,1),0,\nIF(RIGHT($D45,1)=RIGHT('Efficiency Levels'!$C$33,1),SUM(OFFSET(V35,-RIGHT($D45,1),0,RIGHT($D45,1),1)),\"ERROR\"))))","v":0},{"$f":"IF(W$18<STANDARD_YEAR,W35,\nIF(RIGHT($D45,1)>RIGHT('Efficiency Levels'!$C$33,1),W35,\nIF(RIGHT($D45,1)<RIGHT('Efficiency Levels'!$C$33,1),0,\nIF(RIGHT($D45,1)=RIGHT('Efficiency Levels'!$C$33,1),SUM(OFFSET(W35,-RIGHT($D45,1),0,RIGHT($D45,1),1)),\"ERROR\"))))","v":0},{"$f":"IF(X$18<STANDARD_YEAR,X35,\nIF(RIGHT($D45,1)>RIGHT('Efficiency Levels'!$C$33,1),X35,\nIF(RIGHT($D45,1)<RIGHT('Efficiency Levels'!$C$33,1),0,\nIF(RIGHT($D45,1)=RIGHT('Efficiency Levels'!$C$33,1),SUM(OFFSET(X35,-RIGHT($D45,1),0,RIGHT($D45,1),1)),\"ERROR\"))))","v":0},{"$f":"IF(Y$18<STANDARD_YEAR,Y35,\nIF(RIGHT($D45,1)>RIGHT('Efficiency Levels'!$C$33,1),Y35,\nIF(RIGHT($D45,1)<RIGHT('Efficiency Levels'!$C$33,1),0,\nIF(RIGHT($D45,1)=RIGHT('Efficiency Levels'!$C$33,1),SUM(OFFSET(Y35,-RIGHT($D45,1),0,RIGHT($D45,1),1)),\"ERROR\"))))","v":0},{"$f":"IF(Z$18<STANDARD_YEAR,Z35,\nIF(RIGHT($D45,1)>RIGHT('Efficiency Levels'!$C$33,1),Z35,\nIF(RIGHT($D45,1)<RIGHT('Efficiency Levels'!$C$33,1),0,\nIF(RIGHT($D45,1)=RIGHT('Efficiency Levels'!$C$33,1),SUM(OFFSET(Z35,-RIGHT($D45,1),0,RIGHT($D45,1),1)),\"ERROR\"))))","v":0},{"$f":"IF(AA$18<STANDARD_YEAR,AA35,\nIF(RIGHT($D45,1)>RIGHT('Efficiency Levels'!$C$33,1),AA35,\nIF(RIGHT($D45,1)<RIGHT('Efficiency Levels'!$C$33,1),0,\nIF(RIGHT($D45,1)=RIGHT('Efficiency Levels'!$C$33,1),SUM(OFFSET(AA35,-RIGHT($D45,1),0,RIGHT($D45,1),1)),\"ERROR\"))))","v":0},{"$f":"IF(AB$18<STANDARD_YEAR,AB35,\nIF(RIGHT($D45,1)>RIGHT('Efficiency Levels'!$C$33,1),AB35,\nIF(RIGHT($D45,1)<RIGHT('Efficiency Levels'!$C$33,1),0,\nIF(RIGHT($D45,1)=RIGHT('Efficiency Levels'!$C$33,1),SUM(OFFSET(AB35,-RIGHT($D45,1),0,RIGHT($D45,1),1)),\"ERROR\"))))","v":0},{"$f":"IF(AC$18<STANDARD_YEAR,AC35,\nIF(RIGHT($D45,1)>RIGHT('Efficiency Levels'!$C$33,1),AC35,\nIF(RIGHT($D45,1)<RIGHT('Efficiency Levels'!$C$33,1),0,\nIF(RIGHT($D45,1)=RIGHT('Efficiency Levels'!$C$33,1),SUM(OFFSET(AC35,-RIGHT($D45,1),0,RIGHT($D45,1),1)),\"ERROR\"))))","v":0},{"$f":"IF(AD$18<STANDARD_YEAR,AD35,\nIF(RIGHT($D45,1)>RIGHT('Efficiency Levels'!$C$33,1),AD35,\nIF(RIGHT($D45,1)<RIGHT('Efficiency Levels'!$C$33,1),0,\nIF(RIGHT($D45,1)=RIGHT('Efficiency Levels'!$C$33,1),SUM(OFFSET(AD35,-RIGHT($D45,1),0,RIGHT($D45,1),1)),\"ERROR\"))))","v":0},{"$f":"IF(AE$18<STANDARD_YEAR,AE35,\nIF(RIGHT($D45,1)>RIGHT('Efficiency Levels'!$C$33,1),AE35,\nIF(RIGHT($D45,1)<RIGHT('Efficiency Levels'!$C$33,1),0,\nIF(RIGHT($D45,1)=RIGHT('Efficiency Levels'!$C$33,1),SUM(OFFSET(AE35,-RIGHT($D45,1),0,RIGHT($D45,1),1)),\"ERROR\"))))","v":0},{"$f":"IF(AF$18<STANDARD_YEAR,AF35,\nIF(RIGHT($D45,1)>RIGHT('Efficiency Levels'!$C$33,1),AF35,\nIF(RIGHT($D45,1)<RIGHT('Efficiency Levels'!$C$33,1),0,\nIF(RIGHT($D45,1)=RIGHT('Efficiency Levels'!$C$33,1),SUM(OFFSET(AF35,-RIGHT($D45,1),0,RIGHT($D45,1),1)),\"ERROR\"))))","v":0},{"$f":"IF(AG$18<STANDARD_YEAR,AG35,\nIF(RIGHT($D45,1)>RIGHT('Efficiency Levels'!$C$33,1),AG35,\nIF(RIGHT($D45,1)<RIGHT('Efficiency Levels'!$C$33,1),0,\nIF(RIGHT($D45,1)=RIGHT('Efficiency Levels'!$C$33,1),SUM(OFFSET(AG35,-RIGHT($D45,1),0,RIGHT($D45,1),1)),\"ERROR\"))))","v":0},{"$f":"IF(AH$18<STANDARD_YEAR,AH35,\nIF(RIGHT($D45,1)>RIGHT('Efficiency Levels'!$C$33,1),AH35,\nIF(RIGHT($D45,1)<RIGHT('Efficiency Levels'!$C$33,1),0,\nIF(RIGHT($D45,1)=RIGHT('Efficiency Levels'!$C$33,1),SUM(OFFSET(AH35,-RIGHT($D45,1),0,RIGHT($D45,1),1)),\"ERROR\"))))","v":0},{"$f":"IF(AI$18<STANDARD_YEAR,AI35,\nIF(RIGHT($D45,1)>RIGHT('Efficiency Levels'!$C$33,1),AI35,\nIF(RIGHT($D45,1)<RIGHT('Efficiency Levels'!$C$33,1),0,\nIF(RIGHT($D45,1)=RIGHT('Efficiency Levels'!$C$33,1),SUM(OFFSET(AI35,-RIGHT($D45,1),0,RIGHT($D45,1),1)),\"ERROR\"))))","v":0},{"$f":"IF(AJ$18<STANDARD_YEAR,AJ35,\nIF(RIGHT($D45,1)>RIGHT('Efficiency Levels'!$C$33,1),AJ35,\nIF(RIGHT($D45,1)<RIGHT('Efficiency Levels'!$C$33,1),0,\nIF(RIGHT($D45,1)=RIGHT('Efficiency Levels'!$C$33,1),SUM(OFFSET(AJ35,-RIGHT($D45,1),0,RIGHT($D45,1),1)),\"ERROR\"))))","v":0},{"$f":"IF(AK$18<STANDARD_YEAR,AK35,\nIF(RIGHT($D45,1)>RIGHT('Efficiency Levels'!$C$33,1),AK35,\nIF(RIGHT($D45,1)<RIGHT('Efficiency Levels'!$C$33,1),0,\nIF(RIGHT($D45,1)=RIGHT('Efficiency Levels'!$C$33,1),SUM(OFFSET(AK35,-RIGHT($D45,1),0,RIGHT($D45,1),1)),\"ERROR\"))))","v":0},{"$f":"IF(AL$18<STANDARD_YEAR,AL35,\nIF(RIGHT($D45,1)>RIGHT('Efficiency Levels'!$C$33,1),AL35,\nIF(RIGHT($D45,1)<RIGHT('Efficiency Levels'!$C$33,1),0,\nIF(RIGHT($D45,1)=RIGHT('Efficiency Levels'!$C$33,1),SUM(OFFSET(AL35,-RIGHT($D45,1),0,RIGHT($D45,1),1)),\"ERROR\"))))","v":0},{"$f":"IF(AM$18<STANDARD_YEAR,AM35,\nIF(RIGHT($D45,1)>RIGHT('Efficiency Levels'!$C$33,1),AM35,\nIF(RIGHT($D45,1)<RIGHT('Efficiency Levels'!$C$33,1),0,\nIF(RIGHT($D45,1)=RIGHT('Efficiency Levels'!$C$33,1),SUM(OFFSET(AM35,-RIGHT($D45,1),0,RIGHT($D45,1),1)),\"ERROR\"))))","v":0},{"$f":"IF(AN$18<STANDARD_YEAR,AN35,\nIF(RIGHT($D45,1)>RIGHT('Efficiency Levels'!$C$33,1),AN35,\nIF(RIGHT($D45,1)<RIGHT('Efficiency Levels'!$C$33,1),0,\nIF(RIGHT($D45,1)=RIGHT('Efficiency Levels'!$C$33,1),SUM(OFFSET(AN35,-RIGHT($D45,1),0,RIGHT($D45,1),1)),\"ERROR\"))))","v":0},{"$f":"IF(AO$18<STANDARD_YEAR,AO35,\nIF(RIGHT($D45,1)>RIGHT('Efficiency Levels'!$C$33,1),AO35,\nIF(RIGHT($D45,1)<RIGHT('Efficiency Levels'!$C$33,1),0,\nIF(RIGHT($D45,1)=RIGHT('Efficiency Levels'!$C$33,1),SUM(OFFSET(AO35,-RIGHT($D45,1),0,RIGHT($D45,1),1)),\"ERROR\"))))","v":0},{"$f":"IF(AP$18<STANDARD_YEAR,AP35,\nIF(RIGHT($D45,1)>RIGHT('Efficiency Levels'!$C$33,1),AP35,\nIF(RIGHT($D45,1)<RIGHT('Efficiency Levels'!$C$33,1),0,\nIF(RIGHT($D45,1)=RIGHT('Efficiency Levels'!$C$33,1),SUM(OFFSET(AP35,-RIGHT($D45,1),0,RIGHT($D45,1),1)),\"ERROR\"))))","v":0},{"$f":"IF(AQ$18<STANDARD_YEAR,AQ35,\nIF(RIGHT($D45,1)>RIGHT('Efficiency Levels'!$C$33,1),AQ35,\nIF(RIGHT($D45,1)<RIGHT('Efficiency Levels'!$C$33,1),0,\nIF(RIGHT($D45,1)=RIGHT('Efficiency Levels'!$C$33,1),SUM(OFFSET(AQ35,-RIGHT($D45,1),0,RIGHT($D45,1),1)),\"ERROR\"))))","v":0},{"$f":"IF(AR$18<STANDARD_YEAR,AR35,\nIF(RIGHT($D45,1)>RIGHT('Efficiency Levels'!$C$33,1),AR35,\nIF(RIGHT($D45,1)<RIGHT('Efficiency Levels'!$C$33,1),0,\nIF(RIGHT($D45,1)=RIGHT('Efficiency Levels'!$C$33,1),SUM(OFFSET(AR35,-RIGHT($D45,1),0,RIGHT($D45,1),1)),\"ERROR\"))))","v":0},{"$f":"IF(AS$18<STANDARD_YEAR,AS35,\nIF(RIGHT($D45,1)>RIGHT('Efficiency Levels'!$C$33,1),AS35,\nIF(RIGHT($D45,1)<RIGHT('Efficiency Levels'!$C$33,1),0,\nIF(RIGHT($D45,1)=RIGHT('Efficiency Levels'!$C$33,1),SUM(OFFSET(AS35,-RIGHT($D45,1),0,RIGHT($D45,1),1)),\"ERROR\"))))","v":0},{"$f":"IF(AT$18<STANDARD_YEAR,AT35,\nIF(RIGHT($D45,1)>RIGHT('Efficiency Levels'!$C$33,1),AT35,\nIF(RIGHT($D45,1)<RIGHT('Efficiency Levels'!$C$33,1),0,\nIF(RIGHT($D45,1)=RIGHT('Efficiency Levels'!$C$33,1),SUM(OFFSET(AT35,-RIGHT($D45,1),0,RIGHT($D45,1),1)),\"ERROR\"))))","v":0},{"$f":"IF(AU$18<STANDARD_YEAR,AU35,\nIF(RIGHT($D45,1)>RIGHT('Efficiency Levels'!$C$33,1),AU35,\nIF(RIGHT($D45,1)<RIGHT('Efficiency Levels'!$C$33,1),0,\nIF(RIGHT($D45,1)=RIGHT('Efficiency Levels'!$C$33,1),SUM(OFFSET(AU35,-RIGHT($D45,1),0,RIGHT($D45,1),1)),\"ERROR\"))))","v":1},{"$f":"IF(AV$18<STANDARD_YEAR,AV35,\nIF(RIGHT($D45,1)>RIGHT('Efficiency Levels'!$C$33,1),AV35,\nIF(RIGHT($D45,1)<RIGHT('Efficiency Levels'!$C$33,1),0,\nIF(RIGHT($D45,1)=RIGHT('Efficiency Levels'!$C$33,1),SUM(OFFSET(AV35,-RIGHT($D45,1),0,RIGHT($D45,1),1)),\"ERROR\"))))","v":1},{"$f":"IF(AW$18<STANDARD_YEAR,AW35,\nIF(RIGHT($D45,1)>RIGHT('Efficiency Levels'!$C$33,1),AW35,\nIF(RIGHT($D45,1)<RIGHT('Efficiency Levels'!$C$33,1),0,\nIF(RIGHT($D45,1)=RIGHT('Efficiency Levels'!$C$33,1),SUM(OFFSET(AW35,-RIGHT($D45,1),0,RIGHT($D45,1),1)),\"ERROR\"))))","v":1},{"$f":"IF(AX$18<STANDARD_YEAR,AX35,\nIF(RIGHT($D45,1)>RIGHT('Efficiency Levels'!$C$33,1),AX35,\nIF(RIGHT($D45,1)<RIGHT('Efficiency Levels'!$C$33,1),0,\nIF(RIGHT($D45,1)=RIGHT('Efficiency Levels'!$C$33,1),SUM(OFFSET(AX35,-RIGHT($D45,1),0,RIGHT($D45,1),1)),\"ERROR\"))))","v":1},{"$f":"IF(AY$18<STANDARD_YEAR,AY35,\nIF(RIGHT($D45,1)>RIGHT('Efficiency Levels'!$C$33,1),AY35,\nIF(RIGHT($D45,1)<RIGHT('Efficiency Levels'!$C$33,1),0,\nIF(RIGHT($D45,1)=RIGHT('Efficiency Levels'!$C$33,1),SUM(OFFSET(AY35,-RIGHT($D45,1),0,RIGHT($D45,1),1)),\"ERROR\"))))","v":1},{"$f":"IF(AZ$18<STANDARD_YEAR,AZ35,\nIF(RIGHT($D45,1)>RIGHT('Efficiency Levels'!$C$33,1),AZ35,\nIF(RIGHT($D45,1)<RIGHT('Efficiency Levels'!$C$33,1),0,\nIF(RIGHT($D45,1)=RIGHT('Efficiency Levels'!$C$33,1),SUM(OFFSET(AZ35,-RIGHT($D45,1),0,RIGHT($D45,1),1)),\"ERROR\"))))","v":1},{"$f":"IF(BA$18<STANDARD_YEAR,BA35,\nIF(RIGHT($D45,1)>RIGHT('Efficiency Levels'!$C$33,1),BA35,\nIF(RIGHT($D45,1)<RIGHT('Efficiency Levels'!$C$33,1),0,\nIF(RIGHT($D45,1)=RIGHT('Efficiency Levels'!$C$33,1),SUM(OFFSET(BA35,-RIGHT($D45,1),0,RIGHT($D45,1),1)),\"ERROR\"))))","v":1},{"$f":"IF(BB$18<STANDARD_YEAR,BB35,\nIF(RIGHT($D45,1)>RIGHT('Efficiency Levels'!$C$33,1),BB35,\nIF(RIGHT($D45,1)<RIGHT('Efficiency Levels'!$C$33,1),0,\nIF(RIGHT($D45,1)=RIGHT('Efficiency Levels'!$C$33,1),SUM(OFFSET(BB35,-RIGHT($D45,1),0,RIGHT($D45,1),1)),\"ERROR\"))))","v":1},{"$f":"IF(BC$18<STANDARD_YEAR,BC35,\nIF(RIGHT($D45,1)>RIGHT('Efficiency Levels'!$C$33,1),BC35,\nIF(RIGHT($D45,1)<RIGHT('Efficiency Levels'!$C$33,1),0,\nIF(RIGHT($D45,1)=RIGHT('Efficiency Levels'!$C$33,1),SUM(OFFSET(BC35,-RIGHT($D45,1),0,RIGHT($D45,1),1)),\"ERROR\"))))","v":1},{"$f":"IF(BD$18<STANDARD_YEAR,BD35,\nIF(RIGHT($D45,1)>RIGHT('Efficiency Levels'!$C$33,1),BD35,\nIF(RIGHT($D45,1)<RIGHT('Efficiency Levels'!$C$33,1),0,\nIF(RIGHT($D45,1)=RIGHT('Efficiency Levels'!$C$33,1),SUM(OFFSET(BD35,-RIGHT($D45,1),0,RIGHT($D45,1),1)),\"ERROR\"))))","v":1},{"$f":"IF(BE$18<STANDARD_YEAR,BE35,\nIF(RIGHT($D45,1)>RIGHT('Efficiency Levels'!$C$33,1),BE35,\nIF(RIGHT($D45,1)<RIGHT('Efficiency Levels'!$C$33,1),0,\nIF(RIGHT($D45,1)=RIGHT('Efficiency Levels'!$C$33,1),SUM(OFFSET(BE35,-RIGHT($D45,1),0,RIGHT($D45,1),1)),\"ERROR\"))))","v":1},{"$f":"IF(BF$18<STANDARD_YEAR,BF35,\nIF(RIGHT($D45,1)>RIGHT('Efficiency Levels'!$C$33,1),BF35,\nIF(RIGHT($D45,1)<RIGHT('Efficiency Levels'!$C$33,1),0,\nIF(RIGHT($D45,1)=RIGHT('Efficiency Levels'!$C$33,1),SUM(OFFSET(BF35,-RIGHT($D45,1),0,RIGHT($D45,1),1)),\"ERROR\"))))","v":1},{"$f":"IF(BG$18<STANDARD_YEAR,BG35,\nIF(RIGHT($D45,1)>RIGHT('Efficiency Levels'!$C$33,1),BG35,\nIF(RIGHT($D45,1)<RIGHT('Efficiency Levels'!$C$33,1),0,\nIF(RIGHT($D45,1)=RIGHT('Efficiency Levels'!$C$33,1),SUM(OFFSET(BG35,-RIGHT($D45,1),0,RIGHT($D45,1),1)),\"ERROR\"))))","v":1},{"$f":"IF(BH$18<STANDARD_YEAR,BH35,\nIF(RIGHT($D45,1)>RIGHT('Efficiency Levels'!$C$33,1),BH35,\nIF(RIGHT($D45,1)<RIGHT('Efficiency Levels'!$C$33,1),0,\nIF(RIGHT($D45,1)=RIGHT('Efficiency Levels'!$C$33,1),SUM(OFFSET(BH35,-RIGHT($D45,1),0,RIGHT($D45,1),1)),\"ERROR\"))))","v":1},{"$f":"IF(BI$18<STANDARD_YEAR,BI35,\nIF(RIGHT($D45,1)>RIGHT('Efficiency Levels'!$C$33,1),BI35,\nIF(RIGHT($D45,1)<RIGHT('Efficiency Levels'!$C$33,1),0,\nIF(RIGHT($D45,1)=RIGHT('Efficiency Levels'!$C$33,1),SUM(OFFSET(BI35,-RIGHT($D45,1),0,RIGHT($D45,1),1)),\"ERROR\"))))","v":1},{"$f":"IF(BJ$18<STANDARD_YEAR,BJ35,\nIF(RIGHT($D45,1)>RIGHT('Efficiency Levels'!$C$33,1),BJ35,\nIF(RIGHT($D45,1)<RIGHT('Efficiency Levels'!$C$33,1),0,\nIF(RIGHT($D45,1)=RIGHT('Efficiency Levels'!$C$33,1),SUM(OFFSET(BJ35,-RIGHT($D45,1),0,RIGHT($D45,1),1)),\"ERROR\"))))","v":1}]
[null,null,null,"EL5",{"$f":"OFFSET('Efficiency Levels'!$D$11,MATCH($C$27,'Efficiency Levels'!$C$9:$C$995,0)+RIGHT(D46,1),0)","v":240.7},null,null,null,{"$f":"IF(I$18<STANDARD_YEAR,I36,\nIF(RIGHT($D46,1)>RIGHT('Efficiency Levels'!$C$33,1),I36,\nIF(RIGHT($D46,1)<RIGHT('Efficiency Levels'!$C$33,1),0,\nIF(RIGHT($D46,1)=RIGHT('Efficiency Levels'!$C$33,1),SUM(OFFSET(I36,-RIGHT($D46,1),0,RIGHT($D46,1),1)),\"ERROR\"))))","v":0},{"$f":"IF(J$18<STANDARD_YEAR,J36,\nIF(RIGHT($D46,1)>RIGHT('Efficiency Levels'!$C$33,1),J36,\nIF(RIGHT($D46,1)<RIGHT('Efficiency Levels'!$C$33,1),0,\nIF(RIGHT($D46,1)=RIGHT('Efficiency Levels'!$C$33,1),SUM(OFFSET(J36,-RIGHT($D46,1),0,RIGHT($D46,1),1)),\"ERROR\"))))","v":0},{"$f":"IF(K$18<STANDARD_YEAR,K36,\nIF(RIGHT($D46,1)>RIGHT('Efficiency Levels'!$C$33,1),K36,\nIF(RIGHT($D46,1)<RIGHT('Efficiency Levels'!$C$33,1),0,\nIF(RIGHT($D46,1)=RIGHT('Efficiency Levels'!$C$33,1),SUM(OFFSET(K36,-RIGHT($D46,1),0,RIGHT($D46,1),1)),\"ERROR\"))))","v":0},{"$f":"IF(L$18<STANDARD_YEAR,L36,\nIF(RIGHT($D46,1)>RIGHT('Efficiency Levels'!$C$33,1),L36,\nIF(RIGHT($D46,1)<RIGHT('Efficiency Levels'!$C$33,1),0,\nIF(RIGHT($D46,1)=RIGHT('Efficiency Levels'!$C$33,1),SUM(OFFSET(L36,-RIGHT($D46,1),0,RIGHT($D46,1),1)),\"ERROR\"))))","v":0},{"$f":"IF(M$18<STANDARD_YEAR,M36,\nIF(RIGHT($D46,1)>RIGHT('Efficiency Levels'!$C$33,1),M36,\nIF(RIGHT($D46,1)<RIGHT('Efficiency Levels'!$C$33,1),0,\nIF(RIGHT($D46,1)=RIGHT('Efficiency Levels'!$C$33,1),SUM(OFFSET(M36,-RIGHT($D46,1),0,RIGHT($D46,1),1)),\"ERROR\"))))","v":0},{"$f":"IF(N$18<STANDARD_YEAR,N36,\nIF(RIGHT($D46,1)>RIGHT('Efficiency Levels'!$C$33,1),N36,\nIF(RIGHT($D46,1)<RIGHT('Efficiency Levels'!$C$33,1),0,\nIF(RIGHT($D46,1)=RIGHT('Efficiency Levels'!$C$33,1),SUM(OFFSET(N36,-RIGHT($D46,1),0,RIGHT($D46,1),1)),\"ERROR\"))))","v":0},{"$f":"IF(O$18<STANDARD_YEAR,O36,\nIF(RIGHT($D46,1)>RIGHT('Efficiency Levels'!$C$33,1),O36,\nIF(RIGHT($D46,1)<RIGHT('Efficiency Levels'!$C$33,1),0,\nIF(RIGHT($D46,1)=RIGHT('Efficiency Levels'!$C$33,1),SUM(OFFSET(O36,-RIGHT($D46,1),0,RIGHT($D46,1),1)),\"ERROR\"))))","v":0},{"$f":"IF(P$18<STANDARD_YEAR,P36,\nIF(RIGHT($D46,1)>RIGHT('Efficiency Levels'!$C$33,1),P36,\nIF(RIGHT($D46,1)<RIGHT('Efficiency Levels'!$C$33,1),0,\nIF(RIGHT($D46,1)=RIGHT('Efficiency Levels'!$C$33,1),SUM(OFFSET(P36,-RIGHT($D46,1),0,RIGHT($D46,1),1)),\"ERROR\"))))","v":0},{"$f":"IF(Q$18<STANDARD_YEAR,Q36,\nIF(RIGHT($D46,1)>RIGHT('Efficiency Levels'!$C$33,1),Q36,\nIF(RIGHT($D46,1)<RIGHT('Efficiency Levels'!$C$33,1),0,\nIF(RIGHT($D46,1)=RIGHT('Efficiency Levels'!$C$33,1),SUM(OFFSET(Q36,-RIGHT($D46,1),0,RIGHT($D46,1),1)),\"ERROR\"))))","v":0},{"$f":"IF(R$18<STANDARD_YEAR,R36,\nIF(RIGHT($D46,1)>RIGHT('Efficiency Levels'!$C$33,1),R36,\nIF(RIGHT($D46,1)<RIGHT('Efficiency Levels'!$C$33,1),0,\nIF(RIGHT($D46,1)=RIGHT('Efficiency Levels'!$C$33,1),SUM(OFFSET(R36,-RIGHT($D46,1),0,RIGHT($D46,1),1)),\"ERROR\"))))","v":0},{"$f":"IF(S$18<STANDARD_YEAR,S36,\nIF(RIGHT($D46,1)>RIGHT('Efficiency Levels'!$C$33,1),S36,\nIF(RIGHT($D46,1)<RIGHT('Efficiency Levels'!$C$33,1),0,\nIF(RIGHT($D46,1)=RIGHT('Efficiency Levels'!$C$33,1),SUM(OFFSET(S36,-RIGHT($D46,1),0,RIGHT($D46,1),1)),\"ERROR\"))))","v":0},{"$f":"IF(T$18<STANDARD_YEAR,T36,\nIF(RIGHT($D46,1)>RIGHT('Efficiency Levels'!$C$33,1),T36,\nIF(RIGHT($D46,1)<RIGHT('Efficiency Levels'!$C$33,1),0,\nIF(RIGHT($D46,1)=RIGHT('Efficiency Levels'!$C$33,1),SUM(OFFSET(T36,-RIGHT($D46,1),0,RIGHT($D46,1),1)),\"ERROR\"))))","v":0},{"$f":"IF(U$18<STANDARD_YEAR,U36,\nIF(RIGHT($D46,1)>RIGHT('Efficiency Levels'!$C$33,1),U36,\nIF(RIGHT($D46,1)<RIGHT('Efficiency Levels'!$C$33,1),0,\nIF(RIGHT($D46,1)=RIGHT('Efficiency Levels'!$C$33,1),SUM(OFFSET(U36,-RIGHT($D46,1),0,RIGHT($D46,1),1)),\"ERROR\"))))","v":0},{"$f":"IF(V$18<STANDARD_YEAR,V36,\nIF(RIGHT($D46,1)>RIGHT('Efficiency Levels'!$C$33,1),V36,\nIF(RIGHT($D46,1)<RIGHT('Efficiency Levels'!$C$33,1),0,\nIF(RIGHT($D46,1)=RIGHT('Efficiency Levels'!$C$33,1),SUM(OFFSET(V36,-RIGHT($D46,1),0,RIGHT($D46,1),1)),\"ERROR\"))))","v":0},{"$f":"IF(W$18<STANDARD_YEAR,W36,\nIF(RIGHT($D46,1)>RIGHT('Efficiency Levels'!$C$33,1),W36,\nIF(RIGHT($D46,1)<RIGHT('Efficiency Levels'!$C$33,1),0,\nIF(RIGHT($D46,1)=RIGHT('Efficiency Levels'!$C$33,1),SUM(OFFSET(W36,-RIGHT($D46,1),0,RIGHT($D46,1),1)),\"ERROR\"))))","v":0},{"$f":"IF(X$18<STANDARD_YEAR,X36,\nIF(RIGHT($D46,1)>RIGHT('Efficiency Levels'!$C$33,1),X36,\nIF(RIGHT($D46,1)<RIGHT('Efficiency Levels'!$C$33,1),0,\nIF(RIGHT($D46,1)=RIGHT('Efficiency Levels'!$C$33,1),SUM(OFFSET(X36,-RIGHT($D46,1),0,RIGHT($D46,1),1)),\"ERROR\"))))","v":0},{"$f":"IF(Y$18<STANDARD_YEAR,Y36,\nIF(RIGHT($D46,1)>RIGHT('Efficiency Levels'!$C$33,1),Y36,\nIF(RIGHT($D46,1)<RIGHT('Efficiency Levels'!$C$33,1),0,\nIF(RIGHT($D46,1)=RIGHT('Efficiency Levels'!$C$33,1),SUM(OFFSET(Y36,-RIGHT($D46,1),0,RIGHT($D46,1),1)),\"ERROR\"))))","v":0},{"$f":"IF(Z$18<STANDARD_YEAR,Z36,\nIF(RIGHT($D46,1)>RIGHT('Efficiency Levels'!$C$33,1),Z36,\nIF(RIGHT($D46,1)<RIGHT('Efficiency Levels'!$C$33,1),0,\nIF(RIGHT($D46,1)=RIGHT('Efficiency Levels'!$C$33,1),SUM(OFFSET(Z36,-RIGHT($D46,1),0,RIGHT($D46,1),1)),\"ERROR\"))))","v":0},{"$f":"IF(AA$18<STANDARD_YEAR,AA36,\nIF(RIGHT($D46,1)>RIGHT('Efficiency Levels'!$C$33,1),AA36,\nIF(RIGHT($D46,1)<RIGHT('Efficiency Levels'!$C$33,1),0,\nIF(RIGHT($D46,1)=RIGHT('Efficiency Levels'!$C$33,1),SUM(OFFSET(AA36,-RIGHT($D46,1),0,RIGHT($D46,1),1)),\"ERROR\"))))","v":0},{"$f":"IF(AB$18<STANDARD_YEAR,AB36,\nIF(RIGHT($D46,1)>RIGHT('Efficiency Levels'!$C$33,1),AB36,\nIF(RIGHT($D46,1)<RIGHT('Efficiency Levels'!$C$33,1),0,\nIF(RIGHT($D46,1)=RIGHT('Efficiency Levels'!$C$33,1),SUM(OFFSET(AB36,-RIGHT($D46,1),0,RIGHT($D46,1),1)),\"ERROR\"))))","v":0},{"$f":"IF(AC$18<STANDARD_YEAR,AC36,\nIF(RIGHT($D46,1)>RIGHT('Efficiency Levels'!$C$33,1),AC36,\nIF(RIGHT($D46,1)<RIGHT('Efficiency Levels'!$C$33,1),0,\nIF(RIGHT($D46,1)=RIGHT('Efficiency Levels'!$C$33,1),SUM(OFFSET(AC36,-RIGHT($D46,1),0,RIGHT($D46,1),1)),\"ERROR\"))))","v":0},{"$f":"IF(AD$18<STANDARD_YEAR,AD36,\nIF(RIGHT($D46,1)>RIGHT('Efficiency Levels'!$C$33,1),AD36,\nIF(RIGHT($D46,1)<RIGHT('Efficiency Levels'!$C$33,1),0,\nIF(RIGHT($D46,1)=RIGHT('Efficiency Levels'!$C$33,1),SUM(OFFSET(AD36,-RIGHT($D46,1),0,RIGHT($D46,1),1)),\"ERROR\"))))","v":0},{"$f":"IF(AE$18<STANDARD_YEAR,AE36,\nIF(RIGHT($D46,1)>RIGHT('Efficiency Levels'!$C$33,1),AE36,\nIF(RIGHT($D46,1)<RIGHT('Efficiency Levels'!$C$33,1),0,\nIF(RIGHT($D46,1)=RIGHT('Efficiency Levels'!$C$33,1),SUM(OFFSET(AE36,-RIGHT($D46,1),0,RIGHT($D46,1),1)),\"ERROR\"))))","v":0},{"$f":"IF(AF$18<STANDARD_YEAR,AF36,\nIF(RIGHT($D46,1)>RIGHT('Efficiency Levels'!$C$33,1),AF36,\nIF(RIGHT($D46,1)<RIGHT('Efficiency Levels'!$C$33,1),0,\nIF(RIGHT($D46,1)=RIGHT('Efficiency Levels'!$C$33,1),SUM(OFFSET(AF36,-RIGHT($D46,1),0,RIGHT($D46,1),1)),\"ERROR\"))))","v":0},{"$f":"IF(AG$18<STANDARD_YEAR,AG36,\nIF(RIGHT($D46,1)>RIGHT('Efficiency Levels'!$C$33,1),AG36,\nIF(RIGHT($D46,1)<RIGHT('Efficiency Levels'!$C$33,1),0,\nIF(RIGHT($D46,1)=RIGHT('Efficiency Levels'!$C$33,1),SUM(OFFSET(AG36,-RIGHT($D46,1),0,RIGHT($D46,1),1)),\"ERROR\"))))","v":0},{"$f":"IF(AH$18<STANDARD_YEAR,AH36,\nIF(RIGHT($D46,1)>RIGHT('Efficiency Levels'!$C$33,1),AH36,\nIF(RIGHT($D46,1)<RIGHT('Efficiency Levels'!$C$33,1),0,\nIF(RIGHT($D46,1)=RIGHT('Efficiency Levels'!$C$33,1),SUM(OFFSET(AH36,-RIGHT($D46,1),0,RIGHT($D46,1),1)),\"ERROR\"))))","v":0},{"$f":"IF(AI$18<STANDARD_YEAR,AI36,\nIF(RIGHT($D46,1)>RIGHT('Efficiency Levels'!$C$33,1),AI36,\nIF(RIGHT($D46,1)<RIGHT('Efficiency Levels'!$C$33,1),0,\nIF(RIGHT($D46,1)=RIGHT('Efficiency Levels'!$C$33,1),SUM(OFFSET(AI36,-RIGHT($D46,1),0,RIGHT($D46,1),1)),\"ERROR\"))))","v":0},{"$f":"IF(AJ$18<STANDARD_YEAR,AJ36,\nIF(RIGHT($D46,1)>RIGHT('Efficiency Levels'!$C$33,1),AJ36,\nIF(RIGHT($D46,1)<RIGHT('Efficiency Levels'!$C$33,1),0,\nIF(RIGHT($D46,1)=RIGHT('Efficiency Levels'!$C$33,1),SUM(OFFSET(AJ36,-RIGHT($D46,1),0,RIGHT($D46,1),1)),\"ERROR\"))))","v":0},{"$f":"IF(AK$18<STANDARD_YEAR,AK36,\nIF(RIGHT($D46,1)>RIGHT('Efficiency Levels'!$C$33,1),AK36,\nIF(RIGHT($D46,1)<RIGHT('Efficiency Levels'!$C$33,1),0,\nIF(RIGHT($D46,1)=RIGHT('Efficiency Levels'!$C$33,1),SUM(OFFSET(AK36,-RIGHT($D46,1),0,RIGHT($D46,1),1)),\"ERROR\"))))","v":0},{"$f":"IF(AL$18<STANDARD_YEAR,AL36,\nIF(RIGHT($D46,1)>RIGHT('Efficiency Levels'!$C$33,1),AL36,\nIF(RIGHT($D46,1)<RIGHT('Efficiency Levels'!$C$33,1),0,\nIF(RIGHT($D46,1)=RIGHT('Efficiency Levels'!$C$33,1),SUM(OFFSET(AL36,-RIGHT($D46,1),0,RIGHT($D46,1),1)),\"ERROR\"))))","v":0},{"$f":"IF(AM$18<STANDARD_YEAR,AM36,\nIF(RIGHT($D46,1)>RIGHT('Efficiency Levels'!$C$33,1),AM36,\nIF(RIGHT($D46,1)<RIGHT('Efficiency Levels'!$C$33,1),0,\nIF(RIGHT($D46,1)=RIGHT('Efficiency Levels'!$C$33,1),SUM(OFFSET(AM36,-RIGHT($D46,1),0,RIGHT($D46,1),1)),\"ERROR\"))))","v":0},{"$f":"IF(AN$18<STANDARD_YEAR,AN36,\nIF(RIGHT($D46,1)>RIGHT('Efficiency Levels'!$C$33,1),AN36,\nIF(RIGHT($D46,1)<RIGHT('Efficiency Levels'!$C$33,1),0,\nIF(RIGHT($D46,1)=RIGHT('Efficiency Levels'!$C$33,1),SUM(OFFSET(AN36,-RIGHT($D46,1),0,RIGHT($D46,1),1)),\"ERROR\"))))","v":0},{"$f":"IF(AO$18<STANDARD_YEAR,AO36,\nIF(RIGHT($D46,1)>RIGHT('Efficiency Levels'!$C$33,1),AO36,\nIF(RIGHT($D46,1)<RIGHT('Efficiency Levels'!$C$33,1),0,\nIF(RIGHT($D46,1)=RIGHT('Efficiency Levels'!$C$33,1),SUM(OFFSET(AO36,-RIGHT($D46,1),0,RIGHT($D46,1),1)),\"ERROR\"))))","v":0},{"$f":"IF(AP$18<STANDARD_YEAR,AP36,\nIF(RIGHT($D46,1)>RIGHT('Efficiency Levels'!$C$33,1),AP36,\nIF(RIGHT($D46,1)<RIGHT('Efficiency Levels'!$C$33,1),0,\nIF(RIGHT($D46,1)=RIGHT('Efficiency Levels'!$C$33,1),SUM(OFFSET(AP36,-RIGHT($D46,1),0,RIGHT($D46,1),1)),\"ERROR\"))))","v":0},{"$f":"IF(AQ$18<STANDARD_YEAR,AQ36,\nIF(RIGHT($D46,1)>RIGHT('Efficiency Levels'!$C$33,1),AQ36,\nIF(RIGHT($D46,1)<RIGHT('Efficiency Levels'!$C$33,1),0,\nIF(RIGHT($D46,1)=RIGHT('Efficiency Levels'!$C$33,1),SUM(OFFSET(AQ36,-RIGHT($D46,1),0,RIGHT($D46,1),1)),\"ERROR\"))))","v":0},{"$f":"IF(AR$18<STANDARD_YEAR,AR36,\nIF(RIGHT($D46,1)>RIGHT('Efficiency Levels'!$C$33,1),AR36,\nIF(RIGHT($D46,1)<RIGHT('Efficiency Levels'!$C$33,1),0,\nIF(RIGHT($D46,1)=RIGHT('Efficiency Levels'!$C$33,1),SUM(OFFSET(AR36,-RIGHT($D46,1),0,RIGHT($D46,1),1)),\"ERROR\"))))","v":0},{"$f":"IF(AS$18<STANDARD_YEAR,AS36,\nIF(RIGHT($D46,1)>RIGHT('Efficiency Levels'!$C$33,1),AS36,\nIF(RIGHT($D46,1)<RIGHT('Efficiency Levels'!$C$33,1),0,\nIF(RIGHT($D46,1)=RIGHT('Efficiency Levels'!$C$33,1),SUM(OFFSET(AS36,-RIGHT($D46,1),0,RIGHT($D46,1),1)),\"ERROR\"))))","v":0},{"$f":"IF(AT$18<STANDARD_YEAR,AT36,\nIF(RIGHT($D46,1)>RIGHT('Efficiency Levels'!$C$33,1),AT36,\nIF(RIGHT($D46,1)<RIGHT('Efficiency Levels'!$C$33,1),0,\nIF(RIGHT($D46,1)=RIGHT('Efficiency Levels'!$C$33,1),SUM(OFFSET(AT36,-RIGHT($D46,1),0,RIGHT($D46,1),1)),\"ERROR\"))))","v":0},{"$f":"IF(AU$18<STANDARD_YEAR,AU36,\nIF(RIGHT($D46,1)>RIGHT('Efficiency Levels'!$C$33,1),AU36,\nIF(RIGHT($D46,1)<RIGHT('Efficiency Levels'!$C$33,1),0,\nIF(RIGHT($D46,1)=RIGHT('Efficiency Levels'!$C$33,1),SUM(OFFSET(AU36,-RIGHT($D46,1),0,RIGHT($D46,1),1)),\"ERROR\"))))","v":0},{"$f":"IF(AV$18<STANDARD_YEAR,AV36,\nIF(RIGHT($D46,1)>RIGHT('Efficiency Levels'!$C$33,1),AV36,\nIF(RIGHT($D46,1)<RIGHT('Efficiency Levels'!$C$33,1),0,\nIF(RIGHT($D46,1)=RIGHT('Efficiency Levels'!$C$33,1),SUM(OFFSET(AV36,-RIGHT($D46,1),0,RIGHT($D46,1),1)),\"ERROR\"))))","v":0},{"$f":"IF(AW$18<STANDARD_YEAR,AW36,\nIF(RIGHT($D46,1)>RIGHT('Efficiency Levels'!$C$33,1),AW36,\nIF(RIGHT($D46,1)<RIGHT('Efficiency Levels'!$C$33,1),0,\nIF(RIGHT($D46,1)=RIGHT('Efficiency Levels'!$C$33,1),SUM(OFFSET(AW36,-RIGHT($D46,1),0,RIGHT($D46,1),1)),\"ERROR\"))))","v":0},{"$f":"IF(AX$18<STANDARD_YEAR,AX36,\nIF(RIGHT($D46,1)>RIGHT('Efficiency Levels'!$C$33,1),AX36,\nIF(RIGHT($D46,1)<RIGHT('Efficiency Levels'!$C$33,1),0,\nIF(RIGHT($D46,1)=RIGHT('Efficiency Levels'!$C$33,1),SUM(OFFSET(AX36,-RIGHT($D46,1),0,RIGHT($D46,1),1)),\"ERROR\"))))","v":0},{"$f":"IF(AY$18<STANDARD_YEAR,AY36,\nIF(RIGHT($D46,1)>RIGHT('Efficiency Levels'!$C$33,1),AY36,\nIF(RIGHT($D46,1)<RIGHT('Efficiency Levels'!$C$33,1),0,\nIF(RIGHT($D46,1)=RIGHT('Efficiency Levels'!$C$33,1),SUM(OFFSET(AY36,-RIGHT($D46,1),0,RIGHT($D46,1),1)),\"ERROR\"))))","v":0},{"$f":"IF(AZ$18<STANDARD_YEAR,AZ36,\nIF(RIGHT($D46,1)>RIGHT('Efficiency Levels'!$C$33,1),AZ36,\nIF(RIGHT($D46,1)<RIGHT('Efficiency Levels'!$C$33,1),0,\nIF(RIGHT($D46,1)=RIGHT('Efficiency Levels'!$C$33,1),SUM(OFFSET(AZ36,-RIGHT($D46,1),0,RIGHT($D46,1),1)),\"ERROR\"))))","v":0},{"$f":"IF(BA$18<STANDARD_YEAR,BA36,\nIF(RIGHT($D46,1)>RIGHT('Efficiency Levels'!$C$33,1),BA36,\nIF(RIGHT($D46,1)<RIGHT('Efficiency Levels'!$C$33,1),0,\nIF(RIGHT($D46,1)=RIGHT('Efficiency Levels'!$C$33,1),SUM(OFFSET(BA36,-RIGHT($D46,1),0,RIGHT($D46,1),1)),\"ERROR\"))))","v":0},{"$f":"IF(BB$18<STANDARD_YEAR,BB36,\nIF(RIGHT($D46,1)>RIGHT('Efficiency Levels'!$C$33,1),BB36,\nIF(RIGHT($D46,1)<RIGHT('Efficiency Levels'!$C$33,1),0,\nIF(RIGHT($D46,1)=RIGHT('Efficiency Levels'!$C$33,1),SUM(OFFSET(BB36,-RIGHT($D46,1),0,RIGHT($D46,1),1)),\"ERROR\"))))","v":0},{"$f":"IF(BC$18<STANDARD_YEAR,BC36,\nIF(RIGHT($D46,1)>RIGHT('Efficiency Levels'!$C$33,1),BC36,\nIF(RIGHT($D46,1)<RIGHT('Efficiency Levels'!$C$33,1),0,\nIF(RIGHT($D46,1)=RIGHT('Efficiency Levels'!$C$33,1),SUM(OFFSET(BC36,-RIGHT($D46,1),0,RIGHT($D46,1),1)),\"ERROR\"))))","v":0},{"$f":"IF(BD$18<STANDARD_YEAR,BD36,\nIF(RIGHT($D46,1)>RIGHT('Efficiency Levels'!$C$33,1),BD36,\nIF(RIGHT($D46,1)<RIGHT('Efficiency Levels'!$C$33,1),0,\nIF(RIGHT($D46,1)=RIGHT('Efficiency Levels'!$C$33,1),SUM(OFFSET(BD36,-RIGHT($D46,1),0,RIGHT($D46,1),1)),\"ERROR\"))))","v":0},{"$f":"IF(BE$18<STANDARD_YEAR,BE36,\nIF(RIGHT($D46,1)>RIGHT('Efficiency Levels'!$C$33,1),BE36,\nIF(RIGHT($D46,1)<RIGHT('Efficiency Levels'!$C$33,1),0,\nIF(RIGHT($D46,1)=RIGHT('Efficiency Levels'!$C$33,1),SUM(OFFSET(BE36,-RIGHT($D46,1),0,RIGHT($D46,1),1)),\"ERROR\"))))","v":0},{"$f":"IF(BF$18<STANDARD_YEAR,BF36,\nIF(RIGHT($D46,1)>RIGHT('Efficiency Levels'!$C$33,1),BF36,\nIF(RIGHT($D46,1)<RIGHT('Efficiency Levels'!$C$33,1),0,\nIF(RIGHT($D46,1)=RIGHT('Efficiency Levels'!$C$33,1),SUM(OFFSET(BF36,-RIGHT($D46,1),0,RIGHT($D46,1),1)),\"ERROR\"))))","v":0},{"$f":"IF(BG$18<STANDARD_YEAR,BG36,\nIF(RIGHT($D46,1)>RIGHT('Efficiency Levels'!$C$33,1),BG36,\nIF(RIGHT($D46,1)<RIGHT('Efficiency Levels'!$C$33,1),0,\nIF(RIGHT($D46,1)=RIGHT('Efficiency Levels'!$C$33,1),SUM(OFFSET(BG36,-RIGHT($D46,1),0,RIGHT($D46,1),1)),\"ERROR\"))))","v":0},{"$f":"IF(BH$18<STANDARD_YEAR,BH36,\nIF(RIGHT($D46,1)>RIGHT('Efficiency Levels'!$C$33,1),BH36,\nIF(RIGHT($D46,1)<RIGHT('Efficiency Levels'!$C$33,1),0,\nIF(RIGHT($D46,1)=RIGHT('Efficiency Levels'!$C$33,1),SUM(OFFSET(BH36,-RIGHT($D46,1),0,RIGHT($D46,1),1)),\"ERROR\"))))","v":0},{"$f":"IF(BI$18<STANDARD_YEAR,BI36,\nIF(RIGHT($D46,1)>RIGHT('Efficiency Levels'!$C$33,1),BI36,\nIF(RIGHT($D46,1)<RIGHT('Efficiency Levels'!$C$33,1),0,\nIF(RIGHT($D46,1)=RIGHT('Efficiency Levels'!$C$33,1),SUM(OFFSET(BI36,-RIGHT($D46,1),0,RIGHT($D46,1),1)),\"ERROR\"))))","v":0},{"$f":"IF(BJ$18<STANDARD_YEAR,BJ36,\nIF(RIGHT($D46,1)>RIGHT('Efficiency Levels'!$C$33,1),BJ36,\nIF(RIGHT($D46,1)<RIGHT('Efficiency Levels'!$C$33,1),0,\nIF(RIGHT($D46,1)=RIGHT('Efficiency Levels'!$C$33,1),SUM(OFFSET(BJ36,-RIGHT($D46,1),0,RIGHT($D46,1),1)),\"ERROR\"))))","v":0}]
[null,null,null,"TOTAL",null,null,null,null,{"$f":"SUM(I41:I46)","v":1},1,1,1,1,1,1,1,1,1,1,1,1,1,1,1,1,1,1,1,1,1,1,1,1,1,1,1,1,1,1,1,1,1,1,1,1,1,1,1,1,1,1,1,1,1,1,1,1,1,1,1,1,1]
[]
[null,null,null,"Sources","Placeholder Values Assumes All Pre-Case Shipments are the Least Energy Efficient Products"]

{"sheet":"6P UEC Development","index":14,"n_rows":9,"n_cols":4,"rows_kept":9,"cut":false,"hidden":false,"merged":[]}
[]
[null,null,"6P UEC Development"]
[]
[null,null,"NAVIGATION"]
[]
[null,null,"COMMENTS"]
[]
[]
[null,null,"6P UEC Proxy","Because Cooktops are not included in the 6P, Pre-Case UECs were developed using the best available information.  These are the based on the DOE rulemaking UECs."]

{"sheet":"Constants","index":15,"n_rows":13,"n_cols":4,"rows_kept":13,"cut":false,"hidden":false,"merged":[]}
[]
[null,null,"Constants"]
[]
[null,null,"NAVIGATION"]
[]
[null,null,"COMMENTS"]
[]
[]
[null,null,"Constant","Value"]
[null,null,"Hours/Day",24]
[null,null,"Days/Week",7]
[null,null,"Days/Year",365.25]
[null,null,"kW/MW",1000]

{"sheet":"Product Class Dist","index":16,"n_rows":15,"n_cols":58,"rows_kept":15,"cut":false,"hidden":false,"merged":[]}
[]
[null,null,"Product Class Distributions"]
[]
[null,null,"NAVIGATION"]
[]
[null,null,"COMMENTS"]
[]
[]
[null,null,"PRE-Case",null,1981,1982,1983,1984,1985,1986,1987,1988,1989,1990,1991,1992,1993,1994,1995,1996,1997,1998,1999,2000,2001,2002,2003,2004,2005,2006,2007,2008,2009,2010,2011,2012,2013,2014,2015,2016,2017,2018,2019,2020,2021,2022,2023,2024,2025,2026,2027,2028,2029,2030,2031,2032,2033,2034]
[null,null,{"$f":"'Product Classes'!$H$11&\" - \"&'Product Classes'!$C$11","v":"PC1 - Electric Cooking Tops—Low or High Wattage Open (Coil) Elements"},null,{"$f":"F10","v":0.50617283950617276},0.50617283950617276,0.50617283950617276,0.50617283950617276,0.50617283950617276,0.50617283950617276,0.50617283950617276,0.50617283950617276,{"$f":"N10","v":0.50617283950617276},{"$f":"SUM('National Shipments Data'!E10:E11,'National Shipments Data'!E14)/SUM('National Shipments Data'!E10:E15)","v":0.50617283950617276},{"$f":"SUM('National Shipments Data'!F10:F11,'National Shipments Data'!F14)/SUM('National Shipments Data'!F10:F15)","v":0.52439024390243905},{"$f":"SUM('National Shipments Data'!G10:G11,'National Shipments Data'!G14)/SUM('National Shipments Data'!G10:G15)","v":0.53012048192771088},{"$f":"SUM('National Shipments Data'!H10:H11,'National Shipments Data'!H14)/SUM('National Shipments Data'!H10:H15)","v":0.53012048192771088},{"$f":"SUM('National Shipments Data'!I10:I11,'National Shipments Data'!I14)/SUM('National Shipments Data'!I10:I15)","v":0.50602409638554213},{"$f":"SUM('National Shipments Data'!J10:J11,'National Shipments Data'!J14)/SUM('National Shipments Data'!J10:J15)","v":0.50588235294117645},{"$f":"SUM('National Shipments Data'!K10:K11,'National Shipments Data'!K14)/SUM('National Shipments Data'!K10:K15)","v":0.50588235294117645},{"$f":"SUM('National Shipments Data'!L10:L11,'National Shipments Data'!L14)/SUM('National Shipments Data'!L10:L15)","v":0.5},{"$f":"SUM('National Shipments Data'!M10:M11,'National Shipments Data'!M14)/SUM('National Shipments Data'!M10:M15)","v":0.48837209302325585},{"$f":"SUM('National Shipments Data'!N10:N11,'National Shipments Data'!N14)/SUM('National Shipments Data'!N10:N15)","v":0.48837209302325579},{"$f":"SUM('National Shipments Data'!O10:O11,'National Shipments Data'!O14)/SUM('National Shipments Data'!O10:O15)","v":0.48275862068965514},{"$f":"SUM('National Shipments Data'!P10:P11,'National Shipments Data'!P14)/SUM('National Shipments Data'!P10:P15)","v":0.4823529411764706},{"$f":"SUM('National Shipments Data'!Q10:Q11,'National Shipments Data'!Q14)/SUM('National Shipments Data'!Q10:Q15)","v":0.47674418604651159},{"$f":"SUM('National Shipments Data'!R10:R11,'National Shipments Data'!R14)/SUM('National Shipments Data'!R10:R15)","v":0.46428571428571425},{"$f":"SUM('National Shipments Data'!S10:S11,'National Shipments Data'!S14)/SUM('National Shipments Data'!S10:S15)","v":0.46428571428571425},{"$f":"SUM('National Shipments Data'!T10:T11,'National Shipments Data'!T14)/SUM('National Shipments Data'!T10:T15)","v":0.45882352941176469},{"$f":"FORECAST(AD$9,$E10:$AC10,$E$9:$AC$9)","v":0.47530952041370123},{"$f":"FORECAST(AE$9,$E10:$AC10,$E$9:$AC$9)","v":0.47350211953158672},0.47169471864947177,0.46988731776735682,0.46807991688524231,0.46627251600312736,0.46446511512101285,0.4626577142388979,0.46085031335678339,0.45904291247466844,0.45723551159255393,0.45542811071043898,0.45362070982832403,0.45181330894620952,0.45000590806409457,0.44819850718198007,0.44639110629986511,0.44458370541775061,0.44277630453563566,0.44096890365352115,0.4391615027714062,0.43735410188929169,0.43554670100717674,0.43373930012506179,0.43193189924294728,0.43012449836083233,0.42831709747871782,0.42650969659660287,0.42470229571448836]
[null,null,{"$f":"'Product Classes'!$H$12&\" - \"&'Product Classes'!$C$12","v":"PC2 - Electric Cooking Tops—Smooth Elements"},null,{"$f":"F11","v":0.49382716049382713},0.49382716049382713,0.49382716049382713,0.49382716049382713,0.49382716049382713,0.49382716049382713,0.49382716049382713,0.49382716049382713,{"$f":"N11","v":0.49382716049382713},{"$f":"SUM('National Shipments Data'!E12:E13,'National Shipments Data'!E15)/SUM('National Shipments Data'!E10:E15)","v":0.49382716049382713},{"$f":"SUM('National Shipments Data'!F12:F13,'National Shipments Data'!F15)/SUM('National Shipments Data'!F10:F15)","v":0.47560975609756101},{"$f":"SUM('National Shipments Data'!G12:G13,'National Shipments Data'!G15)/SUM('National Shipments Data'!G10:G15)","v":0.46987951807228917},{"$f":"SUM('National Shipments Data'!H12:H13,'National Shipments Data'!H15)/SUM('National Shipments Data'!H10:H15)","v":0.46987951807228917},{"$f":"SUM('National Shipments Data'!I12:I13,'National Shipments Data'!I15)/SUM('National Shipments Data'!I10:I15)","v":0.49397590361445781},{"$f":"SUM('National Shipments Data'!J12:J13,'National Shipments Data'!J15)/SUM('National Shipments Data'!J10:J15)","v":0.49411764705882344},{"$f":"SUM('National Shipments Data'!K12:K13,'National Shipments Data'!K15)/SUM('National Shipments Data'!K10:K15)","v":0.49411764705882355},{"$f":"SUM('National Shipments Data'!L12:L13,'National Shipments Data'!L15)/SUM('National Shipments Data'!L10:L15)","v":0.5},{"$f":"SUM('National Shipments Data'!M12:M13,'National Shipments Data'!M15)/SUM('National Shipments Data'!M10:M15)","v":0.51162790697674421},{"$f":"SUM('National Shipments Data'!N12:N13,'National Shipments Data'!N15)/SUM('National Shipments Data'!N10:N15)","v":0.5116279069767441},{"$f":"SUM('National Shipments Data'!O12:O13,'National Shipments Data'!O15)/SUM('National Shipments Data'!O10:O15)","v":0.51724137931034475},{"$f":"SUM('National Shipments Data'!P12:P13,'National Shipments Data'!P15)/SUM('National Shipments Data'!P10:P15)","v":0.51764705882352935},{"$f":"SUM('National Shipments Data'!Q12:Q13,'National Shipments Data'!Q15)/SUM('National Shipments Data'!Q10:Q15)","v":0.5232558139534883},{"$f":"SUM('National Shipments Data'!R12:R13,'National Shipments Data'!R15)/SUM('National Shipments Data'!R10:R15)","v":0.5357142857142857},{"$f":"SUM('National Shipments Data'!S12:S13,'National Shipments Data'!S15)/SUM('National Shipments Data'!S10:S15)","v":0.5357142857142857},{"$f":"SUM('National Shipments Data'!T12:T13,'National Shipments Data'!T15)/SUM('National Shipments Data'!T10:T15)","v":0.54117647058823526},{"$f":"FORECAST(AD$9,$E11:$AC11,$E$9:$AC$9)","v":0.52469047958629922},0.52649788046841373,0.52830528135052868,0.53011268223264318,0.53192008311475814,0.53372748399687264,0.53553488487898759,0.53734228576110254,0.53914968664321705,0.540957087525332,0.54276448840744651,0.54457188928956146,0.54637929017167597,0.54818669105379092,0.54999409193590543,0.55180149281802038,0.55360889370013533,0.55541629458224984,0.55722369546436479,0.55903109634647929,0.56083849722859425,0.56264589811070875,0.5644532989928237,0.56626069987493821,0.56806810075705316,0.56987550163916811,0.57168290252128262,0.57349030340339757,0.57529770428551208]
[]
[null,null,"POST-Case",null,1981,1982,1983,1984,1985,1986,1987,1988,1989,1990,1991,1992,1993,1994,1995,1996,1997,1998,1999,2000,2001,2002,2003,2004,2005,2006,2007,2008,2009,2010,2011,2012,2013,2014,2015,2016,2017,2018,2019,2020,2021,2022,2023,2024,2025,2026,2027,2028,2029,2030,2031,2032,2033,2034]
[null,null,{"$f":"'Product Classes'!$H$11&\" - \"&'Product Classes'!$C$11","v":"PC1 - Electric Cooking Tops—Low or High Wattage Open (Coil) Elements"},null,{"$f":"F14","v":0.50617283950617276},0.50617283950617276,0.50617283950617276,0.50617283950617276,0.50617283950617276,0.50617283950617276,0.50617283950617276,0.50617283950617276,{"$f":"N14","v":0.50617283950617276},{"$f":"N10","v":0.50617283950617276},{"$f":"O10","v":0.52439024390243905},0.53012048192771088,0.53012048192771088,0.50602409638554213,0.50588235294117645,0.50588235294117645,0.5,0.48837209302325585,0.48837209302325579,0.48275862068965514,0.4823529411764706,0.47674418604651159,0.46428571428571425,0.46428571428571425,0.45882352941176469,0.47530952041370123,0.47350211953158672,0.47169471864947177,0.46988731776735682,0.46807991688524231,0.46627251600312736,0.46446511512101285,0.4626577142388979,0.46085031335678339,0.45904291247466844,0.45723551159255393,0.45542811071043898,0.45362070982832403,0.45181330894620952,0.45000590806409457,0.44819850718198007,0.44639110629986511,0.44458370541775061,0.44277630453563566,0.44096890365352115,0.4391615027714062,0.43735410188929169,0.43554670100717674,0.43373930012506179,0.43193189924294728,0.43012449836083233,0.42831709747871782,0.42650969659660287,0.42470229571448836]
[null,null,{"$f":"'Product Classes'!$H$12&\" - \"&'Product Classes'!$C$12","v":"PC2 - Electric Cooking Tops—Smooth Elements"},null,{"$f":"F15","v":0.49382716049382713},0.49382716049382713,0.49382716049382713,0.49382716049382713,0.49382716049382713,0.49382716049382713,0.49382716049382713,0.49382716049382713,{"$f":"N15","v":0.49382716049382713},{"$f":"N11","v":0.49382716049382713},0.47560975609756101,0.46987951807228917,0.46987951807228917,0.49397590361445781,0.49411764705882344,0.49411764705882355,0.5,0.51162790697674421,0.5116279069767441,0.51724137931034475,0.51764705882352935,0.5232558139534883,0.5357142857142857,0.5357142857142857,0.54117647058823526,0.52469047958629922,0.52649788046841373,0.52830528135052868,0.53011268223264318,0.53192008311475814,0.53372748399687264,0.53553488487898759,0.53734228576110254,0.53914968664321705,0.540957087525332,0.54276448840744651,0.54457188928956146,0.54637929017167597,0.54818669105379092,0.54999409193590543,0.55180149281802038,0.55360889370013533,0.55541629458224984,0.55722369546436479,0.55903109634647929,0.56083849722859425,0.56264589811070875,0.5644532989928237,0.56626069987493821,0.56806810075705316,0.56987550163916811,0.57168290252128262,0.57349030340339757,0.57529770428551208]

{"sheet":"UEC Development","index":17,"n_rows":29,"n_cols":12,"rows_kept":29,"cut":false,"hidden":false,"merged":[[20,5,20,7],[20,9,20,11],[1,2,1,3],[3,2,3,3],[5,2,5,3],[10,5,10,7],[10,9,10,11]]}
[]
[null,null,"UEC Development by Building Type"]
[]
[null,null,"NAVIGATION"]
[]
[null,null,"COMMENTS"]
[]
[]
[null,null,{"$f":"'Product Classes'!$H$11&\" - \"&'Product Classes'!$C$11","v":"PC1 - Electric Cooking Tops—Low or High Wattage Open (Coil) Elements"}]
[]
[null,null,null,"Single Family",null,"Scaling Factors",null,null,null,"Unit Energy Consumption (UEC)"]
[null,null,"Efficiency Level","Annual Energy Consumption",null,"Single Family","Multi-Family","Manufactured Homes",null,"Single Family","Multi-Family","Manufactured Homes"]
[null,null,null,"kWh / year",null,null,null,null,null,"kWh / year","kWh / year","kWh / year"]
[null,null,"EL0",{"$f":"'Efficiency Levels'!D12","v":256.7},null,1,1,1,null,{"$f":"$D14*F14","v":256.7},{"$f":"$D14*G14","v":256.7},256.7]
[null,null,"EL1",{"$f":"'Efficiency Levels'!D13","v":246},null,1,1,1,null,{"$f":"$D15*F15","v":246},246,246]
[]
[]
[]
[null,null,{"$f":"'Product Classes'!$H$12&\" - \"&'Product Classes'!$C$12","v":"PC2 - Electric Cooking Tops—Smooth Elements"}]
[]
[null,null,null,"Single Family",null,"Scaling Factors",null,null,null,"Unit Energy Consumption (UEC)"]
[null,null,"Efficiency Level","Annual Energy Consumption",null,"Single Family","Multi-Family","Manufactured Homes",null,"Single Family","Multi-Family","Manufactured Homes"]
[null,null,null,"kWh / year",null,null,null,null,null,"kWh / year","kWh / year","kWh / year"]
[null,null,"EL0",{"$f":"'Efficiency Levels'!D25","v":280.60000000000002},null,1,1,1,null,{"$f":"$D24*F24","v":280.60000000000002},280.60000000000002,280.60000000000002]
[null,null,"EL1",{"$f":"'Efficiency Levels'!D26","v":268.60000000000002},null,1,1,1,null,268.60000000000002,268.60000000000002,268.60000000000002]
[null,null,"EL2",{"$f":"'Efficiency Levels'!D27","v":263.5},null,1,1,1,null,263.5,263.5,263.5]
[null,null,"EL3",{"$f":"'Efficiency Levels'!D28","v":259.8},null,1,1,1,null,259.8,259.8,259.8]
[null,null,"EL4",{"$f":"'Efficiency Levels'!D29","v":245.9},null,1,1,1,null,245.9,245.9,245.9]
[null,null,"EL5",{"$f":"'Efficiency Levels'!D30","v":240.7},null,1,1,1,null,240.7,240.7,240.7]

{"sheet":"UEC-SF","index":18,"n_rows":17,"n_cols":57,"rows_kept":17,"cut":false,"hidden":false,"merged":[]}
[]
[null,null,"Weighted Annual UEC - Single Family"]
[]
[null,null,"NAVIGATION"]
[]
[null,null,"COMMENTS"]
[]
[]
[null,null,"Market UEC (Shipment Weighted Average)"]
[null,null,null,1981,1982,1983,1984,1985,1986,1987,1988,1989,1990,1991,1992,1993,1994,1995,1996,1997,1998,1999,2000,2001,2002,2003,2004,2005,2006,2007,2008,2009,2010,2011,2012,2013,2014,2015,2016,2017,2018,2019,2020,2021,2022,2023,2024,2025,2026,2027,2028,2029,2030,2031,2032,2033,2034]
[null,null,"PRE-Case UEC",{"$f":"'Product Class Dist'!E10*SUMPRODUCT('UEC Development'!$J$14:$J$15,'Efficiency Dist - SF'!I13:I14)\n+'Product Class Dist'!E11*SUMPRODUCT('UEC Development'!$J$24:$J$29,'Efficiency Dist - SF'!I31:I36)","v":268.50246913580247},{"$f":"'Product Class Dist'!F10*SUMPRODUCT('UEC Development'!$J$14:$J$15,'Efficiency Dist - SF'!J13:J14)\n+'Product Class Dist'!F11*SUMPRODUCT('UEC Development'!$J$24:$J$29,'Efficiency Dist - SF'!J31:J36)","v":268.50246913580247},{"$f":"'Product Class Dist'!G10*SUMPRODUCT('UEC Development'!$J$14:$J$15,'Efficiency Dist - SF'!K13:K14)\n+'Product Class Dist'!G11*SUMPRODUCT('UEC Development'!$J$24:$J$29,'Efficiency Dist - SF'!K31:K36)","v":268.50246913580247},{"$f":"'Product Class Dist'!H10*SUMPRODUCT('UEC Development'!$J$14:$J$15,'Efficiency Dist - SF'!L13:L14)\n+'Product Class Dist'!H11*SUMPRODUCT('UEC Development'!$J$24:$J$29,'Efficiency Dist - SF'!L31:L36)","v":268.50246913580247},{"$f":"'Product Class Dist'!I10*SUMPRODUCT('UEC Development'!$J$14:$J$15,'Efficiency Dist - SF'!M13:M14)\n+'Product Class Dist'!I11*SUMPRODUCT('UEC Development'!$J$24:$J$29,'Efficiency Dist - SF'!M31:M36)","v":268.50246913580247},{"$f":"'Product Class Dist'!J10*SUMPRODUCT('UEC Development'!$J$14:$J$15,'Efficiency Dist - SF'!N13:N14)\n+'Product Class Dist'!J11*SUMPRODUCT('UEC Development'!$J$24:$J$29,'Efficiency Dist - SF'!N31:N36)","v":268.50246913580247},{"$f":"'Product Class Dist'!K10*SUMPRODUCT('UEC Development'!$J$14:$J$15,'Efficiency Dist - SF'!O13:O14)\n+'Product Class Dist'!K11*SUMPRODUCT('UEC Development'!$J$24:$J$29,'Efficiency Dist - SF'!O31:O36)","v":268.50246913580247},{"$f":"'Product Class Dist'!L10*SUMPRODUCT('UEC Development'!$J$14:$J$15,'Efficiency Dist - SF'!P13:P14)\n+'Product Class Dist'!L11*SUMPRODUCT('UEC Development'!$J$24:$J$29,'Efficiency Dist - SF'!P31:P36)","v":268.50246913580247},{"$f":"'Product Class Dist'!M10*SUMPRODUCT('UEC Development'!$J$14:$J$15,'Efficiency Dist - SF'!Q13:Q14)\n+'Product Class Dist'!M11*SUMPRODUCT('UEC Development'!$J$24:$J$29,'Efficiency Dist - SF'!Q31:Q36)","v":268.50246913580247},{"$f":"'Product Class Dist'!N10*SUMPRODUCT('UEC Development'!$J$14:$J$15,'Efficiency Dist - SF'!R13:R14)\n+'Product Class Dist'!N11*SUMPRODUCT('UEC Development'!$J$24:$J$29,'Efficiency Dist - SF'!R31:R36)","v":268.50246913580247},{"$f":"'Product Class Dist'!O10*SUMPRODUCT('UEC Development'!$J$14:$J$15,'Efficiency Dist - SF'!S13:S14)\n+'Product Class Dist'!O11*SUMPRODUCT('UEC Development'!$J$24:$J$29,'Efficiency Dist - SF'!S31:S36)","v":268.06707317073176},{"$f":"'Product Class Dist'!P10*SUMPRODUCT('UEC Development'!$J$14:$J$15,'Efficiency Dist - SF'!T13:T14)\n+'Product Class Dist'!P11*SUMPRODUCT('UEC Development'!$J$24:$J$29,'Efficiency Dist - SF'!T31:T36)","v":267.9301204819277},{"$f":"'Product Class Dist'!Q10*SUMPRODUCT('UEC Development'!$J$14:$J$15,'Efficiency Dist - SF'!U13:U14)\n+'Product Class Dist'!Q11*SUMPRODUCT('UEC Development'!$J$24:$J$29,'Efficiency Dist - SF'!U31:U36)","v":267.9301204819277},{"$f":"'Product Class Dist'!R10*SUMPRODUCT('UEC Development'!$J$14:$J$15,'Efficiency Dist - SF'!V13:V14)\n+'Product Class Dist'!R11*SUMPRODUCT('UEC Development'!$J$24:$J$29,'Efficiency Dist - SF'!V31:V36)","v":268.50602409638554},{"$f":"'Product Class Dist'!S10*SUMPRODUCT('UEC Development'!$J$14:$J$15,'Efficiency Dist - SF'!W13:W14)\n+'Product Class Dist'!S11*SUMPRODUCT('UEC Development'!$J$24:$J$29,'Efficiency Dist - SF'!W31:W36)","v":268.50941176470587},{"$f":"'Product Class Dist'!T10*SUMPRODUCT('UEC Development'!$J$14:$J$15,'Efficiency Dist - SF'!X13:X14)\n+'Product Class Dist'!T11*SUMPRODUCT('UEC Development'!$J$24:$J$29,'Efficiency Dist - SF'!X31:X36)","v":268.50941176470587},{"$f":"'Product Class Dist'!U10*SUMPRODUCT('UEC Development'!$J$14:$J$15,'Efficiency Dist - SF'!Y13:Y14)\n+'Product Class Dist'!U11*SUMPRODUCT('UEC Development'!$J$24:$J$29,'Efficiency Dist - SF'!Y31:Y36)","v":268.64999999999998},{"$f":"'Product Class Dist'!V10*SUMPRODUCT('UEC Development'!$J$14:$J$15,'Efficiency Dist - SF'!Z13:Z14)\n+'Product Class Dist'!V11*SUMPRODUCT('UEC Development'!$J$24:$J$29,'Efficiency Dist - SF'!Z31:Z36)","v":268.92790697674423},{"$f":"'Product Class Dist'!W10*SUMPRODUCT('UEC Development'!$J$14:$J$15,'Efficiency Dist - SF'!AA13:AA14)\n+'Product Class Dist'!W11*SUMPRODUCT('UEC Development'!$J$24:$J$29,'Efficiency Dist - SF'!AA31:AA36)","v":268.92790697674417},{"$f":"'Product Class Dist'!X10*SUMPRODUCT('UEC Development'!$J$14:$J$15,'Efficiency Dist - SF'!AB13:AB14)\n+'Product Class Dist'!X11*SUMPRODUCT('UEC Development'!$J$24:$J$29,'Efficiency Dist - SF'!AB31:AB36)","v":269.06206896551726},{"$f":"'Product Class Dist'!Y10*SUMPRODUCT('UEC Development'!$J$14:$J$15,'Efficiency Dist - SF'!AC13:AC14)\n+'Product Class Dist'!Y11*SUMPRODUCT('UEC Development'!$J$24:$J$29,'Efficiency Dist - SF'!AC31:AC36)","v":269.07176470588234},{"$f":"'Product Class Dist'!Z10*SUMPRODUCT('UEC Development'!$J$14:$J$15,'Efficiency Dist - SF'!AD13:AD14)\n+'Product Class Dist'!Z11*SUMPRODUCT('UEC Development'!$J$24:$J$29,'Efficiency Dist - SF'!AD31:AD36)","v":269.20581395348836},{"$f":"'Product Class Dist'!AA10*SUMPRODUCT('UEC Development'!$J$14:$J$15,'Efficiency Dist - SF'!AE13:AE14)\n+'Product Class Dist'!AA11*SUMPRODUCT('UEC Development'!$J$24:$J$29,'Efficiency Dist - SF'!AE31:AE36)","v":269.50357142857143},{"$f":"'Product Class Dist'!AB10*SUMPRODUCT('UEC Development'!$J$14:$J$15,'Efficiency Dist - SF'!AF13:AF14)\n+'Product Class Dist'!AB11*SUMPRODUCT('UEC Development'!$J$24:$J$29,'Efficiency Dist - SF'!AF31:AF36)","v":269.50357142857143},{"$f":"'Product Class Dist'!AC10*SUMPRODUCT('UEC Development'!$J$14:$J$15,'Efficiency Dist - SF'!AG13:AG14)\n+'Product Class Dist'!AC11*SUMPRODUCT('UEC Development'!$J$24:$J$29,'Efficiency Dist - SF'!AG31:AG36)","v":269.63411764705882},{"$f":"'Product Class Dist'!AD10*SUMPRODUCT('UEC Development'!$J$14:$J$15,'Efficiency Dist - SF'!AH13:AH14)\n+'Product Class Dist'!AD11*SUMPRODUCT('UEC Development'!$J$24:$J$29,'Efficiency Dist - SF'!AH31:AH36)","v":269.24010246211265},{"$f":"'Product Class Dist'!AE10*SUMPRODUCT('UEC Development'!$J$14:$J$15,'Efficiency Dist - SF'!AI13:AI14)\n+'Product Class Dist'!AE11*SUMPRODUCT('UEC Development'!$J$24:$J$29,'Efficiency Dist - SF'!AI31:AI36)","v":269.28329934319521},{"$f":"'Product Class Dist'!AF10*SUMPRODUCT('UEC Development'!$J$14:$J$15,'Efficiency Dist - SF'!AJ13:AJ14)\n+'Product Class Dist'!AF11*SUMPRODUCT('UEC Development'!$J$24:$J$29,'Efficiency Dist - SF'!AJ31:AJ36)","v":269.32649622427778},{"$f":"'Product Class Dist'!AG10*SUMPRODUCT('UEC Development'!$J$14:$J$15,'Efficiency Dist - SF'!AK13:AK14)\n+'Product Class Dist'!AG11*SUMPRODUCT('UEC Development'!$J$24:$J$29,'Efficiency Dist - SF'!AK31:AK36)","v":269.36969310536017},{"$f":"'Product Class Dist'!AH10*SUMPRODUCT('UEC Development'!$J$14:$J$15,'Efficiency Dist - SF'!AL13:AL14)\n+'Product Class Dist'!AH11*SUMPRODUCT('UEC Development'!$J$24:$J$29,'Efficiency Dist - SF'!AL31:AL36)","v":269.41288998644285},{"$f":"'Product Class Dist'!AI10*SUMPRODUCT('UEC Development'!$J$14:$J$15,'Efficiency Dist - SF'!AM13:AM14)\n+'Product Class Dist'!AI11*SUMPRODUCT('UEC Development'!$J$24:$J$29,'Efficiency Dist - SF'!AM31:AM36)","v":269.45608686752524},{"$f":"'Product Class Dist'!AJ10*SUMPRODUCT('UEC Development'!$J$14:$J$15,'Efficiency Dist - SF'!AN13:AN14)\n+'Product Class Dist'!AJ11*SUMPRODUCT('UEC Development'!$J$24:$J$29,'Efficiency Dist - SF'!AN31:AN36)","v":269.49928374860792},{"$f":"'Product Class Dist'!AK10*SUMPRODUCT('UEC Development'!$J$14:$J$15,'Efficiency Dist - SF'!AO13:AO14)\n+'Product Class Dist'!AK11*SUMPRODUCT('UEC Development'!$J$24:$J$29,'Efficiency Dist - SF'!AO31:AO36)","v":269.54248062969049},{"$f":"'Product Class Dist'!AL10*SUMPRODUCT('UEC Development'!$J$14:$J$15,'Efficiency Dist - SF'!AP13:AP14)\n+'Product Class Dist'!AL11*SUMPRODUCT('UEC Development'!$J$24:$J$29,'Efficiency Dist - SF'!AP31:AP36)","v":269.585677510773},{"$f":"'Product Class Dist'!AM10*SUMPRODUCT('UEC Development'!$J$14:$J$15,'Efficiency Dist - SF'!AQ13:AQ14)\n+'Product Class Dist'!AM11*SUMPRODUCT('UEC Development'!$J$24:$J$29,'Efficiency Dist - SF'!AQ31:AQ36)","v":269.62887439185556},{"$f":"'Product Class Dist'!AN10*SUMPRODUCT('UEC Development'!$J$14:$J$15,'Efficiency Dist - SF'!AR13:AR14)\n+'Product Class Dist'!AN11*SUMPRODUCT('UEC Development'!$J$24:$J$29,'Efficiency Dist - SF'!AR31:AR36)","v":269.67207127293807},{"$f":"'Product Class Dist'!AO10*SUMPRODUCT('UEC Development'!$J$14:$J$15,'Efficiency Dist - SF'!AS13:AS14)\n+'Product Class Dist'!AO11*SUMPRODUCT('UEC Development'!$J$24:$J$29,'Efficiency Dist - SF'!AS31:AS36)","v":269.71526815402063},{"$f":"'Product Class Dist'!AP10*SUMPRODUCT('UEC Development'!$J$14:$J$15,'Efficiency Dist - SF'!AT13:AT14)\n+'Product Class Dist'!AP11*SUMPRODUCT('UEC Development'!$J$24:$J$29,'Efficiency Dist - SF'!AT31:AT36)","v":269.75846503510303},{"$f":"'Product Class Dist'!AQ10*SUMPRODUCT('UEC Development'!$J$14:$J$15,'Efficiency Dist - SF'!AU13:AU14)\n+'Product Class Dist'!AQ11*SUMPRODUCT('UEC Development'!$J$24:$J$29,'Efficiency Dist - SF'!AU31:AU36)","v":269.80166191618571},{"$f":"'Product Class Dist'!AR10*SUMPRODUCT('UEC Development'!$J$14:$J$15,'Efficiency Dist - SF'!AV13:AV14)\n+'Product Class Dist'!AR11*SUMPRODUCT('UEC Development'!$J$24:$J$29,'Efficiency Dist - SF'!AV31:AV36)","v":269.84485879726816},{"$f":"'Product Class Dist'!AS10*SUMPRODUCT('UEC Development'!$J$14:$J$15,'Efficiency Dist - SF'!AW13:AW14)\n+'Product Class Dist'!AS11*SUMPRODUCT('UEC Development'!$J$24:$J$29,'Efficiency Dist - SF'!AW31:AW36)","v":269.88805567835078},{"$f":"'Product Class Dist'!AT10*SUMPRODUCT('UEC Development'!$J$14:$J$15,'Efficiency Dist - SF'!AX13:AX14)\n+'Product Class Dist'!AT11*SUMPRODUCT('UEC Development'!$J$24:$J$29,'Efficiency Dist - SF'!AX31:AX36)","v":269.93125255943335},{"$f":"'Product Class Dist'!AU10*SUMPRODUCT('UEC Development'!$J$14:$J$15,'Efficiency Dist - SF'!AY13:AY14)\n+'Product Class Dist'!AU11*SUMPRODUCT('UEC Development'!$J$24:$J$29,'Efficiency Dist - SF'!AY31:AY36)","v":269.97444944051591},{"$f":"'Product Class Dist'!AV10*SUMPRODUCT('UEC Development'!$J$14:$J$15,'Efficiency Dist - SF'!AZ13:AZ14)\n+'Product Class Dist'!AV11*SUMPRODUCT('UEC Development'!$J$24:$J$29,'Efficiency Dist - SF'!AZ31:AZ36)","v":270.01764632159842},{"$f":"'Product Class Dist'!AW10*SUMPRODUCT('UEC Development'!$J$14:$J$15,'Efficiency Dist - SF'!BA13:BA14)\n+'Product Class Dist'!AW11*SUMPRODUCT('UEC Development'!$J$24:$J$29,'Efficiency Dist - SF'!BA31:BA36)","v":270.06084320268099},{"$f":"'Product Class Dist'!AX10*SUMPRODUCT('UEC Development'!$J$14:$J$15,'Efficiency Dist - SF'!BB13:BB14)\n+'Product Class Dist'!AX11*SUMPRODUCT('UEC Development'!$J$24:$J$29,'Efficiency Dist - SF'!BB31:BB36)","v":270.10404008376349},{"$f":"'Product Class Dist'!AY10*SUMPRODUCT('UEC Development'!$J$14:$J$15,'Efficiency Dist - SF'!BC13:BC14)\n+'Product Class Dist'!AY11*SUMPRODUCT('UEC Development'!$J$24:$J$29,'Efficiency Dist - SF'!BC31:BC36)","v":270.14723696484606},{"$f":"'Product Class Dist'!AZ10*SUMPRODUCT('UEC Development'!$J$14:$J$15,'Efficiency Dist - SF'!BD13:BD14)\n+'Product Class Dist'!AZ11*SUMPRODUCT('UEC Development'!$J$24:$J$29,'Efficiency Dist - SF'!BD31:BD36)","v":270.19043384592862},{"$f":"'Product Class Dist'!BA10*SUMPRODUCT('UEC Development'!$J$14:$J$15,'Efficiency Dist - SF'!BE13:BE14)\n+'Product Class Dist'!BA11*SUMPRODUCT('UEC Development'!$J$24:$J$29,'Efficiency Dist - SF'!BE31:BE36)","v":270.23363072701102},{"$f":"'Product Class Dist'!BB10*SUMPRODUCT('UEC Development'!$J$14:$J$15,'Efficiency Dist - SF'!BF13:BF14)\n+'Product Class Dist'!BB11*SUMPRODUCT('UEC Development'!$J$24:$J$29,'Efficiency Dist - SF'!BF31:BF36)","v":270.2768276080937},{"$f":"'Product Class Dist'!BC10*SUMPRODUCT('UEC Development'!$J$14:$J$15,'Efficiency Dist - SF'!BG13:BG14)\n+'Product Class Dist'!BC11*SUMPRODUCT('UEC Development'!$J$24:$J$29,'Efficiency Dist - SF'!BG31:BG36)","v":270.32002448917626},{"$f":"'Product Class Dist'!BD10*SUMPRODUCT('UEC Development'!$J$14:$J$15,'Efficiency Dist - SF'!BH13:BH14)\n+'Product Class Dist'!BD11*SUMPRODUCT('UEC Development'!$J$24:$J$29,'Efficiency Dist - SF'!BH31:BH36)","v":270.36322137025877},{"$f":"'Product Class Dist'!BE10*SUMPRODUCT('UEC Development'!$J$14:$J$15,'Efficiency Dist - SF'!BI13:BI14)\n+'Product Class Dist'!BE11*SUMPRODUCT('UEC Development'!$J$24:$J$29,'Efficiency Dist - SF'!BI31:BI36)","v":270.40641825134134},{"$f":"'Product Class Dist'!BF10*SUMPRODUCT('UEC Development'!$J$14:$J$15,'Efficiency Dist - SF'!BJ13:BJ14)\n+'Product Class Dist'!BF11*SUMPRODUCT('UEC Development'!$J$24:$J$29,'Efficiency Dist - SF'!BJ31:BJ36)","v":270.44961513242384}]
[null,null,"POST-Case UEC",{"$f":"'Product Class Dist'!E14*SUMPRODUCT('UEC Development'!$J$14:$J$15,'Efficiency Dist - SF'!I19:I20)\n+'Product Class Dist'!E15*SUMPRODUCT('UEC Development'!$J$24:$J$29,'Efficiency Dist - SF'!$I$41:$I$46)","v":268.50246913580247},{"$f":"'Product Class Dist'!F14*SUMPRODUCT('UEC Development'!$J$14:$J$15,'Efficiency Dist - SF'!J19:J20)\n+'Product Class Dist'!F15*SUMPRODUCT('UEC Development'!$J$24:$J$29,'Efficiency Dist - SF'!$I$41:$I$46)","v":268.50246913580247},{"$f":"'Product Class Dist'!G14*SUMPRODUCT('UEC Development'!$J$14:$J$15,'Efficiency Dist - SF'!K19:K20)\n+'Product Class Dist'!G15*SUMPRODUCT('UEC Development'!$J$24:$J$29,'Efficiency Dist - SF'!$I$41:$I$46)","v":268.50246913580247},{"$f":"'Product Class Dist'!H14*SUMPRODUCT('UEC Development'!$J$14:$J$15,'Efficiency Dist - SF'!L19:L20)\n+'Product Class Dist'!H15*SUMPRODUCT('UEC Development'!$J$24:$J$29,'Efficiency Dist - SF'!$I$41:$I$46)","v":268.50246913580247},{"$f":"'Product Class Dist'!I14*SUMPRODUCT('UEC Development'!$J$14:$J$15,'Efficiency Dist - SF'!M19:M20)\n+'Product Class Dist'!I15*SUMPRODUCT('UEC Development'!$J$24:$J$29,'Efficiency Dist - SF'!$I$41:$I$46)","v":268.50246913580247},{"$f":"'Product Class Dist'!J14*SUMPRODUCT('UEC Development'!$J$14:$J$15,'Efficiency Dist - SF'!N19:N20)\n+'Product Class Dist'!J15*SUMPRODUCT('UEC Development'!$J$24:$J$29,'Efficiency Dist - SF'!$I$41:$I$46)","v":268.50246913580247},{"$f":"'Product Class Dist'!K14*SUMPRODUCT('UEC Development'!$J$14:$J$15,'Efficiency Dist - SF'!O19:O20)\n+'Product Class Dist'!K15*SUMPRODUCT('UEC Development'!$J$24:$J$29,'Efficiency Dist - SF'!$I$41:$I$46)","v":268.50246913580247},{"$f":"'Product Class Dist'!L14*SUMPRODUCT('UEC Development'!$J$14:$J$15,'Efficiency Dist - SF'!P19:P20)\n+'Product Class Dist'!L15*SUMPRODUCT('UEC Development'!$J$24:$J$29,'Efficiency Dist - SF'!$I$41:$I$46)","v":268.50246913580247},{"$f":"'Product Class Dist'!M14*SUMPRODUCT('UEC Development'!$J$14:$J$15,'Efficiency Dist - SF'!Q19:Q20)\n+'Product Class Dist'!M15*SUMPRODUCT('UEC Development'!$J$24:$J$29,'Efficiency Dist - SF'!$I$41:$I$46)","v":268.50246913580247},{"$f":"'Product Class Dist'!N14*SUMPRODUCT('UEC Development'!$J$14:$J$15,'Efficiency Dist - SF'!R19:R20)\n+'Product Class Dist'!N15*SUMPRODUCT('UEC Development'!$J$24:$J$29,'Efficiency Dist - SF'!$I$41:$I$46)","v":268.50246913580247},{"$f":"'Product Class Dist'!O14*SUMPRODUCT('UEC Development'!$J$14:$J$15,'Efficiency Dist - SF'!S19:S20)\n+'Product Class Dist'!O15*SUMPRODUCT('UEC Development'!$J$24:$J$29,'Efficiency Dist - SF'!$I$41:$I$46)","v":268.06707317073176},{"$f":"'Product Class Dist'!P14*SUMPRODUCT('UEC Development'!$J$14:$J$15,'Efficiency Dist - SF'!T19:T20)\n+'Product Class Dist'!P15*SUMPRODUCT('UEC Development'!$J$24:$J$29,'Efficiency Dist - SF'!$I$41:$I$46)","v":267.9301204819277},{"$f":"'Product Class Dist'!Q14*SUMPRODUCT('UEC Development'!$J$14:$J$15,'Efficiency Dist - SF'!U19:U20)\n+'Product Class Dist'!Q15*SUMPRODUCT('UEC Development'!$J$24:$J$29,'Efficiency Dist - SF'!$I$41:$I$46)","v":267.9301204819277},{"$f":"'Product Class Dist'!R14*SUMPRODUCT('UEC Development'!$J$14:$J$15,'Efficiency Dist - SF'!V19:V20)\n+'Product Class Dist'!R15*SUMPRODUCT('UEC Development'!$J$24:$J$29,'Efficiency Dist - SF'!$I$41:$I$46)","v":268.50602409638554},{"$f":"'Product Class Dist'!S14*SUMPRODUCT('UEC Development'!$J$14:$J$15,'Efficiency Dist - SF'!W19:W20)\n+'Product Class Dist'!S15*SUMPRODUCT('UEC Development'!$J$24:$J$29,'Efficiency Dist - SF'!$I$41:$I$46)","v":268.50941176470587},{"$f":"'Product Class Dist'!T14*SUMPRODUCT('UEC Development'!$J$14:$J$15,'Efficiency Dist - SF'!X19:X20)\n+'Product Class Dist'!T15*SUMPRODUCT('UEC Development'!$J$24:$J$29,'Efficiency Dist - SF'!$I$41:$I$46)","v":268.50941176470587},{"$f":"'Product Class Dist'!U14*SUMPRODUCT('UEC Development'!$J$14:$J$15,'Efficiency Dist - SF'!Y19:Y20)\n+'Product Class Dist'!U15*SUMPRODUCT('UEC Development'!$J$24:$J$29,'Efficiency Dist - SF'!$I$41:$I$46)","v":268.64999999999998},{"$f":"'Product Class Dist'!V14*SUMPRODUCT('UEC Development'!$J$14:$J$15,'Efficiency Dist - SF'!Z19:Z20)\n+'Product Class Dist'!V15*SUMPRODUCT('UEC Development'!$J$24:$J$29,'Efficiency Dist - SF'!$I$41:$I$46)","v":268.92790697674423},{"$f":"'Product Class Dist'!W14*SUMPRODUCT('UEC Development'!$J$14:$J$15,'Efficiency Dist - SF'!AA19:AA20)\n+'Product Class Dist'!W15*SUMPRODUCT('UEC Development'!$J$24:$J$29,'Efficiency Dist - SF'!$I$41:$I$46)","v":268.92790697674417},{"$f":"'Product Class Dist'!X14*SUMPRODUCT('UEC Development'!$J$14:$J$15,'Efficiency Dist - SF'!AB19:AB20)\n+'Product Class Dist'!X15*SUMPRODUCT('UEC Development'!$J$24:$J$29,'Efficiency Dist - SF'!$I$41:$I$46)","v":269.06206896551726},{"$f":"'Product Class Dist'!Y14*SUMPRODUCT('UEC Development'!$J$14:$J$15,'Efficiency Dist - SF'!AC19:AC20)\n+'Product Class Dist'!Y15*SUMPRODUCT('UEC Development'!$J$24:$J$29,'Efficiency Dist - SF'!$I$41:$I$46)","v":269.07176470588234},{"$f":"'Product Class Dist'!Z14*SUMPRODUCT('UEC Development'!$J$14:$J$15,'Efficiency Dist - SF'!AD19:AD20)\n+'Product Class Dist'!Z15*SUMPRODUCT('UEC Development'!$J$24:$J$29,'Efficiency Dist - SF'!$I$41:$I$46)","v":269.20581395348836},{"$f":"'Product Class Dist'!AA14*SUMPRODUCT('UEC Development'!$J$14:$J$15,'Efficiency Dist - SF'!AE19:AE20)\n+'Product Class Dist'!AA15*SUMPRODUCT('UEC Development'!$J$24:$J$29,'Efficiency Dist - SF'!$I$41:$I$46)","v":269.50357142857143},{"$f":"'Product Class Dist'!AB14*SUMPRODUCT('UEC Development'!$J$14:$J$15,'Efficiency Dist - SF'!AF19:AF20)\n+'Product Class Dist'!AB15*SUMPRODUCT('UEC Development'!$J$24:$J$29,'Efficiency Dist - SF'!$I$41:$I$46)","v":269.50357142857143},{"$f":"'Product Class Dist'!AC14*SUMPRODUCT('UEC Development'!$J$14:$J$15,'Efficiency Dist - SF'!AG19:AG20)\n+'Product Class Dist'!AC15*SUMPRODUCT('UEC Development'!$J$24:$J$29,'Efficiency Dist - SF'!$I$41:$I$46)","v":269.63411764705882},{"$f":"'Product Class Dist'!AD14*SUMPRODUCT('UEC Development'!$J$14:$J$15,'Efficiency Dist - SF'!AH19:AH20)\n+'Product Class Dist'!AD15*SUMPRODUCT('UEC Development'!$J$24:$J$29,'Efficiency Dist - SF'!$I$41:$I$46)","v":269.24010246211265},{"$f":"'Product Class Dist'!AE14*SUMPRODUCT('UEC Development'!$J$14:$J$15,'Efficiency Dist - SF'!AI19:AI20)\n+'Product Class Dist'!AE15*SUMPRODUCT('UEC Development'!$J$24:$J$29,'Efficiency Dist - SF'!$I$41:$I$46)","v":269.28329934319521},{"$f":"'Product Class Dist'!AF14*SUMPRODUCT('UEC Development'!$J$14:$J$15,'Efficiency Dist - SF'!AJ19:AJ20)\n+'Product Class Dist'!AF15*SUMPRODUCT('UEC Development'!$J$24:$J$29,'Efficiency Dist - SF'!$I$41:$I$46)","v":269.32649622427778},{"$f":"'Product Class Dist'!AG14*SUMPRODUCT('UEC Development'!$J$14:$J$15,'Efficiency Dist - SF'!AK19:AK20)\n+'Product Class Dist'!AG15*SUMPRODUCT('UEC Development'!$J$24:$J$29,'Efficiency Dist - SF'!$I$41:$I$46)","v":269.36969310536017},{"$f":"'Product Class Dist'!AH14*SUMPRODUCT('UEC Development'!$J$14:$J$15,'Efficiency Dist - SF'!AL19:AL20)\n+'Product Class Dist'!AH15*SUMPRODUCT('UEC Development'!$J$24:$J$29,'Efficiency Dist - SF'!$I$41:$I$46)","v":269.41288998644285},{"$f":"'Product Class Dist'!AI14*SUMPRODUCT('UEC Development'!$J$14:$J$15,'Efficiency Dist - SF'!AM19:AM20)\n+'Product Class Dist'!AI15*SUMPRODUCT('UEC Development'!$J$24:$J$29,'Efficiency Dist - SF'!$I$41:$I$46)","v":269.45608686752524},{"$f":"'Product Class Dist'!AJ14*SUMPRODUCT('UEC Development'!$J$14:$J$15,'Efficiency Dist - SF'!AN19:AN20)\n+'Product Class Dist'!AJ15*SUMPRODUCT('UEC Development'!$J$24:$J$29,'Efficiency Dist - SF'!$I$41:$I$46)","v":269.49928374860792},{"$f":"'Product Class Dist'!AK14*SUMPRODUCT('UEC Development'!$J$14:$J$15,'Efficiency Dist - SF'!AO19:AO20)\n+'Product Class Dist'!AK15*SUMPRODUCT('UEC Development'!$J$24:$J$29,'Efficiency Dist - SF'!$I$41:$I$46)","v":269.54248062969049},{"$f":"'Product Class Dist'!AL14*SUMPRODUCT('UEC Development'!$J$14:$J$15,'Efficiency Dist - SF'!AP19:AP20)\n+'Product Class Dist'!AL15*SUMPRODUCT('UEC Development'!$J$24:$J$29,'Efficiency Dist - SF'!$I$41:$I$46)","v":269.585677510773},{"$f":"'Product Class Dist'!AM14*SUMPRODUCT('UEC Development'!$J$14:$J$15,'Efficiency Dist - SF'!AQ19:AQ20)\n+'Product Class Dist'!AM15*SUMPRODUCT('UEC Development'!$J$24:$J$29,'Efficiency Dist - SF'!$I$41:$I$46)","v":269.62887439185556},{"$f":"'Product Class Dist'!AN14*SUMPRODUCT('UEC Development'!$J$14:$J$15,'Efficiency Dist - SF'!AR19:AR20)\n+'Product Class Dist'!AN15*SUMPRODUCT('UEC Development'!$J$24:$J$29,'Efficiency Dist - SF'!$I$41:$I$46)","v":269.67207127293807},{"$f":"'Product Class Dist'!AO14*SUMPRODUCT('UEC Development'!$J$14:$J$15,'Efficiency Dist - SF'!AS19:AS20)\n+'Product Class Dist'!AO15*SUMPRODUCT('UEC Development'!$J$24:$J$29,'Efficiency Dist - SF'!$I$41:$I$46)","v":269.71526815402063},{"$f":"'Product Class Dist'!AP14*SUMPRODUCT('UEC Development'!$J$14:$J$15,'Efficiency Dist - SF'!AT19:AT20)\n+'Product Class Dist'!AP15*SUMPRODUCT('UEC Development'!$J$24:$J$29,'Efficiency Dist - SF'!$I$41:$I$46)","v":269.75846503510303},{"$f":"'Product Class Dist'!AQ14*SUMPRODUCT('UEC Development'!$J$14:$J$15,'Efficiency Dist - SF'!AU19:AU20)\n+'Product Class Dist'!AQ15*SUMPRODUCT('UEC Development'!$J$24:$J$29,'Efficiency Dist - SF'!$I$41:$I$46)","v":264.9672595104613},{"$f":"'Product Class Dist'!AR14*SUMPRODUCT('UEC Development'!$J$14:$J$15,'Efficiency Dist - SF'!AV19:AV20)\n+'Product Class Dist'!AR15*SUMPRODUCT('UEC Development'!$J$24:$J$29,'Efficiency Dist - SF'!$I$41:$I$46)","v":265.02979558098235},{"$f":"'Product Class Dist'!AS14*SUMPRODUCT('UEC Development'!$J$14:$J$15,'Efficiency Dist - SF'!AW19:AW20)\n+'Product Class Dist'!AS15*SUMPRODUCT('UEC Development'!$J$24:$J$29,'Efficiency Dist - SF'!$I$41:$I$46)","v":265.09233165150363},{"$f":"'Product Class Dist'!AT14*SUMPRODUCT('UEC Development'!$J$14:$J$15,'Efficiency Dist - SF'!AX19:AX20)\n+'Product Class Dist'!AT15*SUMPRODUCT('UEC Development'!$J$24:$J$29,'Efficiency Dist - SF'!$I$41:$I$46)","v":265.15486772202485},{"$f":"'Product Class Dist'!AU14*SUMPRODUCT('UEC Development'!$J$14:$J$15,'Efficiency Dist - SF'!AY19:AY20)\n+'Product Class Dist'!AU15*SUMPRODUCT('UEC Development'!$J$24:$J$29,'Efficiency Dist - SF'!$I$41:$I$46)","v":265.21740379254595},{"$f":"'Product Class Dist'!AV14*SUMPRODUCT('UEC Development'!$J$14:$J$15,'Efficiency Dist - SF'!AZ19:AZ20)\n+'Product Class Dist'!AV15*SUMPRODUCT('UEC Development'!$J$24:$J$29,'Efficiency Dist - SF'!$I$41:$I$46)","v":265.27993986306717},{"$f":"'Product Class Dist'!AW14*SUMPRODUCT('UEC Development'!$J$14:$J$15,'Efficiency Dist - SF'!BA19:BA20)\n+'Product Class Dist'!AW15*SUMPRODUCT('UEC Development'!$J$24:$J$29,'Efficiency Dist - SF'!$I$41:$I$46)","v":265.34247593358828},{"$f":"'Product Class Dist'!AX14*SUMPRODUCT('UEC Development'!$J$14:$J$15,'Efficiency Dist - SF'!BB19:BB20)\n+'Product Class Dist'!AX15*SUMPRODUCT('UEC Development'!$J$24:$J$29,'Efficiency Dist - SF'!$I$41:$I$46)","v":265.40501200410949},{"$f":"'Product Class Dist'!AY14*SUMPRODUCT('UEC Development'!$J$14:$J$15,'Efficiency Dist - SF'!BC19:BC20)\n+'Product Class Dist'!AY15*SUMPRODUCT('UEC Development'!$J$24:$J$29,'Efficiency Dist - SF'!$I$41:$I$46)","v":265.4675480746306},{"$f":"'Product Class Dist'!AZ14*SUMPRODUCT('UEC Development'!$J$14:$J$15,'Efficiency Dist - SF'!BD19:BD20)\n+'Product Class Dist'!AZ15*SUMPRODUCT('UEC Development'!$J$24:$J$29,'Efficiency Dist - SF'!$I$41:$I$46)","v":265.53008414515182},{"$f":"'Product Class Dist'!BA14*SUMPRODUCT('UEC Development'!$J$14:$J$15,'Efficiency Dist - SF'!BE19:BE20)\n+'Product Class Dist'!BA15*SUMPRODUCT('UEC Development'!$J$24:$J$29,'Efficiency Dist - SF'!$I$41:$I$46)","v":265.59262021567287},{"$f":"'Product Class Dist'!BB14*SUMPRODUCT('UEC Development'!$J$14:$J$15,'Efficiency Dist - SF'!BF19:BF20)\n+'Product Class Dist'!BB15*SUMPRODUCT('UEC Development'!$J$24:$J$29,'Efficiency Dist - SF'!$I$41:$I$46)","v":265.65515628619414},{"$f":"'Product Class Dist'!BC14*SUMPRODUCT('UEC Development'!$J$14:$J$15,'Efficiency Dist - SF'!BG19:BG20)\n+'Product Class Dist'!BC15*SUMPRODUCT('UEC Development'!$J$24:$J$29,'Efficiency Dist - SF'!$I$41:$I$46)","v":265.71769235671536},{"$f":"'Product Class Dist'!BD14*SUMPRODUCT('UEC Development'!$J$14:$J$15,'Efficiency Dist - SF'!BH19:BH20)\n+'Product Class Dist'!BD15*SUMPRODUCT('UEC Development'!$J$24:$J$29,'Efficiency Dist - SF'!$I$41:$I$46)","v":265.78022842723652},{"$f":"'Product Class Dist'!BE14*SUMPRODUCT('UEC Development'!$J$14:$J$15,'Efficiency Dist - SF'!BI19:BI20)\n+'Product Class Dist'!BE15*SUMPRODUCT('UEC Development'!$J$24:$J$29,'Efficiency Dist - SF'!$I$41:$I$46)","v":265.84276449775768},{"$f":"'Product Class Dist'!BF14*SUMPRODUCT('UEC Development'!$J$14:$J$15,'Efficiency Dist - SF'!BJ19:BJ20)\n+'Product Class Dist'!BF15*SUMPRODUCT('UEC Development'!$J$24:$J$29,'Efficiency Dist - SF'!$I$41:$I$46)","v":265.90530056827885}]
[]
[null,null,"Installed UEC (Vintage Weighted Average) "]
[null,null,null,1981,1982,1983,1984,1985,1986,1987,1988,1989,1990,1991,1992,1993,1994,1995,1996,1997,1998,1999,2000,2001,2002,2003,2004,2005,2006,2007,2008,2009,2010,2011,2012,2013,2014,2015,2016,2017,2018,2019,2020,2021,2022,2023,2024,2025,2026,2027,2028,2029,2030,2031,2032,2033,2034]
[null,null,"PRE-Case UEC",{"$f":"IF(D$15-$D$15+2<=LIFETIME_SF,D11,\nSUMPRODUCT(OFFSET(D11,0,(-1*LIFETIME_SF)+1,1,LIFETIME_SF),OFFSET('Shipments and Stock - SF'!E$14,0,(-1*LIFETIME_SF)+1,1,LIFETIME_SF))/\nSUM(OFFSET('Shipments and Stock - SF'!E$14,0,(-1*LIFETIME_SF)+1,1,LIFETIME_SF)))","v":268.50246913580247},{"$f":"IF(E$15-$D$15+2<=LIFETIME_SF,E11,\nSUMPRODUCT(OFFSET(E11,0,(-1*LIFETIME_SF)+1,1,LIFETIME_SF),OFFSET('Shipments and Stock - SF'!F$14,0,(-1*LIFETIME_SF)+1,1,LIFETIME_SF))/\nSUM(OFFSET('Shipments and Stock - SF'!F$14,0,(-1*LIFETIME_SF)+1,1,LIFETIME_SF)))","v":268.50246913580247},{"$f":"IF(F$15-$D$15+2<=LIFETIME_SF,F11,\nSUMPRODUCT(OFFSET(F11,0,(-1*LIFETIME_SF)+1,1,LIFETIME_SF),OFFSET('Shipments and Stock - SF'!G$14,0,(-1*LIFETIME_SF)+1,1,LIFETIME_SF))/\nSUM(OFFSET('Shipments and Stock - SF'!G$14,0,(-1*LIFETIME_SF)+1,1,LIFETIME_SF)))","v":268.50246913580247},{"$f":"IF(G$15-$D$15+2<=LIFETIME_SF,G11,\nSUMPRODUCT(OFFSET(G11,0,(-1*LIFETIME_SF)+1,1,LIFETIME_SF),OFFSET('Shipments and Stock - SF'!H$14,0,(-1*LIFETIME_SF)+1,1,LIFETIME_SF))/\nSUM(OFFSET('Shipments and Stock - SF'!H$14,0,(-1*LIFETIME_SF)+1,1,LIFETIME_SF)))","v":268.50246913580247},{"$f":"IF(H$15-$D$15+2<=LIFETIME_SF,H11,\nSUMPRODUCT(OFFSET(H11,0,(-1*LIFETIME_SF)+1,1,LIFETIME_SF),OFFSET('Shipments and Stock - SF'!I$14,0,(-1*LIFETIME_SF)+1,1,LIFETIME_SF))/\nSUM(OFFSET('Shipments and Stock - SF'!I$14,0,(-1*LIFETIME_SF)+1,1,LIFETIME_SF)))","v":268.50246913580247},{"$f":"IF(I$15-$D$15+2<=LIFETIME_SF,I11,\nSUMPRODUCT(OFFSET(I11,0,(-1*LIFETIME_SF)+1,1,LIFETIME_SF),OFFSET('Shipments and Stock - SF'!J$14,0,(-1*LIFETIME_SF)+1,1,LIFETIME_SF))/\nSUM(OFFSET('Shipments and Stock - SF'!J$14,0,(-1*LIFETIME_SF)+1,1,LIFETIME_SF)))","v":268.50246913580247},{"$f":"IF(J$15-$D$15+2<=LIFETIME_SF,J11,\nSUMPRODUCT(OFFSET(J11,0,(-1*LIFETIME_SF)+1,1,LIFETIME_SF),OFFSET('Shipments and Stock - SF'!K$14,0,(-1*LIFETIME_SF)+1,1,LIFETIME_SF))/\nSUM(OFFSET('Shipments and Stock - SF'!K$14,0,(-1*LIFETIME_SF)+1,1,LIFETIME_SF)))","v":268.50246913580247},{"$f":"IF(K$15-$D$15+2<=LIFETIME_SF,K11,\nSUMPRODUCT(OFFSET(K11,0,(-1*LIFETIME_SF)+1,1,LIFETIME_SF),OFFSET('Shipments and Stock - SF'!L$14,0,(-1*LIFETIME_SF)+1,1,LIFETIME_SF))/\nSUM(OFFSET('Shipments and Stock - SF'!L$14,0,(-1*LIFETIME_SF)+1,1,LIFETIME_SF)))","v":268.50246913580247},{"$f":"IF(L$15-$D$15+2<=LIFETIME_SF,L11,\nSUMPRODUCT(OFFSET(L11,0,(-1*LIFETIME_SF)+1,1,LIFETIME_SF),OFFSET('Shipments and Stock - SF'!M$14,0,(-1*LIFETIME_SF)+1,1,LIFETIME_SF))/\nSUM(OFFSET('Shipments and Stock - SF'!M$14,0,(-1*LIFETIME_SF)+1,1,LIFETIME_SF)))","v":268.50246913580247},{"$f":"IF(M$15-$D$15+2<=LIFETIME_SF,M11,\nSUMPRODUCT(OFFSET(M11,0,(-1*LIFETIME_SF)+1,1,LIFETIME_SF),OFFSET('Shipments and Stock - SF'!N$14,0,(-1*LIFETIME_SF)+1,1,LIFETIME_SF))/\nSUM(OFFSET('Shipments and Stock - SF'!N$14,0,(-1*LIFETIME_SF)+1,1,LIFETIME_SF)))","v":268.50246913580247},{"$f":"IF(N$15-$D$15+2<=LIFETIME_SF,N11,\nSUMPRODUCT(OFFSET(N11,0,(-1*LIFETIME_SF)+1,1,LIFETIME_SF),OFFSET('Shipments and Stock - SF'!O$14,0,(-1*LIFETIME_SF)+1,1,LIFETIME_SF))/\nSUM(OFFSET('Shipments and Stock - SF'!O$14,0,(-1*LIFETIME_SF)+1,1,LIFETIME_SF)))","v":268.06707317073176},{"$f":"IF(O$15-$D$15+2<=LIFETIME_SF,O11,\nSUMPRODUCT(OFFSET(O11,0,(-1*LIFETIME_SF)+1,1,LIFETIME_SF),OFFSET('Shipments and Stock - SF'!P$14,0,(-1*LIFETIME_SF)+1,1,LIFETIME_SF))/\nSUM(OFFSET('Shipments and Stock - SF'!P$14,0,(-1*LIFETIME_SF)+1,1,LIFETIME_SF)))","v":267.9301204819277},{"$f":"IF(P$15-$D$15+2<=LIFETIME_SF,P11,\nSUMPRODUCT(OFFSET(P11,0,(-1*LIFETIME_SF)+1,1,LIFETIME_SF),OFFSET('Shipments and Stock - SF'!Q$14,0,(-1*LIFETIME_SF)+1,1,LIFETIME_SF))/\nSUM(OFFSET('Shipments and Stock - SF'!Q$14,0,(-1*LIFETIME_SF)+1,1,LIFETIME_SF)))","v":267.9301204819277},{"$f":"IF(Q$15-$D$15+2<=LIFETIME_SF,Q11,\nSUMPRODUCT(OFFSET(Q11,0,(-1*LIFETIME_SF)+1,1,LIFETIME_SF),OFFSET('Shipments and Stock - SF'!R$14,0,(-1*LIFETIME_SF)+1,1,LIFETIME_SF))/\nSUM(OFFSET('Shipments and Stock - SF'!R$14,0,(-1*LIFETIME_SF)+1,1,LIFETIME_SF)))","v":268.50602409638554},{"$f":"IF(R$15-$D$15+2<=LIFETIME_SF,R11,\nSUMPRODUCT(OFFSET(R11,0,(-1*LIFETIME_SF)+1,1,LIFETIME_SF),OFFSET('Shipments and Stock - SF'!S$14,0,(-1*LIFETIME_SF)+1,1,LIFETIME_SF))/\nSUM(OFFSET('Shipments and Stock - SF'!S$14,0,(-1*LIFETIME_SF)+1,1,LIFETIME_SF)))","v":268.50941176470587},{"$f":"IF(S$15-$D$15+2<=LIFETIME_SF,S11,\nSUMPRODUCT(OFFSET(S11,0,(-1*LIFETIME_SF)+1,1,LIFETIME_SF),OFFSET('Shipments and Stock - SF'!T$14,0,(-1*LIFETIME_SF)+1,1,LIFETIME_SF))/\nSUM(OFFSET('Shipments and Stock - SF'!T$14,0,(-1*LIFETIME_SF)+1,1,LIFETIME_SF)))","v":268.50941176470587},{"$f":"IF(T$15-$D$15+2<=LIFETIME_SF,T11,\nSUMPRODUCT(OFFSET(T11,0,(-1*LIFETIME_SF)+1,1,LIFETIME_SF),OFFSET('Shipments and Stock - SF'!U$14,0,(-1*LIFETIME_SF)+1,1,LIFETIME_SF))/\nSUM(OFFSET('Shipments and Stock - SF'!U$14,0,(-1*LIFETIME_SF)+1,1,LIFETIME_SF)))","v":268.64999999999998},{"$f":"IF(U$15-$D$15+2<=LIFETIME_SF,U11,\nSUMPRODUCT(OFFSET(U11,0,(-1*LIFETIME_SF)+1,1,LIFETIME_SF),OFFSET('Shipments and Stock - SF'!V$14,0,(-1*LIFETIME_SF)+1,1,LIFETIME_SF))/\nSUM(OFFSET('Shipments and Stock - SF'!V$14,0,(-1*LIFETIME_SF)+1,1,LIFETIME_SF)))","v":268.92790697674423},{"$f":"IF(V$15-$D$15+2<=LIFETIME_SF,V11,\nSUMPRODUCT(OFFSET(V11,0,(-1*LIFETIME_SF)+1,1,LIFETIME_SF),OFFSET('Shipments and Stock - SF'!W$14,0,(-1*LIFETIME_SF)+1,1,LIFETIME_SF))/\nSUM(OFFSET('Shipments and Stock - SF'!W$14,0,(-1*LIFETIME_SF)+1,1,LIFETIME_SF)))","v":268.46752031051176},{"$f":"IF(W$15-$D$15+2<=LIFETIME_SF,W11,\nSUMPRODUCT(OFFSET(W11,0,(-1*LIFETIME_SF)+1,1,LIFETIME_SF),OFFSET('Shipments and Stock - SF'!X$14,0,(-1*LIFETIME_SF)+1,1,LIFETIME_SF))/\nSUM(OFFSET('Shipments and Stock - SF'!X$14,0,(-1*LIFETIME_SF)+1,1,LIFETIME_SF)))","v":268.50104917835279},{"$f":"IF(X$15-$D$15+2<=LIFETIME_SF,X11,\nSUMPRODUCT(OFFSET(X11,0,(-1*LIFETIME_SF)+1,1,LIFETIME_SF),OFFSET('Shipments and Stock - SF'!Y$14,0,(-1*LIFETIME_SF)+1,1,LIFETIME_SF))/\nSUM(OFFSET('Shipments and Stock - SF'!Y$14,0,(-1*LIFETIME_SF)+1,1,LIFETIME_SF)))","v":268.53289612984724},{"$f":"IF(Y$15-$D$15+2<=LIFETIME_SF,Y11,\nSUMPRODUCT(OFFSET(Y11,0,(-1*LIFETIME_SF)+1,1,LIFETIME_SF),OFFSET('Shipments and Stock - SF'!Z$14,0,(-1*LIFETIME_SF)+1,1,LIFETIME_SF))/\nSUM(OFFSET('Shipments and Stock - SF'!Z$14,0,(-1*LIFETIME_SF)+1,1,LIFETIME_SF)))","v":268.57526180492312},{"$f":"IF(Z$15-$D$15+2<=LIFETIME_SF,Z11,\nSUMPRODUCT(OFFSET(Z11,0,(-1*LIFETIME_SF)+1,1,LIFETIME_SF),OFFSET('Shipments and Stock - SF'!AA$14,0,(-1*LIFETIME_SF)+1,1,LIFETIME_SF))/\nSUM(OFFSET('Shipments and Stock - SF'!AA$14,0,(-1*LIFETIME_SF)+1,1,LIFETIME_SF)))","v":268.63531699979154},{"$f":"IF(AA$15-$D$15+2<=LIFETIME_SF,AA11,\nSUMPRODUCT(OFFSET(AA11,0,(-1*LIFETIME_SF)+1,1,LIFETIME_SF),OFFSET('Shipments and Stock - SF'!AB$14,0,(-1*LIFETIME_SF)+1,1,LIFETIME_SF))/\nSUM(OFFSET('Shipments and Stock - SF'!AB$14,0,(-1*LIFETIME_SF)+1,1,LIFETIME_SF)))","v":268.69407604708096},{"$f":"IF(AB$15-$D$15+2<=LIFETIME_SF,AB11,\nSUMPRODUCT(OFFSET(AB11,0,(-1*LIFETIME_SF)+1,1,LIFETIME_SF),OFFSET('Shipments and Stock - SF'!AC$14,0,(-1*LIFETIME_SF)+1,1,LIFETIME_SF))/\nSUM(OFFSET('Shipments and Stock - SF'!AC$14,0,(-1*LIFETIME_SF)+1,1,LIFETIME_SF)))","v":268.76157979886131},{"$f":"IF(AC$15-$D$15+2<=LIFETIME_SF,AC11,\nSUMPRODUCT(OFFSET(AC11,0,(-1*LIFETIME_SF)+1,1,LIFETIME_SF),OFFSET('Shipments and Stock - SF'!AD$14,0,(-1*LIFETIME_SF)+1,1,LIFETIME_SF))/\nSUM(OFFSET('Shipments and Stock - SF'!AD$14,0,(-1*LIFETIME_SF)+1,1,LIFETIME_SF)))","v":268.80205421586265},{"$f":"IF(AD$15-$D$15+2<=LIFETIME_SF,AD11,\nSUMPRODUCT(OFFSET(AD11,0,(-1*LIFETIME_SF)+1,1,LIFETIME_SF),OFFSET('Shipments and Stock - SF'!AE$14,0,(-1*LIFETIME_SF)+1,1,LIFETIME_SF))/\nSUM(OFFSET('Shipments and Stock - SF'!AE$14,0,(-1*LIFETIME_SF)+1,1,LIFETIME_SF)))","v":268.84278508484181},{"$f":"IF(AE$15-$D$15+2<=LIFETIME_SF,AE11,\nSUMPRODUCT(OFFSET(AE11,0,(-1*LIFETIME_SF)+1,1,LIFETIME_SF),OFFSET('Shipments and Stock - SF'!AF$14,0,(-1*LIFETIME_SF)+1,1,LIFETIME_SF))/\nSUM(OFFSET('Shipments and Stock - SF'!AF$14,0,(-1*LIFETIME_SF)+1,1,LIFETIME_SF)))","v":268.88459877096346},{"$f":"IF(AF$15-$D$15+2<=LIFETIME_SF,AF11,\nSUMPRODUCT(OFFSET(AF11,0,(-1*LIFETIME_SF)+1,1,LIFETIME_SF),OFFSET('Shipments and Stock - SF'!AG$14,0,(-1*LIFETIME_SF)+1,1,LIFETIME_SF))/\nSUM(OFFSET('Shipments and Stock - SF'!AG$14,0,(-1*LIFETIME_SF)+1,1,LIFETIME_SF)))","v":268.92917946205517},{"$f":"IF(AG$15-$D$15+2<=LIFETIME_SF,AG11,\nSUMPRODUCT(OFFSET(AG11,0,(-1*LIFETIME_SF)+1,1,LIFETIME_SF),OFFSET('Shipments and Stock - SF'!AH$14,0,(-1*LIFETIME_SF)+1,1,LIFETIME_SF))/\nSUM(OFFSET('Shipments and Stock - SF'!AH$14,0,(-1*LIFETIME_SF)+1,1,LIFETIME_SF)))","v":268.99811612922355},{"$f":"IF(AH$15-$D$15+2<=LIFETIME_SF,AH11,\nSUMPRODUCT(OFFSET(AH11,0,(-1*LIFETIME_SF)+1,1,LIFETIME_SF),OFFSET('Shipments and Stock - SF'!AI$14,0,(-1*LIFETIME_SF)+1,1,LIFETIME_SF))/\nSUM(OFFSET('Shipments and Stock - SF'!AI$14,0,(-1*LIFETIME_SF)+1,1,LIFETIME_SF)))","v":269.08187369041354},{"$f":"IF(AI$15-$D$15+2<=LIFETIME_SF,AI11,\nSUMPRODUCT(OFFSET(AI11,0,(-1*LIFETIME_SF)+1,1,LIFETIME_SF),OFFSET('Shipments and Stock - SF'!AJ$14,0,(-1*LIFETIME_SF)+1,1,LIFETIME_SF))/\nSUM(OFFSET('Shipments and Stock - SF'!AJ$14,0,(-1*LIFETIME_SF)+1,1,LIFETIME_SF)))","v":269.16375534042066},{"$f":"IF(AJ$15-$D$15+2<=LIFETIME_SF,AJ11,\nSUMPRODUCT(OFFSET(AJ11,0,(-1*LIFETIME_SF)+1,1,LIFETIME_SF),OFFSET('Shipments and Stock - SF'!AK$14,0,(-1*LIFETIME_SF)+1,1,LIFETIME_SF))/\nSUM(OFFSET('Shipments and Stock - SF'!AK$14,0,(-1*LIFETIME_SF)+1,1,LIFETIME_SF)))","v":269.21951563897477},{"$f":"IF(AK$15-$D$15+2<=LIFETIME_SF,AK11,\nSUMPRODUCT(OFFSET(AK11,0,(-1*LIFETIME_SF)+1,1,LIFETIME_SF),OFFSET('Shipments and Stock - SF'!AL$14,0,(-1*LIFETIME_SF)+1,1,LIFETIME_SF))/\nSUM(OFFSET('Shipments and Stock - SF'!AL$14,0,(-1*LIFETIME_SF)+1,1,LIFETIME_SF)))","v":269.27379857322586},{"$f":"IF(AL$15-$D$15+2<=LIFETIME_SF,AL11,\nSUMPRODUCT(OFFSET(AL11,0,(-1*LIFETIME_SF)+1,1,LIFETIME_SF),OFFSET('Shipments and Stock - SF'!AM$14,0,(-1*LIFETIME_SF)+1,1,LIFETIME_SF))/\nSUM(OFFSET('Shipments and Stock - SF'!AM$14,0,(-1*LIFETIME_SF)+1,1,LIFETIME_SF)))","v":269.32945918693912},{"$f":"IF(AM$15-$D$15+2<=LIFETIME_SF,AM11,\nSUMPRODUCT(OFFSET(AM11,0,(-1*LIFETIME_SF)+1,1,LIFETIME_SF),OFFSET('Shipments and Stock - SF'!AN$14,0,(-1*LIFETIME_SF)+1,1,LIFETIME_SF))/\nSUM(OFFSET('Shipments and Stock - SF'!AN$14,0,(-1*LIFETIME_SF)+1,1,LIFETIME_SF)))","v":269.37946937484099},{"$f":"IF(AN$15-$D$15+2<=LIFETIME_SF,AN11,\nSUMPRODUCT(OFFSET(AN11,0,(-1*LIFETIME_SF)+1,1,LIFETIME_SF),OFFSET('Shipments and Stock - SF'!AO$14,0,(-1*LIFETIME_SF)+1,1,LIFETIME_SF))/\nSUM(OFFSET('Shipments and Stock - SF'!AO$14,0,(-1*LIFETIME_SF)+1,1,LIFETIME_SF)))","v":269.41867397357481},{"$f":"IF(AO$15-$D$15+2<=LIFETIME_SF,AO11,\nSUMPRODUCT(OFFSET(AO11,0,(-1*LIFETIME_SF)+1,1,LIFETIME_SF),OFFSET('Shipments and Stock - SF'!AP$14,0,(-1*LIFETIME_SF)+1,1,LIFETIME_SF))/\nSUM(OFFSET('Shipments and Stock - SF'!AP$14,0,(-1*LIFETIME_SF)+1,1,LIFETIME_SF)))","v":269.45868776320191},{"$f":"IF(AP$15-$D$15+2<=LIFETIME_SF,AP11,\nSUMPRODUCT(OFFSET(AP11,0,(-1*LIFETIME_SF)+1,1,LIFETIME_SF),OFFSET('Shipments and Stock - SF'!AQ$14,0,(-1*LIFETIME_SF)+1,1,LIFETIME_SF))/\nSUM(OFFSET('Shipments and Stock - SF'!AQ$14,0,(-1*LIFETIME_SF)+1,1,LIFETIME_SF)))","v":269.4991963754261},{"$f":"IF(AQ$15-$D$15+2<=LIFETIME_SF,AQ11,\nSUMPRODUCT(OFFSET(AQ11,0,(-1*LIFETIME_SF)+1,1,LIFETIME_SF),OFFSET('Shipments and Stock - SF'!AR$14,0,(-1*LIFETIME_SF)+1,1,LIFETIME_SF))/\nSUM(OFFSET('Shipments and Stock - SF'!AR$14,0,(-1*LIFETIME_SF)+1,1,LIFETIME_SF)))","v":269.53887835767529},{"$f":"IF(AR$15-$D$15+2<=LIFETIME_SF,AR11,\nSUMPRODUCT(OFFSET(AR11,0,(-1*LIFETIME_SF)+1,1,LIFETIME_SF),OFFSET('Shipments and Stock - SF'!AS$14,0,(-1*LIFETIME_SF)+1,1,LIFETIME_SF))/\nSUM(OFFSET('Shipments and Stock - SF'!AS$14,0,(-1*LIFETIME_SF)+1,1,LIFETIME_SF)))","v":269.57685593199449},{"$f":"IF(AS$15-$D$15+2<=LIFETIME_SF,AS11,\nSUMPRODUCT(OFFSET(AS11,0,(-1*LIFETIME_SF)+1,1,LIFETIME_SF),OFFSET('Shipments and Stock - SF'!AT$14,0,(-1*LIFETIME_SF)+1,1,LIFETIME_SF))/\nSUM(OFFSET('Shipments and Stock - SF'!AT$14,0,(-1*LIFETIME_SF)+1,1,LIFETIME_SF)))","v":269.60232037809158},{"$f":"IF(AT$15-$D$15+2<=LIFETIME_SF,AT11,\nSUMPRODUCT(OFFSET(AT11,0,(-1*LIFETIME_SF)+1,1,LIFETIME_SF),OFFSET('Shipments and Stock - SF'!AU$14,0,(-1*LIFETIME_SF)+1,1,LIFETIME_SF))/\nSUM(OFFSET('Shipments and Stock - SF'!AU$14,0,(-1*LIFETIME_SF)+1,1,LIFETIME_SF)))","v":269.62982074313527},{"$f":"IF(AU$15-$D$15+2<=LIFETIME_SF,AU11,\nSUMPRODUCT(OFFSET(AU11,0,(-1*LIFETIME_SF)+1,1,LIFETIME_SF),OFFSET('Shipments and Stock - SF'!AV$14,0,(-1*LIFETIME_SF)+1,1,LIFETIME_SF))/\nSUM(OFFSET('Shipments and Stock - SF'!AV$14,0,(-1*LIFETIME_SF)+1,1,LIFETIME_SF)))","v":269.6536937328878},{"$f":"IF(AV$15-$D$15+2<=LIFETIME_SF,AV11,\nSUMPRODUCT(OFFSET(AV11,0,(-1*LIFETIME_SF)+1,1,LIFETIME_SF),OFFSET('Shipments and Stock - SF'!AW$14,0,(-1*LIFETIME_SF)+1,1,LIFETIME_SF))/\nSUM(OFFSET('Shipments and Stock - SF'!AW$14,0,(-1*LIFETIME_SF)+1,1,LIFETIME_SF)))","v":269.69756043876896},{"$f":"IF(AW$15-$D$15+2<=LIFETIME_SF,AW11,\nSUMPRODUCT(OFFSET(AW11,0,(-1*LIFETIME_SF)+1,1,LIFETIME_SF),OFFSET('Shipments and Stock - SF'!AX$14,0,(-1*LIFETIME_SF)+1,1,LIFETIME_SF))/\nSUM(OFFSET('Shipments and Stock - SF'!AX$14,0,(-1*LIFETIME_SF)+1,1,LIFETIME_SF)))","v":269.73835048614797},{"$f":"IF(AX$15-$D$15+2<=LIFETIME_SF,AX11,\nSUMPRODUCT(OFFSET(AX11,0,(-1*LIFETIME_SF)+1,1,LIFETIME_SF),OFFSET('Shipments and Stock - SF'!AY$14,0,(-1*LIFETIME_SF)+1,1,LIFETIME_SF))/\nSUM(OFFSET('Shipments and Stock - SF'!AY$14,0,(-1*LIFETIME_SF)+1,1,LIFETIME_SF)))","v":269.77619567471407},{"$f":"IF(AY$15-$D$15+2<=LIFETIME_SF,AY11,\nSUMPRODUCT(OFFSET(AY11,0,(-1*LIFETIME_SF)+1,1,LIFETIME_SF),OFFSET('Shipments and Stock - SF'!AZ$14,0,(-1*LIFETIME_SF)+1,1,LIFETIME_SF))/\nSUM(OFFSET('Shipments and Stock - SF'!AZ$14,0,(-1*LIFETIME_SF)+1,1,LIFETIME_SF)))","v":269.81336590360155},{"$f":"IF(AZ$15-$D$15+2<=LIFETIME_SF,AZ11,\nSUMPRODUCT(OFFSET(AZ11,0,(-1*LIFETIME_SF)+1,1,LIFETIME_SF),OFFSET('Shipments and Stock - SF'!BA$14,0,(-1*LIFETIME_SF)+1,1,LIFETIME_SF))/\nSUM(OFFSET('Shipments and Stock - SF'!BA$14,0,(-1*LIFETIME_SF)+1,1,LIFETIME_SF)))","v":269.85146157079384},{"$f":"IF(BA$15-$D$15+2<=LIFETIME_SF,BA11,\nSUMPRODUCT(OFFSET(BA11,0,(-1*LIFETIME_SF)+1,1,LIFETIME_SF),OFFSET('Shipments and Stock - SF'!BB$14,0,(-1*LIFETIME_SF)+1,1,LIFETIME_SF))/\nSUM(OFFSET('Shipments and Stock - SF'!BB$14,0,(-1*LIFETIME_SF)+1,1,LIFETIME_SF)))","v":269.8934627288898},{"$f":"IF(BB$15-$D$15+2<=LIFETIME_SF,BB11,\nSUMPRODUCT(OFFSET(BB11,0,(-1*LIFETIME_SF)+1,1,LIFETIME_SF),OFFSET('Shipments and Stock - SF'!BC$14,0,(-1*LIFETIME_SF)+1,1,LIFETIME_SF))/\nSUM(OFFSET('Shipments and Stock - SF'!BC$14,0,(-1*LIFETIME_SF)+1,1,LIFETIME_SF)))","v":269.93883529482838},{"$f":"IF(BC$15-$D$15+2<=LIFETIME_SF,BC11,\nSUMPRODUCT(OFFSET(BC11,0,(-1*LIFETIME_SF)+1,1,LIFETIME_SF),OFFSET('Shipments and Stock - SF'!BD$14,0,(-1*LIFETIME_SF)+1,1,LIFETIME_SF))/\nSUM(OFFSET('Shipments and Stock - SF'!BD$14,0,(-1*LIFETIME_SF)+1,1,LIFETIME_SF)))","v":269.98450396940518},{"$f":"IF(BD$15-$D$15+2<=LIFETIME_SF,BD11,\nSUMPRODUCT(OFFSET(BD11,0,(-1*LIFETIME_SF)+1,1,LIFETIME_SF),OFFSET('Shipments and Stock - SF'!BE$14,0,(-1*LIFETIME_SF)+1,1,LIFETIME_SF))/\nSUM(OFFSET('Shipments and Stock - SF'!BE$14,0,(-1*LIFETIME_SF)+1,1,LIFETIME_SF)))","v":270.02830207475148},{"$f":"IF(BE$15-$D$15+2<=LIFETIME_SF,BE11,\nSUMPRODUCT(OFFSET(BE11,0,(-1*LIFETIME_SF)+1,1,LIFETIME_SF),OFFSET('Shipments and Stock - SF'!BF$14,0,(-1*LIFETIME_SF)+1,1,LIFETIME_SF))/\nSUM(OFFSET('Shipments and Stock - SF'!BF$14,0,(-1*LIFETIME_SF)+1,1,LIFETIME_SF)))","v":270.07198781248889}]
[null,null,"POST-Case UEC",{"$f":"IF(D$15-$D$15+2<=LIFETIME_SF,D12,\nSUMPRODUCT(OFFSET(D12,0,(-1*LIFETIME_SF)+1,1,LIFETIME_SF),OFFSET('Shipments and Stock - SF'!E$14,0,(-1*LIFETIME_SF)+1,1,LIFETIME_SF))/\nSUM(OFFSET('Shipments and Stock - SF'!E$14,0,(-1*LIFETIME_SF)+1,1,LIFETIME_SF)))","v":268.50246913580247},{"$f":"IF(E$15-$D$15+2<=LIFETIME_SF,E12,\nSUMPRODUCT(OFFSET(E12,0,(-1*LIFETIME_SF)+1,1,LIFETIME_SF),OFFSET('Shipments and Stock - SF'!F$14,0,(-1*LIFETIME_SF)+1,1,LIFETIME_SF))/\nSUM(OFFSET('Shipments and Stock - SF'!F$14,0,(-1*LIFETIME_SF)+1,1,LIFETIME_SF)))","v":268.50246913580247},{"$f":"IF(F$15-$D$15+2<=LIFETIME_SF,F12,\nSUMPRODUCT(OFFSET(F12,0,(-1*LIFETIME_SF)+1,1,LIFETIME_SF),OFFSET('Shipments and Stock - SF'!G$14,0,(-1*LIFETIME_SF)+1,1,LIFETIME_SF))/\nSUM(OFFSET('Shipments and Stock - SF'!G$14,0,(-1*LIFETIME_SF)+1,1,LIFETIME_SF)))","v":268.50246913580247},{"$f":"IF(G$15-$D$15+2<=LIFETIME_SF,G12,\nSUMPRODUCT(OFFSET(G12,0,(-1*LIFETIME_SF)+1,1,LIFETIME_SF),OFFSET('Shipments and Stock - SF'!H$14,0,(-1*LIFETIME_SF)+1,1,LIFETIME_SF))/\nSUM(OFFSET('Shipments and Stock - SF'!H$14,0,(-1*LIFETIME_SF)+1,1,LIFETIME_SF)))","v":268.50246913580247},{"$f":"IF(H$15-$D$15+2<=LIFETIME_SF,H12,\nSUMPRODUCT(OFFSET(H12,0,(-1*LIFETIME_SF)+1,1,LIFETIME_SF),OFFSET('Shipments and Stock - SF'!I$14,0,(-1*LIFETIME_SF)+1,1,LIFETIME_SF))/\nSUM(OFFSET('Shipments and Stock - SF'!I$14,0,(-1*LIFETIME_SF)+1,1,LIFETIME_SF)))","v":268.50246913580247},{"$f":"IF(I$15-$D$15+2<=LIFETIME_SF,I12,\nSUMPRODUCT(OFFSET(I12,0,(-1*LIFETIME_SF)+1,1,LIFETIME_SF),OFFSET('Shipments and Stock - SF'!J$14,0,(-1*LIFETIME_SF)+1,1,LIFETIME_SF))/\nSUM(OFFSET('Shipments and Stock - SF'!J$14,0,(-1*LIFETIME_SF)+1,1,LIFETIME_SF)))","v":268.50246913580247},{"$f":"IF(J$15-$D$15+2<=LIFETIME_SF,J12,\nSUMPRODUCT(OFFSET(J12,0,(-1*LIFETIME_SF)+1,1,LIFETIME_SF),OFFSET('Shipments and Stock - SF'!K$14,0,(-1*LIFETIME_SF)+1,1,LIFETIME_SF))/\nSUM(OFFSET('Shipments and Stock - SF'!K$14,0,(-1*LIFETIME_SF)+1,1,LIFETIME_SF)))","v":268.50246913580247},{"$f":"IF(K$15-$D$15+2<=LIFETIME_SF,K12,\nSUMPRODUCT(OFFSET(K12,0,(-1*LIFETIME_SF)+1,1,LIFETIME_SF),OFFSET('Shipments and Stock - SF'!L$14,0,(-1*LIFETIME_SF)+1,1,LIFETIME_SF))/\nSUM(OFFSET('Shipments and Stock - SF'!L$14,0,(-1*LIFETIME_SF)+1,1,LIFETIME_SF)))","v":268.50246913580247},{"$f":"IF(L$15-$D$15+2<=LIFETIME_SF,L12,\nSUMPRODUCT(OFFSET(L12,0,(-1*LIFETIME_SF)+1,1,LIFETIME_SF),OFFSET('Shipments and Stock - SF'!M$14,0,(-1*LIFETIME_SF)+1,1,LIFETIME_SF))/\nSUM(OFFSET('Shipments and Stock - SF'!M$14,0,(-1*LIFETIME_SF)+1,1,LIFETIME_SF)))","v":268.50246913580247},{"$f":"IF(M$15-$D$15+2<=LIFETIME_SF,M12,\nSUMPRODUCT(OFFSET(M12,0,(-1*LIFETIME_SF)+1,1,LIFETIME_SF),OFFSET('Shipments and Stock - SF'!N$14,0,(-1*LIFETIME_SF)+1,1,LIFETIME_SF))/\nSUM(OFFSET('Shipments and Stock - SF'!N$14,0,(-1*LIFETIME_SF)+1,1,LIFETIME_SF)))","v":268.50246913580247},{"$f":"IF(N$15-$D$15+2<=LIFETIME_SF,N12,\nSUMPRODUCT(OFFSET(N12,0,(-1*LIFETIME_SF)+1,1,LIFETIME_SF),OFFSET('Shipments and Stock - SF'!O$14,0,(-1*LIFETIME_SF)+1,1,LIFETIME_SF))/\nSUM(OFFSET('Shipments and Stock - SF'!O$14,0,(-1*LIFETIME_SF)+1,1,LIFETIME_SF)))","v":268.06707317073176},{"$f":"IF(O$15-$D$15+2<=LIFETIME_SF,O12,\nSUMPRODUCT(OFFSET(O12,0,(-1*LIFETIME_SF)+1,1,LIFETIME_SF),OFFSET('Shipments and Stock - SF'!P$14,0,(-1*LIFETIME_SF)+1,1,LIFETIME_SF))/\nSUM(OFFSET('Shipments and Stock - SF'!P$14,0,(-1*LIFETIME_SF)+1,1,LIFETIME_SF)))","v":267.9301204819277},{"$f":"IF(P$15-$D$15+2<=LIFETIME_SF,P12,\nSUMPRODUCT(OFFSET(P12,0,(-1*LIFETIME_SF)+1,1,LIFETIME_SF),OFFSET('Shipments and Stock - SF'!Q$14,0,(-1*LIFETIME_SF)+1,1,LIFETIME_SF))/\nSUM(OFFSET('Shipments and Stock - SF'!Q$14,0,(-1*LIFETIME_SF)+1,1,LIFETIME_SF)))","v":267.9301204819277},{"$f":"IF(Q$15-$D$15+2<=LIFETIME_SF,Q12,\nSUMPRODUCT(OFFSET(Q12,0,(-1*LIFETIME_SF)+1,1,LIFETIME_SF),OFFSET('Shipments and Stock - SF'!R$14,0,(-1*LIFETIME_SF)+1,1,LIFETIME_SF))/\nSUM(OFFSET('Shipments and Stock - SF'!R$14,0,(-1*LIFETIME_SF)+1,1,LIFETIME_SF)))","v":268.50602409638554},{"$f":"IF(R$15-$D$15+2<=LIFETIME_SF,R12,\nSUMPRODUCT(OFFSET(R12,0,(-1*LIFETIME_SF)+1,1,LIFETIME_SF),OFFSET('Shipments and Stock - SF'!S$14,0,(-1*LIFETIME_SF)+1,1,LIFETIME_SF))/\nSUM(OFFSET('Shipments and Stock - SF'!S$14,0,(-1*LIFETIME_SF)+1,1,LIFETIME_SF)))","v":268.50941176470587},{"$f":"IF(S$15-$D$15+2<=LIFETIME_SF,S12,\nSUMPRODUCT(OFFSET(S12,0,(-1*LIFETIME_SF)+1,1,LIFETIME_SF),OFFSET('Shipments and Stock - SF'!T$14,0,(-1*LIFETIME_SF)+1,1,LIFETIME_SF))/\nSUM(OFFSET('Shipments and Stock - SF'!T$14,0,(-1*LIFETIME_SF)+1,1,LIFETIME_SF)))","v":268.50941176470587},{"$f":"IF(T$15-$D$15+2<=LIFETIME_SF,T12,\nSUMPRODUCT(OFFSET(T12,0,(-1*LIFETIME_SF)+1,1,LIFETIME_SF),OFFSET('Shipments and Stock - SF'!U$14,0,(-1*LIFETIME_SF)+1,1,LIFETIME_SF))/\nSUM(OFFSET('Shipments and Stock - SF'!U$14,0,(-1*LIFETIME_SF)+1,1,LIFETIME_SF)))","v":268.64999999999998},{"$f":"IF(U$15-$D$15+2<=LIFETIME_SF,U12,\nSUMPRODUCT(OFFSET(U12,0,(-1*LIFETIME_SF)+1,1,LIFETIME_SF),OFFSET('Shipments and Stock - SF'!V$14,0,(-1*LIFETIME_SF)+1,1,LIFETIME_SF))/\nSUM(OFFSET('Shipments and Stock - SF'!V$14,0,(-1*LIFETIME_SF)+1,1,LIFETIME_SF)))","v":268.92790697674423},{"$f":"IF(V$15-$D$15+2<=LIFETIME_SF,V12,\nSUMPRODUCT(OFFSET(V12,0,(-1*LIFETIME_SF)+1,1,LIFETIME_SF),OFFSET('Shipments and Stock - SF'!W$14,0,(-1*LIFETIME_SF)+1,1,LIFETIME_SF))/\nSUM(OFFSET('Shipments and Stock - SF'!W$14,0,(-1*LIFETIME_SF)+1,1,LIFETIME_SF)))","v":268.46752031051176},{"$f":"IF(W$15-$D$15+2<=LIFETIME_SF,W12,\nSUMPRODUCT(OFFSET(W12,0,(-1*LIFETIME_SF)+1,1,LIFETIME_SF),OFFSET('Shipments and Stock - SF'!X$14,0,(-1*LIFETIME_SF)+1,1,LIFETIME_SF))/\nSUM(OFFSET('Shipments and Stock - SF'!X$14,0,(-1*LIFETIME_SF)+1,1,LIFETIME_SF)))","v":268.50104917835279},{"$f":"IF(X$15-$D$15+2<=LIFETIME_SF,X12,\nSUMPRODUCT(OFFSET(X12,0,(-1*LIFETIME_SF)+1,1,LIFETIME_SF),OFFSET('Shipments and Stock - SF'!Y$14,0,(-1*LIFETIME_SF)+1,1,LIFETIME_SF))/\nSUM(OFFSET('Shipments and Stock - SF'!Y$14,0,(-1*LIFETIME_SF)+1,1,LIFETIME_SF)))","v":268.53289612984724},{"$f":"IF(Y$15-$D$15+2<=LIFETIME_SF,Y12,\nSUMPRODUCT(OFFSET(Y12,0,(-1*LIFETIME_SF)+1,1,LIFETIME_SF),OFFSET('Shipments and Stock - SF'!Z$14,0,(-1*LIFETIME_SF)+1,1,LIFETIME_SF))/\nSUM(OFFSET('Shipments and Stock - SF'!Z$14,0,(-1*LIFETIME_SF)+1,1,LIFETIME_SF)))","v":268.57526180492312},{"$f":"IF(Z$15-$D$15+2<=LIFETIME_SF,Z12,\nSUMPRODUCT(OFFSET(Z12,0,(-1*LIFETIME_SF)+1,1,LIFETIME_SF),OFFSET('Shipments and Stock - SF'!AA$14,0,(-1*LIFETIME_SF)+1,1,LIFETIME_SF))/\nSUM(OFFSET('Shipments and Stock - SF'!AA$14,0,(-1*LIFETIME_SF)+1,1,LIFETIME_SF)))","v":268.63531699979154},{"$f":"IF(AA$15-$D$15+2<=LIFETIME_SF,AA12,\nSUMPRODUCT(OFFSET(AA12,0,(-1*LIFETIME_SF)+1,1,LIFETIME_SF),OFFSET('Shipments and Stock - SF'!AB$14,0,(-1*LIFETIME_SF)+1,1,LIFETIME_SF))/\nSUM(OFFSET('Shipments and Stock - SF'!AB$14,0,(-1*LIFETIME_SF)+1,1,LIFETIME_SF)))","v":268.69407604708096},{"$f":"IF(AB$15-$D$15+2<=LIFETIME_SF,AB12,\nSUMPRODUCT(OFFSET(AB12,0,(-1*LIFETIME_SF)+1,1,LIFETIME_SF),OFFSET('Shipments and Stock - SF'!AC$14,0,(-1*LIFETIME_SF)+1,1,LIFETIME_SF))/\nSUM(OFFSET('Shipments and Stock - SF'!AC$14,0,(-1*LIFETIME_SF)+1,1,LIFETIME_SF)))","v":268.76157979886131},{"$f":"IF(AC$15-$D$15+2<=LIFETIME_SF,AC12,\nSUMPRODUCT(OFFSET(AC12,0,(-1*LIFETIME_SF)+1,1,LIFETIME_SF),OFFSET('Shipments and Stock - SF'!AD$14,0,(-1*LIFETIME_SF)+1,1,LIFETIME_SF))/\nSUM(OFFSET('Shipments and Stock - SF'!AD$14,0,(-1*LIFETIME_SF)+1,1,LIFETIME_SF)))","v":268.80205421586265},{"$f":"IF(AD$15-$D$15+2<=LIFETIME_SF,AD12,\nSUMPRODUCT(OFFSET(AD12,0,(-1*LIFETIME_SF)+1,1,LIFETIME_SF),OFFSET('Shipments and Stock - SF'!AE$14,0,(-1*LIFETIME_SF)+1,1,LIFETIME_SF))/\nSUM(OFFSET('Shipments and Stock - SF'!AE$14,0,(-1*LIFETIME_SF)+1,1,LIFETIME_SF)))","v":268.84278508484181},{"$f":"IF(AE$15-$D$15+2<=LIFETIME_SF,AE12,\nSUMPRODUCT(OFFSET(AE12,0,(-1*LIFETIME_SF)+1,1,LIFETIME_SF),OFFSET('Shipments and Stock - SF'!AF$14,0,(-1*LIFETIME_SF)+1,1,LIFETIME_SF))/\nSUM(OFFSET('Shipments and Stock - SF'!AF$14,0,(-1*LIFETIME_SF)+1,1,LIFETIME_SF)))","v":268.88459877096346},{"$f":"IF(AF$15-$D$15+2<=LIFETIME_SF,AF12,\nSUMPRODUCT(OFFSET(AF12,0,(-1*LIFETIME_SF)+1,1,LIFETIME_SF),OFFSET('Shipments and Stock - SF'!AG$14,0,(-1*LIFETIME_SF)+1,1,LIFETIME_SF))/\nSUM(OFFSET('Shipments and Stock - SF'!AG$14,0,(-1*LIFETIME_SF)+1,1,LIFETIME_SF)))","v":268.92917946205517},{"$f":"IF(AG$15-$D$15+2<=LIFETIME_SF,AG12,\nSUMPRODUCT(OFFSET(AG12,0,(-1*LIFETIME_SF)+1,1,LIFETIME_SF),OFFSET('Shipments and Stock - SF'!AH$14,0,(-1*LIFETIME_SF)+1,1,LIFETIME_SF))/\nSUM(OFFSET('Shipments and Stock - SF'!AH$14,0,(-1*LIFETIME_SF)+1,1,LIFETIME_SF)))","v":268.99811612922355},{"$f":"IF(AH$15-$D$15+2<=LIFETIME_SF,AH12,\nSUMPRODUCT(OFFSET(AH12,0,(-1*LIFETIME_SF)+1,1,LIFETIME_SF),OFFSET('Shipments and Stock - SF'!AI$14,0,(-1*LIFETIME_SF)+1,1,LIFETIME_SF))/\nSUM(OFFSET('Shipments and Stock - SF'!AI$14,0,(-1*LIFETIME_SF)+1,1,LIFETIME_SF)))","v":269.08187369041354},{"$f":"IF(AI$15-$D$15+2<=LIFETIME_SF,AI12,\nSUMPRODUCT(OFFSET(AI12,0,(-1*LIFETIME_SF)+1,1,LIFETIME_SF),OFFSET('Shipments and Stock - SF'!AJ$14,0,(-1*LIFETIME_SF)+1,1,LIFETIME_SF))/\nSUM(OFFSET('Shipments and Stock - SF'!AJ$14,0,(-1*LIFETIME_SF)+1,1,LIFETIME_SF)))","v":269.16375534042066},{"$f":"IF(AJ$15-$D$15+2<=LIFETIME_SF,AJ12,\nSUMPRODUCT(OFFSET(AJ12,0,(-1*LIFETIME_SF)+1,1,LIFETIME_SF),OFFSET('Shipments and Stock - SF'!AK$14,0,(-1*LIFETIME_SF)+1,1,LIFETIME_SF))/\nSUM(OFFSET('Shipments and Stock - SF'!AK$14,0,(-1*LIFETIME_SF)+1,1,LIFETIME_SF)))","v":269.21951563897477},{"$f":"IF(AK$15-$D$15+2<=LIFETIME_SF,AK12,\nSUMPRODUCT(OFFSET(AK12,0,(-1*LIFETIME_SF)+1,1,LIFETIME_SF),OFFSET('Shipments and Stock - SF'!AL$14,0,(-1*LIFETIME_SF)+1,1,LIFETIME_SF))/\nSUM(OFFSET('Shipments and Stock - SF'!AL$14,0,(-1*LIFETIME_SF)+1,1,LIFETIME_SF)))","v":269.27379857322586},{"$f":"IF(AL$15-$D$15+2<=LIFETIME_SF,AL12,\nSUMPRODUCT(OFFSET(AL12,0,(-1*LIFETIME_SF)+1,1,LIFETIME_SF),OFFSET('Shipments and Stock - SF'!AM$14,0,(-1*LIFETIME_SF)+1,1,LIFETIME_SF))/\nSUM(OFFSET('Shipments and Stock - SF'!AM$14,0,(-1*LIFETIME_SF)+1,1,LIFETIME_SF)))","v":269.32945918693912},{"$f":"IF(AM$15-$D$15+2<=LIFETIME_SF,AM12,\nSUMPRODUCT(OFFSET(AM12,0,(-1*LIFETIME_SF)+1,1,LIFETIME_SF),OFFSET('Shipments and Stock - SF'!AN$14,0,(-1*LIFETIME_SF)+1,1,LIFETIME_SF))/\nSUM(OFFSET('Shipments and Stock - SF'!AN$14,0,(-1*LIFETIME_SF)+1,1,LIFETIME_SF)))","v":269.37946937484099},{"$f":"IF(AN$15-$D$15+2<=LIFETIME_SF,AN12,\nSUMPRODUCT(OFFSET(AN12,0,(-1*LIFETIME_SF)+1,1,LIFETIME_SF),OFFSET('Shipments and Stock - SF'!AO$14,0,(-1*LIFETIME_SF)+1,1,LIFETIME_SF))/\nSUM(OFFSET('Shipments and Stock - SF'!AO$14,0,(-1*LIFETIME_SF)+1,1,LIFETIME_SF)))","v":269.41867397357481},{"$f":"IF(AO$15-$D$15+2<=LIFETIME_SF,AO12,\nSUMPRODUCT(OFFSET(AO12,0,(-1*LIFETIME_SF)+1,1,LIFETIME_SF),OFFSET('Shipments and Stock - SF'!AP$14,0,(-1*LIFETIME_SF)+1,1,LIFETIME_SF))/\nSUM(OFFSET('Shipments and Stock - SF'!AP$14,0,(-1*LIFETIME_SF)+1,1,LIFETIME_SF)))","v":269.45868776320191},{"$f":"IF(AP$15-$D$15+2<=LIFETIME_SF,AP12,\nSUMPRODUCT(OFFSET(AP12,0,(-1*LIFETIME_SF)+1,1,LIFETIME_SF),OFFSET('Shipments and Stock - SF'!AQ$14,0,(-1*LIFETIME_SF)+1,1,LIFETIME_SF))/\nSUM(OFFSET('Shipments and Stock - SF'!AQ$14,0,(-1*LIFETIME_SF)+1,1,LIFETIME_SF)))","v":269.1984613927666},{"$f":"IF(AQ$15-$D$15+2<=LIFETIME_SF,AQ12,\nSUMPRODUCT(OFFSET(AQ12,0,(-1*LIFETIME_SF)+1,1,LIFETIME_SF),OFFSET('Shipments and Stock - SF'!AR$14,0,(-1*LIFETIME_SF)+1,1,LIFETIME_SF))/\nSUM(OFFSET('Shipments and Stock - SF'!AR$14,0,(-1*LIFETIME_SF)+1,1,LIFETIME_SF)))","v":268.95923535206839},{"$f":"IF(AR$15-$D$15+2<=LIFETIME_SF,AR12,\nSUMPRODUCT(OFFSET(AR12,0,(-1*LIFETIME_SF)+1,1,LIFETIME_SF),OFFSET('Shipments and Stock - SF'!AS$14,0,(-1*LIFETIME_SF)+1,1,LIFETIME_SF))/\nSUM(OFFSET('Shipments and Stock - SF'!AS$14,0,(-1*LIFETIME_SF)+1,1,LIFETIME_SF)))","v":268.70748257824886},{"$f":"IF(AS$15-$D$15+2<=LIFETIME_SF,AS12,\nSUMPRODUCT(OFFSET(AS12,0,(-1*LIFETIME_SF)+1,1,LIFETIME_SF),OFFSET('Shipments and Stock - SF'!AT$14,0,(-1*LIFETIME_SF)+1,1,LIFETIME_SF))/\nSUM(OFFSET('Shipments and Stock - SF'!AT$14,0,(-1*LIFETIME_SF)+1,1,LIFETIME_SF)))","v":268.44919610022572},{"$f":"IF(AT$15-$D$15+2<=LIFETIME_SF,AT12,\nSUMPRODUCT(OFFSET(AT12,0,(-1*LIFETIME_SF)+1,1,LIFETIME_SF),OFFSET('Shipments and Stock - SF'!AU$14,0,(-1*LIFETIME_SF)+1,1,LIFETIME_SF))/\nSUM(OFFSET('Shipments and Stock - SF'!AU$14,0,(-1*LIFETIME_SF)+1,1,LIFETIME_SF)))","v":268.20077490756688},{"$f":"IF(AU$15-$D$15+2<=LIFETIME_SF,AU12,\nSUMPRODUCT(OFFSET(AU12,0,(-1*LIFETIME_SF)+1,1,LIFETIME_SF),OFFSET('Shipments and Stock - SF'!AV$14,0,(-1*LIFETIME_SF)+1,1,LIFETIME_SF))/\nSUM(OFFSET('Shipments and Stock - SF'!AV$14,0,(-1*LIFETIME_SF)+1,1,LIFETIME_SF)))","v":267.94737651824857},{"$f":"IF(AV$15-$D$15+2<=LIFETIME_SF,AV12,\nSUMPRODUCT(OFFSET(AV12,0,(-1*LIFETIME_SF)+1,1,LIFETIME_SF),OFFSET('Shipments and Stock - SF'!AW$14,0,(-1*LIFETIME_SF)+1,1,LIFETIME_SF))/\nSUM(OFFSET('Shipments and Stock - SF'!AW$14,0,(-1*LIFETIME_SF)+1,1,LIFETIME_SF)))","v":267.73119157199005},{"$f":"IF(AW$15-$D$15+2<=LIFETIME_SF,AW12,\nSUMPRODUCT(OFFSET(AW12,0,(-1*LIFETIME_SF)+1,1,LIFETIME_SF),OFFSET('Shipments and Stock - SF'!AX$14,0,(-1*LIFETIME_SF)+1,1,LIFETIME_SF))/\nSUM(OFFSET('Shipments and Stock - SF'!AX$14,0,(-1*LIFETIME_SF)+1,1,LIFETIME_SF)))","v":267.53379170626755},{"$f":"IF(AX$15-$D$15+2<=LIFETIME_SF,AX12,\nSUMPRODUCT(OFFSET(AX12,0,(-1*LIFETIME_SF)+1,1,LIFETIME_SF),OFFSET('Shipments and Stock - SF'!AY$14,0,(-1*LIFETIME_SF)+1,1,LIFETIME_SF))/\nSUM(OFFSET('Shipments and Stock - SF'!AY$14,0,(-1*LIFETIME_SF)+1,1,LIFETIME_SF)))","v":267.3542524098919},{"$f":"IF(AY$15-$D$15+2<=LIFETIME_SF,AY12,\nSUMPRODUCT(OFFSET(AY12,0,(-1*LIFETIME_SF)+1,1,LIFETIME_SF),OFFSET('Shipments and Stock - SF'!AZ$14,0,(-1*LIFETIME_SF)+1,1,LIFETIME_SF))/\nSUM(OFFSET('Shipments and Stock - SF'!AZ$14,0,(-1*LIFETIME_SF)+1,1,LIFETIME_SF)))","v":267.18158092937989},{"$f":"IF(AZ$15-$D$15+2<=LIFETIME_SF,AZ12,\nSUMPRODUCT(OFFSET(AZ12,0,(-1*LIFETIME_SF)+1,1,LIFETIME_SF),OFFSET('Shipments and Stock - SF'!BA$14,0,(-1*LIFETIME_SF)+1,1,LIFETIME_SF))/\nSUM(OFFSET('Shipments and Stock - SF'!BA$14,0,(-1*LIFETIME_SF)+1,1,LIFETIME_SF)))","v":267.00808314326349},{"$f":"IF(BA$15-$D$15+2<=LIFETIME_SF,BA12,\nSUMPRODUCT(OFFSET(BA12,0,(-1*LIFETIME_SF)+1,1,LIFETIME_SF),OFFSET('Shipments and Stock - SF'!BB$14,0,(-1*LIFETIME_SF)+1,1,LIFETIME_SF))/\nSUM(OFFSET('Shipments and Stock - SF'!BB$14,0,(-1*LIFETIME_SF)+1,1,LIFETIME_SF)))","v":266.81990594299475},{"$f":"IF(BB$15-$D$15+2<=LIFETIME_SF,BB12,\nSUMPRODUCT(OFFSET(BB12,0,(-1*LIFETIME_SF)+1,1,LIFETIME_SF),OFFSET('Shipments and Stock - SF'!BC$14,0,(-1*LIFETIME_SF)+1,1,LIFETIME_SF))/\nSUM(OFFSET('Shipments and Stock - SF'!BC$14,0,(-1*LIFETIME_SF)+1,1,LIFETIME_SF)))","v":266.61970890968246},{"$f":"IF(BC$15-$D$15+2<=LIFETIME_SF,BC12,\nSUMPRODUCT(OFFSET(BC12,0,(-1*LIFETIME_SF)+1,1,LIFETIME_SF),OFFSET('Shipments and Stock - SF'!BD$14,0,(-1*LIFETIME_SF)+1,1,LIFETIME_SF))/\nSUM(OFFSET('Shipments and Stock - SF'!BD$14,0,(-1*LIFETIME_SF)+1,1,LIFETIME_SF)))","v":266.42171039236956},{"$f":"IF(BD$15-$D$15+2<=LIFETIME_SF,BD12,\nSUMPRODUCT(OFFSET(BD12,0,(-1*LIFETIME_SF)+1,1,LIFETIME_SF),OFFSET('Shipments and Stock - SF'!BE$14,0,(-1*LIFETIME_SF)+1,1,LIFETIME_SF))/\nSUM(OFFSET('Shipments and Stock - SF'!BE$14,0,(-1*LIFETIME_SF)+1,1,LIFETIME_SF)))","v":266.23576818959793},{"$f":"IF(BE$15-$D$15+2<=LIFETIME_SF,BE12,\nSUMPRODUCT(OFFSET(BE12,0,(-1*LIFETIME_SF)+1,1,LIFETIME_SF),OFFSET('Shipments and Stock - SF'!BF$14,0,(-1*LIFETIME_SF)+1,1,LIFETIME_SF))/\nSUM(OFFSET('Shipments and Stock - SF'!BF$14,0,(-1*LIFETIME_SF)+1,1,LIFETIME_SF)))","v":266.05378036163154}]

{"sheet":"UEC-MF","index":19,"n_rows":17,"n_cols":57,"rows_kept":17,"cut":false,"hidden":false,"merged":[]}
[]
[null,null,"Weighted Annual UEC - Multi-Family"]
[]
[null,null,"NAVIGATION"]
[]
[null,null,"COMMENTS"]
[]
[]
[null,null,"Market UEC (Shipment Weighted Average)"]
[null,null,null,1981,1982,1983,1984,1985,1986,1987,1988,1989,1990,1991,1992,1993,1994,1995,1996,1997,1998,1999,2000,2001,2002,2003,2004,2005,2006,2007,2008,2009,2010,2011,2012,2013,2014,2015,2016,2017,2018,2019,2020,2021,2022,2023,2024,2025,2026,2027,2028,2029,2030,2031,2032,2033,2034]
[null,null,"PRE-Case UEC",{"$f":"'Product Class Dist'!E10*SUMPRODUCT('UEC Development'!$K$14:$K$15,'Efficiency Dist - MF'!I13:I14)\n+'Product Class Dist'!E11*SUMPRODUCT('UEC Development'!$K$24:$K$29,'Efficiency Dist - MF'!I31:I36)","v":268.50246913580247},{"$f":"'Product Class Dist'!F10*SUMPRODUCT('UEC Development'!$K$14:$K$15,'Efficiency Dist - MF'!J13:J14)\n+'Product Class Dist'!F11*SUMPRODUCT('UEC Development'!$K$24:$K$29,'Efficiency Dist - MF'!J31:J36)","v":268.50246913580247},{"$f":"'Product Class Dist'!G10*SUMPRODUCT('UEC Development'!$K$14:$K$15,'Efficiency Dist - MF'!K13:K14)\n+'Product Class Dist'!G11*SUMPRODUCT('UEC Development'!$K$24:$K$29,'Efficiency Dist - MF'!K31:K36)","v":268.50246913580247},{"$f":"'Product Class Dist'!H10*SUMPRODUCT('UEC Development'!$K$14:$K$15,'Efficiency Dist - MF'!L13:L14)\n+'Product Class Dist'!H11*SUMPRODUCT('UEC Development'!$K$24:$K$29,'Efficiency Dist - MF'!L31:L36)","v":268.50246913580247},{"$f":"'Product Class Dist'!I10*SUMPRODUCT('UEC Development'!$K$14:$K$15,'Efficiency Dist - MF'!M13:M14)\n+'Product Class Dist'!I11*SUMPRODUCT('UEC Development'!$K$24:$K$29,'Efficiency Dist - MF'!M31:M36)","v":268.50246913580247},{"$f":"'Product Class Dist'!J10*SUMPRODUCT('UEC Development'!$K$14:$K$15,'Efficiency Dist - MF'!N13:N14)\n+'Product Class Dist'!J11*SUMPRODUCT('UEC Development'!$K$24:$K$29,'Efficiency Dist - MF'!N31:N36)","v":268.50246913580247},{"$f":"'Product Class Dist'!K10*SUMPRODUCT('UEC Development'!$K$14:$K$15,'Efficiency Dist - MF'!O13:O14)\n+'Product Class Dist'!K11*SUMPRODUCT('UEC Development'!$K$24:$K$29,'Efficiency Dist - MF'!O31:O36)","v":268.50246913580247},{"$f":"'Product Class Dist'!L10*SUMPRODUCT('UEC Development'!$K$14:$K$15,'Efficiency Dist - MF'!P13:P14)\n+'Product Class Dist'!L11*SUMPRODUCT('UEC Development'!$K$24:$K$29,'Efficiency Dist - MF'!P31:P36)","v":268.50246913580247},{"$f":"'Product Class Dist'!M10*SUMPRODUCT('UEC Development'!$K$14:$K$15,'Efficiency Dist - MF'!Q13:Q14)\n+'Product Class Dist'!M11*SUMPRODUCT('UEC Development'!$K$24:$K$29,'Efficiency Dist - MF'!Q31:Q36)","v":268.50246913580247},{"$f":"'Product Class Dist'!N10*SUMPRODUCT('UEC Development'!$K$14:$K$15,'Efficiency Dist - MF'!R13:R14)\n+'Product Class Dist'!N11*SUMPRODUCT('UEC Development'!$K$24:$K$29,'Efficiency Dist - MF'!R31:R36)","v":268.50246913580247},{"$f":"'Product Class Dist'!O10*SUMPRODUCT('UEC Development'!$K$14:$K$15,'Efficiency Dist - MF'!S13:S14)\n+'Product Class Dist'!O11*SUMPRODUCT('UEC Development'!$K$24:$K$29,'Efficiency Dist - MF'!S31:S36)","v":268.06707317073176},{"$f":"'Product Class Dist'!P10*SUMPRODUCT('UEC Development'!$K$14:$K$15,'Efficiency Dist - MF'!T13:T14)\n+'Product Class Dist'!P11*SUMPRODUCT('UEC Development'!$K$24:$K$29,'Efficiency Dist - MF'!T31:T36)","v":267.9301204819277},{"$f":"'Product Class Dist'!Q10*SUMPRODUCT('UEC Development'!$K$14:$K$15,'Efficiency Dist - MF'!U13:U14)\n+'Product Class Dist'!Q11*SUMPRODUCT('UEC Development'!$K$24:$K$29,'Efficiency Dist - MF'!U31:U36)","v":267.9301204819277},{"$f":"'Product Class Dist'!R10*SUMPRODUCT('UEC Development'!$K$14:$K$15,'Efficiency Dist - MF'!V13:V14)\n+'Product Class Dist'!R11*SUMPRODUCT('UEC Development'!$K$24:$K$29,'Efficiency Dist - MF'!V31:V36)","v":268.50602409638554},{"$f":"'Product Class Dist'!S10*SUMPRODUCT('UEC Development'!$K$14:$K$15,'Efficiency Dist - MF'!W13:W14)\n+'Product Class Dist'!S11*SUMPRODUCT('UEC Development'!$K$24:$K$29,'Efficiency Dist - MF'!W31:W36)","v":268.50941176470587},{"$f":"'Product Class Dist'!T10*SUMPRODUCT('UEC Development'!$K$14:$K$15,'Efficiency Dist - MF'!X13:X14)\n+'Product Class Dist'!T11*SUMPRODUCT('UEC Development'!$K$24:$K$29,'Efficiency Dist - MF'!X31:X36)","v":268.50941176470587},{"$f":"'Product Class Dist'!U10*SUMPRODUCT('UEC Development'!$K$14:$K$15,'Efficiency Dist - MF'!Y13:Y14)\n+'Product Class Dist'!U11*SUMPRODUCT('UEC Development'!$K$24:$K$29,'Efficiency Dist - MF'!Y31:Y36)","v":268.64999999999998},{"$f":"'Product Class Dist'!V10*SUMPRODUCT('UEC Development'!$K$14:$K$15,'Efficiency Dist - MF'!Z13:Z14)\n+'Product Class Dist'!V11*SUMPRODUCT('UEC Development'!$K$24:$K$29,'Efficiency Dist - MF'!Z31:Z36)","v":268.92790697674423},{"$f":"'Product Class Dist'!W10*SUMPRODUCT('UEC Development'!$K$14:$K$15,'Efficiency Dist - MF'!AA13:AA14)\n+'Product Class Dist'!W11*SUMPRODUCT('UEC Development'!$K$24:$K$29,'Efficiency Dist - MF'!AA31:AA36)","v":268.92790697674417},{"$f":"'Product Class Dist'!X10*SUMPRODUCT('UEC Development'!$K$14:$K$15,'Efficiency Dist - MF'!AB13:AB14)\n+'Product Class Dist'!X11*SUMPRODUCT('UEC Development'!$K$24:$K$29,'Efficiency Dist - MF'!AB31:AB36)","v":269.06206896551726},{"$f":"'Product Class Dist'!Y10*SUMPRODUCT('UEC Development'!$K$14:$K$15,'Efficiency Dist - MF'!AC13:AC14)\n+'Product Class Dist'!Y11*SUMPRODUCT('UEC Development'!$K$24:$K$29,'Efficiency Dist - MF'!AC31:AC36)","v":269.07176470588234},{"$f":"'Product Class Dist'!Z10*SUMPRODUCT('UEC Development'!$K$14:$K$15,'Efficiency Dist - MF'!AD13:AD14)\n+'Product Class Dist'!Z11*SUMPRODUCT('UEC Development'!$K$24:$K$29,'Efficiency Dist - MF'!AD31:AD36)","v":269.20581395348836},{"$f":"'Product Class Dist'!AA10*SUMPRODUCT('UEC Development'!$K$14:$K$15,'Efficiency Dist - MF'!AE13:AE14)\n+'Product Class Dist'!AA11*SUMPRODUCT('UEC Development'!$K$24:$K$29,'Efficiency Dist - MF'!AE31:AE36)","v":269.50357142857143},{"$f":"'Product Class Dist'!AB10*SUMPRODUCT('UEC Development'!$K$14:$K$15,'Efficiency Dist - MF'!AF13:AF14)\n+'Product Class Dist'!AB11*SUMPRODUCT('UEC Development'!$K$24:$K$29,'Efficiency Dist - MF'!AF31:AF36)","v":269.50357142857143},{"$f":"'Product Class Dist'!AC10*SUMPRODUCT('UEC Development'!$K$14:$K$15,'Efficiency Dist - MF'!AG13:AG14)\n+'Product Class Dist'!AC11*SUMPRODUCT('UEC Development'!$K$24:$K$29,'Efficiency Dist - MF'!AG31:AG36)","v":269.63411764705882},{"$f":"'Product Class Dist'!AD10*SUMPRODUCT('UEC Development'!$K$14:$K$15,'Efficiency Dist - MF'!AH13:AH14)\n+'Product Class Dist'!AD11*SUMPRODUCT('UEC Development'!$K$24:$K$29,'Efficiency Dist - MF'!AH31:AH36)","v":269.24010246211265},{"$f":"'Product Class Dist'!AE10*SUMPRODUCT('UEC Development'!$K$14:$K$15,'Efficiency Dist - MF'!AI13:AI14)\n+'Product Class Dist'!AE11*SUMPRODUCT('UEC Development'!$K$24:$K$29,'Efficiency Dist - MF'!AI31:AI36)","v":269.28329934319521},{"$f":"'Product Class Dist'!AF10*SUMPRODUCT('UEC Development'!$K$14:$K$15,'Efficiency Dist - MF'!AJ13:AJ14)\n+'Product Class Dist'!AF11*SUMPRODUCT('UEC Development'!$K$24:$K$29,'Efficiency Dist - MF'!AJ31:AJ36)","v":269.32649622427778},{"$f":"'Product Class Dist'!AG10*SUMPRODUCT('UEC Development'!$K$14:$K$15,'Efficiency Dist - MF'!AK13:AK14)\n+'Product Class Dist'!AG11*SUMPRODUCT('UEC Development'!$K$24:$K$29,'Efficiency Dist - MF'!AK31:AK36)","v":269.36969310536017},{"$f":"'Product Class Dist'!AH10*SUMPRODUCT('UEC Development'!$K$14:$K$15,'Efficiency Dist - MF'!AL13:AL14)\n+'Product Class Dist'!AH11*SUMPRODUCT('UEC Development'!$K$24:$K$29,'Efficiency Dist - MF'!AL31:AL36)","v":269.41288998644285},{"$f":"'Product Class Dist'!AI10*SUMPRODUCT('UEC Development'!$K$14:$K$15,'Efficiency Dist - MF'!AM13:AM14)\n+'Product Class Dist'!AI11*SUMPRODUCT('UEC Development'!$K$24:$K$29,'Efficiency Dist - MF'!AM31:AM36)","v":269.45608686752524},{"$f":"'Product Class Dist'!AJ10*SUMPRODUCT('UEC Development'!$K$14:$K$15,'Efficiency Dist - MF'!AN13:AN14)\n+'Product Class Dist'!AJ11*SUMPRODUCT('UEC Development'!$K$24:$K$29,'Efficiency Dist - MF'!AN31:AN36)","v":269.49928374860792},{"$f":"'Product Class Dist'!AK10*SUMPRODUCT('UEC Development'!$K$14:$K$15,'Efficiency Dist - MF'!AO13:AO14)\n+'Product Class Dist'!AK11*SUMPRODUCT('UEC Development'!$K$24:$K$29,'Efficiency Dist - MF'!AO31:AO36)","v":269.54248062969049},{"$f":"'Product Class Dist'!AL10*SUMPRODUCT('UEC Development'!$K$14:$K$15,'Efficiency Dist - MF'!AP13:AP14)\n+'Product Class Dist'!AL11*SUMPRODUCT('UEC Development'!$K$24:$K$29,'Efficiency Dist - MF'!AP31:AP36)","v":269.585677510773},{"$f":"'Product Class Dist'!AM10*SUMPRODUCT('UEC Development'!$K$14:$K$15,'Efficiency Dist - MF'!AQ13:AQ14)\n+'Product Class Dist'!AM11*SUMPRODUCT('UEC Development'!$K$24:$K$29,'Efficiency Dist - MF'!AQ31:AQ36)","v":269.62887439185556},{"$f":"'Product Class Dist'!AN10*SUMPRODUCT('UEC Development'!$K$14:$K$15,'Efficiency Dist - MF'!AR13:AR14)\n+'Product Class Dist'!AN11*SUMPRODUCT('UEC Development'!$K$24:$K$29,'Efficiency Dist - MF'!AR31:AR36)","v":269.67207127293807},{"$f":"'Product Class Dist'!AO10*SUMPRODUCT('UEC Development'!$K$14:$K$15,'Efficiency Dist - MF'!AS13:AS14)\n+'Product Class Dist'!AO11*SUMPRODUCT('UEC Development'!$K$24:$K$29,'Efficiency Dist - MF'!AS31:AS36)","v":269.71526815402063},{"$f":"'Product Class Dist'!AP10*SUMPRODUCT('UEC Development'!$K$14:$K$15,'Efficiency Dist - MF'!AT13:AT14)\n+'Product Class Dist'!AP11*SUMPRODUCT('UEC Development'!$K$24:$K$29,'Efficiency Dist - MF'!AT31:AT36)","v":269.75846503510303},{"$f":"'Product Class Dist'!AQ10*SUMPRODUCT('UEC Development'!$K$14:$K$15,'Efficiency Dist - MF'!AU13:AU14)\n+'Product Class Dist'!AQ11*SUMPRODUCT('UEC Development'!$K$24:$K$29,'Efficiency Dist - MF'!AU31:AU36)","v":269.80166191618571},{"$f":"'Product Class Dist'!AR10*SUMPRODUCT('UEC Development'!$K$14:$K$15,'Efficiency Dist - MF'!AV13:AV14)\n+'Product Class Dist'!AR11*SUMPRODUCT('UEC Development'!$K$24:$K$29,'Efficiency Dist - MF'!AV31:AV36)","v":269.84485879726816},{"$f":"'Product Class Dist'!AS10*SUMPRODUCT('UEC Development'!$K$14:$K$15,'Efficiency Dist - MF'!AW13:AW14)\n+'Product Class Dist'!AS11*SUMPRODUCT('UEC Development'!$K$24:$K$29,'Efficiency Dist - MF'!AW31:AW36)","v":269.88805567835078},{"$f":"'Product Class Dist'!AT10*SUMPRODUCT('UEC Development'!$K$14:$K$15,'Efficiency Dist - MF'!AX13:AX14)\n+'Product Class Dist'!AT11*SUMPRODUCT('UEC Development'!$K$24:$K$29,'Efficiency Dist - MF'!AX31:AX36)","v":269.93125255943335},{"$f":"'Product Class Dist'!AU10*SUMPRODUCT('UEC Development'!$K$14:$K$15,'Efficiency Dist - MF'!AY13:AY14)\n+'Product Class Dist'!AU11*SUMPRODUCT('UEC Development'!$K$24:$K$29,'Efficiency Dist - MF'!AY31:AY36)","v":269.97444944051591},{"$f":"'Product Class Dist'!AV10*SUMPRODUCT('UEC Development'!$K$14:$K$15,'Efficiency Dist - MF'!AZ13:AZ14)\n+'Product Class Dist'!AV11*SUMPRODUCT('UEC Development'!$K$24:$K$29,'Efficiency Dist - MF'!AZ31:AZ36)","v":270.01764632159842},{"$f":"'Product Class Dist'!AW10*SUMPRODUCT('UEC Development'!$K$14:$K$15,'Efficiency Dist - MF'!BA13:BA14)\n+'Product Class Dist'!AW11*SUMPRODUCT('UEC Development'!$K$24:$K$29,'Efficiency Dist - MF'!BA31:BA36)","v":270.06084320268099},{"$f":"'Product Class Dist'!AX10*SUMPRODUCT('UEC Development'!$K$14:$K$15,'Efficiency Dist - MF'!BB13:BB14)\n+'Product Class Dist'!AX11*SUMPRODUCT('UEC Development'!$K$24:$K$29,'Efficiency Dist - MF'!BB31:BB36)","v":270.10404008376349},{"$f":"'Product Class Dist'!AY10*SUMPRODUCT('UEC Development'!$K$14:$K$15,'Efficiency Dist - MF'!BC13:BC14)\n+'Product Class Dist'!AY11*SUMPRODUCT('UEC Development'!$K$24:$K$29,'Efficiency Dist - MF'!BC31:BC36)","v":270.14723696484606},{"$f":"'Product Class Dist'!AZ10*SUMPRODUCT('UEC Development'!$K$14:$K$15,'Efficiency Dist - MF'!BD13:BD14)\n+'Product Class Dist'!AZ11*SUMPRODUCT('UEC Development'!$K$24:$K$29,'Efficiency Dist - MF'!BD31:BD36)","v":270.19043384592862},{"$f":"'Product Class Dist'!BA10*SUMPRODUCT('UEC Development'!$K$14:$K$15,'Efficiency Dist - MF'!BE13:BE14)\n+'Product Class Dist'!BA11*SUMPRODUCT('UEC Development'!$K$24:$K$29,'Efficiency Dist - MF'!BE31:BE36)","v":270.23363072701102},{"$f":"'Product Class Dist'!BB10*SUMPRODUCT('UEC Development'!$K$14:$K$15,'Efficiency Dist - MF'!BF13:BF14)\n+'Product Class Dist'!BB11*SUMPRODUCT('UEC Development'!$K$24:$K$29,'Efficiency Dist - MF'!BF31:BF36)","v":270.2768276080937},{"$f":"'Product Class Dist'!BC10*SUMPRODUCT('UEC Development'!$K$14:$K$15,'Efficiency Dist - MF'!BG13:BG14)\n+'Product Class Dist'!BC11*SUMPRODUCT('UEC Development'!$K$24:$K$29,'Efficiency Dist - MF'!BG31:BG36)","v":270.32002448917626},{"$f":"'Product Class Dist'!BD10*SUMPRODUCT('UEC Development'!$K$14:$K$15,'Efficiency Dist - MF'!BH13:BH14)\n+'Product Class Dist'!BD11*SUMPRODUCT('UEC Development'!$K$24:$K$29,'Efficiency Dist - MF'!BH31:BH36)","v":270.36322137025877},{"$f":"'Product Class Dist'!BE10*SUMPRODUCT('UEC Development'!$K$14:$K$15,'Efficiency Dist - MF'!BI13:BI14)\n+'Product Class Dist'!BE11*SUMPRODUCT('UEC Development'!$K$24:$K$29,'Efficiency Dist - MF'!BI31:BI36)","v":270.40641825134134},{"$f":"'Product Class Dist'!BF10*SUMPRODUCT('UEC Development'!$K$14:$K$15,'Efficiency Dist - MF'!BJ13:BJ14)\n+'Product Class Dist'!BF11*SUMPRODUCT('UEC Development'!$K$24:$K$29,'Efficiency Dist - MF'!BJ31:BJ36)","v":270.44961513242384}]
[null,null,"POST-Case UEC",{"$f":"'Product Class Dist'!E14*SUMPRODUCT('UEC Development'!$K$14:$K$15,'Efficiency Dist - MF'!I19:I20)\n+'Product Class Dist'!E15*SUMPRODUCT('UEC Development'!$K$24:$K$29,'Efficiency Dist - MF'!$I$41:$I$46)","v":268.50246913580247},{"$f":"'Product Class Dist'!F14*SUMPRODUCT('UEC Development'!$K$14:$K$15,'Efficiency Dist - MF'!J19:J20)\n+'Product Class Dist'!F15*SUMPRODUCT('UEC Development'!$K$24:$K$29,'Efficiency Dist - MF'!$I$41:$I$46)","v":268.50246913580247},{"$f":"'Product Class Dist'!G14*SUMPRODUCT('UEC Development'!$K$14:$K$15,'Efficiency Dist - MF'!K19:K20)\n+'Product Class Dist'!G15*SUMPRODUCT('UEC Development'!$K$24:$K$29,'Efficiency Dist - MF'!$I$41:$I$46)","v":268.50246913580247},{"$f":"'Product Class Dist'!H14*SUMPRODUCT('UEC Development'!$K$14:$K$15,'Efficiency Dist - MF'!L19:L20)\n+'Product Class Dist'!H15*SUMPRODUCT('UEC Development'!$K$24:$K$29,'Efficiency Dist - MF'!$I$41:$I$46)","v":268.50246913580247},{"$f":"'Product Class Dist'!I14*SUMPRODUCT('UEC Development'!$K$14:$K$15,'Efficiency Dist - MF'!M19:M20)\n+'Product Class Dist'!I15*SUMPRODUCT('UEC Development'!$K$24:$K$29,'Efficiency Dist - MF'!$I$41:$I$46)","v":268.50246913580247},{"$f":"'Product Class Dist'!J14*SUMPRODUCT('UEC Development'!$K$14:$K$15,'Efficiency Dist - MF'!N19:N20)\n+'Product Class Dist'!J15*SUMPRODUCT('UEC Development'!$K$24:$K$29,'Efficiency Dist - MF'!$I$41:$I$46)","v":268.50246913580247},{"$f":"'Product Class Dist'!K14*SUMPRODUCT('UEC Development'!$K$14:$K$15,'Efficiency Dist - MF'!O19:O20)\n+'Product Class Dist'!K15*SUMPRODUCT('UEC Development'!$K$24:$K$29,'Efficiency Dist - MF'!$I$41:$I$46)","v":268.50246913580247},{"$f":"'Product Class Dist'!L14*SUMPRODUCT('UEC Development'!$K$14:$K$15,'Efficiency Dist - MF'!P19:P20)\n+'Product Class Dist'!L15*SUMPRODUCT('UEC Development'!$K$24:$K$29,'Efficiency Dist - MF'!$I$41:$I$46)","v":268.50246913580247},{"$f":"'Product Class Dist'!M14*SUMPRODUCT('UEC Development'!$K$14:$K$15,'Efficiency Dist - MF'!Q19:Q20)\n+'Product Class Dist'!M15*SUMPRODUCT('UEC Development'!$K$24:$K$29,'Efficiency Dist - MF'!$I$41:$I$46)","v":268.50246913580247},{"$f":"'Product Class Dist'!N14*SUMPRODUCT('UEC Development'!$K$14:$K$15,'Efficiency Dist - MF'!R19:R20)\n+'Product Class Dist'!N15*SUMPRODUCT('UEC Development'!$K$24:$K$29,'Efficiency Dist - MF'!$I$41:$I$46)","v":268.50246913580247},{"$f":"'Product Class Dist'!O14*SUMPRODUCT('UEC Development'!$K$14:$K$15,'Efficiency Dist - MF'!S19:S20)\n+'Product Class Dist'!O15*SUMPRODUCT('UEC Development'!$K$24:$K$29,'Efficiency Dist - MF'!$I$41:$I$46)","v":268.06707317073176},{"$f":"'Product Class Dist'!P14*SUMPRODUCT('UEC Development'!$K$14:$K$15,'Efficiency Dist - MF'!T19:T20)\n+'Product Class Dist'!P15*SUMPRODUCT('UEC Development'!$K$24:$K$29,'Efficiency Dist - MF'!$I$41:$I$46)","v":267.9301204819277},{"$f":"'Product Class Dist'!Q14*SUMPRODUCT('UEC Development'!$K$14:$K$15,'Efficiency Dist - MF'!U19:U20)\n+'Product Class Dist'!Q15*SUMPRODUCT('UEC Development'!$K$24:$K$29,'Efficiency Dist - MF'!$I$41:$I$46)","v":267.9301204819277},{"$f":"'Product Class Dist'!R14*SUMPRODUCT('UEC Development'!$K$14:$K$15,'Efficiency Dist - MF'!V19:V20)\n+'Product Class Dist'!R15*SUMPRODUCT('UEC Development'!$K$24:$K$29,'Efficiency Dist - MF'!$I$41:$I$46)","v":268.50602409638554},{"$f":"'Product Class Dist'!S14*SUMPRODUCT('UEC Development'!$K$14:$K$15,'Efficiency Dist - MF'!W19:W20)\n+'Product Class Dist'!S15*SUMPRODUCT('UEC Development'!$K$24:$K$29,'Efficiency Dist - MF'!$I$41:$I$46)","v":268.50941176470587},{"$f":"'Product Class Dist'!T14*SUMPRODUCT('UEC Development'!$K$14:$K$15,'Efficiency Dist - MF'!X19:X20)\n+'Product Class Dist'!T15*SUMPRODUCT('UEC Development'!$K$24:$K$29,'Efficiency Dist - MF'!$I$41:$I$46)","v":268.50941176470587},{"$f":"'Product Class Dist'!U14*SUMPRODUCT('UEC Development'!$K$14:$K$15,'Efficiency Dist - MF'!Y19:Y20)\n+'Product Class Dist'!U15*SUMPRODUCT('UEC Development'!$K$24:$K$29,'Efficiency Dist - MF'!$I$41:$I$46)","v":268.64999999999998},{"$f":"'Product Class Dist'!V14*SUMPRODUCT('UEC Development'!$K$14:$K$15,'Efficiency Dist - MF'!Z19:Z20)\n+'Product Class Dist'!V15*SUMPRODUCT('UEC Development'!$K$24:$K$29,'Efficiency Dist - MF'!$I$41:$I$46)","v":268.92790697674423},{"$f":"'Product Class Dist'!W14*SUMPRODUCT('UEC Development'!$K$14:$K$15,'Efficiency Dist - MF'!AA19:AA20)\n+'Product Class Dist'!W15*SUMPRODUCT('UEC Development'!$K$24:$K$29,'Efficiency Dist - MF'!$I$41:$I$46)","v":268.92790697674417},{"$f":"'Product Class Dist'!X14*SUMPRODUCT('UEC Development'!$K$14:$K$15,'Efficiency Dist - MF'!AB19:AB20)\n+'Product Class Dist'!X15*SUMPRODUCT('UEC Development'!$K$24:$K$29,'Efficiency Dist - MF'!$I$41:$I$46)","v":269.06206896551726},{"$f":"'Product Class Dist'!Y14*SUMPRODUCT('UEC Development'!$K$14:$K$15,'Efficiency Dist - MF'!AC19:AC20)\n+'Product Class Dist'!Y15*SUMPRODUCT('UEC Development'!$K$24:$K$29,'Efficiency Dist - MF'!$I$41:$I$46)","v":269.07176470588234},{"$f":"'Product Class Dist'!Z14*SUMPRODUCT('UEC Development'!$K$14:$K$15,'Efficiency Dist - MF'!AD19:AD20)\n+'Product Class Dist'!Z15*SUMPRODUCT('UEC Development'!$K$24:$K$29,'Efficiency Dist - MF'!$I$41:$I$46)","v":269.20581395348836},{"$f":"'Product Class Dist'!AA14*SUMPRODUCT('UEC Development'!$K$14:$K$15,'Efficiency Dist - MF'!AE19:AE20)\n+'Product Class Dist'!AA15*SUMPRODUCT('UEC Development'!$K$24:$K$29,'Efficiency Dist - MF'!$I$41:$I$46)","v":269.50357142857143},{"$f":"'Product Class Dist'!AB14*SUMPRODUCT('UEC Development'!$K$14:$K$15,'Efficiency Dist - MF'!AF19:AF20)\n+'Product Class Dist'!AB15*SUMPRODUCT('UEC Development'!$K$24:$K$29,'Efficiency Dist - MF'!$I$41:$I$46)","v":269.50357142857143},{"$f":"'Product Class Dist'!AC14*SUMPRODUCT('UEC Development'!$K$14:$K$15,'Efficiency Dist - MF'!AG19:AG20)\n+'Product Class Dist'!AC15*SUMPRODUCT('UEC Development'!$K$24:$K$29,'Efficiency Dist - MF'!$I$41:$I$46)","v":269.63411764705882},{"$f":"'Product Class Dist'!AD14*SUMPRODUCT('UEC Development'!$K$14:$K$15,'Efficiency Dist - MF'!AH19:AH20)\n+'Product Class Dist'!AD15*SUMPRODUCT('UEC Development'!$K$24:$K$29,'Efficiency Dist - MF'!$I$41:$I$46)","v":269.24010246211265},{"$f":"'Product Class Dist'!AE14*SUMPRODUCT('UEC Development'!$K$14:$K$15,'Efficiency Dist - MF'!AI19:AI20)\n+'Product Class Dist'!AE15*SUMPRODUCT('UEC Development'!$K$24:$K$29,'Efficiency Dist - MF'!$I$41:$I$46)","v":269.28329934319521},{"$f":"'Product Class Dist'!AF14*SUMPRODUCT('UEC Development'!$K$14:$K$15,'Efficiency Dist - MF'!AJ19:AJ20)\n+'Product Class Dist'!AF15*SUMPRODUCT('UEC Development'!$K$24:$K$29,'Efficiency Dist - MF'!$I$41:$I$46)","v":269.32649622427778},{"$f":"'Product Class Dist'!AG14*SUMPRODUCT('UEC Development'!$K$14:$K$15,'Efficiency Dist - MF'!AK19:AK20)\n+'Product Class Dist'!AG15*SUMPRODUCT('UEC Development'!$K$24:$K$29,'Efficiency Dist - MF'!$I$41:$I$46)","v":269.36969310536017},{"$f":"'Product Class Dist'!AH14*SUMPRODUCT('UEC Development'!$K$14:$K$15,'Efficiency Dist - MF'!AL19:AL20)\n+'Product Class Dist'!AH15*SUMPRODUCT('UEC Development'!$K$24:$K$29,'Efficiency Dist - MF'!$I$41:$I$46)","v":269.41288998644285},{"$f":"'Product Class Dist'!AI14*SUMPRODUCT('UEC Development'!$K$14:$K$15,'Efficiency Dist - MF'!AM19:AM20)\n+'Product Class Dist'!AI15*SUMPRODUCT('UEC Development'!$K$24:$K$29,'Efficiency Dist - MF'!$I$41:$I$46)","v":269.45608686752524},{"$f":"'Product Class Dist'!AJ14*SUMPRODUCT('UEC Development'!$K$14:$K$15,'Efficiency Dist - MF'!AN19:AN20)\n+'Product Class Dist'!AJ15*SUMPRODUCT('UEC Development'!$K$24:$K$29,'Efficiency Dist - MF'!$I$41:$I$46)","v":269.49928374860792},{"$f":"'Product Class Dist'!AK14*SUMPRODUCT('UEC Development'!$K$14:$K$15,'Efficiency Dist - MF'!AO19:AO20)\n+'Product Class Dist'!AK15*SUMPRODUCT('UEC Development'!$K$24:$K$29,'Efficiency Dist - MF'!$I$41:$I$46)","v":269.54248062969049},{"$f":"'Product Class Dist'!AL14*SUMPRODUCT('UEC Development'!$K$14:$K$15,'Efficiency Dist - MF'!AP19:AP20)\n+'Product Class Dist'!AL15*SUMPRODUCT('UEC Development'!$K$24:$K$29,'Efficiency Dist - MF'!$I$41:$I$46)","v":269.585677510773},{"$f":"'Product Class Dist'!AM14*SUMPRODUCT('UEC Development'!$K$14:$K$15,'Efficiency Dist - MF'!AQ19:AQ20)\n+'Product Class Dist'!AM15*SUMPRODUCT('UEC Development'!$K$24:$K$29,'Efficiency Dist - MF'!$I$41:$I$46)","v":269.62887439185556},{"$f":"'Product Class Dist'!AN14*SUMPRODUCT('UEC Development'!$K$14:$K$15,'Efficiency Dist - MF'!AR19:AR20)\n+'Product Class Dist'!AN15*SUMPRODUCT('UEC Development'!$K$24:$K$29,'Efficiency Dist - MF'!$I$41:$I$46)","v":269.67207127293807},{"$f":"'Product Class Dist'!AO14*SUMPRODUCT('UEC Development'!$K$14:$K$15,'Efficiency Dist - MF'!AS19:AS20)\n+'Product Class Dist'!AO15*SUMPRODUCT('UEC Development'!$K$24:$K$29,'Efficiency Dist - MF'!$I$41:$I$46)","v":269.71526815402063},{"$f":"'Product Class Dist'!AP14*SUMPRODUCT('UEC Development'!$K$14:$K$15,'Efficiency Dist - MF'!AT19:AT20)\n+'Product Class Dist'!AP15*SUMPRODUCT('UEC Development'!$K$24:$K$29,'Efficiency Dist - MF'!$I$41:$I$46)","v":269.75846503510303},{"$f":"'Product Class Dist'!AQ14*SUMPRODUCT('UEC Development'!$K$14:$K$15,'Efficiency Dist - MF'!AU19:AU20)\n+'Product Class Dist'!AQ15*SUMPRODUCT('UEC Development'!$K$24:$K$29,'Efficiency Dist - MF'!$I$41:$I$46)","v":264.9672595104613},{"$f":"'Product Class Dist'!AR14*SUMPRODUCT('UEC Development'!$K$14:$K$15,'Efficiency Dist - MF'!AV19:AV20)\n+'Product Class Dist'!AR15*SUMPRODUCT('UEC Development'!$K$24:$K$29,'Efficiency Dist - MF'!$I$41:$I$46)","v":265.02979558098235},{"$f":"'Product Class Dist'!AS14*SUMPRODUCT('UEC Development'!$K$14:$K$15,'Efficiency Dist - MF'!AW19:AW20)\n+'Product Class Dist'!AS15*SUMPRODUCT('UEC Development'!$K$24:$K$29,'Efficiency Dist - MF'!$I$41:$I$46)","v":265.09233165150363},{"$f":"'Product Class Dist'!AT14*SUMPRODUCT('UEC Development'!$K$14:$K$15,'Efficiency Dist - MF'!AX19:AX20)\n+'Product Class Dist'!AT15*SUMPRODUCT('UEC Development'!$K$24:$K$29,'Efficiency Dist - MF'!$I$41:$I$46)","v":265.15486772202485},{"$f":"'Product Class Dist'!AU14*SUMPRODUCT('UEC Development'!$K$14:$K$15,'Efficiency Dist - MF'!AY19:AY20)\n+'Product Class Dist'!AU15*SUMPRODUCT('UEC Development'!$K$24:$K$29,'Efficiency Dist - MF'!$I$41:$I$46)","v":265.21740379254595},{"$f":"'Product Class Dist'!AV14*SUMPRODUCT('UEC Development'!$K$14:$K$15,'Efficiency Dist - MF'!AZ19:AZ20)\n+'Product Class Dist'!AV15*SUMPRODUCT('UEC Development'!$K$24:$K$29,'Efficiency Dist - MF'!$I$41:$I$46)","v":265.27993986306717},{"$f":"'Product Class Dist'!AW14*SUMPRODUCT('UEC Development'!$K$14:$K$15,'Efficiency Dist - MF'!BA19:BA20)\n+'Product Class Dist'!AW15*SUMPRODUCT('UEC Development'!$K$24:$K$29,'Efficiency Dist - MF'!$I$41:$I$46)","v":265.34247593358828},{"$f":"'Product Class Dist'!AX14*SUMPRODUCT('UEC Development'!$K$14:$K$15,'Efficiency Dist - MF'!BB19:BB20)\n+'Product Class Dist'!AX15*SUMPRODUCT('UEC Development'!$K$24:$K$29,'Efficiency Dist - MF'!$I$41:$I$46)","v":265.40501200410949},{"$f":"'Product Class Dist'!AY14*SUMPRODUCT('UEC Development'!$K$14:$K$15,'Efficiency Dist - MF'!BC19:BC20)\n+'Product Class Dist'!AY15*SUMPRODUCT('UEC Development'!$K$24:$K$29,'Efficiency Dist - MF'!$I$41:$I$46)","v":265.4675480746306},{"$f":"'Product Class Dist'!AZ14*SUMPRODUCT('UEC Development'!$K$14:$K$15,'Efficiency Dist - MF'!BD19:BD20)\n+'Product Class Dist'!AZ15*SUMPRODUCT('UEC Development'!$K$24:$K$29,'Efficiency Dist - MF'!$I$41:$I$46)","v":265.53008414515182},{"$f":"'Product Class Dist'!BA14*SUMPRODUCT('UEC Development'!$K$14:$K$15,'Efficiency Dist - MF'!BE19:BE20)\n+'Product Class Dist'!BA15*SUMPRODUCT('UEC Development'!$K$24:$K$29,'Efficiency Dist - MF'!$I$41:$I$46)","v":265.59262021567287},{"$f":"'Product Class Dist'!BB14*SUMPRODUCT('UEC Development'!$K$14:$K$15,'Efficiency Dist - MF'!BF19:BF20)\n+'Product Class Dist'!BB15*SUMPRODUCT('UEC Development'!$K$24:$K$29,'Efficiency Dist - MF'!$I$41:$I$46)","v":265.65515628619414},{"$f":"'Product Class Dist'!BC14*SUMPRODUCT('UEC Development'!$K$14:$K$15,'Efficiency Dist - MF'!BG19:BG20)\n+'Product Class Dist'!BC15*SUMPRODUCT('UEC Development'!$K$24:$K$29,'Efficiency Dist - MF'!$I$41:$I$46)","v":265.71769235671536},{"$f":"'Product Class Dist'!BD14*SUMPRODUCT('UEC Development'!$K$14:$K$15,'Efficiency Dist - MF'!BH19:BH20)\n+'Product Class Dist'!BD15*SUMPRODUCT('UEC Development'!$K$24:$K$29,'Efficiency Dist - MF'!$I$41:$I$46)","v":265.78022842723652},{"$f":"'Product Class Dist'!BE14*SUMPRODUCT('UEC Development'!$K$14:$K$15,'Efficiency Dist - MF'!BI19:BI20)\n+'Product Class Dist'!BE15*SUMPRODUCT('UEC Development'!$K$24:$K$29,'Efficiency Dist - MF'!$I$41:$I$46)","v":265.84276449775768},{"$f":"'Product Class Dist'!BF14*SUMPRODUCT('UEC Development'!$K$14:$K$15,'Efficiency Dist - MF'!BJ19:BJ20)\n+'Product Class Dist'!BF15*SUMPRODUCT('UEC Development'!$K$24:$K$29,'Efficiency Dist - MF'!$I$41:$I$46)","v":265.90530056827885}]
[]
[null,null,"Installed UEC (Vintage Weighted Average) "]
[null,null,null,1981,1982,1983,1984,1985,1986,1987,1988,1989,1990,1991,1992,1993,1994,1995,1996,1997,1998,1999,2000,2001,2002,2003,2004,2005,2006,2007,2008,2009,2010,2011,2012,2013,2014,2015,2016,2017,2018,2019,2020,2021,2022,2023,2024,2025,2026,2027,2028,2029,2030,2031,2032,2033,2034]
[null,null,"PRE-Case UEC",{"$f":"IF(D$15-$D$15+2<=LIFETIME_MF,D11,\nSUMPRODUCT(OFFSET(D11,0,(-1*LIFETIME_MF)+1,1,LIFETIME_MF),OFFSET('Shipments and Stock - MF'!E$14,0,(-1*LIFETIME_MF)+1,1,LIFETIME_MF))/\nSUM(OFFSET('Shipments and Stock - MF'!E$14,0,(-1*LIFETIME_MF)+1,1,LIFETIME_MF)))","v":268.50246913580247},{"$f":"IF(E$15-$D$15+2<=LIFETIME_MF,E11,\nSUMPRODUCT(OFFSET(E11,0,(-1*LIFETIME_MF)+1,1,LIFETIME_MF),OFFSET('Shipments and Stock - MF'!F$14,0,(-1*LIFETIME_MF)+1,1,LIFETIME_MF))/\nSUM(OFFSET('Shipments and Stock - MF'!F$14,0,(-1*LIFETIME_MF)+1,1,LIFETIME_MF)))","v":268.50246913580247},{"$f":"IF(F$15-$D$15+2<=LIFETIME_MF,F11,\nSUMPRODUCT(OFFSET(F11,0,(-1*LIFETIME_MF)+1,1,LIFETIME_MF),OFFSET('Shipments and Stock - MF'!G$14,0,(-1*LIFETIME_MF)+1,1,LIFETIME_MF))/\nSUM(OFFSET('Shipments and Stock - MF'!G$14,0,(-1*LIFETIME_MF)+1,1,LIFETIME_MF)))","v":268.50246913580247},{"$f":"IF(G$15-$D$15+2<=LIFETIME_MF,G11,\nSUMPRODUCT(OFFSET(G11,0,(-1*LIFETIME_MF)+1,1,LIFETIME_MF),OFFSET('Shipments and Stock - MF'!H$14,0,(-1*LIFETIME_MF)+1,1,LIFETIME_MF))/\nSUM(OFFSET('Shipments and Stock - MF'!H$14,0,(-1*LIFETIME_MF)+1,1,LIFETIME_MF)))","v":268.50246913580247},{"$f":"IF(H$15-$D$15+2<=LIFETIME_MF,H11,\nSUMPRODUCT(OFFSET(H11,0,(-1*LIFETIME_MF)+1,1,LIFETIME_MF),OFFSET('Shipments and Stock - MF'!I$14,0,(-1*LIFETIME_MF)+1,1,LIFETIME_MF))/\nSUM(OFFSET('Shipments and Stock - MF'!I$14,0,(-1*LIFETIME_MF)+1,1,LIFETIME_MF)))","v":268.50246913580247},{"$f":"IF(I$15-$D$15+2<=LIFETIME_MF,I11,\nSUMPRODUCT(OFFSET(I11,0,(-1*LIFETIME_MF)+1,1,LIFETIME_MF),OFFSET('Shipments and Stock - MF'!J$14,0,(-1*LIFETIME_MF)+1,1,LIFETIME_MF))/\nSUM(OFFSET('Shipments and Stock - MF'!J$14,0,(-1*LIFETIME_MF)+1,1,LIFETIME_MF)))","v":268.50246913580247},{"$f":"IF(J$15-$D$15+2<=LIFETIME_MF,J11,\nSUMPRODUCT(OFFSET(J11,0,(-1*LIFETIME_MF)+1,1,LIFETIME_MF),OFFSET('Shipments and Stock - MF'!K$14,0,(-1*LIFETIME_MF)+1,1,LIFETIME_MF))/\nSUM(OFFSET('Shipments and Stock - MF'!K$14,0,(-1*LIFETIME_MF)+1,1,LIFETIME_MF)))","v":268.50246913580247},{"$f":"IF(K$15-$D$15+2<=LIFETIME_MF,K11,\nSUMPRODUCT(OFFSET(K11,0,(-1*LIFETIME_MF)+1,1,LIFETIME_MF),OFFSET('Shipments and Stock - MF'!L$14,0,(-1*LIFETIME_MF)+1,1,LIFETIME_MF))/\nSUM(OFFSET('Shipments and Stock - MF'!L$14,0,(-1*LIFETIME_MF)+1,1,LIFETIME_MF)))","v":268.50246913580247},{"$f":"IF(L$15-$D$15+2<=LIFETIME_MF,L11,\nSUMPRODUCT(OFFSET(L11,0,(-1*LIFETIME_MF)+1,1,LIFETIME_MF),OFFSET('Shipments and Stock - MF'!M$14,0,(-1*LIFETIME_MF)+1,1,LIFETIME_MF))/\nSUM(OFFSET('Shipments and Stock - MF'!M$14,0,(-1*LIFETIME_MF)+1,1,LIFETIME_MF)))","v":268.50246913580247},{"$f":"IF(M$15-$D$15+2<=LIFETIME_MF,M11,\nSUMPRODUCT(OFFSET(M11,0,(-1*LIFETIME_MF)+1,1,LIFETIME_MF),OFFSET('Shipments and Stock - MF'!N$14,0,(-1*LIFETIME_MF)+1,1,LIFETIME_MF))/\nSUM(OFFSET('Shipments and Stock - MF'!N$14,0,(-1*LIFETIME_MF)+1,1,LIFETIME_MF)))","v":268.50246913580247},{"$f":"IF(N$15-$D$15+2<=LIFETIME_MF,N11,\nSUMPRODUCT(OFFSET(N11,0,(-1*LIFETIME_MF)+1,1,LIFETIME_MF),OFFSET('Shipments and Stock - MF'!O$14,0,(-1*LIFETIME_MF)+1,1,LIFETIME_MF))/\nSUM(OFFSET('Shipments and Stock - MF'!O$14,0,(-1*LIFETIME_MF)+1,1,LIFETIME_MF)))","v":268.06707317073176},{"$f":"IF(O$15-$D$15+2<=LIFETIME_MF,O11,\nSUMPRODUCT(OFFSET(O11,0,(-1*LIFETIME_MF)+1,1,LIFETIME_MF),OFFSET('Shipments and Stock - MF'!P$14,0,(-1*LIFETIME_MF)+1,1,LIFETIME_MF))/\nSUM(OFFSET('Shipments and Stock - MF'!P$14,0,(-1*LIFETIME_MF)+1,1,LIFETIME_MF)))","v":267.9301204819277},{"$f":"IF(P$15-$D$15+2<=LIFETIME_MF,P11,\nSUMPRODUCT(OFFSET(P11,0,(-1*LIFETIME_MF)+1,1,LIFETIME_MF),OFFSET('Shipments and Stock - MF'!Q$14,0,(-1*LIFETIME_MF)+1,1,LIFETIME_MF))/\nSUM(OFFSET('Shipments and Stock - MF'!Q$14,0,(-1*LIFETIME_MF)+1,1,LIFETIME_MF)))","v":267.9301204819277},{"$f":"IF(Q$15-$D$15+2<=LIFETIME_MF,Q11,\nSUMPRODUCT(OFFSET(Q11,0,(-1*LIFETIME_MF)+1,1,LIFETIME_MF),OFFSET('Shipments and Stock - MF'!R$14,0,(-1*LIFETIME_MF)+1,1,LIFETIME_MF))/\nSUM(OFFSET('Shipments and Stock - MF'!R$14,0,(-1*LIFETIME_MF)+1,1,LIFETIME_MF)))","v":268.50602409638554},{"$f":"IF(R$15-$D$15+2<=LIFETIME_MF,R11,\nSUMPRODUCT(OFFSET(R11,0,(-1*LIFETIME_MF)+1,1,LIFETIME_MF),OFFSET('Shipments and Stock - MF'!S$14,0,(-1*LIFETIME_MF)+1,1,LIFETIME_MF))/\nSUM(OFFSET('Shipments and Stock - MF'!S$14,0,(-1*LIFETIME_MF)+1,1,LIFETIME_MF)))","v":268.50941176470587},{"$f":"IF(S$15-$D$15+2<=LIFETIME_MF,S11,\nSUMPRODUCT(OFFSET(S11,0,(-1*LIFETIME_MF)+1,1,LIFETIME_MF),OFFSET('Shipments and Stock - MF'!T$14,0,(-1*LIFETIME_MF)+1,1,LIFETIME_MF))/\nSUM(OFFSET('Shipments and Stock - MF'!T$14,0,(-1*LIFETIME_MF)+1,1,LIFETIME_MF)))","v":268.50941176470587},{"$f":"IF(T$15-$D$15+2<=LIFETIME_MF,T11,\nSUMPRODUCT(OFFSET(T11,0,(-1*LIFETIME_MF)+1,1,LIFETIME_MF),OFFSET('Shipments and Stock - MF'!U$14,0,(-1*LIFETIME_MF)+1,1,LIFETIME_MF))/\nSUM(OFFSET('Shipments and Stock - MF'!U$14,0,(-1*LIFETIME_MF)+1,1,LIFETIME_MF)))","v":268.64999999999998},{"$f":"IF(U$15-$D$15+2<=LIFETIME_MF,U11,\nSUMPRODUCT(OFFSET(U11,0,(-1*LIFETIME_MF)+1,1,LIFETIME_MF),OFFSET('Shipments and Stock - MF'!V$14,0,(-1*LIFETIME_MF)+1,1,LIFETIME_MF))/\nSUM(OFFSET('Shipments and Stock - MF'!V$14,0,(-1*LIFETIME_MF)+1,1,LIFETIME_MF)))","v":268.92790697674423},{"$f":"IF(V$15-$D$15+2<=LIFETIME_MF,V11,\nSUMPRODUCT(OFFSET(V11,0,(-1*LIFETIME_MF)+1,1,LIFETIME_MF),OFFSET('Shipments and Stock - MF'!W$14,0,(-1*LIFETIME_MF)+1,1,LIFETIME_MF))/\nSUM(OFFSET('Shipments and Stock - MF'!W$14,0,(-1*LIFETIME_MF)+1,1,LIFETIME_MF)))","v":268.47897499290229},{"$f":"IF(W$15-$D$15+2<=LIFETIME_MF,W11,\nSUMPRODUCT(OFFSET(W11,0,(-1*LIFETIME_MF)+1,1,LIFETIME_MF),OFFSET('Shipments and Stock - MF'!X$14,0,(-1*LIFETIME_MF)+1,1,LIFETIME_MF))/\nSUM(OFFSET('Shipments and Stock - MF'!X$14,0,(-1*LIFETIME_MF)+1,1,LIFETIME_MF)))","v":268.51079921521847},{"$f":"IF(X$15-$D$15+2<=LIFETIME_MF,X11,\nSUMPRODUCT(OFFSET(X11,0,(-1*LIFETIME_MF)+1,1,LIFETIME_MF),OFFSET('Shipments and Stock - MF'!Y$14,0,(-1*LIFETIME_MF)+1,1,LIFETIME_MF))/\nSUM(OFFSET('Shipments and Stock - MF'!Y$14,0,(-1*LIFETIME_MF)+1,1,LIFETIME_MF)))","v":268.54036635379458},{"$f":"IF(Y$15-$D$15+2<=LIFETIME_MF,Y11,\nSUMPRODUCT(OFFSET(Y11,0,(-1*LIFETIME_MF)+1,1,LIFETIME_MF),OFFSET('Shipments and Stock - MF'!Z$14,0,(-1*LIFETIME_MF)+1,1,LIFETIME_MF))/\nSUM(OFFSET('Shipments and Stock - MF'!Z$14,0,(-1*LIFETIME_MF)+1,1,LIFETIME_MF)))","v":268.57632673012347},{"$f":"IF(Z$15-$D$15+2<=LIFETIME_MF,Z11,\nSUMPRODUCT(OFFSET(Z11,0,(-1*LIFETIME_MF)+1,1,LIFETIME_MF),OFFSET('Shipments and Stock - MF'!AA$14,0,(-1*LIFETIME_MF)+1,1,LIFETIME_MF))/\nSUM(OFFSET('Shipments and Stock - MF'!AA$14,0,(-1*LIFETIME_MF)+1,1,LIFETIME_MF)))","v":268.63264002352798},{"$f":"IF(AA$15-$D$15+2<=LIFETIME_MF,AA11,\nSUMPRODUCT(OFFSET(AA11,0,(-1*LIFETIME_MF)+1,1,LIFETIME_MF),OFFSET('Shipments and Stock - MF'!AB$14,0,(-1*LIFETIME_MF)+1,1,LIFETIME_MF))/\nSUM(OFFSET('Shipments and Stock - MF'!AB$14,0,(-1*LIFETIME_MF)+1,1,LIFETIME_MF)))","v":268.69809514591782},{"$f":"IF(AB$15-$D$15+2<=LIFETIME_MF,AB11,\nSUMPRODUCT(OFFSET(AB11,0,(-1*LIFETIME_MF)+1,1,LIFETIME_MF),OFFSET('Shipments and Stock - MF'!AC$14,0,(-1*LIFETIME_MF)+1,1,LIFETIME_MF))/\nSUM(OFFSET('Shipments and Stock - MF'!AC$14,0,(-1*LIFETIME_MF)+1,1,LIFETIME_MF)))","v":268.767195626969},{"$f":"IF(AC$15-$D$15+2<=LIFETIME_MF,AC11,\nSUMPRODUCT(OFFSET(AC11,0,(-1*LIFETIME_MF)+1,1,LIFETIME_MF),OFFSET('Shipments and Stock - MF'!AD$14,0,(-1*LIFETIME_MF)+1,1,LIFETIME_MF))/\nSUM(OFFSET('Shipments and Stock - MF'!AD$14,0,(-1*LIFETIME_MF)+1,1,LIFETIME_MF)))","v":268.81306442043228},{"$f":"IF(AD$15-$D$15+2<=LIFETIME_MF,AD11,\nSUMPRODUCT(OFFSET(AD11,0,(-1*LIFETIME_MF)+1,1,LIFETIME_MF),OFFSET('Shipments and Stock - MF'!AE$14,0,(-1*LIFETIME_MF)+1,1,LIFETIME_MF))/\nSUM(OFFSET('Shipments and Stock - MF'!AE$14,0,(-1*LIFETIME_MF)+1,1,LIFETIME_MF)))","v":268.86497948832385},{"$f":"IF(AE$15-$D$15+2<=LIFETIME_MF,AE11,\nSUMPRODUCT(OFFSET(AE11,0,(-1*LIFETIME_MF)+1,1,LIFETIME_MF),OFFSET('Shipments and Stock - MF'!AF$14,0,(-1*LIFETIME_MF)+1,1,LIFETIME_MF))/\nSUM(OFFSET('Shipments and Stock - MF'!AF$14,0,(-1*LIFETIME_MF)+1,1,LIFETIME_MF)))","v":268.92160115508983},{"$f":"IF(AF$15-$D$15+2<=LIFETIME_MF,AF11,\nSUMPRODUCT(OFFSET(AF11,0,(-1*LIFETIME_MF)+1,1,LIFETIME_MF),OFFSET('Shipments and Stock - MF'!AG$14,0,(-1*LIFETIME_MF)+1,1,LIFETIME_MF))/\nSUM(OFFSET('Shipments and Stock - MF'!AG$14,0,(-1*LIFETIME_MF)+1,1,LIFETIME_MF)))","v":268.97288073572338},{"$f":"IF(AG$15-$D$15+2<=LIFETIME_MF,AG11,\nSUMPRODUCT(OFFSET(AG11,0,(-1*LIFETIME_MF)+1,1,LIFETIME_MF),OFFSET('Shipments and Stock - MF'!AH$14,0,(-1*LIFETIME_MF)+1,1,LIFETIME_MF))/\nSUM(OFFSET('Shipments and Stock - MF'!AH$14,0,(-1*LIFETIME_MF)+1,1,LIFETIME_MF)))","v":269.03302293660778},{"$f":"IF(AH$15-$D$15+2<=LIFETIME_MF,AH11,\nSUMPRODUCT(OFFSET(AH11,0,(-1*LIFETIME_MF)+1,1,LIFETIME_MF),OFFSET('Shipments and Stock - MF'!AI$14,0,(-1*LIFETIME_MF)+1,1,LIFETIME_MF))/\nSUM(OFFSET('Shipments and Stock - MF'!AI$14,0,(-1*LIFETIME_MF)+1,1,LIFETIME_MF)))","v":269.10300367189546},{"$f":"IF(AI$15-$D$15+2<=LIFETIME_MF,AI11,\nSUMPRODUCT(OFFSET(AI11,0,(-1*LIFETIME_MF)+1,1,LIFETIME_MF),OFFSET('Shipments and Stock - MF'!AJ$14,0,(-1*LIFETIME_MF)+1,1,LIFETIME_MF))/\nSUM(OFFSET('Shipments and Stock - MF'!AJ$14,0,(-1*LIFETIME_MF)+1,1,LIFETIME_MF)))","v":269.17199199784517},{"$f":"IF(AJ$15-$D$15+2<=LIFETIME_MF,AJ11,\nSUMPRODUCT(OFFSET(AJ11,0,(-1*LIFETIME_MF)+1,1,LIFETIME_MF),OFFSET('Shipments and Stock - MF'!AK$14,0,(-1*LIFETIME_MF)+1,1,LIFETIME_MF))/\nSUM(OFFSET('Shipments and Stock - MF'!AK$14,0,(-1*LIFETIME_MF)+1,1,LIFETIME_MF)))","v":269.22196840079926},{"$f":"IF(AK$15-$D$15+2<=LIFETIME_MF,AK11,\nSUMPRODUCT(OFFSET(AK11,0,(-1*LIFETIME_MF)+1,1,LIFETIME_MF),OFFSET('Shipments and Stock - MF'!AL$14,0,(-1*LIFETIME_MF)+1,1,LIFETIME_MF))/\nSUM(OFFSET('Shipments and Stock - MF'!AL$14,0,(-1*LIFETIME_MF)+1,1,LIFETIME_MF)))","v":269.27459425530213},{"$f":"IF(AL$15-$D$15+2<=LIFETIME_MF,AL11,\nSUMPRODUCT(OFFSET(AL11,0,(-1*LIFETIME_MF)+1,1,LIFETIME_MF),OFFSET('Shipments and Stock - MF'!AM$14,0,(-1*LIFETIME_MF)+1,1,LIFETIME_MF))/\nSUM(OFFSET('Shipments and Stock - MF'!AM$14,0,(-1*LIFETIME_MF)+1,1,LIFETIME_MF)))","v":269.3283587105613},{"$f":"IF(AM$15-$D$15+2<=LIFETIME_MF,AM11,\nSUMPRODUCT(OFFSET(AM11,0,(-1*LIFETIME_MF)+1,1,LIFETIME_MF),OFFSET('Shipments and Stock - MF'!AN$14,0,(-1*LIFETIME_MF)+1,1,LIFETIME_MF))/\nSUM(OFFSET('Shipments and Stock - MF'!AN$14,0,(-1*LIFETIME_MF)+1,1,LIFETIME_MF)))","v":269.37729629686515},{"$f":"IF(AN$15-$D$15+2<=LIFETIME_MF,AN11,\nSUMPRODUCT(OFFSET(AN11,0,(-1*LIFETIME_MF)+1,1,LIFETIME_MF),OFFSET('Shipments and Stock - MF'!AO$14,0,(-1*LIFETIME_MF)+1,1,LIFETIME_MF))/\nSUM(OFFSET('Shipments and Stock - MF'!AO$14,0,(-1*LIFETIME_MF)+1,1,LIFETIME_MF)))","v":269.41760114797154},{"$f":"IF(AO$15-$D$15+2<=LIFETIME_MF,AO11,\nSUMPRODUCT(OFFSET(AO11,0,(-1*LIFETIME_MF)+1,1,LIFETIME_MF),OFFSET('Shipments and Stock - MF'!AP$14,0,(-1*LIFETIME_MF)+1,1,LIFETIME_MF))/\nSUM(OFFSET('Shipments and Stock - MF'!AP$14,0,(-1*LIFETIME_MF)+1,1,LIFETIME_MF)))","v":269.45618316918325},{"$f":"IF(AP$15-$D$15+2<=LIFETIME_MF,AP11,\nSUMPRODUCT(OFFSET(AP11,0,(-1*LIFETIME_MF)+1,1,LIFETIME_MF),OFFSET('Shipments and Stock - MF'!AQ$14,0,(-1*LIFETIME_MF)+1,1,LIFETIME_MF))/\nSUM(OFFSET('Shipments and Stock - MF'!AQ$14,0,(-1*LIFETIME_MF)+1,1,LIFETIME_MF)))","v":269.49618499161073},{"$f":"IF(AQ$15-$D$15+2<=LIFETIME_MF,AQ11,\nSUMPRODUCT(OFFSET(AQ11,0,(-1*LIFETIME_MF)+1,1,LIFETIME_MF),OFFSET('Shipments and Stock - MF'!AR$14,0,(-1*LIFETIME_MF)+1,1,LIFETIME_MF))/\nSUM(OFFSET('Shipments and Stock - MF'!AR$14,0,(-1*LIFETIME_MF)+1,1,LIFETIME_MF)))","v":269.53482986360143},{"$f":"IF(AR$15-$D$15+2<=LIFETIME_MF,AR11,\nSUMPRODUCT(OFFSET(AR11,0,(-1*LIFETIME_MF)+1,1,LIFETIME_MF),OFFSET('Shipments and Stock - MF'!AS$14,0,(-1*LIFETIME_MF)+1,1,LIFETIME_MF))/\nSUM(OFFSET('Shipments and Stock - MF'!AS$14,0,(-1*LIFETIME_MF)+1,1,LIFETIME_MF)))","v":269.56901767680802},{"$f":"IF(AS$15-$D$15+2<=LIFETIME_MF,AS11,\nSUMPRODUCT(OFFSET(AS11,0,(-1*LIFETIME_MF)+1,1,LIFETIME_MF),OFFSET('Shipments and Stock - MF'!AT$14,0,(-1*LIFETIME_MF)+1,1,LIFETIME_MF))/\nSUM(OFFSET('Shipments and Stock - MF'!AT$14,0,(-1*LIFETIME_MF)+1,1,LIFETIME_MF)))","v":269.59453076665665},{"$f":"IF(AT$15-$D$15+2<=LIFETIME_MF,AT11,\nSUMPRODUCT(OFFSET(AT11,0,(-1*LIFETIME_MF)+1,1,LIFETIME_MF),OFFSET('Shipments and Stock - MF'!AU$14,0,(-1*LIFETIME_MF)+1,1,LIFETIME_MF))/\nSUM(OFFSET('Shipments and Stock - MF'!AU$14,0,(-1*LIFETIME_MF)+1,1,LIFETIME_MF)))","v":269.62567423856518},{"$f":"IF(AU$15-$D$15+2<=LIFETIME_MF,AU11,\nSUMPRODUCT(OFFSET(AU11,0,(-1*LIFETIME_MF)+1,1,LIFETIME_MF),OFFSET('Shipments and Stock - MF'!AV$14,0,(-1*LIFETIME_MF)+1,1,LIFETIME_MF))/\nSUM(OFFSET('Shipments and Stock - MF'!AV$14,0,(-1*LIFETIME_MF)+1,1,LIFETIME_MF)))","v":269.65100701093803},{"$f":"IF(AV$15-$D$15+2<=LIFETIME_MF,AV11,\nSUMPRODUCT(OFFSET(AV11,0,(-1*LIFETIME_MF)+1,1,LIFETIME_MF),OFFSET('Shipments and Stock - MF'!AW$14,0,(-1*LIFETIME_MF)+1,1,LIFETIME_MF))/\nSUM(OFFSET('Shipments and Stock - MF'!AW$14,0,(-1*LIFETIME_MF)+1,1,LIFETIME_MF)))","v":269.69973902631989},{"$f":"IF(AW$15-$D$15+2<=LIFETIME_MF,AW11,\nSUMPRODUCT(OFFSET(AW11,0,(-1*LIFETIME_MF)+1,1,LIFETIME_MF),OFFSET('Shipments and Stock - MF'!AX$14,0,(-1*LIFETIME_MF)+1,1,LIFETIME_MF))/\nSUM(OFFSET('Shipments and Stock - MF'!AX$14,0,(-1*LIFETIME_MF)+1,1,LIFETIME_MF)))","v":269.75072969135294},{"$f":"IF(AX$15-$D$15+2<=LIFETIME_MF,AX11,\nSUMPRODUCT(OFFSET(AX11,0,(-1*LIFETIME_MF)+1,1,LIFETIME_MF),OFFSET('Shipments and Stock - MF'!AY$14,0,(-1*LIFETIME_MF)+1,1,LIFETIME_MF))/\nSUM(OFFSET('Shipments and Stock - MF'!AY$14,0,(-1*LIFETIME_MF)+1,1,LIFETIME_MF)))","v":269.80131738557168},{"$f":"IF(AY$15-$D$15+2<=LIFETIME_MF,AY11,\nSUMPRODUCT(OFFSET(AY11,0,(-1*LIFETIME_MF)+1,1,LIFETIME_MF),OFFSET('Shipments and Stock - MF'!AZ$14,0,(-1*LIFETIME_MF)+1,1,LIFETIME_MF))/\nSUM(OFFSET('Shipments and Stock - MF'!AZ$14,0,(-1*LIFETIME_MF)+1,1,LIFETIME_MF)))","v":269.84288938188934},{"$f":"IF(AZ$15-$D$15+2<=LIFETIME_MF,AZ11,\nSUMPRODUCT(OFFSET(AZ11,0,(-1*LIFETIME_MF)+1,1,LIFETIME_MF),OFFSET('Shipments and Stock - MF'!BA$14,0,(-1*LIFETIME_MF)+1,1,LIFETIME_MF))/\nSUM(OFFSET('Shipments and Stock - MF'!BA$14,0,(-1*LIFETIME_MF)+1,1,LIFETIME_MF)))","v":269.87624834803967},{"$f":"IF(BA$15-$D$15+2<=LIFETIME_MF,BA11,\nSUMPRODUCT(OFFSET(BA11,0,(-1*LIFETIME_MF)+1,1,LIFETIME_MF),OFFSET('Shipments and Stock - MF'!BB$14,0,(-1*LIFETIME_MF)+1,1,LIFETIME_MF))/\nSUM(OFFSET('Shipments and Stock - MF'!BB$14,0,(-1*LIFETIME_MF)+1,1,LIFETIME_MF)))","v":269.91180441954435},{"$f":"IF(BB$15-$D$15+2<=LIFETIME_MF,BB11,\nSUMPRODUCT(OFFSET(BB11,0,(-1*LIFETIME_MF)+1,1,LIFETIME_MF),OFFSET('Shipments and Stock - MF'!BC$14,0,(-1*LIFETIME_MF)+1,1,LIFETIME_MF))/\nSUM(OFFSET('Shipments and Stock - MF'!BC$14,0,(-1*LIFETIME_MF)+1,1,LIFETIME_MF)))","v":269.95043619101034},{"$f":"IF(BC$15-$D$15+2<=LIFETIME_MF,BC11,\nSUMPRODUCT(OFFSET(BC11,0,(-1*LIFETIME_MF)+1,1,LIFETIME_MF),OFFSET('Shipments and Stock - MF'!BD$14,0,(-1*LIFETIME_MF)+1,1,LIFETIME_MF))/\nSUM(OFFSET('Shipments and Stock - MF'!BD$14,0,(-1*LIFETIME_MF)+1,1,LIFETIME_MF)))","v":269.9909818057007},{"$f":"IF(BD$15-$D$15+2<=LIFETIME_MF,BD11,\nSUMPRODUCT(OFFSET(BD11,0,(-1*LIFETIME_MF)+1,1,LIFETIME_MF),OFFSET('Shipments and Stock - MF'!BE$14,0,(-1*LIFETIME_MF)+1,1,LIFETIME_MF))/\nSUM(OFFSET('Shipments and Stock - MF'!BE$14,0,(-1*LIFETIME_MF)+1,1,LIFETIME_MF)))","v":270.03249073520925},{"$f":"IF(BE$15-$D$15+2<=LIFETIME_MF,BE11,\nSUMPRODUCT(OFFSET(BE11,0,(-1*LIFETIME_MF)+1,1,LIFETIME_MF),OFFSET('Shipments and Stock - MF'!BF$14,0,(-1*LIFETIME_MF)+1,1,LIFETIME_MF))/\nSUM(OFFSET('Shipments and Stock - MF'!BF$14,0,(-1*LIFETIME_MF)+1,1,LIFETIME_MF)))","v":270.07416455539055}]
[null,null,"POST-Case UEC",{"$f":"IF(D$15-$D$15+2<=LIFETIME_MF,D12,\nSUMPRODUCT(OFFSET(D12,0,(-1*LIFETIME_MF)+1,1,LIFETIME_MF),OFFSET('Shipments and Stock - MF'!E$14,0,(-1*LIFETIME_MF)+1,1,LIFETIME_MF))/\nSUM(OFFSET('Shipments and Stock - MF'!E$14,0,(-1*LIFETIME_MF)+1,1,LIFETIME_MF)))","v":268.50246913580247},{"$f":"IF(E$15-$D$15+2<=LIFETIME_MF,E12,\nSUMPRODUCT(OFFSET(E12,0,(-1*LIFETIME_MF)+1,1,LIFETIME_MF),OFFSET('Shipments and Stock - MF'!F$14,0,(-1*LIFETIME_MF)+1,1,LIFETIME_MF))/\nSUM(OFFSET('Shipments and Stock - MF'!F$14,0,(-1*LIFETIME_MF)+1,1,LIFETIME_MF)))","v":268.50246913580247},{"$f":"IF(F$15-$D$15+2<=LIFETIME_MF,F12,\nSUMPRODUCT(OFFSET(F12,0,(-1*LIFETIME_MF)+1,1,LIFETIME_MF),OFFSET('Shipments and Stock - MF'!G$14,0,(-1*LIFETIME_MF)+1,1,LIFETIME_MF))/\nSUM(OFFSET('Shipments and Stock - MF'!G$14,0,(-1*LIFETIME_MF)+1,1,LIFETIME_MF)))","v":268.50246913580247},{"$f":"IF(G$15-$D$15+2<=LIFETIME_MF,G12,\nSUMPRODUCT(OFFSET(G12,0,(-1*LIFETIME_MF)+1,1,LIFETIME_MF),OFFSET('Shipments and Stock - MF'!H$14,0,(-1*LIFETIME_MF)+1,1,LIFETIME_MF))/\nSUM(OFFSET('Shipments and Stock - MF'!H$14,0,(-1*LIFETIME_MF)+1,1,LIFETIME_MF)))","v":268.50246913580247},{"$f":"IF(H$15-$D$15+2<=LIFETIME_MF,H12,\nSUMPRODUCT(OFFSET(H12,0,(-1*LIFETIME_MF)+1,1,LIFETIME_MF),OFFSET('Shipments and Stock - MF'!I$14,0,(-1*LIFETIME_MF)+1,1,LIFETIME_MF))/\nSUM(OFFSET('Shipments and Stock - MF'!I$14,0,(-1*LIFETIME_MF)+1,1,LIFETIME_MF)))","v":268.50246913580247},{"$f":"IF(I$15-$D$15+2<=LIFETIME_MF,I12,\nSUMPRODUCT(OFFSET(I12,0,(-1*LIFETIME_MF)+1,1,LIFETIME_MF),OFFSET('Shipments and Stock - MF'!J$14,0,(-1*LIFETIME_MF)+1,1,LIFETIME_MF))/\nSUM(OFFSET('Shipments and Stock - MF'!J$14,0,(-1*LIFETIME_MF)+1,1,LIFETIME_MF)))","v":268.50246913580247},{"$f":"IF(J$15-$D$15+2<=LIFETIME_MF,J12,\nSUMPRODUCT(OFFSET(J12,0,(-1*LIFETIME_MF)+1,1,LIFETIME_MF),OFFSET('Shipments and Stock - MF'!K$14,0,(-1*LIFETIME_MF)+1,1,LIFETIME_MF))/\nSUM(OFFSET('Shipments and Stock - MF'!K$14,0,(-1*LIFETIME_MF)+1,1,LIFETIME_MF)))","v":268.50246913580247},{"$f":"IF(K$15-$D$15+2<=LIFETIME_MF,K12,\nSUMPRODUCT(OFFSET(K12,0,(-1*LIFETIME_MF)+1,1,LIFETIME_MF),OFFSET('Shipments and Stock - MF'!L$14,0,(-1*LIFETIME_MF)+1,1,LIFETIME_MF))/\nSUM(OFFSET('Shipments and Stock - MF'!L$14,0,(-1*LIFETIME_MF)+1,1,LIFETIME_MF)))","v":268.50246913580247},{"$f":"IF(L$15-$D$15+2<=LIFETIME_MF,L12,\nSUMPRODUCT(OFFSET(L12,0,(-1*LIFETIME_MF)+1,1,LIFETIME_MF),OFFSET('Shipments and Stock - MF'!M$14,0,(-1*LIFETIME_MF)+1,1,LIFETIME_MF))/\nSUM(OFFSET('Shipments and Stock - MF'!M$14,0,(-1*LIFETIME_MF)+1,1,LIFETIME_MF)))","v":268.50246913580247},{"$f":"IF(M$15-$D$15+2<=LIFETIME_MF,M12,\nSUMPRODUCT(OFFSET(M12,0,(-1*LIFETIME_MF)+1,1,LIFETIME_MF),OFFSET('Shipments and Stock - MF'!N$14,0,(-1*LIFETIME_MF)+1,1,LIFETIME_MF))/\nSUM(OFFSET('Shipments and Stock - MF'!N$14,0,(-1*LIFETIME_MF)+1,1,LIFETIME_MF)))","v":268.50246913580247},{"$f":"IF(N$15-$D$15+2<=LIFETIME_MF,N12,\nSUMPRODUCT(OFFSET(N12,0,(-1*LIFETIME_MF)+1,1,LIFETIME_MF),OFFSET('Shipments and Stock - MF'!O$14,0,(-1*LIFETIME_MF)+1,1,LIFETIME_MF))/\nSUM(OFFSET('Shipments and Stock - MF'!O$14,0,(-1*LIFETIME_MF)+1,1,LIFETIME_MF)))","v":268.06707317073176},{"$f":"IF(O$15-$D$15+2<=LIFETIME_MF,O12,\nSUMPRODUCT(OFFSET(O12,0,(-1*LIFETIME_MF)+1,1,LIFETIME_MF),OFFSET('Shipments and Stock - MF'!P$14,0,(-1*LIFETIME_MF)+1,1,LIFETIME_MF))/\nSUM(OFFSET('Shipments and Stock - MF'!P$14,0,(-1*LIFETIME_MF)+1,1,LIFETIME_MF)))","v":267.9301204819277},{"$f":"IF(P$15-$D$15+2<=LIFETIME_MF,P12,\nSUMPRODUCT(OFFSET(P12,0,(-1*LIFETIME_MF)+1,1,LIFETIME_MF),OFFSET('Shipments and Stock - MF'!Q$14,0,(-1*LIFETIME_MF)+1,1,LIFETIME_MF))/\nSUM(OFFSET('Shipments and Stock - MF'!Q$14,0,(-1*LIFETIME_MF)+1,1,LIFETIME_MF)))","v":267.9301204819277},{"$f":"IF(Q$15-$D$15+2<=LIFETIME_MF,Q12,\nSUMPRODUCT(OFFSET(Q12,0,(-1*LIFETIME_MF)+1,1,LIFETIME_MF),OFFSET('Shipments and Stock - MF'!R$14,0,(-1*LIFETIME_MF)+1,1,LIFETIME_MF))/\nSUM(OFFSET('Shipments and Stock - MF'!R$14,0,(-1*LIFETIME_MF)+1,1,LIFETIME_MF)))","v":268.50602409638554},{"$f":"IF(R$15-$D$15+2<=LIFETIME_MF,R12,\nSUMPRODUCT(OFFSET(R12,0,(-1*LIFETIME_MF)+1,1,LIFETIME_MF),OFFSET('Shipments and Stock - MF'!S$14,0,(-1*LIFETIME_MF)+1,1,LIFETIME_MF))/\nSUM(OFFSET('Shipments and Stock - MF'!S$14,0,(-1*LIFETIME_MF)+1,1,LIFETIME_MF)))","v":268.50941176470587},{"$f":"IF(S$15-$D$15+2<=LIFETIME_MF,S12,\nSUMPRODUCT(OFFSET(S12,0,(-1*LIFETIME_MF)+1,1,LIFETIME_MF),OFFSET('Shipments and Stock - MF'!T$14,0,(-1*LIFETIME_MF)+1,1,LIFETIME_MF))/\nSUM(OFFSET('Shipments and Stock - MF'!T$14,0,(-1*LIFETIME_MF)+1,1,LIFETIME_MF)))","v":268.50941176470587},{"$f":"IF(T$15-$D$15+2<=LIFETIME_MF,T12,\nSUMPRODUCT(OFFSET(T12,0,(-1*LIFETIME_MF)+1,1,LIFETIME_MF),OFFSET('Shipments and Stock - MF'!U$14,0,(-1*LIFETIME_MF)+1,1,LIFETIME_MF))/\nSUM(OFFSET('Shipments and Stock - MF'!U$14,0,(-1*LIFETIME_MF)+1,1,LIFETIME_MF)))","v":268.64999999999998},{"$f":"IF(U$15-$D$15+2<=LIFETIME_MF,U12,\nSUMPRODUCT(OFFSET(U12,0,(-1*LIFETIME_MF)+1,1,LIFETIME_MF),OFFSET('Shipments and Stock - MF'!V$14,0,(-1*LIFETIME_MF)+1,1,LIFETIME_MF))/\nSUM(OFFSET('Shipments and Stock - MF'!V$14,0,(-1*LIFETIME_MF)+1,1,LIFETIME_MF)))","v":268.92790697674423},{"$f":"IF(V$15-$D$15+2<=LIFETIME_MF,V12,\nSUMPRODUCT(OFFSET(V12,0,(-1*LIFETIME_MF)+1,1,LIFETIME_MF),OFFSET('Shipments and Stock - MF'!W$14,0,(-1*LIFETIME_MF)+1,1,LIFETIME_MF))/\nSUM(OFFSET('Shipments and Stock - MF'!W$14,0,(-1*LIFETIME_MF)+1,1,LIFETIME_MF)))","v":268.47897499290229},{"$f":"IF(W$15-$D$15+2<=LIFETIME_MF,W12,\nSUMPRODUCT(OFFSET(W12,0,(-1*LIFETIME_MF)+1,1,LIFETIME_MF),OFFSET('Shipments and Stock - MF'!X$14,0,(-1*LIFETIME_MF)+1,1,LIFETIME_MF))/\nSUM(OFFSET('Shipments and Stock - MF'!X$14,0,(-1*LIFETIME_MF)+1,1,LIFETIME_MF)))","v":268.51079921521847},{"$f":"IF(X$15-$D$15+2<=LIFETIME_MF,X12,\nSUMPRODUCT(OFFSET(X12,0,(-1*LIFETIME_MF)+1,1,LIFETIME_MF),OFFSET('Shipments and Stock - MF'!Y$14,0,(-1*LIFETIME_MF)+1,1,LIFETIME_MF))/\nSUM(OFFSET('Shipments and Stock - MF'!Y$14,0,(-1*LIFETIME_MF)+1,1,LIFETIME_MF)))","v":268.54036635379458},{"$f":"IF(Y$15-$D$15+2<=LIFETIME_MF,Y12,\nSUMPRODUCT(OFFSET(Y12,0,(-1*LIFETIME_MF)+1,1,LIFETIME_MF),OFFSET('Shipments and Stock - MF'!Z$14,0,(-1*LIFETIME_MF)+1,1,LIFETIME_MF))/\nSUM(OFFSET('Shipments and Stock - MF'!Z$14,0,(-1*LIFETIME_MF)+1,1,LIFETIME_MF)))","v":268.57632673012347},{"$f":"IF(Z$15-$D$15+2<=LIFETIME_MF,Z12,\nSUMPRODUCT(OFFSET(Z12,0,(-1*LIFETIME_MF)+1,1,LIFETIME_MF),OFFSET('Shipments and Stock - MF'!AA$14,0,(-1*LIFETIME_MF)+1,1,LIFETIME_MF))/\nSUM(OFFSET('Shipments and Stock - MF'!AA$14,0,(-1*LIFETIME_MF)+1,1,LIFETIME_MF)))","v":268.63264002352798},{"$f":"IF(AA$15-$D$15+2<=LIFETIME_MF,AA12,\nSUMPRODUCT(OFFSET(AA12,0,(-1*LIFETIME_MF)+1,1,LIFETIME_MF),OFFSET('Shipments and Stock - MF'!AB$14,0,(-1*LIFETIME_MF)+1,1,LIFETIME_MF))/\nSUM(OFFSET('Shipments and Stock - MF'!AB$14,0,(-1*LIFETIME_MF)+1,1,LIFETIME_MF)))","v":268.69809514591782},{"$f":"IF(AB$15-$D$15+2<=LIFETIME_MF,AB12,\nSUMPRODUCT(OFFSET(AB12,0,(-1*LIFETIME_MF)+1,1,LIFETIME_MF),OFFSET('Shipments and Stock - MF'!AC$14,0,(-1*LIFETIME_MF)+1,1,LIFETIME_MF))/\nSUM(OFFSET('Shipments and Stock - MF'!AC$14,0,(-1*LIFETIME_MF)+1,1,LIFETIME_MF)))","v":268.767195626969},{"$f":"IF(AC$15-$D$15+2<=LIFETIME_MF,AC12,\nSUMPRODUCT(OFFSET(AC12,0,(-1*LIFETIME_MF)+1,1,LIFETIME_MF),OFFSET('Shipments and Stock - MF'!AD$14,0,(-1*LIFETIME_MF)+1,1,LIFETIME_MF))/\nSUM(OFFSET('Shipments and Stock - MF'!AD$14,0,(-1*LIFETIME_MF)+1,1,LIFETIME_MF)))","v":268.81306442043228},{"$f":"IF(AD$15-$D$15+2<=LIFETIME_MF,AD12,\nSUMPRODUCT(OFFSET(AD12,0,(-1*LIFETIME_MF)+1,1,LIFETIME_MF),OFFSET('Shipments and Stock - MF'!AE$14,0,(-1*LIFETIME_MF)+1,1,LIFETIME_MF))/\nSUM(OFFSET('Shipments and Stock - MF'!AE$14,0,(-1*LIFETIME_MF)+1,1,LIFETIME_MF)))","v":268.86497948832385},{"$f":"IF(AE$15-$D$15+2<=LIFETIME_MF,AE12,\nSUMPRODUCT(OFFSET(AE12,0,(-1*LIFETIME_MF)+1,1,LIFETIME_MF),OFFSET('Shipments and Stock - MF'!AF$14,0,(-1*LIFETIME_MF)+1,1,LIFETIME_MF))/\nSUM(OFFSET('Shipments and Stock - MF'!AF$14,0,(-1*LIFETIME_MF)+1,1,LIFETIME_MF)))","v":268.92160115508983},{"$f":"IF(AF$15-$D$15+2<=LIFETIME_MF,AF12,\nSUMPRODUCT(OFFSET(AF12,0,(-1*LIFETIME_MF)+1,1,LIFETIME_MF),OFFSET('Shipments and Stock - MF'!AG$14,0,(-1*LIFETIME_MF)+1,1,LIFETIME_MF))/\nSUM(OFFSET('Shipments and Stock - MF'!AG$14,0,(-1*LIFETIME_MF)+1,1,LIFETIME_MF)))","v":268.97288073572338},{"$f":"IF(AG$15-$D$15+2<=LIFETIME_MF,AG12,\nSUMPRODUCT(OFFSET(AG12,0,(-1*LIFETIME_MF)+1,1,LIFETIME_MF),OFFSET('Shipments and Stock - MF'!AH$14,0,(-1*LIFETIME_MF)+1,1,LIFETIME_MF))/\nSUM(OFFSET('Shipments and Stock - MF'!AH$14,0,(-1*LIFETIME_MF)+1,1,LIFETIME_MF)))","v":269.03302293660778},{"$f":"IF(AH$15-$D$15+2<=LIFETIME_MF,AH12,\nSUMPRODUCT(OFFSET(AH12,0,(-1*LIFETIME_MF)+1,1,LIFETIME_MF),OFFSET('Shipments and Stock - MF'!AI$14,0,(-1*LIFETIME_MF)+1,1,LIFETIME_MF))/\nSUM(OFFSET('Shipments and Stock - MF'!AI$14,0,(-1*LIFETIME_MF)+1,1,LIFETIME_MF)))","v":269.10300367189546},{"$f":"IF(AI$15-$D$15+2<=LIFETIME_MF,AI12,\nSUMPRODUCT(OFFSET(AI12,0,(-1*LIFETIME_MF)+1,1,LIFETIME_MF),OFFSET('Shipments and Stock - MF'!AJ$14,0,(-1*LIFETIME_MF)+1,1,LIFETIME_MF))/\nSUM(OFFSET('Shipments and Stock - MF'!AJ$14,0,(-1*LIFETIME_MF)+1,1,LIFETIME_MF)))","v":269.17199199784517},{"$f":"IF(AJ$15-$D$15+2<=LIFETIME_MF,AJ12,\nSUMPRODUCT(OFFSET(AJ12,0,(-1*LIFETIME_MF)+1,1,LIFETIME_MF),OFFSET('Shipments and Stock - MF'!AK$14,0,(-1*LIFETIME_MF)+1,1,LIFETIME_MF))/\nSUM(OFFSET('Shipments and Stock - MF'!AK$14,0,(-1*LIFETIME_MF)+1,1,LIFETIME_MF)))","v":269.22196840079926},{"$f":"IF(AK$15-$D$15+2<=LIFETIME_MF,AK12,\nSUMPRODUCT(OFFSET(AK12,0,(-1*LIFETIME_MF)+1,1,LIFETIME_MF),OFFSET('Shipments and Stock - MF'!AL$14,0,(-1*LIFETIME_MF)+1,1,LIFETIME_MF))/\nSUM(OFFSET('Shipments and Stock - MF'!AL$14,0,(-1*LIFETIME_MF)+1,1,LIFETIME_MF)))","v":269.27459425530213},{"$f":"IF(AL$15-$D$15+2<=LIFETIME_MF,AL12,\nSUMPRODUCT(OFFSET(AL12,0,(-1*LIFETIME_MF)+1,1,LIFETIME_MF),OFFSET('Shipments and Stock - MF'!AM$14,0,(-1*LIFETIME_MF)+1,1,LIFETIME_MF))/\nSUM(OFFSET('Shipments and Stock - MF'!AM$14,0,(-1*LIFETIME_MF)+1,1,LIFETIME_MF)))","v":269.3283587105613},{"$f":"IF(AM$15-$D$15+2<=LIFETIME_MF,AM12,\nSUMPRODUCT(OFFSET(AM12,0,(-1*LIFETIME_MF)+1,1,LIFETIME_MF),OFFSET('Shipments and Stock - MF'!AN$14,0,(-1*LIFETIME_MF)+1,1,LIFETIME_MF))/\nSUM(OFFSET('Shipments and Stock - MF'!AN$14,0,(-1*LIFETIME_MF)+1,1,LIFETIME_MF)))","v":269.37729629686515},{"$f":"IF(AN$15-$D$15+2<=LIFETIME_MF,AN12,\nSUMPRODUCT(OFFSET(AN12,0,(-1*LIFETIME_MF)+1,1,LIFETIME_MF),OFFSET('Shipments and Stock - MF'!AO$14,0,(-1*LIFETIME_MF)+1,1,LIFETIME_MF))/\nSUM(OFFSET('Shipments and Stock - MF'!AO$14,0,(-1*LIFETIME_MF)+1,1,LIFETIME_MF)))","v":269.41760114797154},{"$f":"IF(AO$15-$D$15+2<=LIFETIME_MF,AO12,\nSUMPRODUCT(OFFSET(AO12,0,(-1*LIFETIME_MF)+1,1,LIFETIME_MF),OFFSET('Shipments and Stock - MF'!AP$14,0,(-1*LIFETIME_MF)+1,1,LIFETIME_MF))/\nSUM(OFFSET('Shipments and Stock - MF'!AP$14,0,(-1*LIFETIME_MF)+1,1,LIFETIME_MF)))","v":269.45618316918325},{"$f":"IF(AP$15-$D$15+2<=LIFETIME_MF,AP12,\nSUMPRODUCT(OFFSET(AP12,0,(-1*LIFETIME_MF)+1,1,LIFETIME_MF),OFFSET('Shipments and Stock - MF'!AQ$14,0,(-1*LIFETIME_MF)+1,1,LIFETIME_MF))/\nSUM(OFFSET('Shipments and Stock - MF'!AQ$14,0,(-1*LIFETIME_MF)+1,1,LIFETIME_MF)))","v":269.18752584987863},{"$f":"IF(AQ$15-$D$15+2<=LIFETIME_MF,AQ12,\nSUMPRODUCT(OFFSET(AQ12,0,(-1*LIFETIME_MF)+1,1,LIFETIME_MF),OFFSET('Shipments and Stock - MF'!AR$14,0,(-1*LIFETIME_MF)+1,1,LIFETIME_MF))/\nSUM(OFFSET('Shipments and Stock - MF'!AR$14,0,(-1*LIFETIME_MF)+1,1,LIFETIME_MF)))","v":268.9425718092437},{"$f":"IF(AR$15-$D$15+2<=LIFETIME_MF,AR12,\nSUMPRODUCT(OFFSET(AR12,0,(-1*LIFETIME_MF)+1,1,LIFETIME_MF),OFFSET('Shipments and Stock - MF'!AS$14,0,(-1*LIFETIME_MF)+1,1,LIFETIME_MF))/\nSUM(OFFSET('Shipments and Stock - MF'!AS$14,0,(-1*LIFETIME_MF)+1,1,LIFETIME_MF)))","v":268.70593171566173},{"$f":"IF(AS$15-$D$15+2<=LIFETIME_MF,AS12,\nSUMPRODUCT(OFFSET(AS12,0,(-1*LIFETIME_MF)+1,1,LIFETIME_MF),OFFSET('Shipments and Stock - MF'!AT$14,0,(-1*LIFETIME_MF)+1,1,LIFETIME_MF))/\nSUM(OFFSET('Shipments and Stock - MF'!AT$14,0,(-1*LIFETIME_MF)+1,1,LIFETIME_MF)))","v":268.44884043111966},{"$f":"IF(AT$15-$D$15+2<=LIFETIME_MF,AT12,\nSUMPRODUCT(OFFSET(AT12,0,(-1*LIFETIME_MF)+1,1,LIFETIME_MF),OFFSET('Shipments and Stock - MF'!AU$14,0,(-1*LIFETIME_MF)+1,1,LIFETIME_MF))/\nSUM(OFFSET('Shipments and Stock - MF'!AU$14,0,(-1*LIFETIME_MF)+1,1,LIFETIME_MF)))","v":268.16930020793745},{"$f":"IF(AU$15-$D$15+2<=LIFETIME_MF,AU12,\nSUMPRODUCT(OFFSET(AU12,0,(-1*LIFETIME_MF)+1,1,LIFETIME_MF),OFFSET('Shipments and Stock - MF'!AV$14,0,(-1*LIFETIME_MF)+1,1,LIFETIME_MF))/\nSUM(OFFSET('Shipments and Stock - MF'!AV$14,0,(-1*LIFETIME_MF)+1,1,LIFETIME_MF)))","v":267.90830006311484},{"$f":"IF(AV$15-$D$15+2<=LIFETIME_MF,AV12,\nSUMPRODUCT(OFFSET(AV12,0,(-1*LIFETIME_MF)+1,1,LIFETIME_MF),OFFSET('Shipments and Stock - MF'!AW$14,0,(-1*LIFETIME_MF)+1,1,LIFETIME_MF))/\nSUM(OFFSET('Shipments and Stock - MF'!AW$14,0,(-1*LIFETIME_MF)+1,1,LIFETIME_MF)))","v":267.66660325282311},{"$f":"IF(AW$15-$D$15+2<=LIFETIME_MF,AW12,\nSUMPRODUCT(OFFSET(AW12,0,(-1*LIFETIME_MF)+1,1,LIFETIME_MF),OFFSET('Shipments and Stock - MF'!AX$14,0,(-1*LIFETIME_MF)+1,1,LIFETIME_MF))/\nSUM(OFFSET('Shipments and Stock - MF'!AX$14,0,(-1*LIFETIME_MF)+1,1,LIFETIME_MF)))","v":267.42001194567507},{"$f":"IF(AX$15-$D$15+2<=LIFETIME_MF,AX12,\nSUMPRODUCT(OFFSET(AX12,0,(-1*LIFETIME_MF)+1,1,LIFETIME_MF),OFFSET('Shipments and Stock - MF'!AY$14,0,(-1*LIFETIME_MF)+1,1,LIFETIME_MF))/\nSUM(OFFSET('Shipments and Stock - MF'!AY$14,0,(-1*LIFETIME_MF)+1,1,LIFETIME_MF)))","v":267.18077137750231},{"$f":"IF(AY$15-$D$15+2<=LIFETIME_MF,AY12,\nSUMPRODUCT(OFFSET(AY12,0,(-1*LIFETIME_MF)+1,1,LIFETIME_MF),OFFSET('Shipments and Stock - MF'!AZ$14,0,(-1*LIFETIME_MF)+1,1,LIFETIME_MF))/\nSUM(OFFSET('Shipments and Stock - MF'!AZ$14,0,(-1*LIFETIME_MF)+1,1,LIFETIME_MF)))","v":266.98891290933364},{"$f":"IF(AZ$15-$D$15+2<=LIFETIME_MF,AZ12,\nSUMPRODUCT(OFFSET(AZ12,0,(-1*LIFETIME_MF)+1,1,LIFETIME_MF),OFFSET('Shipments and Stock - MF'!BA$14,0,(-1*LIFETIME_MF)+1,1,LIFETIME_MF))/\nSUM(OFFSET('Shipments and Stock - MF'!BA$14,0,(-1*LIFETIME_MF)+1,1,LIFETIME_MF)))","v":266.84005224262779},{"$f":"IF(BA$15-$D$15+2<=LIFETIME_MF,BA12,\nSUMPRODUCT(OFFSET(BA12,0,(-1*LIFETIME_MF)+1,1,LIFETIME_MF),OFFSET('Shipments and Stock - MF'!BB$14,0,(-1*LIFETIME_MF)+1,1,LIFETIME_MF))/\nSUM(OFFSET('Shipments and Stock - MF'!BB$14,0,(-1*LIFETIME_MF)+1,1,LIFETIME_MF)))","v":266.68530432513757},{"$f":"IF(BB$15-$D$15+2<=LIFETIME_MF,BB12,\nSUMPRODUCT(OFFSET(BB12,0,(-1*LIFETIME_MF)+1,1,LIFETIME_MF),OFFSET('Shipments and Stock - MF'!BC$14,0,(-1*LIFETIME_MF)+1,1,LIFETIME_MF))/\nSUM(OFFSET('Shipments and Stock - MF'!BC$14,0,(-1*LIFETIME_MF)+1,1,LIFETIME_MF)))","v":266.52075286055378},{"$f":"IF(BC$15-$D$15+2<=LIFETIME_MF,BC12,\nSUMPRODUCT(OFFSET(BC12,0,(-1*LIFETIME_MF)+1,1,LIFETIME_MF),OFFSET('Shipments and Stock - MF'!BD$14,0,(-1*LIFETIME_MF)+1,1,LIFETIME_MF))/\nSUM(OFFSET('Shipments and Stock - MF'!BD$14,0,(-1*LIFETIME_MF)+1,1,LIFETIME_MF)))","v":266.35176710029157},{"$f":"IF(BD$15-$D$15+2<=LIFETIME_MF,BD12,\nSUMPRODUCT(OFFSET(BD12,0,(-1*LIFETIME_MF)+1,1,LIFETIME_MF),OFFSET('Shipments and Stock - MF'!BE$14,0,(-1*LIFETIME_MF)+1,1,LIFETIME_MF))/\nSUM(OFFSET('Shipments and Stock - MF'!BE$14,0,(-1*LIFETIME_MF)+1,1,LIFETIME_MF)))","v":266.18267449832615},{"$f":"IF(BE$15-$D$15+2<=LIFETIME_MF,BE12,\nSUMPRODUCT(OFFSET(BE12,0,(-1*LIFETIME_MF)+1,1,LIFETIME_MF),OFFSET('Shipments and Stock - MF'!BF$14,0,(-1*LIFETIME_MF)+1,1,LIFETIME_MF))/\nSUM(OFFSET('Shipments and Stock - MF'!BF$14,0,(-1*LIFETIME_MF)+1,1,LIFETIME_MF)))","v":266.01704882463667}]

{"sheet":"UEC-MH","index":20,"n_rows":17,"n_cols":57,"rows_kept":17,"cut":false,"hidden":false,"merged":[]}
[]
[null,null,"Weighted Annual UEC - Manufactured Homes"]
[]
[null,null,"NAVIGATION"]
[]
[null,null,"COMMENTS"]
[]
[]
[null,null,"Market UEC (Shipment Weighted Average)"]
[null,null,null,1981,1982,1983,1984,1985,1986,1987,1988,1989,1990,1991,1992,1993,1994,1995,1996,1997,1998,1999,2000,2001,2002,2003,2004,2005,2006,2007,2008,2009,2010,2011,2012,2013,2014,2015,2016,2017,2018,2019,2020,2021,2022,2023,2024,2025,2026,2027,2028,2029,2030,2031,2032,2033,2034]
[null,null,"PRE-Case UEC",{"$f":"'Product Class Dist'!E10*SUMPRODUCT('UEC Development'!$L$14:$L$15,'Efficiency Dist - MH'!I13:I14)\n+'Product Class Dist'!E11*SUMPRODUCT('UEC Development'!$L$24:$L$29,'Efficiency Dist - MH'!I31:I36)","v":268.50246913580247},{"$f":"'Product Class Dist'!F10*SUMPRODUCT('UEC Development'!$L$14:$L$15,'Efficiency Dist - MH'!J13:J14)\n+'Product Class Dist'!F11*SUMPRODUCT('UEC Development'!$L$24:$L$29,'Efficiency Dist - MH'!J31:J36)","v":268.50246913580247},{"$f":"'Product Class Dist'!G10*SUMPRODUCT('UEC Development'!$L$14:$L$15,'Efficiency Dist - MH'!K13:K14)\n+'Product Class Dist'!G11*SUMPRODUCT('UEC Development'!$L$24:$L$29,'Efficiency Dist - MH'!K31:K36)","v":268.50246913580247},{"$f":"'Product Class Dist'!H10*SUMPRODUCT('UEC Development'!$L$14:$L$15,'Efficiency Dist - MH'!L13:L14)\n+'Product Class Dist'!H11*SUMPRODUCT('UEC Development'!$L$24:$L$29,'Efficiency Dist - MH'!L31:L36)","v":268.50246913580247},{"$f":"'Product Class Dist'!I10*SUMPRODUCT('UEC Development'!$L$14:$L$15,'Efficiency Dist - MH'!M13:M14)\n+'Product Class Dist'!I11*SUMPRODUCT('UEC Development'!$L$24:$L$29,'Efficiency Dist - MH'!M31:M36)","v":268.50246913580247},{"$f":"'Product Class Dist'!J10*SUMPRODUCT('UEC Development'!$L$14:$L$15,'Efficiency Dist - MH'!N13:N14)\n+'Product Class Dist'!J11*SUMPRODUCT('UEC Development'!$L$24:$L$29,'Efficiency Dist - MH'!N31:N36)","v":268.50246913580247},{"$f":"'Product Class Dist'!K10*SUMPRODUCT('UEC Development'!$L$14:$L$15,'Efficiency Dist - MH'!O13:O14)\n+'Product Class Dist'!K11*SUMPRODUCT('UEC Development'!$L$24:$L$29,'Efficiency Dist - MH'!O31:O36)","v":268.50246913580247},{"$f":"'Product Class Dist'!L10*SUMPRODUCT('UEC Development'!$L$14:$L$15,'Efficiency Dist - MH'!P13:P14)\n+'Product Class Dist'!L11*SUMPRODUCT('UEC Development'!$L$24:$L$29,'Efficiency Dist - MH'!P31:P36)","v":268.50246913580247},{"$f":"'Product Class Dist'!M10*SUMPRODUCT('UEC Development'!$L$14:$L$15,'Efficiency Dist - MH'!Q13:Q14)\n+'Product Class Dist'!M11*SUMPRODUCT('UEC Development'!$L$24:$L$29,'Efficiency Dist - MH'!Q31:Q36)","v":268.50246913580247},{"$f":"'Product Class Dist'!N10*SUMPRODUCT('UEC Development'!$L$14:$L$15,'Efficiency Dist - MH'!R13:R14)\n+'Product Class Dist'!N11*SUMPRODUCT('UEC Development'!$L$24:$L$29,'Efficiency Dist - MH'!R31:R36)","v":268.50246913580247},{"$f":"'Product Class Dist'!O10*SUMPRODUCT('UEC Development'!$L$14:$L$15,'Efficiency Dist - MH'!S13:S14)\n+'Product Class Dist'!O11*SUMPRODUCT('UEC Development'!$L$24:$L$29,'Efficiency Dist - MH'!S31:S36)","v":268.06707317073176},{"$f":"'Product Class Dist'!P10*SUMPRODUCT('UEC Development'!$L$14:$L$15,'Efficiency Dist - MH'!T13:T14)\n+'Product Class Dist'!P11*SUMPRODUCT('UEC Development'!$L$24:$L$29,'Efficiency Dist - MH'!T31:T36)","v":267.9301204819277},{"$f":"'Product Class Dist'!Q10*SUMPRODUCT('UEC Development'!$L$14:$L$15,'Efficiency Dist - MH'!U13:U14)\n+'Product Class Dist'!Q11*SUMPRODUCT('UEC Development'!$L$24:$L$29,'Efficiency Dist - MH'!U31:U36)","v":267.9301204819277},{"$f":"'Product Class Dist'!R10*SUMPRODUCT('UEC Development'!$L$14:$L$15,'Efficiency Dist - MH'!V13:V14)\n+'Product Class Dist'!R11*SUMPRODUCT('UEC Development'!$L$24:$L$29,'Efficiency Dist - MH'!V31:V36)","v":268.50602409638554},{"$f":"'Product Class Dist'!S10*SUMPRODUCT('UEC Development'!$L$14:$L$15,'Efficiency Dist - MH'!W13:W14)\n+'Product Class Dist'!S11*SUMPRODUCT('UEC Development'!$L$24:$L$29,'Efficiency Dist - MH'!W31:W36)","v":268.50941176470587},{"$f":"'Product Class Dist'!T10*SUMPRODUCT('UEC Development'!$L$14:$L$15,'Efficiency Dist - MH'!X13:X14)\n+'Product Class Dist'!T11*SUMPRODUCT('UEC Development'!$L$24:$L$29,'Efficiency Dist - MH'!X31:X36)","v":268.50941176470587},{"$f":"'Product Class Dist'!U10*SUMPRODUCT('UEC Development'!$L$14:$L$15,'Efficiency Dist - MH'!Y13:Y14)\n+'Product Class Dist'!U11*SUMPRODUCT('UEC Development'!$L$24:$L$29,'Efficiency Dist - MH'!Y31:Y36)","v":268.64999999999998},{"$f":"'Product Class Dist'!V10*SUMPRODUCT('UEC Development'!$L$14:$L$15,'Efficiency Dist - MH'!Z13:Z14)\n+'Product Class Dist'!V11*SUMPRODUCT('UEC Development'!$L$24:$L$29,'Efficiency Dist - MH'!Z31:Z36)","v":268.92790697674423},{"$f":"'Product Class Dist'!W10*SUMPRODUCT('UEC Development'!$L$14:$L$15,'Efficiency Dist - MH'!AA13:AA14)\n+'Product Class Dist'!W11*SUMPRODUCT('UEC Development'!$L$24:$L$29,'Efficiency Dist - MH'!AA31:AA36)","v":268.92790697674417},{"$f":"'Product Class Dist'!X10*SUMPRODUCT('UEC Development'!$L$14:$L$15,'Efficiency Dist - MH'!AB13:AB14)\n+'Product Class Dist'!X11*SUMPRODUCT('UEC Development'!$L$24:$L$29,'Efficiency Dist - MH'!AB31:AB36)","v":269.06206896551726},{"$f":"'Product Class Dist'!Y10*SUMPRODUCT('UEC Development'!$L$14:$L$15,'Efficiency Dist - MH'!AC13:AC14)\n+'Product Class Dist'!Y11*SUMPRODUCT('UEC Development'!$L$24:$L$29,'Efficiency Dist - MH'!AC31:AC36)","v":269.07176470588234},{"$f":"'Product Class Dist'!Z10*SUMPRODUCT('UEC Development'!$L$14:$L$15,'Efficiency Dist - MH'!AD13:AD14)\n+'Product Class Dist'!Z11*SUMPRODUCT('UEC Development'!$L$24:$L$29,'Efficiency Dist - MH'!AD31:AD36)","v":269.20581395348836},{"$f":"'Product Class Dist'!AA10*SUMPRODUCT('UEC Development'!$L$14:$L$15,'Efficiency Dist - MH'!AE13:AE14)\n+'Product Class Dist'!AA11*SUMPRODUCT('UEC Development'!$L$24:$L$29,'Efficiency Dist - MH'!AE31:AE36)","v":269.50357142857143},{"$f":"'Product Class Dist'!AB10*SUMPRODUCT('UEC Development'!$L$14:$L$15,'Efficiency Dist - MH'!AF13:AF14)\n+'Product Class Dist'!AB11*SUMPRODUCT('UEC Development'!$L$24:$L$29,'Efficiency Dist - MH'!AF31:AF36)","v":269.50357142857143},{"$f":"'Product Class Dist'!AC10*SUMPRODUCT('UEC Development'!$L$14:$L$15,'Efficiency Dist - MH'!AG13:AG14)\n+'Product Class Dist'!AC11*SUMPRODUCT('UEC Development'!$L$24:$L$29,'Efficiency Dist - MH'!AG31:AG36)","v":269.63411764705882},{"$f":"'Product Class Dist'!AD10*SUMPRODUCT('UEC Development'!$L$14:$L$15,'Efficiency Dist - MH'!AH13:AH14)\n+'Product Class Dist'!AD11*SUMPRODUCT('UEC Development'!$L$24:$L$29,'Efficiency Dist - MH'!AH31:AH36)","v":269.24010246211265},{"$f":"'Product Class Dist'!AE10*SUMPRODUCT('UEC Development'!$L$14:$L$15,'Efficiency Dist - MH'!AI13:AI14)\n+'Product Class Dist'!AE11*SUMPRODUCT('UEC Development'!$L$24:$L$29,'Efficiency Dist - MH'!AI31:AI36)","v":269.28329934319521},{"$f":"'Product Class Dist'!AF10*SUMPRODUCT('UEC Development'!$L$14:$L$15,'Efficiency Dist - MH'!AJ13:AJ14)\n+'Product Class Dist'!AF11*SUMPRODUCT('UEC Development'!$L$24:$L$29,'Efficiency Dist - MH'!AJ31:AJ36)","v":269.32649622427778},{"$f":"'Product Class Dist'!AG10*SUMPRODUCT('UEC Development'!$L$14:$L$15,'Efficiency Dist - MH'!AK13:AK14)\n+'Product Class Dist'!AG11*SUMPRODUCT('UEC Development'!$L$24:$L$29,'Efficiency Dist - MH'!AK31:AK36)","v":269.36969310536017},{"$f":"'Product Class Dist'!AH10*SUMPRODUCT('UEC Development'!$L$14:$L$15,'Efficiency Dist - MH'!AL13:AL14)\n+'Product Class Dist'!AH11*SUMPRODUCT('UEC Development'!$L$24:$L$29,'Efficiency Dist - MH'!AL31:AL36)","v":269.41288998644285},{"$f":"'Product Class Dist'!AI10*SUMPRODUCT('UEC Development'!$L$14:$L$15,'Efficiency Dist - MH'!AM13:AM14)\n+'Product Class Dist'!AI11*SUMPRODUCT('UEC Development'!$L$24:$L$29,'Efficiency Dist - MH'!AM31:AM36)","v":269.45608686752524},{"$f":"'Product Class Dist'!AJ10*SUMPRODUCT('UEC Development'!$L$14:$L$15,'Efficiency Dist - MH'!AN13:AN14)\n+'Product Class Dist'!AJ11*SUMPRODUCT('UEC Development'!$L$24:$L$29,'Efficiency Dist - MH'!AN31:AN36)","v":269.49928374860792},{"$f":"'Product Class Dist'!AK10*SUMPRODUCT('UEC Development'!$L$14:$L$15,'Efficiency Dist - MH'!AO13:AO14)\n+'Product Class Dist'!AK11*SUMPRODUCT('UEC Development'!$L$24:$L$29,'Efficiency Dist - MH'!AO31:AO36)","v":269.54248062969049},{"$f":"'Product Class Dist'!AL10*SUMPRODUCT('UEC Development'!$L$14:$L$15,'Efficiency Dist - MH'!AP13:AP14)\n+'Product Class Dist'!AL11*SUMPRODUCT('UEC Development'!$L$24:$L$29,'Efficiency Dist - MH'!AP31:AP36)","v":269.585677510773},{"$f":"'Product Class Dist'!AM10*SUMPRODUCT('UEC Development'!$L$14:$L$15,'Efficiency Dist - MH'!AQ13:AQ14)\n+'Product Class Dist'!AM11*SUMPRODUCT('UEC Development'!$L$24:$L$29,'Efficiency Dist - MH'!AQ31:AQ36)","v":269.62887439185556},{"$f":"'Product Class Dist'!AN10*SUMPRODUCT('UEC Development'!$L$14:$L$15,'Efficiency Dist - MH'!AR13:AR14)\n+'Product Class Dist'!AN11*SUMPRODUCT('UEC Development'!$L$24:$L$29,'Efficiency Dist - MH'!AR31:AR36)","v":269.67207127293807},{"$f":"'Product Class Dist'!AO10*SUMPRODUCT('UEC Development'!$L$14:$L$15,'Efficiency Dist - MH'!AS13:AS14)\n+'Product Class Dist'!AO11*SUMPRODUCT('UEC Development'!$L$24:$L$29,'Efficiency Dist - MH'!AS31:AS36)","v":269.71526815402063},{"$f":"'Product Class Dist'!AP10*SUMPRODUCT('UEC Development'!$L$14:$L$15,'Efficiency Dist - MH'!AT13:AT14)\n+'Product Class Dist'!AP11*SUMPRODUCT('UEC Development'!$L$24:$L$29,'Efficiency Dist - MH'!AT31:AT36)","v":269.75846503510303},{"$f":"'Product Class Dist'!AQ10*SUMPRODUCT('UEC Development'!$L$14:$L$15,'Efficiency Dist - MH'!AU13:AU14)\n+'Product Class Dist'!AQ11*SUMPRODUCT('UEC Development'!$L$24:$L$29,'Efficiency Dist - MH'!AU31:AU36)","v":269.80166191618571},{"$f":"'Product Class Dist'!AR10*SUMPRODUCT('UEC Development'!$L$14:$L$15,'Efficiency Dist - MH'!AV13:AV14)\n+'Product Class Dist'!AR11*SUMPRODUCT('UEC Development'!$L$24:$L$29,'Efficiency Dist - MH'!AV31:AV36)","v":269.84485879726816},{"$f":"'Product Class Dist'!AS10*SUMPRODUCT('UEC Development'!$L$14:$L$15,'Efficiency Dist - MH'!AW13:AW14)\n+'Product Class Dist'!AS11*SUMPRODUCT('UEC Development'!$L$24:$L$29,'Efficiency Dist - MH'!AW31:AW36)","v":269.88805567835078},{"$f":"'Product Class Dist'!AT10*SUMPRODUCT('UEC Development'!$L$14:$L$15,'Efficiency Dist - MH'!AX13:AX14)\n+'Product Class Dist'!AT11*SUMPRODUCT('UEC Development'!$L$24:$L$29,'Efficiency Dist - MH'!AX31:AX36)","v":269.93125255943335},{"$f":"'Product Class Dist'!AU10*SUMPRODUCT('UEC Development'!$L$14:$L$15,'Efficiency Dist - MH'!AY13:AY14)\n+'Product Class Dist'!AU11*SUMPRODUCT('UEC Development'!$L$24:$L$29,'Efficiency Dist - MH'!AY31:AY36)","v":269.97444944051591},{"$f":"'Product Class Dist'!AV10*SUMPRODUCT('UEC Development'!$L$14:$L$15,'Efficiency Dist - MH'!AZ13:AZ14)\n+'Product Class Dist'!AV11*SUMPRODUCT('UEC Development'!$L$24:$L$29,'Efficiency Dist - MH'!AZ31:AZ36)","v":270.01764632159842},{"$f":"'Product Class Dist'!AW10*SUMPRODUCT('UEC Development'!$L$14:$L$15,'Efficiency Dist - MH'!BA13:BA14)\n+'Product Class Dist'!AW11*SUMPRODUCT('UEC Development'!$L$24:$L$29,'Efficiency Dist - MH'!BA31:BA36)","v":270.06084320268099},{"$f":"'Product Class Dist'!AX10*SUMPRODUCT('UEC Development'!$L$14:$L$15,'Efficiency Dist - MH'!BB13:BB14)\n+'Product Class Dist'!AX11*SUMPRODUCT('UEC Development'!$L$24:$L$29,'Efficiency Dist - MH'!BB31:BB36)","v":270.10404008376349},{"$f":"'Product Class Dist'!AY10*SUMPRODUCT('UEC Development'!$L$14:$L$15,'Efficiency Dist - MH'!BC13:BC14)\n+'Product Class Dist'!AY11*SUMPRODUCT('UEC Development'!$L$24:$L$29,'Efficiency Dist - MH'!BC31:BC36)","v":270.14723696484606},{"$f":"'Product Class Dist'!AZ10*SUMPRODUCT('UEC Development'!$L$14:$L$15,'Efficiency Dist - MH'!BD13:BD14)\n+'Product Class Dist'!AZ11*SUMPRODUCT('UEC Development'!$L$24:$L$29,'Efficiency Dist - MH'!BD31:BD36)","v":270.19043384592862},{"$f":"'Product Class Dist'!BA10*SUMPRODUCT('UEC Development'!$L$14:$L$15,'Efficiency Dist - MH'!BE13:BE14)\n+'Product Class Dist'!BA11*SUMPRODUCT('UEC Development'!$L$24:$L$29,'Efficiency Dist - MH'!BE31:BE36)","v":270.23363072701102},{"$f":"'Product Class Dist'!BB10*SUMPRODUCT('UEC Development'!$L$14:$L$15,'Efficiency Dist - MH'!BF13:BF14)\n+'Product Class Dist'!BB11*SUMPRODUCT('UEC Development'!$L$24:$L$29,'Efficiency Dist - MH'!BF31:BF36)","v":270.2768276080937},{"$f":"'Product Class Dist'!BC10*SUMPRODUCT('UEC Development'!$L$14:$L$15,'Efficiency Dist - MH'!BG13:BG14)\n+'Product Class Dist'!BC11*SUMPRODUCT('UEC Development'!$L$24:$L$29,'Efficiency Dist - MH'!BG31:BG36)","v":270.32002448917626},{"$f":"'Product Class Dist'!BD10*SUMPRODUCT('UEC Development'!$L$14:$L$15,'Efficiency Dist - MH'!BH13:BH14)\n+'Product Class Dist'!BD11*SUMPRODUCT('UEC Development'!$L$24:$L$29,'Efficiency Dist - MH'!BH31:BH36)","v":270.36322137025877},{"$f":"'Product Class Dist'!BE10*SUMPRODUCT('UEC Development'!$L$14:$L$15,'Efficiency Dist - MH'!BI13:BI14)\n+'Product Class Dist'!BE11*SUMPRODUCT('UEC Development'!$L$24:$L$29,'Efficiency Dist - MH'!BI31:BI36)","v":270.40641825134134},{"$f":"'Product Class Dist'!BF10*SUMPRODUCT('UEC Development'!$L$14:$L$15,'Efficiency Dist - MH'!BJ13:BJ14)\n+'Product Class Dist'!BF11*SUMPRODUCT('UEC Development'!$L$24:$L$29,'Efficiency Dist - MH'!BJ31:BJ36)","v":270.44961513242384}]
[null,null,"POST-Case UEC",{"$f":"'Product Class Dist'!E14*SUMPRODUCT('UEC Development'!$L$14:$L$15,'Efficiency Dist - MH'!I19:I20)\n+'Product Class Dist'!E15*SUMPRODUCT('UEC Development'!$L$24:$L$29,'Efficiency Dist - MH'!$I$41:$I$46)","v":268.50246913580247},{"$f":"'Product Class Dist'!F14*SUMPRODUCT('UEC Development'!$L$14:$L$15,'Efficiency Dist - MH'!J19:J20)\n+'Product Class Dist'!F15*SUMPRODUCT('UEC Development'!$L$24:$L$29,'Efficiency Dist - MH'!$I$41:$I$46)","v":268.50246913580247},{"$f":"'Product Class Dist'!G14*SUMPRODUCT('UEC Development'!$L$14:$L$15,'Efficiency Dist - MH'!K19:K20)\n+'Product Class Dist'!G15*SUMPRODUCT('UEC Development'!$L$24:$L$29,'Efficiency Dist - MH'!$I$41:$I$46)","v":268.50246913580247},{"$f":"'Product Class Dist'!H14*SUMPRODUCT('UEC Development'!$L$14:$L$15,'Efficiency Dist - MH'!L19:L20)\n+'Product Class Dist'!H15*SUMPRODUCT('UEC Development'!$L$24:$L$29,'Efficiency Dist - MH'!$I$41:$I$46)","v":268.50246913580247},{"$f":"'Product Class Dist'!I14*SUMPRODUCT('UEC Development'!$L$14:$L$15,'Efficiency Dist - MH'!M19:M20)\n+'Product Class Dist'!I15*SUMPRODUCT('UEC Development'!$L$24:$L$29,'Efficiency Dist - MH'!$I$41:$I$46)","v":268.50246913580247},{"$f":"'Product Class Dist'!J14*SUMPRODUCT('UEC Development'!$L$14:$L$15,'Efficiency Dist - MH'!N19:N20)\n+'Product Class Dist'!J15*SUMPRODUCT('UEC Development'!$L$24:$L$29,'Efficiency Dist - MH'!$I$41:$I$46)","v":268.50246913580247},{"$f":"'Product Class Dist'!K14*SUMPRODUCT('UEC Development'!$L$14:$L$15,'Efficiency Dist - MH'!O19:O20)\n+'Product Class Dist'!K15*SUMPRODUCT('UEC Development'!$L$24:$L$29,'Efficiency Dist - MH'!$I$41:$I$46)","v":268.50246913580247},{"$f":"'Product Class Dist'!L14*SUMPRODUCT('UEC Development'!$L$14:$L$15,'Efficiency Dist - MH'!P19:P20)\n+'Product Class Dist'!L15*SUMPRODUCT('UEC Development'!$L$24:$L$29,'Efficiency Dist - MH'!$I$41:$I$46)","v":268.50246913580247},{"$f":"'Product Class Dist'!M14*SUMPRODUCT('UEC Development'!$L$14:$L$15,'Efficiency Dist - MH'!Q19:Q20)\n+'Product Class Dist'!M15*SUMPRODUCT('UEC Development'!$L$24:$L$29,'Efficiency Dist - MH'!$I$41:$I$46)","v":268.50246913580247},{"$f":"'Product Class Dist'!N14*SUMPRODUCT('UEC Development'!$L$14:$L$15,'Efficiency Dist - MH'!R19:R20)\n+'Product Class Dist'!N15*SUMPRODUCT('UEC Development'!$L$24:$L$29,'Efficiency Dist - MH'!$I$41:$I$46)","v":268.50246913580247},{"$f":"'Product Class Dist'!O14*SUMPRODUCT('UEC Development'!$L$14:$L$15,'Efficiency Dist - MH'!S19:S20)\n+'Product Class Dist'!O15*SUMPRODUCT('UEC Development'!$L$24:$L$29,'Efficiency Dist - MH'!$I$41:$I$46)","v":268.06707317073176},{"$f":"'Product Class Dist'!P14*SUMPRODUCT('UEC Development'!$L$14:$L$15,'Efficiency Dist - MH'!T19:T20)\n+'Product Class Dist'!P15*SUMPRODUCT('UEC Development'!$L$24:$L$29,'Efficiency Dist - MH'!$I$41:$I$46)","v":267.9301204819277},{"$f":"'Product Class Dist'!Q14*SUMPRODUCT('UEC Development'!$L$14:$L$15,'Efficiency Dist - MH'!U19:U20)\n+'Product Class Dist'!Q15*SUMPRODUCT('UEC Development'!$L$24:$L$29,'Efficiency Dist - MH'!$I$41:$I$46)","v":267.9301204819277},{"$f":"'Product Class Dist'!R14*SUMPRODUCT('UEC Development'!$L$14:$L$15,'Efficiency Dist - MH'!V19:V20)\n+'Product Class Dist'!R15*SUMPRODUCT('UEC Development'!$L$24:$L$29,'Efficiency Dist - MH'!$I$41:$I$46)","v":268.50602409638554},{"$f":"'Product Class Dist'!S14*SUMPRODUCT('UEC Development'!$L$14:$L$15,'Efficiency Dist - MH'!W19:W20)\n+'Product Class Dist'!S15*SUMPRODUCT('UEC Development'!$L$24:$L$29,'Efficiency Dist - MH'!$I$41:$I$46)","v":268.50941176470587},{"$f":"'Product Class Dist'!T14*SUMPRODUCT('UEC Development'!$L$14:$L$15,'Efficiency Dist - MH'!X19:X20)\n+'Product Class Dist'!T15*SUMPRODUCT('UEC Development'!$L$24:$L$29,'Efficiency Dist - MH'!$I$41:$I$46)","v":268.50941176470587},{"$f":"'Product Class Dist'!U14*SUMPRODUCT('UEC Development'!$L$14:$L$15,'Efficiency Dist - MH'!Y19:Y20)\n+'Product Class Dist'!U15*SUMPRODUCT('UEC Development'!$L$24:$L$29,'Efficiency Dist - MH'!$I$41:$I$46)","v":268.64999999999998},{"$f":"'Product Class Dist'!V14*SUMPRODUCT('UEC Development'!$L$14:$L$15,'Efficiency Dist - MH'!Z19:Z20)\n+'Product Class Dist'!V15*SUMPRODUCT('UEC Development'!$L$24:$L$29,'Efficiency Dist - MH'!$I$41:$I$46)","v":268.92790697674423},{"$f":"'Product Class Dist'!W14*SUMPRODUCT('UEC Development'!$L$14:$L$15,'Efficiency Dist - MH'!AA19:AA20)\n+'Product Class Dist'!W15*SUMPRODUCT('UEC Development'!$L$24:$L$29,'Efficiency Dist - MH'!$I$41:$I$46)","v":268.92790697674417},{"$f":"'Product Class Dist'!X14*SUMPRODUCT('UEC Development'!$L$14:$L$15,'Efficiency Dist - MH'!AB19:AB20)\n+'Product Class Dist'!X15*SUMPRODUCT('UEC Development'!$L$24:$L$29,'Efficiency Dist - MH'!$I$41:$I$46)","v":269.06206896551726},{"$f":"'Product Class Dist'!Y14*SUMPRODUCT('UEC Development'!$L$14:$L$15,'Efficiency Dist - MH'!AC19:AC20)\n+'Product Class Dist'!Y15*SUMPRODUCT('UEC Development'!$L$24:$L$29,'Efficiency Dist - MH'!$I$41:$I$46)","v":269.07176470588234},{"$f":"'Product Class Dist'!Z14*SUMPRODUCT('UEC Development'!$L$14:$L$15,'Efficiency Dist - MH'!AD19:AD20)\n+'Product Class Dist'!Z15*SUMPRODUCT('UEC Development'!$L$24:$L$29,'Efficiency Dist - MH'!$I$41:$I$46)","v":269.20581395348836},{"$f":"'Product Class Dist'!AA14*SUMPRODUCT('UEC Development'!$L$14:$L$15,'Efficiency Dist - MH'!AE19:AE20)\n+'Product Class Dist'!AA15*SUMPRODUCT('UEC Development'!$L$24:$L$29,'Efficiency Dist - MH'!$I$41:$I$46)","v":269.50357142857143},{"$f":"'Product Class Dist'!AB14*SUMPRODUCT('UEC Development'!$L$14:$L$15,'Efficiency Dist - MH'!AF19:AF20)\n+'Product Class Dist'!AB15*SUMPRODUCT('UEC Development'!$L$24:$L$29,'Efficiency Dist - MH'!$I$41:$I$46)","v":269.50357142857143},{"$f":"'Product Class Dist'!AC14*SUMPRODUCT('UEC Development'!$L$14:$L$15,'Efficiency Dist - MH'!AG19:AG20)\n+'Product Class Dist'!AC15*SUMPRODUCT('UEC Development'!$L$24:$L$29,'Efficiency Dist - MH'!$I$41:$I$46)","v":269.63411764705882},{"$f":"'Product Class Dist'!AD14*SUMPRODUCT('UEC Development'!$L$14:$L$15,'Efficiency Dist - MH'!AH19:AH20)\n+'Product Class Dist'!AD15*SUMPRODUCT('UEC Development'!$L$24:$L$29,'Efficiency Dist - MH'!$I$41:$I$46)","v":269.24010246211265},{"$f":"'Product Class Dist'!AE14*SUMPRODUCT('UEC Development'!$L$14:$L$15,'Efficiency Dist - MH'!AI19:AI20)\n+'Product Class Dist'!AE15*SUMPRODUCT('UEC Development'!$L$24:$L$29,'Efficiency Dist - MH'!$I$41:$I$46)","v":269.28329934319521},{"$f":"'Product Class Dist'!AF14*SUMPRODUCT('UEC Development'!$L$14:$L$15,'Efficiency Dist - MH'!AJ19:AJ20)\n+'Product Class Dist'!AF15*SUMPRODUCT('UEC Development'!$L$24:$L$29,'Efficiency Dist - MH'!$I$41:$I$46)","v":269.32649622427778},{"$f":"'Product Class Dist'!AG14*SUMPRODUCT('UEC Development'!$L$14:$L$15,'Efficiency Dist - MH'!AK19:AK20)\n+'Product Class Dist'!AG15*SUMPRODUCT('UEC Development'!$L$24:$L$29,'Efficiency Dist - MH'!$I$41:$I$46)","v":269.36969310536017},{"$f":"'Product Class Dist'!AH14*SUMPRODUCT('UEC Development'!$L$14:$L$15,'Efficiency Dist - MH'!AL19:AL20)\n+'Product Class Dist'!AH15*SUMPRODUCT('UEC Development'!$L$24:$L$29,'Efficiency Dist - MH'!$I$41:$I$46)","v":269.41288998644285},{"$f":"'Product Class Dist'!AI14*SUMPRODUCT('UEC Development'!$L$14:$L$15,'Efficiency Dist - MH'!AM19:AM20)\n+'Product Class Dist'!AI15*SUMPRODUCT('UEC Development'!$L$24:$L$29,'Efficiency Dist - MH'!$I$41:$I$46)","v":269.45608686752524},{"$f":"'Product Class Dist'!AJ14*SUMPRODUCT('UEC Development'!$L$14:$L$15,'Efficiency Dist - MH'!AN19:AN20)\n+'Product Class Dist'!AJ15*SUMPRODUCT('UEC Development'!$L$24:$L$29,'Efficiency Dist - MH'!$I$41:$I$46)","v":269.49928374860792},{"$f":"'Product Class Dist'!AK14*SUMPRODUCT('UEC Development'!$L$14:$L$15,'Efficiency Dist - MH'!AO19:AO20)\n+'Product Class Dist'!AK15*SUMPRODUCT('UEC Development'!$L$24:$L$29,'Efficiency Dist - MH'!$I$41:$I$46)","v":269.54248062969049},{"$f":"'Product Class Dist'!AL14*SUMPRODUCT('UEC Development'!$L$14:$L$15,'Efficiency Dist - MH'!AP19:AP20)\n+'Product Class Dist'!AL15*SUMPRODUCT('UEC Development'!$L$24:$L$29,'Efficiency Dist - MH'!$I$41:$I$46)","v":269.585677510773},{"$f":"'Product Class Dist'!AM14*SUMPRODUCT('UEC Development'!$L$14:$L$15,'Efficiency Dist - MH'!AQ19:AQ20)\n+'Product Class Dist'!AM15*SUMPRODUCT('UEC Development'!$L$24:$L$29,'Efficiency Dist - MH'!$I$41:$I$46)","v":269.62887439185556},{"$f":"'Product Class Dist'!AN14*SUMPRODUCT('UEC Development'!$L$14:$L$15,'Efficiency Dist - MH'!AR19:AR20)\n+'Product Class Dist'!AN15*SUMPRODUCT('UEC Development'!$L$24:$L$29,'Efficiency Dist - MH'!$I$41:$I$46)","v":269.67207127293807},{"$f":"'Product Class Dist'!AO14*SUMPRODUCT('UEC Development'!$L$14:$L$15,'Efficiency Dist - MH'!AS19:AS20)\n+'Product Class Dist'!AO15*SUMPRODUCT('UEC Development'!$L$24:$L$29,'Efficiency Dist - MH'!$I$41:$I$46)","v":269.71526815402063},{"$f":"'Product Class Dist'!AP14*SUMPRODUCT('UEC Development'!$L$14:$L$15,'Efficiency Dist - MH'!AT19:AT20)\n+'Product Class Dist'!AP15*SUMPRODUCT('UEC Development'!$L$24:$L$29,'Efficiency Dist - MH'!$I$41:$I$46)","v":269.75846503510303},{"$f":"'Product Class Dist'!AQ14*SUMPRODUCT('UEC Development'!$L$14:$L$15,'Efficiency Dist - MH'!AU19:AU20)\n+'Product Class Dist'!AQ15*SUMPRODUCT('UEC Development'!$L$24:$L$29,'Efficiency Dist - MH'!$I$41:$I$46)","v":264.9672595104613},{"$f":"'Product Class Dist'!AR14*SUMPRODUCT('UEC Development'!$L$14:$L$15,'Efficiency Dist - MH'!AV19:AV20)\n+'Product Class Dist'!AR15*SUMPRODUCT('UEC Development'!$L$24:$L$29,'Efficiency Dist - MH'!$I$41:$I$46)","v":265.02979558098235},{"$f":"'Product Class Dist'!AS14*SUMPRODUCT('UEC Development'!$L$14:$L$15,'Efficiency Dist - MH'!AW19:AW20)\n+'Product Class Dist'!AS15*SUMPRODUCT('UEC Development'!$L$24:$L$29,'Efficiency Dist - MH'!$I$41:$I$46)","v":265.09233165150363},{"$f":"'Product Class Dist'!AT14*SUMPRODUCT('UEC Development'!$L$14:$L$15,'Efficiency Dist - MH'!AX19:AX20)\n+'Product Class Dist'!AT15*SUMPRODUCT('UEC Development'!$L$24:$L$29,'Efficiency Dist - MH'!$I$41:$I$46)","v":265.15486772202485},{"$f":"'Product Class Dist'!AU14*SUMPRODUCT('UEC Development'!$L$14:$L$15,'Efficiency Dist - MH'!AY19:AY20)\n+'Product Class Dist'!AU15*SUMPRODUCT('UEC Development'!$L$24:$L$29,'Efficiency Dist - MH'!$I$41:$I$46)","v":265.21740379254595},{"$f":"'Product Class Dist'!AV14*SUMPRODUCT('UEC Development'!$L$14:$L$15,'Efficiency Dist - MH'!AZ19:AZ20)\n+'Product Class Dist'!AV15*SUMPRODUCT('UEC Development'!$L$24:$L$29,'Efficiency Dist - MH'!$I$41:$I$46)","v":265.27993986306717},{"$f":"'Product Class Dist'!AW14*SUMPRODUCT('UEC Development'!$L$14:$L$15,'Efficiency Dist - MH'!BA19:BA20)\n+'Product Class Dist'!AW15*SUMPRODUCT('UEC Development'!$L$24:$L$29,'Efficiency Dist - MH'!$I$41:$I$46)","v":265.34247593358828},{"$f":"'Product Class Dist'!AX14*SUMPRODUCT('UEC Development'!$L$14:$L$15,'Efficiency Dist - MH'!BB19:BB20)\n+'Product Class Dist'!AX15*SUMPRODUCT('UEC Development'!$L$24:$L$29,'Efficiency Dist - MH'!$I$41:$I$46)","v":265.40501200410949},{"$f":"'Product Class Dist'!AY14*SUMPRODUCT('UEC Development'!$L$14:$L$15,'Efficiency Dist - MH'!BC19:BC20)\n+'Product Class Dist'!AY15*SUMPRODUCT('UEC Development'!$L$24:$L$29,'Efficiency Dist - MH'!$I$41:$I$46)","v":265.4675480746306},{"$f":"'Product Class Dist'!AZ14*SUMPRODUCT('UEC Development'!$L$14:$L$15,'Efficiency Dist - MH'!BD19:BD20)\n+'Product Class Dist'!AZ15*SUMPRODUCT('UEC Development'!$L$24:$L$29,'Efficiency Dist - MH'!$I$41:$I$46)","v":265.53008414515182},{"$f":"'Product Class Dist'!BA14*SUMPRODUCT('UEC Development'!$L$14:$L$15,'Efficiency Dist - MH'!BE19:BE20)\n+'Product Class Dist'!BA15*SUMPRODUCT('UEC Development'!$L$24:$L$29,'Efficiency Dist - MH'!$I$41:$I$46)","v":265.59262021567287},{"$f":"'Product Class Dist'!BB14*SUMPRODUCT('UEC Development'!$L$14:$L$15,'Efficiency Dist - MH'!BF19:BF20)\n+'Product Class Dist'!BB15*SUMPRODUCT('UEC Development'!$L$24:$L$29,'Efficiency Dist - MH'!$I$41:$I$46)","v":265.65515628619414},{"$f":"'Product Class Dist'!BC14*SUMPRODUCT('UEC Development'!$L$14:$L$15,'Efficiency Dist - MH'!BG19:BG20)\n+'Product Class Dist'!BC15*SUMPRODUCT('UEC Development'!$L$24:$L$29,'Efficiency Dist - MH'!$I$41:$I$46)","v":265.71769235671536},{"$f":"'Product Class Dist'!BD14*SUMPRODUCT('UEC Development'!$L$14:$L$15,'Efficiency Dist - MH'!BH19:BH20)\n+'Product Class Dist'!BD15*SUMPRODUCT('UEC Development'!$L$24:$L$29,'Efficiency Dist - MH'!$I$41:$I$46)","v":265.78022842723652},{"$f":"'Product Class Dist'!BE14*SUMPRODUCT('UEC Development'!$L$14:$L$15,'Efficiency Dist - MH'!BI19:BI20)\n+'Product Class Dist'!BE15*SUMPRODUCT('UEC Development'!$L$24:$L$29,'Efficiency Dist - MH'!$I$41:$I$46)","v":265.84276449775768},{"$f":"'Product Class Dist'!BF14*SUMPRODUCT('UEC Development'!$L$14:$L$15,'Efficiency Dist - MH'!BJ19:BJ20)\n+'Product Class Dist'!BF15*SUMPRODUCT('UEC Development'!$L$24:$L$29,'Efficiency Dist - MH'!$I$41:$I$46)","v":265.90530056827885}]
[]
[null,null,"Installed UEC (Vintage Weighted Average) "]
[null,null,null,1981,1982,1983,1984,1985,1986,1987,1988,1989,1990,1991,1992,1993,1994,1995,1996,1997,1998,1999,2000,2001,2002,2003,2004,2005,2006,2007,2008,2009,2010,2011,2012,2013,2014,2015,2016,2017,2018,2019,2020,2021,2022,2023,2024,2025,2026,2027,2028,2029,2030,2031,2032,2033,2034]
[null,null,"PRE-Case UEC",{"$f":"IF(D$15-$D$15+2<=LIFETIME_MH,D11,\nSUMPRODUCT(OFFSET(D11,0,(-1*LIFETIME_MH)+1,1,LIFETIME_MH),OFFSET('Shipments and Stock - MH'!E$14,0,(-1*LIFETIME_MH)+1,1,LIFETIME_MH))/\nSUM(OFFSET('Shipments and Stock - MH'!E$14,0,(-1*LIFETIME_MH)+1,1,LIFETIME_MH)))","v":268.50246913580247},{"$f":"IF(E$15-$D$15+2<=LIFETIME_MH,E11,\nSUMPRODUCT(OFFSET(E11,0,(-1*LIFETIME_MH)+1,1,LIFETIME_MH),OFFSET('Shipments and Stock - MH'!F$14,0,(-1*LIFETIME_MH)+1,1,LIFETIME_MH))/\nSUM(OFFSET('Shipments and Stock - MH'!F$14,0,(-1*LIFETIME_MH)+1,1,LIFETIME_MH)))","v":268.50246913580247},{"$f":"IF(F$15-$D$15+2<=LIFETIME_MH,F11,\nSUMPRODUCT(OFFSET(F11,0,(-1*LIFETIME_MH)+1,1,LIFETIME_MH),OFFSET('Shipments and Stock - MH'!G$14,0,(-1*LIFETIME_MH)+1,1,LIFETIME_MH))/\nSUM(OFFSET('Shipments and Stock - MH'!G$14,0,(-1*LIFETIME_MH)+1,1,LIFETIME_MH)))","v":268.50246913580247},{"$f":"IF(G$15-$D$15+2<=LIFETIME_MH,G11,\nSUMPRODUCT(OFFSET(G11,0,(-1*LIFETIME_MH)+1,1,LIFETIME_MH),OFFSET('Shipments and Stock - MH'!H$14,0,(-1*LIFETIME_MH)+1,1,LIFETIME_MH))/\nSUM(OFFSET('Shipments and Stock - MH'!H$14,0,(-1*LIFETIME_MH)+1,1,LIFETIME_MH)))","v":268.50246913580247},{"$f":"IF(H$15-$D$15+2<=LIFETIME_MH,H11,\nSUMPRODUCT(OFFSET(H11,0,(-1*LIFETIME_MH)+1,1,LIFETIME_MH),OFFSET('Shipments and Stock - MH'!I$14,0,(-1*LIFETIME_MH)+1,1,LIFETIME_MH))/\nSUM(OFFSET('Shipments and Stock - MH'!I$14,0,(-1*LIFETIME_MH)+1,1,LIFETIME_MH)))","v":268.50246913580247},{"$f":"IF(I$15-$D$15+2<=LIFETIME_MH,I11,\nSUMPRODUCT(OFFSET(I11,0,(-1*LIFETIME_MH)+1,1,LIFETIME_MH),OFFSET('Shipments and Stock - MH'!J$14,0,(-1*LIFETIME_MH)+1,1,LIFETIME_MH))/\nSUM(OFFSET('Shipments and Stock - MH'!J$14,0,(-1*LIFETIME_MH)+1,1,LIFETIME_MH)))","v":268.50246913580247},{"$f":"IF(J$15-$D$15+2<=LIFETIME_MH,J11,\nSUMPRODUCT(OFFSET(J11,0,(-1*LIFETIME_MH)+1,1,LIFETIME_MH),OFFSET('Shipments and Stock - MH'!K$14,0,(-1*LIFETIME_MH)+1,1,LIFETIME_MH))/\nSUM(OFFSET('Shipments and Stock - MH'!K$14,0,(-1*LIFETIME_MH)+1,1,LIFETIME_MH)))","v":268.50246913580247},{"$f":"IF(K$15-$D$15+2<=LIFETIME_MH,K11,\nSUMPRODUCT(OFFSET(K11,0,(-1*LIFETIME_MH)+1,1,LIFETIME_MH),OFFSET('Shipments and Stock - MH'!L$14,0,(-1*LIFETIME_MH)+1,1,LIFETIME_MH))/\nSUM(OFFSET('Shipments and Stock - MH'!L$14,0,(-1*LIFETIME_MH)+1,1,LIFETIME_MH)))","v":268.50246913580247},{"$f":"IF(L$15-$D$15+2<=LIFETIME_MH,L11,\nSUMPRODUCT(OFFSET(L11,0,(-1*LIFETIME_MH)+1,1,LIFETIME_MH),OFFSET('Shipments and Stock - MH'!M$14,0,(-1*LIFETIME_MH)+1,1,LIFETIME_MH))/\nSUM(OFFSET('Shipments and Stock - MH'!M$14,0,(-1*LIFETIME_MH)+1,1,LIFETIME_MH)))","v":268.50246913580247},{"$f":"IF(M$15-$D$15+2<=LIFETIME_MH,M11,\nSUMPRODUCT(OFFSET(M11,0,(-1*LIFETIME_MH)+1,1,LIFETIME_MH),OFFSET('Shipments and Stock - MH'!N$14,0,(-1*LIFETIME_MH)+1,1,LIFETIME_MH))/\nSUM(OFFSET('Shipments and Stock - MH'!N$14,0,(-1*LIFETIME_MH)+1,1,LIFETIME_MH)))","v":268.50246913580247},{"$f":"IF(N$15-$D$15+2<=LIFETIME_MH,N11,\nSUMPRODUCT(OFFSET(N11,0,(-1*LIFETIME_MH)+1,1,LIFETIME_MH),OFFSET('Shipments and Stock - MH'!O$14,0,(-1*LIFETIME_MH)+1,1,LIFETIME_MH))/\nSUM(OFFSET('Shipments and Stock - MH'!O$14,0,(-1*LIFETIME_MH)+1,1,LIFETIME_MH)))","v":268.06707317073176},{"$f":"IF(O$15-$D$15+2<=LIFETIME_MH,O11,\nSUMPRODUCT(OFFSET(O11,0,(-1*LIFETIME_MH)+1,1,LIFETIME_MH),OFFSET('Shipments and Stock - MH'!P$14,0,(-1*LIFETIME_MH)+1,1,LIFETIME_MH))/\nSUM(OFFSET('Shipments and Stock - MH'!P$14,0,(-1*LIFETIME_MH)+1,1,LIFETIME_MH)))","v":267.9301204819277},{"$f":"IF(P$15-$D$15+2<=LIFETIME_MH,P11,\nSUMPRODUCT(OFFSET(P11,0,(-1*LIFETIME_MH)+1,1,LIFETIME_MH),OFFSET('Shipments and Stock - MH'!Q$14,0,(-1*LIFETIME_MH)+1,1,LIFETIME_MH))/\nSUM(OFFSET('Shipments and Stock - MH'!Q$14,0,(-1*LIFETIME_MH)+1,1,LIFETIME_MH)))","v":267.9301204819277},{"$f":"IF(Q$15-$D$15+2<=LIFETIME_MH,Q11,\nSUMPRODUCT(OFFSET(Q11,0,(-1*LIFETIME_MH)+1,1,LIFETIME_MH),OFFSET('Shipments and Stock - MH'!R$14,0,(-1*LIFETIME_MH)+1,1,LIFETIME_MH))/\nSUM(OFFSET('Shipments and Stock - MH'!R$14,0,(-1*LIFETIME_MH)+1,1,LIFETIME_MH)))","v":268.50602409638554},{"$f":"IF(R$15-$D$15+2<=LIFETIME_MH,R11,\nSUMPRODUCT(OFFSET(R11,0,(-1*LIFETIME_MH)+1,1,LIFETIME_MH),OFFSET('Shipments and Stock - MH'!S$14,0,(-1*LIFETIME_MH)+1,1,LIFETIME_MH))/\nSUM(OFFSET('Shipments and Stock - MH'!S$14,0,(-1*LIFETIME_MH)+1,1,LIFETIME_MH)))","v":268.50941176470587},{"$f":"IF(S$15-$D$15+2<=LIFETIME_MH,S11,\nSUMPRODUCT(OFFSET(S11,0,(-1*LIFETIME_MH)+1,1,LIFETIME_MH),OFFSET('Shipments and Stock - MH'!T$14,0,(-1*LIFETIME_MH)+1,1,LIFETIME_MH))/\nSUM(OFFSET('Shipments and Stock - MH'!T$14,0,(-1*LIFETIME_MH)+1,1,LIFETIME_MH)))","v":268.50941176470587},{"$f":"IF(T$15-$D$15+2<=LIFETIME_MH,T11,\nSUMPRODUCT(OFFSET(T11,0,(-1*LIFETIME_MH)+1,1,LIFETIME_MH),OFFSET('Shipments and Stock - MH'!U$14,0,(-1*LIFETIME_MH)+1,1,LIFETIME_MH))/\nSUM(OFFSET('Shipments and Stock - MH'!U$14,0,(-1*LIFETIME_MH)+1,1,LIFETIME_MH)))","v":268.64999999999998},{"$f":"IF(U$15-$D$15+2<=LIFETIME_MH,U11,\nSUMPRODUCT(OFFSET(U11,0,(-1*LIFETIME_MH)+1,1,LIFETIME_MH),OFFSET('Shipments and Stock - MH'!V$14,0,(-1*LIFETIME_MH)+1,1,LIFETIME_MH))/\nSUM(OFFSET('Shipments and Stock - MH'!V$14,0,(-1*LIFETIME_MH)+1,1,LIFETIME_MH)))","v":268.92790697674423},{"$f":"IF(V$15-$D$15+2<=LIFETIME_MH,V11,\nSUMPRODUCT(OFFSET(V11,0,(-1*LIFETIME_MH)+1,1,LIFETIME_MH),OFFSET('Shipments and Stock - MH'!W$14,0,(-1*LIFETIME_MH)+1,1,LIFETIME_MH))/\nSUM(OFFSET('Shipments and Stock - MH'!W$14,0,(-1*LIFETIME_MH)+1,1,LIFETIME_MH)))","v":268.46824427887088},{"$f":"IF(W$15-$D$15+2<=LIFETIME_MH,W11,\nSUMPRODUCT(OFFSET(W11,0,(-1*LIFETIME_MH)+1,1,LIFETIME_MH),OFFSET('Shipments and Stock - MH'!X$14,0,(-1*LIFETIME_MH)+1,1,LIFETIME_MH))/\nSUM(OFFSET('Shipments and Stock - MH'!X$14,0,(-1*LIFETIME_MH)+1,1,LIFETIME_MH)))","v":268.50247605800979},{"$f":"IF(X$15-$D$15+2<=LIFETIME_MH,X11,\nSUMPRODUCT(OFFSET(X11,0,(-1*LIFETIME_MH)+1,1,LIFETIME_MH),OFFSET('Shipments and Stock - MH'!Y$14,0,(-1*LIFETIME_MH)+1,1,LIFETIME_MH))/\nSUM(OFFSET('Shipments and Stock - MH'!Y$14,0,(-1*LIFETIME_MH)+1,1,LIFETIME_MH)))","v":268.53185857753471},{"$f":"IF(Y$15-$D$15+2<=LIFETIME_MH,Y11,\nSUMPRODUCT(OFFSET(Y11,0,(-1*LIFETIME_MH)+1,1,LIFETIME_MH),OFFSET('Shipments and Stock - MH'!Z$14,0,(-1*LIFETIME_MH)+1,1,LIFETIME_MH))/\nSUM(OFFSET('Shipments and Stock - MH'!Z$14,0,(-1*LIFETIME_MH)+1,1,LIFETIME_MH)))","v":268.57246915249539},{"$f":"IF(Z$15-$D$15+2<=LIFETIME_MH,Z11,\nSUMPRODUCT(OFFSET(Z11,0,(-1*LIFETIME_MH)+1,1,LIFETIME_MH),OFFSET('Shipments and Stock - MH'!AA$14,0,(-1*LIFETIME_MH)+1,1,LIFETIME_MH))/\nSUM(OFFSET('Shipments and Stock - MH'!AA$14,0,(-1*LIFETIME_MH)+1,1,LIFETIME_MH)))","v":268.62825617304367},{"$f":"IF(AA$15-$D$15+2<=LIFETIME_MH,AA11,\nSUMPRODUCT(OFFSET(AA11,0,(-1*LIFETIME_MH)+1,1,LIFETIME_MH),OFFSET('Shipments and Stock - MH'!AB$14,0,(-1*LIFETIME_MH)+1,1,LIFETIME_MH))/\nSUM(OFFSET('Shipments and Stock - MH'!AB$14,0,(-1*LIFETIME_MH)+1,1,LIFETIME_MH)))","v":268.67952412645099},{"$f":"IF(AB$15-$D$15+2<=LIFETIME_MH,AB11,\nSUMPRODUCT(OFFSET(AB11,0,(-1*LIFETIME_MH)+1,1,LIFETIME_MH),OFFSET('Shipments and Stock - MH'!AC$14,0,(-1*LIFETIME_MH)+1,1,LIFETIME_MH))/\nSUM(OFFSET('Shipments and Stock - MH'!AC$14,0,(-1*LIFETIME_MH)+1,1,LIFETIME_MH)))","v":268.73313544890169},{"$f":"IF(AC$15-$D$15+2<=LIFETIME_MH,AC11,\nSUMPRODUCT(OFFSET(AC11,0,(-1*LIFETIME_MH)+1,1,LIFETIME_MH),OFFSET('Shipments and Stock - MH'!AD$14,0,(-1*LIFETIME_MH)+1,1,LIFETIME_MH))/\nSUM(OFFSET('Shipments and Stock - MH'!AD$14,0,(-1*LIFETIME_MH)+1,1,LIFETIME_MH)))","v":268.76651579833157},{"$f":"IF(AD$15-$D$15+2<=LIFETIME_MH,AD11,\nSUMPRODUCT(OFFSET(AD11,0,(-1*LIFETIME_MH)+1,1,LIFETIME_MH),OFFSET('Shipments and Stock - MH'!AE$14,0,(-1*LIFETIME_MH)+1,1,LIFETIME_MH))/\nSUM(OFFSET('Shipments and Stock - MH'!AE$14,0,(-1*LIFETIME_MH)+1,1,LIFETIME_MH)))","v":268.80469814208192},{"$f":"IF(AE$15-$D$15+2<=LIFETIME_MH,AE11,\nSUMPRODUCT(OFFSET(AE11,0,(-1*LIFETIME_MH)+1,1,LIFETIME_MH),OFFSET('Shipments and Stock - MH'!AF$14,0,(-1*LIFETIME_MH)+1,1,LIFETIME_MH))/\nSUM(OFFSET('Shipments and Stock - MH'!AF$14,0,(-1*LIFETIME_MH)+1,1,LIFETIME_MH)))","v":268.84619102555598},{"$f":"IF(AF$15-$D$15+2<=LIFETIME_MH,AF11,\nSUMPRODUCT(OFFSET(AF11,0,(-1*LIFETIME_MH)+1,1,LIFETIME_MH),OFFSET('Shipments and Stock - MH'!AG$14,0,(-1*LIFETIME_MH)+1,1,LIFETIME_MH))/\nSUM(OFFSET('Shipments and Stock - MH'!AG$14,0,(-1*LIFETIME_MH)+1,1,LIFETIME_MH)))","v":268.89255482006973},{"$f":"IF(AG$15-$D$15+2<=LIFETIME_MH,AG11,\nSUMPRODUCT(OFFSET(AG11,0,(-1*LIFETIME_MH)+1,1,LIFETIME_MH),OFFSET('Shipments and Stock - MH'!AH$14,0,(-1*LIFETIME_MH)+1,1,LIFETIME_MH))/\nSUM(OFFSET('Shipments and Stock - MH'!AH$14,0,(-1*LIFETIME_MH)+1,1,LIFETIME_MH)))","v":268.96209427670237},{"$f":"IF(AH$15-$D$15+2<=LIFETIME_MH,AH11,\nSUMPRODUCT(OFFSET(AH11,0,(-1*LIFETIME_MH)+1,1,LIFETIME_MH),OFFSET('Shipments and Stock - MH'!AI$14,0,(-1*LIFETIME_MH)+1,1,LIFETIME_MH))/\nSUM(OFFSET('Shipments and Stock - MH'!AI$14,0,(-1*LIFETIME_MH)+1,1,LIFETIME_MH)))","v":269.04536279483932},{"$f":"IF(AI$15-$D$15+2<=LIFETIME_MH,AI11,\nSUMPRODUCT(OFFSET(AI11,0,(-1*LIFETIME_MH)+1,1,LIFETIME_MH),OFFSET('Shipments and Stock - MH'!AJ$14,0,(-1*LIFETIME_MH)+1,1,LIFETIME_MH))/\nSUM(OFFSET('Shipments and Stock - MH'!AJ$14,0,(-1*LIFETIME_MH)+1,1,LIFETIME_MH)))","v":269.13524465062},{"$f":"IF(AJ$15-$D$15+2<=LIFETIME_MH,AJ11,\nSUMPRODUCT(OFFSET(AJ11,0,(-1*LIFETIME_MH)+1,1,LIFETIME_MH),OFFSET('Shipments and Stock - MH'!AK$14,0,(-1*LIFETIME_MH)+1,1,LIFETIME_MH))/\nSUM(OFFSET('Shipments and Stock - MH'!AK$14,0,(-1*LIFETIME_MH)+1,1,LIFETIME_MH)))","v":269.20009637522008},{"$f":"IF(AK$15-$D$15+2<=LIFETIME_MH,AK11,\nSUMPRODUCT(OFFSET(AK11,0,(-1*LIFETIME_MH)+1,1,LIFETIME_MH),OFFSET('Shipments and Stock - MH'!AL$14,0,(-1*LIFETIME_MH)+1,1,LIFETIME_MH))/\nSUM(OFFSET('Shipments and Stock - MH'!AL$14,0,(-1*LIFETIME_MH)+1,1,LIFETIME_MH)))","v":269.26373537641035},{"$f":"IF(AL$15-$D$15+2<=LIFETIME_MH,AL11,\nSUMPRODUCT(OFFSET(AL11,0,(-1*LIFETIME_MH)+1,1,LIFETIME_MH),OFFSET('Shipments and Stock - MH'!AM$14,0,(-1*LIFETIME_MH)+1,1,LIFETIME_MH))/\nSUM(OFFSET('Shipments and Stock - MH'!AM$14,0,(-1*LIFETIME_MH)+1,1,LIFETIME_MH)))","v":269.32315595873536},{"$f":"IF(AM$15-$D$15+2<=LIFETIME_MH,AM11,\nSUMPRODUCT(OFFSET(AM11,0,(-1*LIFETIME_MH)+1,1,LIFETIME_MH),OFFSET('Shipments and Stock - MH'!AN$14,0,(-1*LIFETIME_MH)+1,1,LIFETIME_MH))/\nSUM(OFFSET('Shipments and Stock - MH'!AN$14,0,(-1*LIFETIME_MH)+1,1,LIFETIME_MH)))","v":269.37672504568485},{"$f":"IF(AN$15-$D$15+2<=LIFETIME_MH,AN11,\nSUMPRODUCT(OFFSET(AN11,0,(-1*LIFETIME_MH)+1,1,LIFETIME_MH),OFFSET('Shipments and Stock - MH'!AO$14,0,(-1*LIFETIME_MH)+1,1,LIFETIME_MH))/\nSUM(OFFSET('Shipments and Stock - MH'!AO$14,0,(-1*LIFETIME_MH)+1,1,LIFETIME_MH)))","v":269.4187645229585},{"$f":"IF(AO$15-$D$15+2<=LIFETIME_MH,AO11,\nSUMPRODUCT(OFFSET(AO11,0,(-1*LIFETIME_MH)+1,1,LIFETIME_MH),OFFSET('Shipments and Stock - MH'!AP$14,0,(-1*LIFETIME_MH)+1,1,LIFETIME_MH))/\nSUM(OFFSET('Shipments and Stock - MH'!AP$14,0,(-1*LIFETIME_MH)+1,1,LIFETIME_MH)))","v":269.45753013234787},{"$f":"IF(AP$15-$D$15+2<=LIFETIME_MH,AP11,\nSUMPRODUCT(OFFSET(AP11,0,(-1*LIFETIME_MH)+1,1,LIFETIME_MH),OFFSET('Shipments and Stock - MH'!AQ$14,0,(-1*LIFETIME_MH)+1,1,LIFETIME_MH))/\nSUM(OFFSET('Shipments and Stock - MH'!AQ$14,0,(-1*LIFETIME_MH)+1,1,LIFETIME_MH)))","v":269.4996100068235},{"$f":"IF(AQ$15-$D$15+2<=LIFETIME_MH,AQ11,\nSUMPRODUCT(OFFSET(AQ11,0,(-1*LIFETIME_MH)+1,1,LIFETIME_MH),OFFSET('Shipments and Stock - MH'!AR$14,0,(-1*LIFETIME_MH)+1,1,LIFETIME_MH))/\nSUM(OFFSET('Shipments and Stock - MH'!AR$14,0,(-1*LIFETIME_MH)+1,1,LIFETIME_MH)))","v":269.53742431409086},{"$f":"IF(AR$15-$D$15+2<=LIFETIME_MH,AR11,\nSUMPRODUCT(OFFSET(AR11,0,(-1*LIFETIME_MH)+1,1,LIFETIME_MH),OFFSET('Shipments and Stock - MH'!AS$14,0,(-1*LIFETIME_MH)+1,1,LIFETIME_MH))/\nSUM(OFFSET('Shipments and Stock - MH'!AS$14,0,(-1*LIFETIME_MH)+1,1,LIFETIME_MH)))","v":269.57496860453057},{"$f":"IF(AS$15-$D$15+2<=LIFETIME_MH,AS11,\nSUMPRODUCT(OFFSET(AS11,0,(-1*LIFETIME_MH)+1,1,LIFETIME_MH),OFFSET('Shipments and Stock - MH'!AT$14,0,(-1*LIFETIME_MH)+1,1,LIFETIME_MH))/\nSUM(OFFSET('Shipments and Stock - MH'!AT$14,0,(-1*LIFETIME_MH)+1,1,LIFETIME_MH)))","v":269.59915186585721},{"$f":"IF(AT$15-$D$15+2<=LIFETIME_MH,AT11,\nSUMPRODUCT(OFFSET(AT11,0,(-1*LIFETIME_MH)+1,1,LIFETIME_MH),OFFSET('Shipments and Stock - MH'!AU$14,0,(-1*LIFETIME_MH)+1,1,LIFETIME_MH))/\nSUM(OFFSET('Shipments and Stock - MH'!AU$14,0,(-1*LIFETIME_MH)+1,1,LIFETIME_MH)))","v":269.62380304588913},{"$f":"IF(AU$15-$D$15+2<=LIFETIME_MH,AU11,\nSUMPRODUCT(OFFSET(AU11,0,(-1*LIFETIME_MH)+1,1,LIFETIME_MH),OFFSET('Shipments and Stock - MH'!AV$14,0,(-1*LIFETIME_MH)+1,1,LIFETIME_MH))/\nSUM(OFFSET('Shipments and Stock - MH'!AV$14,0,(-1*LIFETIME_MH)+1,1,LIFETIME_MH)))","v":269.64350879801344},{"$f":"IF(AV$15-$D$15+2<=LIFETIME_MH,AV11,\nSUMPRODUCT(OFFSET(AV11,0,(-1*LIFETIME_MH)+1,1,LIFETIME_MH),OFFSET('Shipments and Stock - MH'!AW$14,0,(-1*LIFETIME_MH)+1,1,LIFETIME_MH))/\nSUM(OFFSET('Shipments and Stock - MH'!AW$14,0,(-1*LIFETIME_MH)+1,1,LIFETIME_MH)))","v":269.67968047186207},{"$f":"IF(AW$15-$D$15+2<=LIFETIME_MH,AW11,\nSUMPRODUCT(OFFSET(AW11,0,(-1*LIFETIME_MH)+1,1,LIFETIME_MH),OFFSET('Shipments and Stock - MH'!AX$14,0,(-1*LIFETIME_MH)+1,1,LIFETIME_MH))/\nSUM(OFFSET('Shipments and Stock - MH'!AX$14,0,(-1*LIFETIME_MH)+1,1,LIFETIME_MH)))","v":269.71884020422698},{"$f":"IF(AX$15-$D$15+2<=LIFETIME_MH,AX11,\nSUMPRODUCT(OFFSET(AX11,0,(-1*LIFETIME_MH)+1,1,LIFETIME_MH),OFFSET('Shipments and Stock - MH'!AY$14,0,(-1*LIFETIME_MH)+1,1,LIFETIME_MH))/\nSUM(OFFSET('Shipments and Stock - MH'!AY$14,0,(-1*LIFETIME_MH)+1,1,LIFETIME_MH)))","v":269.75889526888102},{"$f":"IF(AY$15-$D$15+2<=LIFETIME_MH,AY11,\nSUMPRODUCT(OFFSET(AY11,0,(-1*LIFETIME_MH)+1,1,LIFETIME_MH),OFFSET('Shipments and Stock - MH'!AZ$14,0,(-1*LIFETIME_MH)+1,1,LIFETIME_MH))/\nSUM(OFFSET('Shipments and Stock - MH'!AZ$14,0,(-1*LIFETIME_MH)+1,1,LIFETIME_MH)))","v":269.80086607695961},{"$f":"IF(AZ$15-$D$15+2<=LIFETIME_MH,AZ11,\nSUMPRODUCT(OFFSET(AZ11,0,(-1*LIFETIME_MH)+1,1,LIFETIME_MH),OFFSET('Shipments and Stock - MH'!BA$14,0,(-1*LIFETIME_MH)+1,1,LIFETIME_MH))/\nSUM(OFFSET('Shipments and Stock - MH'!BA$14,0,(-1*LIFETIME_MH)+1,1,LIFETIME_MH)))","v":269.84209991027302},{"$f":"IF(BA$15-$D$15+2<=LIFETIME_MH,BA11,\nSUMPRODUCT(OFFSET(BA11,0,(-1*LIFETIME_MH)+1,1,LIFETIME_MH),OFFSET('Shipments and Stock - MH'!BB$14,0,(-1*LIFETIME_MH)+1,1,LIFETIME_MH))/\nSUM(OFFSET('Shipments and Stock - MH'!BB$14,0,(-1*LIFETIME_MH)+1,1,LIFETIME_MH)))","v":269.88503285035097},{"$f":"IF(BB$15-$D$15+2<=LIFETIME_MH,BB11,\nSUMPRODUCT(OFFSET(BB11,0,(-1*LIFETIME_MH)+1,1,LIFETIME_MH),OFFSET('Shipments and Stock - MH'!BC$14,0,(-1*LIFETIME_MH)+1,1,LIFETIME_MH))/\nSUM(OFFSET('Shipments and Stock - MH'!BC$14,0,(-1*LIFETIME_MH)+1,1,LIFETIME_MH)))","v":269.93374551346199},{"$f":"IF(BC$15-$D$15+2<=LIFETIME_MH,BC11,\nSUMPRODUCT(OFFSET(BC11,0,(-1*LIFETIME_MH)+1,1,LIFETIME_MH),OFFSET('Shipments and Stock - MH'!BD$14,0,(-1*LIFETIME_MH)+1,1,LIFETIME_MH))/\nSUM(OFFSET('Shipments and Stock - MH'!BD$14,0,(-1*LIFETIME_MH)+1,1,LIFETIME_MH)))","v":269.98499359677152},{"$f":"IF(BD$15-$D$15+2<=LIFETIME_MH,BD11,\nSUMPRODUCT(OFFSET(BD11,0,(-1*LIFETIME_MH)+1,1,LIFETIME_MH),OFFSET('Shipments and Stock - MH'!BE$14,0,(-1*LIFETIME_MH)+1,1,LIFETIME_MH))/\nSUM(OFFSET('Shipments and Stock - MH'!BE$14,0,(-1*LIFETIME_MH)+1,1,LIFETIME_MH)))","v":270.03388444663824},{"$f":"IF(BE$15-$D$15+2<=LIFETIME_MH,BE11,\nSUMPRODUCT(OFFSET(BE11,0,(-1*LIFETIME_MH)+1,1,LIFETIME_MH),OFFSET('Shipments and Stock - MH'!BF$14,0,(-1*LIFETIME_MH)+1,1,LIFETIME_MH))/\nSUM(OFFSET('Shipments and Stock - MH'!BF$14,0,(-1*LIFETIME_MH)+1,1,LIFETIME_MH)))","v":270.07857818564719}]
[null,null,"POST-Case UEC",{"$f":"IF(D$15-$D$15+2<=LIFETIME_MH,D12,\nSUMPRODUCT(OFFSET(D12,0,(-1*LIFETIME_MH)+1,1,LIFETIME_MH),OFFSET('Shipments and Stock - MH'!E$14,0,(-1*LIFETIME_MH)+1,1,LIFETIME_MH))/\nSUM(OFFSET('Shipments and Stock - MH'!E$14,0,(-1*LIFETIME_MH)+1,1,LIFETIME_MH)))","v":268.50246913580247},{"$f":"IF(E$15-$D$15+2<=LIFETIME_MH,E12,\nSUMPRODUCT(OFFSET(E12,0,(-1*LIFETIME_MH)+1,1,LIFETIME_MH),OFFSET('Shipments and Stock - MH'!F$14,0,(-1*LIFETIME_MH)+1,1,LIFETIME_MH))/\nSUM(OFFSET('Shipments and Stock - MH'!F$14,0,(-1*LIFETIME_MH)+1,1,LIFETIME_MH)))","v":268.50246913580247},{"$f":"IF(F$15-$D$15+2<=LIFETIME_MH,F12,\nSUMPRODUCT(OFFSET(F12,0,(-1*LIFETIME_MH)+1,1,LIFETIME_MH),OFFSET('Shipments and Stock - MH'!G$14,0,(-1*LIFETIME_MH)+1,1,LIFETIME_MH))/\nSUM(OFFSET('Shipments and Stock - MH'!G$14,0,(-1*LIFETIME_MH)+1,1,LIFETIME_MH)))","v":268.50246913580247},{"$f":"IF(G$15-$D$15+2<=LIFETIME_MH,G12,\nSUMPRODUCT(OFFSET(G12,0,(-1*LIFETIME_MH)+1,1,LIFETIME_MH),OFFSET('Shipments and Stock - MH'!H$14,0,(-1*LIFETIME_MH)+1,1,LIFETIME_MH))/\nSUM(OFFSET('Shipments and Stock - MH'!H$14,0,(-1*LIFETIME_MH)+1,1,LIFETIME_MH)))","v":268.50246913580247},{"$f":"IF(H$15-$D$15+2<=LIFETIME_MH,H12,\nSUMPRODUCT(OFFSET(H12,0,(-1*LIFETIME_MH)+1,1,LIFETIME_MH),OFFSET('Shipments and Stock - MH'!I$14,0,(-1*LIFETIME_MH)+1,1,LIFETIME_MH))/\nSUM(OFFSET('Shipments and Stock - MH'!I$14,0,(-1*LIFETIME_MH)+1,1,LIFETIME_MH)))","v":268.50246913580247},{"$f":"IF(I$15-$D$15+2<=LIFETIME_MH,I12,\nSUMPRODUCT(OFFSET(I12,0,(-1*LIFETIME_MH)+1,1,LIFETIME_MH),OFFSET('Shipments and Stock - MH'!J$14,0,(-1*LIFETIME_MH)+1,1,LIFETIME_MH))/\nSUM(OFFSET('Shipments and Stock - MH'!J$14,0,(-1*LIFETIME_MH)+1,1,LIFETIME_MH)))","v":268.50246913580247},{"$f":"IF(J$15-$D$15+2<=LIFETIME_MH,J12,\nSUMPRODUCT(OFFSET(J12,0,(-1*LIFETIME_MH)+1,1,LIFETIME_MH),OFFSET('Shipments and Stock - MH'!K$14,0,(-1*LIFETIME_MH)+1,1,LIFETIME_MH))/\nSUM(OFFSET('Shipments and Stock - MH'!K$14,0,(-1*LIFETIME_MH)+1,1,LIFETIME_MH)))","v":268.50246913580247},{"$f":"IF(K$15-$D$15+2<=LIFETIME_MH,K12,\nSUMPRODUCT(OFFSET(K12,0,(-1*LIFETIME_MH)+1,1,LIFETIME_MH),OFFSET('Shipments and Stock - MH'!L$14,0,(-1*LIFETIME_MH)+1,1,LIFETIME_MH))/\nSUM(OFFSET('Shipments and Stock - MH'!L$14,0,(-1*LIFETIME_MH)+1,1,LIFETIME_MH)))","v":268.50246913580247},{"$f":"IF(L$15-$D$15+2<=LIFETIME_MH,L12,\nSUMPRODUCT(OFFSET(L12,0,(-1*LIFETIME_MH)+1,1,LIFETIME_MH),OFFSET('Shipments and Stock - MH'!M$14,0,(-1*LIFETIME_MH)+1,1,LIFETIME_MH))/\nSUM(OFFSET('Shipments and Stock - MH'!M$14,0,(-1*LIFETIME_MH)+1,1,LIFETIME_MH)))","v":268.50246913580247},{"$f":"IF(M$15-$D$15+2<=LIFETIME_MH,M12,\nSUMPRODUCT(OFFSET(M12,0,(-1*LIFETIME_MH)+1,1,LIFETIME_MH),OFFSET('Shipments and Stock - MH'!N$14,0,(-1*LIFETIME_MH)+1,1,LIFETIME_MH))/\nSUM(OFFSET('Shipments and Stock - MH'!N$14,0,(-1*LIFETIME_MH)+1,1,LIFETIME_MH)))","v":268.50246913580247},{"$f":"IF(N$15-$D$15+2<=LIFETIME_MH,N12,\nSUMPRODUCT(OFFSET(N12,0,(-1*LIFETIME_MH)+1,1,LIFETIME_MH),OFFSET('Shipments and Stock - MH'!O$14,0,(-1*LIFETIME_MH)+1,1,LIFETIME_MH))/\nSUM(OFFSET('Shipments and Stock - MH'!O$14,0,(-1*LIFETIME_MH)+1,1,LIFETIME_MH)))","v":268.06707317073176},{"$f":"IF(O$15-$D$15+2<=LIFETIME_MH,O12,\nSUMPRODUCT(OFFSET(O12,0,(-1*LIFETIME_MH)+1,1,LIFETIME_MH),OFFSET('Shipments and Stock - MH'!P$14,0,(-1*LIFETIME_MH)+1,1,LIFETIME_MH))/\nSUM(OFFSET('Shipments and Stock - MH'!P$14,0,(-1*LIFETIME_MH)+1,1,LIFETIME_MH)))","v":267.9301204819277},{"$f":"IF(P$15-$D$15+2<=LIFETIME_MH,P12,\nSUMPRODUCT(OFFSET(P12,0,(-1*LIFETIME_MH)+1,1,LIFETIME_MH),OFFSET('Shipments and Stock - MH'!Q$14,0,(-1*LIFETIME_MH)+1,1,LIFETIME_MH))/\nSUM(OFFSET('Shipments and Stock - MH'!Q$14,0,(-1*LIFETIME_MH)+1,1,LIFETIME_MH)))","v":267.9301204819277},{"$f":"IF(Q$15-$D$15+2<=LIFETIME_MH,Q12,\nSUMPRODUCT(OFFSET(Q12,0,(-1*LIFETIME_MH)+1,1,LIFETIME_MH),OFFSET('Shipments and Stock - MH'!R$14,0,(-1*LIFETIME_MH)+1,1,LIFETIME_MH))/\nSUM(OFFSET('Shipments and Stock - MH'!R$14,0,(-1*LIFETIME_MH)+1,1,LIFETIME_MH)))","v":268.50602409638554},{"$f":"IF(R$15-$D$15+2<=LIFETIME_MH,R12,\nSUMPRODUCT(OFFSET(R12,0,(-1*LIFETIME_MH)+1,1,LIFETIME_MH),OFFSET('Shipments and Stock - MH'!S$14,0,(-1*LIFETIME_MH)+1,1,LIFETIME_MH))/\nSUM(OFFSET('Shipments and Stock - MH'!S$14,0,(-1*LIFETIME_MH)+1,1,LIFETIME_MH)))","v":268.50941176470587},{"$f":"IF(S$15-$D$15+2<=LIFETIME_MH,S12,\nSUMPRODUCT(OFFSET(S12,0,(-1*LIFETIME_MH)+1,1,LIFETIME_MH),OFFSET('Shipments and Stock - MH'!T$14,0,(-1*LIFETIME_MH)+1,1,LIFETIME_MH))/\nSUM(OFFSET('Shipments and Stock - MH'!T$14,0,(-1*LIFETIME_MH)+1,1,LIFETIME_MH)))","v":268.50941176470587},{"$f":"IF(T$15-$D$15+2<=LIFETIME_MH,T12,\nSUMPRODUCT(OFFSET(T12,0,(-1*LIFETIME_MH)+1,1,LIFETIME_MH),OFFSET('Shipments and Stock - MH'!U$14,0,(-1*LIFETIME_MH)+1,1,LIFETIME_MH))/\nSUM(OFFSET('Shipments and Stock - MH'!U$14,0,(-1*LIFETIME_MH)+1,1,LIFETIME_MH)))","v":268.64999999999998},{"$f":"IF(U$15-$D$15+2<=LIFETIME_MH,U12,\nSUMPRODUCT(OFFSET(U12,0,(-1*LIFETIME_MH)+1,1,LIFETIME_MH),OFFSET('Shipments and Stock - MH'!V$14,0,(-1*LIFETIME_MH)+1,1,LIFETIME_MH))/\nSUM(OFFSET('Shipments and Stock - MH'!V$14,0,(-1*LIFETIME_MH)+1,1,LIFETIME_MH)))","v":268.92790697674423},{"$f":"IF(V$15-$D$15+2<=LIFETIME_MH,V12,\nSUMPRODUCT(OFFSET(V12,0,(-1*LIFETIME_MH)+1,1,LIFETIME_MH),OFFSET('Shipments and Stock - MH'!W$14,0,(-1*LIFETIME_MH)+1,1,LIFETIME_MH))/\nSUM(OFFSET('Shipments and Stock - MH'!W$14,0,(-1*LIFETIME_MH)+1,1,LIFETIME_MH)))","v":268.46824427887088},{"$f":"IF(W$15-$D$15+2<=LIFETIME_MH,W12,\nSUMPRODUCT(OFFSET(W12,0,(-1*LIFETIME_MH)+1,1,LIFETIME_MH),OFFSET('Shipments and Stock - MH'!X$14,0,(-1*LIFETIME_MH)+1,1,LIFETIME_MH))/\nSUM(OFFSET('Shipments and Stock - MH'!X$14,0,(-1*LIFETIME_MH)+1,1,LIFETIME_MH)))","v":268.50247605800979},{"$f":"IF(X$15-$D$15+2<=LIFETIME_MH,X12,\nSUMPRODUCT(OFFSET(X12,0,(-1*LIFETIME_MH)+1,1,LIFETIME_MH),OFFSET('Shipments and Stock - MH'!Y$14,0,(-1*LIFETIME_MH)+1,1,LIFETIME_MH))/\nSUM(OFFSET('Shipments and Stock - MH'!Y$14,0,(-1*LIFETIME_MH)+1,1,LIFETIME_MH)))","v":268.53185857753471},{"$f":"IF(Y$15-$D$15+2<=LIFETIME_MH,Y12,\nSUMPRODUCT(OFFSET(Y12,0,(-1*LIFETIME_MH)+1,1,LIFETIME_MH),OFFSET('Shipments and Stock - MH'!Z$14,0,(-1*LIFETIME_MH)+1,1,LIFETIME_MH))/\nSUM(OFFSET('Shipments and Stock - MH'!Z$14,0,(-1*LIFETIME_MH)+1,1,LIFETIME_MH)))","v":268.57246915249539},{"$f":"IF(Z$15-$D$15+2<=LIFETIME_MH,Z12,\nSUMPRODUCT(OFFSET(Z12,0,(-1*LIFETIME_MH)+1,1,LIFETIME_MH),OFFSET('Shipments and Stock - MH'!AA$14,0,(-1*LIFETIME_MH)+1,1,LIFETIME_MH))/\nSUM(OFFSET('Shipments and Stock - MH'!AA$14,0,(-1*LIFETIME_MH)+1,1,LIFETIME_MH)))","v":268.62825617304367},{"$f":"IF(AA$15-$D$15+2<=LIFETIME_MH,AA12,\nSUMPRODUCT(OFFSET(AA12,0,(-1*LIFETIME_MH)+1,1,LIFETIME_MH),OFFSET('Shipments and Stock - MH'!AB$14,0,(-1*LIFETIME_MH)+1,1,LIFETIME_MH))/\nSUM(OFFSET('Shipments and Stock - MH'!AB$14,0,(-1*LIFETIME_MH)+1,1,LIFETIME_MH)))","v":268.67952412645099},{"$f":"IF(AB$15-$D$15+2<=LIFETIME_MH,AB12,\nSUMPRODUCT(OFFSET(AB12,0,(-1*LIFETIME_MH)+1,1,LIFETIME_MH),OFFSET('Shipments and Stock - MH'!AC$14,0,(-1*LIFETIME_MH)+1,1,LIFETIME_MH))/\nSUM(OFFSET('Shipments and Stock - MH'!AC$14,0,(-1*LIFETIME_MH)+1,1,LIFETIME_MH)))","v":268.73313544890169},{"$f":"IF(AC$15-$D$15+2<=LIFETIME_MH,AC12,\nSUMPRODUCT(OFFSET(AC12,0,(-1*LIFETIME_MH)+1,1,LIFETIME_MH),OFFSET('Shipments and Stock - MH'!AD$14,0,(-1*LIFETIME_MH)+1,1,LIFETIME_MH))/\nSUM(OFFSET('Shipments and Stock - MH'!AD$14,0,(-1*LIFETIME_MH)+1,1,LIFETIME_MH)))","v":268.76651579833157},{"$f":"IF(AD$15-$D$15+2<=LIFETIME_MH,AD12,\nSUMPRODUCT(OFFSET(AD12,0,(-1*LIFETIME_MH)+1,1,LIFETIME_MH),OFFSET('Shipments and Stock - MH'!AE$14,0,(-1*LIFETIME_MH)+1,1,LIFETIME_MH))/\nSUM(OFFSET('Shipments and Stock - MH'!AE$14,0,(-1*LIFETIME_MH)+1,1,LIFETIME_MH)))","v":268.80469814208192},{"$f":"IF(AE$15-$D$15+2<=LIFETIME_MH,AE12,\nSUMPRODUCT(OFFSET(AE12,0,(-1*LIFETIME_MH)+1,1,LIFETIME_MH),OFFSET('Shipments and Stock - MH'!AF$14,0,(-1*LIFETIME_MH)+1,1,LIFETIME_MH))/\nSUM(OFFSET('Shipments and Stock - MH'!AF$14,0,(-1*LIFETIME_MH)+1,1,LIFETIME_MH)))","v":268.84619102555598},{"$f":"IF(AF$15-$D$15+2<=LIFETIME_MH,AF12,\nSUMPRODUCT(OFFSET(AF12,0,(-1*LIFETIME_MH)+1,1,LIFETIME_MH),OFFSET('Shipments and Stock - MH'!AG$14,0,(-1*LIFETIME_MH)+1,1,LIFETIME_MH))/\nSUM(OFFSET('Shipments and Stock - MH'!AG$14,0,(-1*LIFETIME_MH)+1,1,LIFETIME_MH)))","v":268.89255482006973},{"$f":"IF(AG$15-$D$15+2<=LIFETIME_MH,AG12,\nSUMPRODUCT(OFFSET(AG12,0,(-1*LIFETIME_MH)+1,1,LIFETIME_MH),OFFSET('Shipments and Stock - MH'!AH$14,0,(-1*LIFETIME_MH)+1,1,LIFETIME_MH))/\nSUM(OFFSET('Shipments and Stock - MH'!AH$14,0,(-1*LIFETIME_MH)+1,1,LIFETIME_MH)))","v":268.96209427670237},{"$f":"IF(AH$15-$D$15+2<=LIFETIME_MH,AH12,\nSUMPRODUCT(OFFSET(AH12,0,(-1*LIFETIME_MH)+1,1,LIFETIME_MH),OFFSET('Shipments and Stock - MH'!AI$14,0,(-1*LIFETIME_MH)+1,1,LIFETIME_MH))/\nSUM(OFFSET('Shipments and Stock - MH'!AI$14,0,(-1*LIFETIME_MH)+1,1,LIFETIME_MH)))","v":269.04536279483932},{"$f":"IF(AI$15-$D$15+2<=LIFETIME_MH,AI12,\nSUMPRODUCT(OFFSET(AI12,0,(-1*LIFETIME_MH)+1,1,LIFETIME_MH),OFFSET('Shipments and Stock - MH'!AJ$14,0,(-1*LIFETIME_MH)+1,1,LIFETIME_MH))/\nSUM(OFFSET('Shipments and Stock - MH'!AJ$14,0,(-1*LIFETIME_MH)+1,1,LIFETIME_MH)))","v":269.13524465062},{"$f":"IF(AJ$15-$D$15+2<=LIFETIME_MH,AJ12,\nSUMPRODUCT(OFFSET(AJ12,0,(-1*LIFETIME_MH)+1,1,LIFETIME_MH),OFFSET('Shipments and Stock - MH'!AK$14,0,(-1*LIFETIME_MH)+1,1,LIFETIME_MH))/\nSUM(OFFSET('Shipments and Stock - MH'!AK$14,0,(-1*LIFETIME_MH)+1,1,LIFETIME_MH)))","v":269.20009637522008},{"$f":"IF(AK$15-$D$15+2<=LIFETIME_MH,AK12,\nSUMPRODUCT(OFFSET(AK12,0,(-1*LIFETIME_MH)+1,1,LIFETIME_MH),OFFSET('Shipments and Stock - MH'!AL$14,0,(-1*LIFETIME_MH)+1,1,LIFETIME_MH))/\nSUM(OFFSET('Shipments and Stock - MH'!AL$14,0,(-1*LIFETIME_MH)+1,1,LIFETIME_MH)))","v":269.26373537641035},{"$f":"IF(AL$15-$D$15+2<=LIFETIME_MH,AL12,\nSUMPRODUCT(OFFSET(AL12,0,(-1*LIFETIME_MH)+1,1,LIFETIME_MH),OFFSET('Shipments and Stock - MH'!AM$14,0,(-1*LIFETIME_MH)+1,1,LIFETIME_MH))/\nSUM(OFFSET('Shipments and Stock - MH'!AM$14,0,(-1*LIFETIME_MH)+1,1,LIFETIME_MH)))","v":269.32315595873536},{"$f":"IF(AM$15-$D$15+2<=LIFETIME_MH,AM12,\nSUMPRODUCT(OFFSET(AM12,0,(-1*LIFETIME_MH)+1,1,LIFETIME_MH),OFFSET('Shipments and Stock - MH'!AN$14,0,(-1*LIFETIME_MH)+1,1,LIFETIME_MH))/\nSUM(OFFSET('Shipments and Stock - MH'!AN$14,0,(-1*LIFETIME_MH)+1,1,LIFETIME_MH)))","v":269.37672504568485},{"$f":"IF(AN$15-$D$15+2<=LIFETIME_MH,AN12,\nSUMPRODUCT(OFFSET(AN12,0,(-1*LIFETIME_MH)+1,1,LIFETIME_MH),OFFSET('Shipments and Stock - MH'!AO$14,0,(-1*LIFETIME_MH)+1,1,LIFETIME_MH))/\nSUM(OFFSET('Shipments and Stock - MH'!AO$14,0,(-1*LIFETIME_MH)+1,1,LIFETIME_MH)))","v":269.4187645229585},{"$f":"IF(AO$15-$D$15+2<=LIFETIME_MH,AO12,\nSUMPRODUCT(OFFSET(AO12,0,(-1*LIFETIME_MH)+1,1,LIFETIME_MH),OFFSET('Shipments and Stock - MH'!AP$14,0,(-1*LIFETIME_MH)+1,1,LIFETIME_MH))/\nSUM(OFFSET('Shipments and Stock - MH'!AP$14,0,(-1*LIFETIME_MH)+1,1,LIFETIME_MH)))","v":269.45753013234787},{"$f":"IF(AP$15-$D$15+2<=LIFETIME_MH,AP12,\nSUMPRODUCT(OFFSET(AP12,0,(-1*LIFETIME_MH)+1,1,LIFETIME_MH),OFFSET('Shipments and Stock - MH'!AQ$14,0,(-1*LIFETIME_MH)+1,1,LIFETIME_MH))/\nSUM(OFFSET('Shipments and Stock - MH'!AQ$14,0,(-1*LIFETIME_MH)+1,1,LIFETIME_MH)))","v":269.20004976521608},{"$f":"IF(AQ$15-$D$15+2<=LIFETIME_MH,AQ12,\nSUMPRODUCT(OFFSET(AQ12,0,(-1*LIFETIME_MH)+1,1,LIFETIME_MH),OFFSET('Shipments and Stock - MH'!AR$14,0,(-1*LIFETIME_MH)+1,1,LIFETIME_MH))/\nSUM(OFFSET('Shipments and Stock - MH'!AR$14,0,(-1*LIFETIME_MH)+1,1,LIFETIME_MH)))","v":268.9793839551661},{"$f":"IF(AR$15-$D$15+2<=LIFETIME_MH,AR12,\nSUMPRODUCT(OFFSET(AR12,0,(-1*LIFETIME_MH)+1,1,LIFETIME_MH),OFFSET('Shipments and Stock - MH'!AS$14,0,(-1*LIFETIME_MH)+1,1,LIFETIME_MH))/\nSUM(OFFSET('Shipments and Stock - MH'!AS$14,0,(-1*LIFETIME_MH)+1,1,LIFETIME_MH)))","v":268.73525370761126},{"$f":"IF(AS$15-$D$15+2<=LIFETIME_MH,AS12,\nSUMPRODUCT(OFFSET(AS12,0,(-1*LIFETIME_MH)+1,1,LIFETIME_MH),OFFSET('Shipments and Stock - MH'!AT$14,0,(-1*LIFETIME_MH)+1,1,LIFETIME_MH))/\nSUM(OFFSET('Shipments and Stock - MH'!AT$14,0,(-1*LIFETIME_MH)+1,1,LIFETIME_MH)))","v":268.48979291505231},{"$f":"IF(AT$15-$D$15+2<=LIFETIME_MH,AT12,\nSUMPRODUCT(OFFSET(AT12,0,(-1*LIFETIME_MH)+1,1,LIFETIME_MH),OFFSET('Shipments and Stock - MH'!AU$14,0,(-1*LIFETIME_MH)+1,1,LIFETIME_MH))/\nSUM(OFFSET('Shipments and Stock - MH'!AU$14,0,(-1*LIFETIME_MH)+1,1,LIFETIME_MH)))","v":268.26691928477959},{"$f":"IF(AU$15-$D$15+2<=LIFETIME_MH,AU12,\nSUMPRODUCT(OFFSET(AU12,0,(-1*LIFETIME_MH)+1,1,LIFETIME_MH),OFFSET('Shipments and Stock - MH'!AV$14,0,(-1*LIFETIME_MH)+1,1,LIFETIME_MH))/\nSUM(OFFSET('Shipments and Stock - MH'!AV$14,0,(-1*LIFETIME_MH)+1,1,LIFETIME_MH)))","v":268.05892113479069},{"$f":"IF(AV$15-$D$15+2<=LIFETIME_MH,AV12,\nSUMPRODUCT(OFFSET(AV12,0,(-1*LIFETIME_MH)+1,1,LIFETIME_MH),OFFSET('Shipments and Stock - MH'!AW$14,0,(-1*LIFETIME_MH)+1,1,LIFETIME_MH))/\nSUM(OFFSET('Shipments and Stock - MH'!AW$14,0,(-1*LIFETIME_MH)+1,1,LIFETIME_MH)))","v":267.87945118700503},{"$f":"IF(AW$15-$D$15+2<=LIFETIME_MH,AW12,\nSUMPRODUCT(OFFSET(AW12,0,(-1*LIFETIME_MH)+1,1,LIFETIME_MH),OFFSET('Shipments and Stock - MH'!AX$14,0,(-1*LIFETIME_MH)+1,1,LIFETIME_MH))/\nSUM(OFFSET('Shipments and Stock - MH'!AX$14,0,(-1*LIFETIME_MH)+1,1,LIFETIME_MH)))","v":267.68962979454562},{"$f":"IF(AX$15-$D$15+2<=LIFETIME_MH,AX12,\nSUMPRODUCT(OFFSET(AX12,0,(-1*LIFETIME_MH)+1,1,LIFETIME_MH),OFFSET('Shipments and Stock - MH'!AY$14,0,(-1*LIFETIME_MH)+1,1,LIFETIME_MH))/\nSUM(OFFSET('Shipments and Stock - MH'!AY$14,0,(-1*LIFETIME_MH)+1,1,LIFETIME_MH)))","v":267.49927167053812},{"$f":"IF(AY$15-$D$15+2<=LIFETIME_MH,AY12,\nSUMPRODUCT(OFFSET(AY12,0,(-1*LIFETIME_MH)+1,1,LIFETIME_MH),OFFSET('Shipments and Stock - MH'!AZ$14,0,(-1*LIFETIME_MH)+1,1,LIFETIME_MH))/\nSUM(OFFSET('Shipments and Stock - MH'!AZ$14,0,(-1*LIFETIME_MH)+1,1,LIFETIME_MH)))","v":267.30338196411111},{"$f":"IF(AZ$15-$D$15+2<=LIFETIME_MH,AZ12,\nSUMPRODUCT(OFFSET(AZ12,0,(-1*LIFETIME_MH)+1,1,LIFETIME_MH),OFFSET('Shipments and Stock - MH'!BA$14,0,(-1*LIFETIME_MH)+1,1,LIFETIME_MH))/\nSUM(OFFSET('Shipments and Stock - MH'!BA$14,0,(-1*LIFETIME_MH)+1,1,LIFETIME_MH)))","v":267.11410223264272},{"$f":"IF(BA$15-$D$15+2<=LIFETIME_MH,BA12,\nSUMPRODUCT(OFFSET(BA12,0,(-1*LIFETIME_MH)+1,1,LIFETIME_MH),OFFSET('Shipments and Stock - MH'!BB$14,0,(-1*LIFETIME_MH)+1,1,LIFETIME_MH))/\nSUM(OFFSET('Shipments and Stock - MH'!BB$14,0,(-1*LIFETIME_MH)+1,1,LIFETIME_MH)))","v":266.91985486755505},{"$f":"IF(BB$15-$D$15+2<=LIFETIME_MH,BB12,\nSUMPRODUCT(OFFSET(BB12,0,(-1*LIFETIME_MH)+1,1,LIFETIME_MH),OFFSET('Shipments and Stock - MH'!BC$14,0,(-1*LIFETIME_MH)+1,1,LIFETIME_MH))/\nSUM(OFFSET('Shipments and Stock - MH'!BC$14,0,(-1*LIFETIME_MH)+1,1,LIFETIME_MH)))","v":266.70204647318121},{"$f":"IF(BC$15-$D$15+2<=LIFETIME_MH,BC12,\nSUMPRODUCT(OFFSET(BC12,0,(-1*LIFETIME_MH)+1,1,LIFETIME_MH),OFFSET('Shipments and Stock - MH'!BD$14,0,(-1*LIFETIME_MH)+1,1,LIFETIME_MH))/\nSUM(OFFSET('Shipments and Stock - MH'!BD$14,0,(-1*LIFETIME_MH)+1,1,LIFETIME_MH)))","v":266.47580343423607},{"$f":"IF(BD$15-$D$15+2<=LIFETIME_MH,BD12,\nSUMPRODUCT(OFFSET(BD12,0,(-1*LIFETIME_MH)+1,1,LIFETIME_MH),OFFSET('Shipments and Stock - MH'!BE$14,0,(-1*LIFETIME_MH)+1,1,LIFETIME_MH))/\nSUM(OFFSET('Shipments and Stock - MH'!BE$14,0,(-1*LIFETIME_MH)+1,1,LIFETIME_MH)))","v":266.26354040938548},{"$f":"IF(BE$15-$D$15+2<=LIFETIME_MH,BE12,\nSUMPRODUCT(OFFSET(BE12,0,(-1*LIFETIME_MH)+1,1,LIFETIME_MH),OFFSET('Shipments and Stock - MH'!BF$14,0,(-1*LIFETIME_MH)+1,1,LIFETIME_MH))/\nSUM(OFFSET('Shipments and Stock - MH'!BF$14,0,(-1*LIFETIME_MH)+1,1,LIFETIME_MH)))","v":266.0734757274638}]

{"sheet":"Results-SF","index":21,"n_rows":46,"n_cols":28,"rows_kept":46,"cut":false,"hidden":false,"merged":[]}
[]
[null,null,"RESULTS - Single Family"]
[]
[null,null,"NAVIGATION"]
[]
[null,null,"COMMENTS"]
[]
[]
[null,null,"SINGLE FAMILY"]
[]
[null,null,"Unit Energy Consumption (kWh/year) ",2010,2011,2012,2013,2014,2015,2016,2017,2018,2019,2020,2021,2022,2023,2024,2025,2026,2027,2028,2029,2030,2031,2032,2033,2034]
[null,null,"6P UEC",{"$f":"$D$13","v":269.41288998644285},{"$f":"$D$13","v":269.41288998644285},269.41288998644285,269.41288998644285,269.41288998644285,269.41288998644285,269.41288998644285,269.41288998644285,269.41288998644285,269.41288998644285,269.41288998644285,269.41288998644285,269.41288998644285,269.41288998644285,269.41288998644285,269.41288998644285,269.41288998644285,269.41288998644285,269.41288998644285,269.41288998644285,269.41288998644285,269.41288998644285,269.41288998644285,269.41288998644285,269.41288998644285]
[null,null,{"$f":"'UEC-SF'!$C$9&\" - \"&'UEC-SF'!C11","v":"Market UEC (Shipment Weighted Average) - PRE-Case UEC"},{"$f":"'UEC-SF'!AG11","v":269.41288998644285},{"$f":"'UEC-SF'!AH11","v":269.45608686752524},{"$f":"'UEC-SF'!AI11","v":269.49928374860792},{"$f":"'UEC-SF'!AJ11","v":269.54248062969049},{"$f":"'UEC-SF'!AK11","v":269.585677510773},{"$f":"'UEC-SF'!AL11","v":269.62887439185556},{"$f":"'UEC-SF'!AM11","v":269.67207127293807},{"$f":"'UEC-SF'!AN11","v":269.71526815402063},{"$f":"'UEC-SF'!AO11","v":269.75846503510303},{"$f":"'UEC-SF'!AP11","v":269.80166191618571},{"$f":"'UEC-SF'!AQ11","v":269.84485879726816},{"$f":"'UEC-SF'!AR11","v":269.88805567835078},{"$f":"'UEC-SF'!AS11","v":269.93125255943335},{"$f":"'UEC-SF'!AT11","v":269.97444944051591},{"$f":"'UEC-SF'!AU11","v":270.01764632159842},{"$f":"'UEC-SF'!AV11","v":270.06084320268099},{"$f":"'UEC-SF'!AW11","v":270.10404008376349},{"$f":"'UEC-SF'!AX11","v":270.14723696484606},{"$f":"'UEC-SF'!AY11","v":270.19043384592862},{"$f":"'UEC-SF'!AZ11","v":270.23363072701102},{"$f":"'UEC-SF'!BA11","v":270.2768276080937},{"$f":"'UEC-SF'!BB11","v":270.32002448917626},{"$f":"'UEC-SF'!BC11","v":270.36322137025877},{"$f":"'UEC-SF'!BD11","v":270.40641825134134},{"$f":"'UEC-SF'!BE11","v":270.44961513242384}]
[null,null,{"$f":"'UEC-SF'!$C$9&\" - \"&'UEC-SF'!C12","v":"Market UEC (Shipment Weighted Average) - POST-Case UEC"},{"$f":"'UEC-SF'!AG12","v":269.41288998644285},{"$f":"'UEC-SF'!AH12","v":269.45608686752524},{"$f":"'UEC-SF'!AI12","v":269.49928374860792},{"$f":"'UEC-SF'!AJ12","v":269.54248062969049},{"$f":"'UEC-SF'!AK12","v":269.585677510773},{"$f":"'UEC-SF'!AL12","v":269.62887439185556},{"$f":"'UEC-SF'!AM12","v":269.67207127293807},{"$f":"'UEC-SF'!AN12","v":269.71526815402063},{"$f":"'UEC-SF'!AO12","v":269.75846503510303},{"$f":"'UEC-SF'!AP12","v":264.9672595104613},{"$f":"'UEC-SF'!AQ12","v":265.02979558098235},{"$f":"'UEC-SF'!AR12","v":265.09233165150363},{"$f":"'UEC-SF'!AS12","v":265.15486772202485},{"$f":"'UEC-SF'!AT12","v":265.21740379254595},{"$f":"'UEC-SF'!AU12","v":265.27993986306717},{"$f":"'UEC-SF'!AV12","v":265.34247593358828},{"$f":"'UEC-SF'!AW12","v":265.40501200410949},{"$f":"'UEC-SF'!AX12","v":265.4675480746306},{"$f":"'UEC-SF'!AY12","v":265.53008414515182},{"$f":"'UEC-SF'!AZ12","v":265.59262021567287},{"$f":"'UEC-SF'!BA12","v":265.65515628619414},{"$f":"'UEC-SF'!BB12","v":265.71769235671536},{"$f":"'UEC-SF'!BC12","v":265.78022842723652},{"$f":"'UEC-SF'!BD12","v":265.84276449775768},{"$f":"'UEC-SF'!BE12","v":265.90530056827885}]
[null,null,{"$f":"'UEC-SF'!$C$14&\" - \"&'UEC-SF'!C16","v":"Installed UEC (Vintage Weighted Average)  - PRE-Case UEC"},{"$f":"'UEC-SF'!AG16","v":268.99811612922355},{"$f":"'UEC-SF'!AH16","v":269.08187369041354},{"$f":"'UEC-SF'!AI16","v":269.16375534042066},{"$f":"'UEC-SF'!AJ16","v":269.21951563897477},{"$f":"'UEC-SF'!AK16","v":269.27379857322586},{"$f":"'UEC-SF'!AL16","v":269.32945918693912},{"$f":"'UEC-SF'!AM16","v":269.37946937484099},{"$f":"'UEC-SF'!AN16","v":269.41867397357481},{"$f":"'UEC-SF'!AO16","v":269.45868776320191},{"$f":"'UEC-SF'!AP16","v":269.4991963754261},{"$f":"'UEC-SF'!AQ16","v":269.53887835767529},{"$f":"'UEC-SF'!AR16","v":269.57685593199449},{"$f":"'UEC-SF'!AS16","v":269.60232037809158},{"$f":"'UEC-SF'!AT16","v":269.62982074313527},{"$f":"'UEC-SF'!AU16","v":269.6536937328878},{"$f":"'UEC-SF'!AV16","v":269.69756043876896},{"$f":"'UEC-SF'!AW16","v":269.73835048614797},{"$f":"'UEC-SF'!AX16","v":269.77619567471407},{"$f":"'UEC-SF'!AY16","v":269.81336590360155},{"$f":"'UEC-SF'!AZ16","v":269.85146157079384},{"$f":"'UEC-SF'!BA16","v":269.8934627288898},{"$f":"'UEC-SF'!BB16","v":269.93883529482838},{"$f":"'UEC-SF'!BC16","v":269.98450396940518},{"$f":"'UEC-SF'!BD16","v":270.02830207475148},{"$f":"'UEC-SF'!BE16","v":270.07198781248889}]
[null,null,{"$f":"'UEC-SF'!$C$14&\" - \"&'UEC-SF'!C17","v":"Installed UEC (Vintage Weighted Average)  - POST-Case UEC"},{"$f":"'UEC-SF'!AG17","v":268.99811612922355},{"$f":"'UEC-SF'!AH17","v":269.08187369041354},{"$f":"'UEC-SF'!AI17","v":269.16375534042066},{"$f":"'UEC-SF'!AJ17","v":269.21951563897477},{"$f":"'UEC-SF'!AK17","v":269.27379857322586},{"$f":"'UEC-SF'!AL17","v":269.32945918693912},{"$f":"'UEC-SF'!AM17","v":269.37946937484099},{"$f":"'UEC-SF'!AN17","v":269.41867397357481},{"$f":"'UEC-SF'!AO17","v":269.45868776320191},{"$f":"'UEC-SF'!AP17","v":269.1984613927666},{"$f":"'UEC-SF'!AQ17","v":268.95923535206839},{"$f":"'UEC-SF'!AR17","v":268.70748257824886},{"$f":"'UEC-SF'!AS17","v":268.44919610022572},{"$f":"'UEC-SF'!AT17","v":268.20077490756688},{"$f":"'UEC-SF'!AU17","v":267.94737651824857},{"$f":"'UEC-SF'!AV17","v":267.73119157199005},{"$f":"'UEC-SF'!AW17","v":267.53379170626755},{"$f":"'UEC-SF'!AX17","v":267.3542524098919},{"$f":"'UEC-SF'!AY17","v":267.18158092937989},{"$f":"'UEC-SF'!AZ17","v":267.00808314326349},{"$f":"'UEC-SF'!BA17","v":266.81990594299475},{"$f":"'UEC-SF'!BB17","v":266.61970890968246},{"$f":"'UEC-SF'!BC17","v":266.42171039236956},{"$f":"'UEC-SF'!BD17","v":266.23576818959793},{"$f":"'UEC-SF'!BE17","v":266.05378036163154}]
[]
[null,null,"Stock and Shipments (units)",2010,2011,2012,2013,2014,2015,2016,2017,2018,2019,2020,2021,2022,2023,2024,2025,2026,2027,2028,2029,2030,2031,2032,2033,2034]
[null,null,"6P Shipments",{"$f":"'Shipments and Stock - SF'!AH11","v":166193.92044970513},{"$f":"'Shipments and Stock - SF'!AI11","v":166193.92044970513},{"$f":"'Shipments and Stock - SF'!AJ11","v":166193.92044970513},{"$f":"'Shipments and Stock - SF'!AK11","v":166193.92044970513},{"$f":"'Shipments and Stock - SF'!AL11","v":166193.92044970513},{"$f":"'Shipments and Stock - SF'!AM11","v":166193.92044970513},{"$f":"'Shipments and Stock - SF'!AN11","v":166193.92044970513},{"$f":"'Shipments and Stock - SF'!AO11","v":166193.92044970513},{"$f":"'Shipments and Stock - SF'!AP11","v":166193.92044970513},{"$f":"'Shipments and Stock - SF'!AQ11","v":166193.92044970513},{"$f":"'Shipments and Stock - SF'!AR11","v":166193.92044970513},{"$f":"'Shipments and Stock - SF'!AS11","v":166193.92044970513},{"$f":"'Shipments and Stock - SF'!AT11","v":166193.92044970513},{"$f":"'Shipments and Stock - SF'!AU11","v":166193.92044970513},{"$f":"'Shipments and Stock - SF'!AV11","v":166193.92044970513},{"$f":"'Shipments and Stock - SF'!AW11","v":166193.92044970513},{"$f":"'Shipments and Stock - SF'!AX11","v":166193.92044970513},{"$f":"'Shipments and Stock - SF'!AY11","v":166193.92044970513},{"$f":"'Shipments and Stock - SF'!AZ11","v":166193.92044970513},{"$f":"'Shipments and Stock - SF'!BA11","v":166193.92044970513},{"$f":"'Shipments and Stock - SF'!BB11","v":166193.92044970513},{"$f":"'Shipments and Stock - SF'!BC11","v":166193.92044970513},{"$f":"'Shipments and Stock - SF'!BD11","v":166193.92044970513},{"$f":"'Shipments and Stock - SF'!BE11","v":166193.92044970513},{"$f":"'Shipments and Stock - SF'!BF11","v":166193.92044970513}]
[null,null,"Replacement Shipments",{"$f":"'Shipments and Stock - SF'!AH12","v":159223.22378613663},{"$f":"'Shipments and Stock - SF'!AI12","v":168721.884316132},{"$f":"'Shipments and Stock - SF'!AJ12","v":154715.35966138312},{"$f":"'Shipments and Stock - SF'!AK12","v":157175.58519594141},{"$f":"'Shipments and Stock - SF'!AL12","v":150253.20902691738},{"$f":"'Shipments and Stock - SF'!AM12","v":151647.13735815653},{"$f":"'Shipments and Stock - SF'!AN12","v":150550.206676025},{"$f":"'Shipments and Stock - SF'!AO12","v":151670.75741106694},{"$f":"'Shipments and Stock - SF'!AP12","v":149810.40105531929},{"$f":"'Shipments and Stock - SF'!AQ12","v":173631.67102430115},{"$f":"'Shipments and Stock - SF'!AR12","v":164983.53602015044},{"$f":"'Shipments and Stock - SF'!AS12","v":180915.62014758872},{"$f":"'Shipments and Stock - SF'!AT12","v":183591.11499887198},{"$f":"'Shipments and Stock - SF'!AU12","v":184317.50963294884},{"$f":"'Shipments and Stock - SF'!AV12","v":192180.88986099098},{"$f":"'Shipments and Stock - SF'!AW12","v":184463.18227628249},{"$f":"'Shipments and Stock - SF'!AX12","v":172422.67168075318},{"$f":"'Shipments and Stock - SF'!AY12","v":160706.9160437333},{"$f":"'Shipments and Stock - SF'!AZ12","v":159685.04979087232},{"$f":"'Shipments and Stock - SF'!BA12","v":166241.78636696239},{"$f":"'Shipments and Stock - SF'!BB12","v":187470.63026065478},{"$f":"'Shipments and Stock - SF'!BC12","v":206329.2760484936},{"$f":"'Shipments and Stock - SF'!BD12","v":210095.28615032698},{"$f":"'Shipments and Stock - SF'!BE12","v":202799.64231425946},{"$f":"'Shipments and Stock - SF'!BF12","v":204356.86026127636}]
[null,null,"Net New Shipments",{"$f":"'Shipments and Stock - SF'!AH13","v":7018.562580825761},{"$f":"'Shipments and Stock - SF'!AI13","v":18748.745944522787},{"$f":"'Shipments and Stock - SF'!AJ13","v":51613.916387110483},{"$f":"'Shipments and Stock - SF'!AK13","v":52919.700954385567},{"$f":"'Shipments and Stock - SF'!AL13","v":52546.433287342079},{"$f":"'Shipments and Stock - SF'!AM13","v":52709.722903119866},{"$f":"'Shipments and Stock - SF'!AN13","v":52879.381955374032},{"$f":"'Shipments and Stock - SF'!AO13","v":51953.01899257116},{"$f":"'Shipments and Stock - SF'!AP13","v":50918.206012547482},{"$f":"'Shipments and Stock - SF'!AQ13","v":49802.948584893718},{"$f":"'Shipments and Stock - SF'!AR13","v":48960.701492340304},{"$f":"'Shipments and Stock - SF'!AS13","v":47680.582938220818},{"$f":"'Shipments and Stock - SF'!AT13","v":46833.550101749599},{"$f":"'Shipments and Stock - SF'!AU13","v":46222.832271969412},{"$f":"'Shipments and Stock - SF'!AV13","v":45522.999711485114},{"$f":"'Shipments and Stock - SF'!AW13","v":45367.726488052402},{"$f":"'Shipments and Stock - SF'!AX13","v":44955.17211456364},{"$f":"'Shipments and Stock - SF'!AY13","v":44073.277262243908},{"$f":"'Shipments and Stock - SF'!AZ13","v":42925.615710645914},{"$f":"'Shipments and Stock - SF'!BA13","v":42143.112971743569},{"$f":"'Shipments and Stock - SF'!BB13","v":41973.881291304715},{"$f":"'Shipments and Stock - SF'!BC13","v":42393.620104217902},{"$f":"'Shipments and Stock - SF'!BD13","v":42817.556305259932},{"$f":"'Shipments and Stock - SF'!BE13","v":43245.731868312228},{"$f":"'Shipments and Stock - SF'!BF13","v":43678.189186995849}]
[null,null,"Total Model Shipments",{"$f":"'Shipments and Stock - SF'!AH14","v":166241.78636696239},{"$f":"'Shipments and Stock - SF'!AI14","v":187470.63026065478},{"$f":"'Shipments and Stock - SF'!AJ14","v":206329.2760484936},{"$f":"'Shipments and Stock - SF'!AK14","v":210095.28615032698},{"$f":"'Shipments and Stock - SF'!AL14","v":202799.64231425946},{"$f":"'Shipments and Stock - SF'!AM14","v":204356.86026127639},{"$f":"'Shipments and Stock - SF'!AN14","v":203429.58863139903},{"$f":"'Shipments and Stock - SF'!AO14","v":203623.7764036381},{"$f":"'Shipments and Stock - SF'!AP14","v":200728.60706786677},{"$f":"'Shipments and Stock - SF'!AQ14","v":223434.61960919487},{"$f":"'Shipments and Stock - SF'!AR14","v":213944.23751249074},{"$f":"'Shipments and Stock - SF'!AS14","v":228596.20308580954},{"$f":"'Shipments and Stock - SF'!AT14","v":230424.66510062158},{"$f":"'Shipments and Stock - SF'!AU14","v":230540.34190491826},{"$f":"'Shipments and Stock - SF'!AV14","v":237703.8895724761},{"$f":"'Shipments and Stock - SF'!AW14","v":229830.90876433489},{"$f":"'Shipments and Stock - SF'!AX14","v":217377.84379531682},{"$f":"'Shipments and Stock - SF'!AY14","v":204780.19330597721},{"$f":"'Shipments and Stock - SF'!AZ14","v":202610.66550151823},{"$f":"'Shipments and Stock - SF'!BA14","v":208384.89933870596},{"$f":"'Shipments and Stock - SF'!BB14","v":229444.5115519595},{"$f":"'Shipments and Stock - SF'!BC14","v":248722.8961527115},{"$f":"'Shipments and Stock - SF'!BD14","v":252912.84245558691},{"$f":"'Shipments and Stock - SF'!BE14","v":246045.37418257169},{"$f":"'Shipments and Stock - SF'!BF14","v":248035.04944827221}]
[null,null,"Model Installed Stock",{"$f":"'Shipments and Stock - SF'!AH15","v":3157684.4885443975},{"$f":"'Shipments and Stock - SF'!AI15","v":3176433.2344889203},{"$f":"'Shipments and Stock - SF'!AJ15","v":3228047.1508760308},{"$f":"'Shipments and Stock - SF'!AK15","v":3280966.8518304164},{"$f":"'Shipments and Stock - SF'!AL15","v":3333513.2851177584},{"$f":"'Shipments and Stock - SF'!AM15","v":3386223.0080208783},{"$f":"'Shipments and Stock - SF'!AN15","v":3439102.3899762523},{"$f":"'Shipments and Stock - SF'!AO15","v":3491055.4089688235},{"$f":"'Shipments and Stock - SF'!AP15","v":3541973.614981371},{"$f":"'Shipments and Stock - SF'!AQ15","v":3591776.5635662647},{"$f":"'Shipments and Stock - SF'!AR15","v":3640737.265058605},{"$f":"'Shipments and Stock - SF'!AS15","v":3688417.8479968258},{"$f":"'Shipments and Stock - SF'!AT15","v":3735251.3980985754},{"$f":"'Shipments and Stock - SF'!AU15","v":3781474.2303705448},{"$f":"'Shipments and Stock - SF'!AV15","v":3826997.2300820299},{"$f":"'Shipments and Stock - SF'!AW15","v":3872364.9565700823},{"$f":"'Shipments and Stock - SF'!AX15","v":3917320.128684646},{"$f":"'Shipments and Stock - SF'!AY15","v":3961393.4059468899},{"$f":"'Shipments and Stock - SF'!AZ15","v":4004319.0216575358},{"$f":"'Shipments and Stock - SF'!BA15","v":4046462.1346292794},{"$f":"'Shipments and Stock - SF'!BB15","v":4088436.0159205841},{"$f":"'Shipments and Stock - SF'!BC15","v":4130829.636024802},{"$f":"'Shipments and Stock - SF'!BD15","v":4173647.1923300619},{"$f":"'Shipments and Stock - SF'!BE15","v":4216892.9241983742},{"$f":"'Shipments and Stock - SF'!BF15","v":4260571.11338537}]
[]
[]
[]
[null,null,"First Year Energy Consumption ",2010,2011,2012,2013,2014,2015,2016,2017,2018,2019,2020,2021,2022,2023,2024,2025,2026,2027,2028,2029,2030,2031,2032,2033,2034]
[null,null,"6P Shipments * 6P UEC",{"$f":"D12*D19","v":44774784.406532042},{"$f":"E12*E19","v":44774784.406532042},44774784.406532042,44774784.406532042,44774784.406532042,44774784.406532042,44774784.406532042,44774784.406532042,44774784.406532042,44774784.406532042,44774784.406532042,44774784.406532042,44774784.406532042,44774784.406532042,44774784.406532042,44774784.406532042,44774784.406532042,44774784.406532042,44774784.406532042,44774784.406532042,44774784.406532042,44774784.406532042,44774784.406532042,44774784.406532042,44774784.406532042]
[null,null,"Model Shipments * Model Pre-Case UEC",{"$f":"D13*D22","v":44787680.10163217},{"$f":"E13*E22","v":50515102.432624705},55605592.111437827,56629604.597563788,54671878.972232066,55100510.20650167,54859278.524431109,54920441.455241591,54148240.931262076,60283031.700171553,57731752.562047265,61695384.786282547,62198818.47119873,62240001.879608609,64184244.783849135,62068329.014934726,58714633.833812334,55320803.406736806,54743463.613667533,56312607.936981231,62013534.694352217,67234779.379019812,68378330.812201232,66532248.360020258,67080983.662636936]
[null,null,"Model Shipments * Model Post-Case UEC",{"$f":"D14*D22","v":44787680.10163217},{"$f":"E14*E22","v":50515102.432624705},55605592.111437827,56629604.597563788,54671878.972232066,55100510.20650167,54859278.524431109,54920441.455241591,54148240.931262076,59202858.837610744,56701597.533664554,60599100.482697897,61098221.594647191,61143310.949468307,63058073.531003617,60983902.377595253,57693169.241923496,54362495.811186656,53799227.059323348,55345491.428746149,60953117.575345278,66090074.001977459,67219233.040027574,65409382.464580074,65953834.375010729]
[]
[null,null,"Total Energy Consumption (kWh)",2010,2011,2012,2013,2014,2015,2016,2017,2018,2019,2020,2021,2022,2023,2024,2025,2026,2027,2028,2029,2030,2031,2032,2033,2034]
[null,null,"Modeled Pre-case Consumption \n(Installed UEC * Stock)",{"$f":"D15*D$23","v":849411178.74891376},{"$f":"E15*E$23","v":854720606.3887794},868873293.54573798,883300306.67731655,897627784.87797177,912009611.43663335,926423576.93755031,940555519.05265629,954415562.38476479,967980897.44119787,981320238.81888676,994312086.82643747,1007032444.1228867,1019598218.8795954,1031963938.9971497,1044367381.9155307,1056651469.8375813,1068689642.6272502,1080418793.3852365,1091943721.2205853,1103442153.4823129,1115071340.7498949,1126820066.9645324,1138680436.3523207,1150660909.8084559]
[null,null,"Modeled Post-case Consumption \n(Installed UEC* Stock)",{"$f":"D16*D$23","v":849411178.74891376},{"$f":"E16*E$23","v":854720606.3887794},868873293.54573798,883300306.67731655,897627784.87797177,912009611.43663335,926423576.93755031,940555519.05265629,954415562.38476479,966900724.578637,979209910.92794311,991105474.63190925,1002725235.0518068,1014194318.8783752,1025433867.7430841,1036752884.0241257,1048015507.3542873,1059095372.5484061,1069880286.7520483,1080438098.0791621,1090876113.2218823,1101360595.1124222,1111950223.5548861,1122687727.0472341,1133541051.2157431]
[]
[]
[]
[null,null,"Total Energy Consumption (aMW)",2010,2011,2012,2013,2014,2015,2016,2017,2018,2019,2020,2021,2022,2023,2024,2025,2026,2027,2028,2029,2030,2031,2032,2033,2034]
[null,null,{"$f":"C33","v":"Modeled Pre-case Consumption \n(Installed UEC * Stock)"},{"$f":"D33/Constants!$D$13/(Constants!$D$12*Constants!$D$10)","v":96.898377680688313},{"$f":"E33/Constants!$D$13/(Constants!$D$12*Constants!$D$10)","v":97.504061874147766},{"$f":"F33/Constants!$D$13/(Constants!$D$12*Constants!$D$10)","v":99.118559610510829},{"$f":"G33/Constants!$D$13/(Constants!$D$12*Constants!$D$10)","v":100.76435166293824},{"$f":"H33/Constants!$D$13/(Constants!$D$12*Constants!$D$10)","v":102.39878905749164},{"$f":"I33/Constants!$D$13/(Constants!$D$12*Constants!$D$10)","v":104.03942635599286},{"$f":"J33/Constants!$D$13/(Constants!$D$12*Constants!$D$10)","v":105.68372997234204},{"$f":"K33/Constants!$D$13/(Constants!$D$12*Constants!$D$10)","v":107.29586117415654},{"$f":"L33/Constants!$D$13/(Constants!$D$12*Constants!$D$10)","v":108.87697494692731},{"$f":"M33/Constants!$D$13/(Constants!$D$12*Constants!$D$10)","v":110.42446924950923},{"$f":"N33/Constants!$D$13/(Constants!$D$12*Constants!$D$10)","v":111.94618284495628},{"$f":"O33/Constants!$D$13/(Constants!$D$12*Constants!$D$10)","v":113.42825539886351},{"$f":"P33/Constants!$D$13/(Constants!$D$12*Constants!$D$10)","v":114.87935707539204},{"$f":"Q33/Constants!$D$13/(Constants!$D$12*Constants!$D$10)","v":116.31282442158286},{"$f":"R33/Constants!$D$13/(Constants!$D$12*Constants!$D$10)","v":117.72347011147042},{"$f":"S33/Constants!$D$13/(Constants!$D$12*Constants!$D$10)","v":119.13841910968864},{"$f":"T33/Constants!$D$13/(Constants!$D$12*Constants!$D$10)","v":120.53975243412974},{"$f":"U33/Constants!$D$13/(Constants!$D$12*Constants!$D$10)","v":121.91303246945587},{"$f":"V33/Constants!$D$13/(Constants!$D$12*Constants!$D$10)","v":123.25106016258687},{"$f":"W33/Constants!$D$13/(Constants!$D$12*Constants!$D$10)","v":124.56579069365563},{"$f":"X33/Constants!$D$13/(Constants!$D$12*Constants!$D$10)","v":125.87749868609546},{"$f":"Y33/Constants!$D$13/(Constants!$D$12*Constants!$D$10)","v":127.20412283252281},{"$f":"Z33/Constants!$D$13/(Constants!$D$12*Constants!$D$10)","v":128.54438363729551},{"$f":"AA33/Constants!$D$13/(Constants!$D$12*Constants!$D$10)","v":129.8973803732969},{"$f":"AB33/Constants!$D$13/(Constants!$D$12*Constants!$D$10)","v":131.26407823505087}]
[null,null,{"$f":"C34","v":"Modeled Post-case Consumption \n(Installed UEC* Stock)"},{"$f":"D34/Constants!$D$13/(Constants!$D$12*Constants!$D$10)","v":96.898377680688313},{"$f":"E34/Constants!$D$13/(Constants!$D$12*Constants!$D$10)","v":97.504061874147766},{"$f":"F34/Constants!$D$13/(Constants!$D$12*Constants!$D$10)","v":99.118559610510829},{"$f":"G34/Constants!$D$13/(Constants!$D$12*Constants!$D$10)","v":100.76435166293824},{"$f":"H34/Constants!$D$13/(Constants!$D$12*Constants!$D$10)","v":102.39878905749164},{"$f":"I34/Constants!$D$13/(Constants!$D$12*Constants!$D$10)","v":104.03942635599286},{"$f":"J34/Constants!$D$13/(Constants!$D$12*Constants!$D$10)","v":105.68372997234204},{"$f":"K34/Constants!$D$13/(Constants!$D$12*Constants!$D$10)","v":107.29586117415654},{"$f":"L34/Constants!$D$13/(Constants!$D$12*Constants!$D$10)","v":108.87697494692731},{"$f":"M34/Constants!$D$13/(Constants!$D$12*Constants!$D$10)","v":110.30124624442585},{"$f":"N34/Constants!$D$13/(Constants!$D$12*Constants!$D$10)","v":111.70544272506766},{"$f":"O34/Constants!$D$13/(Constants!$D$12*Constants!$D$10)","v":113.06245432716283},{"$f":"P34/Constants!$D$13/(Constants!$D$12*Constants!$D$10)","v":114.38800308599211},{"$f":"Q34/Constants!$D$13/(Constants!$D$12*Constants!$D$10)","v":115.69636309358604},{"$f":"R34/Constants!$D$13/(Constants!$D$12*Constants!$D$10)","v":116.9785384146799},{"$f":"S34/Constants!$D$13/(Constants!$D$12*Constants!$D$10)","v":118.26977914945536},{"$f":"T34/Constants!$D$13/(Constants!$D$12*Constants!$D$10)","v":119.55458673902433},{"$f":"U34/Constants!$D$13/(Constants!$D$12*Constants!$D$10)","v":120.81854580748414},{"$f":"V34/Constants!$D$13/(Constants!$D$12*Constants!$D$10)","v":122.04885771755056},{"$f":"W34/Constants!$D$13/(Constants!$D$12*Constants!$D$10)","v":123.25326238639769},{"$f":"X34/Constants!$D$13/(Constants!$D$12*Constants!$D$10)","v":124.44400105200575},{"$f":"Y34/Constants!$D$13/(Constants!$D$12*Constants!$D$10)","v":125.64004051020103},{"$f":"Z34/Constants!$D$13/(Constants!$D$12*Constants!$D$10)","v":126.84807478381089},{"$f":"AA34/Constants!$D$13/(Constants!$D$12*Constants!$D$10)","v":128.07297821665915},{"$f":"AB34/Constants!$D$13/(Constants!$D$12*Constants!$D$10)","v":129.31109413823216}]
[]
[null,null,"Savings (aMW)",2010,2011,2012,2013,2014,2015,2016,2017,2018,2019,2020,2021,2022,2023,2024,2025,2026,2027,2028,2029,2030,2031,2032,2033,2034]
[null,null,"Incremental Savings",{"$f":"IF(AND(D42>=STANDARD_YEAR,(D42-STANDARD_YEAR)<LIFETIME_SF),\n(D13-D14)*D22,\n(D13-D14)*D21)\n/Constants!$D$13/(Constants!$D$12*Constants!$D$10)","v":0},{"$f":"IF(AND(E42>=STANDARD_YEAR,(E42-STANDARD_YEAR)<LIFETIME_SF),\n(E13-E14)*E22,\n(E13-E14)*E21)\n/Constants!$D$13/(Constants!$D$12*Constants!$D$10)","v":0},{"$f":"IF(AND(F42>=STANDARD_YEAR,(F42-STANDARD_YEAR)<LIFETIME_SF),\n(F13-F14)*F22,\n(F13-F14)*F21)\n/Constants!$D$13/(Constants!$D$12*Constants!$D$10)","v":0},{"$f":"IF(AND(G42>=STANDARD_YEAR,(G42-STANDARD_YEAR)<LIFETIME_SF),\n(G13-G14)*G22,\n(G13-G14)*G21)\n/Constants!$D$13/(Constants!$D$12*Constants!$D$10)","v":0},{"$f":"IF(AND(H42>=STANDARD_YEAR,(H42-STANDARD_YEAR)<LIFETIME_SF),\n(H13-H14)*H22,\n(H13-H14)*H21)\n/Constants!$D$13/(Constants!$D$12*Constants!$D$10)","v":0},{"$f":"IF(AND(I42>=STANDARD_YEAR,(I42-STANDARD_YEAR)<LIFETIME_SF),\n(I13-I14)*I22,\n(I13-I14)*I21)\n/Constants!$D$13/(Constants!$D$12*Constants!$D$10)","v":0},{"$f":"IF(AND(J42>=STANDARD_YEAR,(J42-STANDARD_YEAR)<LIFETIME_SF),\n(J13-J14)*J22,\n(J13-J14)*J21)\n/Constants!$D$13/(Constants!$D$12*Constants!$D$10)","v":0},{"$f":"IF(AND(K42>=STANDARD_YEAR,(K42-STANDARD_YEAR)<LIFETIME_SF),\n(K13-K14)*K22,\n(K13-K14)*K21)\n/Constants!$D$13/(Constants!$D$12*Constants!$D$10)","v":0},{"$f":"IF(AND(L42>=STANDARD_YEAR,(L42-STANDARD_YEAR)<LIFETIME_SF),\n(L13-L14)*L22,\n(L13-L14)*L21)\n/Constants!$D$13/(Constants!$D$12*Constants!$D$10)","v":0},{"$f":"IF(AND(M42>=STANDARD_YEAR,(M42-STANDARD_YEAR)<LIFETIME_SF),\n(M13-M14)*M22,\n(M13-M14)*M21)\n/Constants!$D$13/(Constants!$D$12*Constants!$D$10)","v":0.12322300508336857},{"$f":"IF(AND(N42>=STANDARD_YEAR,(N42-STANDARD_YEAR)<LIFETIME_SF),\n(N13-N14)*N22,\n(N13-N14)*N21)\n/Constants!$D$13/(Constants!$D$12*Constants!$D$10)","v":0.11751711480523708},{"$f":"IF(AND(O42>=STANDARD_YEAR,(O42-STANDARD_YEAR)<LIFETIME_SF),\n(O13-O14)*O22,\n(O13-O14)*O21)\n/Constants!$D$13/(Constants!$D$12*Constants!$D$10)","v":0.12506095181207488},{"$f":"IF(AND(P42>=STANDARD_YEAR,(P42-STANDARD_YEAR)<LIFETIME_SF),\n(P13-P14)*P22,\n(P13-P14)*P21)\n/Constants!$D$13/(Constants!$D$12*Constants!$D$10)","v":0.12555291769924032},{"$f":"IF(AND(Q42>=STANDARD_YEAR,(Q42-STANDARD_YEAR)<LIFETIME_SF),\n(Q13-Q14)*Q22,\n(Q13-Q14)*Q21)\n/Constants!$D$13/(Constants!$D$12*Constants!$D$10)","v":0.1251073385968855},{"$f":"IF(AND(R42>=STANDARD_YEAR,(R42-STANDARD_YEAR)<LIFETIME_SF),\n(R13-R14)*R22,\n(R13-R14)*R21)\n/Constants!$D$13/(Constants!$D$12*Constants!$D$10)","v":0.1284703687936937},{"$f":"IF(AND(S42>=STANDARD_YEAR,(S42-STANDARD_YEAR)<LIFETIME_SF),\n(S13-S14)*S22,\n(S13-S14)*S21)\n/Constants!$D$13/(Constants!$D$12*Constants!$D$10)","v":0.12370826344278696},{"$f":"IF(AND(T42>=STANDARD_YEAR,(T42-STANDARD_YEAR)<LIFETIME_SF),\n(T13-T14)*T22,\n(T13-T14)*T21)\n/Constants!$D$13/(Constants!$D$12*Constants!$D$10)","v":0.11652573487210069},{"$f":"IF(AND(U42>=STANDARD_YEAR,(U42-STANDARD_YEAR)<LIFETIME_SF),\n(U13-U14)*U22,\n(U13-U14)*U21)\n/Constants!$D$13/(Constants!$D$12*Constants!$D$10)","v":0.10932096686631938},{"$f":"IF(AND(V42>=STANDARD_YEAR,(V42-STANDARD_YEAR)<LIFETIME_SF),\n(V13-V14)*V22,\n(V13-V14)*V21)\n/Constants!$D$13/(Constants!$D$12*Constants!$D$10)","v":0.10771578306458932},{"$f":"IF(AND(W42>=STANDARD_YEAR,(W42-STANDARD_YEAR)<LIFETIME_SF),\n(W13-W14)*W22,\n(W13-W14)*W21)\n/Constants!$D$13/(Constants!$D$12*Constants!$D$10)","v":0.11032586222166063},{"$f":"IF(AND(X42>=STANDARD_YEAR,(X42-STANDARD_YEAR)<LIFETIME_SF),\n(X13-X14)*X22,\n(X13-X14)*X21)\n/Constants!$D$13/(Constants!$D$12*Constants!$D$10)","v":0.1209693268317297},{"$f":"IF(AND(Y42>=STANDARD_YEAR,(Y42-STANDARD_YEAR)<LIFETIME_SF),\n(Y13-Y14)*Y22,\n(Y13-Y14)*Y21)\n/Constants!$D$13/(Constants!$D$12*Constants!$D$10)","v":0.13058468823207395},{"$f":"IF(AND(Z42>=STANDARD_YEAR,(Z42-STANDARD_YEAR)<LIFETIME_SF),\n(Z13-Z14)*Z22,\n(Z13-Z14)*Z21)\n/Constants!$D$13/(Constants!$D$12*Constants!$D$10)","v":0.13222653116286248},{"$f":"IF(AND(AA42>=STANDARD_YEAR,(AA42-STANDARD_YEAR)<LIFETIME_SF),\n(AA13-AA14)*AA22,\n(AA13-AA14)*AA21)\n/Constants!$D$13/(Constants!$D$12*Constants!$D$10)","v":0.12809330315311288},{"$f":"IF(AND(AB42>=STANDARD_YEAR,(AB42-STANDARD_YEAR)<LIFETIME_SF),\n(AB13-AB14)*AB22,\n(AB13-AB14)*AB21)\n/Constants!$D$13/(Constants!$D$12*Constants!$D$10)","v":0.12858194018095004}]
[null,null,"Cumulative Savings",{"$f":"D39-D40","v":0},0,0,0,0,0,0,0,0,{"$f":"M39-M40","v":0.12322300508337491},0.24074011988862765,0.36580107170068743,0.49135398939992569,0.61646132799681652,0.74493169679051618,0.86863996023328127,0.98516569510540819,1.0944866619717288,1.2022024450363062,1.312528307257935,1.4334976340897185,1.5640823223217808,1.6963088534846236,1.8244021566377455,1.9529840968187102]
[null,null,"DOE Aggregate Lifecycle Savings (formerly DOE Carbon proxy)",{"$f":"SUM($D$44:D44)","v":0},{"$f":"SUM($D$44:E44)","v":0},{"$f":"SUM($D$44:F44)","v":0},{"$f":"SUM($D$44:G44)","v":0},{"$f":"SUM($D$44:H44)","v":0},{"$f":"SUM($D$44:I44)","v":0},{"$f":"SUM($D$44:J44)","v":0},{"$f":"SUM($D$44:K44)","v":0},{"$f":"SUM($D$44:L44)","v":0},{"$f":"SUM($D$44:M44)","v":0.12322300508337491},{"$f":"SUM($D$44:N44)","v":0.36396312497200256},{"$f":"SUM($D$44:O44)","v":0.72976419667268999},{"$f":"SUM($D$44:P44)","v":1.2211181860726157},{"$f":"SUM($D$44:Q44)","v":1.8375795140694322},{"$f":"SUM($D$44:R44)","v":2.5825112108599484},{"$f":"SUM($D$44:S44)","v":3.4511511710932297},{"$f":"SUM($D$44:T44)","v":4.4363168661986379},{"$f":"SUM($D$44:U44)","v":5.5308035281703667},{"$f":"SUM($D$44:V44)","v":6.7330059732066729},{"$f":"SUM($D$44:W44)","v":8.0455342804646079},{"$f":"SUM($D$44:X44)","v":9.4790319145543265},{"$f":"SUM($D$44:Y44)","v":11.043114236876107},{"$f":"SUM($D$44:Z44)","v":12.739423090360731},{"$f":"SUM($D$44:AA44)","v":14.563825246998476},{"$f":"SUM($D$44:AB44)","v":16.516809343817187}]
[null,null,"Check",{"$f":"IF(ISNUMBER(C44),ROUND((D44-C44-D43),3),0)","v":0},{"$f":"IF(ISNUMBER(D44),ROUND((E44-D44-E43),3),0)","v":0},0,0,0,0,0,0,0,0,0,0,0,0,0,0,0,0,0,0,0,0,0,0,0]

{"sheet":"Results-MF","index":22,"n_rows":46,"n_cols":28,"rows_kept":46,"cut":false,"hidden":false,"merged":[]}
[]
[null,null,"RESULTS - Multi-Family"]
[]
[null,null,"NAVIGATION"]
[]
[null,null,"COMMENTS"]
[]
[]
[null,null,"MULTI-FAMILY"]
[]
[null,null,"Unit Energy Consumption (kWh/year) ",2010,2011,2012,2013,2014,2015,2016,2017,2018,2019,2020,2021,2022,2023,2024,2025,2026,2027,2028,2029,2030,2031,2032,2033,2034]
[null,null,"6P UEC",{"$f":"$D$13","v":269.41288998644285},{"$f":"$D$13","v":269.41288998644285},269.41288998644285,269.41288998644285,269.41288998644285,269.41288998644285,269.41288998644285,269.41288998644285,269.41288998644285,269.41288998644285,269.41288998644285,269.41288998644285,269.41288998644285,269.41288998644285,269.41288998644285,269.41288998644285,269.41288998644285,269.41288998644285,269.41288998644285,269.41288998644285,269.41288998644285,269.41288998644285,269.41288998644285,269.41288998644285,269.41288998644285]
[null,null,{"$f":"'UEC-SF'!$C$9&\" - \"&'UEC-SF'!C11","v":"Market UEC (Shipment Weighted Average) - PRE-Case UEC"},{"$f":"'UEC-MF'!AG11","v":269.41288998644285},{"$f":"'UEC-MF'!AH11","v":269.45608686752524},{"$f":"'UEC-MF'!AI11","v":269.49928374860792},{"$f":"'UEC-MF'!AJ11","v":269.54248062969049},{"$f":"'UEC-MF'!AK11","v":269.585677510773},{"$f":"'UEC-MF'!AL11","v":269.62887439185556},{"$f":"'UEC-MF'!AM11","v":269.67207127293807},{"$f":"'UEC-MF'!AN11","v":269.71526815402063},{"$f":"'UEC-MF'!AO11","v":269.75846503510303},{"$f":"'UEC-MF'!AP11","v":269.80166191618571},{"$f":"'UEC-MF'!AQ11","v":269.84485879726816},{"$f":"'UEC-MF'!AR11","v":269.88805567835078},{"$f":"'UEC-MF'!AS11","v":269.93125255943335},{"$f":"'UEC-MF'!AT11","v":269.97444944051591},{"$f":"'UEC-MF'!AU11","v":270.01764632159842},{"$f":"'UEC-MF'!AV11","v":270.06084320268099},{"$f":"'UEC-MF'!AW11","v":270.10404008376349},{"$f":"'UEC-MF'!AX11","v":270.14723696484606},{"$f":"'UEC-MF'!AY11","v":270.19043384592862},{"$f":"'UEC-MF'!AZ11","v":270.23363072701102},{"$f":"'UEC-MF'!BA11","v":270.2768276080937},{"$f":"'UEC-MF'!BB11","v":270.32002448917626},{"$f":"'UEC-MF'!BC11","v":270.36322137025877},{"$f":"'UEC-MF'!BD11","v":270.40641825134134},{"$f":"'UEC-MF'!BE11","v":270.44961513242384}]
[null,null,{"$f":"'UEC-SF'!$C$9&\" - \"&'UEC-SF'!C12","v":"Market UEC (Shipment Weighted Average) - POST-Case UEC"},{"$f":"'UEC-MF'!AG12","v":269.41288998644285},{"$f":"'UEC-MF'!AH12","v":269.45608686752524},{"$f":"'UEC-MF'!AI12","v":269.49928374860792},{"$f":"'UEC-MF'!AJ12","v":269.54248062969049},{"$f":"'UEC-MF'!AK12","v":269.585677510773},{"$f":"'UEC-MF'!AL12","v":269.62887439185556},{"$f":"'UEC-MF'!AM12","v":269.67207127293807},{"$f":"'UEC-MF'!AN12","v":269.71526815402063},{"$f":"'UEC-MF'!AO12","v":269.75846503510303},{"$f":"'UEC-MF'!AP12","v":264.9672595104613},{"$f":"'UEC-MF'!AQ12","v":265.02979558098235},{"$f":"'UEC-MF'!AR12","v":265.09233165150363},{"$f":"'UEC-MF'!AS12","v":265.15486772202485},{"$f":"'UEC-MF'!AT12","v":265.21740379254595},{"$f":"'UEC-MF'!AU12","v":265.27993986306717},{"$f":"'UEC-MF'!AV12","v":265.34247593358828},{"$f":"'UEC-MF'!AW12","v":265.40501200410949},{"$f":"'UEC-MF'!AX12","v":265.4675480746306},{"$f":"'UEC-MF'!AY12","v":265.53008414515182},{"$f":"'UEC-MF'!AZ12","v":265.59262021567287},{"$f":"'UEC-MF'!BA12","v":265.65515628619414},{"$f":"'UEC-MF'!BB12","v":265.71769235671536},{"$f":"'UEC-MF'!BC12","v":265.78022842723652},{"$f":"'UEC-MF'!BD12","v":265.84276449775768},{"$f":"'UEC-MF'!BE12","v":265.90530056827885}]
[null,null,{"$f":"'UEC-SF'!$C$14&\" - \"&'UEC-SF'!C16","v":"Installed UEC (Vintage Weighted Average)  - PRE-Case UEC"},{"$f":"'UEC-MF'!AG16","v":269.03302293660778},{"$f":"'UEC-MF'!AH16","v":269.10300367189546},{"$f":"'UEC-MF'!AI16","v":269.17199199784517},{"$f":"'UEC-MF'!AJ16","v":269.22196840079926},{"$f":"'UEC-MF'!AK16","v":269.27459425530213},{"$f":"'UEC-MF'!AL16","v":269.3283587105613},{"$f":"'UEC-MF'!AM16","v":269.37729629686515},{"$f":"'UEC-MF'!AN16","v":269.41760114797154},{"$f":"'UEC-MF'!AO16","v":269.45618316918325},{"$f":"'UEC-MF'!AP16","v":269.49618499161073},{"$f":"'UEC-MF'!AQ16","v":269.53482986360143},{"$f":"'UEC-MF'!AR16","v":269.56901767680802},{"$f":"'UEC-MF'!AS16","v":269.59453076665665},{"$f":"'UEC-MF'!AT16","v":269.62567423856518},{"$f":"'UEC-MF'!AU16","v":269.65100701093803},{"$f":"'UEC-MF'!AV16","v":269.69973902631989},{"$f":"'UEC-MF'!AW16","v":269.75072969135294},{"$f":"'UEC-MF'!AX16","v":269.80131738557168},{"$f":"'UEC-MF'!AY16","v":269.84288938188934},{"$f":"'UEC-MF'!AZ16","v":269.87624834803967},{"$f":"'UEC-MF'!BA16","v":269.91180441954435},{"$f":"'UEC-MF'!BB16","v":269.95043619101034},{"$f":"'UEC-MF'!BC16","v":269.9909818057007},{"$f":"'UEC-MF'!BD16","v":270.03249073520925},{"$f":"'UEC-MF'!BE16","v":270.07416455539055}]
[null,null,{"$f":"'UEC-SF'!$C$14&\" - \"&'UEC-SF'!C17","v":"Installed UEC (Vintage Weighted Average)  - POST-Case UEC"},{"$f":"'UEC-MF'!AG17","v":269.03302293660778},{"$f":"'UEC-MF'!AH17","v":269.10300367189546},{"$f":"'UEC-MF'!AI17","v":269.17199199784517},{"$f":"'UEC-MF'!AJ17","v":269.22196840079926},{"$f":"'UEC-MF'!AK17","v":269.27459425530213},{"$f":"'UEC-MF'!AL17","v":269.3283587105613},{"$f":"'UEC-MF'!AM17","v":269.37729629686515},{"$f":"'UEC-MF'!AN17","v":269.41760114797154},{"$f":"'UEC-MF'!AO17","v":269.45618316918325},{"$f":"'UEC-MF'!AP17","v":269.18752584987863},{"$f":"'UEC-MF'!AQ17","v":268.9425718092437},{"$f":"'UEC-MF'!AR17","v":268.70593171566173},{"$f":"'UEC-MF'!AS17","v":268.44884043111966},{"$f":"'UEC-MF'!AT17","v":268.16930020793745},{"$f":"'UEC-MF'!AU17","v":267.90830006311484},{"$f":"'UEC-MF'!AV17","v":267.66660325282311},{"$f":"'UEC-MF'!AW17","v":267.42001194567507},{"$f":"'UEC-MF'!AX17","v":267.18077137750231},{"$f":"'UEC-MF'!AY17","v":266.98891290933364},{"$f":"'UEC-MF'!AZ17","v":266.84005224262779},{"$f":"'UEC-MF'!BA17","v":266.68530432513757},{"$f":"'UEC-MF'!BB17","v":266.52075286055378},{"$f":"'UEC-MF'!BC17","v":266.35176710029157},{"$f":"'UEC-MF'!BD17","v":266.18267449832615},{"$f":"'UEC-MF'!BE17","v":266.01704882463667}]
[]
[null,null,"Stock and Shipments (units)",2010,2011,2012,2013,2014,2015,2016,2017,2018,2019,2020,2021,2022,2023,2024,2025,2026,2027,2028,2029,2030,2031,2032,2033,2034]
[null,null,"6P Shipments",{"$f":"'Shipments and Stock - MF'!AH11","v":51908.863266433065},{"$f":"'Shipments and Stock - MF'!AI11","v":51908.863266433065},{"$f":"'Shipments and Stock - MF'!AJ11","v":51908.863266433065},{"$f":"'Shipments and Stock - MF'!AK11","v":51908.863266433065},{"$f":"'Shipments and Stock - MF'!AL11","v":51908.863266433065},{"$f":"'Shipments and Stock - MF'!AM11","v":51908.863266433065},{"$f":"'Shipments and Stock - MF'!AN11","v":51908.863266433065},{"$f":"'Shipments and Stock - MF'!AO11","v":51908.863266433065},{"$f":"'Shipments and Stock - MF'!AP11","v":51908.863266433065},{"$f":"'Shipments and Stock - MF'!AQ11","v":51908.863266433065},{"$f":"'Shipments and Stock - MF'!AR11","v":51908.863266433065},{"$f":"'Shipments and Stock - MF'!AS11","v":51908.863266433065},{"$f":"'Shipments and Stock - MF'!AT11","v":51908.863266433065},{"$f":"'Shipments and Stock - MF'!AU11","v":51908.863266433065},{"$f":"'Shipments and Stock - MF'!AV11","v":51908.863266433065},{"$f":"'Shipments and Stock - MF'!AW11","v":51908.863266433065},{"$f":"'Shipments and Stock - MF'!AX11","v":51908.863266433065},{"$f":"'Shipments and Stock - MF'!AY11","v":51908.863266433065},{"$f":"'Shipments and Stock - MF'!AZ11","v":51908.863266433065},{"$f":"'Shipments and Stock - MF'!BA11","v":51908.863266433065},{"$f":"'Shipments and Stock - MF'!BB11","v":51908.863266433065},{"$f":"'Shipments and Stock - MF'!BC11","v":51908.863266433065},{"$f":"'Shipments and Stock - MF'!BD11","v":51908.863266433065},{"$f":"'Shipments and Stock - MF'!BE11","v":51908.863266433065},{"$f":"'Shipments and Stock - MF'!BF11","v":51908.863266433065}]
[null,null,"Replacement Shipments",{"$f":"'Shipments and Stock - MF'!AH12","v":43704.970746541745},{"$f":"'Shipments and Stock - MF'!AI12","v":44045.963728348841},{"$f":"'Shipments and Stock - MF'!AJ12","v":40594.753062362433},{"$f":"'Shipments and Stock - MF'!AK12","v":43809.523354835808},{"$f":"'Shipments and Stock - MF'!AL12","v":45214.480297756381},{"$f":"'Shipments and Stock - MF'!AM12","v":45085.929306852981},{"$f":"'Shipments and Stock - MF'!AN12","v":45110.381148721091},{"$f":"'Shipments and Stock - MF'!AO12","v":47649.583263379871},{"$f":"'Shipments and Stock - MF'!AP12","v":43489.389036441687},{"$f":"'Shipments and Stock - MF'!AQ12","v":51609.136861798819},{"$f":"'Shipments and Stock - MF'!AR12","v":48150.716628974304},{"$f":"'Shipments and Stock - MF'!AS12","v":48116.159860803513},{"$f":"'Shipments and Stock - MF'!AT12","v":53531.907059333636},{"$f":"'Shipments and Stock - MF'!AU12","v":63460.416073034517},{"$f":"'Shipments and Stock - MF'!AV12","v":60252.197151809698},{"$f":"'Shipments and Stock - MF'!AW12","v":64372.432615901809},{"$f":"'Shipments and Stock - MF'!AX12","v":69412.984765217872},{"$f":"'Shipments and Stock - MF'!AY12","v":70288.912444782938},{"$f":"'Shipments and Stock - MF'!AZ12","v":57237.979784429888},{"$f":"'Shipments and Stock - MF'!BA12","v":44835.555617442238},{"$f":"'Shipments and Stock - MF'!BB12","v":49164.099960957654},{"$f":"'Shipments and Stock - MF'!BC12","v":54937.620885098004},{"$f":"'Shipments and Stock - MF'!BD12","v":58960.493966843467},{"$f":"'Shipments and Stock - MF'!BE12","v":61486.348715260727},{"$f":"'Shipments and Stock - MF'!BF12","v":62688.713258313946}]
[null,null,"Net New Shipments",{"$f":"'Shipments and Stock - MF'!AH13","v":1130.5848709004931},{"$f":"'Shipments and Stock - MF'!AI13","v":5118.1362326088129},{"$f":"'Shipments and Stock - MF'!AJ13","v":14342.86782273557},{"$f":"'Shipments and Stock - MF'!AK13","v":15150.970612007659},{"$f":"'Shipments and Stock - MF'!AL13","v":16271.868417504349},{"$f":"'Shipments and Stock - MF'!AM13","v":17602.783951460966},{"$f":"'Shipments and Stock - MF'!AN13","v":18696.093731788686},{"$f":"'Shipments and Stock - MF'!AO13","v":19309.683585679391},{"$f":"'Shipments and Stock - MF'!AP13","v":19982.866245592479},{"$f":"'Shipments and Stock - MF'!AQ13","v":20761.047653118141},{"$f":"'Shipments and Stock - MF'!AR13","v":21220.955791929489},{"$f":"'Shipments and Stock - MF'!AS13","v":20846.086642441107},{"$f":"'Shipments and Stock - MF'!AT13","v":21079.364658175502},{"$f":"'Shipments and Stock - MF'!AU13","v":21176.265318715712},{"$f":"'Shipments and Stock - MF'!AV13","v":21117.481384141138},{"$f":"'Shipments and Stock - MF'!AW13","v":20889.270019119813},{"$f":"'Shipments and Stock - MF'!AX13","v":20576.004769150633},{"$f":"'Shipments and Stock - MF'!AY13","v":20478.814897254808},{"$f":"'Shipments and Stock - MF'!AZ13","v":20437.699433125556},{"$f":"'Shipments and Stock - MF'!BA13","v":20369.566993982087},{"$f":"'Shipments and Stock - MF'!BB13","v":20147.945442439988},{"$f":"'Shipments and Stock - MF'!BC13","v":20349.424896864686},{"$f":"'Shipments and Stock - MF'!BD13","v":20552.919145833002},{"$f":"'Shipments and Stock - MF'!BE13","v":20758.4483372916},{"$f":"'Shipments and Stock - MF'!BF13","v":20966.032820664346}]
[null,null,"Total Model Shipments",{"$f":"'Shipments and Stock - MF'!AH14","v":44835.555617442238},{"$f":"'Shipments and Stock - MF'!AI14","v":49164.099960957654},{"$f":"'Shipments and Stock - MF'!AJ14","v":54937.620885098004},{"$f":"'Shipments and Stock - MF'!AK14","v":58960.493966843467},{"$f":"'Shipments and Stock - MF'!AL14","v":61486.348715260727},{"$f":"'Shipments and Stock - MF'!AM14","v":62688.713258313946},{"$f":"'Shipments and Stock - MF'!AN14","v":63806.474880509777},{"$f":"'Shipments and Stock - MF'!AO14","v":66959.266849059262},{"$f":"'Shipments and Stock - MF'!AP14","v":63472.255282034166},{"$f":"'Shipments and Stock - MF'!AQ14","v":72370.184514916968},{"$f":"'Shipments and Stock - MF'!AR14","v":69371.672420903793},{"$f":"'Shipments and Stock - MF'!AS14","v":68962.24650324462},{"$f":"'Shipments and Stock - MF'!AT14","v":74611.271717509138},{"$f":"'Shipments and Stock - MF'!AU14","v":84636.68139175023},{"$f":"'Shipments and Stock - MF'!AV14","v":81369.678535950836},{"$f":"'Shipments and Stock - MF'!AW14","v":85261.702635021618},{"$f":"'Shipments and Stock - MF'!AX14","v":89988.989534368506},{"$f":"'Shipments and Stock - MF'!AY14","v":90767.727342037746},{"$f":"'Shipments and Stock - MF'!AZ14","v":77675.679217555444},{"$f":"'Shipments and Stock - MF'!BA14","v":65205.122611424325},{"$f":"'Shipments and Stock - MF'!BB14","v":69312.045403397642},{"$f":"'Shipments and Stock - MF'!BC14","v":75287.04578196269},{"$f":"'Shipments and Stock - MF'!BD14","v":79513.41311267647},{"$f":"'Shipments and Stock - MF'!BE14","v":82244.797052552327},{"$f":"'Shipments and Stock - MF'!BF14","v":83654.746078978293}]
[null,null,"Model Installed Stock",{"$f":"'Shipments and Stock - MF'!AH15","v":986268.4020622283},{"$f":"'Shipments and Stock - MF'!AI15","v":991386.53829483711},{"$f":"'Shipments and Stock - MF'!AJ15","v":1005729.4061175727},{"$f":"'Shipments and Stock - MF'!AK15","v":1020880.3767295803},{"$f":"'Shipments and Stock - MF'!AL15","v":1037152.2451470847},{"$f":"'Shipments and Stock - MF'!AM15","v":1054755.0290985457},{"$f":"'Shipments and Stock - MF'!AN15","v":1073451.1228303344},{"$f":"'Shipments and Stock - MF'!AO15","v":1092760.8064160137},{"$f":"'Shipments and Stock - MF'!AP15","v":1112743.6726616062},{"$f":"'Shipments and Stock - MF'!AQ15","v":1133504.7203147244},{"$f":"'Shipments and Stock - MF'!AR15","v":1154725.6761066539},{"$f":"'Shipments and Stock - MF'!AS15","v":1175571.762749095},{"$f":"'Shipments and Stock - MF'!AT15","v":1196651.1274072705},{"$f":"'Shipments and Stock - MF'!AU15","v":1217827.3927259862},{"$f":"'Shipments and Stock - MF'!AV15","v":1238944.8741101273},{"$f":"'Shipments and Stock - MF'!AW15","v":1259834.1441292472},{"$f":"'Shipments and Stock - MF'!AX15","v":1280410.1488983978},{"$f":"'Shipments and Stock - MF'!AY15","v":1300888.9637956526},{"$f":"'Shipments and Stock - MF'!AZ15","v":1321326.6632287782},{"$f":"'Shipments and Stock - MF'!BA15","v":1341696.2302227602},{"$f":"'Shipments and Stock - MF'!BB15","v":1361844.1756652002},{"$f":"'Shipments and Stock - MF'!BC15","v":1382193.6005620649},{"$f":"'Shipments and Stock - MF'!BD15","v":1402746.5197078979},{"$f":"'Shipments and Stock - MF'!BE15","v":1423504.9680451895},{"$f":"'Shipments and Stock - MF'!BF15","v":1444471.0008658539}]
[]
[]
[]
[null,null,"First Year Energy Consumption ",2010,2011,2012,2013,2014,2015,2016,2017,2018,2019,2020,2021,2022,2023,2024,2025,2026,2027,2028,2029,2030,2031,2032,2033,2034]
[null,null,"6P Shipments * 6P UEC",{"$f":"D12*D19","v":13984916.868520835},13984916.868520835,13984916.868520835,13984916.868520835,13984916.868520835,13984916.868520835,13984916.868520835,13984916.868520835,13984916.868520835,13984916.868520835,13984916.868520835,13984916.868520835,13984916.868520835,13984916.868520835,13984916.868520835,13984916.868520835,13984916.868520835,13984916.868520835,13984916.868520835,13984916.868520835,13984916.868520835,13984916.868520835,13984916.868520835,13984916.868520835,13984916.868520835]
[null,null,"Model Shipments * Model Pre-Case UEC",{"$f":"D13*D22","v":12079276.613043005},{"$f":"E13*E22","v":13247565.989843501},14805649.479386475,15892357.802974887,16575838.97606721,16902687.192912981,17206824.241651766,18059936.613590643,17122178.157197747,19525596.055305608,18719589.148949128,18612086.623971835,20139914.029759467,22849741.461210128,21971249.080222532,23025847.306510184,24306389.636288445,24520650.747030009,20987225.467068486,17620617.025285117,18733439.746658467,20351596.059497889,21497502.511287384,22239520.990789149,22624393.881060321]
[null,null,"Model Shipments * Model Post-Case UEC",{"$f":"D14*D22","v":12079276.613043005},{"$f":"E14*E22","v":13247565.989843501},14805649.479386475,15892357.802974887,16575838.97606721,16902687.192912981,17206824.241651766,18059936.613590643,17122178.157197747,19175729.461183973,18385560.160823002,18281362.72147087,19783541.882828191,22447120.904336881,21585743.428694144,22623551.279489983,23883528.847606756,24095886.021797366,20625229.638669316,17317999.365852404,18413102.254155386,20005100.069537506,21133093.100116376,21864184.214007545,22244240.400093768]
[]
[null,null,"Total Energy Consumption (kWh)",2010,2011,2012,2013,2014,2015,2016,2017,2018,2019,2020,2021,2022,2023,2024,2025,2026,2027,2028,2029,2030,2031,2032,2033,2034]
[null,null,"Modeled Pre-case Consumption \n(Installed UEC * Stock)",{"$f":"D15*D$23","v":265338769.63365898},{"$f":"E15*E$23","v":266785095.25502327},270714187.65547687,274843424.52488714,279278749.99295688,284075440.82882166,289163361.1748696,294408995.09312534,299835662.88105547,305475197.79480094,311238788.64853907,316897725.29286712,322610599.18475372,328357531.86993796,334082732.93483567,339776939.88810503,345391571.96955669,350981556.20441836,356550604.62298411,362091945.03522623,367577818.79204112,373123765.37215251,378728910.08046502,384392592.09518695,390114298.78333431]
[null,null,"Modeled Post-case Consumption \n(Installed UEC* Stock)",{"$f":"D16*D$23","v":265338769.63365898},266785095.25502327,270714187.65547687,274843424.52488714,279278749.99295688,284075440.82882166,289163361.1748696,294408995.09312534,299835662.88105547,305125331.2006793,310554893.06629127,315883105.8081184,321239607.55307382,326583919.68138474,331923615.09475404,337215526.02100319,342407297.31377316,347572516.82340217,352779569.41356868,358018292.16637808,363183828.43069005,368383279.02084112,373624014.31798255,378912359.55592287,384253912.76310366]
[]
[]
[]
[null,null,"Total Energy Consumption (aMW)",2010,2011,2012,2013,2014,2015,2016,2017,2018,2019,2020,2021,2022,2023,2024,2025,2026,2027,2028,2029,2030,2031,2032,2033,2034]
[null,null,{"$f":"C33","v":"Modeled Pre-case Consumption \n(Installed UEC * Stock)"},{"$f":"D33/Constants!$D$13/(Constants!$D$12*Constants!$D$10)","v":30.269081637424023},{"$f":"E33/Constants!$D$13/(Constants!$D$12*Constants!$D$10)","v":30.43407429329492},{"$f":"F33/Constants!$D$13/(Constants!$D$12*Constants!$D$10)","v":30.882293823348945},{"$f":"G33/Constants!$D$13/(Constants!$D$12*Constants!$D$10)","v":31.35334525723102},{"$f":"H33/Constants!$D$13/(Constants!$D$12*Constants!$D$10)","v":31.859314395728596},{"$f":"I33/Constants!$D$13/(Constants!$D$12*Constants!$D$10)","v":32.406507053253669},{"$f":"J33/Constants!$D$13/(Constants!$D$12*Constants!$D$10)","v":32.986922333432531},{"$f":"K33/Constants!$D$13/(Constants!$D$12*Constants!$D$10)","v":33.585329123103506},{"$f":"L33/Constants!$D$13/(Constants!$D$12*Constants!$D$10)","v":34.204387734548881},{"$f":"M33/Constants!$D$13/(Constants!$D$12*Constants!$D$10)","v":34.847729613826253},{"$f":"N33/Constants!$D$13/(Constants!$D$12*Constants!$D$10)","v":35.505223436976848},{"$f":"O33/Constants!$D$13/(Constants!$D$12*Constants!$D$10)","v":36.150778609727027},{"$f":"P33/Constants!$D$13/(Constants!$D$12*Constants!$D$10)","v":36.8024867881307},{"$f":"Q33/Constants!$D$13/(Constants!$D$12*Constants!$D$10)","v":37.458080295452653},{"$f":"R33/Constants!$D$13/(Constants!$D$12*Constants!$D$10)","v":38.111194722203471},{"$f":"S33/Constants!$D$13/(Constants!$D$12*Constants!$D$10)","v":38.760773430082708},{"$f":"T33/Constants!$D$13/(Constants!$D$12*Constants!$D$10)","v":39.401274466068521},{"$f":"U33/Constants!$D$13/(Constants!$D$12*Constants!$D$10)","v":40.038963746796526},{"$f":"V33/Constants!$D$13/(Constants!$D$12*Constants!$D$10)","v":40.674264729977658},{"$f":"W33/Constants!$D$13/(Constants!$D$12*Constants!$D$10)","v":41.306404863703655},{"$f":"X33/Constants!$D$13/(Constants!$D$12*Constants!$D$10)","v":41.932217521337108},{"$f":"Y33/Constants!$D$13/(Constants!$D$12*Constants!$D$10)","v":42.564883113410048},{"$f":"Z33/Constants!$D$13/(Constants!$D$12*Constants!$D$10)","v":43.204301857228501},{"$f":"AA33/Constants!$D$13/(Constants!$D$12*Constants!$D$10)","v":43.850398368148177},{"$f":"AB33/Constants!$D$13/(Constants!$D$12*Constants!$D$10)","v":44.503114166476649}]
[null,null,{"$f":"C34","v":"Modeled Post-case Consumption \n(Installed UEC* Stock)"},{"$f":"D34/Constants!$D$13/(Constants!$D$12*Constants!$D$10)","v":30.269081637424023},{"$f":"E34/Constants!$D$13/(Constants!$D$12*Constants!$D$10)","v":30.43407429329492},{"$f":"F34/Constants!$D$13/(Constants!$D$12*Constants!$D$10)","v":30.882293823348945},{"$f":"G34/Constants!$D$13/(Constants!$D$12*Constants!$D$10)","v":31.35334525723102},{"$f":"H34/Constants!$D$13/(Constants!$D$12*Constants!$D$10)","v":31.859314395728596},{"$f":"I34/Constants!$D$13/(Constants!$D$12*Constants!$D$10)","v":32.406507053253669},{"$f":"J34/Constants!$D$13/(Constants!$D$12*Constants!$D$10)","v":32.986922333432531},{"$f":"K34/Constants!$D$13/(Constants!$D$12*Constants!$D$10)","v":33.585329123103506},{"$f":"L34/Constants!$D$13/(Constants!$D$12*Constants!$D$10)","v":34.204387734548881},{"$f":"M34/Constants!$D$13/(Constants!$D$12*Constants!$D$10)","v":34.807817841738455},{"$f":"N34/Constants!$D$13/(Constants!$D$12*Constants!$D$10)","v":35.42720660121963},{"$f":"O34/Constants!$D$13/(Constants!$D$12*Constants!$D$10)","v":36.035033744937074},{"$f":"P34/Constants!$D$13/(Constants!$D$12*Constants!$D$10)","v":36.646088016549605},{"$f":"Q34/Constants!$D$13/(Constants!$D$12*Constants!$D$10)","v":37.255751731848591},{"$f":"R34/Constants!$D$13/(Constants!$D$12*Constants!$D$10)","v":37.864888785621041},{"$f":"S34/Constants!$D$13/(Constants!$D$12*Constants!$D$10)","v":38.46857472290705},{"$f":"T34/Constants!$D$13/(Constants!$D$12*Constants!$D$10)","v":39.060837019595382},{"$f":"U34/Constants!$D$13/(Constants!$D$12*Constants!$D$10)","v":39.650070365434878},{"$f":"V34/Constants!$D$13/(Constants!$D$12*Constants!$D$10)","v":40.244075908460943},{"$f":"W34/Constants!$D$13/(Constants!$D$12*Constants!$D$10)","v":40.841694292308702},{"$f":"X34/Constants!$D$13/(Constants!$D$12*Constants!$D$10)","v":41.430963772608948},{"$f":"Y34/Constants!$D$13/(Constants!$D$12*Constants!$D$10)","v":42.02410210139643},{"$f":"Z34/Constants!$D$13/(Constants!$D$12*Constants!$D$10)","v":42.621950070497668},{"$f":"AA34/Constants!$D$13/(Constants!$D$12*Constants!$D$10)","v":43.225229244344384},{"$f":"AB34/Constants!$D$13/(Constants!$D$12*Constants!$D$10)","v":43.834578229877216}]
[]
[null,null,"Savings (aMW)",2010,2011,2012,2013,2014,2015,2016,2017,2018,2019,2020,2021,2022,2023,2024,2025,2026,2027,2028,2029,2030,2031,2032,2033,2034]
[null,null,"Incremental Savings",{"$f":"IF(AND(D42>=STANDARD_YEAR,(D42-STANDARD_YEAR)<LIFETIME_MF),\n(D13-D14)*D22,\n(D13-D14)*D21)\n/Constants!$D$13/(Constants!$D$12*Constants!$D$10)","v":0},{"$f":"IF(AND(E42>=STANDARD_YEAR,(E42-STANDARD_YEAR)<LIFETIME_MF),\n(E13-E14)*E22,\n(E13-E14)*E21)\n/Constants!$D$13/(Constants!$D$12*Constants!$D$10)","v":0},{"$f":"IF(AND(F42>=STANDARD_YEAR,(F42-STANDARD_YEAR)<LIFETIME_MF),\n(F13-F14)*F22,\n(F13-F14)*F21)\n/Constants!$D$13/(Constants!$D$12*Constants!$D$10)","v":0},{"$f":"IF(AND(G42>=STANDARD_YEAR,(G42-STANDARD_YEAR)<LIFETIME_MF),\n(G13-G14)*G22,\n(G13-G14)*G21)\n/Constants!$D$13/(Constants!$D$12*Constants!$D$10)","v":0},{"$f":"IF(AND(H42>=STANDARD_YEAR,(H42-STANDARD_YEAR)<LIFETIME_MF),\n(H13-H14)*H22,\n(H13-H14)*H21)\n/Constants!$D$13/(Constants!$D$12*Constants!$D$10)","v":0},{"$f":"IF(AND(I42>=STANDARD_YEAR,(I42-STANDARD_YEAR)<LIFETIME_MF),\n(I13-I14)*I22,\n(I13-I14)*I21)\n/Constants!$D$13/(Constants!$D$12*Constants!$D$10)","v":0},{"$f":"IF(AND(J42>=STANDARD_YEAR,(J42-STANDARD_YEAR)<LIFETIME_MF),\n(J13-J14)*J22,\n(J13-J14)*J21)\n/Constants!$D$13/(Constants!$D$12*Constants!$D$10)","v":0},{"$f":"IF(AND(K42>=STANDARD_YEAR,(K42-STANDARD_YEAR)<LIFETIME_MF),\n(K13-K14)*K22,\n(K13-K14)*K21)\n/Constants!$D$13/(Constants!$D$12*Constants!$D$10)","v":0},{"$f":"IF(AND(L42>=STANDARD_YEAR,(L42-STANDARD_YEAR)<LIFETIME_MF),\n(L13-L14)*L22,\n(L13-L14)*L21)\n/Constants!$D$13/(Constants!$D$12*Constants!$D$10)","v":0},{"$f":"IF(AND(M42>=STANDARD_YEAR,(M42-STANDARD_YEAR)<LIFETIME_MF),\n(M13-M14)*M22,\n(M13-M14)*M21)\n/Constants!$D$13/(Constants!$D$12*Constants!$D$10)","v":3.9911772087797587E-2},{"$f":"IF(AND(N42>=STANDARD_YEAR,(N42-STANDARD_YEAR)<LIFETIME_MF),\n(N13-N14)*N22,\n(N13-N14)*N21)\n/Constants!$D$13/(Constants!$D$12*Constants!$D$10)","v":3.8105063669418487E-2},{"$f":"IF(AND(O42>=STANDARD_YEAR,(O42-STANDARD_YEAR)<LIFETIME_MF),\n(O13-O14)*O22,\n(O13-O14)*O21)\n/Constants!$D$13/(Constants!$D$12*Constants!$D$10)","v":3.7728029032736296E-2},{"$f":"IF(AND(P42>=STANDARD_YEAR,(P42-STANDARD_YEAR)<LIFETIME_MF),\n(P13-P14)*P22,\n(P13-P14)*P21)\n/Constants!$D$13/(Constants!$D$12*Constants!$D$10)","v":4.0653906791156318E-2},{"$f":"IF(AND(Q42>=STANDARD_YEAR,(Q42-STANDARD_YEAR)<LIFETIME_MF),\n(Q13-Q14)*Q22,\n(Q13-Q14)*Q21)\n/Constants!$D$13/(Constants!$D$12*Constants!$D$10)","v":4.5929792022957508E-2},{"$f":"IF(AND(R42>=STANDARD_YEAR,(R42-STANDARD_YEAR)<LIFETIME_MF),\n(R13-R14)*R22,\n(R13-R14)*R21)\n/Constants!$D$13/(Constants!$D$12*Constants!$D$10)","v":4.3977372978369372E-2},{"$f":"IF(AND(S42>=STANDARD_YEAR,(S42-STANDARD_YEAR)<LIFETIME_MF),\n(S13-S14)*S22,\n(S13-S14)*S21)\n/Constants!$D$13/(Constants!$D$12*Constants!$D$10)","v":4.5892770593224004E-2},{"$f":"IF(AND(T42>=STANDARD_YEAR,(T42-STANDARD_YEAR)<LIFETIME_MF),\n(T13-T14)*T22,\n(T13-T14)*T21)\n/Constants!$D$13/(Constants!$D$12*Constants!$D$10)","v":4.8238739297477469E-2},{"$f":"IF(AND(U42>=STANDARD_YEAR,(U42-STANDARD_YEAR)<LIFETIME_MF),\n(U13-U14)*U22,\n(U13-U14)*U21)\n/Constants!$D$13/(Constants!$D$12*Constants!$D$10)","v":4.8455934888505588E-2},{"$f":"IF(AND(V42>=STANDARD_YEAR,(V42-STANDARD_YEAR)<LIFETIME_MF),\n(V13-V14)*V22,\n(V13-V14)*V21)\n/Constants!$D$13/(Constants!$D$12*Constants!$D$10)","v":4.1295440155050156E-2},{"$f":"IF(AND(W42>=STANDARD_YEAR,(W42-STANDARD_YEAR)<LIFETIME_MF),\n(W13-W14)*W22,\n(W13-W14)*W21)\n/Constants!$D$13/(Constants!$D$12*Constants!$D$10)","v":3.4521749878247014E-2},{"$f":"IF(AND(X42>=STANDARD_YEAR,(X42-STANDARD_YEAR)<LIFETIME_MF),\n(X13-X14)*X22,\n(X13-X14)*X21)\n/Constants!$D$13/(Constants!$D$12*Constants!$D$10)","v":3.6543177333228698E-2},{"$f":"IF(AND(Y42>=STANDARD_YEAR,(Y42-STANDARD_YEAR)<LIFETIME_MF),\n(Y13-Y14)*Y22,\n(Y13-Y14)*Y21)\n/Constants!$D$13/(Constants!$D$12*Constants!$D$10)","v":3.9527263285464513E-2},{"$f":"IF(AND(Z42>=STANDARD_YEAR,(Z42-STANDARD_YEAR)<LIFETIME_MF),\n(Z13-Z14)*Z22,\n(Z13-Z14)*Z21)\n/Constants!$D$13/(Constants!$D$12*Constants!$D$10)","v":4.157077471720385E-2},{"$f":"IF(AND(AA42>=STANDARD_YEAR,(AA42-STANDARD_YEAR)<LIFETIME_MF),\n(AA13-AA14)*AA22,\n(AA13-AA14)*AA21)\n/Constants!$D$13/(Constants!$D$12*Constants!$D$10)","v":4.2817337072964409E-2},{"$f":"IF(AND(AB42>=STANDARD_YEAR,(AB42-STANDARD_YEAR)<LIFETIME_MF),\n(AB13-AB14)*AB22,\n(AB13-AB14)*AB21)\n/Constants!$D$13/(Constants!$D$12*Constants!$D$10)","v":4.336681279563686E-2}]
[null,null,"Cumulative Savings",{"$f":"D39-D40","v":0},0,0,0,0,0,0,0,0,{"$f":"M39-M40","v":3.991177208779817E-2},7.8016835757217962E-2,0.11574486478995283,0.15639877158109527,0.20232856360406259,0.24630593658243072,0.29219870717565755,0.340437446473139,0.38889338136164753,0.43018882151671534,0.46471057139495286,0.50125374872816053,0.54078101201361761,0.58235178673083254,0.62516912380379352,0.668535936599433]
[null,null,"DOE Aggregate Lifecycle Savings (formerly DOE Carbon proxy)",{"$f":"SUM($D$44:D44)","v":0},{"$f":"SUM($D$44:E44)","v":0},{"$f":"SUM($D$44:F44)","v":0},{"$f":"SUM($D$44:G44)","v":0},{"$f":"SUM($D$44:H44)","v":0},{"$f":"SUM($D$44:I44)","v":0},{"$f":"SUM($D$44:J44)","v":0},{"$f":"SUM($D$44:K44)","v":0},{"$f":"SUM($D$44:L44)","v":0},{"$f":"SUM($D$44:M44)","v":3.991177208779817E-2},{"$f":"SUM($D$44:N44)","v":0.11792860784501613},{"$f":"SUM($D$44:O44)","v":0.23367347263496896},{"$f":"SUM($D$44:P44)","v":0.39007224421606423},{"$f":"SUM($D$44:Q44)","v":0.59240080782012683},{"$f":"SUM($D$44:R44)","v":0.83870674440255755},{"$f":"SUM($D$44:S44)","v":1.1309054515782151},{"$f":"SUM($D$44:T44)","v":1.4713428980513541},{"$f":"SUM($D$44:U44)","v":1.8602362794130016},{"$f":"SUM($D$44:V44)","v":2.290425100929717},{"$f":"SUM($D$44:W44)","v":2.7551356723246698},{"$f":"SUM($D$44:X44)","v":3.2563894210528304},{"$f":"SUM($D$44:Y44)","v":3.797170433066448},{"$f":"SUM($D$44:Z44)","v":4.3795222197972805},{"$f":"SUM($D$44:AA44)","v":5.004691343601074},{"$f":"SUM($D$44:AB44)","v":5.673227280200507}]
[null,null,"Check",{"$f":"IF(ISNUMBER(C44),ROUND((D44-C44-D43),3),0)","v":0},{"$f":"IF(ISNUMBER(D44),ROUND((E44-D44-E43),3),0)","v":0},0,0,0,0,0,0,0,0,0,0,0,0,0,0,0,0,0,0,0,0,0,0,0]

{"sheet":"Results-MH","index":23,"n_rows":46,"n_cols":28,"rows_kept":46,"cut":false,"hidden":false,"merged":[]}
[]
[null,null,"RESULTS - Manufactured Homes"]
[]
[null,null,"NAVIGATION"]
[]
[null,null,"COMMENTS"]
[]
[]
[null,null,"MANUFACTURED HOMES"]
[]
[null,null,"Unit Energy Consumption (kWh/year) ",2010,2011,2012,2013,2014,2015,2016,2017,2018,2019,2020,2021,2022,2023,2024,2025,2026,2027,2028,2029,2030,2031,2032,2033,2034]
[null,null,"6P UEC",{"$f":"$D$13","v":269.41288998644285},{"$f":"$D$13","v":269.41288998644285},269.41288998644285,269.41288998644285,269.41288998644285,269.41288998644285,269.41288998644285,269.41288998644285,269.41288998644285,269.41288998644285,269.41288998644285,269.41288998644285,269.41288998644285,269.41288998644285,269.41288998644285,269.41288998644285,269.41288998644285,269.41288998644285,269.41288998644285,269.41288998644285,269.41288998644285,269.41288998644285,269.41288998644285,269.41288998644285,269.41288998644285]
[null,null,{"$f":"'UEC-SF'!$C$9&\" - \"&'UEC-SF'!C11","v":"Market UEC (Shipment Weighted Average) - PRE-Case UEC"},{"$f":"'UEC-MH'!AG11","v":269.41288998644285},{"$f":"'UEC-MH'!AH11","v":269.45608686752524},{"$f":"'UEC-MH'!AI11","v":269.49928374860792},{"$f":"'UEC-MH'!AJ11","v":269.54248062969049},{"$f":"'UEC-MH'!AK11","v":269.585677510773},{"$f":"'UEC-MH'!AL11","v":269.62887439185556},{"$f":"'UEC-MH'!AM11","v":269.67207127293807},{"$f":"'UEC-MH'!AN11","v":269.71526815402063},{"$f":"'UEC-MH'!AO11","v":269.75846503510303},{"$f":"'UEC-MH'!AP11","v":269.80166191618571},{"$f":"'UEC-MH'!AQ11","v":269.84485879726816},{"$f":"'UEC-MH'!AR11","v":269.88805567835078},{"$f":"'UEC-MH'!AS11","v":269.93125255943335},{"$f":"'UEC-MH'!AT11","v":269.97444944051591},{"$f":"'UEC-MH'!AU11","v":270.01764632159842},{"$f":"'UEC-MH'!AV11","v":270.06084320268099},{"$f":"'UEC-MH'!AW11","v":270.10404008376349},{"$f":"'UEC-MH'!AX11","v":270.14723696484606},{"$f":"'UEC-MH'!AY11","v":270.19043384592862},{"$f":"'UEC-MH'!AZ11","v":270.23363072701102},{"$f":"'UEC-MH'!BA11","v":270.2768276080937},{"$f":"'UEC-MH'!BB11","v":270.32002448917626},{"$f":"'UEC-MH'!BC11","v":270.36322137025877},{"$f":"'UEC-MH'!BD11","v":270.40641825134134},{"$f":"'UEC-MH'!BE11","v":270.44961513242384}]
[null,null,{"$f":"'UEC-SF'!$C$9&\" - \"&'UEC-SF'!C12","v":"Market UEC (Shipment Weighted Average) - POST-Case UEC"},{"$f":"'UEC-MH'!AG12","v":269.41288998644285},{"$f":"'UEC-MH'!AH12","v":269.45608686752524},{"$f":"'UEC-MH'!AI12","v":269.49928374860792},{"$f":"'UEC-MH'!AJ12","v":269.54248062969049},{"$f":"'UEC-MH'!AK12","v":269.585677510773},{"$f":"'UEC-MH'!AL12","v":269.62887439185556},{"$f":"'UEC-MH'!AM12","v":269.67207127293807},{"$f":"'UEC-MH'!AN12","v":269.71526815402063},{"$f":"'UEC-MH'!AO12","v":269.75846503510303},{"$f":"'UEC-MH'!AP12","v":264.9672595104613},{"$f":"'UEC-MH'!AQ12","v":265.02979558098235},{"$f":"'UEC-MH'!AR12","v":265.09233165150363},{"$f":"'UEC-MH'!AS12","v":265.15486772202485},{"$f":"'UEC-MH'!AT12","v":265.21740379254595},{"$f":"'UEC-MH'!AU12","v":265.27993986306717},{"$f":"'UEC-MH'!AV12","v":265.34247593358828},{"$f":"'UEC-MH'!AW12","v":265.40501200410949},{"$f":"'UEC-MH'!AX12","v":265.4675480746306},{"$f":"'UEC-MH'!AY12","v":265.53008414515182},{"$f":"'UEC-MH'!AZ12","v":265.59262021567287},{"$f":"'UEC-MH'!BA12","v":265.65515628619414},{"$f":"'UEC-MH'!BB12","v":265.71769235671536},{"$f":"'UEC-MH'!BC12","v":265.78022842723652},{"$f":"'UEC-MH'!BD12","v":265.84276449775768},{"$f":"'UEC-MH'!BE12","v":265.90530056827885}]
[null,null,{"$f":"'UEC-SF'!$C$14&\" - \"&'UEC-SF'!C16","v":"Installed UEC (Vintage Weighted Average)  - PRE-Case UEC"},{"$f":"'UEC-MH'!AG16","v":268.96209427670237},{"$f":"'UEC-MH'!AH16","v":269.04536279483932},{"$f":"'UEC-MH'!AI16","v":269.13524465062},{"$f":"'UEC-MH'!AJ16","v":269.20009637522008},{"$f":"'UEC-MH'!AK16","v":269.26373537641035},{"$f":"'UEC-MH'!AL16","v":269.32315595873536},{"$f":"'UEC-MH'!AM16","v":269.37672504568485},{"$f":"'UEC-MH'!AN16","v":269.4187645229585},{"$f":"'UEC-MH'!AO16","v":269.45753013234787},{"$f":"'UEC-MH'!AP16","v":269.4996100068235},{"$f":"'UEC-MH'!AQ16","v":269.53742431409086},{"$f":"'UEC-MH'!AR16","v":269.57496860453057},{"$f":"'UEC-MH'!AS16","v":269.59915186585721},{"$f":"'UEC-MH'!AT16","v":269.62380304588913},{"$f":"'UEC-MH'!AU16","v":269.64350879801344},{"$f":"'UEC-MH'!AV16","v":269.67968047186207},{"$f":"'UEC-MH'!AW16","v":269.71884020422698},{"$f":"'UEC-MH'!AX16","v":269.75889526888102},{"$f":"'UEC-MH'!AY16","v":269.80086607695961},{"$f":"'UEC-MH'!AZ16","v":269.84209991027302},{"$f":"'UEC-MH'!BA16","v":269.88503285035097},{"$f":"'UEC-MH'!BB16","v":269.93374551346199},{"$f":"'UEC-MH'!BC16","v":269.98499359677152},{"$f":"'UEC-MH'!BD16","v":270.03388444663824},{"$f":"'UEC-MH'!BE16","v":270.07857818564719}]
[null,null,{"$f":"'UEC-SF'!$C$14&\" - \"&'UEC-SF'!C17","v":"Installed UEC (Vintage Weighted Average)  - POST-Case UEC"},{"$f":"'UEC-MH'!AG17","v":268.96209427670237},{"$f":"'UEC-MH'!AH17","v":269.04536279483932},{"$f":"'UEC-MH'!AI17","v":269.13524465062},{"$f":"'UEC-MH'!AJ17","v":269.20009637522008},{"$f":"'UEC-MH'!AK17","v":269.26373537641035},{"$f":"'UEC-MH'!AL17","v":269.32315595873536},{"$f":"'UEC-MH'!AM17","v":269.37672504568485},{"$f":"'UEC-MH'!AN17","v":269.4187645229585},{"$f":"'UEC-MH'!AO17","v":269.45753013234787},{"$f":"'UEC-MH'!AP17","v":269.20004976521608},{"$f":"'UEC-MH'!AQ17","v":268.9793839551661},{"$f":"'UEC-MH'!AR17","v":268.73525370761126},{"$f":"'UEC-MH'!AS17","v":268.48979291505231},{"$f":"'UEC-MH'!AT17","v":268.26691928477959},{"$f":"'UEC-MH'!AU17","v":268.05892113479069},{"$f":"'UEC-MH'!AV17","v":267.87945118700503},{"$f":"'UEC-MH'!AW17","v":267.68962979454562},{"$f":"'UEC-MH'!AX17","v":267.49927167053812},{"$f":"'UEC-MH'!AY17","v":267.30338196411111},{"$f":"'UEC-MH'!AZ17","v":267.11410223264272},{"$f":"'UEC-MH'!BA17","v":266.91985486755505},{"$f":"'UEC-MH'!BB17","v":266.70204647318121},{"$f":"'UEC-MH'!BC17","v":266.47580343423607},{"$f":"'UEC-MH'!BD17","v":266.26354040938548},{"$f":"'UEC-MH'!BE17","v":266.0734757274638}]
[]
[null,null,"Stock and Shipments (units)",2010,2011,2012,2013,2014,2015,2016,2017,2018,2019,2020,2021,2022,2023,2024,2025,2026,2027,2028,2029,2030,2031,2032,2033,2034]
[null,null,"6P Shipments",{"$f":"'Shipments and Stock - MH'!AH11","v":28808.940048070061},{"$f":"'Shipments and Stock - MH'!AI11","v":28808.940048070061},{"$f":"'Shipments and Stock - MH'!AJ11","v":28808.940048070061},{"$f":"'Shipments and Stock - MH'!AK11","v":28808.940048070061},{"$f":"'Shipments and Stock - MH'!AL11","v":28808.940048070061},{"$f":"'Shipments and Stock - MH'!AM11","v":28808.940048070061},{"$f":"'Shipments and Stock - MH'!AN11","v":28808.940048070061},{"$f":"'Shipments and Stock - MH'!AO11","v":28808.940048070061},{"$f":"'Shipments and Stock - MH'!AP11","v":28808.940048070061},{"$f":"'Shipments and Stock - MH'!AQ11","v":28808.940048070061},{"$f":"'Shipments and Stock - MH'!AR11","v":28808.940048070061},{"$f":"'Shipments and Stock - MH'!AS11","v":28808.940048070061},{"$f":"'Shipments and Stock - MH'!AT11","v":28808.940048070061},{"$f":"'Shipments and Stock - MH'!AU11","v":28808.940048070061},{"$f":"'Shipments and Stock - MH'!AV11","v":28808.940048070061},{"$f":"'Shipments and Stock - MH'!AW11","v":28808.940048070061},{"$f":"'Shipments and Stock - MH'!AX11","v":28808.940048070061},{"$f":"'Shipments and Stock - MH'!AY11","v":28808.940048070061},{"$f":"'Shipments and Stock - MH'!AZ11","v":28808.940048070061},{"$f":"'Shipments and Stock - MH'!BA11","v":28808.940048070061},{"$f":"'Shipments and Stock - MH'!BB11","v":28808.940048070061},{"$f":"'Shipments and Stock - MH'!BC11","v":28808.940048070061},{"$f":"'Shipments and Stock - MH'!BD11","v":28808.940048070061},{"$f":"'Shipments and Stock - MH'!BE11","v":28808.940048070061},{"$f":"'Shipments and Stock - MH'!BF11","v":28808.940048070061}]
[null,null,"Replacement Shipments",{"$f":"'Shipments and Stock - MH'!AH12","v":27049.785254763738},{"$f":"'Shipments and Stock - MH'!AI12","v":29074.348098079845},{"$f":"'Shipments and Stock - MH'!AJ12","v":29858.623003291312},{"$f":"'Shipments and Stock - MH'!AK12","v":32619.035010623098},{"$f":"'Shipments and Stock - MH'!AL12","v":31442.007274993051},{"$f":"'Shipments and Stock - MH'!AM12","v":28640.919515246169},{"$f":"'Shipments and Stock - MH'!AN12","v":28564.477767962024},{"$f":"'Shipments and Stock - MH'!AO12","v":28994.99553645093},{"$f":"'Shipments and Stock - MH'!AP12","v":25433.163321191849},{"$f":"'Shipments and Stock - MH'!AQ12","v":31465.590038762184},{"$f":"'Shipments and Stock - MH'!AR12","v":26986.652255704852},{"$f":"'Shipments and Stock - MH'!AS12","v":30503.470235797042},{"$f":"'Shipments and Stock - MH'!AT12","v":29626.628739127362},{"$f":"'Shipments and Stock - MH'!AU12","v":27450.826178972897},{"$f":"'Shipments and Stock - MH'!AV12","v":25564.330893057173},{"$f":"'Shipments and Stock - MH'!AW12","v":24713.426805161456},{"$f":"'Shipments and Stock - MH'!AX12","v":27352.783533186121},{"$f":"'Shipments and Stock - MH'!AY12","v":28444.796925430179},{"$f":"'Shipments and Stock - MH'!AZ12","v":30394.235629709499},{"$f":"'Shipments and Stock - MH'!BA12","v":30239.550150584146},{"$f":"'Shipments and Stock - MH'!BB12","v":32025.719568281253},{"$f":"'Shipments and Stock - MH'!BC12","v":37030.487910520169},{"$f":"'Shipments and Stock - MH'!BD12","v":39471.502185917976},{"$f":"'Shipments and Stock - MH'!BE12","v":37885.502579420972},{"$f":"'Shipments and Stock - MH'!BF12","v":34705.909751206738}]
[null,null,"Net New Shipments",{"$f":"'Shipments and Stock - MH'!AH13","v":3189.7648958204081},{"$f":"'Shipments and Stock - MH'!AI13","v":2951.3714702014113},{"$f":"'Shipments and Stock - MH'!AJ13","v":7171.8649072288536},{"$f":"'Shipments and Stock - MH'!AK13","v":6852.467175294878},{"$f":"'Shipments and Stock - MH'!AL13","v":6443.4953044279246},{"$f":"'Shipments and Stock - MH'!AM13","v":6064.9902359605712},{"$f":"'Shipments and Stock - MH'!AN13","v":5778.3457222046563},{"$f":"'Shipments and Stock - MH'!AO13","v":5612.1658020064879},{"$f":"'Shipments and Stock - MH'!AP13","v":5582.4038236527704},{"$f":"'Shipments and Stock - MH'!AQ13","v":5682.5847738496959},{"$f":"'Shipments and Stock - MH'!AR13","v":5877.0796120078303},{"$f":"'Shipments and Stock - MH'!AS13","v":6126.3190584533149},{"$f":"'Shipments and Stock - MH'!AT13","v":6376.461728825001},{"$f":"'Shipments and Stock - MH'!AU13","v":6575.6062993862433},{"$f":"'Shipments and Stock - MH'!AV13","v":6684.4374896382215},{"$f":"'Shipments and Stock - MH'!AW13","v":6680.6531367241405},{"$f":"'Shipments and Stock - MH'!AX13","v":6562.0801635121461},{"$f":"'Shipments and Stock - MH'!AY13","v":6348.4479499531444},{"$f":"'Shipments and Stock - MH'!AZ13","v":6074.2264968558447},{"$f":"'Shipments and Stock - MH'!BA13","v":5782.8494163614232},{"$f":"'Shipments and Stock - MH'!BB13","v":5519.356765947774},{"$f":"'Shipments and Stock - MH'!BC13","v":5574.5503336072434},{"$f":"'Shipments and Stock - MH'!BD13","v":5630.2958369433236},{"$f":"'Shipments and Stock - MH'!BE13","v":5686.5987953126896},{"$f":"'Shipments and Stock - MH'!BF13","v":5743.4647832658375}]
[null,null,"Total Model Shipments",{"$f":"'Shipments and Stock - MH'!AH14","v":30239.550150584146},{"$f":"'Shipments and Stock - MH'!AI14","v":32025.719568281256},{"$f":"'Shipments and Stock - MH'!AJ14","v":37030.487910520169},{"$f":"'Shipments and Stock - MH'!AK14","v":39471.502185917976},{"$f":"'Shipments and Stock - MH'!AL14","v":37885.50257942098},{"$f":"'Shipments and Stock - MH'!AM14","v":34705.909751206738},{"$f":"'Shipments and Stock - MH'!AN14","v":34342.82349016668},{"$f":"'Shipments and Stock - MH'!AO14","v":34607.161338457416},{"$f":"'Shipments and Stock - MH'!AP14","v":31015.567144844619},{"$f":"'Shipments and Stock - MH'!AQ14","v":37148.174812611876},{"$f":"'Shipments and Stock - MH'!AR14","v":32863.731867712682},{"$f":"'Shipments and Stock - MH'!AS14","v":36629.789294250353},{"$f":"'Shipments and Stock - MH'!AT14","v":36003.090467952366},{"$f":"'Shipments and Stock - MH'!AU14","v":34026.432478359144},{"$f":"'Shipments and Stock - MH'!AV14","v":32248.768382695394},{"$f":"'Shipments and Stock - MH'!AW14","v":31394.079941885597},{"$f":"'Shipments and Stock - MH'!AX14","v":33914.863696698267},{"$f":"'Shipments and Stock - MH'!AY14","v":34793.244875383323},{"$f":"'Shipments and Stock - MH'!AZ14","v":36468.46212656534},{"$f":"'Shipments and Stock - MH'!BA14","v":36022.399566945569},{"$f":"'Shipments and Stock - MH'!BB14","v":37545.07633422903},{"$f":"'Shipments and Stock - MH'!BC14","v":42605.038244127412},{"$f":"'Shipments and Stock - MH'!BD14","v":45101.798022861301},{"$f":"'Shipments and Stock - MH'!BE14","v":43572.101374733662},{"$f":"'Shipments and Stock - MH'!BF14","v":40449.374534472576}]
[null,null,"Model Installed Stock",{"$f":"'Shipments and Stock - MH'!AH15","v":547369.86091333115},{"$f":"'Shipments and Stock - MH'!AI15","v":550321.23238353257},{"$f":"'Shipments and Stock - MH'!AJ15","v":557493.09729076142},{"$f":"'Shipments and Stock - MH'!AK15","v":564345.5644660563},{"$f":"'Shipments and Stock - MH'!AL15","v":570789.05977048422},{"$f":"'Shipments and Stock - MH'!AM15","v":576854.0500064448},{"$f":"'Shipments and Stock - MH'!AN15","v":582632.39572864946},{"$f":"'Shipments and Stock - MH'!AO15","v":588244.56153065595},{"$f":"'Shipments and Stock - MH'!AP15","v":593826.96535430872},{"$f":"'Shipments and Stock - MH'!AQ15","v":599509.55012815841},{"$f":"'Shipments and Stock - MH'!AR15","v":605386.62974016625},{"$f":"'Shipments and Stock - MH'!AS15","v":611512.94879861956},{"$f":"'Shipments and Stock - MH'!AT15","v":617889.41052744456},{"$f":"'Shipments and Stock - MH'!AU15","v":624465.0168268308},{"$f":"'Shipments and Stock - MH'!AV15","v":631149.45431646903},{"$f":"'Shipments and Stock - MH'!AW15","v":637830.10745319317},{"$f":"'Shipments and Stock - MH'!AX15","v":644392.18761670531},{"$f":"'Shipments and Stock - MH'!AY15","v":650740.63556665846},{"$f":"'Shipments and Stock - MH'!AZ15","v":656814.8620635143},{"$f":"'Shipments and Stock - MH'!BA15","v":662597.71147987572},{"$f":"'Shipments and Stock - MH'!BB15","v":668117.0682458235},{"$f":"'Shipments and Stock - MH'!BC15","v":673691.61857943074},{"$f":"'Shipments and Stock - MH'!BD15","v":679321.91441637406},{"$f":"'Shipments and Stock - MH'!BE15","v":685008.51321168675},{"$f":"'Shipments and Stock - MH'!BF15","v":690751.97799495258}]
[]
[]
[]
[null,null,"First Year Energy Consumption ",2010,2011,2012,2013,2014,2015,2016,2017,2018,2019,2020,2021,2022,2023,2024,2025,2026,2027,2028,2029,2030,2031,2032,2033,2034]
[null,null,"6P Shipments * 6P UEC",{"$f":"D12*D19","v":7761499.7957967268},7761499.7957967268,7761499.7957967268,7761499.7957967268,7761499.7957967268,7761499.7957967268,7761499.7957967268,7761499.7957967268,7761499.7957967268,7761499.7957967268,7761499.7957967268,7761499.7957967268,7761499.7957967268,7761499.7957967268,7761499.7957967268,7761499.7957967268,7761499.7957967268,7761499.7957967268,7761499.7957967268,7761499.7957967268,7761499.7957967268,7761499.7957967268,7761499.7957967268,7761499.7957967268,7761499.7957967268]
[null,null,"Model Shipments * Model Pre-Case UEC",{"$f":"D13*D22","v":8146924.5979588479},{"$f":"E13*E22","v":8629525.0739857964},9979689.9687466696,10639246.613372581,10213388.880709343,9357715.380963197,9261300.3439541608,9334079.8004514966,8366711.7851864574,10022639.301595675,8868109.0853942111,9885942.6125328969,9718359.3060249779,9186267.3747699,8707736.53546579,8478311.7006779984,9160541.7033683639,9399298.968126094,9853429.6036705058,9734463.8224748112,10147564.123919139,11516994.981514813,12193867.40305155,11782175.868426075,10939517.775195373]
[null,null,"Model Shipments * Model Post-Case UEC",{"$f":"D14*D22","v":8146924.5979588479},{"$f":"E14*E22","v":8629525.0739857964},9979689.9687466696,10639246.613372581,10213388.880709343,9357715.380963197,9261300.3439541608,9334079.8004514966,8366711.7851864574,9843050.0759133138,8709868.1389281079,9710276.2519161124,9546394.6906140037,9024402.082232777,8554951.3372194152,8330182.9014369249,9001174.8065399416,9236477.4066282175,9683473.8171111774,9567283.487440994,9974043.1213467028,11320912.44499914,11987166.180995161,11583327.884435745,10755703.093387814]
[]
[null,null,"Total Energy Consumption (kWh)",2010,2011,2012,2013,2014,2015,2016,2017,2018,2019,2020,2021,2022,2023,2024,2025,2026,2027,2028,2029,2030,2031,2032,2033,2034]
[null,null,"Modeled Pre-case Consumption \n(Installed UEC * Stock)",{"$f":"D15*D$23","v":147221744.13519683},{"$f":"E15*E$23","v":148061375.6203306},150041041.13038096,151921880.34319034,153692794.34578973,155360153.27531385,156947606.66690505,158484123.00493875,160011147.41035932,161567589.95490488,163174352.89435261,164848583.97365177,166582461.02509353,168370632.70596528,170185353.43784419,172009819.57331058,173804713.48064238,175543074.95703128,177209218.63695493,178796757.86147088,180314796.91140425,181852101.92417234,183406722.71385133,184975509.7015681,186557312.09580025]
[null,null,"Modeled Post-case Consumption \n(Installed UEC* Stock)",{"$f":"D16*D$23","v":147221744.13519683},148061375.6203306,150041041.13038096,151921880.34319034,153692794.34578973,155360153.27531385,156947606.66690505,158484123.00493875,160011147.41035932,161388000.72922254,162836522.72220415,164335087.44088653,165896999.87691733,167523306.26525193,169185241.79888454,170861579.13510984,172497106.14561322,174072646.0605042,175568833.95386851,176989192.84335062,178333710.89071158,179674933.36696401,181022852.93458664,182392791.93831304,183790779.65073761]
[]
[]
[]
[null,null,"Total Energy Consumption (aMW)",2010,2011,2012,2013,2014,2015,2016,2017,2018,2019,2020,2021,2022,2023,2024,2025,2026,2027,2028,2029,2030,2031,2032,2033,2034]
[null,null,{"$f":"C33","v":"Modeled Pre-case Consumption \n(Installed UEC * Stock)"},{"$f":"D33/Constants!$D$13/(Constants!$D$12*Constants!$D$10)","v":16.794632002646228},{"$f":"E33/Constants!$D$13/(Constants!$D$12*Constants!$D$10)","v":16.890414741082658},{"$f":"F33/Constants!$D$13/(Constants!$D$12*Constants!$D$10)","v":17.11624927337223},{"$f":"G33/Constants!$D$13/(Constants!$D$12*Constants!$D$10)","v":17.330809986674691},{"$f":"H33/Constants!$D$13/(Constants!$D$12*Constants!$D$10)","v":17.532830749006358},{"$f":"I33/Constants!$D$13/(Constants!$D$12*Constants!$D$10)","v":17.723038247240915},{"$f":"J33/Constants!$D$13/(Constants!$D$12*Constants!$D$10)","v":17.904130352145227},{"$f":"K33/Constants!$D$13/(Constants!$D$12*Constants!$D$10)","v":18.079411704875511},{"$f":"L33/Constants!$D$13/(Constants!$D$12*Constants!$D$10)","v":18.253610245306788},{"$f":"M33/Constants!$D$13/(Constants!$D$12*Constants!$D$10)","v":18.431164722211374},{"$f":"N33/Constants!$D$13/(Constants!$D$12*Constants!$D$10)","v":18.614459604648939},{"$f":"O33/Constants!$D$13/(Constants!$D$12*Constants!$D$10)","v":18.805451057911451},{"$f":"P33/Constants!$D$13/(Constants!$D$12*Constants!$D$10)","v":19.00324675166479},{"$f":"Q33/Constants!$D$13/(Constants!$D$12*Constants!$D$10)","v":19.207236220164873},{"$f":"R33/Constants!$D$13/(Constants!$D$12*Constants!$D$10)","v":19.41425432783986},{"$f":"S33/Constants!$D$13/(Constants!$D$12*Constants!$D$10)","v":19.622384163051628},{"$f":"T33/Constants!$D$13/(Constants!$D$12*Constants!$D$10)","v":19.827140483760253},{"$f":"U33/Constants!$D$13/(Constants!$D$12*Constants!$D$10)","v":20.025447747779065},{"$f":"V33/Constants!$D$13/(Constants!$D$12*Constants!$D$10)","v":20.215516613843821},{"$f":"W33/Constants!$D$13/(Constants!$D$12*Constants!$D$10)","v":20.396618510320657},{"$f":"X33/Constants!$D$13/(Constants!$D$12*Constants!$D$10)","v":20.569792027310548},{"$f":"Y33/Constants!$D$13/(Constants!$D$12*Constants!$D$10)","v":20.7451633497801},{"$f":"Z33/Constants!$D$13/(Constants!$D$12*Constants!$D$10)","v":20.922510006143206},{"$f":"AA33/Constants!$D$13/(Constants!$D$12*Constants!$D$10)","v":21.101472701524994},{"$f":"AB33/Constants!$D$13/(Constants!$D$12*Constants!$D$10)","v":21.281920156947322}]
[null,null,{"$f":"C34","v":"Modeled Post-case Consumption \n(Installed UEC* Stock)"},{"$f":"D34/Constants!$D$13/(Constants!$D$12*Constants!$D$10)","v":16.794632002646228},{"$f":"E34/Constants!$D$13/(Constants!$D$12*Constants!$D$10)","v":16.890414741082658},{"$f":"F34/Constants!$D$13/(Constants!$D$12*Constants!$D$10)","v":17.11624927337223},{"$f":"G34/Constants!$D$13/(Constants!$D$12*Constants!$D$10)","v":17.330809986674691},{"$f":"H34/Constants!$D$13/(Constants!$D$12*Constants!$D$10)","v":17.532830749006358},{"$f":"I34/Constants!$D$13/(Constants!$D$12*Constants!$D$10)","v":17.723038247240915},{"$f":"J34/Constants!$D$13/(Constants!$D$12*Constants!$D$10)","v":17.904130352145227},{"$f":"K34/Constants!$D$13/(Constants!$D$12*Constants!$D$10)","v":18.079411704875511},{"$f":"L34/Constants!$D$13/(Constants!$D$12*Constants!$D$10)","v":18.253610245306788},{"$f":"M34/Constants!$D$13/(Constants!$D$12*Constants!$D$10)","v":18.41067770125742},{"$f":"N34/Constants!$D$13/(Constants!$D$12*Constants!$D$10)","v":18.575920912868373},{"$f":"O34/Constants!$D$13/(Constants!$D$12*Constants!$D$10)","v":18.746872854310578},{"$f":"P34/Constants!$D$13/(Constants!$D$12*Constants!$D$10)","v":18.925051320661343},{"$f":"Q34/Constants!$D$13/(Constants!$D$12*Constants!$D$10)","v":19.11057566338717},{"$f":"R34/Constants!$D$13/(Constants!$D$12*Constants!$D$10)","v":19.300164476258786},{"$f":"S34/Constants!$D$13/(Constants!$D$12*Constants!$D$10)","v":19.491396205237262},{"$f":"T34/Constants!$D$13/(Constants!$D$12*Constants!$D$10)","v":19.677972409949032},{"$f":"U34/Constants!$D$13/(Constants!$D$12*Constants!$D$10)","v":19.857705459788296},{"$f":"V34/Constants!$D$13/(Constants!$D$12*Constants!$D$10)","v":20.02838625985267},{"$f":"W34/Constants!$D$13/(Constants!$D$12*Constants!$D$10)","v":20.190416705835116},{"$f":"X34/Constants!$D$13/(Constants!$D$12*Constants!$D$10)","v":20.343795447263471},{"$f":"Y34/Constants!$D$13/(Constants!$D$12*Constants!$D$10)","v":20.496798239443763},{"$f":"Z34/Constants!$D$13/(Constants!$D$12*Constants!$D$10)","v":20.650565016494028},{"$f":"AA34/Constants!$D$13/(Constants!$D$12*Constants!$D$10)","v":20.806843707313831},{"$f":"AB34/Constants!$D$13/(Constants!$D$12*Constants!$D$10)","v":20.966322113933106}]
[]
[null,null,"Savings (aMW)",2010,2011,2012,2013,2014,2015,2016,2017,2018,2019,2020,2021,2022,2023,2024,2025,2026,2027,2028,2029,2030,2031,2032,2033,2034]
[null,null,"Incremental Savings",{"$f":"IF(AND(D42>=STANDARD_YEAR,(D42-STANDARD_YEAR)<LIFETIME_MH),\n(D13-D14)*D22,\n(D13-D14)*D21)\n/Constants!$D$13/(Constants!$D$12*Constants!$D$10)","v":0},{"$f":"IF(AND(E42>=STANDARD_YEAR,(E42-STANDARD_YEAR)<LIFETIME_MH),\n(E13-E14)*E22,\n(E13-E14)*E21)\n/Constants!$D$13/(Constants!$D$12*Constants!$D$10)","v":0},{"$f":"IF(AND(F42>=STANDARD_YEAR,(F42-STANDARD_YEAR)<LIFETIME_MH),\n(F13-F14)*F22,\n(F13-F14)*F21)\n/Constants!$D$13/(Constants!$D$12*Constants!$D$10)","v":0},{"$f":"IF(AND(G42>=STANDARD_YEAR,(G42-STANDARD_YEAR)<LIFETIME_MH),\n(G13-G14)*G22,\n(G13-G14)*G21)\n/Constants!$D$13/(Constants!$D$12*Constants!$D$10)","v":0},{"$f":"IF(AND(H42>=STANDARD_YEAR,(H42-STANDARD_YEAR)<LIFETIME_MH),\n(H13-H14)*H22,\n(H13-H14)*H21)\n/Constants!$D$13/(Constants!$D$12*Constants!$D$10)","v":0},{"$f":"IF(AND(I42>=STANDARD_YEAR,(I42-STANDARD_YEAR)<LIFETIME_MH),\n(I13-I14)*I22,\n(I13-I14)*I21)\n/Constants!$D$13/(Constants!$D$12*Constants!$D$10)","v":0},{"$f":"IF(AND(J42>=STANDARD_YEAR,(J42-STANDARD_YEAR)<LIFETIME_MH),\n(J13-J14)*J22,\n(J13-J14)*J21)\n/Constants!$D$13/(Constants!$D$12*Constants!$D$10)","v":0},{"$f":"IF(AND(K42>=STANDARD_YEAR,(K42-STANDARD_YEAR)<LIFETIME_MH),\n(K13-K14)*K22,\n(K13-K14)*K21)\n/Constants!$D$13/(Constants!$D$12*Constants!$D$10)","v":0},{"$f":"IF(AND(L42>=STANDARD_YEAR,(L42-STANDARD_YEAR)<LIFETIME_MH),\n(L13-L14)*L22,\n(L13-L14)*L21)\n/Constants!$D$13/(Constants!$D$12*Constants!$D$10)","v":0},{"$f":"IF(AND(M42>=STANDARD_YEAR,(M42-STANDARD_YEAR)<LIFETIME_MH),\n(M13-M14)*M22,\n(M13-M14)*M21)\n/Constants!$D$13/(Constants!$D$12*Constants!$D$10)","v":2.0487020953954094E-2},{"$f":"IF(AND(N42>=STANDARD_YEAR,(N42-STANDARD_YEAR)<LIFETIME_MH),\n(N13-N14)*N22,\n(N13-N14)*N21)\n/Constants!$D$13/(Constants!$D$12*Constants!$D$10)","v":1.8051670826614536E-2},{"$f":"IF(AND(O42>=STANDARD_YEAR,(O42-STANDARD_YEAR)<LIFETIME_MH),\n(O13-O14)*O22,\n(O13-O14)*O21)\n/Constants!$D$13/(Constants!$D$12*Constants!$D$10)","v":2.0039511820304022E-2},{"$f":"IF(AND(P42>=STANDARD_YEAR,(P42-STANDARD_YEAR)<LIFETIME_MH),\n(P13-P14)*P22,\n(P13-P14)*P21)\n/Constants!$D$13/(Constants!$D$12*Constants!$D$10)","v":1.96172274025752E-2},{"$f":"IF(AND(Q42>=STANDARD_YEAR,(Q42-STANDARD_YEAR)<LIFETIME_MH),\n(Q13-Q14)*Q22,\n(Q13-Q14)*Q21)\n/Constants!$D$13/(Constants!$D$12*Constants!$D$10)","v":1.8465125774255312E-2},{"$f":"IF(AND(R42>=STANDARD_YEAR,(R42-STANDARD_YEAR)<LIFETIME_MH),\n(R13-R14)*R22,\n(R13-R14)*R21)\n/Constants!$D$13/(Constants!$D$12*Constants!$D$10)","v":1.7429294803373751E-2},{"$f":"IF(AND(S42>=STANDARD_YEAR,(S42-STANDARD_YEAR)<LIFETIME_MH),\n(S13-S14)*S22,\n(S13-S14)*S21)\n/Constants!$D$13/(Constants!$D$12*Constants!$D$10)","v":1.6898106233296024E-2},{"$f":"IF(AND(T42>=STANDARD_YEAR,(T42-STANDARD_YEAR)<LIFETIME_MH),\n(T13-T14)*T22,\n(T13-T14)*T21)\n/Constants!$D$13/(Constants!$D$12*Constants!$D$10)","v":1.8180115996854117E-2},{"$f":"IF(AND(U42>=STANDARD_YEAR,(U42-STANDARD_YEAR)<LIFETIME_MH),\n(U13-U14)*U22,\n(U13-U14)*U21)\n/Constants!$D$13/(Constants!$D$12*Constants!$D$10)","v":1.8574214179543382E-2},{"$f":"IF(AND(V42>=STANDARD_YEAR,(V42-STANDARD_YEAR)<LIFETIME_MH),\n(V13-V14)*V22,\n(V13-V14)*V21)\n/Constants!$D$13/(Constants!$D$12*Constants!$D$10)","v":1.9388066000379768E-2},{"$f":"IF(AND(W42>=STANDARD_YEAR,(W42-STANDARD_YEAR)<LIFETIME_MH),\n(W13-W14)*W22,\n(W13-W14)*W21)\n/Constants!$D$13/(Constants!$D$12*Constants!$D$10)","v":1.9071450494389377E-2},{"$f":"IF(AND(X42>=STANDARD_YEAR,(X42-STANDARD_YEAR)<LIFETIME_MH),\n(X13-X14)*X22,\n(X13-X14)*X21)\n/Constants!$D$13/(Constants!$D$12*Constants!$D$10)","v":1.97947755615373E-2},{"$f":"IF(AND(Y42>=STANDARD_YEAR,(Y42-STANDARD_YEAR)<LIFETIME_MH),\n(Y13-Y14)*Y22,\n(Y13-Y14)*Y21)\n/Constants!$D$13/(Constants!$D$12*Constants!$D$10)","v":2.2368530289262285E-2},{"$f":"IF(AND(Z42>=STANDARD_YEAR,(Z42-STANDARD_YEAR)<LIFETIME_MH),\n(Z13-Z14)*Z22,\n(Z13-Z14)*Z21)\n/Constants!$D$13/(Constants!$D$12*Constants!$D$10)","v":2.3579879312843728E-2},{"$f":"IF(AND(AA42>=STANDARD_YEAR,(AA42-STANDARD_YEAR)<LIFETIME_MH),\n(AA13-AA14)*AA22,\n(AA13-AA14)*AA21)\n/Constants!$D$13/(Constants!$D$12*Constants!$D$10)","v":2.268400456198159E-2},{"$f":"IF(AND(AB42>=STANDARD_YEAR,(AB42-STANDARD_YEAR)<LIFETIME_MH),\n(AB13-AB14)*AB22,\n(AB13-AB14)*AB21)\n/Constants!$D$13/(Constants!$D$12*Constants!$D$10)","v":2.0969048803052649E-2}]
[null,null,"Cumulative Savings",{"$f":"D39-D40","v":0},0,0,0,0,0,0,0,0,{"$f":"M39-M40","v":2.0487020953954271E-2},3.8538691780566126E-2,5.8578203600873735E-2,7.8195431003447169E-2,9.6660556777703022E-2,0.11408985158107399,0.13098795781436579,0.14916807381122155,0.16774228799076951,0.18713035399115086,0.20620180448554137,0.22599658004707734,0.24836511033633712,0.27194498964917813,0.29462899421116262,0.31559804301421579]
[null,null,"DOE Aggregate Lifecycle Savings (formerly DOE Carbon proxy)",{"$f":"SUM($D$44:D44)","v":0},{"$f":"SUM($D$44:E44)","v":0},{"$f":"SUM($D$44:F44)","v":0},{"$f":"SUM($D$44:G44)","v":0},{"$f":"SUM($D$44:H44)","v":0},{"$f":"SUM($D$44:I44)","v":0},{"$f":"SUM($D$44:J44)","v":0},{"$f":"SUM($D$44:K44)","v":0},{"$f":"SUM($D$44:L44)","v":0},{"$f":"SUM($D$44:M44)","v":2.0487020953954271E-2},{"$f":"SUM($D$44:N44)","v":5.9025712734520397E-2},{"$f":"SUM($D$44:O44)","v":0.11760391633539413},{"$f":"SUM($D$44:P44)","v":0.1957993473388413},{"$f":"SUM($D$44:Q44)","v":0.29245990411654432},{"$f":"SUM($D$44:R44)","v":0.40654975569761831},{"$f":"SUM($D$44:S44)","v":0.53753771351198409},{"$f":"SUM($D$44:T44)","v":0.68670578732320564},{"$f":"SUM($D$44:U44)","v":0.85444807531397515},{"$f":"SUM($D$44:V44)","v":1.041578429305126},{"$f":"SUM($D$44:W44)","v":1.2477802337906674},{"$f":"SUM($D$44:X44)","v":1.4737768138377447},{"$f":"SUM($D$44:Y44)","v":1.7221419241740819},{"$f":"SUM($D$44:Z44)","v":1.99408691382326},{"$f":"SUM($D$44:AA44)","v":2.2887159080344226},{"$f":"SUM($D$44:AB44)","v":2.6043139510486384}]
[null,null,"Check",{"$f":"IF(ISNUMBER(C44),ROUND((D44-C44-D43),3),0)","v":0},{"$f":"IF(ISNUMBER(D44),ROUND((E44-D44-E43),3),0)","v":0},0,0,0,0,0,0,0,0,0,0,0,0,0,0,0,0,0,0,0,0,0,0,0]

{"sheet":"Results-TH","index":24,"n_rows":46,"n_cols":28,"rows_kept":46,"cut":false,"hidden":false,"merged":[]}
[]
[null,null,"RESULTS - Total Homes"]
[]
[null,null,"NAVIGATION"]
[]
[null,null,"COMMENTS"]
[]
[]
[null,null,"TOTAL HOMES"]
[]
[null,null,"Unit Energy Consumption (kWh/year) ",2010,2011,2012,2013,2014,2015,2016,2017,2018,2019,2020,2021,2022,2023,2024,2025,2026,2027,2028,2029,2030,2031,2032,2033,2034]
[null,null,"6P UEC",{"$f":"(('Results-SF'!D12*'Results-SF'!D19)+('Results-MF'!D12*'Results-MF'!D19)+('Results-MH'!D12*'Results-MH'!D19))\n/\n('Results-SF'!D19+'Results-MF'!D19+'Results-MH'!D19)","v":269.41288998644285},{"$f":"(('Results-SF'!E12*'Results-SF'!E19)+('Results-MF'!E12*'Results-MF'!E19)+('Results-MH'!E12*'Results-MH'!E19))\n/\n('Results-SF'!E19+'Results-MF'!E19+'Results-MH'!E19)","v":269.41288998644285},{"$f":"(('Results-SF'!F12*'Results-SF'!F19)+('Results-MF'!F12*'Results-MF'!F19)+('Results-MH'!F12*'Results-MH'!F19))\n/\n('Results-SF'!F19+'Results-MF'!F19+'Results-MH'!F19)","v":269.41288998644285},{"$f":"(('Results-SF'!G12*'Results-SF'!G19)+('Results-MF'!G12*'Results-MF'!G19)+('Results-MH'!G12*'Results-MH'!G19))\n/\n('Results-SF'!G19+'Results-MF'!G19+'Results-MH'!G19)","v":269.41288998644285},{"$f":"(('Results-SF'!H12*'Results-SF'!H19)+('Results-MF'!H12*'Results-MF'!H19)+('Results-MH'!H12*'Results-MH'!H19))\n/\n('Results-SF'!H19+'Results-MF'!H19+'Results-MH'!H19)","v":269.41288998644285},{"$f":"(('Results-SF'!I12*'Results-SF'!I19)+('Results-MF'!I12*'Results-MF'!I19)+('Results-MH'!I12*'Results-MH'!I19))\n/\n('Results-SF'!I19+'Results-MF'!I19+'Results-MH'!I19)","v":269.41288998644285},{"$f":"(('Results-SF'!J12*'Results-SF'!J19)+('Results-MF'!J12*'Results-MF'!J19)+('Results-MH'!J12*'Results-MH'!J19))\n/\n('Results-SF'!J19+'Results-MF'!J19+'Results-MH'!J19)","v":269.41288998644285},{"$f":"(('Results-SF'!K12*'Results-SF'!K19)+('Results-MF'!K12*'Results-MF'!K19)+('Results-MH'!K12*'Results-MH'!K19))\n/\n('Results-SF'!K19+'Results-MF'!K19+'Results-MH'!K19)","v":269.41288998644285},{"$f":"(('Results-SF'!L12*'Results-SF'!L19)+('Results-MF'!L12*'Results-MF'!L19)+('Results-MH'!L12*'Results-MH'!L19))\n/\n('Results-SF'!L19+'Results-MF'!L19+'Results-MH'!L19)","v":269.41288998644285},{"$f":"(('Results-SF'!M12*'Results-SF'!M19)+('Results-MF'!M12*'Results-MF'!M19)+('Results-MH'!M12*'Results-MH'!M19))\n/\n('Results-SF'!M19+'Results-MF'!M19+'Results-MH'!M19)","v":269.41288998644285},{"$f":"(('Results-SF'!N12*'Results-SF'!N19)+('Results-MF'!N12*'Results-MF'!N19)+('Results-MH'!N12*'Results-MH'!N19))\n/\n('Results-SF'!N19+'Results-MF'!N19+'Results-MH'!N19)","v":269.41288998644285},{"$f":"(('Results-SF'!O12*'Results-SF'!O19)+('Results-MF'!O12*'Results-MF'!O19)+('Results-MH'!O12*'Results-MH'!O19))\n/\n('Results-SF'!O19+'Results-MF'!O19+'Results-MH'!O19)","v":269.41288998644285},{"$f":"(('Results-SF'!P12*'Results-SF'!P19)+('Results-MF'!P12*'Results-MF'!P19)+('Results-MH'!P12*'Results-MH'!P19))\n/\n('Results-SF'!P19+'Results-MF'!P19+'Results-MH'!P19)","v":269.41288998644285},{"$f":"(('Results-SF'!Q12*'Results-SF'!Q19)+('Results-MF'!Q12*'Results-MF'!Q19)+('Results-MH'!Q12*'Results-MH'!Q19))\n/\n('Results-SF'!Q19+'Results-MF'!Q19+'Results-MH'!Q19)","v":269.41288998644285},{"$f":"(('Results-SF'!R12*'Results-SF'!R19)+('Results-MF'!R12*'Results-MF'!R19)+('Results-MH'!R12*'Results-MH'!R19))\n/\n('Results-SF'!R19+'Results-MF'!R19+'Results-MH'!R19)","v":269.41288998644285},{"$f":"(('Results-SF'!S12*'Results-SF'!S19)+('Results-MF'!S12*'Results-MF'!S19)+('Results-MH'!S12*'Results-MH'!S19))\n/\n('Results-SF'!S19+'Results-MF'!S19+'Results-MH'!S19)","v":269.41288998644285},{"$f":"(('Results-SF'!T12*'Results-SF'!T19)+('Results-MF'!T12*'Results-MF'!T19)+('Results-MH'!T12*'Results-MH'!T19))\n/\n('Results-SF'!T19+'Results-MF'!T19+'Results-MH'!T19)","v":269.41288998644285},{"$f":"(('Results-SF'!U12*'Results-SF'!U19)+('Results-MF'!U12*'Results-MF'!U19)+('Results-MH'!U12*'Results-MH'!U19))\n/\n('Results-SF'!U19+'Results-MF'!U19+'Results-MH'!U19)","v":269.41288998644285},{"$f":"(('Results-SF'!V12*'Results-SF'!V19)+('Results-MF'!V12*'Results-MF'!V19)+('Results-MH'!V12*'Results-MH'!V19))\n/\n('Results-SF'!V19+'Results-MF'!V19+'Results-MH'!V19)","v":269.41288998644285},{"$f":"(('Results-SF'!W12*'Results-SF'!W19)+('Results-MF'!W12*'Results-MF'!W19)+('Results-MH'!W12*'Results-MH'!W19))\n/\n('Results-SF'!W19+'Results-MF'!W19+'Results-MH'!W19)","v":269.41288998644285},{"$f":"(('Results-SF'!X12*'Results-SF'!X19)+('Results-MF'!X12*'Results-MF'!X19)+('Results-MH'!X12*'Results-MH'!X19))\n/\n('Results-SF'!X19+'Results-MF'!X19+'Results-MH'!X19)","v":269.41288998644285},{"$f":"(('Results-SF'!Y12*'Results-SF'!Y19)+('Results-MF'!Y12*'Results-MF'!Y19)+('Results-MH'!Y12*'Results-MH'!Y19))\n/\n('Results-SF'!Y19+'Results-MF'!Y19+'Results-MH'!Y19)","v":269.41288998644285},{"$f":"(('Results-SF'!Z12*'Results-SF'!Z19)+('Results-MF'!Z12*'Results-MF'!Z19)+('Results-MH'!Z12*'Results-MH'!Z19))\n/\n('Results-SF'!Z19+'Results-MF'!Z19+'Results-MH'!Z19)","v":269.41288998644285},{"$f":"(('Results-SF'!AA12*'Results-SF'!AA19)+('Results-MF'!AA12*'Results-MF'!AA19)+('Results-MH'!AA12*'Results-MH'!AA19))\n/\n('Results-SF'!AA19+'Results-MF'!AA19+'Results-MH'!AA19)","v":269.41288998644285},{"$f":"(('Results-SF'!AB12*'Results-SF'!AB19)+('Results-MF'!AB12*'Results-MF'!AB19)+('Results-MH'!AB12*'Results-MH'!AB19))\n/\n('Results-SF'!AB19+'Results-MF'!AB19+'Results-MH'!AB19)","v":269.41288998644285}]
[null,null,{"$f":"'UEC-SF'!$C$9&\" - \"&'UEC-SF'!C11","v":"Market UEC (Shipment Weighted Average) - PRE-Case UEC"},{"$f":"(('Results-SF'!D13*'Results-SF'!D$22)+('Results-MF'!D13*'Results-MF'!D$22)+('Results-MH'!D13*'Results-MH'!D$22))\n/\n('Results-SF'!D$22+'Results-MF'!D$22+'Results-MH'!D$22)","v":269.41288998644285},{"$f":"(('Results-SF'!E13*'Results-SF'!E$22)+('Results-MF'!E13*'Results-MF'!E$22)+('Results-MH'!E13*'Results-MH'!E$22))\n/\n('Results-SF'!E$22+'Results-MF'!E$22+'Results-MH'!E$22)","v":269.45608686752524},{"$f":"(('Results-SF'!F13*'Results-SF'!F$22)+('Results-MF'!F13*'Results-MF'!F$22)+('Results-MH'!F13*'Results-MH'!F$22))\n/\n('Results-SF'!F$22+'Results-MF'!F$22+'Results-MH'!F$22)","v":269.49928374860792},{"$f":"(('Results-SF'!G13*'Results-SF'!G$22)+('Results-MF'!G13*'Results-MF'!G$22)+('Results-MH'!G13*'Results-MH'!G$22))\n/\n('Results-SF'!G$22+'Results-MF'!G$22+'Results-MH'!G$22)","v":269.54248062969049},{"$f":"(('Results-SF'!H13*'Results-SF'!H$22)+('Results-MF'!H13*'Results-MF'!H$22)+('Results-MH'!H13*'Results-MH'!H$22))\n/\n('Results-SF'!H$22+'Results-MF'!H$22+'Results-MH'!H$22)","v":269.585677510773},{"$f":"(('Results-SF'!I13*'Results-SF'!I$22)+('Results-MF'!I13*'Results-MF'!I$22)+('Results-MH'!I13*'Results-MH'!I$22))\n/\n('Results-SF'!I$22+'Results-MF'!I$22+'Results-MH'!I$22)","v":269.62887439185556},{"$f":"(('Results-SF'!J13*'Results-SF'!J$22)+('Results-MF'!J13*'Results-MF'!J$22)+('Results-MH'!J13*'Results-MH'!J$22))\n/\n('Results-SF'!J$22+'Results-MF'!J$22+'Results-MH'!J$22)","v":269.67207127293807},{"$f":"(('Results-SF'!K13*'Results-SF'!K$22)+('Results-MF'!K13*'Results-MF'!K$22)+('Results-MH'!K13*'Results-MH'!K$22))\n/\n('Results-SF'!K$22+'Results-MF'!K$22+'Results-MH'!K$22)","v":269.71526815402069},{"$f":"(('Results-SF'!L13*'Results-SF'!L$22)+('Results-MF'!L13*'Results-MF'!L$22)+('Results-MH'!L13*'Results-MH'!L$22))\n/\n('Results-SF'!L$22+'Results-MF'!L$22+'Results-MH'!L$22)","v":269.75846503510303},{"$f":"(('Results-SF'!M13*'Results-SF'!M$22)+('Results-MF'!M13*'Results-MF'!M$22)+('Results-MH'!M13*'Results-MH'!M$22))\n/\n('Results-SF'!M$22+'Results-MF'!M$22+'Results-MH'!M$22)","v":269.80166191618571},{"$f":"(('Results-SF'!N13*'Results-SF'!N$22)+('Results-MF'!N13*'Results-MF'!N$22)+('Results-MH'!N13*'Results-MH'!N$22))\n/\n('Results-SF'!N$22+'Results-MF'!N$22+'Results-MH'!N$22)","v":269.84485879726816},{"$f":"(('Results-SF'!O13*'Results-SF'!O$22)+('Results-MF'!O13*'Results-MF'!O$22)+('Results-MH'!O13*'Results-MH'!O$22))\n/\n('Results-SF'!O$22+'Results-MF'!O$22+'Results-MH'!O$22)","v":269.88805567835078},{"$f":"(('Results-SF'!P13*'Results-SF'!P$22)+('Results-MF'!P13*'Results-MF'!P$22)+('Results-MH'!P13*'Results-MH'!P$22))\n/\n('Results-SF'!P$22+'Results-MF'!P$22+'Results-MH'!P$22)","v":269.9312525594334},{"$f":"(('Results-SF'!Q13*'Results-SF'!Q$22)+('Results-MF'!Q13*'Results-MF'!Q$22)+('Results-MH'!Q13*'Results-MH'!Q$22))\n/\n('Results-SF'!Q$22+'Results-MF'!Q$22+'Results-MH'!Q$22)","v":269.97444944051591},{"$f":"(('Results-SF'!R13*'Results-SF'!R$22)+('Results-MF'!R13*'Results-MF'!R$22)+('Results-MH'!R13*'Results-MH'!R$22))\n/\n('Results-SF'!R$22+'Results-MF'!R$22+'Results-MH'!R$22)","v":270.01764632159842},{"$f":"(('Results-SF'!S13*'Results-SF'!S$22)+('Results-MF'!S13*'Results-MF'!S$22)+('Results-MH'!S13*'Results-MH'!S$22))\n/\n('Results-SF'!S$22+'Results-MF'!S$22+'Results-MH'!S$22)","v":270.06084320268104},{"$f":"(('Results-SF'!T13*'Results-SF'!T$22)+('Results-MF'!T13*'Results-MF'!T$22)+('Results-MH'!T13*'Results-MH'!T$22))\n/\n('Results-SF'!T$22+'Results-MF'!T$22+'Results-MH'!T$22)","v":270.10404008376349},{"$f":"(('Results-SF'!U13*'Results-SF'!U$22)+('Results-MF'!U13*'Results-MF'!U$22)+('Results-MH'!U13*'Results-MH'!U$22))\n/\n('Results-SF'!U$22+'Results-MF'!U$22+'Results-MH'!U$22)","v":270.147236964846},{"$f":"(('Results-SF'!V13*'Results-SF'!V$22)+('Results-MF'!V13*'Results-MF'!V$22)+('Results-MH'!V13*'Results-MH'!V$22))\n/\n('Results-SF'!V$22+'Results-MF'!V$22+'Results-MH'!V$22)","v":270.19043384592857},{"$f":"(('Results-SF'!W13*'Results-SF'!W$22)+('Results-MF'!W13*'Results-MF'!W$22)+('Results-MH'!W13*'Results-MH'!W$22))\n/\n('Results-SF'!W$22+'Results-MF'!W$22+'Results-MH'!W$22)","v":270.23363072701102},{"$f":"(('Results-SF'!X13*'Results-SF'!X$22)+('Results-MF'!X13*'Results-MF'!X$22)+('Results-MH'!X13*'Results-MH'!X$22))\n/\n('Results-SF'!X$22+'Results-MF'!X$22+'Results-MH'!X$22)","v":270.2768276080937},{"$f":"(('Results-SF'!Y13*'Results-SF'!Y$22)+('Results-MF'!Y13*'Results-MF'!Y$22)+('Results-MH'!Y13*'Results-MH'!Y$22))\n/\n('Results-SF'!Y$22+'Results-MF'!Y$22+'Results-MH'!Y$22)","v":270.32002448917626},{"$f":"(('Results-SF'!Z13*'Results-SF'!Z$22)+('Results-MF'!Z13*'Results-MF'!Z$22)+('Results-MH'!Z13*'Results-MH'!Z$22))\n/\n('Results-SF'!Z$22+'Results-MF'!Z$22+'Results-MH'!Z$22)","v":270.36322137025883},{"$f":"(('Results-SF'!AA13*'Results-SF'!AA$22)+('Results-MF'!AA13*'Results-MF'!AA$22)+('Results-MH'!AA13*'Results-MH'!AA$22))\n/\n('Results-SF'!AA$22+'Results-MF'!AA$22+'Results-MH'!AA$22)","v":270.40641825134134},{"$f":"(('Results-SF'!AB13*'Results-SF'!AB$22)+('Results-MF'!AB13*'Results-MF'!AB$22)+('Results-MH'!AB13*'Results-MH'!AB$22))\n/\n('Results-SF'!AB$22+'Results-MF'!AB$22+'Results-MH'!AB$22)","v":270.44961513242384}]
[null,null,{"$f":"'UEC-SF'!$C$9&\" - \"&'UEC-SF'!C12","v":"Market UEC (Shipment Weighted Average) - POST-Case UEC"},{"$f":"(('Results-SF'!D14*'Results-SF'!D$22)+('Results-MF'!D14*'Results-MF'!D$22)+('Results-MH'!D14*'Results-MH'!D$22))\n/\n('Results-SF'!D$22+'Results-MF'!D$22+'Results-MH'!D$22)","v":269.41288998644285},{"$f":"(('Results-SF'!E14*'Results-SF'!E$22)+('Results-MF'!E14*'Results-MF'!E$22)+('Results-MH'!E14*'Results-MH'!E$22))\n/\n('Results-SF'!E$22+'Results-MF'!E$22+'Results-MH'!E$22)","v":269.45608686752524},{"$f":"(('Results-SF'!F14*'Results-SF'!F$22)+('Results-MF'!F14*'Results-MF'!F$22)+('Results-MH'!F14*'Results-MH'!F$22))\n/\n('Results-SF'!F$22+'Results-MF'!F$22+'Results-MH'!F$22)","v":269.49928374860792},{"$f":"(('Results-SF'!G14*'Results-SF'!G$22)+('Results-MF'!G14*'Results-MF'!G$22)+('Results-MH'!G14*'Results-MH'!G$22))\n/\n('Results-SF'!G$22+'Results-MF'!G$22+'Results-MH'!G$22)","v":269.54248062969049},{"$f":"(('Results-SF'!H14*'Results-SF'!H$22)+('Results-MF'!H14*'Results-MF'!H$22)+('Results-MH'!H14*'Results-MH'!H$22))\n/\n('Results-SF'!H$22+'Results-MF'!H$22+'Results-MH'!H$22)","v":269.585677510773},{"$f":"(('Results-SF'!I14*'Results-SF'!I$22)+('Results-MF'!I14*'Results-MF'!I$22)+('Results-MH'!I14*'Results-MH'!I$22))\n/\n('Results-SF'!I$22+'Results-MF'!I$22+'Results-MH'!I$22)","v":269.62887439185556},{"$f":"(('Results-SF'!J14*'Results-SF'!J$22)+('Results-MF'!J14*'Results-MF'!J$22)+('Results-MH'!J14*'Results-MH'!J$22))\n/\n('Results-SF'!J$22+'Results-MF'!J$22+'Results-MH'!J$22)","v":269.67207127293807},{"$f":"(('Results-SF'!K14*'Results-SF'!K$22)+('Results-MF'!K14*'Results-MF'!K$22)+('Results-MH'!K14*'Results-MH'!K$22))\n/\n('Results-SF'!K$22+'Results-MF'!K$22+'Results-MH'!K$22)","v":269.71526815402069},{"$f":"(('Results-SF'!L14*'Results-SF'!L$22)+('Results-MF'!L14*'Results-MF'!L$22)+('Results-MH'!L14*'Results-MH'!L$22))\n/\n('Results-SF'!L$22+'Results-MF'!L$22+'Results-MH'!L$22)","v":269.75846503510303},{"$f":"(('Results-SF'!M14*'Results-SF'!M$22)+('Results-MF'!M14*'Results-MF'!M$22)+('Results-MH'!M14*'Results-MH'!M$22))\n/\n('Results-SF'!M$22+'Results-MF'!M$22+'Results-MH'!M$22)","v":264.9672595104613},{"$f":"(('Results-SF'!N14*'Results-SF'!N$22)+('Results-MF'!N14*'Results-MF'!N$22)+('Results-MH'!N14*'Results-MH'!N$22))\n/\n('Results-SF'!N$22+'Results-MF'!N$22+'Results-MH'!N$22)","v":265.0297955809823},{"$f":"(('Results-SF'!O14*'Results-SF'!O$22)+('Results-MF'!O14*'Results-MF'!O$22)+('Results-MH'!O14*'Results-MH'!O$22))\n/\n('Results-SF'!O$22+'Results-MF'!O$22+'Results-MH'!O$22)","v":265.09233165150363},{"$f":"(('Results-SF'!P14*'Results-SF'!P$22)+('Results-MF'!P14*'Results-MF'!P$22)+('Results-MH'!P14*'Results-MH'!P$22))\n/\n('Results-SF'!P$22+'Results-MF'!P$22+'Results-MH'!P$22)","v":265.15486772202485},{"$f":"(('Results-SF'!Q14*'Results-SF'!Q$22)+('Results-MF'!Q14*'Results-MF'!Q$22)+('Results-MH'!Q14*'Results-MH'!Q$22))\n/\n('Results-SF'!Q$22+'Results-MF'!Q$22+'Results-MH'!Q$22)","v":265.21740379254595},{"$f":"(('Results-SF'!R14*'Results-SF'!R$22)+('Results-MF'!R14*'Results-MF'!R$22)+('Results-MH'!R14*'Results-MH'!R$22))\n/\n('Results-SF'!R$22+'Results-MF'!R$22+'Results-MH'!R$22)","v":265.27993986306717},{"$f":"(('Results-SF'!S14*'Results-SF'!S$22)+('Results-MF'!S14*'Results-MF'!S$22)+('Results-MH'!S14*'Results-MH'!S$22))\n/\n('Results-SF'!S$22+'Results-MF'!S$22+'Results-MH'!S$22)","v":265.34247593358828},{"$f":"(('Results-SF'!T14*'Results-SF'!T$22)+('Results-MF'!T14*'Results-MF'!T$22)+('Results-MH'!T14*'Results-MH'!T$22))\n/\n('Results-SF'!T$22+'Results-MF'!T$22+'Results-MH'!T$22)","v":265.40501200410949},{"$f":"(('Results-SF'!U14*'Results-SF'!U$22)+('Results-MF'!U14*'Results-MF'!U$22)+('Results-MH'!U14*'Results-MH'!U$22))\n/\n('Results-SF'!U$22+'Results-MF'!U$22+'Results-MH'!U$22)","v":265.4675480746306},{"$f":"(('Results-SF'!V14*'Results-SF'!V$22)+('Results-MF'!V14*'Results-MF'!V$22)+('Results-MH'!V14*'Results-MH'!V$22))\n/\n('Results-SF'!V$22+'Results-MF'!V$22+'Results-MH'!V$22)","v":265.53008414515182},{"$f":"(('Results-SF'!W14*'Results-SF'!W$22)+('Results-MF'!W14*'Results-MF'!W$22)+('Results-MH'!W14*'Results-MH'!W$22))\n/\n('Results-SF'!W$22+'Results-MF'!W$22+'Results-MH'!W$22)","v":265.59262021567281},{"$f":"(('Results-SF'!X14*'Results-SF'!X$22)+('Results-MF'!X14*'Results-MF'!X$22)+('Results-MH'!X14*'Results-MH'!X$22))\n/\n('Results-SF'!X$22+'Results-MF'!X$22+'Results-MH'!X$22)","v":265.65515628619414},{"$f":"(('Results-SF'!Y14*'Results-SF'!Y$22)+('Results-MF'!Y14*'Results-MF'!Y$22)+('Results-MH'!Y14*'Results-MH'!Y$22))\n/\n('Results-SF'!Y$22+'Results-MF'!Y$22+'Results-MH'!Y$22)","v":265.71769235671542},{"$f":"(('Results-SF'!Z14*'Results-SF'!Z$22)+('Results-MF'!Z14*'Results-MF'!Z$22)+('Results-MH'!Z14*'Results-MH'!Z$22))\n/\n('Results-SF'!Z$22+'Results-MF'!Z$22+'Results-MH'!Z$22)","v":265.78022842723652},{"$f":"(('Results-SF'!AA14*'Results-SF'!AA$22)+('Results-MF'!AA14*'Results-MF'!AA$22)+('Results-MH'!AA14*'Results-MH'!AA$22))\n/\n('Results-SF'!AA$22+'Results-MF'!AA$22+'Results-MH'!AA$22)","v":265.84276449775768},{"$f":"(('Results-SF'!AB14*'Results-SF'!AB$22)+('Results-MF'!AB14*'Results-MF'!AB$22)+('Results-MH'!AB14*'Results-MH'!AB$22))\n/\n('Results-SF'!AB$22+'Results-MF'!AB$22+'Results-MH'!AB$22)","v":265.90530056827879}]
[null,null,{"$f":"'UEC-SF'!$C$14&\" - \"&'UEC-SF'!C16","v":"Installed UEC (Vintage Weighted Average)  - PRE-Case UEC"},{"$f":"(('Results-SF'!D15*'Results-SF'!D$23)+('Results-MF'!D15*'Results-MF'!D$23)+('Results-MH'!D15*'Results-MH'!D$23))\n/\n('Results-SF'!D$23+'Results-MF'!D$23+'Results-MH'!D$23)","v":269.00125174907208},{"$f":"(('Results-SF'!E15*'Results-SF'!E$23)+('Results-MF'!E15*'Results-MF'!E$23)+('Results-MH'!E15*'Results-MH'!E$23))\n/\n('Results-SF'!E$23+'Results-MF'!E$23+'Results-MH'!E$23)","v":269.0820549605678},{"$f":"(('Results-SF'!F15*'Results-SF'!F$23)+('Results-MF'!F15*'Results-MF'!F$23)+('Results-MH'!F15*'Results-MH'!F$23))\n/\n('Results-SF'!F$23+'Results-MF'!F$23+'Results-MH'!F$23)","v":269.16216689628533},{"$f":"(('Results-SF'!G15*'Results-SF'!G$23)+('Results-MF'!G15*'Results-MF'!G$23)+('Results-MH'!G15*'Results-MH'!G$23))\n/\n('Results-SF'!G$23+'Results-MF'!G$23+'Results-MH'!G$23)","v":269.21777810014117},{"$f":"(('Results-SF'!H15*'Results-SF'!H$23)+('Results-MF'!H15*'Results-MF'!H$23)+('Results-MH'!H15*'Results-MH'!H$23))\n/\n('Results-SF'!H$23+'Results-MF'!H$23+'Results-MH'!H$23)","v":269.27280317417745},{"$f":"(('Results-SF'!I15*'Results-SF'!I$23)+('Results-MF'!I15*'Results-MF'!I$23)+('Results-MH'!I15*'Results-MH'!I$23))\n/\n('Results-SF'!I$23+'Results-MF'!I$23+'Results-MH'!I$23)","v":269.32850324109876},{"$f":"(('Results-SF'!J15*'Results-SF'!J$23)+('Results-MF'!J15*'Results-MF'!J$23)+('Results-MH'!J15*'Results-MH'!J$23))\n/\n('Results-SF'!J$23+'Results-MF'!J$23+'Results-MH'!J$23)","v":269.3786977389999},{"$f":"(('Results-SF'!K15*'Results-SF'!K$23)+('Results-MF'!K15*'Results-MF'!K$23)+('Results-MH'!K15*'Results-MH'!K$23))\n/\n('Results-SF'!K$23+'Results-MF'!K$23+'Results-MH'!K$23)","v":269.41845760400042},{"$f":"(('Results-SF'!L15*'Results-SF'!L$23)+('Results-MF'!L15*'Results-MF'!L$23)+('Results-MH'!L15*'Results-MH'!L$23))\n/\n('Results-SF'!L$23+'Results-MF'!L$23+'Results-MH'!L$23)","v":269.45802578849117},{"$f":"(('Results-SF'!M15*'Results-SF'!M$23)+('Results-MF'!M15*'Results-MF'!M$23)+('Results-MH'!M15*'Results-MH'!M$23))\n/\n('Results-SF'!M$23+'Results-MF'!M$23+'Results-MH'!M$23)","v":269.49860190291156},{"$f":"(('Results-SF'!N15*'Results-SF'!N$23)+('Results-MF'!N15*'Results-MF'!N$23)+('Results-MH'!N15*'Results-MH'!N$23))\n/\n('Results-SF'!N$23+'Results-MF'!N$23+'Results-MH'!N$23)","v":269.53784978642386},{"$f":"(('Results-SF'!O15*'Results-SF'!O$23)+('Results-MF'!O15*'Results-MF'!O$23)+('Results-MH'!O15*'Results-MH'!O$23))\n/\n('Results-SF'!O$23+'Results-MF'!O$23+'Results-MH'!O$23)","v":269.57496230551249},{"$f":"(('Results-SF'!P15*'Results-SF'!P$23)+('Results-MF'!P15*'Results-MF'!P$23)+('Results-MH'!P15*'Results-MH'!P$23))\n/\n('Results-SF'!P$23+'Results-MF'!P$23+'Results-MH'!P$23)","v":269.60028800686172},{"$f":"(('Results-SF'!Q15*'Results-SF'!Q$23)+('Results-MF'!Q15*'Results-MF'!Q$23)+('Results-MH'!Q15*'Results-MH'!Q$23))\n/\n('Results-SF'!Q$23+'Results-MF'!Q$23+'Results-MH'!Q$23)","v":269.62825460982543},{"$f":"(('Results-SF'!R15*'Results-SF'!R$23)+('Results-MF'!R15*'Results-MF'!R$23)+('Results-MH'!R15*'Results-MH'!R$23))\n/\n('Results-SF'!R$23+'Results-MF'!R$23+'Results-MH'!R$23)","v":269.65198111928913},{"$f":"(('Results-SF'!S15*'Results-SF'!S$23)+('Results-MF'!S15*'Results-MF'!S$23)+('Results-MH'!S15*'Results-MH'!S$23))\n/\n('Results-SF'!S$23+'Results-MF'!S$23+'Results-MH'!S$23)","v":269.69605962795521},{"$f":"(('Results-SF'!T15*'Results-SF'!T$23)+('Results-MF'!T15*'Results-MF'!T$23)+('Results-MH'!T15*'Results-MH'!T$23))\n/\n('Results-SF'!T$23+'Results-MF'!T$23+'Results-MH'!T$23)","v":269.73891161555787},{"$f":"(('Results-SF'!U15*'Results-SF'!U$23)+('Results-MF'!U15*'Results-MF'!U$23)+('Results-MH'!U15*'Results-MH'!U$23))\n/\n('Results-SF'!U$23+'Results-MF'!U$23+'Results-MH'!U$23)","v":269.7798186065545},{"$f":"(('Results-SF'!V15*'Results-SF'!V$23)+('Results-MF'!V15*'Results-MF'!V$23)+('Results-MH'!V15*'Results-MH'!V$23))\n/\n('Results-SF'!V$23+'Results-MF'!V$23+'Results-MH'!V$23)","v":269.81851430147225},{"$f":"(('Results-SF'!W15*'Results-SF'!W$23)+('Results-MF'!W15*'Results-MF'!W$23)+('Results-MH'!W15*'Results-MH'!W$23))\n/\n('Results-SF'!W$23+'Results-MF'!W$23+'Results-MH'!W$23)","v":269.85593263365149},{"$f":"(('Results-SF'!X15*'Results-SF'!X$23)+('Results-MF'!X15*'Results-MF'!X$23)+('Results-MH'!X15*'Results-MH'!X$23))\n/\n('Results-SF'!X$23+'Results-MF'!X$23+'Results-MH'!X$23)","v":269.89662472998793},{"$f":"(('Results-SF'!Y15*'Results-SF'!Y$23)+('Results-MF'!Y15*'Results-MF'!Y$23)+('Results-MH'!Y15*'Results-MH'!Y$23))\n/\n('Results-SF'!Y$23+'Results-MF'!Y$23+'Results-MH'!Y$23)","v":269.94087284491945},{"$f":"(('Results-SF'!Z15*'Results-SF'!Z$23)+('Results-MF'!Z15*'Results-MF'!Z$23)+('Results-MH'!Z15*'Results-MH'!Z$23))\n/\n('Results-SF'!Z$23+'Results-MF'!Z$23+'Results-MH'!Z$23)","v":269.98600969272781},{"$f":"(('Results-SF'!AA15*'Results-SF'!AA$23)+('Results-MF'!AA15*'Results-MF'!AA$23)+('Results-MH'!AA15*'Results-MH'!AA$23))\n/\n('Results-SF'!AA$23+'Results-MF'!AA$23+'Results-MH'!AA$23)","v":270.02984925616715},{"$f":"(('Results-SF'!AB15*'Results-SF'!AB$23)+('Results-MF'!AB15*'Results-MF'!AB$23)+('Results-MH'!AB15*'Results-MH'!AB$23))\n/\n('Results-SF'!AB$23+'Results-MF'!AB$23+'Results-MH'!AB$23)","v":270.07319119008071}]
[null,null,{"$f":"'UEC-SF'!$C$14&\" - \"&'UEC-SF'!C17","v":"Installed UEC (Vintage Weighted Average)  - POST-Case UEC"},{"$f":"(('Results-SF'!D16*'Results-SF'!D$23)+('Results-MF'!D16*'Results-MF'!D$23)+('Results-MH'!D16*'Results-MH'!D$23))\n/\n('Results-SF'!D$23+'Results-MF'!D$23+'Results-MH'!D$23)","v":269.00125174907208},{"$f":"(('Results-SF'!E16*'Results-SF'!E$23)+('Results-MF'!E16*'Results-MF'!E$23)+('Results-MH'!E16*'Results-MH'!E$23))\n/\n('Results-SF'!E$23+'Results-MF'!E$23+'Results-MH'!E$23)","v":269.0820549605678},{"$f":"(('Results-SF'!F16*'Results-SF'!F$23)+('Results-MF'!F16*'Results-MF'!F$23)+('Results-MH'!F16*'Results-MH'!F$23))\n/\n('Results-SF'!F$23+'Results-MF'!F$23+'Results-MH'!F$23)","v":269.16216689628533},{"$f":"(('Results-SF'!G16*'Results-SF'!G$23)+('Results-MF'!G16*'Results-MF'!G$23)+('Results-MH'!G16*'Results-MH'!G$23))\n/\n('Results-SF'!G$23+'Results-MF'!G$23+'Results-MH'!G$23)","v":269.21777810014117},{"$f":"(('Results-SF'!H16*'Results-SF'!H$23)+('Results-MF'!H16*'Results-MF'!H$23)+('Results-MH'!H16*'Results-MH'!H$23))\n/\n('Results-SF'!H$23+'Results-MF'!H$23+'Results-MH'!H$23)","v":269.27280317417745},{"$f":"(('Results-SF'!I16*'Results-SF'!I$23)+('Results-MF'!I16*'Results-MF'!I$23)+('Results-MH'!I16*'Results-MH'!I$23))\n/\n('Results-SF'!I$23+'Results-MF'!I$23+'Results-MH'!I$23)","v":269.32850324109876},{"$f":"(('Results-SF'!J16*'Results-SF'!J$23)+('Results-MF'!J16*'Results-MF'!J$23)+('Results-MH'!J16*'Results-MH'!J$23))\n/\n('Results-SF'!J$23+'Results-MF'!J$23+'Results-MH'!J$23)","v":269.3786977389999},{"$f":"(('Results-SF'!K16*'Results-SF'!K$23)+('Results-MF'!K16*'Results-MF'!K$23)+('Results-MH'!K16*'Results-MH'!K$23))\n/\n('Results-SF'!K$23+'Results-MF'!K$23+'Results-MH'!K$23)","v":269.41845760400042},{"$f":"(('Results-SF'!L16*'Results-SF'!L$23)+('Results-MF'!L16*'Results-MF'!L$23)+('Results-MH'!L16*'Results-MH'!L$23))\n/\n('Results-SF'!L$23+'Results-MF'!L$23+'Results-MH'!L$23)","v":269.45802578849117},{"$f":"(('Results-SF'!M16*'Results-SF'!M$23)+('Results-MF'!M16*'Results-MF'!M$23)+('Results-MH'!M16*'Results-MH'!M$23))\n/\n('Results-SF'!M$23+'Results-MF'!M$23+'Results-MH'!M$23)","v":269.1963123421491},{"$f":"(('Results-SF'!N16*'Results-SF'!N$23)+('Results-MF'!N16*'Results-MF'!N$23)+('Results-MH'!N16*'Results-MH'!N$23))\n/\n('Results-SF'!N$23+'Results-MF'!N$23+'Results-MH'!N$23)","v":268.95793108951881},{"$f":"(('Results-SF'!O16*'Results-SF'!O$23)+('Results-MF'!O16*'Results-MF'!O$23)+('Results-MH'!O16*'Results-MH'!O$23))\n/\n('Results-SF'!O$23+'Results-MF'!O$23+'Results-MH'!O$23)","v":268.71025113780627},{"$f":"(('Results-SF'!P16*'Results-SF'!P$23)+('Results-MF'!P16*'Results-MF'!P$23)+('Results-MH'!P16*'Results-MH'!P$23))\n/\n('Results-SF'!P$23+'Results-MF'!P$23+'Results-MH'!P$23)","v":268.4536392812368},{"$f":"(('Results-SF'!Q16*'Results-SF'!Q$23)+('Results-MF'!Q16*'Results-MF'!Q$23)+('Results-MH'!Q16*'Results-MH'!Q$23))\n/\n('Results-SF'!Q$23+'Results-MF'!Q$23+'Results-MH'!Q$23)","v":268.20130375209988},{"$f":"(('Results-SF'!R16*'Results-SF'!R$23)+('Results-MF'!R16*'Results-MF'!R$23)+('Results-MH'!R16*'Results-MH'!R$23))\n/\n('Results-SF'!R$23+'Results-MF'!R$23+'Results-MH'!R$23)","v":267.95123598756737},{"$f":"(('Results-SF'!S16*'Results-SF'!S$23)+('Results-MF'!S16*'Results-MF'!S$23)+('Results-MH'!S16*'Results-MH'!S$23))\n/\n('Results-SF'!S$23+'Results-MF'!S$23+'Results-MH'!S$23)","v":267.73347819410259},{"$f":"(('Results-SF'!T16*'Results-SF'!T$23)+('Results-MF'!T16*'Results-MF'!T$23)+('Results-MH'!T16*'Results-MH'!T$23))\n/\n('Results-SF'!T$23+'Results-MF'!T$23+'Results-MH'!T$23)","v":267.52604385198134},{"$f":"(('Results-SF'!U16*'Results-SF'!U$23)+('Results-MF'!U16*'Results-MF'!U$23)+('Results-MH'!U16*'Results-MH'!U$23))\n/\n('Results-SF'!U$23+'Results-MF'!U$23+'Results-MH'!U$23)","v":267.33204555656101},{"$f":"(('Results-SF'!V16*'Results-SF'!V$23)+('Results-MF'!V16*'Results-MF'!V$23)+('Results-MH'!V16*'Results-MH'!V$23))\n/\n('Results-SF'!V$23+'Results-MF'!V$23+'Results-MH'!V$23)","v":267.15239951466896},{"$f":"(('Results-SF'!W16*'Results-SF'!W$23)+('Results-MF'!W16*'Results-MF'!W$23)+('Results-MH'!W16*'Results-MH'!W$23))\n/\n('Results-SF'!W$23+'Results-MF'!W$23+'Results-MH'!W$23)","v":266.98243371730911},{"$f":"(('Results-SF'!X16*'Results-SF'!X$23)+('Results-MF'!X16*'Results-MF'!X$23)+('Results-MH'!X16*'Results-MH'!X$23))\n/\n('Results-SF'!X$23+'Results-MF'!X$23+'Results-MH'!X$23)","v":266.80086029396057},{"$f":"(('Results-SF'!Y16*'Results-SF'!Y$23)+('Results-MF'!Y16*'Results-MF'!Y$23)+('Results-MH'!Y16*'Results-MH'!Y$23))\n/\n('Results-SF'!Y$23+'Results-MF'!Y$23+'Results-MH'!Y$23)","v":266.6065668313222},{"$f":"(('Results-SF'!Z16*'Results-SF'!Z$23)+('Results-MF'!Z16*'Results-MF'!Z$23)+('Results-MH'!Z16*'Results-MH'!Z$23))\n/\n('Results-SF'!Z$23+'Results-MF'!Z$23+'Results-MH'!Z$23)","v":266.41190078393362},{"$f":"(('Results-SF'!AA16*'Results-SF'!AA$23)+('Results-MF'!AA16*'Results-MF'!AA$23)+('Results-MH'!AA16*'Results-MH'!AA$23))\n/\n('Results-SF'!AA$23+'Results-MF'!AA$23+'Results-MH'!AA$23)","v":266.22682727375997},{"$f":"(('Results-SF'!AB16*'Results-SF'!AB$23)+('Results-MF'!AB16*'Results-MF'!AB$23)+('Results-MH'!AB16*'Results-MH'!AB$23))\n/\n('Results-SF'!AB$23+'Results-MF'!AB$23+'Results-MH'!AB$23)","v":266.0476117723162}]
[]
[null,null,"Stock and Shipments (units)",2010,2011,2012,2013,2014,2015,2016,2017,2018,2019,2020,2021,2022,2023,2024,2025,2026,2027,2028,2029,2030,2031,2032,2033,2034]
[null,null,"6P Shipments",{"$f":"'Results-SF'!D19+'Results-MF'!D19+'Results-MH'!D19","v":246911.72376420826},{"$f":"'Results-SF'!E19+'Results-MF'!E19+'Results-MH'!E19","v":246911.72376420826},{"$f":"'Results-SF'!F19+'Results-MF'!F19+'Results-MH'!F19","v":246911.72376420826},{"$f":"'Results-SF'!G19+'Results-MF'!G19+'Results-MH'!G19","v":246911.72376420826},{"$f":"'Results-SF'!H19+'Results-MF'!H19+'Results-MH'!H19","v":246911.72376420826},{"$f":"'Results-SF'!I19+'Results-MF'!I19+'Results-MH'!I19","v":246911.72376420826},{"$f":"'Results-SF'!J19+'Results-MF'!J19+'Results-MH'!J19","v":246911.72376420826},{"$f":"'Results-SF'!K19+'Results-MF'!K19+'Results-MH'!K19","v":246911.72376420826},{"$f":"'Results-SF'!L19+'Results-MF'!L19+'Results-MH'!L19","v":246911.72376420826},{"$f":"'Results-SF'!M19+'Results-MF'!M19+'Results-MH'!M19","v":246911.72376420826},{"$f":"'Results-SF'!N19+'Results-MF'!N19+'Results-MH'!N19","v":246911.72376420826},{"$f":"'Results-SF'!O19+'Results-MF'!O19+'Results-MH'!O19","v":246911.72376420826},{"$f":"'Results-SF'!P19+'Results-MF'!P19+'Results-MH'!P19","v":246911.72376420826},{"$f":"'Results-SF'!Q19+'Results-MF'!Q19+'Results-MH'!Q19","v":246911.72376420826},{"$f":"'Results-SF'!R19+'Results-MF'!R19+'Results-MH'!R19","v":246911.72376420826},{"$f":"'Results-SF'!S19+'Results-MF'!S19+'Results-MH'!S19","v":246911.72376420826},{"$f":"'Results-SF'!T19+'Results-MF'!T19+'Results-MH'!T19","v":246911.72376420826},{"$f":"'Results-SF'!U19+'Results-MF'!U19+'Results-MH'!U19","v":246911.72376420826},{"$f":"'Results-SF'!V19+'Results-MF'!V19+'Results-MH'!V19","v":246911.72376420826},{"$f":"'Results-SF'!W19+'Results-MF'!W19+'Results-MH'!W19","v":246911.72376420826},{"$f":"'Results-SF'!X19+'Results-MF'!X19+'Results-MH'!X19","v":246911.72376420826},{"$f":"'Results-SF'!Y19+'Results-MF'!Y19+'Results-MH'!Y19","v":246911.72376420826},{"$f":"'Results-SF'!Z19+'Results-MF'!Z19+'Results-MH'!Z19","v":246911.72376420826},{"$f":"'Results-SF'!AA19+'Results-MF'!AA19+'Results-MH'!AA19","v":246911.72376420826},{"$f":"'Results-SF'!AB19+'Results-MF'!AB19+'Results-MH'!AB19","v":246911.72376420826}]
[null,null,"Replacement Shipments",{"$f":"'Results-SF'!D20+'Results-MF'!D20+'Results-MH'!D20","v":229977.97978744211},{"$f":"'Results-SF'!E20+'Results-MF'!E20+'Results-MH'!E20","v":241842.19614256069},{"$f":"'Results-SF'!F20+'Results-MF'!F20+'Results-MH'!F20","v":225168.73572703687},{"$f":"'Results-SF'!G20+'Results-MF'!G20+'Results-MH'!G20","v":233604.14356140033},{"$f":"'Results-SF'!H20+'Results-MF'!H20+'Results-MH'!H20","v":226909.69659966682},{"$f":"'Results-SF'!I20+'Results-MF'!I20+'Results-MH'!I20","v":225373.98618025568},{"$f":"'Results-SF'!J20+'Results-MF'!J20+'Results-MH'!J20","v":224225.06559270812},{"$f":"'Results-SF'!K20+'Results-MF'!K20+'Results-MH'!K20","v":228315.33621089775},{"$f":"'Results-SF'!L20+'Results-MF'!L20+'Results-MH'!L20","v":218732.95341295283},{"$f":"'Results-SF'!M20+'Results-MF'!M20+'Results-MH'!M20","v":256706.39792486216},{"$f":"'Results-SF'!N20+'Results-MF'!N20+'Results-MH'!N20","v":240120.9049048296},{"$f":"'Results-SF'!O20+'Results-MF'!O20+'Results-MH'!O20","v":259535.25024418929},{"$f":"'Results-SF'!P20+'Results-MF'!P20+'Results-MH'!P20","v":266749.65079733299},{"$f":"'Results-SF'!Q20+'Results-MF'!Q20+'Results-MH'!Q20","v":275228.75188495626},{"$f":"'Results-SF'!R20+'Results-MF'!R20+'Results-MH'!R20","v":277997.41790585784},{"$f":"'Results-SF'!S20+'Results-MF'!S20+'Results-MH'!S20","v":273549.04169734573},{"$f":"'Results-SF'!T20+'Results-MF'!T20+'Results-MH'!T20","v":269188.43997915718},{"$f":"'Results-SF'!U20+'Results-MF'!U20+'Results-MH'!U20","v":259440.62541394643},{"$f":"'Results-SF'!V20+'Results-MF'!V20+'Results-MH'!V20","v":247317.2652050117},{"$f":"'Results-SF'!W20+'Results-MF'!W20+'Results-MH'!W20","v":241316.89213498877},{"$f":"'Results-SF'!X20+'Results-MF'!X20+'Results-MH'!X20","v":268660.4497898937},{"$f":"'Results-SF'!Y20+'Results-MF'!Y20+'Results-MH'!Y20","v":298297.38484411174},{"$f":"'Results-SF'!Z20+'Results-MF'!Z20+'Results-MH'!Z20","v":308527.2823030884},{"$f":"'Results-SF'!AA20+'Results-MF'!AA20+'Results-MH'!AA20","v":302171.49360894115},{"$f":"'Results-SF'!AB20+'Results-MF'!AB20+'Results-MH'!AB20","v":301751.48327079706}]
[null,null,"Net New Shipments",{"$f":"'Results-SF'!D21+'Results-MF'!D21+'Results-MH'!D21","v":11338.912347546662},{"$f":"'Results-SF'!E21+'Results-MF'!E21+'Results-MH'!E21","v":26818.253647333011},{"$f":"'Results-SF'!F21+'Results-MF'!F21+'Results-MH'!F21","v":73128.649117074907},{"$f":"'Results-SF'!G21+'Results-MF'!G21+'Results-MH'!G21","v":74923.138741688104},{"$f":"'Results-SF'!H21+'Results-MF'!H21+'Results-MH'!H21","v":75261.797009274349},{"$f":"'Results-SF'!I21+'Results-MF'!I21+'Results-MH'!I21","v":76377.497090541408},{"$f":"'Results-SF'!J21+'Results-MF'!J21+'Results-MH'!J21","v":77353.821409367374},{"$f":"'Results-SF'!K21+'Results-MF'!K21+'Results-MH'!K21","v":76874.868380257045},{"$f":"'Results-SF'!L21+'Results-MF'!L21+'Results-MH'!L21","v":76483.476081792731},{"$f":"'Results-SF'!M21+'Results-MF'!M21+'Results-MH'!M21","v":76246.581011861563},{"$f":"'Results-SF'!N21+'Results-MF'!N21+'Results-MH'!N21","v":76058.736896277624},{"$f":"'Results-SF'!O21+'Results-MF'!O21+'Results-MH'!O21","v":74652.988639115239},{"$f":"'Results-SF'!P21+'Results-MF'!P21+'Results-MH'!P21","v":74289.376488750102},{"$f":"'Results-SF'!Q21+'Results-MF'!Q21+'Results-MH'!Q21","v":73974.703890071367},{"$f":"'Results-SF'!R21+'Results-MF'!R21+'Results-MH'!R21","v":73324.918585264473},{"$f":"'Results-SF'!S21+'Results-MF'!S21+'Results-MH'!S21","v":72937.649643896351},{"$f":"'Results-SF'!T21+'Results-MF'!T21+'Results-MH'!T21","v":72093.25704722642},{"$f":"'Results-SF'!U21+'Results-MF'!U21+'Results-MH'!U21","v":70900.54010945186},{"$f":"'Results-SF'!V21+'Results-MF'!V21+'Results-MH'!V21","v":69437.541640627314},{"$f":"'Results-SF'!W21+'Results-MF'!W21+'Results-MH'!W21","v":68295.529382087087},{"$f":"'Results-SF'!X21+'Results-MF'!X21+'Results-MH'!X21","v":67641.183499692474},{"$f":"'Results-SF'!Y21+'Results-MF'!Y21+'Results-MH'!Y21","v":68317.595334689831},{"$f":"'Results-SF'!Z21+'Results-MF'!Z21+'Results-MH'!Z21","v":69000.771288036252},{"$f":"'Results-SF'!AA21+'Results-MF'!AA21+'Results-MH'!AA21","v":69690.779000916518},{"$f":"'Results-SF'!AB21+'Results-MF'!AB21+'Results-MH'!AB21","v":70387.686790926033}]
[null,null,"Total Model Shipments",{"$f":"'Results-SF'!D22+'Results-MF'!D22+'Results-MH'!D22","v":241316.89213498877},{"$f":"'Results-SF'!E22+'Results-MF'!E22+'Results-MH'!E22","v":268660.4497898937},{"$f":"'Results-SF'!F22+'Results-MF'!F22+'Results-MH'!F22","v":298297.38484411174},{"$f":"'Results-SF'!G22+'Results-MF'!G22+'Results-MH'!G22","v":308527.2823030884},{"$f":"'Results-SF'!H22+'Results-MF'!H22+'Results-MH'!H22","v":302171.49360894115},{"$f":"'Results-SF'!I22+'Results-MF'!I22+'Results-MH'!I22","v":301751.48327079706},{"$f":"'Results-SF'!J22+'Results-MF'!J22+'Results-MH'!J22","v":301578.8870020755},{"$f":"'Results-SF'!K22+'Results-MF'!K22+'Results-MH'!K22","v":305190.20459115476},{"$f":"'Results-SF'!L22+'Results-MF'!L22+'Results-MH'!L22","v":295216.42949474556},{"$f":"'Results-SF'!M22+'Results-MF'!M22+'Results-MH'!M22","v":332952.97893672372},{"$f":"'Results-SF'!N22+'Results-MF'!N22+'Results-MH'!N22","v":316179.64180110721},{"$f":"'Results-SF'!O22+'Results-MF'!O22+'Results-MH'!O22","v":334188.23888330453},{"$f":"'Results-SF'!P22+'Results-MF'!P22+'Results-MH'!P22","v":341039.02728608309},{"$f":"'Results-SF'!Q22+'Results-MF'!Q22+'Results-MH'!Q22","v":349203.45577502763},{"$f":"'Results-SF'!R22+'Results-MF'!R22+'Results-MH'!R22","v":351322.33649112232},{"$f":"'Results-SF'!S22+'Results-MF'!S22+'Results-MH'!S22","v":346486.69134124211},{"$f":"'Results-SF'!T22+'Results-MF'!T22+'Results-MH'!T22","v":341281.6970263836},{"$f":"'Results-SF'!U22+'Results-MF'!U22+'Results-MH'!U22","v":330341.16552339832},{"$f":"'Results-SF'!V22+'Results-MF'!V22+'Results-MH'!V22","v":316754.80684563902},{"$f":"'Results-SF'!W22+'Results-MF'!W22+'Results-MH'!W22","v":309612.42151707585},{"$f":"'Results-SF'!X22+'Results-MF'!X22+'Results-MH'!X22","v":336301.63328958617},{"$f":"'Results-SF'!Y22+'Results-MF'!Y22+'Results-MH'!Y22","v":366614.98017880158},{"$f":"'Results-SF'!Z22+'Results-MF'!Z22+'Results-MH'!Z22","v":377528.05359112466},{"$f":"'Results-SF'!AA22+'Results-MF'!AA22+'Results-MH'!AA22","v":371862.27260985767},{"$f":"'Results-SF'!AB22+'Results-MF'!AB22+'Results-MH'!AB22","v":372139.1700617231}]
[null,null,"Model Installed Stock",{"$f":"'Results-SF'!D23+'Results-MF'!D23+'Results-MH'!D23","v":4691322.7515199576},{"$f":"'Results-SF'!E23+'Results-MF'!E23+'Results-MH'!E23","v":4718141.0051672896},{"$f":"'Results-SF'!F23+'Results-MF'!F23+'Results-MH'!F23","v":4791269.6542843655},{"$f":"'Results-SF'!G23+'Results-MF'!G23+'Results-MH'!G23","v":4866192.7930260533},{"$f":"'Results-SF'!H23+'Results-MF'!H23+'Results-MH'!H23","v":4941454.5900353277},{"$f":"'Results-SF'!I23+'Results-MF'!I23+'Results-MH'!I23","v":5017832.0871258685},{"$f":"'Results-SF'!J23+'Results-MF'!J23+'Results-MH'!J23","v":5095185.9085352365},{"$f":"'Results-SF'!K23+'Results-MF'!K23+'Results-MH'!K23","v":5172060.7769154934},{"$f":"'Results-SF'!L23+'Results-MF'!L23+'Results-MH'!L23","v":5248544.2529972857},{"$f":"'Results-SF'!M23+'Results-MF'!M23+'Results-MH'!M23","v":5324790.8340091472},{"$f":"'Results-SF'!N23+'Results-MF'!N23+'Results-MH'!N23","v":5400849.5709054256},{"$f":"'Results-SF'!O23+'Results-MF'!O23+'Results-MH'!O23","v":5475502.55954454},{"$f":"'Results-SF'!P23+'Results-MF'!P23+'Results-MH'!P23","v":5549791.9360332908},{"$f":"'Results-SF'!Q23+'Results-MF'!Q23+'Results-MH'!Q23","v":5623766.6399233621},{"$f":"'Results-SF'!R23+'Results-MF'!R23+'Results-MH'!R23","v":5697091.5585086262},{"$f":"'Results-SF'!S23+'Results-MF'!S23+'Results-MH'!S23","v":5770029.2081525233},{"$f":"'Results-SF'!T23+'Results-MF'!T23+'Results-MH'!T23","v":5842122.465199749},{"$f":"'Results-SF'!U23+'Results-MF'!U23+'Results-MH'!U23","v":5913023.0053092008},{"$f":"'Results-SF'!V23+'Results-MF'!V23+'Results-MH'!V23","v":5982460.546949828},{"$f":"'Results-SF'!W23+'Results-MF'!W23+'Results-MH'!W23","v":6050756.0763319153},{"$f":"'Results-SF'!X23+'Results-MF'!X23+'Results-MH'!X23","v":6118397.2598316083},{"$f":"'Results-SF'!Y23+'Results-MF'!Y23+'Results-MH'!Y23","v":6186714.8551662974},{"$f":"'Results-SF'!Z23+'Results-MF'!Z23+'Results-MH'!Z23","v":6255715.6264543338},{"$f":"'Results-SF'!AA23+'Results-MF'!AA23+'Results-MH'!AA23","v":6325406.4054552512},{"$f":"'Results-SF'!AB23+'Results-MF'!AB23+'Results-MH'!AB23","v":6395794.0922461767}]
[]
[]
[]
[null,null,"First Year Energy Consumption ",2010,2011,2012,2013,2014,2015,2016,2017,2018,2019,2020,2021,2022,2023,2024,2025,2026,2027,2028,2029,2030,2031,2032,2033,2034]
[null,null,"6P Shipments * 6P UEC",{"$f":"D12*D19","v":66521201.070849605},66521201.070849605,66521201.070849605,66521201.070849605,66521201.070849605,66521201.070849605,66521201.070849605,66521201.070849605,66521201.070849605,66521201.070849605,66521201.070849605,66521201.070849605,66521201.070849605,66521201.070849605,66521201.070849605,66521201.070849605,66521201.070849605,66521201.070849605,66521201.070849605,66521201.070849605,66521201.070849605,66521201.070849605,66521201.070849605,66521201.070849605,66521201.070849605]
[null,null,"Model Shipments * Model Pre-Case UEC",{"$f":"D13*D22","v":65013881.312634021},{"$f":"E13*E22","v":72392193.496454},80390931.559570968,83161209.013911247,81461106.829008609,81360912.78037785,81327403.110037044,82314457.869283736,79637130.873646274,89831267.057072833,85319450.796390593,90193414.022787288,92057091.806983188,94276010.715588629,94863230.399537459,93572488.022122934,92181565.173469141,89240753.121892899,85584118.684406504,83667688.784741163,90894538.564929828,99103370.420032516,102069700.72654018,100553945.21923548,100644895.31889264]
[null,null,"Model Shipments * Model Post-Case UEC",{"$f":"D14*D22","v":65013881.312634021},{"$f":"E14*E22","v":72392193.496454},80390931.559570968,83161209.013911247,81461106.829008609,81360912.78037785,81327403.110037044,82314457.869283736,79637130.873646274,88221638.374708027,83797025.833415642,88590739.456084877,90428158.16808939,92614833.936037973,93198768.29691717,91937636.558522165,90577872.896070197,87694859.239612252,84107930.515103847,82230774.282039538,89340262.950847358,97416086.516514122,100339492.3211391,98856894.563023359,98953777.86849229]
[]
[null,null,"Total Energy Consumption (kWh)",2010,2011,2012,2013,2014,2015,2016,2017,2018,2019,2020,2021,2022,2023,2024,2025,2026,2027,2028,2029,2030,2031,2032,2033,2034]
[null,null,"Modeled Pre-case Consumption \n(Installed UEC * Stock)",{"$f":"D15*D$23","v":1261971692.5177696},{"$f":"E15*E$23","v":1269567077.2641332},1289628522.3315957,1310065611.5453942,1330599329.2167184,1351445205.5407689,1372534544.779325,1393448637.1507204,1414262372.6761796,1435023685.1909037,1455733380.3617783,1476058396.0929565,1496225504.3327339,1516326383.4554987,1536232025.3698297,1556154141.376946,1575847755.28778,1595214273.7886999,1614178616.6451757,1632832424.1172829,1651334769.1857581,1670047208.0462198,1688955699.7588487,1708048538.1490755,1727332520.6875904]
[null,null,"Modeled Post-case Consumption \n(Installed UEC* Stock)",{"$f":"D16*D$23","v":1261971692.5177696},1269567077.2641332,1289628522.3315957,1310065611.5453942,1330599329.2167184,1351445205.5407689,1372534544.779325,1393448637.1507204,1414262372.6761796,1433414056.508539,1452601326.7164388,1471323667.8809144,1489861842.4817979,1508301544.8250117,1526542724.6367228,1544829989.1802387,1562919910.8136735,1580740535.4323125,1598228690.1194854,1615445583.0888908,1632393652.5432842,1649418807.5002272,1666597090.8074551,1683992878.5414701,1701585743.6295843]
[]
[]
[]
[null,null,"Total Energy Consumption (aMW)",2010,2011,2012,2013,2014,2015,2016,2017,2018,2019,2020,2021,2022,2023,2024,2025,2026,2027,2028,2029,2030,2031,2032,2033,2034]
[null,null,{"$f":"C33","v":"Modeled Pre-case Consumption \n(Installed UEC * Stock)"},{"$f":"D33/Constants!$D$13/(Constants!$D$12*Constants!$D$10)","v":143.96209132075856},{"$f":"E33/Constants!$D$13/(Constants!$D$12*Constants!$D$10)","v":144.82855090852533},{"$f":"F33/Constants!$D$13/(Constants!$D$12*Constants!$D$10)","v":147.11710270723199},{"$f":"G33/Constants!$D$13/(Constants!$D$12*Constants!$D$10)","v":149.44850690684396},{"$f":"H33/Constants!$D$13/(Constants!$D$12*Constants!$D$10)","v":151.79093420222659},{"$f":"I33/Constants!$D$13/(Constants!$D$12*Constants!$D$10)","v":154.16897165648743},{"$f":"J33/Constants!$D$13/(Constants!$D$12*Constants!$D$10)","v":156.5747826579198},{"$f":"K33/Constants!$D$13/(Constants!$D$12*Constants!$D$10)","v":158.96060200213557},{"$f":"L33/Constants!$D$13/(Constants!$D$12*Constants!$D$10)","v":161.334972926783},{"$f":"M33/Constants!$D$13/(Constants!$D$12*Constants!$D$10)","v":163.70336358554687},{"$f":"N33/Constants!$D$13/(Constants!$D$12*Constants!$D$10)","v":166.06586588658203},{"$f":"O33/Constants!$D$13/(Constants!$D$12*Constants!$D$10)","v":168.38448506650201},{"$f":"P33/Constants!$D$13/(Constants!$D$12*Constants!$D$10)","v":170.68509061518753},{"$f":"Q33/Constants!$D$13/(Constants!$D$12*Constants!$D$10)","v":172.97814093720038},{"$f":"R33/Constants!$D$13/(Constants!$D$12*Constants!$D$10)","v":175.24891916151378},{"$f":"S33/Constants!$D$13/(Constants!$D$12*Constants!$D$10)","v":177.52157670282293},{"$f":"T33/Constants!$D$13/(Constants!$D$12*Constants!$D$10)","v":179.76816738395848},{"$f":"U33/Constants!$D$13/(Constants!$D$12*Constants!$D$10)","v":181.97744396403147},{"$f":"V33/Constants!$D$13/(Constants!$D$12*Constants!$D$10)","v":184.14084150640838},{"$f":"W33/Constants!$D$13/(Constants!$D$12*Constants!$D$10)","v":186.26881406768001},{"$f":"X33/Constants!$D$13/(Constants!$D$12*Constants!$D$10)","v":188.37950823474313},{"$f":"Y33/Constants!$D$13/(Constants!$D$12*Constants!$D$10)","v":190.51416929571295},{"$f":"Z33/Constants!$D$13/(Constants!$D$12*Constants!$D$10)","v":192.67119550066721},{"$f":"AA33/Constants!$D$13/(Constants!$D$12*Constants!$D$10)","v":194.84925144297006},{"$f":"AB33/Constants!$D$13/(Constants!$D$12*Constants!$D$10)","v":197.04911255847483}]
[null,null,{"$f":"C34","v":"Modeled Post-case Consumption \n(Installed UEC* Stock)"},{"$f":"D34/Constants!$D$13/(Constants!$D$12*Constants!$D$10)","v":143.96209132075856},{"$f":"E34/Constants!$D$13/(Constants!$D$12*Constants!$D$10)","v":144.82855090852533},{"$f":"F34/Constants!$D$13/(Constants!$D$12*Constants!$D$10)","v":147.11710270723199},{"$f":"G34/Constants!$D$13/(Constants!$D$12*Constants!$D$10)","v":149.44850690684396},{"$f":"H34/Constants!$D$13/(Constants!$D$12*Constants!$D$10)","v":151.79093420222659},{"$f":"I34/Constants!$D$13/(Constants!$D$12*Constants!$D$10)","v":154.16897165648743},{"$f":"J34/Constants!$D$13/(Constants!$D$12*Constants!$D$10)","v":156.5747826579198},{"$f":"K34/Constants!$D$13/(Constants!$D$12*Constants!$D$10)","v":158.96060200213557},{"$f":"L34/Constants!$D$13/(Constants!$D$12*Constants!$D$10)","v":161.334972926783},{"$f":"M34/Constants!$D$13/(Constants!$D$12*Constants!$D$10)","v":163.51974178742174},{"$f":"N34/Constants!$D$13/(Constants!$D$12*Constants!$D$10)","v":165.7085702391557},{"$f":"O34/Constants!$D$13/(Constants!$D$12*Constants!$D$10)","v":167.8443609264105},{"$f":"P34/Constants!$D$13/(Constants!$D$12*Constants!$D$10)","v":169.95914242320305},{"$f":"Q34/Constants!$D$13/(Constants!$D$12*Constants!$D$10)","v":172.06269048882177},{"$f":"R34/Constants!$D$13/(Constants!$D$12*Constants!$D$10)","v":174.14359167655977},{"$f":"S34/Constants!$D$13/(Constants!$D$12*Constants!$D$10)","v":176.22975007759968},{"$f":"T34/Constants!$D$13/(Constants!$D$12*Constants!$D$10)","v":178.29339616856873},{"$f":"U34/Constants!$D$13/(Constants!$D$12*Constants!$D$10)","v":180.32632163270733},{"$f":"V34/Constants!$D$13/(Constants!$D$12*Constants!$D$10)","v":182.32131988586417},{"$f":"W34/Constants!$D$13/(Constants!$D$12*Constants!$D$10)","v":184.28537338454151},{"$f":"X34/Constants!$D$13/(Constants!$D$12*Constants!$D$10)","v":186.21876027187818},{"$f":"Y34/Constants!$D$13/(Constants!$D$12*Constants!$D$10)","v":188.1609408510412},{"$f":"Z34/Constants!$D$13/(Constants!$D$12*Constants!$D$10)","v":190.12058987080255},{"$f":"AA34/Constants!$D$13/(Constants!$D$12*Constants!$D$10)","v":192.10505116831737},{"$f":"AB34/Constants!$D$13/(Constants!$D$12*Constants!$D$10)","v":194.11199448204246}]
[]
[null,null,"Savings (aMW)",2010,2011,2012,2013,2014,2015,2016,2017,2018,2019,2020,2021,2022,2023,2024,2025,2026,2027,2028,2029,2030,2031,2032,2033,2034]
[null,null,"Incremental Savings",{"$f":"IF(AND(D42>=STANDARD_YEAR,(D42-STANDARD_YEAR)<LIFETIME_TH),\n(D13-D14)*D22,\n(D13-D14)*D21)\n/Constants!$D$13/(Constants!$D$12*Constants!$D$10)","v":0},{"$f":"IF(AND(E42>=STANDARD_YEAR,(E42-STANDARD_YEAR)<LIFETIME_TH),\n(E13-E14)*E22,\n(E13-E14)*E21)\n/Constants!$D$13/(Constants!$D$12*Constants!$D$10)","v":0},{"$f":"IF(AND(F42>=STANDARD_YEAR,(F42-STANDARD_YEAR)<LIFETIME_TH),\n(F13-F14)*F22,\n(F13-F14)*F21)\n/Constants!$D$13/(Constants!$D$12*Constants!$D$10)","v":0},{"$f":"IF(AND(G42>=STANDARD_YEAR,(G42-STANDARD_YEAR)<LIFETIME_TH),\n(G13-G14)*G22,\n(G13-G14)*G21)\n/Constants!$D$13/(Constants!$D$12*Constants!$D$10)","v":0},{"$f":"IF(AND(H42>=STANDARD_YEAR,(H42-STANDARD_YEAR)<LIFETIME_TH),\n(H13-H14)*H22,\n(H13-H14)*H21)\n/Constants!$D$13/(Constants!$D$12*Constants!$D$10)","v":0},{"$f":"IF(AND(I42>=STANDARD_YEAR,(I42-STANDARD_YEAR)<LIFETIME_TH),\n(I13-I14)*I22,\n(I13-I14)*I21)\n/Constants!$D$13/(Constants!$D$12*Constants!$D$10)","v":0},{"$f":"IF(AND(J42>=STANDARD_YEAR,(J42-STANDARD_YEAR)<LIFETIME_TH),\n(J13-J14)*J22,\n(J13-J14)*J21)\n/Constants!$D$13/(Constants!$D$12*Constants!$D$10)","v":0},{"$f":"IF(AND(K42>=STANDARD_YEAR,(K42-STANDARD_YEAR)<LIFETIME_TH),\n(K13-K14)*K22,\n(K13-K14)*K21)\n/Constants!$D$13/(Constants!$D$12*Constants!$D$10)","v":0},{"$f":"IF(AND(L42>=STANDARD_YEAR,(L42-STANDARD_YEAR)<LIFETIME_TH),\n(L13-L14)*L22,\n(L13-L14)*L21)\n/Constants!$D$13/(Constants!$D$12*Constants!$D$10)","v":0},{"$f":"IF(AND(M42>=STANDARD_YEAR,(M42-STANDARD_YEAR)<LIFETIME_TH),\n(M13-M14)*M22,\n(M13-M14)*M21)\n/Constants!$D$13/(Constants!$D$12*Constants!$D$10)","v":0.18362179812512025},{"$f":"IF(AND(N42>=STANDARD_YEAR,(N42-STANDARD_YEAR)<LIFETIME_TH),\n(N13-N14)*N22,\n(N13-N14)*N21)\n/Constants!$D$13/(Constants!$D$12*Constants!$D$10)","v":0.17367384930127217},{"$f":"IF(AND(O42>=STANDARD_YEAR,(O42-STANDARD_YEAR)<LIFETIME_TH),\n(O13-O14)*O22,\n(O13-O14)*O21)\n/Constants!$D$13/(Constants!$D$12*Constants!$D$10)","v":0.18282849266511519},{"$f":"IF(AND(P42>=STANDARD_YEAR,(P42-STANDARD_YEAR)<LIFETIME_TH),\n(P13-P14)*P22,\n(P13-P14)*P21)\n/Constants!$D$13/(Constants!$D$12*Constants!$D$10)","v":0.18582405189297405},{"$f":"IF(AND(Q42>=STANDARD_YEAR,(Q42-STANDARD_YEAR)<LIFETIME_TH),\n(Q13-Q14)*Q22,\n(Q13-Q14)*Q21)\n/Constants!$D$13/(Constants!$D$12*Constants!$D$10)","v":0.18950225639409829},{"$f":"IF(AND(R42>=STANDARD_YEAR,(R42-STANDARD_YEAR)<LIFETIME_TH),\n(R13-R14)*R22,\n(R13-R14)*R21)\n/Constants!$D$13/(Constants!$D$12*Constants!$D$10)","v":0.18987703657543684},{"$f":"IF(AND(S42>=STANDARD_YEAR,(S42-STANDARD_YEAR)<LIFETIME_TH),\n(S13-S14)*S22,\n(S13-S14)*S21)\n/Constants!$D$13/(Constants!$D$12*Constants!$D$10)","v":0.18649914026930922},{"$f":"IF(AND(T42>=STANDARD_YEAR,(T42-STANDARD_YEAR)<LIFETIME_TH),\n(T13-T14)*T22,\n(T13-T14)*T21)\n/Constants!$D$13/(Constants!$D$12*Constants!$D$10)","v":0.18294459016643227},{"$f":"IF(AND(U42>=STANDARD_YEAR,(U42-STANDARD_YEAR)<LIFETIME_TH),\n(U13-U14)*U22,\n(U13-U14)*U21)\n/Constants!$D$13/(Constants!$D$12*Constants!$D$10)","v":0.17635111593436623},{"$f":"IF(AND(V42>=STANDARD_YEAR,(V42-STANDARD_YEAR)<LIFETIME_TH),\n(V13-V14)*V22,\n(V13-V14)*V21)\n/Constants!$D$13/(Constants!$D$12*Constants!$D$10)","v":0.16839928922001718},{"$f":"IF(AND(W42>=STANDARD_YEAR,(W42-STANDARD_YEAR)<LIFETIME_TH),\n(W13-W14)*W22,\n(W13-W14)*W21)\n/Constants!$D$13/(Constants!$D$12*Constants!$D$10)","v":0.16391906259429903},{"$f":"IF(AND(X42>=STANDARD_YEAR,(X42-STANDARD_YEAR)<LIFETIME_TH),\n(X13-X14)*X22,\n(X13-X14)*X21)\n/Constants!$D$13/(Constants!$D$12*Constants!$D$10)","v":0.17730727972649571},{"$f":"IF(AND(Y42>=STANDARD_YEAR,(Y42-STANDARD_YEAR)<LIFETIME_TH),\n(Y13-Y14)*Y22,\n(Y13-Y14)*Y21)\n/Constants!$D$13/(Constants!$D$12*Constants!$D$10)","v":0.1924804818067983},{"$f":"IF(AND(Z42>=STANDARD_YEAR,(Z42-STANDARD_YEAR)<LIFETIME_TH),\n(Z13-Z14)*Z22,\n(Z13-Z14)*Z21)\n/Constants!$D$13/(Constants!$D$12*Constants!$D$10)","v":0.1973771851929125},{"$f":"IF(AND(AA42>=STANDARD_YEAR,(AA42-STANDARD_YEAR)<LIFETIME_TH),\n(AA13-AA14)*AA22,\n(AA13-AA14)*AA21)\n/Constants!$D$13/(Constants!$D$12*Constants!$D$10)","v":0.19359464478805885},{"$f":"IF(AND(AB42>=STANDARD_YEAR,(AB42-STANDARD_YEAR)<LIFETIME_TH),\n(AB13-AB14)*AB22,\n(AB13-AB14)*AB21)\n/Constants!$D$13/(Constants!$D$12*Constants!$D$10)","v":0.19291780177964196}]
[null,null,"Cumulative Savings",{"$f":"D39-D40","v":0},0,0,0,0,0,0,0,0,{"$f":"M39-M40","v":0.18362179812513091},0.35729564742632647,0.54012414009150689,0.7259481919844859,0.91545044837860701,1.1053274849540173,1.2918266252232513,1.474771215389751,1.6511223313241317,1.819521620544208,1.9834406831384968,2.1607479628649457,2.3532284446717426,2.5506056298646627,2.7442002746526839,2.9371180764323697]
[null,null,"DOE Aggregate Lifecycle Savings (formerly DOE Carbon proxy)",{"$f":"SUM($D$44:D44)","v":0},{"$f":"SUM($D$44:E44)","v":0},{"$f":"SUM($D$44:F44)","v":0},{"$f":"SUM($D$44:G44)","v":0},{"$f":"SUM($D$44:H44)","v":0},{"$f":"SUM($D$44:I44)","v":0},{"$f":"SUM($D$44:J44)","v":0},{"$f":"SUM($D$44:K44)","v":0},{"$f":"SUM($D$44:L44)","v":0},{"$f":"SUM($D$44:M44)","v":0.18362179812513091},{"$f":"SUM($D$44:N44)","v":0.54091744555145738},{"$f":"SUM($D$44:O44)","v":1.0810415856429643},{"$f":"SUM($D$44:P44)","v":1.8069897776274502},{"$f":"SUM($D$44:Q44)","v":2.7224402260060572},{"$f":"SUM($D$44:R44)","v":3.8277677109600745},{"$f":"SUM($D$44:S44)","v":5.1195943361833258},{"$f":"SUM($D$44:T44)","v":6.5943655515730768},{"$f":"SUM($D$44:U44)","v":8.2454878828972085},{"$f":"SUM($D$44:V44)","v":10.065009503441416},{"$f":"SUM($D$44:W44)","v":12.048450186579913},{"$f":"SUM($D$44:X44)","v":14.209198149444859},{"$f":"SUM($D$44:Y44)","v":16.562426594116602},{"$f":"SUM($D$44:Z44)","v":19.113032223981264},{"$f":"SUM($D$44:AA44)","v":21.857232498633948},{"$f":"SUM($D$44:AB44)","v":24.794350575066318}]
[null,null,"Check",{"$f":"IF(ISNUMBER(C44),ROUND((D44-C44-D43),3),0)","v":0},{"$f":"IF(ISNUMBER(D44),ROUND((E44-D44-E43),3),0)","v":0},0,0,0,0,0,0,0,0,0,0,0,0,0,0,0,0,0,0,0,0,0,0,0]

{"sheet":"SUMMARY RESULTS","index":25,"n_rows":12,"n_cols":7,"rows_kept":12,"cut":false,"hidden":false,"merged":[]}
[]
[null,null,"SUMMARY RESULTS"]
[]
[null,null,"NAVIGATION"]
[]
[null,null,"COMMENTS"]
[]
[]
[null,null,null,"Single Family","Multi-Family","Manufactured Homes","TOTAL"]
[null,null,"Adjustment to 6P Baseline (aMW)","n/a","n/a","n/a","n/a"]
[null,null,"Total First Year Savings 2010 through 2015 (aMW)",{"$f":"SUM('Results-SF'!$D$43:$I$43)","v":0},{"$f":"SUM('Results-MF'!$D$43:$I$43)","v":0},{"$f":"SUM('Results-MH'!$D$43:$I$43)","v":0},{"$f":"SUM('Results-TH'!$D$43:$I$43)","v":0}]
[null,null,"Total First Year Savings through 2034 (aMW)",{"$f":"SUM('Results-SF'!$D$43:$AB$43)","v":1.9529840968186865},{"$f":"SUM('Results-MF'!$D$43:$AB$43)","v":0.66853593659943811},{"$f":"SUM('Results-MH'!$D$43:$AB$43)","v":0.31559804301421718},{"$f":"SUM('Results-TH'!$D$43:$AB$43)","v":2.9371180764323479}]

{"sheet":"Charts-SF","index":26,"n_rows":6,"n_cols":3,"rows_kept":6,"cut":false,"hidden":false,"merged":[]}
[]
[null,null,"CHARTS - Single Family"]
[]
[null,null,"NAVIGATION"]
[]
[null,null,"COMMENTS"]

{"sheet":"Charts-MF","index":27,"n_rows":6,"n_cols":3,"rows_kept":6,"cut":false,"hidden":false,"merged":[]}
[]
[null,null,"CHARTS - Multi-Family"]
[]
[null,null,"NAVIGATION"]
[]
[null,null,"COMMENTS"]

{"sheet":"Charts-MH","index":28,"n_rows":6,"n_cols":3,"rows_kept":6,"cut":false,"hidden":false,"merged":[]}
[]
[null,null,"CHARTS - Manufactured Homes"]
[]
[null,null,"NAVIGATION"]
[]
[null,null,"COMMENTS"]

{"sheet":"Charts-TH","index":29,"n_rows":6,"n_cols":3,"rows_kept":6,"cut":false,"hidden":false,"merged":[]}
[]
[null,null,"CHARTS - Total Homes"]
[]
[null,null,"NAVIGATION"]
[]
[null,null,"COMMENTS"]