{"text_format":"1","workbook":"xlsx","n_sheets":30,"sheets":["COVER","Definitions","Comments","Navigation","Product Classes","Efficiency Levels","Lifetimes","National Shipments Data","Shipments and Stock - SF","Shipments and Stock - MF","Shipments and Stock - MH","Efficiency Dist - SF","Efficiency Dist - MF","Efficiency Dist - MH","6P UEC Development","Constants","Product Class Dist","UEC Development","UEC-SF","UEC-MF","UEC-MH","Results-SF","Results-MF","Results-MH","Results-TH","SUMMARY RESULTS","Charts-SF","Charts-MF","Charts-MH","Charts-TH"],"not_rendered":{"charts":40,"images":0,"macros":1,"external_links":2,"defined_names":25,"comments":0,"pivot_tables":0},"unopened":[],"bounds":{"document_bytes":16777216,"sheet_cells":100000,"rows_first":2000,"rows_last":500,"rows_between":2000,"halvings":0,"cell_chars":16384,"cell_head_chars":4096},"cells_cut":0,"cells_raw":0,"read":"whole","date_system":"1900"}

{"sheet":"COVER","index":0,"n_rows":30,"n_cols":4,"rows_kept":30,"cut":false,"hidden":false,"merged":[[24,2,24,3],[8,2,8,3],[9,2,9,3],[10,2,10,3],[13,2,13,3],[16,2,16,3],[18,2,18,3]]}
[]
[null,null,"Cover"]
[]
[null,null,"NAVIGATION"]
[]
[null,null,"COMMENTS"]
[]
[]
[null,null,"Bonneville Power Administration"]
[null,null,"6P Energy Conservation Standards Savings Model"]
[null,null,"Electric Ovens"]
[]
[null,null,"Product Description"]
[null,null,"Residential ovens include conventional ranges, conventional standalone ovens, and conventional built-in ovens.  These are part of a broader group classified by DOE as cooking products. Cooking products cook or heat food by means of gas, electricity, or microwave energy. This model is limited to electric ovens only. These products are used primarily in homes and apartments. Kitchen ranges and ovens do not include portable or countertop ovens that use electric resistance heating or are designed to use an electrical supply of approximately 120 volts."]
[]
[null,null,"Standard Compliance Year"]
[null,null,"2019; Expected Compliance Year per the DOE 2014 Request for Information "]
[]
[null,null,"Major changes from previous rulemaking (2009 effective standard)"]
[null,null,"2009 Standard only pertained to gas cooking products, effectively eliminating standing pilots."]
[null,null,"2014 Rulemaking considers standards for ovens and cooktops."]
[null,null,"No new standards issued as of the time this model was developed."]
[]
[null,null,"6P Baseline "]
[null,null,"The product was modeled in the Sixth Power Plan. "]
[]
[null,null,"Prepared By:"]
[null,null,"Navigant Consulting","Cadeo Group"]
[null,null,"One Market Street | Spear Street Tower, Suite 1200 ","840 First Street, Suite 300"]
[null,null,"San Francisco, CA 94105","Washington, DC  20002"]

{"sheet":"Definitions","index":1,"n_rows":32,"n_cols":4,"rows_kept":32,"cut":false,"hidden":false,"merged":[]}
[]
[null,null,"Definitions"]
[]
[null,null,"NAVIGATION"]
[]
[null,null,"COMMENTS"]
[]
[]
[null,null,"Average Megawatt (aMW)","The average number of megawatts over a specified time period"]
[null,null,"Adjustment to 6P Baseline ","Adjustment to reconcile the 6P projected energy consumption and the modeled consumption calculated using best available data."]
[null,null,"Department of Energy Aggregate Lifecycle Savings ","Sum of 'Total First Year Savings'.  This accounts for the cumulative savings in accordance with DOE Carbon Accounting Practices."]
[null,null,"Department of Energy Notice of Proposed Rulemaking (DOE NOPR)","Federal Register notice detailing analyses conducted by the DOE to establish proposed energy conservation standards. "]
[null,null,"Efficiency Level (EL)","The discrete efficiency ratings of a product.  Each efficiency level is associated with a different UEC."]
[null,null,"Efficiency Level Distribution","The mix of various equipment efficiencies shipped in a given year."]
[null,null,"Incremental Savings ","Savings due to the higher standards for units installed in a particular year. First year savings are highest following the standards compliance year while the stock turns over, after which first year savings are only attributed to shipments associated wit"]
[null,null,"Governmental Regulatory Impact Model (GRIM)","The industry cash flow model used by DOE to assess impacts on manufacturers due to proposed energy conservation standards"]
[null,null,"Installed Unit Energy Consumption (Installed UEC)","The average annual unit energy consumption of all installed units in a given year."]
[null,null,"Market Unit Energy Consumption (Market UEC)","The average annual unit energy consumption of units shipped in a given year.   "]
[null,null,"National Impact Analysis (NIA)","The energy impact analysis used by DOE to calculate energy savings associated with each standard. "]
[null,null,"Pre-case ","The case representing 6P baseline assumptions where energy consumption due to the product accounts for shipment and shipment UEC by year, without the affect of standards announced following the development of the 6P."]
[null,null,"Post-case","The case in which standards are implemented. If the 6P already captured the analyzed standard, the post-case will be the same as the pre-case."]
[null,null,"Product Class","Product classificiation determined by product configuration, size, application, location, and other attributes that contribute to consumer utility.  DOE is allowed to establish different standards for each product class."]
[null,null,"Product Class Distribution ","Market share/mix of each product class shipped in a given year."]
[null,null,"Product Lifetime","The average time a given class of products stays in the field as part of the installed stock.  Some products will last longer (delaying replacement) whereas others will fail and be retired earlier (accelerating replacement), but the lifetime represents th"]
[null,null,"Shipments ","Sales of products.  This may be presented by product class, efficiency distribution, or delineated by other metrics. Shipments may be attributed to new construction and/or replacements and retrofits. "]
[null,null,"Sixth Power Plan (6P)","The Pacific Northwest Resource Plan published by the Northwest Power Conservation Council. The 6P timeframe is from 2010-2015."]
[null,null,"Sixth Power Plan Baseline (6P Baseline)","The 6P assumes equipment efficiency and shipment units in the region.  When available, the 6P assumptions are the baseline for each standard impact analysis."]
[null,null,"Standard Compliance Year","The year when the appliance standard goes into effect. "]
[null,null,"Stock ","All units installed in previous years which remain in operation."]
[null,null,"Technical Support Document (TSD)","TSDs are published by the DOE as companion documents to Federal Register notices (e.g., ANOPRs/preliminary analyses and NOPRs).  The TSDs include technical detail that supports the notices.  The final rule TSD includes the discussion of the Manufacturer I"]
[null,null,"Cumulative Savings through 2034","The sum of incremental savings from 2010 through 2034"]
[null,null,"Trial Standard Level (TSL)","A proposed  efficiency standard evaluated by DOE during the NOPR and Final Rule phase analyses.  A TSL may specify different standard efficiency levels for each product class included in the rulemaking."]

{"sheet":"Comments","index":2,"n_rows":8,"n_cols":4,"rows_kept":8,"cut":false,"hidden":false,"merged":[[7,3,7,7],[14,3,14,7],[15,3,15,7],[16,3,16,7],[8,3,8,7],[9,3,9,7],[10,3,10,7],[11,3,11,7],[12,3,12,7],[13,3,13,7]]}
[]
[null,null,"Comments"]
[]
[null,null,"NAVIGATION"]
[]
[]
[null,null,"Tab","Comment"]
[null,null,"Example","Please use this space to document your comments as you review the model.  We look forward to receiving your feedback.  Thank you."]

{"sheet":"Navigation","index":3,"n_rows":33,"n_cols":11,"rows_kept":33,"cut":false,"hidden":false,"merged":[[16,2,24,2],[32,8,34,8],[16,10,18,10],[20,10,22,10],[24,10,26,10],[28,10,30,10],[28,8,30,8],[16,6,18,6],[20,6,22,6],[24,6,26,6],[16,8,18,8],[20,8,22,8],[24,8,26,8]]}
[]
[null,null,"NAVIGATION"]
[]
[null,null,"COMMENTS"]
[]
[]
[null,null,"INFORMATION TABS",null,"INPUT TABS",null,"UEC CALCULATIONS",null,"RESULTS",null,"CHARTS"]
[]
[null,null,"COVER",null,"PRODUCT CLASSES"]
[]
[null,null,"DEFINITIONS",null,"EFFICIENCY LEVELS",null,"UEC DEVELOPMENT"]
[]
[null,null,"COMMENTS",null,"NATIONAL SHIPMENTS DATA",null,"PRODUCT CLASS DISTRIBUTION"]
[]
[null,null,"NAVIGATION",null,"LIFETIMES"]
[]
[null,null,"CENTRAL RESIDENTIAL MODEL (EXTERNAL)",null,"SHIPMENTS AND STOCK - SF",null,"UEC - SF",null,"RESULTS - SF",null,"CHARTS - SF"]
[]
[null,null,null,null,"EFFICIENCY DISTRIBUTION - SF"]
[]
[null,null,null,null,"SHIPMENTS AND STOCK - MF",null,"UEC - MF",null,"RESULTS - MF",null,"CHARTS - MF"]
[]
[null,null,null,null,"EFFICIENCY DISTRIBUTION - MF"]
[]
[null,null,null,null,"SHIPMENTS AND STOCK - MH",null,"UEC - MH",null,"RESULTS - MH",null,"CHARTS - MH"]
[]
[null,null,null,null,"EFFICIENCY DISTRIBUTION - MH"]
[]
[null,null,null,null,"6P UEC DEVELOPMENT",null,null,null,"RESULTS - TH",null,"CHARTS - ALL"]
[]
[null,null,null,null,"CONSTANTS"]
[]
[null,null,null,null,null,null,null,null,"SUMMARY RESULTS"]

{"sheet":"Product Classes","index":4,"n_rows":15,"n_cols":9,"rows_kept":15,"cut":false,"hidden":false,"merged":[]}
[]
[null,null,"Selection of Product Classes for Model"]
[]
[null,null,"NAVIGATION"]
[]
[null,null,"COMMENTS"]
[]
[]
[null,null,"All Product Classes","2014 DOE RFI PCs 1","Representative PCs","6P PCs",null,"Model PCs","Rationale"]
[null,null,"Gas Ovens—Standards Ovens With or Without a Catalytic Line","Included",null,null,null,null,"Rejected as gas product"]
[null,null,"Gas Ovens—Self-Clean Ovens","Included",null,null,null,null,"Rejected as gas product"]
[null,null,"Electric Ovens—Standards Ovens With or Without a Catalytic Line","Included",null,null,null,"PC1"]
[null,null,"Electric Ovens—Self-Clean Ovens","Included",null,null,null,"PC2"]
[]
[null,null,"Source","1. 2014 DOE Request For Information - Table II.6—Conventional Ovens Baseline Efficiency Levels"]

{"sheet":"Efficiency Levels","index":5,"n_rows":42,"n_cols":6,"rows_kept":42,"cut":false,"hidden":false,"merged":[[1,2,1,3],[3,2,3,3],[5,2,5,3]]}
[]
[null,null,"Efficiency Levels and Standards for Each Product Class"]
[]
[null,null,"NAVIGATION"]
[]
[null,null,"COMMENTS"]
[]
[]
[null,null,"PC1",{"$f":"OFFSET('Product Classes'!$C$9,MATCH(C9,'Product Classes'!$H$10:$H$13,0),0)","v":"Electric Ovens—Standards Ovens With or Without a Catalytic Line"}]
[]
[null,null," Model ELs","Integrated Annual Energy Consumption  (kWh)","Efficiency Factor","Efficiency Level Source"]
[null,null,"EL0",370,0.1066,"2009 DOE Final Rule Technical Support Document (Baseline)"]
[null,null,"EL1",327.7,0.1066,"2009 DOE Final Rule Technical Support Document (Baseline) + SMPS*"]
[null,null,"EL2",316.10000000000002,0.1113,"2009 DOE Final Rule Technical Support Document (Reduced Vent Rate) + SMPS*"]
[null,null,"EL3",304.8,0.1163,"2009 DOE Final Rule Technical Support Document (2 + Improved Insulation) + SMPS*"]
[null,null,"EL4",300.89999999999998,0.1181,"2009 DOE Final Rule Technical Support Document (3 + Improved Door Seals) + SMPS*"]
[null,null,"EL5",300.3,0.11840000000000001,"2009 DOE Final Rule Technical Support Document (4 + Reduced Conduction Losses) + SMPS*"]
[null,null,"EL6",295.2,0.12089999999999999,"2009 DOE Final Rule Technical Support Document (5 + Forced Convection) + SMPS*"]
[null,null,"EL7",255,0.12089999999999999,"2009 DOE Final Rule Technical Support Document (6) + 1 W Standby"]
[]
[null,null,"Standard","Annual Energy Consumption (kWh)","Efficiency Factor","Compliance Year"]
[null,null,"EL2",{"$f":"OFFSET(D11,MATCH($C22,$C12:$C19),0)","v":316.10000000000002},{"$f":"OFFSET(E11,MATCH($C22,$C12:$C19),0)","v":0.1113},2019]
[]
[null,null,"Source","2014 DOE Request for Information: Table II.12—Efficiency Levels Under Consideration for Electric Ovens—Standards Ovens With or Without a Catalytic Line"]
[null,null,null,"*SMPS = Switch Mode Power Supply"]
[]
[]
[]
[null,null,"PC2",{"$f":"OFFSET('Product Classes'!$C$9,MATCH(C29,'Product Classes'!$H$10:$H$13,0),0)","v":"Electric Ovens—Self-Clean Ovens"}]
[]
[null,null," Model ELs","Integrated Annual Energy Consumption  (kWh)","Efficiency Factor","Efficiency Level Source"]
[null,null,"EL0",360,0.1099,"2009 DOE Final Rule Technical Support Document (Baseline)"]
[null,null,"EL1",317.7,0.1099,"2009 DOE Final Rule Technical Support Document (Baseline) + SMPS*"]
[null,null,"EL2",317,0.11020000000000001,"2009 DOE Final Rule Technical Support Document (Reduced Conduction Losses) + SMPS*"]
[null,null,"EL3",312,0.1123,"2009 DOE Final Rule Technical Support Document (2 + Forced Convection) + SMPS*"]
[null,null,"EL4",271.89999999999998,0.1123,"2009 DOE Final Rule Technical Support Document (3) + 1 W Standby"]
[]
[null,null,"Standard","Annual Energy Consumption (kWh)","Efficiency Factor","Compliance Year"]
[null,null,"EL3",{"$f":"OFFSET(D31,MATCH($C39,$C32:$C36),0)","v":312},{"$f":"OFFSET(E31,MATCH($C39,$C32:$C36),0)","v":0.1123},2019]
[]
[null,null,"Source","2014 DOE Request for Information: Table II.13—Efficiency Levels Under Consideration for Electric Ovens—Self-Clean Ovens"]
[null,null,null,"*SMPS = Switch Mode Power Supply"]

{"sheet":"Lifetimes","index":6,"n_rows":10,"n_cols":8,"rows_kept":10,"cut":false,"hidden":false,"merged":[]}
[]
[null,null,"Lifetimes"]
[]
[null,null,"NAVIGATION"]
[]
[null,null,"COMMENTS"]
[]
[]
[null,null,{"$f":"MODEL_NAME","v":"Electric Ovens"},"Single Family","Multi-Family","Manufactured Homes","Total Homes","Source"]
[null,null,"Lifetime (years)",{"$f":"ROUND(INDEX([2]!LIFETIMES_TABLE,\nMATCH($C$9,[2]!APPLIANCES,0),\nMATCH(D9,[2]!LIFETIMES_HOUSING_TYPE,0)),0)","v":19},{"$f":"ROUND(INDEX([2]!LIFETIMES_TABLE,\nMATCH($C$9,[2]!APPLIANCES,0),\nMATCH(E9,[2]!LIFETIMES_HOUSING_TYPE,0)),0)","v":19},{"$f":"ROUND(INDEX([2]!LIFETIMES_TABLE,\nMATCH($C$9,[2]!APPLIANCES,0),\nMATCH(F9,[2]!LIFETIMES_HOUSING_TYPE,0)),0)","v":19},{"$f":"ROUND(INDEX([2]!LIFETIMES_TABLE,\nMATCH($C$9,[2]!APPLIANCES,0),\nMATCH(G9,[2]!LIFETIMES_HOUSING_TYPE,0)),0)","v":19},"DOE Kitchen Ranges and Ovens 2009 Final Rule, Technical Support Document Chapter 8: Lifecycle Cost Analysis, Table 8.2.43 Cooktops and Ovens: Average, Minimum, and Maximum Product Lifetimes (page 8-39)"]

{"sheet":"National Shipments Data","index":7,"n_rows":19,"n_cols":20,"rows_kept":19,"cut":false,"hidden":false,"merged":[]}
[]
[null,null,"National Shipments"]
[]
[null,null,"NAVIGATION"]
[]
[null,null,"COMMENTS"]
[]
[]
[null,null,"Product from DOE 2009 FR Shipments Analysis","Maps to Model Product Class",1990,1991,1992,1993,1994,1995,1996,1997,1998,1999,2000,2001,2002,2003,2004,2005]
[null,null,"Range w/ Coil Cooktop and Standard Oven","PC 1 - Electric Ovens—Standards Ovens With or Without a Catalytic Line",0.22,0.25,0.26,0.26,0.22,0.24,0.22,0.21,0.2,0.19,0.19,0.18,0.17,0.14000000000000001,0.14000000000000001,0.15]
[null,null,"Range w/ Coil Cooktop and Self-Clean Oven","PC 2 - Electric Ovens—Self-Clean Ovens",0.15,0.14000000000000001,0.14000000000000001,0.14000000000000001,0.17,0.16,0.18,0.18,0.19,0.2,0.2,0.2,0.21,0.22,0.22,0.21]
[null,null,"Range w/ Smooth Cooktop and Standard Oven","PC 1 - Electric Ovens—Standards Ovens With or Without a Catalytic Line",0.08,0.09,0.09,0.09,0.08,0.09,0.08,7.0000000000000007E-2,7.0000000000000007E-2,7.0000000000000007E-2,7.0000000000000007E-2,0.06,0.06,0.05,0.05,0.06]
[null,null,"Range w/ Smooth Cooktop and Self-Clean Oven","PC 2 - Electric Ovens—Self-Clean Ovens",0.23,0.22,0.22,0.22,0.26,0.26,0.27,0.28000000000000003,0.28999999999999998,0.3,0.31,0.31,0.32,0.34,0.34,0.34]
[null,null,"Built-In Coil Cooktop","none",0.04,0.04,0.04,0.04,0.03,0.03,0.03,0.03,0.03,0.03,0.03,0.03,0.03,0.03,0.03,0.03]
[null,null,"Built-In Smooth Cooktop","none",0.09,0.08,0.08,0.08,7.0000000000000007E-2,7.0000000000000007E-2,7.0000000000000007E-2,7.0000000000000007E-2,0.08,7.0000000000000007E-2,7.0000000000000007E-2,7.0000000000000007E-2,7.0000000000000007E-2,0.06,0.06,0.06]
[null,null,"Built-In Standard Oven","PC 1 - Electric Ovens—Standards Ovens With or Without a Catalytic Line",7.0000000000000007E-2,0.04,0.04,0.03,0.05,0.03,0.03,0.03,0.02,0.02,0.02,0.02,0.02,0.02,0.02,0.01]
[null,null,"Built-In Self-Clean Oven","PC 2 - Electric Ovens—Self-Clean Ovens",0.12,0.14000000000000001,0.14000000000000001,0.14000000000000001,0.11,0.12,0.12,0.12,0.12,0.12,0.12,0.12,0.13,0.13,0.14000000000000001,0.14000000000000001]
[]
[null,null,"Source/Rationale","2009 DOE Final Rule Technical Support Document Chapter 10: Shipments Analysis - Table 10.3.2 Electric Cooktops and Ovens: Historical Shipment Market Shares by \nProduct Type "]

{"sheet":"Shipments and Stock - SF","index":8,"n_rows":15,"n_cols":58,"rows_kept":15,"cut":false,"hidden":false,"merged":[]}
[]
[null,null,"Shipments and Stock - SF"]
[]
[null,null,"NAVIGATION"]
[]
[null,null,"COMMENTS"]
[]
[]
[null,null,{"$f":"MODEL_NAME","v":"Electric Ovens"}]
[null,null,null,null,1981,1982,1983,1984,1985,1986,1987,1988,1989,1990,1991,1992,1993,1994,1995,1996,1997,1998,1999,2000,2001,2002,2003,2004,2005,2006,2007,2008,2009,2010,2011,2012,2013,2014,2015,2016,2017,2018,2019,2020,2021,2022,2023,2024,2025,2026,2027,2028,2029,2030,2031,2032,2033,2034]
[null,null,"6P Shipments","(units)",{"$f":"IF(ISNUMBER(MATCH(E10,[2]!SIXTH_PLAN_SF_YEARS,0)),\nINDEX([2]!SIXTH_PLAN_SF,\nMATCH($C$9,[2]!APPLIANCES,0),\nMATCH(E$10,[2]!SIXTH_PLAN_SF_YEARS,0)),\"pre-dates plan\")","v":"pre-dates plan"},{"$f":"IF(ISNUMBER(MATCH(F10,[2]!SIXTH_PLAN_SF_YEARS,0)),\nINDEX([2]!SIXTH_PLAN_SF,\nMATCH($C$9,[2]!APPLIANCES,0),\nMATCH(F$10,[2]!SIXTH_PLAN_SF_YEARS,0)),\"pre-dates plan\")","v":"pre-dates plan"},{"$f":"IF(ISNUMBER(MATCH(G10,[2]!SIXTH_PLAN_SF_YEARS,0)),\nINDEX([2]!SIXTH_PLAN_SF,\nMATCH($C$9,[2]!APPLIANCES,0),\nMATCH(G$10,[2]!SIXTH_PLAN_SF_YEARS,0)),\"pre-dates plan\")","v":"pre-dates plan"},{"$f":"IF(ISNUMBER(MATCH(H10,[2]!SIXTH_PLAN_SF_YEARS,0)),\nINDEX([2]!SIXTH_PLAN_SF,\nMATCH($C$9,[2]!APPLIANCES,0),\nMATCH(H$10,[2]!SIXTH_PLAN_SF_YEARS,0)),\"pre-dates plan\")","v":"pre-dates plan"},{"$f":"IF(ISNUMBER(MATCH(I10,[2]!SIXTH_PLAN_SF_YEARS,0)),\nINDEX([2]!SIXTH_PLAN_SF,\nMATCH($C$9,[2]!APPLIANCES,0),\nMATCH(I$10,[2]!SIXTH_PLAN_SF_YEARS,0)),\"pre-dates plan\")","v":"pre-dates plan"},{"$f":"IF(ISNUMBER(MATCH(J10,[2]!SIXTH_PLAN_SF_YEARS,0)),\nINDEX([2]!SIXTH_PLAN_SF,\nMATCH($C$9,[2]!APPLIANCES,0),\nMATCH(J$10,[2]!SIXTH_PLAN_SF_YEARS,0)),\"pre-dates plan\")","v":"pre-dates plan"},{"$f":"IF(ISNUMBER(MATCH(K10,[2]!SIXTH_PLAN_SF_YEARS,0)),\nINDEX([2]!SIXTH_PLAN_SF,\nMATCH($C$9,[2]!APPLIANCES,0),\nMATCH(K$10,[2]!SIXTH_PLAN_SF_YEARS,0)),\"pre-dates plan\")","v":"pre-dates plan"},{"$f":"IF(ISNUMBER(MATCH(L10,[2]!SIXTH_PLAN_SF_YEARS,0)),\nINDEX([2]!SIXTH_PLAN_SF,\nMATCH($C$9,[2]!APPLIANCES,0),\nMATCH(L$10,[2]!SIXTH_PLAN_SF_YEARS,0)),\"pre-dates plan\")","v":"pre-dates plan"},{"$f":"IF(ISNUMBER(MATCH(M10,[2]!SIXTH_PLAN_SF_YEARS,0)),\nINDEX([2]!SIXTH_PLAN_SF,\nMATCH($C$9,[2]!APPLIANCES,0),\nMATCH(M$10,[2]!SIXTH_PLAN_SF_YEARS,0)),\"pre-dates plan\")","v":"pre-dates plan"},{"$f":"IF(ISNUMBER(MATCH(N10,[2]!SIXTH_PLAN_SF_YEARS,0)),\nINDEX([2]!SIXTH_PLAN_SF,\nMATCH($C$9,[2]!APPLIANCES,0),\nMATCH(N$10,[2]!SIXTH_PLAN_SF_YEARS,0)),\"pre-dates plan\")","v":"pre-dates plan"},{"$f":"IF(ISNUMBER(MATCH(O10,[2]!SIXTH_PLAN_SF_YEARS,0)),\nINDEX([2]!SIXTH_PLAN_SF,\nMATCH($C$9,[2]!APPLIANCES,0),\nMATCH(O$10,[2]!SIXTH_PLAN_SF_YEARS,0)),\"pre-dates plan\")","v":"pre-dates plan"},{"$f":"IF(ISNUMBER(MATCH(P10,[2]!SIXTH_PLAN_SF_YEARS,0)),\nINDEX([2]!SIXTH_PLAN_SF,\nMATCH($C$9,[2]!APPLIANCES,0),\nMATCH(P$10,[2]!SIXTH_PLAN_SF_YEARS,0)),\"pre-dates plan\")","v":"pre-dates plan"},{"$f":"IF(ISNUMBER(MATCH(Q10,[2]!SIXTH_PLAN_SF_YEARS,0)),\nINDEX([2]!SIXTH_PLAN_SF,\nMATCH($C$9,[2]!APPLIANCES,0),\nMATCH(Q$10,[2]!SIXTH_PLAN_SF_YEARS,0)),\"pre-dates plan\")","v":"pre-dates plan"},{"$f":"IF(ISNUMBER(MATCH(R10,[2]!SIXTH_PLAN_SF_YEARS,0)),\nINDEX([2]!SIXTH_PLAN_SF,\nMATCH($C$9,[2]!APPLIANCES,0),\nMATCH(R$10,[2]!SIXTH_PLAN_SF_YEARS,0)),\"pre-dates plan\")","v":"pre-dates plan"},{"$f":"IF(ISNUMBER(MATCH(S10,[2]!SIXTH_PLAN_SF_YEARS,0)),\nINDEX([2]!SIXTH_PLAN_SF,\nMATCH($C$9,[2]!APPLIANCES,0),\nMATCH(S$10,[2]!SIXTH_PLAN_SF_YEARS,0)),\"pre-dates plan\")","v":"pre-dates plan"},{"$f":"IF(ISNUMBER(MATCH(T10,[2]!SIXTH_PLAN_SF_YEARS,0)),\nINDEX([2]!SIXTH_PLAN_SF,\nMATCH($C$9,[2]!APPLIANCES,0),\nMATCH(T$10,[2]!SIXTH_PLAN_SF_YEARS,0)),\"pre-dates plan\")","v":"pre-dates plan"},{"$f":"IF(ISNUMBER(MATCH(U10,[2]!SIXTH_PLAN_SF_YEARS,0)),\nINDEX([2]!SIXTH_PLAN_SF,\nMATCH($C$9,[2]!APPLIANCES,0),\nMATCH(U$10,[2]!SIXTH_PLAN_SF_YEARS,0)),\"pre-dates plan\")","v":"pre-dates plan"},{"$f":"IF(ISNUMBER(MATCH(V10,[2]!SIXTH_PLAN_SF_YEARS,0)),\nINDEX([2]!SIXTH_PLAN_SF,\nMATCH($C$9,[2]!APPLIANCES,0),\nMATCH(V$10,[2]!SIXTH_PLAN_SF_YEARS,0)),\"pre-dates plan\")","v":"pre-dates plan"},{"$f":"IF(ISNUMBER(MATCH(W10,[2]!SIXTH_PLAN_SF_YEARS,0)),\nINDEX([2]!SIXTH_PLAN_SF,\nMATCH($C$9,[2]!APPLIANCES,0),\nMATCH(W$10,[2]!SIXTH_PLAN_SF_YEARS,0)),\"pre-dates plan\")","v":"pre-dates plan"},{"$f":"IF(ISNUMBER(MATCH(X10,[2]!SIXTH_PLAN_SF_YEARS,0)),\nINDEX([2]!SIXTH_PLAN_SF,\nMATCH($C$9,[2]!APPLIANCES,0),\nMATCH(X$10,[2]!SIXTH_PLAN_SF_YEARS,0)),\"pre-dates plan\")","v":"pre-dates plan"},{"$f":"IF(ISNUMBER(MATCH(Y10,[2]!SIXTH_PLAN_SF_YEARS,0)),\nINDEX([2]!SIXTH_PLAN_SF,\nMATCH($C$9,[2]!APPLIANCES,0),\nMATCH(Y$10,[2]!SIXTH_PLAN_SF_YEARS,0)),\"pre-dates plan\")","v":"pre-dates plan"},{"$f":"IF(ISNUMBER(MATCH(Z10,[2]!SIXTH_PLAN_SF_YEARS,0)),\nINDEX([2]!SIXTH_PLAN_SF,\nMATCH($C$9,[2]!APPLIANCES,0),\nMATCH(Z$10,[2]!SIXTH_PLAN_SF_YEARS,0)),\"pre-dates plan\")","v":"pre-dates plan"},{"$f":"IF(ISNUMBER(MATCH(AA10,[2]!SIXTH_PLAN_SF_YEARS,0)),\nINDEX([2]!SIXTH_PLAN_SF,\nMATCH($C$9,[2]!APPLIANCES,0),\nMATCH(AA$10,[2]!SIXTH_PLAN_SF_YEARS,0)),\"pre-dates plan\")","v":"pre-dates plan"},{"$f":"IF(ISNUMBER(MATCH(AB10,[2]!SIXTH_PLAN_SF_YEARS,0)),\nINDEX([2]!SIXTH_PLAN_SF,\nMATCH($C$9,[2]!APPLIANCES,0),\nMATCH(AB$10,[2]!SIXTH_PLAN_SF_YEARS,0)),\"pre-dates plan\")","v":"pre-dates plan"},{"$f":"IF(ISNUMBER(MATCH(AC10,[2]!SIXTH_PLAN_SF_YEARS,0)),\nINDEX([2]!SIXTH_PLAN_SF,\nMATCH($C$9,[2]!APPLIANCES,0),\nMATCH(AC$10,[2]!SIXTH_PLAN_SF_YEARS,0)),\"pre-dates plan\")","v":"pre-dates plan"},{"$f":"IF(ISNUMBER(MATCH(AD10,[2]!SIXTH_PLAN_SF_YEARS,0)),\nINDEX([2]!SIXTH_PLAN_SF,\nMATCH($C$9,[2]!APPLIANCES,0),\nMATCH(AD$10,[2]!SIXTH_PLAN_SF_YEARS,0)),\"pre-dates plan\")","v":"pre-dates plan"},{"$f":"IF(ISNUMBER(MATCH(AE10,[2]!SIXTH_PLAN_SF_YEARS,0)),\nINDEX([2]!SIXTH_PLAN_SF,\nMATCH($C$9,[2]!APPLIANCES,0),\nMATCH(AE$10,[2]!SIXTH_PLAN_SF_YEARS,0)),\"pre-dates plan\")","v":"pre-dates plan"},{"$f":"IF(ISNUMBER(MATCH(AF10,[2]!SIXTH_PLAN_SF_YEARS,0)),\nINDEX([2]!SIXTH_PLAN_SF,\nMATCH($C$9,[2]!APPLIANCES,0),\nMATCH(AF$10,[2]!SIXTH_PLAN_SF_YEARS,0)),\"pre-dates plan\")","v":"pre-dates plan"},{"$f":"IF(ISNUMBER(MATCH(AG10,[2]!SIXTH_PLAN_SF_YEARS,0)),\nINDEX([2]!SIXTH_PLAN_SF,\nMATCH($C$9,[2]!APPLIANCES,0),\nMATCH(AG$10,[2]!SIXTH_PLAN_SF_YEARS,0)),\"pre-dates plan\")","v":"pre-dates plan"},{"$f":"IF(ISNUMBER(MATCH(AH10,[2]!SIXTH_PLAN_SF_YEARS,0)),\nINDEX([2]!SIXTH_PLAN_SF,\nMATCH($C$9,[2]!APPLIANCES,0),\nMATCH(AH$10,[2]!SIXTH_PLAN_SF_YEARS,0)),\"pre-dates plan\")","v":205558.35415872282},{"$f":"IF(ISNUMBER(MATCH(AI10,[2]!SIXTH_PLAN_SF_YEARS,0)),\nINDEX([2]!SIXTH_PLAN_SF,\nMATCH($C$9,[2]!APPLIANCES,0),\nMATCH(AI$10,[2]!SIXTH_PLAN_SF_YEARS,0)),\"pre-dates plan\")","v":219017.92851581212},{"$f":"IF(ISNUMBER(MATCH(AJ10,[2]!SIXTH_PLAN_SF_YEARS,0)),\nINDEX([2]!SIXTH_PLAN_SF,\nMATCH($C$9,[2]!APPLIANCES,0),\nMATCH(AJ$10,[2]!SIXTH_PLAN_SF_YEARS,0)),\"pre-dates plan\")","v":226757.94123086293},{"$f":"IF(ISNUMBER(MATCH(AK10,[2]!SIXTH_PLAN_SF_YEARS,0)),\nINDEX([2]!SIXTH_PLAN_SF,\nMATCH($C$9,[2]!APPLIANCES,0),\nMATCH(AK$10,[2]!SIXTH_PLAN_SF_YEARS,0)),\"pre-dates plan\")","v":228191.18318438},{"$f":"IF(ISNUMBER(MATCH(AL10,[2]!SIXTH_PLAN_SF_YEARS,0)),\nINDEX([2]!SIXTH_PLAN_SF,\nMATCH($C$9,[2]!APPLIANCES,0),\nMATCH(AL$10,[2]!SIXTH_PLAN_SF_YEARS,0)),\"pre-dates plan\")","v":227781.48093049668},{"$f":"IF(ISNUMBER(MATCH(AM10,[2]!SIXTH_PLAN_SF_YEARS,0)),\nINDEX([2]!SIXTH_PLAN_SF,\nMATCH($C$9,[2]!APPLIANCES,0),\nMATCH(AM$10,[2]!SIXTH_PLAN_SF_YEARS,0)),\"pre-dates plan\")","v":227960.70921498735},{"$f":"IF(ISNUMBER(MATCH(AN10,[2]!SIXTH_PLAN_SF_YEARS,0)),\nINDEX([2]!SIXTH_PLAN_SF,\nMATCH($C$9,[2]!APPLIANCES,0),\nMATCH(AN$10,[2]!SIXTH_PLAN_SF_YEARS,0)),\"pre-dates plan\")","v":228146.92865545137},{"$f":"IF(ISNUMBER(MATCH(AO10,[2]!SIXTH_PLAN_SF_YEARS,0)),\nINDEX([2]!SIXTH_PLAN_SF,\nMATCH($C$9,[2]!APPLIANCES,0),\nMATCH(AO$10,[2]!SIXTH_PLAN_SF_YEARS,0)),\"pre-dates plan\")","v":227130.14357792155},{"$f":"IF(ISNUMBER(MATCH(AP10,[2]!SIXTH_PLAN_SF_YEARS,0)),\nINDEX([2]!SIXTH_PLAN_SF,\nMATCH($C$9,[2]!APPLIANCES,0),\nMATCH(AP$10,[2]!SIXTH_PLAN_SF_YEARS,0)),\"pre-dates plan\")","v":225994.32269736912},{"$f":"IF(ISNUMBER(MATCH(AQ10,[2]!SIXTH_PLAN_SF_YEARS,0)),\nINDEX([2]!SIXTH_PLAN_SF,\nMATCH($C$9,[2]!APPLIANCES,0),\nMATCH(AQ$10,[2]!SIXTH_PLAN_SF_YEARS,0)),\"pre-dates plan\")","v":224770.2052017689},{"$f":"IF(ISNUMBER(MATCH(AR10,[2]!SIXTH_PLAN_SF_YEARS,0)),\nINDEX([2]!SIXTH_PLAN_SF,\nMATCH($C$9,[2]!APPLIANCES,0),\nMATCH(AR$10,[2]!SIXTH_PLAN_SF_YEARS,0)),\"pre-dates plan\")","v":223845.74652877738},{"$f":"IF(ISNUMBER(MATCH(AS10,[2]!SIXTH_PLAN_SF_YEARS,0)),\nINDEX([2]!SIXTH_PLAN_SF,\nMATCH($C$9,[2]!APPLIANCES,0),\nMATCH(AS$10,[2]!SIXTH_PLAN_SF_YEARS,0)),\"pre-dates plan\")","v":222440.67584313729},{"$f":"IF(ISNUMBER(MATCH(AT10,[2]!SIXTH_PLAN_SF_YEARS,0)),\nINDEX([2]!SIXTH_PLAN_SF,\nMATCH($C$9,[2]!APPLIANCES,0),\nMATCH(AT$10,[2]!SIXTH_PLAN_SF_YEARS,0)),\"pre-dates plan\")","v":224081.21249699945},{"$f":"IF(ISNUMBER(MATCH(AU10,[2]!SIXTH_PLAN_SF_YEARS,0)),\nINDEX([2]!SIXTH_PLAN_SF,\nMATCH($C$9,[2]!APPLIANCES,0),\nMATCH(AU$10,[2]!SIXTH_PLAN_SF_YEARS,0)),\"pre-dates plan\")","v":223377.36612049473},{"$f":"IF(ISNUMBER(MATCH(AV10,[2]!SIXTH_PLAN_SF_YEARS,0)),\nINDEX([2]!SIXTH_PLAN_SF,\nMATCH($C$9,[2]!APPLIANCES,0),\nMATCH(AV$10,[2]!SIXTH_PLAN_SF_YEARS,0)),\"pre-dates plan\")","v":222570.81588102595},{"$f":"IF(ISNUMBER(MATCH(AW10,[2]!SIXTH_PLAN_SF_YEARS,0)),\nINDEX([2]!SIXTH_PLAN_SF,\nMATCH($C$9,[2]!APPLIANCES,0),\nMATCH(AW$10,[2]!SIXTH_PLAN_SF_YEARS,0)),\"pre-dates plan\")","v":222391.86499675148},{"$f":"IF(ISNUMBER(MATCH(AX10,[2]!SIXTH_PLAN_SF_YEARS,0)),\nINDEX([2]!SIXTH_PLAN_SF,\nMATCH($C$9,[2]!APPLIANCES,0),\nMATCH(AX$10,[2]!SIXTH_PLAN_SF_YEARS,0)),\"pre-dates plan\")","v":221916.40008197122},{"$f":"IF(ISNUMBER(MATCH(AY10,[2]!SIXTH_PLAN_SF_YEARS,0)),\nINDEX([2]!SIXTH_PLAN_SF,\nMATCH($C$9,[2]!APPLIANCES,0),\nMATCH(AY$10,[2]!SIXTH_PLAN_SF_YEARS,0)),\"pre-dates plan\")","v":220900.0248166768},{"$f":"IF(ISNUMBER(MATCH(AZ10,[2]!SIXTH_PLAN_SF_YEARS,0)),\nINDEX([2]!SIXTH_PLAN_SF,\nMATCH($C$9,[2]!APPLIANCES,0),\nMATCH(AZ$10,[2]!SIXTH_PLAN_SF_YEARS,0)),\"pre-dates plan\")","v":219577.35600768364},{"$f":"IF(ISNUMBER(MATCH(BA10,[2]!SIXTH_PLAN_SF_YEARS,0)),\nINDEX([2]!SIXTH_PLAN_SF,\nMATCH($C$9,[2]!APPLIANCES,0),\nMATCH(BA$10,[2]!SIXTH_PLAN_SF_YEARS,0)),\"pre-dates plan\")","v":218675.52918926626},{"$f":"IF(ISNUMBER(MATCH(BB10,[2]!SIXTH_PLAN_SF_YEARS,0)),\nINDEX([2]!SIXTH_PLAN_SF,\nMATCH($C$9,[2]!APPLIANCES,0),\nMATCH(BB$10,[2]!SIXTH_PLAN_SF_YEARS,0)),\"pre-dates plan\")","v":48374.491154703632},{"$f":"IF(ISNUMBER(MATCH(BC10,[2]!SIXTH_PLAN_SF_YEARS,0)),\nINDEX([2]!SIXTH_PLAN_SF,\nMATCH($C$9,[2]!APPLIANCES,0),\nMATCH(BC$10,[2]!SIXTH_PLAN_SF_YEARS,0)),\"pre-dates plan\")","v":48374.491154703632},{"$f":"IF(ISNUMBER(MATCH(BD10,[2]!SIXTH_PLAN_SF_YEARS,0)),\nINDEX([2]!SIXTH_PLAN_SF,\nMATCH($C$9,[2]!APPLIANCES,0),\nMATCH(BD$10,[2]!SIXTH_PLAN_SF_YEARS,0)),\"pre-dates plan\")","v":48374.491154703632},{"$f":"IF(ISNUMBER(MATCH(BE10,[2]!SIXTH_PLAN_SF_YEARS,0)),\nINDEX([2]!SIXTH_PLAN_SF,\nMATCH($C$9,[2]!APPLIANCES,0),\nMATCH(BE$10,[2]!SIXTH_PLAN_SF_YEARS,0)),\"pre-dates plan\")","v":48374.491154703632},{"$f":"IF(ISNUMBER(MATCH(BF10,[2]!SIXTH_PLAN_SF_YEARS,0)),\nINDEX([2]!SIXTH_PLAN_SF,\nMATCH($C$9,[2]!APPLIANCES,0),\nMATCH(BF$10,[2]!SIXTH_PLAN_SF_YEARS,0)),\"pre-dates plan\")","v":48374.491154703632}]
[null,null,"Replacement Shipments","(units)",{"$f":"INDEX([2]!SHIPMENTS_SF,\n((MATCH($C$9,[2]!APPLIANCES,0)-1)*2)+1,\nMATCH(E$10,[2]!SHIPMENTS_SF_YEARS,0))","v":137252.74779222804},{"$f":"INDEX([2]!SHIPMENTS_SF,\n((MATCH($C$9,[2]!APPLIANCES,0)-1)*2)+1,\nMATCH(F$10,[2]!SHIPMENTS_SF_YEARS,0))","v":137252.74779222804},{"$f":"INDEX([2]!SHIPMENTS_SF,\n((MATCH($C$9,[2]!APPLIANCES,0)-1)*2)+1,\nMATCH(G$10,[2]!SHIPMENTS_SF_YEARS,0))","v":137252.74779222804},{"$f":"INDEX([2]!SHIPMENTS_SF,\n((MATCH($C$9,[2]!APPLIANCES,0)-1)*2)+1,\nMATCH(H$10,[2]!SHIPMENTS_SF_YEARS,0))","v":137252.74779222804},{"$f":"INDEX([2]!SHIPMENTS_SF,\n((MATCH($C$9,[2]!APPLIANCES,0)-1)*2)+1,\nMATCH(I$10,[2]!SHIPMENTS_SF_YEARS,0))","v":137252.74779222804},{"$f":"INDEX([2]!SHIPMENTS_SF,\n((MATCH($C$9,[2]!APPLIANCES,0)-1)*2)+1,\nMATCH(J$10,[2]!SHIPMENTS_SF_YEARS,0))","v":137252.74779222804},{"$f":"INDEX([2]!SHIPMENTS_SF,\n((MATCH($C$9,[2]!APPLIANCES,0)-1)*2)+1,\nMATCH(K$10,[2]!SHIPMENTS_SF_YEARS,0))","v":137252.74779222804},{"$f":"INDEX([2]!SHIPMENTS_SF,\n((MATCH($C$9,[2]!APPLIANCES,0)-1)*2)+1,\nMATCH(L$10,[2]!SHIPMENTS_SF_YEARS,0))","v":137252.74779222804},{"$f":"INDEX([2]!SHIPMENTS_SF,\n((MATCH($C$9,[2]!APPLIANCES,0)-1)*2)+1,\nMATCH(M$10,[2]!SHIPMENTS_SF_YEARS,0))","v":137252.74779222804},{"$f":"INDEX([2]!SHIPMENTS_SF,\n((MATCH($C$9,[2]!APPLIANCES,0)-1)*2)+1,\nMATCH(N$10,[2]!SHIPMENTS_SF_YEARS,0))","v":137252.74779222804},{"$f":"INDEX([2]!SHIPMENTS_SF,\n((MATCH($C$9,[2]!APPLIANCES,0)-1)*2)+1,\nMATCH(O$10,[2]!SHIPMENTS_SF_YEARS,0))","v":137252.74779222804},{"$f":"INDEX([2]!SHIPMENTS_SF,\n((MATCH($C$9,[2]!APPLIANCES,0)-1)*2)+1,\nMATCH(P$10,[2]!SHIPMENTS_SF_YEARS,0))","v":137252.74779222804},{"$f":"INDEX([2]!SHIPMENTS_SF,\n((MATCH($C$9,[2]!APPLIANCES,0)-1)*2)+1,\nMATCH(Q$10,[2]!SHIPMENTS_SF_YEARS,0))","v":137252.74779222804},{"$f":"INDEX([2]!SHIPMENTS_SF,\n((MATCH($C$9,[2]!APPLIANCES,0)-1)*2)+1,\nMATCH(R$10,[2]!SHIPMENTS_SF_YEARS,0))","v":137252.74779222804},{"$f":"INDEX([2]!SHIPMENTS_SF,\n((MATCH($C$9,[2]!APPLIANCES,0)-1)*2)+1,\nMATCH(S$10,[2]!SHIPMENTS_SF_YEARS,0))","v":137252.74779222804},{"$f":"INDEX([2]!SHIPMENTS_SF,\n((MATCH($C$9,[2]!APPLIANCES,0)-1)*2)+1,\nMATCH(T$10,[2]!SHIPMENTS_SF_YEARS,0))","v":137252.74779222804},{"$f":"INDEX([2]!SHIPMENTS_SF,\n((MATCH($C$9,[2]!APPLIANCES,0)-1)*2)+1,\nMATCH(U$10,[2]!SHIPMENTS_SF_YEARS,0))","v":137252.74779222804},{"$f":"INDEX([2]!SHIPMENTS_SF,\n((MATCH($C$9,[2]!APPLIANCES,0)-1)*2)+1,\nMATCH(V$10,[2]!SHIPMENTS_SF_YEARS,0))","v":137252.74779222804},{"$f":"INDEX([2]!SHIPMENTS_SF,\n((MATCH($C$9,[2]!APPLIANCES,0)-1)*2)+1,\nMATCH(W$10,[2]!SHIPMENTS_SF_YEARS,0))","v":137252.74779222804},{"$f":"INDEX([2]!SHIPMENTS_SF,\n((MATCH($C$9,[2]!APPLIANCES,0)-1)*2)+1,\nMATCH(X$10,[2]!SHIPMENTS_SF_YEARS,0))","v":170192.97118909369},{"$f":"INDEX([2]!SHIPMENTS_SF,\n((MATCH($C$9,[2]!APPLIANCES,0)-1)*2)+1,\nMATCH(Y$10,[2]!SHIPMENTS_SF_YEARS,0))","v":159903.41261462626},{"$f":"INDEX([2]!SHIPMENTS_SF,\n((MATCH($C$9,[2]!APPLIANCES,0)-1)*2)+1,\nMATCH(Z$10,[2]!SHIPMENTS_SF_YEARS,0))","v":172383.90836802303},{"$f":"INDEX([2]!SHIPMENTS_SF,\n((MATCH($C$9,[2]!APPLIANCES,0)-1)*2)+1,\nMATCH(AA$10,[2]!SHIPMENTS_SF_YEARS,0))","v":169897.79161746605},{"$f":"INDEX([2]!SHIPMENTS_SF,\n((MATCH($C$9,[2]!APPLIANCES,0)-1)*2)+1,\nMATCH(AB$10,[2]!SHIPMENTS_SF_YEARS,0))","v":168397.03758302089},{"$f":"INDEX([2]!SHIPMENTS_SF,\n((MATCH($C$9,[2]!APPLIANCES,0)-1)*2)+1,\nMATCH(AC$10,[2]!SHIPMENTS_SF_YEARS,0))","v":170890.04218966179},{"$f":"INDEX([2]!SHIPMENTS_SF,\n((MATCH($C$9,[2]!APPLIANCES,0)-1)*2)+1,\nMATCH(AD$10,[2]!SHIPMENTS_SF_YEARS,0))","v":171089.59036811476},{"$f":"INDEX([2]!SHIPMENTS_SF,\n((MATCH($C$9,[2]!APPLIANCES,0)-1)*2)+1,\nMATCH(AE$10,[2]!SHIPMENTS_SF_YEARS,0))","v":174566.85962685329},{"$f":"INDEX([2]!SHIPMENTS_SF,\n((MATCH($C$9,[2]!APPLIANCES,0)-1)*2)+1,\nMATCH(AF$10,[2]!SHIPMENTS_SF_YEARS,0))","v":182240.85364044309},{"$f":"INDEX([2]!SHIPMENTS_SF,\n((MATCH($C$9,[2]!APPLIANCES,0)-1)*2)+1,\nMATCH(AG$10,[2]!SHIPMENTS_SF_YEARS,0))","v":181102.23453099598},{"$f":"INDEX([2]!SHIPMENTS_SF,\n((MATCH($C$9,[2]!APPLIANCES,0)-1)*2)+1,\nMATCH(AH$10,[2]!SHIPMENTS_SF_YEARS,0))","v":182985.91606633124},{"$f":"INDEX([2]!SHIPMENTS_SF,\n((MATCH($C$9,[2]!APPLIANCES,0)-1)*2)+1,\nMATCH(AI$10,[2]!SHIPMENTS_SF_YEARS,0))","v":193902.16972050251},{"$f":"INDEX([2]!SHIPMENTS_SF,\n((MATCH($C$9,[2]!APPLIANCES,0)-1)*2)+1,\nMATCH(AJ$10,[2]!SHIPMENTS_SF_YEARS,0))","v":176141.55762338909},{"$f":"INDEX([2]!SHIPMENTS_SF,\n((MATCH($C$9,[2]!APPLIANCES,0)-1)*2)+1,\nMATCH(AK$10,[2]!SHIPMENTS_SF_YEARS,0))","v":178898.11801938887},{"$f":"INDEX([2]!SHIPMENTS_SF,\n((MATCH($C$9,[2]!APPLIANCES,0)-1)*2)+1,\nMATCH(AL$10,[2]!SHIPMENTS_SF_YEARS,0))","v":170883.21852097372},{"$f":"INDEX([2]!SHIPMENTS_SF,\n((MATCH($C$9,[2]!APPLIANCES,0)-1)*2)+1,\nMATCH(AM$10,[2]!SHIPMENTS_SF_YEARS,0))","v":172416.59491185742},{"$f":"INDEX([2]!SHIPMENTS_SF,\n((MATCH($C$9,[2]!APPLIANCES,0)-1)*2)+1,\nMATCH(AN$10,[2]!SHIPMENTS_SF_YEARS,0))","v":171091.09216325957},{"$f":"INDEX([2]!SHIPMENTS_SF,\n((MATCH($C$9,[2]!APPLIANCES,0)-1)*2)+1,\nMATCH(AO$10,[2]!SHIPMENTS_SF_YEARS,0))","v":172306.17238173672},{"$f":"INDEX([2]!SHIPMENTS_SF,\n((MATCH($C$9,[2]!APPLIANCES,0)-1)*2)+1,\nMATCH(AP$10,[2]!SHIPMENTS_SF_YEARS,0))","v":170105.08806127906},{"$f":"INDEX([2]!SHIPMENTS_SF,\n((MATCH($C$9,[2]!APPLIANCES,0)-1)*2)+1,\nMATCH(AQ$10,[2]!SHIPMENTS_SF_YEARS,0))","v":197436.02254571521},{"$f":"INDEX([2]!SHIPMENTS_SF,\n((MATCH($C$9,[2]!APPLIANCES,0)-1)*2)+1,\nMATCH(AR$10,[2]!SHIPMENTS_SF_YEARS,0))","v":187429.98423026816},{"$f":"INDEX([2]!SHIPMENTS_SF,\n((MATCH($C$9,[2]!APPLIANCES,0)-1)*2)+1,\nMATCH(AS$10,[2]!SHIPMENTS_SF_YEARS,0))","v":205639.04925371372},{"$f":"INDEX([2]!SHIPMENTS_SF,\n((MATCH($C$9,[2]!APPLIANCES,0)-1)*2)+1,\nMATCH(AT$10,[2]!SHIPMENTS_SF_YEARS,0))","v":208602.37413104661},{"$f":"INDEX([2]!SHIPMENTS_SF,\n((MATCH($C$9,[2]!APPLIANCES,0)-1)*2)+1,\nMATCH(AU$10,[2]!SHIPMENTS_SF_YEARS,0))","v":209335.90493533658},{"$f":"INDEX([2]!SHIPMENTS_SF,\n((MATCH($C$9,[2]!APPLIANCES,0)-1)*2)+1,\nMATCH(AV$10,[2]!SHIPMENTS_SF_YEARS,0))","v":218233.01963763582},{"$f":"INDEX([2]!SHIPMENTS_SF,\n((MATCH($C$9,[2]!APPLIANCES,0)-1)*2)+1,\nMATCH(AW$10,[2]!SHIPMENTS_SF_YEARS,0))","v":209337.83871461533},{"$f":"INDEX([2]!SHIPMENTS_SF,\n((MATCH($C$9,[2]!APPLIANCES,0)-1)*2)+1,\nMATCH(AX$10,[2]!SHIPMENTS_SF_YEARS,0))","v":195563.89310754222},{"$f":"INDEX([2]!SHIPMENTS_SF,\n((MATCH($C$9,[2]!APPLIANCES,0)-1)*2)+1,\nMATCH(AY$10,[2]!SHIPMENTS_SF_YEARS,0))","v":182240.85364044309},{"$f":"INDEX([2]!SHIPMENTS_SF,\n((MATCH($C$9,[2]!APPLIANCES,0)-1)*2)+1,\nMATCH(AZ$10,[2]!SHIPMENTS_SF_YEARS,0))","v":181102.23453099598},{"$f":"INDEX([2]!SHIPMENTS_SF,\n((MATCH($C$9,[2]!APPLIANCES,0)-1)*2)+1,\nMATCH(BA$10,[2]!SHIPMENTS_SF_YEARS,0))","v":188451.53822115567},{"$f":"INDEX([2]!SHIPMENTS_SF,\n((MATCH($C$9,[2]!APPLIANCES,0)-1)*2)+1,\nMATCH(BB$10,[2]!SHIPMENTS_SF_YEARS,0))","v":212638.37349088344},{"$f":"INDEX([2]!SHIPMENTS_SF,\n((MATCH($C$9,[2]!APPLIANCES,0)-1)*2)+1,\nMATCH(BC$10,[2]!SHIPMENTS_SF_YEARS,0))","v":234765.61977812363},{"$f":"INDEX([2]!SHIPMENTS_SF,\n((MATCH($C$9,[2]!APPLIANCES,0)-1)*2)+1,\nMATCH(BD$10,[2]!SHIPMENTS_SF_YEARS,0))","v":239005.31497556844},{"$f":"INDEX([2]!SHIPMENTS_SF,\n((MATCH($C$9,[2]!APPLIANCES,0)-1)*2)+1,\nMATCH(BE$10,[2]!SHIPMENTS_SF_YEARS,0))","v":230566.45100313416},{"$f":"INDEX([2]!SHIPMENTS_SF,\n((MATCH($C$9,[2]!APPLIANCES,0)-1)*2)+1,\nMATCH(BF$10,[2]!SHIPMENTS_SF_YEARS,0))","v":232285.29482711889}]
[null,null,"Net New Shipments","(units)",{"$f":"INDEX([2]!SHIPMENTS_SF,\n((MATCH($C$9,[2]!APPLIANCES,0)-1)*2)+2,\nMATCH(E$10,[2]!SHIPMENTS_SF_YEARS,0))","v":32940.223396865651},{"$f":"INDEX([2]!SHIPMENTS_SF,\n((MATCH($C$9,[2]!APPLIANCES,0)-1)*2)+2,\nMATCH(F$10,[2]!SHIPMENTS_SF_YEARS,0))","v":22650.664822398219},{"$f":"INDEX([2]!SHIPMENTS_SF,\n((MATCH($C$9,[2]!APPLIANCES,0)-1)*2)+2,\nMATCH(G$10,[2]!SHIPMENTS_SF_YEARS,0))","v":35131.160575794987},{"$f":"INDEX([2]!SHIPMENTS_SF,\n((MATCH($C$9,[2]!APPLIANCES,0)-1)*2)+2,\nMATCH(H$10,[2]!SHIPMENTS_SF_YEARS,0))","v":32645.043825238012},{"$f":"INDEX([2]!SHIPMENTS_SF,\n((MATCH($C$9,[2]!APPLIANCES,0)-1)*2)+2,\nMATCH(I$10,[2]!SHIPMENTS_SF_YEARS,0))","v":31144.289790792856},{"$f":"INDEX([2]!SHIPMENTS_SF,\n((MATCH($C$9,[2]!APPLIANCES,0)-1)*2)+2,\nMATCH(J$10,[2]!SHIPMENTS_SF_YEARS,0))","v":33637.294397433754},{"$f":"INDEX([2]!SHIPMENTS_SF,\n((MATCH($C$9,[2]!APPLIANCES,0)-1)*2)+2,\nMATCH(K$10,[2]!SHIPMENTS_SF_YEARS,0))","v":33836.842575886752},{"$f":"INDEX([2]!SHIPMENTS_SF,\n((MATCH($C$9,[2]!APPLIANCES,0)-1)*2)+2,\nMATCH(L$10,[2]!SHIPMENTS_SF_YEARS,0))","v":37314.111834625248},{"$f":"INDEX([2]!SHIPMENTS_SF,\n((MATCH($C$9,[2]!APPLIANCES,0)-1)*2)+2,\nMATCH(M$10,[2]!SHIPMENTS_SF_YEARS,0))","v":45852.258307567332},{"$f":"INDEX([2]!SHIPMENTS_SF,\n((MATCH($C$9,[2]!APPLIANCES,0)-1)*2)+2,\nMATCH(N$10,[2]!SHIPMENTS_SF_YEARS,0))","v":52207.15404967498},{"$f":"INDEX([2]!SHIPMENTS_SF,\n((MATCH($C$9,[2]!APPLIANCES,0)-1)*2)+2,\nMATCH(O$10,[2]!SHIPMENTS_SF_YEARS,0))","v":45733.168274103198},{"$f":"INDEX([2]!SHIPMENTS_SF,\n((MATCH($C$9,[2]!APPLIANCES,0)-1)*2)+2,\nMATCH(P$10,[2]!SHIPMENTS_SF_YEARS,0))","v":56649.421928274482},{"$f":"INDEX([2]!SHIPMENTS_SF,\n((MATCH($C$9,[2]!APPLIANCES,0)-1)*2)+2,\nMATCH(Q$10,[2]!SHIPMENTS_SF_YEARS,0))","v":38888.809831161052},{"$f":"INDEX([2]!SHIPMENTS_SF,\n((MATCH($C$9,[2]!APPLIANCES,0)-1)*2)+2,\nMATCH(R$10,[2]!SHIPMENTS_SF_YEARS,0))","v":41645.370227160864},{"$f":"INDEX([2]!SHIPMENTS_SF,\n((MATCH($C$9,[2]!APPLIANCES,0)-1)*2)+2,\nMATCH(S$10,[2]!SHIPMENTS_SF_YEARS,0))","v":33630.470728745684},{"$f":"INDEX([2]!SHIPMENTS_SF,\n((MATCH($C$9,[2]!APPLIANCES,0)-1)*2)+2,\nMATCH(T$10,[2]!SHIPMENTS_SF_YEARS,0))","v":35163.847119629383},{"$f":"INDEX([2]!SHIPMENTS_SF,\n((MATCH($C$9,[2]!APPLIANCES,0)-1)*2)+2,\nMATCH(U$10,[2]!SHIPMENTS_SF_YEARS,0))","v":33838.344371031504},{"$f":"INDEX([2]!SHIPMENTS_SF,\n((MATCH($C$9,[2]!APPLIANCES,0)-1)*2)+2,\nMATCH(V$10,[2]!SHIPMENTS_SF_YEARS,0))","v":35053.424589508679},{"$f":"INDEX([2]!SHIPMENTS_SF,\n((MATCH($C$9,[2]!APPLIANCES,0)-1)*2)+2,\nMATCH(W$10,[2]!SHIPMENTS_SF_YEARS,0))","v":32852.340269051027},{"$f":"INDEX([2]!SHIPMENTS_SF,\n((MATCH($C$9,[2]!APPLIANCES,0)-1)*2)+2,\nMATCH(X$10,[2]!SHIPMENTS_SF_YEARS,0))","v":27243.051356621552},{"$f":"INDEX([2]!SHIPMENTS_SF,\n((MATCH($C$9,[2]!APPLIANCES,0)-1)*2)+2,\nMATCH(Y$10,[2]!SHIPMENTS_SF_YEARS,0))","v":27526.571615641937},{"$f":"INDEX([2]!SHIPMENTS_SF,\n((MATCH($C$9,[2]!APPLIANCES,0)-1)*2)+2,\nMATCH(Z$10,[2]!SHIPMENTS_SF_YEARS,0))","v":33255.140885690693},{"$f":"INDEX([2]!SHIPMENTS_SF,\n((MATCH($C$9,[2]!APPLIANCES,0)-1)*2)+2,\nMATCH(AA$10,[2]!SHIPMENTS_SF_YEARS,0))","v":38704.582513580564},{"$f":"INDEX([2]!SHIPMENTS_SF,\n((MATCH($C$9,[2]!APPLIANCES,0)-1)*2)+2,\nMATCH(AB$10,[2]!SHIPMENTS_SF_YEARS,0))","v":40938.86735231569},{"$f":"INDEX([2]!SHIPMENTS_SF,\n((MATCH($C$9,[2]!APPLIANCES,0)-1)*2)+2,\nMATCH(AC$10,[2]!SHIPMENTS_SF_YEARS,0))","v":47342.97744797403},{"$f":"INDEX([2]!SHIPMENTS_SF,\n((MATCH($C$9,[2]!APPLIANCES,0)-1)*2)+2,\nMATCH(AD$10,[2]!SHIPMENTS_SF_YEARS,0))","v":38248.248346500564},{"$f":"INDEX([2]!SHIPMENTS_SF,\n((MATCH($C$9,[2]!APPLIANCES,0)-1)*2)+2,\nMATCH(AE$10,[2]!SHIPMENTS_SF_YEARS,0))","v":20997.03348068893},{"$f":"INDEX([2]!SHIPMENTS_SF,\n((MATCH($C$9,[2]!APPLIANCES,0)-1)*2)+2,\nMATCH(AF$10,[2]!SHIPMENTS_SF_YEARS,0))","v":0},{"$f":"INDEX([2]!SHIPMENTS_SF,\n((MATCH($C$9,[2]!APPLIANCES,0)-1)*2)+2,\nMATCH(AG$10,[2]!SHIPMENTS_SF_YEARS,0))","v":0},{"$f":"INDEX([2]!SHIPMENTS_SF,\n((MATCH($C$9,[2]!APPLIANCES,0)-1)*2)+2,\nMATCH(AH$10,[2]!SHIPMENTS_SF_YEARS,0))","v":5465.6221548244357},{"$f":"INDEX([2]!SHIPMENTS_SF,\n((MATCH($C$9,[2]!APPLIANCES,0)-1)*2)+2,\nMATCH(AI$10,[2]!SHIPMENTS_SF_YEARS,0))","v":18736.203770380933},{"$f":"INDEX([2]!SHIPMENTS_SF,\n((MATCH($C$9,[2]!APPLIANCES,0)-1)*2)+2,\nMATCH(AJ$10,[2]!SHIPMENTS_SF_YEARS,0))","v":58624.062154734507},{"$f":"INDEX([2]!SHIPMENTS_SF,\n((MATCH($C$9,[2]!APPLIANCES,0)-1)*2)+2,\nMATCH(AK$10,[2]!SHIPMENTS_SF_YEARS,0))","v":60107.19695617957},{"$f":"INDEX([2]!SHIPMENTS_SF,\n((MATCH($C$9,[2]!APPLIANCES,0)-1)*2)+2,\nMATCH(AL$10,[2]!SHIPMENTS_SF_YEARS,0))","v":59683.232482160442},{"$f":"INDEX([2]!SHIPMENTS_SF,\n((MATCH($C$9,[2]!APPLIANCES,0)-1)*2)+2,\nMATCH(AM$10,[2]!SHIPMENTS_SF_YEARS,0))","v":59868.699915261474},{"$f":"INDEX([2]!SHIPMENTS_SF,\n((MATCH($C$9,[2]!APPLIANCES,0)-1)*2)+2,\nMATCH(AN$10,[2]!SHIPMENTS_SF_YEARS,0))","v":60061.40187474573},{"$f":"INDEX([2]!SHIPMENTS_SF,\n((MATCH($C$9,[2]!APPLIANCES,0)-1)*2)+2,\nMATCH(AO$10,[2]!SHIPMENTS_SF_YEARS,0))","v":59009.221305809922},{"$f":"INDEX([2]!SHIPMENTS_SF,\n((MATCH($C$9,[2]!APPLIANCES,0)-1)*2)+2,\nMATCH(AP$10,[2]!SHIPMENTS_SF_YEARS,0))","v":57833.861156728584},{"$f":"INDEX([2]!SHIPMENTS_SF,\n((MATCH($C$9,[2]!APPLIANCES,0)-1)*2)+2,\nMATCH(AQ$10,[2]!SHIPMENTS_SF_YEARS,0))","v":56567.130682975054},{"$f":"INDEX([2]!SHIPMENTS_SF,\n((MATCH($C$9,[2]!APPLIANCES,0)-1)*2)+2,\nMATCH(AR$10,[2]!SHIPMENTS_SF_YEARS,0))","v":55610.490509941708},{"$f":"INDEX([2]!SHIPMENTS_SF,\n((MATCH($C$9,[2]!APPLIANCES,0)-1)*2)+2,\nMATCH(AS$10,[2]!SHIPMENTS_SF_YEARS,0))","v":54156.507651534397},{"$f":"INDEX([2]!SHIPMENTS_SF,\n((MATCH($C$9,[2]!APPLIANCES,0)-1)*2)+2,\nMATCH(AT$10,[2]!SHIPMENTS_SF_YEARS,0))","v":53194.431740070228},{"$f":"INDEX([2]!SHIPMENTS_SF,\n((MATCH($C$9,[2]!APPLIANCES,0)-1)*2)+2,\nMATCH(AU$10,[2]!SHIPMENTS_SF_YEARS,0))","v":52500.766881478019},{"$f":"INDEX([2]!SHIPMENTS_SF,\n((MATCH($C$9,[2]!APPLIANCES,0)-1)*2)+2,\nMATCH(AV$10,[2]!SHIPMENTS_SF_YEARS,0))","v":51705.883826759644},{"$f":"INDEX([2]!SHIPMENTS_SF,\n((MATCH($C$9,[2]!APPLIANCES,0)-1)*2)+2,\nMATCH(AW$10,[2]!SHIPMENTS_SF_YEARS,0))","v":51529.521563660353},{"$f":"INDEX([2]!SHIPMENTS_SF,\n((MATCH($C$9,[2]!APPLIANCES,0)-1)*2)+2,\nMATCH(AX$10,[2]!SHIPMENTS_SF_YEARS,0))","v":51060.934505621903},{"$f":"INDEX([2]!SHIPMENTS_SF,\n((MATCH($C$9,[2]!APPLIANCES,0)-1)*2)+2,\nMATCH(AY$10,[2]!SHIPMENTS_SF_YEARS,0))","v":50059.261657383293},{"$f":"INDEX([2]!SHIPMENTS_SF,\n((MATCH($C$9,[2]!APPLIANCES,0)-1)*2)+2,\nMATCH(AZ$10,[2]!SHIPMENTS_SF_YEARS,0))","v":48755.72596695181},{"$f":"INDEX([2]!SHIPMENTS_SF,\n((MATCH($C$9,[2]!APPLIANCES,0)-1)*2)+2,\nMATCH(BA$10,[2]!SHIPMENTS_SF_YEARS,0))","v":47866.944560448639},{"$f":"INDEX([2]!SHIPMENTS_SF,\n((MATCH($C$9,[2]!APPLIANCES,0)-1)*2)+2,\nMATCH(BB$10,[2]!SHIPMENTS_SF_YEARS,0))","v":47674.728017953224},{"$f":"INDEX([2]!SHIPMENTS_SF,\n((MATCH($C$9,[2]!APPLIANCES,0)-1)*2)+2,\nMATCH(BC$10,[2]!SHIPMENTS_SF_YEARS,0))","v":48151.475298133679},{"$f":"INDEX([2]!SHIPMENTS_SF,\n((MATCH($C$9,[2]!APPLIANCES,0)-1)*2)+2,\nMATCH(BD$10,[2]!SHIPMENTS_SF_YEARS,0))","v":48632.990051114},{"$f":"INDEX([2]!SHIPMENTS_SF,\n((MATCH($C$9,[2]!APPLIANCES,0)-1)*2)+2,\nMATCH(BE$10,[2]!SHIPMENTS_SF_YEARS,0))","v":49119.31995162461},{"$f":"INDEX([2]!SHIPMENTS_SF,\n((MATCH($C$9,[2]!APPLIANCES,0)-1)*2)+2,\nMATCH(BF$10,[2]!SHIPMENTS_SF_YEARS,0))","v":49610.513151141815}]
[null,null,"Total Model Shipments","(units)",{"$f":"SUM(E12:E13)","v":170192.97118909369},{"$f":"SUM(F12:F13)","v":159903.41261462626},172383.90836802303,169897.79161746605,168397.03758302089,170890.04218966179,171089.59036811479,174566.85962685329,183105.00609979537,189459.90184190302,182985.91606633124,193902.16972050251,176141.55762338909,178898.1180193889,170883.21852097372,172416.59491185742,171091.09216325954,172306.17238173672,170105.08806127906,197436.02254571524,187429.98423026819,205639.04925371372,208602.37413104661,209335.90493533658,218233.01963763582,209337.83871461533,195563.89310754222,182240.85364044309,181102.23453099598,188451.53822115567,212638.37349088344,234765.6197781236,239005.31497556844,230566.45100313416,232285.29482711889,231152.4940380053,231315.39368754663,227938.94921800765,254003.15322869027,243040.47474020987,259795.55690524812,261796.80587111684,261836.6718168146,269938.90346439544,260867.36027827568,246624.82761316412,232300.11529782639,229857.96049794779,236318.48278160431,260313.10150883667,282917.0950762573,287638.30502668244,279685.77095475874,281895.80797826068]
[null,null,"Model Installed Stock","(units)",{"$f":"INDEX([2]!STOCK_SF,\nMATCH($C$9,[2]!APPLIANCES,0),\nMATCH(E$10,[2]!STOCK_SF_YEARS,0))","v":2640742.4314491986},{"$f":"INDEX([2]!STOCK_SF,\nMATCH($C$9,[2]!APPLIANCES,0),\nMATCH(F$10,[2]!STOCK_SF_YEARS,0))","v":2663393.0962715968},{"$f":"INDEX([2]!STOCK_SF,\nMATCH($C$9,[2]!APPLIANCES,0),\nMATCH(G$10,[2]!STOCK_SF_YEARS,0))","v":2698524.2568473918},{"$f":"INDEX([2]!STOCK_SF,\nMATCH($C$9,[2]!APPLIANCES,0),\nMATCH(H$10,[2]!STOCK_SF_YEARS,0))","v":2731169.3006726298},{"$f":"INDEX([2]!STOCK_SF,\nMATCH($C$9,[2]!APPLIANCES,0),\nMATCH(I$10,[2]!STOCK_SF_YEARS,0))","v":2762313.5904634227},{"$f":"INDEX([2]!STOCK_SF,\nMATCH($C$9,[2]!APPLIANCES,0),\nMATCH(J$10,[2]!STOCK_SF_YEARS,0))","v":2795950.8848608565},{"$f":"INDEX([2]!STOCK_SF,\nMATCH($C$9,[2]!APPLIANCES,0),\nMATCH(K$10,[2]!STOCK_SF_YEARS,0))","v":2829787.7274367432},{"$f":"INDEX([2]!STOCK_SF,\nMATCH($C$9,[2]!APPLIANCES,0),\nMATCH(L$10,[2]!STOCK_SF_YEARS,0))","v":2867101.8392713685},{"$f":"INDEX([2]!STOCK_SF,\nMATCH($C$9,[2]!APPLIANCES,0),\nMATCH(M$10,[2]!STOCK_SF_YEARS,0))","v":2912954.0975789358},{"$f":"INDEX([2]!STOCK_SF,\nMATCH($C$9,[2]!APPLIANCES,0),\nMATCH(N$10,[2]!STOCK_SF_YEARS,0))","v":2965161.2516286108},{"$f":"INDEX([2]!STOCK_SF,\nMATCH($C$9,[2]!APPLIANCES,0),\nMATCH(O$10,[2]!STOCK_SF_YEARS,0))","v":3010894.419902714},{"$f":"INDEX([2]!STOCK_SF,\nMATCH($C$9,[2]!APPLIANCES,0),\nMATCH(P$10,[2]!STOCK_SF_YEARS,0))","v":3067543.8418309884},{"$f":"INDEX([2]!STOCK_SF,\nMATCH($C$9,[2]!APPLIANCES,0),\nMATCH(Q$10,[2]!STOCK_SF_YEARS,0))","v":3106432.6516621495},{"$f":"INDEX([2]!STOCK_SF,\nMATCH($C$9,[2]!APPLIANCES,0),\nMATCH(R$10,[2]!STOCK_SF_YEARS,0))","v":3148078.0218893103},{"$f":"INDEX([2]!STOCK_SF,\nMATCH($C$9,[2]!APPLIANCES,0),\nMATCH(S$10,[2]!STOCK_SF_YEARS,0))","v":3181708.492618056},{"$f":"INDEX([2]!STOCK_SF,\nMATCH($C$9,[2]!APPLIANCES,0),\nMATCH(T$10,[2]!STOCK_SF_YEARS,0))","v":3216872.3397376854},{"$f":"INDEX([2]!STOCK_SF,\nMATCH($C$9,[2]!APPLIANCES,0),\nMATCH(U$10,[2]!STOCK_SF_YEARS,0))","v":3250710.6841087169},{"$f":"INDEX([2]!STOCK_SF,\nMATCH($C$9,[2]!APPLIANCES,0),\nMATCH(V$10,[2]!STOCK_SF_YEARS,0))","v":3285764.1086982256},{"$f":"INDEX([2]!STOCK_SF,\nMATCH($C$9,[2]!APPLIANCES,0),\nMATCH(W$10,[2]!STOCK_SF_YEARS,0))","v":3318616.4489672766},{"$f":"INDEX([2]!STOCK_SF,\nMATCH($C$9,[2]!APPLIANCES,0),\nMATCH(X$10,[2]!STOCK_SF_YEARS,0))","v":3345859.5003238982},{"$f":"INDEX([2]!STOCK_SF,\nMATCH($C$9,[2]!APPLIANCES,0),\nMATCH(Y$10,[2]!STOCK_SF_YEARS,0))","v":3373386.0719395401},{"$f":"INDEX([2]!STOCK_SF,\nMATCH($C$9,[2]!APPLIANCES,0),\nMATCH(Z$10,[2]!STOCK_SF_YEARS,0))","v":3406641.2128252308},{"$f":"INDEX([2]!STOCK_SF,\nMATCH($C$9,[2]!APPLIANCES,0),\nMATCH(AA$10,[2]!STOCK_SF_YEARS,0))","v":3445345.7953388114},{"$f":"INDEX([2]!STOCK_SF,\nMATCH($C$9,[2]!APPLIANCES,0),\nMATCH(AB$10,[2]!STOCK_SF_YEARS,0))","v":3486284.662691127},{"$f":"INDEX([2]!STOCK_SF,\nMATCH($C$9,[2]!APPLIANCES,0),\nMATCH(AC$10,[2]!STOCK_SF_YEARS,0))","v":3533627.6401391011},{"$f":"INDEX([2]!STOCK_SF,\nMATCH($C$9,[2]!APPLIANCES,0),\nMATCH(AD$10,[2]!STOCK_SF_YEARS,0))","v":3571875.8884856016},{"$f":"INDEX([2]!STOCK_SF,\nMATCH($C$9,[2]!APPLIANCES,0),\nMATCH(AE$10,[2]!STOCK_SF_YEARS,0))","v":3592872.9219662906},{"$f":"INDEX([2]!STOCK_SF,\nMATCH($C$9,[2]!APPLIANCES,0),\nMATCH(AF$10,[2]!STOCK_SF_YEARS,0))","v":3592008.7695069383},{"$f":"INDEX([2]!STOCK_SF,\nMATCH($C$9,[2]!APPLIANCES,0),\nMATCH(AG$10,[2]!STOCK_SF_YEARS,0))","v":3583651.1021960313},{"$f":"INDEX([2]!STOCK_SF,\nMATCH($C$9,[2]!APPLIANCES,0),\nMATCH(AH$10,[2]!STOCK_SF_YEARS,0))","v":3589116.7243508557},{"$f":"INDEX([2]!STOCK_SF,\nMATCH($C$9,[2]!APPLIANCES,0),\nMATCH(AI$10,[2]!STOCK_SF_YEARS,0))","v":3607852.9281212366},{"$f":"INDEX([2]!STOCK_SF,\nMATCH($C$9,[2]!APPLIANCES,0),\nMATCH(AJ$10,[2]!STOCK_SF_YEARS,0))","v":3666476.9902759711},{"$f":"INDEX([2]!STOCK_SF,\nMATCH($C$9,[2]!APPLIANCES,0),\nMATCH(AK$10,[2]!STOCK_SF_YEARS,0))","v":3726584.1872321507},{"$f":"INDEX([2]!STOCK_SF,\nMATCH($C$9,[2]!APPLIANCES,0),\nMATCH(AL$10,[2]!STOCK_SF_YEARS,0))","v":3786267.4197143111},{"$f":"INDEX([2]!STOCK_SF,\nMATCH($C$9,[2]!APPLIANCES,0),\nMATCH(AM$10,[2]!STOCK_SF_YEARS,0))","v":3846136.1196295726},{"$f":"INDEX([2]!STOCK_SF,\nMATCH($C$9,[2]!APPLIANCES,0),\nMATCH(AN$10,[2]!STOCK_SF_YEARS,0))","v":3906197.5215043183},{"$f":"INDEX([2]!STOCK_SF,\nMATCH($C$9,[2]!APPLIANCES,0),\nMATCH(AO$10,[2]!STOCK_SF_YEARS,0))","v":3965206.7428101283},{"$f":"INDEX([2]!STOCK_SF,\nMATCH($C$9,[2]!APPLIANCES,0),\nMATCH(AP$10,[2]!STOCK_SF_YEARS,0))","v":4023040.6039668568},{"$f":"INDEX([2]!STOCK_SF,\nMATCH($C$9,[2]!APPLIANCES,0),\nMATCH(AQ$10,[2]!STOCK_SF_YEARS,0))","v":4079607.7346498319},{"$f":"INDEX([2]!STOCK_SF,\nMATCH($C$9,[2]!APPLIANCES,0),\nMATCH(AR$10,[2]!STOCK_SF_YEARS,0))","v":4135218.2251597736},{"$f":"INDEX([2]!STOCK_SF,\nMATCH($C$9,[2]!APPLIANCES,0),\nMATCH(AS$10,[2]!STOCK_SF_YEARS,0))","v":4189374.732811308},{"$f":"INDEX([2]!STOCK_SF,\nMATCH($C$9,[2]!APPLIANCES,0),\nMATCH(AT$10,[2]!STOCK_SF_YEARS,0))","v":4242569.1645513782},{"$f":"INDEX([2]!STOCK_SF,\nMATCH($C$9,[2]!APPLIANCES,0),\nMATCH(AU$10,[2]!STOCK_SF_YEARS,0))","v":4295069.9314328562},{"$f":"INDEX([2]!STOCK_SF,\nMATCH($C$9,[2]!APPLIANCES,0),\nMATCH(AV$10,[2]!STOCK_SF_YEARS,0))","v":4346775.8152596159},{"$f":"INDEX([2]!STOCK_SF,\nMATCH($C$9,[2]!APPLIANCES,0),\nMATCH(AW$10,[2]!STOCK_SF_YEARS,0))","v":4398305.3368232762},{"$f":"INDEX([2]!STOCK_SF,\nMATCH($C$9,[2]!APPLIANCES,0),\nMATCH(AX$10,[2]!STOCK_SF_YEARS,0))","v":4449366.2713288981},{"$f":"INDEX([2]!STOCK_SF,\nMATCH($C$9,[2]!APPLIANCES,0),\nMATCH(AY$10,[2]!STOCK_SF_YEARS,0))","v":4499425.5329862814},{"$f":"INDEX([2]!STOCK_SF,\nMATCH($C$9,[2]!APPLIANCES,0),\nMATCH(AZ$10,[2]!STOCK_SF_YEARS,0))","v":4548181.2589532332},{"$f":"INDEX([2]!STOCK_SF,\nMATCH($C$9,[2]!APPLIANCES,0),\nMATCH(BA$10,[2]!STOCK_SF_YEARS,0))","v":4596048.2035136819},{"$f":"INDEX([2]!STOCK_SF,\nMATCH($C$9,[2]!APPLIANCES,0),\nMATCH(BB$10,[2]!STOCK_SF_YEARS,0))","v":4643722.9315316351},{"$f":"INDEX([2]!STOCK_SF,\nMATCH($C$9,[2]!APPLIANCES,0),\nMATCH(BC$10,[2]!STOCK_SF_YEARS,0))","v":4691874.4068297688},{"$f":"INDEX([2]!STOCK_SF,\nMATCH($C$9,[2]!APPLIANCES,0),\nMATCH(BD$10,[2]!STOCK_SF_YEARS,0))","v":4740507.3968808828},{"$f":"INDEX([2]!STOCK_SF,\nMATCH($C$9,[2]!APPLIANCES,0),\nMATCH(BE$10,[2]!STOCK_SF_YEARS,0))","v":4789626.7168325074},{"$f":"INDEX([2]!STOCK_SF,\nMATCH($C$9,[2]!APPLIANCES,0),\nMATCH(BF$10,[2]!STOCK_SF_YEARS,0))","v":4839237.2299836492}]

{"sheet":"Shipments and Stock - MF","index":9,"n_rows":15,"n_cols":58,"rows_kept":15,"cut":false,"hidden":false,"merged":[]}
[]
[null,null,"Shipments and Stock - MF"]
[]
[null,null,"NAVIGATION"]
[]
[null,null,"COMMENTS"]
[]
[]
[null,null,{"$f":"MODEL_NAME","v":"Electric Ovens"}]
[null,null,null,null,1981,1982,1983,1984,1985,1986,1987,1988,1989,1990,1991,1992,1993,1994,1995,1996,1997,1998,1999,2000,2001,2002,2003,2004,2005,2006,2007,2008,2009,2010,2011,2012,2013,2014,2015,2016,2017,2018,2019,2020,2021,2022,2023,2024,2025,2026,2027,2028,2029,2030,2031,2032,2033,2034]
[null,null,"6P Shipments","(units)",{"$f":"IF(ISNUMBER(MATCH(E10,[2]!SIXTH_PLAN_MF_YEARS,0)),\nINDEX([2]!SIXTH_PLAN_MF,\nMATCH($C$9,[2]!APPLIANCES,0),\nMATCH(E$10,[2]!SIXTH_PLAN_MF_YEARS,0)),\"pre-dates plan\")","v":"pre-dates plan"},{"$f":"IF(ISNUMBER(MATCH(F10,[2]!SIXTH_PLAN_MF_YEARS,0)),\nINDEX([2]!SIXTH_PLAN_MF,\nMATCH($C$9,[2]!APPLIANCES,0),\nMATCH(F$10,[2]!SIXTH_PLAN_MF_YEARS,0)),\"pre-dates plan\")","v":"pre-dates plan"},{"$f":"IF(ISNUMBER(MATCH(G10,[2]!SIXTH_PLAN_MF_YEARS,0)),\nINDEX([2]!SIXTH_PLAN_MF,\nMATCH($C$9,[2]!APPLIANCES,0),\nMATCH(G$10,[2]!SIXTH_PLAN_MF_YEARS,0)),\"pre-dates plan\")","v":"pre-dates plan"},{"$f":"IF(ISNUMBER(MATCH(H10,[2]!SIXTH_PLAN_MF_YEARS,0)),\nINDEX([2]!SIXTH_PLAN_MF,\nMATCH($C$9,[2]!APPLIANCES,0),\nMATCH(H$10,[2]!SIXTH_PLAN_MF_YEARS,0)),\"pre-dates plan\")","v":"pre-dates plan"},{"$f":"IF(ISNUMBER(MATCH(I10,[2]!SIXTH_PLAN_MF_YEARS,0)),\nINDEX([2]!SIXTH_PLAN_MF,\nMATCH($C$9,[2]!APPLIANCES,0),\nMATCH(I$10,[2]!SIXTH_PLAN_MF_YEARS,0)),\"pre-dates plan\")","v":"pre-dates plan"},{"$f":"IF(ISNUMBER(MATCH(J10,[2]!SIXTH_PLAN_MF_YEARS,0)),\nINDEX([2]!SIXTH_PLAN_MF,\nMATCH($C$9,[2]!APPLIANCES,0),\nMATCH(J$10,[2]!SIXTH_PLAN_MF_YEARS,0)),\"pre-dates plan\")","v":"pre-dates plan"},{"$f":"IF(ISNUMBER(MATCH(K10,[2]!SIXTH_PLAN_MF_YEARS,0)),\nINDEX([2]!SIXTH_PLAN_MF,\nMATCH($C$9,[2]!APPLIANCES,0),\nMATCH(K$10,[2]!SIXTH_PLAN_MF_YEARS,0)),\"pre-dates plan\")","v":"pre-dates plan"},{"$f":"IF(ISNUMBER(MATCH(L10,[2]!SIXTH_PLAN_MF_YEARS,0)),\nINDEX([2]!SIXTH_PLAN_MF,\nMATCH($C$9,[2]!APPLIANCES,0),\nMATCH(L$10,[2]!SIXTH_PLAN_MF_YEARS,0)),\"pre-dates plan\")","v":"pre-dates plan"},{"$f":"IF(ISNUMBER(MATCH(M10,[2]!SIXTH_PLAN_MF_YEARS,0)),\nINDEX([2]!SIXTH_PLAN_MF,\nMATCH($C$9,[2]!APPLIANCES,0),\nMATCH(M$10,[2]!SIXTH_PLAN_MF_YEARS,0)),\"pre-dates plan\")","v":"pre-dates plan"},{"$f":"IF(ISNUMBER(MATCH(N10,[2]!SIXTH_PLAN_MF_YEARS,0)),\nINDEX([2]!SIXTH_PLAN_MF,\nMATCH($C$9,[2]!APPLIANCES,0),\nMATCH(N$10,[2]!SIXTH_PLAN_MF_YEARS,0)),\"pre-dates plan\")","v":"pre-dates plan"},{"$f":"IF(ISNUMBER(MATCH(O10,[2]!SIXTH_PLAN_MF_YEARS,0)),\nINDEX([2]!SIXTH_PLAN_MF,\nMATCH($C$9,[2]!APPLIANCES,0),\nMATCH(O$10,[2]!SIXTH_PLAN_MF_YEARS,0)),\"pre-dates plan\")","v":"pre-dates plan"},{"$f":"IF(ISNUMBER(MATCH(P10,[2]!SIXTH_PLAN_MF_YEARS,0)),\nINDEX([2]!SIXTH_PLAN_MF,\nMATCH($C$9,[2]!APPLIANCES,0),\nMATCH(P$10,[2]!SIXTH_PLAN_MF_YEARS,0)),\"pre-dates plan\")","v":"pre-dates plan"},{"$f":"IF(ISNUMBER(MATCH(Q10,[2]!SIXTH_PLAN_MF_YEARS,0)),\nINDEX([2]!SIXTH_PLAN_MF,\nMATCH($C$9,[2]!APPLIANCES,0),\nMATCH(Q$10,[2]!SIXTH_PLAN_MF_YEARS,0)),\"pre-dates plan\")","v":"pre-dates plan"},{"$f":"IF(ISNUMBER(MATCH(R10,[2]!SIXTH_PLAN_MF_YEARS,0)),\nINDEX([2]!SIXTH_PLAN_MF,\nMATCH($C$9,[2]!APPLIANCES,0),\nMATCH(R$10,[2]!SIXTH_PLAN_MF_YEARS,0)),\"pre-dates plan\")","v":"pre-dates plan"},{"$f":"IF(ISNUMBER(MATCH(S10,[2]!SIXTH_PLAN_MF_YEARS,0)),\nINDEX([2]!SIXTH_PLAN_MF,\nMATCH($C$9,[2]!APPLIANCES,0),\nMATCH(S$10,[2]!SIXTH_PLAN_MF_YEARS,0)),\"pre-dates plan\")","v":"pre-dates plan"},{"$f":"IF(ISNUMBER(MATCH(T10,[2]!SIXTH_PLAN_MF_YEARS,0)),\nINDEX([2]!SIXTH_PLAN_MF,\nMATCH($C$9,[2]!APPLIANCES,0),\nMATCH(T$10,[2]!SIXTH_PLAN_MF_YEARS,0)),\"pre-dates plan\")","v":"pre-dates plan"},{"$f":"IF(ISNUMBER(MATCH(U10,[2]!SIXTH_PLAN_MF_YEARS,0)),\nINDEX([2]!SIXTH_PLAN_MF,\nMATCH($C$9,[2]!APPLIANCES,0),\nMATCH(U$10,[2]!SIXTH_PLAN_MF_YEARS,0)),\"pre-dates plan\")","v":"pre-dates plan"},{"$f":"IF(ISNUMBER(MATCH(V10,[2]!SIXTH_PLAN_MF_YEARS,0)),\nINDEX([2]!SIXTH_PLAN_MF,\nMATCH($C$9,[2]!APPLIANCES,0),\nMATCH(V$10,[2]!SIXTH_PLAN_MF_YEARS,0)),\"pre-dates plan\")","v":"pre-dates plan"},{"$f":"IF(ISNUMBER(MATCH(W10,[2]!SIXTH_PLAN_MF_YEARS,0)),\nINDEX([2]!SIXTH_PLAN_MF,\nMATCH($C$9,[2]!APPLIANCES,0),\nMATCH(W$10,[2]!SIXTH_PLAN_MF_YEARS,0)),\"pre-dates plan\")","v":"pre-dates plan"},{"$f":"IF(ISNUMBER(MATCH(X10,[2]!SIXTH_PLAN_MF_YEARS,0)),\nINDEX([2]!SIXTH_PLAN_MF,\nMATCH($C$9,[2]!APPLIANCES,0),\nMATCH(X$10,[2]!SIXTH_PLAN_MF_YEARS,0)),\"pre-dates plan\")","v":"pre-dates plan"},{"$f":"IF(ISNUMBER(MATCH(Y10,[2]!SIXTH_PLAN_MF_YEARS,0)),\nINDEX([2]!SIXTH_PLAN_MF,\nMATCH($C$9,[2]!APPLIANCES,0),\nMATCH(Y$10,[2]!SIXTH_PLAN_MF_YEARS,0)),\"pre-dates plan\")","v":"pre-dates plan"},{"$f":"IF(ISNUMBER(MATCH(Z10,[2]!SIXTH_PLAN_MF_YEARS,0)),\nINDEX([2]!SIXTH_PLAN_MF,\nMATCH($C$9,[2]!APPLIANCES,0),\nMATCH(Z$10,[2]!SIXTH_PLAN_MF_YEARS,0)),\"pre-dates plan\")","v":"pre-dates plan"},{"$f":"IF(ISNUMBER(MATCH(AA10,[2]!SIXTH_PLAN_MF_YEARS,0)),\nINDEX([2]!SIXTH_PLAN_MF,\nMATCH($C$9,[2]!APPLIANCES,0),\nMATCH(AA$10,[2]!SIXTH_PLAN_MF_YEARS,0)),\"pre-dates plan\")","v":"pre-dates plan"},{"$f":"IF(ISNUMBER(MATCH(AB10,[2]!SIXTH_PLAN_MF_YEARS,0)),\nINDEX([2]!SIXTH_PLAN_MF,\nMATCH($C$9,[2]!APPLIANCES,0),\nMATCH(AB$10,[2]!SIXTH_PLAN_MF_YEARS,0)),\"pre-dates plan\")","v":"pre-dates plan"},{"$f":"IF(ISNUMBER(MATCH(AC10,[2]!SIXTH_PLAN_MF_YEARS,0)),\nINDEX([2]!SIXTH_PLAN_MF,\nMATCH($C$9,[2]!APPLIANCES,0),\nMATCH(AC$10,[2]!SIXTH_PLAN_MF_YEARS,0)),\"pre-dates plan\")","v":"pre-dates plan"},{"$f":"IF(ISNUMBER(MATCH(AD10,[2]!SIXTH_PLAN_MF_YEARS,0)),\nINDEX([2]!SIXTH_PLAN_MF,\nMATCH($C$9,[2]!APPLIANCES,0),\nMATCH(AD$10,[2]!SIXTH_PLAN_MF_YEARS,0)),\"pre-dates plan\")","v":"pre-dates plan"},{"$f":"IF(ISNUMBER(MATCH(AE10,[2]!SIXTH_PLAN_MF_YEARS,0)),\nINDEX([2]!SIXTH_PLAN_MF,\nMATCH($C$9,[2]!APPLIANCES,0),\nMATCH(AE$10,[2]!SIXTH_PLAN_MF_YEARS,0)),\"pre-dates plan\")","v":"pre-dates plan"},{"$f":"IF(ISNUMBER(MATCH(AF10,[2]!SIXTH_PLAN_MF_YEARS,0)),\nINDEX([2]!SIXTH_PLAN_MF,\nMATCH($C$9,[2]!APPLIANCES,0),\nMATCH(AF$10,[2]!SIXTH_PLAN_MF_YEARS,0)),\"pre-dates plan\")","v":"pre-dates plan"},{"$f":"IF(ISNUMBER(MATCH(AG10,[2]!SIXTH_PLAN_MF_YEARS,0)),\nINDEX([2]!SIXTH_PLAN_MF,\nMATCH($C$9,[2]!APPLIANCES,0),\nMATCH(AG$10,[2]!SIXTH_PLAN_MF_YEARS,0)),\"pre-dates plan\")","v":"pre-dates plan"},{"$f":"IF(ISNUMBER(MATCH(AH10,[2]!SIXTH_PLAN_MF_YEARS,0)),\nINDEX([2]!SIXTH_PLAN_MF,\nMATCH($C$9,[2]!APPLIANCES,0),\nMATCH(AH$10,[2]!SIXTH_PLAN_MF_YEARS,0)),\"pre-dates plan\")","v":49067.603189415095},{"$f":"IF(ISNUMBER(MATCH(AI10,[2]!SIXTH_PLAN_MF_YEARS,0)),\nINDEX([2]!SIXTH_PLAN_MF,\nMATCH($C$9,[2]!APPLIANCES,0),\nMATCH(AI$10,[2]!SIXTH_PLAN_MF_YEARS,0)),\"pre-dates plan\")","v":52597.469069762796},{"$f":"IF(ISNUMBER(MATCH(AJ10,[2]!SIXTH_PLAN_MF_YEARS,0)),\nINDEX([2]!SIXTH_PLAN_MF,\nMATCH($C$9,[2]!APPLIANCES,0),\nMATCH(AJ$10,[2]!SIXTH_PLAN_MF_YEARS,0)),\"pre-dates plan\")","v":53589.172972836874},{"$f":"IF(ISNUMBER(MATCH(AK10,[2]!SIXTH_PLAN_MF_YEARS,0)),\nINDEX([2]!SIXTH_PLAN_MF,\nMATCH($C$9,[2]!APPLIANCES,0),\nMATCH(AK$10,[2]!SIXTH_PLAN_MF_YEARS,0)),\"pre-dates plan\")","v":54278.741445469001},{"$f":"IF(ISNUMBER(MATCH(AL10,[2]!SIXTH_PLAN_MF_YEARS,0)),\nINDEX([2]!SIXTH_PLAN_MF,\nMATCH($C$9,[2]!APPLIANCES,0),\nMATCH(AL$10,[2]!SIXTH_PLAN_MF_YEARS,0)),\"pre-dates plan\")","v":55235.223464804076},{"$f":"IF(ISNUMBER(MATCH(AM10,[2]!SIXTH_PLAN_MF_YEARS,0)),\nINDEX([2]!SIXTH_PLAN_MF,\nMATCH($C$9,[2]!APPLIANCES,0),\nMATCH(AM$10,[2]!SIXTH_PLAN_MF_YEARS,0)),\"pre-dates plan\")","v":56370.917344514455},{"$f":"IF(ISNUMBER(MATCH(AN10,[2]!SIXTH_PLAN_MF_YEARS,0)),\nINDEX([2]!SIXTH_PLAN_MF,\nMATCH($C$9,[2]!APPLIANCES,0),\nMATCH(AN$10,[2]!SIXTH_PLAN_MF_YEARS,0)),\"pre-dates plan\")","v":57303.858011645934},{"$f":"IF(ISNUMBER(MATCH(AO10,[2]!SIXTH_PLAN_MF_YEARS,0)),\nINDEX([2]!SIXTH_PLAN_MF,\nMATCH($C$9,[2]!APPLIANCES,0),\nMATCH(AO$10,[2]!SIXTH_PLAN_MF_YEARS,0)),\"pre-dates plan\")","v":57827.445139406169},{"$f":"IF(ISNUMBER(MATCH(AP10,[2]!SIXTH_PLAN_MF_YEARS,0)),\nINDEX([2]!SIXTH_PLAN_MF,\nMATCH($C$9,[2]!APPLIANCES,0),\nMATCH(AP$10,[2]!SIXTH_PLAN_MF_YEARS,0)),\"pre-dates plan\")","v":58401.883867698583},{"$f":"IF(ISNUMBER(MATCH(AQ10,[2]!SIXTH_PLAN_MF_YEARS,0)),\nINDEX([2]!SIXTH_PLAN_MF,\nMATCH($C$9,[2]!APPLIANCES,0),\nMATCH(AQ$10,[2]!SIXTH_PLAN_MF_YEARS,0)),\"pre-dates plan\")","v":59065.919893488783},{"$f":"IF(ISNUMBER(MATCH(AR10,[2]!SIXTH_PLAN_MF_YEARS,0)),\nINDEX([2]!SIXTH_PLAN_MF,\nMATCH($C$9,[2]!APPLIANCES,0),\nMATCH(AR$10,[2]!SIXTH_PLAN_MF_YEARS,0)),\"pre-dates plan\")","v":59458.367682360986},{"$f":"IF(ISNUMBER(MATCH(AS10,[2]!SIXTH_PLAN_MF_YEARS,0)),\nINDEX([2]!SIXTH_PLAN_MF,\nMATCH($C$9,[2]!APPLIANCES,0),\nMATCH(AS$10,[2]!SIXTH_PLAN_MF_YEARS,0)),\"pre-dates plan\")","v":59138.48517449043},{"$f":"IF(ISNUMBER(MATCH(AT10,[2]!SIXTH_PLAN_MF_YEARS,0)),\nINDEX([2]!SIXTH_PLAN_MF,\nMATCH($C$9,[2]!APPLIANCES,0),\nMATCH(AT$10,[2]!SIXTH_PLAN_MF_YEARS,0)),\"pre-dates plan\")","v":60236.915276900836},{"$f":"IF(ISNUMBER(MATCH(AU10,[2]!SIXTH_PLAN_MF_YEARS,0)),\nINDEX([2]!SIXTH_PLAN_MF,\nMATCH($C$9,[2]!APPLIANCES,0),\nMATCH(AU$10,[2]!SIXTH_PLAN_MF_YEARS,0)),\"pre-dates plan\")","v":60323.7366855652},{"$f":"IF(ISNUMBER(MATCH(AV10,[2]!SIXTH_PLAN_MF_YEARS,0)),\nINDEX([2]!SIXTH_PLAN_MF,\nMATCH($C$9,[2]!APPLIANCES,0),\nMATCH(AV$10,[2]!SIXTH_PLAN_MF_YEARS,0)),\"pre-dates plan\")","v":60271.06724060842},{"$f":"IF(ISNUMBER(MATCH(AW10,[2]!SIXTH_PLAN_MF_YEARS,0)),\nINDEX([2]!SIXTH_PLAN_MF,\nMATCH($C$9,[2]!APPLIANCES,0),\nMATCH(AW$10,[2]!SIXTH_PLAN_MF_YEARS,0)),\"pre-dates plan\")","v":60066.593586106348},{"$f":"IF(ISNUMBER(MATCH(AX10,[2]!SIXTH_PLAN_MF_YEARS,0)),\nINDEX([2]!SIXTH_PLAN_MF,\nMATCH($C$9,[2]!APPLIANCES,0),\nMATCH(AX$10,[2]!SIXTH_PLAN_MF_YEARS,0)),\"pre-dates plan\")","v":59785.913040315951},{"$f":"IF(ISNUMBER(MATCH(AY10,[2]!SIXTH_PLAN_MF_YEARS,0)),\nINDEX([2]!SIXTH_PLAN_MF,\nMATCH($C$9,[2]!APPLIANCES,0),\nMATCH(AY$10,[2]!SIXTH_PLAN_MF_YEARS,0)),\"pre-dates plan\")","v":59698.832503002544},{"$f":"IF(ISNUMBER(MATCH(AZ10,[2]!SIXTH_PLAN_MF_YEARS,0)),\nINDEX([2]!SIXTH_PLAN_MF,\nMATCH($C$9,[2]!APPLIANCES,0),\nMATCH(AZ$10,[2]!SIXTH_PLAN_MF_YEARS,0)),\"pre-dates plan\")","v":59661.993718894249},{"$f":"IF(ISNUMBER(MATCH(BA10,[2]!SIXTH_PLAN_MF_YEARS,0)),\nINDEX([2]!SIXTH_PLAN_MF,\nMATCH($C$9,[2]!APPLIANCES,0),\nMATCH(BA$10,[2]!SIXTH_PLAN_MF_YEARS,0)),\"pre-dates plan\")","v":59600.948166581344},{"$f":"IF(ISNUMBER(MATCH(BB10,[2]!SIXTH_PLAN_MF_YEARS,0)),\nINDEX([2]!SIXTH_PLAN_MF,\nMATCH($C$9,[2]!APPLIANCES,0),\nMATCH(BB$10,[2]!SIXTH_PLAN_MF_YEARS,0)),\"pre-dates plan\")","v":18052.229935790008},{"$f":"IF(ISNUMBER(MATCH(BC10,[2]!SIXTH_PLAN_MF_YEARS,0)),\nINDEX([2]!SIXTH_PLAN_MF,\nMATCH($C$9,[2]!APPLIANCES,0),\nMATCH(BC$10,[2]!SIXTH_PLAN_MF_YEARS,0)),\"pre-dates plan\")","v":18052.229935790008},{"$f":"IF(ISNUMBER(MATCH(BD10,[2]!SIXTH_PLAN_MF_YEARS,0)),\nINDEX([2]!SIXTH_PLAN_MF,\nMATCH($C$9,[2]!APPLIANCES,0),\nMATCH(BD$10,[2]!SIXTH_PLAN_MF_YEARS,0)),\"pre-dates plan\")","v":18052.229935790008},{"$f":"IF(ISNUMBER(MATCH(BE10,[2]!SIXTH_PLAN_MF_YEARS,0)),\nINDEX([2]!SIXTH_PLAN_MF,\nMATCH($C$9,[2]!APPLIANCES,0),\nMATCH(BE$10,[2]!SIXTH_PLAN_MF_YEARS,0)),\"pre-dates plan\")","v":18052.229935790008},{"$f":"IF(ISNUMBER(MATCH(BF10,[2]!SIXTH_PLAN_MF_YEARS,0)),\nINDEX([2]!SIXTH_PLAN_MF,\nMATCH($C$9,[2]!APPLIANCES,0),\nMATCH(BF$10,[2]!SIXTH_PLAN_MF_YEARS,0)),\"pre-dates plan\")","v":18052.229935790008}]
[null,null,"Replacement Shipments","(units)",{"$f":"INDEX([2]!SHIPMENTS_MF,\n((MATCH($C$9,[2]!APPLIANCES,0)-1)*2)+1,\nMATCH(E$10,[2]!SHIPMENTS_MF_YEARS,0))","v":30390.847252218962},{"$f":"INDEX([2]!SHIPMENTS_MF,\n((MATCH($C$9,[2]!APPLIANCES,0)-1)*2)+1,\nMATCH(F$10,[2]!SHIPMENTS_MF_YEARS,0))","v":30390.847252218962},{"$f":"INDEX([2]!SHIPMENTS_MF,\n((MATCH($C$9,[2]!APPLIANCES,0)-1)*2)+1,\nMATCH(G$10,[2]!SHIPMENTS_MF_YEARS,0))","v":30390.847252218962},{"$f":"INDEX([2]!SHIPMENTS_MF,\n((MATCH($C$9,[2]!APPLIANCES,0)-1)*2)+1,\nMATCH(H$10,[2]!SHIPMENTS_MF_YEARS,0))","v":30390.847252218962},{"$f":"INDEX([2]!SHIPMENTS_MF,\n((MATCH($C$9,[2]!APPLIANCES,0)-1)*2)+1,\nMATCH(I$10,[2]!SHIPMENTS_MF_YEARS,0))","v":30390.847252218962},{"$f":"INDEX([2]!SHIPMENTS_MF,\n((MATCH($C$9,[2]!APPLIANCES,0)-1)*2)+1,\nMATCH(J$10,[2]!SHIPMENTS_MF_YEARS,0))","v":30390.847252218962},{"$f":"INDEX([2]!SHIPMENTS_MF,\n((MATCH($C$9,[2]!APPLIANCES,0)-1)*2)+1,\nMATCH(K$10,[2]!SHIPMENTS_MF_YEARS,0))","v":30390.847252218962},{"$f":"INDEX([2]!SHIPMENTS_MF,\n((MATCH($C$9,[2]!APPLIANCES,0)-1)*2)+1,\nMATCH(L$10,[2]!SHIPMENTS_MF_YEARS,0))","v":30390.847252218962},{"$f":"INDEX([2]!SHIPMENTS_MF,\n((MATCH($C$9,[2]!APPLIANCES,0)-1)*2)+1,\nMATCH(M$10,[2]!SHIPMENTS_MF_YEARS,0))","v":30390.847252218962},{"$f":"INDEX([2]!SHIPMENTS_MF,\n((MATCH($C$9,[2]!APPLIANCES,0)-1)*2)+1,\nMATCH(N$10,[2]!SHIPMENTS_MF_YEARS,0))","v":30390.847252218962},{"$f":"INDEX([2]!SHIPMENTS_MF,\n((MATCH($C$9,[2]!APPLIANCES,0)-1)*2)+1,\nMATCH(O$10,[2]!SHIPMENTS_MF_YEARS,0))","v":30390.847252218962},{"$f":"INDEX([2]!SHIPMENTS_MF,\n((MATCH($C$9,[2]!APPLIANCES,0)-1)*2)+1,\nMATCH(P$10,[2]!SHIPMENTS_MF_YEARS,0))","v":30390.847252218962},{"$f":"INDEX([2]!SHIPMENTS_MF,\n((MATCH($C$9,[2]!APPLIANCES,0)-1)*2)+1,\nMATCH(Q$10,[2]!SHIPMENTS_MF_YEARS,0))","v":30390.847252218962},{"$f":"INDEX([2]!SHIPMENTS_MF,\n((MATCH($C$9,[2]!APPLIANCES,0)-1)*2)+1,\nMATCH(R$10,[2]!SHIPMENTS_MF_YEARS,0))","v":30390.847252218962},{"$f":"INDEX([2]!SHIPMENTS_MF,\n((MATCH($C$9,[2]!APPLIANCES,0)-1)*2)+1,\nMATCH(S$10,[2]!SHIPMENTS_MF_YEARS,0))","v":30390.847252218962},{"$f":"INDEX([2]!SHIPMENTS_MF,\n((MATCH($C$9,[2]!APPLIANCES,0)-1)*2)+1,\nMATCH(T$10,[2]!SHIPMENTS_MF_YEARS,0))","v":30390.847252218962},{"$f":"INDEX([2]!SHIPMENTS_MF,\n((MATCH($C$9,[2]!APPLIANCES,0)-1)*2)+1,\nMATCH(U$10,[2]!SHIPMENTS_MF_YEARS,0))","v":30390.847252218962},{"$f":"INDEX([2]!SHIPMENTS_MF,\n((MATCH($C$9,[2]!APPLIANCES,0)-1)*2)+1,\nMATCH(V$10,[2]!SHIPMENTS_MF_YEARS,0))","v":30390.847252218962},{"$f":"INDEX([2]!SHIPMENTS_MF,\n((MATCH($C$9,[2]!APPLIANCES,0)-1)*2)+1,\nMATCH(W$10,[2]!SHIPMENTS_MF_YEARS,0))","v":30390.847252218962},{"$f":"INDEX([2]!SHIPMENTS_MF,\n((MATCH($C$9,[2]!APPLIANCES,0)-1)*2)+1,\nMATCH(X$10,[2]!SHIPMENTS_MF_YEARS,0))","v":42518.543920426258},{"$f":"INDEX([2]!SHIPMENTS_MF,\n((MATCH($C$9,[2]!APPLIANCES,0)-1)*2)+1,\nMATCH(Y$10,[2]!SHIPMENTS_MF_YEARS,0))","v":39022.788965253727},{"$f":"INDEX([2]!SHIPMENTS_MF,\n((MATCH($C$9,[2]!APPLIANCES,0)-1)*2)+1,\nMATCH(Z$10,[2]!SHIPMENTS_MF_YEARS,0))","v":40572.388065472231},{"$f":"INDEX([2]!SHIPMENTS_MF,\n((MATCH($C$9,[2]!APPLIANCES,0)-1)*2)+1,\nMATCH(AA$10,[2]!SHIPMENTS_MF_YEARS,0))","v":45929.36292784426},{"$f":"INDEX([2]!SHIPMENTS_MF,\n((MATCH($C$9,[2]!APPLIANCES,0)-1)*2)+1,\nMATCH(AB$10,[2]!SHIPMENTS_MF_YEARS,0))","v":54290.847717789453},{"$f":"INDEX([2]!SHIPMENTS_MF,\n((MATCH($C$9,[2]!APPLIANCES,0)-1)*2)+1,\nMATCH(AC$10,[2]!SHIPMENTS_MF_YEARS,0))","v":51622.906405617119},{"$f":"INDEX([2]!SHIPMENTS_MF,\n((MATCH($C$9,[2]!APPLIANCES,0)-1)*2)+1,\nMATCH(AD$10,[2]!SHIPMENTS_MF_YEARS,0))","v":54087.749877431525},{"$f":"INDEX([2]!SHIPMENTS_MF,\n((MATCH($C$9,[2]!APPLIANCES,0)-1)*2)+1,\nMATCH(AE$10,[2]!SHIPMENTS_MF_YEARS,0))","v":59874.28064113015},{"$f":"INDEX([2]!SHIPMENTS_MF,\n((MATCH($C$9,[2]!APPLIANCES,0)-1)*2)+1,\nMATCH(AF$10,[2]!SHIPMENTS_MF_YEARS,0))","v":65681.903642856021},{"$f":"INDEX([2]!SHIPMENTS_MF,\n((MATCH($C$9,[2]!APPLIANCES,0)-1)*2)+1,\nMATCH(AG$10,[2]!SHIPMENTS_MF_YEARS,0))","v":57432.203736082534},{"$f":"INDEX([2]!SHIPMENTS_MF,\n((MATCH($C$9,[2]!APPLIANCES,0)-1)*2)+1,\nMATCH(AH$10,[2]!SHIPMENTS_MF_YEARS,0))","v":44358.784988727981},{"$f":"INDEX([2]!SHIPMENTS_MF,\n((MATCH($C$9,[2]!APPLIANCES,0)-1)*2)+1,\nMATCH(AI$10,[2]!SHIPMENTS_MF_YEARS,0))","v":44704.879130979389},{"$f":"INDEX([2]!SHIPMENTS_MF,\n((MATCH($C$9,[2]!APPLIANCES,0)-1)*2)+1,\nMATCH(AJ$10,[2]!SHIPMENTS_MF_YEARS,0))","v":40759.656441002015},{"$f":"INDEX([2]!SHIPMENTS_MF,\n((MATCH($C$9,[2]!APPLIANCES,0)-1)*2)+1,\nMATCH(AK$10,[2]!SHIPMENTS_MF_YEARS,0))","v":44000.946273915804},{"$f":"INDEX([2]!SHIPMENTS_MF,\n((MATCH($C$9,[2]!APPLIANCES,0)-1)*2)+1,\nMATCH(AL$10,[2]!SHIPMENTS_MF_YEARS,0))","v":45402.553902835905},{"$f":"INDEX([2]!SHIPMENTS_MF,\n((MATCH($C$9,[2]!APPLIANCES,0)-1)*2)+1,\nMATCH(AM$10,[2]!SHIPMENTS_MF_YEARS,0))","v":45248.242146580109},{"$f":"INDEX([2]!SHIPMENTS_MF,\n((MATCH($C$9,[2]!APPLIANCES,0)-1)*2)+1,\nMATCH(AN$10,[2]!SHIPMENTS_MF_YEARS,0))","v":45248.481458459733},{"$f":"INDEX([2]!SHIPMENTS_MF,\n((MATCH($C$9,[2]!APPLIANCES,0)-1)*2)+1,\nMATCH(AO$10,[2]!SHIPMENTS_MF_YEARS,0))","v":47791.998059193582},{"$f":"INDEX([2]!SHIPMENTS_MF,\n((MATCH($C$9,[2]!APPLIANCES,0)-1)*2)+1,\nMATCH(AP$10,[2]!SHIPMENTS_MF_YEARS,0))","v":43557.439664361162},{"$f":"INDEX([2]!SHIPMENTS_MF,\n((MATCH($C$9,[2]!APPLIANCES,0)-1)*2)+1,\nMATCH(AQ$10,[2]!SHIPMENTS_MF_YEARS,0))","v":51791.877498364403},{"$f":"INDEX([2]!SHIPMENTS_MF,\n((MATCH($C$9,[2]!APPLIANCES,0)-1)*2)+1,\nMATCH(AR$10,[2]!SHIPMENTS_MF_YEARS,0))","v":48261.617082243771},{"$f":"INDEX([2]!SHIPMENTS_MF,\n((MATCH($C$9,[2]!APPLIANCES,0)-1)*2)+1,\nMATCH(AS$10,[2]!SHIPMENTS_MF_YEARS,0))","v":48214.988117624409},{"$f":"INDEX([2]!SHIPMENTS_MF,\n((MATCH($C$9,[2]!APPLIANCES,0)-1)*2)+1,\nMATCH(AT$10,[2]!SHIPMENTS_MF_YEARS,0))","v":53691.73254398883},{"$f":"INDEX([2]!SHIPMENTS_MF,\n((MATCH($C$9,[2]!APPLIANCES,0)-1)*2)+1,\nMATCH(AU$10,[2]!SHIPMENTS_MF_YEARS,0))","v":63737.047164633856},{"$f":"INDEX([2]!SHIPMENTS_MF,\n((MATCH($C$9,[2]!APPLIANCES,0)-1)*2)+1,\nMATCH(AV$10,[2]!SHIPMENTS_MF_YEARS,0))","v":60462.892746789599},{"$f":"INDEX([2]!SHIPMENTS_MF,\n((MATCH($C$9,[2]!APPLIANCES,0)-1)*2)+1,\nMATCH(AW$10,[2]!SHIPMENTS_MF_YEARS,0))","v":64608.386271300129},{"$f":"INDEX([2]!SHIPMENTS_MF,\n((MATCH($C$9,[2]!APPLIANCES,0)-1)*2)+1,\nMATCH(AX$10,[2]!SHIPMENTS_MF_YEARS,0))","v":69705.340447392751},{"$f":"INDEX([2]!SHIPMENTS_MF,\n((MATCH($C$9,[2]!APPLIANCES,0)-1)*2)+1,\nMATCH(AY$10,[2]!SHIPMENTS_MF_YEARS,0))","v":70616.889106657909},{"$f":"INDEX([2]!SHIPMENTS_MF,\n((MATCH($C$9,[2]!APPLIANCES,0)-1)*2)+1,\nMATCH(AZ$10,[2]!SHIPMENTS_MF_YEARS,0))","v":57432.203736082534},{"$f":"INDEX([2]!SHIPMENTS_MF,\n((MATCH($C$9,[2]!APPLIANCES,0)-1)*2)+1,\nMATCH(BA$10,[2]!SHIPMENTS_MF_YEARS,0))","v":44800.054548264925},{"$f":"INDEX([2]!SHIPMENTS_MF,\n((MATCH($C$9,[2]!APPLIANCES,0)-1)*2)+1,\nMATCH(BB$10,[2]!SHIPMENTS_MF_YEARS,0))","v":49133.03126618531},{"$f":"INDEX([2]!SHIPMENTS_MF,\n((MATCH($C$9,[2]!APPLIANCES,0)-1)*2)+1,\nMATCH(BC$10,[2]!SHIPMENTS_MF_YEARS,0))","v":55147.067331510108},{"$f":"INDEX([2]!SHIPMENTS_MF,\n((MATCH($C$9,[2]!APPLIANCES,0)-1)*2)+1,\nMATCH(BD$10,[2]!SHIPMENTS_MF_YEARS,0))","v":59198.969589687404},{"$f":"INDEX([2]!SHIPMENTS_MF,\n((MATCH($C$9,[2]!APPLIANCES,0)-1)*2)+1,\nMATCH(BE$10,[2]!SHIPMENTS_MF_YEARS,0))","v":61724.956073189591},{"$f":"INDEX([2]!SHIPMENTS_MF,\n((MATCH($C$9,[2]!APPLIANCES,0)-1)*2)+1,\nMATCH(BF$10,[2]!SHIPMENTS_MF_YEARS,0))","v":62905.69312894647}]
[null,null,"Net New Shipments","(units)",{"$f":"INDEX([2]!SHIPMENTS_MF,\n((MATCH($C$9,[2]!APPLIANCES,0)-1)*2)+2,\nMATCH(E$10,[2]!SHIPMENTS_MF_YEARS,0))","v":12127.696668207298},{"$f":"INDEX([2]!SHIPMENTS_MF,\n((MATCH($C$9,[2]!APPLIANCES,0)-1)*2)+2,\nMATCH(F$10,[2]!SHIPMENTS_MF_YEARS,0))","v":8631.9417130347574},{"$f":"INDEX([2]!SHIPMENTS_MF,\n((MATCH($C$9,[2]!APPLIANCES,0)-1)*2)+2,\nMATCH(G$10,[2]!SHIPMENTS_MF_YEARS,0))","v":10181.540813253261},{"$f":"INDEX([2]!SHIPMENTS_MF,\n((MATCH($C$9,[2]!APPLIANCES,0)-1)*2)+2,\nMATCH(H$10,[2]!SHIPMENTS_MF_YEARS,0))","v":15538.515675625298},{"$f":"INDEX([2]!SHIPMENTS_MF,\n((MATCH($C$9,[2]!APPLIANCES,0)-1)*2)+2,\nMATCH(I$10,[2]!SHIPMENTS_MF_YEARS,0))","v":23900.000465570483},{"$f":"INDEX([2]!SHIPMENTS_MF,\n((MATCH($C$9,[2]!APPLIANCES,0)-1)*2)+2,\nMATCH(J$10,[2]!SHIPMENTS_MF_YEARS,0))","v":21232.05915339815},{"$f":"INDEX([2]!SHIPMENTS_MF,\n((MATCH($C$9,[2]!APPLIANCES,0)-1)*2)+2,\nMATCH(K$10,[2]!SHIPMENTS_MF_YEARS,0))","v":23696.902625212562},{"$f":"INDEX([2]!SHIPMENTS_MF,\n((MATCH($C$9,[2]!APPLIANCES,0)-1)*2)+2,\nMATCH(L$10,[2]!SHIPMENTS_MF_YEARS,0))","v":29483.433388911188},{"$f":"INDEX([2]!SHIPMENTS_MF,\n((MATCH($C$9,[2]!APPLIANCES,0)-1)*2)+2,\nMATCH(M$10,[2]!SHIPMENTS_MF_YEARS,0))","v":35291.056390637052},{"$f":"INDEX([2]!SHIPMENTS_MF,\n((MATCH($C$9,[2]!APPLIANCES,0)-1)*2)+2,\nMATCH(N$10,[2]!SHIPMENTS_MF_YEARS,0))","v":29832.702706779724},{"$f":"INDEX([2]!SHIPMENTS_MF,\n((MATCH($C$9,[2]!APPLIANCES,0)-1)*2)+2,\nMATCH(O$10,[2]!SHIPMENTS_MF_YEARS,0))","v":13967.937736509019},{"$f":"INDEX([2]!SHIPMENTS_MF,\n((MATCH($C$9,[2]!APPLIANCES,0)-1)*2)+2,\nMATCH(P$10,[2]!SHIPMENTS_MF_YEARS,0))","v":14314.031878760434},{"$f":"INDEX([2]!SHIPMENTS_MF,\n((MATCH($C$9,[2]!APPLIANCES,0)-1)*2)+2,\nMATCH(Q$10,[2]!SHIPMENTS_MF_YEARS,0))","v":10368.809188783052},{"$f":"INDEX([2]!SHIPMENTS_MF,\n((MATCH($C$9,[2]!APPLIANCES,0)-1)*2)+2,\nMATCH(R$10,[2]!SHIPMENTS_MF_YEARS,0))","v":13610.099021696835},{"$f":"INDEX([2]!SHIPMENTS_MF,\n((MATCH($C$9,[2]!APPLIANCES,0)-1)*2)+2,\nMATCH(S$10,[2]!SHIPMENTS_MF_YEARS,0))","v":15011.70665061695},{"$f":"INDEX([2]!SHIPMENTS_MF,\n((MATCH($C$9,[2]!APPLIANCES,0)-1)*2)+2,\nMATCH(T$10,[2]!SHIPMENTS_MF_YEARS,0))","v":14857.394894361147},{"$f":"INDEX([2]!SHIPMENTS_MF,\n((MATCH($C$9,[2]!APPLIANCES,0)-1)*2)+2,\nMATCH(U$10,[2]!SHIPMENTS_MF_YEARS,0))","v":14857.634206240764},{"$f":"INDEX([2]!SHIPMENTS_MF,\n((MATCH($C$9,[2]!APPLIANCES,0)-1)*2)+2,\nMATCH(V$10,[2]!SHIPMENTS_MF_YEARS,0))","v":17401.15080697462},{"$f":"INDEX([2]!SHIPMENTS_MF,\n((MATCH($C$9,[2]!APPLIANCES,0)-1)*2)+2,\nMATCH(W$10,[2]!SHIPMENTS_MF_YEARS,0))","v":13166.592412142199},{"$f":"INDEX([2]!SHIPMENTS_MF,\n((MATCH($C$9,[2]!APPLIANCES,0)-1)*2)+2,\nMATCH(X$10,[2]!SHIPMENTS_MF_YEARS,0))","v":9273.333577938145},{"$f":"INDEX([2]!SHIPMENTS_MF,\n((MATCH($C$9,[2]!APPLIANCES,0)-1)*2)+2,\nMATCH(Y$10,[2]!SHIPMENTS_MF_YEARS,0))","v":9238.8281169900438},{"$f":"INDEX([2]!SHIPMENTS_MF,\n((MATCH($C$9,[2]!APPLIANCES,0)-1)*2)+2,\nMATCH(Z$10,[2]!SHIPMENTS_MF_YEARS,0))","v":7642.6000521521783},{"$f":"INDEX([2]!SHIPMENTS_MF,\n((MATCH($C$9,[2]!APPLIANCES,0)-1)*2)+2,\nMATCH(AA$10,[2]!SHIPMENTS_MF_YEARS,0))","v":7762.3696161445696},{"$f":"INDEX([2]!SHIPMENTS_MF,\n((MATCH($C$9,[2]!APPLIANCES,0)-1)*2)+2,\nMATCH(AB$10,[2]!SHIPMENTS_MF_YEARS,0))","v":9446.1994468444027},{"$f":"INDEX([2]!SHIPMENTS_MF,\n((MATCH($C$9,[2]!APPLIANCES,0)-1)*2)+2,\nMATCH(AC$10,[2]!SHIPMENTS_MF_YEARS,0))","v":8839.98634117248},{"$f":"INDEX([2]!SHIPMENTS_MF,\n((MATCH($C$9,[2]!APPLIANCES,0)-1)*2)+2,\nMATCH(AD$10,[2]!SHIPMENTS_MF_YEARS,0))","v":10520.636393868597},{"$f":"INDEX([2]!SHIPMENTS_MF,\n((MATCH($C$9,[2]!APPLIANCES,0)-1)*2)+2,\nMATCH(AE$10,[2]!SHIPMENTS_MF_YEARS,0))","v":9831.0598062626086},{"$f":"INDEX([2]!SHIPMENTS_MF,\n((MATCH($C$9,[2]!APPLIANCES,0)-1)*2)+2,\nMATCH(AF$10,[2]!SHIPMENTS_MF_YEARS,0))","v":4934.9854638018878},{"$f":"INDEX([2]!SHIPMENTS_MF,\n((MATCH($C$9,[2]!APPLIANCES,0)-1)*2)+2,\nMATCH(AG$10,[2]!SHIPMENTS_MF_YEARS,0))","v":0},{"$f":"INDEX([2]!SHIPMENTS_MF,\n((MATCH($C$9,[2]!APPLIANCES,0)-1)*2)+2,\nMATCH(AH$10,[2]!SHIPMENTS_MF_YEARS,0))","v":441.26955953694414},{"$f":"INDEX([2]!SHIPMENTS_MF,\n((MATCH($C$9,[2]!APPLIANCES,0)-1)*2)+2,\nMATCH(AI$10,[2]!SHIPMENTS_MF_YEARS,0))","v":4428.1521352059208},{"$f":"INDEX([2]!SHIPMENTS_MF,\n((MATCH($C$9,[2]!APPLIANCES,0)-1)*2)+2,\nMATCH(AJ$10,[2]!SHIPMENTS_MF_YEARS,0))","v":14387.410890508094},{"$f":"INDEX([2]!SHIPMENTS_MF,\n((MATCH($C$9,[2]!APPLIANCES,0)-1)*2)+2,\nMATCH(AK$10,[2]!SHIPMENTS_MF_YEARS,0))","v":15198.023315771599},{"$f":"INDEX([2]!SHIPMENTS_MF,\n((MATCH($C$9,[2]!APPLIANCES,0)-1)*2)+2,\nMATCH(AL$10,[2]!SHIPMENTS_MF_YEARS,0))","v":16322.402170353686},{"$f":"INDEX([2]!SHIPMENTS_MF,\n((MATCH($C$9,[2]!APPLIANCES,0)-1)*2)+2,\nMATCH(AM$10,[2]!SHIPMENTS_MF_YEARS,0))","v":17657.450982366357},{"$f":"INDEX([2]!SHIPMENTS_MF,\n((MATCH($C$9,[2]!APPLIANCES,0)-1)*2)+2,\nMATCH(AN$10,[2]!SHIPMENTS_MF_YEARS,0))","v":18754.156134682242},{"$f":"INDEX([2]!SHIPMENTS_MF,\n((MATCH($C$9,[2]!APPLIANCES,0)-1)*2)+2,\nMATCH(AO$10,[2]!SHIPMENTS_MF_YEARS,0))","v":19369.651547125541},{"$f":"INDEX([2]!SHIPMENTS_MF,\n((MATCH($C$9,[2]!APPLIANCES,0)-1)*2)+2,\nMATCH(AP$10,[2]!SHIPMENTS_MF_YEARS,0))","v":20044.924836417438},{"$f":"INDEX([2]!SHIPMENTS_MF,\n((MATCH($C$9,[2]!APPLIANCES,0)-1)*2)+2,\nMATCH(AQ$10,[2]!SHIPMENTS_MF_YEARS,0))","v":20825.52295638877},{"$f":"INDEX([2]!SHIPMENTS_MF,\n((MATCH($C$9,[2]!APPLIANCES,0)-1)*2)+2,\nMATCH(AR$10,[2]!SHIPMENTS_MF_YEARS,0))","v":21286.859381345334},{"$f":"INDEX([2]!SHIPMENTS_MF,\n((MATCH($C$9,[2]!APPLIANCES,0)-1)*2)+2,\nMATCH(AS$10,[2]!SHIPMENTS_MF_YEARS,0))","v":20910.826041951776},{"$f":"INDEX([2]!SHIPMENTS_MF,\n((MATCH($C$9,[2]!APPLIANCES,0)-1)*2)+2,\nMATCH(AT$10,[2]!SHIPMENTS_MF_YEARS,0))","v":21144.828523573466},{"$f":"INDEX([2]!SHIPMENTS_MF,\n((MATCH($C$9,[2]!APPLIANCES,0)-1)*2)+2,\nMATCH(AU$10,[2]!SHIPMENTS_MF_YEARS,0))","v":21242.030117842369},{"$f":"INDEX([2]!SHIPMENTS_MF,\n((MATCH($C$9,[2]!APPLIANCES,0)-1)*2)+2,\nMATCH(AV$10,[2]!SHIPMENTS_MF_YEARS,0))","v":21183.063624464441},{"$f":"INDEX([2]!SHIPMENTS_MF,\n((MATCH($C$9,[2]!APPLIANCES,0)-1)*2)+2,\nMATCH(AW$10,[2]!SHIPMENTS_MF_YEARS,0))","v":20954.143528495915},{"$f":"INDEX([2]!SHIPMENTS_MF,\n((MATCH($C$9,[2]!APPLIANCES,0)-1)*2)+2,\nMATCH(AX$10,[2]!SHIPMENTS_MF_YEARS,0))","v":20639.905405079713},{"$f":"INDEX([2]!SHIPMENTS_MF,\n((MATCH($C$9,[2]!APPLIANCES,0)-1)*2)+2,\nMATCH(AY$10,[2]!SHIPMENTS_MF_YEARS,0))","v":20542.413701283513},{"$f":"INDEX([2]!SHIPMENTS_MF,\n((MATCH($C$9,[2]!APPLIANCES,0)-1)*2)+2,\nMATCH(AZ$10,[2]!SHIPMENTS_MF_YEARS,0))","v":20501.170549377566},{"$f":"INDEX([2]!SHIPMENTS_MF,\n((MATCH($C$9,[2]!APPLIANCES,0)-1)*2)+2,\nMATCH(BA$10,[2]!SHIPMENTS_MF_YEARS,0))","v":20432.826518808026},{"$f":"INDEX([2]!SHIPMENTS_MF,\n((MATCH($C$9,[2]!APPLIANCES,0)-1)*2)+2,\nMATCH(BB$10,[2]!SHIPMENTS_MF_YEARS,0))","v":20210.516701578159},{"$f":"INDEX([2]!SHIPMENTS_MF,\n((MATCH($C$9,[2]!APPLIANCES,0)-1)*2)+2,\nMATCH(BC$10,[2]!SHIPMENTS_MF_YEARS,0))","v":20412.621868593851},{"$f":"INDEX([2]!SHIPMENTS_MF,\n((MATCH($C$9,[2]!APPLIANCES,0)-1)*2)+2,\nMATCH(BD$10,[2]!SHIPMENTS_MF_YEARS,0))","v":20616.748087279964},{"$f":"INDEX([2]!SHIPMENTS_MF,\n((MATCH($C$9,[2]!APPLIANCES,0)-1)*2)+2,\nMATCH(BE$10,[2]!SHIPMENTS_MF_YEARS,0))","v":20822.915568152679},{"$f":"INDEX([2]!SHIPMENTS_MF,\n((MATCH($C$9,[2]!APPLIANCES,0)-1)*2)+2,\nMATCH(BF$10,[2]!SHIPMENTS_MF_YEARS,0))","v":21031.144723834237}]
[null,null,"Total Model Shipments","(units)",{"$f":"SUM(E12:E13)","v":42518.543920426258},{"$f":"SUM(F12:F13)","v":39022.78896525372},40572.388065472223,45929.36292784426,54290.847717789446,51622.906405617112,54087.749877431525,59874.28064113015,65681.903642856021,60223.549958998687,44358.784988727981,44704.879130979396,40759.656441002015,44000.946273915797,45402.553902835913,45248.242146580109,45248.481458459726,47791.998059193582,43557.439664361162,51791.877498364403,48261.617082243771,48214.988117624409,53691.73254398883,63737.047164633856,60462.892746789599,64608.386271300122,69705.340447392751,70616.889106657909,57432.203736082534,44800.054548264925,49133.03126618531,55147.067331510108,59198.969589687404,61724.956073189591,62905.69312894647,64002.637593141975,67161.649606319115,63602.364500778596,72617.400454753166,69548.476463589104,69125.814159576184,74836.561067562288,84979.077282476224,81645.95637125404,85562.529799796044,90345.245852472464,91159.302807941422,77933.374285460101,65232.881067072951,69343.547967763472,75559.689200103952,79815.717676967368,82547.871641342266,83936.837852780707]
[null,null,"Model Installed Stock","(units)",{"$f":"INDEX([2]!STOCK_MF,\nMATCH($C$9,[2]!APPLIANCES,0),\nMATCH(E$10,[2]!STOCK_MF_YEARS,0))","v":589553.79446036788},{"$f":"INDEX([2]!STOCK_MF,\nMATCH($C$9,[2]!APPLIANCES,0),\nMATCH(F$10,[2]!STOCK_MF_YEARS,0))","v":598185.73617340263},{"$f":"INDEX([2]!STOCK_MF,\nMATCH($C$9,[2]!APPLIANCES,0),\nMATCH(G$10,[2]!STOCK_MF_YEARS,0))","v":608367.2769866559},{"$f":"INDEX([2]!STOCK_MF,\nMATCH($C$9,[2]!APPLIANCES,0),\nMATCH(H$10,[2]!STOCK_MF_YEARS,0))","v":623905.79266228119},{"$f":"INDEX([2]!STOCK_MF,\nMATCH($C$9,[2]!APPLIANCES,0),\nMATCH(I$10,[2]!STOCK_MF_YEARS,0))","v":647805.79312785168},{"$f":"INDEX([2]!STOCK_MF,\nMATCH($C$9,[2]!APPLIANCES,0),\nMATCH(J$10,[2]!STOCK_MF_YEARS,0))","v":669037.85228124983},{"$f":"INDEX([2]!STOCK_MF,\nMATCH($C$9,[2]!APPLIANCES,0),\nMATCH(K$10,[2]!STOCK_MF_YEARS,0))","v":692734.75490646239},{"$f":"INDEX([2]!STOCK_MF,\nMATCH($C$9,[2]!APPLIANCES,0),\nMATCH(L$10,[2]!STOCK_MF_YEARS,0))","v":722218.18829537358},{"$f":"INDEX([2]!STOCK_MF,\nMATCH($C$9,[2]!APPLIANCES,0),\nMATCH(M$10,[2]!STOCK_MF_YEARS,0))","v":757509.24468601064},{"$f":"INDEX([2]!STOCK_MF,\nMATCH($C$9,[2]!APPLIANCES,0),\nMATCH(N$10,[2]!STOCK_MF_YEARS,0))","v":787341.94739279035},{"$f":"INDEX([2]!STOCK_MF,\nMATCH($C$9,[2]!APPLIANCES,0),\nMATCH(O$10,[2]!STOCK_MF_YEARS,0))","v":801309.88512929936},{"$f":"INDEX([2]!STOCK_MF,\nMATCH($C$9,[2]!APPLIANCES,0),\nMATCH(P$10,[2]!STOCK_MF_YEARS,0))","v":815623.9170080598},{"$f":"INDEX([2]!STOCK_MF,\nMATCH($C$9,[2]!APPLIANCES,0),\nMATCH(Q$10,[2]!STOCK_MF_YEARS,0))","v":825992.72619684285},{"$f":"INDEX([2]!STOCK_MF,\nMATCH($C$9,[2]!APPLIANCES,0),\nMATCH(R$10,[2]!STOCK_MF_YEARS,0))","v":839602.82521853969},{"$f":"INDEX([2]!STOCK_MF,\nMATCH($C$9,[2]!APPLIANCES,0),\nMATCH(S$10,[2]!STOCK_MF_YEARS,0))","v":854614.53186915664},{"$f":"INDEX([2]!STOCK_MF,\nMATCH($C$9,[2]!APPLIANCES,0),\nMATCH(T$10,[2]!STOCK_MF_YEARS,0))","v":869471.92676351778},{"$f":"INDEX([2]!STOCK_MF,\nMATCH($C$9,[2]!APPLIANCES,0),\nMATCH(U$10,[2]!STOCK_MF_YEARS,0))","v":884329.56096975855},{"$f":"INDEX([2]!STOCK_MF,\nMATCH($C$9,[2]!APPLIANCES,0),\nMATCH(V$10,[2]!STOCK_MF_YEARS,0))","v":901730.71177673317},{"$f":"INDEX([2]!STOCK_MF,\nMATCH($C$9,[2]!APPLIANCES,0),\nMATCH(W$10,[2]!STOCK_MF_YEARS,0))","v":914897.30418887537},{"$f":"INDEX([2]!STOCK_MF,\nMATCH($C$9,[2]!APPLIANCES,0),\nMATCH(X$10,[2]!STOCK_MF_YEARS,0))","v":924170.63776681351},{"$f":"INDEX([2]!STOCK_MF,\nMATCH($C$9,[2]!APPLIANCES,0),\nMATCH(Y$10,[2]!STOCK_MF_YEARS,0))","v":933409.46588380355},{"$f":"INDEX([2]!STOCK_MF,\nMATCH($C$9,[2]!APPLIANCES,0),\nMATCH(Z$10,[2]!STOCK_MF_YEARS,0))","v":941052.06593595573},{"$f":"INDEX([2]!STOCK_MF,\nMATCH($C$9,[2]!APPLIANCES,0),\nMATCH(AA$10,[2]!STOCK_MF_YEARS,0))","v":948814.4355521003},{"$f":"INDEX([2]!STOCK_MF,\nMATCH($C$9,[2]!APPLIANCES,0),\nMATCH(AB$10,[2]!STOCK_MF_YEARS,0))","v":958260.6349989447},{"$f":"INDEX([2]!STOCK_MF,\nMATCH($C$9,[2]!APPLIANCES,0),\nMATCH(AC$10,[2]!STOCK_MF_YEARS,0))","v":967100.62134011718},{"$f":"INDEX([2]!STOCK_MF,\nMATCH($C$9,[2]!APPLIANCES,0),\nMATCH(AD$10,[2]!STOCK_MF_YEARS,0))","v":977621.25773398578},{"$f":"INDEX([2]!STOCK_MF,\nMATCH($C$9,[2]!APPLIANCES,0),\nMATCH(AE$10,[2]!STOCK_MF_YEARS,0))","v":987452.31754024839},{"$f":"INDEX([2]!STOCK_MF,\nMATCH($C$9,[2]!APPLIANCES,0),\nMATCH(AF$10,[2]!STOCK_MF_YEARS,0))","v":992387.30300405028},{"$f":"INDEX([2]!STOCK_MF,\nMATCH($C$9,[2]!APPLIANCES,0),\nMATCH(AG$10,[2]!STOCK_MF_YEARS,0))","v":989595.95678113413},{"$f":"INDEX([2]!STOCK_MF,\nMATCH($C$9,[2]!APPLIANCES,0),\nMATCH(AH$10,[2]!STOCK_MF_YEARS,0))","v":990037.22634067107},{"$f":"INDEX([2]!STOCK_MF,\nMATCH($C$9,[2]!APPLIANCES,0),\nMATCH(AI$10,[2]!STOCK_MF_YEARS,0))","v":994465.37847587699},{"$f":"INDEX([2]!STOCK_MF,\nMATCH($C$9,[2]!APPLIANCES,0),\nMATCH(AJ$10,[2]!STOCK_MF_YEARS,0))","v":1008852.7893663851},{"$f":"INDEX([2]!STOCK_MF,\nMATCH($C$9,[2]!APPLIANCES,0),\nMATCH(AK$10,[2]!STOCK_MF_YEARS,0))","v":1024050.8126821567},{"$f":"INDEX([2]!STOCK_MF,\nMATCH($C$9,[2]!APPLIANCES,0),\nMATCH(AL$10,[2]!STOCK_MF_YEARS,0))","v":1040373.2148525104},{"$f":"INDEX([2]!STOCK_MF,\nMATCH($C$9,[2]!APPLIANCES,0),\nMATCH(AM$10,[2]!STOCK_MF_YEARS,0))","v":1058030.6658348767},{"$f":"INDEX([2]!STOCK_MF,\nMATCH($C$9,[2]!APPLIANCES,0),\nMATCH(AN$10,[2]!STOCK_MF_YEARS,0))","v":1076784.821969559},{"$f":"INDEX([2]!STOCK_MF,\nMATCH($C$9,[2]!APPLIANCES,0),\nMATCH(AO$10,[2]!STOCK_MF_YEARS,0))","v":1096154.4735166845},{"$f":"INDEX([2]!STOCK_MF,\nMATCH($C$9,[2]!APPLIANCES,0),\nMATCH(AP$10,[2]!STOCK_MF_YEARS,0))","v":1116199.3983531019},{"$f":"INDEX([2]!STOCK_MF,\nMATCH($C$9,[2]!APPLIANCES,0),\nMATCH(AQ$10,[2]!STOCK_MF_YEARS,0))","v":1137024.9213094907},{"$f":"INDEX([2]!STOCK_MF,\nMATCH($C$9,[2]!APPLIANCES,0),\nMATCH(AR$10,[2]!STOCK_MF_YEARS,0))","v":1158311.780690836},{"$f":"INDEX([2]!STOCK_MF,\nMATCH($C$9,[2]!APPLIANCES,0),\nMATCH(AS$10,[2]!STOCK_MF_YEARS,0))","v":1179222.6067327878},{"$f":"INDEX([2]!STOCK_MF,\nMATCH($C$9,[2]!APPLIANCES,0),\nMATCH(AT$10,[2]!STOCK_MF_YEARS,0))","v":1200367.4352563613},{"$f":"INDEX([2]!STOCK_MF,\nMATCH($C$9,[2]!APPLIANCES,0),\nMATCH(AU$10,[2]!STOCK_MF_YEARS,0))","v":1221609.4653742036},{"$f":"INDEX([2]!STOCK_MF,\nMATCH($C$9,[2]!APPLIANCES,0),\nMATCH(AV$10,[2]!STOCK_MF_YEARS,0))","v":1242792.5289986681},{"$f":"INDEX([2]!STOCK_MF,\nMATCH($C$9,[2]!APPLIANCES,0),\nMATCH(AW$10,[2]!STOCK_MF_YEARS,0))","v":1263746.672527164},{"$f":"INDEX([2]!STOCK_MF,\nMATCH($C$9,[2]!APPLIANCES,0),\nMATCH(AX$10,[2]!STOCK_MF_YEARS,0))","v":1284386.5779322437},{"$f":"INDEX([2]!STOCK_MF,\nMATCH($C$9,[2]!APPLIANCES,0),\nMATCH(AY$10,[2]!STOCK_MF_YEARS,0))","v":1304928.9916335272},{"$f":"INDEX([2]!STOCK_MF,\nMATCH($C$9,[2]!APPLIANCES,0),\nMATCH(AZ$10,[2]!STOCK_MF_YEARS,0))","v":1325430.1621829048},{"$f":"INDEX([2]!STOCK_MF,\nMATCH($C$9,[2]!APPLIANCES,0),\nMATCH(BA$10,[2]!STOCK_MF_YEARS,0))","v":1345862.9887017128},{"$f":"INDEX([2]!STOCK_MF,\nMATCH($C$9,[2]!APPLIANCES,0),\nMATCH(BB$10,[2]!STOCK_MF_YEARS,0))","v":1366073.505403291},{"$f":"INDEX([2]!STOCK_MF,\nMATCH($C$9,[2]!APPLIANCES,0),\nMATCH(BC$10,[2]!STOCK_MF_YEARS,0))","v":1386486.1272718848},{"$f":"INDEX([2]!STOCK_MF,\nMATCH($C$9,[2]!APPLIANCES,0),\nMATCH(BD$10,[2]!STOCK_MF_YEARS,0))","v":1407102.8753591648},{"$f":"INDEX([2]!STOCK_MF,\nMATCH($C$9,[2]!APPLIANCES,0),\nMATCH(BE$10,[2]!STOCK_MF_YEARS,0))","v":1427925.7909273175},{"$f":"INDEX([2]!STOCK_MF,\nMATCH($C$9,[2]!APPLIANCES,0),\nMATCH(BF$10,[2]!STOCK_MF_YEARS,0))","v":1448956.9356511517}]

{"sheet":"Shipments and Stock - MH","index":10,"n_rows":15,"n_cols":58,"rows_kept":15,"cut":false,"hidden":false,"merged":[]}
[]
[null,null,"Shipments and Stock - MH"]
[]
[null,null,"NAVIGATION"]
[]
[null,null,"COMMENTS"]
[]
[]
[null,null,{"$f":"MODEL_NAME","v":"Electric Ovens"}]
[null,null,null,null,1981,1982,1983,1984,1985,1986,1987,1988,1989,1990,1991,1992,1993,1994,1995,1996,1997,1998,1999,2000,2001,2002,2003,2004,2005,2006,2007,2008,2009,2010,2011,2012,2013,2014,2015,2016,2017,2018,2019,2020,2021,2022,2023,2024,2025,2026,2027,2028,2029,2030,2031,2032,2033,2034]
[null,null,"6P Shipments","(units)",{"$f":"IF(ISNUMBER(MATCH(E10,[2]!SIXTH_PLAN_MH_YEARS,0)),\nINDEX([2]!SIXTH_PLAN_MH,\nMATCH($C$9,[2]!APPLIANCES,0),\nMATCH(E$10,[2]!SIXTH_PLAN_MH_YEARS,0)),\"pre-dates plan\")","v":"pre-dates plan"},{"$f":"IF(ISNUMBER(MATCH(F10,[2]!SIXTH_PLAN_MH_YEARS,0)),\nINDEX([2]!SIXTH_PLAN_MH,\nMATCH($C$9,[2]!APPLIANCES,0),\nMATCH(F$10,[2]!SIXTH_PLAN_MH_YEARS,0)),\"pre-dates plan\")","v":"pre-dates plan"},{"$f":"IF(ISNUMBER(MATCH(G10,[2]!SIXTH_PLAN_MH_YEARS,0)),\nINDEX([2]!SIXTH_PLAN_MH,\nMATCH($C$9,[2]!APPLIANCES,0),\nMATCH(G$10,[2]!SIXTH_PLAN_MH_YEARS,0)),\"pre-dates plan\")","v":"pre-dates plan"},{"$f":"IF(ISNUMBER(MATCH(H10,[2]!SIXTH_PLAN_MH_YEARS,0)),\nINDEX([2]!SIXTH_PLAN_MH,\nMATCH($C$9,[2]!APPLIANCES,0),\nMATCH(H$10,[2]!SIXTH_PLAN_MH_YEARS,0)),\"pre-dates plan\")","v":"pre-dates plan"},{"$f":"IF(ISNUMBER(MATCH(I10,[2]!SIXTH_PLAN_MH_YEARS,0)),\nINDEX([2]!SIXTH_PLAN_MH,\nMATCH($C$9,[2]!APPLIANCES,0),\nMATCH(I$10,[2]!SIXTH_PLAN_MH_YEARS,0)),\"pre-dates plan\")","v":"pre-dates plan"},{"$f":"IF(ISNUMBER(MATCH(J10,[2]!SIXTH_PLAN_MH_YEARS,0)),\nINDEX([2]!SIXTH_PLAN_MH,\nMATCH($C$9,[2]!APPLIANCES,0),\nMATCH(J$10,[2]!SIXTH_PLAN_MH_YEARS,0)),\"pre-dates plan\")","v":"pre-dates plan"},{"$f":"IF(ISNUMBER(MATCH(K10,[2]!SIXTH_PLAN_MH_YEARS,0)),\nINDEX([2]!SIXTH_PLAN_MH,\nMATCH($C$9,[2]!APPLIANCES,0),\nMATCH(K$10,[2]!SIXTH_PLAN_MH_YEARS,0)),\"pre-dates plan\")","v":"pre-dates plan"},{"$f":"IF(ISNUMBER(MATCH(L10,[2]!SIXTH_PLAN_MH_YEARS,0)),\nINDEX([2]!SIXTH_PLAN_MH,\nMATCH($C$9,[2]!APPLIANCES,0),\nMATCH(L$10,[2]!SIXTH_PLAN_MH_YEARS,0)),\"pre-dates plan\")","v":"pre-dates plan"},{"$f":"IF(ISNUMBER(MATCH(M10,[2]!SIXTH_PLAN_MH_YEARS,0)),\nINDEX([2]!SIXTH_PLAN_MH,\nMATCH($C$9,[2]!APPLIANCES,0),\nMATCH(M$10,[2]!SIXTH_PLAN_MH_YEARS,0)),\"pre-dates plan\")","v":"pre-dates plan"},{"$f":"IF(ISNUMBER(MATCH(N10,[2]!SIXTH_PLAN_MH_YEARS,0)),\nINDEX([2]!SIXTH_PLAN_MH,\nMATCH($C$9,[2]!APPLIANCES,0),\nMATCH(N$10,[2]!SIXTH_PLAN_MH_YEARS,0)),\"pre-dates plan\")","v":"pre-dates plan"},{"$f":"IF(ISNUMBER(MATCH(O10,[2]!SIXTH_PLAN_MH_YEARS,0)),\nINDEX([2]!SIXTH_PLAN_MH,\nMATCH($C$9,[2]!APPLIANCES,0),\nMATCH(O$10,[2]!SIXTH_PLAN_MH_YEARS,0)),\"pre-dates plan\")","v":"pre-dates plan"},{"$f":"IF(ISNUMBER(MATCH(P10,[2]!SIXTH_PLAN_MH_YEARS,0)),\nINDEX([2]!SIXTH_PLAN_MH,\nMATCH($C$9,[2]!APPLIANCES,0),\nMATCH(P$10,[2]!SIXTH_PLAN_MH_YEARS,0)),\"pre-dates plan\")","v":"pre-dates plan"},{"$f":"IF(ISNUMBER(MATCH(Q10,[2]!SIXTH_PLAN_MH_YEARS,0)),\nINDEX([2]!SIXTH_PLAN_MH,\nMATCH($C$9,[2]!APPLIANCES,0),\nMATCH(Q$10,[2]!SIXTH_PLAN_MH_YEARS,0)),\"pre-dates plan\")","v":"pre-dates plan"},{"$f":"IF(ISNUMBER(MATCH(R10,[2]!SIXTH_PLAN_MH_YEARS,0)),\nINDEX([2]!SIXTH_PLAN_MH,\nMATCH($C$9,[2]!APPLIANCES,0),\nMATCH(R$10,[2]!SIXTH_PLAN_MH_YEARS,0)),\"pre-dates plan\")","v":"pre-dates plan"},{"$f":"IF(ISNUMBER(MATCH(S10,[2]!SIXTH_PLAN_MH_YEARS,0)),\nINDEX([2]!SIXTH_PLAN_MH,\nMATCH($C$9,[2]!APPLIANCES,0),\nMATCH(S$10,[2]!SIXTH_PLAN_MH_YEARS,0)),\"pre-dates plan\")","v":"pre-dates plan"},{"$f":"IF(ISNUMBER(MATCH(T10,[2]!SIXTH_PLAN_MH_YEARS,0)),\nINDEX([2]!SIXTH_PLAN_MH,\nMATCH($C$9,[2]!APPLIANCES,0),\nMATCH(T$10,[2]!SIXTH_PLAN_MH_YEARS,0)),\"pre-dates plan\")","v":"pre-dates plan"},{"$f":"IF(ISNUMBER(MATCH(U10,[2]!SIXTH_PLAN_MH_YEARS,0)),\nINDEX([2]!SIXTH_PLAN_MH,\nMATCH($C$9,[2]!APPLIANCES,0),\nMATCH(U$10,[2]!SIXTH_PLAN_MH_YEARS,0)),\"pre-dates plan\")","v":"pre-dates plan"},{"$f":"IF(ISNUMBER(MATCH(V10,[2]!SIXTH_PLAN_MH_YEARS,0)),\nINDEX([2]!SIXTH_PLAN_MH,\nMATCH($C$9,[2]!APPLIANCES,0),\nMATCH(V$10,[2]!SIXTH_PLAN_MH_YEARS,0)),\"pre-dates plan\")","v":"pre-dates plan"},{"$f":"IF(ISNUMBER(MATCH(W10,[2]!SIXTH_PLAN_MH_YEARS,0)),\nINDEX([2]!SIXTH_PLAN_MH,\nMATCH($C$9,[2]!APPLIANCES,0),\nMATCH(W$10,[2]!SIXTH_PLAN_MH_YEARS,0)),\"pre-dates plan\")","v":"pre-dates plan"},{"$f":"IF(ISNUMBER(MATCH(X10,[2]!SIXTH_PLAN_MH_YEARS,0)),\nINDEX([2]!SIXTH_PLAN_MH,\nMATCH($C$9,[2]!APPLIANCES,0),\nMATCH(X$10,[2]!SIXTH_PLAN_MH_YEARS,0)),\"pre-dates plan\")","v":"pre-dates plan"},{"$f":"IF(ISNUMBER(MATCH(Y10,[2]!SIXTH_PLAN_MH_YEARS,0)),\nINDEX([2]!SIXTH_PLAN_MH,\nMATCH($C$9,[2]!APPLIANCES,0),\nMATCH(Y$10,[2]!SIXTH_PLAN_MH_YEARS,0)),\"pre-dates plan\")","v":"pre-dates plan"},{"$f":"IF(ISNUMBER(MATCH(Z10,[2]!SIXTH_PLAN_MH_YEARS,0)),\nINDEX([2]!SIXTH_PLAN_MH,\nMATCH($C$9,[2]!APPLIANCES,0),\nMATCH(Z$10,[2]!SIXTH_PLAN_MH_YEARS,0)),\"pre-dates plan\")","v":"pre-dates plan"},{"$f":"IF(ISNUMBER(MATCH(AA10,[2]!SIXTH_PLAN_MH_YEARS,0)),\nINDEX([2]!SIXTH_PLAN_MH,\nMATCH($C$9,[2]!APPLIANCES,0),\nMATCH(AA$10,[2]!SIXTH_PLAN_MH_YEARS,0)),\"pre-dates plan\")","v":"pre-dates plan"},{"$f":"IF(ISNUMBER(MATCH(AB10,[2]!SIXTH_PLAN_MH_YEARS,0)),\nINDEX([2]!SIXTH_PLAN_MH,\nMATCH($C$9,[2]!APPLIANCES,0),\nMATCH(AB$10,[2]!SIXTH_PLAN_MH_YEARS,0)),\"pre-dates plan\")","v":"pre-dates plan"},{"$f":"IF(ISNUMBER(MATCH(AC10,[2]!SIXTH_PLAN_MH_YEARS,0)),\nINDEX([2]!SIXTH_PLAN_MH,\nMATCH($C$9,[2]!APPLIANCES,0),\nMATCH(AC$10,[2]!SIXTH_PLAN_MH_YEARS,0)),\"pre-dates plan\")","v":"pre-dates plan"},{"$f":"IF(ISNUMBER(MATCH(AD10,[2]!SIXTH_PLAN_MH_YEARS,0)),\nINDEX([2]!SIXTH_PLAN_MH,\nMATCH($C$9,[2]!APPLIANCES,0),\nMATCH(AD$10,[2]!SIXTH_PLAN_MH_YEARS,0)),\"pre-dates plan\")","v":"pre-dates plan"},{"$f":"IF(ISNUMBER(MATCH(AE10,[2]!SIXTH_PLAN_MH_YEARS,0)),\nINDEX([2]!SIXTH_PLAN_MH,\nMATCH($C$9,[2]!APPLIANCES,0),\nMATCH(AE$10,[2]!SIXTH_PLAN_MH_YEARS,0)),\"pre-dates plan\")","v":"pre-dates plan"},{"$f":"IF(ISNUMBER(MATCH(AF10,[2]!SIXTH_PLAN_MH_YEARS,0)),\nINDEX([2]!SIXTH_PLAN_MH,\nMATCH($C$9,[2]!APPLIANCES,0),\nMATCH(AF$10,[2]!SIXTH_PLAN_MH_YEARS,0)),\"pre-dates plan\")","v":"pre-dates plan"},{"$f":"IF(ISNUMBER(MATCH(AG10,[2]!SIXTH_PLAN_MH_YEARS,0)),\nINDEX([2]!SIXTH_PLAN_MH,\nMATCH($C$9,[2]!APPLIANCES,0),\nMATCH(AG$10,[2]!SIXTH_PLAN_MH_YEARS,0)),\"pre-dates plan\")","v":"pre-dates plan"},{"$f":"IF(ISNUMBER(MATCH(AH10,[2]!SIXTH_PLAN_MH_YEARS,0)),\nINDEX([2]!SIXTH_PLAN_MH,\nMATCH($C$9,[2]!APPLIANCES,0),\nMATCH(AH$10,[2]!SIXTH_PLAN_MH_YEARS,0)),\"pre-dates plan\")","v":31811.190457273435},{"$f":"IF(ISNUMBER(MATCH(AI10,[2]!SIXTH_PLAN_MH_YEARS,0)),\nINDEX([2]!SIXTH_PLAN_MH,\nMATCH($C$9,[2]!APPLIANCES,0),\nMATCH(AI$10,[2]!SIXTH_PLAN_MH_YEARS,0)),\"pre-dates plan\")","v":31705.394476050886},{"$f":"IF(ISNUMBER(MATCH(AJ10,[2]!SIXTH_PLAN_MH_YEARS,0)),\nINDEX([2]!SIXTH_PLAN_MH,\nMATCH($C$9,[2]!APPLIANCES,0),\nMATCH(AJ$10,[2]!SIXTH_PLAN_MH_YEARS,0)),\"pre-dates plan\")","v":31469.738292285991},{"$f":"IF(ISNUMBER(MATCH(AK10,[2]!SIXTH_PLAN_MH_YEARS,0)),\nINDEX([2]!SIXTH_PLAN_MH,\nMATCH($C$9,[2]!APPLIANCES,0),\nMATCH(AK$10,[2]!SIXTH_PLAN_MH_YEARS,0)),\"pre-dates plan\")","v":31173.584031901155},{"$f":"IF(ISNUMBER(MATCH(AL10,[2]!SIXTH_PLAN_MH_YEARS,0)),\nINDEX([2]!SIXTH_PLAN_MH,\nMATCH($C$9,[2]!APPLIANCES,0),\nMATCH(AL$10,[2]!SIXTH_PLAN_MH_YEARS,0)),\"pre-dates plan\")","v":30794.374194682008},{"$f":"IF(ISNUMBER(MATCH(AM10,[2]!SIXTH_PLAN_MH_YEARS,0)),\nINDEX([2]!SIXTH_PLAN_MH,\nMATCH($C$9,[2]!APPLIANCES,0),\nMATCH(AM$10,[2]!SIXTH_PLAN_MH_YEARS,0)),\"pre-dates plan\")","v":30443.414004936349},{"$f":"IF(ISNUMBER(MATCH(AN10,[2]!SIXTH_PLAN_MH_YEARS,0)),\nINDEX([2]!SIXTH_PLAN_MH,\nMATCH($C$9,[2]!APPLIANCES,0),\nMATCH(AN$10,[2]!SIXTH_PLAN_MH_YEARS,0)),\"pre-dates plan\")","v":30177.629418894438},{"$f":"IF(ISNUMBER(MATCH(AO10,[2]!SIXTH_PLAN_MH_YEARS,0)),\nINDEX([2]!SIXTH_PLAN_MH,\nMATCH($C$9,[2]!APPLIANCES,0),\nMATCH(AO$10,[2]!SIXTH_PLAN_MH_YEARS,0)),\"pre-dates plan\")","v":30023.54287902113},{"$f":"IF(ISNUMBER(MATCH(AP10,[2]!SIXTH_PLAN_MH_YEARS,0)),\nINDEX([2]!SIXTH_PLAN_MH,\nMATCH($C$9,[2]!APPLIANCES,0),\nMATCH(AP$10,[2]!SIXTH_PLAN_MH_YEARS,0)),\"pre-dates plan\")","v":29995.946763564771},{"$f":"IF(ISNUMBER(MATCH(AQ10,[2]!SIXTH_PLAN_MH_YEARS,0)),\nINDEX([2]!SIXTH_PLAN_MH,\nMATCH($C$9,[2]!APPLIANCES,0),\nMATCH(AQ$10,[2]!SIXTH_PLAN_MH_YEARS,0)),\"pre-dates plan\")","v":30088.83726416601},{"$f":"IF(ISNUMBER(MATCH(AR10,[2]!SIXTH_PLAN_MH_YEARS,0)),\nINDEX([2]!SIXTH_PLAN_MH,\nMATCH($C$9,[2]!APPLIANCES,0),\nMATCH(AR$10,[2]!SIXTH_PLAN_MH_YEARS,0)),\"pre-dates plan\")","v":30269.178165757912},{"$f":"IF(ISNUMBER(MATCH(AS10,[2]!SIXTH_PLAN_MH_YEARS,0)),\nINDEX([2]!SIXTH_PLAN_MH,\nMATCH($C$9,[2]!APPLIANCES,0),\nMATCH(AS$10,[2]!SIXTH_PLAN_MH_YEARS,0)),\"pre-dates plan\")","v":30500.279756473326},{"$f":"IF(ISNUMBER(MATCH(AT10,[2]!SIXTH_PLAN_MH_YEARS,0)),\nINDEX([2]!SIXTH_PLAN_MH,\nMATCH($C$9,[2]!APPLIANCES,0),\nMATCH(AT$10,[2]!SIXTH_PLAN_MH_YEARS,0)),\"pre-dates plan\")","v":31027.840274430022},{"$f":"IF(ISNUMBER(MATCH(AU10,[2]!SIXTH_PLAN_MH_YEARS,0)),\nINDEX([2]!SIXTH_PLAN_MH,\nMATCH($C$9,[2]!APPLIANCES,0),\nMATCH(AU$10,[2]!SIXTH_PLAN_MH_YEARS,0)),\"pre-dates plan\")","v":31221.725147310724},{"$f":"IF(ISNUMBER(MATCH(AV10,[2]!SIXTH_PLAN_MH_YEARS,0)),\nINDEX([2]!SIXTH_PLAN_MH,\nMATCH($C$9,[2]!APPLIANCES,0),\nMATCH(AV$10,[2]!SIXTH_PLAN_MH_YEARS,0)),\"pre-dates plan\")","v":31327.681947579124},{"$f":"IF(ISNUMBER(MATCH(AW10,[2]!SIXTH_PLAN_MH_YEARS,0)),\nINDEX([2]!SIXTH_PLAN_MH,\nMATCH($C$9,[2]!APPLIANCES,0),\nMATCH(AW$10,[2]!SIXTH_PLAN_MH_YEARS,0)),\"pre-dates plan\")","v":31323.997544928341},{"$f":"IF(ISNUMBER(MATCH(AX10,[2]!SIXTH_PLAN_MH_YEARS,0)),\nINDEX([2]!SIXTH_PLAN_MH,\nMATCH($C$9,[2]!APPLIANCES,0),\nMATCH(AX$10,[2]!SIXTH_PLAN_MH_YEARS,0)),\"pre-dates plan\")","v":31208.556256353153},{"$f":"IF(ISNUMBER(MATCH(AY10,[2]!SIXTH_PLAN_MH_YEARS,0)),\nINDEX([2]!SIXTH_PLAN_MH,\nMATCH($C$9,[2]!APPLIANCES,0),\nMATCH(AY$10,[2]!SIXTH_PLAN_MH_YEARS,0)),\"pre-dates plan\")","v":31000.566380192358},{"$f":"IF(ISNUMBER(MATCH(AZ10,[2]!SIXTH_PLAN_MH_YEARS,0)),\nINDEX([2]!SIXTH_PLAN_MH,\nMATCH($C$9,[2]!APPLIANCES,0),\nMATCH(AZ$10,[2]!SIXTH_PLAN_MH_YEARS,0)),\"pre-dates plan\")","v":30733.587514410945},{"$f":"IF(ISNUMBER(MATCH(BA10,[2]!SIXTH_PLAN_MH_YEARS,0)),\nINDEX([2]!SIXTH_PLAN_MH,\nMATCH($C$9,[2]!APPLIANCES,0),\nMATCH(BA$10,[2]!SIXTH_PLAN_MH_YEARS,0)),\"pre-dates plan\")","v":30449.906126297577},{"$f":"IF(ISNUMBER(MATCH(BB10,[2]!SIXTH_PLAN_MH_YEARS,0)),\nINDEX([2]!SIXTH_PLAN_MH,\nMATCH($C$9,[2]!APPLIANCES,0),\nMATCH(BB$10,[2]!SIXTH_PLAN_MH_YEARS,0)),\"pre-dates plan\")","v":5373.5825281798398},{"$f":"IF(ISNUMBER(MATCH(BC10,[2]!SIXTH_PLAN_MH_YEARS,0)),\nINDEX([2]!SIXTH_PLAN_MH,\nMATCH($C$9,[2]!APPLIANCES,0),\nMATCH(BC$10,[2]!SIXTH_PLAN_MH_YEARS,0)),\"pre-dates plan\")","v":5373.5825281798398},{"$f":"IF(ISNUMBER(MATCH(BD10,[2]!SIXTH_PLAN_MH_YEARS,0)),\nINDEX([2]!SIXTH_PLAN_MH,\nMATCH($C$9,[2]!APPLIANCES,0),\nMATCH(BD$10,[2]!SIXTH_PLAN_MH_YEARS,0)),\"pre-dates plan\")","v":5373.5825281798398},{"$f":"IF(ISNUMBER(MATCH(BE10,[2]!SIXTH_PLAN_MH_YEARS,0)),\nINDEX([2]!SIXTH_PLAN_MH,\nMATCH($C$9,[2]!APPLIANCES,0),\nMATCH(BE$10,[2]!SIXTH_PLAN_MH_YEARS,0)),\"pre-dates plan\")","v":5373.5825281798398},{"$f":"IF(ISNUMBER(MATCH(BF10,[2]!SIXTH_PLAN_MH_YEARS,0)),\nINDEX([2]!SIXTH_PLAN_MH,\nMATCH($C$9,[2]!APPLIANCES,0),\nMATCH(BF$10,[2]!SIXTH_PLAN_MH_YEARS,0)),\"pre-dates plan\")","v":5373.5825281798398}]
[null,null,"Replacement Shipments","(units)",{"$f":"INDEX([2]!SHIPMENTS_MH,\n((MATCH($C$9,[2]!APPLIANCES,0)-1)*2)+1,\nMATCH(E$10,[2]!SHIPMENTS_MH_YEARS,0))","v":15297.956555205834},{"$f":"INDEX([2]!SHIPMENTS_MH,\n((MATCH($C$9,[2]!APPLIANCES,0)-1)*2)+1,\nMATCH(F$10,[2]!SHIPMENTS_MH_YEARS,0))","v":15297.956555205834},{"$f":"INDEX([2]!SHIPMENTS_MH,\n((MATCH($C$9,[2]!APPLIANCES,0)-1)*2)+1,\nMATCH(G$10,[2]!SHIPMENTS_MH_YEARS,0))","v":15297.956555205834},{"$f":"INDEX([2]!SHIPMENTS_MH,\n((MATCH($C$9,[2]!APPLIANCES,0)-1)*2)+1,\nMATCH(H$10,[2]!SHIPMENTS_MH_YEARS,0))","v":15297.956555205834},{"$f":"INDEX([2]!SHIPMENTS_MH,\n((MATCH($C$9,[2]!APPLIANCES,0)-1)*2)+1,\nMATCH(I$10,[2]!SHIPMENTS_MH_YEARS,0))","v":15297.956555205834},{"$f":"INDEX([2]!SHIPMENTS_MH,\n((MATCH($C$9,[2]!APPLIANCES,0)-1)*2)+1,\nMATCH(J$10,[2]!SHIPMENTS_MH_YEARS,0))","v":15297.956555205834},{"$f":"INDEX([2]!SHIPMENTS_MH,\n((MATCH($C$9,[2]!APPLIANCES,0)-1)*2)+1,\nMATCH(K$10,[2]!SHIPMENTS_MH_YEARS,0))","v":15297.956555205834},{"$f":"INDEX([2]!SHIPMENTS_MH,\n((MATCH($C$9,[2]!APPLIANCES,0)-1)*2)+1,\nMATCH(L$10,[2]!SHIPMENTS_MH_YEARS,0))","v":15297.956555205834},{"$f":"INDEX([2]!SHIPMENTS_MH,\n((MATCH($C$9,[2]!APPLIANCES,0)-1)*2)+1,\nMATCH(M$10,[2]!SHIPMENTS_MH_YEARS,0))","v":15297.956555205834},{"$f":"INDEX([2]!SHIPMENTS_MH,\n((MATCH($C$9,[2]!APPLIANCES,0)-1)*2)+1,\nMATCH(N$10,[2]!SHIPMENTS_MH_YEARS,0))","v":15297.956555205834},{"$f":"INDEX([2]!SHIPMENTS_MH,\n((MATCH($C$9,[2]!APPLIANCES,0)-1)*2)+1,\nMATCH(O$10,[2]!SHIPMENTS_MH_YEARS,0))","v":15297.956555205834},{"$f":"INDEX([2]!SHIPMENTS_MH,\n((MATCH($C$9,[2]!APPLIANCES,0)-1)*2)+1,\nMATCH(P$10,[2]!SHIPMENTS_MH_YEARS,0))","v":15297.956555205834},{"$f":"INDEX([2]!SHIPMENTS_MH,\n((MATCH($C$9,[2]!APPLIANCES,0)-1)*2)+1,\nMATCH(Q$10,[2]!SHIPMENTS_MH_YEARS,0))","v":15297.956555205834},{"$f":"INDEX([2]!SHIPMENTS_MH,\n((MATCH($C$9,[2]!APPLIANCES,0)-1)*2)+1,\nMATCH(R$10,[2]!SHIPMENTS_MH_YEARS,0))","v":15297.956555205834},{"$f":"INDEX([2]!SHIPMENTS_MH,\n((MATCH($C$9,[2]!APPLIANCES,0)-1)*2)+1,\nMATCH(S$10,[2]!SHIPMENTS_MH_YEARS,0))","v":15297.956555205834},{"$f":"INDEX([2]!SHIPMENTS_MH,\n((MATCH($C$9,[2]!APPLIANCES,0)-1)*2)+1,\nMATCH(T$10,[2]!SHIPMENTS_MH_YEARS,0))","v":15297.956555205834},{"$f":"INDEX([2]!SHIPMENTS_MH,\n((MATCH($C$9,[2]!APPLIANCES,0)-1)*2)+1,\nMATCH(U$10,[2]!SHIPMENTS_MH_YEARS,0))","v":15297.956555205834},{"$f":"INDEX([2]!SHIPMENTS_MH,\n((MATCH($C$9,[2]!APPLIANCES,0)-1)*2)+1,\nMATCH(V$10,[2]!SHIPMENTS_MH_YEARS,0))","v":15297.956555205834},{"$f":"INDEX([2]!SHIPMENTS_MH,\n((MATCH($C$9,[2]!APPLIANCES,0)-1)*2)+1,\nMATCH(W$10,[2]!SHIPMENTS_MH_YEARS,0))","v":15297.956555205834},{"$f":"INDEX([2]!SHIPMENTS_MH,\n((MATCH($C$9,[2]!APPLIANCES,0)-1)*2)+1,\nMATCH(X$10,[2]!SHIPMENTS_MH_YEARS,0))","v":26743.645465684793},{"$f":"INDEX([2]!SHIPMENTS_MH,\n((MATCH($C$9,[2]!APPLIANCES,0)-1)*2)+1,\nMATCH(Y$10,[2]!SHIPMENTS_MH_YEARS,0))","v":24542.754441212899},{"$f":"INDEX([2]!SHIPMENTS_MH,\n((MATCH($C$9,[2]!APPLIANCES,0)-1)*2)+1,\nMATCH(Z$10,[2]!SHIPMENTS_MH_YEARS,0))","v":28085.291744871269},{"$f":"INDEX([2]!SHIPMENTS_MH,\n((MATCH($C$9,[2]!APPLIANCES,0)-1)*2)+1,\nMATCH(AA$10,[2]!SHIPMENTS_MH_YEARS,0))","v":27850.952268884255},{"$f":"INDEX([2]!SHIPMENTS_MH,\n((MATCH($C$9,[2]!APPLIANCES,0)-1)*2)+1,\nMATCH(AB$10,[2]!SHIPMENTS_MH_YEARS,0))","v":25948.791297134499},{"$f":"INDEX([2]!SHIPMENTS_MH,\n((MATCH($C$9,[2]!APPLIANCES,0)-1)*2)+1,\nMATCH(AC$10,[2]!SHIPMENTS_MH_YEARS,0))","v":24114.18765179535},{"$f":"INDEX([2]!SHIPMENTS_MH,\n((MATCH($C$9,[2]!APPLIANCES,0)-1)*2)+1,\nMATCH(AD$10,[2]!SHIPMENTS_MH_YEARS,0))","v":23639.175200470519},{"$f":"INDEX([2]!SHIPMENTS_MH,\n((MATCH($C$9,[2]!APPLIANCES,0)-1)*2)+1,\nMATCH(AE$10,[2]!SHIPMENTS_MH_YEARS,0))","v":24849.92915973629},{"$f":"INDEX([2]!SHIPMENTS_MH,\n((MATCH($C$9,[2]!APPLIANCES,0)-1)*2)+1,\nMATCH(AF$10,[2]!SHIPMENTS_MH_YEARS,0))","v":25818.954560439015},{"$f":"INDEX([2]!SHIPMENTS_MH,\n((MATCH($C$9,[2]!APPLIANCES,0)-1)*2)+1,\nMATCH(AG$10,[2]!SHIPMENTS_MH_YEARS,0))","v":27833.007354056492},{"$f":"INDEX([2]!SHIPMENTS_MH,\n((MATCH($C$9,[2]!APPLIANCES,0)-1)*2)+1,\nMATCH(AH$10,[2]!SHIPMENTS_MH_YEARS,0))","v":27769.672360546509},{"$f":"INDEX([2]!SHIPMENTS_MH,\n((MATCH($C$9,[2]!APPLIANCES,0)-1)*2)+1,\nMATCH(AI$10,[2]!SHIPMENTS_MH_YEARS,0))","v":29848.115730899073},{"$f":"INDEX([2]!SHIPMENTS_MH,\n((MATCH($C$9,[2]!APPLIANCES,0)-1)*2)+1,\nMATCH(AJ$10,[2]!SHIPMENTS_MH_YEARS,0))","v":30418.010462421076},{"$f":"INDEX([2]!SHIPMENTS_MH,\n((MATCH($C$9,[2]!APPLIANCES,0)-1)*2)+1,\nMATCH(AK$10,[2]!SHIPMENTS_MH_YEARS,0))","v":33228.871290624171},{"$f":"INDEX([2]!SHIPMENTS_MH,\n((MATCH($C$9,[2]!APPLIANCES,0)-1)*2)+1,\nMATCH(AL$10,[2]!SHIPMENTS_MH_YEARS,0))","v":31998.969603511476},{"$f":"INDEX([2]!SHIPMENTS_MH,\n((MATCH($C$9,[2]!APPLIANCES,0)-1)*2)+1,\nMATCH(AM$10,[2]!SHIPMENTS_MH_YEARS,0))","v":29106.943541997436},{"$f":"INDEX([2]!SHIPMENTS_MH,\n((MATCH($C$9,[2]!APPLIANCES,0)-1)*2)+1,\nMATCH(AN$10,[2]!SHIPMENTS_MH_YEARS,0))","v":29008.758889621851},{"$f":"INDEX([2]!SHIPMENTS_MH,\n((MATCH($C$9,[2]!APPLIANCES,0)-1)*2)+1,\nMATCH(AO$10,[2]!SHIPMENTS_MH_YEARS,0))","v":29428.982451841443},{"$f":"INDEX([2]!SHIPMENTS_MH,\n((MATCH($C$9,[2]!APPLIANCES,0)-1)*2)+1,\nMATCH(AP$10,[2]!SHIPMENTS_MH_YEARS,0))","v":25765.423554045119},{"$f":"INDEX([2]!SHIPMENTS_MH,\n((MATCH($C$9,[2]!APPLIANCES,0)-1)*2)+1,\nMATCH(AQ$10,[2]!SHIPMENTS_MH_YEARS,0))","v":31964.681614275876},{"$f":"INDEX([2]!SHIPMENTS_MH,\n((MATCH($C$9,[2]!APPLIANCES,0)-1)*2)+1,\nMATCH(AR$10,[2]!SHIPMENTS_MH_YEARS,0))","v":27367.329995223474},{"$f":"INDEX([2]!SHIPMENTS_MH,\n((MATCH($C$9,[2]!APPLIANCES,0)-1)*2)+1,\nMATCH(AS$10,[2]!SHIPMENTS_MH_YEARS,0))","v":30968.555289198965},{"$f":"INDEX([2]!SHIPMENTS_MH,\n((MATCH($C$9,[2]!APPLIANCES,0)-1)*2)+1,\nMATCH(AT$10,[2]!SHIPMENTS_MH_YEARS,0))","v":30063.514590778123},{"$f":"INDEX([2]!SHIPMENTS_MH,\n((MATCH($C$9,[2]!APPLIANCES,0)-1)*2)+1,\nMATCH(AU$10,[2]!SHIPMENTS_MH_YEARS,0))","v":27823.658873606379},{"$f":"INDEX([2]!SHIPMENTS_MH,\n((MATCH($C$9,[2]!APPLIANCES,0)-1)*2)+1,\nMATCH(AV$10,[2]!SHIPMENTS_MH_YEARS,0))","v":25879.500470821527},{"$f":"INDEX([2]!SHIPMENTS_MH,\n((MATCH($C$9,[2]!APPLIANCES,0)-1)*2)+1,\nMATCH(AW$10,[2]!SHIPMENTS_MH_YEARS,0))","v":25000.94777089791},{"$f":"INDEX([2]!SHIPMENTS_MH,\n((MATCH($C$9,[2]!APPLIANCES,0)-1)*2)+1,\nMATCH(AX$10,[2]!SHIPMENTS_MH_YEARS,0))","v":27689.198768266273},{"$f":"INDEX([2]!SHIPMENTS_MH,\n((MATCH($C$9,[2]!APPLIANCES,0)-1)*2)+1,\nMATCH(AY$10,[2]!SHIPMENTS_MH_YEARS,0))","v":28798.640362092323},{"$f":"INDEX([2]!SHIPMENTS_MH,\n((MATCH($C$9,[2]!APPLIANCES,0)-1)*2)+1,\nMATCH(AZ$10,[2]!SHIPMENTS_MH_YEARS,0))","v":30789.461484457977},{"$f":"INDEX([2]!SHIPMENTS_MH,\n((MATCH($C$9,[2]!APPLIANCES,0)-1)*2)+1,\nMATCH(BA$10,[2]!SHIPMENTS_MH_YEARS,0))","v":30620.834256932576},{"$f":"INDEX([2]!SHIPMENTS_MH,\n((MATCH($C$9,[2]!APPLIANCES,0)-1)*2)+1,\nMATCH(BB$10,[2]!SHIPMENTS_MH_YEARS,0))","v":32446.391206266162},{"$f":"INDEX([2]!SHIPMENTS_MH,\n((MATCH($C$9,[2]!APPLIANCES,0)-1)*2)+1,\nMATCH(BC$10,[2]!SHIPMENTS_MH_YEARS,0))","v":37694.750784491269},{"$f":"INDEX([2]!SHIPMENTS_MH,\n((MATCH($C$9,[2]!APPLIANCES,0)-1)*2)+1,\nMATCH(BD$10,[2]!SHIPMENTS_MH_YEARS,0))","v":40181.543272756884},{"$f":"INDEX([2]!SHIPMENTS_MH,\n((MATCH($C$9,[2]!APPLIANCES,0)-1)*2)+1,\nMATCH(BE$10,[2]!SHIPMENTS_MH_YEARS,0))","v":38536.689248723997},{"$f":"INDEX([2]!SHIPMENTS_MH,\n((MATCH($C$9,[2]!APPLIANCES,0)-1)*2)+1,\nMATCH(BF$10,[2]!SHIPMENTS_MH_YEARS,0))","v":35260.623173984561}]
[null,null,"Net New Shipments","(units)",{"$f":"INDEX([2]!SHIPMENTS_MH,\n((MATCH($C$9,[2]!APPLIANCES,0)-1)*2)+2,\nMATCH(E$10,[2]!SHIPMENTS_MH_YEARS,0))","v":11445.688910478959},{"$f":"INDEX([2]!SHIPMENTS_MH,\n((MATCH($C$9,[2]!APPLIANCES,0)-1)*2)+2,\nMATCH(F$10,[2]!SHIPMENTS_MH_YEARS,0))","v":9244.7978860070634},{"$f":"INDEX([2]!SHIPMENTS_MH,\n((MATCH($C$9,[2]!APPLIANCES,0)-1)*2)+2,\nMATCH(G$10,[2]!SHIPMENTS_MH_YEARS,0))","v":12787.335189665435},{"$f":"INDEX([2]!SHIPMENTS_MH,\n((MATCH($C$9,[2]!APPLIANCES,0)-1)*2)+2,\nMATCH(H$10,[2]!SHIPMENTS_MH_YEARS,0))","v":12552.995713678421},{"$f":"INDEX([2]!SHIPMENTS_MH,\n((MATCH($C$9,[2]!APPLIANCES,0)-1)*2)+2,\nMATCH(I$10,[2]!SHIPMENTS_MH_YEARS,0))","v":10650.834741928667},{"$f":"INDEX([2]!SHIPMENTS_MH,\n((MATCH($C$9,[2]!APPLIANCES,0)-1)*2)+2,\nMATCH(J$10,[2]!SHIPMENTS_MH_YEARS,0))","v":8816.2310965895176},{"$f":"INDEX([2]!SHIPMENTS_MH,\n((MATCH($C$9,[2]!APPLIANCES,0)-1)*2)+2,\nMATCH(K$10,[2]!SHIPMENTS_MH_YEARS,0))","v":8341.2186452646856},{"$f":"INDEX([2]!SHIPMENTS_MH,\n((MATCH($C$9,[2]!APPLIANCES,0)-1)*2)+2,\nMATCH(L$10,[2]!SHIPMENTS_MH_YEARS,0))","v":9551.972604530456},{"$f":"INDEX([2]!SHIPMENTS_MH,\n((MATCH($C$9,[2]!APPLIANCES,0)-1)*2)+2,\nMATCH(M$10,[2]!SHIPMENTS_MH_YEARS,0))","v":10520.998005233181},{"$f":"INDEX([2]!SHIPMENTS_MH,\n((MATCH($C$9,[2]!APPLIANCES,0)-1)*2)+2,\nMATCH(N$10,[2]!SHIPMENTS_MH_YEARS,0))","v":12535.050798850658},{"$f":"INDEX([2]!SHIPMENTS_MH,\n((MATCH($C$9,[2]!APPLIANCES,0)-1)*2)+2,\nMATCH(O$10,[2]!SHIPMENTS_MH_YEARS,0))","v":12471.715805340675},{"$f":"INDEX([2]!SHIPMENTS_MH,\n((MATCH($C$9,[2]!APPLIANCES,0)-1)*2)+2,\nMATCH(P$10,[2]!SHIPMENTS_MH_YEARS,0))","v":14550.159175693238},{"$f":"INDEX([2]!SHIPMENTS_MH,\n((MATCH($C$9,[2]!APPLIANCES,0)-1)*2)+2,\nMATCH(Q$10,[2]!SHIPMENTS_MH_YEARS,0))","v":15120.053907215246},{"$f":"INDEX([2]!SHIPMENTS_MH,\n((MATCH($C$9,[2]!APPLIANCES,0)-1)*2)+2,\nMATCH(R$10,[2]!SHIPMENTS_MH_YEARS,0))","v":17930.914735418337},{"$f":"INDEX([2]!SHIPMENTS_MH,\n((MATCH($C$9,[2]!APPLIANCES,0)-1)*2)+2,\nMATCH(S$10,[2]!SHIPMENTS_MH_YEARS,0))","v":16701.013048305642},{"$f":"INDEX([2]!SHIPMENTS_MH,\n((MATCH($C$9,[2]!APPLIANCES,0)-1)*2)+2,\nMATCH(T$10,[2]!SHIPMENTS_MH_YEARS,0))","v":13808.986986791599},{"$f":"INDEX([2]!SHIPMENTS_MH,\n((MATCH($C$9,[2]!APPLIANCES,0)-1)*2)+2,\nMATCH(U$10,[2]!SHIPMENTS_MH_YEARS,0))","v":13710.802334416017},{"$f":"INDEX([2]!SHIPMENTS_MH,\n((MATCH($C$9,[2]!APPLIANCES,0)-1)*2)+2,\nMATCH(V$10,[2]!SHIPMENTS_MH_YEARS,0))","v":14131.025896635605},{"$f":"INDEX([2]!SHIPMENTS_MH,\n((MATCH($C$9,[2]!APPLIANCES,0)-1)*2)+2,\nMATCH(W$10,[2]!SHIPMENTS_MH_YEARS,0))","v":10467.466998839285},{"$f":"INDEX([2]!SHIPMENTS_MH,\n((MATCH($C$9,[2]!APPLIANCES,0)-1)*2)+2,\nMATCH(X$10,[2]!SHIPMENTS_MH_YEARS,0))","v":5221.0361485910835},{"$f":"INDEX([2]!SHIPMENTS_MH,\n((MATCH($C$9,[2]!APPLIANCES,0)-1)*2)+2,\nMATCH(Y$10,[2]!SHIPMENTS_MH_YEARS,0))","v":2824.5755540105747},{"$f":"INDEX([2]!SHIPMENTS_MH,\n((MATCH($C$9,[2]!APPLIANCES,0)-1)*2)+2,\nMATCH(Z$10,[2]!SHIPMENTS_MH_YEARS,0))","v":2883.2635443276959},{"$f":"INDEX([2]!SHIPMENTS_MH,\n((MATCH($C$9,[2]!APPLIANCES,0)-1)*2)+2,\nMATCH(AA$10,[2]!SHIPMENTS_MH_YEARS,0))","v":2212.5623218938708},{"$f":"INDEX([2]!SHIPMENTS_MH,\n((MATCH($C$9,[2]!APPLIANCES,0)-1)*2)+2,\nMATCH(AB$10,[2]!SHIPMENTS_MH_YEARS,0))","v":1874.8675764718791},{"$f":"INDEX([2]!SHIPMENTS_MH,\n((MATCH($C$9,[2]!APPLIANCES,0)-1)*2)+2,\nMATCH(AC$10,[2]!SHIPMENTS_MH_YEARS,0))","v":1765.3128190261777},{"$f":"INDEX([2]!SHIPMENTS_MH,\n((MATCH($C$9,[2]!APPLIANCES,0)-1)*2)+2,\nMATCH(AD$10,[2]!SHIPMENTS_MH_YEARS,0))","v":1361.7725704273907},{"$f":"INDEX([2]!SHIPMENTS_MH,\n((MATCH($C$9,[2]!APPLIANCES,0)-1)*2)+2,\nMATCH(AE$10,[2]!SHIPMENTS_MH_YEARS,0))","v":2839.2696085299831},{"$f":"INDEX([2]!SHIPMENTS_MH,\n((MATCH($C$9,[2]!APPLIANCES,0)-1)*2)+2,\nMATCH(AF$10,[2]!SHIPMENTS_MH_YEARS,0))","v":2979.6858016533079},{"$f":"INDEX([2]!SHIPMENTS_MH,\n((MATCH($C$9,[2]!APPLIANCES,0)-1)*2)+2,\nMATCH(AG$10,[2]!SHIPMENTS_MH_YEARS,0))","v":2956.4541304014856},{"$f":"INDEX([2]!SHIPMENTS_MH,\n((MATCH($C$9,[2]!APPLIANCES,0)-1)*2)+2,\nMATCH(AH$10,[2]!SHIPMENTS_MH_YEARS,0))","v":2851.1618963860674},{"$f":"INDEX([2]!SHIPMENTS_MH,\n((MATCH($C$9,[2]!APPLIANCES,0)-1)*2)+2,\nMATCH(AI$10,[2]!SHIPMENTS_MH_YEARS,0))","v":2598.2754753670888},{"$f":"INDEX([2]!SHIPMENTS_MH,\n((MATCH($C$9,[2]!APPLIANCES,0)-1)*2)+2,\nMATCH(AJ$10,[2]!SHIPMENTS_MH_YEARS,0))","v":7276.7403220701963},{"$f":"INDEX([2]!SHIPMENTS_MH,\n((MATCH($C$9,[2]!APPLIANCES,0)-1)*2)+2,\nMATCH(AK$10,[2]!SHIPMENTS_MH_YEARS,0))","v":6952.6719821327133},{"$f":"INDEX([2]!SHIPMENTS_MH,\n((MATCH($C$9,[2]!APPLIANCES,0)-1)*2)+2,\nMATCH(AL$10,[2]!SHIPMENTS_MH_YEARS,0))","v":6537.7196452125208},{"$f":"INDEX([2]!SHIPMENTS_MH,\n((MATCH($C$9,[2]!APPLIANCES,0)-1)*2)+2,\nMATCH(AM$10,[2]!SHIPMENTS_MH_YEARS,0))","v":6153.679631987121},{"$f":"INDEX([2]!SHIPMENTS_MH,\n((MATCH($C$9,[2]!APPLIANCES,0)-1)*2)+2,\nMATCH(AN$10,[2]!SHIPMENTS_MH_YEARS,0))","v":5862.843466173741},{"$f":"INDEX([2]!SHIPMENTS_MH,\n((MATCH($C$9,[2]!APPLIANCES,0)-1)*2)+2,\nMATCH(AO$10,[2]!SHIPMENTS_MH_YEARS,0))","v":5694.2334684026428},{"$f":"INDEX([2]!SHIPMENTS_MH,\n((MATCH($C$9,[2]!APPLIANCES,0)-1)*2)+2,\nMATCH(AP$10,[2]!SHIPMENTS_MH_YEARS,0))","v":5664.0362755171955},{"$f":"INDEX([2]!SHIPMENTS_MH,\n((MATCH($C$9,[2]!APPLIANCES,0)-1)*2)+2,\nMATCH(AQ$10,[2]!SHIPMENTS_MH_YEARS,0))","v":5765.6821889904095},{"$f":"INDEX([2]!SHIPMENTS_MH,\n((MATCH($C$9,[2]!APPLIANCES,0)-1)*2)+2,\nMATCH(AR$10,[2]!SHIPMENTS_MH_YEARS,0))","v":5963.0211586400401},{"$f":"INDEX([2]!SHIPMENTS_MH,\n((MATCH($C$9,[2]!APPLIANCES,0)-1)*2)+2,\nMATCH(AS$10,[2]!SHIPMENTS_MH_YEARS,0))","v":6215.9052764059743},{"$f":"INDEX([2]!SHIPMENTS_MH,\n((MATCH($C$9,[2]!APPLIANCES,0)-1)*2)+2,\nMATCH(AT$10,[2]!SHIPMENTS_MH_YEARS,0))","v":6469.7058260969352},{"$f":"INDEX([2]!SHIPMENTS_MH,\n((MATCH($C$9,[2]!APPLIANCES,0)-1)*2)+2,\nMATCH(AU$10,[2]!SHIPMENTS_MH_YEARS,0))","v":6671.7625219868496},{"$f":"INDEX([2]!SHIPMENTS_MH,\n((MATCH($C$9,[2]!APPLIANCES,0)-1)*2)+2,\nMATCH(AV$10,[2]!SHIPMENTS_MH_YEARS,0))","v":6782.18516946421},{"$f":"INDEX([2]!SHIPMENTS_MH,\n((MATCH($C$9,[2]!APPLIANCES,0)-1)*2)+2,\nMATCH(AW$10,[2]!SHIPMENTS_MH_YEARS,0))","v":6778.3454773062886},{"$f":"INDEX([2]!SHIPMENTS_MH,\n((MATCH($C$9,[2]!APPLIANCES,0)-1)*2)+2,\nMATCH(AX$10,[2]!SHIPMENTS_MH_YEARS,0))","v":6658.0385911000194},{"$f":"INDEX([2]!SHIPMENTS_MH,\n((MATCH($C$9,[2]!APPLIANCES,0)-1)*2)+2,\nMATCH(AY$10,[2]!SHIPMENTS_MH_YEARS,0))","v":6441.2823969153687},{"$f":"INDEX([2]!SHIPMENTS_MH,\n((MATCH($C$9,[2]!APPLIANCES,0)-1)*2)+2,\nMATCH(AZ$10,[2]!SHIPMENTS_MH_YEARS,0))","v":6163.0509563148953},{"$f":"INDEX([2]!SHIPMENTS_MH,\n((MATCH($C$9,[2]!APPLIANCES,0)-1)*2)+2,\nMATCH(BA$10,[2]!SHIPMENTS_MH_YEARS,0))","v":5867.4130186254624},{"$f":"INDEX([2]!SHIPMENTS_MH,\n((MATCH($C$9,[2]!APPLIANCES,0)-1)*2)+2,\nMATCH(BB$10,[2]!SHIPMENTS_MH_YEARS,0))","v":5600.0672698367853},{"$f":"INDEX([2]!SHIPMENTS_MH,\n((MATCH($C$9,[2]!APPLIANCES,0)-1)*2)+2,\nMATCH(BC$10,[2]!SHIPMENTS_MH_YEARS,0))","v":5656.067942535039},{"$f":"INDEX([2]!SHIPMENTS_MH,\n((MATCH($C$9,[2]!APPLIANCES,0)-1)*2)+2,\nMATCH(BD$10,[2]!SHIPMENTS_MH_YEARS,0))","v":5712.6286219604081},{"$f":"INDEX([2]!SHIPMENTS_MH,\n((MATCH($C$9,[2]!APPLIANCES,0)-1)*2)+2,\nMATCH(BE$10,[2]!SHIPMENTS_MH_YEARS,0))","v":5769.7549081800971},{"$f":"INDEX([2]!SHIPMENTS_MH,\n((MATCH($C$9,[2]!APPLIANCES,0)-1)*2)+2,\nMATCH(BF$10,[2]!SHIPMENTS_MH_YEARS,0))","v":5827.4524572618539}]
[null,null,"Total Model Shipments","(units)",{"$f":"SUM(E12:E13)","v":26743.645465684793},{"$f":"SUM(F12:F13)","v":24542.754441212899},28085.291744871269,27850.952268884255,25948.791297134499,24114.18765179535,23639.175200470519,24849.92915973629,25818.954560439015,27833.007354056492,27769.672360546509,29848.115730899073,30418.01046242108,33228.871290624171,31998.969603511476,29106.943541997432,29008.758889621851,29428.982451841439,25765.423554045119,31964.681614275876,27367.329995223474,30968.555289198965,30063.514590778126,27823.658873606379,25879.500470821527,25000.94777089791,27689.198768266273,28798.640362092323,30789.461484457977,30620.834256932576,32446.391206266162,37694.750784491276,40181.543272756884,38536.689248723997,35260.623173984553,34871.602355795592,35123.215920244082,31429.459829562315,37730.363803266286,33330.351153863514,37184.460565604939,36533.220416875061,34495.421395593228,32661.685640285737,31779.293248204198,34347.237359366292,35239.922759007692,36952.512440772873,36488.247275558038,38046.458476102947,43350.818727026308,45894.171894717292,44306.444156904094,41088.075631246415]
[null,null,"Model Installed Stock","(units)",{"$f":"INDEX([2]!STOCK_MH,\nMATCH($C$9,[2]!APPLIANCES,0),\nMATCH(E$10,[2]!STOCK_MH_YEARS,0))","v":302106.86345938977},{"$f":"INDEX([2]!STOCK_MH,\nMATCH($C$9,[2]!APPLIANCES,0),\nMATCH(F$10,[2]!STOCK_MH_YEARS,0))","v":311351.66134539683},{"$f":"INDEX([2]!STOCK_MH,\nMATCH($C$9,[2]!APPLIANCES,0),\nMATCH(G$10,[2]!STOCK_MH_YEARS,0))","v":324138.99653506227},{"$f":"INDEX([2]!STOCK_MH,\nMATCH($C$9,[2]!APPLIANCES,0),\nMATCH(H$10,[2]!STOCK_MH_YEARS,0))","v":336691.99224874069},{"$f":"INDEX([2]!STOCK_MH,\nMATCH($C$9,[2]!APPLIANCES,0),\nMATCH(I$10,[2]!STOCK_MH_YEARS,0))","v":347342.82699066936},{"$f":"INDEX([2]!STOCK_MH,\nMATCH($C$9,[2]!APPLIANCES,0),\nMATCH(J$10,[2]!STOCK_MH_YEARS,0))","v":356159.05808725889},{"$f":"INDEX([2]!STOCK_MH,\nMATCH($C$9,[2]!APPLIANCES,0),\nMATCH(K$10,[2]!STOCK_MH_YEARS,0))","v":364500.27673252358},{"$f":"INDEX([2]!STOCK_MH,\nMATCH($C$9,[2]!APPLIANCES,0),\nMATCH(L$10,[2]!STOCK_MH_YEARS,0))","v":374052.24933705403},{"$f":"INDEX([2]!STOCK_MH,\nMATCH($C$9,[2]!APPLIANCES,0),\nMATCH(M$10,[2]!STOCK_MH_YEARS,0))","v":384573.24734228721},{"$f":"INDEX([2]!STOCK_MH,\nMATCH($C$9,[2]!APPLIANCES,0),\nMATCH(N$10,[2]!STOCK_MH_YEARS,0))","v":397108.29814113787},{"$f":"INDEX([2]!STOCK_MH,\nMATCH($C$9,[2]!APPLIANCES,0),\nMATCH(O$10,[2]!STOCK_MH_YEARS,0))","v":409580.01394647855},{"$f":"INDEX([2]!STOCK_MH,\nMATCH($C$9,[2]!APPLIANCES,0),\nMATCH(P$10,[2]!STOCK_MH_YEARS,0))","v":424130.17312217178},{"$f":"INDEX([2]!STOCK_MH,\nMATCH($C$9,[2]!APPLIANCES,0),\nMATCH(Q$10,[2]!STOCK_MH_YEARS,0))","v":439250.22702938702},{"$f":"INDEX([2]!STOCK_MH,\nMATCH($C$9,[2]!APPLIANCES,0),\nMATCH(R$10,[2]!STOCK_MH_YEARS,0))","v":457181.14176480536},{"$f":"INDEX([2]!STOCK_MH,\nMATCH($C$9,[2]!APPLIANCES,0),\nMATCH(S$10,[2]!STOCK_MH_YEARS,0))","v":473882.154813111},{"$f":"INDEX([2]!STOCK_MH,\nMATCH($C$9,[2]!APPLIANCES,0),\nMATCH(T$10,[2]!STOCK_MH_YEARS,0))","v":487691.1417999026},{"$f":"INDEX([2]!STOCK_MH,\nMATCH($C$9,[2]!APPLIANCES,0),\nMATCH(U$10,[2]!STOCK_MH_YEARS,0))","v":501401.94413431862},{"$f":"INDEX([2]!STOCK_MH,\nMATCH($C$9,[2]!APPLIANCES,0),\nMATCH(V$10,[2]!STOCK_MH_YEARS,0))","v":515532.97003095422},{"$f":"INDEX([2]!STOCK_MH,\nMATCH($C$9,[2]!APPLIANCES,0),\nMATCH(W$10,[2]!STOCK_MH_YEARS,0))","v":526000.43702979351},{"$f":"INDEX([2]!STOCK_MH,\nMATCH($C$9,[2]!APPLIANCES,0),\nMATCH(X$10,[2]!STOCK_MH_YEARS,0))","v":531221.47317838459},{"$f":"INDEX([2]!STOCK_MH,\nMATCH($C$9,[2]!APPLIANCES,0),\nMATCH(Y$10,[2]!STOCK_MH_YEARS,0))","v":534046.04873239517},{"$f":"INDEX([2]!STOCK_MH,\nMATCH($C$9,[2]!APPLIANCES,0),\nMATCH(Z$10,[2]!STOCK_MH_YEARS,0))","v":536929.31227672286},{"$f":"INDEX([2]!STOCK_MH,\nMATCH($C$9,[2]!APPLIANCES,0),\nMATCH(AA$10,[2]!STOCK_MH_YEARS,0))","v":539141.87459861673},{"$f":"INDEX([2]!STOCK_MH,\nMATCH($C$9,[2]!APPLIANCES,0),\nMATCH(AB$10,[2]!STOCK_MH_YEARS,0))","v":541016.74217508861},{"$f":"INDEX([2]!STOCK_MH,\nMATCH($C$9,[2]!APPLIANCES,0),\nMATCH(AC$10,[2]!STOCK_MH_YEARS,0))","v":542782.05499411479},{"$f":"INDEX([2]!STOCK_MH,\nMATCH($C$9,[2]!APPLIANCES,0),\nMATCH(AD$10,[2]!STOCK_MH_YEARS,0))","v":544143.82756454218},{"$f":"INDEX([2]!STOCK_MH,\nMATCH($C$9,[2]!APPLIANCES,0),\nMATCH(AE$10,[2]!STOCK_MH_YEARS,0))","v":546983.09717307216},{"$f":"INDEX([2]!STOCK_MH,\nMATCH($C$9,[2]!APPLIANCES,0),\nMATCH(AF$10,[2]!STOCK_MH_YEARS,0))","v":549962.78297472547},{"$f":"INDEX([2]!STOCK_MH,\nMATCH($C$9,[2]!APPLIANCES,0),\nMATCH(AG$10,[2]!STOCK_MH_YEARS,0))","v":552919.23710512696},{"$f":"INDEX([2]!STOCK_MH,\nMATCH($C$9,[2]!APPLIANCES,0),\nMATCH(AH$10,[2]!STOCK_MH_YEARS,0))","v":555770.39900151303},{"$f":"INDEX([2]!STOCK_MH,\nMATCH($C$9,[2]!APPLIANCES,0),\nMATCH(AI$10,[2]!STOCK_MH_YEARS,0))","v":558368.67447688011},{"$f":"INDEX([2]!STOCK_MH,\nMATCH($C$9,[2]!APPLIANCES,0),\nMATCH(AJ$10,[2]!STOCK_MH_YEARS,0))","v":565645.41479895031},{"$f":"INDEX([2]!STOCK_MH,\nMATCH($C$9,[2]!APPLIANCES,0),\nMATCH(AK$10,[2]!STOCK_MH_YEARS,0))","v":572598.08678108302},{"$f":"INDEX([2]!STOCK_MH,\nMATCH($C$9,[2]!APPLIANCES,0),\nMATCH(AL$10,[2]!STOCK_MH_YEARS,0))","v":579135.80642629554},{"$f":"INDEX([2]!STOCK_MH,\nMATCH($C$9,[2]!APPLIANCES,0),\nMATCH(AM$10,[2]!STOCK_MH_YEARS,0))","v":585289.48605828267},{"$f":"INDEX([2]!STOCK_MH,\nMATCH($C$9,[2]!APPLIANCES,0),\nMATCH(AN$10,[2]!STOCK_MH_YEARS,0))","v":591152.32952445641},{"$f":"INDEX([2]!STOCK_MH,\nMATCH($C$9,[2]!APPLIANCES,0),\nMATCH(AO$10,[2]!STOCK_MH_YEARS,0))","v":596846.56299285905},{"$f":"INDEX([2]!STOCK_MH,\nMATCH($C$9,[2]!APPLIANCES,0),\nMATCH(AP$10,[2]!STOCK_MH_YEARS,0))","v":602510.59926837625},{"$f":"INDEX([2]!STOCK_MH,\nMATCH($C$9,[2]!APPLIANCES,0),\nMATCH(AQ$10,[2]!STOCK_MH_YEARS,0))","v":608276.28145736665},{"$f":"INDEX([2]!STOCK_MH,\nMATCH($C$9,[2]!APPLIANCES,0),\nMATCH(AR$10,[2]!STOCK_MH_YEARS,0))","v":614239.30261600669},{"$f":"INDEX([2]!STOCK_MH,\nMATCH($C$9,[2]!APPLIANCES,0),\nMATCH(AS$10,[2]!STOCK_MH_YEARS,0))","v":620455.20789241267},{"$f":"INDEX([2]!STOCK_MH,\nMATCH($C$9,[2]!APPLIANCES,0),\nMATCH(AT$10,[2]!STOCK_MH_YEARS,0))","v":626924.9137185096},{"$f":"INDEX([2]!STOCK_MH,\nMATCH($C$9,[2]!APPLIANCES,0),\nMATCH(AU$10,[2]!STOCK_MH_YEARS,0))","v":633596.67624049645},{"$f":"INDEX([2]!STOCK_MH,\nMATCH($C$9,[2]!APPLIANCES,0),\nMATCH(AV$10,[2]!STOCK_MH_YEARS,0))","v":640378.86140996066},{"$f":"INDEX([2]!STOCK_MH,\nMATCH($C$9,[2]!APPLIANCES,0),\nMATCH(AW$10,[2]!STOCK_MH_YEARS,0))","v":647157.20688726695},{"$f":"INDEX([2]!STOCK_MH,\nMATCH($C$9,[2]!APPLIANCES,0),\nMATCH(AX$10,[2]!STOCK_MH_YEARS,0))","v":653815.24547836697},{"$f":"INDEX([2]!STOCK_MH,\nMATCH($C$9,[2]!APPLIANCES,0),\nMATCH(AY$10,[2]!STOCK_MH_YEARS,0))","v":660256.52787528234},{"$f":"INDEX([2]!STOCK_MH,\nMATCH($C$9,[2]!APPLIANCES,0),\nMATCH(AZ$10,[2]!STOCK_MH_YEARS,0))","v":666419.57883159723},{"$f":"INDEX([2]!STOCK_MH,\nMATCH($C$9,[2]!APPLIANCES,0),\nMATCH(BA$10,[2]!STOCK_MH_YEARS,0))","v":672286.99185022269},{"$f":"INDEX([2]!STOCK_MH,\nMATCH($C$9,[2]!APPLIANCES,0),\nMATCH(BB$10,[2]!STOCK_MH_YEARS,0))","v":677887.05912005948},{"$f":"INDEX([2]!STOCK_MH,\nMATCH($C$9,[2]!APPLIANCES,0),\nMATCH(BC$10,[2]!STOCK_MH_YEARS,0))","v":683543.12706259452},{"$f":"INDEX([2]!STOCK_MH,\nMATCH($C$9,[2]!APPLIANCES,0),\nMATCH(BD$10,[2]!STOCK_MH_YEARS,0))","v":689255.75568455493},{"$f":"INDEX([2]!STOCK_MH,\nMATCH($C$9,[2]!APPLIANCES,0),\nMATCH(BE$10,[2]!STOCK_MH_YEARS,0))","v":695025.51059273502},{"$f":"INDEX([2]!STOCK_MH,\nMATCH($C$9,[2]!APPLIANCES,0),\nMATCH(BF$10,[2]!STOCK_MH_YEARS,0))","v":700852.96304999688}]

{"sheet":"Efficiency Dist - SF","index":11,"n_rows":59,"n_cols":62,"rows_kept":59,"cut":false,"hidden":false,"merged":[[1,2,1,6],[3,2,3,6],[5,2,5,6]]}
[]
[null,null,"Efficiency Distributions by Product Class - Single Family"]
[]
[null,null,"NAVIGATION"]
[]
[null,null,"COMMENTS"]
[]
[]
[null,null,"PC1",{"$f":"OFFSET('Product Classes'!$C$9,MATCH(C9,MODEL_PCS,0),0)","v":"Gas Ovens—Standards Ovens With or Without a Catalytic Line"}]
[]
[null,null,null,"PRE-Case",null,"Static Distribution"]
[null,null,null,"Efficiency Level","UEC (kWh / year)",2011,null,null,1981,1982,1983,1984,1985,1986,1987,1988,1989,1990,1991,1992,1993,1994,1995,1996,1997,1998,1999,2000,2001,2002,2003,2004,2005,2006,2007,2008,2009,2010,2011,2012,2013,2014,2015,2016,2017,2018,2019,2020,2021,2022,2023,2024,2025,2026,2027,2028,2029,2030,2031,2032,2033,2034]
[null,null,null,"EL0",{"$f":"OFFSET('Efficiency Levels'!$D$11,MATCH($C$9,'Efficiency Levels'!$C$9:$C$1002,0)+RIGHT(D13,1),0)","v":370},1,null,null,{"$f":"$F13","v":1},1,1,1,1,1,1,1,{"$f":"$F13","v":1},1,1,1,1,1,1,1,1,1,1,1,1,1,1,1,{"$f":"$F13","v":1},1,1,1,1,1,1,1,1,1,1,1,1,1,1,1,1,1,1,1,1,1,1,1,1,1,1,1,1,1]
[null,null,null,"EL1",{"$f":"OFFSET('Efficiency Levels'!$D$11,MATCH($C$9,'Efficiency Levels'!$C$9:$C$1002,0)+RIGHT(D14,1),0)","v":327.7},0,null,null,0,0,0,0,0,0,0,0,0,0,0,0,0,0,0,0,0,0,0,0,0,0,0,0,0,0,0,0,0,0,0,0,0,0,0,0,0,0,0,0,0,0,0,0,0,0,0,0,0,0,0,0,0,0]
[null,null,null,"EL2",{"$f":"OFFSET('Efficiency Levels'!$D$11,MATCH($C$9,'Efficiency Levels'!$C$9:$C$1002,0)+RIGHT(D15,1),0)","v":316.10000000000002},0,null,null,0,0,0,0,0,0,0,0,0,0,0,0,0,0,0,0,0,0,0,0,0,0,0,0,0,0,0,0,0,0,0,0,0,0,0,0,0,0,0,0,0,0,0,0,0,0,0,0,0,0,0,0,0,0]
[null,null,null,"EL3",{"$f":"OFFSET('Efficiency Levels'!$D$11,MATCH($C$9,'Efficiency Levels'!$C$9:$C$1002,0)+RIGHT(D16,1),0)","v":304.8},0,null,null,0,0,0,0,0,0,0,0,0,0,0,0,0,0,0,0,0,0,0,0,0,0,0,0,0,0,0,0,0,0,0,0,0,0,0,0,0,0,0,0,0,0,0,0,0,0,0,0,0,0,0,0,0,0]
[null,null,null,"EL4",{"$f":"OFFSET('Efficiency Levels'!$D$11,MATCH($C$9,'Efficiency Levels'!$C$9:$C$1002,0)+RIGHT(D17,1),0)","v":300.89999999999998},0,null,null,0,0,0,0,0,0,0,0,0,0,0,0,0,0,0,0,0,0,0,0,0,0,0,0,0,0,0,0,0,0,0,0,0,0,0,0,0,0,0,0,0,0,0,0,0,0,0,0,0,0,0,0,0,0]
[null,null,null,"EL5",{"$f":"OFFSET('Efficiency Levels'!$D$11,MATCH($C$9,'Efficiency Levels'!$C$9:$C$1002,0)+RIGHT(D18,1),0)","v":300.3},0,null,null,0,0,0,0,0,0,0,0,0,0,0,0,0,0,0,0,0,0,0,0,0,0,0,0,0,0,0,0,0,0,0,0,0,0,0,0,0,0,0,0,0,0,0,0,0,0,0,0,0,0,0,0,0,0]
[null,null,null,"EL6",{"$f":"OFFSET('Efficiency Levels'!$D$11,MATCH($C$9,'Efficiency Levels'!$C$9:$C$1002,0)+RIGHT(D19,1),0)","v":295.2},0,null,null,0,0,0,0,0,0,0,0,0,0,0,0,0,0,0,0,0,0,0,0,0,0,0,0,0,0,0,0,0,0,0,0,0,0,0,0,0,0,0,0,0,0,0,0,0,0,0,0,0,0,0,0,0,0]
[null,null,null,"EL7",{"$f":"OFFSET('Efficiency Levels'!$D$11,MATCH($C$9,'Efficiency Levels'!$C$9:$C$1002,0)+RIGHT(D20,1),0)","v":255},0,null,null,0,0,0,0,0,0,0,0,0,0,0,0,0,0,0,0,0,0,0,0,0,0,0,0,0,0,0,0,0,0,0,0,0,0,0,0,0,0,0,0,0,0,0,0,0,0,0,0,0,0,0,0,0,0]
[null,null,null,"TOTAL",null,{"$f":"SUM(F13:F20)","v":1},null,null,{"$f":"SUM(I13:I20)","v":1},1,1,1,1,1,1,1,{"$f":"SUM(Q13:Q20)","v":1},1,1,1,1,1,1,1,1,1,1,1,1,1,1,1,1,1,1,1,1,1,1,1,1,1,1,1,1,1,1,1,1,1,1,1,1,1,1,1,1,1,1,1,1,{"$f":"SUM(BJ13:BJ20)","v":1}]
[]
[null,null,null,"POST-Case"]
[null,null,null,"Efficiency Level","UEC (kWh / year)",null,null,null,1981,1982,1983,1984,1985,1986,1987,1988,1989,1990,1991,1992,1993,1994,1995,1996,1997,1998,1999,2000,2001,2002,2003,2004,2005,2006,2007,2008,2009,2010,2011,2012,2013,2014,2015,2016,2017,2018,2019,2020,2021,2022,2023,2024,2025,2026,2027,2028,2029,2030,2031,2032,2033,2034]
[null,null,null,"EL0",{"$f":"OFFSET('Efficiency Levels'!$D$11,MATCH($C$9,'Efficiency Levels'!$C$9:$C$1002,0)+RIGHT(D25,1),0)","v":370},null,null,null,{"$f":"IF(I$24<STANDARD_YEAR,I13,\nIF(RIGHT($D25,1)>RIGHT('Efficiency Levels'!$C$22,1),I13,\nIF(RIGHT($D25,1)<RIGHT('Efficiency Levels'!$C$22,1),0,\nIF(RIGHT($D25,1)=RIGHT('Efficiency Levels'!$C$22,1),SUM(OFFSET(I13,-RIGHT($D25,1),0,RIGHT($D25,1),1)),\"ERROR\"))))","v":1},{"$f":"IF(J$24<STANDARD_YEAR,J13,\nIF(RIGHT($D25,1)>RIGHT('Efficiency Levels'!$C$22,1),J13,\nIF(RIGHT($D25,1)<RIGHT('Efficiency Levels'!$C$22,1),0,\nIF(RIGHT($D25,1)=RIGHT('Efficiency Levels'!$C$22,1),SUM(OFFSET(J13,-RIGHT($D25,1),0,RIGHT($D25,1),1)),\"ERROR\"))))","v":1},{"$f":"IF(K$24<STANDARD_YEAR,K13,\nIF(RIGHT($D25,1)>RIGHT('Efficiency Levels'!$C$22,1),K13,\nIF(RIGHT($D25,1)<RIGHT('Efficiency Levels'!$C$22,1),0,\nIF(RIGHT($D25,1)=RIGHT('Efficiency Levels'!$C$22,1),SUM(OFFSET(K13,-RIGHT($D25,1),0,RIGHT($D25,1),1)),\"ERROR\"))))","v":1},{"$f":"IF(L$24<STANDARD_YEAR,L13,\nIF(RIGHT($D25,1)>RIGHT('Efficiency Levels'!$C$22,1),L13,\nIF(RIGHT($D25,1)<RIGHT('Efficiency Levels'!$C$22,1),0,\nIF(RIGHT($D25,1)=RIGHT('Efficiency Levels'!$C$22,1),SUM(OFFSET(L13,-RIGHT($D25,1),0,RIGHT($D25,1),1)),\"ERROR\"))))","v":1},{"$f":"IF(M$24<STANDARD_YEAR,M13,\nIF(RIGHT($D25,1)>RIGHT('Efficiency Levels'!$C$22,1),M13,\nIF(RIGHT($D25,1)<RIGHT('Efficiency Levels'!$C$22,1),0,\nIF(RIGHT($D25,1)=RIGHT('Efficiency Levels'!$C$22,1),SUM(OFFSET(M13,-RIGHT($D25,1),0,RIGHT($D25,1),1)),\"ERROR\"))))","v":1},{"$f":"IF(N$24<STANDARD_YEAR,N13,\nIF(RIGHT($D25,1)>RIGHT('Efficiency Levels'!$C$22,1),N13,\nIF(RIGHT($D25,1)<RIGHT('Efficiency Levels'!$C$22,1),0,\nIF(RIGHT($D25,1)=RIGHT('Efficiency Levels'!$C$22,1),SUM(OFFSET(N13,-RIGHT($D25,1),0,RIGHT($D25,1),1)),\"ERROR\"))))","v":1},{"$f":"IF(O$24<STANDARD_YEAR,O13,\nIF(RIGHT($D25,1)>RIGHT('Efficiency Levels'!$C$22,1),O13,\nIF(RIGHT($D25,1)<RIGHT('Efficiency Levels'!$C$22,1),0,\nIF(RIGHT($D25,1)=RIGHT('Efficiency Levels'!$C$22,1),SUM(OFFSET(O13,-RIGHT($D25,1),0,RIGHT($D25,1),1)),\"ERROR\"))))","v":1},{"$f":"IF(P$24<STANDARD_YEAR,P13,\nIF(RIGHT($D25,1)>RIGHT('Efficiency Levels'!$C$22,1),P13,\nIF(RIGHT($D25,1)<RIGHT('Efficiency Levels'!$C$22,1),0,\nIF(RIGHT($D25,1)=RIGHT('Efficiency Levels'!$C$22,1),SUM(OFFSET(P13,-RIGHT($D25,1),0,RIGHT($D25,1),1)),\"ERROR\"))))","v":1},{"$f":"IF(Q$24<STANDARD_YEAR,Q13,\nIF(RIGHT($D25,1)>RIGHT('Efficiency Levels'!$C$22,1),Q13,\nIF(RIGHT($D25,1)<RIGHT('Efficiency Levels'!$C$22,1),0,\nIF(RIGHT($D25,1)=RIGHT('Efficiency Levels'!$C$22,1),SUM(OFFSET(Q13,-RIGHT($D25,1),0,RIGHT($D25,1),1)),\"ERROR\"))))","v":1},{"$f":"IF(R$24<STANDARD_YEAR,R13,\nIF(RIGHT($D25,1)>RIGHT('Efficiency Levels'!$C$22,1),R13,\nIF(RIGHT($D25,1)<RIGHT('Efficiency Levels'!$C$22,1),0,\nIF(RIGHT($D25,1)=RIGHT('Efficiency Levels'!$C$22,1),SUM(OFFSET(R13,-RIGHT($D25,1),0,RIGHT($D25,1),1)),\"ERROR\"))))","v":1},{"$f":"IF(S$24<STANDARD_YEAR,S13,\nIF(RIGHT($D25,1)>RIGHT('Efficiency Levels'!$C$22,1),S13,\nIF(RIGHT($D25,1)<RIGHT('Efficiency Levels'!$C$22,1),0,\nIF(RIGHT($D25,1)=RIGHT('Efficiency Levels'!$C$22,1),SUM(OFFSET(S13,-RIGHT($D25,1),0,RIGHT($D25,1),1)),\"ERROR\"))))","v":1},{"$f":"IF(T$24<STANDARD_YEAR,T13,\nIF(RIGHT($D25,1)>RIGHT('Efficiency Levels'!$C$22,1),T13,\nIF(RIGHT($D25,1)<RIGHT('Efficiency Levels'!$C$22,1),0,\nIF(RIGHT($D25,1)=RIGHT('Efficiency Levels'!$C$22,1),SUM(OFFSET(T13,-RIGHT($D25,1),0,RIGHT($D25,1),1)),\"ERROR\"))))","v":1},{"$f":"IF(U$24<STANDARD_YEAR,U13,\nIF(RIGHT($D25,1)>RIGHT('Efficiency Levels'!$C$22,1),U13,\nIF(RIGHT($D25,1)<RIGHT('Efficiency Levels'!$C$22,1),0,\nIF(RIGHT($D25,1)=RIGHT('Efficiency Levels'!$C$22,1),SUM(OFFSET(U13,-RIGHT($D25,1),0,RIGHT($D25,1),1)),\"ERROR\"))))","v":1},{"$f":"IF(V$24<STANDARD_YEAR,V13,\nIF(RIGHT($D25,1)>RIGHT('Efficiency Levels'!$C$22,1),V13,\nIF(RIGHT($D25,1)<RIGHT('Efficiency Levels'!$C$22,1),0,\nIF(RIGHT($D25,1)=RIGHT('Efficiency Levels'!$C$22,1),SUM(OFFSET(V13,-RIGHT($D25,1),0,RIGHT($D25,1),1)),\"ERROR\"))))","v":1},{"$f":"IF(W$24<STANDARD_YEAR,W13,\nIF(RIGHT($D25,1)>RIGHT('Efficiency Levels'!$C$22,1),W13,\nIF(RIGHT($D25,1)<RIGHT('Efficiency Levels'!$C$22,1),0,\nIF(RIGHT($D25,1)=RIGHT('Efficiency Levels'!$C$22,1),SUM(OFFSET(W13,-RIGHT($D25,1),0,RIGHT($D25,1),1)),\"ERROR\"))))","v":1},{"$f":"IF(X$24<STANDARD_YEAR,X13,\nIF(RIGHT($D25,1)>RIGHT('Efficiency Levels'!$C$22,1),X13,\nIF(RIGHT($D25,1)<RIGHT('Efficiency Levels'!$C$22,1),0,\nIF(RIGHT($D25,1)=RIGHT('Efficiency Levels'!$C$22,1),SUM(OFFSET(X13,-RIGHT($D25,1),0,RIGHT($D25,1),1)),\"ERROR\"))))","v":1},{"$f":"IF(Y$24<STANDARD_YEAR,Y13,\nIF(RIGHT($D25,1)>RIGHT('Efficiency Levels'!$C$22,1),Y13,\nIF(RIGHT($D25,1)<RIGHT('Efficiency Levels'!$C$22,1),0,\nIF(RIGHT($D25,1)=RIGHT('Efficiency Levels'!$C$22,1),SUM(OFFSET(Y13,-RIGHT($D25,1),0,RIGHT($D25,1),1)),\"ERROR\"))))","v":1},{"$f":"IF(Z$24<STANDARD_YEAR,Z13,\nIF(RIGHT($D25,1)>RIGHT('Efficiency Levels'!$C$22,1),Z13,\nIF(RIGHT($D25,1)<RIGHT('Efficiency Levels'!$C$22,1),0,\nIF(RIGHT($D25,1)=RIGHT('Efficiency Levels'!$C$22,1),SUM(OFFSET(Z13,-RIGHT($D25,1),0,RIGHT($D25,1),1)),\"ERROR\"))))","v":1},{"$f":"IF(AA$24<STANDARD_YEAR,AA13,\nIF(RIGHT($D25,1)>RIGHT('Efficiency Levels'!$C$22,1),AA13,\nIF(RIGHT($D25,1)<RIGHT('Efficiency Levels'!$C$22,1),0,\nIF(RIGHT($D25,1)=RIGHT('Efficiency Levels'!$C$22,1),SUM(OFFSET(AA13,-RIGHT($D25,1),0,RIGHT($D25,1),1)),\"ERROR\"))))","v":1},{"$f":"IF(AB$24<STANDARD_YEAR,AB13,\nIF(RIGHT($D25,1)>RIGHT('Efficiency Levels'!$C$22,1),AB13,\nIF(RIGHT($D25,1)<RIGHT('Efficiency Levels'!$C$22,1),0,\nIF(RIGHT($D25,1)=RIGHT('Efficiency Levels'!$C$22,1),SUM(OFFSET(AB13,-RIGHT($D25,1),0,RIGHT($D25,1),1)),\"ERROR\"))))","v":1},{"$f":"IF(AC$24<STANDARD_YEAR,AC13,\nIF(RIGHT($D25,1)>RIGHT('Efficiency Levels'!$C$22,1),AC13,\nIF(RIGHT($D25,1)<RIGHT('Efficiency Levels'!$C$22,1),0,\nIF(RIGHT($D25,1)=RIGHT('Efficiency Levels'!$C$22,1),SUM(OFFSET(AC13,-RIGHT($D25,1),0,RIGHT($D25,1),1)),\"ERROR\"))))","v":1},{"$f":"IF(AD$24<STANDARD_YEAR,AD13,\nIF(RIGHT($D25,1)>RIGHT('Efficiency Levels'!$C$22,1),AD13,\nIF(RIGHT($D25,1)<RIGHT('Efficiency Levels'!$C$22,1),0,\nIF(RIGHT($D25,1)=RIGHT('Efficiency Levels'!$C$22,1),SUM(OFFSET(AD13,-RIGHT($D25,1),0,RIGHT($D25,1),1)),\"ERROR\"))))","v":1},{"$f":"IF(AE$24<STANDARD_YEAR,AE13,\nIF(RIGHT($D25,1)>RIGHT('Efficiency Levels'!$C$22,1),AE13,\nIF(RIGHT($D25,1)<RIGHT('Efficiency Levels'!$C$22,1),0,\nIF(RIGHT($D25,1)=RIGHT('Efficiency Levels'!$C$22,1),SUM(OFFSET(AE13,-RIGHT($D25,1),0,RIGHT($D25,1),1)),\"ERROR\"))))","v":1},{"$f":"IF(AF$24<STANDARD_YEAR,AF13,\nIF(RIGHT($D25,1)>RIGHT('Efficiency Levels'!$C$22,1),AF13,\nIF(RIGHT($D25,1)<RIGHT('Efficiency Levels'!$C$22,1),0,\nIF(RIGHT($D25,1)=RIGHT('Efficiency Levels'!$C$22,1),SUM(OFFSET(AF13,-RIGHT($D25,1),0,RIGHT($D25,1),1)),\"ERROR\"))))","v":1},{"$f":"IF(AG$24<STANDARD_YEAR,AG13,\nIF(RIGHT($D25,1)>RIGHT('Efficiency Levels'!$C$22,1),AG13,\nIF(RIGHT($D25,1)<RIGHT('Efficiency Levels'!$C$22,1),0,\nIF(RIGHT($D25,1)=RIGHT('Efficiency Levels'!$C$22,1),SUM(OFFSET(AG13,-RIGHT($D25,1),0,RIGHT($D25,1),1)),\"ERROR\"))))","v":1},{"$f":"IF(AH$24<STANDARD_YEAR,AH13,\nIF(RIGHT($D25,1)>RIGHT('Efficiency Levels'!$C$22,1),AH13,\nIF(RIGHT($D25,1)<RIGHT('Efficiency Levels'!$C$22,1),0,\nIF(RIGHT($D25,1)=RIGHT('Efficiency Levels'!$C$22,1),SUM(OFFSET(AH13,-RIGHT($D25,1),0,RIGHT($D25,1),1)),\"ERROR\"))))","v":1},{"$f":"IF(AI$24<STANDARD_YEAR,AI13,\nIF(RIGHT($D25,1)>RIGHT('Efficiency Levels'!$C$22,1),AI13,\nIF(RIGHT($D25,1)<RIGHT('Efficiency Levels'!$C$22,1),0,\nIF(RIGHT($D25,1)=RIGHT('Efficiency Levels'!$C$22,1),SUM(OFFSET(AI13,-RIGHT($D25,1),0,RIGHT($D25,1),1)),\"ERROR\"))))","v":1},{"$f":"IF(AJ$24<STANDARD_YEAR,AJ13,\nIF(RIGHT($D25,1)>RIGHT('Efficiency Levels'!$C$22,1),AJ13,\nIF(RIGHT($D25,1)<RIGHT('Efficiency Levels'!$C$22,1),0,\nIF(RIGHT($D25,1)=RIGHT('Efficiency Levels'!$C$22,1),SUM(OFFSET(AJ13,-RIGHT($D25,1),0,RIGHT($D25,1),1)),\"ERROR\"))))","v":1},{"$f":"IF(AK$24<STANDARD_YEAR,AK13,\nIF(RIGHT($D25,1)>RIGHT('Efficiency Levels'!$C$22,1),AK13,\nIF(RIGHT($D25,1)<RIGHT('Efficiency Levels'!$C$22,1),0,\nIF(RIGHT($D25,1)=RIGHT('Efficiency Levels'!$C$22,1),SUM(OFFSET(AK13,-RIGHT($D25,1),0,RIGHT($D25,1),1)),\"ERROR\"))))","v":1},{"$f":"IF(AL$24<STANDARD_YEAR,AL13,\nIF(RIGHT($D25,1)>RIGHT('Efficiency Levels'!$C$22,1),AL13,\nIF(RIGHT($D25,1)<RIGHT('Efficiency Levels'!$C$22,1),0,\nIF(RIGHT($D25,1)=RIGHT('Efficiency Levels'!$C$22,1),SUM(OFFSET(AL13,-RIGHT($D25,1),0,RIGHT($D25,1),1)),\"ERROR\"))))","v":1},{"$f":"IF(AM$24<STANDARD_YEAR,AM13,\nIF(RIGHT($D25,1)>RIGHT('Efficiency Levels'!$C$22,1),AM13,\nIF(RIGHT($D25,1)<RIGHT('Efficiency Levels'!$C$22,1),0,\nIF(RIGHT($D25,1)=RIGHT('Efficiency Levels'!$C$22,1),SUM(OFFSET(AM13,-RIGHT($D25,1),0,RIGHT($D25,1),1)),\"ERROR\"))))","v":1},{"$f":"IF(AN$24<STANDARD_YEAR,AN13,\nIF(RIGHT($D25,1)>RIGHT('Efficiency Levels'!$C$22,1),AN13,\nIF(RIGHT($D25,1)<RIGHT('Efficiency Levels'!$C$22,1),0,\nIF(RIGHT($D25,1)=RIGHT('Efficiency Levels'!$C$22,1),SUM(OFFSET(AN13,-RIGHT($D25,1),0,RIGHT($D25,1),1)),\"ERROR\"))))","v":1},{"$f":"IF(AO$24<STANDARD_YEAR,AO13,\nIF(RIGHT($D25,1)>RIGHT('Efficiency Levels'!$C$22,1),AO13,\nIF(RIGHT($D25,1)<RIGHT('Efficiency Levels'!$C$22,1),0,\nIF(RIGHT($D25,1)=RIGHT('Efficiency Levels'!$C$22,1),SUM(OFFSET(AO13,-RIGHT($D25,1),0,RIGHT($D25,1),1)),\"ERROR\"))))","v":1},{"$f":"IF(AP$24<STANDARD_YEAR,AP13,\nIF(RIGHT($D25,1)>RIGHT('Efficiency Levels'!$C$22,1),AP13,\nIF(RIGHT($D25,1)<RIGHT('Efficiency Levels'!$C$22,1),0,\nIF(RIGHT($D25,1)=RIGHT('Efficiency Levels'!$C$22,1),SUM(OFFSET(AP13,-RIGHT($D25,1),0,RIGHT($D25,1),1)),\"ERROR\"))))","v":1},{"$f":"IF(AQ$24<STANDARD_YEAR,AQ13,\nIF(RIGHT($D25,1)>RIGHT('Efficiency Levels'!$C$22,1),AQ13,\nIF(RIGHT($D25,1)<RIGHT('Efficiency Levels'!$C$22,1),0,\nIF(RIGHT($D25,1)=RIGHT('Efficiency Levels'!$C$22,1),SUM(OFFSET(AQ13,-RIGHT($D25,1),0,RIGHT($D25,1),1)),\"ERROR\"))))","v":1},{"$f":"IF(AR$24<STANDARD_YEAR,AR13,\nIF(RIGHT($D25,1)>RIGHT('Efficiency Levels'!$C$22,1),AR13,\nIF(RIGHT($D25,1)<RIGHT('Efficiency Levels'!$C$22,1),0,\nIF(RIGHT($D25,1)=RIGHT('Efficiency Levels'!$C$22,1),SUM(OFFSET(AR13,-RIGHT($D25,1),0,RIGHT($D25,1),1)),\"ERROR\"))))","v":1},{"$f":"IF(AS$24<STANDARD_YEAR,AS13,\nIF(RIGHT($D25,1)>RIGHT('Efficiency Levels'!$C$22,1),AS13,\nIF(RIGHT($D25,1)<RIGHT('Efficiency Levels'!$C$22,1),0,\nIF(RIGHT($D25,1)=RIGHT('Efficiency Levels'!$C$22,1),SUM(OFFSET(AS13,-RIGHT($D25,1),0,RIGHT($D25,1),1)),\"ERROR\"))))","v":1},{"$f":"IF(AT$24<STANDARD_YEAR,AT13,\nIF(RIGHT($D25,1)>RIGHT('Efficiency Levels'!$C$22,1),AT13,\nIF(RIGHT($D25,1)<RIGHT('Efficiency Levels'!$C$22,1),0,\nIF(RIGHT($D25,1)=RIGHT('Efficiency Levels'!$C$22,1),SUM(OFFSET(AT13,-RIGHT($D25,1),0,RIGHT($D25,1),1)),\"ERROR\"))))","v":1},{"$f":"IF(AU$24<STANDARD_YEAR,AU13,\nIF(RIGHT($D25,1)>RIGHT('Efficiency Levels'!$C$22,1),AU13,\nIF(RIGHT($D25,1)<RIGHT('Efficiency Levels'!$C$22,1),0,\nIF(RIGHT($D25,1)=RIGHT('Efficiency Levels'!$C$22,1),SUM(OFFSET(AU13,-RIGHT($D25,1),0,RIGHT($D25,1),1)),\"ERROR\"))))","v":0},{"$f":"IF(AV$24<STANDARD_YEAR,AV13,\nIF(RIGHT($D25,1)>RIGHT('Efficiency Levels'!$C$22,1),AV13,\nIF(RIGHT($D25,1)<RIGHT('Efficiency Levels'!$C$22,1),0,\nIF(RIGHT($D25,1)=RIGHT('Efficiency Levels'!$C$22,1),SUM(OFFSET(AV13,-RIGHT($D25,1),0,RIGHT($D25,1),1)),\"ERROR\"))))","v":0},{"$f":"IF(AW$24<STANDARD_YEAR,AW13,\nIF(RIGHT($D25,1)>RIGHT('Efficiency Levels'!$C$22,1),AW13,\nIF(RIGHT($D25,1)<RIGHT('Efficiency Levels'!$C$22,1),0,\nIF(RIGHT($D25,1)=RIGHT('Efficiency Levels'!$C$22,1),SUM(OFFSET(AW13,-RIGHT($D25,1),0,RIGHT($D25,1),1)),\"ERROR\"))))","v":0},{"$f":"IF(AX$24<STANDARD_YEAR,AX13,\nIF(RIGHT($D25,1)>RIGHT('Efficiency Levels'!$C$22,1),AX13,\nIF(RIGHT($D25,1)<RIGHT('Efficiency Levels'!$C$22,1),0,\nIF(RIGHT($D25,1)=RIGHT('Efficiency Levels'!$C$22,1),SUM(OFFSET(AX13,-RIGHT($D25,1),0,RIGHT($D25,1),1)),\"ERROR\"))))","v":0},{"$f":"IF(AY$24<STANDARD_YEAR,AY13,\nIF(RIGHT($D25,1)>RIGHT('Efficiency Levels'!$C$22,1),AY13,\nIF(RIGHT($D25,1)<RIGHT('Efficiency Levels'!$C$22,1),0,\nIF(RIGHT($D25,1)=RIGHT('Efficiency Levels'!$C$22,1),SUM(OFFSET(AY13,-RIGHT($D25,1),0,RIGHT($D25,1),1)),\"ERROR\"))))","v":0},{"$f":"IF(AZ$24<STANDARD_YEAR,AZ13,\nIF(RIGHT($D25,1)>RIGHT('Efficiency Levels'!$C$22,1),AZ13,\nIF(RIGHT($D25,1)<RIGHT('Efficiency Levels'!$C$22,1),0,\nIF(RIGHT($D25,1)=RIGHT('Efficiency Levels'!$C$22,1),SUM(OFFSET(AZ13,-RIGHT($D25,1),0,RIGHT($D25,1),1)),\"ERROR\"))))","v":0},{"$f":"IF(BA$24<STANDARD_YEAR,BA13,\nIF(RIGHT($D25,1)>RIGHT('Efficiency Levels'!$C$22,1),BA13,\nIF(RIGHT($D25,1)<RIGHT('Efficiency Levels'!$C$22,1),0,\nIF(RIGHT($D25,1)=RIGHT('Efficiency Levels'!$C$22,1),SUM(OFFSET(BA13,-RIGHT($D25,1),0,RIGHT($D25,1),1)),\"ERROR\"))))","v":0},{"$f":"IF(BB$24<STANDARD_YEAR,BB13,\nIF(RIGHT($D25,1)>RIGHT('Efficiency Levels'!$C$22,1),BB13,\nIF(RIGHT($D25,1)<RIGHT('Efficiency Levels'!$C$22,1),0,\nIF(RIGHT($D25,1)=RIGHT('Efficiency Levels'!$C$22,1),SUM(OFFSET(BB13,-RIGHT($D25,1),0,RIGHT($D25,1),1)),\"ERROR\"))))","v":0},{"$f":"IF(BC$24<STANDARD_YEAR,BC13,\nIF(RIGHT($D25,1)>RIGHT('Efficiency Levels'!$C$22,1),BC13,\nIF(RIGHT($D25,1)<RIGHT('Efficiency Levels'!$C$22,1),0,\nIF(RIGHT($D25,1)=RIGHT('Efficiency Levels'!$C$22,1),SUM(OFFSET(BC13,-RIGHT($D25,1),0,RIGHT($D25,1),1)),\"ERROR\"))))","v":0},{"$f":"IF(BD$24<STANDARD_YEAR,BD13,\nIF(RIGHT($D25,1)>RIGHT('Efficiency Levels'!$C$22,1),BD13,\nIF(RIGHT($D25,1)<RIGHT('Efficiency Levels'!$C$22,1),0,\nIF(RIGHT($D25,1)=RIGHT('Efficiency Levels'!$C$22,1),SUM(OFFSET(BD13,-RIGHT($D25,1),0,RIGHT($D25,1),1)),\"ERROR\"))))","v":0},{"$f":"IF(BE$24<STANDARD_YEAR,BE13,\nIF(RIGHT($D25,1)>RIGHT('Efficiency Levels'!$C$22,1),BE13,\nIF(RIGHT($D25,1)<RIGHT('Efficiency Levels'!$C$22,1),0,\nIF(RIGHT($D25,1)=RIGHT('Efficiency Levels'!$C$22,1),SUM(OFFSET(BE13,-RIGHT($D25,1),0,RIGHT($D25,1),1)),\"ERROR\"))))","v":0},{"$f":"IF(BF$24<STANDARD_YEAR,BF13,\nIF(RIGHT($D25,1)>RIGHT('Efficiency Levels'!$C$22,1),BF13,\nIF(RIGHT($D25,1)<RIGHT('Efficiency Levels'!$C$22,1),0,\nIF(RIGHT($D25,1)=RIGHT('Efficiency Levels'!$C$22,1),SUM(OFFSET(BF13,-RIGHT($D25,1),0,RIGHT($D25,1),1)),\"ERROR\"))))","v":0},{"$f":"IF(BG$24<STANDARD_YEAR,BG13,\nIF(RIGHT($D25,1)>RIGHT('Efficiency Levels'!$C$22,1),BG13,\nIF(RIGHT($D25,1)<RIGHT('Efficiency Levels'!$C$22,1),0,\nIF(RIGHT($D25,1)=RIGHT('Efficiency Levels'!$C$22,1),SUM(OFFSET(BG13,-RIGHT($D25,1),0,RIGHT($D25,1),1)),\"ERROR\"))))","v":0},{"$f":"IF(BH$24<STANDARD_YEAR,BH13,\nIF(RIGHT($D25,1)>RIGHT('Efficiency Levels'!$C$22,1),BH13,\nIF(RIGHT($D25,1)<RIGHT('Efficiency Levels'!$C$22,1),0,\nIF(RIGHT($D25,1)=RIGHT('Efficiency Levels'!$C$22,1),SUM(OFFSET(BH13,-RIGHT($D25,1),0,RIGHT($D25,1),1)),\"ERROR\"))))","v":0},{"$f":"IF(BI$24<STANDARD_YEAR,BI13,\nIF(RIGHT($D25,1)>RIGHT('Efficiency Levels'!$C$22,1),BI13,\nIF(RIGHT($D25,1)<RIGHT('Efficiency Levels'!$C$22,1),0,\nIF(RIGHT($D25,1)=RIGHT('Efficiency Levels'!$C$22,1),SUM(OFFSET(BI13,-RIGHT($D25,1),0,RIGHT($D25,1),1)),\"ERROR\"))))","v":0},{"$f":"IF(BJ$24<STANDARD_YEAR,BJ13,\nIF(RIGHT($D25,1)>RIGHT('Efficiency Levels'!$C$22,1),BJ13,\nIF(RIGHT($D25,1)<RIGHT('Efficiency Levels'!$C$22,1),0,\nIF(RIGHT($D25,1)=RIGHT('Efficiency Levels'!$C$22,1),SUM(OFFSET(BJ13,-RIGHT($D25,1),0,RIGHT($D25,1),1)),\"ERROR\"))))","v":0}]
[null,null,null,"EL1",{"$f":"OFFSET('Efficiency Levels'!$D$11,MATCH($C$9,'Efficiency Levels'!$C$9:$C$1002,0)+RIGHT(D26,1),0)","v":327.7},null,null,null,{"$f":"IF(I$24<STANDARD_YEAR,I14,\nIF(RIGHT($D26,1)>RIGHT('Efficiency Levels'!$C$22,1),I14,\nIF(RIGHT($D26,1)<RIGHT('Efficiency Levels'!$C$22,1),0,\nIF(RIGHT($D26,1)=RIGHT('Efficiency Levels'!$C$22,1),SUM(OFFSET(I14,-RIGHT($D26,1),0,RIGHT($D26,1),1)),\"ERROR\"))))","v":0},{"$f":"IF(J$24<STANDARD_YEAR,J14,\nIF(RIGHT($D26,1)>RIGHT('Efficiency Levels'!$C$22,1),J14,\nIF(RIGHT($D26,1)<RIGHT('Efficiency Levels'!$C$22,1),0,\nIF(RIGHT($D26,1)=RIGHT('Efficiency Levels'!$C$22,1),SUM(OFFSET(J14,-RIGHT($D26,1),0,RIGHT($D26,1),1)),\"ERROR\"))))","v":0},{"$f":"IF(K$24<STANDARD_YEAR,K14,\nIF(RIGHT($D26,1)>RIGHT('Efficiency Levels'!$C$22,1),K14,\nIF(RIGHT($D26,1)<RIGHT('Efficiency Levels'!$C$22,1),0,\nIF(RIGHT($D26,1)=RIGHT('Efficiency Levels'!$C$22,1),SUM(OFFSET(K14,-RIGHT($D26,1),0,RIGHT($D26,1),1)),\"ERROR\"))))","v":0},{"$f":"IF(L$24<STANDARD_YEAR,L14,\nIF(RIGHT($D26,1)>RIGHT('Efficiency Levels'!$C$22,1),L14,\nIF(RIGHT($D26,1)<RIGHT('Efficiency Levels'!$C$22,1),0,\nIF(RIGHT($D26,1)=RIGHT('Efficiency Levels'!$C$22,1),SUM(OFFSET(L14,-RIGHT($D26,1),0,RIGHT($D26,1),1)),\"ERROR\"))))","v":0},{"$f":"IF(M$24<STANDARD_YEAR,M14,\nIF(RIGHT($D26,1)>RIGHT('Efficiency Levels'!$C$22,1),M14,\nIF(RIGHT($D26,1)<RIGHT('Efficiency Levels'!$C$22,1),0,\nIF(RIGHT($D26,1)=RIGHT('Efficiency Levels'!$C$22,1),SUM(OFFSET(M14,-RIGHT($D26,1),0,RIGHT($D26,1),1)),\"ERROR\"))))","v":0},{"$f":"IF(N$24<STANDARD_YEAR,N14,\nIF(RIGHT($D26,1)>RIGHT('Efficiency Levels'!$C$22,1),N14,\nIF(RIGHT($D26,1)<RIGHT('Efficiency Levels'!$C$22,1),0,\nIF(RIGHT($D26,1)=RIGHT('Efficiency Levels'!$C$22,1),SUM(OFFSET(N14,-RIGHT($D26,1),0,RIGHT($D26,1),1)),\"ERROR\"))))","v":0},{"$f":"IF(O$24<STANDARD_YEAR,O14,\nIF(RIGHT($D26,1)>RIGHT('Efficiency Levels'!$C$22,1),O14,\nIF(RIGHT($D26,1)<RIGHT('Efficiency Levels'!$C$22,1),0,\nIF(RIGHT($D26,1)=RIGHT('Efficiency Levels'!$C$22,1),SUM(OFFSET(O14,-RIGHT($D26,1),0,RIGHT($D26,1),1)),\"ERROR\"))))","v":0},{"$f":"IF(P$24<STANDARD_YEAR,P14,\nIF(RIGHT($D26,1)>RIGHT('Efficiency Levels'!$C$22,1),P14,\nIF(RIGHT($D26,1)<RIGHT('Efficiency Levels'!$C$22,1),0,\nIF(RIGHT($D26,1)=RIGHT('Efficiency Levels'!$C$22,1),SUM(OFFSET(P14,-RIGHT($D26,1),0,RIGHT($D26,1),1)),\"ERROR\"))))","v":0},{"$f":"IF(Q$24<STANDARD_YEAR,Q14,\nIF(RIGHT($D26,1)>RIGHT('Efficiency Levels'!$C$22,1),Q14,\nIF(RIGHT($D26,1)<RIGHT('Efficiency Levels'!$C$22,1),0,\nIF(RIGHT($D26,1)=RIGHT('Efficiency Levels'!$C$22,1),SUM(OFFSET(Q14,-RIGHT($D26,1),0,RIGHT($D26,1),1)),\"ERROR\"))))","v":0},{"$f":"IF(R$24<STANDARD_YEAR,R14,\nIF(RIGHT($D26,1)>RIGHT('Efficiency Levels'!$C$22,1),R14,\nIF(RIGHT($D26,1)<RIGHT('Efficiency Levels'!$C$22,1),0,\nIF(RIGHT($D26,1)=RIGHT('Efficiency Levels'!$C$22,1),SUM(OFFSET(R14,-RIGHT($D26,1),0,RIGHT($D26,1),1)),\"ERROR\"))))","v":0},{"$f":"IF(S$24<STANDARD_YEAR,S14,\nIF(RIGHT($D26,1)>RIGHT('Efficiency Levels'!$C$22,1),S14,\nIF(RIGHT($D26,1)<RIGHT('Efficiency Levels'!$C$22,1),0,\nIF(RIGHT($D26,1)=RIGHT('Efficiency Levels'!$C$22,1),SUM(OFFSET(S14,-RIGHT($D26,1),0,RIGHT($D26,1),1)),\"ERROR\"))))","v":0},{"$f":"IF(T$24<STANDARD_YEAR,T14,\nIF(RIGHT($D26,1)>RIGHT('Efficiency Levels'!$C$22,1),T14,\nIF(RIGHT($D26,1)<RIGHT('Efficiency Levels'!$C$22,1),0,\nIF(RIGHT($D26,1)=RIGHT('Efficiency Levels'!$C$22,1),SUM(OFFSET(T14,-RIGHT($D26,1),0,RIGHT($D26,1),1)),\"ERROR\"))))","v":0},{"$f":"IF(U$24<STANDARD_YEAR,U14,\nIF(RIGHT($D26,1)>RIGHT('Efficiency Levels'!$C$22,1),U14,\nIF(RIGHT($D26,1)<RIGHT('Efficiency Levels'!$C$22,1),0,\nIF(RIGHT($D26,1)=RIGHT('Efficiency Levels'!$C$22,1),SUM(OFFSET(U14,-RIGHT($D26,1),0,RIGHT($D26,1),1)),\"ERROR\"))))","v":0},{"$f":"IF(V$24<STANDARD_YEAR,V14,\nIF(RIGHT($D26,1)>RIGHT('Efficiency Levels'!$C$22,1),V14,\nIF(RIGHT($D26,1)<RIGHT('Efficiency Levels'!$C$22,1),0,\nIF(RIGHT($D26,1)=RIGHT('Efficiency Levels'!$C$22,1),SUM(OFFSET(V14,-RIGHT($D26,1),0,RIGHT($D26,1),1)),\"ERROR\"))))","v":0},{"$f":"IF(W$24<STANDARD_YEAR,W14,\nIF(RIGHT($D26,1)>RIGHT('Efficiency Levels'!$C$22,1),W14,\nIF(RIGHT($D26,1)<RIGHT('Efficiency Levels'!$C$22,1),0,\nIF(RIGHT($D26,1)=RIGHT('Efficiency Levels'!$C$22,1),SUM(OFFSET(W14,-RIGHT($D26,1),0,RIGHT($D26,1),1)),\"ERROR\"))))","v":0},{"$f":"IF(X$24<STANDARD_YEAR,X14,\nIF(RIGHT($D26,1)>RIGHT('Efficiency Levels'!$C$22,1),X14,\nIF(RIGHT($D26,1)<RIGHT('Efficiency Levels'!$C$22,1),0,\nIF(RIGHT($D26,1)=RIGHT('Efficiency Levels'!$C$22,1),SUM(OFFSET(X14,-RIGHT($D26,1),0,RIGHT($D26,1),1)),\"ERROR\"))))","v":0},{"$f":"IF(Y$24<STANDARD_YEAR,Y14,\nIF(RIGHT($D26,1)>RIGHT('Efficiency Levels'!$C$22,1),Y14,\nIF(RIGHT($D26,1)<RIGHT('Efficiency Levels'!$C$22,1),0,\nIF(RIGHT($D26,1)=RIGHT('Efficiency Levels'!$C$22,1),SUM(OFFSET(Y14,-RIGHT($D26,1),0,RIGHT($D26,1),1)),\"ERROR\"))))","v":0},{"$f":"IF(Z$24<STANDARD_YEAR,Z14,\nIF(RIGHT($D26,1)>RIGHT('Efficiency Levels'!$C$22,1),Z14,\nIF(RIGHT($D26,1)<RIGHT('Efficiency Levels'!$C$22,1),0,\nIF(RIGHT($D26,1)=RIGHT('Efficiency Levels'!$C$22,1),SUM(OFFSET(Z14,-RIGHT($D26,1),0,RIGHT($D26,1),1)),\"ERROR\"))))","v":0},{"$f":"IF(AA$24<STANDARD_YEAR,AA14,\nIF(RIGHT($D26,1)>RIGHT('Efficiency Levels'!$C$22,1),AA14,\nIF(RIGHT($D26,1)<RIGHT('Efficiency Levels'!$C$22,1),0,\nIF(RIGHT($D26,1)=RIGHT('Efficiency Levels'!$C$22,1),SUM(OFFSET(AA14,-RIGHT($D26,1),0,RIGHT($D26,1),1)),\"ERROR\"))))","v":0},{"$f":"IF(AB$24<STANDARD_YEAR,AB14,\nIF(RIGHT($D26,1)>RIGHT('Efficiency Levels'!$C$22,1),AB14,\nIF(RIGHT($D26,1)<RIGHT('Efficiency Levels'!$C$22,1),0,\nIF(RIGHT($D26,1)=RIGHT('Efficiency Levels'!$C$22,1),SUM(OFFSET(AB14,-RIGHT($D26,1),0,RIGHT($D26,1),1)),\"ERROR\"))))","v":0},{"$f":"IF(AC$24<STANDARD_YEAR,AC14,\nIF(RIGHT($D26,1)>RIGHT('Efficiency Levels'!$C$22,1),AC14,\nIF(RIGHT($D26,1)<RIGHT('Efficiency Levels'!$C$22,1),0,\nIF(RIGHT($D26,1)=RIGHT('Efficiency Levels'!$C$22,1),SUM(OFFSET(AC14,-RIGHT($D26,1),0,RIGHT($D26,1),1)),\"ERROR\"))))","v":0},{"$f":"IF(AD$24<STANDARD_YEAR,AD14,\nIF(RIGHT($D26,1)>RIGHT('Efficiency Levels'!$C$22,1),AD14,\nIF(RIGHT($D26,1)<RIGHT('Efficiency Levels'!$C$22,1),0,\nIF(RIGHT($D26,1)=RIGHT('Efficiency Levels'!$C$22,1),SUM(OFFSET(AD14,-RIGHT($D26,1),0,RIGHT($D26,1),1)),\"ERROR\"))))","v":0},{"$f":"IF(AE$24<STANDARD_YEAR,AE14,\nIF(RIGHT($D26,1)>RIGHT('Efficiency Levels'!$C$22,1),AE14,\nIF(RIGHT($D26,1)<RIGHT('Efficiency Levels'!$C$22,1),0,\nIF(RIGHT($D26,1)=RIGHT('Efficiency Levels'!$C$22,1),SUM(OFFSET(AE14,-RIGHT($D26,1),0,RIGHT($D26,1),1)),\"ERROR\"))))","v":0},{"$f":"IF(AF$24<STANDARD_YEAR,AF14,\nIF(RIGHT($D26,1)>RIGHT('Efficiency Levels'!$C$22,1),AF14,\nIF(RIGHT($D26,1)<RIGHT('Efficiency Levels'!$C$22,1),0,\nIF(RIGHT($D26,1)=RIGHT('Efficiency Levels'!$C$22,1),SUM(OFFSET(AF14,-RIGHT($D26,1),0,RIGHT($D26,1),1)),\"ERROR\"))))","v":0},{"$f":"IF(AG$24<STANDARD_YEAR,AG14,\nIF(RIGHT($D26,1)>RIGHT('Efficiency Levels'!$C$22,1),AG14,\nIF(RIGHT($D26,1)<RIGHT('Efficiency Levels'!$C$22,1),0,\nIF(RIGHT($D26,1)=RIGHT('Efficiency Levels'!$C$22,1),SUM(OFFSET(AG14,-RIGHT($D26,1),0,RIGHT($D26,1),1)),\"ERROR\"))))","v":0},{"$f":"IF(AH$24<STANDARD_YEAR,AH14,\nIF(RIGHT($D26,1)>RIGHT('Efficiency Levels'!$C$22,1),AH14,\nIF(RIGHT($D26,1)<RIGHT('Efficiency Levels'!$C$22,1),0,\nIF(RIGHT($D26,1)=RIGHT('Efficiency Levels'!$C$22,1),SUM(OFFSET(AH14,-RIGHT($D26,1),0,RIGHT($D26,1),1)),\"ERROR\"))))","v":0},{"$f":"IF(AI$24<STANDARD_YEAR,AI14,\nIF(RIGHT($D26,1)>RIGHT('Efficiency Levels'!$C$22,1),AI14,\nIF(RIGHT($D26,1)<RIGHT('Efficiency Levels'!$C$22,1),0,\nIF(RIGHT($D26,1)=RIGHT('Efficiency Levels'!$C$22,1),SUM(OFFSET(AI14,-RIGHT($D26,1),0,RIGHT($D26,1),1)),\"ERROR\"))))","v":0},{"$f":"IF(AJ$24<STANDARD_YEAR,AJ14,\nIF(RIGHT($D26,1)>RIGHT('Efficiency Levels'!$C$22,1),AJ14,\nIF(RIGHT($D26,1)<RIGHT('Efficiency Levels'!$C$22,1),0,\nIF(RIGHT($D26,1)=RIGHT('Efficiency Levels'!$C$22,1),SUM(OFFSET(AJ14,-RIGHT($D26,1),0,RIGHT($D26,1),1)),\"ERROR\"))))","v":0},{"$f":"IF(AK$24<STANDARD_YEAR,AK14,\nIF(RIGHT($D26,1)>RIGHT('Efficiency Levels'!$C$22,1),AK14,\nIF(RIGHT($D26,1)<RIGHT('Efficiency Levels'!$C$22,1),0,\nIF(RIGHT($D26,1)=RIGHT('Efficiency Levels'!$C$22,1),SUM(OFFSET(AK14,-RIGHT($D26,1),0,RIGHT($D26,1),1)),\"ERROR\"))))","v":0},{"$f":"IF(AL$24<STANDARD_YEAR,AL14,\nIF(RIGHT($D26,1)>RIGHT('Efficiency Levels'!$C$22,1),AL14,\nIF(RIGHT($D26,1)<RIGHT('Efficiency Levels'!$C$22,1),0,\nIF(RIGHT($D26,1)=RIGHT('Efficiency Levels'!$C$22,1),SUM(OFFSET(AL14,-RIGHT($D26,1),0,RIGHT($D26,1),1)),\"ERROR\"))))","v":0},{"$f":"IF(AM$24<STANDARD_YEAR,AM14,\nIF(RIGHT($D26,1)>RIGHT('Efficiency Levels'!$C$22,1),AM14,\nIF(RIGHT($D26,1)<RIGHT('Efficiency Levels'!$C$22,1),0,\nIF(RIGHT($D26,1)=RIGHT('Efficiency Levels'!$C$22,1),SUM(OFFSET(AM14,-RIGHT($D26,1),0,RIGHT($D26,1),1)),\"ERROR\"))))","v":0},{"$f":"IF(AN$24<STANDARD_YEAR,AN14,\nIF(RIGHT($D26,1)>RIGHT('Efficiency Levels'!$C$22,1),AN14,\nIF(RIGHT($D26,1)<RIGHT('Efficiency Levels'!$C$22,1),0,\nIF(RIGHT($D26,1)=RIGHT('Efficiency Levels'!$C$22,1),SUM(OFFSET(AN14,-RIGHT($D26,1),0,RIGHT($D26,1),1)),\"ERROR\"))))","v":0},{"$f":"IF(AO$24<STANDARD_YEAR,AO14,\nIF(RIGHT($D26,1)>RIGHT('Efficiency Levels'!$C$22,1),AO14,\nIF(RIGHT($D26,1)<RIGHT('Efficiency Levels'!$C$22,1),0,\nIF(RIGHT($D26,1)=RIGHT('Efficiency Levels'!$C$22,1),SUM(OFFSET(AO14,-RIGHT($D26,1),0,RIGHT($D26,1),1)),\"ERROR\"))))","v":0},{"$f":"IF(AP$24<STANDARD_YEAR,AP14,\nIF(RIGHT($D26,1)>RIGHT('Efficiency Levels'!$C$22,1),AP14,\nIF(RIGHT($D26,1)<RIGHT('Efficiency Levels'!$C$22,1),0,\nIF(RIGHT($D26,1)=RIGHT('Efficiency Levels'!$C$22,1),SUM(OFFSET(AP14,-RIGHT($D26,1),0,RIGHT($D26,1),1)),\"ERROR\"))))","v":0},{"$f":"IF(AQ$24<STANDARD_YEAR,AQ14,\nIF(RIGHT($D26,1)>RIGHT('Efficiency Levels'!$C$22,1),AQ14,\nIF(RIGHT($D26,1)<RIGHT('Efficiency Levels'!$C$22,1),0,\nIF(RIGHT($D26,1)=RIGHT('Efficiency Levels'!$C$22,1),SUM(OFFSET(AQ14,-RIGHT($D26,1),0,RIGHT($D26,1),1)),\"ERROR\"))))","v":0},{"$f":"IF(AR$24<STANDARD_YEAR,AR14,\nIF(RIGHT($D26,1)>RIGHT('Efficiency Levels'!$C$22,1),AR14,\nIF(RIGHT($D26,1)<RIGHT('Efficiency Levels'!$C$22,1),0,\nIF(RIGHT($D26,1)=RIGHT('Efficiency Levels'!$C$22,1),SUM(OFFSET(AR14,-RIGHT($D26,1),0,RIGHT($D26,1),1)),\"ERROR\"))))","v":0},{"$f":"IF(AS$24<STANDARD_YEAR,AS14,\nIF(RIGHT($D26,1)>RIGHT('Efficiency Levels'!$C$22,1),AS14,\nIF(RIGHT($D26,1)<RIGHT('Efficiency Levels'!$C$22,1),0,\nIF(RIGHT($D26,1)=RIGHT('Efficiency Levels'!$C$22,1),SUM(OFFSET(AS14,-RIGHT($D26,1),0,RIGHT($D26,1),1)),\"ERROR\"))))","v":0},{"$f":"IF(AT$24<STANDARD_YEAR,AT14,\nIF(RIGHT($D26,1)>RIGHT('Efficiency Levels'!$C$22,1),AT14,\nIF(RIGHT($D26,1)<RIGHT('Efficiency Levels'!$C$22,1),0,\nIF(RIGHT($D26,1)=RIGHT('Efficiency Levels'!$C$22,1),SUM(OFFSET(AT14,-RIGHT($D26,1),0,RIGHT($D26,1),1)),\"ERROR\"))))","v":0},{"$f":"IF(AU$24<STANDARD_YEAR,AU14,\nIF(RIGHT($D26,1)>RIGHT('Efficiency Levels'!$C$22,1),AU14,\nIF(RIGHT($D26,1)<RIGHT('Efficiency Levels'!$C$22,1),0,\nIF(RIGHT($D26,1)=RIGHT('Efficiency Levels'!$C$22,1),SUM(OFFSET(AU14,-RIGHT($D26,1),0,RIGHT($D26,1),1)),\"ERROR\"))))","v":0},{"$f":"IF(AV$24<STANDARD_YEAR,AV14,\nIF(RIGHT($D26,1)>RIGHT('Efficiency Levels'!$C$22,1),AV14,\nIF(RIGHT($D26,1)<RIGHT('Efficiency Levels'!$C$22,1),0,\nIF(RIGHT($D26,1)=RIGHT('Efficiency Levels'!$C$22,1),SUM(OFFSET(AV14,-RIGHT($D26,1),0,RIGHT($D26,1),1)),\"ERROR\"))))","v":0},{"$f":"IF(AW$24<STANDARD_YEAR,AW14,\nIF(RIGHT($D26,1)>RIGHT('Efficiency Levels'!$C$22,1),AW14,\nIF(RIGHT($D26,1)<RIGHT('Efficiency Levels'!$C$22,1),0,\nIF(RIGHT($D26,1)=RIGHT('Efficiency Levels'!$C$22,1),SUM(OFFSET(AW14,-RIGHT($D26,1),0,RIGHT($D26,1),1)),\"ERROR\"))))","v":0},{"$f":"IF(AX$24<STANDARD_YEAR,AX14,\nIF(RIGHT($D26,1)>RIGHT('Efficiency Levels'!$C$22,1),AX14,\nIF(RIGHT($D26,1)<RIGHT('Efficiency Levels'!$C$22,1),0,\nIF(RIGHT($D26,1)=RIGHT('Efficiency Levels'!$C$22,1),SUM(OFFSET(AX14,-RIGHT($D26,1),0,RIGHT($D26,1),1)),\"ERROR\"))))","v":0},{"$f":"IF(AY$24<STANDARD_YEAR,AY14,\nIF(RIGHT($D26,1)>RIGHT('Efficiency Levels'!$C$22,1),AY14,\nIF(RIGHT($D26,1)<RIGHT('Efficiency Levels'!$C$22,1),0,\nIF(RIGHT($D26,1)=RIGHT('Efficiency Levels'!$C$22,1),SUM(OFFSET(AY14,-RIGHT($D26,1),0,RIGHT($D26,1),1)),\"ERROR\"))))","v":0},{"$f":"IF(AZ$24<STANDARD_YEAR,AZ14,\nIF(RIGHT($D26,1)>RIGHT('Efficiency Levels'!$C$22,1),AZ14,\nIF(RIGHT($D26,1)<RIGHT('Efficiency Levels'!$C$22,1),0,\nIF(RIGHT($D26,1)=RIGHT('Efficiency Levels'!$C$22,1),SUM(OFFSET(AZ14,-RIGHT($D26,1),0,RIGHT($D26,1),1)),\"ERROR\"))))","v":0},{"$f":"IF(BA$24<STANDARD_YEAR,BA14,\nIF(RIGHT($D26,1)>RIGHT('Efficiency Levels'!$C$22,1),BA14,\nIF(RIGHT($D26,1)<RIGHT('Efficiency Levels'!$C$22,1),0,\nIF(RIGHT($D26,1)=RIGHT('Efficiency Levels'!$C$22,1),SUM(OFFSET(BA14,-RIGHT($D26,1),0,RIGHT($D26,1),1)),\"ERROR\"))))","v":0},{"$f":"IF(BB$24<STANDARD_YEAR,BB14,\nIF(RIGHT($D26,1)>RIGHT('Efficiency Levels'!$C$22,1),BB14,\nIF(RIGHT($D26,1)<RIGHT('Efficiency Levels'!$C$22,1),0,\nIF(RIGHT($D26,1)=RIGHT('Efficiency Levels'!$C$22,1),SUM(OFFSET(BB14,-RIGHT($D26,1),0,RIGHT($D26,1),1)),\"ERROR\"))))","v":0},{"$f":"IF(BC$24<STANDARD_YEAR,BC14,\nIF(RIGHT($D26,1)>RIGHT('Efficiency Levels'!$C$22,1),BC14,\nIF(RIGHT($D26,1)<RIGHT('Efficiency Levels'!$C$22,1),0,\nIF(RIGHT($D26,1)=RIGHT('Efficiency Levels'!$C$22,1),SUM(OFFSET(BC14,-RIGHT($D26,1),0,RIGHT($D26,1),1)),\"ERROR\"))))","v":0},{"$f":"IF(BD$24<STANDARD_YEAR,BD14,\nIF(RIGHT($D26,1)>RIGHT('Efficiency Levels'!$C$22,1),BD14,\nIF(RIGHT($D26,1)<RIGHT('Efficiency Levels'!$C$22,1),0,\nIF(RIGHT($D26,1)=RIGHT('Efficiency Levels'!$C$22,1),SUM(OFFSET(BD14,-RIGHT($D26,1),0,RIGHT($D26,1),1)),\"ERROR\"))))","v":0},{"$f":"IF(BE$24<STANDARD_YEAR,BE14,\nIF(RIGHT($D26,1)>RIGHT('Efficiency Levels'!$C$22,1),BE14,\nIF(RIGHT($D26,1)<RIGHT('Efficiency Levels'!$C$22,1),0,\nIF(RIGHT($D26,1)=RIGHT('Efficiency Levels'!$C$22,1),SUM(OFFSET(BE14,-RIGHT($D26,1),0,RIGHT($D26,1),1)),\"ERROR\"))))","v":0},{"$f":"IF(BF$24<STANDARD_YEAR,BF14,\nIF(RIGHT($D26,1)>RIGHT('Efficiency Levels'!$C$22,1),BF14,\nIF(RIGHT($D26,1)<RIGHT('Efficiency Levels'!$C$22,1),0,\nIF(RIGHT($D26,1)=RIGHT('Efficiency Levels'!$C$22,1),SUM(OFFSET(BF14,-RIGHT($D26,1),0,RIGHT($D26,1),1)),\"ERROR\"))))","v":0},{"$f":"IF(BG$24<STANDARD_YEAR,BG14,\nIF(RIGHT($D26,1)>RIGHT('Efficiency Levels'!$C$22,1),BG14,\nIF(RIGHT($D26,1)<RIGHT('Efficiency Levels'!$C$22,1),0,\nIF(RIGHT($D26,1)=RIGHT('Efficiency Levels'!$C$22,1),SUM(OFFSET(BG14,-RIGHT($D26,1),0,RIGHT($D26,1),1)),\"ERROR\"))))","v":0},{"$f":"IF(BH$24<STANDARD_YEAR,BH14,\nIF(RIGHT($D26,1)>RIGHT('Efficiency Levels'!$C$22,1),BH14,\nIF(RIGHT($D26,1)<RIGHT('Efficiency Levels'!$C$22,1),0,\nIF(RIGHT($D26,1)=RIGHT('Efficiency Levels'!$C$22,1),SUM(OFFSET(BH14,-RIGHT($D26,1),0,RIGHT($D26,1),1)),\"ERROR\"))))","v":0},{"$f":"IF(BI$24<STANDARD_YEAR,BI14,\nIF(RIGHT($D26,1)>RIGHT('Efficiency Levels'!$C$22,1),BI14,\nIF(RIGHT($D26,1)<RIGHT('Efficiency Levels'!$C$22,1),0,\nIF(RIGHT($D26,1)=RIGHT('Efficiency Levels'!$C$22,1),SUM(OFFSET(BI14,-RIGHT($D26,1),0,RIGHT($D26,1),1)),\"ERROR\"))))","v":0},{"$f":"IF(BJ$24<STANDARD_YEAR,BJ14,\nIF(RIGHT($D26,1)>RIGHT('Efficiency Levels'!$C$22,1),BJ14,\nIF(RIGHT($D26,1)<RIGHT('Efficiency Levels'!$C$22,1),0,\nIF(RIGHT($D26,1)=RIGHT('Efficiency Levels'!$C$22,1),SUM(OFFSET(BJ14,-RIGHT($D26,1),0,RIGHT($D26,1),1)),\"ERROR\"))))","v":0}]
[null,null,null,"EL2",{"$f":"OFFSET('Efficiency Levels'!$D$11,MATCH($C$9,'Efficiency Levels'!$C$9:$C$1002,0)+RIGHT(D27,1),0)","v":316.10000000000002},null,null,null,{"$f":"IF(I$24<STANDARD_YEAR,I15,\nIF(RIGHT($D27,1)>RIGHT('Efficiency Levels'!$C$22,1),I15,\nIF(RIGHT($D27,1)<RIGHT('Efficiency Levels'!$C$22,1),0,\nIF(RIGHT($D27,1)=RIGHT('Efficiency Levels'!$C$22,1),SUM(OFFSET(I15,-RIGHT($D27,1),0,RIGHT($D27,1),1)),\"ERROR\"))))","v":0},{"$f":"IF(J$24<STANDARD_YEAR,J15,\nIF(RIGHT($D27,1)>RIGHT('Efficiency Levels'!$C$22,1),J15,\nIF(RIGHT($D27,1)<RIGHT('Efficiency Levels'!$C$22,1),0,\nIF(RIGHT($D27,1)=RIGHT('Efficiency Levels'!$C$22,1),SUM(OFFSET(J15,-RIGHT($D27,1),0,RIGHT($D27,1),1)),\"ERROR\"))))","v":0},{"$f":"IF(K$24<STANDARD_YEAR,K15,\nIF(RIGHT($D27,1)>RIGHT('Efficiency Levels'!$C$22,1),K15,\nIF(RIGHT($D27,1)<RIGHT('Efficiency Levels'!$C$22,1),0,\nIF(RIGHT($D27,1)=RIGHT('Efficiency Levels'!$C$22,1),SUM(OFFSET(K15,-RIGHT($D27,1),0,RIGHT($D27,1),1)),\"ERROR\"))))","v":0},{"$f":"IF(L$24<STANDARD_YEAR,L15,\nIF(RIGHT($D27,1)>RIGHT('Efficiency Levels'!$C$22,1),L15,\nIF(RIGHT($D27,1)<RIGHT('Efficiency Levels'!$C$22,1),0,\nIF(RIGHT($D27,1)=RIGHT('Efficiency Levels'!$C$22,1),SUM(OFFSET(L15,-RIGHT($D27,1),0,RIGHT($D27,1),1)),\"ERROR\"))))","v":0},{"$f":"IF(M$24<STANDARD_YEAR,M15,\nIF(RIGHT($D27,1)>RIGHT('Efficiency Levels'!$C$22,1),M15,\nIF(RIGHT($D27,1)<RIGHT('Efficiency Levels'!$C$22,1),0,\nIF(RIGHT($D27,1)=RIGHT('Efficiency Levels'!$C$22,1),SUM(OFFSET(M15,-RIGHT($D27,1),0,RIGHT($D27,1),1)),\"ERROR\"))))","v":0},{"$f":"IF(N$24<STANDARD_YEAR,N15,\nIF(RIGHT($D27,1)>RIGHT('Efficiency Levels'!$C$22,1),N15,\nIF(RIGHT($D27,1)<RIGHT('Efficiency Levels'!$C$22,1),0,\nIF(RIGHT($D27,1)=RIGHT('Efficiency Levels'!$C$22,1),SUM(OFFSET(N15,-RIGHT($D27,1),0,RIGHT($D27,1),1)),\"ERROR\"))))","v":0},{"$f":"IF(O$24<STANDARD_YEAR,O15,\nIF(RIGHT($D27,1)>RIGHT('Efficiency Levels'!$C$22,1),O15,\nIF(RIGHT($D27,1)<RIGHT('Efficiency Levels'!$C$22,1),0,\nIF(RIGHT($D27,1)=RIGHT('Efficiency Levels'!$C$22,1),SUM(OFFSET(O15,-RIGHT($D27,1),0,RIGHT($D27,1),1)),\"ERROR\"))))","v":0},{"$f":"IF(P$24<STANDARD_YEAR,P15,\nIF(RIGHT($D27,1)>RIGHT('Efficiency Levels'!$C$22,1),P15,\nIF(RIGHT($D27,1)<RIGHT('Efficiency Levels'!$C$22,1),0,\nIF(RIGHT($D27,1)=RIGHT('Efficiency Levels'!$C$22,1),SUM(OFFSET(P15,-RIGHT($D27,1),0,RIGHT($D27,1),1)),\"ERROR\"))))","v":0},{"$f":"IF(Q$24<STANDARD_YEAR,Q15,\nIF(RIGHT($D27,1)>RIGHT('Efficiency Levels'!$C$22,1),Q15,\nIF(RIGHT($D27,1)<RIGHT('Efficiency Levels'!$C$22,1),0,\nIF(RIGHT($D27,1)=RIGHT('Efficiency Levels'!$C$22,1),SUM(OFFSET(Q15,-RIGHT($D27,1),0,RIGHT($D27,1),1)),\"ERROR\"))))","v":0},{"$f":"IF(R$24<STANDARD_YEAR,R15,\nIF(RIGHT($D27,1)>RIGHT('Efficiency Levels'!$C$22,1),R15,\nIF(RIGHT($D27,1)<RIGHT('Efficiency Levels'!$C$22,1),0,\nIF(RIGHT($D27,1)=RIGHT('Efficiency Levels'!$C$22,1),SUM(OFFSET(R15,-RIGHT($D27,1),0,RIGHT($D27,1),1)),\"ERROR\"))))","v":0},{"$f":"IF(S$24<STANDARD_YEAR,S15,\nIF(RIGHT($D27,1)>RIGHT('Efficiency Levels'!$C$22,1),S15,\nIF(RIGHT($D27,1)<RIGHT('Efficiency Levels'!$C$22,1),0,\nIF(RIGHT($D27,1)=RIGHT('Efficiency Levels'!$C$22,1),SUM(OFFSET(S15,-RIGHT($D27,1),0,RIGHT($D27,1),1)),\"ERROR\"))))","v":0},{"$f":"IF(T$24<STANDARD_YEAR,T15,\nIF(RIGHT($D27,1)>RIGHT('Efficiency Levels'!$C$22,1),T15,\nIF(RIGHT($D27,1)<RIGHT('Efficiency Levels'!$C$22,1),0,\nIF(RIGHT($D27,1)=RIGHT('Efficiency Levels'!$C$22,1),SUM(OFFSET(T15,-RIGHT($D27,1),0,RIGHT($D27,1),1)),\"ERROR\"))))","v":0},{"$f":"IF(U$24<STANDARD_YEAR,U15,\nIF(RIGHT($D27,1)>RIGHT('Efficiency Levels'!$C$22,1),U15,\nIF(RIGHT($D27,1)<RIGHT('Efficiency Levels'!$C$22,1),0,\nIF(RIGHT($D27,1)=RIGHT('Efficiency Levels'!$C$22,1),SUM(OFFSET(U15,-RIGHT($D27,1),0,RIGHT($D27,1),1)),\"ERROR\"))))","v":0},{"$f":"IF(V$24<STANDARD_YEAR,V15,\nIF(RIGHT($D27,1)>RIGHT('Efficiency Levels'!$C$22,1),V15,\nIF(RIGHT($D27,1)<RIGHT('Efficiency Levels'!$C$22,1),0,\nIF(RIGHT($D27,1)=RIGHT('Efficiency Levels'!$C$22,1),SUM(OFFSET(V15,-RIGHT($D27,1),0,RIGHT($D27,1),1)),\"ERROR\"))))","v":0},{"$f":"IF(W$24<STANDARD_YEAR,W15,\nIF(RIGHT($D27,1)>RIGHT('Efficiency Levels'!$C$22,1),W15,\nIF(RIGHT($D27,1)<RIGHT('Efficiency Levels'!$C$22,1),0,\nIF(RIGHT($D27,1)=RIGHT('Efficiency Levels'!$C$22,1),SUM(OFFSET(W15,-RIGHT($D27,1),0,RIGHT($D27,1),1)),\"ERROR\"))))","v":0},{"$f":"IF(X$24<STANDARD_YEAR,X15,\nIF(RIGHT($D27,1)>RIGHT('Efficiency Levels'!$C$22,1),X15,\nIF(RIGHT($D27,1)<RIGHT('Efficiency Levels'!$C$22,1),0,\nIF(RIGHT($D27,1)=RIGHT('Efficiency Levels'!$C$22,1),SUM(OFFSET(X15,-RIGHT($D27,1),0,RIGHT($D27,1),1)),\"ERROR\"))))","v":0},{"$f":"IF(Y$24<STANDARD_YEAR,Y15,\nIF(RIGHT($D27,1)>RIGHT('Efficiency Levels'!$C$22,1),Y15,\nIF(RIGHT($D27,1)<RIGHT('Efficiency Levels'!$C$22,1),0,\nIF(RIGHT($D27,1)=RIGHT('Efficiency Levels'!$C$22,1),SUM(OFFSET(Y15,-RIGHT($D27,1),0,RIGHT($D27,1),1)),\"ERROR\"))))","v":0},{"$f":"IF(Z$24<STANDARD_YEAR,Z15,\nIF(RIGHT($D27,1)>RIGHT('Efficiency Levels'!$C$22,1),Z15,\nIF(RIGHT($D27,1)<RIGHT('Efficiency Levels'!$C$22,1),0,\nIF(RIGHT($D27,1)=RIGHT('Efficiency Levels'!$C$22,1),SUM(OFFSET(Z15,-RIGHT($D27,1),0,RIGHT($D27,1),1)),\"ERROR\"))))","v":0},{"$f":"IF(AA$24<STANDARD_YEAR,AA15,\nIF(RIGHT($D27,1)>RIGHT('Efficiency Levels'!$C$22,1),AA15,\nIF(RIGHT($D27,1)<RIGHT('Efficiency Levels'!$C$22,1),0,\nIF(RIGHT($D27,1)=RIGHT('Efficiency Levels'!$C$22,1),SUM(OFFSET(AA15,-RIGHT($D27,1),0,RIGHT($D27,1),1)),\"ERROR\"))))","v":0},{"$f":"IF(AB$24<STANDARD_YEAR,AB15,\nIF(RIGHT($D27,1)>RIGHT('Efficiency Levels'!$C$22,1),AB15,\nIF(RIGHT($D27,1)<RIGHT('Efficiency Levels'!$C$22,1),0,\nIF(RIGHT($D27,1)=RIGHT('Efficiency Levels'!$C$22,1),SUM(OFFSET(AB15,-RIGHT($D27,1),0,RIGHT($D27,1),1)),\"ERROR\"))))","v":0},{"$f":"IF(AC$24<STANDARD_YEAR,AC15,\nIF(RIGHT($D27,1)>RIGHT('Efficiency Levels'!$C$22,1),AC15,\nIF(RIGHT($D27,1)<RIGHT('Efficiency Levels'!$C$22,1),0,\nIF(RIGHT($D27,1)=RIGHT('Efficiency Levels'!$C$22,1),SUM(OFFSET(AC15,-RIGHT($D27,1),0,RIGHT($D27,1),1)),\"ERROR\"))))","v":0},{"$f":"IF(AD$24<STANDARD_YEAR,AD15,\nIF(RIGHT($D27,1)>RIGHT('Efficiency Levels'!$C$22,1),AD15,\nIF(RIGHT($D27,1)<RIGHT('Efficiency Levels'!$C$22,1),0,\nIF(RIGHT($D27,1)=RIGHT('Efficiency Levels'!$C$22,1),SUM(OFFSET(AD15,-RIGHT($D27,1),0,RIGHT($D27,1),1)),\"ERROR\"))))","v":0},{"$f":"IF(AE$24<STANDARD_YEAR,AE15,\nIF(RIGHT($D27,1)>RIGHT('Efficiency Levels'!$C$22,1),AE15,\nIF(RIGHT($D27,1)<RIGHT('Efficiency Levels'!$C$22,1),0,\nIF(RIGHT($D27,1)=RIGHT('Efficiency Levels'!$C$22,1),SUM(OFFSET(AE15,-RIGHT($D27,1),0,RIGHT($D27,1),1)),\"ERROR\"))))","v":0},{"$f":"IF(AF$24<STANDARD_YEAR,AF15,\nIF(RIGHT($D27,1)>RIGHT('Efficiency Levels'!$C$22,1),AF15,\nIF(RIGHT($D27,1)<RIGHT('Efficiency Levels'!$C$22,1),0,\nIF(RIGHT($D27,1)=RIGHT('Efficiency Levels'!$C$22,1),SUM(OFFSET(AF15,-RIGHT($D27,1),0,RIGHT($D27,1),1)),\"ERROR\"))))","v":0},{"$f":"IF(AG$24<STANDARD_YEAR,AG15,\nIF(RIGHT($D27,1)>RIGHT('Efficiency Levels'!$C$22,1),AG15,\nIF(RIGHT($D27,1)<RIGHT('Efficiency Levels'!$C$22,1),0,\nIF(RIGHT($D27,1)=RIGHT('Efficiency Levels'!$C$22,1),SUM(OFFSET(AG15,-RIGHT($D27,1),0,RIGHT($D27,1),1)),\"ERROR\"))))","v":0},{"$f":"IF(AH$24<STANDARD_YEAR,AH15,\nIF(RIGHT($D27,1)>RIGHT('Efficiency Levels'!$C$22,1),AH15,\nIF(RIGHT($D27,1)<RIGHT('Efficiency Levels'!$C$22,1),0,\nIF(RIGHT($D27,1)=RIGHT('Efficiency Levels'!$C$22,1),SUM(OFFSET(AH15,-RIGHT($D27,1),0,RIGHT($D27,1),1)),\"ERROR\"))))","v":0},{"$f":"IF(AI$24<STANDARD_YEAR,AI15,\nIF(RIGHT($D27,1)>RIGHT('Efficiency Levels'!$C$22,1),AI15,\nIF(RIGHT($D27,1)<RIGHT('Efficiency Levels'!$C$22,1),0,\nIF(RIGHT($D27,1)=RIGHT('Efficiency Levels'!$C$22,1),SUM(OFFSET(AI15,-RIGHT($D27,1),0,RIGHT($D27,1),1)),\"ERROR\"))))","v":0},{"$f":"IF(AJ$24<STANDARD_YEAR,AJ15,\nIF(RIGHT($D27,1)>RIGHT('Efficiency Levels'!$C$22,1),AJ15,\nIF(RIGHT($D27,1)<RIGHT('Efficiency Levels'!$C$22,1),0,\nIF(RIGHT($D27,1)=RIGHT('Efficiency Levels'!$C$22,1),SUM(OFFSET(AJ15,-RIGHT($D27,1),0,RIGHT($D27,1),1)),\"ERROR\"))))","v":0},{"$f":"IF(AK$24<STANDARD_YEAR,AK15,\nIF(RIGHT($D27,1)>RIGHT('Efficiency Levels'!$C$22,1),AK15,\nIF(RIGHT($D27,1)<RIGHT('Efficiency Levels'!$C$22,1),0,\nIF(RIGHT($D27,1)=RIGHT('Efficiency Levels'!$C$22,1),SUM(OFFSET(AK15,-RIGHT($D27,1),0,RIGHT($D27,1),1)),\"ERROR\"))))","v":0},{"$f":"IF(AL$24<STANDARD_YEAR,AL15,\nIF(RIGHT($D27,1)>RIGHT('Efficiency Levels'!$C$22,1),AL15,\nIF(RIGHT($D27,1)<RIGHT('Efficiency Levels'!$C$22,1),0,\nIF(RIGHT($D27,1)=RIGHT('Efficiency Levels'!$C$22,1),SUM(OFFSET(AL15,-RIGHT($D27,1),0,RIGHT($D27,1),1)),\"ERROR\"))))","v":0},{"$f":"IF(AM$24<STANDARD_YEAR,AM15,\nIF(RIGHT($D27,1)>RIGHT('Efficiency Levels'!$C$22,1),AM15,\nIF(RIGHT($D27,1)<RIGHT('Efficiency Levels'!$C$22,1),0,\nIF(RIGHT($D27,1)=RIGHT('Efficiency Levels'!$C$22,1),SUM(OFFSET(AM15,-RIGHT($D27,1),0,RIGHT($D27,1),1)),\"ERROR\"))))","v":0},{"$f":"IF(AN$24<STANDARD_YEAR,AN15,\nIF(RIGHT($D27,1)>RIGHT('Efficiency Levels'!$C$22,1),AN15,\nIF(RIGHT($D27,1)<RIGHT('Efficiency Levels'!$C$22,1),0,\nIF(RIGHT($D27,1)=RIGHT('Efficiency Levels'!$C$22,1),SUM(OFFSET(AN15,-RIGHT($D27,1),0,RIGHT($D27,1),1)),\"ERROR\"))))","v":0},{"$f":"IF(AO$24<STANDARD_YEAR,AO15,\nIF(RIGHT($D27,1)>RIGHT('Efficiency Levels'!$C$22,1),AO15,\nIF(RIGHT($D27,1)<RIGHT('Efficiency Levels'!$C$22,1),0,\nIF(RIGHT($D27,1)=RIGHT('Efficiency Levels'!$C$22,1),SUM(OFFSET(AO15,-RIGHT($D27,1),0,RIGHT($D27,1),1)),\"ERROR\"))))","v":0},{"$f":"IF(AP$24<STANDARD_YEAR,AP15,\nIF(RIGHT($D27,1)>RIGHT('Efficiency Levels'!$C$22,1),AP15,\nIF(RIGHT($D27,1)<RIGHT('Efficiency Levels'!$C$22,1),0,\nIF(RIGHT($D27,1)=RIGHT('Efficiency Levels'!$C$22,1),SUM(OFFSET(AP15,-RIGHT($D27,1),0,RIGHT($D27,1),1)),\"ERROR\"))))","v":0},{"$f":"IF(AQ$24<STANDARD_YEAR,AQ15,\nIF(RIGHT($D27,1)>RIGHT('Efficiency Levels'!$C$22,1),AQ15,\nIF(RIGHT($D27,1)<RIGHT('Efficiency Levels'!$C$22,1),0,\nIF(RIGHT($D27,1)=RIGHT('Efficiency Levels'!$C$22,1),SUM(OFFSET(AQ15,-RIGHT($D27,1),0,RIGHT($D27,1),1)),\"ERROR\"))))","v":0},{"$f":"IF(AR$24<STANDARD_YEAR,AR15,\nIF(RIGHT($D27,1)>RIGHT('Efficiency Levels'!$C$22,1),AR15,\nIF(RIGHT($D27,1)<RIGHT('Efficiency Levels'!$C$22,1),0,\nIF(RIGHT($D27,1)=RIGHT('Efficiency Levels'!$C$22,1),SUM(OFFSET(AR15,-RIGHT($D27,1),0,RIGHT($D27,1),1)),\"ERROR\"))))","v":0},{"$f":"IF(AS$24<STANDARD_YEAR,AS15,\nIF(RIGHT($D27,1)>RIGHT('Efficiency Levels'!$C$22,1),AS15,\nIF(RIGHT($D27,1)<RIGHT('Efficiency Levels'!$C$22,1),0,\nIF(RIGHT($D27,1)=RIGHT('Efficiency Levels'!$C$22,1),SUM(OFFSET(AS15,-RIGHT($D27,1),0,RIGHT($D27,1),1)),\"ERROR\"))))","v":0},{"$f":"IF(AT$24<STANDARD_YEAR,AT15,\nIF(RIGHT($D27,1)>RIGHT('Efficiency Levels'!$C$22,1),AT15,\nIF(RIGHT($D27,1)<RIGHT('Efficiency Levels'!$C$22,1),0,\nIF(RIGHT($D27,1)=RIGHT('Efficiency Levels'!$C$22,1),SUM(OFFSET(AT15,-RIGHT($D27,1),0,RIGHT($D27,1),1)),\"ERROR\"))))","v":0},{"$f":"IF(AU$24<STANDARD_YEAR,AU15,\nIF(RIGHT($D27,1)>RIGHT('Efficiency Levels'!$C$22,1),AU15,\nIF(RIGHT($D27,1)<RIGHT('Efficiency Levels'!$C$22,1),0,\nIF(RIGHT($D27,1)=RIGHT('Efficiency Levels'!$C$22,1),SUM(OFFSET(AU15,-RIGHT($D27,1),0,RIGHT($D27,1),1)),\"ERROR\"))))","v":1},{"$f":"IF(AV$24<STANDARD_YEAR,AV15,\nIF(RIGHT($D27,1)>RIGHT('Efficiency Levels'!$C$22,1),AV15,\nIF(RIGHT($D27,1)<RIGHT('Efficiency Levels'!$C$22,1),0,\nIF(RIGHT($D27,1)=RIGHT('Efficiency Levels'!$C$22,1),SUM(OFFSET(AV15,-RIGHT($D27,1),0,RIGHT($D27,1),1)),\"ERROR\"))))","v":1},{"$f":"IF(AW$24<STANDARD_YEAR,AW15,\nIF(RIGHT($D27,1)>RIGHT('Efficiency Levels'!$C$22,1),AW15,\nIF(RIGHT($D27,1)<RIGHT('Efficiency Levels'!$C$22,1),0,\nIF(RIGHT($D27,1)=RIGHT('Efficiency Levels'!$C$22,1),SUM(OFFSET(AW15,-RIGHT($D27,1),0,RIGHT($D27,1),1)),\"ERROR\"))))","v":1},{"$f":"IF(AX$24<STANDARD_YEAR,AX15,\nIF(RIGHT($D27,1)>RIGHT('Efficiency Levels'!$C$22,1),AX15,\nIF(RIGHT($D27,1)<RIGHT('Efficiency Levels'!$C$22,1),0,\nIF(RIGHT($D27,1)=RIGHT('Efficiency Levels'!$C$22,1),SUM(OFFSET(AX15,-RIGHT($D27,1),0,RIGHT($D27,1),1)),\"ERROR\"))))","v":1},{"$f":"IF(AY$24<STANDARD_YEAR,AY15,\nIF(RIGHT($D27,1)>RIGHT('Efficiency Levels'!$C$22,1),AY15,\nIF(RIGHT($D27,1)<RIGHT('Efficiency Levels'!$C$22,1),0,\nIF(RIGHT($D27,1)=RIGHT('Efficiency Levels'!$C$22,1),SUM(OFFSET(AY15,-RIGHT($D27,1),0,RIGHT($D27,1),1)),\"ERROR\"))))","v":1},{"$f":"IF(AZ$24<STANDARD_YEAR,AZ15,\nIF(RIGHT($D27,1)>RIGHT('Efficiency Levels'!$C$22,1),AZ15,\nIF(RIGHT($D27,1)<RIGHT('Efficiency Levels'!$C$22,1),0,\nIF(RIGHT($D27,1)=RIGHT('Efficiency Levels'!$C$22,1),SUM(OFFSET(AZ15,-RIGHT($D27,1),0,RIGHT($D27,1),1)),\"ERROR\"))))","v":1},{"$f":"IF(BA$24<STANDARD_YEAR,BA15,\nIF(RIGHT($D27,1)>RIGHT('Efficiency Levels'!$C$22,1),BA15,\nIF(RIGHT($D27,1)<RIGHT('Efficiency Levels'!$C$22,1),0,\nIF(RIGHT($D27,1)=RIGHT('Efficiency Levels'!$C$22,1),SUM(OFFSET(BA15,-RIGHT($D27,1),0,RIGHT($D27,1),1)),\"ERROR\"))))","v":1},{"$f":"IF(BB$24<STANDARD_YEAR,BB15,\nIF(RIGHT($D27,1)>RIGHT('Efficiency Levels'!$C$22,1),BB15,\nIF(RIGHT($D27,1)<RIGHT('Efficiency Levels'!$C$22,1),0,\nIF(RIGHT($D27,1)=RIGHT('Efficiency Levels'!$C$22,1),SUM(OFFSET(BB15,-RIGHT($D27,1),0,RIGHT($D27,1),1)),\"ERROR\"))))","v":1},{"$f":"IF(BC$24<STANDARD_YEAR,BC15,\nIF(RIGHT($D27,1)>RIGHT('Efficiency Levels'!$C$22,1),BC15,\nIF(RIGHT($D27,1)<RIGHT('Efficiency Levels'!$C$22,1),0,\nIF(RIGHT($D27,1)=RIGHT('Efficiency Levels'!$C$22,1),SUM(OFFSET(BC15,-RIGHT($D27,1),0,RIGHT($D27,1),1)),\"ERROR\"))))","v":1},{"$f":"IF(BD$24<STANDARD_YEAR,BD15,\nIF(RIGHT($D27,1)>RIGHT('Efficiency Levels'!$C$22,1),BD15,\nIF(RIGHT($D27,1)<RIGHT('Efficiency Levels'!$C$22,1),0,\nIF(RIGHT($D27,1)=RIGHT('Efficiency Levels'!$C$22,1),SUM(OFFSET(BD15,-RIGHT($D27,1),0,RIGHT($D27,1),1)),\"ERROR\"))))","v":1},{"$f":"IF(BE$24<STANDARD_YEAR,BE15,\nIF(RIGHT($D27,1)>RIGHT('Efficiency Levels'!$C$22,1),BE15,\nIF(RIGHT($D27,1)<RIGHT('Efficiency Levels'!$C$22,1),0,\nIF(RIGHT($D27,1)=RIGHT('Efficiency Levels'!$C$22,1),SUM(OFFSET(BE15,-RIGHT($D27,1),0,RIGHT($D27,1),1)),\"ERROR\"))))","v":1},{"$f":"IF(BF$24<STANDARD_YEAR,BF15,\nIF(RIGHT($D27,1)>RIGHT('Efficiency Levels'!$C$22,1),BF15,\nIF(RIGHT($D27,1)<RIGHT('Efficiency Levels'!$C$22,1),0,\nIF(RIGHT($D27,1)=RIGHT('Efficiency Levels'!$C$22,1),SUM(OFFSET(BF15,-RIGHT($D27,1),0,RIGHT($D27,1),1)),\"ERROR\"))))","v":1},{"$f":"IF(BG$24<STANDARD_YEAR,BG15,\nIF(RIGHT($D27,1)>RIGHT('Efficiency Levels'!$C$22,1),BG15,\nIF(RIGHT($D27,1)<RIGHT('Efficiency Levels'!$C$22,1),0,\nIF(RIGHT($D27,1)=RIGHT('Efficiency Levels'!$C$22,1),SUM(OFFSET(BG15,-RIGHT($D27,1),0,RIGHT($D27,1),1)),\"ERROR\"))))","v":1},{"$f":"IF(BH$24<STANDARD_YEAR,BH15,\nIF(RIGHT($D27,1)>RIGHT('Efficiency Levels'!$C$22,1),BH15,\nIF(RIGHT($D27,1)<RIGHT('Efficiency Levels'!$C$22,1),0,\nIF(RIGHT($D27,1)=RIGHT('Efficiency Levels'!$C$22,1),SUM(OFFSET(BH15,-RIGHT($D27,1),0,RIGHT($D27,1),1)),\"ERROR\"))))","v":1},{"$f":"IF(BI$24<STANDARD_YEAR,BI15,\nIF(RIGHT($D27,1)>RIGHT('Efficiency Levels'!$C$22,1),BI15,\nIF(RIGHT($D27,1)<RIGHT('Efficiency Levels'!$C$22,1),0,\nIF(RIGHT($D27,1)=RIGHT('Efficiency Levels'!$C$22,1),SUM(OFFSET(BI15,-RIGHT($D27,1),0,RIGHT($D27,1),1)),\"ERROR\"))))","v":1},{"$f":"IF(BJ$24<STANDARD_YEAR,BJ15,\nIF(RIGHT($D27,1)>RIGHT('Efficiency Levels'!$C$22,1),BJ15,\nIF(RIGHT($D27,1)<RIGHT('Efficiency Levels'!$C$22,1),0,\nIF(RIGHT($D27,1)=RIGHT('Efficiency Levels'!$C$22,1),SUM(OFFSET(BJ15,-RIGHT($D27,1),0,RIGHT($D27,1),1)),\"ERROR\"))))","v":1}]
[null,null,null,"EL3",{"$f":"OFFSET('Efficiency Levels'!$D$11,MATCH($C$9,'Efficiency Levels'!$C$9:$C$1002,0)+RIGHT(D28,1),0)","v":304.8},null,null,null,{"$f":"IF(I$24<STANDARD_YEAR,I16,\nIF(RIGHT($D28,1)>RIGHT('Efficiency Levels'!$C$22,1),I16,\nIF(RIGHT($D28,1)<RIGHT('Efficiency Levels'!$C$22,1),0,\nIF(RIGHT($D28,1)=RIGHT('Efficiency Levels'!$C$22,1),SUM(OFFSET(I16,-RIGHT($D28,1),0,RIGHT($D28,1),1)),\"ERROR\"))))","v":0},{"$f":"IF(J$24<STANDARD_YEAR,J16,\nIF(RIGHT($D28,1)>RIGHT('Efficiency Levels'!$C$22,1),J16,\nIF(RIGHT($D28,1)<RIGHT('Efficiency Levels'!$C$22,1),0,\nIF(RIGHT($D28,1)=RIGHT('Efficiency Levels'!$C$22,1),SUM(OFFSET(J16,-RIGHT($D28,1),0,RIGHT($D28,1),1)),\"ERROR\"))))","v":0},{"$f":"IF(K$24<STANDARD_YEAR,K16,\nIF(RIGHT($D28,1)>RIGHT('Efficiency Levels'!$C$22,1),K16,\nIF(RIGHT($D28,1)<RIGHT('Efficiency Levels'!$C$22,1),0,\nIF(RIGHT($D28,1)=RIGHT('Efficiency Levels'!$C$22,1),SUM(OFFSET(K16,-RIGHT($D28,1),0,RIGHT($D28,1),1)),\"ERROR\"))))","v":0},{"$f":"IF(L$24<STANDARD_YEAR,L16,\nIF(RIGHT($D28,1)>RIGHT('Efficiency Levels'!$C$22,1),L16,\nIF(RIGHT($D28,1)<RIGHT('Efficiency Levels'!$C$22,1),0,\nIF(RIGHT($D28,1)=RIGHT('Efficiency Levels'!$C$22,1),SUM(OFFSET(L16,-RIGHT($D28,1),0,RIGHT($D28,1),1)),\"ERROR\"))))","v":0},{"$f":"IF(M$24<STANDARD_YEAR,M16,\nIF(RIGHT($D28,1)>RIGHT('Efficiency Levels'!$C$22,1),M16,\nIF(RIGHT($D28,1)<RIGHT('Efficiency Levels'!$C$22,1),0,\nIF(RIGHT($D28,1)=RIGHT('Efficiency Levels'!$C$22,1),SUM(OFFSET(M16,-RIGHT($D28,1),0,RIGHT($D28,1),1)),\"ERROR\"))))","v":0},{"$f":"IF(N$24<STANDARD_YEAR,N16,\nIF(RIGHT($D28,1)>RIGHT('Efficiency Levels'!$C$22,1),N16,\nIF(RIGHT($D28,1)<RIGHT('Efficiency Levels'!$C$22,1),0,\nIF(RIGHT($D28,1)=RIGHT('Efficiency Levels'!$C$22,1),SUM(OFFSET(N16,-RIGHT($D28,1),0,RIGHT($D28,1),1)),\"ERROR\"))))","v":0},{"$f":"IF(O$24<STANDARD_YEAR,O16,\nIF(RIGHT($D28,1)>RIGHT('Efficiency Levels'!$C$22,1),O16,\nIF(RIGHT($D28,1)<RIGHT('Efficiency Levels'!$C$22,1),0,\nIF(RIGHT($D28,1)=RIGHT('Efficiency Levels'!$C$22,1),SUM(OFFSET(O16,-RIGHT($D28,1),0,RIGHT($D28,1),1)),\"ERROR\"))))","v":0},{"$f":"IF(P$24<STANDARD_YEAR,P16,\nIF(RIGHT($D28,1)>RIGHT('Efficiency Levels'!$C$22,1),P16,\nIF(RIGHT($D28,1)<RIGHT('Efficiency Levels'!$C$22,1),0,\nIF(RIGHT($D28,1)=RIGHT('Efficiency Levels'!$C$22,1),SUM(OFFSET(P16,-RIGHT($D28,1),0,RIGHT($D28,1),1)),\"ERROR\"))))","v":0},{"$f":"IF(Q$24<STANDARD_YEAR,Q16,\nIF(RIGHT($D28,1)>RIGHT('Efficiency Levels'!$C$22,1),Q16,\nIF(RIGHT($D28,1)<RIGHT('Efficiency Levels'!$C$22,1),0,\nIF(RIGHT($D28,1)=RIGHT('Efficiency Levels'!$C$22,1),SUM(OFFSET(Q16,-RIGHT($D28,1),0,RIGHT($D28,1),1)),\"ERROR\"))))","v":0},{"$f":"IF(R$24<STANDARD_YEAR,R16,\nIF(RIGHT($D28,1)>RIGHT('Efficiency Levels'!$C$22,1),R16,\nIF(RIGHT($D28,1)<RIGHT('Efficiency Levels'!$C$22,1),0,\nIF(RIGHT($D28,1)=RIGHT('Efficiency Levels'!$C$22,1),SUM(OFFSET(R16,-RIGHT($D28,1),0,RIGHT($D28,1),1)),\"ERROR\"))))","v":0},{"$f":"IF(S$24<STANDARD_YEAR,S16,\nIF(RIGHT($D28,1)>RIGHT('Efficiency Levels'!$C$22,1),S16,\nIF(RIGHT($D28,1)<RIGHT('Efficiency Levels'!$C$22,1),0,\nIF(RIGHT($D28,1)=RIGHT('Efficiency Levels'!$C$22,1),SUM(OFFSET(S16,-RIGHT($D28,1),0,RIGHT($D28,1),1)),\"ERROR\"))))","v":0},{"$f":"IF(T$24<STANDARD_YEAR,T16,\nIF(RIGHT($D28,1)>RIGHT('Efficiency Levels'!$C$22,1),T16,\nIF(RIGHT($D28,1)<RIGHT('Efficiency Levels'!$C$22,1),0,\nIF(RIGHT($D28,1)=RIGHT('Efficiency Levels'!$C$22,1),SUM(OFFSET(T16,-RIGHT($D28,1),0,RIGHT($D28,1),1)),\"ERROR\"))))","v":0},{"$f":"IF(U$24<STANDARD_YEAR,U16,\nIF(RIGHT($D28,1)>RIGHT('Efficiency Levels'!$C$22,1),U16,\nIF(RIGHT($D28,1)<RIGHT('Efficiency Levels'!$C$22,1),0,\nIF(RIGHT($D28,1)=RIGHT('Efficiency Levels'!$C$22,1),SUM(OFFSET(U16,-RIGHT($D28,1),0,RIGHT($D28,1),1)),\"ERROR\"))))","v":0},{"$f":"IF(V$24<STANDARD_YEAR,V16,\nIF(RIGHT($D28,1)>RIGHT('Efficiency Levels'!$C$22,1),V16,\nIF(RIGHT($D28,1)<RIGHT('Efficiency Levels'!$C$22,1),0,\nIF(RIGHT($D28,1)=RIGHT('Efficiency Levels'!$C$22,1),SUM(OFFSET(V16,-RIGHT($D28,1),0,RIGHT($D28,1),1)),\"ERROR\"))))","v":0},{"$f":"IF(W$24<STANDARD_YEAR,W16,\nIF(RIGHT($D28,1)>RIGHT('Efficiency Levels'!$C$22,1),W16,\nIF(RIGHT($D28,1)<RIGHT('Efficiency Levels'!$C$22,1),0,\nIF(RIGHT($D28,1)=RIGHT('Efficiency Levels'!$C$22,1),SUM(OFFSET(W16,-RIGHT($D28,1),0,RIGHT($D28,1),1)),\"ERROR\"))))","v":0},{"$f":"IF(X$24<STANDARD_YEAR,X16,\nIF(RIGHT($D28,1)>RIGHT('Efficiency Levels'!$C$22,1),X16,\nIF(RIGHT($D28,1)<RIGHT('Efficiency Levels'!$C$22,1),0,\nIF(RIGHT($D28,1)=RIGHT('Efficiency Levels'!$C$22,1),SUM(OFFSET(X16,-RIGHT($D28,1),0,RIGHT($D28,1),1)),\"ERROR\"))))","v":0},{"$f":"IF(Y$24<STANDARD_YEAR,Y16,\nIF(RIGHT($D28,1)>RIGHT('Efficiency Levels'!$C$22,1),Y16,\nIF(RIGHT($D28,1)<RIGHT('Efficiency Levels'!$C$22,1),0,\nIF(RIGHT($D28,1)=RIGHT('Efficiency Levels'!$C$22,1),SUM(OFFSET(Y16,-RIGHT($D28,1),0,RIGHT($D28,1),1)),\"ERROR\"))))","v":0},{"$f":"IF(Z$24<STANDARD_YEAR,Z16,\nIF(RIGHT($D28,1)>RIGHT('Efficiency Levels'!$C$22,1),Z16,\nIF(RIGHT($D28,1)<RIGHT('Efficiency Levels'!$C$22,1),0,\nIF(RIGHT($D28,1)=RIGHT('Efficiency Levels'!$C$22,1),SUM(OFFSET(Z16,-RIGHT($D28,1),0,RIGHT($D28,1),1)),\"ERROR\"))))","v":0},{"$f":"IF(AA$24<STANDARD_YEAR,AA16,\nIF(RIGHT($D28,1)>RIGHT('Efficiency Levels'!$C$22,1),AA16,\nIF(RIGHT($D28,1)<RIGHT('Efficiency Levels'!$C$22,1),0,\nIF(RIGHT($D28,1)=RIGHT('Efficiency Levels'!$C$22,1),SUM(OFFSET(AA16,-RIGHT($D28,1),0,RIGHT($D28,1),1)),\"ERROR\"))))","v":0},{"$f":"IF(AB$24<STANDARD_YEAR,AB16,\nIF(RIGHT($D28,1)>RIGHT('Efficiency Levels'!$C$22,1),AB16,\nIF(RIGHT($D28,1)<RIGHT('Efficiency Levels'!$C$22,1),0,\nIF(RIGHT($D28,1)=RIGHT('Efficiency Levels'!$C$22,1),SUM(OFFSET(AB16,-RIGHT($D28,1),0,RIGHT($D28,1),1)),\"ERROR\"))))","v":0},{"$f":"IF(AC$24<STANDARD_YEAR,AC16,\nIF(RIGHT($D28,1)>RIGHT('Efficiency Levels'!$C$22,1),AC16,\nIF(RIGHT($D28,1)<RIGHT('Efficiency Levels'!$C$22,1),0,\nIF(RIGHT($D28,1)=RIGHT('Efficiency Levels'!$C$22,1),SUM(OFFSET(AC16,-RIGHT($D28,1),0,RIGHT($D28,1),1)),\"ERROR\"))))","v":0},{"$f":"IF(AD$24<STANDARD_YEAR,AD16,\nIF(RIGHT($D28,1)>RIGHT('Efficiency Levels'!$C$22,1),AD16,\nIF(RIGHT($D28,1)<RIGHT('Efficiency Levels'!$C$22,1),0,\nIF(RIGHT($D28,1)=RIGHT('Efficiency Levels'!$C$22,1),SUM(OFFSET(AD16,-RIGHT($D28,1),0,RIGHT($D28,1),1)),\"ERROR\"))))","v":0},{"$f":"IF(AE$24<STANDARD_YEAR,AE16,\nIF(RIGHT($D28,1)>RIGHT('Efficiency Levels'!$C$22,1),AE16,\nIF(RIGHT($D28,1)<RIGHT('Efficiency Levels'!$C$22,1),0,\nIF(RIGHT($D28,1)=RIGHT('Efficiency Levels'!$C$22,1),SUM(OFFSET(AE16,-RIGHT($D28,1),0,RIGHT($D28,1),1)),\"ERROR\"))))","v":0},{"$f":"IF(AF$24<STANDARD_YEAR,AF16,\nIF(RIGHT($D28,1)>RIGHT('Efficiency Levels'!$C$22,1),AF16,\nIF(RIGHT($D28,1)<RIGHT('Efficiency Levels'!$C$22,1),0,\nIF(RIGHT($D28,1)=RIGHT('Efficiency Levels'!$C$22,1),SUM(OFFSET(AF16,-RIGHT($D28,1),0,RIGHT($D28,1),1)),\"ERROR\"))))","v":0},{"$f":"IF(AG$24<STANDARD_YEAR,AG16,\nIF(RIGHT($D28,1)>RIGHT('Efficiency Levels'!$C$22,1),AG16,\nIF(RIGHT($D28,1)<RIGHT('Efficiency Levels'!$C$22,1),0,\nIF(RIGHT($D28,1)=RIGHT('Efficiency Levels'!$C$22,1),SUM(OFFSET(AG16,-RIGHT($D28,1),0,RIGHT($D28,1),1)),\"ERROR\"))))","v":0},{"$f":"IF(AH$24<STANDARD_YEAR,AH16,\nIF(RIGHT($D28,1)>RIGHT('Efficiency Levels'!$C$22,1),AH16,\nIF(RIGHT($D28,1)<RIGHT('Efficiency Levels'!$C$22,1),0,\nIF(RIGHT($D28,1)=RIGHT('Efficiency Levels'!$C$22,1),SUM(OFFSET(AH16,-RIGHT($D28,1),0,RIGHT($D28,1),1)),\"ERROR\"))))","v":0},{"$f":"IF(AI$24<STANDARD_YEAR,AI16,\nIF(RIGHT($D28,1)>RIGHT('Efficiency Levels'!$C$22,1),AI16,\nIF(RIGHT($D28,1)<RIGHT('Efficiency Levels'!$C$22,1),0,\nIF(RIGHT($D28,1)=RIGHT('Efficiency Levels'!$C$22,1),SUM(OFFSET(AI16,-RIGHT($D28,1),0,RIGHT($D28,1),1)),\"ERROR\"))))","v":0},{"$f":"IF(AJ$24<STANDARD_YEAR,AJ16,\nIF(RIGHT($D28,1)>RIGHT('Efficiency Levels'!$C$22,1),AJ16,\nIF(RIGHT($D28,1)<RIGHT('Efficiency Levels'!$C$22,1),0,\nIF(RIGHT($D28,1)=RIGHT('Efficiency Levels'!$C$22,1),SUM(OFFSET(AJ16,-RIGHT($D28,1),0,RIGHT($D28,1),1)),\"ERROR\"))))","v":0},{"$f":"IF(AK$24<STANDARD_YEAR,AK16,\nIF(RIGHT($D28,1)>RIGHT('Efficiency Levels'!$C$22,1),AK16,\nIF(RIGHT($D28,1)<RIGHT('Efficiency Levels'!$C$22,1),0,\nIF(RIGHT($D28,1)=RIGHT('Efficiency Levels'!$C$22,1),SUM(OFFSET(AK16,-RIGHT($D28,1),0,RIGHT($D28,1),1)),\"ERROR\"))))","v":0},{"$f":"IF(AL$24<STANDARD_YEAR,AL16,\nIF(RIGHT($D28,1)>RIGHT('Efficiency Levels'!$C$22,1),AL16,\nIF(RIGHT($D28,1)<RIGHT('Efficiency Levels'!$C$22,1),0,\nIF(RIGHT($D28,1)=RIGHT('Efficiency Levels'!$C$22,1),SUM(OFFSET(AL16,-RIGHT($D28,1),0,RIGHT($D28,1),1)),\"ERROR\"))))","v":0},{"$f":"IF(AM$24<STANDARD_YEAR,AM16,\nIF(RIGHT($D28,1)>RIGHT('Efficiency Levels'!$C$22,1),AM16,\nIF(RIGHT($D28,1)<RIGHT('Efficiency Levels'!$C$22,1),0,\nIF(RIGHT($D28,1)=RIGHT('Efficiency Levels'!$C$22,1),SUM(OFFSET(AM16,-RIGHT($D28,1),0,RIGHT($D28,1),1)),\"ERROR\"))))","v":0},{"$f":"IF(AN$24<STANDARD_YEAR,AN16,\nIF(RIGHT($D28,1)>RIGHT('Efficiency Levels'!$C$22,1),AN16,\nIF(RIGHT($D28,1)<RIGHT('Efficiency Levels'!$C$22,1),0,\nIF(RIGHT($D28,1)=RIGHT('Efficiency Levels'!$C$22,1),SUM(OFFSET(AN16,-RIGHT($D28,1),0,RIGHT($D28,1),1)),\"ERROR\"))))","v":0},{"$f":"IF(AO$24<STANDARD_YEAR,AO16,\nIF(RIGHT($D28,1)>RIGHT('Efficiency Levels'!$C$22,1),AO16,\nIF(RIGHT($D28,1)<RIGHT('Efficiency Levels'!$C$22,1),0,\nIF(RIGHT($D28,1)=RIGHT('Efficiency Levels'!$C$22,1),SUM(OFFSET(AO16,-RIGHT($D28,1),0,RIGHT($D28,1),1)),\"ERROR\"))))","v":0},{"$f":"IF(AP$24<STANDARD_YEAR,AP16,\nIF(RIGHT($D28,1)>RIGHT('Efficiency Levels'!$C$22,1),AP16,\nIF(RIGHT($D28,1)<RIGHT('Efficiency Levels'!$C$22,1),0,\nIF(RIGHT($D28,1)=RIGHT('Efficiency Levels'!$C$22,1),SUM(OFFSET(AP16,-RIGHT($D28,1),0,RIGHT($D28,1),1)),\"ERROR\"))))","v":0},{"$f":"IF(AQ$24<STANDARD_YEAR,AQ16,\nIF(RIGHT($D28,1)>RIGHT('Efficiency Levels'!$C$22,1),AQ16,\nIF(RIGHT($D28,1)<RIGHT('Efficiency Levels'!$C$22,1),0,\nIF(RIGHT($D28,1)=RIGHT('Efficiency Levels'!$C$22,1),SUM(OFFSET(AQ16,-RIGHT($D28,1),0,RIGHT($D28,1),1)),\"ERROR\"))))","v":0},{"$f":"IF(AR$24<STANDARD_YEAR,AR16,\nIF(RIGHT($D28,1)>RIGHT('Efficiency Levels'!$C$22,1),AR16,\nIF(RIGHT($D28,1)<RIGHT('Efficiency Levels'!$C$22,1),0,\nIF(RIGHT($D28,1)=RIGHT('Efficiency Levels'!$C$22,1),SUM(OFFSET(AR16,-RIGHT($D28,1),0,RIGHT($D28,1),1)),\"ERROR\"))))","v":0},{"$f":"IF(AS$24<STANDARD_YEAR,AS16,\nIF(RIGHT($D28,1)>RIGHT('Efficiency Levels'!$C$22,1),AS16,\nIF(RIGHT($D28,1)<RIGHT('Efficiency Levels'!$C$22,1),0,\nIF(RIGHT($D28,1)=RIGHT('Efficiency Levels'!$C$22,1),SUM(OFFSET(AS16,-RIGHT($D28,1),0,RIGHT($D28,1),1)),\"ERROR\"))))","v":0},{"$f":"IF(AT$24<STANDARD_YEAR,AT16,\nIF(RIGHT($D28,1)>RIGHT('Efficiency Levels'!$C$22,1),AT16,\nIF(RIGHT($D28,1)<RIGHT('Efficiency Levels'!$C$22,1),0,\nIF(RIGHT($D28,1)=RIGHT('Efficiency Levels'!$C$22,1),SUM(OFFSET(AT16,-RIGHT($D28,1),0,RIGHT($D28,1),1)),\"ERROR\"))))","v":0},{"$f":"IF(AU$24<STANDARD_YEAR,AU16,\nIF(RIGHT($D28,1)>RIGHT('Efficiency Levels'!$C$22,1),AU16,\nIF(RIGHT($D28,1)<RIGHT('Efficiency Levels'!$C$22,1),0,\nIF(RIGHT($D28,1)=RIGHT('Efficiency Levels'!$C$22,1),SUM(OFFSET(AU16,-RIGHT($D28,1),0,RIGHT($D28,1),1)),\"ERROR\"))))","v":0},{"$f":"IF(AV$24<STANDARD_YEAR,AV16,\nIF(RIGHT($D28,1)>RIGHT('Efficiency Levels'!$C$22,1),AV16,\nIF(RIGHT($D28,1)<RIGHT('Efficiency Levels'!$C$22,1),0,\nIF(RIGHT($D28,1)=RIGHT('Efficiency Levels'!$C$22,1),SUM(OFFSET(AV16,-RIGHT($D28,1),0,RIGHT($D28,1),1)),\"ERROR\"))))","v":0},{"$f":"IF(AW$24<STANDARD_YEAR,AW16,\nIF(RIGHT($D28,1)>RIGHT('Efficiency Levels'!$C$22,1),AW16,\nIF(RIGHT($D28,1)<RIGHT('Efficiency Levels'!$C$22,1),0,\nIF(RIGHT($D28,1)=RIGHT('Efficiency Levels'!$C$22,1),SUM(OFFSET(AW16,-RIGHT($D28,1),0,RIGHT($D28,1),1)),\"ERROR\"))))","v":0},{"$f":"IF(AX$24<STANDARD_YEAR,AX16,\nIF(RIGHT($D28,1)>RIGHT('Efficiency Levels'!$C$22,1),AX16,\nIF(RIGHT($D28,1)<RIGHT('Efficiency Levels'!$C$22,1),0,\nIF(RIGHT($D28,1)=RIGHT('Efficiency Levels'!$C$22,1),SUM(OFFSET(AX16,-RIGHT($D28,1),0,RIGHT($D28,1),1)),\"ERROR\"))))","v":0},{"$f":"IF(AY$24<STANDARD_YEAR,AY16,\nIF(RIGHT($D28,1)>RIGHT('Efficiency Levels'!$C$22,1),AY16,\nIF(RIGHT($D28,1)<RIGHT('Efficiency Levels'!$C$22,1),0,\nIF(RIGHT($D28,1)=RIGHT('Efficiency Levels'!$C$22,1),SUM(OFFSET(AY16,-RIGHT($D28,1),0,RIGHT($D28,1),1)),\"ERROR\"))))","v":0},{"$f":"IF(AZ$24<STANDARD_YEAR,AZ16,\nIF(RIGHT($D28,1)>RIGHT('Efficiency Levels'!$C$22,1),AZ16,\nIF(RIGHT($D28,1)<RIGHT('Efficiency Levels'!$C$22,1),0,\nIF(RIGHT($D28,1)=RIGHT('Efficiency Levels'!$C$22,1),SUM(OFFSET(AZ16,-RIGHT($D28,1),0,RIGHT($D28,1),1)),\"ERROR\"))))","v":0},{"$f":"IF(BA$24<STANDARD_YEAR,BA16,\nIF(RIGHT($D28,1)>RIGHT('Efficiency Levels'!$C$22,1),BA16,\nIF(RIGHT($D28,1)<RIGHT('Efficiency Levels'!$C$22,1),0,\nIF(RIGHT($D28,1)=RIGHT('Efficiency Levels'!$C$22,1),SUM(OFFSET(BA16,-RIGHT($D28,1),0,RIGHT($D28,1),1)),\"ERROR\"))))","v":0},{"$f":"IF(BB$24<STANDARD_YEAR,BB16,\nIF(RIGHT($D28,1)>RIGHT('Efficiency Levels'!$C$22,1),BB16,\nIF(RIGHT($D28,1)<RIGHT('Efficiency Levels'!$C$22,1),0,\nIF(RIGHT($D28,1)=RIGHT('Efficiency Levels'!$C$22,1),SUM(OFFSET(BB16,-RIGHT($D28,1),0,RIGHT($D28,1),1)),\"ERROR\"))))","v":0},{"$f":"IF(BC$24<STANDARD_YEAR,BC16,\nIF(RIGHT($D28,1)>RIGHT('Efficiency Levels'!$C$22,1),BC16,\nIF(RIGHT($D28,1)<RIGHT('Efficiency Levels'!$C$22,1),0,\nIF(RIGHT($D28,1)=RIGHT('Efficiency Levels'!$C$22,1),SUM(OFFSET(BC16,-RIGHT($D28,1),0,RIGHT($D28,1),1)),\"ERROR\"))))","v":0},{"$f":"IF(BD$24<STANDARD_YEAR,BD16,\nIF(RIGHT($D28,1)>RIGHT('Efficiency Levels'!$C$22,1),BD16,\nIF(RIGHT($D28,1)<RIGHT('Efficiency Levels'!$C$22,1),0,\nIF(RIGHT($D28,1)=RIGHT('Efficiency Levels'!$C$22,1),SUM(OFFSET(BD16,-RIGHT($D28,1),0,RIGHT($D28,1),1)),\"ERROR\"))))","v":0},{"$f":"IF(BE$24<STANDARD_YEAR,BE16,\nIF(RIGHT($D28,1)>RIGHT('Efficiency Levels'!$C$22,1),BE16,\nIF(RIGHT($D28,1)<RIGHT('Efficiency Levels'!$C$22,1),0,\nIF(RIGHT($D28,1)=RIGHT('Efficiency Levels'!$C$22,1),SUM(OFFSET(BE16,-RIGHT($D28,1),0,RIGHT($D28,1),1)),\"ERROR\"))))","v":0},{"$f":"IF(BF$24<STANDARD_YEAR,BF16,\nIF(RIGHT($D28,1)>RIGHT('Efficiency Levels'!$C$22,1),BF16,\nIF(RIGHT($D28,1)<RIGHT('Efficiency Levels'!$C$22,1),0,\nIF(RIGHT($D28,1)=RIGHT('Efficiency Levels'!$C$22,1),SUM(OFFSET(BF16,-RIGHT($D28,1),0,RIGHT($D28,1),1)),\"ERROR\"))))","v":0},{"$f":"IF(BG$24<STANDARD_YEAR,BG16,\nIF(RIGHT($D28,1)>RIGHT('Efficiency Levels'!$C$22,1),BG16,\nIF(RIGHT($D28,1)<RIGHT('Efficiency Levels'!$C$22,1),0,\nIF(RIGHT($D28,1)=RIGHT('Efficiency Levels'!$C$22,1),SUM(OFFSET(BG16,-RIGHT($D28,1),0,RIGHT($D28,1),1)),\"ERROR\"))))","v":0},{"$f":"IF(BH$24<STANDARD_YEAR,BH16,\nIF(RIGHT($D28,1)>RIGHT('Efficiency Levels'!$C$22,1),BH16,\nIF(RIGHT($D28,1)<RIGHT('Efficiency Levels'!$C$22,1),0,\nIF(RIGHT($D28,1)=RIGHT('Efficiency Levels'!$C$22,1),SUM(OFFSET(BH16,-RIGHT($D28,1),0,RIGHT($D28,1),1)),\"ERROR\"))))","v":0},{"$f":"IF(BI$24<STANDARD_YEAR,BI16,\nIF(RIGHT($D28,1)>RIGHT('Efficiency Levels'!$C$22,1),BI16,\nIF(RIGHT($D28,1)<RIGHT('Efficiency Levels'!$C$22,1),0,\nIF(RIGHT($D28,1)=RIGHT('Efficiency Levels'!$C$22,1),SUM(OFFSET(BI16,-RIGHT($D28,1),0,RIGHT($D28,1),1)),\"ERROR\"))))","v":0},{"$f":"IF(BJ$24<STANDARD_YEAR,BJ16,\nIF(RIGHT($D28,1)>RIGHT('Efficiency Levels'!$C$22,1),BJ16,\nIF(RIGHT($D28,1)<RIGHT('Efficiency Levels'!$C$22,1),0,\nIF(RIGHT($D28,1)=RIGHT('Efficiency Levels'!$C$22,1),SUM(OFFSET(BJ16,-RIGHT($D28,1),0,RIGHT($D28,1),1)),\"ERROR\"))))","v":0}]
[null,null,null,"EL4",{"$f":"OFFSET('Efficiency Levels'!$D$11,MATCH($C$9,'Efficiency Levels'!$C$9:$C$1002,0)+RIGHT(D29,1),0)","v":300.89999999999998},null,null,null,{"$f":"IF(I$24<STANDARD_YEAR,I17,\nIF(RIGHT($D29,1)>RIGHT('Efficiency Levels'!$C$22,1),I17,\nIF(RIGHT($D29,1)<RIGHT('Efficiency Levels'!$C$22,1),0,\nIF(RIGHT($D29,1)=RIGHT('Efficiency Levels'!$C$22,1),SUM(OFFSET(I17,-RIGHT($D29,1),0,RIGHT($D29,1),1)),\"ERROR\"))))","v":0},{"$f":"IF(J$24<STANDARD_YEAR,J17,\nIF(RIGHT($D29,1)>RIGHT('Efficiency Levels'!$C$22,1),J17,\nIF(RIGHT($D29,1)<RIGHT('Efficiency Levels'!$C$22,1),0,\nIF(RIGHT($D29,1)=RIGHT('Efficiency Levels'!$C$22,1),SUM(OFFSET(J17,-RIGHT($D29,1),0,RIGHT($D29,1),1)),\"ERROR\"))))","v":0},{"$f":"IF(K$24<STANDARD_YEAR,K17,\nIF(RIGHT($D29,1)>RIGHT('Efficiency Levels'!$C$22,1),K17,\nIF(RIGHT($D29,1)<RIGHT('Efficiency Levels'!$C$22,1),0,\nIF(RIGHT($D29,1)=RIGHT('Efficiency Levels'!$C$22,1),SUM(OFFSET(K17,-RIGHT($D29,1),0,RIGHT($D29,1),1)),\"ERROR\"))))","v":0},{"$f":"IF(L$24<STANDARD_YEAR,L17,\nIF(RIGHT($D29,1)>RIGHT('Efficiency Levels'!$C$22,1),L17,\nIF(RIGHT($D29,1)<RIGHT('Efficiency Levels'!$C$22,1),0,\nIF(RIGHT($D29,1)=RIGHT('Efficiency Levels'!$C$22,1),SUM(OFFSET(L17,-RIGHT($D29,1),0,RIGHT($D29,1),1)),\"ERROR\"))))","v":0},{"$f":"IF(M$24<STANDARD_YEAR,M17,\nIF(RIGHT($D29,1)>RIGHT('Efficiency Levels'!$C$22,1),M17,\nIF(RIGHT($D29,1)<RIGHT('Efficiency Levels'!$C$22,1),0,\nIF(RIGHT($D29,1)=RIGHT('Efficiency Levels'!$C$22,1),SUM(OFFSET(M17,-RIGHT($D29,1),0,RIGHT($D29,1),1)),\"ERROR\"))))","v":0},{"$f":"IF(N$24<STANDARD_YEAR,N17,\nIF(RIGHT($D29,1)>RIGHT('Efficiency Levels'!$C$22,1),N17,\nIF(RIGHT($D29,1)<RIGHT('Efficiency Levels'!$C$22,1),0,\nIF(RIGHT($D29,1)=RIGHT('Efficiency Levels'!$C$22,1),SUM(OFFSET(N17,-RIGHT($D29,1),0,RIGHT($D29,1),1)),\"ERROR\"))))","v":0},{"$f":"IF(O$24<STANDARD_YEAR,O17,\nIF(RIGHT($D29,1)>RIGHT('Efficiency Levels'!$C$22,1),O17,\nIF(RIGHT($D29,1)<RIGHT('Efficiency Levels'!$C$22,1),0,\nIF(RIGHT($D29,1)=RIGHT('Efficiency Levels'!$C$22,1),SUM(OFFSET(O17,-RIGHT($D29,1),0,RIGHT($D29,1),1)),\"ERROR\"))))","v":0},{"$f":"IF(P$24<STANDARD_YEAR,P17,\nIF(RIGHT($D29,1)>RIGHT('Efficiency Levels'!$C$22,1),P17,\nIF(RIGHT($D29,1)<RIGHT('Efficiency Levels'!$C$22,1),0,\nIF(RIGHT($D29,1)=RIGHT('Efficiency Levels'!$C$22,1),SUM(OFFSET(P17,-RIGHT($D29,1),0,RIGHT($D29,1),1)),\"ERROR\"))))","v":0},{"$f":"IF(Q$24<STANDARD_YEAR,Q17,\nIF(RIGHT($D29,1)>RIGHT('Efficiency Levels'!$C$22,1),Q17,\nIF(RIGHT($D29,1)<RIGHT('Efficiency Levels'!$C$22,1),0,\nIF(RIGHT($D29,1)=RIGHT('Efficiency Levels'!$C$22,1),SUM(OFFSET(Q17,-RIGHT($D29,1),0,RIGHT($D29,1),1)),\"ERROR\"))))","v":0},{"$f":"IF(R$24<STANDARD_YEAR,R17,\nIF(RIGHT($D29,1)>RIGHT('Efficiency Levels'!$C$22,1),R17,\nIF(RIGHT($D29,1)<RIGHT('Efficiency Levels'!$C$22,1),0,\nIF(RIGHT($D29,1)=RIGHT('Efficiency Levels'!$C$22,1),SUM(OFFSET(R17,-RIGHT($D29,1),0,RIGHT($D29,1),1)),\"ERROR\"))))","v":0},{"$f":"IF(S$24<STANDARD_YEAR,S17,\nIF(RIGHT($D29,1)>RIGHT('Efficiency Levels'!$C$22,1),S17,\nIF(RIGHT($D29,1)<RIGHT('Efficiency Levels'!$C$22,1),0,\nIF(RIGHT($D29,1)=RIGHT('Efficiency Levels'!$C$22,1),SUM(OFFSET(S17,-RIGHT($D29,1),0,RIGHT($D29,1),1)),\"ERROR\"))))","v":0},{"$f":"IF(T$24<STANDARD_YEAR,T17,\nIF(RIGHT($D29,1)>RIGHT('Efficiency Levels'!$C$22,1),T17,\nIF(RIGHT($D29,1)<RIGHT('Efficiency Levels'!$C$22,1),0,\nIF(RIGHT($D29,1)=RIGHT('Efficiency Levels'!$C$22,1),SUM(OFFSET(T17,-RIGHT($D29,1),0,RIGHT($D29,1),1)),\"ERROR\"))))","v":0},{"$f":"IF(U$24<STANDARD_YEAR,U17,\nIF(RIGHT($D29,1)>RIGHT('Efficiency Levels'!$C$22,1),U17,\nIF(RIGHT($D29,1)<RIGHT('Efficiency Levels'!$C$22,1),0,\nIF(RIGHT($D29,1)=RIGHT('Efficiency Levels'!$C$22,1),SUM(OFFSET(U17,-RIGHT($D29,1),0,RIGHT($D29,1),1)),\"ERROR\"))))","v":0},{"$f":"IF(V$24<STANDARD_YEAR,V17,\nIF(RIGHT($D29,1)>RIGHT('Efficiency Levels'!$C$22,1),V17,\nIF(RIGHT($D29,1)<RIGHT('Efficiency Levels'!$C$22,1),0,\nIF(RIGHT($D29,1)=RIGHT('Efficiency Levels'!$C$22,1),SUM(OFFSET(V17,-RIGHT($D29,1),0,RIGHT($D29,1),1)),\"ERROR\"))))","v":0},{"$f":"IF(W$24<STANDARD_YEAR,W17,\nIF(RIGHT($D29,1)>RIGHT('Efficiency Levels'!$C$22,1),W17,\nIF(RIGHT($D29,1)<RIGHT('Efficiency Levels'!$C$22,1),0,\nIF(RIGHT($D29,1)=RIGHT('Efficiency Levels'!$C$22,1),SUM(OFFSET(W17,-RIGHT($D29,1),0,RIGHT($D29,1),1)),\"ERROR\"))))","v":0},{"$f":"IF(X$24<STANDARD_YEAR,X17,\nIF(RIGHT($D29,1)>RIGHT('Efficiency Levels'!$C$22,1),X17,\nIF(RIGHT($D29,1)<RIGHT('Efficiency Levels'!$C$22,1),0,\nIF(RIGHT($D29,1)=RIGHT('Efficiency Levels'!$C$22,1),SUM(OFFSET(X17,-RIGHT($D29,1),0,RIGHT($D29,1),1)),\"ERROR\"))))","v":0},{"$f":"IF(Y$24<STANDARD_YEAR,Y17,\nIF(RIGHT($D29,1)>RIGHT('Efficiency Levels'!$C$22,1),Y17,\nIF(RIGHT($D29,1)<RIGHT('Efficiency Levels'!$C$22,1),0,\nIF(RIGHT($D29,1)=RIGHT('Efficiency Levels'!$C$22,1),SUM(OFFSET(Y17,-RIGHT($D29,1),0,RIGHT($D29,1),1)),\"ERROR\"))))","v":0},{"$f":"IF(Z$24<STANDARD_YEAR,Z17,\nIF(RIGHT($D29,1)>RIGHT('Efficiency Levels'!$C$22,1),Z17,\nIF(RIGHT($D29,1)<RIGHT('Efficiency Levels'!$C$22,1),0,\nIF(RIGHT($D29,1)=RIGHT('Efficiency Levels'!$C$22,1),SUM(OFFSET(Z17,-RIGHT($D29,1),0,RIGHT($D29,1),1)),\"ERROR\"))))","v":0},{"$f":"IF(AA$24<STANDARD_YEAR,AA17,\nIF(RIGHT($D29,1)>RIGHT('Efficiency Levels'!$C$22,1),AA17,\nIF(RIGHT($D29,1)<RIGHT('Efficiency Levels'!$C$22,1),0,\nIF(RIGHT($D29,1)=RIGHT('Efficiency Levels'!$C$22,1),SUM(OFFSET(AA17,-RIGHT($D29,1),0,RIGHT($D29,1),1)),\"ERROR\"))))","v":0},{"$f":"IF(AB$24<STANDARD_YEAR,AB17,\nIF(RIGHT($D29,1)>RIGHT('Efficiency Levels'!$C$22,1),AB17,\nIF(RIGHT($D29,1)<RIGHT('Efficiency Levels'!$C$22,1),0,\nIF(RIGHT($D29,1)=RIGHT('Efficiency Levels'!$C$22,1),SUM(OFFSET(AB17,-RIGHT($D29,1),0,RIGHT($D29,1),1)),\"ERROR\"))))","v":0},{"$f":"IF(AC$24<STANDARD_YEAR,AC17,\nIF(RIGHT($D29,1)>RIGHT('Efficiency Levels'!$C$22,1),AC17,\nIF(RIGHT($D29,1)<RIGHT('Efficiency Levels'!$C$22,1),0,\nIF(RIGHT($D29,1)=RIGHT('Efficiency Levels'!$C$22,1),SUM(OFFSET(AC17,-RIGHT($D29,1),0,RIGHT($D29,1),1)),\"ERROR\"))))","v":0},{"$f":"IF(AD$24<STANDARD_YEAR,AD17,\nIF(RIGHT($D29,1)>RIGHT('Efficiency Levels'!$C$22,1),AD17,\nIF(RIGHT($D29,1)<RIGHT('Efficiency Levels'!$C$22,1),0,\nIF(RIGHT($D29,1)=RIGHT('Efficiency Levels'!$C$22,1),SUM(OFFSET(AD17,-RIGHT($D29,1),0,RIGHT($D29,1),1)),\"ERROR\"))))","v":0},{"$f":"IF(AE$24<STANDARD_YEAR,AE17,\nIF(RIGHT($D29,1)>RIGHT('Efficiency Levels'!$C$22,1),AE17,\nIF(RIGHT($D29,1)<RIGHT('Efficiency Levels'!$C$22,1),0,\nIF(RIGHT($D29,1)=RIGHT('Efficiency Levels'!$C$22,1),SUM(OFFSET(AE17,-RIGHT($D29,1),0,RIGHT($D29,1),1)),\"ERROR\"))))","v":0},{"$f":"IF(AF$24<STANDARD_YEAR,AF17,\nIF(RIGHT($D29,1)>RIGHT('Efficiency Levels'!$C$22,1),AF17,\nIF(RIGHT($D29,1)<RIGHT('Efficiency Levels'!$C$22,1),0,\nIF(RIGHT($D29,1)=RIGHT('Efficiency Levels'!$C$22,1),SUM(OFFSET(AF17,-RIGHT($D29,1),0,RIGHT($D29,1),1)),\"ERROR\"))))","v":0},{"$f":"IF(AG$24<STANDARD_YEAR,AG17,\nIF(RIGHT($D29,1)>RIGHT('Efficiency Levels'!$C$22,1),AG17,\nIF(RIGHT($D29,1)<RIGHT('Efficiency Levels'!$C$22,1),0,\nIF(RIGHT($D29,1)=RIGHT('Efficiency Levels'!$C$22,1),SUM(OFFSET(AG17,-RIGHT($D29,1),0,RIGHT($D29,1),1)),\"ERROR\"))))","v":0},{"$f":"IF(AH$24<STANDARD_YEAR,AH17,\nIF(RIGHT($D29,1)>RIGHT('Efficiency Levels'!$C$22,1),AH17,\nIF(RIGHT($D29,1)<RIGHT('Efficiency Levels'!$C$22,1),0,\nIF(RIGHT($D29,1)=RIGHT('Efficiency Levels'!$C$22,1),SUM(OFFSET(AH17,-RIGHT($D29,1),0,RIGHT($D29,1),1)),\"ERROR\"))))","v":0},{"$f":"IF(AI$24<STANDARD_YEAR,AI17,\nIF(RIGHT($D29,1)>RIGHT('Efficiency Levels'!$C$22,1),AI17,\nIF(RIGHT($D29,1)<RIGHT('Efficiency Levels'!$C$22,1),0,\nIF(RIGHT($D29,1)=RIGHT('Efficiency Levels'!$C$22,1),SUM(OFFSET(AI17,-RIGHT($D29,1),0,RIGHT($D29,1),1)),\"ERROR\"))))","v":0},{"$f":"IF(AJ$24<STANDARD_YEAR,AJ17,\nIF(RIGHT($D29,1)>RIGHT('Efficiency Levels'!$C$22,1),AJ17,\nIF(RIGHT($D29,1)<RIGHT('Efficiency Levels'!$C$22,1),0,\nIF(RIGHT($D29,1)=RIGHT('Efficiency Levels'!$C$22,1),SUM(OFFSET(AJ17,-RIGHT($D29,1),0,RIGHT($D29,1),1)),\"ERROR\"))))","v":0},{"$f":"IF(AK$24<STANDARD_YEAR,AK17,\nIF(RIGHT($D29,1)>RIGHT('Efficiency Levels'!$C$22,1),AK17,\nIF(RIGHT($D29,1)<RIGHT('Efficiency Levels'!$C$22,1),0,\nIF(RIGHT($D29,1)=RIGHT('Efficiency Levels'!$C$22,1),SUM(OFFSET(AK17,-RIGHT($D29,1),0,RIGHT($D29,1),1)),\"ERROR\"))))","v":0},{"$f":"IF(AL$24<STANDARD_YEAR,AL17,\nIF(RIGHT($D29,1)>RIGHT('Efficiency Levels'!$C$22,1),AL17,\nIF(RIGHT($D29,1)<RIGHT('Efficiency Levels'!$C$22,1),0,\nIF(RIGHT($D29,1)=RIGHT('Efficiency Levels'!$C$22,1),SUM(OFFSET(AL17,-RIGHT($D29,1),0,RIGHT($D29,1),1)),\"ERROR\"))))","v":0},{"$f":"IF(AM$24<STANDARD_YEAR,AM17,\nIF(RIGHT($D29,1)>RIGHT('Efficiency Levels'!$C$22,1),AM17,\nIF(RIGHT($D29,1)<RIGHT('Efficiency Levels'!$C$22,1),0,\nIF(RIGHT($D29,1)=RIGHT('Efficiency Levels'!$C$22,1),SUM(OFFSET(AM17,-RIGHT($D29,1),0,RIGHT($D29,1),1)),\"ERROR\"))))","v":0},{"$f":"IF(AN$24<STANDARD_YEAR,AN17,\nIF(RIGHT($D29,1)>RIGHT('Efficiency Levels'!$C$22,1),AN17,\nIF(RIGHT($D29,1)<RIGHT('Efficiency Levels'!$C$22,1),0,\nIF(RIGHT($D29,1)=RIGHT('Efficiency Levels'!$C$22,1),SUM(OFFSET(AN17,-RIGHT($D29,1),0,RIGHT($D29,1),1)),\"ERROR\"))))","v":0},{"$f":"IF(AO$24<STANDARD_YEAR,AO17,\nIF(RIGHT($D29,1)>RIGHT('Efficiency Levels'!$C$22,1),AO17,\nIF(RIGHT($D29,1)<RIGHT('Efficiency Levels'!$C$22,1),0,\nIF(RIGHT($D29,1)=RIGHT('Efficiency Levels'!$C$22,1),SUM(OFFSET(AO17,-RIGHT($D29,1),0,RIGHT($D29,1),1)),\"ERROR\"))))","v":0},{"$f":"IF(AP$24<STANDARD_YEAR,AP17,\nIF(RIGHT($D29,1)>RIGHT('Efficiency Levels'!$C$22,1),AP17,\nIF(RIGHT($D29,1)<RIGHT('Efficiency Levels'!$C$22,1),0,\nIF(RIGHT($D29,1)=RIGHT('Efficiency Levels'!$C$22,1),SUM(OFFSET(AP17,-RIGHT($D29,1),0,RIGHT($D29,1),1)),\"ERROR\"))))","v":0},{"$f":"IF(AQ$24<STANDARD_YEAR,AQ17,\nIF(RIGHT($D29,1)>RIGHT('Efficiency Levels'!$C$22,1),AQ17,\nIF(RIGHT($D29,1)<RIGHT('Efficiency Levels'!$C$22,1),0,\nIF(RIGHT($D29,1)=RIGHT('Efficiency Levels'!$C$22,1),SUM(OFFSET(AQ17,-RIGHT($D29,1),0,RIGHT($D29,1),1)),\"ERROR\"))))","v":0},{"$f":"IF(AR$24<STANDARD_YEAR,AR17,\nIF(RIGHT($D29,1)>RIGHT('Efficiency Levels'!$C$22,1),AR17,\nIF(RIGHT($D29,1)<RIGHT('Efficiency Levels'!$C$22,1),0,\nIF(RIGHT($D29,1)=RIGHT('Efficiency Levels'!$C$22,1),SUM(OFFSET(AR17,-RIGHT($D29,1),0,RIGHT($D29,1),1)),\"ERROR\"))))","v":0},{"$f":"IF(AS$24<STANDARD_YEAR,AS17,\nIF(RIGHT($D29,1)>RIGHT('Efficiency Levels'!$C$22,1),AS17,\nIF(RIGHT($D29,1)<RIGHT('Efficiency Levels'!$C$22,1),0,\nIF(RIGHT($D29,1)=RIGHT('Efficiency Levels'!$C$22,1),SUM(OFFSET(AS17,-RIGHT($D29,1),0,RIGHT($D29,1),1)),\"ERROR\"))))","v":0},{"$f":"IF(AT$24<STANDARD_YEAR,AT17,\nIF(RIGHT($D29,1)>RIGHT('Efficiency Levels'!$C$22,1),AT17,\nIF(RIGHT($D29,1)<RIGHT('Efficiency Levels'!$C$22,1),0,\nIF(RIGHT($D29,1)=RIGHT('Efficiency Levels'!$C$22,1),SUM(OFFSET(AT17,-RIGHT($D29,1),0,RIGHT($D29,1),1)),\"ERROR\"))))","v":0},{"$f":"IF(AU$24<STANDARD_YEAR,AU17,\nIF(RIGHT($D29,1)>RIGHT('Efficiency Levels'!$C$22,1),AU17,\nIF(RIGHT($D29,1)<RIGHT('Efficiency Levels'!$C$22,1),0,\nIF(RIGHT($D29,1)=RIGHT('Efficiency Levels'!$C$22,1),SUM(OFFSET(AU17,-RIGHT($D29,1),0,RIGHT($D29,1),1)),\"ERROR\"))))","v":0},{"$f":"IF(AV$24<STANDARD_YEAR,AV17,\nIF(RIGHT($D29,1)>RIGHT('Efficiency Levels'!$C$22,1),AV17,\nIF(RIGHT($D29,1)<RIGHT('Efficiency Levels'!$C$22,1),0,\nIF(RIGHT($D29,1)=RIGHT('Efficiency Levels'!$C$22,1),SUM(OFFSET(AV17,-RIGHT($D29,1),0,RIGHT($D29,1),1)),\"ERROR\"))))","v":0},{"$f":"IF(AW$24<STANDARD_YEAR,AW17,\nIF(RIGHT($D29,1)>RIGHT('Efficiency Levels'!$C$22,1),AW17,\nIF(RIGHT($D29,1)<RIGHT('Efficiency Levels'!$C$22,1),0,\nIF(RIGHT($D29,1)=RIGHT('Efficiency Levels'!$C$22,1),SUM(OFFSET(AW17,-RIGHT($D29,1),0,RIGHT($D29,1),1)),\"ERROR\"))))","v":0},{"$f":"IF(AX$24<STANDARD_YEAR,AX17,\nIF(RIGHT($D29,1)>RIGHT('Efficiency Levels'!$C$22,1),AX17,\nIF(RIGHT($D29,1)<RIGHT('Efficiency Levels'!$C$22,1),0,\nIF(RIGHT($D29,1)=RIGHT('Efficiency Levels'!$C$22,1),SUM(OFFSET(AX17,-RIGHT($D29,1),0,RIGHT($D29,1),1)),\"ERROR\"))))","v":0},{"$f":"IF(AY$24<STANDARD_YEAR,AY17,\nIF(RIGHT($D29,1)>RIGHT('Efficiency Levels'!$C$22,1),AY17,\nIF(RIGHT($D29,1)<RIGHT('Efficiency Levels'!$C$22,1),0,\nIF(RIGHT($D29,1)=RIGHT('Efficiency Levels'!$C$22,1),SUM(OFFSET(AY17,-RIGHT($D29,1),0,RIGHT($D29,1),1)),\"ERROR\"))))","v":0},{"$f":"IF(AZ$24<STANDARD_YEAR,AZ17,\nIF(RIGHT($D29,1)>RIGHT('Efficiency Levels'!$C$22,1),AZ17,\nIF(RIGHT($D29,1)<RIGHT('Efficiency Levels'!$C$22,1),0,\nIF(RIGHT($D29,1)=RIGHT('Efficiency Levels'!$C$22,1),SUM(OFFSET(AZ17,-RIGHT($D29,1),0,RIGHT($D29,1),1)),\"ERROR\"))))","v":0},{"$f":"IF(BA$24<STANDARD_YEAR,BA17,\nIF(RIGHT($D29,1)>RIGHT('Efficiency Levels'!$C$22,1),BA17,\nIF(RIGHT($D29,1)<RIGHT('Efficiency Levels'!$C$22,1),0,\nIF(RIGHT($D29,1)=RIGHT('Efficiency Levels'!$C$22,1),SUM(OFFSET(BA17,-RIGHT($D29,1),0,RIGHT($D29,1),1)),\"ERROR\"))))","v":0},{"$f":"IF(BB$24<STANDARD_YEAR,BB17,\nIF(RIGHT($D29,1)>RIGHT('Efficiency Levels'!$C$22,1),BB17,\nIF(RIGHT($D29,1)<RIGHT('Efficiency Levels'!$C$22,1),0,\nIF(RIGHT($D29,1)=RIGHT('Efficiency Levels'!$C$22,1),SUM(OFFSET(BB17,-RIGHT($D29,1),0,RIGHT($D29,1),1)),\"ERROR\"))))","v":0},{"$f":"IF(BC$24<STANDARD_YEAR,BC17,\nIF(RIGHT($D29,1)>RIGHT('Efficiency Levels'!$C$22,1),BC17,\nIF(RIGHT($D29,1)<RIGHT('Efficiency Levels'!$C$22,1),0,\nIF(RIGHT($D29,1)=RIGHT('Efficiency Levels'!$C$22,1),SUM(OFFSET(BC17,-RIGHT($D29,1),0,RIGHT($D29,1),1)),\"ERROR\"))))","v":0},{"$f":"IF(BD$24<STANDARD_YEAR,BD17,\nIF(RIGHT($D29,1)>RIGHT('Efficiency Levels'!$C$22,1),BD17,\nIF(RIGHT($D29,1)<RIGHT('Efficiency Levels'!$C$22,1),0,\nIF(RIGHT($D29,1)=RIGHT('Efficiency Levels'!$C$22,1),SUM(OFFSET(BD17,-RIGHT($D29,1),0,RIGHT($D29,1),1)),\"ERROR\"))))","v":0},{"$f":"IF(BE$24<STANDARD_YEAR,BE17,\nIF(RIGHT($D29,1)>RIGHT('Efficiency Levels'!$C$22,1),BE17,\nIF(RIGHT($D29,1)<RIGHT('Efficiency Levels'!$C$22,1),0,\nIF(RIGHT($D29,1)=RIGHT('Efficiency Levels'!$C$22,1),SUM(OFFSET(BE17,-RIGHT($D29,1),0,RIGHT($D29,1),1)),\"ERROR\"))))","v":0},{"$f":"IF(BF$24<STANDARD_YEAR,BF17,\nIF(RIGHT($D29,1)>RIGHT('Efficiency Levels'!$C$22,1),BF17,\nIF(RIGHT($D29,1)<RIGHT('Efficiency Levels'!$C$22,1),0,\nIF(RIGHT($D29,1)=RIGHT('Efficiency Levels'!$C$22,1),SUM(OFFSET(BF17,-RIGHT($D29,1),0,RIGHT($D29,1),1)),\"ERROR\"))))","v":0},{"$f":"IF(BG$24<STANDARD_YEAR,BG17,\nIF(RIGHT($D29,1)>RIGHT('Efficiency Levels'!$C$22,1),BG17,\nIF(RIGHT($D29,1)<RIGHT('Efficiency Levels'!$C$22,1),0,\nIF(RIGHT($D29,1)=RIGHT('Efficiency Levels'!$C$22,1),SUM(OFFSET(BG17,-RIGHT($D29,1),0,RIGHT($D29,1),1)),\"ERROR\"))))","v":0},{"$f":"IF(BH$24<STANDARD_YEAR,BH17,\nIF(RIGHT($D29,1)>RIGHT('Efficiency Levels'!$C$22,1),BH17,\nIF(RIGHT($D29,1)<RIGHT('Efficiency Levels'!$C$22,1),0,\nIF(RIGHT($D29,1)=RIGHT('Efficiency Levels'!$C$22,1),SUM(OFFSET(BH17,-RIGHT($D29,1),0,RIGHT($D29,1),1)),\"ERROR\"))))","v":0},{"$f":"IF(BI$24<STANDARD_YEAR,BI17,\nIF(RIGHT($D29,1)>RIGHT('Efficiency Levels'!$C$22,1),BI17,\nIF(RIGHT($D29,1)<RIGHT('Efficiency Levels'!$C$22,1),0,\nIF(RIGHT($D29,1)=RIGHT('Efficiency Levels'!$C$22,1),SUM(OFFSET(BI17,-RIGHT($D29,1),0,RIGHT($D29,1),1)),\"ERROR\"))))","v":0},{"$f":"IF(BJ$24<STANDARD_YEAR,BJ17,\nIF(RIGHT($D29,1)>RIGHT('Efficiency Levels'!$C$22,1),BJ17,\nIF(RIGHT($D29,1)<RIGHT('Efficiency Levels'!$C$22,1),0,\nIF(RIGHT($D29,1)=RIGHT('Efficiency Levels'!$C$22,1),SUM(OFFSET(BJ17,-RIGHT($D29,1),0,RIGHT($D29,1),1)),\"ERROR\"))))","v":0}]
[null,null,null,"EL5",{"$f":"OFFSET('Efficiency Levels'!$D$11,MATCH($C$9,'Efficiency Levels'!$C$9:$C$1002,0)+RIGHT(D30,1),0)","v":300.3},null,null,null,{"$f":"IF(I$24<STANDARD_YEAR,I18,\nIF(RIGHT($D30,1)>RIGHT('Efficiency Levels'!$C$22,1),I18,\nIF(RIGHT($D30,1)<RIGHT('Efficiency Levels'!$C$22,1),0,\nIF(RIGHT($D30,1)=RIGHT('Efficiency Levels'!$C$22,1),SUM(OFFSET(I18,-RIGHT($D30,1),0,RIGHT($D30,1),1)),\"ERROR\"))))","v":0},{"$f":"IF(J$24<STANDARD_YEAR,J18,\nIF(RIGHT($D30,1)>RIGHT('Efficiency Levels'!$C$22,1),J18,\nIF(RIGHT($D30,1)<RIGHT('Efficiency Levels'!$C$22,1),0,\nIF(RIGHT($D30,1)=RIGHT('Efficiency Levels'!$C$22,1),SUM(OFFSET(J18,-RIGHT($D30,1),0,RIGHT($D30,1),1)),\"ERROR\"))))","v":0},{"$f":"IF(K$24<STANDARD_YEAR,K18,\nIF(RIGHT($D30,1)>RIGHT('Efficiency Levels'!$C$22,1),K18,\nIF(RIGHT($D30,1)<RIGHT('Efficiency Levels'!$C$22,1),0,\nIF(RIGHT($D30,1)=RIGHT('Efficiency Levels'!$C$22,1),SUM(OFFSET(K18,-RIGHT($D30,1),0,RIGHT($D30,1),1)),\"ERROR\"))))","v":0},{"$f":"IF(L$24<STANDARD_YEAR,L18,\nIF(RIGHT($D30,1)>RIGHT('Efficiency Levels'!$C$22,1),L18,\nIF(RIGHT($D30,1)<RIGHT('Efficiency Levels'!$C$22,1),0,\nIF(RIGHT($D30,1)=RIGHT('Efficiency Levels'!$C$22,1),SUM(OFFSET(L18,-RIGHT($D30,1),0,RIGHT($D30,1),1)),\"ERROR\"))))","v":0},{"$f":"IF(M$24<STANDARD_YEAR,M18,\nIF(RIGHT($D30,1)>RIGHT('Efficiency Levels'!$C$22,1),M18,\nIF(RIGHT($D30,1)<RIGHT('Efficiency Levels'!$C$22,1),0,\nIF(RIGHT($D30,1)=RIGHT('Efficiency Levels'!$C$22,1),SUM(OFFSET(M18,-RIGHT($D30,1),0,RIGHT($D30,1),1)),\"ERROR\"))))","v":0},{"$f":"IF(N$24<STANDARD_YEAR,N18,\nIF(RIGHT($D30,1)>RIGHT('Efficiency Levels'!$C$22,1),N18,\nIF(RIGHT($D30,1)<RIGHT('Efficiency Levels'!$C$22,1),0,\nIF(RIGHT($D30,1)=RIGHT('Efficiency Levels'!$C$22,1),SUM(OFFSET(N18,-RIGHT($D30,1),0,RIGHT($D30,1),1)),\"ERROR\"))))","v":0},{"$f":"IF(O$24<STANDARD_YEAR,O18,\nIF(RIGHT($D30,1)>RIGHT('Efficiency Levels'!$C$22,1),O18,\nIF(RIGHT($D30,1)<RIGHT('Efficiency Levels'!$C$22,1),0,\nIF(RIGHT($D30,1)=RIGHT('Efficiency Levels'!$C$22,1),SUM(OFFSET(O18,-RIGHT($D30,1),0,RIGHT($D30,1),1)),\"ERROR\"))))","v":0},{"$f":"IF(P$24<STANDARD_YEAR,P18,\nIF(RIGHT($D30,1)>RIGHT('Efficiency Levels'!$C$22,1),P18,\nIF(RIGHT($D30,1)<RIGHT('Efficiency Levels'!$C$22,1),0,\nIF(RIGHT($D30,1)=RIGHT('Efficiency Levels'!$C$22,1),SUM(OFFSET(P18,-RIGHT($D30,1),0,RIGHT($D30,1),1)),\"ERROR\"))))","v":0},{"$f":"IF(Q$24<STANDARD_YEAR,Q18,\nIF(RIGHT($D30,1)>RIGHT('Efficiency Levels'!$C$22,1),Q18,\nIF(RIGHT($D30,1)<RIGHT('Efficiency Levels'!$C$22,1),0,\nIF(RIGHT($D30,1)=RIGHT('Efficiency Levels'!$C$22,1),SUM(OFFSET(Q18,-RIGHT($D30,1),0,RIGHT($D30,1),1)),\"ERROR\"))))","v":0},{"$f":"IF(R$24<STANDARD_YEAR,R18,\nIF(RIGHT($D30,1)>RIGHT('Efficiency Levels'!$C$22,1),R18,\nIF(RIGHT($D30,1)<RIGHT('Efficiency Levels'!$C$22,1),0,\nIF(RIGHT($D30,1)=RIGHT('Efficiency Levels'!$C$22,1),SUM(OFFSET(R18,-RIGHT($D30,1),0,RIGHT($D30,1),1)),\"ERROR\"))))","v":0},{"$f":"IF(S$24<STANDARD_YEAR,S18,\nIF(RIGHT($D30,1)>RIGHT('Efficiency Levels'!$C$22,1),S18,\nIF(RIGHT($D30,1)<RIGHT('Efficiency Levels'!$C$22,1),0,\nIF(RIGHT($D30,1)=RIGHT('Efficiency Levels'!$C$22,1),SUM(OFFSET(S18,-RIGHT($D30,1),0,RIGHT($D30,1),1)),\"ERROR\"))))","v":0},{"$f":"IF(T$24<STANDARD_YEAR,T18,\nIF(RIGHT($D30,1)>RIGHT('Efficiency Levels'!$C$22,1),T18,\nIF(RIGHT($D30,1)<RIGHT('Efficiency Levels'!$C$22,1),0,\nIF(RIGHT($D30,1)=RIGHT('Efficiency Levels'!$C$22,1),SUM(OFFSET(T18,-RIGHT($D30,1),0,RIGHT($D30,1),1)),\"ERROR\"))))","v":0},{"$f":"IF(U$24<STANDARD_YEAR,U18,\nIF(RIGHT($D30,1)>RIGHT('Efficiency Levels'!$C$22,1),U18,\nIF(RIGHT($D30,1)<RIGHT('Efficiency Levels'!$C$22,1),0,\nIF(RIGHT($D30,1)=RIGHT('Efficiency Levels'!$C$22,1),SUM(OFFSET(U18,-RIGHT($D30,1),0,RIGHT($D30,1),1)),\"ERROR\"))))","v":0},{"$f":"IF(V$24<STANDARD_YEAR,V18,\nIF(RIGHT($D30,1)>RIGHT('Efficiency Levels'!$C$22,1),V18,\nIF(RIGHT($D30,1)<RIGHT('Efficiency Levels'!$C$22,1),0,\nIF(RIGHT($D30,1)=RIGHT('Efficiency Levels'!$C$22,1),SUM(OFFSET(V18,-RIGHT($D30,1),0,RIGHT($D30,1),1)),\"ERROR\"))))","v":0},{"$f":"IF(W$24<STANDARD_YEAR,W18,\nIF(RIGHT($D30,1)>RIGHT('Efficiency Levels'!$C$22,1),W18,\nIF(RIGHT($D30,1)<RIGHT('Efficiency Levels'!$C$22,1),0,\nIF(RIGHT($D30,1)=RIGHT('Efficiency Levels'!$C$22,1),SUM(OFFSET(W18,-RIGHT($D30,1),0,RIGHT($D30,1),1)),\"ERROR\"))))","v":0},{"$f":"IF(X$24<STANDARD_YEAR,X18,\nIF(RIGHT($D30,1)>RIGHT('Efficiency Levels'!$C$22,1),X18,\nIF(RIGHT($D30,1)<RIGHT('Efficiency Levels'!$C$22,1),0,\nIF(RIGHT($D30,1)=RIGHT('Efficiency Levels'!$C$22,1),SUM(OFFSET(X18,-RIGHT($D30,1),0,RIGHT($D30,1),1)),\"ERROR\"))))","v":0},{"$f":"IF(Y$24<STANDARD_YEAR,Y18,\nIF(RIGHT($D30,1)>RIGHT('Efficiency Levels'!$C$22,1),Y18,\nIF(RIGHT($D30,1)<RIGHT('Efficiency Levels'!$C$22,1),0,\nIF(RIGHT($D30,1)=RIGHT('Efficiency Levels'!$C$22,1),SUM(OFFSET(Y18,-RIGHT($D30,1),0,RIGHT($D30,1),1)),\"ERROR\"))))","v":0},{"$f":"IF(Z$24<STANDARD_YEAR,Z18,\nIF(RIGHT($D30,1)>RIGHT('Efficiency Levels'!$C$22,1),Z18,\nIF(RIGHT($D30,1)<RIGHT('Efficiency Levels'!$C$22,1),0,\nIF(RIGHT($D30,1)=RIGHT('Efficiency Levels'!$C$22,1),SUM(OFFSET(Z18,-RIGHT($D30,1),0,RIGHT($D30,1),1)),\"ERROR\"))))","v":0},{"$f":"IF(AA$24<STANDARD_YEAR,AA18,\nIF(RIGHT($D30,1)>RIGHT('Efficiency Levels'!$C$22,1),AA18,\nIF(RIGHT($D30,1)<RIGHT('Efficiency Levels'!$C$22,1),0,\nIF(RIGHT($D30,1)=RIGHT('Efficiency Levels'!$C$22,1),SUM(OFFSET(AA18,-RIGHT($D30,1),0,RIGHT($D30,1),1)),\"ERROR\"))))","v":0},{"$f":"IF(AB$24<STANDARD_YEAR,AB18,\nIF(RIGHT($D30,1)>RIGHT('Efficiency Levels'!$C$22,1),AB18,\nIF(RIGHT($D30,1)<RIGHT('Efficiency Levels'!$C$22,1),0,\nIF(RIGHT($D30,1)=RIGHT('Efficiency Levels'!$C$22,1),SUM(OFFSET(AB18,-RIGHT($D30,1),0,RIGHT($D30,1),1)),\"ERROR\"))))","v":0},{"$f":"IF(AC$24<STANDARD_YEAR,AC18,\nIF(RIGHT($D30,1)>RIGHT('Efficiency Levels'!$C$22,1),AC18,\nIF(RIGHT($D30,1)<RIGHT('Efficiency Levels'!$C$22,1),0,\nIF(RIGHT($D30,1)=RIGHT('Efficiency Levels'!$C$22,1),SUM(OFFSET(AC18,-RIGHT($D30,1),0,RIGHT($D30,1),1)),\"ERROR\"))))","v":0},{"$f":"IF(AD$24<STANDARD_YEAR,AD18,\nIF(RIGHT($D30,1)>RIGHT('Efficiency Levels'!$C$22,1),AD18,\nIF(RIGHT($D30,1)<RIGHT('Efficiency Levels'!$C$22,1),0,\nIF(RIGHT($D30,1)=RIGHT('Efficiency Levels'!$C$22,1),SUM(OFFSET(AD18,-RIGHT($D30,1),0,RIGHT($D30,1),1)),\"ERROR\"))))","v":0},{"$f":"IF(AE$24<STANDARD_YEAR,AE18,\nIF(RIGHT($D30,1)>RIGHT('Efficiency Levels'!$C$22,1),AE18,\nIF(RIGHT($D30,1)<RIGHT('Efficiency Levels'!$C$22,1),0,\nIF(RIGHT($D30,1)=RIGHT('Efficiency Levels'!$C$22,1),SUM(OFFSET(AE18,-RIGHT($D30,1),0,RIGHT($D30,1),1)),\"ERROR\"))))","v":0},{"$f":"IF(AF$24<STANDARD_YEAR,AF18,\nIF(RIGHT($D30,1)>RIGHT('Efficiency Levels'!$C$22,1),AF18,\nIF(RIGHT($D30,1)<RIGHT('Efficiency Levels'!$C$22,1),0,\nIF(RIGHT($D30,1)=RIGHT('Efficiency Levels'!$C$22,1),SUM(OFFSET(AF18,-RIGHT($D30,1),0,RIGHT($D30,1),1)),\"ERROR\"))))","v":0},{"$f":"IF(AG$24<STANDARD_YEAR,AG18,\nIF(RIGHT($D30,1)>RIGHT('Efficiency Levels'!$C$22,1),AG18,\nIF(RIGHT($D30,1)<RIGHT('Efficiency Levels'!$C$22,1),0,\nIF(RIGHT($D30,1)=RIGHT('Efficiency Levels'!$C$22,1),SUM(OFFSET(AG18,-RIGHT($D30,1),0,RIGHT($D30,1),1)),\"ERROR\"))))","v":0},{"$f":"IF(AH$24<STANDARD_YEAR,AH18,\nIF(RIGHT($D30,1)>RIGHT('Efficiency Levels'!$C$22,1),AH18,\nIF(RIGHT($D30,1)<RIGHT('Efficiency Levels'!$C$22,1),0,\nIF(RIGHT($D30,1)=RIGHT('Efficiency Levels'!$C$22,1),SUM(OFFSET(AH18,-RIGHT($D30,1),0,RIGHT($D30,1),1)),\"ERROR\"))))","v":0},{"$f":"IF(AI$24<STANDARD_YEAR,AI18,\nIF(RIGHT($D30,1)>RIGHT('Efficiency Levels'!$C$22,1),AI18,\nIF(RIGHT($D30,1)<RIGHT('Efficiency Levels'!$C$22,1),0,\nIF(RIGHT($D30,1)=RIGHT('Efficiency Levels'!$C$22,1),SUM(OFFSET(AI18,-RIGHT($D30,1),0,RIGHT($D30,1),1)),\"ERROR\"))))","v":0},{"$f":"IF(AJ$24<STANDARD_YEAR,AJ18,\nIF(RIGHT($D30,1)>RIGHT('Efficiency Levels'!$C$22,1),AJ18,\nIF(RIGHT($D30,1)<RIGHT('Efficiency Levels'!$C$22,1),0,\nIF(RIGHT($D30,1)=RIGHT('Efficiency Levels'!$C$22,1),SUM(OFFSET(AJ18,-RIGHT($D30,1),0,RIGHT($D30,1),1)),\"ERROR\"))))","v":0},{"$f":"IF(AK$24<STANDARD_YEAR,AK18,\nIF(RIGHT($D30,1)>RIGHT('Efficiency Levels'!$C$22,1),AK18,\nIF(RIGHT($D30,1)<RIGHT('Efficiency Levels'!$C$22,1),0,\nIF(RIGHT($D30,1)=RIGHT('Efficiency Levels'!$C$22,1),SUM(OFFSET(AK18,-RIGHT($D30,1),0,RIGHT($D30,1),1)),\"ERROR\"))))","v":0},{"$f":"IF(AL$24<STANDARD_YEAR,AL18,\nIF(RIGHT($D30,1)>RIGHT('Efficiency Levels'!$C$22,1),AL18,\nIF(RIGHT($D30,1)<RIGHT('Efficiency Levels'!$C$22,1),0,\nIF(RIGHT($D30,1)=RIGHT('Efficiency Levels'!$C$22,1),SUM(OFFSET(AL18,-RIGHT($D30,1),0,RIGHT($D30,1),1)),\"ERROR\"))))","v":0},{"$f":"IF(AM$24<STANDARD_YEAR,AM18,\nIF(RIGHT($D30,1)>RIGHT('Efficiency Levels'!$C$22,1),AM18,\nIF(RIGHT($D30,1)<RIGHT('Efficiency Levels'!$C$22,1),0,\nIF(RIGHT($D30,1)=RIGHT('Efficiency Levels'!$C$22,1),SUM(OFFSET(AM18,-RIGHT($D30,1),0,RIGHT($D30,1),1)),\"ERROR\"))))","v":0},{"$f":"IF(AN$24<STANDARD_YEAR,AN18,\nIF(RIGHT($D30,1)>RIGHT('Efficiency Levels'!$C$22,1),AN18,\nIF(RIGHT($D30,1)<RIGHT('Efficiency Levels'!$C$22,1),0,\nIF(RIGHT($D30,1)=RIGHT('Efficiency Levels'!$C$22,1),SUM(OFFSET(AN18,-RIGHT($D30,1),0,RIGHT($D30,1),1)),\"ERROR\"))))","v":0},{"$f":"IF(AO$24<STANDARD_YEAR,AO18,\nIF(RIGHT($D30,1)>RIGHT('Efficiency Levels'!$C$22,1),AO18,\nIF(RIGHT($D30,1)<RIGHT('Efficiency Levels'!$C$22,1),0,\nIF(RIGHT($D30,1)=RIGHT('Efficiency Levels'!$C$22,1),SUM(OFFSET(AO18,-RIGHT($D30,1),0,RIGHT($D30,1),1)),\"ERROR\"))))","v":0},{"$f":"IF(AP$24<STANDARD_YEAR,AP18,\nIF(RIGHT($D30,1)>RIGHT('Efficiency Levels'!$C$22,1),AP18,\nIF(RIGHT($D30,1)<RIGHT('Efficiency Levels'!$C$22,1),0,\nIF(RIGHT($D30,1)=RIGHT('Efficiency Levels'!$C$22,1),SUM(OFFSET(AP18,-RIGHT($D30,1),0,RIGHT($D30,1),1)),\"ERROR\"))))","v":0},{"$f":"IF(AQ$24<STANDARD_YEAR,AQ18,\nIF(RIGHT($D30,1)>RIGHT('Efficiency Levels'!$C$22,1),AQ18,\nIF(RIGHT($D30,1)<RIGHT('Efficiency Levels'!$C$22,1),0,\nIF(RIGHT($D30,1)=RIGHT('Efficiency Levels'!$C$22,1),SUM(OFFSET(AQ18,-RIGHT($D30,1),0,RIGHT($D30,1),1)),\"ERROR\"))))","v":0},{"$f":"IF(AR$24<STANDARD_YEAR,AR18,\nIF(RIGHT($D30,1)>RIGHT('Efficiency Levels'!$C$22,1),AR18,\nIF(RIGHT($D30,1)<RIGHT('Efficiency Levels'!$C$22,1),0,\nIF(RIGHT($D30,1)=RIGHT('Efficiency Levels'!$C$22,1),SUM(OFFSET(AR18,-RIGHT($D30,1),0,RIGHT($D30,1),1)),\"ERROR\"))))","v":0},{"$f":"IF(AS$24<STANDARD_YEAR,AS18,\nIF(RIGHT($D30,1)>RIGHT('Efficiency Levels'!$C$22,1),AS18,\nIF(RIGHT($D30,1)<RIGHT('Efficiency Levels'!$C$22,1),0,\nIF(RIGHT($D30,1)=RIGHT('Efficiency Levels'!$C$22,1),SUM(OFFSET(AS18,-RIGHT($D30,1),0,RIGHT($D30,1),1)),\"ERROR\"))))","v":0},{"$f":"IF(AT$24<STANDARD_YEAR,AT18,\nIF(RIGHT($D30,1)>RIGHT('Efficiency Levels'!$C$22,1),AT18,\nIF(RIGHT($D30,1)<RIGHT('Efficiency Levels'!$C$22,1),0,\nIF(RIGHT($D30,1)=RIGHT('Efficiency Levels'!$C$22,1),SUM(OFFSET(AT18,-RIGHT($D30,1),0,RIGHT($D30,1),1)),\"ERROR\"))))","v":0},{"$f":"IF(AU$24<STANDARD_YEAR,AU18,\nIF(RIGHT($D30,1)>RIGHT('Efficiency Levels'!$C$22,1),AU18,\nIF(RIGHT($D30,1)<RIGHT('Efficiency Levels'!$C$22,1),0,\nIF(RIGHT($D30,1)=RIGHT('Efficiency Levels'!$C$22,1),SUM(OFFSET(AU18,-RIGHT($D30,1),0,RIGHT($D30,1),1)),\"ERROR\"))))","v":0},{"$f":"IF(AV$24<STANDARD_YEAR,AV18,\nIF(RIGHT($D30,1)>RIGHT('Efficiency Levels'!$C$22,1),AV18,\nIF(RIGHT($D30,1)<RIGHT('Efficiency Levels'!$C$22,1),0,\nIF(RIGHT($D30,1)=RIGHT('Efficiency Levels'!$C$22,1),SUM(OFFSET(AV18,-RIGHT($D30,1),0,RIGHT($D30,1),1)),\"ERROR\"))))","v":0},{"$f":"IF(AW$24<STANDARD_YEAR,AW18,\nIF(RIGHT($D30,1)>RIGHT('Efficiency Levels'!$C$22,1),AW18,\nIF(RIGHT($D30,1)<RIGHT('Efficiency Levels'!$C$22,1),0,\nIF(RIGHT($D30,1)=RIGHT('Efficiency Levels'!$C$22,1),SUM(OFFSET(AW18,-RIGHT($D30,1),0,RIGHT($D30,1),1)),\"ERROR\"))))","v":0},{"$f":"IF(AX$24<STANDARD_YEAR,AX18,\nIF(RIGHT($D30,1)>RIGHT('Efficiency Levels'!$C$22,1),AX18,\nIF(RIGHT($D30,1)<RIGHT('Efficiency Levels'!$C$22,1),0,\nIF(RIGHT($D30,1)=RIGHT('Efficiency Levels'!$C$22,1),SUM(OFFSET(AX18,-RIGHT($D30,1),0,RIGHT($D30,1),1)),\"ERROR\"))))","v":0},{"$f":"IF(AY$24<STANDARD_YEAR,AY18,\nIF(RIGHT($D30,1)>RIGHT('Efficiency Levels'!$C$22,1),AY18,\nIF(RIGHT($D30,1)<RIGHT('Efficiency Levels'!$C$22,1),0,\nIF(RIGHT($D30,1)=RIGHT('Efficiency Levels'!$C$22,1),SUM(OFFSET(AY18,-RIGHT($D30,1),0,RIGHT($D30,1),1)),\"ERROR\"))))","v":0},{"$f":"IF(AZ$24<STANDARD_YEAR,AZ18,\nIF(RIGHT($D30,1)>RIGHT('Efficiency Levels'!$C$22,1),AZ18,\nIF(RIGHT($D30,1)<RIGHT('Efficiency Levels'!$C$22,1),0,\nIF(RIGHT($D30,1)=RIGHT('Efficiency Levels'!$C$22,1),SUM(OFFSET(AZ18,-RIGHT($D30,1),0,RIGHT($D30,1),1)),\"ERROR\"))))","v":0},{"$f":"IF(BA$24<STANDARD_YEAR,BA18,\nIF(RIGHT($D30,1)>RIGHT('Efficiency Levels'!$C$22,1),BA18,\nIF(RIGHT($D30,1)<RIGHT('Efficiency Levels'!$C$22,1),0,\nIF(RIGHT($D30,1)=RIGHT('Efficiency Levels'!$C$22,1),SUM(OFFSET(BA18,-RIGHT($D30,1),0,RIGHT($D30,1),1)),\"ERROR\"))))","v":0},{"$f":"IF(BB$24<STANDARD_YEAR,BB18,\nIF(RIGHT($D30,1)>RIGHT('Efficiency Levels'!$C$22,1),BB18,\nIF(RIGHT($D30,1)<RIGHT('Efficiency Levels'!$C$22,1),0,\nIF(RIGHT($D30,1)=RIGHT('Efficiency Levels'!$C$22,1),SUM(OFFSET(BB18,-RIGHT($D30,1),0,RIGHT($D30,1),1)),\"ERROR\"))))","v":0},{"$f":"IF(BC$24<STANDARD_YEAR,BC18,\nIF(RIGHT($D30,1)>RIGHT('Efficiency Levels'!$C$22,1),BC18,\nIF(RIGHT($D30,1)<RIGHT('Efficiency Levels'!$C$22,1),0,\nIF(RIGHT($D30,1)=RIGHT('Efficiency Levels'!$C$22,1),SUM(OFFSET(BC18,-RIGHT($D30,1),0,RIGHT($D30,1),1)),\"ERROR\"))))","v":0},{"$f":"IF(BD$24<STANDARD_YEAR,BD18,\nIF(RIGHT($D30,1)>RIGHT('Efficiency Levels'!$C$22,1),BD18,\nIF(RIGHT($D30,1)<RIGHT('Efficiency Levels'!$C$22,1),0,\nIF(RIGHT($D30,1)=RIGHT('Efficiency Levels'!$C$22,1),SUM(OFFSET(BD18,-RIGHT($D30,1),0,RIGHT($D30,1),1)),\"ERROR\"))))","v":0},{"$f":"IF(BE$24<STANDARD_YEAR,BE18,\nIF(RIGHT($D30,1)>RIGHT('Efficiency Levels'!$C$22,1),BE18,\nIF(RIGHT($D30,1)<RIGHT('Efficiency Levels'!$C$22,1),0,\nIF(RIGHT($D30,1)=RIGHT('Efficiency Levels'!$C$22,1),SUM(OFFSET(BE18,-RIGHT($D30,1),0,RIGHT($D30,1),1)),\"ERROR\"))))","v":0},{"$f":"IF(BF$24<STANDARD_YEAR,BF18,\nIF(RIGHT($D30,1)>RIGHT('Efficiency Levels'!$C$22,1),BF18,\nIF(RIGHT($D30,1)<RIGHT('Efficiency Levels'!$C$22,1),0,\nIF(RIGHT($D30,1)=RIGHT('Efficiency Levels'!$C$22,1),SUM(OFFSET(BF18,-RIGHT($D30,1),0,RIGHT($D30,1),1)),\"ERROR\"))))","v":0},{"$f":"IF(BG$24<STANDARD_YEAR,BG18,\nIF(RIGHT($D30,1)>RIGHT('Efficiency Levels'!$C$22,1),BG18,\nIF(RIGHT($D30,1)<RIGHT('Efficiency Levels'!$C$22,1),0,\nIF(RIGHT($D30,1)=RIGHT('Efficiency Levels'!$C$22,1),SUM(OFFSET(BG18,-RIGHT($D30,1),0,RIGHT($D30,1),1)),\"ERROR\"))))","v":0},{"$f":"IF(BH$24<STANDARD_YEAR,BH18,\nIF(RIGHT($D30,1)>RIGHT('Efficiency Levels'!$C$22,1),BH18,\nIF(RIGHT($D30,1)<RIGHT('Efficiency Levels'!$C$22,1),0,\nIF(RIGHT($D30,1)=RIGHT('Efficiency Levels'!$C$22,1),SUM(OFFSET(BH18,-RIGHT($D30,1),0,RIGHT($D30,1),1)),\"ERROR\"))))","v":0},{"$f":"IF(BI$24<STANDARD_YEAR,BI18,\nIF(RIGHT($D30,1)>RIGHT('Efficiency Levels'!$C$22,1),BI18,\nIF(RIGHT($D30,1)<RIGHT('Efficiency Levels'!$C$22,1),0,\nIF(RIGHT($D30,1)=RIGHT('Efficiency Levels'!$C$22,1),SUM(OFFSET(BI18,-RIGHT($D30,1),0,RIGHT($D30,1),1)),\"ERROR\"))))","v":0},{"$f":"IF(BJ$24<STANDARD_YEAR,BJ18,\nIF(RIGHT($D30,1)>RIGHT('Efficiency Levels'!$C$22,1),BJ18,\nIF(RIGHT($D30,1)<RIGHT('Efficiency Levels'!$C$22,1),0,\nIF(RIGHT($D30,1)=RIGHT('Efficiency Levels'!$C$22,1),SUM(OFFSET(BJ18,-RIGHT($D30,1),0,RIGHT($D30,1),1)),\"ERROR\"))))","v":0}]
[null,null,null,"EL6",{"$f":"OFFSET('Efficiency Levels'!$D$11,MATCH($C$9,'Efficiency Levels'!$C$9:$C$1002,0)+RIGHT(D31,1),0)","v":295.2},null,null,null,{"$f":"IF(I$24<STANDARD_YEAR,I19,\nIF(RIGHT($D31,1)>RIGHT('Efficiency Levels'!$C$22,1),I19,\nIF(RIGHT($D31,1)<RIGHT('Efficiency Levels'!$C$22,1),0,\nIF(RIGHT($D31,1)=RIGHT('Efficiency Levels'!$C$22,1),SUM(OFFSET(I19,-RIGHT($D31,1),0,RIGHT($D31,1),1)),\"ERROR\"))))","v":0},{"$f":"IF(J$24<STANDARD_YEAR,J19,\nIF(RIGHT($D31,1)>RIGHT('Efficiency Levels'!$C$22,1),J19,\nIF(RIGHT($D31,1)<RIGHT('Efficiency Levels'!$C$22,1),0,\nIF(RIGHT($D31,1)=RIGHT('Efficiency Levels'!$C$22,1),SUM(OFFSET(J19,-RIGHT($D31,1),0,RIGHT($D31,1),1)),\"ERROR\"))))","v":0},{"$f":"IF(K$24<STANDARD_YEAR,K19,\nIF(RIGHT($D31,1)>RIGHT('Efficiency Levels'!$C$22,1),K19,\nIF(RIGHT($D31,1)<RIGHT('Efficiency Levels'!$C$22,1),0,\nIF(RIGHT($D31,1)=RIGHT('Efficiency Levels'!$C$22,1),SUM(OFFSET(K19,-RIGHT($D31,1),0,RIGHT($D31,1),1)),\"ERROR\"))))","v":0},{"$f":"IF(L$24<STANDARD_YEAR,L19,\nIF(RIGHT($D31,1)>RIGHT('Efficiency Levels'!$C$22,1),L19,\nIF(RIGHT($D31,1)<RIGHT('Efficiency Levels'!$C$22,1),0,\nIF(RIGHT($D31,1)=RIGHT('Efficiency Levels'!$C$22,1),SUM(OFFSET(L19,-RIGHT($D31,1),0,RIGHT($D31,1),1)),\"ERROR\"))))","v":0},{"$f":"IF(M$24<STANDARD_YEAR,M19,\nIF(RIGHT($D31,1)>RIGHT('Efficiency Levels'!$C$22,1),M19,\nIF(RIGHT($D31,1)<RIGHT('Efficiency Levels'!$C$22,1),0,\nIF(RIGHT($D31,1)=RIGHT('Efficiency Levels'!$C$22,1),SUM(OFFSET(M19,-RIGHT($D31,1),0,RIGHT($D31,1),1)),\"ERROR\"))))","v":0},{"$f":"IF(N$24<STANDARD_YEAR,N19,\nIF(RIGHT($D31,1)>RIGHT('Efficiency Levels'!$C$22,1),N19,\nIF(RIGHT($D31,1)<RIGHT('Efficiency Levels'!$C$22,1),0,\nIF(RIGHT($D31,1)=RIGHT('Efficiency Levels'!$C$22,1),SUM(OFFSET(N19,-RIGHT($D31,1),0,RIGHT($D31,1),1)),\"ERROR\"))))","v":0},{"$f":"IF(O$24<STANDARD_YEAR,O19,\nIF(RIGHT($D31,1)>RIGHT('Efficiency Levels'!$C$22,1),O19,\nIF(RIGHT($D31,1)<RIGHT('Efficiency Levels'!$C$22,1),0,\nIF(RIGHT($D31,1)=RIGHT('Efficiency Levels'!$C$22,1),SUM(OFFSET(O19,-RIGHT($D31,1),0,RIGHT($D31,1),1)),\"ERROR\"))))","v":0},{"$f":"IF(P$24<STANDARD_YEAR,P19,\nIF(RIGHT($D31,1)>RIGHT('Efficiency Levels'!$C$22,1),P19,\nIF(RIGHT($D31,1)<RIGHT('Efficiency Levels'!$C$22,1),0,\nIF(RIGHT($D31,1)=RIGHT('Efficiency Levels'!$C$22,1),SUM(OFFSET(P19,-RIGHT($D31,1),0,RIGHT($D31,1),1)),\"ERROR\"))))","v":0},{"$f":"IF(Q$24<STANDARD_YEAR,Q19,\nIF(RIGHT($D31,1)>RIGHT('Efficiency Levels'!$C$22,1),Q19,\nIF(RIGHT($D31,1)<RIGHT('Efficiency Levels'!$C$22,1),0,\nIF(RIGHT($D31,1)=RIGHT('Efficiency Levels'!$C$22,1),SUM(OFFSET(Q19,-RIGHT($D31,1),0,RIGHT($D31,1),1)),\"ERROR\"))))","v":0},{"$f":"IF(R$24<STANDARD_YEAR,R19,\nIF(RIGHT($D31,1)>RIGHT('Efficiency Levels'!$C$22,1),R19,\nIF(RIGHT($D31,1)<RIGHT('Efficiency Levels'!$C$22,1),0,\nIF(RIGHT($D31,1)=RIGHT('Efficiency Levels'!$C$22,1),SUM(OFFSET(R19,-RIGHT($D31,1),0,RIGHT($D31,1),1)),\"ERROR\"))))","v":0},{"$f":"IF(S$24<STANDARD_YEAR,S19,\nIF(RIGHT($D31,1)>RIGHT('Efficiency Levels'!$C$22,1),S19,\nIF(RIGHT($D31,1)<RIGHT('Efficiency Levels'!$C$22,1),0,\nIF(RIGHT($D31,1)=RIGHT('Efficiency Levels'!$C$22,1),SUM(OFFSET(S19,-RIGHT($D31,1),0,RIGHT($D31,1),1)),\"ERROR\"))))","v":0},{"$f":"IF(T$24<STANDARD_YEAR,T19,\nIF(RIGHT($D31,1)>RIGHT('Efficiency Levels'!$C$22,1),T19,\nIF(RIGHT($D31,1)<RIGHT('Efficiency Levels'!$C$22,1),0,\nIF(RIGHT($D31,1)=RIGHT('Efficiency Levels'!$C$22,1),SUM(OFFSET(T19,-RIGHT($D31,1),0,RIGHT($D31,1),1)),\"ERROR\"))))","v":0},{"$f":"IF(U$24<STANDARD_YEAR,U19,\nIF(RIGHT($D31,1)>RIGHT('Efficiency Levels'!$C$22,1),U19,\nIF(RIGHT($D31,1)<RIGHT('Efficiency Levels'!$C$22,1),0,\nIF(RIGHT($D31,1)=RIGHT('Efficiency Levels'!$C$22,1),SUM(OFFSET(U19,-RIGHT($D31,1),0,RIGHT($D31,1),1)),\"ERROR\"))))","v":0},{"$f":"IF(V$24<STANDARD_YEAR,V19,\nIF(RIGHT($D31,1)>RIGHT('Efficiency Levels'!$C$22,1),V19,\nIF(RIGHT($D31,1)<RIGHT('Efficiency Levels'!$C$22,1),0,\nIF(RIGHT($D31,1)=RIGHT('Efficiency Levels'!$C$22,1),SUM(OFFSET(V19,-RIGHT($D31,1),0,RIGHT($D31,1),1)),\"ERROR\"))))","v":0},{"$f":"IF(W$24<STANDARD_YEAR,W19,\nIF(RIGHT($D31,1)>RIGHT('Efficiency Levels'!$C$22,1),W19,\nIF(RIGHT($D31,1)<RIGHT('Efficiency Levels'!$C$22,1),0,\nIF(RIGHT($D31,1)=RIGHT('Efficiency Levels'!$C$22,1),SUM(OFFSET(W19,-RIGHT($D31,1),0,RIGHT($D31,1),1)),\"ERROR\"))))","v":0},{"$f":"IF(X$24<STANDARD_YEAR,X19,\nIF(RIGHT($D31,1)>RIGHT('Efficiency Levels'!$C$22,1),X19,\nIF(RIGHT($D31,1)<RIGHT('Efficiency Levels'!$C$22,1),0,\nIF(RIGHT($D31,1)=RIGHT('Efficiency Levels'!$C$22,1),SUM(OFFSET(X19,-RIGHT($D31,1),0,RIGHT($D31,1),1)),\"ERROR\"))))","v":0},{"$f":"IF(Y$24<STANDARD_YEAR,Y19,\nIF(RIGHT($D31,1)>RIGHT('Efficiency Levels'!$C$22,1),Y19,\nIF(RIGHT($D31,1)<RIGHT('Efficiency Levels'!$C$22,1),0,\nIF(RIGHT($D31,1)=RIGHT('Efficiency Levels'!$C$22,1),SUM(OFFSET(Y19,-RIGHT($D31,1),0,RIGHT($D31,1),1)),\"ERROR\"))))","v":0},{"$f":"IF(Z$24<STANDARD_YEAR,Z19,\nIF(RIGHT($D31,1)>RIGHT('Efficiency Levels'!$C$22,1),Z19,\nIF(RIGHT($D31,1)<RIGHT('Efficiency Levels'!$C$22,1),0,\nIF(RIGHT($D31,1)=RIGHT('Efficiency Levels'!$C$22,1),SUM(OFFSET(Z19,-RIGHT($D31,1),0,RIGHT($D31,1),1)),\"ERROR\"))))","v":0},{"$f":"IF(AA$24<STANDARD_YEAR,AA19,\nIF(RIGHT($D31,1)>RIGHT('Efficiency Levels'!$C$22,1),AA19,\nIF(RIGHT($D31,1)<RIGHT('Efficiency Levels'!$C$22,1),0,\nIF(RIGHT($D31,1)=RIGHT('Efficiency Levels'!$C$22,1),SUM(OFFSET(AA19,-RIGHT($D31,1),0,RIGHT($D31,1),1)),\"ERROR\"))))","v":0},{"$f":"IF(AB$24<STANDARD_YEAR,AB19,\nIF(RIGHT($D31,1)>RIGHT('Efficiency Levels'!$C$22,1),AB19,\nIF(RIGHT($D31,1)<RIGHT('Efficiency Levels'!$C$22,1),0,\nIF(RIGHT($D31,1)=RIGHT('Efficiency Levels'!$C$22,1),SUM(OFFSET(AB19,-RIGHT($D31,1),0,RIGHT($D31,1),1)),\"ERROR\"))))","v":0},{"$f":"IF(AC$24<STANDARD_YEAR,AC19,\nIF(RIGHT($D31,1)>RIGHT('Efficiency Levels'!$C$22,1),AC19,\nIF(RIGHT($D31,1)<RIGHT('Efficiency Levels'!$C$22,1),0,\nIF(RIGHT($D31,1)=RIGHT('Efficiency Levels'!$C$22,1),SUM(OFFSET(AC19,-RIGHT($D31,1),0,RIGHT($D31,1),1)),\"ERROR\"))))","v":0},{"$f":"IF(AD$24<STANDARD_YEAR,AD19,\nIF(RIGHT($D31,1)>RIGHT('Efficiency Levels'!$C$22,1),AD19,\nIF(RIGHT($D31,1)<RIGHT('Efficiency Levels'!$C$22,1),0,\nIF(RIGHT($D31,1)=RIGHT('Efficiency Levels'!$C$22,1),SUM(OFFSET(AD19,-RIGHT($D31,1),0,RIGHT($D31,1),1)),\"ERROR\"))))","v":0},{"$f":"IF(AE$24<STANDARD_YEAR,AE19,\nIF(RIGHT($D31,1)>RIGHT('Efficiency Levels'!$C$22,1),AE19,\nIF(RIGHT($D31,1)<RIGHT('Efficiency Levels'!$C$22,1),0,\nIF(RIGHT($D31,1)=RIGHT('Efficiency Levels'!$C$22,1),SUM(OFFSET(AE19,-RIGHT($D31,1),0,RIGHT($D31,1),1)),\"ERROR\"))))","v":0},{"$f":"IF(AF$24<STANDARD_YEAR,AF19,\nIF(RIGHT($D31,1)>RIGHT('Efficiency Levels'!$C$22,1),AF19,\nIF(RIGHT($D31,1)<RIGHT('Efficiency Levels'!$C$22,1),0,\nIF(RIGHT($D31,1)=RIGHT('Efficiency Levels'!$C$22,1),SUM(OFFSET(AF19,-RIGHT($D31,1),0,RIGHT($D31,1),1)),\"ERROR\"))))","v":0},{"$f":"IF(AG$24<STANDARD_YEAR,AG19,\nIF(RIGHT($D31,1)>RIGHT('Efficiency Levels'!$C$22,1),AG19,\nIF(RIGHT($D31,1)<RIGHT('Efficiency Levels'!$C$22,1),0,\nIF(RIGHT($D31,1)=RIGHT('Efficiency Levels'!$C$22,1),SUM(OFFSET(AG19,-RIGHT($D31,1),0,RIGHT($D31,1),1)),\"ERROR\"))))","v":0},{"$f":"IF(AH$24<STANDARD_YEAR,AH19,\nIF(RIGHT($D31,1)>RIGHT('Efficiency Levels'!$C$22,1),AH19,\nIF(RIGHT($D31,1)<RIGHT('Efficiency Levels'!$C$22,1),0,\nIF(RIGHT($D31,1)=RIGHT('Efficiency Levels'!$C$22,1),SUM(OFFSET(AH19,-RIGHT($D31,1),0,RIGHT($D31,1),1)),\"ERROR\"))))","v":0},{"$f":"IF(AI$24<STANDARD_YEAR,AI19,\nIF(RIGHT($D31,1)>RIGHT('Efficiency Levels'!$C$22,1),AI19,\nIF(RIGHT($D31,1)<RIGHT('Efficiency Levels'!$C$22,1),0,\nIF(RIGHT($D31,1)=RIGHT('Efficiency Levels'!$C$22,1),SUM(OFFSET(AI19,-RIGHT($D31,1),0,RIGHT($D31,1),1)),\"ERROR\"))))","v":0},{"$f":"IF(AJ$24<STANDARD_YEAR,AJ19,\nIF(RIGHT($D31,1)>RIGHT('Efficiency Levels'!$C$22,1),AJ19,\nIF(RIGHT($D31,1)<RIGHT('Efficiency Levels'!$C$22,1),0,\nIF(RIGHT($D31,1)=RIGHT('Efficiency Levels'!$C$22,1),SUM(OFFSET(AJ19,-RIGHT($D31,1),0,RIGHT($D31,1),1)),\"ERROR\"))))","v":0},{"$f":"IF(AK$24<STANDARD_YEAR,AK19,\nIF(RIGHT($D31,1)>RIGHT('Efficiency Levels'!$C$22,1),AK19,\nIF(RIGHT($D31,1)<RIGHT('Efficiency Levels'!$C$22,1),0,\nIF(RIGHT($D31,1)=RIGHT('Efficiency Levels'!$C$22,1),SUM(OFFSET(AK19,-RIGHT($D31,1),0,RIGHT($D31,1),1)),\"ERROR\"))))","v":0},{"$f":"IF(AL$24<STANDARD_YEAR,AL19,\nIF(RIGHT($D31,1)>RIGHT('Efficiency Levels'!$C$22,1),AL19,\nIF(RIGHT($D31,1)<RIGHT('Efficiency Levels'!$C$22,1),0,\nIF(RIGHT($D31,1)=RIGHT('Efficiency Levels'!$C$22,1),SUM(OFFSET(AL19,-RIGHT($D31,1),0,RIGHT($D31,1),1)),\"ERROR\"))))","v":0},{"$f":"IF(AM$24<STANDARD_YEAR,AM19,\nIF(RIGHT($D31,1)>RIGHT('Efficiency Levels'!$C$22,1),AM19,\nIF(RIGHT($D31,1)<RIGHT('Efficiency Levels'!$C$22,1),0,\nIF(RIGHT($D31,1)=RIGHT('Efficiency Levels'!$C$22,1),SUM(OFFSET(AM19,-RIGHT($D31,1),0,RIGHT($D31,1),1)),\"ERROR\"))))","v":0},{"$f":"IF(AN$24<STANDARD_YEAR,AN19,\nIF(RIGHT($D31,1)>RIGHT('Efficiency Levels'!$C$22,1),AN19,\nIF(RIGHT($D31,1)<RIGHT('Efficiency Levels'!$C$22,1),0,\nIF(RIGHT($D31,1)=RIGHT('Efficiency Levels'!$C$22,1),SUM(OFFSET(AN19,-RIGHT($D31,1),0,RIGHT($D31,1),1)),\"ERROR\"))))","v":0},{"$f":"IF(AO$24<STANDARD_YEAR,AO19,\nIF(RIGHT($D31,1)>RIGHT('Efficiency Levels'!$C$22,1),AO19,\nIF(RIGHT($D31,1)<RIGHT('Efficiency Levels'!$C$22,1),0,\nIF(RIGHT($D31,1)=RIGHT('Efficiency Levels'!$C$22,1),SUM(OFFSET(AO19,-RIGHT($D31,1),0,RIGHT($D31,1),1)),\"ERROR\"))))","v":0},{"$f":"IF(AP$24<STANDARD_YEAR,AP19,\nIF(RIGHT($D31,1)>RIGHT('Efficiency Levels'!$C$22,1),AP19,\nIF(RIGHT($D31,1)<RIGHT('Efficiency Levels'!$C$22,1),0,\nIF(RIGHT($D31,1)=RIGHT('Efficiency Levels'!$C$22,1),SUM(OFFSET(AP19,-RIGHT($D31,1),0,RIGHT($D31,1),1)),\"ERROR\"))))","v":0},{"$f":"IF(AQ$24<STANDARD_YEAR,AQ19,\nIF(RIGHT($D31,1)>RIGHT('Efficiency Levels'!$C$22,1),AQ19,\nIF(RIGHT($D31,1)<RIGHT('Efficiency Levels'!$C$22,1),0,\nIF(RIGHT($D31,1)=RIGHT('Efficiency Levels'!$C$22,1),SUM(OFFSET(AQ19,-RIGHT($D31,1),0,RIGHT($D31,1),1)),\"ERROR\"))))","v":0},{"$f":"IF(AR$24<STANDARD_YEAR,AR19,\nIF(RIGHT($D31,1)>RIGHT('Efficiency Levels'!$C$22,1),AR19,\nIF(RIGHT($D31,1)<RIGHT('Efficiency Levels'!$C$22,1),0,\nIF(RIGHT($D31,1)=RIGHT('Efficiency Levels'!$C$22,1),SUM(OFFSET(AR19,-RIGHT($D31,1),0,RIGHT($D31,1),1)),\"ERROR\"))))","v":0},{"$f":"IF(AS$24<STANDARD_YEAR,AS19,\nIF(RIGHT($D31,1)>RIGHT('Efficiency Levels'!$C$22,1),AS19,\nIF(RIGHT($D31,1)<RIGHT('Efficiency Levels'!$C$22,1),0,\nIF(RIGHT($D31,1)=RIGHT('Efficiency Levels'!$C$22,1),SUM(OFFSET(AS19,-RIGHT($D31,1),0,RIGHT($D31,1),1)),\"ERROR\"))))","v":0},{"$f":"IF(AT$24<STANDARD_YEAR,AT19,\nIF(RIGHT($D31,1)>RIGHT('Efficiency Levels'!$C$22,1),AT19,\nIF(RIGHT($D31,1)<RIGHT('Efficiency Levels'!$C$22,1),0,\nIF(RIGHT($D31,1)=RIGHT('Efficiency Levels'!$C$22,1),SUM(OFFSET(AT19,-RIGHT($D31,1),0,RIGHT($D31,1),1)),\"ERROR\"))))","v":0},{"$f":"IF(AU$24<STANDARD_YEAR,AU19,\nIF(RIGHT($D31,1)>RIGHT('Efficiency Levels'!$C$22,1),AU19,\nIF(RIGHT($D31,1)<RIGHT('Efficiency Levels'!$C$22,1),0,\nIF(RIGHT($D31,1)=RIGHT('Efficiency Levels'!$C$22,1),SUM(OFFSET(AU19,-RIGHT($D31,1),0,RIGHT($D31,1),1)),\"ERROR\"))))","v":0},{"$f":"IF(AV$24<STANDARD_YEAR,AV19,\nIF(RIGHT($D31,1)>RIGHT('Efficiency Levels'!$C$22,1),AV19,\nIF(RIGHT($D31,1)<RIGHT('Efficiency Levels'!$C$22,1),0,\nIF(RIGHT($D31,1)=RIGHT('Efficiency Levels'!$C$22,1),SUM(OFFSET(AV19,-RIGHT($D31,1),0,RIGHT($D31,1),1)),\"ERROR\"))))","v":0},{"$f":"IF(AW$24<STANDARD_YEAR,AW19,\nIF(RIGHT($D31,1)>RIGHT('Efficiency Levels'!$C$22,1),AW19,\nIF(RIGHT($D31,1)<RIGHT('Efficiency Levels'!$C$22,1),0,\nIF(RIGHT($D31,1)=RIGHT('Efficiency Levels'!$C$22,1),SUM(OFFSET(AW19,-RIGHT($D31,1),0,RIGHT($D31,1),1)),\"ERROR\"))))","v":0},{"$f":"IF(AX$24<STANDARD_YEAR,AX19,\nIF(RIGHT($D31,1)>RIGHT('Efficiency Levels'!$C$22,1),AX19,\nIF(RIGHT($D31,1)<RIGHT('Efficiency Levels'!$C$22,1),0,\nIF(RIGHT($D31,1)=RIGHT('Efficiency Levels'!$C$22,1),SUM(OFFSET(AX19,-RIGHT($D31,1),0,RIGHT($D31,1),1)),\"ERROR\"))))","v":0},{"$f":"IF(AY$24<STANDARD_YEAR,AY19,\nIF(RIGHT($D31,1)>RIGHT('Efficiency Levels'!$C$22,1),AY19,\nIF(RIGHT($D31,1)<RIGHT('Efficiency Levels'!$C$22,1),0,\nIF(RIGHT($D31,1)=RIGHT('Efficiency Levels'!$C$22,1),SUM(OFFSET(AY19,-RIGHT($D31,1),0,RIGHT($D31,1),1)),\"ERROR\"))))","v":0},{"$f":"IF(AZ$24<STANDARD_YEAR,AZ19,\nIF(RIGHT($D31,1)>RIGHT('Efficiency Levels'!$C$22,1),AZ19,\nIF(RIGHT($D31,1)<RIGHT('Efficiency Levels'!$C$22,1),0,\nIF(RIGHT($D31,1)=RIGHT('Efficiency Levels'!$C$22,1),SUM(OFFSET(AZ19,-RIGHT($D31,1),0,RIGHT($D31,1),1)),\"ERROR\"))))","v":0},{"$f":"IF(BA$24<STANDARD_YEAR,BA19,\nIF(RIGHT($D31,1)>RIGHT('Efficiency Levels'!$C$22,1),BA19,\nIF(RIGHT($D31,1)<RIGHT('Efficiency Levels'!$C$22,1),0,\nIF(RIGHT($D31,1)=RIGHT('Efficiency Levels'!$C$22,1),SUM(OFFSET(BA19,-RIGHT($D31,1),0,RIGHT($D31,1),1)),\"ERROR\"))))","v":0},{"$f":"IF(BB$24<STANDARD_YEAR,BB19,\nIF(RIGHT($D31,1)>RIGHT('Efficiency Levels'!$C$22,1),BB19,\nIF(RIGHT($D31,1)<RIGHT('Efficiency Levels'!$C$22,1),0,\nIF(RIGHT($D31,1)=RIGHT('Efficiency Levels'!$C$22,1),SUM(OFFSET(BB19,-RIGHT($D31,1),0,RIGHT($D31,1),1)),\"ERROR\"))))","v":0},{"$f":"IF(BC$24<STANDARD_YEAR,BC19,\nIF(RIGHT($D31,1)>RIGHT('Efficiency Levels'!$C$22,1),BC19,\nIF(RIGHT($D31,1)<RIGHT('Efficiency Levels'!$C$22,1),0,\nIF(RIGHT($D31,1)=RIGHT('Efficiency Levels'!$C$22,1),SUM(OFFSET(BC19,-RIGHT($D31,1),0,RIGHT($D31,1),1)),\"ERROR\"))))","v":0},{"$f":"IF(BD$24<STANDARD_YEAR,BD19,\nIF(RIGHT($D31,1)>RIGHT('Efficiency Levels'!$C$22,1),BD19,\nIF(RIGHT($D31,1)<RIGHT('Efficiency Levels'!$C$22,1),0,\nIF(RIGHT($D31,1)=RIGHT('Efficiency Levels'!$C$22,1),SUM(OFFSET(BD19,-RIGHT($D31,1),0,RIGHT($D31,1),1)),\"ERROR\"))))","v":0},{"$f":"IF(BE$24<STANDARD_YEAR,BE19,\nIF(RIGHT($D31,1)>RIGHT('Efficiency Levels'!$C$22,1),BE19,\nIF(RIGHT($D31,1)<RIGHT('Efficiency Levels'!$C$22,1),0,\nIF(RIGHT($D31,1)=RIGHT('Efficiency Levels'!$C$22,1),SUM(OFFSET(BE19,-RIGHT($D31,1),0,RIGHT($D31,1),1)),\"ERROR\"))))","v":0},{"$f":"IF(BF$24<STANDARD_YEAR,BF19,\nIF(RIGHT($D31,1)>RIGHT('Efficiency Levels'!$C$22,1),BF19,\nIF(RIGHT($D31,1)<RIGHT('Efficiency Levels'!$C$22,1),0,\nIF(RIGHT($D31,1)=RIGHT('Efficiency Levels'!$C$22,1),SUM(OFFSET(BF19,-RIGHT($D31,1),0,RIGHT($D31,1),1)),\"ERROR\"))))","v":0},{"$f":"IF(BG$24<STANDARD_YEAR,BG19,\nIF(RIGHT($D31,1)>RIGHT('Efficiency Levels'!$C$22,1),BG19,\nIF(RIGHT($D31,1)<RIGHT('Efficiency Levels'!$C$22,1),0,\nIF(RIGHT($D31,1)=RIGHT('Efficiency Levels'!$C$22,1),SUM(OFFSET(BG19,-RIGHT($D31,1),0,RIGHT($D31,1),1)),\"ERROR\"))))","v":0},{"$f":"IF(BH$24<STANDARD_YEAR,BH19,\nIF(RIGHT($D31,1)>RIGHT('Efficiency Levels'!$C$22,1),BH19,\nIF(RIGHT($D31,1)<RIGHT('Efficiency Levels'!$C$22,1),0,\nIF(RIGHT($D31,1)=RIGHT('Efficiency Levels'!$C$22,1),SUM(OFFSET(BH19,-RIGHT($D31,1),0,RIGHT($D31,1),1)),\"ERROR\"))))","v":0},{"$f":"IF(BI$24<STANDARD_YEAR,BI19,\nIF(RIGHT($D31,1)>RIGHT('Efficiency Levels'!$C$22,1),BI19,\nIF(RIGHT($D31,1)<RIGHT('Efficiency Levels'!$C$22,1),0,\nIF(RIGHT($D31,1)=RIGHT('Efficiency Levels'!$C$22,1),SUM(OFFSET(BI19,-RIGHT($D31,1),0,RIGHT($D31,1),1)),\"ERROR\"))))","v":0},{"$f":"IF(BJ$24<STANDARD_YEAR,BJ19,\nIF(RIGHT($D31,1)>RIGHT('Efficiency Levels'!$C$22,1),BJ19,\nIF(RIGHT($D31,1)<RIGHT('Efficiency Levels'!$C$22,1),0,\nIF(RIGHT($D31,1)=RIGHT('Efficiency Levels'!$C$22,1),SUM(OFFSET(BJ19,-RIGHT($D31,1),0,RIGHT($D31,1),1)),\"ERROR\"))))","v":0}]
[null,null,null,"EL7",{"$f":"OFFSET('Efficiency Levels'!$D$11,MATCH($C$9,'Efficiency Levels'!$C$9:$C$1002,0)+RIGHT(D32,1),0)","v":255},null,null,null,{"$f":"IF(I$24<STANDARD_YEAR,I20,\nIF(RIGHT($D32,1)>RIGHT('Efficiency Levels'!$C$22,1),I20,\nIF(RIGHT($D32,1)<RIGHT('Efficiency Levels'!$C$22,1),0,\nIF(RIGHT($D32,1)=RIGHT('Efficiency Levels'!$C$22,1),SUM(OFFSET(I20,-RIGHT($D32,1),0,RIGHT($D32,1),1)),\"ERROR\"))))","v":0},{"$f":"IF(J$24<STANDARD_YEAR,J20,\nIF(RIGHT($D32,1)>RIGHT('Efficiency Levels'!$C$22,1),J20,\nIF(RIGHT($D32,1)<RIGHT('Efficiency Levels'!$C$22,1),0,\nIF(RIGHT($D32,1)=RIGHT('Efficiency Levels'!$C$22,1),SUM(OFFSET(J20,-RIGHT($D32,1),0,RIGHT($D32,1),1)),\"ERROR\"))))","v":0},{"$f":"IF(K$24<STANDARD_YEAR,K20,\nIF(RIGHT($D32,1)>RIGHT('Efficiency Levels'!$C$22,1),K20,\nIF(RIGHT($D32,1)<RIGHT('Efficiency Levels'!$C$22,1),0,\nIF(RIGHT($D32,1)=RIGHT('Efficiency Levels'!$C$22,1),SUM(OFFSET(K20,-RIGHT($D32,1),0,RIGHT($D32,1),1)),\"ERROR\"))))","v":0},{"$f":"IF(L$24<STANDARD_YEAR,L20,\nIF(RIGHT($D32,1)>RIGHT('Efficiency Levels'!$C$22,1),L20,\nIF(RIGHT($D32,1)<RIGHT('Efficiency Levels'!$C$22,1),0,\nIF(RIGHT($D32,1)=RIGHT('Efficiency Levels'!$C$22,1),SUM(OFFSET(L20,-RIGHT($D32,1),0,RIGHT($D32,1),1)),\"ERROR\"))))","v":0},{"$f":"IF(M$24<STANDARD_YEAR,M20,\nIF(RIGHT($D32,1)>RIGHT('Efficiency Levels'!$C$22,1),M20,\nIF(RIGHT($D32,1)<RIGHT('Efficiency Levels'!$C$22,1),0,\nIF(RIGHT($D32,1)=RIGHT('Efficiency Levels'!$C$22,1),SUM(OFFSET(M20,-RIGHT($D32,1),0,RIGHT($D32,1),1)),\"ERROR\"))))","v":0},{"$f":"IF(N$24<STANDARD_YEAR,N20,\nIF(RIGHT($D32,1)>RIGHT('Efficiency Levels'!$C$22,1),N20,\nIF(RIGHT($D32,1)<RIGHT('Efficiency Levels'!$C$22,1),0,\nIF(RIGHT($D32,1)=RIGHT('Efficiency Levels'!$C$22,1),SUM(OFFSET(N20,-RIGHT($D32,1),0,RIGHT($D32,1),1)),\"ERROR\"))))","v":0},{"$f":"IF(O$24<STANDARD_YEAR,O20,\nIF(RIGHT($D32,1)>RIGHT('Efficiency Levels'!$C$22,1),O20,\nIF(RIGHT($D32,1)<RIGHT('Efficiency Levels'!$C$22,1),0,\nIF(RIGHT($D32,1)=RIGHT('Efficiency Levels'!$C$22,1),SUM(OFFSET(O20,-RIGHT($D32,1),0,RIGHT($D32,1),1)),\"ERROR\"))))","v":0},{"$f":"IF(P$24<STANDARD_YEAR,P20,\nIF(RIGHT($D32,1)>RIGHT('Efficiency Levels'!$C$22,1),P20,\nIF(RIGHT($D32,1)<RIGHT('Efficiency Levels'!$C$22,1),0,\nIF(RIGHT($D32,1)=RIGHT('Efficiency Levels'!$C$22,1),SUM(OFFSET(P20,-RIGHT($D32,1),0,RIGHT($D32,1),1)),\"ERROR\"))))","v":0},{"$f":"IF(Q$24<STANDARD_YEAR,Q20,\nIF(RIGHT($D32,1)>RIGHT('Efficiency Levels'!$C$22,1),Q20,\nIF(RIGHT($D32,1)<RIGHT('Efficiency Levels'!$C$22,1),0,\nIF(RIGHT($D32,1)=RIGHT('Efficiency Levels'!$C$22,1),SUM(OFFSET(Q20,-RIGHT($D32,1),0,RIGHT($D32,1),1)),\"ERROR\"))))","v":0},{"$f":"IF(R$24<STANDARD_YEAR,R20,\nIF(RIGHT($D32,1)>RIGHT('Efficiency Levels'!$C$22,1),R20,\nIF(RIGHT($D32,1)<RIGHT('Efficiency Levels'!$C$22,1),0,\nIF(RIGHT($D32,1)=RIGHT('Efficiency Levels'!$C$22,1),SUM(OFFSET(R20,-RIGHT($D32,1),0,RIGHT($D32,1),1)),\"ERROR\"))))","v":0},{"$f":"IF(S$24<STANDARD_YEAR,S20,\nIF(RIGHT($D32,1)>RIGHT('Efficiency Levels'!$C$22,1),S20,\nIF(RIGHT($D32,1)<RIGHT('Efficiency Levels'!$C$22,1),0,\nIF(RIGHT($D32,1)=RIGHT('Efficiency Levels'!$C$22,1),SUM(OFFSET(S20,-RIGHT($D32,1),0,RIGHT($D32,1),1)),\"ERROR\"))))","v":0},{"$f":"IF(T$24<STANDARD_YEAR,T20,\nIF(RIGHT($D32,1)>RIGHT('Efficiency Levels'!$C$22,1),T20,\nIF(RIGHT($D32,1)<RIGHT('Efficiency Levels'!$C$22,1),0,\nIF(RIGHT($D32,1)=RIGHT('Efficiency Levels'!$C$22,1),SUM(OFFSET(T20,-RIGHT($D32,1),0,RIGHT($D32,1),1)),\"ERROR\"))))","v":0},{"$f":"IF(U$24<STANDARD_YEAR,U20,\nIF(RIGHT($D32,1)>RIGHT('Efficiency Levels'!$C$22,1),U20,\nIF(RIGHT($D32,1)<RIGHT('Efficiency Levels'!$C$22,1),0,\nIF(RIGHT($D32,1)=RIGHT('Efficiency Levels'!$C$22,1),SUM(OFFSET(U20,-RIGHT($D32,1),0,RIGHT($D32,1),1)),\"ERROR\"))))","v":0},{"$f":"IF(V$24<STANDARD_YEAR,V20,\nIF(RIGHT($D32,1)>RIGHT('Efficiency Levels'!$C$22,1),V20,\nIF(RIGHT($D32,1)<RIGHT('Efficiency Levels'!$C$22,1),0,\nIF(RIGHT($D32,1)=RIGHT('Efficiency Levels'!$C$22,1),SUM(OFFSET(V20,-RIGHT($D32,1),0,RIGHT($D32,1),1)),\"ERROR\"))))","v":0},{"$f":"IF(W$24<STANDARD_YEAR,W20,\nIF(RIGHT($D32,1)>RIGHT('Efficiency Levels'!$C$22,1),W20,\nIF(RIGHT($D32,1)<RIGHT('Efficiency Levels'!$C$22,1),0,\nIF(RIGHT($D32,1)=RIGHT('Efficiency Levels'!$C$22,1),SUM(OFFSET(W20,-RIGHT($D32,1),0,RIGHT($D32,1),1)),\"ERROR\"))))","v":0},{"$f":"IF(X$24<STANDARD_YEAR,X20,\nIF(RIGHT($D32,1)>RIGHT('Efficiency Levels'!$C$22,1),X20,\nIF(RIGHT($D32,1)<RIGHT('Efficiency Levels'!$C$22,1),0,\nIF(RIGHT($D32,1)=RIGHT('Efficiency Levels'!$C$22,1),SUM(OFFSET(X20,-RIGHT($D32,1),0,RIGHT($D32,1),1)),\"ERROR\"))))","v":0},{"$f":"IF(Y$24<STANDARD_YEAR,Y20,\nIF(RIGHT($D32,1)>RIGHT('Efficiency Levels'!$C$22,1),Y20,\nIF(RIGHT($D32,1)<RIGHT('Efficiency Levels'!$C$22,1),0,\nIF(RIGHT($D32,1)=RIGHT('Efficiency Levels'!$C$22,1),SUM(OFFSET(Y20,-RIGHT($D32,1),0,RIGHT($D32,1),1)),\"ERROR\"))))","v":0},{"$f":"IF(Z$24<STANDARD_YEAR,Z20,\nIF(RIGHT($D32,1)>RIGHT('Efficiency Levels'!$C$22,1),Z20,\nIF(RIGHT($D32,1)<RIGHT('Efficiency Levels'!$C$22,1),0,\nIF(RIGHT($D32,1)=RIGHT('Efficiency Levels'!$C$22,1),SUM(OFFSET(Z20,-RIGHT($D32,1),0,RIGHT($D32,1),1)),\"ERROR\"))))","v":0},{"$f":"IF(AA$24<STANDARD_YEAR,AA20,\nIF(RIGHT($D32,1)>RIGHT('Efficiency Levels'!$C$22,1),AA20,\nIF(RIGHT($D32,1)<RIGHT('Efficiency Levels'!$C$22,1),0,\nIF(RIGHT($D32,1)=RIGHT('Efficiency Levels'!$C$22,1),SUM(OFFSET(AA20,-RIGHT($D32,1),0,RIGHT($D32,1),1)),\"ERROR\"))))","v":0},{"$f":"IF(AB$24<STANDARD_YEAR,AB20,\nIF(RIGHT($D32,1)>RIGHT('Efficiency Levels'!$C$22,1),AB20,\nIF(RIGHT($D32,1)<RIGHT('Efficiency Levels'!$C$22,1),0,\nIF(RIGHT($D32,1)=RIGHT('Efficiency Levels'!$C$22,1),SUM(OFFSET(AB20,-RIGHT($D32,1),0,RIGHT($D32,1),1)),\"ERROR\"))))","v":0},{"$f":"IF(AC$24<STANDARD_YEAR,AC20,\nIF(RIGHT($D32,1)>RIGHT('Efficiency Levels'!$C$22,1),AC20,\nIF(RIGHT($D32,1)<RIGHT('Efficiency Levels'!$C$22,1),0,\nIF(RIGHT($D32,1)=RIGHT('Efficiency Levels'!$C$22,1),SUM(OFFSET(AC20,-RIGHT($D32,1),0,RIGHT($D32,1),1)),\"ERROR\"))))","v":0},{"$f":"IF(AD$24<STANDARD_YEAR,AD20,\nIF(RIGHT($D32,1)>RIGHT('Efficiency Levels'!$C$22,1),AD20,\nIF(RIGHT($D32,1)<RIGHT('Efficiency Levels'!$C$22,1),0,\nIF(RIGHT($D32,1)=RIGHT('Efficiency Levels'!$C$22,1),SUM(OFFSET(AD20,-RIGHT($D32,1),0,RIGHT($D32,1),1)),\"ERROR\"))))","v":0},{"$f":"IF(AE$24<STANDARD_YEAR,AE20,\nIF(RIGHT($D32,1)>RIGHT('Efficiency Levels'!$C$22,1),AE20,\nIF(RIGHT($D32,1)<RIGHT('Efficiency Levels'!$C$22,1),0,\nIF(RIGHT($D32,1)=RIGHT('Efficiency Levels'!$C$22,1),SUM(OFFSET(AE20,-RIGHT($D32,1),0,RIGHT($D32,1),1)),\"ERROR\"))))","v":0},{"$f":"IF(AF$24<STANDARD_YEAR,AF20,\nIF(RIGHT($D32,1)>RIGHT('Efficiency Levels'!$C$22,1),AF20,\nIF(RIGHT($D32,1)<RIGHT('Efficiency Levels'!$C$22,1),0,\nIF(RIGHT($D32,1)=RIGHT('Efficiency Levels'!$C$22,1),SUM(OFFSET(AF20,-RIGHT($D32,1),0,RIGHT($D32,1),1)),\"ERROR\"))))","v":0},{"$f":"IF(AG$24<STANDARD_YEAR,AG20,\nIF(RIGHT($D32,1)>RIGHT('Efficiency Levels'!$C$22,1),AG20,\nIF(RIGHT($D32,1)<RIGHT('Efficiency Levels'!$C$22,1),0,\nIF(RIGHT($D32,1)=RIGHT('Efficiency Levels'!$C$22,1),SUM(OFFSET(AG20,-RIGHT($D32,1),0,RIGHT($D32,1),1)),\"ERROR\"))))","v":0},{"$f":"IF(AH$24<STANDARD_YEAR,AH20,\nIF(RIGHT($D32,1)>RIGHT('Efficiency Levels'!$C$22,1),AH20,\nIF(RIGHT($D32,1)<RIGHT('Efficiency Levels'!$C$22,1),0,\nIF(RIGHT($D32,1)=RIGHT('Efficiency Levels'!$C$22,1),SUM(OFFSET(AH20,-RIGHT($D32,1),0,RIGHT($D32,1),1)),\"ERROR\"))))","v":0},{"$f":"IF(AI$24<STANDARD_YEAR,AI20,\nIF(RIGHT($D32,1)>RIGHT('Efficiency Levels'!$C$22,1),AI20,\nIF(RIGHT($D32,1)<RIGHT('Efficiency Levels'!$C$22,1),0,\nIF(RIGHT($D32,1)=RIGHT('Efficiency Levels'!$C$22,1),SUM(OFFSET(AI20,-RIGHT($D32,1),0,RIGHT($D32,1),1)),\"ERROR\"))))","v":0},{"$f":"IF(AJ$24<STANDARD_YEAR,AJ20,\nIF(RIGHT($D32,1)>RIGHT('Efficiency Levels'!$C$22,1),AJ20,\nIF(RIGHT($D32,1)<RIGHT('Efficiency Levels'!$C$22,1),0,\nIF(RIGHT($D32,1)=RIGHT('Efficiency Levels'!$C$22,1),SUM(OFFSET(AJ20,-RIGHT($D32,1),0,RIGHT($D32,1),1)),\"ERROR\"))))","v":0},{"$f":"IF(AK$24<STANDARD_YEAR,AK20,\nIF(RIGHT($D32,1)>RIGHT('Efficiency Levels'!$C$22,1),AK20,\nIF(RIGHT($D32,1)<RIGHT('Efficiency Levels'!$C$22,1),0,\nIF(RIGHT($D32,1)=RIGHT('Efficiency Levels'!$C$22,1),SUM(OFFSET(AK20,-RIGHT($D32,1),0,RIGHT($D32,1),1)),\"ERROR\"))))","v":0},{"$f":"IF(AL$24<STANDARD_YEAR,AL20,\nIF(RIGHT($D32,1)>RIGHT('Efficiency Levels'!$C$22,1),AL20,\nIF(RIGHT($D32,1)<RIGHT('Efficiency Levels'!$C$22,1),0,\nIF(RIGHT($D32,1)=RIGHT('Efficiency Levels'!$C$22,1),SUM(OFFSET(AL20,-RIGHT($D32,1),0,RIGHT($D32,1),1)),\"ERROR\"))))","v":0},{"$f":"IF(AM$24<STANDARD_YEAR,AM20,\nIF(RIGHT($D32,1)>RIGHT('Efficiency Levels'!$C$22,1),AM20,\nIF(RIGHT($D32,1)<RIGHT('Efficiency Levels'!$C$22,1),0,\nIF(RIGHT($D32,1)=RIGHT('Efficiency Levels'!$C$22,1),SUM(OFFSET(AM20,-RIGHT($D32,1),0,RIGHT($D32,1),1)),\"ERROR\"))))","v":0},{"$f":"IF(AN$24<STANDARD_YEAR,AN20,\nIF(RIGHT($D32,1)>RIGHT('Efficiency Levels'!$C$22,1),AN20,\nIF(RIGHT($D32,1)<RIGHT('Efficiency Levels'!$C$22,1),0,\nIF(RIGHT($D32,1)=RIGHT('Efficiency Levels'!$C$22,1),SUM(OFFSET(AN20,-RIGHT($D32,1),0,RIGHT($D32,1),1)),\"ERROR\"))))","v":0},{"$f":"IF(AO$24<STANDARD_YEAR,AO20,\nIF(RIGHT($D32,1)>RIGHT('Efficiency Levels'!$C$22,1),AO20,\nIF(RIGHT($D32,1)<RIGHT('Efficiency Levels'!$C$22,1),0,\nIF(RIGHT($D32,1)=RIGHT('Efficiency Levels'!$C$22,1),SUM(OFFSET(AO20,-RIGHT($D32,1),0,RIGHT($D32,1),1)),\"ERROR\"))))","v":0},{"$f":"IF(AP$24<STANDARD_YEAR,AP20,\nIF(RIGHT($D32,1)>RIGHT('Efficiency Levels'!$C$22,1),AP20,\nIF(RIGHT($D32,1)<RIGHT('Efficiency Levels'!$C$22,1),0,\nIF(RIGHT($D32,1)=RIGHT('Efficiency Levels'!$C$22,1),SUM(OFFSET(AP20,-RIGHT($D32,1),0,RIGHT($D32,1),1)),\"ERROR\"))))","v":0},{"$f":"IF(AQ$24<STANDARD_YEAR,AQ20,\nIF(RIGHT($D32,1)>RIGHT('Efficiency Levels'!$C$22,1),AQ20,\nIF(RIGHT($D32,1)<RIGHT('Efficiency Levels'!$C$22,1),0,\nIF(RIGHT($D32,1)=RIGHT('Efficiency Levels'!$C$22,1),SUM(OFFSET(AQ20,-RIGHT($D32,1),0,RIGHT($D32,1),1)),\"ERROR\"))))","v":0},{"$f":"IF(AR$24<STANDARD_YEAR,AR20,\nIF(RIGHT($D32,1)>RIGHT('Efficiency Levels'!$C$22,1),AR20,\nIF(RIGHT($D32,1)<RIGHT('Efficiency Levels'!$C$22,1),0,\nIF(RIGHT($D32,1)=RIGHT('Efficiency Levels'!$C$22,1),SUM(OFFSET(AR20,-RIGHT($D32,1),0,RIGHT($D32,1),1)),\"ERROR\"))))","v":0},{"$f":"IF(AS$24<STANDARD_YEAR,AS20,\nIF(RIGHT($D32,1)>RIGHT('Efficiency Levels'!$C$22,1),AS20,\nIF(RIGHT($D32,1)<RIGHT('Efficiency Levels'!$C$22,1),0,\nIF(RIGHT($D32,1)=RIGHT('Efficiency Levels'!$C$22,1),SUM(OFFSET(AS20,-RIGHT($D32,1),0,RIGHT($D32,1),1)),\"ERROR\"))))","v":0},{"$f":"IF(AT$24<STANDARD_YEAR,AT20,\nIF(RIGHT($D32,1)>RIGHT('Efficiency Levels'!$C$22,1),AT20,\nIF(RIGHT($D32,1)<RIGHT('Efficiency Levels'!$C$22,1),0,\nIF(RIGHT($D32,1)=RIGHT('Efficiency Levels'!$C$22,1),SUM(OFFSET(AT20,-RIGHT($D32,1),0,RIGHT($D32,1),1)),\"ERROR\"))))","v":0},{"$f":"IF(AU$24<STANDARD_YEAR,AU20,\nIF(RIGHT($D32,1)>RIGHT('Efficiency Levels'!$C$22,1),AU20,\nIF(RIGHT($D32,1)<RIGHT('Efficiency Levels'!$C$22,1),0,\nIF(RIGHT($D32,1)=RIGHT('Efficiency Levels'!$C$22,1),SUM(OFFSET(AU20,-RIGHT($D32,1),0,RIGHT($D32,1),1)),\"ERROR\"))))","v":0},{"$f":"IF(AV$24<STANDARD_YEAR,AV20,\nIF(RIGHT($D32,1)>RIGHT('Efficiency Levels'!$C$22,1),AV20,\nIF(RIGHT($D32,1)<RIGHT('Efficiency Levels'!$C$22,1),0,\nIF(RIGHT($D32,1)=RIGHT('Efficiency Levels'!$C$22,1),SUM(OFFSET(AV20,-RIGHT($D32,1),0,RIGHT($D32,1),1)),\"ERROR\"))))","v":0},{"$f":"IF(AW$24<STANDARD_YEAR,AW20,\nIF(RIGHT($D32,1)>RIGHT('Efficiency Levels'!$C$22,1),AW20,\nIF(RIGHT($D32,1)<RIGHT('Efficiency Levels'!$C$22,1),0,\nIF(RIGHT($D32,1)=RIGHT('Efficiency Levels'!$C$22,1),SUM(OFFSET(AW20,-RIGHT($D32,1),0,RIGHT($D32,1),1)),\"ERROR\"))))","v":0},{"$f":"IF(AX$24<STANDARD_YEAR,AX20,\nIF(RIGHT($D32,1)>RIGHT('Efficiency Levels'!$C$22,1),AX20,\nIF(RIGHT($D32,1)<RIGHT('Efficiency Levels'!$C$22,1),0,\nIF(RIGHT($D32,1)=RIGHT('Efficiency Levels'!$C$22,1),SUM(OFFSET(AX20,-RIGHT($D32,1),0,RIGHT($D32,1),1)),\"ERROR\"))))","v":0},{"$f":"IF(AY$24<STANDARD_YEAR,AY20,\nIF(RIGHT($D32,1)>RIGHT('Efficiency Levels'!$C$22,1),AY20,\nIF(RIGHT($D32,1)<RIGHT('Efficiency Levels'!$C$22,1),0,\nIF(RIGHT($D32,1)=RIGHT('Efficiency Levels'!$C$22,1),SUM(OFFSET(AY20,-RIGHT($D32,1),0,RIGHT($D32,1),1)),\"ERROR\"))))","v":0},{"$f":"IF(AZ$24<STANDARD_YEAR,AZ20,\nIF(RIGHT($D32,1)>RIGHT('Efficiency Levels'!$C$22,1),AZ20,\nIF(RIGHT($D32,1)<RIGHT('Efficiency Levels'!$C$22,1),0,\nIF(RIGHT($D32,1)=RIGHT('Efficiency Levels'!$C$22,1),SUM(OFFSET(AZ20,-RIGHT($D32,1),0,RIGHT($D32,1),1)),\"ERROR\"))))","v":0},{"$f":"IF(BA$24<STANDARD_YEAR,BA20,\nIF(RIGHT($D32,1)>RIGHT('Efficiency Levels'!$C$22,1),BA20,\nIF(RIGHT($D32,1)<RIGHT('Efficiency Levels'!$C$22,1),0,\nIF(RIGHT($D32,1)=RIGHT('Efficiency Levels'!$C$22,1),SUM(OFFSET(BA20,-RIGHT($D32,1),0,RIGHT($D32,1),1)),\"ERROR\"))))","v":0},{"$f":"IF(BB$24<STANDARD_YEAR,BB20,\nIF(RIGHT($D32,1)>RIGHT('Efficiency Levels'!$C$22,1),BB20,\nIF(RIGHT($D32,1)<RIGHT('Efficiency Levels'!$C$22,1),0,\nIF(RIGHT($D32,1)=RIGHT('Efficiency Levels'!$C$22,1),SUM(OFFSET(BB20,-RIGHT($D32,1),0,RIGHT($D32,1),1)),\"ERROR\"))))","v":0},{"$f":"IF(BC$24<STANDARD_YEAR,BC20,\nIF(RIGHT($D32,1)>RIGHT('Efficiency Levels'!$C$22,1),BC20,\nIF(RIGHT($D32,1)<RIGHT('Efficiency Levels'!$C$22,1),0,\nIF(RIGHT($D32,1)=RIGHT('Efficiency Levels'!$C$22,1),SUM(OFFSET(BC20,-RIGHT($D32,1),0,RIGHT($D32,1),1)),\"ERROR\"))))","v":0},{"$f":"IF(BD$24<STANDARD_YEAR,BD20,\nIF(RIGHT($D32,1)>RIGHT('Efficiency Levels'!$C$22,1),BD20,\nIF(RIGHT($D32,1)<RIGHT('Efficiency Levels'!$C$22,1),0,\nIF(RIGHT($D32,1)=RIGHT('Efficiency Levels'!$C$22,1),SUM(OFFSET(BD20,-RIGHT($D32,1),0,RIGHT($D32,1),1)),\"ERROR\"))))","v":0},{"$f":"IF(BE$24<STANDARD_YEAR,BE20,\nIF(RIGHT($D32,1)>RIGHT('Efficiency Levels'!$C$22,1),BE20,\nIF(RIGHT($D32,1)<RIGHT('Efficiency Levels'!$C$22,1),0,\nIF(RIGHT($D32,1)=RIGHT('Efficiency Levels'!$C$22,1),SUM(OFFSET(BE20,-RIGHT($D32,1),0,RIGHT($D32,1),1)),\"ERROR\"))))","v":0},{"$f":"IF(BF$24<STANDARD_YEAR,BF20,\nIF(RIGHT($D32,1)>RIGHT('Efficiency Levels'!$C$22,1),BF20,\nIF(RIGHT($D32,1)<RIGHT('Efficiency Levels'!$C$22,1),0,\nIF(RIGHT($D32,1)=RIGHT('Efficiency Levels'!$C$22,1),SUM(OFFSET(BF20,-RIGHT($D32,1),0,RIGHT($D32,1),1)),\"ERROR\"))))","v":0},{"$f":"IF(BG$24<STANDARD_YEAR,BG20,\nIF(RIGHT($D32,1)>RIGHT('Efficiency Levels'!$C$22,1),BG20,\nIF(RIGHT($D32,1)<RIGHT('Efficiency Levels'!$C$22,1),0,\nIF(RIGHT($D32,1)=RIGHT('Efficiency Levels'!$C$22,1),SUM(OFFSET(BG20,-RIGHT($D32,1),0,RIGHT($D32,1),1)),\"ERROR\"))))","v":0},{"$f":"IF(BH$24<STANDARD_YEAR,BH20,\nIF(RIGHT($D32,1)>RIGHT('Efficiency Levels'!$C$22,1),BH20,\nIF(RIGHT($D32,1)<RIGHT('Efficiency Levels'!$C$22,1),0,\nIF(RIGHT($D32,1)=RIGHT('Efficiency Levels'!$C$22,1),SUM(OFFSET(BH20,-RIGHT($D32,1),0,RIGHT($D32,1),1)),\"ERROR\"))))","v":0},{"$f":"IF(BI$24<STANDARD_YEAR,BI20,\nIF(RIGHT($D32,1)>RIGHT('Efficiency Levels'!$C$22,1),BI20,\nIF(RIGHT($D32,1)<RIGHT('Efficiency Levels'!$C$22,1),0,\nIF(RIGHT($D32,1)=RIGHT('Efficiency Levels'!$C$22,1),SUM(OFFSET(BI20,-RIGHT($D32,1),0,RIGHT($D32,1),1)),\"ERROR\"))))","v":0},{"$f":"IF(BJ$24<STANDARD_YEAR,BJ20,\nIF(RIGHT($D32,1)>RIGHT('Efficiency Levels'!$C$22,1),BJ20,\nIF(RIGHT($D32,1)<RIGHT('Efficiency Levels'!$C$22,1),0,\nIF(RIGHT($D32,1)=RIGHT('Efficiency Levels'!$C$22,1),SUM(OFFSET(BJ20,-RIGHT($D32,1),0,RIGHT($D32,1),1)),\"ERROR\"))))","v":0}]
[null,null,null,"TOTAL",null,null,null,null,{"$f":"SUM(I25:I32)","v":1},1,1,1,1,1,1,1,{"$f":"SUM(Q25:Q32)","v":1},1,1,1,1,1,1,1,1,1,1,1,1,1,1,1,1,1,1,1,1,1,1,1,1,1,1,1,1,1,1,1,1,1,1,1,1,1,1,1,1,1,1,1,1,{"$f":"SUM(BJ25:BJ32)","v":1}]
[]
[null,null,null,"Sources","Placeholder Values Assumes All Pre-Case Shipments are the Least Energy Efficient Products"]
[]
[]
[]
[null,null,"PC2",{"$f":"OFFSET('Product Classes'!$C$9,MATCH(C39,MODEL_PCS,0),0)","v":"Gas Ovens—Self-Clean Ovens"}]
[]
[null,null,null,"PRE-Case",null,"Static Distribution"]
[null,null,null,"Efficiency Level","UEC (kWh / year)",2011,null,null,1981,1982,1983,1984,1985,1986,1987,1988,1989,1990,1991,1992,1993,1994,1995,1996,1997,1998,1999,2000,2001,2002,2003,2004,2005,2006,2007,2008,2009,2010,2011,2012,2013,2014,2015,2016,2017,2018,2019,2020,2021,2022,2023,2024,2025,2026,2027,2028,2029,2030,2031,2032,2033,2034]
[null,null,null,"EL0",{"$f":"OFFSET('Efficiency Levels'!$D$11,MATCH($C$39,'Efficiency Levels'!$C$9:$C$1002,0)+RIGHT(D43,1),0)","v":360},1,null,null,{"$f":"$F43","v":1},1,1,1,1,1,1,1,{"$f":"$F43","v":1},{"$f":"$F43","v":1},1,1,1,1,1,1,1,1,1,1,1,1,1,1,1,1,1,1,1,1,1,1,1,1,1,1,1,1,1,1,1,1,1,1,1,1,1,1,1,1,1,1,1,1]
[null,null,null,"EL1",{"$f":"OFFSET('Efficiency Levels'!$D$11,MATCH($C$39,'Efficiency Levels'!$C$9:$C$1002,0)+RIGHT(D44,1),0)","v":317.7},0,null,null,0,0,0,0,0,0,0,0,{"$f":"$F44","v":0},0,0,0,0,0,0,0,0,0,0,0,0,0,0,0,0,0,0,0,0,0,0,0,0,0,0,0,0,0,0,0,0,0,0,0,0,0,0,0,0,0,0,0,0,0]
[null,null,null,"EL2",{"$f":"OFFSET('Efficiency Levels'!$D$11,MATCH($C$39,'Efficiency Levels'!$C$9:$C$1002,0)+RIGHT(D45,1),0)","v":317},0,null,null,0,0,0,0,0,0,0,0,{"$f":"$F45","v":0},0,0,0,0,0,0,0,0,0,0,0,0,0,0,0,0,0,0,0,0,0,0,0,0,0,0,0,0,0,0,0,0,0,0,0,0,0,0,0,0,0,0,0,0,0]
[null,null,null,"EL3",{"$f":"OFFSET('Efficiency Levels'!$D$11,MATCH($C$39,'Efficiency Levels'!$C$9:$C$1002,0)+RIGHT(D46,1),0)","v":312},0,null,null,0,0,0,0,0,0,0,0,{"$f":"$F46","v":0},0,0,0,0,0,0,0,0,0,0,0,0,0,0,0,0,0,0,0,0,0,0,0,0,0,0,0,0,0,0,0,0,0,0,0,0,0,0,0,0,0,0,0,0,0]
[null,null,null,"EL4",{"$f":"OFFSET('Efficiency Levels'!$D$11,MATCH($C$39,'Efficiency Levels'!$C$9:$C$1002,0)+RIGHT(D47,1),0)","v":271.89999999999998},0,null,null,0,0,0,0,0,0,0,0,{"$f":"$F47","v":0},0,0,0,0,0,0,0,0,0,0,0,0,0,0,0,0,0,0,0,0,0,0,0,0,0,0,0,0,0,0,0,0,0,0,0,0,0,0,0,0,0,0,0,0,0]
[null,null,null,"TOTAL",null,{"$f":"SUM(F43:F47)","v":1},null,null,{"$f":"SUM(I43:I47)","v":1},1,1,1,1,1,1,1,{"$f":"SUM(Q43:Q47)","v":1},1,1,1,1,1,1,1,1,1,1,1,1,1,1,1,1,1,1,1,1,1,1,1,1,1,1,1,1,1,1,1,1,1,1,1,1,1,1,1,1,1,1,1,1,{"$f":"SUM(BJ43:BJ47)","v":1}]
[]
[null,null,null,"POST-Case"]
[null,null,null,"Efficiency Level","UEC (kWh / year)",null,null,null,1981,1982,1983,1984,1985,1986,1987,1988,1989,1990,1991,1992,1993,1994,1995,1996,1997,1998,1999,2000,2001,2002,2003,2004,2005,2006,2007,2008,2009,2010,2011,2012,2013,2014,2015,2016,2017,2018,2019,2020,2021,2022,2023,2024,2025,2026,2027,2028,2029,2030,2031,2032,2033,2034]
[null,null,null,"EL0",{"$f":"OFFSET('Efficiency Levels'!$D$11,MATCH($C$39,'Efficiency Levels'!$C$9:$C$1002,0)+RIGHT(D52,1),0)","v":360},null,null,null,{"$f":"IF(I$24<STANDARD_YEAR,I43,\nIF(RIGHT($D52,1)>RIGHT('Efficiency Levels'!$C$39,1),I43,\nIF(RIGHT($D52,1)<RIGHT('Efficiency Levels'!$C$39,1),0,\nIF(RIGHT($D52,1)=RIGHT('Efficiency Levels'!$C$39,1),SUM(OFFSET(I43,-RIGHT($D52,1),0,RIGHT($D52,1),1)),\"ERROR\"))))","v":1},{"$f":"IF(J$24<STANDARD_YEAR,J43,\nIF(RIGHT($D52,1)>RIGHT('Efficiency Levels'!$C$39,1),J43,\nIF(RIGHT($D52,1)<RIGHT('Efficiency Levels'!$C$39,1),0,\nIF(RIGHT($D52,1)=RIGHT('Efficiency Levels'!$C$39,1),SUM(OFFSET(J43,-RIGHT($D52,1),0,RIGHT($D52,1),1)),\"ERROR\"))))","v":1},{"$f":"IF(K$24<STANDARD_YEAR,K43,\nIF(RIGHT($D52,1)>RIGHT('Efficiency Levels'!$C$39,1),K43,\nIF(RIGHT($D52,1)<RIGHT('Efficiency Levels'!$C$39,1),0,\nIF(RIGHT($D52,1)=RIGHT('Efficiency Levels'!$C$39,1),SUM(OFFSET(K43,-RIGHT($D52,1),0,RIGHT($D52,1),1)),\"ERROR\"))))","v":1},{"$f":"IF(L$24<STANDARD_YEAR,L43,\nIF(RIGHT($D52,1)>RIGHT('Efficiency Levels'!$C$39,1),L43,\nIF(RIGHT($D52,1)<RIGHT('Efficiency Levels'!$C$39,1),0,\nIF(RIGHT($D52,1)=RIGHT('Efficiency Levels'!$C$39,1),SUM(OFFSET(L43,-RIGHT($D52,1),0,RIGHT($D52,1),1)),\"ERROR\"))))","v":1},{"$f":"IF(M$24<STANDARD_YEAR,M43,\nIF(RIGHT($D52,1)>RIGHT('Efficiency Levels'!$C$39,1),M43,\nIF(RIGHT($D52,1)<RIGHT('Efficiency Levels'!$C$39,1),0,\nIF(RIGHT($D52,1)=RIGHT('Efficiency Levels'!$C$39,1),SUM(OFFSET(M43,-RIGHT($D52,1),0,RIGHT($D52,1),1)),\"ERROR\"))))","v":1},{"$f":"IF(N$24<STANDARD_YEAR,N43,\nIF(RIGHT($D52,1)>RIGHT('Efficiency Levels'!$C$39,1),N43,\nIF(RIGHT($D52,1)<RIGHT('Efficiency Levels'!$C$39,1),0,\nIF(RIGHT($D52,1)=RIGHT('Efficiency Levels'!$C$39,1),SUM(OFFSET(N43,-RIGHT($D52,1),0,RIGHT($D52,1),1)),\"ERROR\"))))","v":1},{"$f":"IF(O$24<STANDARD_YEAR,O43,\nIF(RIGHT($D52,1)>RIGHT('Efficiency Levels'!$C$39,1),O43,\nIF(RIGHT($D52,1)<RIGHT('Efficiency Levels'!$C$39,1),0,\nIF(RIGHT($D52,1)=RIGHT('Efficiency Levels'!$C$39,1),SUM(OFFSET(O43,-RIGHT($D52,1),0,RIGHT($D52,1),1)),\"ERROR\"))))","v":1},{"$f":"IF(P$24<STANDARD_YEAR,P43,\nIF(RIGHT($D52,1)>RIGHT('Efficiency Levels'!$C$39,1),P43,\nIF(RIGHT($D52,1)<RIGHT('Efficiency Levels'!$C$39,1),0,\nIF(RIGHT($D52,1)=RIGHT('Efficiency Levels'!$C$39,1),SUM(OFFSET(P43,-RIGHT($D52,1),0,RIGHT($D52,1),1)),\"ERROR\"))))","v":1},{"$f":"IF(Q$24<STANDARD_YEAR,Q43,\nIF(RIGHT($D52,1)>RIGHT('Efficiency Levels'!$C$39,1),Q43,\nIF(RIGHT($D52,1)<RIGHT('Efficiency Levels'!$C$39,1),0,\nIF(RIGHT($D52,1)=RIGHT('Efficiency Levels'!$C$39,1),SUM(OFFSET(Q43,-RIGHT($D52,1),0,RIGHT($D52,1),1)),\"ERROR\"))))","v":1},{"$f":"IF(R$24<STANDARD_YEAR,R43,\nIF(RIGHT($D52,1)>RIGHT('Efficiency Levels'!$C$39,1),R43,\nIF(RIGHT($D52,1)<RIGHT('Efficiency Levels'!$C$39,1),0,\nIF(RIGHT($D52,1)=RIGHT('Efficiency Levels'!$C$39,1),SUM(OFFSET(R43,-RIGHT($D52,1),0,RIGHT($D52,1),1)),\"ERROR\"))))","v":1},{"$f":"IF(S$24<STANDARD_YEAR,S43,\nIF(RIGHT($D52,1)>RIGHT('Efficiency Levels'!$C$39,1),S43,\nIF(RIGHT($D52,1)<RIGHT('Efficiency Levels'!$C$39,1),0,\nIF(RIGHT($D52,1)=RIGHT('Efficiency Levels'!$C$39,1),SUM(OFFSET(S43,-RIGHT($D52,1),0,RIGHT($D52,1),1)),\"ERROR\"))))","v":1},{"$f":"IF(T$24<STANDARD_YEAR,T43,\nIF(RIGHT($D52,1)>RIGHT('Efficiency Levels'!$C$39,1),T43,\nIF(RIGHT($D52,1)<RIGHT('Efficiency Levels'!$C$39,1),0,\nIF(RIGHT($D52,1)=RIGHT('Efficiency Levels'!$C$39,1),SUM(OFFSET(T43,-RIGHT($D52,1),0,RIGHT($D52,1),1)),\"ERROR\"))))","v":1},{"$f":"IF(U$24<STANDARD_YEAR,U43,\nIF(RIGHT($D52,1)>RIGHT('Efficiency Levels'!$C$39,1),U43,\nIF(RIGHT($D52,1)<RIGHT('Efficiency Levels'!$C$39,1),0,\nIF(RIGHT($D52,1)=RIGHT('Efficiency Levels'!$C$39,1),SUM(OFFSET(U43,-RIGHT($D52,1),0,RIGHT($D52,1),1)),\"ERROR\"))))","v":1},{"$f":"IF(V$24<STANDARD_YEAR,V43,\nIF(RIGHT($D52,1)>RIGHT('Efficiency Levels'!$C$39,1),V43,\nIF(RIGHT($D52,1)<RIGHT('Efficiency Levels'!$C$39,1),0,\nIF(RIGHT($D52,1)=RIGHT('Efficiency Levels'!$C$39,1),SUM(OFFSET(V43,-RIGHT($D52,1),0,RIGHT($D52,1),1)),\"ERROR\"))))","v":1},{"$f":"IF(W$24<STANDARD_YEAR,W43,\nIF(RIGHT($D52,1)>RIGHT('Efficiency Levels'!$C$39,1),W43,\nIF(RIGHT($D52,1)<RIGHT('Efficiency Levels'!$C$39,1),0,\nIF(RIGHT($D52,1)=RIGHT('Efficiency Levels'!$C$39,1),SUM(OFFSET(W43,-RIGHT($D52,1),0,RIGHT($D52,1),1)),\"ERROR\"))))","v":1},{"$f":"IF(X$24<STANDARD_YEAR,X43,\nIF(RIGHT($D52,1)>RIGHT('Efficiency Levels'!$C$39,1),X43,\nIF(RIGHT($D52,1)<RIGHT('Efficiency Levels'!$C$39,1),0,\nIF(RIGHT($D52,1)=RIGHT('Efficiency Levels'!$C$39,1),SUM(OFFSET(X43,-RIGHT($D52,1),0,RIGHT($D52,1),1)),\"ERROR\"))))","v":1},{"$f":"IF(Y$24<STANDARD_YEAR,Y43,\nIF(RIGHT($D52,1)>RIGHT('Efficiency Levels'!$C$39,1),Y43,\nIF(RIGHT($D52,1)<RIGHT('Efficiency Levels'!$C$39,1),0,\nIF(RIGHT($D52,1)=RIGHT('Efficiency Levels'!$C$39,1),SUM(OFFSET(Y43,-RIGHT($D52,1),0,RIGHT($D52,1),1)),\"ERROR\"))))","v":1},{"$f":"IF(Z$24<STANDARD_YEAR,Z43,\nIF(RIGHT($D52,1)>RIGHT('Efficiency Levels'!$C$39,1),Z43,\nIF(RIGHT($D52,1)<RIGHT('Efficiency Levels'!$C$39,1),0,\nIF(RIGHT($D52,1)=RIGHT('Efficiency Levels'!$C$39,1),SUM(OFFSET(Z43,-RIGHT($D52,1),0,RIGHT($D52,1),1)),\"ERROR\"))))","v":1},{"$f":"IF(AA$24<STANDARD_YEAR,AA43,\nIF(RIGHT($D52,1)>RIGHT('Efficiency Levels'!$C$39,1),AA43,\nIF(RIGHT($D52,1)<RIGHT('Efficiency Levels'!$C$39,1),0,\nIF(RIGHT($D52,1)=RIGHT('Efficiency Levels'!$C$39,1),SUM(OFFSET(AA43,-RIGHT($D52,1),0,RIGHT($D52,1),1)),\"ERROR\"))))","v":1},{"$f":"IF(AB$24<STANDARD_YEAR,AB43,\nIF(RIGHT($D52,1)>RIGHT('Efficiency Levels'!$C$39,1),AB43,\nIF(RIGHT($D52,1)<RIGHT('Efficiency Levels'!$C$39,1),0,\nIF(RIGHT($D52,1)=RIGHT('Efficiency Levels'!$C$39,1),SUM(OFFSET(AB43,-RIGHT($D52,1),0,RIGHT($D52,1),1)),\"ERROR\"))))","v":1},{"$f":"IF(AC$24<STANDARD_YEAR,AC43,\nIF(RIGHT($D52,1)>RIGHT('Efficiency Levels'!$C$39,1),AC43,\nIF(RIGHT($D52,1)<RIGHT('Efficiency Levels'!$C$39,1),0,\nIF(RIGHT($D52,1)=RIGHT('Efficiency Levels'!$C$39,1),SUM(OFFSET(AC43,-RIGHT($D52,1),0,RIGHT($D52,1),1)),\"ERROR\"))))","v":1},{"$f":"IF(AD$24<STANDARD_YEAR,AD43,\nIF(RIGHT($D52,1)>RIGHT('Efficiency Levels'!$C$39,1),AD43,\nIF(RIGHT($D52,1)<RIGHT('Efficiency Levels'!$C$39,1),0,\nIF(RIGHT($D52,1)=RIGHT('Efficiency Levels'!$C$39,1),SUM(OFFSET(AD43,-RIGHT($D52,1),0,RIGHT($D52,1),1)),\"ERROR\"))))","v":1},{"$f":"IF(AE$24<STANDARD_YEAR,AE43,\nIF(RIGHT($D52,1)>RIGHT('Efficiency Levels'!$C$39,1),AE43,\nIF(RIGHT($D52,1)<RIGHT('Efficiency Levels'!$C$39,1),0,\nIF(RIGHT($D52,1)=RIGHT('Efficiency Levels'!$C$39,1),SUM(OFFSET(AE43,-RIGHT($D52,1),0,RIGHT($D52,1),1)),\"ERROR\"))))","v":1},{"$f":"IF(AF$24<STANDARD_YEAR,AF43,\nIF(RIGHT($D52,1)>RIGHT('Efficiency Levels'!$C$39,1),AF43,\nIF(RIGHT($D52,1)<RIGHT('Efficiency Levels'!$C$39,1),0,\nIF(RIGHT($D52,1)=RIGHT('Efficiency Levels'!$C$39,1),SUM(OFFSET(AF43,-RIGHT($D52,1),0,RIGHT($D52,1),1)),\"ERROR\"))))","v":1},{"$f":"IF(AG$24<STANDARD_YEAR,AG43,\nIF(RIGHT($D52,1)>RIGHT('Efficiency Levels'!$C$39,1),AG43,\nIF(RIGHT($D52,1)<RIGHT('Efficiency Levels'!$C$39,1),0,\nIF(RIGHT($D52,1)=RIGHT('Efficiency Levels'!$C$39,1),SUM(OFFSET(AG43,-RIGHT($D52,1),0,RIGHT($D52,1),1)),\"ERROR\"))))","v":1},{"$f":"IF(AH$24<STANDARD_YEAR,AH43,\nIF(RIGHT($D52,1)>RIGHT('Efficiency Levels'!$C$39,1),AH43,\nIF(RIGHT($D52,1)<RIGHT('Efficiency Levels'!$C$39,1),0,\nIF(RIGHT($D52,1)=RIGHT('Efficiency Levels'!$C$39,1),SUM(OFFSET(AH43,-RIGHT($D52,1),0,RIGHT($D52,1),1)),\"ERROR\"))))","v":1},{"$f":"IF(AI$24<STANDARD_YEAR,AI43,\nIF(RIGHT($D52,1)>RIGHT('Efficiency Levels'!$C$39,1),AI43,\nIF(RIGHT($D52,1)<RIGHT('Efficiency Levels'!$C$39,1),0,\nIF(RIGHT($D52,1)=RIGHT('Efficiency Levels'!$C$39,1),SUM(OFFSET(AI43,-RIGHT($D52,1),0,RIGHT($D52,1),1)),\"ERROR\"))))","v":1},{"$f":"IF(AJ$24<STANDARD_YEAR,AJ43,\nIF(RIGHT($D52,1)>RIGHT('Efficiency Levels'!$C$39,1),AJ43,\nIF(RIGHT($D52,1)<RIGHT('Efficiency Levels'!$C$39,1),0,\nIF(RIGHT($D52,1)=RIGHT('Efficiency Levels'!$C$39,1),SUM(OFFSET(AJ43,-RIGHT($D52,1),0,RIGHT($D52,1),1)),\"ERROR\"))))","v":1},{"$f":"IF(AK$24<STANDARD_YEAR,AK43,\nIF(RIGHT($D52,1)>RIGHT('Efficiency Levels'!$C$39,1),AK43,\nIF(RIGHT($D52,1)<RIGHT('Efficiency Levels'!$C$39,1),0,\nIF(RIGHT($D52,1)=RIGHT('Efficiency Levels'!$C$39,1),SUM(OFFSET(AK43,-RIGHT($D52,1),0,RIGHT($D52,1),1)),\"ERROR\"))))","v":1},{"$f":"IF(AL$24<STANDARD_YEAR,AL43,\nIF(RIGHT($D52,1)>RIGHT('Efficiency Levels'!$C$39,1),AL43,\nIF(RIGHT($D52,1)<RIGHT('Efficiency Levels'!$C$39,1),0,\nIF(RIGHT($D52,1)=RIGHT('Efficiency Levels'!$C$39,1),SUM(OFFSET(AL43,-RIGHT($D52,1),0,RIGHT($D52,1),1)),\"ERROR\"))))","v":1},{"$f":"IF(AM$24<STANDARD_YEAR,AM43,\nIF(RIGHT($D52,1)>RIGHT('Efficiency Levels'!$C$39,1),AM43,\nIF(RIGHT($D52,1)<RIGHT('Efficiency Levels'!$C$39,1),0,\nIF(RIGHT($D52,1)=RIGHT('Efficiency Levels'!$C$39,1),SUM(OFFSET(AM43,-RIGHT($D52,1),0,RIGHT($D52,1),1)),\"ERROR\"))))","v":1},{"$f":"IF(AN$24<STANDARD_YEAR,AN43,\nIF(RIGHT($D52,1)>RIGHT('Efficiency Levels'!$C$39,1),AN43,\nIF(RIGHT($D52,1)<RIGHT('Efficiency Levels'!$C$39,1),0,\nIF(RIGHT($D52,1)=RIGHT('Efficiency Levels'!$C$39,1),SUM(OFFSET(AN43,-RIGHT($D52,1),0,RIGHT($D52,1),1)),\"ERROR\"))))","v":1},{"$f":"IF(AO$24<STANDARD_YEAR,AO43,\nIF(RIGHT($D52,1)>RIGHT('Efficiency Levels'!$C$39,1),AO43,\nIF(RIGHT($D52,1)<RIGHT('Efficiency Levels'!$C$39,1),0,\nIF(RIGHT($D52,1)=RIGHT('Efficiency Levels'!$C$39,1),SUM(OFFSET(AO43,-RIGHT($D52,1),0,RIGHT($D52,1),1)),\"ERROR\"))))","v":1},{"$f":"IF(AP$24<STANDARD_YEAR,AP43,\nIF(RIGHT($D52,1)>RIGHT('Efficiency Levels'!$C$39,1),AP43,\nIF(RIGHT($D52,1)<RIGHT('Efficiency Levels'!$C$39,1),0,\nIF(RIGHT($D52,1)=RIGHT('Efficiency Levels'!$C$39,1),SUM(OFFSET(AP43,-RIGHT($D52,1),0,RIGHT($D52,1),1)),\"ERROR\"))))","v":1},{"$f":"IF(AQ$24<STANDARD_YEAR,AQ43,\nIF(RIGHT($D52,1)>RIGHT('Efficiency Levels'!$C$39,1),AQ43,\nIF(RIGHT($D52,1)<RIGHT('Efficiency Levels'!$C$39,1),0,\nIF(RIGHT($D52,1)=RIGHT('Efficiency Levels'!$C$39,1),SUM(OFFSET(AQ43,-RIGHT($D52,1),0,RIGHT($D52,1),1)),\"ERROR\"))))","v":1},{"$f":"IF(AR$24<STANDARD_YEAR,AR43,\nIF(RIGHT($D52,1)>RIGHT('Efficiency Levels'!$C$39,1),AR43,\nIF(RIGHT($D52,1)<RIGHT('Efficiency Levels'!$C$39,1),0,\nIF(RIGHT($D52,1)=RIGHT('Efficiency Levels'!$C$39,1),SUM(OFFSET(AR43,-RIGHT($D52,1),0,RIGHT($D52,1),1)),\"ERROR\"))))","v":1},{"$f":"IF(AS$24<STANDARD_YEAR,AS43,\nIF(RIGHT($D52,1)>RIGHT('Efficiency Levels'!$C$39,1),AS43,\nIF(RIGHT($D52,1)<RIGHT('Efficiency Levels'!$C$39,1),0,\nIF(RIGHT($D52,1)=RIGHT('Efficiency Levels'!$C$39,1),SUM(OFFSET(AS43,-RIGHT($D52,1),0,RIGHT($D52,1),1)),\"ERROR\"))))","v":1},{"$f":"IF(AT$24<STANDARD_YEAR,AT43,\nIF(RIGHT($D52,1)>RIGHT('Efficiency Levels'!$C$39,1),AT43,\nIF(RIGHT($D52,1)<RIGHT('Efficiency Levels'!$C$39,1),0,\nIF(RIGHT($D52,1)=RIGHT('Efficiency Levels'!$C$39,1),SUM(OFFSET(AT43,-RIGHT($D52,1),0,RIGHT($D52,1),1)),\"ERROR\"))))","v":1},{"$f":"IF(AU$24<STANDARD_YEAR,AU43,\nIF(RIGHT($D52,1)>RIGHT('Efficiency Levels'!$C$39,1),AU43,\nIF(RIGHT($D52,1)<RIGHT('Efficiency Levels'!$C$39,1),0,\nIF(RIGHT($D52,1)=RIGHT('Efficiency Levels'!$C$39,1),SUM(OFFSET(AU43,-RIGHT($D52,1),0,RIGHT($D52,1),1)),\"ERROR\"))))","v":0},{"$f":"IF(AV$24<STANDARD_YEAR,AV43,\nIF(RIGHT($D52,1)>RIGHT('Efficiency Levels'!$C$39,1),AV43,\nIF(RIGHT($D52,1)<RIGHT('Efficiency Levels'!$C$39,1),0,\nIF(RIGHT($D52,1)=RIGHT('Efficiency Levels'!$C$39,1),SUM(OFFSET(AV43,-RIGHT($D52,1),0,RIGHT($D52,1),1)),\"ERROR\"))))","v":0},{"$f":"IF(AW$24<STANDARD_YEAR,AW43,\nIF(RIGHT($D52,1)>RIGHT('Efficiency Levels'!$C$39,1),AW43,\nIF(RIGHT($D52,1)<RIGHT('Efficiency Levels'!$C$39,1),0,\nIF(RIGHT($D52,1)=RIGHT('Efficiency Levels'!$C$39,1),SUM(OFFSET(AW43,-RIGHT($D52,1),0,RIGHT($D52,1),1)),\"ERROR\"))))","v":0},{"$f":"IF(AX$24<STANDARD_YEAR,AX43,\nIF(RIGHT($D52,1)>RIGHT('Efficiency Levels'!$C$39,1),AX43,\nIF(RIGHT($D52,1)<RIGHT('Efficiency Levels'!$C$39,1),0,\nIF(RIGHT($D52,1)=RIGHT('Efficiency Levels'!$C$39,1),SUM(OFFSET(AX43,-RIGHT($D52,1),0,RIGHT($D52,1),1)),\"ERROR\"))))","v":0},{"$f":"IF(AY$24<STANDARD_YEAR,AY43,\nIF(RIGHT($D52,1)>RIGHT('Efficiency Levels'!$C$39,1),AY43,\nIF(RIGHT($D52,1)<RIGHT('Efficiency Levels'!$C$39,1),0,\nIF(RIGHT($D52,1)=RIGHT('Efficiency Levels'!$C$39,1),SUM(OFFSET(AY43,-RIGHT($D52,1),0,RIGHT($D52,1),1)),\"ERROR\"))))","v":0},{"$f":"IF(AZ$24<STANDARD_YEAR,AZ43,\nIF(RIGHT($D52,1)>RIGHT('Efficiency Levels'!$C$39,1),AZ43,\nIF(RIGHT($D52,1)<RIGHT('Efficiency Levels'!$C$39,1),0,\nIF(RIGHT($D52,1)=RIGHT('Efficiency Levels'!$C$39,1),SUM(OFFSET(AZ43,-RIGHT($D52,1),0,RIGHT($D52,1),1)),\"ERROR\"))))","v":0},{"$f":"IF(BA$24<STANDARD_YEAR,BA43,\nIF(RIGHT($D52,1)>RIGHT('Efficiency Levels'!$C$39,1),BA43,\nIF(RIGHT($D52,1)<RIGHT('Efficiency Levels'!$C$39,1),0,\nIF(RIGHT($D52,1)=RIGHT('Efficiency Levels'!$C$39,1),SUM(OFFSET(BA43,-RIGHT($D52,1),0,RIGHT($D52,1),1)),\"ERROR\"))))","v":0},{"$f":"IF(BB$24<STANDARD_YEAR,BB43,\nIF(RIGHT($D52,1)>RIGHT('Efficiency Levels'!$C$39,1),BB43,\nIF(RIGHT($D52,1)<RIGHT('Efficiency Levels'!$C$39,1),0,\nIF(RIGHT($D52,1)=RIGHT('Efficiency Levels'!$C$39,1),SUM(OFFSET(BB43,-RIGHT($D52,1),0,RIGHT($D52,1),1)),\"ERROR\"))))","v":0},{"$f":"IF(BC$24<STANDARD_YEAR,BC43,\nIF(RIGHT($D52,1)>RIGHT('Efficiency Levels'!$C$39,1),BC43,\nIF(RIGHT($D52,1)<RIGHT('Efficiency Levels'!$C$39,1),0,\nIF(RIGHT($D52,1)=RIGHT('Efficiency Levels'!$C$39,1),SUM(OFFSET(BC43,-RIGHT($D52,1),0,RIGHT($D52,1),1)),\"ERROR\"))))","v":0},{"$f":"IF(BD$24<STANDARD_YEAR,BD43,\nIF(RIGHT($D52,1)>RIGHT('Efficiency Levels'!$C$39,1),BD43,\nIF(RIGHT($D52,1)<RIGHT('Efficiency Levels'!$C$39,1),0,\nIF(RIGHT($D52,1)=RIGHT('Efficiency Levels'!$C$39,1),SUM(OFFSET(BD43,-RIGHT($D52,1),0,RIGHT($D52,1),1)),\"ERROR\"))))","v":0},{"$f":"IF(BE$24<STANDARD_YEAR,BE43,\nIF(RIGHT($D52,1)>RIGHT('Efficiency Levels'!$C$39,1),BE43,\nIF(RIGHT($D52,1)<RIGHT('Efficiency Levels'!$C$39,1),0,\nIF(RIGHT($D52,1)=RIGHT('Efficiency Levels'!$C$39,1),SUM(OFFSET(BE43,-RIGHT($D52,1),0,RIGHT($D52,1),1)),\"ERROR\"))))","v":0},{"$f":"IF(BF$24<STANDARD_YEAR,BF43,\nIF(RIGHT($D52,1)>RIGHT('Efficiency Levels'!$C$39,1),BF43,\nIF(RIGHT($D52,1)<RIGHT('Efficiency Levels'!$C$39,1),0,\nIF(RIGHT($D52,1)=RIGHT('Efficiency Levels'!$C$39,1),SUM(OFFSET(BF43,-RIGHT($D52,1),0,RIGHT($D52,1),1)),\"ERROR\"))))","v":0},{"$f":"IF(BG$24<STANDARD_YEAR,BG43,\nIF(RIGHT($D52,1)>RIGHT('Efficiency Levels'!$C$39,1),BG43,\nIF(RIGHT($D52,1)<RIGHT('Efficiency Levels'!$C$39,1),0,\nIF(RIGHT($D52,1)=RIGHT('Efficiency Levels'!$C$39,1),SUM(OFFSET(BG43,-RIGHT($D52,1),0,RIGHT($D52,1),1)),\"ERROR\"))))","v":0},{"$f":"IF(BH$24<STANDARD_YEAR,BH43,\nIF(RIGHT($D52,1)>RIGHT('Efficiency Levels'!$C$39,1),BH43,\nIF(RIGHT($D52,1)<RIGHT('Efficiency Levels'!$C$39,1),0,\nIF(RIGHT($D52,1)=RIGHT('Efficiency Levels'!$C$39,1),SUM(OFFSET(BH43,-RIGHT($D52,1),0,RIGHT($D52,1),1)),\"ERROR\"))))","v":0},{"$f":"IF(BI$24<STANDARD_YEAR,BI43,\nIF(RIGHT($D52,1)>RIGHT('Efficiency Levels'!$C$39,1),BI43,\nIF(RIGHT($D52,1)<RIGHT('Efficiency Levels'!$C$39,1),0,\nIF(RIGHT($D52,1)=RIGHT('Efficiency Levels'!$C$39,1),SUM(OFFSET(BI43,-RIGHT($D52,1),0,RIGHT($D52,1),1)),\"ERROR\"))))","v":0},{"$f":"IF(BJ$24<STANDARD_YEAR,BJ43,\nIF(RIGHT($D52,1)>RIGHT('Efficiency Levels'!$C$39,1),BJ43,\nIF(RIGHT($D52,1)<RIGHT('Efficiency Levels'!$C$39,1),0,\nIF(RIGHT($D52,1)=RIGHT('Efficiency Levels'!$C$39,1),SUM(OFFSET(BJ43,-RIGHT($D52,1),0,RIGHT($D52,1),1)),\"ERROR\"))))","v":0}]
[null,null,null,"EL1",{"$f":"OFFSET('Efficiency Levels'!$D$11,MATCH($C$39,'Efficiency Levels'!$C$9:$C$1002,0)+RIGHT(D53,1),0)","v":317.7},null,null,null,{"$f":"IF(I$24<STANDARD_YEAR,I44,\nIF(RIGHT($D53,1)>RIGHT('Efficiency Levels'!$C$39,1),I44,\nIF(RIGHT($D53,1)<RIGHT('Efficiency Levels'!$C$39,1),0,\nIF(RIGHT($D53,1)=RIGHT('Efficiency Levels'!$C$39,1),SUM(OFFSET(I44,-RIGHT($D53,1),0,RIGHT($D53,1),1)),\"ERROR\"))))","v":0},{"$f":"IF(J$24<STANDARD_YEAR,J44,\nIF(RIGHT($D53,1)>RIGHT('Efficiency Levels'!$C$39,1),J44,\nIF(RIGHT($D53,1)<RIGHT('Efficiency Levels'!$C$39,1),0,\nIF(RIGHT($D53,1)=RIGHT('Efficiency Levels'!$C$39,1),SUM(OFFSET(J44,-RIGHT($D53,1),0,RIGHT($D53,1),1)),\"ERROR\"))))","v":0},{"$f":"IF(K$24<STANDARD_YEAR,K44,\nIF(RIGHT($D53,1)>RIGHT('Efficiency Levels'!$C$39,1),K44,\nIF(RIGHT($D53,1)<RIGHT('Efficiency Levels'!$C$39,1),0,\nIF(RIGHT($D53,1)=RIGHT('Efficiency Levels'!$C$39,1),SUM(OFFSET(K44,-RIGHT($D53,1),0,RIGHT($D53,1),1)),\"ERROR\"))))","v":0},{"$f":"IF(L$24<STANDARD_YEAR,L44,\nIF(RIGHT($D53,1)>RIGHT('Efficiency Levels'!$C$39,1),L44,\nIF(RIGHT($D53,1)<RIGHT('Efficiency Levels'!$C$39,1),0,\nIF(RIGHT($D53,1)=RIGHT('Efficiency Levels'!$C$39,1),SUM(OFFSET(L44,-RIGHT($D53,1),0,RIGHT($D53,1),1)),\"ERROR\"))))","v":0},{"$f":"IF(M$24<STANDARD_YEAR,M44,\nIF(RIGHT($D53,1)>RIGHT('Efficiency Levels'!$C$39,1),M44,\nIF(RIGHT($D53,1)<RIGHT('Efficiency Levels'!$C$39,1),0,\nIF(RIGHT($D53,1)=RIGHT('Efficiency Levels'!$C$39,1),SUM(OFFSET(M44,-RIGHT($D53,1),0,RIGHT($D53,1),1)),\"ERROR\"))))","v":0},{"$f":"IF(N$24<STANDARD_YEAR,N44,\nIF(RIGHT($D53,1)>RIGHT('Efficiency Levels'!$C$39,1),N44,\nIF(RIGHT($D53,1)<RIGHT('Efficiency Levels'!$C$39,1),0,\nIF(RIGHT($D53,1)=RIGHT('Efficiency Levels'!$C$39,1),SUM(OFFSET(N44,-RIGHT($D53,1),0,RIGHT($D53,1),1)),\"ERROR\"))))","v":0},{"$f":"IF(O$24<STANDARD_YEAR,O44,\nIF(RIGHT($D53,1)>RIGHT('Efficiency Levels'!$C$39,1),O44,\nIF(RIGHT($D53,1)<RIGHT('Efficiency Levels'!$C$39,1),0,\nIF(RIGHT($D53,1)=RIGHT('Efficiency Levels'!$C$39,1),SUM(OFFSET(O44,-RIGHT($D53,1),0,RIGHT($D53,1),1)),\"ERROR\"))))","v":0},{"$f":"IF(P$24<STANDARD_YEAR,P44,\nIF(RIGHT($D53,1)>RIGHT('Efficiency Levels'!$C$39,1),P44,\nIF(RIGHT($D53,1)<RIGHT('Efficiency Levels'!$C$39,1),0,\nIF(RIGHT($D53,1)=RIGHT('Efficiency Levels'!$C$39,1),SUM(OFFSET(P44,-RIGHT($D53,1),0,RIGHT($D53,1),1)),\"ERROR\"))))","v":0},{"$f":"IF(Q$24<STANDARD_YEAR,Q44,\nIF(RIGHT($D53,1)>RIGHT('Efficiency Levels'!$C$39,1),Q44,\nIF(RIGHT($D53,1)<RIGHT('Efficiency Levels'!$C$39,1),0,\nIF(RIGHT($D53,1)=RIGHT('Efficiency Levels'!$C$39,1),SUM(OFFSET(Q44,-RIGHT($D53,1),0,RIGHT($D53,1),1)),\"ERROR\"))))","v":0},{"$f":"IF(R$24<STANDARD_YEAR,R44,\nIF(RIGHT($D53,1)>RIGHT('Efficiency Levels'!$C$39,1),R44,\nIF(RIGHT($D53,1)<RIGHT('Efficiency Levels'!$C$39,1),0,\nIF(RIGHT($D53,1)=RIGHT('Efficiency Levels'!$C$39,1),SUM(OFFSET(R44,-RIGHT($D53,1),0,RIGHT($D53,1),1)),\"ERROR\"))))","v":0},{"$f":"IF(S$24<STANDARD_YEAR,S44,\nIF(RIGHT($D53,1)>RIGHT('Efficiency Levels'!$C$39,1),S44,\nIF(RIGHT($D53,1)<RIGHT('Efficiency Levels'!$C$39,1),0,\nIF(RIGHT($D53,1)=RIGHT('Efficiency Levels'!$C$39,1),SUM(OFFSET(S44,-RIGHT($D53,1),0,RIGHT($D53,1),1)),\"ERROR\"))))","v":0},{"$f":"IF(T$24<STANDARD_YEAR,T44,\nIF(RIGHT($D53,1)>RIGHT('Efficiency Levels'!$C$39,1),T44,\nIF(RIGHT($D53,1)<RIGHT('Efficiency Levels'!$C$39,1),0,\nIF(RIGHT($D53,1)=RIGHT('Efficiency Levels'!$C$39,1),SUM(OFFSET(T44,-RIGHT($D53,1),0,RIGHT($D53,1),1)),\"ERROR\"))))","v":0},{"$f":"IF(U$24<STANDARD_YEAR,U44,\nIF(RIGHT($D53,1)>RIGHT('Efficiency Levels'!$C$39,1),U44,\nIF(RIGHT($D53,1)<RIGHT('Efficiency Levels'!$C$39,1),0,\nIF(RIGHT($D53,1)=RIGHT('Efficiency Levels'!$C$39,1),SUM(OFFSET(U44,-RIGHT($D53,1),0,RIGHT($D53,1),1)),\"ERROR\"))))","v":0},{"$f":"IF(V$24<STANDARD_YEAR,V44,\nIF(RIGHT($D53,1)>RIGHT('Efficiency Levels'!$C$39,1),V44,\nIF(RIGHT($D53,1)<RIGHT('Efficiency Levels'!$C$39,1),0,\nIF(RIGHT($D53,1)=RIGHT('Efficiency Levels'!$C$39,1),SUM(OFFSET(V44,-RIGHT($D53,1),0,RIGHT($D53,1),1)),\"ERROR\"))))","v":0},{"$f":"IF(W$24<STANDARD_YEAR,W44,\nIF(RIGHT($D53,1)>RIGHT('Efficiency Levels'!$C$39,1),W44,\nIF(RIGHT($D53,1)<RIGHT('Efficiency Levels'!$C$39,1),0,\nIF(RIGHT($D53,1)=RIGHT('Efficiency Levels'!$C$39,1),SUM(OFFSET(W44,-RIGHT($D53,1),0,RIGHT($D53,1),1)),\"ERROR\"))))","v":0},{"$f":"IF(X$24<STANDARD_YEAR,X44,\nIF(RIGHT($D53,1)>RIGHT('Efficiency Levels'!$C$39,1),X44,\nIF(RIGHT($D53,1)<RIGHT('Efficiency Levels'!$C$39,1),0,\nIF(RIGHT($D53,1)=RIGHT('Efficiency Levels'!$C$39,1),SUM(OFFSET(X44,-RIGHT($D53,1),0,RIGHT($D53,1),1)),\"ERROR\"))))","v":0},{"$f":"IF(Y$24<STANDARD_YEAR,Y44,\nIF(RIGHT($D53,1)>RIGHT('Efficiency Levels'!$C$39,1),Y44,\nIF(RIGHT($D53,1)<RIGHT('Efficiency Levels'!$C$39,1),0,\nIF(RIGHT($D53,1)=RIGHT('Efficiency Levels'!$C$39,1),SUM(OFFSET(Y44,-RIGHT($D53,1),0,RIGHT($D53,1),1)),\"ERROR\"))))","v":0},{"$f":"IF(Z$24<STANDARD_YEAR,Z44,\nIF(RIGHT($D53,1)>RIGHT('Efficiency Levels'!$C$39,1),Z44,\nIF(RIGHT($D53,1)<RIGHT('Efficiency Levels'!$C$39,1),0,\nIF(RIGHT($D53,1)=RIGHT('Efficiency Levels'!$C$39,1),SUM(OFFSET(Z44,-RIGHT($D53,1),0,RIGHT($D53,1),1)),\"ERROR\"))))","v":0},{"$f":"IF(AA$24<STANDARD_YEAR,AA44,\nIF(RIGHT($D53,1)>RIGHT('Efficiency Levels'!$C$39,1),AA44,\nIF(RIGHT($D53,1)<RIGHT('Efficiency Levels'!$C$39,1),0,\nIF(RIGHT($D53,1)=RIGHT('Efficiency Levels'!$C$39,1),SUM(OFFSET(AA44,-RIGHT($D53,1),0,RIGHT($D53,1),1)),\"ERROR\"))))","v":0},{"$f":"IF(AB$24<STANDARD_YEAR,AB44,\nIF(RIGHT($D53,1)>RIGHT('Efficiency Levels'!$C$39,1),AB44,\nIF(RIGHT($D53,1)<RIGHT('Efficiency Levels'!$C$39,1),0,\nIF(RIGHT($D53,1)=RIGHT('Efficiency Levels'!$C$39,1),SUM(OFFSET(AB44,-RIGHT($D53,1),0,RIGHT($D53,1),1)),\"ERROR\"))))","v":0},{"$f":"IF(AC$24<STANDARD_YEAR,AC44,\nIF(RIGHT($D53,1)>RIGHT('Efficiency Levels'!$C$39,1),AC44,\nIF(RIGHT($D53,1)<RIGHT('Efficiency Levels'!$C$39,1),0,\nIF(RIGHT($D53,1)=RIGHT('Efficiency Levels'!$C$39,1),SUM(OFFSET(AC44,-RIGHT($D53,1),0,RIGHT($D53,1),1)),\"ERROR\"))))","v":0},{"$f":"IF(AD$24<STANDARD_YEAR,AD44,\nIF(RIGHT($D53,1)>RIGHT('Efficiency Levels'!$C$39,1),AD44,\nIF(RIGHT($D53,1)<RIGHT('Efficiency Levels'!$C$39,1),0,\nIF(RIGHT($D53,1)=RIGHT('Efficiency Levels'!$C$39,1),SUM(OFFSET(AD44,-RIGHT($D53,1),0,RIGHT($D53,1),1)),\"ERROR\"))))","v":0},{"$f":"IF(AE$24<STANDARD_YEAR,AE44,\nIF(RIGHT($D53,1)>RIGHT('Efficiency Levels'!$C$39,1),AE44,\nIF(RIGHT($D53,1)<RIGHT('Efficiency Levels'!$C$39,1),0,\nIF(RIGHT($D53,1)=RIGHT('Efficiency Levels'!$C$39,1),SUM(OFFSET(AE44,-RIGHT($D53,1),0,RIGHT($D53,1),1)),\"ERROR\"))))","v":0},{"$f":"IF(AF$24<STANDARD_YEAR,AF44,\nIF(RIGHT($D53,1)>RIGHT('Efficiency Levels'!$C$39,1),AF44,\nIF(RIGHT($D53,1)<RIGHT('Efficiency Levels'!$C$39,1),0,\nIF(RIGHT($D53,1)=RIGHT('Efficiency Levels'!$C$39,1),SUM(OFFSET(AF44,-RIGHT($D53,1),0,RIGHT($D53,1),1)),\"ERROR\"))))","v":0},{"$f":"IF(AG$24<STANDARD_YEAR,AG44,\nIF(RIGHT($D53,1)>RIGHT('Efficiency Levels'!$C$39,1),AG44,\nIF(RIGHT($D53,1)<RIGHT('Efficiency Levels'!$C$39,1),0,\nIF(RIGHT($D53,1)=RIGHT('Efficiency Levels'!$C$39,1),SUM(OFFSET(AG44,-RIGHT($D53,1),0,RIGHT($D53,1),1)),\"ERROR\"))))","v":0},{"$f":"IF(AH$24<STANDARD_YEAR,AH44,\nIF(RIGHT($D53,1)>RIGHT('Efficiency Levels'!$C$39,1),AH44,\nIF(RIGHT($D53,1)<RIGHT('Efficiency Levels'!$C$39,1),0,\nIF(RIGHT($D53,1)=RIGHT('Efficiency Levels'!$C$39,1),SUM(OFFSET(AH44,-RIGHT($D53,1),0,RIGHT($D53,1),1)),\"ERROR\"))))","v":0},{"$f":"IF(AI$24<STANDARD_YEAR,AI44,\nIF(RIGHT($D53,1)>RIGHT('Efficiency Levels'!$C$39,1),AI44,\nIF(RIGHT($D53,1)<RIGHT('Efficiency Levels'!$C$39,1),0,\nIF(RIGHT($D53,1)=RIGHT('Efficiency Levels'!$C$39,1),SUM(OFFSET(AI44,-RIGHT($D53,1),0,RIGHT($D53,1),1)),\"ERROR\"))))","v":0},{"$f":"IF(AJ$24<STANDARD_YEAR,AJ44,\nIF(RIGHT($D53,1)>RIGHT('Efficiency Levels'!$C$39,1),AJ44,\nIF(RIGHT($D53,1)<RIGHT('Efficiency Levels'!$C$39,1),0,\nIF(RIGHT($D53,1)=RIGHT('Efficiency Levels'!$C$39,1),SUM(OFFSET(AJ44,-RIGHT($D53,1),0,RIGHT($D53,1),1)),\"ERROR\"))))","v":0},{"$f":"IF(AK$24<STANDARD_YEAR,AK44,\nIF(RIGHT($D53,1)>RIGHT('Efficiency Levels'!$C$39,1),AK44,\nIF(RIGHT($D53,1)<RIGHT('Efficiency Levels'!$C$39,1),0,\nIF(RIGHT($D53,1)=RIGHT('Efficiency Levels'!$C$39,1),SUM(OFFSET(AK44,-RIGHT($D53,1),0,RIGHT($D53,1),1)),\"ERROR\"))))","v":0},{"$f":"IF(AL$24<STANDARD_YEAR,AL44,\nIF(RIGHT($D53,1)>RIGHT('Efficiency Levels'!$C$39,1),AL44,\nIF(RIGHT($D53,1)<RIGHT('Efficiency Levels'!$C$39,1),0,\nIF(RIGHT($D53,1)=RIGHT('Efficiency Levels'!$C$39,1),SUM(OFFSET(AL44,-RIGHT($D53,1),0,RIGHT($D53,1),1)),\"ERROR\"))))","v":0},{"$f":"IF(AM$24<STANDARD_YEAR,AM44,\nIF(RIGHT($D53,1)>RIGHT('Efficiency Levels'!$C$39,1),AM44,\nIF(RIGHT($D53,1)<RIGHT('Efficiency Levels'!$C$39,1),0,\nIF(RIGHT($D53,1)=RIGHT('Efficiency Levels'!$C$39,1),SUM(OFFSET(AM44,-RIGHT($D53,1),0,RIGHT($D53,1),1)),\"ERROR\"))))","v":0},{"$f":"IF(AN$24<STANDARD_YEAR,AN44,\nIF(RIGHT($D53,1)>RIGHT('Efficiency Levels'!$C$39,1),AN44,\nIF(RIGHT($D53,1)<RIGHT('Efficiency Levels'!$C$39,1),0,\nIF(RIGHT($D53,1)=RIGHT('Efficiency Levels'!$C$39,1),SUM(OFFSET(AN44,-RIGHT($D53,1),0,RIGHT($D53,1),1)),\"ERROR\"))))","v":0},{"$f":"IF(AO$24<STANDARD_YEAR,AO44,\nIF(RIGHT($D53,1)>RIGHT('Efficiency Levels'!$C$39,1),AO44,\nIF(RIGHT($D53,1)<RIGHT('Efficiency Levels'!$C$39,1),0,\nIF(RIGHT($D53,1)=RIGHT('Efficiency Levels'!$C$39,1),SUM(OFFSET(AO44,-RIGHT($D53,1),0,RIGHT($D53,1),1)),\"ERROR\"))))","v":0},{"$f":"IF(AP$24<STANDARD_YEAR,AP44,\nIF(RIGHT($D53,1)>RIGHT('Efficiency Levels'!$C$39,1),AP44,\nIF(RIGHT($D53,1)<RIGHT('Efficiency Levels'!$C$39,1),0,\nIF(RIGHT($D53,1)=RIGHT('Efficiency Levels'!$C$39,1),SUM(OFFSET(AP44,-RIGHT($D53,1),0,RIGHT($D53,1),1)),\"ERROR\"))))","v":0},{"$f":"IF(AQ$24<STANDARD_YEAR,AQ44,\nIF(RIGHT($D53,1)>RIGHT('Efficiency Levels'!$C$39,1),AQ44,\nIF(RIGHT($D53,1)<RIGHT('Efficiency Levels'!$C$39,1),0,\nIF(RIGHT($D53,1)=RIGHT('Efficiency Levels'!$C$39,1),SUM(OFFSET(AQ44,-RIGHT($D53,1),0,RIGHT($D53,1),1)),\"ERROR\"))))","v":0},{"$f":"IF(AR$24<STANDARD_YEAR,AR44,\nIF(RIGHT($D53,1)>RIGHT('Efficiency Levels'!$C$39,1),AR44,\nIF(RIGHT($D53,1)<RIGHT('Efficiency Levels'!$C$39,1),0,\nIF(RIGHT($D53,1)=RIGHT('Efficiency Levels'!$C$39,1),SUM(OFFSET(AR44,-RIGHT($D53,1),0,RIGHT($D53,1),1)),\"ERROR\"))))","v":0},{"$f":"IF(AS$24<STANDARD_YEAR,AS44,\nIF(RIGHT($D53,1)>RIGHT('Efficiency Levels'!$C$39,1),AS44,\nIF(RIGHT($D53,1)<RIGHT('Efficiency Levels'!$C$39,1),0,\nIF(RIGHT($D53,1)=RIGHT('Efficiency Levels'!$C$39,1),SUM(OFFSET(AS44,-RIGHT($D53,1),0,RIGHT($D53,1),1)),\"ERROR\"))))","v":0},{"$f":"IF(AT$24<STANDARD_YEAR,AT44,\nIF(RIGHT($D53,1)>RIGHT('Efficiency Levels'!$C$39,1),AT44,\nIF(RIGHT($D53,1)<RIGHT('Efficiency Levels'!$C$39,1),0,\nIF(RIGHT($D53,1)=RIGHT('Efficiency Levels'!$C$39,1),SUM(OFFSET(AT44,-RIGHT($D53,1),0,RIGHT($D53,1),1)),\"ERROR\"))))","v":0},{"$f":"IF(AU$24<STANDARD_YEAR,AU44,\nIF(RIGHT($D53,1)>RIGHT('Efficiency Levels'!$C$39,1),AU44,\nIF(RIGHT($D53,1)<RIGHT('Efficiency Levels'!$C$39,1),0,\nIF(RIGHT($D53,1)=RIGHT('Efficiency Levels'!$C$39,1),SUM(OFFSET(AU44,-RIGHT($D53,1),0,RIGHT($D53,1),1)),\"ERROR\"))))","v":0},{"$f":"IF(AV$24<STANDARD_YEAR,AV44,\nIF(RIGHT($D53,1)>RIGHT('Efficiency Levels'!$C$39,1),AV44,\nIF(RIGHT($D53,1)<RIGHT('Efficiency Levels'!$C$39,1),0,\nIF(RIGHT($D53,1)=RIGHT('Efficiency Levels'!$C$39,1),SUM(OFFSET(AV44,-RIGHT($D53,1),0,RIGHT($D53,1),1)),\"ERROR\"))))","v":0},{"$f":"IF(AW$24<STANDARD_YEAR,AW44,\nIF(RIGHT($D53,1)>RIGHT('Efficiency Levels'!$C$39,1),AW44,\nIF(RIGHT($D53,1)<RIGHT('Efficiency Levels'!$C$39,1),0,\nIF(RIGHT($D53,1)=RIGHT('Efficiency Levels'!$C$39,1),SUM(OFFSET(AW44,-RIGHT($D53,1),0,RIGHT($D53,1),1)),\"ERROR\"))))","v":0},{"$f":"IF(AX$24<STANDARD_YEAR,AX44,\nIF(RIGHT($D53,1)>RIGHT('Efficiency Levels'!$C$39,1),AX44,\nIF(RIGHT($D53,1)<RIGHT('Efficiency Levels'!$C$39,1),0,\nIF(RIGHT($D53,1)=RIGHT('Efficiency Levels'!$C$39,1),SUM(OFFSET(AX44,-RIGHT($D53,1),0,RIGHT($D53,1),1)),\"ERROR\"))))","v":0},{"$f":"IF(AY$24<STANDARD_YEAR,AY44,\nIF(RIGHT($D53,1)>RIGHT('Efficiency Levels'!$C$39,1),AY44,\nIF(RIGHT($D53,1)<RIGHT('Efficiency Levels'!$C$39,1),0,\nIF(RIGHT($D53,1)=RIGHT('Efficiency Levels'!$C$39,1),SUM(OFFSET(AY44,-RIGHT($D53,1),0,RIGHT($D53,1),1)),\"ERROR\"))))","v":0},{"$f":"IF(AZ$24<STANDARD_YEAR,AZ44,\nIF(RIGHT($D53,1)>RIGHT('Efficiency Levels'!$C$39,1),AZ44,\nIF(RIGHT($D53,1)<RIGHT('Efficiency Levels'!$C$39,1),0,\nIF(RIGHT($D53,1)=RIGHT('Efficiency Levels'!$C$39,1),SUM(OFFSET(AZ44,-RIGHT($D53,1),0,RIGHT($D53,1),1)),\"ERROR\"))))","v":0},{"$f":"IF(BA$24<STANDARD_YEAR,BA44,\nIF(RIGHT($D53,1)>RIGHT('Efficiency Levels'!$C$39,1),BA44,\nIF(RIGHT($D53,1)<RIGHT('Efficiency Levels'!$C$39,1),0,\nIF(RIGHT($D53,1)=RIGHT('Efficiency Levels'!$C$39,1),SUM(OFFSET(BA44,-RIGHT($D53,1),0,RIGHT($D53,1),1)),\"ERROR\"))))","v":0},{"$f":"IF(BB$24<STANDARD_YEAR,BB44,\nIF(RIGHT($D53,1)>RIGHT('Efficiency Levels'!$C$39,1),BB44,\nIF(RIGHT($D53,1)<RIGHT('Efficiency Levels'!$C$39,1),0,\nIF(RIGHT($D53,1)=RIGHT('Efficiency Levels'!$C$39,1),SUM(OFFSET(BB44,-RIGHT($D53,1),0,RIGHT($D53,1),1)),\"ERROR\"))))","v":0},{"$f":"IF(BC$24<STANDARD_YEAR,BC44,\nIF(RIGHT($D53,1)>RIGHT('Efficiency Levels'!$C$39,1),BC44,\nIF(RIGHT($D53,1)<RIGHT('Efficiency Levels'!$C$39,1),0,\nIF(RIGHT($D53,1)=RIGHT('Efficiency Levels'!$C$39,1),SUM(OFFSET(BC44,-RIGHT($D53,1),0,RIGHT($D53,1),1)),\"ERROR\"))))","v":0},{"$f":"IF(BD$24<STANDARD_YEAR,BD44,\nIF(RIGHT($D53,1)>RIGHT('Efficiency Levels'!$C$39,1),BD44,\nIF(RIGHT($D53,1)<RIGHT('Efficiency Levels'!$C$39,1),0,\nIF(RIGHT($D53,1)=RIGHT('Efficiency Levels'!$C$39,1),SUM(OFFSET(BD44,-RIGHT($D53,1),0,RIGHT($D53,1),1)),\"ERROR\"))))","v":0},{"$f":"IF(BE$24<STANDARD_YEAR,BE44,\nIF(RIGHT($D53,1)>RIGHT('Efficiency Levels'!$C$39,1),BE44,\nIF(RIGHT($D53,1)<RIGHT('Efficiency Levels'!$C$39,1),0,\nIF(RIGHT($D53,1)=RIGHT('Efficiency Levels'!$C$39,1),SUM(OFFSET(BE44,-RIGHT($D53,1),0,RIGHT($D53,1),1)),\"ERROR\"))))","v":0},{"$f":"IF(BF$24<STANDARD_YEAR,BF44,\nIF(RIGHT($D53,1)>RIGHT('Efficiency Levels'!$C$39,1),BF44,\nIF(RIGHT($D53,1)<RIGHT('Efficiency Levels'!$C$39,1),0,\nIF(RIGHT($D53,1)=RIGHT('Efficiency Levels'!$C$39,1),SUM(OFFSET(BF44,-RIGHT($D53,1),0,RIGHT($D53,1),1)),\"ERROR\"))))","v":0},{"$f":"IF(BG$24<STANDARD_YEAR,BG44,\nIF(RIGHT($D53,1)>RIGHT('Efficiency Levels'!$C$39,1),BG44,\nIF(RIGHT($D53,1)<RIGHT('Efficiency Levels'!$C$39,1),0,\nIF(RIGHT($D53,1)=RIGHT('Efficiency Levels'!$C$39,1),SUM(OFFSET(BG44,-RIGHT($D53,1),0,RIGHT($D53,1),1)),\"ERROR\"))))","v":0},{"$f":"IF(BH$24<STANDARD_YEAR,BH44,\nIF(RIGHT($D53,1)>RIGHT('Efficiency Levels'!$C$39,1),BH44,\nIF(RIGHT($D53,1)<RIGHT('Efficiency Levels'!$C$39,1),0,\nIF(RIGHT($D53,1)=RIGHT('Efficiency Levels'!$C$39,1),SUM(OFFSET(BH44,-RIGHT($D53,1),0,RIGHT($D53,1),1)),\"ERROR\"))))","v":0},{"$f":"IF(BI$24<STANDARD_YEAR,BI44,\nIF(RIGHT($D53,1)>RIGHT('Efficiency Levels'!$C$39,1),BI44,\nIF(RIGHT($D53,1)<RIGHT('Efficiency Levels'!$C$39,1),0,\nIF(RIGHT($D53,1)=RIGHT('Efficiency Levels'!$C$39,1),SUM(OFFSET(BI44,-RIGHT($D53,1),0,RIGHT($D53,1),1)),\"ERROR\"))))","v":0},{"$f":"IF(BJ$24<STANDARD_YEAR,BJ44,\nIF(RIGHT($D53,1)>RIGHT('Efficiency Levels'!$C$39,1),BJ44,\nIF(RIGHT($D53,1)<RIGHT('Efficiency Levels'!$C$39,1),0,\nIF(RIGHT($D53,1)=RIGHT('Efficiency Levels'!$C$39,1),SUM(OFFSET(BJ44,-RIGHT($D53,1),0,RIGHT($D53,1),1)),\"ERROR\"))))","v":0}]
[null,null,null,"EL2",{"$f":"OFFSET('Efficiency Levels'!$D$11,MATCH($C$39,'Efficiency Levels'!$C$9:$C$1002,0)+RIGHT(D54,1),0)","v":317},null,null,null,{"$f":"IF(I$24<STANDARD_YEAR,I45,\nIF(RIGHT($D54,1)>RIGHT('Efficiency Levels'!$C$39,1),I45,\nIF(RIGHT($D54,1)<RIGHT('Efficiency Levels'!$C$39,1),0,\nIF(RIGHT($D54,1)=RIGHT('Efficiency Levels'!$C$39,1),SUM(OFFSET(I45,-RIGHT($D54,1),0,RIGHT($D54,1),1)),\"ERROR\"))))","v":0},{"$f":"IF(J$24<STANDARD_YEAR,J45,\nIF(RIGHT($D54,1)>RIGHT('Efficiency Levels'!$C$39,1),J45,\nIF(RIGHT($D54,1)<RIGHT('Efficiency Levels'!$C$39,1),0,\nIF(RIGHT($D54,1)=RIGHT('Efficiency Levels'!$C$39,1),SUM(OFFSET(J45,-RIGHT($D54,1),0,RIGHT($D54,1),1)),\"ERROR\"))))","v":0},{"$f":"IF(K$24<STANDARD_YEAR,K45,\nIF(RIGHT($D54,1)>RIGHT('Efficiency Levels'!$C$39,1),K45,\nIF(RIGHT($D54,1)<RIGHT('Efficiency Levels'!$C$39,1),0,\nIF(RIGHT($D54,1)=RIGHT('Efficiency Levels'!$C$39,1),SUM(OFFSET(K45,-RIGHT($D54,1),0,RIGHT($D54,1),1)),\"ERROR\"))))","v":0},{"$f":"IF(L$24<STANDARD_YEAR,L45,\nIF(RIGHT($D54,1)>RIGHT('Efficiency Levels'!$C$39,1),L45,\nIF(RIGHT($D54,1)<RIGHT('Efficiency Levels'!$C$39,1),0,\nIF(RIGHT($D54,1)=RIGHT('Efficiency Levels'!$C$39,1),SUM(OFFSET(L45,-RIGHT($D54,1),0,RIGHT($D54,1),1)),\"ERROR\"))))","v":0},{"$f":"IF(M$24<STANDARD_YEAR,M45,\nIF(RIGHT($D54,1)>RIGHT('Efficiency Levels'!$C$39,1),M45,\nIF(RIGHT($D54,1)<RIGHT('Efficiency Levels'!$C$39,1),0,\nIF(RIGHT($D54,1)=RIGHT('Efficiency Levels'!$C$39,1),SUM(OFFSET(M45,-RIGHT($D54,1),0,RIGHT($D54,1),1)),\"ERROR\"))))","v":0},{"$f":"IF(N$24<STANDARD_YEAR,N45,\nIF(RIGHT($D54,1)>RIGHT('Efficiency Levels'!$C$39,1),N45,\nIF(RIGHT($D54,1)<RIGHT('Efficiency Levels'!$C$39,1),0,\nIF(RIGHT($D54,1)=RIGHT('Efficiency Levels'!$C$39,1),SUM(OFFSET(N45,-RIGHT($D54,1),0,RIGHT($D54,1),1)),\"ERROR\"))))","v":0},{"$f":"IF(O$24<STANDARD_YEAR,O45,\nIF(RIGHT($D54,1)>RIGHT('Efficiency Levels'!$C$39,1),O45,\nIF(RIGHT($D54,1)<RIGHT('Efficiency Levels'!$C$39,1),0,\nIF(RIGHT($D54,1)=RIGHT('Efficiency Levels'!$C$39,1),SUM(OFFSET(O45,-RIGHT($D54,1),0,RIGHT($D54,1),1)),\"ERROR\"))))","v":0},{"$f":"IF(P$24<STANDARD_YEAR,P45,\nIF(RIGHT($D54,1)>RIGHT('Efficiency Levels'!$C$39,1),P45,\nIF(RIGHT($D54,1)<RIGHT('Efficiency Levels'!$C$39,1),0,\nIF(RIGHT($D54,1)=RIGHT('Efficiency Levels'!$C$39,1),SUM(OFFSET(P45,-RIGHT($D54,1),0,RIGHT($D54,1),1)),\"ERROR\"))))","v":0},{"$f":"IF(Q$24<STANDARD_YEAR,Q45,\nIF(RIGHT($D54,1)>RIGHT('Efficiency Levels'!$C$39,1),Q45,\nIF(RIGHT($D54,1)<RIGHT('Efficiency Levels'!$C$39,1),0,\nIF(RIGHT($D54,1)=RIGHT('Efficiency Levels'!$C$39,1),SUM(OFFSET(Q45,-RIGHT($D54,1),0,RIGHT($D54,1),1)),\"ERROR\"))))","v":0},{"$f":"IF(R$24<STANDARD_YEAR,R45,\nIF(RIGHT($D54,1)>RIGHT('Efficiency Levels'!$C$39,1),R45,\nIF(RIGHT($D54,1)<RIGHT('Efficiency Levels'!$C$39,1),0,\nIF(RIGHT($D54,1)=RIGHT('Efficiency Levels'!$C$39,1),SUM(OFFSET(R45,-RIGHT($D54,1),0,RIGHT($D54,1),1)),\"ERROR\"))))","v":0},{"$f":"IF(S$24<STANDARD_YEAR,S45,\nIF(RIGHT($D54,1)>RIGHT('Efficiency Levels'!$C$39,1),S45,\nIF(RIGHT($D54,1)<RIGHT('Efficiency Levels'!$C$39,1),0,\nIF(RIGHT($D54,1)=RIGHT('Efficiency Levels'!$C$39,1),SUM(OFFSET(S45,-RIGHT($D54,1),0,RIGHT($D54,1),1)),\"ERROR\"))))","v":0},{"$f":"IF(T$24<STANDARD_YEAR,T45,\nIF(RIGHT($D54,1)>RIGHT('Efficiency Levels'!$C$39,1),T45,\nIF(RIGHT($D54,1)<RIGHT('Efficiency Levels'!$C$39,1),0,\nIF(RIGHT($D54,1)=RIGHT('Efficiency Levels'!$C$39,1),SUM(OFFSET(T45,-RIGHT($D54,1),0,RIGHT($D54,1),1)),\"ERROR\"))))","v":0},{"$f":"IF(U$24<STANDARD_YEAR,U45,\nIF(RIGHT($D54,1)>RIGHT('Efficiency Levels'!$C$39,1),U45,\nIF(RIGHT($D54,1)<RIGHT('Efficiency Levels'!$C$39,1),0,\nIF(RIGHT($D54,1)=RIGHT('Efficiency Levels'!$C$39,1),SUM(OFFSET(U45,-RIGHT($D54,1),0,RIGHT($D54,1),1)),\"ERROR\"))))","v":0},{"$f":"IF(V$24<STANDARD_YEAR,V45,\nIF(RIGHT($D54,1)>RIGHT('Efficiency Levels'!$C$39,1),V45,\nIF(RIGHT($D54,1)<RIGHT('Efficiency Levels'!$C$39,1),0,\nIF(RIGHT($D54,1)=RIGHT('Efficiency Levels'!$C$39,1),SUM(OFFSET(V45,-RIGHT($D54,1),0,RIGHT($D54,1),1)),\"ERROR\"))))","v":0},{"$f":"IF(W$24<STANDARD_YEAR,W45,\nIF(RIGHT($D54,1)>RIGHT('Efficiency Levels'!$C$39,1),W45,\nIF(RIGHT($D54,1)<RIGHT('Efficiency Levels'!$C$39,1),0,\nIF(RIGHT($D54,1)=RIGHT('Efficiency Levels'!$C$39,1),SUM(OFFSET(W45,-RIGHT($D54,1),0,RIGHT($D54,1),1)),\"ERROR\"))))","v":0},{"$f":"IF(X$24<STANDARD_YEAR,X45,\nIF(RIGHT($D54,1)>RIGHT('Efficiency Levels'!$C$39,1),X45,\nIF(RIGHT($D54,1)<RIGHT('Efficiency Levels'!$C$39,1),0,\nIF(RIGHT($D54,1)=RIGHT('Efficiency Levels'!$C$39,1),SUM(OFFSET(X45,-RIGHT($D54,1),0,RIGHT($D54,1),1)),\"ERROR\"))))","v":0},{"$f":"IF(Y$24<STANDARD_YEAR,Y45,\nIF(RIGHT($D54,1)>RIGHT('Efficiency Levels'!$C$39,1),Y45,\nIF(RIGHT($D54,1)<RIGHT('Efficiency Levels'!$C$39,1),0,\nIF(RIGHT($D54,1)=RIGHT('Efficiency Levels'!$C$39,1),SUM(OFFSET(Y45,-RIGHT($D54,1),0,RIGHT($D54,1),1)),\"ERROR\"))))","v":0},{"$f":"IF(Z$24<STANDARD_YEAR,Z45,\nIF(RIGHT($D54,1)>RIGHT('Efficiency Levels'!$C$39,1),Z45,\nIF(RIGHT($D54,1)<RIGHT('Efficiency Levels'!$C$39,1),0,\nIF(RIGHT($D54,1)=RIGHT('Efficiency Levels'!$C$39,1),SUM(OFFSET(Z45,-RIGHT($D54,1),0,RIGHT($D54,1),1)),\"ERROR\"))))","v":0},{"$f":"IF(AA$24<STANDARD_YEAR,AA45,\nIF(RIGHT($D54,1)>RIGHT('Efficiency Levels'!$C$39,1),AA45,\nIF(RIGHT($D54,1)<RIGHT('Efficiency Levels'!$C$39,1),0,\nIF(RIGHT($D54,1)=RIGHT('Efficiency Levels'!$C$39,1),SUM(OFFSET(AA45,-RIGHT($D54,1),0,RIGHT($D54,1),1)),\"ERROR\"))))","v":0},{"$f":"IF(AB$24<STANDARD_YEAR,AB45,\nIF(RIGHT($D54,1)>RIGHT('Efficiency Levels'!$C$39,1),AB45,\nIF(RIGHT($D54,1)<RIGHT('Efficiency Levels'!$C$39,1),0,\nIF(RIGHT($D54,1)=RIGHT('Efficiency Levels'!$C$39,1),SUM(OFFSET(AB45,-RIGHT($D54,1),0,RIGHT($D54,1),1)),\"ERROR\"))))","v":0},{"$f":"IF(AC$24<STANDARD_YEAR,AC45,\nIF(RIGHT($D54,1)>RIGHT('Efficiency Levels'!$C$39,1),AC45,\nIF(RIGHT($D54,1)<RIGHT('Efficiency Levels'!$C$39,1),0,\nIF(RIGHT($D54,1)=RIGHT('Efficiency Levels'!$C$39,1),SUM(OFFSET(AC45,-RIGHT($D54,1),0,RIGHT($D54,1),1)),\"ERROR\"))))","v":0},{"$f":"IF(AD$24<STANDARD_YEAR,AD45,\nIF(RIGHT($D54,1)>RIGHT('Efficiency Levels'!$C$39,1),AD45,\nIF(RIGHT($D54,1)<RIGHT('Efficiency Levels'!$C$39,1),0,\nIF(RIGHT($D54,1)=RIGHT('Efficiency Levels'!$C$39,1),SUM(OFFSET(AD45,-RIGHT($D54,1),0,RIGHT($D54,1),1)),\"ERROR\"))))","v":0},{"$f":"IF(AE$24<STANDARD_YEAR,AE45,\nIF(RIGHT($D54,1)>RIGHT('Efficiency Levels'!$C$39,1),AE45,\nIF(RIGHT($D54,1)<RIGHT('Efficiency Levels'!$C$39,1),0,\nIF(RIGHT($D54,1)=RIGHT('Efficiency Levels'!$C$39,1),SUM(OFFSET(AE45,-RIGHT($D54,1),0,RIGHT($D54,1),1)),\"ERROR\"))))","v":0},{"$f":"IF(AF$24<STANDARD_YEAR,AF45,\nIF(RIGHT($D54,1)>RIGHT('Efficiency Levels'!$C$39,1),AF45,\nIF(RIGHT($D54,1)<RIGHT('Efficiency Levels'!$C$39,1),0,\nIF(RIGHT($D54,1)=RIGHT('Efficiency Levels'!$C$39,1),SUM(OFFSET(AF45,-RIGHT($D54,1),0,RIGHT($D54,1),1)),\"ERROR\"))))","v":0},{"$f":"IF(AG$24<STANDARD_YEAR,AG45,\nIF(RIGHT($D54,1)>RIGHT('Efficiency Levels'!$C$39,1),AG45,\nIF(RIGHT($D54,1)<RIGHT('Efficiency Levels'!$C$39,1),0,\nIF(RIGHT($D54,1)=RIGHT('Efficiency Levels'!$C$39,1),SUM(OFFSET(AG45,-RIGHT($D54,1),0,RIGHT($D54,1),1)),\"ERROR\"))))","v":0},{"$f":"IF(AH$24<STANDARD_YEAR,AH45,\nIF(RIGHT($D54,1)>RIGHT('Efficiency Levels'!$C$39,1),AH45,\nIF(RIGHT($D54,1)<RIGHT('Efficiency Levels'!$C$39,1),0,\nIF(RIGHT($D54,1)=RIGHT('Efficiency Levels'!$C$39,1),SUM(OFFSET(AH45,-RIGHT($D54,1),0,RIGHT($D54,1),1)),\"ERROR\"))))","v":0},{"$f":"IF(AI$24<STANDARD_YEAR,AI45,\nIF(RIGHT($D54,1)>RIGHT('Efficiency Levels'!$C$39,1),AI45,\nIF(RIGHT($D54,1)<RIGHT('Efficiency Levels'!$C$39,1),0,\nIF(RIGHT($D54,1)=RIGHT('Efficiency Levels'!$C$39,1),SUM(OFFSET(AI45,-RIGHT($D54,1),0,RIGHT($D54,1),1)),\"ERROR\"))))","v":0},{"$f":"IF(AJ$24<STANDARD_YEAR,AJ45,\nIF(RIGHT($D54,1)>RIGHT('Efficiency Levels'!$C$39,1),AJ45,\nIF(RIGHT($D54,1)<RIGHT('Efficiency Levels'!$C$39,1),0,\nIF(RIGHT($D54,1)=RIGHT('Efficiency Levels'!$C$39,1),SUM(OFFSET(AJ45,-RIGHT($D54,1),0,RIGHT($D54,1),1)),\"ERROR\"))))","v":0},{"$f":"IF(AK$24<STANDARD_YEAR,AK45,\nIF(RIGHT($D54,1)>RIGHT('Efficiency Levels'!$C$39,1),AK45,\nIF(RIGHT($D54,1)<RIGHT('Efficiency Levels'!$C$39,1),0,\nIF(RIGHT($D54,1)=RIGHT('Efficiency Levels'!$C$39,1),SUM(OFFSET(AK45,-RIGHT($D54,1),0,RIGHT($D54,1),1)),\"ERROR\"))))","v":0},{"$f":"IF(AL$24<STANDARD_YEAR,AL45,\nIF(RIGHT($D54,1)>RIGHT('Efficiency Levels'!$C$39,1),AL45,\nIF(RIGHT($D54,1)<RIGHT('Efficiency Levels'!$C$39,1),0,\nIF(RIGHT($D54,1)=RIGHT('Efficiency Levels'!$C$39,1),SUM(OFFSET(AL45,-RIGHT($D54,1),0,RIGHT($D54,1),1)),\"ERROR\"))))","v":0},{"$f":"IF(AM$24<STANDARD_YEAR,AM45,\nIF(RIGHT($D54,1)>RIGHT('Efficiency Levels'!$C$39,1),AM45,\nIF(RIGHT($D54,1)<RIGHT('Efficiency Levels'!$C$39,1),0,\nIF(RIGHT($D54,1)=RIGHT('Efficiency Levels'!$C$39,1),SUM(OFFSET(AM45,-RIGHT($D54,1),0,RIGHT($D54,1),1)),\"ERROR\"))))","v":0},{"$f":"IF(AN$24<STANDARD_YEAR,AN45,\nIF(RIGHT($D54,1)>RIGHT('Efficiency Levels'!$C$39,1),AN45,\nIF(RIGHT($D54,1)<RIGHT('Efficiency Levels'!$C$39,1),0,\nIF(RIGHT($D54,1)=RIGHT('Efficiency Levels'!$C$39,1),SUM(OFFSET(AN45,-RIGHT($D54,1),0,RIGHT($D54,1),1)),\"ERROR\"))))","v":0},{"$f":"IF(AO$24<STANDARD_YEAR,AO45,\nIF(RIGHT($D54,1)>RIGHT('Efficiency Levels'!$C$39,1),AO45,\nIF(RIGHT($D54,1)<RIGHT('Efficiency Levels'!$C$39,1),0,\nIF(RIGHT($D54,1)=RIGHT('Efficiency Levels'!$C$39,1),SUM(OFFSET(AO45,-RIGHT($D54,1),0,RIGHT($D54,1),1)),\"ERROR\"))))","v":0},{"$f":"IF(AP$24<STANDARD_YEAR,AP45,\nIF(RIGHT($D54,1)>RIGHT('Efficiency Levels'!$C$39,1),AP45,\nIF(RIGHT($D54,1)<RIGHT('Efficiency Levels'!$C$39,1),0,\nIF(RIGHT($D54,1)=RIGHT('Efficiency Levels'!$C$39,1),SUM(OFFSET(AP45,-RIGHT($D54,1),0,RIGHT($D54,1),1)),\"ERROR\"))))","v":0},{"$f":"IF(AQ$24<STANDARD_YEAR,AQ45,\nIF(RIGHT($D54,1)>RIGHT('Efficiency Levels'!$C$39,1),AQ45,\nIF(RIGHT($D54,1)<RIGHT('Efficiency Levels'!$C$39,1),0,\nIF(RIGHT($D54,1)=RIGHT('Efficiency Levels'!$C$39,1),SUM(OFFSET(AQ45,-RIGHT($D54,1),0,RIGHT($D54,1),1)),\"ERROR\"))))","v":0},{"$f":"IF(AR$24<STANDARD_YEAR,AR45,\nIF(RIGHT($D54,1)>RIGHT('Efficiency Levels'!$C$39,1),AR45,\nIF(RIGHT($D54,1)<RIGHT('Efficiency Levels'!$C$39,1),0,\nIF(RIGHT($D54,1)=RIGHT('Efficiency Levels'!$C$39,1),SUM(OFFSET(AR45,-RIGHT($D54,1),0,RIGHT($D54,1),1)),\"ERROR\"))))","v":0},{"$f":"IF(AS$24<STANDARD_YEAR,AS45,\nIF(RIGHT($D54,1)>RIGHT('Efficiency Levels'!$C$39,1),AS45,\nIF(RIGHT($D54,1)<RIGHT('Efficiency Levels'!$C$39,1),0,\nIF(RIGHT($D54,1)=RIGHT('Efficiency Levels'!$C$39,1),SUM(OFFSET(AS45,-RIGHT($D54,1),0,RIGHT($D54,1),1)),\"ERROR\"))))","v":0},{"$f":"IF(AT$24<STANDARD_YEAR,AT45,\nIF(RIGHT($D54,1)>RIGHT('Efficiency Levels'!$C$39,1),AT45,\nIF(RIGHT($D54,1)<RIGHT('Efficiency Levels'!$C$39,1),0,\nIF(RIGHT($D54,1)=RIGHT('Efficiency Levels'!$C$39,1),SUM(OFFSET(AT45,-RIGHT($D54,1),0,RIGHT($D54,1),1)),\"ERROR\"))))","v":0},{"$f":"IF(AU$24<STANDARD_YEAR,AU45,\nIF(RIGHT($D54,1)>RIGHT('Efficiency Levels'!$C$39,1),AU45,\nIF(RIGHT($D54,1)<RIGHT('Efficiency Levels'!$C$39,1),0,\nIF(RIGHT($D54,1)=RIGHT('Efficiency Levels'!$C$39,1),SUM(OFFSET(AU45,-RIGHT($D54,1),0,RIGHT($D54,1),1)),\"ERROR\"))))","v":0},{"$f":"IF(AV$24<STANDARD_YEAR,AV45,\nIF(RIGHT($D54,1)>RIGHT('Efficiency Levels'!$C$39,1),AV45,\nIF(RIGHT($D54,1)<RIGHT('Efficiency Levels'!$C$39,1),0,\nIF(RIGHT($D54,1)=RIGHT('Efficiency Levels'!$C$39,1),SUM(OFFSET(AV45,-RIGHT($D54,1),0,RIGHT($D54,1),1)),\"ERROR\"))))","v":0},{"$f":"IF(AW$24<STANDARD_YEAR,AW45,\nIF(RIGHT($D54,1)>RIGHT('Efficiency Levels'!$C$39,1),AW45,\nIF(RIGHT($D54,1)<RIGHT('Efficiency Levels'!$C$39,1),0,\nIF(RIGHT($D54,1)=RIGHT('Efficiency Levels'!$C$39,1),SUM(OFFSET(AW45,-RIGHT($D54,1),0,RIGHT($D54,1),1)),\"ERROR\"))))","v":0},{"$f":"IF(AX$24<STANDARD_YEAR,AX45,\nIF(RIGHT($D54,1)>RIGHT('Efficiency Levels'!$C$39,1),AX45,\nIF(RIGHT($D54,1)<RIGHT('Efficiency Levels'!$C$39,1),0,\nIF(RIGHT($D54,1)=RIGHT('Efficiency Levels'!$C$39,1),SUM(OFFSET(AX45,-RIGHT($D54,1),0,RIGHT($D54,1),1)),\"ERROR\"))))","v":0},{"$f":"IF(AY$24<STANDARD_YEAR,AY45,\nIF(RIGHT($D54,1)>RIGHT('Efficiency Levels'!$C$39,1),AY45,\nIF(RIGHT($D54,1)<RIGHT('Efficiency Levels'!$C$39,1),0,\nIF(RIGHT($D54,1)=RIGHT('Efficiency Levels'!$C$39,1),SUM(OFFSET(AY45,-RIGHT($D54,1),0,RIGHT($D54,1),1)),\"ERROR\"))))","v":0},{"$f":"IF(AZ$24<STANDARD_YEAR,AZ45,\nIF(RIGHT($D54,1)>RIGHT('Efficiency Levels'!$C$39,1),AZ45,\nIF(RIGHT($D54,1)<RIGHT('Efficiency Levels'!$C$39,1),0,\nIF(RIGHT($D54,1)=RIGHT('Efficiency Levels'!$C$39,1),SUM(OFFSET(AZ45,-RIGHT($D54,1),0,RIGHT($D54,1),1)),\"ERROR\"))))","v":0},{"$f":"IF(BA$24<STANDARD_YEAR,BA45,\nIF(RIGHT($D54,1)>RIGHT('Efficiency Levels'!$C$39,1),BA45,\nIF(RIGHT($D54,1)<RIGHT('Efficiency Levels'!$C$39,1),0,\nIF(RIGHT($D54,1)=RIGHT('Efficiency Levels'!$C$39,1),SUM(OFFSET(BA45,-RIGHT($D54,1),0,RIGHT($D54,1),1)),\"ERROR\"))))","v":0},{"$f":"IF(BB$24<STANDARD_YEAR,BB45,\nIF(RIGHT($D54,1)>RIGHT('Efficiency Levels'!$C$39,1),BB45,\nIF(RIGHT($D54,1)<RIGHT('Efficiency Levels'!$C$39,1),0,\nIF(RIGHT($D54,1)=RIGHT('Efficiency Levels'!$C$39,1),SUM(OFFSET(BB45,-RIGHT($D54,1),0,RIGHT($D54,1),1)),\"ERROR\"))))","v":0},{"$f":"IF(BC$24<STANDARD_YEAR,BC45,\nIF(RIGHT($D54,1)>RIGHT('Efficiency Levels'!$C$39,1),BC45,\nIF(RIGHT($D54,1)<RIGHT('Efficiency Levels'!$C$39,1),0,\nIF(RIGHT($D54,1)=RIGHT('Efficiency Levels'!$C$39,1),SUM(OFFSET(BC45,-RIGHT($D54,1),0,RIGHT($D54,1),1)),\"ERROR\"))))","v":0},{"$f":"IF(BD$24<STANDARD_YEAR,BD45,\nIF(RIGHT($D54,1)>RIGHT('Efficiency Levels'!$C$39,1),BD45,\nIF(RIGHT($D54,1)<RIGHT('Efficiency Levels'!$C$39,1),0,\nIF(RIGHT($D54,1)=RIGHT('Efficiency Levels'!$C$39,1),SUM(OFFSET(BD45,-RIGHT($D54,1),0,RIGHT($D54,1),1)),\"ERROR\"))))","v":0},{"$f":"IF(BE$24<STANDARD_YEAR,BE45,\nIF(RIGHT($D54,1)>RIGHT('Efficiency Levels'!$C$39,1),BE45,\nIF(RIGHT($D54,1)<RIGHT('Efficiency Levels'!$C$39,1),0,\nIF(RIGHT($D54,1)=RIGHT('Efficiency Levels'!$C$39,1),SUM(OFFSET(BE45,-RIGHT($D54,1),0,RIGHT($D54,1),1)),\"ERROR\"))))","v":0},{"$f":"IF(BF$24<STANDARD_YEAR,BF45,\nIF(RIGHT($D54,1)>RIGHT('Efficiency Levels'!$C$39,1),BF45,\nIF(RIGHT($D54,1)<RIGHT('Efficiency Levels'!$C$39,1),0,\nIF(RIGHT($D54,1)=RIGHT('Efficiency Levels'!$C$39,1),SUM(OFFSET(BF45,-RIGHT($D54,1),0,RIGHT($D54,1),1)),\"ERROR\"))))","v":0},{"$f":"IF(BG$24<STANDARD_YEAR,BG45,\nIF(RIGHT($D54,1)>RIGHT('Efficiency Levels'!$C$39,1),BG45,\nIF(RIGHT($D54,1)<RIGHT('Efficiency Levels'!$C$39,1),0,\nIF(RIGHT($D54,1)=RIGHT('Efficiency Levels'!$C$39,1),SUM(OFFSET(BG45,-RIGHT($D54,1),0,RIGHT($D54,1),1)),\"ERROR\"))))","v":0},{"$f":"IF(BH$24<STANDARD_YEAR,BH45,\nIF(RIGHT($D54,1)>RIGHT('Efficiency Levels'!$C$39,1),BH45,\nIF(RIGHT($D54,1)<RIGHT('Efficiency Levels'!$C$39,1),0,\nIF(RIGHT($D54,1)=RIGHT('Efficiency Levels'!$C$39,1),SUM(OFFSET(BH45,-RIGHT($D54,1),0,RIGHT($D54,1),1)),\"ERROR\"))))","v":0},{"$f":"IF(BI$24<STANDARD_YEAR,BI45,\nIF(RIGHT($D54,1)>RIGHT('Efficiency Levels'!$C$39,1),BI45,\nIF(RIGHT($D54,1)<RIGHT('Efficiency Levels'!$C$39,1),0,\nIF(RIGHT($D54,1)=RIGHT('Efficiency Levels'!$C$39,1),SUM(OFFSET(BI45,-RIGHT($D54,1),0,RIGHT($D54,1),1)),\"ERROR\"))))","v":0},{"$f":"IF(BJ$24<STANDARD_YEAR,BJ45,\nIF(RIGHT($D54,1)>RIGHT('Efficiency Levels'!$C$39,1),BJ45,\nIF(RIGHT($D54,1)<RIGHT('Efficiency Levels'!$C$39,1),0,\nIF(RIGHT($D54,1)=RIGHT('Efficiency Levels'!$C$39,1),SUM(OFFSET(BJ45,-RIGHT($D54,1),0,RIGHT($D54,1),1)),\"ERROR\"))))","v":0}]
[null,null,null,"EL3",{"$f":"OFFSET('Efficiency Levels'!$D$11,MATCH($C$39,'Efficiency Levels'!$C$9:$C$1002,0)+RIGHT(D55,1),0)","v":312},null,null,null,{"$f":"IF(I$24<STANDARD_YEAR,I46,\nIF(RIGHT($D55,1)>RIGHT('Efficiency Levels'!$C$39,1),I46,\nIF(RIGHT($D55,1)<RIGHT('Efficiency Levels'!$C$39,1),0,\nIF(RIGHT($D55,1)=RIGHT('Efficiency Levels'!$C$39,1),SUM(OFFSET(I46,-RIGHT($D55,1),0,RIGHT($D55,1),1)),\"ERROR\"))))","v":0},{"$f":"IF(J$24<STANDARD_YEAR,J46,\nIF(RIGHT($D55,1)>RIGHT('Efficiency Levels'!$C$39,1),J46,\nIF(RIGHT($D55,1)<RIGHT('Efficiency Levels'!$C$39,1),0,\nIF(RIGHT($D55,1)=RIGHT('Efficiency Levels'!$C$39,1),SUM(OFFSET(J46,-RIGHT($D55,1),0,RIGHT($D55,1),1)),\"ERROR\"))))","v":0},{"$f":"IF(K$24<STANDARD_YEAR,K46,\nIF(RIGHT($D55,1)>RIGHT('Efficiency Levels'!$C$39,1),K46,\nIF(RIGHT($D55,1)<RIGHT('Efficiency Levels'!$C$39,1),0,\nIF(RIGHT($D55,1)=RIGHT('Efficiency Levels'!$C$39,1),SUM(OFFSET(K46,-RIGHT($D55,1),0,RIGHT($D55,1),1)),\"ERROR\"))))","v":0},{"$f":"IF(L$24<STANDARD_YEAR,L46,\nIF(RIGHT($D55,1)>RIGHT('Efficiency Levels'!$C$39,1),L46,\nIF(RIGHT($D55,1)<RIGHT('Efficiency Levels'!$C$39,1),0,\nIF(RIGHT($D55,1)=RIGHT('Efficiency Levels'!$C$39,1),SUM(OFFSET(L46,-RIGHT($D55,1),0,RIGHT($D55,1),1)),\"ERROR\"))))","v":0},{"$f":"IF(M$24<STANDARD_YEAR,M46,\nIF(RIGHT($D55,1)>RIGHT('Efficiency Levels'!$C$39,1),M46,\nIF(RIGHT($D55,1)<RIGHT('Efficiency Levels'!$C$39,1),0,\nIF(RIGHT($D55,1)=RIGHT('Efficiency Levels'!$C$39,1),SUM(OFFSET(M46,-RIGHT($D55,1),0,RIGHT($D55,1),1)),\"ERROR\"))))","v":0},{"$f":"IF(N$24<STANDARD_YEAR,N46,\nIF(RIGHT($D55,1)>RIGHT('Efficiency Levels'!$C$39,1),N46,\nIF(RIGHT($D55,1)<RIGHT('Efficiency Levels'!$C$39,1),0,\nIF(RIGHT($D55,1)=RIGHT('Efficiency Levels'!$C$39,1),SUM(OFFSET(N46,-RIGHT($D55,1),0,RIGHT($D55,1),1)),\"ERROR\"))))","v":0},{"$f":"IF(O$24<STANDARD_YEAR,O46,\nIF(RIGHT($D55,1)>RIGHT('Efficiency Levels'!$C$39,1),O46,\nIF(RIGHT($D55,1)<RIGHT('Efficiency Levels'!$C$39,1),0,\nIF(RIGHT($D55,1)=RIGHT('Efficiency Levels'!$C$39,1),SUM(OFFSET(O46,-RIGHT($D55,1),0,RIGHT($D55,1),1)),\"ERROR\"))))","v":0},{"$f":"IF(P$24<STANDARD_YEAR,P46,\nIF(RIGHT($D55,1)>RIGHT('Efficiency Levels'!$C$39,1),P46,\nIF(RIGHT($D55,1)<RIGHT('Efficiency Levels'!$C$39,1),0,\nIF(RIGHT($D55,1)=RIGHT('Efficiency Levels'!$C$39,1),SUM(OFFSET(P46,-RIGHT($D55,1),0,RIGHT($D55,1),1)),\"ERROR\"))))","v":0},{"$f":"IF(Q$24<STANDARD_YEAR,Q46,\nIF(RIGHT($D55,1)>RIGHT('Efficiency Levels'!$C$39,1),Q46,\nIF(RIGHT($D55,1)<RIGHT('Efficiency Levels'!$C$39,1),0,\nIF(RIGHT($D55,1)=RIGHT('Efficiency Levels'!$C$39,1),SUM(OFFSET(Q46,-RIGHT($D55,1),0,RIGHT($D55,1),1)),\"ERROR\"))))","v":0},{"$f":"IF(R$24<STANDARD_YEAR,R46,\nIF(RIGHT($D55,1)>RIGHT('Efficiency Levels'!$C$39,1),R46,\nIF(RIGHT($D55,1)<RIGHT('Efficiency Levels'!$C$39,1),0,\nIF(RIGHT($D55,1)=RIGHT('Efficiency Levels'!$C$39,1),SUM(OFFSET(R46,-RIGHT($D55,1),0,RIGHT($D55,1),1)),\"ERROR\"))))","v":0},{"$f":"IF(S$24<STANDARD_YEAR,S46,\nIF(RIGHT($D55,1)>RIGHT('Efficiency Levels'!$C$39,1),S46,\nIF(RIGHT($D55,1)<RIGHT('Efficiency Levels'!$C$39,1),0,\nIF(RIGHT($D55,1)=RIGHT('Efficiency Levels'!$C$39,1),SUM(OFFSET(S46,-RIGHT($D55,1),0,RIGHT($D55,1),1)),\"ERROR\"))))","v":0},{"$f":"IF(T$24<STANDARD_YEAR,T46,\nIF(RIGHT($D55,1)>RIGHT('Efficiency Levels'!$C$39,1),T46,\nIF(RIGHT($D55,1)<RIGHT('Efficiency Levels'!$C$39,1),0,\nIF(RIGHT($D55,1)=RIGHT('Efficiency Levels'!$C$39,1),SUM(OFFSET(T46,-RIGHT($D55,1),0,RIGHT($D55,1),1)),\"ERROR\"))))","v":0},{"$f":"IF(U$24<STANDARD_YEAR,U46,\nIF(RIGHT($D55,1)>RIGHT('Efficiency Levels'!$C$39,1),U46,\nIF(RIGHT($D55,1)<RIGHT('Efficiency Levels'!$C$39,1),0,\nIF(RIGHT($D55,1)=RIGHT('Efficiency Levels'!$C$39,1),SUM(OFFSET(U46,-RIGHT($D55,1),0,RIGHT($D55,1),1)),\"ERROR\"))))","v":0},{"$f":"IF(V$24<STANDARD_YEAR,V46,\nIF(RIGHT($D55,1)>RIGHT('Efficiency Levels'!$C$39,1),V46,\nIF(RIGHT($D55,1)<RIGHT('Efficiency Levels'!$C$39,1),0,\nIF(RIGHT($D55,1)=RIGHT('Efficiency Levels'!$C$39,1),SUM(OFFSET(V46,-RIGHT($D55,1),0,RIGHT($D55,1),1)),\"ERROR\"))))","v":0},{"$f":"IF(W$24<STANDARD_YEAR,W46,\nIF(RIGHT($D55,1)>RIGHT('Efficiency Levels'!$C$39,1),W46,\nIF(RIGHT($D55,1)<RIGHT('Efficiency Levels'!$C$39,1),0,\nIF(RIGHT($D55,1)=RIGHT('Efficiency Levels'!$C$39,1),SUM(OFFSET(W46,-RIGHT($D55,1),0,RIGHT($D55,1),1)),\"ERROR\"))))","v":0},{"$f":"IF(X$24<STANDARD_YEAR,X46,\nIF(RIGHT($D55,1)>RIGHT('Efficiency Levels'!$C$39,1),X46,\nIF(RIGHT($D55,1)<RIGHT('Efficiency Levels'!$C$39,1),0,\nIF(RIGHT($D55,1)=RIGHT('Efficiency Levels'!$C$39,1),SUM(OFFSET(X46,-RIGHT($D55,1),0,RIGHT($D55,1),1)),\"ERROR\"))))","v":0},{"$f":"IF(Y$24<STANDARD_YEAR,Y46,\nIF(RIGHT($D55,1)>RIGHT('Efficiency Levels'!$C$39,1),Y46,\nIF(RIGHT($D55,1)<RIGHT('Efficiency Levels'!$C$39,1),0,\nIF(RIGHT($D55,1)=RIGHT('Efficiency Levels'!$C$39,1),SUM(OFFSET(Y46,-RIGHT($D55,1),0,RIGHT($D55,1),1)),\"ERROR\"))))","v":0},{"$f":"IF(Z$24<STANDARD_YEAR,Z46,\nIF(RIGHT($D55,1)>RIGHT('Efficiency Levels'!$C$39,1),Z46,\nIF(RIGHT($D55,1)<RIGHT('Efficiency Levels'!$C$39,1),0,\nIF(RIGHT($D55,1)=RIGHT('Efficiency Levels'!$C$39,1),SUM(OFFSET(Z46,-RIGHT($D55,1),0,RIGHT($D55,1),1)),\"ERROR\"))))","v":0},{"$f":"IF(AA$24<STANDARD_YEAR,AA46,\nIF(RIGHT($D55,1)>RIGHT('Efficiency Levels'!$C$39,1),AA46,\nIF(RIGHT($D55,1)<RIGHT('Efficiency Levels'!$C$39,1),0,\nIF(RIGHT($D55,1)=RIGHT('Efficiency Levels'!$C$39,1),SUM(OFFSET(AA46,-RIGHT($D55,1),0,RIGHT($D55,1),1)),\"ERROR\"))))","v":0},{"$f":"IF(AB$24<STANDARD_YEAR,AB46,\nIF(RIGHT($D55,1)>RIGHT('Efficiency Levels'!$C$39,1),AB46,\nIF(RIGHT($D55,1)<RIGHT('Efficiency Levels'!$C$39,1),0,\nIF(RIGHT($D55,1)=RIGHT('Efficiency Levels'!$C$39,1),SUM(OFFSET(AB46,-RIGHT($D55,1),0,RIGHT($D55,1),1)),\"ERROR\"))))","v":0},{"$f":"IF(AC$24<STANDARD_YEAR,AC46,\nIF(RIGHT($D55,1)>RIGHT('Efficiency Levels'!$C$39,1),AC46,\nIF(RIGHT($D55,1)<RIGHT('Efficiency Levels'!$C$39,1),0,\nIF(RIGHT($D55,1)=RIGHT('Efficiency Levels'!$C$39,1),SUM(OFFSET(AC46,-RIGHT($D55,1),0,RIGHT($D55,1),1)),\"ERROR\"))))","v":0},{"$f":"IF(AD$24<STANDARD_YEAR,AD46,\nIF(RIGHT($D55,1)>RIGHT('Efficiency Levels'!$C$39,1),AD46,\nIF(RIGHT($D55,1)<RIGHT('Efficiency Levels'!$C$39,1),0,\nIF(RIGHT($D55,1)=RIGHT('Efficiency Levels'!$C$39,1),SUM(OFFSET(AD46,-RIGHT($D55,1),0,RIGHT($D55,1),1)),\"ERROR\"))))","v":0},{"$f":"IF(AE$24<STANDARD_YEAR,AE46,\nIF(RIGHT($D55,1)>RIGHT('Efficiency Levels'!$C$39,1),AE46,\nIF(RIGHT($D55,1)<RIGHT('Efficiency Levels'!$C$39,1),0,\nIF(RIGHT($D55,1)=RIGHT('Efficiency Levels'!$C$39,1),SUM(OFFSET(AE46,-RIGHT($D55,1),0,RIGHT($D55,1),1)),\"ERROR\"))))","v":0},{"$f":"IF(AF$24<STANDARD_YEAR,AF46,\nIF(RIGHT($D55,1)>RIGHT('Efficiency Levels'!$C$39,1),AF46,\nIF(RIGHT($D55,1)<RIGHT('Efficiency Levels'!$C$39,1),0,\nIF(RIGHT($D55,1)=RIGHT('Efficiency Levels'!$C$39,1),SUM(OFFSET(AF46,-RIGHT($D55,1),0,RIGHT($D55,1),1)),\"ERROR\"))))","v":0},{"$f":"IF(AG$24<STANDARD_YEAR,AG46,\nIF(RIGHT($D55,1)>RIGHT('Efficiency Levels'!$C$39,1),AG46,\nIF(RIGHT($D55,1)<RIGHT('Efficiency Levels'!$C$39,1),0,\nIF(RIGHT($D55,1)=RIGHT('Efficiency Levels'!$C$39,1),SUM(OFFSET(AG46,-RIGHT($D55,1),0,RIGHT($D55,1),1)),\"ERROR\"))))","v":0},{"$f":"IF(AH$24<STANDARD_YEAR,AH46,\nIF(RIGHT($D55,1)>RIGHT('Efficiency Levels'!$C$39,1),AH46,\nIF(RIGHT($D55,1)<RIGHT('Efficiency Levels'!$C$39,1),0,\nIF(RIGHT($D55,1)=RIGHT('Efficiency Levels'!$C$39,1),SUM(OFFSET(AH46,-RIGHT($D55,1),0,RIGHT($D55,1),1)),\"ERROR\"))))","v":0},{"$f":"IF(AI$24<STANDARD_YEAR,AI46,\nIF(RIGHT($D55,1)>RIGHT('Efficiency Levels'!$C$39,1),AI46,\nIF(RIGHT($D55,1)<RIGHT('Efficiency Levels'!$C$39,1),0,\nIF(RIGHT($D55,1)=RIGHT('Efficiency Levels'!$C$39,1),SUM(OFFSET(AI46,-RIGHT($D55,1),0,RIGHT($D55,1),1)),\"ERROR\"))))","v":0},{"$f":"IF(AJ$24<STANDARD_YEAR,AJ46,\nIF(RIGHT($D55,1)>RIGHT('Efficiency Levels'!$C$39,1),AJ46,\nIF(RIGHT($D55,1)<RIGHT('Efficiency Levels'!$C$39,1),0,\nIF(RIGHT($D55,1)=RIGHT('Efficiency Levels'!$C$39,1),SUM(OFFSET(AJ46,-RIGHT($D55,1),0,RIGHT($D55,1),1)),\"ERROR\"))))","v":0},{"$f":"IF(AK$24<STANDARD_YEAR,AK46,\nIF(RIGHT($D55,1)>RIGHT('Efficiency Levels'!$C$39,1),AK46,\nIF(RIGHT($D55,1)<RIGHT('Efficiency Levels'!$C$39,1),0,\nIF(RIGHT($D55,1)=RIGHT('Efficiency Levels'!$C$39,1),SUM(OFFSET(AK46,-RIGHT($D55,1),0,RIGHT($D55,1),1)),\"ERROR\"))))","v":0},{"$f":"IF(AL$24<STANDARD_YEAR,AL46,\nIF(RIGHT($D55,1)>RIGHT('Efficiency Levels'!$C$39,1),AL46,\nIF(RIGHT($D55,1)<RIGHT('Efficiency Levels'!$C$39,1),0,\nIF(RIGHT($D55,1)=RIGHT('Efficiency Levels'!$C$39,1),SUM(OFFSET(AL46,-RIGHT($D55,1),0,RIGHT($D55,1),1)),\"ERROR\"))))","v":0},{"$f":"IF(AM$24<STANDARD_YEAR,AM46,\nIF(RIGHT($D55,1)>RIGHT('Efficiency Levels'!$C$39,1),AM46,\nIF(RIGHT($D55,1)<RIGHT('Efficiency Levels'!$C$39,1),0,\nIF(RIGHT($D55,1)=RIGHT('Efficiency Levels'!$C$39,1),SUM(OFFSET(AM46,-RIGHT($D55,1),0,RIGHT($D55,1),1)),\"ERROR\"))))","v":0},{"$f":"IF(AN$24<STANDARD_YEAR,AN46,\nIF(RIGHT($D55,1)>RIGHT('Efficiency Levels'!$C$39,1),AN46,\nIF(RIGHT($D55,1)<RIGHT('Efficiency Levels'!$C$39,1),0,\nIF(RIGHT($D55,1)=RIGHT('Efficiency Levels'!$C$39,1),SUM(OFFSET(AN46,-RIGHT($D55,1),0,RIGHT($D55,1),1)),\"ERROR\"))))","v":0},{"$f":"IF(AO$24<STANDARD_YEAR,AO46,\nIF(RIGHT($D55,1)>RIGHT('Efficiency Levels'!$C$39,1),AO46,\nIF(RIGHT($D55,1)<RIGHT('Efficiency Levels'!$C$39,1),0,\nIF(RIGHT($D55,1)=RIGHT('Efficiency Levels'!$C$39,1),SUM(OFFSET(AO46,-RIGHT($D55,1),0,RIGHT($D55,1),1)),\"ERROR\"))))","v":0},{"$f":"IF(AP$24<STANDARD_YEAR,AP46,\nIF(RIGHT($D55,1)>RIGHT('Efficiency Levels'!$C$39,1),AP46,\nIF(RIGHT($D55,1)<RIGHT('Efficiency Levels'!$C$39,1),0,\nIF(RIGHT($D55,1)=RIGHT('Efficiency Levels'!$C$39,1),SUM(OFFSET(AP46,-RIGHT($D55,1),0,RIGHT($D55,1),1)),\"ERROR\"))))","v":0},{"$f":"IF(AQ$24<STANDARD_YEAR,AQ46,\nIF(RIGHT($D55,1)>RIGHT('Efficiency Levels'!$C$39,1),AQ46,\nIF(RIGHT($D55,1)<RIGHT('Efficiency Levels'!$C$39,1),0,\nIF(RIGHT($D55,1)=RIGHT('Efficiency Levels'!$C$39,1),SUM(OFFSET(AQ46,-RIGHT($D55,1),0,RIGHT($D55,1),1)),\"ERROR\"))))","v":0},{"$f":"IF(AR$24<STANDARD_YEAR,AR46,\nIF(RIGHT($D55,1)>RIGHT('Efficiency Levels'!$C$39,1),AR46,\nIF(RIGHT($D55,1)<RIGHT('Efficiency Levels'!$C$39,1),0,\nIF(RIGHT($D55,1)=RIGHT('Efficiency Levels'!$C$39,1),SUM(OFFSET(AR46,-RIGHT($D55,1),0,RIGHT($D55,1),1)),\"ERROR\"))))","v":0},{"$f":"IF(AS$24<STANDARD_YEAR,AS46,\nIF(RIGHT($D55,1)>RIGHT('Efficiency Levels'!$C$39,1),AS46,\nIF(RIGHT($D55,1)<RIGHT('Efficiency Levels'!$C$39,1),0,\nIF(RIGHT($D55,1)=RIGHT('Efficiency Levels'!$C$39,1),SUM(OFFSET(AS46,-RIGHT($D55,1),0,RIGHT($D55,1),1)),\"ERROR\"))))","v":0},{"$f":"IF(AT$24<STANDARD_YEAR,AT46,\nIF(RIGHT($D55,1)>RIGHT('Efficiency Levels'!$C$39,1),AT46,\nIF(RIGHT($D55,1)<RIGHT('Efficiency Levels'!$C$39,1),0,\nIF(RIGHT($D55,1)=RIGHT('Efficiency Levels'!$C$39,1),SUM(OFFSET(AT46,-RIGHT($D55,1),0,RIGHT($D55,1),1)),\"ERROR\"))))","v":0},{"$f":"IF(AU$24<STANDARD_YEAR,AU46,\nIF(RIGHT($D55,1)>RIGHT('Efficiency Levels'!$C$39,1),AU46,\nIF(RIGHT($D55,1)<RIGHT('Efficiency Levels'!$C$39,1),0,\nIF(RIGHT($D55,1)=RIGHT('Efficiency Levels'!$C$39,1),SUM(OFFSET(AU46,-RIGHT($D55,1),0,RIGHT($D55,1),1)),\"ERROR\"))))","v":1},{"$f":"IF(AV$24<STANDARD_YEAR,AV46,\nIF(RIGHT($D55,1)>RIGHT('Efficiency Levels'!$C$39,1),AV46,\nIF(RIGHT($D55,1)<RIGHT('Efficiency Levels'!$C$39,1),0,\nIF(RIGHT($D55,1)=RIGHT('Efficiency Levels'!$C$39,1),SUM(OFFSET(AV46,-RIGHT($D55,1),0,RIGHT($D55,1),1)),\"ERROR\"))))","v":1},{"$f":"IF(AW$24<STANDARD_YEAR,AW46,\nIF(RIGHT($D55,1)>RIGHT('Efficiency Levels'!$C$39,1),AW46,\nIF(RIGHT($D55,1)<RIGHT('Efficiency Levels'!$C$39,1),0,\nIF(RIGHT($D55,1)=RIGHT('Efficiency Levels'!$C$39,1),SUM(OFFSET(AW46,-RIGHT($D55,1),0,RIGHT($D55,1),1)),\"ERROR\"))))","v":1},{"$f":"IF(AX$24<STANDARD_YEAR,AX46,\nIF(RIGHT($D55,1)>RIGHT('Efficiency Levels'!$C$39,1),AX46,\nIF(RIGHT($D55,1)<RIGHT('Efficiency Levels'!$C$39,1),0,\nIF(RIGHT($D55,1)=RIGHT('Efficiency Levels'!$C$39,1),SUM(OFFSET(AX46,-RIGHT($D55,1),0,RIGHT($D55,1),1)),\"ERROR\"))))","v":1},{"$f":"IF(AY$24<STANDARD_YEAR,AY46,\nIF(RIGHT($D55,1)>RIGHT('Efficiency Levels'!$C$39,1),AY46,\nIF(RIGHT($D55,1)<RIGHT('Efficiency Levels'!$C$39,1),0,\nIF(RIGHT($D55,1)=RIGHT('Efficiency Levels'!$C$39,1),SUM(OFFSET(AY46,-RIGHT($D55,1),0,RIGHT($D55,1),1)),\"ERROR\"))))","v":1},{"$f":"IF(AZ$24<STANDARD_YEAR,AZ46,\nIF(RIGHT($D55,1)>RIGHT('Efficiency Levels'!$C$39,1),AZ46,\nIF(RIGHT($D55,1)<RIGHT('Efficiency Levels'!$C$39,1),0,\nIF(RIGHT($D55,1)=RIGHT('Efficiency Levels'!$C$39,1),SUM(OFFSET(AZ46,-RIGHT($D55,1),0,RIGHT($D55,1),1)),\"ERROR\"))))","v":1},{"$f":"IF(BA$24<STANDARD_YEAR,BA46,\nIF(RIGHT($D55,1)>RIGHT('Efficiency Levels'!$C$39,1),BA46,\nIF(RIGHT($D55,1)<RIGHT('Efficiency Levels'!$C$39,1),0,\nIF(RIGHT($D55,1)=RIGHT('Efficiency Levels'!$C$39,1),SUM(OFFSET(BA46,-RIGHT($D55,1),0,RIGHT($D55,1),1)),\"ERROR\"))))","v":1},{"$f":"IF(BB$24<STANDARD_YEAR,BB46,\nIF(RIGHT($D55,1)>RIGHT('Efficiency Levels'!$C$39,1),BB46,\nIF(RIGHT($D55,1)<RIGHT('Efficiency Levels'!$C$39,1),0,\nIF(RIGHT($D55,1)=RIGHT('Efficiency Levels'!$C$39,1),SUM(OFFSET(BB46,-RIGHT($D55,1),0,RIGHT($D55,1),1)),\"ERROR\"))))","v":1},{"$f":"IF(BC$24<STANDARD_YEAR,BC46,\nIF(RIGHT($D55,1)>RIGHT('Efficiency Levels'!$C$39,1),BC46,\nIF(RIGHT($D55,1)<RIGHT('Efficiency Levels'!$C$39,1),0,\nIF(RIGHT($D55,1)=RIGHT('Efficiency Levels'!$C$39,1),SUM(OFFSET(BC46,-RIGHT($D55,1),0,RIGHT($D55,1),1)),\"ERROR\"))))","v":1},{"$f":"IF(BD$24<STANDARD_YEAR,BD46,\nIF(RIGHT($D55,1)>RIGHT('Efficiency Levels'!$C$39,1),BD46,\nIF(RIGHT($D55,1)<RIGHT('Efficiency Levels'!$C$39,1),0,\nIF(RIGHT($D55,1)=RIGHT('Efficiency Levels'!$C$39,1),SUM(OFFSET(BD46,-RIGHT($D55,1),0,RIGHT($D55,1),1)),\"ERROR\"))))","v":1},{"$f":"IF(BE$24<STANDARD_YEAR,BE46,\nIF(RIGHT($D55,1)>RIGHT('Efficiency Levels'!$C$39,1),BE46,\nIF(RIGHT($D55,1)<RIGHT('Efficiency Levels'!$C$39,1),0,\nIF(RIGHT($D55,1)=RIGHT('Efficiency Levels'!$C$39,1),SUM(OFFSET(BE46,-RIGHT($D55,1),0,RIGHT($D55,1),1)),\"ERROR\"))))","v":1},{"$f":"IF(BF$24<STANDARD_YEAR,BF46,\nIF(RIGHT($D55,1)>RIGHT('Efficiency Levels'!$C$39,1),BF46,\nIF(RIGHT($D55,1)<RIGHT('Efficiency Levels'!$C$39,1),0,\nIF(RIGHT($D55,1)=RIGHT('Efficiency Levels'!$C$39,1),SUM(OFFSET(BF46,-RIGHT($D55,1),0,RIGHT($D55,1),1)),\"ERROR\"))))","v":1},{"$f":"IF(BG$24<STANDARD_YEAR,BG46,\nIF(RIGHT($D55,1)>RIGHT('Efficiency Levels'!$C$39,1),BG46,\nIF(RIGHT($D55,1)<RIGHT('Efficiency Levels'!$C$39,1),0,\nIF(RIGHT($D55,1)=RIGHT('Efficiency Levels'!$C$39,1),SUM(OFFSET(BG46,-RIGHT($D55,1),0,RIGHT($D55,1),1)),\"ERROR\"))))","v":1},{"$f":"IF(BH$24<STANDARD_YEAR,BH46,\nIF(RIGHT($D55,1)>RIGHT('Efficiency Levels'!$C$39,1),BH46,\nIF(RIGHT($D55,1)<RIGHT('Efficiency Levels'!$C$39,1),0,\nIF(RIGHT($D55,1)=RIGHT('Efficiency Levels'!$C$39,1),SUM(OFFSET(BH46,-RIGHT($D55,1),0,RIGHT($D55,1),1)),\"ERROR\"))))","v":1},{"$f":"IF(BI$24<STANDARD_YEAR,BI46,\nIF(RIGHT($D55,1)>RIGHT('Efficiency Levels'!$C$39,1),BI46,\nIF(RIGHT($D55,1)<RIGHT('Efficiency Levels'!$C$39,1),0,\nIF(RIGHT($D55,1)=RIGHT('Efficiency Levels'!$C$39,1),SUM(OFFSET(BI46,-RIGHT($D55,1),0,RIGHT($D55,1),1)),\"ERROR\"))))","v":1},{"$f":"IF(BJ$24<STANDARD_YEAR,BJ46,\nIF(RIGHT($D55,1)>RIGHT('Efficiency Levels'!$C$39,1),BJ46,\nIF(RIGHT($D55,1)<RIGHT('Efficiency Levels'!$C$39,1),0,\nIF(RIGHT($D55,1)=RIGHT('Efficiency Levels'!$C$39,1),SUM(OFFSET(BJ46,-RIGHT($D55,1),0,RIGHT($D55,1),1)),\"ERROR\"))))","v":1}]
[null,null,null,"EL4",{"$f":"OFFSET('Efficiency Levels'!$D$11,MATCH($C$39,'Efficiency Levels'!$C$9:$C$1002,0)+RIGHT(D56,1),0)","v":271.89999999999998},null,null,null,{"$f":"IF(I$24<STANDARD_YEAR,I47,\nIF(RIGHT($D56,1)>RIGHT('Efficiency Levels'!$C$39,1),I47,\nIF(RIGHT($D56,1)<RIGHT('Efficiency Levels'!$C$39,1),0,\nIF(RIGHT($D56,1)=RIGHT('Efficiency Levels'!$C$39,1),SUM(OFFSET(I47,-RIGHT($D56,1),0,RIGHT($D56,1),1)),\"ERROR\"))))","v":0},{"$f":"IF(J$24<STANDARD_YEAR,J47,\nIF(RIGHT($D56,1)>RIGHT('Efficiency Levels'!$C$39,1),J47,\nIF(RIGHT($D56,1)<RIGHT('Efficiency Levels'!$C$39,1),0,\nIF(RIGHT($D56,1)=RIGHT('Efficiency Levels'!$C$39,1),SUM(OFFSET(J47,-RIGHT($D56,1),0,RIGHT($D56,1),1)),\"ERROR\"))))","v":0},{"$f":"IF(K$24<STANDARD_YEAR,K47,\nIF(RIGHT($D56,1)>RIGHT('Efficiency Levels'!$C$39,1),K47,\nIF(RIGHT($D56,1)<RIGHT('Efficiency Levels'!$C$39,1),0,\nIF(RIGHT($D56,1)=RIGHT('Efficiency Levels'!$C$39,1),SUM(OFFSET(K47,-RIGHT($D56,1),0,RIGHT($D56,1),1)),\"ERROR\"))))","v":0},{"$f":"IF(L$24<STANDARD_YEAR,L47,\nIF(RIGHT($D56,1)>RIGHT('Efficiency Levels'!$C$39,1),L47,\nIF(RIGHT($D56,1)<RIGHT('Efficiency Levels'!$C$39,1),0,\nIF(RIGHT($D56,1)=RIGHT('Efficiency Levels'!$C$39,1),SUM(OFFSET(L47,-RIGHT($D56,1),0,RIGHT($D56,1),1)),\"ERROR\"))))","v":0},{"$f":"IF(M$24<STANDARD_YEAR,M47,\nIF(RIGHT($D56,1)>RIGHT('Efficiency Levels'!$C$39,1),M47,\nIF(RIGHT($D56,1)<RIGHT('Efficiency Levels'!$C$39,1),0,\nIF(RIGHT($D56,1)=RIGHT('Efficiency Levels'!$C$39,1),SUM(OFFSET(M47,-RIGHT($D56,1),0,RIGHT($D56,1),1)),\"ERROR\"))))","v":0},{"$f":"IF(N$24<STANDARD_YEAR,N47,\nIF(RIGHT($D56,1)>RIGHT('Efficiency Levels'!$C$39,1),N47,\nIF(RIGHT($D56,1)<RIGHT('Efficiency Levels'!$C$39,1),0,\nIF(RIGHT($D56,1)=RIGHT('Efficiency Levels'!$C$39,1),SUM(OFFSET(N47,-RIGHT($D56,1),0,RIGHT($D56,1),1)),\"ERROR\"))))","v":0},{"$f":"IF(O$24<STANDARD_YEAR,O47,\nIF(RIGHT($D56,1)>RIGHT('Efficiency Levels'!$C$39,1),O47,\nIF(RIGHT($D56,1)<RIGHT('Efficiency Levels'!$C$39,1),0,\nIF(RIGHT($D56,1)=RIGHT('Efficiency Levels'!$C$39,1),SUM(OFFSET(O47,-RIGHT($D56,1),0,RIGHT($D56,1),1)),\"ERROR\"))))","v":0},{"$f":"IF(P$24<STANDARD_YEAR,P47,\nIF(RIGHT($D56,1)>RIGHT('Efficiency Levels'!$C$39,1),P47,\nIF(RIGHT($D56,1)<RIGHT('Efficiency Levels'!$C$39,1),0,\nIF(RIGHT($D56,1)=RIGHT('Efficiency Levels'!$C$39,1),SUM(OFFSET(P47,-RIGHT($D56,1),0,RIGHT($D56,1),1)),\"ERROR\"))))","v":0},{"$f":"IF(Q$24<STANDARD_YEAR,Q47,\nIF(RIGHT($D56,1)>RIGHT('Efficiency Levels'!$C$39,1),Q47,\nIF(RIGHT($D56,1)<RIGHT('Efficiency Levels'!$C$39,1),0,\nIF(RIGHT($D56,1)=RIGHT('Efficiency Levels'!$C$39,1),SUM(OFFSET(Q47,-RIGHT($D56,1),0,RIGHT($D56,1),1)),\"ERROR\"))))","v":0},{"$f":"IF(R$24<STANDARD_YEAR,R47,\nIF(RIGHT($D56,1)>RIGHT('Efficiency Levels'!$C$39,1),R47,\nIF(RIGHT($D56,1)<RIGHT('Efficiency Levels'!$C$39,1),0,\nIF(RIGHT($D56,1)=RIGHT('Efficiency Levels'!$C$39,1),SUM(OFFSET(R47,-RIGHT($D56,1),0,RIGHT($D56,1),1)),\"ERROR\"))))","v":0},{"$f":"IF(S$24<STANDARD_YEAR,S47,\nIF(RIGHT($D56,1)>RIGHT('Efficiency Levels'!$C$39,1),S47,\nIF(RIGHT($D56,1)<RIGHT('Efficiency Levels'!$C$39,1),0,\nIF(RIGHT($D56,1)=RIGHT('Efficiency Levels'!$C$39,1),SUM(OFFSET(S47,-RIGHT($D56,1),0,RIGHT($D56,1),1)),\"ERROR\"))))","v":0},{"$f":"IF(T$24<STANDARD_YEAR,T47,\nIF(RIGHT($D56,1)>RIGHT('Efficiency Levels'!$C$39,1),T47,\nIF(RIGHT($D56,1)<RIGHT('Efficiency Levels'!$C$39,1),0,\nIF(RIGHT($D56,1)=RIGHT('Efficiency Levels'!$C$39,1),SUM(OFFSET(T47,-RIGHT($D56,1),0,RIGHT($D56,1),1)),\"ERROR\"))))","v":0},{"$f":"IF(U$24<STANDARD_YEAR,U47,\nIF(RIGHT($D56,1)>RIGHT('Efficiency Levels'!$C$39,1),U47,\nIF(RIGHT($D56,1)<RIGHT('Efficiency Levels'!$C$39,1),0,\nIF(RIGHT($D56,1)=RIGHT('Efficiency Levels'!$C$39,1),SUM(OFFSET(U47,-RIGHT($D56,1),0,RIGHT($D56,1),1)),\"ERROR\"))))","v":0},{"$f":"IF(V$24<STANDARD_YEAR,V47,\nIF(RIGHT($D56,1)>RIGHT('Efficiency Levels'!$C$39,1),V47,\nIF(RIGHT($D56,1)<RIGHT('Efficiency Levels'!$C$39,1),0,\nIF(RIGHT($D56,1)=RIGHT('Efficiency Levels'!$C$39,1),SUM(OFFSET(V47,-RIGHT($D56,1),0,RIGHT($D56,1),1)),\"ERROR\"))))","v":0},{"$f":"IF(W$24<STANDARD_YEAR,W47,\nIF(RIGHT($D56,1)>RIGHT('Efficiency Levels'!$C$39,1),W47,\nIF(RIGHT($D56,1)<RIGHT('Efficiency Levels'!$C$39,1),0,\nIF(RIGHT($D56,1)=RIGHT('Efficiency Levels'!$C$39,1),SUM(OFFSET(W47,-RIGHT($D56,1),0,RIGHT($D56,1),1)),\"ERROR\"))))","v":0},{"$f":"IF(X$24<STANDARD_YEAR,X47,\nIF(RIGHT($D56,1)>RIGHT('Efficiency Levels'!$C$39,1),X47,\nIF(RIGHT($D56,1)<RIGHT('Efficiency Levels'!$C$39,1),0,\nIF(RIGHT($D56,1)=RIGHT('Efficiency Levels'!$C$39,1),SUM(OFFSET(X47,-RIGHT($D56,1),0,RIGHT($D56,1),1)),\"ERROR\"))))","v":0},{"$f":"IF(Y$24<STANDARD_YEAR,Y47,\nIF(RIGHT($D56,1)>RIGHT('Efficiency Levels'!$C$39,1),Y47,\nIF(RIGHT($D56,1)<RIGHT('Efficiency Levels'!$C$39,1),0,\nIF(RIGHT($D56,1)=RIGHT('Efficiency Levels'!$C$39,1),SUM(OFFSET(Y47,-RIGHT($D56,1),0,RIGHT($D56,1),1)),\"ERROR\"))))","v":0},{"$f":"IF(Z$24<STANDARD_YEAR,Z47,\nIF(RIGHT($D56,1)>RIGHT('Efficiency Levels'!$C$39,1),Z47,\nIF(RIGHT($D56,1)<RIGHT('Efficiency Levels'!$C$39,1),0,\nIF(RIGHT($D56,1)=RIGHT('Efficiency Levels'!$C$39,1),SUM(OFFSET(Z47,-RIGHT($D56,1),0,RIGHT($D56,1),1)),\"ERROR\"))))","v":0},{"$f":"IF(AA$24<STANDARD_YEAR,AA47,\nIF(RIGHT($D56,1)>RIGHT('Efficiency Levels'!$C$39,1),AA47,\nIF(RIGHT($D56,1)<RIGHT('Efficiency Levels'!$C$39,1),0,\nIF(RIGHT($D56,1)=RIGHT('Efficiency Levels'!$C$39,1),SUM(OFFSET(AA47,-RIGHT($D56,1),0,RIGHT($D56,1),1)),\"ERROR\"))))","v":0},{"$f":"IF(AB$24<STANDARD_YEAR,AB47,\nIF(RIGHT($D56,1)>RIGHT('Efficiency Levels'!$C$39,1),AB47,\nIF(RIGHT($D56,1)<RIGHT('Efficiency Levels'!$C$39,1),0,\nIF(RIGHT($D56,1)=RIGHT('Efficiency Levels'!$C$39,1),SUM(OFFSET(AB47,-RIGHT($D56,1),0,RIGHT($D56,1),1)),\"ERROR\"))))","v":0},{"$f":"IF(AC$24<STANDARD_YEAR,AC47,\nIF(RIGHT($D56,1)>RIGHT('Efficiency Levels'!$C$39,1),AC47,\nIF(RIGHT($D56,1)<RIGHT('Efficiency Levels'!$C$39,1),0,\nIF(RIGHT($D56,1)=RIGHT('Efficiency Levels'!$C$39,1),SUM(OFFSET(AC47,-RIGHT($D56,1),0,RIGHT($D56,1),1)),\"ERROR\"))))","v":0},{"$f":"IF(AD$24<STANDARD_YEAR,AD47,\nIF(RIGHT($D56,1)>RIGHT('Efficiency Levels'!$C$39,1),AD47,\nIF(RIGHT($D56,1)<RIGHT('Efficiency Levels'!$C$39,1),0,\nIF(RIGHT($D56,1)=RIGHT('Efficiency Levels'!$C$39,1),SUM(OFFSET(AD47,-RIGHT($D56,1),0,RIGHT($D56,1),1)),\"ERROR\"))))","v":0},{"$f":"IF(AE$24<STANDARD_YEAR,AE47,\nIF(RIGHT($D56,1)>RIGHT('Efficiency Levels'!$C$39,1),AE47,\nIF(RIGHT($D56,1)<RIGHT('Efficiency Levels'!$C$39,1),0,\nIF(RIGHT($D56,1)=RIGHT('Efficiency Levels'!$C$39,1),SUM(OFFSET(AE47,-RIGHT($D56,1),0,RIGHT($D56,1),1)),\"ERROR\"))))","v":0},{"$f":"IF(AF$24<STANDARD_YEAR,AF47,\nIF(RIGHT($D56,1)>RIGHT('Efficiency Levels'!$C$39,1),AF47,\nIF(RIGHT($D56,1)<RIGHT('Efficiency Levels'!$C$39,1),0,\nIF(RIGHT($D56,1)=RIGHT('Efficiency Levels'!$C$39,1),SUM(OFFSET(AF47,-RIGHT($D56,1),0,RIGHT($D56,1),1)),\"ERROR\"))))","v":0},{"$f":"IF(AG$24<STANDARD_YEAR,AG47,\nIF(RIGHT($D56,1)>RIGHT('Efficiency Levels'!$C$39,1),AG47,\nIF(RIGHT($D56,1)<RIGHT('Efficiency Levels'!$C$39,1),0,\nIF(RIGHT($D56,1)=RIGHT('Efficiency Levels'!$C$39,1),SUM(OFFSET(AG47,-RIGHT($D56,1),0,RIGHT($D56,1),1)),\"ERROR\"))))","v":0},{"$f":"IF(AH$24<STANDARD_YEAR,AH47,\nIF(RIGHT($D56,1)>RIGHT('Efficiency Levels'!$C$39,1),AH47,\nIF(RIGHT($D56,1)<RIGHT('Efficiency Levels'!$C$39,1),0,\nIF(RIGHT($D56,1)=RIGHT('Efficiency Levels'!$C$39,1),SUM(OFFSET(AH47,-RIGHT($D56,1),0,RIGHT($D56,1),1)),\"ERROR\"))))","v":0},{"$f":"IF(AI$24<STANDARD_YEAR,AI47,\nIF(RIGHT($D56,1)>RIGHT('Efficiency Levels'!$C$39,1),AI47,\nIF(RIGHT($D56,1)<RIGHT('Efficiency Levels'!$C$39,1),0,\nIF(RIGHT($D56,1)=RIGHT('Efficiency Levels'!$C$39,1),SUM(OFFSET(AI47,-RIGHT($D56,1),0,RIGHT($D56,1),1)),\"ERROR\"))))","v":0},{"$f":"IF(AJ$24<STANDARD_YEAR,AJ47,\nIF(RIGHT($D56,1)>RIGHT('Efficiency Levels'!$C$39,1),AJ47,\nIF(RIGHT($D56,1)<RIGHT('Efficiency Levels'!$C$39,1),0,\nIF(RIGHT($D56,1)=RIGHT('Efficiency Levels'!$C$39,1),SUM(OFFSET(AJ47,-RIGHT($D56,1),0,RIGHT($D56,1),1)),\"ERROR\"))))","v":0},{"$f":"IF(AK$24<STANDARD_YEAR,AK47,\nIF(RIGHT($D56,1)>RIGHT('Efficiency Levels'!$C$39,1),AK47,\nIF(RIGHT($D56,1)<RIGHT('Efficiency Levels'!$C$39,1),0,\nIF(RIGHT($D56,1)=RIGHT('Efficiency Levels'!$C$39,1),SUM(OFFSET(AK47,-RIGHT($D56,1),0,RIGHT($D56,1),1)),\"ERROR\"))))","v":0},{"$f":"IF(AL$24<STANDARD_YEAR,AL47,\nIF(RIGHT($D56,1)>RIGHT('Efficiency Levels'!$C$39,1),AL47,\nIF(RIGHT($D56,1)<RIGHT('Efficiency Levels'!$C$39,1),0,\nIF(RIGHT($D56,1)=RIGHT('Efficiency Levels'!$C$39,1),SUM(OFFSET(AL47,-RIGHT($D56,1),0,RIGHT($D56,1),1)),\"ERROR\"))))","v":0},{"$f":"IF(AM$24<STANDARD_YEAR,AM47,\nIF(RIGHT($D56,1)>RIGHT('Efficiency Levels'!$C$39,1),AM47,\nIF(RIGHT($D56,1)<RIGHT('Efficiency Levels'!$C$39,1),0,\nIF(RIGHT($D56,1)=RIGHT('Efficiency Levels'!$C$39,1),SUM(OFFSET(AM47,-RIGHT($D56,1),0,RIGHT($D56,1),1)),\"ERROR\"))))","v":0},{"$f":"IF(AN$24<STANDARD_YEAR,AN47,\nIF(RIGHT($D56,1)>RIGHT('Efficiency Levels'!$C$39,1),AN47,\nIF(RIGHT($D56,1)<RIGHT('Efficiency Levels'!$C$39,1),0,\nIF(RIGHT($D56,1)=RIGHT('Efficiency Levels'!$C$39,1),SUM(OFFSET(AN47,-RIGHT($D56,1),0,RIGHT($D56,1),1)),\"ERROR\"))))","v":0},{"$f":"IF(AO$24<STANDARD_YEAR,AO47,\nIF(RIGHT($D56,1)>RIGHT('Efficiency Levels'!$C$39,1),AO47,\nIF(RIGHT($D56,1)<RIGHT('Efficiency Levels'!$C$39,1),0,\nIF(RIGHT($D56,1)=RIGHT('Efficiency Levels'!$C$39,1),SUM(OFFSET(AO47,-RIGHT($D56,1),0,RIGHT($D56,1),1)),\"ERROR\"))))","v":0},{"$f":"IF(AP$24<STANDARD_YEAR,AP47,\nIF(RIGHT($D56,1)>RIGHT('Efficiency Levels'!$C$39,1),AP47,\nIF(RIGHT($D56,1)<RIGHT('Efficiency Levels'!$C$39,1),0,\nIF(RIGHT($D56,1)=RIGHT('Efficiency Levels'!$C$39,1),SUM(OFFSET(AP47,-RIGHT($D56,1),0,RIGHT($D56,1),1)),\"ERROR\"))))","v":0},{"$f":"IF(AQ$24<STANDARD_YEAR,AQ47,\nIF(RIGHT($D56,1)>RIGHT('Efficiency Levels'!$C$39,1),AQ47,\nIF(RIGHT($D56,1)<RIGHT('Efficiency Levels'!$C$39,1),0,\nIF(RIGHT($D56,1)=RIGHT('Efficiency Levels'!$C$39,1),SUM(OFFSET(AQ47,-RIGHT($D56,1),0,RIGHT($D56,1),1)),\"ERROR\"))))","v":0},{"$f":"IF(AR$24<STANDARD_YEAR,AR47,\nIF(RIGHT($D56,1)>RIGHT('Efficiency Levels'!$C$39,1),AR47,\nIF(RIGHT($D56,1)<RIGHT('Efficiency Levels'!$C$39,1),0,\nIF(RIGHT($D56,1)=RIGHT('Efficiency Levels'!$C$39,1),SUM(OFFSET(AR47,-RIGHT($D56,1),0,RIGHT($D56,1),1)),\"ERROR\"))))","v":0},{"$f":"IF(AS$24<STANDARD_YEAR,AS47,\nIF(RIGHT($D56,1)>RIGHT('Efficiency Levels'!$C$39,1),AS47,\nIF(RIGHT($D56,1)<RIGHT('Efficiency Levels'!$C$39,1),0,\nIF(RIGHT($D56,1)=RIGHT('Efficiency Levels'!$C$39,1),SUM(OFFSET(AS47,-RIGHT($D56,1),0,RIGHT($D56,1),1)),\"ERROR\"))))","v":0},{"$f":"IF(AT$24<STANDARD_YEAR,AT47,\nIF(RIGHT($D56,1)>RIGHT('Efficiency Levels'!$C$39,1),AT47,\nIF(RIGHT($D56,1)<RIGHT('Efficiency Levels'!$C$39,1),0,\nIF(RIGHT($D56,1)=RIGHT('Efficiency Levels'!$C$39,1),SUM(OFFSET(AT47,-RIGHT($D56,1),0,RIGHT($D56,1),1)),\"ERROR\"))))","v":0},{"$f":"IF(AU$24<STANDARD_YEAR,AU47,\nIF(RIGHT($D56,1)>RIGHT('Efficiency Levels'!$C$39,1),AU47,\nIF(RIGHT($D56,1)<RIGHT('Efficiency Levels'!$C$39,1),0,\nIF(RIGHT($D56,1)=RIGHT('Efficiency Levels'!$C$39,1),SUM(OFFSET(AU47,-RIGHT($D56,1),0,RIGHT($D56,1),1)),\"ERROR\"))))","v":0},{"$f":"IF(AV$24<STANDARD_YEAR,AV47,\nIF(RIGHT($D56,1)>RIGHT('Efficiency Levels'!$C$39,1),AV47,\nIF(RIGHT($D56,1)<RIGHT('Efficiency Levels'!$C$39,1),0,\nIF(RIGHT($D56,1)=RIGHT('Efficiency Levels'!$C$39,1),SUM(OFFSET(AV47,-RIGHT($D56,1),0,RIGHT($D56,1),1)),\"ERROR\"))))","v":0},{"$f":"IF(AW$24<STANDARD_YEAR,AW47,\nIF(RIGHT($D56,1)>RIGHT('Efficiency Levels'!$C$39,1),AW47,\nIF(RIGHT($D56,1)<RIGHT('Efficiency Levels'!$C$39,1),0,\nIF(RIGHT($D56,1)=RIGHT('Efficiency Levels'!$C$39,1),SUM(OFFSET(AW47,-RIGHT($D56,1),0,RIGHT($D56,1),1)),\"ERROR\"))))","v":0},{"$f":"IF(AX$24<STANDARD_YEAR,AX47,\nIF(RIGHT($D56,1)>RIGHT('Efficiency Levels'!$C$39,1),AX47,\nIF(RIGHT($D56,1)<RIGHT('Efficiency Levels'!$C$39,1),0,\nIF(RIGHT($D56,1)=RIGHT('Efficiency Levels'!$C$39,1),SUM(OFFSET(AX47,-RIGHT($D56,1),0,RIGHT($D56,1),1)),\"ERROR\"))))","v":0},{"$f":"IF(AY$24<STANDARD_YEAR,AY47,\nIF(RIGHT($D56,1)>RIGHT('Efficiency Levels'!$C$39,1),AY47,\nIF(RIGHT($D56,1)<RIGHT('Efficiency Levels'!$C$39,1),0,\nIF(RIGHT($D56,1)=RIGHT('Efficiency Levels'!$C$39,1),SUM(OFFSET(AY47,-RIGHT($D56,1),0,RIGHT($D56,1),1)),\"ERROR\"))))","v":0},{"$f":"IF(AZ$24<STANDARD_YEAR,AZ47,\nIF(RIGHT($D56,1)>RIGHT('Efficiency Levels'!$C$39,1),AZ47,\nIF(RIGHT($D56,1)<RIGHT('Efficiency Levels'!$C$39,1),0,\nIF(RIGHT($D56,1)=RIGHT('Efficiency Levels'!$C$39,1),SUM(OFFSET(AZ47,-RIGHT($D56,1),0,RIGHT($D56,1),1)),\"ERROR\"))))","v":0},{"$f":"IF(BA$24<STANDARD_YEAR,BA47,\nIF(RIGHT($D56,1)>RIGHT('Efficiency Levels'!$C$39,1),BA47,\nIF(RIGHT($D56,1)<RIGHT('Efficiency Levels'!$C$39,1),0,\nIF(RIGHT($D56,1)=RIGHT('Efficiency Levels'!$C$39,1),SUM(OFFSET(BA47,-RIGHT($D56,1),0,RIGHT($D56,1),1)),\"ERROR\"))))","v":0},{"$f":"IF(BB$24<STANDARD_YEAR,BB47,\nIF(RIGHT($D56,1)>RIGHT('Efficiency Levels'!$C$39,1),BB47,\nIF(RIGHT($D56,1)<RIGHT('Efficiency Levels'!$C$39,1),0,\nIF(RIGHT($D56,1)=RIGHT('Efficiency Levels'!$C$39,1),SUM(OFFSET(BB47,-RIGHT($D56,1),0,RIGHT($D56,1),1)),\"ERROR\"))))","v":0},{"$f":"IF(BC$24<STANDARD_YEAR,BC47,\nIF(RIGHT($D56,1)>RIGHT('Efficiency Levels'!$C$39,1),BC47,\nIF(RIGHT($D56,1)<RIGHT('Efficiency Levels'!$C$39,1),0,\nIF(RIGHT($D56,1)=RIGHT('Efficiency Levels'!$C$39,1),SUM(OFFSET(BC47,-RIGHT($D56,1),0,RIGHT($D56,1),1)),\"ERROR\"))))","v":0},{"$f":"IF(BD$24<STANDARD_YEAR,BD47,\nIF(RIGHT($D56,1)>RIGHT('Efficiency Levels'!$C$39,1),BD47,\nIF(RIGHT($D56,1)<RIGHT('Efficiency Levels'!$C$39,1),0,\nIF(RIGHT($D56,1)=RIGHT('Efficiency Levels'!$C$39,1),SUM(OFFSET(BD47,-RIGHT($D56,1),0,RIGHT($D56,1),1)),\"ERROR\"))))","v":0},{"$f":"IF(BE$24<STANDARD_YEAR,BE47,\nIF(RIGHT($D56,1)>RIGHT('Efficiency Levels'!$C$39,1),BE47,\nIF(RIGHT($D56,1)<RIGHT('Efficiency Levels'!$C$39,1),0,\nIF(RIGHT($D56,1)=RIGHT('Efficiency Levels'!$C$39,1),SUM(OFFSET(BE47,-RIGHT($D56,1),0,RIGHT($D56,1),1)),\"ERROR\"))))","v":0},{"$f":"IF(BF$24<STANDARD_YEAR,BF47,\nIF(RIGHT($D56,1)>RIGHT('Efficiency Levels'!$C$39,1),BF47,\nIF(RIGHT($D56,1)<RIGHT('Efficiency Levels'!$C$39,1),0,\nIF(RIGHT($D56,1)=RIGHT('Efficiency Levels'!$C$39,1),SUM(OFFSET(BF47,-RIGHT($D56,1),0,RIGHT($D56,1),1)),\"ERROR\"))))","v":0},{"$f":"IF(BG$24<STANDARD_YEAR,BG47,\nIF(RIGHT($D56,1)>RIGHT('Efficiency Levels'!$C$39,1),BG47,\nIF(RIGHT($D56,1)<RIGHT('Efficiency Levels'!$C$39,1),0,\nIF(RIGHT($D56,1)=RIGHT('Efficiency Levels'!$C$39,1),SUM(OFFSET(BG47,-RIGHT($D56,1),0,RIGHT($D56,1),1)),\"ERROR\"))))","v":0},{"$f":"IF(BH$24<STANDARD_YEAR,BH47,\nIF(RIGHT($D56,1)>RIGHT('Efficiency Levels'!$C$39,1),BH47,\nIF(RIGHT($D56,1)<RIGHT('Efficiency Levels'!$C$39,1),0,\nIF(RIGHT($D56,1)=RIGHT('Efficiency Levels'!$C$39,1),SUM(OFFSET(BH47,-RIGHT($D56,1),0,RIGHT($D56,1),1)),\"ERROR\"))))","v":0},{"$f":"IF(BI$24<STANDARD_YEAR,BI47,\nIF(RIGHT($D56,1)>RIGHT('Efficiency Levels'!$C$39,1),BI47,\nIF(RIGHT($D56,1)<RIGHT('Efficiency Levels'!$C$39,1),0,\nIF(RIGHT($D56,1)=RIGHT('Efficiency Levels'!$C$39,1),SUM(OFFSET(BI47,-RIGHT($D56,1),0,RIGHT($D56,1),1)),\"ERROR\"))))","v":0},{"$f":"IF(BJ$24<STANDARD_YEAR,BJ47,\nIF(RIGHT($D56,1)>RIGHT('Efficiency Levels'!$C$39,1),BJ47,\nIF(RIGHT($D56,1)<RIGHT('Efficiency Levels'!$C$39,1),0,\nIF(RIGHT($D56,1)=RIGHT('Efficiency Levels'!$C$39,1),SUM(OFFSET(BJ47,-RIGHT($D56,1),0,RIGHT($D56,1),1)),\"ERROR\"))))","v":0}]
[null,null,null,"TOTAL",null,null,null,null,{"$f":"SUM(I52:I56)","v":1},1,1,1,1,1,1,1,{"$f":"SUM(Q52:Q56)","v":1},1,1,1,1,1,1,1,1,1,1,1,1,1,1,1,1,1,1,1,1,1,1,1,1,1,1,1,1,1,1,1,1,1,1,1,1,1,1,1,1,1,1,1,1,{"$f":"SUM(BJ52:BJ56)","v":1}]
[]
[null,null,null,"Sources","Placeholder Values Assumes All Pre-Case Shipments are the Least Energy Efficient Products"]

{"sheet":"Efficiency Dist - MF","index":12,"n_rows":59,"n_cols":62,"rows_kept":59,"cut":false,"hidden":false,"merged":[[1,2,1,6],[3,2,3,6],[5,2,5,6]]}
[]
[null,null,"Efficiency Distributions by Product Class - Multi-Family"]
[]
[null,null,"NAVIGATION"]
[]
[null,null,"COMMENTS"]
[]
[]
[null,null,"PC1",{"$f":"OFFSET('Product Classes'!$C$9,MATCH(C9,MODEL_PCS,0),0)","v":"Gas Ovens—Standards Ovens With or Without a Catalytic Line"}]
[]
[null,null,null,"PRE-Case",null,"Static Distribution"]
[null,null,null,"Efficiency Level","UEC (kWh / year)",2011,null,null,1981,1982,1983,1984,1985,1986,1987,1988,1989,1990,1991,1992,1993,1994,1995,1996,1997,1998,1999,2000,2001,2002,2003,2004,2005,2006,2007,2008,2009,2010,2011,2012,2013,2014,2015,2016,2017,2018,2019,2020,2021,2022,2023,2024,2025,2026,2027,2028,2029,2030,2031,2032,2033,2034]
[null,null,null,"EL0",{"$f":"OFFSET('Efficiency Levels'!$D$11,MATCH($C$9,'Efficiency Levels'!$C$9:$C$1002,0)+RIGHT(D13,1),0)","v":370},1,null,null,{"$f":"$F13","v":1},1,1,1,1,1,1,1,1,1,1,1,1,1,1,1,{"$f":"$F13","v":1},1,1,1,1,1,1,1,1,1,1,1,1,1,1,1,{"$f":"$F13","v":1},1,1,1,1,1,1,1,1,1,1,1,1,1,1,1,1,1,1,1,1,1]
[null,null,null,"EL1",{"$f":"OFFSET('Efficiency Levels'!$D$11,MATCH($C$9,'Efficiency Levels'!$C$9:$C$1002,0)+RIGHT(D14,1),0)","v":327.7},0,null,null,0,0,0,0,0,0,0,0,0,0,0,0,0,0,0,0,0,0,0,0,0,0,0,0,0,0,0,0,0,0,0,0,0,0,0,0,0,0,0,0,0,0,0,0,0,0,0,0,0,0,0,0,0,0]
[null,null,null,"EL2",{"$f":"OFFSET('Efficiency Levels'!$D$11,MATCH($C$9,'Efficiency Levels'!$C$9:$C$1002,0)+RIGHT(D15,1),0)","v":316.10000000000002},0,null,null,0,0,0,0,0,0,0,0,0,0,0,0,0,0,0,0,0,0,0,0,0,0,0,0,0,0,0,0,0,0,0,0,0,0,0,0,0,0,0,0,0,0,0,0,0,0,0,0,0,0,0,0,0,0]
[null,null,null,"EL3",{"$f":"OFFSET('Efficiency Levels'!$D$11,MATCH($C$9,'Efficiency Levels'!$C$9:$C$1002,0)+RIGHT(D16,1),0)","v":304.8},0,null,null,0,0,0,0,0,0,0,0,0,0,0,0,0,0,0,0,0,0,0,0,0,0,0,0,0,0,0,0,0,0,0,0,0,0,0,0,0,0,0,0,0,0,0,0,0,0,0,0,0,0,0,0,0,0]
[null,null,null,"EL4",{"$f":"OFFSET('Efficiency Levels'!$D$11,MATCH($C$9,'Efficiency Levels'!$C$9:$C$1002,0)+RIGHT(D17,1),0)","v":300.89999999999998},0,null,null,0,0,0,0,0,0,0,0,0,0,0,0,0,0,0,0,0,0,0,0,0,0,0,0,0,0,0,0,0,0,0,0,0,0,0,0,0,0,0,0,0,0,0,0,0,0,0,0,0,0,0,0,0,0]
[null,null,null,"EL5",{"$f":"OFFSET('Efficiency Levels'!$D$11,MATCH($C$9,'Efficiency Levels'!$C$9:$C$1002,0)+RIGHT(D18,1),0)","v":300.3},0,null,null,0,0,0,0,0,0,0,0,0,0,0,0,0,0,0,0,0,0,0,0,0,0,0,0,0,0,0,0,0,0,0,0,0,0,0,0,0,0,0,0,0,0,0,0,0,0,0,0,0,0,0,0,0,0]
[null,null,null,"EL6",{"$f":"OFFSET('Efficiency Levels'!$D$11,MATCH($C$9,'Efficiency Levels'!$C$9:$C$1002,0)+RIGHT(D19,1),0)","v":295.2},0,null,null,0,0,0,0,0,0,0,0,0,0,0,0,0,0,0,0,0,0,0,0,0,0,0,0,0,0,0,0,0,0,0,0,0,0,0,0,0,0,0,0,0,0,0,0,0,0,0,0,0,0,0,0,0,0]
[null,null,null,"EL7",{"$f":"OFFSET('Efficiency Levels'!$D$11,MATCH($C$9,'Efficiency Levels'!$C$9:$C$1002,0)+RIGHT(D20,1),0)","v":255},0,null,null,0,0,0,0,0,0,0,0,0,0,0,0,0,0,0,0,0,0,0,0,0,0,0,0,0,0,0,0,0,0,0,0,0,0,0,0,0,0,0,0,0,0,0,0,0,0,0,0,0,0,0,0,0,0]
[null,null,null,"TOTAL",null,{"$f":"SUM(F13:F20)","v":1},null,null,{"$f":"SUM(I13:I20)","v":1},1,1,1,1,1,1,1,1,1,1,1,1,1,1,1,1,1,1,1,1,1,1,1,1,1,1,1,1,1,1,1,1,1,1,1,1,1,1,1,1,1,1,1,1,1,1,1,1,1,1,1,1,{"$f":"SUM(BJ13:BJ20)","v":1}]
[]
[null,null,null,"POST-Case"]
[null,null,null,"Efficiency Level","UEC (kWh / year)",null,null,null,1981,1982,1983,1984,1985,1986,1987,1988,1989,1990,1991,1992,1993,1994,1995,1996,1997,1998,1999,2000,2001,2002,2003,2004,2005,2006,2007,2008,2009,2010,2011,2012,2013,2014,2015,2016,2017,2018,2019,2020,2021,2022,2023,2024,2025,2026,2027,2028,2029,2030,2031,2032,2033,2034]
[null,null,null,"EL0",{"$f":"OFFSET('Efficiency Levels'!$D$11,MATCH($C$9,'Efficiency Levels'!$C$9:$C$1002,0)+RIGHT(D25,1),0)","v":370},null,null,null,{"$f":"IF(I$24<STANDARD_YEAR,I13,\nIF(RIGHT($D25,1)>RIGHT('Efficiency Levels'!$C$22,1),I13,\nIF(RIGHT($D25,1)<RIGHT('Efficiency Levels'!$C$22,1),0,\nIF(RIGHT($D25,1)=RIGHT('Efficiency Levels'!$C$22,1),SUM(OFFSET(I13,-RIGHT($D25,1),0,RIGHT($D25,1),1)),\"ERROR\"))))","v":1},{"$f":"IF(J$24<STANDARD_YEAR,J13,\nIF(RIGHT($D25,1)>RIGHT('Efficiency Levels'!$C$22,1),J13,\nIF(RIGHT($D25,1)<RIGHT('Efficiency Levels'!$C$22,1),0,\nIF(RIGHT($D25,1)=RIGHT('Efficiency Levels'!$C$22,1),SUM(OFFSET(J13,-RIGHT($D25,1),0,RIGHT($D25,1),1)),\"ERROR\"))))","v":1},{"$f":"IF(K$24<STANDARD_YEAR,K13,\nIF(RIGHT($D25,1)>RIGHT('Efficiency Levels'!$C$22,1),K13,\nIF(RIGHT($D25,1)<RIGHT('Efficiency Levels'!$C$22,1),0,\nIF(RIGHT($D25,1)=RIGHT('Efficiency Levels'!$C$22,1),SUM(OFFSET(K13,-RIGHT($D25,1),0,RIGHT($D25,1),1)),\"ERROR\"))))","v":1},{"$f":"IF(L$24<STANDARD_YEAR,L13,\nIF(RIGHT($D25,1)>RIGHT('Efficiency Levels'!$C$22,1),L13,\nIF(RIGHT($D25,1)<RIGHT('Efficiency Levels'!$C$22,1),0,\nIF(RIGHT($D25,1)=RIGHT('Efficiency Levels'!$C$22,1),SUM(OFFSET(L13,-RIGHT($D25,1),0,RIGHT($D25,1),1)),\"ERROR\"))))","v":1},{"$f":"IF(M$24<STANDARD_YEAR,M13,\nIF(RIGHT($D25,1)>RIGHT('Efficiency Levels'!$C$22,1),M13,\nIF(RIGHT($D25,1)<RIGHT('Efficiency Levels'!$C$22,1),0,\nIF(RIGHT($D25,1)=RIGHT('Efficiency Levels'!$C$22,1),SUM(OFFSET(M13,-RIGHT($D25,1),0,RIGHT($D25,1),1)),\"ERROR\"))))","v":1},{"$f":"IF(N$24<STANDARD_YEAR,N13,\nIF(RIGHT($D25,1)>RIGHT('Efficiency Levels'!$C$22,1),N13,\nIF(RIGHT($D25,1)<RIGHT('Efficiency Levels'!$C$22,1),0,\nIF(RIGHT($D25,1)=RIGHT('Efficiency Levels'!$C$22,1),SUM(OFFSET(N13,-RIGHT($D25,1),0,RIGHT($D25,1),1)),\"ERROR\"))))","v":1},{"$f":"IF(O$24<STANDARD_YEAR,O13,\nIF(RIGHT($D25,1)>RIGHT('Efficiency Levels'!$C$22,1),O13,\nIF(RIGHT($D25,1)<RIGHT('Efficiency Levels'!$C$22,1),0,\nIF(RIGHT($D25,1)=RIGHT('Efficiency Levels'!$C$22,1),SUM(OFFSET(O13,-RIGHT($D25,1),0,RIGHT($D25,1),1)),\"ERROR\"))))","v":1},{"$f":"IF(P$24<STANDARD_YEAR,P13,\nIF(RIGHT($D25,1)>RIGHT('Efficiency Levels'!$C$22,1),P13,\nIF(RIGHT($D25,1)<RIGHT('Efficiency Levels'!$C$22,1),0,\nIF(RIGHT($D25,1)=RIGHT('Efficiency Levels'!$C$22,1),SUM(OFFSET(P13,-RIGHT($D25,1),0,RIGHT($D25,1),1)),\"ERROR\"))))","v":1},{"$f":"IF(Q$24<STANDARD_YEAR,Q13,\nIF(RIGHT($D25,1)>RIGHT('Efficiency Levels'!$C$22,1),Q13,\nIF(RIGHT($D25,1)<RIGHT('Efficiency Levels'!$C$22,1),0,\nIF(RIGHT($D25,1)=RIGHT('Efficiency Levels'!$C$22,1),SUM(OFFSET(Q13,-RIGHT($D25,1),0,RIGHT($D25,1),1)),\"ERROR\"))))","v":1},{"$f":"IF(R$24<STANDARD_YEAR,R13,\nIF(RIGHT($D25,1)>RIGHT('Efficiency Levels'!$C$22,1),R13,\nIF(RIGHT($D25,1)<RIGHT('Efficiency Levels'!$C$22,1),0,\nIF(RIGHT($D25,1)=RIGHT('Efficiency Levels'!$C$22,1),SUM(OFFSET(R13,-RIGHT($D25,1),0,RIGHT($D25,1),1)),\"ERROR\"))))","v":1},{"$f":"IF(S$24<STANDARD_YEAR,S13,\nIF(RIGHT($D25,1)>RIGHT('Efficiency Levels'!$C$22,1),S13,\nIF(RIGHT($D25,1)<RIGHT('Efficiency Levels'!$C$22,1),0,\nIF(RIGHT($D25,1)=RIGHT('Efficiency Levels'!$C$22,1),SUM(OFFSET(S13,-RIGHT($D25,1),0,RIGHT($D25,1),1)),\"ERROR\"))))","v":1},{"$f":"IF(T$24<STANDARD_YEAR,T13,\nIF(RIGHT($D25,1)>RIGHT('Efficiency Levels'!$C$22,1),T13,\nIF(RIGHT($D25,1)<RIGHT('Efficiency Levels'!$C$22,1),0,\nIF(RIGHT($D25,1)=RIGHT('Efficiency Levels'!$C$22,1),SUM(OFFSET(T13,-RIGHT($D25,1),0,RIGHT($D25,1),1)),\"ERROR\"))))","v":1},{"$f":"IF(U$24<STANDARD_YEAR,U13,\nIF(RIGHT($D25,1)>RIGHT('Efficiency Levels'!$C$22,1),U13,\nIF(RIGHT($D25,1)<RIGHT('Efficiency Levels'!$C$22,1),0,\nIF(RIGHT($D25,1)=RIGHT('Efficiency Levels'!$C$22,1),SUM(OFFSET(U13,-RIGHT($D25,1),0,RIGHT($D25,1),1)),\"ERROR\"))))","v":1},{"$f":"IF(V$24<STANDARD_YEAR,V13,\nIF(RIGHT($D25,1)>RIGHT('Efficiency Levels'!$C$22,1),V13,\nIF(RIGHT($D25,1)<RIGHT('Efficiency Levels'!$C$22,1),0,\nIF(RIGHT($D25,1)=RIGHT('Efficiency Levels'!$C$22,1),SUM(OFFSET(V13,-RIGHT($D25,1),0,RIGHT($D25,1),1)),\"ERROR\"))))","v":1},{"$f":"IF(W$24<STANDARD_YEAR,W13,\nIF(RIGHT($D25,1)>RIGHT('Efficiency Levels'!$C$22,1),W13,\nIF(RIGHT($D25,1)<RIGHT('Efficiency Levels'!$C$22,1),0,\nIF(RIGHT($D25,1)=RIGHT('Efficiency Levels'!$C$22,1),SUM(OFFSET(W13,-RIGHT($D25,1),0,RIGHT($D25,1),1)),\"ERROR\"))))","v":1},{"$f":"IF(X$24<STANDARD_YEAR,X13,\nIF(RIGHT($D25,1)>RIGHT('Efficiency Levels'!$C$22,1),X13,\nIF(RIGHT($D25,1)<RIGHT('Efficiency Levels'!$C$22,1),0,\nIF(RIGHT($D25,1)=RIGHT('Efficiency Levels'!$C$22,1),SUM(OFFSET(X13,-RIGHT($D25,1),0,RIGHT($D25,1),1)),\"ERROR\"))))","v":1},{"$f":"IF(Y$24<STANDARD_YEAR,Y13,\nIF(RIGHT($D25,1)>RIGHT('Efficiency Levels'!$C$22,1),Y13,\nIF(RIGHT($D25,1)<RIGHT('Efficiency Levels'!$C$22,1),0,\nIF(RIGHT($D25,1)=RIGHT('Efficiency Levels'!$C$22,1),SUM(OFFSET(Y13,-RIGHT($D25,1),0,RIGHT($D25,1),1)),\"ERROR\"))))","v":1},{"$f":"IF(Z$24<STANDARD_YEAR,Z13,\nIF(RIGHT($D25,1)>RIGHT('Efficiency Levels'!$C$22,1),Z13,\nIF(RIGHT($D25,1)<RIGHT('Efficiency Levels'!$C$22,1),0,\nIF(RIGHT($D25,1)=RIGHT('Efficiency Levels'!$C$22,1),SUM(OFFSET(Z13,-RIGHT($D25,1),0,RIGHT($D25,1),1)),\"ERROR\"))))","v":1},{"$f":"IF(AA$24<STANDARD_YEAR,AA13,\nIF(RIGHT($D25,1)>RIGHT('Efficiency Levels'!$C$22,1),AA13,\nIF(RIGHT($D25,1)<RIGHT('Efficiency Levels'!$C$22,1),0,\nIF(RIGHT($D25,1)=RIGHT('Efficiency Levels'!$C$22,1),SUM(OFFSET(AA13,-RIGHT($D25,1),0,RIGHT($D25,1),1)),\"ERROR\"))))","v":1},{"$f":"IF(AB$24<STANDARD_YEAR,AB13,\nIF(RIGHT($D25,1)>RIGHT('Efficiency Levels'!$C$22,1),AB13,\nIF(RIGHT($D25,1)<RIGHT('Efficiency Levels'!$C$22,1),0,\nIF(RIGHT($D25,1)=RIGHT('Efficiency Levels'!$C$22,1),SUM(OFFSET(AB13,-RIGHT($D25,1),0,RIGHT($D25,1),1)),\"ERROR\"))))","v":1},{"$f":"IF(AC$24<STANDARD_YEAR,AC13,\nIF(RIGHT($D25,1)>RIGHT('Efficiency Levels'!$C$22,1),AC13,\nIF(RIGHT($D25,1)<RIGHT('Efficiency Levels'!$C$22,1),0,\nIF(RIGHT($D25,1)=RIGHT('Efficiency Levels'!$C$22,1),SUM(OFFSET(AC13,-RIGHT($D25,1),0,RIGHT($D25,1),1)),\"ERROR\"))))","v":1},{"$f":"IF(AD$24<STANDARD_YEAR,AD13,\nIF(RIGHT($D25,1)>RIGHT('Efficiency Levels'!$C$22,1),AD13,\nIF(RIGHT($D25,1)<RIGHT('Efficiency Levels'!$C$22,1),0,\nIF(RIGHT($D25,1)=RIGHT('Efficiency Levels'!$C$22,1),SUM(OFFSET(AD13,-RIGHT($D25,1),0,RIGHT($D25,1),1)),\"ERROR\"))))","v":1},{"$f":"IF(AE$24<STANDARD_YEAR,AE13,\nIF(RIGHT($D25,1)>RIGHT('Efficiency Levels'!$C$22,1),AE13,\nIF(RIGHT($D25,1)<RIGHT('Efficiency Levels'!$C$22,1),0,\nIF(RIGHT($D25,1)=RIGHT('Efficiency Levels'!$C$22,1),SUM(OFFSET(AE13,-RIGHT($D25,1),0,RIGHT($D25,1),1)),\"ERROR\"))))","v":1},{"$f":"IF(AF$24<STANDARD_YEAR,AF13,\nIF(RIGHT($D25,1)>RIGHT('Efficiency Levels'!$C$22,1),AF13,\nIF(RIGHT($D25,1)<RIGHT('Efficiency Levels'!$C$22,1),0,\nIF(RIGHT($D25,1)=RIGHT('Efficiency Levels'!$C$22,1),SUM(OFFSET(AF13,-RIGHT($D25,1),0,RIGHT($D25,1),1)),\"ERROR\"))))","v":1},{"$f":"IF(AG$24<STANDARD_YEAR,AG13,\nIF(RIGHT($D25,1)>RIGHT('Efficiency Levels'!$C$22,1),AG13,\nIF(RIGHT($D25,1)<RIGHT('Efficiency Levels'!$C$22,1),0,\nIF(RIGHT($D25,1)=RIGHT('Efficiency Levels'!$C$22,1),SUM(OFFSET(AG13,-RIGHT($D25,1),0,RIGHT($D25,1),1)),\"ERROR\"))))","v":1},{"$f":"IF(AH$24<STANDARD_YEAR,AH13,\nIF(RIGHT($D25,1)>RIGHT('Efficiency Levels'!$C$22,1),AH13,\nIF(RIGHT($D25,1)<RIGHT('Efficiency Levels'!$C$22,1),0,\nIF(RIGHT($D25,1)=RIGHT('Efficiency Levels'!$C$22,1),SUM(OFFSET(AH13,-RIGHT($D25,1),0,RIGHT($D25,1),1)),\"ERROR\"))))","v":1},{"$f":"IF(AI$24<STANDARD_YEAR,AI13,\nIF(RIGHT($D25,1)>RIGHT('Efficiency Levels'!$C$22,1),AI13,\nIF(RIGHT($D25,1)<RIGHT('Efficiency Levels'!$C$22,1),0,\nIF(RIGHT($D25,1)=RIGHT('Efficiency Levels'!$C$22,1),SUM(OFFSET(AI13,-RIGHT($D25,1),0,RIGHT($D25,1),1)),\"ERROR\"))))","v":1},{"$f":"IF(AJ$24<STANDARD_YEAR,AJ13,\nIF(RIGHT($D25,1)>RIGHT('Efficiency Levels'!$C$22,1),AJ13,\nIF(RIGHT($D25,1)<RIGHT('Efficiency Levels'!$C$22,1),0,\nIF(RIGHT($D25,1)=RIGHT('Efficiency Levels'!$C$22,1),SUM(OFFSET(AJ13,-RIGHT($D25,1),0,RIGHT($D25,1),1)),\"ERROR\"))))","v":1},{"$f":"IF(AK$24<STANDARD_YEAR,AK13,\nIF(RIGHT($D25,1)>RIGHT('Efficiency Levels'!$C$22,1),AK13,\nIF(RIGHT($D25,1)<RIGHT('Efficiency Levels'!$C$22,1),0,\nIF(RIGHT($D25,1)=RIGHT('Efficiency Levels'!$C$22,1),SUM(OFFSET(AK13,-RIGHT($D25,1),0,RIGHT($D25,1),1)),\"ERROR\"))))","v":1},{"$f":"IF(AL$24<STANDARD_YEAR,AL13,\nIF(RIGHT($D25,1)>RIGHT('Efficiency Levels'!$C$22,1),AL13,\nIF(RIGHT($D25,1)<RIGHT('Efficiency Levels'!$C$22,1),0,\nIF(RIGHT($D25,1)=RIGHT('Efficiency Levels'!$C$22,1),SUM(OFFSET(AL13,-RIGHT($D25,1),0,RIGHT($D25,1),1)),\"ERROR\"))))","v":1},{"$f":"IF(AM$24<STANDARD_YEAR,AM13,\nIF(RIGHT($D25,1)>RIGHT('Efficiency Levels'!$C$22,1),AM13,\nIF(RIGHT($D25,1)<RIGHT('Efficiency Levels'!$C$22,1),0,\nIF(RIGHT($D25,1)=RIGHT('Efficiency Levels'!$C$22,1),SUM(OFFSET(AM13,-RIGHT($D25,1),0,RIGHT($D25,1),1)),\"ERROR\"))))","v":1},{"$f":"IF(AN$24<STANDARD_YEAR,AN13,\nIF(RIGHT($D25,1)>RIGHT('Efficiency Levels'!$C$22,1),AN13,\nIF(RIGHT($D25,1)<RIGHT('Efficiency Levels'!$C$22,1),0,\nIF(RIGHT($D25,1)=RIGHT('Efficiency Levels'!$C$22,1),SUM(OFFSET(AN13,-RIGHT($D25,1),0,RIGHT($D25,1),1)),\"ERROR\"))))","v":1},{"$f":"IF(AO$24<STANDARD_YEAR,AO13,\nIF(RIGHT($D25,1)>RIGHT('Efficiency Levels'!$C$22,1),AO13,\nIF(RIGHT($D25,1)<RIGHT('Efficiency Levels'!$C$22,1),0,\nIF(RIGHT($D25,1)=RIGHT('Efficiency Levels'!$C$22,1),SUM(OFFSET(AO13,-RIGHT($D25,1),0,RIGHT($D25,1),1)),\"ERROR\"))))","v":1},{"$f":"IF(AP$24<STANDARD_YEAR,AP13,\nIF(RIGHT($D25,1)>RIGHT('Efficiency Levels'!$C$22,1),AP13,\nIF(RIGHT($D25,1)<RIGHT('Efficiency Levels'!$C$22,1),0,\nIF(RIGHT($D25,1)=RIGHT('Efficiency Levels'!$C$22,1),SUM(OFFSET(AP13,-RIGHT($D25,1),0,RIGHT($D25,1),1)),\"ERROR\"))))","v":1},{"$f":"IF(AQ$24<STANDARD_YEAR,AQ13,\nIF(RIGHT($D25,1)>RIGHT('Efficiency Levels'!$C$22,1),AQ13,\nIF(RIGHT($D25,1)<RIGHT('Efficiency Levels'!$C$22,1),0,\nIF(RIGHT($D25,1)=RIGHT('Efficiency Levels'!$C$22,1),SUM(OFFSET(AQ13,-RIGHT($D25,1),0,RIGHT($D25,1),1)),\"ERROR\"))))","v":1},{"$f":"IF(AR$24<STANDARD_YEAR,AR13,\nIF(RIGHT($D25,1)>RIGHT('Efficiency Levels'!$C$22,1),AR13,\nIF(RIGHT($D25,1)<RIGHT('Efficiency Levels'!$C$22,1),0,\nIF(RIGHT($D25,1)=RIGHT('Efficiency Levels'!$C$22,1),SUM(OFFSET(AR13,-RIGHT($D25,1),0,RIGHT($D25,1),1)),\"ERROR\"))))","v":1},{"$f":"IF(AS$24<STANDARD_YEAR,AS13,\nIF(RIGHT($D25,1)>RIGHT('Efficiency Levels'!$C$22,1),AS13,\nIF(RIGHT($D25,1)<RIGHT('Efficiency Levels'!$C$22,1),0,\nIF(RIGHT($D25,1)=RIGHT('Efficiency Levels'!$C$22,1),SUM(OFFSET(AS13,-RIGHT($D25,1),0,RIGHT($D25,1),1)),\"ERROR\"))))","v":1},{"$f":"IF(AT$24<STANDARD_YEAR,AT13,\nIF(RIGHT($D25,1)>RIGHT('Efficiency Levels'!$C$22,1),AT13,\nIF(RIGHT($D25,1)<RIGHT('Efficiency Levels'!$C$22,1),0,\nIF(RIGHT($D25,1)=RIGHT('Efficiency Levels'!$C$22,1),SUM(OFFSET(AT13,-RIGHT($D25,1),0,RIGHT($D25,1),1)),\"ERROR\"))))","v":1},{"$f":"IF(AU$24<STANDARD_YEAR,AU13,\nIF(RIGHT($D25,1)>RIGHT('Efficiency Levels'!$C$22,1),AU13,\nIF(RIGHT($D25,1)<RIGHT('Efficiency Levels'!$C$22,1),0,\nIF(RIGHT($D25,1)=RIGHT('Efficiency Levels'!$C$22,1),SUM(OFFSET(AU13,-RIGHT($D25,1),0,RIGHT($D25,1),1)),\"ERROR\"))))","v":0},{"$f":"IF(AV$24<STANDARD_YEAR,AV13,\nIF(RIGHT($D25,1)>RIGHT('Efficiency Levels'!$C$22,1),AV13,\nIF(RIGHT($D25,1)<RIGHT('Efficiency Levels'!$C$22,1),0,\nIF(RIGHT($D25,1)=RIGHT('Efficiency Levels'!$C$22,1),SUM(OFFSET(AV13,-RIGHT($D25,1),0,RIGHT($D25,1),1)),\"ERROR\"))))","v":0},{"$f":"IF(AW$24<STANDARD_YEAR,AW13,\nIF(RIGHT($D25,1)>RIGHT('Efficiency Levels'!$C$22,1),AW13,\nIF(RIGHT($D25,1)<RIGHT('Efficiency Levels'!$C$22,1),0,\nIF(RIGHT($D25,1)=RIGHT('Efficiency Levels'!$C$22,1),SUM(OFFSET(AW13,-RIGHT($D25,1),0,RIGHT($D25,1),1)),\"ERROR\"))))","v":0},{"$f":"IF(AX$24<STANDARD_YEAR,AX13,\nIF(RIGHT($D25,1)>RIGHT('Efficiency Levels'!$C$22,1),AX13,\nIF(RIGHT($D25,1)<RIGHT('Efficiency Levels'!$C$22,1),0,\nIF(RIGHT($D25,1)=RIGHT('Efficiency Levels'!$C$22,1),SUM(OFFSET(AX13,-RIGHT($D25,1),0,RIGHT($D25,1),1)),\"ERROR\"))))","v":0},{"$f":"IF(AY$24<STANDARD_YEAR,AY13,\nIF(RIGHT($D25,1)>RIGHT('Efficiency Levels'!$C$22,1),AY13,\nIF(RIGHT($D25,1)<RIGHT('Efficiency Levels'!$C$22,1),0,\nIF(RIGHT($D25,1)=RIGHT('Efficiency Levels'!$C$22,1),SUM(OFFSET(AY13,-RIGHT($D25,1),0,RIGHT($D25,1),1)),\"ERROR\"))))","v":0},{"$f":"IF(AZ$24<STANDARD_YEAR,AZ13,\nIF(RIGHT($D25,1)>RIGHT('Efficiency Levels'!$C$22,1),AZ13,\nIF(RIGHT($D25,1)<RIGHT('Efficiency Levels'!$C$22,1),0,\nIF(RIGHT($D25,1)=RIGHT('Efficiency Levels'!$C$22,1),SUM(OFFSET(AZ13,-RIGHT($D25,1),0,RIGHT($D25,1),1)),\"ERROR\"))))","v":0},{"$f":"IF(BA$24<STANDARD_YEAR,BA13,\nIF(RIGHT($D25,1)>RIGHT('Efficiency Levels'!$C$22,1),BA13,\nIF(RIGHT($D25,1)<RIGHT('Efficiency Levels'!$C$22,1),0,\nIF(RIGHT($D25,1)=RIGHT('Efficiency Levels'!$C$22,1),SUM(OFFSET(BA13,-RIGHT($D25,1),0,RIGHT($D25,1),1)),\"ERROR\"))))","v":0},{"$f":"IF(BB$24<STANDARD_YEAR,BB13,\nIF(RIGHT($D25,1)>RIGHT('Efficiency Levels'!$C$22,1),BB13,\nIF(RIGHT($D25,1)<RIGHT('Efficiency Levels'!$C$22,1),0,\nIF(RIGHT($D25,1)=RIGHT('Efficiency Levels'!$C$22,1),SUM(OFFSET(BB13,-RIGHT($D25,1),0,RIGHT($D25,1),1)),\"ERROR\"))))","v":0},{"$f":"IF(BC$24<STANDARD_YEAR,BC13,\nIF(RIGHT($D25,1)>RIGHT('Efficiency Levels'!$C$22,1),BC13,\nIF(RIGHT($D25,1)<RIGHT('Efficiency Levels'!$C$22,1),0,\nIF(RIGHT($D25,1)=RIGHT('Efficiency Levels'!$C$22,1),SUM(OFFSET(BC13,-RIGHT($D25,1),0,RIGHT($D25,1),1)),\"ERROR\"))))","v":0},{"$f":"IF(BD$24<STANDARD_YEAR,BD13,\nIF(RIGHT($D25,1)>RIGHT('Efficiency Levels'!$C$22,1),BD13,\nIF(RIGHT($D25,1)<RIGHT('Efficiency Levels'!$C$22,1),0,\nIF(RIGHT($D25,1)=RIGHT('Efficiency Levels'!$C$22,1),SUM(OFFSET(BD13,-RIGHT($D25,1),0,RIGHT($D25,1),1)),\"ERROR\"))))","v":0},{"$f":"IF(BE$24<STANDARD_YEAR,BE13,\nIF(RIGHT($D25,1)>RIGHT('Efficiency Levels'!$C$22,1),BE13,\nIF(RIGHT($D25,1)<RIGHT('Efficiency Levels'!$C$22,1),0,\nIF(RIGHT($D25,1)=RIGHT('Efficiency Levels'!$C$22,1),SUM(OFFSET(BE13,-RIGHT($D25,1),0,RIGHT($D25,1),1)),\"ERROR\"))))","v":0},{"$f":"IF(BF$24<STANDARD_YEAR,BF13,\nIF(RIGHT($D25,1)>RIGHT('Efficiency Levels'!$C$22,1),BF13,\nIF(RIGHT($D25,1)<RIGHT('Efficiency Levels'!$C$22,1),0,\nIF(RIGHT($D25,1)=RIGHT('Efficiency Levels'!$C$22,1),SUM(OFFSET(BF13,-RIGHT($D25,1),0,RIGHT($D25,1),1)),\"ERROR\"))))","v":0},{"$f":"IF(BG$24<STANDARD_YEAR,BG13,\nIF(RIGHT($D25,1)>RIGHT('Efficiency Levels'!$C$22,1),BG13,\nIF(RIGHT($D25,1)<RIGHT('Efficiency Levels'!$C$22,1),0,\nIF(RIGHT($D25,1)=RIGHT('Efficiency Levels'!$C$22,1),SUM(OFFSET(BG13,-RIGHT($D25,1),0,RIGHT($D25,1),1)),\"ERROR\"))))","v":0},{"$f":"IF(BH$24<STANDARD_YEAR,BH13,\nIF(RIGHT($D25,1)>RIGHT('Efficiency Levels'!$C$22,1),BH13,\nIF(RIGHT($D25,1)<RIGHT('Efficiency Levels'!$C$22,1),0,\nIF(RIGHT($D25,1)=RIGHT('Efficiency Levels'!$C$22,1),SUM(OFFSET(BH13,-RIGHT($D25,1),0,RIGHT($D25,1),1)),\"ERROR\"))))","v":0},{"$f":"IF(BI$24<STANDARD_YEAR,BI13,\nIF(RIGHT($D25,1)>RIGHT('Efficiency Levels'!$C$22,1),BI13,\nIF(RIGHT($D25,1)<RIGHT('Efficiency Levels'!$C$22,1),0,\nIF(RIGHT($D25,1)=RIGHT('Efficiency Levels'!$C$22,1),SUM(OFFSET(BI13,-RIGHT($D25,1),0,RIGHT($D25,1),1)),\"ERROR\"))))","v":0},{"$f":"IF(BJ$24<STANDARD_YEAR,BJ13,\nIF(RIGHT($D25,1)>RIGHT('Efficiency Levels'!$C$22,1),BJ13,\nIF(RIGHT($D25,1)<RIGHT('Efficiency Levels'!$C$22,1),0,\nIF(RIGHT($D25,1)=RIGHT('Efficiency Levels'!$C$22,1),SUM(OFFSET(BJ13,-RIGHT($D25,1),0,RIGHT($D25,1),1)),\"ERROR\"))))","v":0}]
[null,null,null,"EL1",{"$f":"OFFSET('Efficiency Levels'!$D$11,MATCH($C$9,'Efficiency Levels'!$C$9:$C$1002,0)+RIGHT(D26,1),0)","v":327.7},null,null,null,{"$f":"IF(I$24<STANDARD_YEAR,I14,\nIF(RIGHT($D26,1)>RIGHT('Efficiency Levels'!$C$22,1),I14,\nIF(RIGHT($D26,1)<RIGHT('Efficiency Levels'!$C$22,1),0,\nIF(RIGHT($D26,1)=RIGHT('Efficiency Levels'!$C$22,1),SUM(OFFSET(I14,-RIGHT($D26,1),0,RIGHT($D26,1),1)),\"ERROR\"))))","v":0},{"$f":"IF(J$24<STANDARD_YEAR,J14,\nIF(RIGHT($D26,1)>RIGHT('Efficiency Levels'!$C$22,1),J14,\nIF(RIGHT($D26,1)<RIGHT('Efficiency Levels'!$C$22,1),0,\nIF(RIGHT($D26,1)=RIGHT('Efficiency Levels'!$C$22,1),SUM(OFFSET(J14,-RIGHT($D26,1),0,RIGHT($D26,1),1)),\"ERROR\"))))","v":0},{"$f":"IF(K$24<STANDARD_YEAR,K14,\nIF(RIGHT($D26,1)>RIGHT('Efficiency Levels'!$C$22,1),K14,\nIF(RIGHT($D26,1)<RIGHT('Efficiency Levels'!$C$22,1),0,\nIF(RIGHT($D26,1)=RIGHT('Efficiency Levels'!$C$22,1),SUM(OFFSET(K14,-RIGHT($D26,1),0,RIGHT($D26,1),1)),\"ERROR\"))))","v":0},{"$f":"IF(L$24<STANDARD_YEAR,L14,\nIF(RIGHT($D26,1)>RIGHT('Efficiency Levels'!$C$22,1),L14,\nIF(RIGHT($D26,1)<RIGHT('Efficiency Levels'!$C$22,1),0,\nIF(RIGHT($D26,1)=RIGHT('Efficiency Levels'!$C$22,1),SUM(OFFSET(L14,-RIGHT($D26,1),0,RIGHT($D26,1),1)),\"ERROR\"))))","v":0},{"$f":"IF(M$24<STANDARD_YEAR,M14,\nIF(RIGHT($D26,1)>RIGHT('Efficiency Levels'!$C$22,1),M14,\nIF(RIGHT($D26,1)<RIGHT('Efficiency Levels'!$C$22,1),0,\nIF(RIGHT($D26,1)=RIGHT('Efficiency Levels'!$C$22,1),SUM(OFFSET(M14,-RIGHT($D26,1),0,RIGHT($D26,1),1)),\"ERROR\"))))","v":0},{"$f":"IF(N$24<STANDARD_YEAR,N14,\nIF(RIGHT($D26,1)>RIGHT('Efficiency Levels'!$C$22,1),N14,\nIF(RIGHT($D26,1)<RIGHT('Efficiency Levels'!$C$22,1),0,\nIF(RIGHT($D26,1)=RIGHT('Efficiency Levels'!$C$22,1),SUM(OFFSET(N14,-RIGHT($D26,1),0,RIGHT($D26,1),1)),\"ERROR\"))))","v":0},{"$f":"IF(O$24<STANDARD_YEAR,O14,\nIF(RIGHT($D26,1)>RIGHT('Efficiency Levels'!$C$22,1),O14,\nIF(RIGHT($D26,1)<RIGHT('Efficiency Levels'!$C$22,1),0,\nIF(RIGHT($D26,1)=RIGHT('Efficiency Levels'!$C$22,1),SUM(OFFSET(O14,-RIGHT($D26,1),0,RIGHT($D26,1),1)),\"ERROR\"))))","v":0},{"$f":"IF(P$24<STANDARD_YEAR,P14,\nIF(RIGHT($D26,1)>RIGHT('Efficiency Levels'!$C$22,1),P14,\nIF(RIGHT($D26,1)<RIGHT('Efficiency Levels'!$C$22,1),0,\nIF(RIGHT($D26,1)=RIGHT('Efficiency Levels'!$C$22,1),SUM(OFFSET(P14,-RIGHT($D26,1),0,RIGHT($D26,1),1)),\"ERROR\"))))","v":0},{"$f":"IF(Q$24<STANDARD_YEAR,Q14,\nIF(RIGHT($D26,1)>RIGHT('Efficiency Levels'!$C$22,1),Q14,\nIF(RIGHT($D26,1)<RIGHT('Efficiency Levels'!$C$22,1),0,\nIF(RIGHT($D26,1)=RIGHT('Efficiency Levels'!$C$22,1),SUM(OFFSET(Q14,-RIGHT($D26,1),0,RIGHT($D26,1),1)),\"ERROR\"))))","v":0},{"$f":"IF(R$24<STANDARD_YEAR,R14,\nIF(RIGHT($D26,1)>RIGHT('Efficiency Levels'!$C$22,1),R14,\nIF(RIGHT($D26,1)<RIGHT('Efficiency Levels'!$C$22,1),0,\nIF(RIGHT($D26,1)=RIGHT('Efficiency Levels'!$C$22,1),SUM(OFFSET(R14,-RIGHT($D26,1),0,RIGHT($D26,1),1)),\"ERROR\"))))","v":0},{"$f":"IF(S$24<STANDARD_YEAR,S14,\nIF(RIGHT($D26,1)>RIGHT('Efficiency Levels'!$C$22,1),S14,\nIF(RIGHT($D26,1)<RIGHT('Efficiency Levels'!$C$22,1),0,\nIF(RIGHT($D26,1)=RIGHT('Efficiency Levels'!$C$22,1),SUM(OFFSET(S14,-RIGHT($D26,1),0,RIGHT($D26,1),1)),\"ERROR\"))))","v":0},{"$f":"IF(T$24<STANDARD_YEAR,T14,\nIF(RIGHT($D26,1)>RIGHT('Efficiency Levels'!$C$22,1),T14,\nIF(RIGHT($D26,1)<RIGHT('Efficiency Levels'!$C$22,1),0,\nIF(RIGHT($D26,1)=RIGHT('Efficiency Levels'!$C$22,1),SUM(OFFSET(T14,-RIGHT($D26,1),0,RIGHT($D26,1),1)),\"ERROR\"))))","v":0},{"$f":"IF(U$24<STANDARD_YEAR,U14,\nIF(RIGHT($D26,1)>RIGHT('Efficiency Levels'!$C$22,1),U14,\nIF(RIGHT($D26,1)<RIGHT('Efficiency Levels'!$C$22,1),0,\nIF(RIGHT($D26,1)=RIGHT('Efficiency Levels'!$C$22,1),SUM(OFFSET(U14,-RIGHT($D26,1),0,RIGHT($D26,1),1)),\"ERROR\"))))","v":0},{"$f":"IF(V$24<STANDARD_YEAR,V14,\nIF(RIGHT($D26,1)>RIGHT('Efficiency Levels'!$C$22,1),V14,\nIF(RIGHT($D26,1)<RIGHT('Efficiency Levels'!$C$22,1),0,\nIF(RIGHT($D26,1)=RIGHT('Efficiency Levels'!$C$22,1),SUM(OFFSET(V14,-RIGHT($D26,1),0,RIGHT($D26,1),1)),\"ERROR\"))))","v":0},{"$f":"IF(W$24<STANDARD_YEAR,W14,\nIF(RIGHT($D26,1)>RIGHT('Efficiency Levels'!$C$22,1),W14,\nIF(RIGHT($D26,1)<RIGHT('Efficiency Levels'!$C$22,1),0,\nIF(RIGHT($D26,1)=RIGHT('Efficiency Levels'!$C$22,1),SUM(OFFSET(W14,-RIGHT($D26,1),0,RIGHT($D26,1),1)),\"ERROR\"))))","v":0},{"$f":"IF(X$24<STANDARD_YEAR,X14,\nIF(RIGHT($D26,1)>RIGHT('Efficiency Levels'!$C$22,1),X14,\nIF(RIGHT($D26,1)<RIGHT('Efficiency Levels'!$C$22,1),0,\nIF(RIGHT($D26,1)=RIGHT('Efficiency Levels'!$C$22,1),SUM(OFFSET(X14,-RIGHT($D26,1),0,RIGHT($D26,1),1)),\"ERROR\"))))","v":0},{"$f":"IF(Y$24<STANDARD_YEAR,Y14,\nIF(RIGHT($D26,1)>RIGHT('Efficiency Levels'!$C$22,1),Y14,\nIF(RIGHT($D26,1)<RIGHT('Efficiency Levels'!$C$22,1),0,\nIF(RIGHT($D26,1)=RIGHT('Efficiency Levels'!$C$22,1),SUM(OFFSET(Y14,-RIGHT($D26,1),0,RIGHT($D26,1),1)),\"ERROR\"))))","v":0},{"$f":"IF(Z$24<STANDARD_YEAR,Z14,\nIF(RIGHT($D26,1)>RIGHT('Efficiency Levels'!$C$22,1),Z14,\nIF(RIGHT($D26,1)<RIGHT('Efficiency Levels'!$C$22,1),0,\nIF(RIGHT($D26,1)=RIGHT('Efficiency Levels'!$C$22,1),SUM(OFFSET(Z14,-RIGHT($D26,1),0,RIGHT($D26,1),1)),\"ERROR\"))))","v":0},{"$f":"IF(AA$24<STANDARD_YEAR,AA14,\nIF(RIGHT($D26,1)>RIGHT('Efficiency Levels'!$C$22,1),AA14,\nIF(RIGHT($D26,1)<RIGHT('Efficiency Levels'!$C$22,1),0,\nIF(RIGHT($D26,1)=RIGHT('Efficiency Levels'!$C$22,1),SUM(OFFSET(AA14,-RIGHT($D26,1),0,RIGHT($D26,1),1)),\"ERROR\"))))","v":0},{"$f":"IF(AB$24<STANDARD_YEAR,AB14,\nIF(RIGHT($D26,1)>RIGHT('Efficiency Levels'!$C$22,1),AB14,\nIF(RIGHT($D26,1)<RIGHT('Efficiency Levels'!$C$22,1),0,\nIF(RIGHT($D26,1)=RIGHT('Efficiency Levels'!$C$22,1),SUM(OFFSET(AB14,-RIGHT($D26,1),0,RIGHT($D26,1),1)),\"ERROR\"))))","v":0},{"$f":"IF(AC$24<STANDARD_YEAR,AC14,\nIF(RIGHT($D26,1)>RIGHT('Efficiency Levels'!$C$22,1),AC14,\nIF(RIGHT($D26,1)<RIGHT('Efficiency Levels'!$C$22,1),0,\nIF(RIGHT($D26,1)=RIGHT('Efficiency Levels'!$C$22,1),SUM(OFFSET(AC14,-RIGHT($D26,1),0,RIGHT($D26,1),1)),\"ERROR\"))))","v":0},{"$f":"IF(AD$24<STANDARD_YEAR,AD14,\nIF(RIGHT($D26,1)>RIGHT('Efficiency Levels'!$C$22,1),AD14,\nIF(RIGHT($D26,1)<RIGHT('Efficiency Levels'!$C$22,1),0,\nIF(RIGHT($D26,1)=RIGHT('Efficiency Levels'!$C$22,1),SUM(OFFSET(AD14,-RIGHT($D26,1),0,RIGHT($D26,1),1)),\"ERROR\"))))","v":0},{"$f":"IF(AE$24<STANDARD_YEAR,AE14,\nIF(RIGHT($D26,1)>RIGHT('Efficiency Levels'!$C$22,1),AE14,\nIF(RIGHT($D26,1)<RIGHT('Efficiency Levels'!$C$22,1),0,\nIF(RIGHT($D26,1)=RIGHT('Efficiency Levels'!$C$22,1),SUM(OFFSET(AE14,-RIGHT($D26,1),0,RIGHT($D26,1),1)),\"ERROR\"))))","v":0},{"$f":"IF(AF$24<STANDARD_YEAR,AF14,\nIF(RIGHT($D26,1)>RIGHT('Efficiency Levels'!$C$22,1),AF14,\nIF(RIGHT($D26,1)<RIGHT('Efficiency Levels'!$C$22,1),0,\nIF(RIGHT($D26,1)=RIGHT('Efficiency Levels'!$C$22,1),SUM(OFFSET(AF14,-RIGHT($D26,1),0,RIGHT($D26,1),1)),\"ERROR\"))))","v":0},{"$f":"IF(AG$24<STANDARD_YEAR,AG14,\nIF(RIGHT($D26,1)>RIGHT('Efficiency Levels'!$C$22,1),AG14,\nIF(RIGHT($D26,1)<RIGHT('Efficiency Levels'!$C$22,1),0,\nIF(RIGHT($D26,1)=RIGHT('Efficiency Levels'!$C$22,1),SUM(OFFSET(AG14,-RIGHT($D26,1),0,RIGHT($D26,1),1)),\"ERROR\"))))","v":0},{"$f":"IF(AH$24<STANDARD_YEAR,AH14,\nIF(RIGHT($D26,1)>RIGHT('Efficiency Levels'!$C$22,1),AH14,\nIF(RIGHT($D26,1)<RIGHT('Efficiency Levels'!$C$22,1),0,\nIF(RIGHT($D26,1)=RIGHT('Efficiency Levels'!$C$22,1),SUM(OFFSET(AH14,-RIGHT($D26,1),0,RIGHT($D26,1),1)),\"ERROR\"))))","v":0},{"$f":"IF(AI$24<STANDARD_YEAR,AI14,\nIF(RIGHT($D26,1)>RIGHT('Efficiency Levels'!$C$22,1),AI14,\nIF(RIGHT($D26,1)<RIGHT('Efficiency Levels'!$C$22,1),0,\nIF(RIGHT($D26,1)=RIGHT('Efficiency Levels'!$C$22,1),SUM(OFFSET(AI14,-RIGHT($D26,1),0,RIGHT($D26,1),1)),\"ERROR\"))))","v":0},{"$f":"IF(AJ$24<STANDARD_YEAR,AJ14,\nIF(RIGHT($D26,1)>RIGHT('Efficiency Levels'!$C$22,1),AJ14,\nIF(RIGHT($D26,1)<RIGHT('Efficiency Levels'!$C$22,1),0,\nIF(RIGHT($D26,1)=RIGHT('Efficiency Levels'!$C$22,1),SUM(OFFSET(AJ14,-RIGHT($D26,1),0,RIGHT($D26,1),1)),\"ERROR\"))))","v":0},{"$f":"IF(AK$24<STANDARD_YEAR,AK14,\nIF(RIGHT($D26,1)>RIGHT('Efficiency Levels'!$C$22,1),AK14,\nIF(RIGHT($D26,1)<RIGHT('Efficiency Levels'!$C$22,1),0,\nIF(RIGHT($D26,1)=RIGHT('Efficiency Levels'!$C$22,1),SUM(OFFSET(AK14,-RIGHT($D26,1),0,RIGHT($D26,1),1)),\"ERROR\"))))","v":0},{"$f":"IF(AL$24<STANDARD_YEAR,AL14,\nIF(RIGHT($D26,1)>RIGHT('Efficiency Levels'!$C$22,1),AL14,\nIF(RIGHT($D26,1)<RIGHT('Efficiency Levels'!$C$22,1),0,\nIF(RIGHT($D26,1)=RIGHT('Efficiency Levels'!$C$22,1),SUM(OFFSET(AL14,-RIGHT($D26,1),0,RIGHT($D26,1),1)),\"ERROR\"))))","v":0},{"$f":"IF(AM$24<STANDARD_YEAR,AM14,\nIF(RIGHT($D26,1)>RIGHT('Efficiency Levels'!$C$22,1),AM14,\nIF(RIGHT($D26,1)<RIGHT('Efficiency Levels'!$C$22,1),0,\nIF(RIGHT($D26,1)=RIGHT('Efficiency Levels'!$C$22,1),SUM(OFFSET(AM14,-RIGHT($D26,1),0,RIGHT($D26,1),1)),\"ERROR\"))))","v":0},{"$f":"IF(AN$24<STANDARD_YEAR,AN14,\nIF(RIGHT($D26,1)>RIGHT('Efficiency Levels'!$C$22,1),AN14,\nIF(RIGHT($D26,1)<RIGHT('Efficiency Levels'!$C$22,1),0,\nIF(RIGHT($D26,1)=RIGHT('Efficiency Levels'!$C$22,1),SUM(OFFSET(AN14,-RIGHT($D26,1),0,RIGHT($D26,1),1)),\"ERROR\"))))","v":0},{"$f":"IF(AO$24<STANDARD_YEAR,AO14,\nIF(RIGHT($D26,1)>RIGHT('Efficiency Levels'!$C$22,1),AO14,\nIF(RIGHT($D26,1)<RIGHT('Efficiency Levels'!$C$22,1),0,\nIF(RIGHT($D26,1)=RIGHT('Efficiency Levels'!$C$22,1),SUM(OFFSET(AO14,-RIGHT($D26,1),0,RIGHT($D26,1),1)),\"ERROR\"))))","v":0},{"$f":"IF(AP$24<STANDARD_YEAR,AP14,\nIF(RIGHT($D26,1)>RIGHT('Efficiency Levels'!$C$22,1),AP14,\nIF(RIGHT($D26,1)<RIGHT('Efficiency Levels'!$C$22,1),0,\nIF(RIGHT($D26,1)=RIGHT('Efficiency Levels'!$C$22,1),SUM(OFFSET(AP14,-RIGHT($D26,1),0,RIGHT($D26,1),1)),\"ERROR\"))))","v":0},{"$f":"IF(AQ$24<STANDARD_YEAR,AQ14,\nIF(RIGHT($D26,1)>RIGHT('Efficiency Levels'!$C$22,1),AQ14,\nIF(RIGHT($D26,1)<RIGHT('Efficiency Levels'!$C$22,1),0,\nIF(RIGHT($D26,1)=RIGHT('Efficiency Levels'!$C$22,1),SUM(OFFSET(AQ14,-RIGHT($D26,1),0,RIGHT($D26,1),1)),\"ERROR\"))))","v":0},{"$f":"IF(AR$24<STANDARD_YEAR,AR14,\nIF(RIGHT($D26,1)>RIGHT('Efficiency Levels'!$C$22,1),AR14,\nIF(RIGHT($D26,1)<RIGHT('Efficiency Levels'!$C$22,1),0,\nIF(RIGHT($D26,1)=RIGHT('Efficiency Levels'!$C$22,1),SUM(OFFSET(AR14,-RIGHT($D26,1),0,RIGHT($D26,1),1)),\"ERROR\"))))","v":0},{"$f":"IF(AS$24<STANDARD_YEAR,AS14,\nIF(RIGHT($D26,1)>RIGHT('Efficiency Levels'!$C$22,1),AS14,\nIF(RIGHT($D26,1)<RIGHT('Efficiency Levels'!$C$22,1),0,\nIF(RIGHT($D26,1)=RIGHT('Efficiency Levels'!$C$22,1),SUM(OFFSET(AS14,-RIGHT($D26,1),0,RIGHT($D26,1),1)),\"ERROR\"))))","v":0},{"$f":"IF(AT$24<STANDARD_YEAR,AT14,\nIF(RIGHT($D26,1)>RIGHT('Efficiency Levels'!$C$22,1),AT14,\nIF(RIGHT($D26,1)<RIGHT('Efficiency Levels'!$C$22,1),0,\nIF(RIGHT($D26,1)=RIGHT('Efficiency Levels'!$C$22,1),SUM(OFFSET(AT14,-RIGHT($D26,1),0,RIGHT($D26,1),1)),\"ERROR\"))))","v":0},{"$f":"IF(AU$24<STANDARD_YEAR,AU14,\nIF(RIGHT($D26,1)>RIGHT('Efficiency Levels'!$C$22,1),AU14,\nIF(RIGHT($D26,1)<RIGHT('Efficiency Levels'!$C$22,1),0,\nIF(RIGHT($D26,1)=RIGHT('Efficiency Levels'!$C$22,1),SUM(OFFSET(AU14,-RIGHT($D26,1),0,RIGHT($D26,1),1)),\"ERROR\"))))","v":0},{"$f":"IF(AV$24<STANDARD_YEAR,AV14,\nIF(RIGHT($D26,1)>RIGHT('Efficiency Levels'!$C$22,1),AV14,\nIF(RIGHT($D26,1)<RIGHT('Efficiency Levels'!$C$22,1),0,\nIF(RIGHT($D26,1)=RIGHT('Efficiency Levels'!$C$22,1),SUM(OFFSET(AV14,-RIGHT($D26,1),0,RIGHT($D26,1),1)),\"ERROR\"))))","v":0},{"$f":"IF(AW$24<STANDARD_YEAR,AW14,\nIF(RIGHT($D26,1)>RIGHT('Efficiency Levels'!$C$22,1),AW14,\nIF(RIGHT($D26,1)<RIGHT('Efficiency Levels'!$C$22,1),0,\nIF(RIGHT($D26,1)=RIGHT('Efficiency Levels'!$C$22,1),SUM(OFFSET(AW14,-RIGHT($D26,1),0,RIGHT($D26,1),1)),\"ERROR\"))))","v":0},{"$f":"IF(AX$24<STANDARD_YEAR,AX14,\nIF(RIGHT($D26,1)>RIGHT('Efficiency Levels'!$C$22,1),AX14,\nIF(RIGHT($D26,1)<RIGHT('Efficiency Levels'!$C$22,1),0,\nIF(RIGHT($D26,1)=RIGHT('Efficiency Levels'!$C$22,1),SUM(OFFSET(AX14,-RIGHT($D26,1),0,RIGHT($D26,1),1)),\"ERROR\"))))","v":0},{"$f":"IF(AY$24<STANDARD_YEAR,AY14,\nIF(RIGHT($D26,1)>RIGHT('Efficiency Levels'!$C$22,1),AY14,\nIF(RIGHT($D26,1)<RIGHT('Efficiency Levels'!$C$22,1),0,\nIF(RIGHT($D26,1)=RIGHT('Efficiency Levels'!$C$22,1),SUM(OFFSET(AY14,-RIGHT($D26,1),0,RIGHT($D26,1),1)),\"ERROR\"))))","v":0},{"$f":"IF(AZ$24<STANDARD_YEAR,AZ14,\nIF(RIGHT($D26,1)>RIGHT('Efficiency Levels'!$C$22,1),AZ14,\nIF(RIGHT($D26,1)<RIGHT('Efficiency Levels'!$C$22,1),0,\nIF(RIGHT($D26,1)=RIGHT('Efficiency Levels'!$C$22,1),SUM(OFFSET(AZ14,-RIGHT($D26,1),0,RIGHT($D26,1),1)),\"ERROR\"))))","v":0},{"$f":"IF(BA$24<STANDARD_YEAR,BA14,\nIF(RIGHT($D26,1)>RIGHT('Efficiency Levels'!$C$22,1),BA14,\nIF(RIGHT($D26,1)<RIGHT('Efficiency Levels'!$C$22,1),0,\nIF(RIGHT($D26,1)=RIGHT('Efficiency Levels'!$C$22,1),SUM(OFFSET(BA14,-RIGHT($D26,1),0,RIGHT($D26,1),1)),\"ERROR\"))))","v":0},{"$f":"IF(BB$24<STANDARD_YEAR,BB14,\nIF(RIGHT($D26,1)>RIGHT('Efficiency Levels'!$C$22,1),BB14,\nIF(RIGHT($D26,1)<RIGHT('Efficiency Levels'!$C$22,1),0,\nIF(RIGHT($D26,1)=RIGHT('Efficiency Levels'!$C$22,1),SUM(OFFSET(BB14,-RIGHT($D26,1),0,RIGHT($D26,1),1)),\"ERROR\"))))","v":0},{"$f":"IF(BC$24<STANDARD_YEAR,BC14,\nIF(RIGHT($D26,1)>RIGHT('Efficiency Levels'!$C$22,1),BC14,\nIF(RIGHT($D26,1)<RIGHT('Efficiency Levels'!$C$22,1),0,\nIF(RIGHT($D26,1)=RIGHT('Efficiency Levels'!$C$22,1),SUM(OFFSET(BC14,-RIGHT($D26,1),0,RIGHT($D26,1),1)),\"ERROR\"))))","v":0},{"$f":"IF(BD$24<STANDARD_YEAR,BD14,\nIF(RIGHT($D26,1)>RIGHT('Efficiency Levels'!$C$22,1),BD14,\nIF(RIGHT($D26,1)<RIGHT('Efficiency Levels'!$C$22,1),0,\nIF(RIGHT($D26,1)=RIGHT('Efficiency Levels'!$C$22,1),SUM(OFFSET(BD14,-RIGHT($D26,1),0,RIGHT($D26,1),1)),\"ERROR\"))))","v":0},{"$f":"IF(BE$24<STANDARD_YEAR,BE14,\nIF(RIGHT($D26,1)>RIGHT('Efficiency Levels'!$C$22,1),BE14,\nIF(RIGHT($D26,1)<RIGHT('Efficiency Levels'!$C$22,1),0,\nIF(RIGHT($D26,1)=RIGHT('Efficiency Levels'!$C$22,1),SUM(OFFSET(BE14,-RIGHT($D26,1),0,RIGHT($D26,1),1)),\"ERROR\"))))","v":0},{"$f":"IF(BF$24<STANDARD_YEAR,BF14,\nIF(RIGHT($D26,1)>RIGHT('Efficiency Levels'!$C$22,1),BF14,\nIF(RIGHT($D26,1)<RIGHT('Efficiency Levels'!$C$22,1),0,\nIF(RIGHT($D26,1)=RIGHT('Efficiency Levels'!$C$22,1),SUM(OFFSET(BF14,-RIGHT($D26,1),0,RIGHT($D26,1),1)),\"ERROR\"))))","v":0},{"$f":"IF(BG$24<STANDARD_YEAR,BG14,\nIF(RIGHT($D26,1)>RIGHT('Efficiency Levels'!$C$22,1),BG14,\nIF(RIGHT($D26,1)<RIGHT('Efficiency Levels'!$C$22,1),0,\nIF(RIGHT($D26,1)=RIGHT('Efficiency Levels'!$C$22,1),SUM(OFFSET(BG14,-RIGHT($D26,1),0,RIGHT($D26,1),1)),\"ERROR\"))))","v":0},{"$f":"IF(BH$24<STANDARD_YEAR,BH14,\nIF(RIGHT($D26,1)>RIGHT('Efficiency Levels'!$C$22,1),BH14,\nIF(RIGHT($D26,1)<RIGHT('Efficiency Levels'!$C$22,1),0,\nIF(RIGHT($D26,1)=RIGHT('Efficiency Levels'!$C$22,1),SUM(OFFSET(BH14,-RIGHT($D26,1),0,RIGHT($D26,1),1)),\"ERROR\"))))","v":0},{"$f":"IF(BI$24<STANDARD_YEAR,BI14,\nIF(RIGHT($D26,1)>RIGHT('Efficiency Levels'!$C$22,1),BI14,\nIF(RIGHT($D26,1)<RIGHT('Efficiency Levels'!$C$22,1),0,\nIF(RIGHT($D26,1)=RIGHT('Efficiency Levels'!$C$22,1),SUM(OFFSET(BI14,-RIGHT($D26,1),0,RIGHT($D26,1),1)),\"ERROR\"))))","v":0},{"$f":"IF(BJ$24<STANDARD_YEAR,BJ14,\nIF(RIGHT($D26,1)>RIGHT('Efficiency Levels'!$C$22,1),BJ14,\nIF(RIGHT($D26,1)<RIGHT('Efficiency Levels'!$C$22,1),0,\nIF(RIGHT($D26,1)=RIGHT('Efficiency Levels'!$C$22,1),SUM(OFFSET(BJ14,-RIGHT($D26,1),0,RIGHT($D26,1),1)),\"ERROR\"))))","v":0}]
[null,null,null,"EL2",{"$f":"OFFSET('Efficiency Levels'!$D$11,MATCH($C$9,'Efficiency Levels'!$C$9:$C$1002,0)+RIGHT(D27,1),0)","v":316.10000000000002},null,null,null,{"$f":"IF(I$24<STANDARD_YEAR,I15,\nIF(RIGHT($D27,1)>RIGHT('Efficiency Levels'!$C$22,1),I15,\nIF(RIGHT($D27,1)<RIGHT('Efficiency Levels'!$C$22,1),0,\nIF(RIGHT($D27,1)=RIGHT('Efficiency Levels'!$C$22,1),SUM(OFFSET(I15,-RIGHT($D27,1),0,RIGHT($D27,1),1)),\"ERROR\"))))","v":0},{"$f":"IF(J$24<STANDARD_YEAR,J15,\nIF(RIGHT($D27,1)>RIGHT('Efficiency Levels'!$C$22,1),J15,\nIF(RIGHT($D27,1)<RIGHT('Efficiency Levels'!$C$22,1),0,\nIF(RIGHT($D27,1)=RIGHT('Efficiency Levels'!$C$22,1),SUM(OFFSET(J15,-RIGHT($D27,1),0,RIGHT($D27,1),1)),\"ERROR\"))))","v":0},{"$f":"IF(K$24<STANDARD_YEAR,K15,\nIF(RIGHT($D27,1)>RIGHT('Efficiency Levels'!$C$22,1),K15,\nIF(RIGHT($D27,1)<RIGHT('Efficiency Levels'!$C$22,1),0,\nIF(RIGHT($D27,1)=RIGHT('Efficiency Levels'!$C$22,1),SUM(OFFSET(K15,-RIGHT($D27,1),0,RIGHT($D27,1),1)),\"ERROR\"))))","v":0},{"$f":"IF(L$24<STANDARD_YEAR,L15,\nIF(RIGHT($D27,1)>RIGHT('Efficiency Levels'!$C$22,1),L15,\nIF(RIGHT($D27,1)<RIGHT('Efficiency Levels'!$C$22,1),0,\nIF(RIGHT($D27,1)=RIGHT('Efficiency Levels'!$C$22,1),SUM(OFFSET(L15,-RIGHT($D27,1),0,RIGHT($D27,1),1)),\"ERROR\"))))","v":0},{"$f":"IF(M$24<STANDARD_YEAR,M15,\nIF(RIGHT($D27,1)>RIGHT('Efficiency Levels'!$C$22,1),M15,\nIF(RIGHT($D27,1)<RIGHT('Efficiency Levels'!$C$22,1),0,\nIF(RIGHT($D27,1)=RIGHT('Efficiency Levels'!$C$22,1),SUM(OFFSET(M15,-RIGHT($D27,1),0,RIGHT($D27,1),1)),\"ERROR\"))))","v":0},{"$f":"IF(N$24<STANDARD_YEAR,N15,\nIF(RIGHT($D27,1)>RIGHT('Efficiency Levels'!$C$22,1),N15,\nIF(RIGHT($D27,1)<RIGHT('Efficiency Levels'!$C$22,1),0,\nIF(RIGHT($D27,1)=RIGHT('Efficiency Levels'!$C$22,1),SUM(OFFSET(N15,-RIGHT($D27,1),0,RIGHT($D27,1),1)),\"ERROR\"))))","v":0},{"$f":"IF(O$24<STANDARD_YEAR,O15,\nIF(RIGHT($D27,1)>RIGHT('Efficiency Levels'!$C$22,1),O15,\nIF(RIGHT($D27,1)<RIGHT('Efficiency Levels'!$C$22,1),0,\nIF(RIGHT($D27,1)=RIGHT('Efficiency Levels'!$C$22,1),SUM(OFFSET(O15,-RIGHT($D27,1),0,RIGHT($D27,1),1)),\"ERROR\"))))","v":0},{"$f":"IF(P$24<STANDARD_YEAR,P15,\nIF(RIGHT($D27,1)>RIGHT('Efficiency Levels'!$C$22,1),P15,\nIF(RIGHT($D27,1)<RIGHT('Efficiency Levels'!$C$22,1),0,\nIF(RIGHT($D27,1)=RIGHT('Efficiency Levels'!$C$22,1),SUM(OFFSET(P15,-RIGHT($D27,1),0,RIGHT($D27,1),1)),\"ERROR\"))))","v":0},{"$f":"IF(Q$24<STANDARD_YEAR,Q15,\nIF(RIGHT($D27,1)>RIGHT('Efficiency Levels'!$C$22,1),Q15,\nIF(RIGHT($D27,1)<RIGHT('Efficiency Levels'!$C$22,1),0,\nIF(RIGHT($D27,1)=RIGHT('Efficiency Levels'!$C$22,1),SUM(OFFSET(Q15,-RIGHT($D27,1),0,RIGHT($D27,1),1)),\"ERROR\"))))","v":0},{"$f":"IF(R$24<STANDARD_YEAR,R15,\nIF(RIGHT($D27,1)>RIGHT('Efficiency Levels'!$C$22,1),R15,\nIF(RIGHT($D27,1)<RIGHT('Efficiency Levels'!$C$22,1),0,\nIF(RIGHT($D27,1)=RIGHT('Efficiency Levels'!$C$22,1),SUM(OFFSET(R15,-RIGHT($D27,1),0,RIGHT($D27,1),1)),\"ERROR\"))))","v":0},{"$f":"IF(S$24<STANDARD_YEAR,S15,\nIF(RIGHT($D27,1)>RIGHT('Efficiency Levels'!$C$22,1),S15,\nIF(RIGHT($D27,1)<RIGHT('Efficiency Levels'!$C$22,1),0,\nIF(RIGHT($D27,1)=RIGHT('Efficiency Levels'!$C$22,1),SUM(OFFSET(S15,-RIGHT($D27,1),0,RIGHT($D27,1),1)),\"ERROR\"))))","v":0},{"$f":"IF(T$24<STANDARD_YEAR,T15,\nIF(RIGHT($D27,1)>RIGHT('Efficiency Levels'!$C$22,1),T15,\nIF(RIGHT($D27,1)<RIGHT('Efficiency Levels'!$C$22,1),0,\nIF(RIGHT($D27,1)=RIGHT('Efficiency Levels'!$C$22,1),SUM(OFFSET(T15,-RIGHT($D27,1),0,RIGHT($D27,1),1)),\"ERROR\"))))","v":0},{"$f":"IF(U$24<STANDARD_YEAR,U15,\nIF(RIGHT($D27,1)>RIGHT('Efficiency Levels'!$C$22,1),U15,\nIF(RIGHT($D27,1)<RIGHT('Efficiency Levels'!$C$22,1),0,\nIF(RIGHT($D27,1)=RIGHT('Efficiency Levels'!$C$22,1),SUM(OFFSET(U15,-RIGHT($D27,1),0,RIGHT($D27,1),1)),\"ERROR\"))))","v":0},{"$f":"IF(V$24<STANDARD_YEAR,V15,\nIF(RIGHT($D27,1)>RIGHT('Efficiency Levels'!$C$22,1),V15,\nIF(RIGHT($D27,1)<RIGHT('Efficiency Levels'!$C$22,1),0,\nIF(RIGHT($D27,1)=RIGHT('Efficiency Levels'!$C$22,1),SUM(OFFSET(V15,-RIGHT($D27,1),0,RIGHT($D27,1),1)),\"ERROR\"))))","v":0},{"$f":"IF(W$24<STANDARD_YEAR,W15,\nIF(RIGHT($D27,1)>RIGHT('Efficiency Levels'!$C$22,1),W15,\nIF(RIGHT($D27,1)<RIGHT('Efficiency Levels'!$C$22,1),0,\nIF(RIGHT($D27,1)=RIGHT('Efficiency Levels'!$C$22,1),SUM(OFFSET(W15,-RIGHT($D27,1),0,RIGHT($D27,1),1)),\"ERROR\"))))","v":0},{"$f":"IF(X$24<STANDARD_YEAR,X15,\nIF(RIGHT($D27,1)>RIGHT('Efficiency Levels'!$C$22,1),X15,\nIF(RIGHT($D27,1)<RIGHT('Efficiency Levels'!$C$22,1),0,\nIF(RIGHT($D27,1)=RIGHT('Efficiency Levels'!$C$22,1),SUM(OFFSET(X15,-RIGHT($D27,1),0,RIGHT($D27,1),1)),\"ERROR\"))))","v":0},{"$f":"IF(Y$24<STANDARD_YEAR,Y15,\nIF(RIGHT($D27,1)>RIGHT('Efficiency Levels'!$C$22,1),Y15,\nIF(RIGHT($D27,1)<RIGHT('Efficiency Levels'!$C$22,1),0,\nIF(RIGHT($D27,1)=RIGHT('Efficiency Levels'!$C$22,1),SUM(OFFSET(Y15,-RIGHT($D27,1),0,RIGHT($D27,1),1)),\"ERROR\"))))","v":0},{"$f":"IF(Z$24<STANDARD_YEAR,Z15,\nIF(RIGHT($D27,1)>RIGHT('Efficiency Levels'!$C$22,1),Z15,\nIF(RIGHT($D27,1)<RIGHT('Efficiency Levels'!$C$22,1),0,\nIF(RIGHT($D27,1)=RIGHT('Efficiency Levels'!$C$22,1),SUM(OFFSET(Z15,-RIGHT($D27,1),0,RIGHT($D27,1),1)),\"ERROR\"))))","v":0},{"$f":"IF(AA$24<STANDARD_YEAR,AA15,\nIF(RIGHT($D27,1)>RIGHT('Efficiency Levels'!$C$22,1),AA15,\nIF(RIGHT($D27,1)<RIGHT('Efficiency Levels'!$C$22,1),0,\nIF(RIGHT($D27,1)=RIGHT('Efficiency Levels'!$C$22,1),SUM(OFFSET(AA15,-RIGHT($D27,1),0,RIGHT($D27,1),1)),\"ERROR\"))))","v":0},{"$f":"IF(AB$24<STANDARD_YEAR,AB15,\nIF(RIGHT($D27,1)>RIGHT('Efficiency Levels'!$C$22,1),AB15,\nIF(RIGHT($D27,1)<RIGHT('Efficiency Levels'!$C$22,1),0,\nIF(RIGHT($D27,1)=RIGHT('Efficiency Levels'!$C$22,1),SUM(OFFSET(AB15,-RIGHT($D27,1),0,RIGHT($D27,1),1)),\"ERROR\"))))","v":0},{"$f":"IF(AC$24<STANDARD_YEAR,AC15,\nIF(RIGHT($D27,1)>RIGHT('Efficiency Levels'!$C$22,1),AC15,\nIF(RIGHT($D27,1)<RIGHT('Efficiency Levels'!$C$22,1),0,\nIF(RIGHT($D27,1)=RIGHT('Efficiency Levels'!$C$22,1),SUM(OFFSET(AC15,-RIGHT($D27,1),0,RIGHT($D27,1),1)),\"ERROR\"))))","v":0},{"$f":"IF(AD$24<STANDARD_YEAR,AD15,\nIF(RIGHT($D27,1)>RIGHT('Efficiency Levels'!$C$22,1),AD15,\nIF(RIGHT($D27,1)<RIGHT('Efficiency Levels'!$C$22,1),0,\nIF(RIGHT($D27,1)=RIGHT('Efficiency Levels'!$C$22,1),SUM(OFFSET(AD15,-RIGHT($D27,1),0,RIGHT($D27,1),1)),\"ERROR\"))))","v":0},{"$f":"IF(AE$24<STANDARD_YEAR,AE15,\nIF(RIGHT($D27,1)>RIGHT('Efficiency Levels'!$C$22,1),AE15,\nIF(RIGHT($D27,1)<RIGHT('Efficiency Levels'!$C$22,1),0,\nIF(RIGHT($D27,1)=RIGHT('Efficiency Levels'!$C$22,1),SUM(OFFSET(AE15,-RIGHT($D27,1),0,RIGHT($D27,1),1)),\"ERROR\"))))","v":0},{"$f":"IF(AF$24<STANDARD_YEAR,AF15,\nIF(RIGHT($D27,1)>RIGHT('Efficiency Levels'!$C$22,1),AF15,\nIF(RIGHT($D27,1)<RIGHT('Efficiency Levels'!$C$22,1),0,\nIF(RIGHT($D27,1)=RIGHT('Efficiency Levels'!$C$22,1),SUM(OFFSET(AF15,-RIGHT($D27,1),0,RIGHT($D27,1),1)),\"ERROR\"))))","v":0},{"$f":"IF(AG$24<STANDARD_YEAR,AG15,\nIF(RIGHT($D27,1)>RIGHT('Efficiency Levels'!$C$22,1),AG15,\nIF(RIGHT($D27,1)<RIGHT('Efficiency Levels'!$C$22,1),0,\nIF(RIGHT($D27,1)=RIGHT('Efficiency Levels'!$C$22,1),SUM(OFFSET(AG15,-RIGHT($D27,1),0,RIGHT($D27,1),1)),\"ERROR\"))))","v":0},{"$f":"IF(AH$24<STANDARD_YEAR,AH15,\nIF(RIGHT($D27,1)>RIGHT('Efficiency Levels'!$C$22,1),AH15,\nIF(RIGHT($D27,1)<RIGHT('Efficiency Levels'!$C$22,1),0,\nIF(RIGHT($D27,1)=RIGHT('Efficiency Levels'!$C$22,1),SUM(OFFSET(AH15,-RIGHT($D27,1),0,RIGHT($D27,1),1)),\"ERROR\"))))","v":0},{"$f":"IF(AI$24<STANDARD_YEAR,AI15,\nIF(RIGHT($D27,1)>RIGHT('Efficiency Levels'!$C$22,1),AI15,\nIF(RIGHT($D27,1)<RIGHT('Efficiency Levels'!$C$22,1),0,\nIF(RIGHT($D27,1)=RIGHT('Efficiency Levels'!$C$22,1),SUM(OFFSET(AI15,-RIGHT($D27,1),0,RIGHT($D27,1),1)),\"ERROR\"))))","v":0},{"$f":"IF(AJ$24<STANDARD_YEAR,AJ15,\nIF(RIGHT($D27,1)>RIGHT('Efficiency Levels'!$C$22,1),AJ15,\nIF(RIGHT($D27,1)<RIGHT('Efficiency Levels'!$C$22,1),0,\nIF(RIGHT($D27,1)=RIGHT('Efficiency Levels'!$C$22,1),SUM(OFFSET(AJ15,-RIGHT($D27,1),0,RIGHT($D27,1),1)),\"ERROR\"))))","v":0},{"$f":"IF(AK$24<STANDARD_YEAR,AK15,\nIF(RIGHT($D27,1)>RIGHT('Efficiency Levels'!$C$22,1),AK15,\nIF(RIGHT($D27,1)<RIGHT('Efficiency Levels'!$C$22,1),0,\nIF(RIGHT($D27,1)=RIGHT('Efficiency Levels'!$C$22,1),SUM(OFFSET(AK15,-RIGHT($D27,1),0,RIGHT($D27,1),1)),\"ERROR\"))))","v":0},{"$f":"IF(AL$24<STANDARD_YEAR,AL15,\nIF(RIGHT($D27,1)>RIGHT('Efficiency Levels'!$C$22,1),AL15,\nIF(RIGHT($D27,1)<RIGHT('Efficiency Levels'!$C$22,1),0,\nIF(RIGHT($D27,1)=RIGHT('Efficiency Levels'!$C$22,1),SUM(OFFSET(AL15,-RIGHT($D27,1),0,RIGHT($D27,1),1)),\"ERROR\"))))","v":0},{"$f":"IF(AM$24<STANDARD_YEAR,AM15,\nIF(RIGHT($D27,1)>RIGHT('Efficiency Levels'!$C$22,1),AM15,\nIF(RIGHT($D27,1)<RIGHT('Efficiency Levels'!$C$22,1),0,\nIF(RIGHT($D27,1)=RIGHT('Efficiency Levels'!$C$22,1),SUM(OFFSET(AM15,-RIGHT($D27,1),0,RIGHT($D27,1),1)),\"ERROR\"))))","v":0},{"$f":"IF(AN$24<STANDARD_YEAR,AN15,\nIF(RIGHT($D27,1)>RIGHT('Efficiency Levels'!$C$22,1),AN15,\nIF(RIGHT($D27,1)<RIGHT('Efficiency Levels'!$C$22,1),0,\nIF(RIGHT($D27,1)=RIGHT('Efficiency Levels'!$C$22,1),SUM(OFFSET(AN15,-RIGHT($D27,1),0,RIGHT($D27,1),1)),\"ERROR\"))))","v":0},{"$f":"IF(AO$24<STANDARD_YEAR,AO15,\nIF(RIGHT($D27,1)>RIGHT('Efficiency Levels'!$C$22,1),AO15,\nIF(RIGHT($D27,1)<RIGHT('Efficiency Levels'!$C$22,1),0,\nIF(RIGHT($D27,1)=RIGHT('Efficiency Levels'!$C$22,1),SUM(OFFSET(AO15,-RIGHT($D27,1),0,RIGHT($D27,1),1)),\"ERROR\"))))","v":0},{"$f":"IF(AP$24<STANDARD_YEAR,AP15,\nIF(RIGHT($D27,1)>RIGHT('Efficiency Levels'!$C$22,1),AP15,\nIF(RIGHT($D27,1)<RIGHT('Efficiency Levels'!$C$22,1),0,\nIF(RIGHT($D27,1)=RIGHT('Efficiency Levels'!$C$22,1),SUM(OFFSET(AP15,-RIGHT($D27,1),0,RIGHT($D27,1),1)),\"ERROR\"))))","v":0},{"$f":"IF(AQ$24<STANDARD_YEAR,AQ15,\nIF(RIGHT($D27,1)>RIGHT('Efficiency Levels'!$C$22,1),AQ15,\nIF(RIGHT($D27,1)<RIGHT('Efficiency Levels'!$C$22,1),0,\nIF(RIGHT($D27,1)=RIGHT('Efficiency Levels'!$C$22,1),SUM(OFFSET(AQ15,-RIGHT($D27,1),0,RIGHT($D27,1),1)),\"ERROR\"))))","v":0},{"$f":"IF(AR$24<STANDARD_YEAR,AR15,\nIF(RIGHT($D27,1)>RIGHT('Efficiency Levels'!$C$22,1),AR15,\nIF(RIGHT($D27,1)<RIGHT('Efficiency Levels'!$C$22,1),0,\nIF(RIGHT($D27,1)=RIGHT('Efficiency Levels'!$C$22,1),SUM(OFFSET(AR15,-RIGHT($D27,1),0,RIGHT($D27,1),1)),\"ERROR\"))))","v":0},{"$f":"IF(AS$24<STANDARD_YEAR,AS15,\nIF(RIGHT($D27,1)>RIGHT('Efficiency Levels'!$C$22,1),AS15,\nIF(RIGHT($D27,1)<RIGHT('Efficiency Levels'!$C$22,1),0,\nIF(RIGHT($D27,1)=RIGHT('Efficiency Levels'!$C$22,1),SUM(OFFSET(AS15,-RIGHT($D27,1),0,RIGHT($D27,1),1)),\"ERROR\"))))","v":0},{"$f":"IF(AT$24<STANDARD_YEAR,AT15,\nIF(RIGHT($D27,1)>RIGHT('Efficiency Levels'!$C$22,1),AT15,\nIF(RIGHT($D27,1)<RIGHT('Efficiency Levels'!$C$22,1),0,\nIF(RIGHT($D27,1)=RIGHT('Efficiency Levels'!$C$22,1),SUM(OFFSET(AT15,-RIGHT($D27,1),0,RIGHT($D27,1),1)),\"ERROR\"))))","v":0},{"$f":"IF(AU$24<STANDARD_YEAR,AU15,\nIF(RIGHT($D27,1)>RIGHT('Efficiency Levels'!$C$22,1),AU15,\nIF(RIGHT($D27,1)<RIGHT('Efficiency Levels'!$C$22,1),0,\nIF(RIGHT($D27,1)=RIGHT('Efficiency Levels'!$C$22,1),SUM(OFFSET(AU15,-RIGHT($D27,1),0,RIGHT($D27,1),1)),\"ERROR\"))))","v":1},{"$f":"IF(AV$24<STANDARD_YEAR,AV15,\nIF(RIGHT($D27,1)>RIGHT('Efficiency Levels'!$C$22,1),AV15,\nIF(RIGHT($D27,1)<RIGHT('Efficiency Levels'!$C$22,1),0,\nIF(RIGHT($D27,1)=RIGHT('Efficiency Levels'!$C$22,1),SUM(OFFSET(AV15,-RIGHT($D27,1),0,RIGHT($D27,1),1)),\"ERROR\"))))","v":1},{"$f":"IF(AW$24<STANDARD_YEAR,AW15,\nIF(RIGHT($D27,1)>RIGHT('Efficiency Levels'!$C$22,1),AW15,\nIF(RIGHT($D27,1)<RIGHT('Efficiency Levels'!$C$22,1),0,\nIF(RIGHT($D27,1)=RIGHT('Efficiency Levels'!$C$22,1),SUM(OFFSET(AW15,-RIGHT($D27,1),0,RIGHT($D27,1),1)),\"ERROR\"))))","v":1},{"$f":"IF(AX$24<STANDARD_YEAR,AX15,\nIF(RIGHT($D27,1)>RIGHT('Efficiency Levels'!$C$22,1),AX15,\nIF(RIGHT($D27,1)<RIGHT('Efficiency Levels'!$C$22,1),0,\nIF(RIGHT($D27,1)=RIGHT('Efficiency Levels'!$C$22,1),SUM(OFFSET(AX15,-RIGHT($D27,1),0,RIGHT($D27,1),1)),\"ERROR\"))))","v":1},{"$f":"IF(AY$24<STANDARD_YEAR,AY15,\nIF(RIGHT($D27,1)>RIGHT('Efficiency Levels'!$C$22,1),AY15,\nIF(RIGHT($D27,1)<RIGHT('Efficiency Levels'!$C$22,1),0,\nIF(RIGHT($D27,1)=RIGHT('Efficiency Levels'!$C$22,1),SUM(OFFSET(AY15,-RIGHT($D27,1),0,RIGHT($D27,1),1)),\"ERROR\"))))","v":1},{"$f":"IF(AZ$24<STANDARD_YEAR,AZ15,\nIF(RIGHT($D27,1)>RIGHT('Efficiency Levels'!$C$22,1),AZ15,\nIF(RIGHT($D27,1)<RIGHT('Efficiency Levels'!$C$22,1),0,\nIF(RIGHT($D27,1)=RIGHT('Efficiency Levels'!$C$22,1),SUM(OFFSET(AZ15,-RIGHT($D27,1),0,RIGHT($D27,1),1)),\"ERROR\"))))","v":1},{"$f":"IF(BA$24<STANDARD_YEAR,BA15,\nIF(RIGHT($D27,1)>RIGHT('Efficiency Levels'!$C$22,1),BA15,\nIF(RIGHT($D27,1)<RIGHT('Efficiency Levels'!$C$22,1),0,\nIF(RIGHT($D27,1)=RIGHT('Efficiency Levels'!$C$22,1),SUM(OFFSET(BA15,-RIGHT($D27,1),0,RIGHT($D27,1),1)),\"ERROR\"))))","v":1},{"$f":"IF(BB$24<STANDARD_YEAR,BB15,\nIF(RIGHT($D27,1)>RIGHT('Efficiency Levels'!$C$22,1),BB15,\nIF(RIGHT($D27,1)<RIGHT('Efficiency Levels'!$C$22,1),0,\nIF(RIGHT($D27,1)=RIGHT('Efficiency Levels'!$C$22,1),SUM(OFFSET(BB15,-RIGHT($D27,1),0,RIGHT($D27,1),1)),\"ERROR\"))))","v":1},{"$f":"IF(BC$24<STANDARD_YEAR,BC15,\nIF(RIGHT($D27,1)>RIGHT('Efficiency Levels'!$C$22,1),BC15,\nIF(RIGHT($D27,1)<RIGHT('Efficiency Levels'!$C$22,1),0,\nIF(RIGHT($D27,1)=RIGHT('Efficiency Levels'!$C$22,1),SUM(OFFSET(BC15,-RIGHT($D27,1),0,RIGHT($D27,1),1)),\"ERROR\"))))","v":1},{"$f":"IF(BD$24<STANDARD_YEAR,BD15,\nIF(RIGHT($D27,1)>RIGHT('Efficiency Levels'!$C$22,1),BD15,\nIF(RIGHT($D27,1)<RIGHT('Efficiency Levels'!$C$22,1),0,\nIF(RIGHT($D27,1)=RIGHT('Efficiency Levels'!$C$22,1),SUM(OFFSET(BD15,-RIGHT($D27,1),0,RIGHT($D27,1),1)),\"ERROR\"))))","v":1},{"$f":"IF(BE$24<STANDARD_YEAR,BE15,\nIF(RIGHT($D27,1)>RIGHT('Efficiency Levels'!$C$22,1),BE15,\nIF(RIGHT($D27,1)<RIGHT('Efficiency Levels'!$C$22,1),0,\nIF(RIGHT($D27,1)=RIGHT('Efficiency Levels'!$C$22,1),SUM(OFFSET(BE15,-RIGHT($D27,1),0,RIGHT($D27,1),1)),\"ERROR\"))))","v":1},{"$f":"IF(BF$24<STANDARD_YEAR,BF15,\nIF(RIGHT($D27,1)>RIGHT('Efficiency Levels'!$C$22,1),BF15,\nIF(RIGHT($D27,1)<RIGHT('Efficiency Levels'!$C$22,1),0,\nIF(RIGHT($D27,1)=RIGHT('Efficiency Levels'!$C$22,1),SUM(OFFSET(BF15,-RIGHT($D27,1),0,RIGHT($D27,1),1)),\"ERROR\"))))","v":1},{"$f":"IF(BG$24<STANDARD_YEAR,BG15,\nIF(RIGHT($D27,1)>RIGHT('Efficiency Levels'!$C$22,1),BG15,\nIF(RIGHT($D27,1)<RIGHT('Efficiency Levels'!$C$22,1),0,\nIF(RIGHT($D27,1)=RIGHT('Efficiency Levels'!$C$22,1),SUM(OFFSET(BG15,-RIGHT($D27,1),0,RIGHT($D27,1),1)),\"ERROR\"))))","v":1},{"$f":"IF(BH$24<STANDARD_YEAR,BH15,\nIF(RIGHT($D27,1)>RIGHT('Efficiency Levels'!$C$22,1),BH15,\nIF(RIGHT($D27,1)<RIGHT('Efficiency Levels'!$C$22,1),0,\nIF(RIGHT($D27,1)=RIGHT('Efficiency Levels'!$C$22,1),SUM(OFFSET(BH15,-RIGHT($D27,1),0,RIGHT($D27,1),1)),\"ERROR\"))))","v":1},{"$f":"IF(BI$24<STANDARD_YEAR,BI15,\nIF(RIGHT($D27,1)>RIGHT('Efficiency Levels'!$C$22,1),BI15,\nIF(RIGHT($D27,1)<RIGHT('Efficiency Levels'!$C$22,1),0,\nIF(RIGHT($D27,1)=RIGHT('Efficiency Levels'!$C$22,1),SUM(OFFSET(BI15,-RIGHT($D27,1),0,RIGHT($D27,1),1)),\"ERROR\"))))","v":1},{"$f":"IF(BJ$24<STANDARD_YEAR,BJ15,\nIF(RIGHT($D27,1)>RIGHT('Efficiency Levels'!$C$22,1),BJ15,\nIF(RIGHT($D27,1)<RIGHT('Efficiency Levels'!$C$22,1),0,\nIF(RIGHT($D27,1)=RIGHT('Efficiency Levels'!$C$22,1),SUM(OFFSET(BJ15,-RIGHT($D27,1),0,RIGHT($D27,1),1)),\"ERROR\"))))","v":1}]
[null,null,null,"EL3",{"$f":"OFFSET('Efficiency Levels'!$D$11,MATCH($C$9,'Efficiency Levels'!$C$9:$C$1002,0)+RIGHT(D28,1),0)","v":304.8},null,null,null,{"$f":"IF(I$24<STANDARD_YEAR,I16,\nIF(RIGHT($D28,1)>RIGHT('Efficiency Levels'!$C$22,1),I16,\nIF(RIGHT($D28,1)<RIGHT('Efficiency Levels'!$C$22,1),0,\nIF(RIGHT($D28,1)=RIGHT('Efficiency Levels'!$C$22,1),SUM(OFFSET(I16,-RIGHT($D28,1),0,RIGHT($D28,1),1)),\"ERROR\"))))","v":0},{"$f":"IF(J$24<STANDARD_YEAR,J16,\nIF(RIGHT($D28,1)>RIGHT('Efficiency Levels'!$C$22,1),J16,\nIF(RIGHT($D28,1)<RIGHT('Efficiency Levels'!$C$22,1),0,\nIF(RIGHT($D28,1)=RIGHT('Efficiency Levels'!$C$22,1),SUM(OFFSET(J16,-RIGHT($D28,1),0,RIGHT($D28,1),1)),\"ERROR\"))))","v":0},{"$f":"IF(K$24<STANDARD_YEAR,K16,\nIF(RIGHT($D28,1)>RIGHT('Efficiency Levels'!$C$22,1),K16,\nIF(RIGHT($D28,1)<RIGHT('Efficiency Levels'!$C$22,1),0,\nIF(RIGHT($D28,1)=RIGHT('Efficiency Levels'!$C$22,1),SUM(OFFSET(K16,-RIGHT($D28,1),0,RIGHT($D28,1),1)),\"ERROR\"))))","v":0},{"$f":"IF(L$24<STANDARD_YEAR,L16,\nIF(RIGHT($D28,1)>RIGHT('Efficiency Levels'!$C$22,1),L16,\nIF(RIGHT($D28,1)<RIGHT('Efficiency Levels'!$C$22,1),0,\nIF(RIGHT($D28,1)=RIGHT('Efficiency Levels'!$C$22,1),SUM(OFFSET(L16,-RIGHT($D28,1),0,RIGHT($D28,1),1)),\"ERROR\"))))","v":0},{"$f":"IF(M$24<STANDARD_YEAR,M16,\nIF(RIGHT($D28,1)>RIGHT('Efficiency Levels'!$C$22,1),M16,\nIF(RIGHT($D28,1)<RIGHT('Efficiency Levels'!$C$22,1),0,\nIF(RIGHT($D28,1)=RIGHT('Efficiency Levels'!$C$22,1),SUM(OFFSET(M16,-RIGHT($D28,1),0,RIGHT($D28,1),1)),\"ERROR\"))))","v":0},{"$f":"IF(N$24<STANDARD_YEAR,N16,\nIF(RIGHT($D28,1)>RIGHT('Efficiency Levels'!$C$22,1),N16,\nIF(RIGHT($D28,1)<RIGHT('Efficiency Levels'!$C$22,1),0,\nIF(RIGHT($D28,1)=RIGHT('Efficiency Levels'!$C$22,1),SUM(OFFSET(N16,-RIGHT($D28,1),0,RIGHT($D28,1),1)),\"ERROR\"))))","v":0},{"$f":"IF(O$24<STANDARD_YEAR,O16,\nIF(RIGHT($D28,1)>RIGHT('Efficiency Levels'!$C$22,1),O16,\nIF(RIGHT($D28,1)<RIGHT('Efficiency Levels'!$C$22,1),0,\nIF(RIGHT($D28,1)=RIGHT('Efficiency Levels'!$C$22,1),SUM(OFFSET(O16,-RIGHT($D28,1),0,RIGHT($D28,1),1)),\"ERROR\"))))","v":0},{"$f":"IF(P$24<STANDARD_YEAR,P16,\nIF(RIGHT($D28,1)>RIGHT('Efficiency Levels'!$C$22,1),P16,\nIF(RIGHT($D28,1)<RIGHT('Efficiency Levels'!$C$22,1),0,\nIF(RIGHT($D28,1)=RIGHT('Efficiency Levels'!$C$22,1),SUM(OFFSET(P16,-RIGHT($D28,1),0,RIGHT($D28,1),1)),\"ERROR\"))))","v":0},{"$f":"IF(Q$24<STANDARD_YEAR,Q16,\nIF(RIGHT($D28,1)>RIGHT('Efficiency Levels'!$C$22,1),Q16,\nIF(RIGHT($D28,1)<RIGHT('Efficiency Levels'!$C$22,1),0,\nIF(RIGHT($D28,1)=RIGHT('Efficiency Levels'!$C$22,1),SUM(OFFSET(Q16,-RIGHT($D28,1),0,RIGHT($D28,1),1)),\"ERROR\"))))","v":0},{"$f":"IF(R$24<STANDARD_YEAR,R16,\nIF(RIGHT($D28,1)>RIGHT('Efficiency Levels'!$C$22,1),R16,\nIF(RIGHT($D28,1)<RIGHT('Efficiency Levels'!$C$22,1),0,\nIF(RIGHT($D28,1)=RIGHT('Efficiency Levels'!$C$22,1),SUM(OFFSET(R16,-RIGHT($D28,1),0,RIGHT($D28,1),1)),\"ERROR\"))))","v":0},{"$f":"IF(S$24<STANDARD_YEAR,S16,\nIF(RIGHT($D28,1)>RIGHT('Efficiency Levels'!$C$22,1),S16,\nIF(RIGHT($D28,1)<RIGHT('Efficiency Levels'!$C$22,1),0,\nIF(RIGHT($D28,1)=RIGHT('Efficiency Levels'!$C$22,1),SUM(OFFSET(S16,-RIGHT($D28,1),0,RIGHT($D28,1),1)),\"ERROR\"))))","v":0},{"$f":"IF(T$24<STANDARD_YEAR,T16,\nIF(RIGHT($D28,1)>RIGHT('Efficiency Levels'!$C$22,1),T16,\nIF(RIGHT($D28,1)<RIGHT('Efficiency Levels'!$C$22,1),0,\nIF(RIGHT($D28,1)=RIGHT('Efficiency Levels'!$C$22,1),SUM(OFFSET(T16,-RIGHT($D28,1),0,RIGHT($D28,1),1)),\"ERROR\"))))","v":0},{"$f":"IF(U$24<STANDARD_YEAR,U16,\nIF(RIGHT($D28,1)>RIGHT('Efficiency Levels'!$C$22,1),U16,\nIF(RIGHT($D28,1)<RIGHT('Efficiency Levels'!$C$22,1),0,\nIF(RIGHT($D28,1)=RIGHT('Efficiency Levels'!$C$22,1),SUM(OFFSET(U16,-RIGHT($D28,1),0,RIGHT($D28,1),1)),\"ERROR\"))))","v":0},{"$f":"IF(V$24<STANDARD_YEAR,V16,\nIF(RIGHT($D28,1)>RIGHT('Efficiency Levels'!$C$22,1),V16,\nIF(RIGHT($D28,1)<RIGHT('Efficiency Levels'!$C$22,1),0,\nIF(RIGHT($D28,1)=RIGHT('Efficiency Levels'!$C$22,1),SUM(OFFSET(V16,-RIGHT($D28,1),0,RIGHT($D28,1),1)),\"ERROR\"))))","v":0},{"$f":"IF(W$24<STANDARD_YEAR,W16,\nIF(RIGHT($D28,1)>RIGHT('Efficiency Levels'!$C$22,1),W16,\nIF(RIGHT($D28,1)<RIGHT('Efficiency Levels'!$C$22,1),0,\nIF(RIGHT($D28,1)=RIGHT('Efficiency Levels'!$C$22,1),SUM(OFFSET(W16,-RIGHT($D28,1),0,RIGHT($D28,1),1)),\"ERROR\"))))","v":0},{"$f":"IF(X$24<STANDARD_YEAR,X16,\nIF(RIGHT($D28,1)>RIGHT('Efficiency Levels'!$C$22,1),X16,\nIF(RIGHT($D28,1)<RIGHT('Efficiency Levels'!$C$22,1),0,\nIF(RIGHT($D28,1)=RIGHT('Efficiency Levels'!$C$22,1),SUM(OFFSET(X16,-RIGHT($D28,1),0,RIGHT($D28,1),1)),\"ERROR\"))))","v":0},{"$f":"IF(Y$24<STANDARD_YEAR,Y16,\nIF(RIGHT($D28,1)>RIGHT('Efficiency Levels'!$C$22,1),Y16,\nIF(RIGHT($D28,1)<RIGHT('Efficiency Levels'!$C$22,1),0,\nIF(RIGHT($D28,1)=RIGHT('Efficiency Levels'!$C$22,1),SUM(OFFSET(Y16,-RIGHT($D28,1),0,RIGHT($D28,1),1)),\"ERROR\"))))","v":0},{"$f":"IF(Z$24<STANDARD_YEAR,Z16,\nIF(RIGHT($D28,1)>RIGHT('Efficiency Levels'!$C$22,1),Z16,\nIF(RIGHT($D28,1)<RIGHT('Efficiency Levels'!$C$22,1),0,\nIF(RIGHT($D28,1)=RIGHT('Efficiency Levels'!$C$22,1),SUM(OFFSET(Z16,-RIGHT($D28,1),0,RIGHT($D28,1),1)),\"ERROR\"))))","v":0},{"$f":"IF(AA$24<STANDARD_YEAR,AA16,\nIF(RIGHT($D28,1)>RIGHT('Efficiency Levels'!$C$22,1),AA16,\nIF(RIGHT($D28,1)<RIGHT('Efficiency Levels'!$C$22,1),0,\nIF(RIGHT($D28,1)=RIGHT('Efficiency Levels'!$C$22,1),SUM(OFFSET(AA16,-RIGHT($D28,1),0,RIGHT($D28,1),1)),\"ERROR\"))))","v":0},{"$f":"IF(AB$24<STANDARD_YEAR,AB16,\nIF(RIGHT($D28,1)>RIGHT('Efficiency Levels'!$C$22,1),AB16,\nIF(RIGHT($D28,1)<RIGHT('Efficiency Levels'!$C$22,1),0,\nIF(RIGHT($D28,1)=RIGHT('Efficiency Levels'!$C$22,1),SUM(OFFSET(AB16,-RIGHT($D28,1),0,RIGHT($D28,1),1)),\"ERROR\"))))","v":0},{"$f":"IF(AC$24<STANDARD_YEAR,AC16,\nIF(RIGHT($D28,1)>RIGHT('Efficiency Levels'!$C$22,1),AC16,\nIF(RIGHT($D28,1)<RIGHT('Efficiency Levels'!$C$22,1),0,\nIF(RIGHT($D28,1)=RIGHT('Efficiency Levels'!$C$22,1),SUM(OFFSET(AC16,-RIGHT($D28,1),0,RIGHT($D28,1),1)),\"ERROR\"))))","v":0},{"$f":"IF(AD$24<STANDARD_YEAR,AD16,\nIF(RIGHT($D28,1)>RIGHT('Efficiency Levels'!$C$22,1),AD16,\nIF(RIGHT($D28,1)<RIGHT('Efficiency Levels'!$C$22,1),0,\nIF(RIGHT($D28,1)=RIGHT('Efficiency Levels'!$C$22,1),SUM(OFFSET(AD16,-RIGHT($D28,1),0,RIGHT($D28,1),1)),\"ERROR\"))))","v":0},{"$f":"IF(AE$24<STANDARD_YEAR,AE16,\nIF(RIGHT($D28,1)>RIGHT('Efficiency Levels'!$C$22,1),AE16,\nIF(RIGHT($D28,1)<RIGHT('Efficiency Levels'!$C$22,1),0,\nIF(RIGHT($D28,1)=RIGHT('Efficiency Levels'!$C$22,1),SUM(OFFSET(AE16,-RIGHT($D28,1),0,RIGHT($D28,1),1)),\"ERROR\"))))","v":0},{"$f":"IF(AF$24<STANDARD_YEAR,AF16,\nIF(RIGHT($D28,1)>RIGHT('Efficiency Levels'!$C$22,1),AF16,\nIF(RIGHT($D28,1)<RIGHT('Efficiency Levels'!$C$22,1),0,\nIF(RIGHT($D28,1)=RIGHT('Efficiency Levels'!$C$22,1),SUM(OFFSET(AF16,-RIGHT($D28,1),0,RIGHT($D28,1),1)),\"ERROR\"))))","v":0},{"$f":"IF(AG$24<STANDARD_YEAR,AG16,\nIF(RIGHT($D28,1)>RIGHT('Efficiency Levels'!$C$22,1),AG16,\nIF(RIGHT($D28,1)<RIGHT('Efficiency Levels'!$C$22,1),0,\nIF(RIGHT($D28,1)=RIGHT('Efficiency Levels'!$C$22,1),SUM(OFFSET(AG16,-RIGHT($D28,1),0,RIGHT($D28,1),1)),\"ERROR\"))))","v":0},{"$f":"IF(AH$24<STANDARD_YEAR,AH16,\nIF(RIGHT($D28,1)>RIGHT('Efficiency Levels'!$C$22,1),AH16,\nIF(RIGHT($D28,1)<RIGHT('Efficiency Levels'!$C$22,1),0,\nIF(RIGHT($D28,1)=RIGHT('Efficiency Levels'!$C$22,1),SUM(OFFSET(AH16,-RIGHT($D28,1),0,RIGHT($D28,1),1)),\"ERROR\"))))","v":0},{"$f":"IF(AI$24<STANDARD_YEAR,AI16,\nIF(RIGHT($D28,1)>RIGHT('Efficiency Levels'!$C$22,1),AI16,\nIF(RIGHT($D28,1)<RIGHT('Efficiency Levels'!$C$22,1),0,\nIF(RIGHT($D28,1)=RIGHT('Efficiency Levels'!$C$22,1),SUM(OFFSET(AI16,-RIGHT($D28,1),0,RIGHT($D28,1),1)),\"ERROR\"))))","v":0},{"$f":"IF(AJ$24<STANDARD_YEAR,AJ16,\nIF(RIGHT($D28,1)>RIGHT('Efficiency Levels'!$C$22,1),AJ16,\nIF(RIGHT($D28,1)<RIGHT('Efficiency Levels'!$C$22,1),0,\nIF(RIGHT($D28,1)=RIGHT('Efficiency Levels'!$C$22,1),SUM(OFFSET(AJ16,-RIGHT($D28,1),0,RIGHT($D28,1),1)),\"ERROR\"))))","v":0},{"$f":"IF(AK$24<STANDARD_YEAR,AK16,\nIF(RIGHT($D28,1)>RIGHT('Efficiency Levels'!$C$22,1),AK16,\nIF(RIGHT($D28,1)<RIGHT('Efficiency Levels'!$C$22,1),0,\nIF(RIGHT($D28,1)=RIGHT('Efficiency Levels'!$C$22,1),SUM(OFFSET(AK16,-RIGHT($D28,1),0,RIGHT($D28,1),1)),\"ERROR\"))))","v":0},{"$f":"IF(AL$24<STANDARD_YEAR,AL16,\nIF(RIGHT($D28,1)>RIGHT('Efficiency Levels'!$C$22,1),AL16,\nIF(RIGHT($D28,1)<RIGHT('Efficiency Levels'!$C$22,1),0,\nIF(RIGHT($D28,1)=RIGHT('Efficiency Levels'!$C$22,1),SUM(OFFSET(AL16,-RIGHT($D28,1),0,RIGHT($D28,1),1)),\"ERROR\"))))","v":0},{"$f":"IF(AM$24<STANDARD_YEAR,AM16,\nIF(RIGHT($D28,1)>RIGHT('Efficiency Levels'!$C$22,1),AM16,\nIF(RIGHT($D28,1)<RIGHT('Efficiency Levels'!$C$22,1),0,\nIF(RIGHT($D28,1)=RIGHT('Efficiency Levels'!$C$22,1),SUM(OFFSET(AM16,-RIGHT($D28,1),0,RIGHT($D28,1),1)),\"ERROR\"))))","v":0},{"$f":"IF(AN$24<STANDARD_YEAR,AN16,\nIF(RIGHT($D28,1)>RIGHT('Efficiency Levels'!$C$22,1),AN16,\nIF(RIGHT($D28,1)<RIGHT('Efficiency Levels'!$C$22,1),0,\nIF(RIGHT($D28,1)=RIGHT('Efficiency Levels'!$C$22,1),SUM(OFFSET(AN16,-RIGHT($D28,1),0,RIGHT($D28,1),1)),\"ERROR\"))))","v":0},{"$f":"IF(AO$24<STANDARD_YEAR,AO16,\nIF(RIGHT($D28,1)>RIGHT('Efficiency Levels'!$C$22,1),AO16,\nIF(RIGHT($D28,1)<RIGHT('Efficiency Levels'!$C$22,1),0,\nIF(RIGHT($D28,1)=RIGHT('Efficiency Levels'!$C$22,1),SUM(OFFSET(AO16,-RIGHT($D28,1),0,RIGHT($D28,1),1)),\"ERROR\"))))","v":0},{"$f":"IF(AP$24<STANDARD_YEAR,AP16,\nIF(RIGHT($D28,1)>RIGHT('Efficiency Levels'!$C$22,1),AP16,\nIF(RIGHT($D28,1)<RIGHT('Efficiency Levels'!$C$22,1),0,\nIF(RIGHT($D28,1)=RIGHT('Efficiency Levels'!$C$22,1),SUM(OFFSET(AP16,-RIGHT($D28,1),0,RIGHT($D28,1),1)),\"ERROR\"))))","v":0},{"$f":"IF(AQ$24<STANDARD_YEAR,AQ16,\nIF(RIGHT($D28,1)>RIGHT('Efficiency Levels'!$C$22,1),AQ16,\nIF(RIGHT($D28,1)<RIGHT('Efficiency Levels'!$C$22,1),0,\nIF(RIGHT($D28,1)=RIGHT('Efficiency Levels'!$C$22,1),SUM(OFFSET(AQ16,-RIGHT($D28,1),0,RIGHT($D28,1),1)),\"ERROR\"))))","v":0},{"$f":"IF(AR$24<STANDARD_YEAR,AR16,\nIF(RIGHT($D28,1)>RIGHT('Efficiency Levels'!$C$22,1),AR16,\nIF(RIGHT($D28,1)<RIGHT('Efficiency Levels'!$C$22,1),0,\nIF(RIGHT($D28,1)=RIGHT('Efficiency Levels'!$C$22,1),SUM(OFFSET(AR16,-RIGHT($D28,1),0,RIGHT($D28,1),1)),\"ERROR\"))))","v":0},{"$f":"IF(AS$24<STANDARD_YEAR,AS16,\nIF(RIGHT($D28,1)>RIGHT('Efficiency Levels'!$C$22,1),AS16,\nIF(RIGHT($D28,1)<RIGHT('Efficiency Levels'!$C$22,1),0,\nIF(RIGHT($D28,1)=RIGHT('Efficiency Levels'!$C$22,1),SUM(OFFSET(AS16,-RIGHT($D28,1),0,RIGHT($D28,1),1)),\"ERROR\"))))","v":0},{"$f":"IF(AT$24<STANDARD_YEAR,AT16,\nIF(RIGHT($D28,1)>RIGHT('Efficiency Levels'!$C$22,1),AT16,\nIF(RIGHT($D28,1)<RIGHT('Efficiency Levels'!$C$22,1),0,\nIF(RIGHT($D28,1)=RIGHT('Efficiency Levels'!$C$22,1),SUM(OFFSET(AT16,-RIGHT($D28,1),0,RIGHT($D28,1),1)),\"ERROR\"))))","v":0},{"$f":"IF(AU$24<STANDARD_YEAR,AU16,\nIF(RIGHT($D28,1)>RIGHT('Efficiency Levels'!$C$22,1),AU16,\nIF(RIGHT($D28,1)<RIGHT('Efficiency Levels'!$C$22,1),0,\nIF(RIGHT($D28,1)=RIGHT('Efficiency Levels'!$C$22,1),SUM(OFFSET(AU16,-RIGHT($D28,1),0,RIGHT($D28,1),1)),\"ERROR\"))))","v":0},{"$f":"IF(AV$24<STANDARD_YEAR,AV16,\nIF(RIGHT($D28,1)>RIGHT('Efficiency Levels'!$C$22,1),AV16,\nIF(RIGHT($D28,1)<RIGHT('Efficiency Levels'!$C$22,1),0,\nIF(RIGHT($D28,1)=RIGHT('Efficiency Levels'!$C$22,1),SUM(OFFSET(AV16,-RIGHT($D28,1),0,RIGHT($D28,1),1)),\"ERROR\"))))","v":0},{"$f":"IF(AW$24<STANDARD_YEAR,AW16,\nIF(RIGHT($D28,1)>RIGHT('Efficiency Levels'!$C$22,1),AW16,\nIF(RIGHT($D28,1)<RIGHT('Efficiency Levels'!$C$22,1),0,\nIF(RIGHT($D28,1)=RIGHT('Efficiency Levels'!$C$22,1),SUM(OFFSET(AW16,-RIGHT($D28,1),0,RIGHT($D28,1),1)),\"ERROR\"))))","v":0},{"$f":"IF(AX$24<STANDARD_YEAR,AX16,\nIF(RIGHT($D28,1)>RIGHT('Efficiency Levels'!$C$22,1),AX16,\nIF(RIGHT($D28,1)<RIGHT('Efficiency Levels'!$C$22,1),0,\nIF(RIGHT($D28,1)=RIGHT('Efficiency Levels'!$C$22,1),SUM(OFFSET(AX16,-RIGHT($D28,1),0,RIGHT($D28,1),1)),\"ERROR\"))))","v":0},{"$f":"IF(AY$24<STANDARD_YEAR,AY16,\nIF(RIGHT($D28,1)>RIGHT('Efficiency Levels'!$C$22,1),AY16,\nIF(RIGHT($D28,1)<RIGHT('Efficiency Levels'!$C$22,1),0,\nIF(RIGHT($D28,1)=RIGHT('Efficiency Levels'!$C$22,1),SUM(OFFSET(AY16,-RIGHT($D28,1),0,RIGHT($D28,1),1)),\"ERROR\"))))","v":0},{"$f":"IF(AZ$24<STANDARD_YEAR,AZ16,\nIF(RIGHT($D28,1)>RIGHT('Efficiency Levels'!$C$22,1),AZ16,\nIF(RIGHT($D28,1)<RIGHT('Efficiency Levels'!$C$22,1),0,\nIF(RIGHT($D28,1)=RIGHT('Efficiency Levels'!$C$22,1),SUM(OFFSET(AZ16,-RIGHT($D28,1),0,RIGHT($D28,1),1)),\"ERROR\"))))","v":0},{"$f":"IF(BA$24<STANDARD_YEAR,BA16,\nIF(RIGHT($D28,1)>RIGHT('Efficiency Levels'!$C$22,1),BA16,\nIF(RIGHT($D28,1)<RIGHT('Efficiency Levels'!$C$22,1),0,\nIF(RIGHT($D28,1)=RIGHT('Efficiency Levels'!$C$22,1),SUM(OFFSET(BA16,-RIGHT($D28,1),0,RIGHT($D28,1),1)),\"ERROR\"))))","v":0},{"$f":"IF(BB$24<STANDARD_YEAR,BB16,\nIF(RIGHT($D28,1)>RIGHT('Efficiency Levels'!$C$22,1),BB16,\nIF(RIGHT($D28,1)<RIGHT('Efficiency Levels'!$C$22,1),0,\nIF(RIGHT($D28,1)=RIGHT('Efficiency Levels'!$C$22,1),SUM(OFFSET(BB16,-RIGHT($D28,1),0,RIGHT($D28,1),1)),\"ERROR\"))))","v":0},{"$f":"IF(BC$24<STANDARD_YEAR,BC16,\nIF(RIGHT($D28,1)>RIGHT('Efficiency Levels'!$C$22,1),BC16,\nIF(RIGHT($D28,1)<RIGHT('Efficiency Levels'!$C$22,1),0,\nIF(RIGHT($D28,1)=RIGHT('Efficiency Levels'!$C$22,1),SUM(OFFSET(BC16,-RIGHT($D28,1),0,RIGHT($D28,1),1)),\"ERROR\"))))","v":0},{"$f":"IF(BD$24<STANDARD_YEAR,BD16,\nIF(RIGHT($D28,1)>RIGHT('Efficiency Levels'!$C$22,1),BD16,\nIF(RIGHT($D28,1)<RIGHT('Efficiency Levels'!$C$22,1),0,\nIF(RIGHT($D28,1)=RIGHT('Efficiency Levels'!$C$22,1),SUM(OFFSET(BD16,-RIGHT($D28,1),0,RIGHT($D28,1),1)),\"ERROR\"))))","v":0},{"$f":"IF(BE$24<STANDARD_YEAR,BE16,\nIF(RIGHT($D28,1)>RIGHT('Efficiency Levels'!$C$22,1),BE16,\nIF(RIGHT($D28,1)<RIGHT('Efficiency Levels'!$C$22,1),0,\nIF(RIGHT($D28,1)=RIGHT('Efficiency Levels'!$C$22,1),SUM(OFFSET(BE16,-RIGHT($D28,1),0,RIGHT($D28,1),1)),\"ERROR\"))))","v":0},{"$f":"IF(BF$24<STANDARD_YEAR,BF16,\nIF(RIGHT($D28,1)>RIGHT('Efficiency Levels'!$C$22,1),BF16,\nIF(RIGHT($D28,1)<RIGHT('Efficiency Levels'!$C$22,1),0,\nIF(RIGHT($D28,1)=RIGHT('Efficiency Levels'!$C$22,1),SUM(OFFSET(BF16,-RIGHT($D28,1),0,RIGHT($D28,1),1)),\"ERROR\"))))","v":0},{"$f":"IF(BG$24<STANDARD_YEAR,BG16,\nIF(RIGHT($D28,1)>RIGHT('Efficiency Levels'!$C$22,1),BG16,\nIF(RIGHT($D28,1)<RIGHT('Efficiency Levels'!$C$22,1),0,\nIF(RIGHT($D28,1)=RIGHT('Efficiency Levels'!$C$22,1),SUM(OFFSET(BG16,-RIGHT($D28,1),0,RIGHT($D28,1),1)),\"ERROR\"))))","v":0},{"$f":"IF(BH$24<STANDARD_YEAR,BH16,\nIF(RIGHT($D28,1)>RIGHT('Efficiency Levels'!$C$22,1),BH16,\nIF(RIGHT($D28,1)<RIGHT('Efficiency Levels'!$C$22,1),0,\nIF(RIGHT($D28,1)=RIGHT('Efficiency Levels'!$C$22,1),SUM(OFFSET(BH16,-RIGHT($D28,1),0,RIGHT($D28,1),1)),\"ERROR\"))))","v":0},{"$f":"IF(BI$24<STANDARD_YEAR,BI16,\nIF(RIGHT($D28,1)>RIGHT('Efficiency Levels'!$C$22,1),BI16,\nIF(RIGHT($D28,1)<RIGHT('Efficiency Levels'!$C$22,1),0,\nIF(RIGHT($D28,1)=RIGHT('Efficiency Levels'!$C$22,1),SUM(OFFSET(BI16,-RIGHT($D28,1),0,RIGHT($D28,1),1)),\"ERROR\"))))","v":0},{"$f":"IF(BJ$24<STANDARD_YEAR,BJ16,\nIF(RIGHT($D28,1)>RIGHT('Efficiency Levels'!$C$22,1),BJ16,\nIF(RIGHT($D28,1)<RIGHT('Efficiency Levels'!$C$22,1),0,\nIF(RIGHT($D28,1)=RIGHT('Efficiency Levels'!$C$22,1),SUM(OFFSET(BJ16,-RIGHT($D28,1),0,RIGHT($D28,1),1)),\"ERROR\"))))","v":0}]
[null,null,null,"EL4",{"$f":"OFFSET('Efficiency Levels'!$D$11,MATCH($C$9,'Efficiency Levels'!$C$9:$C$1002,0)+RIGHT(D29,1),0)","v":300.89999999999998},null,null,null,{"$f":"IF(I$24<STANDARD_YEAR,I17,\nIF(RIGHT($D29,1)>RIGHT('Efficiency Levels'!$C$22,1),I17,\nIF(RIGHT($D29,1)<RIGHT('Efficiency Levels'!$C$22,1),0,\nIF(RIGHT($D29,1)=RIGHT('Efficiency Levels'!$C$22,1),SUM(OFFSET(I17,-RIGHT($D29,1),0,RIGHT($D29,1),1)),\"ERROR\"))))","v":0},{"$f":"IF(J$24<STANDARD_YEAR,J17,\nIF(RIGHT($D29,1)>RIGHT('Efficiency Levels'!$C$22,1),J17,\nIF(RIGHT($D29,1)<RIGHT('Efficiency Levels'!$C$22,1),0,\nIF(RIGHT($D29,1)=RIGHT('Efficiency Levels'!$C$22,1),SUM(OFFSET(J17,-RIGHT($D29,1),0,RIGHT($D29,1),1)),\"ERROR\"))))","v":0},{"$f":"IF(K$24<STANDARD_YEAR,K17,\nIF(RIGHT($D29,1)>RIGHT('Efficiency Levels'!$C$22,1),K17,\nIF(RIGHT($D29,1)<RIGHT('Efficiency Levels'!$C$22,1),0,\nIF(RIGHT($D29,1)=RIGHT('Efficiency Levels'!$C$22,1),SUM(OFFSET(K17,-RIGHT($D29,1),0,RIGHT($D29,1),1)),\"ERROR\"))))","v":0},{"$f":"IF(L$24<STANDARD_YEAR,L17,\nIF(RIGHT($D29,1)>RIGHT('Efficiency Levels'!$C$22,1),L17,\nIF(RIGHT($D29,1)<RIGHT('Efficiency Levels'!$C$22,1),0,\nIF(RIGHT($D29,1)=RIGHT('Efficiency Levels'!$C$22,1),SUM(OFFSET(L17,-RIGHT($D29,1),0,RIGHT($D29,1),1)),\"ERROR\"))))","v":0},{"$f":"IF(M$24<STANDARD_YEAR,M17,\nIF(RIGHT($D29,1)>RIGHT('Efficiency Levels'!$C$22,1),M17,\nIF(RIGHT($D29,1)<RIGHT('Efficiency Levels'!$C$22,1),0,\nIF(RIGHT($D29,1)=RIGHT('Efficiency Levels'!$C$22,1),SUM(OFFSET(M17,-RIGHT($D29,1),0,RIGHT($D29,1),1)),\"ERROR\"))))","v":0},{"$f":"IF(N$24<STANDARD_YEAR,N17,\nIF(RIGHT($D29,1)>RIGHT('Efficiency Levels'!$C$22,1),N17,\nIF(RIGHT($D29,1)<RIGHT('Efficiency Levels'!$C$22,1),0,\nIF(RIGHT($D29,1)=RIGHT('Efficiency Levels'!$C$22,1),SUM(OFFSET(N17,-RIGHT($D29,1),0,RIGHT($D29,1),1)),\"ERROR\"))))","v":0},{"$f":"IF(O$24<STANDARD_YEAR,O17,\nIF(RIGHT($D29,1)>RIGHT('Efficiency Levels'!$C$22,1),O17,\nIF(RIGHT($D29,1)<RIGHT('Efficiency Levels'!$C$22,1),0,\nIF(RIGHT($D29,1)=RIGHT('Efficiency Levels'!$C$22,1),SUM(OFFSET(O17,-RIGHT($D29,1),0,RIGHT($D29,1),1)),\"ERROR\"))))","v":0},{"$f":"IF(P$24<STANDARD_YEAR,P17,\nIF(RIGHT($D29,1)>RIGHT('Efficiency Levels'!$C$22,1),P17,\nIF(RIGHT($D29,1)<RIGHT('Efficiency Levels'!$C$22,1),0,\nIF(RIGHT($D29,1)=RIGHT('Efficiency Levels'!$C$22,1),SUM(OFFSET(P17,-RIGHT($D29,1),0,RIGHT($D29,1),1)),\"ERROR\"))))","v":0},{"$f":"IF(Q$24<STANDARD_YEAR,Q17,\nIF(RIGHT($D29,1)>RIGHT('Efficiency Levels'!$C$22,1),Q17,\nIF(RIGHT($D29,1)<RIGHT('Efficiency Levels'!$C$22,1),0,\nIF(RIGHT($D29,1)=RIGHT('Efficiency Levels'!$C$22,1),SUM(OFFSET(Q17,-RIGHT($D29,1),0,RIGHT($D29,1),1)),\"ERROR\"))))","v":0},{"$f":"IF(R$24<STANDARD_YEAR,R17,\nIF(RIGHT($D29,1)>RIGHT('Efficiency Levels'!$C$22,1),R17,\nIF(RIGHT($D29,1)<RIGHT('Efficiency Levels'!$C$22,1),0,\nIF(RIGHT($D29,1)=RIGHT('Efficiency Levels'!$C$22,1),SUM(OFFSET(R17,-RIGHT($D29,1),0,RIGHT($D29,1),1)),\"ERROR\"))))","v":0},{"$f":"IF(S$24<STANDARD_YEAR,S17,\nIF(RIGHT($D29,1)>RIGHT('Efficiency Levels'!$C$22,1),S17,\nIF(RIGHT($D29,1)<RIGHT('Efficiency Levels'!$C$22,1),0,\nIF(RIGHT($D29,1)=RIGHT('Efficiency Levels'!$C$22,1),SUM(OFFSET(S17,-RIGHT($D29,1),0,RIGHT($D29,1),1)),\"ERROR\"))))","v":0},{"$f":"IF(T$24<STANDARD_YEAR,T17,\nIF(RIGHT($D29,1)>RIGHT('Efficiency Levels'!$C$22,1),T17,\nIF(RIGHT($D29,1)<RIGHT('Efficiency Levels'!$C$22,1),0,\nIF(RIGHT($D29,1)=RIGHT('Efficiency Levels'!$C$22,1),SUM(OFFSET(T17,-RIGHT($D29,1),0,RIGHT($D29,1),1)),\"ERROR\"))))","v":0},{"$f":"IF(U$24<STANDARD_YEAR,U17,\nIF(RIGHT($D29,1)>RIGHT('Efficiency Levels'!$C$22,1),U17,\nIF(RIGHT($D29,1)<RIGHT('Efficiency Levels'!$C$22,1),0,\nIF(RIGHT($D29,1)=RIGHT('Efficiency Levels'!$C$22,1),SUM(OFFSET(U17,-RIGHT($D29,1),0,RIGHT($D29,1),1)),\"ERROR\"))))","v":0},{"$f":"IF(V$24<STANDARD_YEAR,V17,\nIF(RIGHT($D29,1)>RIGHT('Efficiency Levels'!$C$22,1),V17,\nIF(RIGHT($D29,1)<RIGHT('Efficiency Levels'!$C$22,1),0,\nIF(RIGHT($D29,1)=RIGHT('Efficiency Levels'!$C$22,1),SUM(OFFSET(V17,-RIGHT($D29,1),0,RIGHT($D29,1),1)),\"ERROR\"))))","v":0},{"$f":"IF(W$24<STANDARD_YEAR,W17,\nIF(RIGHT($D29,1)>RIGHT('Efficiency Levels'!$C$22,1),W17,\nIF(RIGHT($D29,1)<RIGHT('Efficiency Levels'!$C$22,1),0,\nIF(RIGHT($D29,1)=RIGHT('Efficiency Levels'!$C$22,1),SUM(OFFSET(W17,-RIGHT($D29,1),0,RIGHT($D29,1),1)),\"ERROR\"))))","v":0},{"$f":"IF(X$24<STANDARD_YEAR,X17,\nIF(RIGHT($D29,1)>RIGHT('Efficiency Levels'!$C$22,1),X17,\nIF(RIGHT($D29,1)<RIGHT('Efficiency Levels'!$C$22,1),0,\nIF(RIGHT($D29,1)=RIGHT('Efficiency Levels'!$C$22,1),SUM(OFFSET(X17,-RIGHT($D29,1),0,RIGHT($D29,1),1)),\"ERROR\"))))","v":0},{"$f":"IF(Y$24<STANDARD_YEAR,Y17,\nIF(RIGHT($D29,1)>RIGHT('Efficiency Levels'!$C$22,1),Y17,\nIF(RIGHT($D29,1)<RIGHT('Efficiency Levels'!$C$22,1),0,\nIF(RIGHT($D29,1)=RIGHT('Efficiency Levels'!$C$22,1),SUM(OFFSET(Y17,-RIGHT($D29,1),0,RIGHT($D29,1),1)),\"ERROR\"))))","v":0},{"$f":"IF(Z$24<STANDARD_YEAR,Z17,\nIF(RIGHT($D29,1)>RIGHT('Efficiency Levels'!$C$22,1),Z17,\nIF(RIGHT($D29,1)<RIGHT('Efficiency Levels'!$C$22,1),0,\nIF(RIGHT($D29,1)=RIGHT('Efficiency Levels'!$C$22,1),SUM(OFFSET(Z17,-RIGHT($D29,1),0,RIGHT($D29,1),1)),\"ERROR\"))))","v":0},{"$f":"IF(AA$24<STANDARD_YEAR,AA17,\nIF(RIGHT($D29,1)>RIGHT('Efficiency Levels'!$C$22,1),AA17,\nIF(RIGHT($D29,1)<RIGHT('Efficiency Levels'!$C$22,1),0,\nIF(RIGHT($D29,1)=RIGHT('Efficiency Levels'!$C$22,1),SUM(OFFSET(AA17,-RIGHT($D29,1),0,RIGHT($D29,1),1)),\"ERROR\"))))","v":0},{"$f":"IF(AB$24<STANDARD_YEAR,AB17,\nIF(RIGHT($D29,1)>RIGHT('Efficiency Levels'!$C$22,1),AB17,\nIF(RIGHT($D29,1)<RIGHT('Efficiency Levels'!$C$22,1),0,\nIF(RIGHT($D29,1)=RIGHT('Efficiency Levels'!$C$22,1),SUM(OFFSET(AB17,-RIGHT($D29,1),0,RIGHT($D29,1),1)),\"ERROR\"))))","v":0},{"$f":"IF(AC$24<STANDARD_YEAR,AC17,\nIF(RIGHT($D29,1)>RIGHT('Efficiency Levels'!$C$22,1),AC17,\nIF(RIGHT($D29,1)<RIGHT('Efficiency Levels'!$C$22,1),0,\nIF(RIGHT($D29,1)=RIGHT('Efficiency Levels'!$C$22,1),SUM(OFFSET(AC17,-RIGHT($D29,1),0,RIGHT($D29,1),1)),\"ERROR\"))))","v":0},{"$f":"IF(AD$24<STANDARD_YEAR,AD17,\nIF(RIGHT($D29,1)>RIGHT('Efficiency Levels'!$C$22,1),AD17,\nIF(RIGHT($D29,1)<RIGHT('Efficiency Levels'!$C$22,1),0,\nIF(RIGHT($D29,1)=RIGHT('Efficiency Levels'!$C$22,1),SUM(OFFSET(AD17,-RIGHT($D29,1),0,RIGHT($D29,1),1)),\"ERROR\"))))","v":0},{"$f":"IF(AE$24<STANDARD_YEAR,AE17,\nIF(RIGHT($D29,1)>RIGHT('Efficiency Levels'!$C$22,1),AE17,\nIF(RIGHT($D29,1)<RIGHT('Efficiency Levels'!$C$22,1),0,\nIF(RIGHT($D29,1)=RIGHT('Efficiency Levels'!$C$22,1),SUM(OFFSET(AE17,-RIGHT($D29,1),0,RIGHT($D29,1),1)),\"ERROR\"))))","v":0},{"$f":"IF(AF$24<STANDARD_YEAR,AF17,\nIF(RIGHT($D29,1)>RIGHT('Efficiency Levels'!$C$22,1),AF17,\nIF(RIGHT($D29,1)<RIGHT('Efficiency Levels'!$C$22,1),0,\nIF(RIGHT($D29,1)=RIGHT('Efficiency Levels'!$C$22,1),SUM(OFFSET(AF17,-RIGHT($D29,1),0,RIGHT($D29,1),1)),\"ERROR\"))))","v":0},{"$f":"IF(AG$24<STANDARD_YEAR,AG17,\nIF(RIGHT($D29,1)>RIGHT('Efficiency Levels'!$C$22,1),AG17,\nIF(RIGHT($D29,1)<RIGHT('Efficiency Levels'!$C$22,1),0,\nIF(RIGHT($D29,1)=RIGHT('Efficiency Levels'!$C$22,1),SUM(OFFSET(AG17,-RIGHT($D29,1),0,RIGHT($D29,1),1)),\"ERROR\"))))","v":0},{"$f":"IF(AH$24<STANDARD_YEAR,AH17,\nIF(RIGHT($D29,1)>RIGHT('Efficiency Levels'!$C$22,1),AH17,\nIF(RIGHT($D29,1)<RIGHT('Efficiency Levels'!$C$22,1),0,\nIF(RIGHT($D29,1)=RIGHT('Efficiency Levels'!$C$22,1),SUM(OFFSET(AH17,-RIGHT($D29,1),0,RIGHT($D29,1),1)),\"ERROR\"))))","v":0},{"$f":"IF(AI$24<STANDARD_YEAR,AI17,\nIF(RIGHT($D29,1)>RIGHT('Efficiency Levels'!$C$22,1),AI17,\nIF(RIGHT($D29,1)<RIGHT('Efficiency Levels'!$C$22,1),0,\nIF(RIGHT($D29,1)=RIGHT('Efficiency Levels'!$C$22,1),SUM(OFFSET(AI17,-RIGHT($D29,1),0,RIGHT($D29,1),1)),\"ERROR\"))))","v":0},{"$f":"IF(AJ$24<STANDARD_YEAR,AJ17,\nIF(RIGHT($D29,1)>RIGHT('Efficiency Levels'!$C$22,1),AJ17,\nIF(RIGHT($D29,1)<RIGHT('Efficiency Levels'!$C$22,1),0,\nIF(RIGHT($D29,1)=RIGHT('Efficiency Levels'!$C$22,1),SUM(OFFSET(AJ17,-RIGHT($D29,1),0,RIGHT($D29,1),1)),\"ERROR\"))))","v":0},{"$f":"IF(AK$24<STANDARD_YEAR,AK17,\nIF(RIGHT($D29,1)>RIGHT('Efficiency Levels'!$C$22,1),AK17,\nIF(RIGHT($D29,1)<RIGHT('Efficiency Levels'!$C$22,1),0,\nIF(RIGHT($D29,1)=RIGHT('Efficiency Levels'!$C$22,1),SUM(OFFSET(AK17,-RIGHT($D29,1),0,RIGHT($D29,1),1)),\"ERROR\"))))","v":0},{"$f":"IF(AL$24<STANDARD_YEAR,AL17,\nIF(RIGHT($D29,1)>RIGHT('Efficiency Levels'!$C$22,1),AL17,\nIF(RIGHT($D29,1)<RIGHT('Efficiency Levels'!$C$22,1),0,\nIF(RIGHT($D29,1)=RIGHT('Efficiency Levels'!$C$22,1),SUM(OFFSET(AL17,-RIGHT($D29,1),0,RIGHT($D29,1),1)),\"ERROR\"))))","v":0},{"$f":"IF(AM$24<STANDARD_YEAR,AM17,\nIF(RIGHT($D29,1)>RIGHT('Efficiency Levels'!$C$22,1),AM17,\nIF(RIGHT($D29,1)<RIGHT('Efficiency Levels'!$C$22,1),0,\nIF(RIGHT($D29,1)=RIGHT('Efficiency Levels'!$C$22,1),SUM(OFFSET(AM17,-RIGHT($D29,1),0,RIGHT($D29,1),1)),\"ERROR\"))))","v":0},{"$f":"IF(AN$24<STANDARD_YEAR,AN17,\nIF(RIGHT($D29,1)>RIGHT('Efficiency Levels'!$C$22,1),AN17,\nIF(RIGHT($D29,1)<RIGHT('Efficiency Levels'!$C$22,1),0,\nIF(RIGHT($D29,1)=RIGHT('Efficiency Levels'!$C$22,1),SUM(OFFSET(AN17,-RIGHT($D29,1),0,RIGHT($D29,1),1)),\"ERROR\"))))","v":0},{"$f":"IF(AO$24<STANDARD_YEAR,AO17,\nIF(RIGHT($D29,1)>RIGHT('Efficiency Levels'!$C$22,1),AO17,\nIF(RIGHT($D29,1)<RIGHT('Efficiency Levels'!$C$22,1),0,\nIF(RIGHT($D29,1)=RIGHT('Efficiency Levels'!$C$22,1),SUM(OFFSET(AO17,-RIGHT($D29,1),0,RIGHT($D29,1),1)),\"ERROR\"))))","v":0},{"$f":"IF(AP$24<STANDARD_YEAR,AP17,\nIF(RIGHT($D29,1)>RIGHT('Efficiency Levels'!$C$22,1),AP17,\nIF(RIGHT($D29,1)<RIGHT('Efficiency Levels'!$C$22,1),0,\nIF(RIGHT($D29,1)=RIGHT('Efficiency Levels'!$C$22,1),SUM(OFFSET(AP17,-RIGHT($D29,1),0,RIGHT($D29,1),1)),\"ERROR\"))))","v":0},{"$f":"IF(AQ$24<STANDARD_YEAR,AQ17,\nIF(RIGHT($D29,1)>RIGHT('Efficiency Levels'!$C$22,1),AQ17,\nIF(RIGHT($D29,1)<RIGHT('Efficiency Levels'!$C$22,1),0,\nIF(RIGHT($D29,1)=RIGHT('Efficiency Levels'!$C$22,1),SUM(OFFSET(AQ17,-RIGHT($D29,1),0,RIGHT($D29,1),1)),\"ERROR\"))))","v":0},{"$f":"IF(AR$24<STANDARD_YEAR,AR17,\nIF(RIGHT($D29,1)>RIGHT('Efficiency Levels'!$C$22,1),AR17,\nIF(RIGHT($D29,1)<RIGHT('Efficiency Levels'!$C$22,1),0,\nIF(RIGHT($D29,1)=RIGHT('Efficiency Levels'!$C$22,1),SUM(OFFSET(AR17,-RIGHT($D29,1),0,RIGHT($D29,1),1)),\"ERROR\"))))","v":0},{"$f":"IF(AS$24<STANDARD_YEAR,AS17,\nIF(RIGHT($D29,1)>RIGHT('Efficiency Levels'!$C$22,1),AS17,\nIF(RIGHT($D29,1)<RIGHT('Efficiency Levels'!$C$22,1),0,\nIF(RIGHT($D29,1)=RIGHT('Efficiency Levels'!$C$22,1),SUM(OFFSET(AS17,-RIGHT($D29,1),0,RIGHT($D29,1),1)),\"ERROR\"))))","v":0},{"$f":"IF(AT$24<STANDARD_YEAR,AT17,\nIF(RIGHT($D29,1)>RIGHT('Efficiency Levels'!$C$22,1),AT17,\nIF(RIGHT($D29,1)<RIGHT('Efficiency Levels'!$C$22,1),0,\nIF(RIGHT($D29,1)=RIGHT('Efficiency Levels'!$C$22,1),SUM(OFFSET(AT17,-RIGHT($D29,1),0,RIGHT($D29,1),1)),\"ERROR\"))))","v":0},{"$f":"IF(AU$24<STANDARD_YEAR,AU17,\nIF(RIGHT($D29,1)>RIGHT('Efficiency Levels'!$C$22,1),AU17,\nIF(RIGHT($D29,1)<RIGHT('Efficiency Levels'!$C$22,1),0,\nIF(RIGHT($D29,1)=RIGHT('Efficiency Levels'!$C$22,1),SUM(OFFSET(AU17,-RIGHT($D29,1),0,RIGHT($D29,1),1)),\"ERROR\"))))","v":0},{"$f":"IF(AV$24<STANDARD_YEAR,AV17,\nIF(RIGHT($D29,1)>RIGHT('Efficiency Levels'!$C$22,1),AV17,\nIF(RIGHT($D29,1)<RIGHT('Efficiency Levels'!$C$22,1),0,\nIF(RIGHT($D29,1)=RIGHT('Efficiency Levels'!$C$22,1),SUM(OFFSET(AV17,-RIGHT($D29,1),0,RIGHT($D29,1),1)),\"ERROR\"))))","v":0},{"$f":"IF(AW$24<STANDARD_YEAR,AW17,\nIF(RIGHT($D29,1)>RIGHT('Efficiency Levels'!$C$22,1),AW17,\nIF(RIGHT($D29,1)<RIGHT('Efficiency Levels'!$C$22,1),0,\nIF(RIGHT($D29,1)=RIGHT('Efficiency Levels'!$C$22,1),SUM(OFFSET(AW17,-RIGHT($D29,1),0,RIGHT($D29,1),1)),\"ERROR\"))))","v":0},{"$f":"IF(AX$24<STANDARD_YEAR,AX17,\nIF(RIGHT($D29,1)>RIGHT('Efficiency Levels'!$C$22,1),AX17,\nIF(RIGHT($D29,1)<RIGHT('Efficiency Levels'!$C$22,1),0,\nIF(RIGHT($D29,1)=RIGHT('Efficiency Levels'!$C$22,1),SUM(OFFSET(AX17,-RIGHT($D29,1),0,RIGHT($D29,1),1)),\"ERROR\"))))","v":0},{"$f":"IF(AY$24<STANDARD_YEAR,AY17,\nIF(RIGHT($D29,1)>RIGHT('Efficiency Levels'!$C$22,1),AY17,\nIF(RIGHT($D29,1)<RIGHT('Efficiency Levels'!$C$22,1),0,\nIF(RIGHT($D29,1)=RIGHT('Efficiency Levels'!$C$22,1),SUM(OFFSET(AY17,-RIGHT($D29,1),0,RIGHT($D29,1),1)),\"ERROR\"))))","v":0},{"$f":"IF(AZ$24<STANDARD_YEAR,AZ17,\nIF(RIGHT($D29,1)>RIGHT('Efficiency Levels'!$C$22,1),AZ17,\nIF(RIGHT($D29,1)<RIGHT('Efficiency Levels'!$C$22,1),0,\nIF(RIGHT($D29,1)=RIGHT('Efficiency Levels'!$C$22,1),SUM(OFFSET(AZ17,-RIGHT($D29,1),0,RIGHT($D29,1),1)),\"ERROR\"))))","v":0},{"$f":"IF(BA$24<STANDARD_YEAR,BA17,\nIF(RIGHT($D29,1)>RIGHT('Efficiency Levels'!$C$22,1),BA17,\nIF(RIGHT($D29,1)<RIGHT('Efficiency Levels'!$C$22,1),0,\nIF(RIGHT($D29,1)=RIGHT('Efficiency Levels'!$C$22,1),SUM(OFFSET(BA17,-RIGHT($D29,1),0,RIGHT($D29,1),1)),\"ERROR\"))))","v":0},{"$f":"IF(BB$24<STANDARD_YEAR,BB17,\nIF(RIGHT($D29,1)>RIGHT('Efficiency Levels'!$C$22,1),BB17,\nIF(RIGHT($D29,1)<RIGHT('Efficiency Levels'!$C$22,1),0,\nIF(RIGHT($D29,1)=RIGHT('Efficiency Levels'!$C$22,1),SUM(OFFSET(BB17,-RIGHT($D29,1),0,RIGHT($D29,1),1)),\"ERROR\"))))","v":0},{"$f":"IF(BC$24<STANDARD_YEAR,BC17,\nIF(RIGHT($D29,1)>RIGHT('Efficiency Levels'!$C$22,1),BC17,\nIF(RIGHT($D29,1)<RIGHT('Efficiency Levels'!$C$22,1),0,\nIF(RIGHT($D29,1)=RIGHT('Efficiency Levels'!$C$22,1),SUM(OFFSET(BC17,-RIGHT($D29,1),0,RIGHT($D29,1),1)),\"ERROR\"))))","v":0},{"$f":"IF(BD$24<STANDARD_YEAR,BD17,\nIF(RIGHT($D29,1)>RIGHT('Efficiency Levels'!$C$22,1),BD17,\nIF(RIGHT($D29,1)<RIGHT('Efficiency Levels'!$C$22,1),0,\nIF(RIGHT($D29,1)=RIGHT('Efficiency Levels'!$C$22,1),SUM(OFFSET(BD17,-RIGHT($D29,1),0,RIGHT($D29,1),1)),\"ERROR\"))))","v":0},{"$f":"IF(BE$24<STANDARD_YEAR,BE17,\nIF(RIGHT($D29,1)>RIGHT('Efficiency Levels'!$C$22,1),BE17,\nIF(RIGHT($D29,1)<RIGHT('Efficiency Levels'!$C$22,1),0,\nIF(RIGHT($D29,1)=RIGHT('Efficiency Levels'!$C$22,1),SUM(OFFSET(BE17,-RIGHT($D29,1),0,RIGHT($D29,1),1)),\"ERROR\"))))","v":0},{"$f":"IF(BF$24<STANDARD_YEAR,BF17,\nIF(RIGHT($D29,1)>RIGHT('Efficiency Levels'!$C$22,1),BF17,\nIF(RIGHT($D29,1)<RIGHT('Efficiency Levels'!$C$22,1),0,\nIF(RIGHT($D29,1)=RIGHT('Efficiency Levels'!$C$22,1),SUM(OFFSET(BF17,-RIGHT($D29,1),0,RIGHT($D29,1),1)),\"ERROR\"))))","v":0},{"$f":"IF(BG$24<STANDARD_YEAR,BG17,\nIF(RIGHT($D29,1)>RIGHT('Efficiency Levels'!$C$22,1),BG17,\nIF(RIGHT($D29,1)<RIGHT('Efficiency Levels'!$C$22,1),0,\nIF(RIGHT($D29,1)=RIGHT('Efficiency Levels'!$C$22,1),SUM(OFFSET(BG17,-RIGHT($D29,1),0,RIGHT($D29,1),1)),\"ERROR\"))))","v":0},{"$f":"IF(BH$24<STANDARD_YEAR,BH17,\nIF(RIGHT($D29,1)>RIGHT('Efficiency Levels'!$C$22,1),BH17,\nIF(RIGHT($D29,1)<RIGHT('Efficiency Levels'!$C$22,1),0,\nIF(RIGHT($D29,1)=RIGHT('Efficiency Levels'!$C$22,1),SUM(OFFSET(BH17,-RIGHT($D29,1),0,RIGHT($D29,1),1)),\"ERROR\"))))","v":0},{"$f":"IF(BI$24<STANDARD_YEAR,BI17,\nIF(RIGHT($D29,1)>RIGHT('Efficiency Levels'!$C$22,1),BI17,\nIF(RIGHT($D29,1)<RIGHT('Efficiency Levels'!$C$22,1),0,\nIF(RIGHT($D29,1)=RIGHT('Efficiency Levels'!$C$22,1),SUM(OFFSET(BI17,-RIGHT($D29,1),0,RIGHT($D29,1),1)),\"ERROR\"))))","v":0},{"$f":"IF(BJ$24<STANDARD_YEAR,BJ17,\nIF(RIGHT($D29,1)>RIGHT('Efficiency Levels'!$C$22,1),BJ17,\nIF(RIGHT($D29,1)<RIGHT('Efficiency Levels'!$C$22,1),0,\nIF(RIGHT($D29,1)=RIGHT('Efficiency Levels'!$C$22,1),SUM(OFFSET(BJ17,-RIGHT($D29,1),0,RIGHT($D29,1),1)),\"ERROR\"))))","v":0}]
[null,null,null,"EL5",{"$f":"OFFSET('Efficiency Levels'!$D$11,MATCH($C$9,'Efficiency Levels'!$C$9:$C$1002,0)+RIGHT(D30,1),0)","v":300.3},null,null,null,{"$f":"IF(I$24<STANDARD_YEAR,I18,\nIF(RIGHT($D30,1)>RIGHT('Efficiency Levels'!$C$22,1),I18,\nIF(RIGHT($D30,1)<RIGHT('Efficiency Levels'!$C$22,1),0,\nIF(RIGHT($D30,1)=RIGHT('Efficiency Levels'!$C$22,1),SUM(OFFSET(I18,-RIGHT($D30,1),0,RIGHT($D30,1),1)),\"ERROR\"))))","v":0},{"$f":"IF(J$24<STANDARD_YEAR,J18,\nIF(RIGHT($D30,1)>RIGHT('Efficiency Levels'!$C$22,1),J18,\nIF(RIGHT($D30,1)<RIGHT('Efficiency Levels'!$C$22,1),0,\nIF(RIGHT($D30,1)=RIGHT('Efficiency Levels'!$C$22,1),SUM(OFFSET(J18,-RIGHT($D30,1),0,RIGHT($D30,1),1)),\"ERROR\"))))","v":0},{"$f":"IF(K$24<STANDARD_YEAR,K18,\nIF(RIGHT($D30,1)>RIGHT('Efficiency Levels'!$C$22,1),K18,\nIF(RIGHT($D30,1)<RIGHT('Efficiency Levels'!$C$22,1),0,\nIF(RIGHT($D30,1)=RIGHT('Efficiency Levels'!$C$22,1),SUM(OFFSET(K18,-RIGHT($D30,1),0,RIGHT($D30,1),1)),\"ERROR\"))))","v":0},{"$f":"IF(L$24<STANDARD_YEAR,L18,\nIF(RIGHT($D30,1)>RIGHT('Efficiency Levels'!$C$22,1),L18,\nIF(RIGHT($D30,1)<RIGHT('Efficiency Levels'!$C$22,1),0,\nIF(RIGHT($D30,1)=RIGHT('Efficiency Levels'!$C$22,1),SUM(OFFSET(L18,-RIGHT($D30,1),0,RIGHT($D30,1),1)),\"ERROR\"))))","v":0},{"$f":"IF(M$24<STANDARD_YEAR,M18,\nIF(RIGHT($D30,1)>RIGHT('Efficiency Levels'!$C$22,1),M18,\nIF(RIGHT($D30,1)<RIGHT('Efficiency Levels'!$C$22,1),0,\nIF(RIGHT($D30,1)=RIGHT('Efficiency Levels'!$C$22,1),SUM(OFFSET(M18,-RIGHT($D30,1),0,RIGHT($D30,1),1)),\"ERROR\"))))","v":0},{"$f":"IF(N$24<STANDARD_YEAR,N18,\nIF(RIGHT($D30,1)>RIGHT('Efficiency Levels'!$C$22,1),N18,\nIF(RIGHT($D30,1)<RIGHT('Efficiency Levels'!$C$22,1),0,\nIF(RIGHT($D30,1)=RIGHT('Efficiency Levels'!$C$22,1),SUM(OFFSET(N18,-RIGHT($D30,1),0,RIGHT($D30,1),1)),\"ERROR\"))))","v":0},{"$f":"IF(O$24<STANDARD_YEAR,O18,\nIF(RIGHT($D30,1)>RIGHT('Efficiency Levels'!$C$22,1),O18,\nIF(RIGHT($D30,1)<RIGHT('Efficiency Levels'!$C$22,1),0,\nIF(RIGHT($D30,1)=RIGHT('Efficiency Levels'!$C$22,1),SUM(OFFSET(O18,-RIGHT($D30,1),0,RIGHT($D30,1),1)),\"ERROR\"))))","v":0},{"$f":"IF(P$24<STANDARD_YEAR,P18,\nIF(RIGHT($D30,1)>RIGHT('Efficiency Levels'!$C$22,1),P18,\nIF(RIGHT($D30,1)<RIGHT('Efficiency Levels'!$C$22,1),0,\nIF(RIGHT($D30,1)=RIGHT('Efficiency Levels'!$C$22,1),SUM(OFFSET(P18,-RIGHT($D30,1),0,RIGHT($D30,1),1)),\"ERROR\"))))","v":0},{"$f":"IF(Q$24<STANDARD_YEAR,Q18,\nIF(RIGHT($D30,1)>RIGHT('Efficiency Levels'!$C$22,1),Q18,\nIF(RIGHT($D30,1)<RIGHT('Efficiency Levels'!$C$22,1),0,\nIF(RIGHT($D30,1)=RIGHT('Efficiency Levels'!$C$22,1),SUM(OFFSET(Q18,-RIGHT($D30,1),0,RIGHT($D30,1),1)),\"ERROR\"))))","v":0},{"$f":"IF(R$24<STANDARD_YEAR,R18,\nIF(RIGHT($D30,1)>RIGHT('Efficiency Levels'!$C$22,1),R18,\nIF(RIGHT($D30,1)<RIGHT('Efficiency Levels'!$C$22,1),0,\nIF(RIGHT($D30,1)=RIGHT('Efficiency Levels'!$C$22,1),SUM(OFFSET(R18,-RIGHT($D30,1),0,RIGHT($D30,1),1)),\"ERROR\"))))","v":0},{"$f":"IF(S$24<STANDARD_YEAR,S18,\nIF(RIGHT($D30,1)>RIGHT('Efficiency Levels'!$C$22,1),S18,\nIF(RIGHT($D30,1)<RIGHT('Efficiency Levels'!$C$22,1),0,\nIF(RIGHT($D30,1)=RIGHT('Efficiency Levels'!$C$22,1),SUM(OFFSET(S18,-RIGHT($D30,1),0,RIGHT($D30,1),1)),\"ERROR\"))))","v":0},{"$f":"IF(T$24<STANDARD_YEAR,T18,\nIF(RIGHT($D30,1)>RIGHT('Efficiency Levels'!$C$22,1),T18,\nIF(RIGHT($D30,1)<RIGHT('Efficiency Levels'!$C$22,1),0,\nIF(RIGHT($D30,1)=RIGHT('Efficiency Levels'!$C$22,1),SUM(OFFSET(T18,-RIGHT($D30,1),0,RIGHT($D30,1),1)),\"ERROR\"))))","v":0},{"$f":"IF(U$24<STANDARD_YEAR,U18,\nIF(RIGHT($D30,1)>RIGHT('Efficiency Levels'!$C$22,1),U18,\nIF(RIGHT($D30,1)<RIGHT('Efficiency Levels'!$C$22,1),0,\nIF(RIGHT($D30,1)=RIGHT('Efficiency Levels'!$C$22,1),SUM(OFFSET(U18,-RIGHT($D30,1),0,RIGHT($D30,1),1)),\"ERROR\"))))","v":0},{"$f":"IF(V$24<STANDARD_YEAR,V18,\nIF(RIGHT($D30,1)>RIGHT('Efficiency Levels'!$C$22,1),V18,\nIF(RIGHT($D30,1)<RIGHT('Efficiency Levels'!$C$22,1),0,\nIF(RIGHT($D30,1)=RIGHT('Efficiency Levels'!$C$22,1),SUM(OFFSET(V18,-RIGHT($D30,1),0,RIGHT($D30,1),1)),\"ERROR\"))))","v":0},{"$f":"IF(W$24<STANDARD_YEAR,W18,\nIF(RIGHT($D30,1)>RIGHT('Efficiency Levels'!$C$22,1),W18,\nIF(RIGHT($D30,1)<RIGHT('Efficiency Levels'!$C$22,1),0,\nIF(RIGHT($D30,1)=RIGHT('Efficiency Levels'!$C$22,1),SUM(OFFSET(W18,-RIGHT($D30,1),0,RIGHT($D30,1),1)),\"ERROR\"))))","v":0},{"$f":"IF(X$24<STANDARD_YEAR,X18,\nIF(RIGHT($D30,1)>RIGHT('Efficiency Levels'!$C$22,1),X18,\nIF(RIGHT($D30,1)<RIGHT('Efficiency Levels'!$C$22,1),0,\nIF(RIGHT($D30,1)=RIGHT('Efficiency Levels'!$C$22,1),SUM(OFFSET(X18,-RIGHT($D30,1),0,RIGHT($D30,1),1)),\"ERROR\"))))","v":0},{"$f":"IF(Y$24<STANDARD_YEAR,Y18,\nIF(RIGHT($D30,1)>RIGHT('Efficiency Levels'!$C$22,1),Y18,\nIF(RIGHT($D30,1)<RIGHT('Efficiency Levels'!$C$22,1),0,\nIF(RIGHT($D30,1)=RIGHT('Efficiency Levels'!$C$22,1),SUM(OFFSET(Y18,-RIGHT($D30,1),0,RIGHT($D30,1),1)),\"ERROR\"))))","v":0},{"$f":"IF(Z$24<STANDARD_YEAR,Z18,\nIF(RIGHT($D30,1)>RIGHT('Efficiency Levels'!$C$22,1),Z18,\nIF(RIGHT($D30,1)<RIGHT('Efficiency Levels'!$C$22,1),0,\nIF(RIGHT($D30,1)=RIGHT('Efficiency Levels'!$C$22,1),SUM(OFFSET(Z18,-RIGHT($D30,1),0,RIGHT($D30,1),1)),\"ERROR\"))))","v":0},{"$f":"IF(AA$24<STANDARD_YEAR,AA18,\nIF(RIGHT($D30,1)>RIGHT('Efficiency Levels'!$C$22,1),AA18,\nIF(RIGHT($D30,1)<RIGHT('Efficiency Levels'!$C$22,1),0,\nIF(RIGHT($D30,1)=RIGHT('Efficiency Levels'!$C$22,1),SUM(OFFSET(AA18,-RIGHT($D30,1),0,RIGHT($D30,1),1)),\"ERROR\"))))","v":0},{"$f":"IF(AB$24<STANDARD_YEAR,AB18,\nIF(RIGHT($D30,1)>RIGHT('Efficiency Levels'!$C$22,1),AB18,\nIF(RIGHT($D30,1)<RIGHT('Efficiency Levels'!$C$22,1),0,\nIF(RIGHT($D30,1)=RIGHT('Efficiency Levels'!$C$22,1),SUM(OFFSET(AB18,-RIGHT($D30,1),0,RIGHT($D30,1),1)),\"ERROR\"))))","v":0},{"$f":"IF(AC$24<STANDARD_YEAR,AC18,\nIF(RIGHT($D30,1)>RIGHT('Efficiency Levels'!$C$22,1),AC18,\nIF(RIGHT($D30,1)<RIGHT('Efficiency Levels'!$C$22,1),0,\nIF(RIGHT($D30,1)=RIGHT('Efficiency Levels'!$C$22,1),SUM(OFFSET(AC18,-RIGHT($D30,1),0,RIGHT($D30,1),1)),\"ERROR\"))))","v":0},{"$f":"IF(AD$24<STANDARD_YEAR,AD18,\nIF(RIGHT($D30,1)>RIGHT('Efficiency Levels'!$C$22,1),AD18,\nIF(RIGHT($D30,1)<RIGHT('Efficiency Levels'!$C$22,1),0,\nIF(RIGHT($D30,1)=RIGHT('Efficiency Levels'!$C$22,1),SUM(OFFSET(AD18,-RIGHT($D30,1),0,RIGHT($D30,1),1)),\"ERROR\"))))","v":0},{"$f":"IF(AE$24<STANDARD_YEAR,AE18,\nIF(RIGHT($D30,1)>RIGHT('Efficiency Levels'!$C$22,1),AE18,\nIF(RIGHT($D30,1)<RIGHT('Efficiency Levels'!$C$22,1),0,\nIF(RIGHT($D30,1)=RIGHT('Efficiency Levels'!$C$22,1),SUM(OFFSET(AE18,-RIGHT($D30,1),0,RIGHT($D30,1),1)),\"ERROR\"))))","v":0},{"$f":"IF(AF$24<STANDARD_YEAR,AF18,\nIF(RIGHT($D30,1)>RIGHT('Efficiency Levels'!$C$22,1),AF18,\nIF(RIGHT($D30,1)<RIGHT('Efficiency Levels'!$C$22,1),0,\nIF(RIGHT($D30,1)=RIGHT('Efficiency Levels'!$C$22,1),SUM(OFFSET(AF18,-RIGHT($D30,1),0,RIGHT($D30,1),1)),\"ERROR\"))))","v":0},{"$f":"IF(AG$24<STANDARD_YEAR,AG18,\nIF(RIGHT($D30,1)>RIGHT('Efficiency Levels'!$C$22,1),AG18,\nIF(RIGHT($D30,1)<RIGHT('Efficiency Levels'!$C$22,1),0,\nIF(RIGHT($D30,1)=RIGHT('Efficiency Levels'!$C$22,1),SUM(OFFSET(AG18,-RIGHT($D30,1),0,RIGHT($D30,1),1)),\"ERROR\"))))","v":0},{"$f":"IF(AH$24<STANDARD_YEAR,AH18,\nIF(RIGHT($D30,1)>RIGHT('Efficiency Levels'!$C$22,1),AH18,\nIF(RIGHT($D30,1)<RIGHT('Efficiency Levels'!$C$22,1),0,\nIF(RIGHT($D30,1)=RIGHT('Efficiency Levels'!$C$22,1),SUM(OFFSET(AH18,-RIGHT($D30,1),0,RIGHT($D30,1),1)),\"ERROR\"))))","v":0},{"$f":"IF(AI$24<STANDARD_YEAR,AI18,\nIF(RIGHT($D30,1)>RIGHT('Efficiency Levels'!$C$22,1),AI18,\nIF(RIGHT($D30,1)<RIGHT('Efficiency Levels'!$C$22,1),0,\nIF(RIGHT($D30,1)=RIGHT('Efficiency Levels'!$C$22,1),SUM(OFFSET(AI18,-RIGHT($D30,1),0,RIGHT($D30,1),1)),\"ERROR\"))))","v":0},{"$f":"IF(AJ$24<STANDARD_YEAR,AJ18,\nIF(RIGHT($D30,1)>RIGHT('Efficiency Levels'!$C$22,1),AJ18,\nIF(RIGHT($D30,1)<RIGHT('Efficiency Levels'!$C$22,1),0,\nIF(RIGHT($D30,1)=RIGHT('Efficiency Levels'!$C$22,1),SUM(OFFSET(AJ18,-RIGHT($D30,1),0,RIGHT($D30,1),1)),\"ERROR\"))))","v":0},{"$f":"IF(AK$24<STANDARD_YEAR,AK18,\nIF(RIGHT($D30,1)>RIGHT('Efficiency Levels'!$C$22,1),AK18,\nIF(RIGHT($D30,1)<RIGHT('Efficiency Levels'!$C$22,1),0,\nIF(RIGHT($D30,1)=RIGHT('Efficiency Levels'!$C$22,1),SUM(OFFSET(AK18,-RIGHT($D30,1),0,RIGHT($D30,1),1)),\"ERROR\"))))","v":0},{"$f":"IF(AL$24<STANDARD_YEAR,AL18,\nIF(RIGHT($D30,1)>RIGHT('Efficiency Levels'!$C$22,1),AL18,\nIF(RIGHT($D30,1)<RIGHT('Efficiency Levels'!$C$22,1),0,\nIF(RIGHT($D30,1)=RIGHT('Efficiency Levels'!$C$22,1),SUM(OFFSET(AL18,-RIGHT($D30,1),0,RIGHT($D30,1),1)),\"ERROR\"))))","v":0},{"$f":"IF(AM$24<STANDARD_YEAR,AM18,\nIF(RIGHT($D30,1)>RIGHT('Efficiency Levels'!$C$22,1),AM18,\nIF(RIGHT($D30,1)<RIGHT('Efficiency Levels'!$C$22,1),0,\nIF(RIGHT($D30,1)=RIGHT('Efficiency Levels'!$C$22,1),SUM(OFFSET(AM18,-RIGHT($D30,1),0,RIGHT($D30,1),1)),\"ERROR\"))))","v":0},{"$f":"IF(AN$24<STANDARD_YEAR,AN18,\nIF(RIGHT($D30,1)>RIGHT('Efficiency Levels'!$C$22,1),AN18,\nIF(RIGHT($D30,1)<RIGHT('Efficiency Levels'!$C$22,1),0,\nIF(RIGHT($D30,1)=RIGHT('Efficiency Levels'!$C$22,1),SUM(OFFSET(AN18,-RIGHT($D30,1),0,RIGHT($D30,1),1)),\"ERROR\"))))","v":0},{"$f":"IF(AO$24<STANDARD_YEAR,AO18,\nIF(RIGHT($D30,1)>RIGHT('Efficiency Levels'!$C$22,1),AO18,\nIF(RIGHT($D30,1)<RIGHT('Efficiency Levels'!$C$22,1),0,\nIF(RIGHT($D30,1)=RIGHT('Efficiency Levels'!$C$22,1),SUM(OFFSET(AO18,-RIGHT($D30,1),0,RIGHT($D30,1),1)),\"ERROR\"))))","v":0},{"$f":"IF(AP$24<STANDARD_YEAR,AP18,\nIF(RIGHT($D30,1)>RIGHT('Efficiency Levels'!$C$22,1),AP18,\nIF(RIGHT($D30,1)<RIGHT('Efficiency Levels'!$C$22,1),0,\nIF(RIGHT($D30,1)=RIGHT('Efficiency Levels'!$C$22,1),SUM(OFFSET(AP18,-RIGHT($D30,1),0,RIGHT($D30,1),1)),\"ERROR\"))))","v":0},{"$f":"IF(AQ$24<STANDARD_YEAR,AQ18,\nIF(RIGHT($D30,1)>RIGHT('Efficiency Levels'!$C$22,1),AQ18,\nIF(RIGHT($D30,1)<RIGHT('Efficiency Levels'!$C$22,1),0,\nIF(RIGHT($D30,1)=RIGHT('Efficiency Levels'!$C$22,1),SUM(OFFSET(AQ18,-RIGHT($D30,1),0,RIGHT($D30,1),1)),\"ERROR\"))))","v":0},{"$f":"IF(AR$24<STANDARD_YEAR,AR18,\nIF(RIGHT($D30,1)>RIGHT('Efficiency Levels'!$C$22,1),AR18,\nIF(RIGHT($D30,1)<RIGHT('Efficiency Levels'!$C$22,1),0,\nIF(RIGHT($D30,1)=RIGHT('Efficiency Levels'!$C$22,1),SUM(OFFSET(AR18,-RIGHT($D30,1),0,RIGHT($D30,1),1)),\"ERROR\"))))","v":0},{"$f":"IF(AS$24<STANDARD_YEAR,AS18,\nIF(RIGHT($D30,1)>RIGHT('Efficiency Levels'!$C$22,1),AS18,\nIF(RIGHT($D30,1)<RIGHT('Efficiency Levels'!$C$22,1),0,\nIF(RIGHT($D30,1)=RIGHT('Efficiency Levels'!$C$22,1),SUM(OFFSET(AS18,-RIGHT($D30,1),0,RIGHT($D30,1),1)),\"ERROR\"))))","v":0},{"$f":"IF(AT$24<STANDARD_YEAR,AT18,\nIF(RIGHT($D30,1)>RIGHT('Efficiency Levels'!$C$22,1),AT18,\nIF(RIGHT($D30,1)<RIGHT('Efficiency Levels'!$C$22,1),0,\nIF(RIGHT($D30,1)=RIGHT('Efficiency Levels'!$C$22,1),SUM(OFFSET(AT18,-RIGHT($D30,1),0,RIGHT($D30,1),1)),\"ERROR\"))))","v":0},{"$f":"IF(AU$24<STANDARD_YEAR,AU18,\nIF(RIGHT($D30,1)>RIGHT('Efficiency Levels'!$C$22,1),AU18,\nIF(RIGHT($D30,1)<RIGHT('Efficiency Levels'!$C$22,1),0,\nIF(RIGHT($D30,1)=RIGHT('Efficiency Levels'!$C$22,1),SUM(OFFSET(AU18,-RIGHT($D30,1),0,RIGHT($D30,1),1)),\"ERROR\"))))","v":0},{"$f":"IF(AV$24<STANDARD_YEAR,AV18,\nIF(RIGHT($D30,1)>RIGHT('Efficiency Levels'!$C$22,1),AV18,\nIF(RIGHT($D30,1)<RIGHT('Efficiency Levels'!$C$22,1),0,\nIF(RIGHT($D30,1)=RIGHT('Efficiency Levels'!$C$22,1),SUM(OFFSET(AV18,-RIGHT($D30,1),0,RIGHT($D30,1),1)),\"ERROR\"))))","v":0},{"$f":"IF(AW$24<STANDARD_YEAR,AW18,\nIF(RIGHT($D30,1)>RIGHT('Efficiency Levels'!$C$22,1),AW18,\nIF(RIGHT($D30,1)<RIGHT('Efficiency Levels'!$C$22,1),0,\nIF(RIGHT($D30,1)=RIGHT('Efficiency Levels'!$C$22,1),SUM(OFFSET(AW18,-RIGHT($D30,1),0,RIGHT($D30,1),1)),\"ERROR\"))))","v":0},{"$f":"IF(AX$24<STANDARD_YEAR,AX18,\nIF(RIGHT($D30,1)>RIGHT('Efficiency Levels'!$C$22,1),AX18,\nIF(RIGHT($D30,1)<RIGHT('Efficiency Levels'!$C$22,1),0,\nIF(RIGHT($D30,1)=RIGHT('Efficiency Levels'!$C$22,1),SUM(OFFSET(AX18,-RIGHT($D30,1),0,RIGHT($D30,1),1)),\"ERROR\"))))","v":0},{"$f":"IF(AY$24<STANDARD_YEAR,AY18,\nIF(RIGHT($D30,1)>RIGHT('Efficiency Levels'!$C$22,1),AY18,\nIF(RIGHT($D30,1)<RIGHT('Efficiency Levels'!$C$22,1),0,\nIF(RIGHT($D30,1)=RIGHT('Efficiency Levels'!$C$22,1),SUM(OFFSET(AY18,-RIGHT($D30,1),0,RIGHT($D30,1),1)),\"ERROR\"))))","v":0},{"$f":"IF(AZ$24<STANDARD_YEAR,AZ18,\nIF(RIGHT($D30,1)>RIGHT('Efficiency Levels'!$C$22,1),AZ18,\nIF(RIGHT($D30,1)<RIGHT('Efficiency Levels'!$C$22,1),0,\nIF(RIGHT($D30,1)=RIGHT('Efficiency Levels'!$C$22,1),SUM(OFFSET(AZ18,-RIGHT($D30,1),0,RIGHT($D30,1),1)),\"ERROR\"))))","v":0},{"$f":"IF(BA$24<STANDARD_YEAR,BA18,\nIF(RIGHT($D30,1)>RIGHT('Efficiency Levels'!$C$22,1),BA18,\nIF(RIGHT($D30,1)<RIGHT('Efficiency Levels'!$C$22,1),0,\nIF(RIGHT($D30,1)=RIGHT('Efficiency Levels'!$C$22,1),SUM(OFFSET(BA18,-RIGHT($D30,1),0,RIGHT($D30,1),1)),\"ERROR\"))))","v":0},{"$f":"IF(BB$24<STANDARD_YEAR,BB18,\nIF(RIGHT($D30,1)>RIGHT('Efficiency Levels'!$C$22,1),BB18,\nIF(RIGHT($D30,1)<RIGHT('Efficiency Levels'!$C$22,1),0,\nIF(RIGHT($D30,1)=RIGHT('Efficiency Levels'!$C$22,1),SUM(OFFSET(BB18,-RIGHT($D30,1),0,RIGHT($D30,1),1)),\"ERROR\"))))","v":0},{"$f":"IF(BC$24<STANDARD_YEAR,BC18,\nIF(RIGHT($D30,1)>RIGHT('Efficiency Levels'!$C$22,1),BC18,\nIF(RIGHT($D30,1)<RIGHT('Efficiency Levels'!$C$22,1),0,\nIF(RIGHT($D30,1)=RIGHT('Efficiency Levels'!$C$22,1),SUM(OFFSET(BC18,-RIGHT($D30,1),0,RIGHT($D30,1),1)),\"ERROR\"))))","v":0},{"$f":"IF(BD$24<STANDARD_YEAR,BD18,\nIF(RIGHT($D30,1)>RIGHT('Efficiency Levels'!$C$22,1),BD18,\nIF(RIGHT($D30,1)<RIGHT('Efficiency Levels'!$C$22,1),0,\nIF(RIGHT($D30,1)=RIGHT('Efficiency Levels'!$C$22,1),SUM(OFFSET(BD18,-RIGHT($D30,1),0,RIGHT($D30,1),1)),\"ERROR\"))))","v":0},{"$f":"IF(BE$24<STANDARD_YEAR,BE18,\nIF(RIGHT($D30,1)>RIGHT('Efficiency Levels'!$C$22,1),BE18,\nIF(RIGHT($D30,1)<RIGHT('Efficiency Levels'!$C$22,1),0,\nIF(RIGHT($D30,1)=RIGHT('Efficiency Levels'!$C$22,1),SUM(OFFSET(BE18,-RIGHT($D30,1),0,RIGHT($D30,1),1)),\"ERROR\"))))","v":0},{"$f":"IF(BF$24<STANDARD_YEAR,BF18,\nIF(RIGHT($D30,1)>RIGHT('Efficiency Levels'!$C$22,1),BF18,\nIF(RIGHT($D30,1)<RIGHT('Efficiency Levels'!$C$22,1),0,\nIF(RIGHT($D30,1)=RIGHT('Efficiency Levels'!$C$22,1),SUM(OFFSET(BF18,-RIGHT($D30,1),0,RIGHT($D30,1),1)),\"ERROR\"))))","v":0},{"$f":"IF(BG$24<STANDARD_YEAR,BG18,\nIF(RIGHT($D30,1)>RIGHT('Efficiency Levels'!$C$22,1),BG18,\nIF(RIGHT($D30,1)<RIGHT('Efficiency Levels'!$C$22,1),0,\nIF(RIGHT($D30,1)=RIGHT('Efficiency Levels'!$C$22,1),SUM(OFFSET(BG18,-RIGHT($D30,1),0,RIGHT($D30,1),1)),\"ERROR\"))))","v":0},{"$f":"IF(BH$24<STANDARD_YEAR,BH18,\nIF(RIGHT($D30,1)>RIGHT('Efficiency Levels'!$C$22,1),BH18,\nIF(RIGHT($D30,1)<RIGHT('Efficiency Levels'!$C$22,1),0,\nIF(RIGHT($D30,1)=RIGHT('Efficiency Levels'!$C$22,1),SUM(OFFSET(BH18,-RIGHT($D30,1),0,RIGHT($D30,1),1)),\"ERROR\"))))","v":0},{"$f":"IF(BI$24<STANDARD_YEAR,BI18,\nIF(RIGHT($D30,1)>RIGHT('Efficiency Levels'!$C$22,1),BI18,\nIF(RIGHT($D30,1)<RIGHT('Efficiency Levels'!$C$22,1),0,\nIF(RIGHT($D30,1)=RIGHT('Efficiency Levels'!$C$22,1),SUM(OFFSET(BI18,-RIGHT($D30,1),0,RIGHT($D30,1),1)),\"ERROR\"))))","v":0},{"$f":"IF(BJ$24<STANDARD_YEAR,BJ18,\nIF(RIGHT($D30,1)>RIGHT('Efficiency Levels'!$C$22,1),BJ18,\nIF(RIGHT($D30,1)<RIGHT('Efficiency Levels'!$C$22,1),0,\nIF(RIGHT($D30,1)=RIGHT('Efficiency Levels'!$C$22,1),SUM(OFFSET(BJ18,-RIGHT($D30,1),0,RIGHT($D30,1),1)),\"ERROR\"))))","v":0}]
[null,null,null,"EL6",{"$f":"OFFSET('Efficiency Levels'!$D$11,MATCH($C$9,'Efficiency Levels'!$C$9:$C$1002,0)+RIGHT(D31,1),0)","v":295.2},null,null,null,{"$f":"IF(I$24<STANDARD_YEAR,I19,\nIF(RIGHT($D31,1)>RIGHT('Efficiency Levels'!$C$22,1),I19,\nIF(RIGHT($D31,1)<RIGHT('Efficiency Levels'!$C$22,1),0,\nIF(RIGHT($D31,1)=RIGHT('Efficiency Levels'!$C$22,1),SUM(OFFSET(I19,-RIGHT($D31,1),0,RIGHT($D31,1),1)),\"ERROR\"))))","v":0},{"$f":"IF(J$24<STANDARD_YEAR,J19,\nIF(RIGHT($D31,1)>RIGHT('Efficiency Levels'!$C$22,1),J19,\nIF(RIGHT($D31,1)<RIGHT('Efficiency Levels'!$C$22,1),0,\nIF(RIGHT($D31,1)=RIGHT('Efficiency Levels'!$C$22,1),SUM(OFFSET(J19,-RIGHT($D31,1),0,RIGHT($D31,1),1)),\"ERROR\"))))","v":0},{"$f":"IF(K$24<STANDARD_YEAR,K19,\nIF(RIGHT($D31,1)>RIGHT('Efficiency Levels'!$C$22,1),K19,\nIF(RIGHT($D31,1)<RIGHT('Efficiency Levels'!$C$22,1),0,\nIF(RIGHT($D31,1)=RIGHT('Efficiency Levels'!$C$22,1),SUM(OFFSET(K19,-RIGHT($D31,1),0,RIGHT($D31,1),1)),\"ERROR\"))))","v":0},{"$f":"IF(L$24<STANDARD_YEAR,L19,\nIF(RIGHT($D31,1)>RIGHT('Efficiency Levels'!$C$22,1),L19,\nIF(RIGHT($D31,1)<RIGHT('Efficiency Levels'!$C$22,1),0,\nIF(RIGHT($D31,1)=RIGHT('Efficiency Levels'!$C$22,1),SUM(OFFSET(L19,-RIGHT($D31,1),0,RIGHT($D31,1),1)),\"ERROR\"))))","v":0},{"$f":"IF(M$24<STANDARD_YEAR,M19,\nIF(RIGHT($D31,1)>RIGHT('Efficiency Levels'!$C$22,1),M19,\nIF(RIGHT($D31,1)<RIGHT('Efficiency Levels'!$C$22,1),0,\nIF(RIGHT($D31,1)=RIGHT('Efficiency Levels'!$C$22,1),SUM(OFFSET(M19,-RIGHT($D31,1),0,RIGHT($D31,1),1)),\"ERROR\"))))","v":0},{"$f":"IF(N$24<STANDARD_YEAR,N19,\nIF(RIGHT($D31,1)>RIGHT('Efficiency Levels'!$C$22,1),N19,\nIF(RIGHT($D31,1)<RIGHT('Efficiency Levels'!$C$22,1),0,\nIF(RIGHT($D31,1)=RIGHT('Efficiency Levels'!$C$22,1),SUM(OFFSET(N19,-RIGHT($D31,1),0,RIGHT($D31,1),1)),\"ERROR\"))))","v":0},{"$f":"IF(O$24<STANDARD_YEAR,O19,\nIF(RIGHT($D31,1)>RIGHT('Efficiency Levels'!$C$22,1),O19,\nIF(RIGHT($D31,1)<RIGHT('Efficiency Levels'!$C$22,1),0,\nIF(RIGHT($D31,1)=RIGHT('Efficiency Levels'!$C$22,1),SUM(OFFSET(O19,-RIGHT($D31,1),0,RIGHT($D31,1),1)),\"ERROR\"))))","v":0},{"$f":"IF(P$24<STANDARD_YEAR,P19,\nIF(RIGHT($D31,1)>RIGHT('Efficiency Levels'!$C$22,1),P19,\nIF(RIGHT($D31,1)<RIGHT('Efficiency Levels'!$C$22,1),0,\nIF(RIGHT($D31,1)=RIGHT('Efficiency Levels'!$C$22,1),SUM(OFFSET(P19,-RIGHT($D31,1),0,RIGHT($D31,1),1)),\"ERROR\"))))","v":0},{"$f":"IF(Q$24<STANDARD_YEAR,Q19,\nIF(RIGHT($D31,1)>RIGHT('Efficiency Levels'!$C$22,1),Q19,\nIF(RIGHT($D31,1)<RIGHT('Efficiency Levels'!$C$22,1),0,\nIF(RIGHT($D31,1)=RIGHT('Efficiency Levels'!$C$22,1),SUM(OFFSET(Q19,-RIGHT($D31,1),0,RIGHT($D31,1),1)),\"ERROR\"))))","v":0},{"$f":"IF(R$24<STANDARD_YEAR,R19,\nIF(RIGHT($D31,1)>RIGHT('Efficiency Levels'!$C$22,1),R19,\nIF(RIGHT($D31,1)<RIGHT('Efficiency Levels'!$C$22,1),0,\nIF(RIGHT($D31,1)=RIGHT('Efficiency Levels'!$C$22,1),SUM(OFFSET(R19,-RIGHT($D31,1),0,RIGHT($D31,1),1)),\"ERROR\"))))","v":0},{"$f":"IF(S$24<STANDARD_YEAR,S19,\nIF(RIGHT($D31,1)>RIGHT('Efficiency Levels'!$C$22,1),S19,\nIF(RIGHT($D31,1)<RIGHT('Efficiency Levels'!$C$22,1),0,\nIF(RIGHT($D31,1)=RIGHT('Efficiency Levels'!$C$22,1),SUM(OFFSET(S19,-RIGHT($D31,1),0,RIGHT($D31,1),1)),\"ERROR\"))))","v":0},{"$f":"IF(T$24<STANDARD_YEAR,T19,\nIF(RIGHT($D31,1)>RIGHT('Efficiency Levels'!$C$22,1),T19,\nIF(RIGHT($D31,1)<RIGHT('Efficiency Levels'!$C$22,1),0,\nIF(RIGHT($D31,1)=RIGHT('Efficiency Levels'!$C$22,1),SUM(OFFSET(T19,-RIGHT($D31,1),0,RIGHT($D31,1),1)),\"ERROR\"))))","v":0},{"$f":"IF(U$24<STANDARD_YEAR,U19,\nIF(RIGHT($D31,1)>RIGHT('Efficiency Levels'!$C$22,1),U19,\nIF(RIGHT($D31,1)<RIGHT('Efficiency Levels'!$C$22,1),0,\nIF(RIGHT($D31,1)=RIGHT('Efficiency Levels'!$C$22,1),SUM(OFFSET(U19,-RIGHT($D31,1),0,RIGHT($D31,1),1)),\"ERROR\"))))","v":0},{"$f":"IF(V$24<STANDARD_YEAR,V19,\nIF(RIGHT($D31,1)>RIGHT('Efficiency Levels'!$C$22,1),V19,\nIF(RIGHT($D31,1)<RIGHT('Efficiency Levels'!$C$22,1),0,\nIF(RIGHT($D31,1)=RIGHT('Efficiency Levels'!$C$22,1),SUM(OFFSET(V19,-RIGHT($D31,1),0,RIGHT($D31,1),1)),\"ERROR\"))))","v":0},{"$f":"IF(W$24<STANDARD_YEAR,W19,\nIF(RIGHT($D31,1)>RIGHT('Efficiency Levels'!$C$22,1),W19,\nIF(RIGHT($D31,1)<RIGHT('Efficiency Levels'!$C$22,1),0,\nIF(RIGHT($D31,1)=RIGHT('Efficiency Levels'!$C$22,1),SUM(OFFSET(W19,-RIGHT($D31,1),0,RIGHT($D31,1),1)),\"ERROR\"))))","v":0},{"$f":"IF(X$24<STANDARD_YEAR,X19,\nIF(RIGHT($D31,1)>RIGHT('Efficiency Levels'!$C$22,1),X19,\nIF(RIGHT($D31,1)<RIGHT('Efficiency Levels'!$C$22,1),0,\nIF(RIGHT($D31,1)=RIGHT('Efficiency Levels'!$C$22,1),SUM(OFFSET(X19,-RIGHT($D31,1),0,RIGHT($D31,1),1)),\"ERROR\"))))","v":0},{"$f":"IF(Y$24<STANDARD_YEAR,Y19,\nIF(RIGHT($D31,1)>RIGHT('Efficiency Levels'!$C$22,1),Y19,\nIF(RIGHT($D31,1)<RIGHT('Efficiency Levels'!$C$22,1),0,\nIF(RIGHT($D31,1)=RIGHT('Efficiency Levels'!$C$22,1),SUM(OFFSET(Y19,-RIGHT($D31,1),0,RIGHT($D31,1),1)),\"ERROR\"))))","v":0},{"$f":"IF(Z$24<STANDARD_YEAR,Z19,\nIF(RIGHT($D31,1)>RIGHT('Efficiency Levels'!$C$22,1),Z19,\nIF(RIGHT($D31,1)<RIGHT('Efficiency Levels'!$C$22,1),0,\nIF(RIGHT($D31,1)=RIGHT('Efficiency Levels'!$C$22,1),SUM(OFFSET(Z19,-RIGHT($D31,1),0,RIGHT($D31,1),1)),\"ERROR\"))))","v":0},{"$f":"IF(AA$24<STANDARD_YEAR,AA19,\nIF(RIGHT($D31,1)>RIGHT('Efficiency Levels'!$C$22,1),AA19,\nIF(RIGHT($D31,1)<RIGHT('Efficiency Levels'!$C$22,1),0,\nIF(RIGHT($D31,1)=RIGHT('Efficiency Levels'!$C$22,1),SUM(OFFSET(AA19,-RIGHT($D31,1),0,RIGHT($D31,1),1)),\"ERROR\"))))","v":0},{"$f":"IF(AB$24<STANDARD_YEAR,AB19,\nIF(RIGHT($D31,1)>RIGHT('Efficiency Levels'!$C$22,1),AB19,\nIF(RIGHT($D31,1)<RIGHT('Efficiency Levels'!$C$22,1),0,\nIF(RIGHT($D31,1)=RIGHT('Efficiency Levels'!$C$22,1),SUM(OFFSET(AB19,-RIGHT($D31,1),0,RIGHT($D31,1),1)),\"ERROR\"))))","v":0},{"$f":"IF(AC$24<STANDARD_YEAR,AC19,\nIF(RIGHT($D31,1)>RIGHT('Efficiency Levels'!$C$22,1),AC19,\nIF(RIGHT($D31,1)<RIGHT('Efficiency Levels'!$C$22,1),0,\nIF(RIGHT($D31,1)=RIGHT('Efficiency Levels'!$C$22,1),SUM(OFFSET(AC19,-RIGHT($D31,1),0,RIGHT($D31,1),1)),\"ERROR\"))))","v":0},{"$f":"IF(AD$24<STANDARD_YEAR,AD19,\nIF(RIGHT($D31,1)>RIGHT('Efficiency Levels'!$C$22,1),AD19,\nIF(RIGHT($D31,1)<RIGHT('Efficiency Levels'!$C$22,1),0,\nIF(RIGHT($D31,1)=RIGHT('Efficiency Levels'!$C$22,1),SUM(OFFSET(AD19,-RIGHT($D31,1),0,RIGHT($D31,1),1)),\"ERROR\"))))","v":0},{"$f":"IF(AE$24<STANDARD_YEAR,AE19,\nIF(RIGHT($D31,1)>RIGHT('Efficiency Levels'!$C$22,1),AE19,\nIF(RIGHT($D31,1)<RIGHT('Efficiency Levels'!$C$22,1),0,\nIF(RIGHT($D31,1)=RIGHT('Efficiency Levels'!$C$22,1),SUM(OFFSET(AE19,-RIGHT($D31,1),0,RIGHT($D31,1),1)),\"ERROR\"))))","v":0},{"$f":"IF(AF$24<STANDARD_YEAR,AF19,\nIF(RIGHT($D31,1)>RIGHT('Efficiency Levels'!$C$22,1),AF19,\nIF(RIGHT($D31,1)<RIGHT('Efficiency Levels'!$C$22,1),0,\nIF(RIGHT($D31,1)=RIGHT('Efficiency Levels'!$C$22,1),SUM(OFFSET(AF19,-RIGHT($D31,1),0,RIGHT($D31,1),1)),\"ERROR\"))))","v":0},{"$f":"IF(AG$24<STANDARD_YEAR,AG19,\nIF(RIGHT($D31,1)>RIGHT('Efficiency Levels'!$C$22,1),AG19,\nIF(RIGHT($D31,1)<RIGHT('Efficiency Levels'!$C$22,1),0,\nIF(RIGHT($D31,1)=RIGHT('Efficiency Levels'!$C$22,1),SUM(OFFSET(AG19,-RIGHT($D31,1),0,RIGHT($D31,1),1)),\"ERROR\"))))","v":0},{"$f":"IF(AH$24<STANDARD_YEAR,AH19,\nIF(RIGHT($D31,1)>RIGHT('Efficiency Levels'!$C$22,1),AH19,\nIF(RIGHT($D31,1)<RIGHT('Efficiency Levels'!$C$22,1),0,\nIF(RIGHT($D31,1)=RIGHT('Efficiency Levels'!$C$22,1),SUM(OFFSET(AH19,-RIGHT($D31,1),0,RIGHT($D31,1),1)),\"ERROR\"))))","v":0},{"$f":"IF(AI$24<STANDARD_YEAR,AI19,\nIF(RIGHT($D31,1)>RIGHT('Efficiency Levels'!$C$22,1),AI19,\nIF(RIGHT($D31,1)<RIGHT('Efficiency Levels'!$C$22,1),0,\nIF(RIGHT($D31,1)=RIGHT('Efficiency Levels'!$C$22,1),SUM(OFFSET(AI19,-RIGHT($D31,1),0,RIGHT($D31,1),1)),\"ERROR\"))))","v":0},{"$f":"IF(AJ$24<STANDARD_YEAR,AJ19,\nIF(RIGHT($D31,1)>RIGHT('Efficiency Levels'!$C$22,1),AJ19,\nIF(RIGHT($D31,1)<RIGHT('Efficiency Levels'!$C$22,1),0,\nIF(RIGHT($D31,1)=RIGHT('Efficiency Levels'!$C$22,1),SUM(OFFSET(AJ19,-RIGHT($D31,1),0,RIGHT($D31,1),1)),\"ERROR\"))))","v":0},{"$f":"IF(AK$24<STANDARD_YEAR,AK19,\nIF(RIGHT($D31,1)>RIGHT('Efficiency Levels'!$C$22,1),AK19,\nIF(RIGHT($D31,1)<RIGHT('Efficiency Levels'!$C$22,1),0,\nIF(RIGHT($D31,1)=RIGHT('Efficiency Levels'!$C$22,1),SUM(OFFSET(AK19,-RIGHT($D31,1),0,RIGHT($D31,1),1)),\"ERROR\"))))","v":0},{"$f":"IF(AL$24<STANDARD_YEAR,AL19,\nIF(RIGHT($D31,1)>RIGHT('Efficiency Levels'!$C$22,1),AL19,\nIF(RIGHT($D31,1)<RIGHT('Efficiency Levels'!$C$22,1),0,\nIF(RIGHT($D31,1)=RIGHT('Efficiency Levels'!$C$22,1),SUM(OFFSET(AL19,-RIGHT($D31,1),0,RIGHT($D31,1),1)),\"ERROR\"))))","v":0},{"$f":"IF(AM$24<STANDARD_YEAR,AM19,\nIF(RIGHT($D31,1)>RIGHT('Efficiency Levels'!$C$22,1),AM19,\nIF(RIGHT($D31,1)<RIGHT('Efficiency Levels'!$C$22,1),0,\nIF(RIGHT($D31,1)=RIGHT('Efficiency Levels'!$C$22,1),SUM(OFFSET(AM19,-RIGHT($D31,1),0,RIGHT($D31,1),1)),\"ERROR\"))))","v":0},{"$f":"IF(AN$24<STANDARD_YEAR,AN19,\nIF(RIGHT($D31,1)>RIGHT('Efficiency Levels'!$C$22,1),AN19,\nIF(RIGHT($D31,1)<RIGHT('Efficiency Levels'!$C$22,1),0,\nIF(RIGHT($D31,1)=RIGHT('Efficiency Levels'!$C$22,1),SUM(OFFSET(AN19,-RIGHT($D31,1),0,RIGHT($D31,1),1)),\"ERROR\"))))","v":0},{"$f":"IF(AO$24<STANDARD_YEAR,AO19,\nIF(RIGHT($D31,1)>RIGHT('Efficiency Levels'!$C$22,1),AO19,\nIF(RIGHT($D31,1)<RIGHT('Efficiency Levels'!$C$22,1),0,\nIF(RIGHT($D31,1)=RIGHT('Efficiency Levels'!$C$22,1),SUM(OFFSET(AO19,-RIGHT($D31,1),0,RIGHT($D31,1),1)),\"ERROR\"))))","v":0},{"$f":"IF(AP$24<STANDARD_YEAR,AP19,\nIF(RIGHT($D31,1)>RIGHT('Efficiency Levels'!$C$22,1),AP19,\nIF(RIGHT($D31,1)<RIGHT('Efficiency Levels'!$C$22,1),0,\nIF(RIGHT($D31,1)=RIGHT('Efficiency Levels'!$C$22,1),SUM(OFFSET(AP19,-RIGHT($D31,1),0,RIGHT($D31,1),1)),\"ERROR\"))))","v":0},{"$f":"IF(AQ$24<STANDARD_YEAR,AQ19,\nIF(RIGHT($D31,1)>RIGHT('Efficiency Levels'!$C$22,1),AQ19,\nIF(RIGHT($D31,1)<RIGHT('Efficiency Levels'!$C$22,1),0,\nIF(RIGHT($D31,1)=RIGHT('Efficiency Levels'!$C$22,1),SUM(OFFSET(AQ19,-RIGHT($D31,1),0,RIGHT($D31,1),1)),\"ERROR\"))))","v":0},{"$f":"IF(AR$24<STANDARD_YEAR,AR19,\nIF(RIGHT($D31,1)>RIGHT('Efficiency Levels'!$C$22,1),AR19,\nIF(RIGHT($D31,1)<RIGHT('Efficiency Levels'!$C$22,1),0,\nIF(RIGHT($D31,1)=RIGHT('Efficiency Levels'!$C$22,1),SUM(OFFSET(AR19,-RIGHT($D31,1),0,RIGHT($D31,1),1)),\"ERROR\"))))","v":0},{"$f":"IF(AS$24<STANDARD_YEAR,AS19,\nIF(RIGHT($D31,1)>RIGHT('Efficiency Levels'!$C$22,1),AS19,\nIF(RIGHT($D31,1)<RIGHT('Efficiency Levels'!$C$22,1),0,\nIF(RIGHT($D31,1)=RIGHT('Efficiency Levels'!$C$22,1),SUM(OFFSET(AS19,-RIGHT($D31,1),0,RIGHT($D31,1),1)),\"ERROR\"))))","v":0},{"$f":"IF(AT$24<STANDARD_YEAR,AT19,\nIF(RIGHT($D31,1)>RIGHT('Efficiency Levels'!$C$22,1),AT19,\nIF(RIGHT($D31,1)<RIGHT('Efficiency Levels'!$C$22,1),0,\nIF(RIGHT($D31,1)=RIGHT('Efficiency Levels'!$C$22,1),SUM(OFFSET(AT19,-RIGHT($D31,1),0,RIGHT($D31,1),1)),\"ERROR\"))))","v":0},{"$f":"IF(AU$24<STANDARD_YEAR,AU19,\nIF(RIGHT($D31,1)>RIGHT('Efficiency Levels'!$C$22,1),AU19,\nIF(RIGHT($D31,1)<RIGHT('Efficiency Levels'!$C$22,1),0,\nIF(RIGHT($D31,1)=RIGHT('Efficiency Levels'!$C$22,1),SUM(OFFSET(AU19,-RIGHT($D31,1),0,RIGHT($D31,1),1)),\"ERROR\"))))","v":0},{"$f":"IF(AV$24<STANDARD_YEAR,AV19,\nIF(RIGHT($D31,1)>RIGHT('Efficiency Levels'!$C$22,1),AV19,\nIF(RIGHT($D31,1)<RIGHT('Efficiency Levels'!$C$22,1),0,\nIF(RIGHT($D31,1)=RIGHT('Efficiency Levels'!$C$22,1),SUM(OFFSET(AV19,-RIGHT($D31,1),0,RIGHT($D31,1),1)),\"ERROR\"))))","v":0},{"$f":"IF(AW$24<STANDARD_YEAR,AW19,\nIF(RIGHT($D31,1)>RIGHT('Efficiency Levels'!$C$22,1),AW19,\nIF(RIGHT($D31,1)<RIGHT('Efficiency Levels'!$C$22,1),0,\nIF(RIGHT($D31,1)=RIGHT('Efficiency Levels'!$C$22,1),SUM(OFFSET(AW19,-RIGHT($D31,1),0,RIGHT($D31,1),1)),\"ERROR\"))))","v":0},{"$f":"IF(AX$24<STANDARD_YEAR,AX19,\nIF(RIGHT($D31,1)>RIGHT('Efficiency Levels'!$C$22,1),AX19,\nIF(RIGHT($D31,1)<RIGHT('Efficiency Levels'!$C$22,1),0,\nIF(RIGHT($D31,1)=RIGHT('Efficiency Levels'!$C$22,1),SUM(OFFSET(AX19,-RIGHT($D31,1),0,RIGHT($D31,1),1)),\"ERROR\"))))","v":0},{"$f":"IF(AY$24<STANDARD_YEAR,AY19,\nIF(RIGHT($D31,1)>RIGHT('Efficiency Levels'!$C$22,1),AY19,\nIF(RIGHT($D31,1)<RIGHT('Efficiency Levels'!$C$22,1),0,\nIF(RIGHT($D31,1)=RIGHT('Efficiency Levels'!$C$22,1),SUM(OFFSET(AY19,-RIGHT($D31,1),0,RIGHT($D31,1),1)),\"ERROR\"))))","v":0},{"$f":"IF(AZ$24<STANDARD_YEAR,AZ19,\nIF(RIGHT($D31,1)>RIGHT('Efficiency Levels'!$C$22,1),AZ19,\nIF(RIGHT($D31,1)<RIGHT('Efficiency Levels'!$C$22,1),0,\nIF(RIGHT($D31,1)=RIGHT('Efficiency Levels'!$C$22,1),SUM(OFFSET(AZ19,-RIGHT($D31,1),0,RIGHT($D31,1),1)),\"ERROR\"))))","v":0},{"$f":"IF(BA$24<STANDARD_YEAR,BA19,\nIF(RIGHT($D31,1)>RIGHT('Efficiency Levels'!$C$22,1),BA19,\nIF(RIGHT($D31,1)<RIGHT('Efficiency Levels'!$C$22,1),0,\nIF(RIGHT($D31,1)=RIGHT('Efficiency Levels'!$C$22,1),SUM(OFFSET(BA19,-RIGHT($D31,1),0,RIGHT($D31,1),1)),\"ERROR\"))))","v":0},{"$f":"IF(BB$24<STANDARD_YEAR,BB19,\nIF(RIGHT($D31,1)>RIGHT('Efficiency Levels'!$C$22,1),BB19,\nIF(RIGHT($D31,1)<RIGHT('Efficiency Levels'!$C$22,1),0,\nIF(RIGHT($D31,1)=RIGHT('Efficiency Levels'!$C$22,1),SUM(OFFSET(BB19,-RIGHT($D31,1),0,RIGHT($D31,1),1)),\"ERROR\"))))","v":0},{"$f":"IF(BC$24<STANDARD_YEAR,BC19,\nIF(RIGHT($D31,1)>RIGHT('Efficiency Levels'!$C$22,1),BC19,\nIF(RIGHT($D31,1)<RIGHT('Efficiency Levels'!$C$22,1),0,\nIF(RIGHT($D31,1)=RIGHT('Efficiency Levels'!$C$22,1),SUM(OFFSET(BC19,-RIGHT($D31,1),0,RIGHT($D31,1),1)),\"ERROR\"))))","v":0},{"$f":"IF(BD$24<STANDARD_YEAR,BD19,\nIF(RIGHT($D31,1)>RIGHT('Efficiency Levels'!$C$22,1),BD19,\nIF(RIGHT($D31,1)<RIGHT('Efficiency Levels'!$C$22,1),0,\nIF(RIGHT($D31,1)=RIGHT('Efficiency Levels'!$C$22,1),SUM(OFFSET(BD19,-RIGHT($D31,1),0,RIGHT($D31,1),1)),\"ERROR\"))))","v":0},{"$f":"IF(BE$24<STANDARD_YEAR,BE19,\nIF(RIGHT($D31,1)>RIGHT('Efficiency Levels'!$C$22,1),BE19,\nIF(RIGHT($D31,1)<RIGHT('Efficiency Levels'!$C$22,1),0,\nIF(RIGHT($D31,1)=RIGHT('Efficiency Levels'!$C$22,1),SUM(OFFSET(BE19,-RIGHT($D31,1),0,RIGHT($D31,1),1)),\"ERROR\"))))","v":0},{"$f":"IF(BF$24<STANDARD_YEAR,BF19,\nIF(RIGHT($D31,1)>RIGHT('Efficiency Levels'!$C$22,1),BF19,\nIF(RIGHT($D31,1)<RIGHT('Efficiency Levels'!$C$22,1),0,\nIF(RIGHT($D31,1)=RIGHT('Efficiency Levels'!$C$22,1),SUM(OFFSET(BF19,-RIGHT($D31,1),0,RIGHT($D31,1),1)),\"ERROR\"))))","v":0},{"$f":"IF(BG$24<STANDARD_YEAR,BG19,\nIF(RIGHT($D31,1)>RIGHT('Efficiency Levels'!$C$22,1),BG19,\nIF(RIGHT($D31,1)<RIGHT('Efficiency Levels'!$C$22,1),0,\nIF(RIGHT($D31,1)=RIGHT('Efficiency Levels'!$C$22,1),SUM(OFFSET(BG19,-RIGHT($D31,1),0,RIGHT($D31,1),1)),\"ERROR\"))))","v":0},{"$f":"IF(BH$24<STANDARD_YEAR,BH19,\nIF(RIGHT($D31,1)>RIGHT('Efficiency Levels'!$C$22,1),BH19,\nIF(RIGHT($D31,1)<RIGHT('Efficiency Levels'!$C$22,1),0,\nIF(RIGHT($D31,1)=RIGHT('Efficiency Levels'!$C$22,1),SUM(OFFSET(BH19,-RIGHT($D31,1),0,RIGHT($D31,1),1)),\"ERROR\"))))","v":0},{"$f":"IF(BI$24<STANDARD_YEAR,BI19,\nIF(RIGHT($D31,1)>RIGHT('Efficiency Levels'!$C$22,1),BI19,\nIF(RIGHT($D31,1)<RIGHT('Efficiency Levels'!$C$22,1),0,\nIF(RIGHT($D31,1)=RIGHT('Efficiency Levels'!$C$22,1),SUM(OFFSET(BI19,-RIGHT($D31,1),0,RIGHT($D31,1),1)),\"ERROR\"))))","v":0},{"$f":"IF(BJ$24<STANDARD_YEAR,BJ19,\nIF(RIGHT($D31,1)>RIGHT('Efficiency Levels'!$C$22,1),BJ19,\nIF(RIGHT($D31,1)<RIGHT('Efficiency Levels'!$C$22,1),0,\nIF(RIGHT($D31,1)=RIGHT('Efficiency Levels'!$C$22,1),SUM(OFFSET(BJ19,-RIGHT($D31,1),0,RIGHT($D31,1),1)),\"ERROR\"))))","v":0}]
[null,null,null,"EL7",{"$f":"OFFSET('Efficiency Levels'!$D$11,MATCH($C$9,'Efficiency Levels'!$C$9:$C$1002,0)+RIGHT(D32,1),0)","v":255},null,null,null,{"$f":"IF(I$24<STANDARD_YEAR,I20,\nIF(RIGHT($D32,1)>RIGHT('Efficiency Levels'!$C$22,1),I20,\nIF(RIGHT($D32,1)<RIGHT('Efficiency Levels'!$C$22,1),0,\nIF(RIGHT($D32,1)=RIGHT('Efficiency Levels'!$C$22,1),SUM(OFFSET(I20,-RIGHT($D32,1),0,RIGHT($D32,1),1)),\"ERROR\"))))","v":0},{"$f":"IF(J$24<STANDARD_YEAR,J20,\nIF(RIGHT($D32,1)>RIGHT('Efficiency Levels'!$C$22,1),J20,\nIF(RIGHT($D32,1)<RIGHT('Efficiency Levels'!$C$22,1),0,\nIF(RIGHT($D32,1)=RIGHT('Efficiency Levels'!$C$22,1),SUM(OFFSET(J20,-RIGHT($D32,1),0,RIGHT($D32,1),1)),\"ERROR\"))))","v":0},{"$f":"IF(K$24<STANDARD_YEAR,K20,\nIF(RIGHT($D32,1)>RIGHT('Efficiency Levels'!$C$22,1),K20,\nIF(RIGHT($D32,1)<RIGHT('Efficiency Levels'!$C$22,1),0,\nIF(RIGHT($D32,1)=RIGHT('Efficiency Levels'!$C$22,1),SUM(OFFSET(K20,-RIGHT($D32,1),0,RIGHT($D32,1),1)),\"ERROR\"))))","v":0},{"$f":"IF(L$24<STANDARD_YEAR,L20,\nIF(RIGHT($D32,1)>RIGHT('Efficiency Levels'!$C$22,1),L20,\nIF(RIGHT($D32,1)<RIGHT('Efficiency Levels'!$C$22,1),0,\nIF(RIGHT($D32,1)=RIGHT('Efficiency Levels'!$C$22,1),SUM(OFFSET(L20,-RIGHT($D32,1),0,RIGHT($D32,1),1)),\"ERROR\"))))","v":0},{"$f":"IF(M$24<STANDARD_YEAR,M20,\nIF(RIGHT($D32,1)>RIGHT('Efficiency Levels'!$C$22,1),M20,\nIF(RIGHT($D32,1)<RIGHT('Efficiency Levels'!$C$22,1),0,\nIF(RIGHT($D32,1)=RIGHT('Efficiency Levels'!$C$22,1),SUM(OFFSET(M20,-RIGHT($D32,1),0,RIGHT($D32,1),1)),\"ERROR\"))))","v":0},{"$f":"IF(N$24<STANDARD_YEAR,N20,\nIF(RIGHT($D32,1)>RIGHT('Efficiency Levels'!$C$22,1),N20,\nIF(RIGHT($D32,1)<RIGHT('Efficiency Levels'!$C$22,1),0,\nIF(RIGHT($D32,1)=RIGHT('Efficiency Levels'!$C$22,1),SUM(OFFSET(N20,-RIGHT($D32,1),0,RIGHT($D32,1),1)),\"ERROR\"))))","v":0},{"$f":"IF(O$24<STANDARD_YEAR,O20,\nIF(RIGHT($D32,1)>RIGHT('Efficiency Levels'!$C$22,1),O20,\nIF(RIGHT($D32,1)<RIGHT('Efficiency Levels'!$C$22,1),0,\nIF(RIGHT($D32,1)=RIGHT('Efficiency Levels'!$C$22,1),SUM(OFFSET(O20,-RIGHT($D32,1),0,RIGHT($D32,1),1)),\"ERROR\"))))","v":0},{"$f":"IF(P$24<STANDARD_YEAR,P20,\nIF(RIGHT($D32,1)>RIGHT('Efficiency Levels'!$C$22,1),P20,\nIF(RIGHT($D32,1)<RIGHT('Efficiency Levels'!$C$22,1),0,\nIF(RIGHT($D32,1)=RIGHT('Efficiency Levels'!$C$22,1),SUM(OFFSET(P20,-RIGHT($D32,1),0,RIGHT($D32,1),1)),\"ERROR\"))))","v":0},{"$f":"IF(Q$24<STANDARD_YEAR,Q20,\nIF(RIGHT($D32,1)>RIGHT('Efficiency Levels'!$C$22,1),Q20,\nIF(RIGHT($D32,1)<RIGHT('Efficiency Levels'!$C$22,1),0,\nIF(RIGHT($D32,1)=RIGHT('Efficiency Levels'!$C$22,1),SUM(OFFSET(Q20,-RIGHT($D32,1),0,RIGHT($D32,1),1)),\"ERROR\"))))","v":0},{"$f":"IF(R$24<STANDARD_YEAR,R20,\nIF(RIGHT($D32,1)>RIGHT('Efficiency Levels'!$C$22,1),R20,\nIF(RIGHT($D32,1)<RIGHT('Efficiency Levels'!$C$22,1),0,\nIF(RIGHT($D32,1)=RIGHT('Efficiency Levels'!$C$22,1),SUM(OFFSET(R20,-RIGHT($D32,1),0,RIGHT($D32,1),1)),\"ERROR\"))))","v":0},{"$f":"IF(S$24<STANDARD_YEAR,S20,\nIF(RIGHT($D32,1)>RIGHT('Efficiency Levels'!$C$22,1),S20,\nIF(RIGHT($D32,1)<RIGHT('Efficiency Levels'!$C$22,1),0,\nIF(RIGHT($D32,1)=RIGHT('Efficiency Levels'!$C$22,1),SUM(OFFSET(S20,-RIGHT($D32,1),0,RIGHT($D32,1),1)),\"ERROR\"))))","v":0},{"$f":"IF(T$24<STANDARD_YEAR,T20,\nIF(RIGHT($D32,1)>RIGHT('Efficiency Levels'!$C$22,1),T20,\nIF(RIGHT($D32,1)<RIGHT('Efficiency Levels'!$C$22,1),0,\nIF(RIGHT($D32,1)=RIGHT('Efficiency Levels'!$C$22,1),SUM(OFFSET(T20,-RIGHT($D32,1),0,RIGHT($D32,1),1)),\"ERROR\"))))","v":0},{"$f":"IF(U$24<STANDARD_YEAR,U20,\nIF(RIGHT($D32,1)>RIGHT('Efficiency Levels'!$C$22,1),U20,\nIF(RIGHT($D32,1)<RIGHT('Efficiency Levels'!$C$22,1),0,\nIF(RIGHT($D32,1)=RIGHT('Efficiency Levels'!$C$22,1),SUM(OFFSET(U20,-RIGHT($D32,1),0,RIGHT($D32,1),1)),\"ERROR\"))))","v":0},{"$f":"IF(V$24<STANDARD_YEAR,V20,\nIF(RIGHT($D32,1)>RIGHT('Efficiency Levels'!$C$22,1),V20,\nIF(RIGHT($D32,1)<RIGHT('Efficiency Levels'!$C$22,1),0,\nIF(RIGHT($D32,1)=RIGHT('Efficiency Levels'!$C$22,1),SUM(OFFSET(V20,-RIGHT($D32,1),0,RIGHT($D32,1),1)),\"ERROR\"))))","v":0},{"$f":"IF(W$24<STANDARD_YEAR,W20,\nIF(RIGHT($D32,1)>RIGHT('Efficiency Levels'!$C$22,1),W20,\nIF(RIGHT($D32,1)<RIGHT('Efficiency Levels'!$C$22,1),0,\nIF(RIGHT($D32,1)=RIGHT('Efficiency Levels'!$C$22,1),SUM(OFFSET(W20,-RIGHT($D32,1),0,RIGHT($D32,1),1)),\"ERROR\"))))","v":0},{"$f":"IF(X$24<STANDARD_YEAR,X20,\nIF(RIGHT($D32,1)>RIGHT('Efficiency Levels'!$C$22,1),X20,\nIF(RIGHT($D32,1)<RIGHT('Efficiency Levels'!$C$22,1),0,\nIF(RIGHT($D32,1)=RIGHT('Efficiency Levels'!$C$22,1),SUM(OFFSET(X20,-RIGHT($D32,1),0,RIGHT($D32,1),1)),\"ERROR\"))))","v":0},{"$f":"IF(Y$24<STANDARD_YEAR,Y20,\nIF(RIGHT($D32,1)>RIGHT('Efficiency Levels'!$C$22,1),Y20,\nIF(RIGHT($D32,1)<RIGHT('Efficiency Levels'!$C$22,1),0,\nIF(RIGHT($D32,1)=RIGHT('Efficiency Levels'!$C$22,1),SUM(OFFSET(Y20,-RIGHT($D32,1),0,RIGHT($D32,1),1)),\"ERROR\"))))","v":0},{"$f":"IF(Z$24<STANDARD_YEAR,Z20,\nIF(RIGHT($D32,1)>RIGHT('Efficiency Levels'!$C$22,1),Z20,\nIF(RIGHT($D32,1)<RIGHT('Efficiency Levels'!$C$22,1),0,\nIF(RIGHT($D32,1)=RIGHT('Efficiency Levels'!$C$22,1),SUM(OFFSET(Z20,-RIGHT($D32,1),0,RIGHT($D32,1),1)),\"ERROR\"))))","v":0},{"$f":"IF(AA$24<STANDARD_YEAR,AA20,\nIF(RIGHT($D32,1)>RIGHT('Efficiency Levels'!$C$22,1),AA20,\nIF(RIGHT($D32,1)<RIGHT('Efficiency Levels'!$C$22,1),0,\nIF(RIGHT($D32,1)=RIGHT('Efficiency Levels'!$C$22,1),SUM(OFFSET(AA20,-RIGHT($D32,1),0,RIGHT($D32,1),1)),\"ERROR\"))))","v":0},{"$f":"IF(AB$24<STANDARD_YEAR,AB20,\nIF(RIGHT($D32,1)>RIGHT('Efficiency Levels'!$C$22,1),AB20,\nIF(RIGHT($D32,1)<RIGHT('Efficiency Levels'!$C$22,1),0,\nIF(RIGHT($D32,1)=RIGHT('Efficiency Levels'!$C$22,1),SUM(OFFSET(AB20,-RIGHT($D32,1),0,RIGHT($D32,1),1)),\"ERROR\"))))","v":0},{"$f":"IF(AC$24<STANDARD_YEAR,AC20,\nIF(RIGHT($D32,1)>RIGHT('Efficiency Levels'!$C$22,1),AC20,\nIF(RIGHT($D32,1)<RIGHT('Efficiency Levels'!$C$22,1),0,\nIF(RIGHT($D32,1)=RIGHT('Efficiency Levels'!$C$22,1),SUM(OFFSET(AC20,-RIGHT($D32,1),0,RIGHT($D32,1),1)),\"ERROR\"))))","v":0},{"$f":"IF(AD$24<STANDARD_YEAR,AD20,\nIF(RIGHT($D32,1)>RIGHT('Efficiency Levels'!$C$22,1),AD20,\nIF(RIGHT($D32,1)<RIGHT('Efficiency Levels'!$C$22,1),0,\nIF(RIGHT($D32,1)=RIGHT('Efficiency Levels'!$C$22,1),SUM(OFFSET(AD20,-RIGHT($D32,1),0,RIGHT($D32,1),1)),\"ERROR\"))))","v":0},{"$f":"IF(AE$24<STANDARD_YEAR,AE20,\nIF(RIGHT($D32,1)>RIGHT('Efficiency Levels'!$C$22,1),AE20,\nIF(RIGHT($D32,1)<RIGHT('Efficiency Levels'!$C$22,1),0,\nIF(RIGHT($D32,1)=RIGHT('Efficiency Levels'!$C$22,1),SUM(OFFSET(AE20,-RIGHT($D32,1),0,RIGHT($D32,1),1)),\"ERROR\"))))","v":0},{"$f":"IF(AF$24<STANDARD_YEAR,AF20,\nIF(RIGHT($D32,1)>RIGHT('Efficiency Levels'!$C$22,1),AF20,\nIF(RIGHT($D32,1)<RIGHT('Efficiency Levels'!$C$22,1),0,\nIF(RIGHT($D32,1)=RIGHT('Efficiency Levels'!$C$22,1),SUM(OFFSET(AF20,-RIGHT($D32,1),0,RIGHT($D32,1),1)),\"ERROR\"))))","v":0},{"$f":"IF(AG$24<STANDARD_YEAR,AG20,\nIF(RIGHT($D32,1)>RIGHT('Efficiency Levels'!$C$22,1),AG20,\nIF(RIGHT($D32,1)<RIGHT('Efficiency Levels'!$C$22,1),0,\nIF(RIGHT($D32,1)=RIGHT('Efficiency Levels'!$C$22,1),SUM(OFFSET(AG20,-RIGHT($D32,1),0,RIGHT($D32,1),1)),\"ERROR\"))))","v":0},{"$f":"IF(AH$24<STANDARD_YEAR,AH20,\nIF(RIGHT($D32,1)>RIGHT('Efficiency Levels'!$C$22,1),AH20,\nIF(RIGHT($D32,1)<RIGHT('Efficiency Levels'!$C$22,1),0,\nIF(RIGHT($D32,1)=RIGHT('Efficiency Levels'!$C$22,1),SUM(OFFSET(AH20,-RIGHT($D32,1),0,RIGHT($D32,1),1)),\"ERROR\"))))","v":0},{"$f":"IF(AI$24<STANDARD_YEAR,AI20,\nIF(RIGHT($D32,1)>RIGHT('Efficiency Levels'!$C$22,1),AI20,\nIF(RIGHT($D32,1)<RIGHT('Efficiency Levels'!$C$22,1),0,\nIF(RIGHT($D32,1)=RIGHT('Efficiency Levels'!$C$22,1),SUM(OFFSET(AI20,-RIGHT($D32,1),0,RIGHT($D32,1),1)),\"ERROR\"))))","v":0},{"$f":"IF(AJ$24<STANDARD_YEAR,AJ20,\nIF(RIGHT($D32,1)>RIGHT('Efficiency Levels'!$C$22,1),AJ20,\nIF(RIGHT($D32,1)<RIGHT('Efficiency Levels'!$C$22,1),0,\nIF(RIGHT($D32,1)=RIGHT('Efficiency Levels'!$C$22,1),SUM(OFFSET(AJ20,-RIGHT($D32,1),0,RIGHT($D32,1),1)),\"ERROR\"))))","v":0},{"$f":"IF(AK$24<STANDARD_YEAR,AK20,\nIF(RIGHT($D32,1)>RIGHT('Efficiency Levels'!$C$22,1),AK20,\nIF(RIGHT($D32,1)<RIGHT('Efficiency Levels'!$C$22,1),0,\nIF(RIGHT($D32,1)=RIGHT('Efficiency Levels'!$C$22,1),SUM(OFFSET(AK20,-RIGHT($D32,1),0,RIGHT($D32,1),1)),\"ERROR\"))))","v":0},{"$f":"IF(AL$24<STANDARD_YEAR,AL20,\nIF(RIGHT($D32,1)>RIGHT('Efficiency Levels'!$C$22,1),AL20,\nIF(RIGHT($D32,1)<RIGHT('Efficiency Levels'!$C$22,1),0,\nIF(RIGHT($D32,1)=RIGHT('Efficiency Levels'!$C$22,1),SUM(OFFSET(AL20,-RIGHT($D32,1),0,RIGHT($D32,1),1)),\"ERROR\"))))","v":0},{"$f":"IF(AM$24<STANDARD_YEAR,AM20,\nIF(RIGHT($D32,1)>RIGHT('Efficiency Levels'!$C$22,1),AM20,\nIF(RIGHT($D32,1)<RIGHT('Efficiency Levels'!$C$22,1),0,\nIF(RIGHT($D32,1)=RIGHT('Efficiency Levels'!$C$22,1),SUM(OFFSET(AM20,-RIGHT($D32,1),0,RIGHT($D32,1),1)),\"ERROR\"))))","v":0},{"$f":"IF(AN$24<STANDARD_YEAR,AN20,\nIF(RIGHT($D32,1)>RIGHT('Efficiency Levels'!$C$22,1),AN20,\nIF(RIGHT($D32,1)<RIGHT('Efficiency Levels'!$C$22,1),0,\nIF(RIGHT($D32,1)=RIGHT('Efficiency Levels'!$C$22,1),SUM(OFFSET(AN20,-RIGHT($D32,1),0,RIGHT($D32,1),1)),\"ERROR\"))))","v":0},{"$f":"IF(AO$24<STANDARD_YEAR,AO20,\nIF(RIGHT($D32,1)>RIGHT('Efficiency Levels'!$C$22,1),AO20,\nIF(RIGHT($D32,1)<RIGHT('Efficiency Levels'!$C$22,1),0,\nIF(RIGHT($D32,1)=RIGHT('Efficiency Levels'!$C$22,1),SUM(OFFSET(AO20,-RIGHT($D32,1),0,RIGHT($D32,1),1)),\"ERROR\"))))","v":0},{"$f":"IF(AP$24<STANDARD_YEAR,AP20,\nIF(RIGHT($D32,1)>RIGHT('Efficiency Levels'!$C$22,1),AP20,\nIF(RIGHT($D32,1)<RIGHT('Efficiency Levels'!$C$22,1),0,\nIF(RIGHT($D32,1)=RIGHT('Efficiency Levels'!$C$22,1),SUM(OFFSET(AP20,-RIGHT($D32,1),0,RIGHT($D32,1),1)),\"ERROR\"))))","v":0},{"$f":"IF(AQ$24<STANDARD_YEAR,AQ20,\nIF(RIGHT($D32,1)>RIGHT('Efficiency Levels'!$C$22,1),AQ20,\nIF(RIGHT($D32,1)<RIGHT('Efficiency Levels'!$C$22,1),0,\nIF(RIGHT($D32,1)=RIGHT('Efficiency Levels'!$C$22,1),SUM(OFFSET(AQ20,-RIGHT($D32,1),0,RIGHT($D32,1),1)),\"ERROR\"))))","v":0},{"$f":"IF(AR$24<STANDARD_YEAR,AR20,\nIF(RIGHT($D32,1)>RIGHT('Efficiency Levels'!$C$22,1),AR20,\nIF(RIGHT($D32,1)<RIGHT('Efficiency Levels'!$C$22,1),0,\nIF(RIGHT($D32,1)=RIGHT('Efficiency Levels'!$C$22,1),SUM(OFFSET(AR20,-RIGHT($D32,1),0,RIGHT($D32,1),1)),\"ERROR\"))))","v":0},{"$f":"IF(AS$24<STANDARD_YEAR,AS20,\nIF(RIGHT($D32,1)>RIGHT('Efficiency Levels'!$C$22,1),AS20,\nIF(RIGHT($D32,1)<RIGHT('Efficiency Levels'!$C$22,1),0,\nIF(RIGHT($D32,1)=RIGHT('Efficiency Levels'!$C$22,1),SUM(OFFSET(AS20,-RIGHT($D32,1),0,RIGHT($D32,1),1)),\"ERROR\"))))","v":0},{"$f":"IF(AT$24<STANDARD_YEAR,AT20,\nIF(RIGHT($D32,1)>RIGHT('Efficiency Levels'!$C$22,1),AT20,\nIF(RIGHT($D32,1)<RIGHT('Efficiency Levels'!$C$22,1),0,\nIF(RIGHT($D32,1)=RIGHT('Efficiency Levels'!$C$22,1),SUM(OFFSET(AT20,-RIGHT($D32,1),0,RIGHT($D32,1),1)),\"ERROR\"))))","v":0},{"$f":"IF(AU$24<STANDARD_YEAR,AU20,\nIF(RIGHT($D32,1)>RIGHT('Efficiency Levels'!$C$22,1),AU20,\nIF(RIGHT($D32,1)<RIGHT('Efficiency Levels'!$C$22,1),0,\nIF(RIGHT($D32,1)=RIGHT('Efficiency Levels'!$C$22,1),SUM(OFFSET(AU20,-RIGHT($D32,1),0,RIGHT($D32,1),1)),\"ERROR\"))))","v":0},{"$f":"IF(AV$24<STANDARD_YEAR,AV20,\nIF(RIGHT($D32,1)>RIGHT('Efficiency Levels'!$C$22,1),AV20,\nIF(RIGHT($D32,1)<RIGHT('Efficiency Levels'!$C$22,1),0,\nIF(RIGHT($D32,1)=RIGHT('Efficiency Levels'!$C$22,1),SUM(OFFSET(AV20,-RIGHT($D32,1),0,RIGHT($D32,1),1)),\"ERROR\"))))","v":0},{"$f":"IF(AW$24<STANDARD_YEAR,AW20,\nIF(RIGHT($D32,1)>RIGHT('Efficiency Levels'!$C$22,1),AW20,\nIF(RIGHT($D32,1)<RIGHT('Efficiency Levels'!$C$22,1),0,\nIF(RIGHT($D32,1)=RIGHT('Efficiency Levels'!$C$22,1),SUM(OFFSET(AW20,-RIGHT($D32,1),0,RIGHT($D32,1),1)),\"ERROR\"))))","v":0},{"$f":"IF(AX$24<STANDARD_YEAR,AX20,\nIF(RIGHT($D32,1)>RIGHT('Efficiency Levels'!$C$22,1),AX20,\nIF(RIGHT($D32,1)<RIGHT('Efficiency Levels'!$C$22,1),0,\nIF(RIGHT($D32,1)=RIGHT('Efficiency Levels'!$C$22,1),SUM(OFFSET(AX20,-RIGHT($D32,1),0,RIGHT($D32,1),1)),\"ERROR\"))))","v":0},{"$f":"IF(AY$24<STANDARD_YEAR,AY20,\nIF(RIGHT($D32,1)>RIGHT('Efficiency Levels'!$C$22,1),AY20,\nIF(RIGHT($D32,1)<RIGHT('Efficiency Levels'!$C$22,1),0,\nIF(RIGHT($D32,1)=RIGHT('Efficiency Levels'!$C$22,1),SUM(OFFSET(AY20,-RIGHT($D32,1),0,RIGHT($D32,1),1)),\"ERROR\"))))","v":0},{"$f":"IF(AZ$24<STANDARD_YEAR,AZ20,\nIF(RIGHT($D32,1)>RIGHT('Efficiency Levels'!$C$22,1),AZ20,\nIF(RIGHT($D32,1)<RIGHT('Efficiency Levels'!$C$22,1),0,\nIF(RIGHT($D32,1)=RIGHT('Efficiency Levels'!$C$22,1),SUM(OFFSET(AZ20,-RIGHT($D32,1),0,RIGHT($D32,1),1)),\"ERROR\"))))","v":0},{"$f":"IF(BA$24<STANDARD_YEAR,BA20,\nIF(RIGHT($D32,1)>RIGHT('Efficiency Levels'!$C$22,1),BA20,\nIF(RIGHT($D32,1)<RIGHT('Efficiency Levels'!$C$22,1),0,\nIF(RIGHT($D32,1)=RIGHT('Efficiency Levels'!$C$22,1),SUM(OFFSET(BA20,-RIGHT($D32,1),0,RIGHT($D32,1),1)),\"ERROR\"))))","v":0},{"$f":"IF(BB$24<STANDARD_YEAR,BB20,\nIF(RIGHT($D32,1)>RIGHT('Efficiency Levels'!$C$22,1),BB20,\nIF(RIGHT($D32,1)<RIGHT('Efficiency Levels'!$C$22,1),0,\nIF(RIGHT($D32,1)=RIGHT('Efficiency Levels'!$C$22,1),SUM(OFFSET(BB20,-RIGHT($D32,1),0,RIGHT($D32,1),1)),\"ERROR\"))))","v":0},{"$f":"IF(BC$24<STANDARD_YEAR,BC20,\nIF(RIGHT($D32,1)>RIGHT('Efficiency Levels'!$C$22,1),BC20,\nIF(RIGHT($D32,1)<RIGHT('Efficiency Levels'!$C$22,1),0,\nIF(RIGHT($D32,1)=RIGHT('Efficiency Levels'!$C$22,1),SUM(OFFSET(BC20,-RIGHT($D32,1),0,RIGHT($D32,1),1)),\"ERROR\"))))","v":0},{"$f":"IF(BD$24<STANDARD_YEAR,BD20,\nIF(RIGHT($D32,1)>RIGHT('Efficiency Levels'!$C$22,1),BD20,\nIF(RIGHT($D32,1)<RIGHT('Efficiency Levels'!$C$22,1),0,\nIF(RIGHT($D32,1)=RIGHT('Efficiency Levels'!$C$22,1),SUM(OFFSET(BD20,-RIGHT($D32,1),0,RIGHT($D32,1),1)),\"ERROR\"))))","v":0},{"$f":"IF(BE$24<STANDARD_YEAR,BE20,\nIF(RIGHT($D32,1)>RIGHT('Efficiency Levels'!$C$22,1),BE20,\nIF(RIGHT($D32,1)<RIGHT('Efficiency Levels'!$C$22,1),0,\nIF(RIGHT($D32,1)=RIGHT('Efficiency Levels'!$C$22,1),SUM(OFFSET(BE20,-RIGHT($D32,1),0,RIGHT($D32,1),1)),\"ERROR\"))))","v":0},{"$f":"IF(BF$24<STANDARD_YEAR,BF20,\nIF(RIGHT($D32,1)>RIGHT('Efficiency Levels'!$C$22,1),BF20,\nIF(RIGHT($D32,1)<RIGHT('Efficiency Levels'!$C$22,1),0,\nIF(RIGHT($D32,1)=RIGHT('Efficiency Levels'!$C$22,1),SUM(OFFSET(BF20,-RIGHT($D32,1),0,RIGHT($D32,1),1)),\"ERROR\"))))","v":0},{"$f":"IF(BG$24<STANDARD_YEAR,BG20,\nIF(RIGHT($D32,1)>RIGHT('Efficiency Levels'!$C$22,1),BG20,\nIF(RIGHT($D32,1)<RIGHT('Efficiency Levels'!$C$22,1),0,\nIF(RIGHT($D32,1)=RIGHT('Efficiency Levels'!$C$22,1),SUM(OFFSET(BG20,-RIGHT($D32,1),0,RIGHT($D32,1),1)),\"ERROR\"))))","v":0},{"$f":"IF(BH$24<STANDARD_YEAR,BH20,\nIF(RIGHT($D32,1)>RIGHT('Efficiency Levels'!$C$22,1),BH20,\nIF(RIGHT($D32,1)<RIGHT('Efficiency Levels'!$C$22,1),0,\nIF(RIGHT($D32,1)=RIGHT('Efficiency Levels'!$C$22,1),SUM(OFFSET(BH20,-RIGHT($D32,1),0,RIGHT($D32,1),1)),\"ERROR\"))))","v":0},{"$f":"IF(BI$24<STANDARD_YEAR,BI20,\nIF(RIGHT($D32,1)>RIGHT('Efficiency Levels'!$C$22,1),BI20,\nIF(RIGHT($D32,1)<RIGHT('Efficiency Levels'!$C$22,1),0,\nIF(RIGHT($D32,1)=RIGHT('Efficiency Levels'!$C$22,1),SUM(OFFSET(BI20,-RIGHT($D32,1),0,RIGHT($D32,1),1)),\"ERROR\"))))","v":0},{"$f":"IF(BJ$24<STANDARD_YEAR,BJ20,\nIF(RIGHT($D32,1)>RIGHT('Efficiency Levels'!$C$22,1),BJ20,\nIF(RIGHT($D32,1)<RIGHT('Efficiency Levels'!$C$22,1),0,\nIF(RIGHT($D32,1)=RIGHT('Efficiency Levels'!$C$22,1),SUM(OFFSET(BJ20,-RIGHT($D32,1),0,RIGHT($D32,1),1)),\"ERROR\"))))","v":0}]
[null,null,null,"TOTAL",null,null,null,null,{"$f":"SUM(I25:I32)","v":1},1,1,1,1,1,1,1,1,1,1,1,1,1,1,1,1,1,1,1,1,1,1,1,1,1,1,1,1,1,1,1,1,1,1,1,1,1,1,1,1,1,1,1,1,1,1,1,1,1,1,1,1,{"$f":"SUM(BJ25:BJ32)","v":1}]
[]
[null,null,null,"Sources","Placeholder Values Assumes All Pre-Case Shipments are the Least Energy Efficient Products"]
[]
[]
[]
[null,null,"PC2",{"$f":"OFFSET('Product Classes'!$C$9,MATCH(C39,MODEL_PCS,0),0)","v":"Gas Ovens—Self-Clean Ovens"}]
[]
[null,null,null,"PRE-Case",null,"Static Distribution"]
[null,null,null,"Efficiency Level","UEC (kWh / year)",2011,null,null,1981,1982,1983,1984,1985,1986,1987,1988,1989,1990,1991,1992,1993,1994,1995,1996,1997,1998,1999,2000,2001,2002,2003,2004,2005,2006,2007,2008,2009,2010,2011,2012,2013,2014,2015,2016,2017,2018,2019,2020,2021,2022,2023,2024,2025,2026,2027,2028,2029,2030,2031,2032,2033,2034]
[null,null,null,"EL0",{"$f":"OFFSET('Efficiency Levels'!$D$11,MATCH($C$39,'Efficiency Levels'!$C$9:$C$1002,0)+RIGHT(D43,1),0)","v":360},1,null,null,{"$f":"$F43","v":1},1,1,1,1,1,1,1,{"$f":"$F43","v":1},{"$f":"$F43","v":1},1,1,1,1,1,1,1,1,1,1,1,1,1,1,1,1,1,1,1,1,1,1,1,1,1,1,1,1,1,1,1,1,1,1,1,1,1,1,1,1,1,1,1,1]
[null,null,null,"EL1",{"$f":"OFFSET('Efficiency Levels'!$D$11,MATCH($C$39,'Efficiency Levels'!$C$9:$C$1002,0)+RIGHT(D44,1),0)","v":317.7},0,null,null,0,0,0,0,0,0,0,0,{"$f":"$F44","v":0},0,0,0,0,0,0,0,0,0,0,0,0,0,0,0,0,0,0,0,0,0,0,0,0,0,0,0,0,0,0,0,0,0,0,0,0,0,0,0,0,0,0,0,0,0]
[null,null,null,"EL2",{"$f":"OFFSET('Efficiency Levels'!$D$11,MATCH($C$39,'Efficiency Levels'!$C$9:$C$1002,0)+RIGHT(D45,1),0)","v":317},0,null,null,0,0,0,0,0,0,0,0,{"$f":"$F45","v":0},0,0,0,0,0,0,0,0,0,0,0,0,0,0,0,0,0,0,0,0,0,0,0,0,0,0,0,0,0,0,0,0,0,0,0,0,0,0,0,0,0,0,0,0,0]
[null,null,null,"EL3",{"$f":"OFFSET('Efficiency Levels'!$D$11,MATCH($C$39,'Efficiency Levels'!$C$9:$C$1002,0)+RIGHT(D46,1),0)","v":312},0,null,null,0,0,0,0,0,0,0,0,{"$f":"$F46","v":0},0,0,0,0,0,0,0,0,0,0,0,0,0,0,0,0,0,0,0,0,0,0,0,0,0,0,0,0,0,0,0,0,0,0,0,0,0,0,0,0,0,0,0,0,0]
[null,null,null,"EL4",{"$f":"OFFSET('Efficiency Levels'!$D$11,MATCH($C$39,'Efficiency Levels'!$C$9:$C$1002,0)+RIGHT(D47,1),0)","v":271.89999999999998},0,null,null,0,0,0,0,0,0,0,0,{"$f":"$F47","v":0},0,0,0,0,0,0,0,0,0,0,0,0,0,0,0,0,0,0,0,0,0,0,0,0,0,0,0,0,0,0,0,0,0,0,0,0,0,0,0,0,0,0,0,0,0]
[null,null,null,"TOTAL",null,{"$f":"SUM(F43:F47)","v":1},null,null,{"$f":"SUM(I43:I47)","v":1},1,1,1,1,1,1,1,1,1,1,1,1,1,1,1,1,1,1,1,1,1,1,1,1,1,1,1,1,1,1,1,1,1,1,1,1,1,1,1,1,1,1,1,1,1,1,1,1,1,1,1,1,{"$f":"SUM(BJ43:BJ47)","v":1}]
[]
[null,null,null,"POST-Case"]
[null,null,null,"Efficiency Level","UEC (kWh / year)",null,null,null,1981,1982,1983,1984,1985,1986,1987,1988,1989,1990,1991,1992,1993,1994,1995,1996,1997,1998,1999,2000,2001,2002,2003,2004,2005,2006,2007,2008,2009,2010,2011,2012,2013,2014,2015,2016,2017,2018,2019,2020,2021,2022,2023,2024,2025,2026,2027,2028,2029,2030,2031,2032,2033,2034]
[null,null,null,"EL0",{"$f":"OFFSET('Efficiency Levels'!$D$11,MATCH($C$39,'Efficiency Levels'!$C$9:$C$1002,0)+RIGHT(D52,1),0)","v":360},null,null,null,{"$f":"IF(I$24<STANDARD_YEAR,I43,\nIF(RIGHT($D52,1)>RIGHT('Efficiency Levels'!$C$39,1),I43,\nIF(RIGHT($D52,1)<RIGHT('Efficiency Levels'!$C$39,1),0,\nIF(RIGHT($D52,1)=RIGHT('Efficiency Levels'!$C$39,1),SUM(OFFSET(I43,-RIGHT($D52,1),0,RIGHT($D52,1),1)),\"ERROR\"))))","v":1},{"$f":"IF(J$24<STANDARD_YEAR,J43,\nIF(RIGHT($D52,1)>RIGHT('Efficiency Levels'!$C$39,1),J43,\nIF(RIGHT($D52,1)<RIGHT('Efficiency Levels'!$C$39,1),0,\nIF(RIGHT($D52,1)=RIGHT('Efficiency Levels'!$C$39,1),SUM(OFFSET(J43,-RIGHT($D52,1),0,RIGHT($D52,1),1)),\"ERROR\"))))","v":1},{"$f":"IF(K$24<STANDARD_YEAR,K43,\nIF(RIGHT($D52,1)>RIGHT('Efficiency Levels'!$C$39,1),K43,\nIF(RIGHT($D52,1)<RIGHT('Efficiency Levels'!$C$39,1),0,\nIF(RIGHT($D52,1)=RIGHT('Efficiency Levels'!$C$39,1),SUM(OFFSET(K43,-RIGHT($D52,1),0,RIGHT($D52,1),1)),\"ERROR\"))))","v":1},{"$f":"IF(L$24<STANDARD_YEAR,L43,\nIF(RIGHT($D52,1)>RIGHT('Efficiency Levels'!$C$39,1),L43,\nIF(RIGHT($D52,1)<RIGHT('Efficiency Levels'!$C$39,1),0,\nIF(RIGHT($D52,1)=RIGHT('Efficiency Levels'!$C$39,1),SUM(OFFSET(L43,-RIGHT($D52,1),0,RIGHT($D52,1),1)),\"ERROR\"))))","v":1},{"$f":"IF(M$24<STANDARD_YEAR,M43,\nIF(RIGHT($D52,1)>RIGHT('Efficiency Levels'!$C$39,1),M43,\nIF(RIGHT($D52,1)<RIGHT('Efficiency Levels'!$C$39,1),0,\nIF(RIGHT($D52,1)=RIGHT('Efficiency Levels'!$C$39,1),SUM(OFFSET(M43,-RIGHT($D52,1),0,RIGHT($D52,1),1)),\"ERROR\"))))","v":1},{"$f":"IF(N$24<STANDARD_YEAR,N43,\nIF(RIGHT($D52,1)>RIGHT('Efficiency Levels'!$C$39,1),N43,\nIF(RIGHT($D52,1)<RIGHT('Efficiency Levels'!$C$39,1),0,\nIF(RIGHT($D52,1)=RIGHT('Efficiency Levels'!$C$39,1),SUM(OFFSET(N43,-RIGHT($D52,1),0,RIGHT($D52,1),1)),\"ERROR\"))))","v":1},{"$f":"IF(O$24<STANDARD_YEAR,O43,\nIF(RIGHT($D52,1)>RIGHT('Efficiency Levels'!$C$39,1),O43,\nIF(RIGHT($D52,1)<RIGHT('Efficiency Levels'!$C$39,1),0,\nIF(RIGHT($D52,1)=RIGHT('Efficiency Levels'!$C$39,1),SUM(OFFSET(O43,-RIGHT($D52,1),0,RIGHT($D52,1),1)),\"ERROR\"))))","v":1},{"$f":"IF(P$24<STANDARD_YEAR,P43,\nIF(RIGHT($D52,1)>RIGHT('Efficiency Levels'!$C$39,1),P43,\nIF(RIGHT($D52,1)<RIGHT('Efficiency Levels'!$C$39,1),0,\nIF(RIGHT($D52,1)=RIGHT('Efficiency Levels'!$C$39,1),SUM(OFFSET(P43,-RIGHT($D52,1),0,RIGHT($D52,1),1)),\"ERROR\"))))","v":1},{"$f":"IF(Q$24<STANDARD_YEAR,Q43,\nIF(RIGHT($D52,1)>RIGHT('Efficiency Levels'!$C$39,1),Q43,\nIF(RIGHT($D52,1)<RIGHT('Efficiency Levels'!$C$39,1),0,\nIF(RIGHT($D52,1)=RIGHT('Efficiency Levels'!$C$39,1),SUM(OFFSET(Q43,-RIGHT($D52,1),0,RIGHT($D52,1),1)),\"ERROR\"))))","v":1},{"$f":"IF(R$24<STANDARD_YEAR,R43,\nIF(RIGHT($D52,1)>RIGHT('Efficiency Levels'!$C$39,1),R43,\nIF(RIGHT($D52,1)<RIGHT('Efficiency Levels'!$C$39,1),0,\nIF(RIGHT($D52,1)=RIGHT('Efficiency Levels'!$C$39,1),SUM(OFFSET(R43,-RIGHT($D52,1),0,RIGHT($D52,1),1)),\"ERROR\"))))","v":1},{"$f":"IF(S$24<STANDARD_YEAR,S43,\nIF(RIGHT($D52,1)>RIGHT('Efficiency Levels'!$C$39,1),S43,\nIF(RIGHT($D52,1)<RIGHT('Efficiency Levels'!$C$39,1),0,\nIF(RIGHT($D52,1)=RIGHT('Efficiency Levels'!$C$39,1),SUM(OFFSET(S43,-RIGHT($D52,1),0,RIGHT($D52,1),1)),\"ERROR\"))))","v":1},{"$f":"IF(T$24<STANDARD_YEAR,T43,\nIF(RIGHT($D52,1)>RIGHT('Efficiency Levels'!$C$39,1),T43,\nIF(RIGHT($D52,1)<RIGHT('Efficiency Levels'!$C$39,1),0,\nIF(RIGHT($D52,1)=RIGHT('Efficiency Levels'!$C$39,1),SUM(OFFSET(T43,-RIGHT($D52,1),0,RIGHT($D52,1),1)),\"ERROR\"))))","v":1},{"$f":"IF(U$24<STANDARD_YEAR,U43,\nIF(RIGHT($D52,1)>RIGHT('Efficiency Levels'!$C$39,1),U43,\nIF(RIGHT($D52,1)<RIGHT('Efficiency Levels'!$C$39,1),0,\nIF(RIGHT($D52,1)=RIGHT('Efficiency Levels'!$C$39,1),SUM(OFFSET(U43,-RIGHT($D52,1),0,RIGHT($D52,1),1)),\"ERROR\"))))","v":1},{"$f":"IF(V$24<STANDARD_YEAR,V43,\nIF(RIGHT($D52,1)>RIGHT('Efficiency Levels'!$C$39,1),V43,\nIF(RIGHT($D52,1)<RIGHT('Efficiency Levels'!$C$39,1),0,\nIF(RIGHT($D52,1)=RIGHT('Efficiency Levels'!$C$39,1),SUM(OFFSET(V43,-RIGHT($D52,1),0,RIGHT($D52,1),1)),\"ERROR\"))))","v":1},{"$f":"IF(W$24<STANDARD_YEAR,W43,\nIF(RIGHT($D52,1)>RIGHT('Efficiency Levels'!$C$39,1),W43,\nIF(RIGHT($D52,1)<RIGHT('Efficiency Levels'!$C$39,1),0,\nIF(RIGHT($D52,1)=RIGHT('Efficiency Levels'!$C$39,1),SUM(OFFSET(W43,-RIGHT($D52,1),0,RIGHT($D52,1),1)),\"ERROR\"))))","v":1},{"$f":"IF(X$24<STANDARD_YEAR,X43,\nIF(RIGHT($D52,1)>RIGHT('Efficiency Levels'!$C$39,1),X43,\nIF(RIGHT($D52,1)<RIGHT('Efficiency Levels'!$C$39,1),0,\nIF(RIGHT($D52,1)=RIGHT('Efficiency Levels'!$C$39,1),SUM(OFFSET(X43,-RIGHT($D52,1),0,RIGHT($D52,1),1)),\"ERROR\"))))","v":1},{"$f":"IF(Y$24<STANDARD_YEAR,Y43,\nIF(RIGHT($D52,1)>RIGHT('Efficiency Levels'!$C$39,1),Y43,\nIF(RIGHT($D52,1)<RIGHT('Efficiency Levels'!$C$39,1),0,\nIF(RIGHT($D52,1)=RIGHT('Efficiency Levels'!$C$39,1),SUM(OFFSET(Y43,-RIGHT($D52,1),0,RIGHT($D52,1),1)),\"ERROR\"))))","v":1},{"$f":"IF(Z$24<STANDARD_YEAR,Z43,\nIF(RIGHT($D52,1)>RIGHT('Efficiency Levels'!$C$39,1),Z43,\nIF(RIGHT($D52,1)<RIGHT('Efficiency Levels'!$C$39,1),0,\nIF(RIGHT($D52,1)=RIGHT('Efficiency Levels'!$C$39,1),SUM(OFFSET(Z43,-RIGHT($D52,1),0,RIGHT($D52,1),1)),\"ERROR\"))))","v":1},{"$f":"IF(AA$24<STANDARD_YEAR,AA43,\nIF(RIGHT($D52,1)>RIGHT('Efficiency Levels'!$C$39,1),AA43,\nIF(RIGHT($D52,1)<RIGHT('Efficiency Levels'!$C$39,1),0,\nIF(RIGHT($D52,1)=RIGHT('Efficiency Levels'!$C$39,1),SUM(OFFSET(AA43,-RIGHT($D52,1),0,RIGHT($D52,1),1)),\"ERROR\"))))","v":1},{"$f":"IF(AB$24<STANDARD_YEAR,AB43,\nIF(RIGHT($D52,1)>RIGHT('Efficiency Levels'!$C$39,1),AB43,\nIF(RIGHT($D52,1)<RIGHT('Efficiency Levels'!$C$39,1),0,\nIF(RIGHT($D52,1)=RIGHT('Efficiency Levels'!$C$39,1),SUM(OFFSET(AB43,-RIGHT($D52,1),0,RIGHT($D52,1),1)),\"ERROR\"))))","v":1},{"$f":"IF(AC$24<STANDARD_YEAR,AC43,\nIF(RIGHT($D52,1)>RIGHT('Efficiency Levels'!$C$39,1),AC43,\nIF(RIGHT($D52,1)<RIGHT('Efficiency Levels'!$C$39,1),0,\nIF(RIGHT($D52,1)=RIGHT('Efficiency Levels'!$C$39,1),SUM(OFFSET(AC43,-RIGHT($D52,1),0,RIGHT($D52,1),1)),\"ERROR\"))))","v":1},{"$f":"IF(AD$24<STANDARD_YEAR,AD43,\nIF(RIGHT($D52,1)>RIGHT('Efficiency Levels'!$C$39,1),AD43,\nIF(RIGHT($D52,1)<RIGHT('Efficiency Levels'!$C$39,1),0,\nIF(RIGHT($D52,1)=RIGHT('Efficiency Levels'!$C$39,1),SUM(OFFSET(AD43,-RIGHT($D52,1),0,RIGHT($D52,1),1)),\"ERROR\"))))","v":1},{"$f":"IF(AE$24<STANDARD_YEAR,AE43,\nIF(RIGHT($D52,1)>RIGHT('Efficiency Levels'!$C$39,1),AE43,\nIF(RIGHT($D52,1)<RIGHT('Efficiency Levels'!$C$39,1),0,\nIF(RIGHT($D52,1)=RIGHT('Efficiency Levels'!$C$39,1),SUM(OFFSET(AE43,-RIGHT($D52,1),0,RIGHT($D52,1),1)),\"ERROR\"))))","v":1},{"$f":"IF(AF$24<STANDARD_YEAR,AF43,\nIF(RIGHT($D52,1)>RIGHT('Efficiency Levels'!$C$39,1),AF43,\nIF(RIGHT($D52,1)<RIGHT('Efficiency Levels'!$C$39,1),0,\nIF(RIGHT($D52,1)=RIGHT('Efficiency Levels'!$C$39,1),SUM(OFFSET(AF43,-RIGHT($D52,1),0,RIGHT($D52,1),1)),\"ERROR\"))))","v":1},{"$f":"IF(AG$24<STANDARD_YEAR,AG43,\nIF(RIGHT($D52,1)>RIGHT('Efficiency Levels'!$C$39,1),AG43,\nIF(RIGHT($D52,1)<RIGHT('Efficiency Levels'!$C$39,1),0,\nIF(RIGHT($D52,1)=RIGHT('Efficiency Levels'!$C$39,1),SUM(OFFSET(AG43,-RIGHT($D52,1),0,RIGHT($D52,1),1)),\"ERROR\"))))","v":1},{"$f":"IF(AH$24<STANDARD_YEAR,AH43,\nIF(RIGHT($D52,1)>RIGHT('Efficiency Levels'!$C$39,1),AH43,\nIF(RIGHT($D52,1)<RIGHT('Efficiency Levels'!$C$39,1),0,\nIF(RIGHT($D52,1)=RIGHT('Efficiency Levels'!$C$39,1),SUM(OFFSET(AH43,-RIGHT($D52,1),0,RIGHT($D52,1),1)),\"ERROR\"))))","v":1},{"$f":"IF(AI$24<STANDARD_YEAR,AI43,\nIF(RIGHT($D52,1)>RIGHT('Efficiency Levels'!$C$39,1),AI43,\nIF(RIGHT($D52,1)<RIGHT('Efficiency Levels'!$C$39,1),0,\nIF(RIGHT($D52,1)=RIGHT('Efficiency Levels'!$C$39,1),SUM(OFFSET(AI43,-RIGHT($D52,1),0,RIGHT($D52,1),1)),\"ERROR\"))))","v":1},{"$f":"IF(AJ$24<STANDARD_YEAR,AJ43,\nIF(RIGHT($D52,1)>RIGHT('Efficiency Levels'!$C$39,1),AJ43,\nIF(RIGHT($D52,1)<RIGHT('Efficiency Levels'!$C$39,1),0,\nIF(RIGHT($D52,1)=RIGHT('Efficiency Levels'!$C$39,1),SUM(OFFSET(AJ43,-RIGHT($D52,1),0,RIGHT($D52,1),1)),\"ERROR\"))))","v":1},{"$f":"IF(AK$24<STANDARD_YEAR,AK43,\nIF(RIGHT($D52,1)>RIGHT('Efficiency Levels'!$C$39,1),AK43,\nIF(RIGHT($D52,1)<RIGHT('Efficiency Levels'!$C$39,1),0,\nIF(RIGHT($D52,1)=RIGHT('Efficiency Levels'!$C$39,1),SUM(OFFSET(AK43,-RIGHT($D52,1),0,RIGHT($D52,1),1)),\"ERROR\"))))","v":1},{"$f":"IF(AL$24<STANDARD_YEAR,AL43,\nIF(RIGHT($D52,1)>RIGHT('Efficiency Levels'!$C$39,1),AL43,\nIF(RIGHT($D52,1)<RIGHT('Efficiency Levels'!$C$39,1),0,\nIF(RIGHT($D52,1)=RIGHT('Efficiency Levels'!$C$39,1),SUM(OFFSET(AL43,-RIGHT($D52,1),0,RIGHT($D52,1),1)),\"ERROR\"))))","v":1},{"$f":"IF(AM$24<STANDARD_YEAR,AM43,\nIF(RIGHT($D52,1)>RIGHT('Efficiency Levels'!$C$39,1),AM43,\nIF(RIGHT($D52,1)<RIGHT('Efficiency Levels'!$C$39,1),0,\nIF(RIGHT($D52,1)=RIGHT('Efficiency Levels'!$C$39,1),SUM(OFFSET(AM43,-RIGHT($D52,1),0,RIGHT($D52,1),1)),\"ERROR\"))))","v":1},{"$f":"IF(AN$24<STANDARD_YEAR,AN43,\nIF(RIGHT($D52,1)>RIGHT('Efficiency Levels'!$C$39,1),AN43,\nIF(RIGHT($D52,1)<RIGHT('Efficiency Levels'!$C$39,1),0,\nIF(RIGHT($D52,1)=RIGHT('Efficiency Levels'!$C$39,1),SUM(OFFSET(AN43,-RIGHT($D52,1),0,RIGHT($D52,1),1)),\"ERROR\"))))","v":1},{"$f":"IF(AO$24<STANDARD_YEAR,AO43,\nIF(RIGHT($D52,1)>RIGHT('Efficiency Levels'!$C$39,1),AO43,\nIF(RIGHT($D52,1)<RIGHT('Efficiency Levels'!$C$39,1),0,\nIF(RIGHT($D52,1)=RIGHT('Efficiency Levels'!$C$39,1),SUM(OFFSET(AO43,-RIGHT($D52,1),0,RIGHT($D52,1),1)),\"ERROR\"))))","v":1},{"$f":"IF(AP$24<STANDARD_YEAR,AP43,\nIF(RIGHT($D52,1)>RIGHT('Efficiency Levels'!$C$39,1),AP43,\nIF(RIGHT($D52,1)<RIGHT('Efficiency Levels'!$C$39,1),0,\nIF(RIGHT($D52,1)=RIGHT('Efficiency Levels'!$C$39,1),SUM(OFFSET(AP43,-RIGHT($D52,1),0,RIGHT($D52,1),1)),\"ERROR\"))))","v":1},{"$f":"IF(AQ$24<STANDARD_YEAR,AQ43,\nIF(RIGHT($D52,1)>RIGHT('Efficiency Levels'!$C$39,1),AQ43,\nIF(RIGHT($D52,1)<RIGHT('Efficiency Levels'!$C$39,1),0,\nIF(RIGHT($D52,1)=RIGHT('Efficiency Levels'!$C$39,1),SUM(OFFSET(AQ43,-RIGHT($D52,1),0,RIGHT($D52,1),1)),\"ERROR\"))))","v":1},{"$f":"IF(AR$24<STANDARD_YEAR,AR43,\nIF(RIGHT($D52,1)>RIGHT('Efficiency Levels'!$C$39,1),AR43,\nIF(RIGHT($D52,1)<RIGHT('Efficiency Levels'!$C$39,1),0,\nIF(RIGHT($D52,1)=RIGHT('Efficiency Levels'!$C$39,1),SUM(OFFSET(AR43,-RIGHT($D52,1),0,RIGHT($D52,1),1)),\"ERROR\"))))","v":1},{"$f":"IF(AS$24<STANDARD_YEAR,AS43,\nIF(RIGHT($D52,1)>RIGHT('Efficiency Levels'!$C$39,1),AS43,\nIF(RIGHT($D52,1)<RIGHT('Efficiency Levels'!$C$39,1),0,\nIF(RIGHT($D52,1)=RIGHT('Efficiency Levels'!$C$39,1),SUM(OFFSET(AS43,-RIGHT($D52,1),0,RIGHT($D52,1),1)),\"ERROR\"))))","v":1},{"$f":"IF(AT$24<STANDARD_YEAR,AT43,\nIF(RIGHT($D52,1)>RIGHT('Efficiency Levels'!$C$39,1),AT43,\nIF(RIGHT($D52,1)<RIGHT('Efficiency Levels'!$C$39,1),0,\nIF(RIGHT($D52,1)=RIGHT('Efficiency Levels'!$C$39,1),SUM(OFFSET(AT43,-RIGHT($D52,1),0,RIGHT($D52,1),1)),\"ERROR\"))))","v":1},{"$f":"IF(AU$24<STANDARD_YEAR,AU43,\nIF(RIGHT($D52,1)>RIGHT('Efficiency Levels'!$C$39,1),AU43,\nIF(RIGHT($D52,1)<RIGHT('Efficiency Levels'!$C$39,1),0,\nIF(RIGHT($D52,1)=RIGHT('Efficiency Levels'!$C$39,1),SUM(OFFSET(AU43,-RIGHT($D52,1),0,RIGHT($D52,1),1)),\"ERROR\"))))","v":0},{"$f":"IF(AV$24<STANDARD_YEAR,AV43,\nIF(RIGHT($D52,1)>RIGHT('Efficiency Levels'!$C$39,1),AV43,\nIF(RIGHT($D52,1)<RIGHT('Efficiency Levels'!$C$39,1),0,\nIF(RIGHT($D52,1)=RIGHT('Efficiency Levels'!$C$39,1),SUM(OFFSET(AV43,-RIGHT($D52,1),0,RIGHT($D52,1),1)),\"ERROR\"))))","v":0},{"$f":"IF(AW$24<STANDARD_YEAR,AW43,\nIF(RIGHT($D52,1)>RIGHT('Efficiency Levels'!$C$39,1),AW43,\nIF(RIGHT($D52,1)<RIGHT('Efficiency Levels'!$C$39,1),0,\nIF(RIGHT($D52,1)=RIGHT('Efficiency Levels'!$C$39,1),SUM(OFFSET(AW43,-RIGHT($D52,1),0,RIGHT($D52,1),1)),\"ERROR\"))))","v":0},{"$f":"IF(AX$24<STANDARD_YEAR,AX43,\nIF(RIGHT($D52,1)>RIGHT('Efficiency Levels'!$C$39,1),AX43,\nIF(RIGHT($D52,1)<RIGHT('Efficiency Levels'!$C$39,1),0,\nIF(RIGHT($D52,1)=RIGHT('Efficiency Levels'!$C$39,1),SUM(OFFSET(AX43,-RIGHT($D52,1),0,RIGHT($D52,1),1)),\"ERROR\"))))","v":0},{"$f":"IF(AY$24<STANDARD_YEAR,AY43,\nIF(RIGHT($D52,1)>RIGHT('Efficiency Levels'!$C$39,1),AY43,\nIF(RIGHT($D52,1)<RIGHT('Efficiency Levels'!$C$39,1),0,\nIF(RIGHT($D52,1)=RIGHT('Efficiency Levels'!$C$39,1),SUM(OFFSET(AY43,-RIGHT($D52,1),0,RIGHT($D52,1),1)),\"ERROR\"))))","v":0},{"$f":"IF(AZ$24<STANDARD_YEAR,AZ43,\nIF(RIGHT($D52,1)>RIGHT('Efficiency Levels'!$C$39,1),AZ43,\nIF(RIGHT($D52,1)<RIGHT('Efficiency Levels'!$C$39,1),0,\nIF(RIGHT($D52,1)=RIGHT('Efficiency Levels'!$C$39,1),SUM(OFFSET(AZ43,-RIGHT($D52,1),0,RIGHT($D52,1),1)),\"ERROR\"))))","v":0},{"$f":"IF(BA$24<STANDARD_YEAR,BA43,\nIF(RIGHT($D52,1)>RIGHT('Efficiency Levels'!$C$39,1),BA43,\nIF(RIGHT($D52,1)<RIGHT('Efficiency Levels'!$C$39,1),0,\nIF(RIGHT($D52,1)=RIGHT('Efficiency Levels'!$C$39,1),SUM(OFFSET(BA43,-RIGHT($D52,1),0,RIGHT($D52,1),1)),\"ERROR\"))))","v":0},{"$f":"IF(BB$24<STANDARD_YEAR,BB43,\nIF(RIGHT($D52,1)>RIGHT('Efficiency Levels'!$C$39,1),BB43,\nIF(RIGHT($D52,1)<RIGHT('Efficiency Levels'!$C$39,1),0,\nIF(RIGHT($D52,1)=RIGHT('Efficiency Levels'!$C$39,1),SUM(OFFSET(BB43,-RIGHT($D52,1),0,RIGHT($D52,1),1)),\"ERROR\"))))","v":0},{"$f":"IF(BC$24<STANDARD_YEAR,BC43,\nIF(RIGHT($D52,1)>RIGHT('Efficiency Levels'!$C$39,1),BC43,\nIF(RIGHT($D52,1)<RIGHT('Efficiency Levels'!$C$39,1),0,\nIF(RIGHT($D52,1)=RIGHT('Efficiency Levels'!$C$39,1),SUM(OFFSET(BC43,-RIGHT($D52,1),0,RIGHT($D52,1),1)),\"ERROR\"))))","v":0},{"$f":"IF(BD$24<STANDARD_YEAR,BD43,\nIF(RIGHT($D52,1)>RIGHT('Efficiency Levels'!$C$39,1),BD43,\nIF(RIGHT($D52,1)<RIGHT('Efficiency Levels'!$C$39,1),0,\nIF(RIGHT($D52,1)=RIGHT('Efficiency Levels'!$C$39,1),SUM(OFFSET(BD43,-RIGHT($D52,1),0,RIGHT($D52,1),1)),\"ERROR\"))))","v":0},{"$f":"IF(BE$24<STANDARD_YEAR,BE43,\nIF(RIGHT($D52,1)>RIGHT('Efficiency Levels'!$C$39,1),BE43,\nIF(RIGHT($D52,1)<RIGHT('Efficiency Levels'!$C$39,1),0,\nIF(RIGHT($D52,1)=RIGHT('Efficiency Levels'!$C$39,1),SUM(OFFSET(BE43,-RIGHT($D52,1),0,RIGHT($D52,1),1)),\"ERROR\"))))","v":0},{"$f":"IF(BF$24<STANDARD_YEAR,BF43,\nIF(RIGHT($D52,1)>RIGHT('Efficiency Levels'!$C$39,1),BF43,\nIF(RIGHT($D52,1)<RIGHT('Efficiency Levels'!$C$39,1),0,\nIF(RIGHT($D52,1)=RIGHT('Efficiency Levels'!$C$39,1),SUM(OFFSET(BF43,-RIGHT($D52,1),0,RIGHT($D52,1),1)),\"ERROR\"))))","v":0},{"$f":"IF(BG$24<STANDARD_YEAR,BG43,\nIF(RIGHT($D52,1)>RIGHT('Efficiency Levels'!$C$39,1),BG43,\nIF(RIGHT($D52,1)<RIGHT('Efficiency Levels'!$C$39,1),0,\nIF(RIGHT($D52,1)=RIGHT('Efficiency Levels'!$C$39,1),SUM(OFFSET(BG43,-RIGHT($D52,1),0,RIGHT($D52,1),1)),\"ERROR\"))))","v":0},{"$f":"IF(BH$24<STANDARD_YEAR,BH43,\nIF(RIGHT($D52,1)>RIGHT('Efficiency Levels'!$C$39,1),BH43,\nIF(RIGHT($D52,1)<RIGHT('Efficiency Levels'!$C$39,1),0,\nIF(RIGHT($D52,1)=RIGHT('Efficiency Levels'!$C$39,1),SUM(OFFSET(BH43,-RIGHT($D52,1),0,RIGHT($D52,1),1)),\"ERROR\"))))","v":0},{"$f":"IF(BI$24<STANDARD_YEAR,BI43,\nIF(RIGHT($D52,1)>RIGHT('Efficiency Levels'!$C$39,1),BI43,\nIF(RIGHT($D52,1)<RIGHT('Efficiency Levels'!$C$39,1),0,\nIF(RIGHT($D52,1)=RIGHT('Efficiency Levels'!$C$39,1),SUM(OFFSET(BI43,-RIGHT($D52,1),0,RIGHT($D52,1),1)),\"ERROR\"))))","v":0},{"$f":"IF(BJ$24<STANDARD_YEAR,BJ43,\nIF(RIGHT($D52,1)>RIGHT('Efficiency Levels'!$C$39,1),BJ43,\nIF(RIGHT($D52,1)<RIGHT('Efficiency Levels'!$C$39,1),0,\nIF(RIGHT($D52,1)=RIGHT('Efficiency Levels'!$C$39,1),SUM(OFFSET(BJ43,-RIGHT($D52,1),0,RIGHT($D52,1),1)),\"ERROR\"))))","v":0}]
[null,null,null,"EL1",{"$f":"OFFSET('Efficiency Levels'!$D$11,MATCH($C$39,'Efficiency Levels'!$C$9:$C$1002,0)+RIGHT(D53,1),0)","v":317.7},null,null,null,{"$f":"IF(I$24<STANDARD_YEAR,I44,\nIF(RIGHT($D53,1)>RIGHT('Efficiency Levels'!$C$39,1),I44,\nIF(RIGHT($D53,1)<RIGHT('Efficiency Levels'!$C$39,1),0,\nIF(RIGHT($D53,1)=RIGHT('Efficiency Levels'!$C$39,1),SUM(OFFSET(I44,-RIGHT($D53,1),0,RIGHT($D53,1),1)),\"ERROR\"))))","v":0},{"$f":"IF(J$24<STANDARD_YEAR,J44,\nIF(RIGHT($D53,1)>RIGHT('Efficiency Levels'!$C$39,1),J44,\nIF(RIGHT($D53,1)<RIGHT('Efficiency Levels'!$C$39,1),0,\nIF(RIGHT($D53,1)=RIGHT('Efficiency Levels'!$C$39,1),SUM(OFFSET(J44,-RIGHT($D53,1),0,RIGHT($D53,1),1)),\"ERROR\"))))","v":0},{"$f":"IF(K$24<STANDARD_YEAR,K44,\nIF(RIGHT($D53,1)>RIGHT('Efficiency Levels'!$C$39,1),K44,\nIF(RIGHT($D53,1)<RIGHT('Efficiency Levels'!$C$39,1),0,\nIF(RIGHT($D53,1)=RIGHT('Efficiency Levels'!$C$39,1),SUM(OFFSET(K44,-RIGHT($D53,1),0,RIGHT($D53,1),1)),\"ERROR\"))))","v":0},{"$f":"IF(L$24<STANDARD_YEAR,L44,\nIF(RIGHT($D53,1)>RIGHT('Efficiency Levels'!$C$39,1),L44,\nIF(RIGHT($D53,1)<RIGHT('Efficiency Levels'!$C$39,1),0,\nIF(RIGHT($D53,1)=RIGHT('Efficiency Levels'!$C$39,1),SUM(OFFSET(L44,-RIGHT($D53,1),0,RIGHT($D53,1),1)),\"ERROR\"))))","v":0},{"$f":"IF(M$24<STANDARD_YEAR,M44,\nIF(RIGHT($D53,1)>RIGHT('Efficiency Levels'!$C$39,1),M44,\nIF(RIGHT($D53,1)<RIGHT('Efficiency Levels'!$C$39,1),0,\nIF(RIGHT($D53,1)=RIGHT('Efficiency Levels'!$C$39,1),SUM(OFFSET(M44,-RIGHT($D53,1),0,RIGHT($D53,1),1)),\"ERROR\"))))","v":0},{"$f":"IF(N$24<STANDARD_YEAR,N44,\nIF(RIGHT($D53,1)>RIGHT('Efficiency Levels'!$C$39,1),N44,\nIF(RIGHT($D53,1)<RIGHT('Efficiency Levels'!$C$39,1),0,\nIF(RIGHT($D53,1)=RIGHT('Efficiency Levels'!$C$39,1),SUM(OFFSET(N44,-RIGHT($D53,1),0,RIGHT($D53,1),1)),\"ERROR\"))))","v":0},{"$f":"IF(O$24<STANDARD_YEAR,O44,\nIF(RIGHT($D53,1)>RIGHT('Efficiency Levels'!$C$39,1),O44,\nIF(RIGHT($D53,1)<RIGHT('Efficiency Levels'!$C$39,1),0,\nIF(RIGHT($D53,1)=RIGHT('Efficiency Levels'!$C$39,1),SUM(OFFSET(O44,-RIGHT($D53,1),0,RIGHT($D53,1),1)),\"ERROR\"))))","v":0},{"$f":"IF(P$24<STANDARD_YEAR,P44,\nIF(RIGHT($D53,1)>RIGHT('Efficiency Levels'!$C$39,1),P44,\nIF(RIGHT($D53,1)<RIGHT('Efficiency Levels'!$C$39,1),0,\nIF(RIGHT($D53,1)=RIGHT('Efficiency Levels'!$C$39,1),SUM(OFFSET(P44,-RIGHT($D53,1),0,RIGHT($D53,1),1)),\"ERROR\"))))","v":0},{"$f":"IF(Q$24<STANDARD_YEAR,Q44,\nIF(RIGHT($D53,1)>RIGHT('Efficiency Levels'!$C$39,1),Q44,\nIF(RIGHT($D53,1)<RIGHT('Efficiency Levels'!$C$39,1),0,\nIF(RIGHT($D53,1)=RIGHT('Efficiency Levels'!$C$39,1),SUM(OFFSET(Q44,-RIGHT($D53,1),0,RIGHT($D53,1),1)),\"ERROR\"))))","v":0},{"$f":"IF(R$24<STANDARD_YEAR,R44,\nIF(RIGHT($D53,1)>RIGHT('Efficiency Levels'!$C$39,1),R44,\nIF(RIGHT($D53,1)<RIGHT('Efficiency Levels'!$C$39,1),0,\nIF(RIGHT($D53,1)=RIGHT('Efficiency Levels'!$C$39,1),SUM(OFFSET(R44,-RIGHT($D53,1),0,RIGHT($D53,1),1)),\"ERROR\"))))","v":0},{"$f":"IF(S$24<STANDARD_YEAR,S44,\nIF(RIGHT($D53,1)>RIGHT('Efficiency Levels'!$C$39,1),S44,\nIF(RIGHT($D53,1)<RIGHT('Efficiency Levels'!$C$39,1),0,\nIF(RIGHT($D53,1)=RIGHT('Efficiency Levels'!$C$39,1),SUM(OFFSET(S44,-RIGHT($D53,1),0,RIGHT($D53,1),1)),\"ERROR\"))))","v":0},{"$f":"IF(T$24<STANDARD_YEAR,T44,\nIF(RIGHT($D53,1)>RIGHT('Efficiency Levels'!$C$39,1),T44,\nIF(RIGHT($D53,1)<RIGHT('Efficiency Levels'!$C$39,1),0,\nIF(RIGHT($D53,1)=RIGHT('Efficiency Levels'!$C$39,1),SUM(OFFSET(T44,-RIGHT($D53,1),0,RIGHT($D53,1),1)),\"ERROR\"))))","v":0},{"$f":"IF(U$24<STANDARD_YEAR,U44,\nIF(RIGHT($D53,1)>RIGHT('Efficiency Levels'!$C$39,1),U44,\nIF(RIGHT($D53,1)<RIGHT('Efficiency Levels'!$C$39,1),0,\nIF(RIGHT($D53,1)=RIGHT('Efficiency Levels'!$C$39,1),SUM(OFFSET(U44,-RIGHT($D53,1),0,RIGHT($D53,1),1)),\"ERROR\"))))","v":0},{"$f":"IF(V$24<STANDARD_YEAR,V44,\nIF(RIGHT($D53,1)>RIGHT('Efficiency Levels'!$C$39,1),V44,\nIF(RIGHT($D53,1)<RIGHT('Efficiency Levels'!$C$39,1),0,\nIF(RIGHT($D53,1)=RIGHT('Efficiency Levels'!$C$39,1),SUM(OFFSET(V44,-RIGHT($D53,1),0,RIGHT($D53,1),1)),\"ERROR\"))))","v":0},{"$f":"IF(W$24<STANDARD_YEAR,W44,\nIF(RIGHT($D53,1)>RIGHT('Efficiency Levels'!$C$39,1),W44,\nIF(RIGHT($D53,1)<RIGHT('Efficiency Levels'!$C$39,1),0,\nIF(RIGHT($D53,1)=RIGHT('Efficiency Levels'!$C$39,1),SUM(OFFSET(W44,-RIGHT($D53,1),0,RIGHT($D53,1),1)),\"ERROR\"))))","v":0},{"$f":"IF(X$24<STANDARD_YEAR,X44,\nIF(RIGHT($D53,1)>RIGHT('Efficiency Levels'!$C$39,1),X44,\nIF(RIGHT($D53,1)<RIGHT('Efficiency Levels'!$C$39,1),0,\nIF(RIGHT($D53,1)=RIGHT('Efficiency Levels'!$C$39,1),SUM(OFFSET(X44,-RIGHT($D53,1),0,RIGHT($D53,1),1)),\"ERROR\"))))","v":0},{"$f":"IF(Y$24<STANDARD_YEAR,Y44,\nIF(RIGHT($D53,1)>RIGHT('Efficiency Levels'!$C$39,1),Y44,\nIF(RIGHT($D53,1)<RIGHT('Efficiency Levels'!$C$39,1),0,\nIF(RIGHT($D53,1)=RIGHT('Efficiency Levels'!$C$39,1),SUM(OFFSET(Y44,-RIGHT($D53,1),0,RIGHT($D53,1),1)),\"ERROR\"))))","v":0},{"$f":"IF(Z$24<STANDARD_YEAR,Z44,\nIF(RIGHT($D53,1)>RIGHT('Efficiency Levels'!$C$39,1),Z44,\nIF(RIGHT($D53,1)<RIGHT('Efficiency Levels'!$C$39,1),0,\nIF(RIGHT($D53,1)=RIGHT('Efficiency Levels'!$C$39,1),SUM(OFFSET(Z44,-RIGHT($D53,1),0,RIGHT($D53,1),1)),\"ERROR\"))))","v":0},{"$f":"IF(AA$24<STANDARD_YEAR,AA44,\nIF(RIGHT($D53,1)>RIGHT('Efficiency Levels'!$C$39,1),AA44,\nIF(RIGHT($D53,1)<RIGHT('Efficiency Levels'!$C$39,1),0,\nIF(RIGHT($D53,1)=RIGHT('Efficiency Levels'!$C$39,1),SUM(OFFSET(AA44,-RIGHT($D53,1),0,RIGHT($D53,1),1)),\"ERROR\"))))","v":0},{"$f":"IF(AB$24<STANDARD_YEAR,AB44,\nIF(RIGHT($D53,1)>RIGHT('Efficiency Levels'!$C$39,1),AB44,\nIF(RIGHT($D53,1)<RIGHT('Efficiency Levels'!$C$39,1),0,\nIF(RIGHT($D53,1)=RIGHT('Efficiency Levels'!$C$39,1),SUM(OFFSET(AB44,-RIGHT($D53,1),0,RIGHT($D53,1),1)),\"ERROR\"))))","v":0},{"$f":"IF(AC$24<STANDARD_YEAR,AC44,\nIF(RIGHT($D53,1)>RIGHT('Efficiency Levels'!$C$39,1),AC44,\nIF(RIGHT($D53,1)<RIGHT('Efficiency Levels'!$C$39,1),0,\nIF(RIGHT($D53,1)=RIGHT('Efficiency Levels'!$C$39,1),SUM(OFFSET(AC44,-RIGHT($D53,1),0,RIGHT($D53,1),1)),\"ERROR\"))))","v":0},{"$f":"IF(AD$24<STANDARD_YEAR,AD44,\nIF(RIGHT($D53,1)>RIGHT('Efficiency Levels'!$C$39,1),AD44,\nIF(RIGHT($D53,1)<RIGHT('Efficiency Levels'!$C$39,1),0,\nIF(RIGHT($D53,1)=RIGHT('Efficiency Levels'!$C$39,1),SUM(OFFSET(AD44,-RIGHT($D53,1),0,RIGHT($D53,1),1)),\"ERROR\"))))","v":0},{"$f":"IF(AE$24<STANDARD_YEAR,AE44,\nIF(RIGHT($D53,1)>RIGHT('Efficiency Levels'!$C$39,1),AE44,\nIF(RIGHT($D53,1)<RIGHT('Efficiency Levels'!$C$39,1),0,\nIF(RIGHT($D53,1)=RIGHT('Efficiency Levels'!$C$39,1),SUM(OFFSET(AE44,-RIGHT($D53,1),0,RIGHT($D53,1),1)),\"ERROR\"))))","v":0},{"$f":"IF(AF$24<STANDARD_YEAR,AF44,\nIF(RIGHT($D53,1)>RIGHT('Efficiency Levels'!$C$39,1),AF44,\nIF(RIGHT($D53,1)<RIGHT('Efficiency Levels'!$C$39,1),0,\nIF(RIGHT($D53,1)=RIGHT('Efficiency Levels'!$C$39,1),SUM(OFFSET(AF44,-RIGHT($D53,1),0,RIGHT($D53,1),1)),\"ERROR\"))))","v":0},{"$f":"IF(AG$24<STANDARD_YEAR,AG44,\nIF(RIGHT($D53,1)>RIGHT('Efficiency Levels'!$C$39,1),AG44,\nIF(RIGHT($D53,1)<RIGHT('Efficiency Levels'!$C$39,1),0,\nIF(RIGHT($D53,1)=RIGHT('Efficiency Levels'!$C$39,1),SUM(OFFSET(AG44,-RIGHT($D53,1),0,RIGHT($D53,1),1)),\"ERROR\"))))","v":0},{"$f":"IF(AH$24<STANDARD_YEAR,AH44,\nIF(RIGHT($D53,1)>RIGHT('Efficiency Levels'!$C$39,1),AH44,\nIF(RIGHT($D53,1)<RIGHT('Efficiency Levels'!$C$39,1),0,\nIF(RIGHT($D53,1)=RIGHT('Efficiency Levels'!$C$39,1),SUM(OFFSET(AH44,-RIGHT($D53,1),0,RIGHT($D53,1),1)),\"ERROR\"))))","v":0},{"$f":"IF(AI$24<STANDARD_YEAR,AI44,\nIF(RIGHT($D53,1)>RIGHT('Efficiency Levels'!$C$39,1),AI44,\nIF(RIGHT($D53,1)<RIGHT('Efficiency Levels'!$C$39,1),0,\nIF(RIGHT($D53,1)=RIGHT('Efficiency Levels'!$C$39,1),SUM(OFFSET(AI44,-RIGHT($D53,1),0,RIGHT($D53,1),1)),\"ERROR\"))))","v":0},{"$f":"IF(AJ$24<STANDARD_YEAR,AJ44,\nIF(RIGHT($D53,1)>RIGHT('Efficiency Levels'!$C$39,1),AJ44,\nIF(RIGHT($D53,1)<RIGHT('Efficiency Levels'!$C$39,1),0,\nIF(RIGHT($D53,1)=RIGHT('Efficiency Levels'!$C$39,1),SUM(OFFSET(AJ44,-RIGHT($D53,1),0,RIGHT($D53,1),1)),\"ERROR\"))))","v":0},{"$f":"IF(AK$24<STANDARD_YEAR,AK44,\nIF(RIGHT($D53,1)>RIGHT('Efficiency Levels'!$C$39,1),AK44,\nIF(RIGHT($D53,1)<RIGHT('Efficiency Levels'!$C$39,1),0,\nIF(RIGHT($D53,1)=RIGHT('Efficiency Levels'!$C$39,1),SUM(OFFSET(AK44,-RIGHT($D53,1),0,RIGHT($D53,1),1)),\"ERROR\"))))","v":0},{"$f":"IF(AL$24<STANDARD_YEAR,AL44,\nIF(RIGHT($D53,1)>RIGHT('Efficiency Levels'!$C$39,1),AL44,\nIF(RIGHT($D53,1)<RIGHT('Efficiency Levels'!$C$39,1),0,\nIF(RIGHT($D53,1)=RIGHT('Efficiency Levels'!$C$39,1),SUM(OFFSET(AL44,-RIGHT($D53,1),0,RIGHT($D53,1),1)),\"ERROR\"))))","v":0},{"$f":"IF(AM$24<STANDARD_YEAR,AM44,\nIF(RIGHT($D53,1)>RIGHT('Efficiency Levels'!$C$39,1),AM44,\nIF(RIGHT($D53,1)<RIGHT('Efficiency Levels'!$C$39,1),0,\nIF(RIGHT($D53,1)=RIGHT('Efficiency Levels'!$C$39,1),SUM(OFFSET(AM44,-RIGHT($D53,1),0,RIGHT($D53,1),1)),\"ERROR\"))))","v":0},{"$f":"IF(AN$24<STANDARD_YEAR,AN44,\nIF(RIGHT($D53,1)>RIGHT('Efficiency Levels'!$C$39,1),AN44,\nIF(RIGHT($D53,1)<RIGHT('Efficiency Levels'!$C$39,1),0,\nIF(RIGHT($D53,1)=RIGHT('Efficiency Levels'!$C$39,1),SUM(OFFSET(AN44,-RIGHT($D53,1),0,RIGHT($D53,1),1)),\"ERROR\"))))","v":0},{"$f":"IF(AO$24<STANDARD_YEAR,AO44,\nIF(RIGHT($D53,1)>RIGHT('Efficiency Levels'!$C$39,1),AO44,\nIF(RIGHT($D53,1)<RIGHT('Efficiency Levels'!$C$39,1),0,\nIF(RIGHT($D53,1)=RIGHT('Efficiency Levels'!$C$39,1),SUM(OFFSET(AO44,-RIGHT($D53,1),0,RIGHT($D53,1),1)),\"ERROR\"))))","v":0},{"$f":"IF(AP$24<STANDARD_YEAR,AP44,\nIF(RIGHT($D53,1)>RIGHT('Efficiency Levels'!$C$39,1),AP44,\nIF(RIGHT($D53,1)<RIGHT('Efficiency Levels'!$C$39,1),0,\nIF(RIGHT($D53,1)=RIGHT('Efficiency Levels'!$C$39,1),SUM(OFFSET(AP44,-RIGHT($D53,1),0,RIGHT($D53,1),1)),\"ERROR\"))))","v":0},{"$f":"IF(AQ$24<STANDARD_YEAR,AQ44,\nIF(RIGHT($D53,1)>RIGHT('Efficiency Levels'!$C$39,1),AQ44,\nIF(RIGHT($D53,1)<RIGHT('Efficiency Levels'!$C$39,1),0,\nIF(RIGHT($D53,1)=RIGHT('Efficiency Levels'!$C$39,1),SUM(OFFSET(AQ44,-RIGHT($D53,1),0,RIGHT($D53,1),1)),\"ERROR\"))))","v":0},{"$f":"IF(AR$24<STANDARD_YEAR,AR44,\nIF(RIGHT($D53,1)>RIGHT('Efficiency Levels'!$C$39,1),AR44,\nIF(RIGHT($D53,1)<RIGHT('Efficiency Levels'!$C$39,1),0,\nIF(RIGHT($D53,1)=RIGHT('Efficiency Levels'!$C$39,1),SUM(OFFSET(AR44,-RIGHT($D53,1),0,RIGHT($D53,1),1)),\"ERROR\"))))","v":0},{"$f":"IF(AS$24<STANDARD_YEAR,AS44,\nIF(RIGHT($D53,1)>RIGHT('Efficiency Levels'!$C$39,1),AS44,\nIF(RIGHT($D53,1)<RIGHT('Efficiency Levels'!$C$39,1),0,\nIF(RIGHT($D53,1)=RIGHT('Efficiency Levels'!$C$39,1),SUM(OFFSET(AS44,-RIGHT($D53,1),0,RIGHT($D53,1),1)),\"ERROR\"))))","v":0},{"$f":"IF(AT$24<STANDARD_YEAR,AT44,\nIF(RIGHT($D53,1)>RIGHT('Efficiency Levels'!$C$39,1),AT44,\nIF(RIGHT($D53,1)<RIGHT('Efficiency Levels'!$C$39,1),0,\nIF(RIGHT($D53,1)=RIGHT('Efficiency Levels'!$C$39,1),SUM(OFFSET(AT44,-RIGHT($D53,1),0,RIGHT($D53,1),1)),\"ERROR\"))))","v":0},{"$f":"IF(AU$24<STANDARD_YEAR,AU44,\nIF(RIGHT($D53,1)>RIGHT('Efficiency Levels'!$C$39,1),AU44,\nIF(RIGHT($D53,1)<RIGHT('Efficiency Levels'!$C$39,1),0,\nIF(RIGHT($D53,1)=RIGHT('Efficiency Levels'!$C$39,1),SUM(OFFSET(AU44,-RIGHT($D53,1),0,RIGHT($D53,1),1)),\"ERROR\"))))","v":0},{"$f":"IF(AV$24<STANDARD_YEAR,AV44,\nIF(RIGHT($D53,1)>RIGHT('Efficiency Levels'!$C$39,1),AV44,\nIF(RIGHT($D53,1)<RIGHT('Efficiency Levels'!$C$39,1),0,\nIF(RIGHT($D53,1)=RIGHT('Efficiency Levels'!$C$39,1),SUM(OFFSET(AV44,-RIGHT($D53,1),0,RIGHT($D53,1),1)),\"ERROR\"))))","v":0},{"$f":"IF(AW$24<STANDARD_YEAR,AW44,\nIF(RIGHT($D53,1)>RIGHT('Efficiency Levels'!$C$39,1),AW44,\nIF(RIGHT($D53,1)<RIGHT('Efficiency Levels'!$C$39,1),0,\nIF(RIGHT($D53,1)=RIGHT('Efficiency Levels'!$C$39,1),SUM(OFFSET(AW44,-RIGHT($D53,1),0,RIGHT($D53,1),1)),\"ERROR\"))))","v":0},{"$f":"IF(AX$24<STANDARD_YEAR,AX44,\nIF(RIGHT($D53,1)>RIGHT('Efficiency Levels'!$C$39,1),AX44,\nIF(RIGHT($D53,1)<RIGHT('Efficiency Levels'!$C$39,1),0,\nIF(RIGHT($D53,1)=RIGHT('Efficiency Levels'!$C$39,1),SUM(OFFSET(AX44,-RIGHT($D53,1),0,RIGHT($D53,1),1)),\"ERROR\"))))","v":0},{"$f":"IF(AY$24<STANDARD_YEAR,AY44,\nIF(RIGHT($D53,1)>RIGHT('Efficiency Levels'!$C$39,1),AY44,\nIF(RIGHT($D53,1)<RIGHT('Efficiency Levels'!$C$39,1),0,\nIF(RIGHT($D53,1)=RIGHT('Efficiency Levels'!$C$39,1),SUM(OFFSET(AY44,-RIGHT($D53,1),0,RIGHT($D53,1),1)),\"ERROR\"))))","v":0},{"$f":"IF(AZ$24<STANDARD_YEAR,AZ44,\nIF(RIGHT($D53,1)>RIGHT('Efficiency Levels'!$C$39,1),AZ44,\nIF(RIGHT($D53,1)<RIGHT('Efficiency Levels'!$C$39,1),0,\nIF(RIGHT($D53,1)=RIGHT('Efficiency Levels'!$C$39,1),SUM(OFFSET(AZ44,-RIGHT($D53,1),0,RIGHT($D53,1),1)),\"ERROR\"))))","v":0},{"$f":"IF(BA$24<STANDARD_YEAR,BA44,\nIF(RIGHT($D53,1)>RIGHT('Efficiency Levels'!$C$39,1),BA44,\nIF(RIGHT($D53,1)<RIGHT('Efficiency Levels'!$C$39,1),0,\nIF(RIGHT($D53,1)=RIGHT('Efficiency Levels'!$C$39,1),SUM(OFFSET(BA44,-RIGHT($D53,1),0,RIGHT($D53,1),1)),\"ERROR\"))))","v":0},{"$f":"IF(BB$24<STANDARD_YEAR,BB44,\nIF(RIGHT($D53,1)>RIGHT('Efficiency Levels'!$C$39,1),BB44,\nIF(RIGHT($D53,1)<RIGHT('Efficiency Levels'!$C$39,1),0,\nIF(RIGHT($D53,1)=RIGHT('Efficiency Levels'!$C$39,1),SUM(OFFSET(BB44,-RIGHT($D53,1),0,RIGHT($D53,1),1)),\"ERROR\"))))","v":0},{"$f":"IF(BC$24<STANDARD_YEAR,BC44,\nIF(RIGHT($D53,1)>RIGHT('Efficiency Levels'!$C$39,1),BC44,\nIF(RIGHT($D53,1)<RIGHT('Efficiency Levels'!$C$39,1),0,\nIF(RIGHT($D53,1)=RIGHT('Efficiency Levels'!$C$39,1),SUM(OFFSET(BC44,-RIGHT($D53,1),0,RIGHT($D53,1),1)),\"ERROR\"))))","v":0},{"$f":"IF(BD$24<STANDARD_YEAR,BD44,\nIF(RIGHT($D53,1)>RIGHT('Efficiency Levels'!$C$39,1),BD44,\nIF(RIGHT($D53,1)<RIGHT('Efficiency Levels'!$C$39,1),0,\nIF(RIGHT($D53,1)=RIGHT('Efficiency Levels'!$C$39,1),SUM(OFFSET(BD44,-RIGHT($D53,1),0,RIGHT($D53,1),1)),\"ERROR\"))))","v":0},{"$f":"IF(BE$24<STANDARD_YEAR,BE44,\nIF(RIGHT($D53,1)>RIGHT('Efficiency Levels'!$C$39,1),BE44,\nIF(RIGHT($D53,1)<RIGHT('Efficiency Levels'!$C$39,1),0,\nIF(RIGHT($D53,1)=RIGHT('Efficiency Levels'!$C$39,1),SUM(OFFSET(BE44,-RIGHT($D53,1),0,RIGHT($D53,1),1)),\"ERROR\"))))","v":0},{"$f":"IF(BF$24<STANDARD_YEAR,BF44,\nIF(RIGHT($D53,1)>RIGHT('Efficiency Levels'!$C$39,1),BF44,\nIF(RIGHT($D53,1)<RIGHT('Efficiency Levels'!$C$39,1),0,\nIF(RIGHT($D53,1)=RIGHT('Efficiency Levels'!$C$39,1),SUM(OFFSET(BF44,-RIGHT($D53,1),0,RIGHT($D53,1),1)),\"ERROR\"))))","v":0},{"$f":"IF(BG$24<STANDARD_YEAR,BG44,\nIF(RIGHT($D53,1)>RIGHT('Efficiency Levels'!$C$39,1),BG44,\nIF(RIGHT($D53,1)<RIGHT('Efficiency Levels'!$C$39,1),0,\nIF(RIGHT($D53,1)=RIGHT('Efficiency Levels'!$C$39,1),SUM(OFFSET(BG44,-RIGHT($D53,1),0,RIGHT($D53,1),1)),\"ERROR\"))))","v":0},{"$f":"IF(BH$24<STANDARD_YEAR,BH44,\nIF(RIGHT($D53,1)>RIGHT('Efficiency Levels'!$C$39,1),BH44,\nIF(RIGHT($D53,1)<RIGHT('Efficiency Levels'!$C$39,1),0,\nIF(RIGHT($D53,1)=RIGHT('Efficiency Levels'!$C$39,1),SUM(OFFSET(BH44,-RIGHT($D53,1),0,RIGHT($D53,1),1)),\"ERROR\"))))","v":0},{"$f":"IF(BI$24<STANDARD_YEAR,BI44,\nIF(RIGHT($D53,1)>RIGHT('Efficiency Levels'!$C$39,1),BI44,\nIF(RIGHT($D53,1)<RIGHT('Efficiency Levels'!$C$39,1),0,\nIF(RIGHT($D53,1)=RIGHT('Efficiency Levels'!$C$39,1),SUM(OFFSET(BI44,-RIGHT($D53,1),0,RIGHT($D53,1),1)),\"ERROR\"))))","v":0},{"$f":"IF(BJ$24<STANDARD_YEAR,BJ44,\nIF(RIGHT($D53,1)>RIGHT('Efficiency Levels'!$C$39,1),BJ44,\nIF(RIGHT($D53,1)<RIGHT('Efficiency Levels'!$C$39,1),0,\nIF(RIGHT($D53,1)=RIGHT('Efficiency Levels'!$C$39,1),SUM(OFFSET(BJ44,-RIGHT($D53,1),0,RIGHT($D53,1),1)),\"ERROR\"))))","v":0}]
[null,null,null,"EL2",{"$f":"OFFSET('Efficiency Levels'!$D$11,MATCH($C$39,'Efficiency Levels'!$C$9:$C$1002,0)+RIGHT(D54,1),0)","v":317},null,null,null,{"$f":"IF(I$24<STANDARD_YEAR,I45,\nIF(RIGHT($D54,1)>RIGHT('Efficiency Levels'!$C$39,1),I45,\nIF(RIGHT($D54,1)<RIGHT('Efficiency Levels'!$C$39,1),0,\nIF(RIGHT($D54,1)=RIGHT('Efficiency Levels'!$C$39,1),SUM(OFFSET(I45,-RIGHT($D54,1),0,RIGHT($D54,1),1)),\"ERROR\"))))","v":0},{"$f":"IF(J$24<STANDARD_YEAR,J45,\nIF(RIGHT($D54,1)>RIGHT('Efficiency Levels'!$C$39,1),J45,\nIF(RIGHT($D54,1)<RIGHT('Efficiency Levels'!$C$39,1),0,\nIF(RIGHT($D54,1)=RIGHT('Efficiency Levels'!$C$39,1),SUM(OFFSET(J45,-RIGHT($D54,1),0,RIGHT($D54,1),1)),\"ERROR\"))))","v":0},{"$f":"IF(K$24<STANDARD_YEAR,K45,\nIF(RIGHT($D54,1)>RIGHT('Efficiency Levels'!$C$39,1),K45,\nIF(RIGHT($D54,1)<RIGHT('Efficiency Levels'!$C$39,1),0,\nIF(RIGHT($D54,1)=RIGHT('Efficiency Levels'!$C$39,1),SUM(OFFSET(K45,-RIGHT($D54,1),0,RIGHT($D54,1),1)),\"ERROR\"))))","v":0},{"$f":"IF(L$24<STANDARD_YEAR,L45,\nIF(RIGHT($D54,1)>RIGHT('Efficiency Levels'!$C$39,1),L45,\nIF(RIGHT($D54,1)<RIGHT('Efficiency Levels'!$C$39,1),0,\nIF(RIGHT($D54,1)=RIGHT('Efficiency Levels'!$C$39,1),SUM(OFFSET(L45,-RIGHT($D54,1),0,RIGHT($D54,1),1)),\"ERROR\"))))","v":0},{"$f":"IF(M$24<STANDARD_YEAR,M45,\nIF(RIGHT($D54,1)>RIGHT('Efficiency Levels'!$C$39,1),M45,\nIF(RIGHT($D54,1)<RIGHT('Efficiency Levels'!$C$39,1),0,\nIF(RIGHT($D54,1)=RIGHT('Efficiency Levels'!$C$39,1),SUM(OFFSET(M45,-RIGHT($D54,1),0,RIGHT($D54,1),1)),\"ERROR\"))))","v":0},{"$f":"IF(N$24<STANDARD_YEAR,N45,\nIF(RIGHT($D54,1)>RIGHT('Efficiency Levels'!$C$39,1),N45,\nIF(RIGHT($D54,1)<RIGHT('Efficiency Levels'!$C$39,1),0,\nIF(RIGHT($D54,1)=RIGHT('Efficiency Levels'!$C$39,1),SUM(OFFSET(N45,-RIGHT($D54,1),0,RIGHT($D54,1),1)),\"ERROR\"))))","v":0},{"$f":"IF(O$24<STANDARD_YEAR,O45,\nIF(RIGHT($D54,1)>RIGHT('Efficiency Levels'!$C$39,1),O45,\nIF(RIGHT($D54,1)<RIGHT('Efficiency Levels'!$C$39,1),0,\nIF(RIGHT($D54,1)=RIGHT('Efficiency Levels'!$C$39,1),SUM(OFFSET(O45,-RIGHT($D54,1),0,RIGHT($D54,1),1)),\"ERROR\"))))","v":0},{"$f":"IF(P$24<STANDARD_YEAR,P45,\nIF(RIGHT($D54,1)>RIGHT('Efficiency Levels'!$C$39,1),P45,\nIF(RIGHT($D54,1)<RIGHT('Efficiency Levels'!$C$39,1),0,\nIF(RIGHT($D54,1)=RIGHT('Efficiency Levels'!$C$39,1),SUM(OFFSET(P45,-RIGHT($D54,1),0,RIGHT($D54,1),1)),\"ERROR\"))))","v":0},{"$f":"IF(Q$24<STANDARD_YEAR,Q45,\nIF(RIGHT($D54,1)>RIGHT('Efficiency Levels'!$C$39,1),Q45,\nIF(RIGHT($D54,1)<RIGHT('Efficiency Levels'!$C$39,1),0,\nIF(RIGHT($D54,1)=RIGHT('Efficiency Levels'!$C$39,1),SUM(OFFSET(Q45,-RIGHT($D54,1),0,RIGHT($D54,1),1)),\"ERROR\"))))","v":0},{"$f":"IF(R$24<STANDARD_YEAR,R45,\nIF(RIGHT($D54,1)>RIGHT('Efficiency Levels'!$C$39,1),R45,\nIF(RIGHT($D54,1)<RIGHT('Efficiency Levels'!$C$39,1),0,\nIF(RIGHT($D54,1)=RIGHT('Efficiency Levels'!$C$39,1),SUM(OFFSET(R45,-RIGHT($D54,1),0,RIGHT($D54,1),1)),\"ERROR\"))))","v":0},{"$f":"IF(S$24<STANDARD_YEAR,S45,\nIF(RIGHT($D54,1)>RIGHT('Efficiency Levels'!$C$39,1),S45,\nIF(RIGHT($D54,1)<RIGHT('Efficiency Levels'!$C$39,1),0,\nIF(RIGHT($D54,1)=RIGHT('Efficiency Levels'!$C$39,1),SUM(OFFSET(S45,-RIGHT($D54,1),0,RIGHT($D54,1),1)),\"ERROR\"))))","v":0},{"$f":"IF(T$24<STANDARD_YEAR,T45,\nIF(RIGHT($D54,1)>RIGHT('Efficiency Levels'!$C$39,1),T45,\nIF(RIGHT($D54,1)<RIGHT('Efficiency Levels'!$C$39,1),0,\nIF(RIGHT($D54,1)=RIGHT('Efficiency Levels'!$C$39,1),SUM(OFFSET(T45,-RIGHT($D54,1),0,RIGHT($D54,1),1)),\"ERROR\"))))","v":0},{"$f":"IF(U$24<STANDARD_YEAR,U45,\nIF(RIGHT($D54,1)>RIGHT('Efficiency Levels'!$C$39,1),U45,\nIF(RIGHT($D54,1)<RIGHT('Efficiency Levels'!$C$39,1),0,\nIF(RIGHT($D54,1)=RIGHT('Efficiency Levels'!$C$39,1),SUM(OFFSET(U45,-RIGHT($D54,1),0,RIGHT($D54,1),1)),\"ERROR\"))))","v":0},{"$f":"IF(V$24<STANDARD_YEAR,V45,\nIF(RIGHT($D54,1)>RIGHT('Efficiency Levels'!$C$39,1),V45,\nIF(RIGHT($D54,1)<RIGHT('Efficiency Levels'!$C$39,1),0,\nIF(RIGHT($D54,1)=RIGHT('Efficiency Levels'!$C$39,1),SUM(OFFSET(V45,-RIGHT($D54,1),0,RIGHT($D54,1),1)),\"ERROR\"))))","v":0},{"$f":"IF(W$24<STANDARD_YEAR,W45,\nIF(RIGHT($D54,1)>RIGHT('Efficiency Levels'!$C$39,1),W45,\nIF(RIGHT($D54,1)<RIGHT('Efficiency Levels'!$C$39,1),0,\nIF(RIGHT($D54,1)=RIGHT('Efficiency Levels'!$C$39,1),SUM(OFFSET(W45,-RIGHT($D54,1),0,RIGHT($D54,1),1)),\"ERROR\"))))","v":0},{"$f":"IF(X$24<STANDARD_YEAR,X45,\nIF(RIGHT($D54,1)>RIGHT('Efficiency Levels'!$C$39,1),X45,\nIF(RIGHT($D54,1)<RIGHT('Efficiency Levels'!$C$39,1),0,\nIF(RIGHT($D54,1)=RIGHT('Efficiency Levels'!$C$39,1),SUM(OFFSET(X45,-RIGHT($D54,1),0,RIGHT($D54,1),1)),\"ERROR\"))))","v":0},{"$f":"IF(Y$24<STANDARD_YEAR,Y45,\nIF(RIGHT($D54,1)>RIGHT('Efficiency Levels'!$C$39,1),Y45,\nIF(RIGHT($D54,1)<RIGHT('Efficiency Levels'!$C$39,1),0,\nIF(RIGHT($D54,1)=RIGHT('Efficiency Levels'!$C$39,1),SUM(OFFSET(Y45,-RIGHT($D54,1),0,RIGHT($D54,1),1)),\"ERROR\"))))","v":0},{"$f":"IF(Z$24<STANDARD_YEAR,Z45,\nIF(RIGHT($D54,1)>RIGHT('Efficiency Levels'!$C$39,1),Z45,\nIF(RIGHT($D54,1)<RIGHT('Efficiency Levels'!$C$39,1),0,\nIF(RIGHT($D54,1)=RIGHT('Efficiency Levels'!$C$39,1),SUM(OFFSET(Z45,-RIGHT($D54,1),0,RIGHT($D54,1),1)),\"ERROR\"))))","v":0},{"$f":"IF(AA$24<STANDARD_YEAR,AA45,\nIF(RIGHT($D54,1)>RIGHT('Efficiency Levels'!$C$39,1),AA45,\nIF(RIGHT($D54,1)<RIGHT('Efficiency Levels'!$C$39,1),0,\nIF(RIGHT($D54,1)=RIGHT('Efficiency Levels'!$C$39,1),SUM(OFFSET(AA45,-RIGHT($D54,1),0,RIGHT($D54,1),1)),\"ERROR\"))))","v":0},{"$f":"IF(AB$24<STANDARD_YEAR,AB45,\nIF(RIGHT($D54,1)>RIGHT('Efficiency Levels'!$C$39,1),AB45,\nIF(RIGHT($D54,1)<RIGHT('Efficiency Levels'!$C$39,1),0,\nIF(RIGHT($D54,1)=RIGHT('Efficiency Levels'!$C$39,1),SUM(OFFSET(AB45,-RIGHT($D54,1),0,RIGHT($D54,1),1)),\"ERROR\"))))","v":0},{"$f":"IF(AC$24<STANDARD_YEAR,AC45,\nIF(RIGHT($D54,1)>RIGHT('Efficiency Levels'!$C$39,1),AC45,\nIF(RIGHT($D54,1)<RIGHT('Efficiency Levels'!$C$39,1),0,\nIF(RIGHT($D54,1)=RIGHT('Efficiency Levels'!$C$39,1),SUM(OFFSET(AC45,-RIGHT($D54,1),0,RIGHT($D54,1),1)),\"ERROR\"))))","v":0},{"$f":"IF(AD$24<STANDARD_YEAR,AD45,\nIF(RIGHT($D54,1)>RIGHT('Efficiency Levels'!$C$39,1),AD45,\nIF(RIGHT($D54,1)<RIGHT('Efficiency Levels'!$C$39,1),0,\nIF(RIGHT($D54,1)=RIGHT('Efficiency Levels'!$C$39,1),SUM(OFFSET(AD45,-RIGHT($D54,1),0,RIGHT($D54,1),1)),\"ERROR\"))))","v":0},{"$f":"IF(AE$24<STANDARD_YEAR,AE45,\nIF(RIGHT($D54,1)>RIGHT('Efficiency Levels'!$C$39,1),AE45,\nIF(RIGHT($D54,1)<RIGHT('Efficiency Levels'!$C$39,1),0,\nIF(RIGHT($D54,1)=RIGHT('Efficiency Levels'!$C$39,1),SUM(OFFSET(AE45,-RIGHT($D54,1),0,RIGHT($D54,1),1)),\"ERROR\"))))","v":0},{"$f":"IF(AF$24<STANDARD_YEAR,AF45,\nIF(RIGHT($D54,1)>RIGHT('Efficiency Levels'!$C$39,1),AF45,\nIF(RIGHT($D54,1)<RIGHT('Efficiency Levels'!$C$39,1),0,\nIF(RIGHT($D54,1)=RIGHT('Efficiency Levels'!$C$39,1),SUM(OFFSET(AF45,-RIGHT($D54,1),0,RIGHT($D54,1),1)),\"ERROR\"))))","v":0},{"$f":"IF(AG$24<STANDARD_YEAR,AG45,\nIF(RIGHT($D54,1)>RIGHT('Efficiency Levels'!$C$39,1),AG45,\nIF(RIGHT($D54,1)<RIGHT('Efficiency Levels'!$C$39,1),0,\nIF(RIGHT($D54,1)=RIGHT('Efficiency Levels'!$C$39,1),SUM(OFFSET(AG45,-RIGHT($D54,1),0,RIGHT($D54,1),1)),\"ERROR\"))))","v":0},{"$f":"IF(AH$24<STANDARD_YEAR,AH45,\nIF(RIGHT($D54,1)>RIGHT('Efficiency Levels'!$C$39,1),AH45,\nIF(RIGHT($D54,1)<RIGHT('Efficiency Levels'!$C$39,1),0,\nIF(RIGHT($D54,1)=RIGHT('Efficiency Levels'!$C$39,1),SUM(OFFSET(AH45,-RIGHT($D54,1),0,RIGHT($D54,1),1)),\"ERROR\"))))","v":0},{"$f":"IF(AI$24<STANDARD_YEAR,AI45,\nIF(RIGHT($D54,1)>RIGHT('Efficiency Levels'!$C$39,1),AI45,\nIF(RIGHT($D54,1)<RIGHT('Efficiency Levels'!$C$39,1),0,\nIF(RIGHT($D54,1)=RIGHT('Efficiency Levels'!$C$39,1),SUM(OFFSET(AI45,-RIGHT($D54,1),0,RIGHT($D54,1),1)),\"ERROR\"))))","v":0},{"$f":"IF(AJ$24<STANDARD_YEAR,AJ45,\nIF(RIGHT($D54,1)>RIGHT('Efficiency Levels'!$C$39,1),AJ45,\nIF(RIGHT($D54,1)<RIGHT('Efficiency Levels'!$C$39,1),0,\nIF(RIGHT($D54,1)=RIGHT('Efficiency Levels'!$C$39,1),SUM(OFFSET(AJ45,-RIGHT($D54,1),0,RIGHT($D54,1),1)),\"ERROR\"))))","v":0},{"$f":"IF(AK$24<STANDARD_YEAR,AK45,\nIF(RIGHT($D54,1)>RIGHT('Efficiency Levels'!$C$39,1),AK45,\nIF(RIGHT($D54,1)<RIGHT('Efficiency Levels'!$C$39,1),0,\nIF(RIGHT($D54,1)=RIGHT('Efficiency Levels'!$C$39,1),SUM(OFFSET(AK45,-RIGHT($D54,1),0,RIGHT($D54,1),1)),\"ERROR\"))))","v":0},{"$f":"IF(AL$24<STANDARD_YEAR,AL45,\nIF(RIGHT($D54,1)>RIGHT('Efficiency Levels'!$C$39,1),AL45,\nIF(RIGHT($D54,1)<RIGHT('Efficiency Levels'!$C$39,1),0,\nIF(RIGHT($D54,1)=RIGHT('Efficiency Levels'!$C$39,1),SUM(OFFSET(AL45,-RIGHT($D54,1),0,RIGHT($D54,1),1)),\"ERROR\"))))","v":0},{"$f":"IF(AM$24<STANDARD_YEAR,AM45,\nIF(RIGHT($D54,1)>RIGHT('Efficiency Levels'!$C$39,1),AM45,\nIF(RIGHT($D54,1)<RIGHT('Efficiency Levels'!$C$39,1),0,\nIF(RIGHT($D54,1)=RIGHT('Efficiency Levels'!$C$39,1),SUM(OFFSET(AM45,-RIGHT($D54,1),0,RIGHT($D54,1),1)),\"ERROR\"))))","v":0},{"$f":"IF(AN$24<STANDARD_YEAR,AN45,\nIF(RIGHT($D54,1)>RIGHT('Efficiency Levels'!$C$39,1),AN45,\nIF(RIGHT($D54,1)<RIGHT('Efficiency Levels'!$C$39,1),0,\nIF(RIGHT($D54,1)=RIGHT('Efficiency Levels'!$C$39,1),SUM(OFFSET(AN45,-RIGHT($D54,1),0,RIGHT($D54,1),1)),\"ERROR\"))))","v":0},{"$f":"IF(AO$24<STANDARD_YEAR,AO45,\nIF(RIGHT($D54,1)>RIGHT('Efficiency Levels'!$C$39,1),AO45,\nIF(RIGHT($D54,1)<RIGHT('Efficiency Levels'!$C$39,1),0,\nIF(RIGHT($D54,1)=RIGHT('Efficiency Levels'!$C$39,1),SUM(OFFSET(AO45,-RIGHT($D54,1),0,RIGHT($D54,1),1)),\"ERROR\"))))","v":0},{"$f":"IF(AP$24<STANDARD_YEAR,AP45,\nIF(RIGHT($D54,1)>RIGHT('Efficiency Levels'!$C$39,1),AP45,\nIF(RIGHT($D54,1)<RIGHT('Efficiency Levels'!$C$39,1),0,\nIF(RIGHT($D54,1)=RIGHT('Efficiency Levels'!$C$39,1),SUM(OFFSET(AP45,-RIGHT($D54,1),0,RIGHT($D54,1),1)),\"ERROR\"))))","v":0},{"$f":"IF(AQ$24<STANDARD_YEAR,AQ45,\nIF(RIGHT($D54,1)>RIGHT('Efficiency Levels'!$C$39,1),AQ45,\nIF(RIGHT($D54,1)<RIGHT('Efficiency Levels'!$C$39,1),0,\nIF(RIGHT($D54,1)=RIGHT('Efficiency Levels'!$C$39,1),SUM(OFFSET(AQ45,-RIGHT($D54,1),0,RIGHT($D54,1),1)),\"ERROR\"))))","v":0},{"$f":"IF(AR$24<STANDARD_YEAR,AR45,\nIF(RIGHT($D54,1)>RIGHT('Efficiency Levels'!$C$39,1),AR45,\nIF(RIGHT($D54,1)<RIGHT('Efficiency Levels'!$C$39,1),0,\nIF(RIGHT($D54,1)=RIGHT('Efficiency Levels'!$C$39,1),SUM(OFFSET(AR45,-RIGHT($D54,1),0,RIGHT($D54,1),1)),\"ERROR\"))))","v":0},{"$f":"IF(AS$24<STANDARD_YEAR,AS45,\nIF(RIGHT($D54,1)>RIGHT('Efficiency Levels'!$C$39,1),AS45,\nIF(RIGHT($D54,1)<RIGHT('Efficiency Levels'!$C$39,1),0,\nIF(RIGHT($D54,1)=RIGHT('Efficiency Levels'!$C$39,1),SUM(OFFSET(AS45,-RIGHT($D54,1),0,RIGHT($D54,1),1)),\"ERROR\"))))","v":0},{"$f":"IF(AT$24<STANDARD_YEAR,AT45,\nIF(RIGHT($D54,1)>RIGHT('Efficiency Levels'!$C$39,1),AT45,\nIF(RIGHT($D54,1)<RIGHT('Efficiency Levels'!$C$39,1),0,\nIF(RIGHT($D54,1)=RIGHT('Efficiency Levels'!$C$39,1),SUM(OFFSET(AT45,-RIGHT($D54,1),0,RIGHT($D54,1),1)),\"ERROR\"))))","v":0},{"$f":"IF(AU$24<STANDARD_YEAR,AU45,\nIF(RIGHT($D54,1)>RIGHT('Efficiency Levels'!$C$39,1),AU45,\nIF(RIGHT($D54,1)<RIGHT('Efficiency Levels'!$C$39,1),0,\nIF(RIGHT($D54,1)=RIGHT('Efficiency Levels'!$C$39,1),SUM(OFFSET(AU45,-RIGHT($D54,1),0,RIGHT($D54,1),1)),\"ERROR\"))))","v":0},{"$f":"IF(AV$24<STANDARD_YEAR,AV45,\nIF(RIGHT($D54,1)>RIGHT('Efficiency Levels'!$C$39,1),AV45,\nIF(RIGHT($D54,1)<RIGHT('Efficiency Levels'!$C$39,1),0,\nIF(RIGHT($D54,1)=RIGHT('Efficiency Levels'!$C$39,1),SUM(OFFSET(AV45,-RIGHT($D54,1),0,RIGHT($D54,1),1)),\"ERROR\"))))","v":0},{"$f":"IF(AW$24<STANDARD_YEAR,AW45,\nIF(RIGHT($D54,1)>RIGHT('Efficiency Levels'!$C$39,1),AW45,\nIF(RIGHT($D54,1)<RIGHT('Efficiency Levels'!$C$39,1),0,\nIF(RIGHT($D54,1)=RIGHT('Efficiency Levels'!$C$39,1),SUM(OFFSET(AW45,-RIGHT($D54,1),0,RIGHT($D54,1),1)),\"ERROR\"))))","v":0},{"$f":"IF(AX$24<STANDARD_YEAR,AX45,\nIF(RIGHT($D54,1)>RIGHT('Efficiency Levels'!$C$39,1),AX45,\nIF(RIGHT($D54,1)<RIGHT('Efficiency Levels'!$C$39,1),0,\nIF(RIGHT($D54,1)=RIGHT('Efficiency Levels'!$C$39,1),SUM(OFFSET(AX45,-RIGHT($D54,1),0,RIGHT($D54,1),1)),\"ERROR\"))))","v":0},{"$f":"IF(AY$24<STANDARD_YEAR,AY45,\nIF(RIGHT($D54,1)>RIGHT('Efficiency Levels'!$C$39,1),AY45,\nIF(RIGHT($D54,1)<RIGHT('Efficiency Levels'!$C$39,1),0,\nIF(RIGHT($D54,1)=RIGHT('Efficiency Levels'!$C$39,1),SUM(OFFSET(AY45,-RIGHT($D54,1),0,RIGHT($D54,1),1)),\"ERROR\"))))","v":0},{"$f":"IF(AZ$24<STANDARD_YEAR,AZ45,\nIF(RIGHT($D54,1)>RIGHT('Efficiency Levels'!$C$39,1),AZ45,\nIF(RIGHT($D54,1)<RIGHT('Efficiency Levels'!$C$39,1),0,\nIF(RIGHT($D54,1)=RIGHT('Efficiency Levels'!$C$39,1),SUM(OFFSET(AZ45,-RIGHT($D54,1),0,RIGHT($D54,1),1)),\"ERROR\"))))","v":0},{"$f":"IF(BA$24<STANDARD_YEAR,BA45,\nIF(RIGHT($D54,1)>RIGHT('Efficiency Levels'!$C$39,1),BA45,\nIF(RIGHT($D54,1)<RIGHT('Efficiency Levels'!$C$39,1),0,\nIF(RIGHT($D54,1)=RIGHT('Efficiency Levels'!$C$39,1),SUM(OFFSET(BA45,-RIGHT($D54,1),0,RIGHT($D54,1),1)),\"ERROR\"))))","v":0},{"$f":"IF(BB$24<STANDARD_YEAR,BB45,\nIF(RIGHT($D54,1)>RIGHT('Efficiency Levels'!$C$39,1),BB45,\nIF(RIGHT($D54,1)<RIGHT('Efficiency Levels'!$C$39,1),0,\nIF(RIGHT($D54,1)=RIGHT('Efficiency Levels'!$C$39,1),SUM(OFFSET(BB45,-RIGHT($D54,1),0,RIGHT($D54,1),1)),\"ERROR\"))))","v":0},{"$f":"IF(BC$24<STANDARD_YEAR,BC45,\nIF(RIGHT($D54,1)>RIGHT('Efficiency Levels'!$C$39,1),BC45,\nIF(RIGHT($D54,1)<RIGHT('Efficiency Levels'!$C$39,1),0,\nIF(RIGHT($D54,1)=RIGHT('Efficiency Levels'!$C$39,1),SUM(OFFSET(BC45,-RIGHT($D54,1),0,RIGHT($D54,1),1)),\"ERROR\"))))","v":0},{"$f":"IF(BD$24<STANDARD_YEAR,BD45,\nIF(RIGHT($D54,1)>RIGHT('Efficiency Levels'!$C$39,1),BD45,\nIF(RIGHT($D54,1)<RIGHT('Efficiency Levels'!$C$39,1),0,\nIF(RIGHT($D54,1)=RIGHT('Efficiency Levels'!$C$39,1),SUM(OFFSET(BD45,-RIGHT($D54,1),0,RIGHT($D54,1),1)),\"ERROR\"))))","v":0},{"$f":"IF(BE$24<STANDARD_YEAR,BE45,\nIF(RIGHT($D54,1)>RIGHT('Efficiency Levels'!$C$39,1),BE45,\nIF(RIGHT($D54,1)<RIGHT('Efficiency Levels'!$C$39,1),0,\nIF(RIGHT($D54,1)=RIGHT('Efficiency Levels'!$C$39,1),SUM(OFFSET(BE45,-RIGHT($D54,1),0,RIGHT($D54,1),1)),\"ERROR\"))))","v":0},{"$f":"IF(BF$24<STANDARD_YEAR,BF45,\nIF(RIGHT($D54,1)>RIGHT('Efficiency Levels'!$C$39,1),BF45,\nIF(RIGHT($D54,1)<RIGHT('Efficiency Levels'!$C$39,1),0,\nIF(RIGHT($D54,1)=RIGHT('Efficiency Levels'!$C$39,1),SUM(OFFSET(BF45,-RIGHT($D54,1),0,RIGHT($D54,1),1)),\"ERROR\"))))","v":0},{"$f":"IF(BG$24<STANDARD_YEAR,BG45,\nIF(RIGHT($D54,1)>RIGHT('Efficiency Levels'!$C$39,1),BG45,\nIF(RIGHT($D54,1)<RIGHT('Efficiency Levels'!$C$39,1),0,\nIF(RIGHT($D54,1)=RIGHT('Efficiency Levels'!$C$39,1),SUM(OFFSET(BG45,-RIGHT($D54,1),0,RIGHT($D54,1),1)),\"ERROR\"))))","v":0},{"$f":"IF(BH$24<STANDARD_YEAR,BH45,\nIF(RIGHT($D54,1)>RIGHT('Efficiency Levels'!$C$39,1),BH45,\nIF(RIGHT($D54,1)<RIGHT('Efficiency Levels'!$C$39,1),0,\nIF(RIGHT($D54,1)=RIGHT('Efficiency Levels'!$C$39,1),SUM(OFFSET(BH45,-RIGHT($D54,1),0,RIGHT($D54,1),1)),\"ERROR\"))))","v":0},{"$f":"IF(BI$24<STANDARD_YEAR,BI45,\nIF(RIGHT($D54,1)>RIGHT('Efficiency Levels'!$C$39,1),BI45,\nIF(RIGHT($D54,1)<RIGHT('Efficiency Levels'!$C$39,1),0,\nIF(RIGHT($D54,1)=RIGHT('Efficiency Levels'!$C$39,1),SUM(OFFSET(BI45,-RIGHT($D54,1),0,RIGHT($D54,1),1)),\"ERROR\"))))","v":0},{"$f":"IF(BJ$24<STANDARD_YEAR,BJ45,\nIF(RIGHT($D54,1)>RIGHT('Efficiency Levels'!$C$39,1),BJ45,\nIF(RIGHT($D54,1)<RIGHT('Efficiency Levels'!$C$39,1),0,\nIF(RIGHT($D54,1)=RIGHT('Efficiency Levels'!$C$39,1),SUM(OFFSET(BJ45,-RIGHT($D54,1),0,RIGHT($D54,1),1)),\"ERROR\"))))","v":0}]
[null,null,null,"EL3",{"$f":"OFFSET('Efficiency Levels'!$D$11,MATCH($C$39,'Efficiency Levels'!$C$9:$C$1002,0)+RIGHT(D55,1),0)","v":312},null,null,null,{"$f":"IF(I$24<STANDARD_YEAR,I46,\nIF(RIGHT($D55,1)>RIGHT('Efficiency Levels'!$C$39,1),I46,\nIF(RIGHT($D55,1)<RIGHT('Efficiency Levels'!$C$39,1),0,\nIF(RIGHT($D55,1)=RIGHT('Efficiency Levels'!$C$39,1),SUM(OFFSET(I46,-RIGHT($D55,1),0,RIGHT($D55,1),1)),\"ERROR\"))))","v":0},{"$f":"IF(J$24<STANDARD_YEAR,J46,\nIF(RIGHT($D55,1)>RIGHT('Efficiency Levels'!$C$39,1),J46,\nIF(RIGHT($D55,1)<RIGHT('Efficiency Levels'!$C$39,1),0,\nIF(RIGHT($D55,1)=RIGHT('Efficiency Levels'!$C$39,1),SUM(OFFSET(J46,-RIGHT($D55,1),0,RIGHT($D55,1),1)),\"ERROR\"))))","v":0},{"$f":"IF(K$24<STANDARD_YEAR,K46,\nIF(RIGHT($D55,1)>RIGHT('Efficiency Levels'!$C$39,1),K46,\nIF(RIGHT($D55,1)<RIGHT('Efficiency Levels'!$C$39,1),0,\nIF(RIGHT($D55,1)=RIGHT('Efficiency Levels'!$C$39,1),SUM(OFFSET(K46,-RIGHT($D55,1),0,RIGHT($D55,1),1)),\"ERROR\"))))","v":0},{"$f":"IF(L$24<STANDARD_YEAR,L46,\nIF(RIGHT($D55,1)>RIGHT('Efficiency Levels'!$C$39,1),L46,\nIF(RIGHT($D55,1)<RIGHT('Efficiency Levels'!$C$39,1),0,\nIF(RIGHT($D55,1)=RIGHT('Efficiency Levels'!$C$39,1),SUM(OFFSET(L46,-RIGHT($D55,1),0,RIGHT($D55,1),1)),\"ERROR\"))))","v":0},{"$f":"IF(M$24<STANDARD_YEAR,M46,\nIF(RIGHT($D55,1)>RIGHT('Efficiency Levels'!$C$39,1),M46,\nIF(RIGHT($D55,1)<RIGHT('Efficiency Levels'!$C$39,1),0,\nIF(RIGHT($D55,1)=RIGHT('Efficiency Levels'!$C$39,1),SUM(OFFSET(M46,-RIGHT($D55,1),0,RIGHT($D55,1),1)),\"ERROR\"))))","v":0},{"$f":"IF(N$24<STANDARD_YEAR,N46,\nIF(RIGHT($D55,1)>RIGHT('Efficiency Levels'!$C$39,1),N46,\nIF(RIGHT($D55,1)<RIGHT('Efficiency Levels'!$C$39,1),0,\nIF(RIGHT($D55,1)=RIGHT('Efficiency Levels'!$C$39,1),SUM(OFFSET(N46,-RIGHT($D55,1),0,RIGHT($D55,1),1)),\"ERROR\"))))","v":0},{"$f":"IF(O$24<STANDARD_YEAR,O46,\nIF(RIGHT($D55,1)>RIGHT('Efficiency Levels'!$C$39,1),O46,\nIF(RIGHT($D55,1)<RIGHT('Efficiency Levels'!$C$39,1),0,\nIF(RIGHT($D55,1)=RIGHT('Efficiency Levels'!$C$39,1),SUM(OFFSET(O46,-RIGHT($D55,1),0,RIGHT($D55,1),1)),\"ERROR\"))))","v":0},{"$f":"IF(P$24<STANDARD_YEAR,P46,\nIF(RIGHT($D55,1)>RIGHT('Efficiency Levels'!$C$39,1),P46,\nIF(RIGHT($D55,1)<RIGHT('Efficiency Levels'!$C$39,1),0,\nIF(RIGHT($D55,1)=RIGHT('Efficiency Levels'!$C$39,1),SUM(OFFSET(P46,-RIGHT($D55,1),0,RIGHT($D55,1),1)),\"ERROR\"))))","v":0},{"$f":"IF(Q$24<STANDARD_YEAR,Q46,\nIF(RIGHT($D55,1)>RIGHT('Efficiency Levels'!$C$39,1),Q46,\nIF(RIGHT($D55,1)<RIGHT('Efficiency Levels'!$C$39,1),0,\nIF(RIGHT($D55,1)=RIGHT('Efficiency Levels'!$C$39,1),SUM(OFFSET(Q46,-RIGHT($D55,1),0,RIGHT($D55,1),1)),\"ERROR\"))))","v":0},{"$f":"IF(R$24<STANDARD_YEAR,R46,\nIF(RIGHT($D55,1)>RIGHT('Efficiency Levels'!$C$39,1),R46,\nIF(RIGHT($D55,1)<RIGHT('Efficiency Levels'!$C$39,1),0,\nIF(RIGHT($D55,1)=RIGHT('Efficiency Levels'!$C$39,1),SUM(OFFSET(R46,-RIGHT($D55,1),0,RIGHT($D55,1),1)),\"ERROR\"))))","v":0},{"$f":"IF(S$24<STANDARD_YEAR,S46,\nIF(RIGHT($D55,1)>RIGHT('Efficiency Levels'!$C$39,1),S46,\nIF(RIGHT($D55,1)<RIGHT('Efficiency Levels'!$C$39,1),0,\nIF(RIGHT($D55,1)=RIGHT('Efficiency Levels'!$C$39,1),SUM(OFFSET(S46,-RIGHT($D55,1),0,RIGHT($D55,1),1)),\"ERROR\"))))","v":0},{"$f":"IF(T$24<STANDARD_YEAR,T46,\nIF(RIGHT($D55,1)>RIGHT('Efficiency Levels'!$C$39,1),T46,\nIF(RIGHT($D55,1)<RIGHT('Efficiency Levels'!$C$39,1),0,\nIF(RIGHT($D55,1)=RIGHT('Efficiency Levels'!$C$39,1),SUM(OFFSET(T46,-RIGHT($D55,1),0,RIGHT($D55,1),1)),\"ERROR\"))))","v":0},{"$f":"IF(U$24<STANDARD_YEAR,U46,\nIF(RIGHT($D55,1)>RIGHT('Efficiency Levels'!$C$39,1),U46,\nIF(RIGHT($D55,1)<RIGHT('Efficiency Levels'!$C$39,1),0,\nIF(RIGHT($D55,1)=RIGHT('Efficiency Levels'!$C$39,1),SUM(OFFSET(U46,-RIGHT($D55,1),0,RIGHT($D55,1),1)),\"ERROR\"))))","v":0},{"$f":"IF(V$24<STANDARD_YEAR,V46,\nIF(RIGHT($D55,1)>RIGHT('Efficiency Levels'!$C$39,1),V46,\nIF(RIGHT($D55,1)<RIGHT('Efficiency Levels'!$C$39,1),0,\nIF(RIGHT($D55,1)=RIGHT('Efficiency Levels'!$C$39,1),SUM(OFFSET(V46,-RIGHT($D55,1),0,RIGHT($D55,1),1)),\"ERROR\"))))","v":0},{"$f":"IF(W$24<STANDARD_YEAR,W46,\nIF(RIGHT($D55,1)>RIGHT('Efficiency Levels'!$C$39,1),W46,\nIF(RIGHT($D55,1)<RIGHT('Efficiency Levels'!$C$39,1),0,\nIF(RIGHT($D55,1)=RIGHT('Efficiency Levels'!$C$39,1),SUM(OFFSET(W46,-RIGHT($D55,1),0,RIGHT($D55,1),1)),\"ERROR\"))))","v":0},{"$f":"IF(X$24<STANDARD_YEAR,X46,\nIF(RIGHT($D55,1)>RIGHT('Efficiency Levels'!$C$39,1),X46,\nIF(RIGHT($D55,1)<RIGHT('Efficiency Levels'!$C$39,1),0,\nIF(RIGHT($D55,1)=RIGHT('Efficiency Levels'!$C$39,1),SUM(OFFSET(X46,-RIGHT($D55,1),0,RIGHT($D55,1),1)),\"ERROR\"))))","v":0},{"$f":"IF(Y$24<STANDARD_YEAR,Y46,\nIF(RIGHT($D55,1)>RIGHT('Efficiency Levels'!$C$39,1),Y46,\nIF(RIGHT($D55,1)<RIGHT('Efficiency Levels'!$C$39,1),0,\nIF(RIGHT($D55,1)=RIGHT('Efficiency Levels'!$C$39,1),SUM(OFFSET(Y46,-RIGHT($D55,1),0,RIGHT($D55,1),1)),\"ERROR\"))))","v":0},{"$f":"IF(Z$24<STANDARD_YEAR,Z46,\nIF(RIGHT($D55,1)>RIGHT('Efficiency Levels'!$C$39,1),Z46,\nIF(RIGHT($D55,1)<RIGHT('Efficiency Levels'!$C$39,1),0,\nIF(RIGHT($D55,1)=RIGHT('Efficiency Levels'!$C$39,1),SUM(OFFSET(Z46,-RIGHT($D55,1),0,RIGHT($D55,1),1)),\"ERROR\"))))","v":0},{"$f":"IF(AA$24<STANDARD_YEAR,AA46,\nIF(RIGHT($D55,1)>RIGHT('Efficiency Levels'!$C$39,1),AA46,\nIF(RIGHT($D55,1)<RIGHT('Efficiency Levels'!$C$39,1),0,\nIF(RIGHT($D55,1)=RIGHT('Efficiency Levels'!$C$39,1),SUM(OFFSET(AA46,-RIGHT($D55,1),0,RIGHT($D55,1),1)),\"ERROR\"))))","v":0},{"$f":"IF(AB$24<STANDARD_YEAR,AB46,\nIF(RIGHT($D55,1)>RIGHT('Efficiency Levels'!$C$39,1),AB46,\nIF(RIGHT($D55,1)<RIGHT('Efficiency Levels'!$C$39,1),0,\nIF(RIGHT($D55,1)=RIGHT('Efficiency Levels'!$C$39,1),SUM(OFFSET(AB46,-RIGHT($D55,1),0,RIGHT($D55,1),1)),\"ERROR\"))))","v":0},{"$f":"IF(AC$24<STANDARD_YEAR,AC46,\nIF(RIGHT($D55,1)>RIGHT('Efficiency Levels'!$C$39,1),AC46,\nIF(RIGHT($D55,1)<RIGHT('Efficiency Levels'!$C$39,1),0,\nIF(RIGHT($D55,1)=RIGHT('Efficiency Levels'!$C$39,1),SUM(OFFSET(AC46,-RIGHT($D55,1),0,RIGHT($D55,1),1)),\"ERROR\"))))","v":0},{"$f":"IF(AD$24<STANDARD_YEAR,AD46,\nIF(RIGHT($D55,1)>RIGHT('Efficiency Levels'!$C$39,1),AD46,\nIF(RIGHT($D55,1)<RIGHT('Efficiency Levels'!$C$39,1),0,\nIF(RIGHT($D55,1)=RIGHT('Efficiency Levels'!$C$39,1),SUM(OFFSET(AD46,-RIGHT($D55,1),0,RIGHT($D55,1),1)),\"ERROR\"))))","v":0},{"$f":"IF(AE$24<STANDARD_YEAR,AE46,\nIF(RIGHT($D55,1)>RIGHT('Efficiency Levels'!$C$39,1),AE46,\nIF(RIGHT($D55,1)<RIGHT('Efficiency Levels'!$C$39,1),0,\nIF(RIGHT($D55,1)=RIGHT('Efficiency Levels'!$C$39,1),SUM(OFFSET(AE46,-RIGHT($D55,1),0,RIGHT($D55,1),1)),\"ERROR\"))))","v":0},{"$f":"IF(AF$24<STANDARD_YEAR,AF46,\nIF(RIGHT($D55,1)>RIGHT('Efficiency Levels'!$C$39,1),AF46,\nIF(RIGHT($D55,1)<RIGHT('Efficiency Levels'!$C$39,1),0,\nIF(RIGHT($D55,1)=RIGHT('Efficiency Levels'!$C$39,1),SUM(OFFSET(AF46,-RIGHT($D55,1),0,RIGHT($D55,1),1)),\"ERROR\"))))","v":0},{"$f":"IF(AG$24<STANDARD_YEAR,AG46,\nIF(RIGHT($D55,1)>RIGHT('Efficiency Levels'!$C$39,1),AG46,\nIF(RIGHT($D55,1)<RIGHT('Efficiency Levels'!$C$39,1),0,\nIF(RIGHT($D55,1)=RIGHT('Efficiency Levels'!$C$39,1),SUM(OFFSET(AG46,-RIGHT($D55,1),0,RIGHT($D55,1),1)),\"ERROR\"))))","v":0},{"$f":"IF(AH$24<STANDARD_YEAR,AH46,\nIF(RIGHT($D55,1)>RIGHT('Efficiency Levels'!$C$39,1),AH46,\nIF(RIGHT($D55,1)<RIGHT('Efficiency Levels'!$C$39,1),0,\nIF(RIGHT($D55,1)=RIGHT('Efficiency Levels'!$C$39,1),SUM(OFFSET(AH46,-RIGHT($D55,1),0,RIGHT($D55,1),1)),\"ERROR\"))))","v":0},{"$f":"IF(AI$24<STANDARD_YEAR,AI46,\nIF(RIGHT($D55,1)>RIGHT('Efficiency Levels'!$C$39,1),AI46,\nIF(RIGHT($D55,1)<RIGHT('Efficiency Levels'!$C$39,1),0,\nIF(RIGHT($D55,1)=RIGHT('Efficiency Levels'!$C$39,1),SUM(OFFSET(AI46,-RIGHT($D55,1),0,RIGHT($D55,1),1)),\"ERROR\"))))","v":0},{"$f":"IF(AJ$24<STANDARD_YEAR,AJ46,\nIF(RIGHT($D55,1)>RIGHT('Efficiency Levels'!$C$39,1),AJ46,\nIF(RIGHT($D55,1)<RIGHT('Efficiency Levels'!$C$39,1),0,\nIF(RIGHT($D55,1)=RIGHT('Efficiency Levels'!$C$39,1),SUM(OFFSET(AJ46,-RIGHT($D55,1),0,RIGHT($D55,1),1)),\"ERROR\"))))","v":0},{"$f":"IF(AK$24<STANDARD_YEAR,AK46,\nIF(RIGHT($D55,1)>RIGHT('Efficiency Levels'!$C$39,1),AK46,\nIF(RIGHT($D55,1)<RIGHT('Efficiency Levels'!$C$39,1),0,\nIF(RIGHT($D55,1)=RIGHT('Efficiency Levels'!$C$39,1),SUM(OFFSET(AK46,-RIGHT($D55,1),0,RIGHT($D55,1),1)),\"ERROR\"))))","v":0},{"$f":"IF(AL$24<STANDARD_YEAR,AL46,\nIF(RIGHT($D55,1)>RIGHT('Efficiency Levels'!$C$39,1),AL46,\nIF(RIGHT($D55,1)<RIGHT('Efficiency Levels'!$C$39,1),0,\nIF(RIGHT($D55,1)=RIGHT('Efficiency Levels'!$C$39,1),SUM(OFFSET(AL46,-RIGHT($D55,1),0,RIGHT($D55,1),1)),\"ERROR\"))))","v":0},{"$f":"IF(AM$24<STANDARD_YEAR,AM46,\nIF(RIGHT($D55,1)>RIGHT('Efficiency Levels'!$C$39,1),AM46,\nIF(RIGHT($D55,1)<RIGHT('Efficiency Levels'!$C$39,1),0,\nIF(RIGHT($D55,1)=RIGHT('Efficiency Levels'!$C$39,1),SUM(OFFSET(AM46,-RIGHT($D55,1),0,RIGHT($D55,1),1)),\"ERROR\"))))","v":0},{"$f":"IF(AN$24<STANDARD_YEAR,AN46,\nIF(RIGHT($D55,1)>RIGHT('Efficiency Levels'!$C$39,1),AN46,\nIF(RIGHT($D55,1)<RIGHT('Efficiency Levels'!$C$39,1),0,\nIF(RIGHT($D55,1)=RIGHT('Efficiency Levels'!$C$39,1),SUM(OFFSET(AN46,-RIGHT($D55,1),0,RIGHT($D55,1),1)),\"ERROR\"))))","v":0},{"$f":"IF(AO$24<STANDARD_YEAR,AO46,\nIF(RIGHT($D55,1)>RIGHT('Efficiency Levels'!$C$39,1),AO46,\nIF(RIGHT($D55,1)<RIGHT('Efficiency Levels'!$C$39,1),0,\nIF(RIGHT($D55,1)=RIGHT('Efficiency Levels'!$C$39,1),SUM(OFFSET(AO46,-RIGHT($D55,1),0,RIGHT($D55,1),1)),\"ERROR\"))))","v":0},{"$f":"IF(AP$24<STANDARD_YEAR,AP46,\nIF(RIGHT($D55,1)>RIGHT('Efficiency Levels'!$C$39,1),AP46,\nIF(RIGHT($D55,1)<RIGHT('Efficiency Levels'!$C$39,1),0,\nIF(RIGHT($D55,1)=RIGHT('Efficiency Levels'!$C$39,1),SUM(OFFSET(AP46,-RIGHT($D55,1),0,RIGHT($D55,1),1)),\"ERROR\"))))","v":0},{"$f":"IF(AQ$24<STANDARD_YEAR,AQ46,\nIF(RIGHT($D55,1)>RIGHT('Efficiency Levels'!$C$39,1),AQ46,\nIF(RIGHT($D55,1)<RIGHT('Efficiency Levels'!$C$39,1),0,\nIF(RIGHT($D55,1)=RIGHT('Efficiency Levels'!$C$39,1),SUM(OFFSET(AQ46,-RIGHT($D55,1),0,RIGHT($D55,1),1)),\"ERROR\"))))","v":0},{"$f":"IF(AR$24<STANDARD_YEAR,AR46,\nIF(RIGHT($D55,1)>RIGHT('Efficiency Levels'!$C$39,1),AR46,\nIF(RIGHT($D55,1)<RIGHT('Efficiency Levels'!$C$39,1),0,\nIF(RIGHT($D55,1)=RIGHT('Efficiency Levels'!$C$39,1),SUM(OFFSET(AR46,-RIGHT($D55,1),0,RIGHT($D55,1),1)),\"ERROR\"))))","v":0},{"$f":"IF(AS$24<STANDARD_YEAR,AS46,\nIF(RIGHT($D55,1)>RIGHT('Efficiency Levels'!$C$39,1),AS46,\nIF(RIGHT($D55,1)<RIGHT('Efficiency Levels'!$C$39,1),0,\nIF(RIGHT($D55,1)=RIGHT('Efficiency Levels'!$C$39,1),SUM(OFFSET(AS46,-RIGHT($D55,1),0,RIGHT($D55,1),1)),\"ERROR\"))))","v":0},{"$f":"IF(AT$24<STANDARD_YEAR,AT46,\nIF(RIGHT($D55,1)>RIGHT('Efficiency Levels'!$C$39,1),AT46,\nIF(RIGHT($D55,1)<RIGHT('Efficiency Levels'!$C$39,1),0,\nIF(RIGHT($D55,1)=RIGHT('Efficiency Levels'!$C$39,1),SUM(OFFSET(AT46,-RIGHT($D55,1),0,RIGHT($D55,1),1)),\"ERROR\"))))","v":0},{"$f":"IF(AU$24<STANDARD_YEAR,AU46,\nIF(RIGHT($D55,1)>RIGHT('Efficiency Levels'!$C$39,1),AU46,\nIF(RIGHT($D55,1)<RIGHT('Efficiency Levels'!$C$39,1),0,\nIF(RIGHT($D55,1)=RIGHT('Efficiency Levels'!$C$39,1),SUM(OFFSET(AU46,-RIGHT($D55,1),0,RIGHT($D55,1),1)),\"ERROR\"))))","v":1},{"$f":"IF(AV$24<STANDARD_YEAR,AV46,\nIF(RIGHT($D55,1)>RIGHT('Efficiency Levels'!$C$39,1),AV46,\nIF(RIGHT($D55,1)<RIGHT('Efficiency Levels'!$C$39,1),0,\nIF(RIGHT($D55,1)=RIGHT('Efficiency Levels'!$C$39,1),SUM(OFFSET(AV46,-RIGHT($D55,1),0,RIGHT($D55,1),1)),\"ERROR\"))))","v":1},{"$f":"IF(AW$24<STANDARD_YEAR,AW46,\nIF(RIGHT($D55,1)>RIGHT('Efficiency Levels'!$C$39,1),AW46,\nIF(RIGHT($D55,1)<RIGHT('Efficiency Levels'!$C$39,1),0,\nIF(RIGHT($D55,1)=RIGHT('Efficiency Levels'!$C$39,1),SUM(OFFSET(AW46,-RIGHT($D55,1),0,RIGHT($D55,1),1)),\"ERROR\"))))","v":1},{"$f":"IF(AX$24<STANDARD_YEAR,AX46,\nIF(RIGHT($D55,1)>RIGHT('Efficiency Levels'!$C$39,1),AX46,\nIF(RIGHT($D55,1)<RIGHT('Efficiency Levels'!$C$39,1),0,\nIF(RIGHT($D55,1)=RIGHT('Efficiency Levels'!$C$39,1),SUM(OFFSET(AX46,-RIGHT($D55,1),0,RIGHT($D55,1),1)),\"ERROR\"))))","v":1},{"$f":"IF(AY$24<STANDARD_YEAR,AY46,\nIF(RIGHT($D55,1)>RIGHT('Efficiency Levels'!$C$39,1),AY46,\nIF(RIGHT($D55,1)<RIGHT('Efficiency Levels'!$C$39,1),0,\nIF(RIGHT($D55,1)=RIGHT('Efficiency Levels'!$C$39,1),SUM(OFFSET(AY46,-RIGHT($D55,1),0,RIGHT($D55,1),1)),\"ERROR\"))))","v":1},{"$f":"IF(AZ$24<STANDARD_YEAR,AZ46,\nIF(RIGHT($D55,1)>RIGHT('Efficiency Levels'!$C$39,1),AZ46,\nIF(RIGHT($D55,1)<RIGHT('Efficiency Levels'!$C$39,1),0,\nIF(RIGHT($D55,1)=RIGHT('Efficiency Levels'!$C$39,1),SUM(OFFSET(AZ46,-RIGHT($D55,1),0,RIGHT($D55,1),1)),\"ERROR\"))))","v":1},{"$f":"IF(BA$24<STANDARD_YEAR,BA46,\nIF(RIGHT($D55,1)>RIGHT('Efficiency Levels'!$C$39,1),BA46,\nIF(RIGHT($D55,1)<RIGHT('Efficiency Levels'!$C$39,1),0,\nIF(RIGHT($D55,1)=RIGHT('Efficiency Levels'!$C$39,1),SUM(OFFSET(BA46,-RIGHT($D55,1),0,RIGHT($D55,1),1)),\"ERROR\"))))","v":1},{"$f":"IF(BB$24<STANDARD_YEAR,BB46,\nIF(RIGHT($D55,1)>RIGHT('Efficiency Levels'!$C$39,1),BB46,\nIF(RIGHT($D55,1)<RIGHT('Efficiency Levels'!$C$39,1),0,\nIF(RIGHT($D55,1)=RIGHT('Efficiency Levels'!$C$39,1),SUM(OFFSET(BB46,-RIGHT($D55,1),0,RIGHT($D55,1),1)),\"ERROR\"))))","v":1},{"$f":"IF(BC$24<STANDARD_YEAR,BC46,\nIF(RIGHT($D55,1)>RIGHT('Efficiency Levels'!$C$39,1),BC46,\nIF(RIGHT($D55,1)<RIGHT('Efficiency Levels'!$C$39,1),0,\nIF(RIGHT($D55,1)=RIGHT('Efficiency Levels'!$C$39,1),SUM(OFFSET(BC46,-RIGHT($D55,1),0,RIGHT($D55,1),1)),\"ERROR\"))))","v":1},{"$f":"IF(BD$24<STANDARD_YEAR,BD46,\nIF(RIGHT($D55,1)>RIGHT('Efficiency Levels'!$C$39,1),BD46,\nIF(RIGHT($D55,1)<RIGHT('Efficiency Levels'!$C$39,1),0,\nIF(RIGHT($D55,1)=RIGHT('Efficiency Levels'!$C$39,1),SUM(OFFSET(BD46,-RIGHT($D55,1),0,RIGHT($D55,1),1)),\"ERROR\"))))","v":1},{"$f":"IF(BE$24<STANDARD_YEAR,BE46,\nIF(RIGHT($D55,1)>RIGHT('Efficiency Levels'!$C$39,1),BE46,\nIF(RIGHT($D55,1)<RIGHT('Efficiency Levels'!$C$39,1),0,\nIF(RIGHT($D55,1)=RIGHT('Efficiency Levels'!$C$39,1),SUM(OFFSET(BE46,-RIGHT($D55,1),0,RIGHT($D55,1),1)),\"ERROR\"))))","v":1},{"$f":"IF(BF$24<STANDARD_YEAR,BF46,\nIF(RIGHT($D55,1)>RIGHT('Efficiency Levels'!$C$39,1),BF46,\nIF(RIGHT($D55,1)<RIGHT('Efficiency Levels'!$C$39,1),0,\nIF(RIGHT($D55,1)=RIGHT('Efficiency Levels'!$C$39,1),SUM(OFFSET(BF46,-RIGHT($D55,1),0,RIGHT($D55,1),1)),\"ERROR\"))))","v":1},{"$f":"IF(BG$24<STANDARD_YEAR,BG46,\nIF(RIGHT($D55,1)>RIGHT('Efficiency Levels'!$C$39,1),BG46,\nIF(RIGHT($D55,1)<RIGHT('Efficiency Levels'!$C$39,1),0,\nIF(RIGHT($D55,1)=RIGHT('Efficiency Levels'!$C$39,1),SUM(OFFSET(BG46,-RIGHT($D55,1),0,RIGHT($D55,1),1)),\"ERROR\"))))","v":1},{"$f":"IF(BH$24<STANDARD_YEAR,BH46,\nIF(RIGHT($D55,1)>RIGHT('Efficiency Levels'!$C$39,1),BH46,\nIF(RIGHT($D55,1)<RIGHT('Efficiency Levels'!$C$39,1),0,\nIF(RIGHT($D55,1)=RIGHT('Efficiency Levels'!$C$39,1),SUM(OFFSET(BH46,-RIGHT($D55,1),0,RIGHT($D55,1),1)),\"ERROR\"))))","v":1},{"$f":"IF(BI$24<STANDARD_YEAR,BI46,\nIF(RIGHT($D55,1)>RIGHT('Efficiency Levels'!$C$39,1),BI46,\nIF(RIGHT($D55,1)<RIGHT('Efficiency Levels'!$C$39,1),0,\nIF(RIGHT($D55,1)=RIGHT('Efficiency Levels'!$C$39,1),SUM(OFFSET(BI46,-RIGHT($D55,1),0,RIGHT($D55,1),1)),\"ERROR\"))))","v":1},{"$f":"IF(BJ$24<STANDARD_YEAR,BJ46,\nIF(RIGHT($D55,1)>RIGHT('Efficiency Levels'!$C$39,1),BJ46,\nIF(RIGHT($D55,1)<RIGHT('Efficiency Levels'!$C$39,1),0,\nIF(RIGHT($D55,1)=RIGHT('Efficiency Levels'!$C$39,1),SUM(OFFSET(BJ46,-RIGHT($D55,1),0,RIGHT($D55,1),1)),\"ERROR\"))))","v":1}]
[null,null,null,"EL4",{"$f":"OFFSET('Efficiency Levels'!$D$11,MATCH($C$39,'Efficiency Levels'!$C$9:$C$1002,0)+RIGHT(D56,1),0)","v":271.89999999999998},null,null,null,{"$f":"IF(I$24<STANDARD_YEAR,I47,\nIF(RIGHT($D56,1)>RIGHT('Efficiency Levels'!$C$39,1),I47,\nIF(RIGHT($D56,1)<RIGHT('Efficiency Levels'!$C$39,1),0,\nIF(RIGHT($D56,1)=RIGHT('Efficiency Levels'!$C$39,1),SUM(OFFSET(I47,-RIGHT($D56,1),0,RIGHT($D56,1),1)),\"ERROR\"))))","v":0},{"$f":"IF(J$24<STANDARD_YEAR,J47,\nIF(RIGHT($D56,1)>RIGHT('Efficiency Levels'!$C$39,1),J47,\nIF(RIGHT($D56,1)<RIGHT('Efficiency Levels'!$C$39,1),0,\nIF(RIGHT($D56,1)=RIGHT('Efficiency Levels'!$C$39,1),SUM(OFFSET(J47,-RIGHT($D56,1),0,RIGHT($D56,1),1)),\"ERROR\"))))","v":0},{"$f":"IF(K$24<STANDARD_YEAR,K47,\nIF(RIGHT($D56,1)>RIGHT('Efficiency Levels'!$C$39,1),K47,\nIF(RIGHT($D56,1)<RIGHT('Efficiency Levels'!$C$39,1),0,\nIF(RIGHT($D56,1)=RIGHT('Efficiency Levels'!$C$39,1),SUM(OFFSET(K47,-RIGHT($D56,1),0,RIGHT($D56,1),1)),\"ERROR\"))))","v":0},{"$f":"IF(L$24<STANDARD_YEAR,L47,\nIF(RIGHT($D56,1)>RIGHT('Efficiency Levels'!$C$39,1),L47,\nIF(RIGHT($D56,1)<RIGHT('Efficiency Levels'!$C$39,1),0,\nIF(RIGHT($D56,1)=RIGHT('Efficiency Levels'!$C$39,1),SUM(OFFSET(L47,-RIGHT($D56,1),0,RIGHT($D56,1),1)),\"ERROR\"))))","v":0},{"$f":"IF(M$24<STANDARD_YEAR,M47,\nIF(RIGHT($D56,1)>RIGHT('Efficiency Levels'!$C$39,1),M47,\nIF(RIGHT($D56,1)<RIGHT('Efficiency Levels'!$C$39,1),0,\nIF(RIGHT($D56,1)=RIGHT('Efficiency Levels'!$C$39,1),SUM(OFFSET(M47,-RIGHT($D56,1),0,RIGHT($D56,1),1)),\"ERROR\"))))","v":0},{"$f":"IF(N$24<STANDARD_YEAR,N47,\nIF(RIGHT($D56,1)>RIGHT('Efficiency Levels'!$C$39,1),N47,\nIF(RIGHT($D56,1)<RIGHT('Efficiency Levels'!$C$39,1),0,\nIF(RIGHT($D56,1)=RIGHT('Efficiency Levels'!$C$39,1),SUM(OFFSET(N47,-RIGHT($D56,1),0,RIGHT($D56,1),1)),\"ERROR\"))))","v":0},{"$f":"IF(O$24<STANDARD_YEAR,O47,\nIF(RIGHT($D56,1)>RIGHT('Efficiency Levels'!$C$39,1),O47,\nIF(RIGHT($D56,1)<RIGHT('Efficiency Levels'!$C$39,1),0,\nIF(RIGHT($D56,1)=RIGHT('Efficiency Levels'!$C$39,1),SUM(OFFSET(O47,-RIGHT($D56,1),0,RIGHT($D56,1),1)),\"ERROR\"))))","v":0},{"$f":"IF(P$24<STANDARD_YEAR,P47,\nIF(RIGHT($D56,1)>RIGHT('Efficiency Levels'!$C$39,1),P47,\nIF(RIGHT($D56,1)<RIGHT('Efficiency Levels'!$C$39,1),0,\nIF(RIGHT($D56,1)=RIGHT('Efficiency Levels'!$C$39,1),SUM(OFFSET(P47,-RIGHT($D56,1),0,RIGHT($D56,1),1)),\"ERROR\"))))","v":0},{"$f":"IF(Q$24<STANDARD_YEAR,Q47,\nIF(RIGHT($D56,1)>RIGHT('Efficiency Levels'!$C$39,1),Q47,\nIF(RIGHT($D56,1)<RIGHT('Efficiency Levels'!$C$39,1),0,\nIF(RIGHT($D56,1)=RIGHT('Efficiency Levels'!$C$39,1),SUM(OFFSET(Q47,-RIGHT($D56,1),0,RIGHT($D56,1),1)),\"ERROR\"))))","v":0},{"$f":"IF(R$24<STANDARD_YEAR,R47,\nIF(RIGHT($D56,1)>RIGHT('Efficiency Levels'!$C$39,1),R47,\nIF(RIGHT($D56,1)<RIGHT('Efficiency Levels'!$C$39,1),0,\nIF(RIGHT($D56,1)=RIGHT('Efficiency Levels'!$C$39,1),SUM(OFFSET(R47,-RIGHT($D56,1),0,RIGHT($D56,1),1)),\"ERROR\"))))","v":0},{"$f":"IF(S$24<STANDARD_YEAR,S47,\nIF(RIGHT($D56,1)>RIGHT('Efficiency Levels'!$C$39,1),S47,\nIF(RIGHT($D56,1)<RIGHT('Efficiency Levels'!$C$39,1),0,\nIF(RIGHT($D56,1)=RIGHT('Efficiency Levels'!$C$39,1),SUM(OFFSET(S47,-RIGHT($D56,1),0,RIGHT($D56,1),1)),\"ERROR\"))))","v":0},{"$f":"IF(T$24<STANDARD_YEAR,T47,\nIF(RIGHT($D56,1)>RIGHT('Efficiency Levels'!$C$39,1),T47,\nIF(RIGHT($D56,1)<RIGHT('Efficiency Levels'!$C$39,1),0,\nIF(RIGHT($D56,1)=RIGHT('Efficiency Levels'!$C$39,1),SUM(OFFSET(T47,-RIGHT($D56,1),0,RIGHT($D56,1),1)),\"ERROR\"))))","v":0},{"$f":"IF(U$24<STANDARD_YEAR,U47,\nIF(RIGHT($D56,1)>RIGHT('Efficiency Levels'!$C$39,1),U47,\nIF(RIGHT($D56,1)<RIGHT('Efficiency Levels'!$C$39,1),0,\nIF(RIGHT($D56,1)=RIGHT('Efficiency Levels'!$C$39,1),SUM(OFFSET(U47,-RIGHT($D56,1),0,RIGHT($D56,1),1)),\"ERROR\"))))","v":0},{"$f":"IF(V$24<STANDARD_YEAR,V47,\nIF(RIGHT($D56,1)>RIGHT('Efficiency Levels'!$C$39,1),V47,\nIF(RIGHT($D56,1)<RIGHT('Efficiency Levels'!$C$39,1),0,\nIF(RIGHT($D56,1)=RIGHT('Efficiency Levels'!$C$39,1),SUM(OFFSET(V47,-RIGHT($D56,1),0,RIGHT($D56,1),1)),\"ERROR\"))))","v":0},{"$f":"IF(W$24<STANDARD_YEAR,W47,\nIF(RIGHT($D56,1)>RIGHT('Efficiency Levels'!$C$39,1),W47,\nIF(RIGHT($D56,1)<RIGHT('Efficiency Levels'!$C$39,1),0,\nIF(RIGHT($D56,1)=RIGHT('Efficiency Levels'!$C$39,1),SUM(OFFSET(W47,-RIGHT($D56,1),0,RIGHT($D56,1),1)),\"ERROR\"))))","v":0},{"$f":"IF(X$24<STANDARD_YEAR,X47,\nIF(RIGHT($D56,1)>RIGHT('Efficiency Levels'!$C$39,1),X47,\nIF(RIGHT($D56,1)<RIGHT('Efficiency Levels'!$C$39,1),0,\nIF(RIGHT($D56,1)=RIGHT('Efficiency Levels'!$C$39,1),SUM(OFFSET(X47,-RIGHT($D56,1),0,RIGHT($D56,1),1)),\"ERROR\"))))","v":0},{"$f":"IF(Y$24<STANDARD_YEAR,Y47,\nIF(RIGHT($D56,1)>RIGHT('Efficiency Levels'!$C$39,1),Y47,\nIF(RIGHT($D56,1)<RIGHT('Efficiency Levels'!$C$39,1),0,\nIF(RIGHT($D56,1)=RIGHT('Efficiency Levels'!$C$39,1),SUM(OFFSET(Y47,-RIGHT($D56,1),0,RIGHT($D56,1),1)),\"ERROR\"))))","v":0},{"$f":"IF(Z$24<STANDARD_YEAR,Z47,\nIF(RIGHT($D56,1)>RIGHT('Efficiency Levels'!$C$39,1),Z47,\nIF(RIGHT($D56,1)<RIGHT('Efficiency Levels'!$C$39,1),0,\nIF(RIGHT($D56,1)=RIGHT('Efficiency Levels'!$C$39,1),SUM(OFFSET(Z47,-RIGHT($D56,1),0,RIGHT($D56,1),1)),\"ERROR\"))))","v":0},{"$f":"IF(AA$24<STANDARD_YEAR,AA47,\nIF(RIGHT($D56,1)>RIGHT('Efficiency Levels'!$C$39,1),AA47,\nIF(RIGHT($D56,1)<RIGHT('Efficiency Levels'!$C$39,1),0,\nIF(RIGHT($D56,1)=RIGHT('Efficiency Levels'!$C$39,1),SUM(OFFSET(AA47,-RIGHT($D56,1),0,RIGHT($D56,1),1)),\"ERROR\"))))","v":0},{"$f":"IF(AB$24<STANDARD_YEAR,AB47,\nIF(RIGHT($D56,1)>RIGHT('Efficiency Levels'!$C$39,1),AB47,\nIF(RIGHT($D56,1)<RIGHT('Efficiency Levels'!$C$39,1),0,\nIF(RIGHT($D56,1)=RIGHT('Efficiency Levels'!$C$39,1),SUM(OFFSET(AB47,-RIGHT($D56,1),0,RIGHT($D56,1),1)),\"ERROR\"))))","v":0},{"$f":"IF(AC$24<STANDARD_YEAR,AC47,\nIF(RIGHT($D56,1)>RIGHT('Efficiency Levels'!$C$39,1),AC47,\nIF(RIGHT($D56,1)<RIGHT('Efficiency Levels'!$C$39,1),0,\nIF(RIGHT($D56,1)=RIGHT('Efficiency Levels'!$C$39,1),SUM(OFFSET(AC47,-RIGHT($D56,1),0,RIGHT($D56,1),1)),\"ERROR\"))))","v":0},{"$f":"IF(AD$24<STANDARD_YEAR,AD47,\nIF(RIGHT($D56,1)>RIGHT('Efficiency Levels'!$C$39,1),AD47,\nIF(RIGHT($D56,1)<RIGHT('Efficiency Levels'!$C$39,1),0,\nIF(RIGHT($D56,1)=RIGHT('Efficiency Levels'!$C$39,1),SUM(OFFSET(AD47,-RIGHT($D56,1),0,RIGHT($D56,1),1)),\"ERROR\"))))","v":0},{"$f":"IF(AE$24<STANDARD_YEAR,AE47,\nIF(RIGHT($D56,1)>RIGHT('Efficiency Levels'!$C$39,1),AE47,\nIF(RIGHT($D56,1)<RIGHT('Efficiency Levels'!$C$39,1),0,\nIF(RIGHT($D56,1)=RIGHT('Efficiency Levels'!$C$39,1),SUM(OFFSET(AE47,-RIGHT($D56,1),0,RIGHT($D56,1),1)),\"ERROR\"))))","v":0},{"$f":"IF(AF$24<STANDARD_YEAR,AF47,\nIF(RIGHT($D56,1)>RIGHT('Efficiency Levels'!$C$39,1),AF47,\nIF(RIGHT($D56,1)<RIGHT('Efficiency Levels'!$C$39,1),0,\nIF(RIGHT($D56,1)=RIGHT('Efficiency Levels'!$C$39,1),SUM(OFFSET(AF47,-RIGHT($D56,1),0,RIGHT($D56,1),1)),\"ERROR\"))))","v":0},{"$f":"IF(AG$24<STANDARD_YEAR,AG47,\nIF(RIGHT($D56,1)>RIGHT('Efficiency Levels'!$C$39,1),AG47,\nIF(RIGHT($D56,1)<RIGHT('Efficiency Levels'!$C$39,1),0,\nIF(RIGHT($D56,1)=RIGHT('Efficiency Levels'!$C$39,1),SUM(OFFSET(AG47,-RIGHT($D56,1),0,RIGHT($D56,1),1)),\"ERROR\"))))","v":0},{"$f":"IF(AH$24<STANDARD_YEAR,AH47,\nIF(RIGHT($D56,1)>RIGHT('Efficiency Levels'!$C$39,1),AH47,\nIF(RIGHT($D56,1)<RIGHT('Efficiency Levels'!$C$39,1),0,\nIF(RIGHT($D56,1)=RIGHT('Efficiency Levels'!$C$39,1),SUM(OFFSET(AH47,-RIGHT($D56,1),0,RIGHT($D56,1),1)),\"ERROR\"))))","v":0},{"$f":"IF(AI$24<STANDARD_YEAR,AI47,\nIF(RIGHT($D56,1)>RIGHT('Efficiency Levels'!$C$39,1),AI47,\nIF(RIGHT($D56,1)<RIGHT('Efficiency Levels'!$C$39,1),0,\nIF(RIGHT($D56,1)=RIGHT('Efficiency Levels'!$C$39,1),SUM(OFFSET(AI47,-RIGHT($D56,1),0,RIGHT($D56,1),1)),\"ERROR\"))))","v":0},{"$f":"IF(AJ$24<STANDARD_YEAR,AJ47,\nIF(RIGHT($D56,1)>RIGHT('Efficiency Levels'!$C$39,1),AJ47,\nIF(RIGHT($D56,1)<RIGHT('Efficiency Levels'!$C$39,1),0,\nIF(RIGHT($D56,1)=RIGHT('Efficiency Levels'!$C$39,1),SUM(OFFSET(AJ47,-RIGHT($D56,1),0,RIGHT($D56,1),1)),\"ERROR\"))))","v":0},{"$f":"IF(AK$24<STANDARD_YEAR,AK47,\nIF(RIGHT($D56,1)>RIGHT('Efficiency Levels'!$C$39,1),AK47,\nIF(RIGHT($D56,1)<RIGHT('Efficiency Levels'!$C$39,1),0,\nIF(RIGHT($D56,1)=RIGHT('Efficiency Levels'!$C$39,1),SUM(OFFSET(AK47,-RIGHT($D56,1),0,RIGHT($D56,1),1)),\"ERROR\"))))","v":0},{"$f":"IF(AL$24<STANDARD_YEAR,AL47,\nIF(RIGHT($D56,1)>RIGHT('Efficiency Levels'!$C$39,1),AL47,\nIF(RIGHT($D56,1)<RIGHT('Efficiency Levels'!$C$39,1),0,\nIF(RIGHT($D56,1)=RIGHT('Efficiency Levels'!$C$39,1),SUM(OFFSET(AL47,-RIGHT($D56,1),0,RIGHT($D56,1),1)),\"ERROR\"))))","v":0},{"$f":"IF(AM$24<STANDARD_YEAR,AM47,\nIF(RIGHT($D56,1)>RIGHT('Efficiency Levels'!$C$39,1),AM47,\nIF(RIGHT($D56,1)<RIGHT('Efficiency Levels'!$C$39,1),0,\nIF(RIGHT($D56,1)=RIGHT('Efficiency Levels'!$C$39,1),SUM(OFFSET(AM47,-RIGHT($D56,1),0,RIGHT($D56,1),1)),\"ERROR\"))))","v":0},{"$f":"IF(AN$24<STANDARD_YEAR,AN47,\nIF(RIGHT($D56,1)>RIGHT('Efficiency Levels'!$C$39,1),AN47,\nIF(RIGHT($D56,1)<RIGHT('Efficiency Levels'!$C$39,1),0,\nIF(RIGHT($D56,1)=RIGHT('Efficiency Levels'!$C$39,1),SUM(OFFSET(AN47,-RIGHT($D56,1),0,RIGHT($D56,1),1)),\"ERROR\"))))","v":0},{"$f":"IF(AO$24<STANDARD_YEAR,AO47,\nIF(RIGHT($D56,1)>RIGHT('Efficiency Levels'!$C$39,1),AO47,\nIF(RIGHT($D56,1)<RIGHT('Efficiency Levels'!$C$39,1),0,\nIF(RIGHT($D56,1)=RIGHT('Efficiency Levels'!$C$39,1),SUM(OFFSET(AO47,-RIGHT($D56,1),0,RIGHT($D56,1),1)),\"ERROR\"))))","v":0},{"$f":"IF(AP$24<STANDARD_YEAR,AP47,\nIF(RIGHT($D56,1)>RIGHT('Efficiency Levels'!$C$39,1),AP47,\nIF(RIGHT($D56,1)<RIGHT('Efficiency Levels'!$C$39,1),0,\nIF(RIGHT($D56,1)=RIGHT('Efficiency Levels'!$C$39,1),SUM(OFFSET(AP47,-RIGHT($D56,1),0,RIGHT($D56,1),1)),\"ERROR\"))))","v":0},{"$f":"IF(AQ$24<STANDARD_YEAR,AQ47,\nIF(RIGHT($D56,1)>RIGHT('Efficiency Levels'!$C$39,1),AQ47,\nIF(RIGHT($D56,1)<RIGHT('Efficiency Levels'!$C$39,1),0,\nIF(RIGHT($D56,1)=RIGHT('Efficiency Levels'!$C$39,1),SUM(OFFSET(AQ47,-RIGHT($D56,1),0,RIGHT($D56,1),1)),\"ERROR\"))))","v":0},{"$f":"IF(AR$24<STANDARD_YEAR,AR47,\nIF(RIGHT($D56,1)>RIGHT('Efficiency Levels'!$C$39,1),AR47,\nIF(RIGHT($D56,1)<RIGHT('Efficiency Levels'!$C$39,1),0,\nIF(RIGHT($D56,1)=RIGHT('Efficiency Levels'!$C$39,1),SUM(OFFSET(AR47,-RIGHT($D56,1),0,RIGHT($D56,1),1)),\"ERROR\"))))","v":0},{"$f":"IF(AS$24<STANDARD_YEAR,AS47,\nIF(RIGHT($D56,1)>RIGHT('Efficiency Levels'!$C$39,1),AS47,\nIF(RIGHT($D56,1)<RIGHT('Efficiency Levels'!$C$39,1),0,\nIF(RIGHT($D56,1)=RIGHT('Efficiency Levels'!$C$39,1),SUM(OFFSET(AS47,-RIGHT($D56,1),0,RIGHT($D56,1),1)),\"ERROR\"))))","v":0},{"$f":"IF(AT$24<STANDARD_YEAR,AT47,\nIF(RIGHT($D56,1)>RIGHT('Efficiency Levels'!$C$39,1),AT47,\nIF(RIGHT($D56,1)<RIGHT('Efficiency Levels'!$C$39,1),0,\nIF(RIGHT($D56,1)=RIGHT('Efficiency Levels'!$C$39,1),SUM(OFFSET(AT47,-RIGHT($D56,1),0,RIGHT($D56,1),1)),\"ERROR\"))))","v":0},{"$f":"IF(AU$24<STANDARD_YEAR,AU47,\nIF(RIGHT($D56,1)>RIGHT('Efficiency Levels'!$C$39,1),AU47,\nIF(RIGHT($D56,1)<RIGHT('Efficiency Levels'!$C$39,1),0,\nIF(RIGHT($D56,1)=RIGHT('Efficiency Levels'!$C$39,1),SUM(OFFSET(AU47,-RIGHT($D56,1),0,RIGHT($D56,1),1)),\"ERROR\"))))","v":0},{"$f":"IF(AV$24<STANDARD_YEAR,AV47,\nIF(RIGHT($D56,1)>RIGHT('Efficiency Levels'!$C$39,1),AV47,\nIF(RIGHT($D56,1)<RIGHT('Efficiency Levels'!$C$39,1),0,\nIF(RIGHT($D56,1)=RIGHT('Efficiency Levels'!$C$39,1),SUM(OFFSET(AV47,-RIGHT($D56,1),0,RIGHT($D56,1),1)),\"ERROR\"))))","v":0},{"$f":"IF(AW$24<STANDARD_YEAR,AW47,\nIF(RIGHT($D56,1)>RIGHT('Efficiency Levels'!$C$39,1),AW47,\nIF(RIGHT($D56,1)<RIGHT('Efficiency Levels'!$C$39,1),0,\nIF(RIGHT($D56,1)=RIGHT('Efficiency Levels'!$C$39,1),SUM(OFFSET(AW47,-RIGHT($D56,1),0,RIGHT($D56,1),1)),\"ERROR\"))))","v":0},{"$f":"IF(AX$24<STANDARD_YEAR,AX47,\nIF(RIGHT($D56,1)>RIGHT('Efficiency Levels'!$C$39,1),AX47,\nIF(RIGHT($D56,1)<RIGHT('Efficiency Levels'!$C$39,1),0,\nIF(RIGHT($D56,1)=RIGHT('Efficiency Levels'!$C$39,1),SUM(OFFSET(AX47,-RIGHT($D56,1),0,RIGHT($D56,1),1)),\"ERROR\"))))","v":0},{"$f":"IF(AY$24<STANDARD_YEAR,AY47,\nIF(RIGHT($D56,1)>RIGHT('Efficiency Levels'!$C$39,1),AY47,\nIF(RIGHT($D56,1)<RIGHT('Efficiency Levels'!$C$39,1),0,\nIF(RIGHT($D56,1)=RIGHT('Efficiency Levels'!$C$39,1),SUM(OFFSET(AY47,-RIGHT($D56,1),0,RIGHT($D56,1),1)),\"ERROR\"))))","v":0},{"$f":"IF(AZ$24<STANDARD_YEAR,AZ47,\nIF(RIGHT($D56,1)>RIGHT('Efficiency Levels'!$C$39,1),AZ47,\nIF(RIGHT($D56,1)<RIGHT('Efficiency Levels'!$C$39,1),0,\nIF(RIGHT($D56,1)=RIGHT('Efficiency Levels'!$C$39,1),SUM(OFFSET(AZ47,-RIGHT($D56,1),0,RIGHT($D56,1),1)),\"ERROR\"))))","v":0},{"$f":"IF(BA$24<STANDARD_YEAR,BA47,\nIF(RIGHT($D56,1)>RIGHT('Efficiency Levels'!$C$39,1),BA47,\nIF(RIGHT($D56,1)<RIGHT('Efficiency Levels'!$C$39,1),0,\nIF(RIGHT($D56,1)=RIGHT('Efficiency Levels'!$C$39,1),SUM(OFFSET(BA47,-RIGHT($D56,1),0,RIGHT($D56,1),1)),\"ERROR\"))))","v":0},{"$f":"IF(BB$24<STANDARD_YEAR,BB47,\nIF(RIGHT($D56,1)>RIGHT('Efficiency Levels'!$C$39,1),BB47,\nIF(RIGHT($D56,1)<RIGHT('Efficiency Levels'!$C$39,1),0,\nIF(RIGHT($D56,1)=RIGHT('Efficiency Levels'!$C$39,1),SUM(OFFSET(BB47,-RIGHT($D56,1),0,RIGHT($D56,1),1)),\"ERROR\"))))","v":0},{"$f":"IF(BC$24<STANDARD_YEAR,BC47,\nIF(RIGHT($D56,1)>RIGHT('Efficiency Levels'!$C$39,1),BC47,\nIF(RIGHT($D56,1)<RIGHT('Efficiency Levels'!$C$39,1),0,\nIF(RIGHT($D56,1)=RIGHT('Efficiency Levels'!$C$39,1),SUM(OFFSET(BC47,-RIGHT($D56,1),0,RIGHT($D56,1),1)),\"ERROR\"))))","v":0},{"$f":"IF(BD$24<STANDARD_YEAR,BD47,\nIF(RIGHT($D56,1)>RIGHT('Efficiency Levels'!$C$39,1),BD47,\nIF(RIGHT($D56,1)<RIGHT('Efficiency Levels'!$C$39,1),0,\nIF(RIGHT($D56,1)=RIGHT('Efficiency Levels'!$C$39,1),SUM(OFFSET(BD47,-RIGHT($D56,1),0,RIGHT($D56,1),1)),\"ERROR\"))))","v":0},{"$f":"IF(BE$24<STANDARD_YEAR,BE47,\nIF(RIGHT($D56,1)>RIGHT('Efficiency Levels'!$C$39,1),BE47,\nIF(RIGHT($D56,1)<RIGHT('Efficiency Levels'!$C$39,1),0,\nIF(RIGHT($D56,1)=RIGHT('Efficiency Levels'!$C$39,1),SUM(OFFSET(BE47,-RIGHT($D56,1),0,RIGHT($D56,1),1)),\"ERROR\"))))","v":0},{"$f":"IF(BF$24<STANDARD_YEAR,BF47,\nIF(RIGHT($D56,1)>RIGHT('Efficiency Levels'!$C$39,1),BF47,\nIF(RIGHT($D56,1)<RIGHT('Efficiency Levels'!$C$39,1),0,\nIF(RIGHT($D56,1)=RIGHT('Efficiency Levels'!$C$39,1),SUM(OFFSET(BF47,-RIGHT($D56,1),0,RIGHT($D56,1),1)),\"ERROR\"))))","v":0},{"$f":"IF(BG$24<STANDARD_YEAR,BG47,\nIF(RIGHT($D56,1)>RIGHT('Efficiency Levels'!$C$39,1),BG47,\nIF(RIGHT($D56,1)<RIGHT('Efficiency Levels'!$C$39,1),0,\nIF(RIGHT($D56,1)=RIGHT('Efficiency Levels'!$C$39,1),SUM(OFFSET(BG47,-RIGHT($D56,1),0,RIGHT($D56,1),1)),\"ERROR\"))))","v":0},{"$f":"IF(BH$24<STANDARD_YEAR,BH47,\nIF(RIGHT($D56,1)>RIGHT('Efficiency Levels'!$C$39,1),BH47,\nIF(RIGHT($D56,1)<RIGHT('Efficiency Levels'!$C$39,1),0,\nIF(RIGHT($D56,1)=RIGHT('Efficiency Levels'!$C$39,1),SUM(OFFSET(BH47,-RIGHT($D56,1),0,RIGHT($D56,1),1)),\"ERROR\"))))","v":0},{"$f":"IF(BI$24<STANDARD_YEAR,BI47,\nIF(RIGHT($D56,1)>RIGHT('Efficiency Levels'!$C$39,1),BI47,\nIF(RIGHT($D56,1)<RIGHT('Efficiency Levels'!$C$39,1),0,\nIF(RIGHT($D56,1)=RIGHT('Efficiency Levels'!$C$39,1),SUM(OFFSET(BI47,-RIGHT($D56,1),0,RIGHT($D56,1),1)),\"ERROR\"))))","v":0},{"$f":"IF(BJ$24<STANDARD_YEAR,BJ47,\nIF(RIGHT($D56,1)>RIGHT('Efficiency Levels'!$C$39,1),BJ47,\nIF(RIGHT($D56,1)<RIGHT('Efficiency Levels'!$C$39,1),0,\nIF(RIGHT($D56,1)=RIGHT('Efficiency Levels'!$C$39,1),SUM(OFFSET(BJ47,-RIGHT($D56,1),0,RIGHT($D56,1),1)),\"ERROR\"))))","v":0}]
[null,null,null,"TOTAL",null,null,null,null,{"$f":"SUM(I52:I56)","v":1},1,1,1,1,1,1,1,1,1,1,1,1,1,1,1,1,1,1,1,1,1,1,1,1,1,1,1,1,1,1,1,1,1,1,1,1,1,1,1,1,1,1,1,1,1,1,1,1,1,1,1,1,{"$f":"SUM(BJ52:BJ56)","v":1}]
[]
[null,null,null,"Sources","Placeholder Values Assumes All Pre-Case Shipments are the Least Energy Efficient Products"]

{"sheet":"Efficiency Dist - MH","index":13,"n_rows":59,"n_cols":62,"rows_kept":59,"cut":false,"hidden":false,"merged":[[1,2,1,6],[3,2,3,6],[5,2,5,6]]}
[]
[null,null,"Efficiency Distributions by Product Class - Manufactured Homes"]
[]
[null,null,"NAVIGATION"]
[]
[null,null,"COMMENTS"]
[]
[]
[null,null,"PC1",{"$f":"OFFSET('Product Classes'!$C$9,MATCH(C9,MODEL_PCS,0),0)","v":"Gas Ovens—Standards Ovens With or Without a Catalytic Line"}]
[]
[null,null,null,"PRE-Case",null,"Static Distribution"]
[null,null,null,"Efficiency Level","UEC (kWh / year)",2011,null,null,1981,1982,1983,1984,1985,1986,1987,1988,1989,1990,1991,1992,1993,1994,1995,1996,1997,1998,1999,2000,2001,2002,2003,2004,2005,2006,2007,2008,2009,2010,2011,2012,2013,2014,2015,2016,2017,2018,2019,2020,2021,2022,2023,2024,2025,2026,2027,2028,2029,2030,2031,2032,2033,2034]
[null,null,null,"EL0",{"$f":"OFFSET('Efficiency Levels'!$D$11,MATCH($C$9,'Efficiency Levels'!$C$9:$C$1002,0)+RIGHT(D13,1),0)","v":370},1,null,null,{"$f":"$F13","v":1},1,1,1,1,1,1,1,1,1,1,1,1,1,1,1,{"$f":"$F13","v":1},1,1,1,1,1,1,1,1,1,1,1,1,1,1,1,{"$f":"$F13","v":1},1,1,1,1,1,1,1,1,1,1,1,1,1,1,1,1,1,1,1,1,1]
[null,null,null,"EL1",{"$f":"OFFSET('Efficiency Levels'!$D$11,MATCH($C$9,'Efficiency Levels'!$C$9:$C$1002,0)+RIGHT(D14,1),0)","v":327.7},0,null,null,0,0,0,0,0,0,0,0,0,0,0,0,0,0,0,0,0,0,0,0,0,0,0,0,0,0,0,0,0,0,0,0,0,0,0,0,0,0,0,0,0,0,0,0,0,0,0,0,0,0,0,0,0,0]
[null,null,null,"EL2",{"$f":"OFFSET('Efficiency Levels'!$D$11,MATCH($C$9,'Efficiency Levels'!$C$9:$C$1002,0)+RIGHT(D15,1),0)","v":316.10000000000002},0,null,null,0,0,0,0,0,0,0,0,0,0,0,0,0,0,0,0,0,0,0,0,0,0,0,0,0,0,0,0,0,0,0,0,0,0,0,0,0,0,0,0,0,0,0,0,0,0,0,0,0,0,0,0,0,0]
[null,null,null,"EL3",{"$f":"OFFSET('Efficiency Levels'!$D$11,MATCH($C$9,'Efficiency Levels'!$C$9:$C$1002,0)+RIGHT(D16,1),0)","v":304.8},0,null,null,0,0,0,0,0,0,0,0,0,0,0,0,0,0,0,0,0,0,0,0,0,0,0,0,0,0,0,0,0,0,0,0,0,0,0,0,0,0,0,0,0,0,0,0,0,0,0,0,0,0,0,0,0,0]
[null,null,null,"EL4",{"$f":"OFFSET('Efficiency Levels'!$D$11,MATCH($C$9,'Efficiency Levels'!$C$9:$C$1002,0)+RIGHT(D17,1),0)","v":300.89999999999998},0,null,null,0,0,0,0,0,0,0,0,0,0,0,0,0,0,0,0,0,0,0,0,0,0,0,0,0,0,0,0,0,0,0,0,0,0,0,0,0,0,0,0,0,0,0,0,0,0,0,0,0,0,0,0,0,0]
[null,null,null,"EL5",{"$f":"OFFSET('Efficiency Levels'!$D$11,MATCH($C$9,'Efficiency Levels'!$C$9:$C$1002,0)+RIGHT(D18,1),0)","v":300.3},0,null,null,0,0,0,0,0,0,0,0,0,0,0,0,0,0,0,0,0,0,0,0,0,0,0,0,0,0,0,0,0,0,0,0,0,0,0,0,0,0,0,0,0,0,0,0,0,0,0,0,0,0,0,0,0,0]
[null,null,null,"EL6",{"$f":"OFFSET('Efficiency Levels'!$D$11,MATCH($C$9,'Efficiency Levels'!$C$9:$C$1002,0)+RIGHT(D19,1),0)","v":295.2},0,null,null,0,0,0,0,0,0,0,0,0,0,0,0,0,0,0,0,0,0,0,0,0,0,0,0,0,0,0,0,0,0,0,0,0,0,0,0,0,0,0,0,0,0,0,0,0,0,0,0,0,0,0,0,0,0]
[null,null,null,"EL7",{"$f":"OFFSET('Efficiency Levels'!$D$11,MATCH($C$9,'Efficiency Levels'!$C$9:$C$1002,0)+RIGHT(D20,1),0)","v":255},0,null,null,0,0,0,0,0,0,0,0,0,0,0,0,0,0,0,0,0,0,0,0,0,0,0,0,0,0,0,0,0,0,0,0,0,0,0,0,0,0,0,0,0,0,0,0,0,0,0,0,0,0,0,0,0,0]
[null,null,null,"TOTAL",null,{"$f":"SUM(F13:F20)","v":1},null,null,{"$f":"SUM(I13:I20)","v":1},1,1,1,1,1,1,1,1,1,1,1,1,1,1,1,1,1,1,1,1,1,1,1,1,1,1,1,1,1,1,1,1,1,1,1,1,1,1,1,1,1,1,1,1,1,1,1,1,1,1,1,1,{"$f":"SUM(BJ13:BJ20)","v":1}]
[]
[null,null,null,"POST-Case"]
[null,null,null,"Efficiency Level","UEC (kWh / year)",null,null,null,1981,1982,1983,1984,1985,1986,1987,1988,1989,1990,1991,1992,1993,1994,1995,1996,1997,1998,1999,2000,2001,2002,2003,2004,2005,2006,2007,2008,2009,2010,2011,2012,2013,2014,2015,2016,2017,2018,2019,2020,2021,2022,2023,2024,2025,2026,2027,2028,2029,2030,2031,2032,2033,2034]
[null,null,null,"EL0",{"$f":"OFFSET('Efficiency Levels'!$D$11,MATCH($C$9,'Efficiency Levels'!$C$9:$C$1002,0)+RIGHT(D25,1),0)","v":370},null,null,null,{"$f":"IF(I$24<STANDARD_YEAR,I13,\nIF(RIGHT($D25,1)>RIGHT('Efficiency Levels'!$C$22,1),I13,\nIF(RIGHT($D25,1)<RIGHT('Efficiency Levels'!$C$22,1),0,\nIF(RIGHT($D25,1)=RIGHT('Efficiency Levels'!$C$22,1),SUM(OFFSET(I13,-RIGHT($D25,1),0,RIGHT($D25,1),1)),\"ERROR\"))))","v":1},{"$f":"IF(J$24<STANDARD_YEAR,J13,\nIF(RIGHT($D25,1)>RIGHT('Efficiency Levels'!$C$22,1),J13,\nIF(RIGHT($D25,1)<RIGHT('Efficiency Levels'!$C$22,1),0,\nIF(RIGHT($D25,1)=RIGHT('Efficiency Levels'!$C$22,1),SUM(OFFSET(J13,-RIGHT($D25,1),0,RIGHT($D25,1),1)),\"ERROR\"))))","v":1},{"$f":"IF(K$24<STANDARD_YEAR,K13,\nIF(RIGHT($D25,1)>RIGHT('Efficiency Levels'!$C$22,1),K13,\nIF(RIGHT($D25,1)<RIGHT('Efficiency Levels'!$C$22,1),0,\nIF(RIGHT($D25,1)=RIGHT('Efficiency Levels'!$C$22,1),SUM(OFFSET(K13,-RIGHT($D25,1),0,RIGHT($D25,1),1)),\"ERROR\"))))","v":1},{"$f":"IF(L$24<STANDARD_YEAR,L13,\nIF(RIGHT($D25,1)>RIGHT('Efficiency Levels'!$C$22,1),L13,\nIF(RIGHT($D25,1)<RIGHT('Efficiency Levels'!$C$22,1),0,\nIF(RIGHT($D25,1)=RIGHT('Efficiency Levels'!$C$22,1),SUM(OFFSET(L13,-RIGHT($D25,1),0,RIGHT($D25,1),1)),\"ERROR\"))))","v":1},{"$f":"IF(M$24<STANDARD_YEAR,M13,\nIF(RIGHT($D25,1)>RIGHT('Efficiency Levels'!$C$22,1),M13,\nIF(RIGHT($D25,1)<RIGHT('Efficiency Levels'!$C$22,1),0,\nIF(RIGHT($D25,1)=RIGHT('Efficiency Levels'!$C$22,1),SUM(OFFSET(M13,-RIGHT($D25,1),0,RIGHT($D25,1),1)),\"ERROR\"))))","v":1},{"$f":"IF(N$24<STANDARD_YEAR,N13,\nIF(RIGHT($D25,1)>RIGHT('Efficiency Levels'!$C$22,1),N13,\nIF(RIGHT($D25,1)<RIGHT('Efficiency Levels'!$C$22,1),0,\nIF(RIGHT($D25,1)=RIGHT('Efficiency Levels'!$C$22,1),SUM(OFFSET(N13,-RIGHT($D25,1),0,RIGHT($D25,1),1)),\"ERROR\"))))","v":1},{"$f":"IF(O$24<STANDARD_YEAR,O13,\nIF(RIGHT($D25,1)>RIGHT('Efficiency Levels'!$C$22,1),O13,\nIF(RIGHT($D25,1)<RIGHT('Efficiency Levels'!$C$22,1),0,\nIF(RIGHT($D25,1)=RIGHT('Efficiency Levels'!$C$22,1),SUM(OFFSET(O13,-RIGHT($D25,1),0,RIGHT($D25,1),1)),\"ERROR\"))))","v":1},{"$f":"IF(P$24<STANDARD_YEAR,P13,\nIF(RIGHT($D25,1)>RIGHT('Efficiency Levels'!$C$22,1),P13,\nIF(RIGHT($D25,1)<RIGHT('Efficiency Levels'!$C$22,1),0,\nIF(RIGHT($D25,1)=RIGHT('Efficiency Levels'!$C$22,1),SUM(OFFSET(P13,-RIGHT($D25,1),0,RIGHT($D25,1),1)),\"ERROR\"))))","v":1},{"$f":"IF(Q$24<STANDARD_YEAR,Q13,\nIF(RIGHT($D25,1)>RIGHT('Efficiency Levels'!$C$22,1),Q13,\nIF(RIGHT($D25,1)<RIGHT('Efficiency Levels'!$C$22,1),0,\nIF(RIGHT($D25,1)=RIGHT('Efficiency Levels'!$C$22,1),SUM(OFFSET(Q13,-RIGHT($D25,1),0,RIGHT($D25,1),1)),\"ERROR\"))))","v":1},{"$f":"IF(R$24<STANDARD_YEAR,R13,\nIF(RIGHT($D25,1)>RIGHT('Efficiency Levels'!$C$22,1),R13,\nIF(RIGHT($D25,1)<RIGHT('Efficiency Levels'!$C$22,1),0,\nIF(RIGHT($D25,1)=RIGHT('Efficiency Levels'!$C$22,1),SUM(OFFSET(R13,-RIGHT($D25,1),0,RIGHT($D25,1),1)),\"ERROR\"))))","v":1},{"$f":"IF(S$24<STANDARD_YEAR,S13,\nIF(RIGHT($D25,1)>RIGHT('Efficiency Levels'!$C$22,1),S13,\nIF(RIGHT($D25,1)<RIGHT('Efficiency Levels'!$C$22,1),0,\nIF(RIGHT($D25,1)=RIGHT('Efficiency Levels'!$C$22,1),SUM(OFFSET(S13,-RIGHT($D25,1),0,RIGHT($D25,1),1)),\"ERROR\"))))","v":1},{"$f":"IF(T$24<STANDARD_YEAR,T13,\nIF(RIGHT($D25,1)>RIGHT('Efficiency Levels'!$C$22,1),T13,\nIF(RIGHT($D25,1)<RIGHT('Efficiency Levels'!$C$22,1),0,\nIF(RIGHT($D25,1)=RIGHT('Efficiency Levels'!$C$22,1),SUM(OFFSET(T13,-RIGHT($D25,1),0,RIGHT($D25,1),1)),\"ERROR\"))))","v":1},{"$f":"IF(U$24<STANDARD_YEAR,U13,\nIF(RIGHT($D25,1)>RIGHT('Efficiency Levels'!$C$22,1),U13,\nIF(RIGHT($D25,1)<RIGHT('Efficiency Levels'!$C$22,1),0,\nIF(RIGHT($D25,1)=RIGHT('Efficiency Levels'!$C$22,1),SUM(OFFSET(U13,-RIGHT($D25,1),0,RIGHT($D25,1),1)),\"ERROR\"))))","v":1},{"$f":"IF(V$24<STANDARD_YEAR,V13,\nIF(RIGHT($D25,1)>RIGHT('Efficiency Levels'!$C$22,1),V13,\nIF(RIGHT($D25,1)<RIGHT('Efficiency Levels'!$C$22,1),0,\nIF(RIGHT($D25,1)=RIGHT('Efficiency Levels'!$C$22,1),SUM(OFFSET(V13,-RIGHT($D25,1),0,RIGHT($D25,1),1)),\"ERROR\"))))","v":1},{"$f":"IF(W$24<STANDARD_YEAR,W13,\nIF(RIGHT($D25,1)>RIGHT('Efficiency Levels'!$C$22,1),W13,\nIF(RIGHT($D25,1)<RIGHT('Efficiency Levels'!$C$22,1),0,\nIF(RIGHT($D25,1)=RIGHT('Efficiency Levels'!$C$22,1),SUM(OFFSET(W13,-RIGHT($D25,1),0,RIGHT($D25,1),1)),\"ERROR\"))))","v":1},{"$f":"IF(X$24<STANDARD_YEAR,X13,\nIF(RIGHT($D25,1)>RIGHT('Efficiency Levels'!$C$22,1),X13,\nIF(RIGHT($D25,1)<RIGHT('Efficiency Levels'!$C$22,1),0,\nIF(RIGHT($D25,1)=RIGHT('Efficiency Levels'!$C$22,1),SUM(OFFSET(X13,-RIGHT($D25,1),0,RIGHT($D25,1),1)),\"ERROR\"))))","v":1},{"$f":"IF(Y$24<STANDARD_YEAR,Y13,\nIF(RIGHT($D25,1)>RIGHT('Efficiency Levels'!$C$22,1),Y13,\nIF(RIGHT($D25,1)<RIGHT('Efficiency Levels'!$C$22,1),0,\nIF(RIGHT($D25,1)=RIGHT('Efficiency Levels'!$C$22,1),SUM(OFFSET(Y13,-RIGHT($D25,1),0,RIGHT($D25,1),1)),\"ERROR\"))))","v":1},{"$f":"IF(Z$24<STANDARD_YEAR,Z13,\nIF(RIGHT($D25,1)>RIGHT('Efficiency Levels'!$C$22,1),Z13,\nIF(RIGHT($D25,1)<RIGHT('Efficiency Levels'!$C$22,1),0,\nIF(RIGHT($D25,1)=RIGHT('Efficiency Levels'!$C$22,1),SUM(OFFSET(Z13,-RIGHT($D25,1),0,RIGHT($D25,1),1)),\"ERROR\"))))","v":1},{"$f":"IF(AA$24<STANDARD_YEAR,AA13,\nIF(RIGHT($D25,1)>RIGHT('Efficiency Levels'!$C$22,1),AA13,\nIF(RIGHT($D25,1)<RIGHT('Efficiency Levels'!$C$22,1),0,\nIF(RIGHT($D25,1)=RIGHT('Efficiency Levels'!$C$22,1),SUM(OFFSET(AA13,-RIGHT($D25,1),0,RIGHT($D25,1),1)),\"ERROR\"))))","v":1},{"$f":"IF(AB$24<STANDARD_YEAR,AB13,\nIF(RIGHT($D25,1)>RIGHT('Efficiency Levels'!$C$22,1),AB13,\nIF(RIGHT($D25,1)<RIGHT('Efficiency Levels'!$C$22,1),0,\nIF(RIGHT($D25,1)=RIGHT('Efficiency Levels'!$C$22,1),SUM(OFFSET(AB13,-RIGHT($D25,1),0,RIGHT($D25,1),1)),\"ERROR\"))))","v":1},{"$f":"IF(AC$24<STANDARD_YEAR,AC13,\nIF(RIGHT($D25,1)>RIGHT('Efficiency Levels'!$C$22,1),AC13,\nIF(RIGHT($D25,1)<RIGHT('Efficiency Levels'!$C$22,1),0,\nIF(RIGHT($D25,1)=RIGHT('Efficiency Levels'!$C$22,1),SUM(OFFSET(AC13,-RIGHT($D25,1),0,RIGHT($D25,1),1)),\"ERROR\"))))","v":1},{"$f":"IF(AD$24<STANDARD_YEAR,AD13,\nIF(RIGHT($D25,1)>RIGHT('Efficiency Levels'!$C$22,1),AD13,\nIF(RIGHT($D25,1)<RIGHT('Efficiency Levels'!$C$22,1),0,\nIF(RIGHT($D25,1)=RIGHT('Efficiency Levels'!$C$22,1),SUM(OFFSET(AD13,-RIGHT($D25,1),0,RIGHT($D25,1),1)),\"ERROR\"))))","v":1},{"$f":"IF(AE$24<STANDARD_YEAR,AE13,\nIF(RIGHT($D25,1)>RIGHT('Efficiency Levels'!$C$22,1),AE13,\nIF(RIGHT($D25,1)<RIGHT('Efficiency Levels'!$C$22,1),0,\nIF(RIGHT($D25,1)=RIGHT('Efficiency Levels'!$C$22,1),SUM(OFFSET(AE13,-RIGHT($D25,1),0,RIGHT($D25,1),1)),\"ERROR\"))))","v":1},{"$f":"IF(AF$24<STANDARD_YEAR,AF13,\nIF(RIGHT($D25,1)>RIGHT('Efficiency Levels'!$C$22,1),AF13,\nIF(RIGHT($D25,1)<RIGHT('Efficiency Levels'!$C$22,1),0,\nIF(RIGHT($D25,1)=RIGHT('Efficiency Levels'!$C$22,1),SUM(OFFSET(AF13,-RIGHT($D25,1),0,RIGHT($D25,1),1)),\"ERROR\"))))","v":1},{"$f":"IF(AG$24<STANDARD_YEAR,AG13,\nIF(RIGHT($D25,1)>RIGHT('Efficiency Levels'!$C$22,1),AG13,\nIF(RIGHT($D25,1)<RIGHT('Efficiency Levels'!$C$22,1),0,\nIF(RIGHT($D25,1)=RIGHT('Efficiency Levels'!$C$22,1),SUM(OFFSET(AG13,-RIGHT($D25,1),0,RIGHT($D25,1),1)),\"ERROR\"))))","v":1},{"$f":"IF(AH$24<STANDARD_YEAR,AH13,\nIF(RIGHT($D25,1)>RIGHT('Efficiency Levels'!$C$22,1),AH13,\nIF(RIGHT($D25,1)<RIGHT('Efficiency Levels'!$C$22,1),0,\nIF(RIGHT($D25,1)=RIGHT('Efficiency Levels'!$C$22,1),SUM(OFFSET(AH13,-RIGHT($D25,1),0,RIGHT($D25,1),1)),\"ERROR\"))))","v":1},{"$f":"IF(AI$24<STANDARD_YEAR,AI13,\nIF(RIGHT($D25,1)>RIGHT('Efficiency Levels'!$C$22,1),AI13,\nIF(RIGHT($D25,1)<RIGHT('Efficiency Levels'!$C$22,1),0,\nIF(RIGHT($D25,1)=RIGHT('Efficiency Levels'!$C$22,1),SUM(OFFSET(AI13,-RIGHT($D25,1),0,RIGHT($D25,1),1)),\"ERROR\"))))","v":1},{"$f":"IF(AJ$24<STANDARD_YEAR,AJ13,\nIF(RIGHT($D25,1)>RIGHT('Efficiency Levels'!$C$22,1),AJ13,\nIF(RIGHT($D25,1)<RIGHT('Efficiency Levels'!$C$22,1),0,\nIF(RIGHT($D25,1)=RIGHT('Efficiency Levels'!$C$22,1),SUM(OFFSET(AJ13,-RIGHT($D25,1),0,RIGHT($D25,1),1)),\"ERROR\"))))","v":1},{"$f":"IF(AK$24<STANDARD_YEAR,AK13,\nIF(RIGHT($D25,1)>RIGHT('Efficiency Levels'!$C$22,1),AK13,\nIF(RIGHT($D25,1)<RIGHT('Efficiency Levels'!$C$22,1),0,\nIF(RIGHT($D25,1)=RIGHT('Efficiency Levels'!$C$22,1),SUM(OFFSET(AK13,-RIGHT($D25,1),0,RIGHT($D25,1),1)),\"ERROR\"))))","v":1},{"$f":"IF(AL$24<STANDARD_YEAR,AL13,\nIF(RIGHT($D25,1)>RIGHT('Efficiency Levels'!$C$22,1),AL13,\nIF(RIGHT($D25,1)<RIGHT('Efficiency Levels'!$C$22,1),0,\nIF(RIGHT($D25,1)=RIGHT('Efficiency Levels'!$C$22,1),SUM(OFFSET(AL13,-RIGHT($D25,1),0,RIGHT($D25,1),1)),\"ERROR\"))))","v":1},{"$f":"IF(AM$24<STANDARD_YEAR,AM13,\nIF(RIGHT($D25,1)>RIGHT('Efficiency Levels'!$C$22,1),AM13,\nIF(RIGHT($D25,1)<RIGHT('Efficiency Levels'!$C$22,1),0,\nIF(RIGHT($D25,1)=RIGHT('Efficiency Levels'!$C$22,1),SUM(OFFSET(AM13,-RIGHT($D25,1),0,RIGHT($D25,1),1)),\"ERROR\"))))","v":1},{"$f":"IF(AN$24<STANDARD_YEAR,AN13,\nIF(RIGHT($D25,1)>RIGHT('Efficiency Levels'!$C$22,1),AN13,\nIF(RIGHT($D25,1)<RIGHT('Efficiency Levels'!$C$22,1),0,\nIF(RIGHT($D25,1)=RIGHT('Efficiency Levels'!$C$22,1),SUM(OFFSET(AN13,-RIGHT($D25,1),0,RIGHT($D25,1),1)),\"ERROR\"))))","v":1},{"$f":"IF(AO$24<STANDARD_YEAR,AO13,\nIF(RIGHT($D25,1)>RIGHT('Efficiency Levels'!$C$22,1),AO13,\nIF(RIGHT($D25,1)<RIGHT('Efficiency Levels'!$C$22,1),0,\nIF(RIGHT($D25,1)=RIGHT('Efficiency Levels'!$C$22,1),SUM(OFFSET(AO13,-RIGHT($D25,1),0,RIGHT($D25,1),1)),\"ERROR\"))))","v":1},{"$f":"IF(AP$24<STANDARD_YEAR,AP13,\nIF(RIGHT($D25,1)>RIGHT('Efficiency Levels'!$C$22,1),AP13,\nIF(RIGHT($D25,1)<RIGHT('Efficiency Levels'!$C$22,1),0,\nIF(RIGHT($D25,1)=RIGHT('Efficiency Levels'!$C$22,1),SUM(OFFSET(AP13,-RIGHT($D25,1),0,RIGHT($D25,1),1)),\"ERROR\"))))","v":1},{"$f":"IF(AQ$24<STANDARD_YEAR,AQ13,\nIF(RIGHT($D25,1)>RIGHT('Efficiency Levels'!$C$22,1),AQ13,\nIF(RIGHT($D25,1)<RIGHT('Efficiency Levels'!$C$22,1),0,\nIF(RIGHT($D25,1)=RIGHT('Efficiency Levels'!$C$22,1),SUM(OFFSET(AQ13,-RIGHT($D25,1),0,RIGHT($D25,1),1)),\"ERROR\"))))","v":1},{"$f":"IF(AR$24<STANDARD_YEAR,AR13,\nIF(RIGHT($D25,1)>RIGHT('Efficiency Levels'!$C$22,1),AR13,\nIF(RIGHT($D25,1)<RIGHT('Efficiency Levels'!$C$22,1),0,\nIF(RIGHT($D25,1)=RIGHT('Efficiency Levels'!$C$22,1),SUM(OFFSET(AR13,-RIGHT($D25,1),0,RIGHT($D25,1),1)),\"ERROR\"))))","v":1},{"$f":"IF(AS$24<STANDARD_YEAR,AS13,\nIF(RIGHT($D25,1)>RIGHT('Efficiency Levels'!$C$22,1),AS13,\nIF(RIGHT($D25,1)<RIGHT('Efficiency Levels'!$C$22,1),0,\nIF(RIGHT($D25,1)=RIGHT('Efficiency Levels'!$C$22,1),SUM(OFFSET(AS13,-RIGHT($D25,1),0,RIGHT($D25,1),1)),\"ERROR\"))))","v":1},{"$f":"IF(AT$24<STANDARD_YEAR,AT13,\nIF(RIGHT($D25,1)>RIGHT('Efficiency Levels'!$C$22,1),AT13,\nIF(RIGHT($D25,1)<RIGHT('Efficiency Levels'!$C$22,1),0,\nIF(RIGHT($D25,1)=RIGHT('Efficiency Levels'!$C$22,1),SUM(OFFSET(AT13,-RIGHT($D25,1),0,RIGHT($D25,1),1)),\"ERROR\"))))","v":1},{"$f":"IF(AU$24<STANDARD_YEAR,AU13,\nIF(RIGHT($D25,1)>RIGHT('Efficiency Levels'!$C$22,1),AU13,\nIF(RIGHT($D25,1)<RIGHT('Efficiency Levels'!$C$22,1),0,\nIF(RIGHT($D25,1)=RIGHT('Efficiency Levels'!$C$22,1),SUM(OFFSET(AU13,-RIGHT($D25,1),0,RIGHT($D25,1),1)),\"ERROR\"))))","v":0},{"$f":"IF(AV$24<STANDARD_YEAR,AV13,\nIF(RIGHT($D25,1)>RIGHT('Efficiency Levels'!$C$22,1),AV13,\nIF(RIGHT($D25,1)<RIGHT('Efficiency Levels'!$C$22,1),0,\nIF(RIGHT($D25,1)=RIGHT('Efficiency Levels'!$C$22,1),SUM(OFFSET(AV13,-RIGHT($D25,1),0,RIGHT($D25,1),1)),\"ERROR\"))))","v":0},{"$f":"IF(AW$24<STANDARD_YEAR,AW13,\nIF(RIGHT($D25,1)>RIGHT('Efficiency Levels'!$C$22,1),AW13,\nIF(RIGHT($D25,1)<RIGHT('Efficiency Levels'!$C$22,1),0,\nIF(RIGHT($D25,1)=RIGHT('Efficiency Levels'!$C$22,1),SUM(OFFSET(AW13,-RIGHT($D25,1),0,RIGHT($D25,1),1)),\"ERROR\"))))","v":0},{"$f":"IF(AX$24<STANDARD_YEAR,AX13,\nIF(RIGHT($D25,1)>RIGHT('Efficiency Levels'!$C$22,1),AX13,\nIF(RIGHT($D25,1)<RIGHT('Efficiency Levels'!$C$22,1),0,\nIF(RIGHT($D25,1)=RIGHT('Efficiency Levels'!$C$22,1),SUM(OFFSET(AX13,-RIGHT($D25,1),0,RIGHT($D25,1),1)),\"ERROR\"))))","v":0},{"$f":"IF(AY$24<STANDARD_YEAR,AY13,\nIF(RIGHT($D25,1)>RIGHT('Efficiency Levels'!$C$22,1),AY13,\nIF(RIGHT($D25,1)<RIGHT('Efficiency Levels'!$C$22,1),0,\nIF(RIGHT($D25,1)=RIGHT('Efficiency Levels'!$C$22,1),SUM(OFFSET(AY13,-RIGHT($D25,1),0,RIGHT($D25,1),1)),\"ERROR\"))))","v":0},{"$f":"IF(AZ$24<STANDARD_YEAR,AZ13,\nIF(RIGHT($D25,1)>RIGHT('Efficiency Levels'!$C$22,1),AZ13,\nIF(RIGHT($D25,1)<RIGHT('Efficiency Levels'!$C$22,1),0,\nIF(RIGHT($D25,1)=RIGHT('Efficiency Levels'!$C$22,1),SUM(OFFSET(AZ13,-RIGHT($D25,1),0,RIGHT($D25,1),1)),\"ERROR\"))))","v":0},{"$f":"IF(BA$24<STANDARD_YEAR,BA13,\nIF(RIGHT($D25,1)>RIGHT('Efficiency Levels'!$C$22,1),BA13,\nIF(RIGHT($D25,1)<RIGHT('Efficiency Levels'!$C$22,1),0,\nIF(RIGHT($D25,1)=RIGHT('Efficiency Levels'!$C$22,1),SUM(OFFSET(BA13,-RIGHT($D25,1),0,RIGHT($D25,1),1)),\"ERROR\"))))","v":0},{"$f":"IF(BB$24<STANDARD_YEAR,BB13,\nIF(RIGHT($D25,1)>RIGHT('Efficiency Levels'!$C$22,1),BB13,\nIF(RIGHT($D25,1)<RIGHT('Efficiency Levels'!$C$22,1),0,\nIF(RIGHT($D25,1)=RIGHT('Efficiency Levels'!$C$22,1),SUM(OFFSET(BB13,-RIGHT($D25,1),0,RIGHT($D25,1),1)),\"ERROR\"))))","v":0},{"$f":"IF(BC$24<STANDARD_YEAR,BC13,\nIF(RIGHT($D25,1)>RIGHT('Efficiency Levels'!$C$22,1),BC13,\nIF(RIGHT($D25,1)<RIGHT('Efficiency Levels'!$C$22,1),0,\nIF(RIGHT($D25,1)=RIGHT('Efficiency Levels'!$C$22,1),SUM(OFFSET(BC13,-RIGHT($D25,1),0,RIGHT($D25,1),1)),\"ERROR\"))))","v":0},{"$f":"IF(BD$24<STANDARD_YEAR,BD13,\nIF(RIGHT($D25,1)>RIGHT('Efficiency Levels'!$C$22,1),BD13,\nIF(RIGHT($D25,1)<RIGHT('Efficiency Levels'!$C$22,1),0,\nIF(RIGHT($D25,1)=RIGHT('Efficiency Levels'!$C$22,1),SUM(OFFSET(BD13,-RIGHT($D25,1),0,RIGHT($D25,1),1)),\"ERROR\"))))","v":0},{"$f":"IF(BE$24<STANDARD_YEAR,BE13,\nIF(RIGHT($D25,1)>RIGHT('Efficiency Levels'!$C$22,1),BE13,\nIF(RIGHT($D25,1)<RIGHT('Efficiency Levels'!$C$22,1),0,\nIF(RIGHT($D25,1)=RIGHT('Efficiency Levels'!$C$22,1),SUM(OFFSET(BE13,-RIGHT($D25,1),0,RIGHT($D25,1),1)),\"ERROR\"))))","v":0},{"$f":"IF(BF$24<STANDARD_YEAR,BF13,\nIF(RIGHT($D25,1)>RIGHT('Efficiency Levels'!$C$22,1),BF13,\nIF(RIGHT($D25,1)<RIGHT('Efficiency Levels'!$C$22,1),0,\nIF(RIGHT($D25,1)=RIGHT('Efficiency Levels'!$C$22,1),SUM(OFFSET(BF13,-RIGHT($D25,1),0,RIGHT($D25,1),1)),\"ERROR\"))))","v":0},{"$f":"IF(BG$24<STANDARD_YEAR,BG13,\nIF(RIGHT($D25,1)>RIGHT('Efficiency Levels'!$C$22,1),BG13,\nIF(RIGHT($D25,1)<RIGHT('Efficiency Levels'!$C$22,1),0,\nIF(RIGHT($D25,1)=RIGHT('Efficiency Levels'!$C$22,1),SUM(OFFSET(BG13,-RIGHT($D25,1),0,RIGHT($D25,1),1)),\"ERROR\"))))","v":0},{"$f":"IF(BH$24<STANDARD_YEAR,BH13,\nIF(RIGHT($D25,1)>RIGHT('Efficiency Levels'!$C$22,1),BH13,\nIF(RIGHT($D25,1)<RIGHT('Efficiency Levels'!$C$22,1),0,\nIF(RIGHT($D25,1)=RIGHT('Efficiency Levels'!$C$22,1),SUM(OFFSET(BH13,-RIGHT($D25,1),0,RIGHT($D25,1),1)),\"ERROR\"))))","v":0},{"$f":"IF(BI$24<STANDARD_YEAR,BI13,\nIF(RIGHT($D25,1)>RIGHT('Efficiency Levels'!$C$22,1),BI13,\nIF(RIGHT($D25,1)<RIGHT('Efficiency Levels'!$C$22,1),0,\nIF(RIGHT($D25,1)=RIGHT('Efficiency Levels'!$C$22,1),SUM(OFFSET(BI13,-RIGHT($D25,1),0,RIGHT($D25,1),1)),\"ERROR\"))))","v":0},{"$f":"IF(BJ$24<STANDARD_YEAR,BJ13,\nIF(RIGHT($D25,1)>RIGHT('Efficiency Levels'!$C$22,1),BJ13,\nIF(RIGHT($D25,1)<RIGHT('Efficiency Levels'!$C$22,1),0,\nIF(RIGHT($D25,1)=RIGHT('Efficiency Levels'!$C$22,1),SUM(OFFSET(BJ13,-RIGHT($D25,1),0,RIGHT($D25,1),1)),\"ERROR\"))))","v":0}]
[null,null,null,"EL1",{"$f":"OFFSET('Efficiency Levels'!$D$11,MATCH($C$9,'Efficiency Levels'!$C$9:$C$1002,0)+RIGHT(D26,1),0)","v":327.7},null,null,null,{"$f":"IF(I$24<STANDARD_YEAR,I14,\nIF(RIGHT($D26,1)>RIGHT('Efficiency Levels'!$C$22,1),I14,\nIF(RIGHT($D26,1)<RIGHT('Efficiency Levels'!$C$22,1),0,\nIF(RIGHT($D26,1)=RIGHT('Efficiency Levels'!$C$22,1),SUM(OFFSET(I14,-RIGHT($D26,1),0,RIGHT($D26,1),1)),\"ERROR\"))))","v":0},{"$f":"IF(J$24<STANDARD_YEAR,J14,\nIF(RIGHT($D26,1)>RIGHT('Efficiency Levels'!$C$22,1),J14,\nIF(RIGHT($D26,1)<RIGHT('Efficiency Levels'!$C$22,1),0,\nIF(RIGHT($D26,1)=RIGHT('Efficiency Levels'!$C$22,1),SUM(OFFSET(J14,-RIGHT($D26,1),0,RIGHT($D26,1),1)),\"ERROR\"))))","v":0},{"$f":"IF(K$24<STANDARD_YEAR,K14,\nIF(RIGHT($D26,1)>RIGHT('Efficiency Levels'!$C$22,1),K14,\nIF(RIGHT($D26,1)<RIGHT('Efficiency Levels'!$C$22,1),0,\nIF(RIGHT($D26,1)=RIGHT('Efficiency Levels'!$C$22,1),SUM(OFFSET(K14,-RIGHT($D26,1),0,RIGHT($D26,1),1)),\"ERROR\"))))","v":0},{"$f":"IF(L$24<STANDARD_YEAR,L14,\nIF(RIGHT($D26,1)>RIGHT('Efficiency Levels'!$C$22,1),L14,\nIF(RIGHT($D26,1)<RIGHT('Efficiency Levels'!$C$22,1),0,\nIF(RIGHT($D26,1)=RIGHT('Efficiency Levels'!$C$22,1),SUM(OFFSET(L14,-RIGHT($D26,1),0,RIGHT($D26,1),1)),\"ERROR\"))))","v":0},{"$f":"IF(M$24<STANDARD_YEAR,M14,\nIF(RIGHT($D26,1)>RIGHT('Efficiency Levels'!$C$22,1),M14,\nIF(RIGHT($D26,1)<RIGHT('Efficiency Levels'!$C$22,1),0,\nIF(RIGHT($D26,1)=RIGHT('Efficiency Levels'!$C$22,1),SUM(OFFSET(M14,-RIGHT($D26,1),0,RIGHT($D26,1),1)),\"ERROR\"))))","v":0},{"$f":"IF(N$24<STANDARD_YEAR,N14,\nIF(RIGHT($D26,1)>RIGHT('Efficiency Levels'!$C$22,1),N14,\nIF(RIGHT($D26,1)<RIGHT('Efficiency Levels'!$C$22,1),0,\nIF(RIGHT($D26,1)=RIGHT('Efficiency Levels'!$C$22,1),SUM(OFFSET(N14,-RIGHT($D26,1),0,RIGHT($D26,1),1)),\"ERROR\"))))","v":0},{"$f":"IF(O$24<STANDARD_YEAR,O14,\nIF(RIGHT($D26,1)>RIGHT('Efficiency Levels'!$C$22,1),O14,\nIF(RIGHT($D26,1)<RIGHT('Efficiency Levels'!$C$22,1),0,\nIF(RIGHT($D26,1)=RIGHT('Efficiency Levels'!$C$22,1),SUM(OFFSET(O14,-RIGHT($D26,1),0,RIGHT($D26,1),1)),\"ERROR\"))))","v":0},{"$f":"IF(P$24<STANDARD_YEAR,P14,\nIF(RIGHT($D26,1)>RIGHT('Efficiency Levels'!$C$22,1),P14,\nIF(RIGHT($D26,1)<RIGHT('Efficiency Levels'!$C$22,1),0,\nIF(RIGHT($D26,1)=RIGHT('Efficiency Levels'!$C$22,1),SUM(OFFSET(P14,-RIGHT($D26,1),0,RIGHT($D26,1),1)),\"ERROR\"))))","v":0},{"$f":"IF(Q$24<STANDARD_YEAR,Q14,\nIF(RIGHT($D26,1)>RIGHT('Efficiency Levels'!$C$22,1),Q14,\nIF(RIGHT($D26,1)<RIGHT('Efficiency Levels'!$C$22,1),0,\nIF(RIGHT($D26,1)=RIGHT('Efficiency Levels'!$C$22,1),SUM(OFFSET(Q14,-RIGHT($D26,1),0,RIGHT($D26,1),1)),\"ERROR\"))))","v":0},{"$f":"IF(R$24<STANDARD_YEAR,R14,\nIF(RIGHT($D26,1)>RIGHT('Efficiency Levels'!$C$22,1),R14,\nIF(RIGHT($D26,1)<RIGHT('Efficiency Levels'!$C$22,1),0,\nIF(RIGHT($D26,1)=RIGHT('Efficiency Levels'!$C$22,1),SUM(OFFSET(R14,-RIGHT($D26,1),0,RIGHT($D26,1),1)),\"ERROR\"))))","v":0},{"$f":"IF(S$24<STANDARD_YEAR,S14,\nIF(RIGHT($D26,1)>RIGHT('Efficiency Levels'!$C$22,1),S14,\nIF(RIGHT($D26,1)<RIGHT('Efficiency Levels'!$C$22,1),0,\nIF(RIGHT($D26,1)=RIGHT('Efficiency Levels'!$C$22,1),SUM(OFFSET(S14,-RIGHT($D26,1),0,RIGHT($D26,1),1)),\"ERROR\"))))","v":0},{"$f":"IF(T$24<STANDARD_YEAR,T14,\nIF(RIGHT($D26,1)>RIGHT('Efficiency Levels'!$C$22,1),T14,\nIF(RIGHT($D26,1)<RIGHT('Efficiency Levels'!$C$22,1),0,\nIF(RIGHT($D26,1)=RIGHT('Efficiency Levels'!$C$22,1),SUM(OFFSET(T14,-RIGHT($D26,1),0,RIGHT($D26,1),1)),\"ERROR\"))))","v":0},{"$f":"IF(U$24<STANDARD_YEAR,U14,\nIF(RIGHT($D26,1)>RIGHT('Efficiency Levels'!$C$22,1),U14,\nIF(RIGHT($D26,1)<RIGHT('Efficiency Levels'!$C$22,1),0,\nIF(RIGHT($D26,1)=RIGHT('Efficiency Levels'!$C$22,1),SUM(OFFSET(U14,-RIGHT($D26,1),0,RIGHT($D26,1),1)),\"ERROR\"))))","v":0},{"$f":"IF(V$24<STANDARD_YEAR,V14,\nIF(RIGHT($D26,1)>RIGHT('Efficiency Levels'!$C$22,1),V14,\nIF(RIGHT($D26,1)<RIGHT('Efficiency Levels'!$C$22,1),0,\nIF(RIGHT($D26,1)=RIGHT('Efficiency Levels'!$C$22,1),SUM(OFFSET(V14,-RIGHT($D26,1),0,RIGHT($D26,1),1)),\"ERROR\"))))","v":0},{"$f":"IF(W$24<STANDARD_YEAR,W14,\nIF(RIGHT($D26,1)>RIGHT('Efficiency Levels'!$C$22,1),W14,\nIF(RIGHT($D26,1)<RIGHT('Efficiency Levels'!$C$22,1),0,\nIF(RIGHT($D26,1)=RIGHT('Efficiency Levels'!$C$22,1),SUM(OFFSET(W14,-RIGHT($D26,1),0,RIGHT($D26,1),1)),\"ERROR\"))))","v":0},{"$f":"IF(X$24<STANDARD_YEAR,X14,\nIF(RIGHT($D26,1)>RIGHT('Efficiency Levels'!$C$22,1),X14,\nIF(RIGHT($D26,1)<RIGHT('Efficiency Levels'!$C$22,1),0,\nIF(RIGHT($D26,1)=RIGHT('Efficiency Levels'!$C$22,1),SUM(OFFSET(X14,-RIGHT($D26,1),0,RIGHT($D26,1),1)),\"ERROR\"))))","v":0},{"$f":"IF(Y$24<STANDARD_YEAR,Y14,\nIF(RIGHT($D26,1)>RIGHT('Efficiency Levels'!$C$22,1),Y14,\nIF(RIGHT($D26,1)<RIGHT('Efficiency Levels'!$C$22,1),0,\nIF(RIGHT($D26,1)=RIGHT('Efficiency Levels'!$C$22,1),SUM(OFFSET(Y14,-RIGHT($D26,1),0,RIGHT($D26,1),1)),\"ERROR\"))))","v":0},{"$f":"IF(Z$24<STANDARD_YEAR,Z14,\nIF(RIGHT($D26,1)>RIGHT('Efficiency Levels'!$C$22,1),Z14,\nIF(RIGHT($D26,1)<RIGHT('Efficiency Levels'!$C$22,1),0,\nIF(RIGHT($D26,1)=RIGHT('Efficiency Levels'!$C$22,1),SUM(OFFSET(Z14,-RIGHT($D26,1),0,RIGHT($D26,1),1)),\"ERROR\"))))","v":0},{"$f":"IF(AA$24<STANDARD_YEAR,AA14,\nIF(RIGHT($D26,1)>RIGHT('Efficiency Levels'!$C$22,1),AA14,\nIF(RIGHT($D26,1)<RIGHT('Efficiency Levels'!$C$22,1),0,\nIF(RIGHT($D26,1)=RIGHT('Efficiency Levels'!$C$22,1),SUM(OFFSET(AA14,-RIGHT($D26,1),0,RIGHT($D26,1),1)),\"ERROR\"))))","v":0},{"$f":"IF(AB$24<STANDARD_YEAR,AB14,\nIF(RIGHT($D26,1)>RIGHT('Efficiency Levels'!$C$22,1),AB14,\nIF(RIGHT($D26,1)<RIGHT('Efficiency Levels'!$C$22,1),0,\nIF(RIGHT($D26,1)=RIGHT('Efficiency Levels'!$C$22,1),SUM(OFFSET(AB14,-RIGHT($D26,1),0,RIGHT($D26,1),1)),\"ERROR\"))))","v":0},{"$f":"IF(AC$24<STANDARD_YEAR,AC14,\nIF(RIGHT($D26,1)>RIGHT('Efficiency Levels'!$C$22,1),AC14,\nIF(RIGHT($D26,1)<RIGHT('Efficiency Levels'!$C$22,1),0,\nIF(RIGHT($D26,1)=RIGHT('Efficiency Levels'!$C$22,1),SUM(OFFSET(AC14,-RIGHT($D26,1),0,RIGHT($D26,1),1)),\"ERROR\"))))","v":0},{"$f":"IF(AD$24<STANDARD_YEAR,AD14,\nIF(RIGHT($D26,1)>RIGHT('Efficiency Levels'!$C$22,1),AD14,\nIF(RIGHT($D26,1)<RIGHT('Efficiency Levels'!$C$22,1),0,\nIF(RIGHT($D26,1)=RIGHT('Efficiency Levels'!$C$22,1),SUM(OFFSET(AD14,-RIGHT($D26,1),0,RIGHT($D26,1),1)),\"ERROR\"))))","v":0},{"$f":"IF(AE$24<STANDARD_YEAR,AE14,\nIF(RIGHT($D26,1)>RIGHT('Efficiency Levels'!$C$22,1),AE14,\nIF(RIGHT($D26,1)<RIGHT('Efficiency Levels'!$C$22,1),0,\nIF(RIGHT($D26,1)=RIGHT('Efficiency Levels'!$C$22,1),SUM(OFFSET(AE14,-RIGHT($D26,1),0,RIGHT($D26,1),1)),\"ERROR\"))))","v":0},{"$f":"IF(AF$24<STANDARD_YEAR,AF14,\nIF(RIGHT($D26,1)>RIGHT('Efficiency Levels'!$C$22,1),AF14,\nIF(RIGHT($D26,1)<RIGHT('Efficiency Levels'!$C$22,1),0,\nIF(RIGHT($D26,1)=RIGHT('Efficiency Levels'!$C$22,1),SUM(OFFSET(AF14,-RIGHT($D26,1),0,RIGHT($D26,1),1)),\"ERROR\"))))","v":0},{"$f":"IF(AG$24<STANDARD_YEAR,AG14,\nIF(RIGHT($D26,1)>RIGHT('Efficiency Levels'!$C$22,1),AG14,\nIF(RIGHT($D26,1)<RIGHT('Efficiency Levels'!$C$22,1),0,\nIF(RIGHT($D26,1)=RIGHT('Efficiency Levels'!$C$22,1),SUM(OFFSET(AG14,-RIGHT($D26,1),0,RIGHT($D26,1),1)),\"ERROR\"))))","v":0},{"$f":"IF(AH$24<STANDARD_YEAR,AH14,\nIF(RIGHT($D26,1)>RIGHT('Efficiency Levels'!$C$22,1),AH14,\nIF(RIGHT($D26,1)<RIGHT('Efficiency Levels'!$C$22,1),0,\nIF(RIGHT($D26,1)=RIGHT('Efficiency Levels'!$C$22,1),SUM(OFFSET(AH14,-RIGHT($D26,1),0,RIGHT($D26,1),1)),\"ERROR\"))))","v":0},{"$f":"IF(AI$24<STANDARD_YEAR,AI14,\nIF(RIGHT($D26,1)>RIGHT('Efficiency Levels'!$C$22,1),AI14,\nIF(RIGHT($D26,1)<RIGHT('Efficiency Levels'!$C$22,1),0,\nIF(RIGHT($D26,1)=RIGHT('Efficiency Levels'!$C$22,1),SUM(OFFSET(AI14,-RIGHT($D26,1),0,RIGHT($D26,1),1)),\"ERROR\"))))","v":0},{"$f":"IF(AJ$24<STANDARD_YEAR,AJ14,\nIF(RIGHT($D26,1)>RIGHT('Efficiency Levels'!$C$22,1),AJ14,\nIF(RIGHT($D26,1)<RIGHT('Efficiency Levels'!$C$22,1),0,\nIF(RIGHT($D26,1)=RIGHT('Efficiency Levels'!$C$22,1),SUM(OFFSET(AJ14,-RIGHT($D26,1),0,RIGHT($D26,1),1)),\"ERROR\"))))","v":0},{"$f":"IF(AK$24<STANDARD_YEAR,AK14,\nIF(RIGHT($D26,1)>RIGHT('Efficiency Levels'!$C$22,1),AK14,\nIF(RIGHT($D26,1)<RIGHT('Efficiency Levels'!$C$22,1),0,\nIF(RIGHT($D26,1)=RIGHT('Efficiency Levels'!$C$22,1),SUM(OFFSET(AK14,-RIGHT($D26,1),0,RIGHT($D26,1),1)),\"ERROR\"))))","v":0},{"$f":"IF(AL$24<STANDARD_YEAR,AL14,\nIF(RIGHT($D26,1)>RIGHT('Efficiency Levels'!$C$22,1),AL14,\nIF(RIGHT($D26,1)<RIGHT('Efficiency Levels'!$C$22,1),0,\nIF(RIGHT($D26,1)=RIGHT('Efficiency Levels'!$C$22,1),SUM(OFFSET(AL14,-RIGHT($D26,1),0,RIGHT($D26,1),1)),\"ERROR\"))))","v":0},{"$f":"IF(AM$24<STANDARD_YEAR,AM14,\nIF(RIGHT($D26,1)>RIGHT('Efficiency Levels'!$C$22,1),AM14,\nIF(RIGHT($D26,1)<RIGHT('Efficiency Levels'!$C$22,1),0,\nIF(RIGHT($D26,1)=RIGHT('Efficiency Levels'!$C$22,1),SUM(OFFSET(AM14,-RIGHT($D26,1),0,RIGHT($D26,1),1)),\"ERROR\"))))","v":0},{"$f":"IF(AN$24<STANDARD_YEAR,AN14,\nIF(RIGHT($D26,1)>RIGHT('Efficiency Levels'!$C$22,1),AN14,\nIF(RIGHT($D26,1)<RIGHT('Efficiency Levels'!$C$22,1),0,\nIF(RIGHT($D26,1)=RIGHT('Efficiency Levels'!$C$22,1),SUM(OFFSET(AN14,-RIGHT($D26,1),0,RIGHT($D26,1),1)),\"ERROR\"))))","v":0},{"$f":"IF(AO$24<STANDARD_YEAR,AO14,\nIF(RIGHT($D26,1)>RIGHT('Efficiency Levels'!$C$22,1),AO14,\nIF(RIGHT($D26,1)<RIGHT('Efficiency Levels'!$C$22,1),0,\nIF(RIGHT($D26,1)=RIGHT('Efficiency Levels'!$C$22,1),SUM(OFFSET(AO14,-RIGHT($D26,1),0,RIGHT($D26,1),1)),\"ERROR\"))))","v":0},{"$f":"IF(AP$24<STANDARD_YEAR,AP14,\nIF(RIGHT($D26,1)>RIGHT('Efficiency Levels'!$C$22,1),AP14,\nIF(RIGHT($D26,1)<RIGHT('Efficiency Levels'!$C$22,1),0,\nIF(RIGHT($D26,1)=RIGHT('Efficiency Levels'!$C$22,1),SUM(OFFSET(AP14,-RIGHT($D26,1),0,RIGHT($D26,1),1)),\"ERROR\"))))","v":0},{"$f":"IF(AQ$24<STANDARD_YEAR,AQ14,\nIF(RIGHT($D26,1)>RIGHT('Efficiency Levels'!$C$22,1),AQ14,\nIF(RIGHT($D26,1)<RIGHT('Efficiency Levels'!$C$22,1),0,\nIF(RIGHT($D26,1)=RIGHT('Efficiency Levels'!$C$22,1),SUM(OFFSET(AQ14,-RIGHT($D26,1),0,RIGHT($D26,1),1)),\"ERROR\"))))","v":0},{"$f":"IF(AR$24<STANDARD_YEAR,AR14,\nIF(RIGHT($D26,1)>RIGHT('Efficiency Levels'!$C$22,1),AR14,\nIF(RIGHT($D26,1)<RIGHT('Efficiency Levels'!$C$22,1),0,\nIF(RIGHT($D26,1)=RIGHT('Efficiency Levels'!$C$22,1),SUM(OFFSET(AR14,-RIGHT($D26,1),0,RIGHT($D26,1),1)),\"ERROR\"))))","v":0},{"$f":"IF(AS$24<STANDARD_YEAR,AS14,\nIF(RIGHT($D26,1)>RIGHT('Efficiency Levels'!$C$22,1),AS14,\nIF(RIGHT($D26,1)<RIGHT('Efficiency Levels'!$C$22,1),0,\nIF(RIGHT($D26,1)=RIGHT('Efficiency Levels'!$C$22,1),SUM(OFFSET(AS14,-RIGHT($D26,1),0,RIGHT($D26,1),1)),\"ERROR\"))))","v":0},{"$f":"IF(AT$24<STANDARD_YEAR,AT14,\nIF(RIGHT($D26,1)>RIGHT('Efficiency Levels'!$C$22,1),AT14,\nIF(RIGHT($D26,1)<RIGHT('Efficiency Levels'!$C$22,1),0,\nIF(RIGHT($D26,1)=RIGHT('Efficiency Levels'!$C$22,1),SUM(OFFSET(AT14,-RIGHT($D26,1),0,RIGHT($D26,1),1)),\"ERROR\"))))","v":0},{"$f":"IF(AU$24<STANDARD_YEAR,AU14,\nIF(RIGHT($D26,1)>RIGHT('Efficiency Levels'!$C$22,1),AU14,\nIF(RIGHT($D26,1)<RIGHT('Efficiency Levels'!$C$22,1),0,\nIF(RIGHT($D26,1)=RIGHT('Efficiency Levels'!$C$22,1),SUM(OFFSET(AU14,-RIGHT($D26,1),0,RIGHT($D26,1),1)),\"ERROR\"))))","v":0},{"$f":"IF(AV$24<STANDARD_YEAR,AV14,\nIF(RIGHT($D26,1)>RIGHT('Efficiency Levels'!$C$22,1),AV14,\nIF(RIGHT($D26,1)<RIGHT('Efficiency Levels'!$C$22,1),0,\nIF(RIGHT($D26,1)=RIGHT('Efficiency Levels'!$C$22,1),SUM(OFFSET(AV14,-RIGHT($D26,1),0,RIGHT($D26,1),1)),\"ERROR\"))))","v":0},{"$f":"IF(AW$24<STANDARD_YEAR,AW14,\nIF(RIGHT($D26,1)>RIGHT('Efficiency Levels'!$C$22,1),AW14,\nIF(RIGHT($D26,1)<RIGHT('Efficiency Levels'!$C$22,1),0,\nIF(RIGHT($D26,1)=RIGHT('Efficiency Levels'!$C$22,1),SUM(OFFSET(AW14,-RIGHT($D26,1),0,RIGHT($D26,1),1)),\"ERROR\"))))","v":0},{"$f":"IF(AX$24<STANDARD_YEAR,AX14,\nIF(RIGHT($D26,1)>RIGHT('Efficiency Levels'!$C$22,1),AX14,\nIF(RIGHT($D26,1)<RIGHT('Efficiency Levels'!$C$22,1),0,\nIF(RIGHT($D26,1)=RIGHT('Efficiency Levels'!$C$22,1),SUM(OFFSET(AX14,-RIGHT($D26,1),0,RIGHT($D26,1),1)),\"ERROR\"))))","v":0},{"$f":"IF(AY$24<STANDARD_YEAR,AY14,\nIF(RIGHT($D26,1)>RIGHT('Efficiency Levels'!$C$22,1),AY14,\nIF(RIGHT($D26,1)<RIGHT('Efficiency Levels'!$C$22,1),0,\nIF(RIGHT($D26,1)=RIGHT('Efficiency Levels'!$C$22,1),SUM(OFFSET(AY14,-RIGHT($D26,1),0,RIGHT($D26,1),1)),\"ERROR\"))))","v":0},{"$f":"IF(AZ$24<STANDARD_YEAR,AZ14,\nIF(RIGHT($D26,1)>RIGHT('Efficiency Levels'!$C$22,1),AZ14,\nIF(RIGHT($D26,1)<RIGHT('Efficiency Levels'!$C$22,1),0,\nIF(RIGHT($D26,1)=RIGHT('Efficiency Levels'!$C$22,1),SUM(OFFSET(AZ14,-RIGHT($D26,1),0,RIGHT($D26,1),1)),\"ERROR\"))))","v":0},{"$f":"IF(BA$24<STANDARD_YEAR,BA14,\nIF(RIGHT($D26,1)>RIGHT('Efficiency Levels'!$C$22,1),BA14,\nIF(RIGHT($D26,1)<RIGHT('Efficiency Levels'!$C$22,1),0,\nIF(RIGHT($D26,1)=RIGHT('Efficiency Levels'!$C$22,1),SUM(OFFSET(BA14,-RIGHT($D26,1),0,RIGHT($D26,1),1)),\"ERROR\"))))","v":0},{"$f":"IF(BB$24<STANDARD_YEAR,BB14,\nIF(RIGHT($D26,1)>RIGHT('Efficiency Levels'!$C$22,1),BB14,\nIF(RIGHT($D26,1)<RIGHT('Efficiency Levels'!$C$22,1),0,\nIF(RIGHT($D26,1)=RIGHT('Efficiency Levels'!$C$22,1),SUM(OFFSET(BB14,-RIGHT($D26,1),0,RIGHT($D26,1),1)),\"ERROR\"))))","v":0},{"$f":"IF(BC$24<STANDARD_YEAR,BC14,\nIF(RIGHT($D26,1)>RIGHT('Efficiency Levels'!$C$22,1),BC14,\nIF(RIGHT($D26,1)<RIGHT('Efficiency Levels'!$C$22,1),0,\nIF(RIGHT($D26,1)=RIGHT('Efficiency Levels'!$C$22,1),SUM(OFFSET(BC14,-RIGHT($D26,1),0,RIGHT($D26,1),1)),\"ERROR\"))))","v":0},{"$f":"IF(BD$24<STANDARD_YEAR,BD14,\nIF(RIGHT($D26,1)>RIGHT('Efficiency Levels'!$C$22,1),BD14,\nIF(RIGHT($D26,1)<RIGHT('Efficiency Levels'!$C$22,1),0,\nIF(RIGHT($D26,1)=RIGHT('Efficiency Levels'!$C$22,1),SUM(OFFSET(BD14,-RIGHT($D26,1),0,RIGHT($D26,1),1)),\"ERROR\"))))","v":0},{"$f":"IF(BE$24<STANDARD_YEAR,BE14,\nIF(RIGHT($D26,1)>RIGHT('Efficiency Levels'!$C$22,1),BE14,\nIF(RIGHT($D26,1)<RIGHT('Efficiency Levels'!$C$22,1),0,\nIF(RIGHT($D26,1)=RIGHT('Efficiency Levels'!$C$22,1),SUM(OFFSET(BE14,-RIGHT($D26,1),0,RIGHT($D26,1),1)),\"ERROR\"))))","v":0},{"$f":"IF(BF$24<STANDARD_YEAR,BF14,\nIF(RIGHT($D26,1)>RIGHT('Efficiency Levels'!$C$22,1),BF14,\nIF(RIGHT($D26,1)<RIGHT('Efficiency Levels'!$C$22,1),0,\nIF(RIGHT($D26,1)=RIGHT('Efficiency Levels'!$C$22,1),SUM(OFFSET(BF14,-RIGHT($D26,1),0,RIGHT($D26,1),1)),\"ERROR\"))))","v":0},{"$f":"IF(BG$24<STANDARD_YEAR,BG14,\nIF(RIGHT($D26,1)>RIGHT('Efficiency Levels'!$C$22,1),BG14,\nIF(RIGHT($D26,1)<RIGHT('Efficiency Levels'!$C$22,1),0,\nIF(RIGHT($D26,1)=RIGHT('Efficiency Levels'!$C$22,1),SUM(OFFSET(BG14,-RIGHT($D26,1),0,RIGHT($D26,1),1)),\"ERROR\"))))","v":0},{"$f":"IF(BH$24<STANDARD_YEAR,BH14,\nIF(RIGHT($D26,1)>RIGHT('Efficiency Levels'!$C$22,1),BH14,\nIF(RIGHT($D26,1)<RIGHT('Efficiency Levels'!$C$22,1),0,\nIF(RIGHT($D26,1)=RIGHT('Efficiency Levels'!$C$22,1),SUM(OFFSET(BH14,-RIGHT($D26,1),0,RIGHT($D26,1),1)),\"ERROR\"))))","v":0},{"$f":"IF(BI$24<STANDARD_YEAR,BI14,\nIF(RIGHT($D26,1)>RIGHT('Efficiency Levels'!$C$22,1),BI14,\nIF(RIGHT($D26,1)<RIGHT('Efficiency Levels'!$C$22,1),0,\nIF(RIGHT($D26,1)=RIGHT('Efficiency Levels'!$C$22,1),SUM(OFFSET(BI14,-RIGHT($D26,1),0,RIGHT($D26,1),1)),\"ERROR\"))))","v":0},{"$f":"IF(BJ$24<STANDARD_YEAR,BJ14,\nIF(RIGHT($D26,1)>RIGHT('Efficiency Levels'!$C$22,1),BJ14,\nIF(RIGHT($D26,1)<RIGHT('Efficiency Levels'!$C$22,1),0,\nIF(RIGHT($D26,1)=RIGHT('Efficiency Levels'!$C$22,1),SUM(OFFSET(BJ14,-RIGHT($D26,1),0,RIGHT($D26,1),1)),\"ERROR\"))))","v":0}]
[null,null,null,"EL2",{"$f":"OFFSET('Efficiency Levels'!$D$11,MATCH($C$9,'Efficiency Levels'!$C$9:$C$1002,0)+RIGHT(D27,1),0)","v":316.10000000000002},null,null,null,{"$f":"IF(I$24<STANDARD_YEAR,I15,\nIF(RIGHT($D27,1)>RIGHT('Efficiency Levels'!$C$22,1),I15,\nIF(RIGHT($D27,1)<RIGHT('Efficiency Levels'!$C$22,1),0,\nIF(RIGHT($D27,1)=RIGHT('Efficiency Levels'!$C$22,1),SUM(OFFSET(I15,-RIGHT($D27,1),0,RIGHT($D27,1),1)),\"ERROR\"))))","v":0},{"$f":"IF(J$24<STANDARD_YEAR,J15,\nIF(RIGHT($D27,1)>RIGHT('Efficiency Levels'!$C$22,1),J15,\nIF(RIGHT($D27,1)<RIGHT('Efficiency Levels'!$C$22,1),0,\nIF(RIGHT($D27,1)=RIGHT('Efficiency Levels'!$C$22,1),SUM(OFFSET(J15,-RIGHT($D27,1),0,RIGHT($D27,1),1)),\"ERROR\"))))","v":0},{"$f":"IF(K$24<STANDARD_YEAR,K15,\nIF(RIGHT($D27,1)>RIGHT('Efficiency Levels'!$C$22,1),K15,\nIF(RIGHT($D27,1)<RIGHT('Efficiency Levels'!$C$22,1),0,\nIF(RIGHT($D27,1)=RIGHT('Efficiency Levels'!$C$22,1),SUM(OFFSET(K15,-RIGHT($D27,1),0,RIGHT($D27,1),1)),\"ERROR\"))))","v":0},{"$f":"IF(L$24<STANDARD_YEAR,L15,\nIF(RIGHT($D27,1)>RIGHT('Efficiency Levels'!$C$22,1),L15,\nIF(RIGHT($D27,1)<RIGHT('Efficiency Levels'!$C$22,1),0,\nIF(RIGHT($D27,1)=RIGHT('Efficiency Levels'!$C$22,1),SUM(OFFSET(L15,-RIGHT($D27,1),0,RIGHT($D27,1),1)),\"ERROR\"))))","v":0},{"$f":"IF(M$24<STANDARD_YEAR,M15,\nIF(RIGHT($D27,1)>RIGHT('Efficiency Levels'!$C$22,1),M15,\nIF(RIGHT($D27,1)<RIGHT('Efficiency Levels'!$C$22,1),0,\nIF(RIGHT($D27,1)=RIGHT('Efficiency Levels'!$C$22,1),SUM(OFFSET(M15,-RIGHT($D27,1),0,RIGHT($D27,1),1)),\"ERROR\"))))","v":0},{"$f":"IF(N$24<STANDARD_YEAR,N15,\nIF(RIGHT($D27,1)>RIGHT('Efficiency Levels'!$C$22,1),N15,\nIF(RIGHT($D27,1)<RIGHT('Efficiency Levels'!$C$22,1),0,\nIF(RIGHT($D27,1)=RIGHT('Efficiency Levels'!$C$22,1),SUM(OFFSET(N15,-RIGHT($D27,1),0,RIGHT($D27,1),1)),\"ERROR\"))))","v":0},{"$f":"IF(O$24<STANDARD_YEAR,O15,\nIF(RIGHT($D27,1)>RIGHT('Efficiency Levels'!$C$22,1),O15,\nIF(RIGHT($D27,1)<RIGHT('Efficiency Levels'!$C$22,1),0,\nIF(RIGHT($D27,1)=RIGHT('Efficiency Levels'!$C$22,1),SUM(OFFSET(O15,-RIGHT($D27,1),0,RIGHT($D27,1),1)),\"ERROR\"))))","v":0},{"$f":"IF(P$24<STANDARD_YEAR,P15,\nIF(RIGHT($D27,1)>RIGHT('Efficiency Levels'!$C$22,1),P15,\nIF(RIGHT($D27,1)<RIGHT('Efficiency Levels'!$C$22,1),0,\nIF(RIGHT($D27,1)=RIGHT('Efficiency Levels'!$C$22,1),SUM(OFFSET(P15,-RIGHT($D27,1),0,RIGHT($D27,1),1)),\"ERROR\"))))","v":0},{"$f":"IF(Q$24<STANDARD_YEAR,Q15,\nIF(RIGHT($D27,1)>RIGHT('Efficiency Levels'!$C$22,1),Q15,\nIF(RIGHT($D27,1)<RIGHT('Efficiency Levels'!$C$22,1),0,\nIF(RIGHT($D27,1)=RIGHT('Efficiency Levels'!$C$22,1),SUM(OFFSET(Q15,-RIGHT($D27,1),0,RIGHT($D27,1),1)),\"ERROR\"))))","v":0},{"$f":"IF(R$24<STANDARD_YEAR,R15,\nIF(RIGHT($D27,1)>RIGHT('Efficiency Levels'!$C$22,1),R15,\nIF(RIGHT($D27,1)<RIGHT('Efficiency Levels'!$C$22,1),0,\nIF(RIGHT($D27,1)=RIGHT('Efficiency Levels'!$C$22,1),SUM(OFFSET(R15,-RIGHT($D27,1),0,RIGHT($D27,1),1)),\"ERROR\"))))","v":0},{"$f":"IF(S$24<STANDARD_YEAR,S15,\nIF(RIGHT($D27,1)>RIGHT('Efficiency Levels'!$C$22,1),S15,\nIF(RIGHT($D27,1)<RIGHT('Efficiency Levels'!$C$22,1),0,\nIF(RIGHT($D27,1)=RIGHT('Efficiency Levels'!$C$22,1),SUM(OFFSET(S15,-RIGHT($D27,1),0,RIGHT($D27,1),1)),\"ERROR\"))))","v":0},{"$f":"IF(T$24<STANDARD_YEAR,T15,\nIF(RIGHT($D27,1)>RIGHT('Efficiency Levels'!$C$22,1),T15,\nIF(RIGHT($D27,1)<RIGHT('Efficiency Levels'!$C$22,1),0,\nIF(RIGHT($D27,1)=RIGHT('Efficiency Levels'!$C$22,1),SUM(OFFSET(T15,-RIGHT($D27,1),0,RIGHT($D27,1),1)),\"ERROR\"))))","v":0},{"$f":"IF(U$24<STANDARD_YEAR,U15,\nIF(RIGHT($D27,1)>RIGHT('Efficiency Levels'!$C$22,1),U15,\nIF(RIGHT($D27,1)<RIGHT('Efficiency Levels'!$C$22,1),0,\nIF(RIGHT($D27,1)=RIGHT('Efficiency Levels'!$C$22,1),SUM(OFFSET(U15,-RIGHT($D27,1),0,RIGHT($D27,1),1)),\"ERROR\"))))","v":0},{"$f":"IF(V$24<STANDARD_YEAR,V15,\nIF(RIGHT($D27,1)>RIGHT('Efficiency Levels'!$C$22,1),V15,\nIF(RIGHT($D27,1)<RIGHT('Efficiency Levels'!$C$22,1),0,\nIF(RIGHT($D27,1)=RIGHT('Efficiency Levels'!$C$22,1),SUM(OFFSET(V15,-RIGHT($D27,1),0,RIGHT($D27,1),1)),\"ERROR\"))))","v":0},{"$f":"IF(W$24<STANDARD_YEAR,W15,\nIF(RIGHT($D27,1)>RIGHT('Efficiency Levels'!$C$22,1),W15,\nIF(RIGHT($D27,1)<RIGHT('Efficiency Levels'!$C$22,1),0,\nIF(RIGHT($D27,1)=RIGHT('Efficiency Levels'!$C$22,1),SUM(OFFSET(W15,-RIGHT($D27,1),0,RIGHT($D27,1),1)),\"ERROR\"))))","v":0},{"$f":"IF(X$24<STANDARD_YEAR,X15,\nIF(RIGHT($D27,1)>RIGHT('Efficiency Levels'!$C$22,1),X15,\nIF(RIGHT($D27,1)<RIGHT('Efficiency Levels'!$C$22,1),0,\nIF(RIGHT($D27,1)=RIGHT('Efficiency Levels'!$C$22,1),SUM(OFFSET(X15,-RIGHT($D27,1),0,RIGHT($D27,1),1)),\"ERROR\"))))","v":0},{"$f":"IF(Y$24<STANDARD_YEAR,Y15,\nIF(RIGHT($D27,1)>RIGHT('Efficiency Levels'!$C$22,1),Y15,\nIF(RIGHT($D27,1)<RIGHT('Efficiency Levels'!$C$22,1),0,\nIF(RIGHT($D27,1)=RIGHT('Efficiency Levels'!$C$22,1),SUM(OFFSET(Y15,-RIGHT($D27,1),0,RIGHT($D27,1),1)),\"ERROR\"))))","v":0},{"$f":"IF(Z$24<STANDARD_YEAR,Z15,\nIF(RIGHT($D27,1)>RIGHT('Efficiency Levels'!$C$22,1),Z15,\nIF(RIGHT($D27,1)<RIGHT('Efficiency Levels'!$C$22,1),0,\nIF(RIGHT($D27,1)=RIGHT('Efficiency Levels'!$C$22,1),SUM(OFFSET(Z15,-RIGHT($D27,1),0,RIGHT($D27,1),1)),\"ERROR\"))))","v":0},{"$f":"IF(AA$24<STANDARD_YEAR,AA15,\nIF(RIGHT($D27,1)>RIGHT('Efficiency Levels'!$C$22,1),AA15,\nIF(RIGHT($D27,1)<RIGHT('Efficiency Levels'!$C$22,1),0,\nIF(RIGHT($D27,1)=RIGHT('Efficiency Levels'!$C$22,1),SUM(OFFSET(AA15,-RIGHT($D27,1),0,RIGHT($D27,1),1)),\"ERROR\"))))","v":0},{"$f":"IF(AB$24<STANDARD_YEAR,AB15,\nIF(RIGHT($D27,1)>RIGHT('Efficiency Levels'!$C$22,1),AB15,\nIF(RIGHT($D27,1)<RIGHT('Efficiency Levels'!$C$22,1),0,\nIF(RIGHT($D27,1)=RIGHT('Efficiency Levels'!$C$22,1),SUM(OFFSET(AB15,-RIGHT($D27,1),0,RIGHT($D27,1),1)),\"ERROR\"))))","v":0},{"$f":"IF(AC$24<STANDARD_YEAR,AC15,\nIF(RIGHT($D27,1)>RIGHT('Efficiency Levels'!$C$22,1),AC15,\nIF(RIGHT($D27,1)<RIGHT('Efficiency Levels'!$C$22,1),0,\nIF(RIGHT($D27,1)=RIGHT('Efficiency Levels'!$C$22,1),SUM(OFFSET(AC15,-RIGHT($D27,1),0,RIGHT($D27,1),1)),\"ERROR\"))))","v":0},{"$f":"IF(AD$24<STANDARD_YEAR,AD15,\nIF(RIGHT($D27,1)>RIGHT('Efficiency Levels'!$C$22,1),AD15,\nIF(RIGHT($D27,1)<RIGHT('Efficiency Levels'!$C$22,1),0,\nIF(RIGHT($D27,1)=RIGHT('Efficiency Levels'!$C$22,1),SUM(OFFSET(AD15,-RIGHT($D27,1),0,RIGHT($D27,1),1)),\"ERROR\"))))","v":0},{"$f":"IF(AE$24<STANDARD_YEAR,AE15,\nIF(RIGHT($D27,1)>RIGHT('Efficiency Levels'!$C$22,1),AE15,\nIF(RIGHT($D27,1)<RIGHT('Efficiency Levels'!$C$22,1),0,\nIF(RIGHT($D27,1)=RIGHT('Efficiency Levels'!$C$22,1),SUM(OFFSET(AE15,-RIGHT($D27,1),0,RIGHT($D27,1),1)),\"ERROR\"))))","v":0},{"$f":"IF(AF$24<STANDARD_YEAR,AF15,\nIF(RIGHT($D27,1)>RIGHT('Efficiency Levels'!$C$22,1),AF15,\nIF(RIGHT($D27,1)<RIGHT('Efficiency Levels'!$C$22,1),0,\nIF(RIGHT($D27,1)=RIGHT('Efficiency Levels'!$C$22,1),SUM(OFFSET(AF15,-RIGHT($D27,1),0,RIGHT($D27,1),1)),\"ERROR\"))))","v":0},{"$f":"IF(AG$24<STANDARD_YEAR,AG15,\nIF(RIGHT($D27,1)>RIGHT('Efficiency Levels'!$C$22,1),AG15,\nIF(RIGHT($D27,1)<RIGHT('Efficiency Levels'!$C$22,1),0,\nIF(RIGHT($D27,1)=RIGHT('Efficiency Levels'!$C$22,1),SUM(OFFSET(AG15,-RIGHT($D27,1),0,RIGHT($D27,1),1)),\"ERROR\"))))","v":0},{"$f":"IF(AH$24<STANDARD_YEAR,AH15,\nIF(RIGHT($D27,1)>RIGHT('Efficiency Levels'!$C$22,1),AH15,\nIF(RIGHT($D27,1)<RIGHT('Efficiency Levels'!$C$22,1),0,\nIF(RIGHT($D27,1)=RIGHT('Efficiency Levels'!$C$22,1),SUM(OFFSET(AH15,-RIGHT($D27,1),0,RIGHT($D27,1),1)),\"ERROR\"))))","v":0},{"$f":"IF(AI$24<STANDARD_YEAR,AI15,\nIF(RIGHT($D27,1)>RIGHT('Efficiency Levels'!$C$22,1),AI15,\nIF(RIGHT($D27,1)<RIGHT('Efficiency Levels'!$C$22,1),0,\nIF(RIGHT($D27,1)=RIGHT('Efficiency Levels'!$C$22,1),SUM(OFFSET(AI15,-RIGHT($D27,1),0,RIGHT($D27,1),1)),\"ERROR\"))))","v":0},{"$f":"IF(AJ$24<STANDARD_YEAR,AJ15,\nIF(RIGHT($D27,1)>RIGHT('Efficiency Levels'!$C$22,1),AJ15,\nIF(RIGHT($D27,1)<RIGHT('Efficiency Levels'!$C$22,1),0,\nIF(RIGHT($D27,1)=RIGHT('Efficiency Levels'!$C$22,1),SUM(OFFSET(AJ15,-RIGHT($D27,1),0,RIGHT($D27,1),1)),\"ERROR\"))))","v":0},{"$f":"IF(AK$24<STANDARD_YEAR,AK15,\nIF(RIGHT($D27,1)>RIGHT('Efficiency Levels'!$C$22,1),AK15,\nIF(RIGHT($D27,1)<RIGHT('Efficiency Levels'!$C$22,1),0,\nIF(RIGHT($D27,1)=RIGHT('Efficiency Levels'!$C$22,1),SUM(OFFSET(AK15,-RIGHT($D27,1),0,RIGHT($D27,1),1)),\"ERROR\"))))","v":0},{"$f":"IF(AL$24<STANDARD_YEAR,AL15,\nIF(RIGHT($D27,1)>RIGHT('Efficiency Levels'!$C$22,1),AL15,\nIF(RIGHT($D27,1)<RIGHT('Efficiency Levels'!$C$22,1),0,\nIF(RIGHT($D27,1)=RIGHT('Efficiency Levels'!$C$22,1),SUM(OFFSET(AL15,-RIGHT($D27,1),0,RIGHT($D27,1),1)),\"ERROR\"))))","v":0},{"$f":"IF(AM$24<STANDARD_YEAR,AM15,\nIF(RIGHT($D27,1)>RIGHT('Efficiency Levels'!$C$22,1),AM15,\nIF(RIGHT($D27,1)<RIGHT('Efficiency Levels'!$C$22,1),0,\nIF(RIGHT($D27,1)=RIGHT('Efficiency Levels'!$C$22,1),SUM(OFFSET(AM15,-RIGHT($D27,1),0,RIGHT($D27,1),1)),\"ERROR\"))))","v":0},{"$f":"IF(AN$24<STANDARD_YEAR,AN15,\nIF(RIGHT($D27,1)>RIGHT('Efficiency Levels'!$C$22,1),AN15,\nIF(RIGHT($D27,1)<RIGHT('Efficiency Levels'!$C$22,1),0,\nIF(RIGHT($D27,1)=RIGHT('Efficiency Levels'!$C$22,1),SUM(OFFSET(AN15,-RIGHT($D27,1),0,RIGHT($D27,1),1)),\"ERROR\"))))","v":0},{"$f":"IF(AO$24<STANDARD_YEAR,AO15,\nIF(RIGHT($D27,1)>RIGHT('Efficiency Levels'!$C$22,1),AO15,\nIF(RIGHT($D27,1)<RIGHT('Efficiency Levels'!$C$22,1),0,\nIF(RIGHT($D27,1)=RIGHT('Efficiency Levels'!$C$22,1),SUM(OFFSET(AO15,-RIGHT($D27,1),0,RIGHT($D27,1),1)),\"ERROR\"))))","v":0},{"$f":"IF(AP$24<STANDARD_YEAR,AP15,\nIF(RIGHT($D27,1)>RIGHT('Efficiency Levels'!$C$22,1),AP15,\nIF(RIGHT($D27,1)<RIGHT('Efficiency Levels'!$C$22,1),0,\nIF(RIGHT($D27,1)=RIGHT('Efficiency Levels'!$C$22,1),SUM(OFFSET(AP15,-RIGHT($D27,1),0,RIGHT($D27,1),1)),\"ERROR\"))))","v":0},{"$f":"IF(AQ$24<STANDARD_YEAR,AQ15,\nIF(RIGHT($D27,1)>RIGHT('Efficiency Levels'!$C$22,1),AQ15,\nIF(RIGHT($D27,1)<RIGHT('Efficiency Levels'!$C$22,1),0,\nIF(RIGHT($D27,1)=RIGHT('Efficiency Levels'!$C$22,1),SUM(OFFSET(AQ15,-RIGHT($D27,1),0,RIGHT($D27,1),1)),\"ERROR\"))))","v":0},{"$f":"IF(AR$24<STANDARD_YEAR,AR15,\nIF(RIGHT($D27,1)>RIGHT('Efficiency Levels'!$C$22,1),AR15,\nIF(RIGHT($D27,1)<RIGHT('Efficiency Levels'!$C$22,1),0,\nIF(RIGHT($D27,1)=RIGHT('Efficiency Levels'!$C$22,1),SUM(OFFSET(AR15,-RIGHT($D27,1),0,RIGHT($D27,1),1)),\"ERROR\"))))","v":0},{"$f":"IF(AS$24<STANDARD_YEAR,AS15,\nIF(RIGHT($D27,1)>RIGHT('Efficiency Levels'!$C$22,1),AS15,\nIF(RIGHT($D27,1)<RIGHT('Efficiency Levels'!$C$22,1),0,\nIF(RIGHT($D27,1)=RIGHT('Efficiency Levels'!$C$22,1),SUM(OFFSET(AS15,-RIGHT($D27,1),0,RIGHT($D27,1),1)),\"ERROR\"))))","v":0},{"$f":"IF(AT$24<STANDARD_YEAR,AT15,\nIF(RIGHT($D27,1)>RIGHT('Efficiency Levels'!$C$22,1),AT15,\nIF(RIGHT($D27,1)<RIGHT('Efficiency Levels'!$C$22,1),0,\nIF(RIGHT($D27,1)=RIGHT('Efficiency Levels'!$C$22,1),SUM(OFFSET(AT15,-RIGHT($D27,1),0,RIGHT($D27,1),1)),\"ERROR\"))))","v":0},{"$f":"IF(AU$24<STANDARD_YEAR,AU15,\nIF(RIGHT($D27,1)>RIGHT('Efficiency Levels'!$C$22,1),AU15,\nIF(RIGHT($D27,1)<RIGHT('Efficiency Levels'!$C$22,1),0,\nIF(RIGHT($D27,1)=RIGHT('Efficiency Levels'!$C$22,1),SUM(OFFSET(AU15,-RIGHT($D27,1),0,RIGHT($D27,1),1)),\"ERROR\"))))","v":1},{"$f":"IF(AV$24<STANDARD_YEAR,AV15,\nIF(RIGHT($D27,1)>RIGHT('Efficiency Levels'!$C$22,1),AV15,\nIF(RIGHT($D27,1)<RIGHT('Efficiency Levels'!$C$22,1),0,\nIF(RIGHT($D27,1)=RIGHT('Efficiency Levels'!$C$22,1),SUM(OFFSET(AV15,-RIGHT($D27,1),0,RIGHT($D27,1),1)),\"ERROR\"))))","v":1},{"$f":"IF(AW$24<STANDARD_YEAR,AW15,\nIF(RIGHT($D27,1)>RIGHT('Efficiency Levels'!$C$22,1),AW15,\nIF(RIGHT($D27,1)<RIGHT('Efficiency Levels'!$C$22,1),0,\nIF(RIGHT($D27,1)=RIGHT('Efficiency Levels'!$C$22,1),SUM(OFFSET(AW15,-RIGHT($D27,1),0,RIGHT($D27,1),1)),\"ERROR\"))))","v":1},{"$f":"IF(AX$24<STANDARD_YEAR,AX15,\nIF(RIGHT($D27,1)>RIGHT('Efficiency Levels'!$C$22,1),AX15,\nIF(RIGHT($D27,1)<RIGHT('Efficiency Levels'!$C$22,1),0,\nIF(RIGHT($D27,1)=RIGHT('Efficiency Levels'!$C$22,1),SUM(OFFSET(AX15,-RIGHT($D27,1),0,RIGHT($D27,1),1)),\"ERROR\"))))","v":1},{"$f":"IF(AY$24<STANDARD_YEAR,AY15,\nIF(RIGHT($D27,1)>RIGHT('Efficiency Levels'!$C$22,1),AY15,\nIF(RIGHT($D27,1)<RIGHT('Efficiency Levels'!$C$22,1),0,\nIF(RIGHT($D27,1)=RIGHT('Efficiency Levels'!$C$22,1),SUM(OFFSET(AY15,-RIGHT($D27,1),0,RIGHT($D27,1),1)),\"ERROR\"))))","v":1},{"$f":"IF(AZ$24<STANDARD_YEAR,AZ15,\nIF(RIGHT($D27,1)>RIGHT('Efficiency Levels'!$C$22,1),AZ15,\nIF(RIGHT($D27,1)<RIGHT('Efficiency Levels'!$C$22,1),0,\nIF(RIGHT($D27,1)=RIGHT('Efficiency Levels'!$C$22,1),SUM(OFFSET(AZ15,-RIGHT($D27,1),0,RIGHT($D27,1),1)),\"ERROR\"))))","v":1},{"$f":"IF(BA$24<STANDARD_YEAR,BA15,\nIF(RIGHT($D27,1)>RIGHT('Efficiency Levels'!$C$22,1),BA15,\nIF(RIGHT($D27,1)<RIGHT('Efficiency Levels'!$C$22,1),0,\nIF(RIGHT($D27,1)=RIGHT('Efficiency Levels'!$C$22,1),SUM(OFFSET(BA15,-RIGHT($D27,1),0,RIGHT($D27,1),1)),\"ERROR\"))))","v":1},{"$f":"IF(BB$24<STANDARD_YEAR,BB15,\nIF(RIGHT($D27,1)>RIGHT('Efficiency Levels'!$C$22,1),BB15,\nIF(RIGHT($D27,1)<RIGHT('Efficiency Levels'!$C$22,1),0,\nIF(RIGHT($D27,1)=RIGHT('Efficiency Levels'!$C$22,1),SUM(OFFSET(BB15,-RIGHT($D27,1),0,RIGHT($D27,1),1)),\"ERROR\"))))","v":1},{"$f":"IF(BC$24<STANDARD_YEAR,BC15,\nIF(RIGHT($D27,1)>RIGHT('Efficiency Levels'!$C$22,1),BC15,\nIF(RIGHT($D27,1)<RIGHT('Efficiency Levels'!$C$22,1),0,\nIF(RIGHT($D27,1)=RIGHT('Efficiency Levels'!$C$22,1),SUM(OFFSET(BC15,-RIGHT($D27,1),0,RIGHT($D27,1),1)),\"ERROR\"))))","v":1},{"$f":"IF(BD$24<STANDARD_YEAR,BD15,\nIF(RIGHT($D27,1)>RIGHT('Efficiency Levels'!$C$22,1),BD15,\nIF(RIGHT($D27,1)<RIGHT('Efficiency Levels'!$C$22,1),0,\nIF(RIGHT($D27,1)=RIGHT('Efficiency Levels'!$C$22,1),SUM(OFFSET(BD15,-RIGHT($D27,1),0,RIGHT($D27,1),1)),\"ERROR\"))))","v":1},{"$f":"IF(BE$24<STANDARD_YEAR,BE15,\nIF(RIGHT($D27,1)>RIGHT('Efficiency Levels'!$C$22,1),BE15,\nIF(RIGHT($D27,1)<RIGHT('Efficiency Levels'!$C$22,1),0,\nIF(RIGHT($D27,1)=RIGHT('Efficiency Levels'!$C$22,1),SUM(OFFSET(BE15,-RIGHT($D27,1),0,RIGHT($D27,1),1)),\"ERROR\"))))","v":1},{"$f":"IF(BF$24<STANDARD_YEAR,BF15,\nIF(RIGHT($D27,1)>RIGHT('Efficiency Levels'!$C$22,1),BF15,\nIF(RIGHT($D27,1)<RIGHT('Efficiency Levels'!$C$22,1),0,\nIF(RIGHT($D27,1)=RIGHT('Efficiency Levels'!$C$22,1),SUM(OFFSET(BF15,-RIGHT($D27,1),0,RIGHT($D27,1),1)),\"ERROR\"))))","v":1},{"$f":"IF(BG$24<STANDARD_YEAR,BG15,\nIF(RIGHT($D27,1)>RIGHT('Efficiency Levels'!$C$22,1),BG15,\nIF(RIGHT($D27,1)<RIGHT('Efficiency Levels'!$C$22,1),0,\nIF(RIGHT($D27,1)=RIGHT('Efficiency Levels'!$C$22,1),SUM(OFFSET(BG15,-RIGHT($D27,1),0,RIGHT($D27,1),1)),\"ERROR\"))))","v":1},{"$f":"IF(BH$24<STANDARD_YEAR,BH15,\nIF(RIGHT($D27,1)>RIGHT('Efficiency Levels'!$C$22,1),BH15,\nIF(RIGHT($D27,1)<RIGHT('Efficiency Levels'!$C$22,1),0,\nIF(RIGHT($D27,1)=RIGHT('Efficiency Levels'!$C$22,1),SUM(OFFSET(BH15,-RIGHT($D27,1),0,RIGHT($D27,1),1)),\"ERROR\"))))","v":1},{"$f":"IF(BI$24<STANDARD_YEAR,BI15,\nIF(RIGHT($D27,1)>RIGHT('Efficiency Levels'!$C$22,1),BI15,\nIF(RIGHT($D27,1)<RIGHT('Efficiency Levels'!$C$22,1),0,\nIF(RIGHT($D27,1)=RIGHT('Efficiency Levels'!$C$22,1),SUM(OFFSET(BI15,-RIGHT($D27,1),0,RIGHT($D27,1),1)),\"ERROR\"))))","v":1},{"$f":"IF(BJ$24<STANDARD_YEAR,BJ15,\nIF(RIGHT($D27,1)>RIGHT('Efficiency Levels'!$C$22,1),BJ15,\nIF(RIGHT($D27,1)<RIGHT('Efficiency Levels'!$C$22,1),0,\nIF(RIGHT($D27,1)=RIGHT('Efficiency Levels'!$C$22,1),SUM(OFFSET(BJ15,-RIGHT($D27,1),0,RIGHT($D27,1),1)),\"ERROR\"))))","v":1}]
[null,null,null,"EL3",{"$f":"OFFSET('Efficiency Levels'!$D$11,MATCH($C$9,'Efficiency Levels'!$C$9:$C$1002,0)+RIGHT(D28,1),0)","v":304.8},null,null,null,{"$f":"IF(I$24<STANDARD_YEAR,I16,\nIF(RIGHT($D28,1)>RIGHT('Efficiency Levels'!$C$22,1),I16,\nIF(RIGHT($D28,1)<RIGHT('Efficiency Levels'!$C$22,1),0,\nIF(RIGHT($D28,1)=RIGHT('Efficiency Levels'!$C$22,1),SUM(OFFSET(I16,-RIGHT($D28,1),0,RIGHT($D28,1),1)),\"ERROR\"))))","v":0},{"$f":"IF(J$24<STANDARD_YEAR,J16,\nIF(RIGHT($D28,1)>RIGHT('Efficiency Levels'!$C$22,1),J16,\nIF(RIGHT($D28,1)<RIGHT('Efficiency Levels'!$C$22,1),0,\nIF(RIGHT($D28,1)=RIGHT('Efficiency Levels'!$C$22,1),SUM(OFFSET(J16,-RIGHT($D28,1),0,RIGHT($D28,1),1)),\"ERROR\"))))","v":0},{"$f":"IF(K$24<STANDARD_YEAR,K16,\nIF(RIGHT($D28,1)>RIGHT('Efficiency Levels'!$C$22,1),K16,\nIF(RIGHT($D28,1)<RIGHT('Efficiency Levels'!$C$22,1),0,\nIF(RIGHT($D28,1)=RIGHT('Efficiency Levels'!$C$22,1),SUM(OFFSET(K16,-RIGHT($D28,1),0,RIGHT($D28,1),1)),\"ERROR\"))))","v":0},{"$f":"IF(L$24<STANDARD_YEAR,L16,\nIF(RIGHT($D28,1)>RIGHT('Efficiency Levels'!$C$22,1),L16,\nIF(RIGHT($D28,1)<RIGHT('Efficiency Levels'!$C$22,1),0,\nIF(RIGHT($D28,1)=RIGHT('Efficiency Levels'!$C$22,1),SUM(OFFSET(L16,-RIGHT($D28,1),0,RIGHT($D28,1),1)),\"ERROR\"))))","v":0},{"$f":"IF(M$24<STANDARD_YEAR,M16,\nIF(RIGHT($D28,1)>RIGHT('Efficiency Levels'!$C$22,1),M16,\nIF(RIGHT($D28,1)<RIGHT('Efficiency Levels'!$C$22,1),0,\nIF(RIGHT($D28,1)=RIGHT('Efficiency Levels'!$C$22,1),SUM(OFFSET(M16,-RIGHT($D28,1),0,RIGHT($D28,1),1)),\"ERROR\"))))","v":0},{"$f":"IF(N$24<STANDARD_YEAR,N16,\nIF(RIGHT($D28,1)>RIGHT('Efficiency Levels'!$C$22,1),N16,\nIF(RIGHT($D28,1)<RIGHT('Efficiency Levels'!$C$22,1),0,\nIF(RIGHT($D28,1)=RIGHT('Efficiency Levels'!$C$22,1),SUM(OFFSET(N16,-RIGHT($D28,1),0,RIGHT($D28,1),1)),\"ERROR\"))))","v":0},{"$f":"IF(O$24<STANDARD_YEAR,O16,\nIF(RIGHT($D28,1)>RIGHT('Efficiency Levels'!$C$22,1),O16,\nIF(RIGHT($D28,1)<RIGHT('Efficiency Levels'!$C$22,1),0,\nIF(RIGHT($D28,1)=RIGHT('Efficiency Levels'!$C$22,1),SUM(OFFSET(O16,-RIGHT($D28,1),0,RIGHT($D28,1),1)),\"ERROR\"))))","v":0},{"$f":"IF(P$24<STANDARD_YEAR,P16,\nIF(RIGHT($D28,1)>RIGHT('Efficiency Levels'!$C$22,1),P16,\nIF(RIGHT($D28,1)<RIGHT('Efficiency Levels'!$C$22,1),0,\nIF(RIGHT($D28,1)=RIGHT('Efficiency Levels'!$C$22,1),SUM(OFFSET(P16,-RIGHT($D28,1),0,RIGHT($D28,1),1)),\"ERROR\"))))","v":0},{"$f":"IF(Q$24<STANDARD_YEAR,Q16,\nIF(RIGHT($D28,1)>RIGHT('Efficiency Levels'!$C$22,1),Q16,\nIF(RIGHT($D28,1)<RIGHT('Efficiency Levels'!$C$22,1),0,\nIF(RIGHT($D28,1)=RIGHT('Efficiency Levels'!$C$22,1),SUM(OFFSET(Q16,-RIGHT($D28,1),0,RIGHT($D28,1),1)),\"ERROR\"))))","v":0},{"$f":"IF(R$24<STANDARD_YEAR,R16,\nIF(RIGHT($D28,1)>RIGHT('Efficiency Levels'!$C$22,1),R16,\nIF(RIGHT($D28,1)<RIGHT('Efficiency Levels'!$C$22,1),0,\nIF(RIGHT($D28,1)=RIGHT('Efficiency Levels'!$C$22,1),SUM(OFFSET(R16,-RIGHT($D28,1),0,RIGHT($D28,1),1)),\"ERROR\"))))","v":0},{"$f":"IF(S$24<STANDARD_YEAR,S16,\nIF(RIGHT($D28,1)>RIGHT('Efficiency Levels'!$C$22,1),S16,\nIF(RIGHT($D28,1)<RIGHT('Efficiency Levels'!$C$22,1),0,\nIF(RIGHT($D28,1)=RIGHT('Efficiency Levels'!$C$22,1),SUM(OFFSET(S16,-RIGHT($D28,1),0,RIGHT($D28,1),1)),\"ERROR\"))))","v":0},{"$f":"IF(T$24<STANDARD_YEAR,T16,\nIF(RIGHT($D28,1)>RIGHT('Efficiency Levels'!$C$22,1),T16,\nIF(RIGHT($D28,1)<RIGHT('Efficiency Levels'!$C$22,1),0,\nIF(RIGHT($D28,1)=RIGHT('Efficiency Levels'!$C$22,1),SUM(OFFSET(T16,-RIGHT($D28,1),0,RIGHT($D28,1),1)),\"ERROR\"))))","v":0},{"$f":"IF(U$24<STANDARD_YEAR,U16,\nIF(RIGHT($D28,1)>RIGHT('Efficiency Levels'!$C$22,1),U16,\nIF(RIGHT($D28,1)<RIGHT('Efficiency Levels'!$C$22,1),0,\nIF(RIGHT($D28,1)=RIGHT('Efficiency Levels'!$C$22,1),SUM(OFFSET(U16,-RIGHT($D28,1),0,RIGHT($D28,1),1)),\"ERROR\"))))","v":0},{"$f":"IF(V$24<STANDARD_YEAR,V16,\nIF(RIGHT($D28,1)>RIGHT('Efficiency Levels'!$C$22,1),V16,\nIF(RIGHT($D28,1)<RIGHT('Efficiency Levels'!$C$22,1),0,\nIF(RIGHT($D28,1)=RIGHT('Efficiency Levels'!$C$22,1),SUM(OFFSET(V16,-RIGHT($D28,1),0,RIGHT($D28,1),1)),\"ERROR\"))))","v":0},{"$f":"IF(W$24<STANDARD_YEAR,W16,\nIF(RIGHT($D28,1)>RIGHT('Efficiency Levels'!$C$22,1),W16,\nIF(RIGHT($D28,1)<RIGHT('Efficiency Levels'!$C$22,1),0,\nIF(RIGHT($D28,1)=RIGHT('Efficiency Levels'!$C$22,1),SUM(OFFSET(W16,-RIGHT($D28,1),0,RIGHT($D28,1),1)),\"ERROR\"))))","v":0},{"$f":"IF(X$24<STANDARD_YEAR,X16,\nIF(RIGHT($D28,1)>RIGHT('Efficiency Levels'!$C$22,1),X16,\nIF(RIGHT($D28,1)<RIGHT('Efficiency Levels'!$C$22,1),0,\nIF(RIGHT($D28,1)=RIGHT('Efficiency Levels'!$C$22,1),SUM(OFFSET(X16,-RIGHT($D28,1),0,RIGHT($D28,1),1)),\"ERROR\"))))","v":0},{"$f":"IF(Y$24<STANDARD_YEAR,Y16,\nIF(RIGHT($D28,1)>RIGHT('Efficiency Levels'!$C$22,1),Y16,\nIF(RIGHT($D28,1)<RIGHT('Efficiency Levels'!$C$22,1),0,\nIF(RIGHT($D28,1)=RIGHT('Efficiency Levels'!$C$22,1),SUM(OFFSET(Y16,-RIGHT($D28,1),0,RIGHT($D28,1),1)),\"ERROR\"))))","v":0},{"$f":"IF(Z$24<STANDARD_YEAR,Z16,\nIF(RIGHT($D28,1)>RIGHT('Efficiency Levels'!$C$22,1),Z16,\nIF(RIGHT($D28,1)<RIGHT('Efficiency Levels'!$C$22,1),0,\nIF(RIGHT($D28,1)=RIGHT('Efficiency Levels'!$C$22,1),SUM(OFFSET(Z16,-RIGHT($D28,1),0,RIGHT($D28,1),1)),\"ERROR\"))))","v":0},{"$f":"IF(AA$24<STANDARD_YEAR,AA16,\nIF(RIGHT($D28,1)>RIGHT('Efficiency Levels'!$C$22,1),AA16,\nIF(RIGHT($D28,1)<RIGHT('Efficiency Levels'!$C$22,1),0,\nIF(RIGHT($D28,1)=RIGHT('Efficiency Levels'!$C$22,1),SUM(OFFSET(AA16,-RIGHT($D28,1),0,RIGHT($D28,1),1)),\"ERROR\"))))","v":0},{"$f":"IF(AB$24<STANDARD_YEAR,AB16,\nIF(RIGHT($D28,1)>RIGHT('Efficiency Levels'!$C$22,1),AB16,\nIF(RIGHT($D28,1)<RIGHT('Efficiency Levels'!$C$22,1),0,\nIF(RIGHT($D28,1)=RIGHT('Efficiency Levels'!$C$22,1),SUM(OFFSET(AB16,-RIGHT($D28,1),0,RIGHT($D28,1),1)),\"ERROR\"))))","v":0},{"$f":"IF(AC$24<STANDARD_YEAR,AC16,\nIF(RIGHT($D28,1)>RIGHT('Efficiency Levels'!$C$22,1),AC16,\nIF(RIGHT($D28,1)<RIGHT('Efficiency Levels'!$C$22,1),0,\nIF(RIGHT($D28,1)=RIGHT('Efficiency Levels'!$C$22,1),SUM(OFFSET(AC16,-RIGHT($D28,1),0,RIGHT($D28,1),1)),\"ERROR\"))))","v":0},{"$f":"IF(AD$24<STANDARD_YEAR,AD16,\nIF(RIGHT($D28,1)>RIGHT('Efficiency Levels'!$C$22,1),AD16,\nIF(RIGHT($D28,1)<RIGHT('Efficiency Levels'!$C$22,1),0,\nIF(RIGHT($D28,1)=RIGHT('Efficiency Levels'!$C$22,1),SUM(OFFSET(AD16,-RIGHT($D28,1),0,RIGHT($D28,1),1)),\"ERROR\"))))","v":0},{"$f":"IF(AE$24<STANDARD_YEAR,AE16,\nIF(RIGHT($D28,1)>RIGHT('Efficiency Levels'!$C$22,1),AE16,\nIF(RIGHT($D28,1)<RIGHT('Efficiency Levels'!$C$22,1),0,\nIF(RIGHT($D28,1)=RIGHT('Efficiency Levels'!$C$22,1),SUM(OFFSET(AE16,-RIGHT($D28,1),0,RIGHT($D28,1),1)),\"ERROR\"))))","v":0},{"$f":"IF(AF$24<STANDARD_YEAR,AF16,\nIF(RIGHT($D28,1)>RIGHT('Efficiency Levels'!$C$22,1),AF16,\nIF(RIGHT($D28,1)<RIGHT('Efficiency Levels'!$C$22,1),0,\nIF(RIGHT($D28,1)=RIGHT('Efficiency Levels'!$C$22,1),SUM(OFFSET(AF16,-RIGHT($D28,1),0,RIGHT($D28,1),1)),\"ERROR\"))))","v":0},{"$f":"IF(AG$24<STANDARD_YEAR,AG16,\nIF(RIGHT($D28,1)>RIGHT('Efficiency Levels'!$C$22,1),AG16,\nIF(RIGHT($D28,1)<RIGHT('Efficiency Levels'!$C$22,1),0,\nIF(RIGHT($D28,1)=RIGHT('Efficiency Levels'!$C$22,1),SUM(OFFSET(AG16,-RIGHT($D28,1),0,RIGHT($D28,1),1)),\"ERROR\"))))","v":0},{"$f":"IF(AH$24<STANDARD_YEAR,AH16,\nIF(RIGHT($D28,1)>RIGHT('Efficiency Levels'!$C$22,1),AH16,\nIF(RIGHT($D28,1)<RIGHT('Efficiency Levels'!$C$22,1),0,\nIF(RIGHT($D28,1)=RIGHT('Efficiency Levels'!$C$22,1),SUM(OFFSET(AH16,-RIGHT($D28,1),0,RIGHT($D28,1),1)),\"ERROR\"))))","v":0},{"$f":"IF(AI$24<STANDARD_YEAR,AI16,\nIF(RIGHT($D28,1)>RIGHT('Efficiency Levels'!$C$22,1),AI16,\nIF(RIGHT($D28,1)<RIGHT('Efficiency Levels'!$C$22,1),0,\nIF(RIGHT($D28,1)=RIGHT('Efficiency Levels'!$C$22,1),SUM(OFFSET(AI16,-RIGHT($D28,1),0,RIGHT($D28,1),1)),\"ERROR\"))))","v":0},{"$f":"IF(AJ$24<STANDARD_YEAR,AJ16,\nIF(RIGHT($D28,1)>RIGHT('Efficiency Levels'!$C$22,1),AJ16,\nIF(RIGHT($D28,1)<RIGHT('Efficiency Levels'!$C$22,1),0,\nIF(RIGHT($D28,1)=RIGHT('Efficiency Levels'!$C$22,1),SUM(OFFSET(AJ16,-RIGHT($D28,1),0,RIGHT($D28,1),1)),\"ERROR\"))))","v":0},{"$f":"IF(AK$24<STANDARD_YEAR,AK16,\nIF(RIGHT($D28,1)>RIGHT('Efficiency Levels'!$C$22,1),AK16,\nIF(RIGHT($D28,1)<RIGHT('Efficiency Levels'!$C$22,1),0,\nIF(RIGHT($D28,1)=RIGHT('Efficiency Levels'!$C$22,1),SUM(OFFSET(AK16,-RIGHT($D28,1),0,RIGHT($D28,1),1)),\"ERROR\"))))","v":0},{"$f":"IF(AL$24<STANDARD_YEAR,AL16,\nIF(RIGHT($D28,1)>RIGHT('Efficiency Levels'!$C$22,1),AL16,\nIF(RIGHT($D28,1)<RIGHT('Efficiency Levels'!$C$22,1),0,\nIF(RIGHT($D28,1)=RIGHT('Efficiency Levels'!$C$22,1),SUM(OFFSET(AL16,-RIGHT($D28,1),0,RIGHT($D28,1),1)),\"ERROR\"))))","v":0},{"$f":"IF(AM$24<STANDARD_YEAR,AM16,\nIF(RIGHT($D28,1)>RIGHT('Efficiency Levels'!$C$22,1),AM16,\nIF(RIGHT($D28,1)<RIGHT('Efficiency Levels'!$C$22,1),0,\nIF(RIGHT($D28,1)=RIGHT('Efficiency Levels'!$C$22,1),SUM(OFFSET(AM16,-RIGHT($D28,1),0,RIGHT($D28,1),1)),\"ERROR\"))))","v":0},{"$f":"IF(AN$24<STANDARD_YEAR,AN16,\nIF(RIGHT($D28,1)>RIGHT('Efficiency Levels'!$C$22,1),AN16,\nIF(RIGHT($D28,1)<RIGHT('Efficiency Levels'!$C$22,1),0,\nIF(RIGHT($D28,1)=RIGHT('Efficiency Levels'!$C$22,1),SUM(OFFSET(AN16,-RIGHT($D28,1),0,RIGHT($D28,1),1)),\"ERROR\"))))","v":0},{"$f":"IF(AO$24<STANDARD_YEAR,AO16,\nIF(RIGHT($D28,1)>RIGHT('Efficiency Levels'!$C$22,1),AO16,\nIF(RIGHT($D28,1)<RIGHT('Efficiency Levels'!$C$22,1),0,\nIF(RIGHT($D28,1)=RIGHT('Efficiency Levels'!$C$22,1),SUM(OFFSET(AO16,-RIGHT($D28,1),0,RIGHT($D28,1),1)),\"ERROR\"))))","v":0},{"$f":"IF(AP$24<STANDARD_YEAR,AP16,\nIF(RIGHT($D28,1)>RIGHT('Efficiency Levels'!$C$22,1),AP16,\nIF(RIGHT($D28,1)<RIGHT('Efficiency Levels'!$C$22,1),0,\nIF(RIGHT($D28,1)=RIGHT('Efficiency Levels'!$C$22,1),SUM(OFFSET(AP16,-RIGHT($D28,1),0,RIGHT($D28,1),1)),\"ERROR\"))))","v":0},{"$f":"IF(AQ$24<STANDARD_YEAR,AQ16,\nIF(RIGHT($D28,1)>RIGHT('Efficiency Levels'!$C$22,1),AQ16,\nIF(RIGHT($D28,1)<RIGHT('Efficiency Levels'!$C$22,1),0,\nIF(RIGHT($D28,1)=RIGHT('Efficiency Levels'!$C$22,1),SUM(OFFSET(AQ16,-RIGHT($D28,1),0,RIGHT($D28,1),1)),\"ERROR\"))))","v":0},{"$f":"IF(AR$24<STANDARD_YEAR,AR16,\nIF(RIGHT($D28,1)>RIGHT('Efficiency Levels'!$C$22,1),AR16,\nIF(RIGHT($D28,1)<RIGHT('Efficiency Levels'!$C$22,1),0,\nIF(RIGHT($D28,1)=RIGHT('Efficiency Levels'!$C$22,1),SUM(OFFSET(AR16,-RIGHT($D28,1),0,RIGHT($D28,1),1)),\"ERROR\"))))","v":0},{"$f":"IF(AS$24<STANDARD_YEAR,AS16,\nIF(RIGHT($D28,1)>RIGHT('Efficiency Levels'!$C$22,1),AS16,\nIF(RIGHT($D28,1)<RIGHT('Efficiency Levels'!$C$22,1),0,\nIF(RIGHT($D28,1)=RIGHT('Efficiency Levels'!$C$22,1),SUM(OFFSET(AS16,-RIGHT($D28,1),0,RIGHT($D28,1),1)),\"ERROR\"))))","v":0},{"$f":"IF(AT$24<STANDARD_YEAR,AT16,\nIF(RIGHT($D28,1)>RIGHT('Efficiency Levels'!$C$22,1),AT16,\nIF(RIGHT($D28,1)<RIGHT('Efficiency Levels'!$C$22,1),0,\nIF(RIGHT($D28,1)=RIGHT('Efficiency Levels'!$C$22,1),SUM(OFFSET(AT16,-RIGHT($D28,1),0,RIGHT($D28,1),1)),\"ERROR\"))))","v":0},{"$f":"IF(AU$24<STANDARD_YEAR,AU16,\nIF(RIGHT($D28,1)>RIGHT('Efficiency Levels'!$C$22,1),AU16,\nIF(RIGHT($D28,1)<RIGHT('Efficiency Levels'!$C$22,1),0,\nIF(RIGHT($D28,1)=RIGHT('Efficiency Levels'!$C$22,1),SUM(OFFSET(AU16,-RIGHT($D28,1),0,RIGHT($D28,1),1)),\"ERROR\"))))","v":0},{"$f":"IF(AV$24<STANDARD_YEAR,AV16,\nIF(RIGHT($D28,1)>RIGHT('Efficiency Levels'!$C$22,1),AV16,\nIF(RIGHT($D28,1)<RIGHT('Efficiency Levels'!$C$22,1),0,\nIF(RIGHT($D28,1)=RIGHT('Efficiency Levels'!$C$22,1),SUM(OFFSET(AV16,-RIGHT($D28,1),0,RIGHT($D28,1),1)),\"ERROR\"))))","v":0},{"$f":"IF(AW$24<STANDARD_YEAR,AW16,\nIF(RIGHT($D28,1)>RIGHT('Efficiency Levels'!$C$22,1),AW16,\nIF(RIGHT($D28,1)<RIGHT('Efficiency Levels'!$C$22,1),0,\nIF(RIGHT($D28,1)=RIGHT('Efficiency Levels'!$C$22,1),SUM(OFFSET(AW16,-RIGHT($D28,1),0,RIGHT($D28,1),1)),\"ERROR\"))))","v":0},{"$f":"IF(AX$24<STANDARD_YEAR,AX16,\nIF(RIGHT($D28,1)>RIGHT('Efficiency Levels'!$C$22,1),AX16,\nIF(RIGHT($D28,1)<RIGHT('Efficiency Levels'!$C$22,1),0,\nIF(RIGHT($D28,1)=RIGHT('Efficiency Levels'!$C$22,1),SUM(OFFSET(AX16,-RIGHT($D28,1),0,RIGHT($D28,1),1)),\"ERROR\"))))","v":0},{"$f":"IF(AY$24<STANDARD_YEAR,AY16,\nIF(RIGHT($D28,1)>RIGHT('Efficiency Levels'!$C$22,1),AY16,\nIF(RIGHT($D28,1)<RIGHT('Efficiency Levels'!$C$22,1),0,\nIF(RIGHT($D28,1)=RIGHT('Efficiency Levels'!$C$22,1),SUM(OFFSET(AY16,-RIGHT($D28,1),0,RIGHT($D28,1),1)),\"ERROR\"))))","v":0},{"$f":"IF(AZ$24<STANDARD_YEAR,AZ16,\nIF(RIGHT($D28,1)>RIGHT('Efficiency Levels'!$C$22,1),AZ16,\nIF(RIGHT($D28,1)<RIGHT('Efficiency Levels'!$C$22,1),0,\nIF(RIGHT($D28,1)=RIGHT('Efficiency Levels'!$C$22,1),SUM(OFFSET(AZ16,-RIGHT($D28,1),0,RIGHT($D28,1),1)),\"ERROR\"))))","v":0},{"$f":"IF(BA$24<STANDARD_YEAR,BA16,\nIF(RIGHT($D28,1)>RIGHT('Efficiency Levels'!$C$22,1),BA16,\nIF(RIGHT($D28,1)<RIGHT('Efficiency Levels'!$C$22,1),0,\nIF(RIGHT($D28,1)=RIGHT('Efficiency Levels'!$C$22,1),SUM(OFFSET(BA16,-RIGHT($D28,1),0,RIGHT($D28,1),1)),\"ERROR\"))))","v":0},{"$f":"IF(BB$24<STANDARD_YEAR,BB16,\nIF(RIGHT($D28,1)>RIGHT('Efficiency Levels'!$C$22,1),BB16,\nIF(RIGHT($D28,1)<RIGHT('Efficiency Levels'!$C$22,1),0,\nIF(RIGHT($D28,1)=RIGHT('Efficiency Levels'!$C$22,1),SUM(OFFSET(BB16,-RIGHT($D28,1),0,RIGHT($D28,1),1)),\"ERROR\"))))","v":0},{"$f":"IF(BC$24<STANDARD_YEAR,BC16,\nIF(RIGHT($D28,1)>RIGHT('Efficiency Levels'!$C$22,1),BC16,\nIF(RIGHT($D28,1)<RIGHT('Efficiency Levels'!$C$22,1),0,\nIF(RIGHT($D28,1)=RIGHT('Efficiency Levels'!$C$22,1),SUM(OFFSET(BC16,-RIGHT($D28,1),0,RIGHT($D28,1),1)),\"ERROR\"))))","v":0},{"$f":"IF(BD$24<STANDARD_YEAR,BD16,\nIF(RIGHT($D28,1)>RIGHT('Efficiency Levels'!$C$22,1),BD16,\nIF(RIGHT($D28,1)<RIGHT('Efficiency Levels'!$C$22,1),0,\nIF(RIGHT($D28,1)=RIGHT('Efficiency Levels'!$C$22,1),SUM(OFFSET(BD16,-RIGHT($D28,1),0,RIGHT($D28,1),1)),\"ERROR\"))))","v":0},{"$f":"IF(BE$24<STANDARD_YEAR,BE16,\nIF(RIGHT($D28,1)>RIGHT('Efficiency Levels'!$C$22,1),BE16,\nIF(RIGHT($D28,1)<RIGHT('Efficiency Levels'!$C$22,1),0,\nIF(RIGHT($D28,1)=RIGHT('Efficiency Levels'!$C$22,1),SUM(OFFSET(BE16,-RIGHT($D28,1),0,RIGHT($D28,1),1)),\"ERROR\"))))","v":0},{"$f":"IF(BF$24<STANDARD_YEAR,BF16,\nIF(RIGHT($D28,1)>RIGHT('Efficiency Levels'!$C$22,1),BF16,\nIF(RIGHT($D28,1)<RIGHT('Efficiency Levels'!$C$22,1),0,\nIF(RIGHT($D28,1)=RIGHT('Efficiency Levels'!$C$22,1),SUM(OFFSET(BF16,-RIGHT($D28,1),0,RIGHT($D28,1),1)),\"ERROR\"))))","v":0},{"$f":"IF(BG$24<STANDARD_YEAR,BG16,\nIF(RIGHT($D28,1)>RIGHT('Efficiency Levels'!$C$22,1),BG16,\nIF(RIGHT($D28,1)<RIGHT('Efficiency Levels'!$C$22,1),0,\nIF(RIGHT($D28,1)=RIGHT('Efficiency Levels'!$C$22,1),SUM(OFFSET(BG16,-RIGHT($D28,1),0,RIGHT($D28,1),1)),\"ERROR\"))))","v":0},{"$f":"IF(BH$24<STANDARD_YEAR,BH16,\nIF(RIGHT($D28,1)>RIGHT('Efficiency Levels'!$C$22,1),BH16,\nIF(RIGHT($D28,1)<RIGHT('Efficiency Levels'!$C$22,1),0,\nIF(RIGHT($D28,1)=RIGHT('Efficiency Levels'!$C$22,1),SUM(OFFSET(BH16,-RIGHT($D28,1),0,RIGHT($D28,1),1)),\"ERROR\"))))","v":0},{"$f":"IF(BI$24<STANDARD_YEAR,BI16,\nIF(RIGHT($D28,1)>RIGHT('Efficiency Levels'!$C$22,1),BI16,\nIF(RIGHT($D28,1)<RIGHT('Efficiency Levels'!$C$22,1),0,\nIF(RIGHT($D28,1)=RIGHT('Efficiency Levels'!$C$22,1),SUM(OFFSET(BI16,-RIGHT($D28,1),0,RIGHT($D28,1),1)),\"ERROR\"))))","v":0},{"$f":"IF(BJ$24<STANDARD_YEAR,BJ16,\nIF(RIGHT($D28,1)>RIGHT('Efficiency Levels'!$C$22,1),BJ16,\nIF(RIGHT($D28,1)<RIGHT('Efficiency Levels'!$C$22,1),0,\nIF(RIGHT($D28,1)=RIGHT('Efficiency Levels'!$C$22,1),SUM(OFFSET(BJ16,-RIGHT($D28,1),0,RIGHT($D28,1),1)),\"ERROR\"))))","v":0}]
[null,null,null,"EL4",{"$f":"OFFSET('Efficiency Levels'!$D$11,MATCH($C$9,'Efficiency Levels'!$C$9:$C$1002,0)+RIGHT(D29,1),0)","v":300.89999999999998},null,null,null,{"$f":"IF(I$24<STANDARD_YEAR,I17,\nIF(RIGHT($D29,1)>RIGHT('Efficiency Levels'!$C$22,1),I17,\nIF(RIGHT($D29,1)<RIGHT('Efficiency Levels'!$C$22,1),0,\nIF(RIGHT($D29,1)=RIGHT('Efficiency Levels'!$C$22,1),SUM(OFFSET(I17,-RIGHT($D29,1),0,RIGHT($D29,1),1)),\"ERROR\"))))","v":0},{"$f":"IF(J$24<STANDARD_YEAR,J17,\nIF(RIGHT($D29,1)>RIGHT('Efficiency Levels'!$C$22,1),J17,\nIF(RIGHT($D29,1)<RIGHT('Efficiency Levels'!$C$22,1),0,\nIF(RIGHT($D29,1)=RIGHT('Efficiency Levels'!$C$22,1),SUM(OFFSET(J17,-RIGHT($D29,1),0,RIGHT($D29,1),1)),\"ERROR\"))))","v":0},{"$f":"IF(K$24<STANDARD_YEAR,K17,\nIF(RIGHT($D29,1)>RIGHT('Efficiency Levels'!$C$22,1),K17,\nIF(RIGHT($D29,1)<RIGHT('Efficiency Levels'!$C$22,1),0,\nIF(RIGHT($D29,1)=RIGHT('Efficiency Levels'!$C$22,1),SUM(OFFSET(K17,-RIGHT($D29,1),0,RIGHT($D29,1),1)),\"ERROR\"))))","v":0},{"$f":"IF(L$24<STANDARD_YEAR,L17,\nIF(RIGHT($D29,1)>RIGHT('Efficiency Levels'!$C$22,1),L17,\nIF(RIGHT($D29,1)<RIGHT('Efficiency Levels'!$C$22,1),0,\nIF(RIGHT($D29,1)=RIGHT('Efficiency Levels'!$C$22,1),SUM(OFFSET(L17,-RIGHT($D29,1),0,RIGHT($D29,1),1)),\"ERROR\"))))","v":0},{"$f":"IF(M$24<STANDARD_YEAR,M17,\nIF(RIGHT($D29,1)>RIGHT('Efficiency Levels'!$C$22,1),M17,\nIF(RIGHT($D29,1)<RIGHT('Efficiency Levels'!$C$22,1),0,\nIF(RIGHT($D29,1)=RIGHT('Efficiency Levels'!$C$22,1),SUM(OFFSET(M17,-RIGHT($D29,1),0,RIGHT($D29,1),1)),\"ERROR\"))))","v":0},{"$f":"IF(N$24<STANDARD_YEAR,N17,\nIF(RIGHT($D29,1)>RIGHT('Efficiency Levels'!$C$22,1),N17,\nIF(RIGHT($D29,1)<RIGHT('Efficiency Levels'!$C$22,1),0,\nIF(RIGHT($D29,1)=RIGHT('Efficiency Levels'!$C$22,1),SUM(OFFSET(N17,-RIGHT($D29,1),0,RIGHT($D29,1),1)),\"ERROR\"))))","v":0},{"$f":"IF(O$24<STANDARD_YEAR,O17,\nIF(RIGHT($D29,1)>RIGHT('Efficiency Levels'!$C$22,1),O17,\nIF(RIGHT($D29,1)<RIGHT('Efficiency Levels'!$C$22,1),0,\nIF(RIGHT($D29,1)=RIGHT('Efficiency Levels'!$C$22,1),SUM(OFFSET(O17,-RIGHT($D29,1),0,RIGHT($D29,1),1)),\"ERROR\"))))","v":0},{"$f":"IF(P$24<STANDARD_YEAR,P17,\nIF(RIGHT($D29,1)>RIGHT('Efficiency Levels'!$C$22,1),P17,\nIF(RIGHT($D29,1)<RIGHT('Efficiency Levels'!$C$22,1),0,\nIF(RIGHT($D29,1)=RIGHT('Efficiency Levels'!$C$22,1),SUM(OFFSET(P17,-RIGHT($D29,1),0,RIGHT($D29,1),1)),\"ERROR\"))))","v":0},{"$f":"IF(Q$24<STANDARD_YEAR,Q17,\nIF(RIGHT($D29,1)>RIGHT('Efficiency Levels'!$C$22,1),Q17,\nIF(RIGHT($D29,1)<RIGHT('Efficiency Levels'!$C$22,1),0,\nIF(RIGHT($D29,1)=RIGHT('Efficiency Levels'!$C$22,1),SUM(OFFSET(Q17,-RIGHT($D29,1),0,RIGHT($D29,1),1)),\"ERROR\"))))","v":0},{"$f":"IF(R$24<STANDARD_YEAR,R17,\nIF(RIGHT($D29,1)>RIGHT('Efficiency Levels'!$C$22,1),R17,\nIF(RIGHT($D29,1)<RIGHT('Efficiency Levels'!$C$22,1),0,\nIF(RIGHT($D29,1)=RIGHT('Efficiency Levels'!$C$22,1),SUM(OFFSET(R17,-RIGHT($D29,1),0,RIGHT($D29,1),1)),\"ERROR\"))))","v":0},{"$f":"IF(S$24<STANDARD_YEAR,S17,\nIF(RIGHT($D29,1)>RIGHT('Efficiency Levels'!$C$22,1),S17,\nIF(RIGHT($D29,1)<RIGHT('Efficiency Levels'!$C$22,1),0,\nIF(RIGHT($D29,1)=RIGHT('Efficiency Levels'!$C$22,1),SUM(OFFSET(S17,-RIGHT($D29,1),0,RIGHT($D29,1),1)),\"ERROR\"))))","v":0},{"$f":"IF(T$24<STANDARD_YEAR,T17,\nIF(RIGHT($D29,1)>RIGHT('Efficiency Levels'!$C$22,1),T17,\nIF(RIGHT($D29,1)<RIGHT('Efficiency Levels'!$C$22,1),0,\nIF(RIGHT($D29,1)=RIGHT('Efficiency Levels'!$C$22,1),SUM(OFFSET(T17,-RIGHT($D29,1),0,RIGHT($D29,1),1)),\"ERROR\"))))","v":0},{"$f":"IF(U$24<STANDARD_YEAR,U17,\nIF(RIGHT($D29,1)>RIGHT('Efficiency Levels'!$C$22,1),U17,\nIF(RIGHT($D29,1)<RIGHT('Efficiency Levels'!$C$22,1),0,\nIF(RIGHT($D29,1)=RIGHT('Efficiency Levels'!$C$22,1),SUM(OFFSET(U17,-RIGHT($D29,1),0,RIGHT($D29,1),1)),\"ERROR\"))))","v":0},{"$f":"IF(V$24<STANDARD_YEAR,V17,\nIF(RIGHT($D29,1)>RIGHT('Efficiency Levels'!$C$22,1),V17,\nIF(RIGHT($D29,1)<RIGHT('Efficiency Levels'!$C$22,1),0,\nIF(RIGHT($D29,1)=RIGHT('Efficiency Levels'!$C$22,1),SUM(OFFSET(V17,-RIGHT($D29,1),0,RIGHT($D29,1),1)),\"ERROR\"))))","v":0},{"$f":"IF(W$24<STANDARD_YEAR,W17,\nIF(RIGHT($D29,1)>RIGHT('Efficiency Levels'!$C$22,1),W17,\nIF(RIGHT($D29,1)<RIGHT('Efficiency Levels'!$C$22,1),0,\nIF(RIGHT($D29,1)=RIGHT('Efficiency Levels'!$C$22,1),SUM(OFFSET(W17,-RIGHT($D29,1),0,RIGHT($D29,1),1)),\"ERROR\"))))","v":0},{"$f":"IF(X$24<STANDARD_YEAR,X17,\nIF(RIGHT($D29,1)>RIGHT('Efficiency Levels'!$C$22,1),X17,\nIF(RIGHT($D29,1)<RIGHT('Efficiency Levels'!$C$22,1),0,\nIF(RIGHT($D29,1)=RIGHT('Efficiency Levels'!$C$22,1),SUM(OFFSET(X17,-RIGHT($D29,1),0,RIGHT($D29,1),1)),\"ERROR\"))))","v":0},{"$f":"IF(Y$24<STANDARD_YEAR,Y17,\nIF(RIGHT($D29,1)>RIGHT('Efficiency Levels'!$C$22,1),Y17,\nIF(RIGHT($D29,1)<RIGHT('Efficiency Levels'!$C$22,1),0,\nIF(RIGHT($D29,1)=RIGHT('Efficiency Levels'!$C$22,1),SUM(OFFSET(Y17,-RIGHT($D29,1),0,RIGHT($D29,1),1)),\"ERROR\"))))","v":0},{"$f":"IF(Z$24<STANDARD_YEAR,Z17,\nIF(RIGHT($D29,1)>RIGHT('Efficiency Levels'!$C$22,1),Z17,\nIF(RIGHT($D29,1)<RIGHT('Efficiency Levels'!$C$22,1),0,\nIF(RIGHT($D29,1)=RIGHT('Efficiency Levels'!$C$22,1),SUM(OFFSET(Z17,-RIGHT($D29,1),0,RIGHT($D29,1),1)),\"ERROR\"))))","v":0},{"$f":"IF(AA$24<STANDARD_YEAR,AA17,\nIF(RIGHT($D29,1)>RIGHT('Efficiency Levels'!$C$22,1),AA17,\nIF(RIGHT($D29,1)<RIGHT('Efficiency Levels'!$C$22,1),0,\nIF(RIGHT($D29,1)=RIGHT('Efficiency Levels'!$C$22,1),SUM(OFFSET(AA17,-RIGHT($D29,1),0,RIGHT($D29,1),1)),\"ERROR\"))))","v":0},{"$f":"IF(AB$24<STANDARD_YEAR,AB17,\nIF(RIGHT($D29,1)>RIGHT('Efficiency Levels'!$C$22,1),AB17,\nIF(RIGHT($D29,1)<RIGHT('Efficiency Levels'!$C$22,1),0,\nIF(RIGHT($D29,1)=RIGHT('Efficiency Levels'!$C$22,1),SUM(OFFSET(AB17,-RIGHT($D29,1),0,RIGHT($D29,1),1)),\"ERROR\"))))","v":0},{"$f":"IF(AC$24<STANDARD_YEAR,AC17,\nIF(RIGHT($D29,1)>RIGHT('Efficiency Levels'!$C$22,1),AC17,\nIF(RIGHT($D29,1)<RIGHT('Efficiency Levels'!$C$22,1),0,\nIF(RIGHT($D29,1)=RIGHT('Efficiency Levels'!$C$22,1),SUM(OFFSET(AC17,-RIGHT($D29,1),0,RIGHT($D29,1),1)),\"ERROR\"))))","v":0},{"$f":"IF(AD$24<STANDARD_YEAR,AD17,\nIF(RIGHT($D29,1)>RIGHT('Efficiency Levels'!$C$22,1),AD17,\nIF(RIGHT($D29,1)<RIGHT('Efficiency Levels'!$C$22,1),0,\nIF(RIGHT($D29,1)=RIGHT('Efficiency Levels'!$C$22,1),SUM(OFFSET(AD17,-RIGHT($D29,1),0,RIGHT($D29,1),1)),\"ERROR\"))))","v":0},{"$f":"IF(AE$24<STANDARD_YEAR,AE17,\nIF(RIGHT($D29,1)>RIGHT('Efficiency Levels'!$C$22,1),AE17,\nIF(RIGHT($D29,1)<RIGHT('Efficiency Levels'!$C$22,1),0,\nIF(RIGHT($D29,1)=RIGHT('Efficiency Levels'!$C$22,1),SUM(OFFSET(AE17,-RIGHT($D29,1),0,RIGHT($D29,1),1)),\"ERROR\"))))","v":0},{"$f":"IF(AF$24<STANDARD_YEAR,AF17,\nIF(RIGHT($D29,1)>RIGHT('Efficiency Levels'!$C$22,1),AF17,\nIF(RIGHT($D29,1)<RIGHT('Efficiency Levels'!$C$22,1),0,\nIF(RIGHT($D29,1)=RIGHT('Efficiency Levels'!$C$22,1),SUM(OFFSET(AF17,-RIGHT($D29,1),0,RIGHT($D29,1),1)),\"ERROR\"))))","v":0},{"$f":"IF(AG$24<STANDARD_YEAR,AG17,\nIF(RIGHT($D29,1)>RIGHT('Efficiency Levels'!$C$22,1),AG17,\nIF(RIGHT($D29,1)<RIGHT('Efficiency Levels'!$C$22,1),0,\nIF(RIGHT($D29,1)=RIGHT('Efficiency Levels'!$C$22,1),SUM(OFFSET(AG17,-RIGHT($D29,1),0,RIGHT($D29,1),1)),\"ERROR\"))))","v":0},{"$f":"IF(AH$24<STANDARD_YEAR,AH17,\nIF(RIGHT($D29,1)>RIGHT('Efficiency Levels'!$C$22,1),AH17,\nIF(RIGHT($D29,1)<RIGHT('Efficiency Levels'!$C$22,1),0,\nIF(RIGHT($D29,1)=RIGHT('Efficiency Levels'!$C$22,1),SUM(OFFSET(AH17,-RIGHT($D29,1),0,RIGHT($D29,1),1)),\"ERROR\"))))","v":0},{"$f":"IF(AI$24<STANDARD_YEAR,AI17,\nIF(RIGHT($D29,1)>RIGHT('Efficiency Levels'!$C$22,1),AI17,\nIF(RIGHT($D29,1)<RIGHT('Efficiency Levels'!$C$22,1),0,\nIF(RIGHT($D29,1)=RIGHT('Efficiency Levels'!$C$22,1),SUM(OFFSET(AI17,-RIGHT($D29,1),0,RIGHT($D29,1),1)),\"ERROR\"))))","v":0},{"$f":"IF(AJ$24<STANDARD_YEAR,AJ17,\nIF(RIGHT($D29,1)>RIGHT('Efficiency Levels'!$C$22,1),AJ17,\nIF(RIGHT($D29,1)<RIGHT('Efficiency Levels'!$C$22,1),0,\nIF(RIGHT($D29,1)=RIGHT('Efficiency Levels'!$C$22,1),SUM(OFFSET(AJ17,-RIGHT($D29,1),0,RIGHT($D29,1),1)),\"ERROR\"))))","v":0},{"$f":"IF(AK$24<STANDARD_YEAR,AK17,\nIF(RIGHT($D29,1)>RIGHT('Efficiency Levels'!$C$22,1),AK17,\nIF(RIGHT($D29,1)<RIGHT('Efficiency Levels'!$C$22,1),0,\nIF(RIGHT($D29,1)=RIGHT('Efficiency Levels'!$C$22,1),SUM(OFFSET(AK17,-RIGHT($D29,1),0,RIGHT($D29,1),1)),\"ERROR\"))))","v":0},{"$f":"IF(AL$24<STANDARD_YEAR,AL17,\nIF(RIGHT($D29,1)>RIGHT('Efficiency Levels'!$C$22,1),AL17,\nIF(RIGHT($D29,1)<RIGHT('Efficiency Levels'!$C$22,1),0,\nIF(RIGHT($D29,1)=RIGHT('Efficiency Levels'!$C$22,1),SUM(OFFSET(AL17,-RIGHT($D29,1),0,RIGHT($D29,1),1)),\"ERROR\"))))","v":0},{"$f":"IF(AM$24<STANDARD_YEAR,AM17,\nIF(RIGHT($D29,1)>RIGHT('Efficiency Levels'!$C$22,1),AM17,\nIF(RIGHT($D29,1)<RIGHT('Efficiency Levels'!$C$22,1),0,\nIF(RIGHT($D29,1)=RIGHT('Efficiency Levels'!$C$22,1),SUM(OFFSET(AM17,-RIGHT($D29,1),0,RIGHT($D29,1),1)),\"ERROR\"))))","v":0},{"$f":"IF(AN$24<STANDARD_YEAR,AN17,\nIF(RIGHT($D29,1)>RIGHT('Efficiency Levels'!$C$22,1),AN17,\nIF(RIGHT($D29,1)<RIGHT('Efficiency Levels'!$C$22,1),0,\nIF(RIGHT($D29,1)=RIGHT('Efficiency Levels'!$C$22,1),SUM(OFFSET(AN17,-RIGHT($D29,1),0,RIGHT($D29,1),1)),\"ERROR\"))))","v":0},{"$f":"IF(AO$24<STANDARD_YEAR,AO17,\nIF(RIGHT($D29,1)>RIGHT('Efficiency Levels'!$C$22,1),AO17,\nIF(RIGHT($D29,1)<RIGHT('Efficiency Levels'!$C$22,1),0,\nIF(RIGHT($D29,1)=RIGHT('Efficiency Levels'!$C$22,1),SUM(OFFSET(AO17,-RIGHT($D29,1),0,RIGHT($D29,1),1)),\"ERROR\"))))","v":0},{"$f":"IF(AP$24<STANDARD_YEAR,AP17,\nIF(RIGHT($D29,1)>RIGHT('Efficiency Levels'!$C$22,1),AP17,\nIF(RIGHT($D29,1)<RIGHT('Efficiency Levels'!$C$22,1),0,\nIF(RIGHT($D29,1)=RIGHT('Efficiency Levels'!$C$22,1),SUM(OFFSET(AP17,-RIGHT($D29,1),0,RIGHT($D29,1),1)),\"ERROR\"))))","v":0},{"$f":"IF(AQ$24<STANDARD_YEAR,AQ17,\nIF(RIGHT($D29,1)>RIGHT('Efficiency Levels'!$C$22,1),AQ17,\nIF(RIGHT($D29,1)<RIGHT('Efficiency Levels'!$C$22,1),0,\nIF(RIGHT($D29,1)=RIGHT('Efficiency Levels'!$C$22,1),SUM(OFFSET(AQ17,-RIGHT($D29,1),0,RIGHT($D29,1),1)),\"ERROR\"))))","v":0},{"$f":"IF(AR$24<STANDARD_YEAR,AR17,\nIF(RIGHT($D29,1)>RIGHT('Efficiency Levels'!$C$22,1),AR17,\nIF(RIGHT($D29,1)<RIGHT('Efficiency Levels'!$C$22,1),0,\nIF(RIGHT($D29,1)=RIGHT('Efficiency Levels'!$C$22,1),SUM(OFFSET(AR17,-RIGHT($D29,1),0,RIGHT($D29,1),1)),\"ERROR\"))))","v":0},{"$f":"IF(AS$24<STANDARD_YEAR,AS17,\nIF(RIGHT($D29,1)>RIGHT('Efficiency Levels'!$C$22,1),AS17,\nIF(RIGHT($D29,1)<RIGHT('Efficiency Levels'!$C$22,1),0,\nIF(RIGHT($D29,1)=RIGHT('Efficiency Levels'!$C$22,1),SUM(OFFSET(AS17,-RIGHT($D29,1),0,RIGHT($D29,1),1)),\"ERROR\"))))","v":0},{"$f":"IF(AT$24<STANDARD_YEAR,AT17,\nIF(RIGHT($D29,1)>RIGHT('Efficiency Levels'!$C$22,1),AT17,\nIF(RIGHT($D29,1)<RIGHT('Efficiency Levels'!$C$22,1),0,\nIF(RIGHT($D29,1)=RIGHT('Efficiency Levels'!$C$22,1),SUM(OFFSET(AT17,-RIGHT($D29,1),0,RIGHT($D29,1),1)),\"ERROR\"))))","v":0},{"$f":"IF(AU$24<STANDARD_YEAR,AU17,\nIF(RIGHT($D29,1)>RIGHT('Efficiency Levels'!$C$22,1),AU17,\nIF(RIGHT($D29,1)<RIGHT('Efficiency Levels'!$C$22,1),0,\nIF(RIGHT($D29,1)=RIGHT('Efficiency Levels'!$C$22,1),SUM(OFFSET(AU17,-RIGHT($D29,1),0,RIGHT($D29,1),1)),\"ERROR\"))))","v":0},{"$f":"IF(AV$24<STANDARD_YEAR,AV17,\nIF(RIGHT($D29,1)>RIGHT('Efficiency Levels'!$C$22,1),AV17,\nIF(RIGHT($D29,1)<RIGHT('Efficiency Levels'!$C$22,1),0,\nIF(RIGHT($D29,1)=RIGHT('Efficiency Levels'!$C$22,1),SUM(OFFSET(AV17,-RIGHT($D29,1),0,RIGHT($D29,1),1)),\"ERROR\"))))","v":0},{"$f":"IF(AW$24<STANDARD_YEAR,AW17,\nIF(RIGHT($D29,1)>RIGHT('Efficiency Levels'!$C$22,1),AW17,\nIF(RIGHT($D29,1)<RIGHT('Efficiency Levels'!$C$22,1),0,\nIF(RIGHT($D29,1)=RIGHT('Efficiency Levels'!$C$22,1),SUM(OFFSET(AW17,-RIGHT($D29,1),0,RIGHT($D29,1),1)),\"ERROR\"))))","v":0},{"$f":"IF(AX$24<STANDARD_YEAR,AX17,\nIF(RIGHT($D29,1)>RIGHT('Efficiency Levels'!$C$22,1),AX17,\nIF(RIGHT($D29,1)<RIGHT('Efficiency Levels'!$C$22,1),0,\nIF(RIGHT($D29,1)=RIGHT('Efficiency Levels'!$C$22,1),SUM(OFFSET(AX17,-RIGHT($D29,1),0,RIGHT($D29,1),1)),\"ERROR\"))))","v":0},{"$f":"IF(AY$24<STANDARD_YEAR,AY17,\nIF(RIGHT($D29,1)>RIGHT('Efficiency Levels'!$C$22,1),AY17,\nIF(RIGHT($D29,1)<RIGHT('Efficiency Levels'!$C$22,1),0,\nIF(RIGHT($D29,1)=RIGHT('Efficiency Levels'!$C$22,1),SUM(OFFSET(AY17,-RIGHT($D29,1),0,RIGHT($D29,1),1)),\"ERROR\"))))","v":0},{"$f":"IF(AZ$24<STANDARD_YEAR,AZ17,\nIF(RIGHT($D29,1)>RIGHT('Efficiency Levels'!$C$22,1),AZ17,\nIF(RIGHT($D29,1)<RIGHT('Efficiency Levels'!$C$22,1),0,\nIF(RIGHT($D29,1)=RIGHT('Efficiency Levels'!$C$22,1),SUM(OFFSET(AZ17,-RIGHT($D29,1),0,RIGHT($D29,1),1)),\"ERROR\"))))","v":0},{"$f":"IF(BA$24<STANDARD_YEAR,BA17,\nIF(RIGHT($D29,1)>RIGHT('Efficiency Levels'!$C$22,1),BA17,\nIF(RIGHT($D29,1)<RIGHT('Efficiency Levels'!$C$22,1),0,\nIF(RIGHT($D29,1)=RIGHT('Efficiency Levels'!$C$22,1),SUM(OFFSET(BA17,-RIGHT($D29,1),0,RIGHT($D29,1),1)),\"ERROR\"))))","v":0},{"$f":"IF(BB$24<STANDARD_YEAR,BB17,\nIF(RIGHT($D29,1)>RIGHT('Efficiency Levels'!$C$22,1),BB17,\nIF(RIGHT($D29,1)<RIGHT('Efficiency Levels'!$C$22,1),0,\nIF(RIGHT($D29,1)=RIGHT('Efficiency Levels'!$C$22,1),SUM(OFFSET(BB17,-RIGHT($D29,1),0,RIGHT($D29,1),1)),\"ERROR\"))))","v":0},{"$f":"IF(BC$24<STANDARD_YEAR,BC17,\nIF(RIGHT($D29,1)>RIGHT('Efficiency Levels'!$C$22,1),BC17,\nIF(RIGHT($D29,1)<RIGHT('Efficiency Levels'!$C$22,1),0,\nIF(RIGHT($D29,1)=RIGHT('Efficiency Levels'!$C$22,1),SUM(OFFSET(BC17,-RIGHT($D29,1),0,RIGHT($D29,1),1)),\"ERROR\"))))","v":0},{"$f":"IF(BD$24<STANDARD_YEAR,BD17,\nIF(RIGHT($D29,1)>RIGHT('Efficiency Levels'!$C$22,1),BD17,\nIF(RIGHT($D29,1)<RIGHT('Efficiency Levels'!$C$22,1),0,\nIF(RIGHT($D29,1)=RIGHT('Efficiency Levels'!$C$22,1),SUM(OFFSET(BD17,-RIGHT($D29,1),0,RIGHT($D29,1),1)),\"ERROR\"))))","v":0},{"$f":"IF(BE$24<STANDARD_YEAR,BE17,\nIF(RIGHT($D29,1)>RIGHT('Efficiency Levels'!$C$22,1),BE17,\nIF(RIGHT($D29,1)<RIGHT('Efficiency Levels'!$C$22,1),0,\nIF(RIGHT($D29,1)=RIGHT('Efficiency Levels'!$C$22,1),SUM(OFFSET(BE17,-RIGHT($D29,1),0,RIGHT($D29,1),1)),\"ERROR\"))))","v":0},{"$f":"IF(BF$24<STANDARD_YEAR,BF17,\nIF(RIGHT($D29,1)>RIGHT('Efficiency Levels'!$C$22,1),BF17,\nIF(RIGHT($D29,1)<RIGHT('Efficiency Levels'!$C$22,1),0,\nIF(RIGHT($D29,1)=RIGHT('Efficiency Levels'!$C$22,1),SUM(OFFSET(BF17,-RIGHT($D29,1),0,RIGHT($D29,1),1)),\"ERROR\"))))","v":0},{"$f":"IF(BG$24<STANDARD_YEAR,BG17,\nIF(RIGHT($D29,1)>RIGHT('Efficiency Levels'!$C$22,1),BG17,\nIF(RIGHT($D29,1)<RIGHT('Efficiency Levels'!$C$22,1),0,\nIF(RIGHT($D29,1)=RIGHT('Efficiency Levels'!$C$22,1),SUM(OFFSET(BG17,-RIGHT($D29,1),0,RIGHT($D29,1),1)),\"ERROR\"))))","v":0},{"$f":"IF(BH$24<STANDARD_YEAR,BH17,\nIF(RIGHT($D29,1)>RIGHT('Efficiency Levels'!$C$22,1),BH17,\nIF(RIGHT($D29,1)<RIGHT('Efficiency Levels'!$C$22,1),0,\nIF(RIGHT($D29,1)=RIGHT('Efficiency Levels'!$C$22,1),SUM(OFFSET(BH17,-RIGHT($D29,1),0,RIGHT($D29,1),1)),\"ERROR\"))))","v":0},{"$f":"IF(BI$24<STANDARD_YEAR,BI17,\nIF(RIGHT($D29,1)>RIGHT('Efficiency Levels'!$C$22,1),BI17,\nIF(RIGHT($D29,1)<RIGHT('Efficiency Levels'!$C$22,1),0,\nIF(RIGHT($D29,1)=RIGHT('Efficiency Levels'!$C$22,1),SUM(OFFSET(BI17,-RIGHT($D29,1),0,RIGHT($D29,1),1)),\"ERROR\"))))","v":0},{"$f":"IF(BJ$24<STANDARD_YEAR,BJ17,\nIF(RIGHT($D29,1)>RIGHT('Efficiency Levels'!$C$22,1),BJ17,\nIF(RIGHT($D29,1)<RIGHT('Efficiency Levels'!$C$22,1),0,\nIF(RIGHT($D29,1)=RIGHT('Efficiency Levels'!$C$22,1),SUM(OFFSET(BJ17,-RIGHT($D29,1),0,RIGHT($D29,1),1)),\"ERROR\"))))","v":0}]
[null,null,null,"EL5",{"$f":"OFFSET('Efficiency Levels'!$D$11,MATCH($C$9,'Efficiency Levels'!$C$9:$C$1002,0)+RIGHT(D30,1),0)","v":300.3},null,null,null,{"$f":"IF(I$24<STANDARD_YEAR,I18,\nIF(RIGHT($D30,1)>RIGHT('Efficiency Levels'!$C$22,1),I18,\nIF(RIGHT($D30,1)<RIGHT('Efficiency Levels'!$C$22,1),0,\nIF(RIGHT($D30,1)=RIGHT('Efficiency Levels'!$C$22,1),SUM(OFFSET(I18,-RIGHT($D30,1),0,RIGHT($D30,1),1)),\"ERROR\"))))","v":0},{"$f":"IF(J$24<STANDARD_YEAR,J18,\nIF(RIGHT($D30,1)>RIGHT('Efficiency Levels'!$C$22,1),J18,\nIF(RIGHT($D30,1)<RIGHT('Efficiency Levels'!$C$22,1),0,\nIF(RIGHT($D30,1)=RIGHT('Efficiency Levels'!$C$22,1),SUM(OFFSET(J18,-RIGHT($D30,1),0,RIGHT($D30,1),1)),\"ERROR\"))))","v":0},{"$f":"IF(K$24<STANDARD_YEAR,K18,\nIF(RIGHT($D30,1)>RIGHT('Efficiency Levels'!$C$22,1),K18,\nIF(RIGHT($D30,1)<RIGHT('Efficiency Levels'!$C$22,1),0,\nIF(RIGHT($D30,1)=RIGHT('Efficiency Levels'!$C$22,1),SUM(OFFSET(K18,-RIGHT($D30,1),0,RIGHT($D30,1),1)),\"ERROR\"))))","v":0},{"$f":"IF(L$24<STANDARD_YEAR,L18,\nIF(RIGHT($D30,1)>RIGHT('Efficiency Levels'!$C$22,1),L18,\nIF(RIGHT($D30,1)<RIGHT('Efficiency Levels'!$C$22,1),0,\nIF(RIGHT($D30,1)=RIGHT('Efficiency Levels'!$C$22,1),SUM(OFFSET(L18,-RIGHT($D30,1),0,RIGHT($D30,1),1)),\"ERROR\"))))","v":0},{"$f":"IF(M$24<STANDARD_YEAR,M18,\nIF(RIGHT($D30,1)>RIGHT('Efficiency Levels'!$C$22,1),M18,\nIF(RIGHT($D30,1)<RIGHT('Efficiency Levels'!$C$22,1),0,\nIF(RIGHT($D30,1)=RIGHT('Efficiency Levels'!$C$22,1),SUM(OFFSET(M18,-RIGHT($D30,1),0,RIGHT($D30,1),1)),\"ERROR\"))))","v":0},{"$f":"IF(N$24<STANDARD_YEAR,N18,\nIF(RIGHT($D30,1)>RIGHT('Efficiency Levels'!$C$22,1),N18,\nIF(RIGHT($D30,1)<RIGHT('Efficiency Levels'!$C$22,1),0,\nIF(RIGHT($D30,1)=RIGHT('Efficiency Levels'!$C$22,1),SUM(OFFSET(N18,-RIGHT($D30,1),0,RIGHT($D30,1),1)),\"ERROR\"))))","v":0},{"$f":"IF(O$24<STANDARD_YEAR,O18,\nIF(RIGHT($D30,1)>RIGHT('Efficiency Levels'!$C$22,1),O18,\nIF(RIGHT($D30,1)<RIGHT('Efficiency Levels'!$C$22,1),0,\nIF(RIGHT($D30,1)=RIGHT('Efficiency Levels'!$C$22,1),SUM(OFFSET(O18,-RIGHT($D30,1),0,RIGHT($D30,1),1)),\"ERROR\"))))","v":0},{"$f":"IF(P$24<STANDARD_YEAR,P18,\nIF(RIGHT($D30,1)>RIGHT('Efficiency Levels'!$C$22,1),P18,\nIF(RIGHT($D30,1)<RIGHT('Efficiency Levels'!$C$22,1),0,\nIF(RIGHT($D30,1)=RIGHT('Efficiency Levels'!$C$22,1),SUM(OFFSET(P18,-RIGHT($D30,1),0,RIGHT($D30,1),1)),\"ERROR\"))))","v":0},{"$f":"IF(Q$24<STANDARD_YEAR,Q18,\nIF(RIGHT($D30,1)>RIGHT('Efficiency Levels'!$C$22,1),Q18,\nIF(RIGHT($D30,1)<RIGHT('Efficiency Levels'!$C$22,1),0,\nIF(RIGHT($D30,1)=RIGHT('Efficiency Levels'!$C$22,1),SUM(OFFSET(Q18,-RIGHT($D30,1),0,RIGHT($D30,1),1)),\"ERROR\"))))","v":0},{"$f":"IF(R$24<STANDARD_YEAR,R18,\nIF(RIGHT($D30,1)>RIGHT('Efficiency Levels'!$C$22,1),R18,\nIF(RIGHT($D30,1)<RIGHT('Efficiency Levels'!$C$22,1),0,\nIF(RIGHT($D30,1)=RIGHT('Efficiency Levels'!$C$22,1),SUM(OFFSET(R18,-RIGHT($D30,1),0,RIGHT($D30,1),1)),\"ERROR\"))))","v":0},{"$f":"IF(S$24<STANDARD_YEAR,S18,\nIF(RIGHT($D30,1)>RIGHT('Efficiency Levels'!$C$22,1),S18,\nIF(RIGHT($D30,1)<RIGHT('Efficiency Levels'!$C$22,1),0,\nIF(RIGHT($D30,1)=RIGHT('Efficiency Levels'!$C$22,1),SUM(OFFSET(S18,-RIGHT($D30,1),0,RIGHT($D30,1),1)),\"ERROR\"))))","v":0},{"$f":"IF(T$24<STANDARD_YEAR,T18,\nIF(RIGHT($D30,1)>RIGHT('Efficiency Levels'!$C$22,1),T18,\nIF(RIGHT($D30,1)<RIGHT('Efficiency Levels'!$C$22,1),0,\nIF(RIGHT($D30,1)=RIGHT('Efficiency Levels'!$C$22,1),SUM(OFFSET(T18,-RIGHT($D30,1),0,RIGHT($D30,1),1)),\"ERROR\"))))","v":0},{"$f":"IF(U$24<STANDARD_YEAR,U18,\nIF(RIGHT($D30,1)>RIGHT('Efficiency Levels'!$C$22,1),U18,\nIF(RIGHT($D30,1)<RIGHT('Efficiency Levels'!$C$22,1),0,\nIF(RIGHT($D30,1)=RIGHT('Efficiency Levels'!$C$22,1),SUM(OFFSET(U18,-RIGHT($D30,1),0,RIGHT($D30,1),1)),\"ERROR\"))))","v":0},{"$f":"IF(V$24<STANDARD_YEAR,V18,\nIF(RIGHT($D30,1)>RIGHT('Efficiency Levels'!$C$22,1),V18,\nIF(RIGHT($D30,1)<RIGHT('Efficiency Levels'!$C$22,1),0,\nIF(RIGHT($D30,1)=RIGHT('Efficiency Levels'!$C$22,1),SUM(OFFSET(V18,-RIGHT($D30,1),0,RIGHT($D30,1),1)),\"ERROR\"))))","v":0},{"$f":"IF(W$24<STANDARD_YEAR,W18,\nIF(RIGHT($D30,1)>RIGHT('Efficiency Levels'!$C$22,1),W18,\nIF(RIGHT($D30,1)<RIGHT('Efficiency Levels'!$C$22,1),0,\nIF(RIGHT($D30,1)=RIGHT('Efficiency Levels'!$C$22,1),SUM(OFFSET(W18,-RIGHT($D30,1),0,RIGHT($D30,1),1)),\"ERROR\"))))","v":0},{"$f":"IF(X$24<STANDARD_YEAR,X18,\nIF(RIGHT($D30,1)>RIGHT('Efficiency Levels'!$C$22,1),X18,\nIF(RIGHT($D30,1)<RIGHT('Efficiency Levels'!$C$22,1),0,\nIF(RIGHT($D30,1)=RIGHT('Efficiency Levels'!$C$22,1),SUM(OFFSET(X18,-RIGHT($D30,1),0,RIGHT($D30,1),1)),\"ERROR\"))))","v":0},{"$f":"IF(Y$24<STANDARD_YEAR,Y18,\nIF(RIGHT($D30,1)>RIGHT('Efficiency Levels'!$C$22,1),Y18,\nIF(RIGHT($D30,1)<RIGHT('Efficiency Levels'!$C$22,1),0,\nIF(RIGHT($D30,1)=RIGHT('Efficiency Levels'!$C$22,1),SUM(OFFSET(Y18,-RIGHT($D30,1),0,RIGHT($D30,1),1)),\"ERROR\"))))","v":0},{"$f":"IF(Z$24<STANDARD_YEAR,Z18,\nIF(RIGHT($D30,1)>RIGHT('Efficiency Levels'!$C$22,1),Z18,\nIF(RIGHT($D30,1)<RIGHT('Efficiency Levels'!$C$22,1),0,\nIF(RIGHT($D30,1)=RIGHT('Efficiency Levels'!$C$22,1),SUM(OFFSET(Z18,-RIGHT($D30,1),0,RIGHT($D30,1),1)),\"ERROR\"))))","v":0},{"$f":"IF(AA$24<STANDARD_YEAR,AA18,\nIF(RIGHT($D30,1)>RIGHT('Efficiency Levels'!$C$22,1),AA18,\nIF(RIGHT($D30,1)<RIGHT('Efficiency Levels'!$C$22,1),0,\nIF(RIGHT($D30,1)=RIGHT('Efficiency Levels'!$C$22,1),SUM(OFFSET(AA18,-RIGHT($D30,1),0,RIGHT($D30,1),1)),\"ERROR\"))))","v":0},{"$f":"IF(AB$24<STANDARD_YEAR,AB18,\nIF(RIGHT($D30,1)>RIGHT('Efficiency Levels'!$C$22,1),AB18,\nIF(RIGHT($D30,1)<RIGHT('Efficiency Levels'!$C$22,1),0,\nIF(RIGHT($D30,1)=RIGHT('Efficiency Levels'!$C$22,1),SUM(OFFSET(AB18,-RIGHT($D30,1),0,RIGHT($D30,1),1)),\"ERROR\"))))","v":0},{"$f":"IF(AC$24<STANDARD_YEAR,AC18,\nIF(RIGHT($D30,1)>RIGHT('Efficiency Levels'!$C$22,1),AC18,\nIF(RIGHT($D30,1)<RIGHT('Efficiency Levels'!$C$22,1),0,\nIF(RIGHT($D30,1)=RIGHT('Efficiency Levels'!$C$22,1),SUM(OFFSET(AC18,-RIGHT($D30,1),0,RIGHT($D30,1),1)),\"ERROR\"))))","v":0},{"$f":"IF(AD$24<STANDARD_YEAR,AD18,\nIF(RIGHT($D30,1)>RIGHT('Efficiency Levels'!$C$22,1),AD18,\nIF(RIGHT($D30,1)<RIGHT('Efficiency Levels'!$C$22,1),0,\nIF(RIGHT($D30,1)=RIGHT('Efficiency Levels'!$C$22,1),SUM(OFFSET(AD18,-RIGHT($D30,1),0,RIGHT($D30,1),1)),\"ERROR\"))))","v":0},{"$f":"IF(AE$24<STANDARD_YEAR,AE18,\nIF(RIGHT($D30,1)>RIGHT('Efficiency Levels'!$C$22,1),AE18,\nIF(RIGHT($D30,1)<RIGHT('Efficiency Levels'!$C$22,1),0,\nIF(RIGHT($D30,1)=RIGHT('Efficiency Levels'!$C$22,1),SUM(OFFSET(AE18,-RIGHT($D30,1),0,RIGHT($D30,1),1)),\"ERROR\"))))","v":0},{"$f":"IF(AF$24<STANDARD_YEAR,AF18,\nIF(RIGHT($D30,1)>RIGHT('Efficiency Levels'!$C$22,1),AF18,\nIF(RIGHT($D30,1)<RIGHT('Efficiency Levels'!$C$22,1),0,\nIF(RIGHT($D30,1)=RIGHT('Efficiency Levels'!$C$22,1),SUM(OFFSET(AF18,-RIGHT($D30,1),0,RIGHT($D30,1),1)),\"ERROR\"))))","v":0},{"$f":"IF(AG$24<STANDARD_YEAR,AG18,\nIF(RIGHT($D30,1)>RIGHT('Efficiency Levels'!$C$22,1),AG18,\nIF(RIGHT($D30,1)<RIGHT('Efficiency Levels'!$C$22,1),0,\nIF(RIGHT($D30,1)=RIGHT('Efficiency Levels'!$C$22,1),SUM(OFFSET(AG18,-RIGHT($D30,1),0,RIGHT($D30,1),1)),\"ERROR\"))))","v":0},{"$f":"IF(AH$24<STANDARD_YEAR,AH18,\nIF(RIGHT($D30,1)>RIGHT('Efficiency Levels'!$C$22,1),AH18,\nIF(RIGHT($D30,1)<RIGHT('Efficiency Levels'!$C$22,1),0,\nIF(RIGHT($D30,1)=RIGHT('Efficiency Levels'!$C$22,1),SUM(OFFSET(AH18,-RIGHT($D30,1),0,RIGHT($D30,1),1)),\"ERROR\"))))","v":0},{"$f":"IF(AI$24<STANDARD_YEAR,AI18,\nIF(RIGHT($D30,1)>RIGHT('Efficiency Levels'!$C$22,1),AI18,\nIF(RIGHT($D30,1)<RIGHT('Efficiency Levels'!$C$22,1),0,\nIF(RIGHT($D30,1)=RIGHT('Efficiency Levels'!$C$22,1),SUM(OFFSET(AI18,-RIGHT($D30,1),0,RIGHT($D30,1),1)),\"ERROR\"))))","v":0},{"$f":"IF(AJ$24<STANDARD_YEAR,AJ18,\nIF(RIGHT($D30,1)>RIGHT('Efficiency Levels'!$C$22,1),AJ18,\nIF(RIGHT($D30,1)<RIGHT('Efficiency Levels'!$C$22,1),0,\nIF(RIGHT($D30,1)=RIGHT('Efficiency Levels'!$C$22,1),SUM(OFFSET(AJ18,-RIGHT($D30,1),0,RIGHT($D30,1),1)),\"ERROR\"))))","v":0},{"$f":"IF(AK$24<STANDARD_YEAR,AK18,\nIF(RIGHT($D30,1)>RIGHT('Efficiency Levels'!$C$22,1),AK18,\nIF(RIGHT($D30,1)<RIGHT('Efficiency Levels'!$C$22,1),0,\nIF(RIGHT($D30,1)=RIGHT('Efficiency Levels'!$C$22,1),SUM(OFFSET(AK18,-RIGHT($D30,1),0,RIGHT($D30,1),1)),\"ERROR\"))))","v":0},{"$f":"IF(AL$24<STANDARD_YEAR,AL18,\nIF(RIGHT($D30,1)>RIGHT('Efficiency Levels'!$C$22,1),AL18,\nIF(RIGHT($D30,1)<RIGHT('Efficiency Levels'!$C$22,1),0,\nIF(RIGHT($D30,1)=RIGHT('Efficiency Levels'!$C$22,1),SUM(OFFSET(AL18,-RIGHT($D30,1),0,RIGHT($D30,1),1)),\"ERROR\"))))","v":0},{"$f":"IF(AM$24<STANDARD_YEAR,AM18,\nIF(RIGHT($D30,1)>RIGHT('Efficiency Levels'!$C$22,1),AM18,\nIF(RIGHT($D30,1)<RIGHT('Efficiency Levels'!$C$22,1),0,\nIF(RIGHT($D30,1)=RIGHT('Efficiency Levels'!$C$22,1),SUM(OFFSET(AM18,-RIGHT($D30,1),0,RIGHT($D30,1),1)),\"ERROR\"))))","v":0},{"$f":"IF(AN$24<STANDARD_YEAR,AN18,\nIF(RIGHT($D30,1)>RIGHT('Efficiency Levels'!$C$22,1),AN18,\nIF(RIGHT($D30,1)<RIGHT('Efficiency Levels'!$C$22,1),0,\nIF(RIGHT($D30,1)=RIGHT('Efficiency Levels'!$C$22,1),SUM(OFFSET(AN18,-RIGHT($D30,1),0,RIGHT($D30,1),1)),\"ERROR\"))))","v":0},{"$f":"IF(AO$24<STANDARD_YEAR,AO18,\nIF(RIGHT($D30,1)>RIGHT('Efficiency Levels'!$C$22,1),AO18,\nIF(RIGHT($D30,1)<RIGHT('Efficiency Levels'!$C$22,1),0,\nIF(RIGHT($D30,1)=RIGHT('Efficiency Levels'!$C$22,1),SUM(OFFSET(AO18,-RIGHT($D30,1),0,RIGHT($D30,1),1)),\"ERROR\"))))","v":0},{"$f":"IF(AP$24<STANDARD_YEAR,AP18,\nIF(RIGHT($D30,1)>RIGHT('Efficiency Levels'!$C$22,1),AP18,\nIF(RIGHT($D30,1)<RIGHT('Efficiency Levels'!$C$22,1),0,\nIF(RIGHT($D30,1)=RIGHT('Efficiency Levels'!$C$22,1),SUM(OFFSET(AP18,-RIGHT($D30,1),0,RIGHT($D30,1),1)),\"ERROR\"))))","v":0},{"$f":"IF(AQ$24<STANDARD_YEAR,AQ18,\nIF(RIGHT($D30,1)>RIGHT('Efficiency Levels'!$C$22,1),AQ18,\nIF(RIGHT($D30,1)<RIGHT('Efficiency Levels'!$C$22,1),0,\nIF(RIGHT($D30,1)=RIGHT('Efficiency Levels'!$C$22,1),SUM(OFFSET(AQ18,-RIGHT($D30,1),0,RIGHT($D30,1),1)),\"ERROR\"))))","v":0},{"$f":"IF(AR$24<STANDARD_YEAR,AR18,\nIF(RIGHT($D30,1)>RIGHT('Efficiency Levels'!$C$22,1),AR18,\nIF(RIGHT($D30,1)<RIGHT('Efficiency Levels'!$C$22,1),0,\nIF(RIGHT($D30,1)=RIGHT('Efficiency Levels'!$C$22,1),SUM(OFFSET(AR18,-RIGHT($D30,1),0,RIGHT($D30,1),1)),\"ERROR\"))))","v":0},{"$f":"IF(AS$24<STANDARD_YEAR,AS18,\nIF(RIGHT($D30,1)>RIGHT('Efficiency Levels'!$C$22,1),AS18,\nIF(RIGHT($D30,1)<RIGHT('Efficiency Levels'!$C$22,1),0,\nIF(RIGHT($D30,1)=RIGHT('Efficiency Levels'!$C$22,1),SUM(OFFSET(AS18,-RIGHT($D30,1),0,RIGHT($D30,1),1)),\"ERROR\"))))","v":0},{"$f":"IF(AT$24<STANDARD_YEAR,AT18,\nIF(RIGHT($D30,1)>RIGHT('Efficiency Levels'!$C$22,1),AT18,\nIF(RIGHT($D30,1)<RIGHT('Efficiency Levels'!$C$22,1),0,\nIF(RIGHT($D30,1)=RIGHT('Efficiency Levels'!$C$22,1),SUM(OFFSET(AT18,-RIGHT($D30,1),0,RIGHT($D30,1),1)),\"ERROR\"))))","v":0},{"$f":"IF(AU$24<STANDARD_YEAR,AU18,\nIF(RIGHT($D30,1)>RIGHT('Efficiency Levels'!$C$22,1),AU18,\nIF(RIGHT($D30,1)<RIGHT('Efficiency Levels'!$C$22,1),0,\nIF(RIGHT($D30,1)=RIGHT('Efficiency Levels'!$C$22,1),SUM(OFFSET(AU18,-RIGHT($D30,1),0,RIGHT($D30,1),1)),\"ERROR\"))))","v":0},{"$f":"IF(AV$24<STANDARD_YEAR,AV18,\nIF(RIGHT($D30,1)>RIGHT('Efficiency Levels'!$C$22,1),AV18,\nIF(RIGHT($D30,1)<RIGHT('Efficiency Levels'!$C$22,1),0,\nIF(RIGHT($D30,1)=RIGHT('Efficiency Levels'!$C$22,1),SUM(OFFSET(AV18,-RIGHT($D30,1),0,RIGHT($D30,1),1)),\"ERROR\"))))","v":0},{"$f":"IF(AW$24<STANDARD_YEAR,AW18,\nIF(RIGHT($D30,1)>RIGHT('Efficiency Levels'!$C$22,1),AW18,\nIF(RIGHT($D30,1)<RIGHT('Efficiency Levels'!$C$22,1),0,\nIF(RIGHT($D30,1)=RIGHT('Efficiency Levels'!$C$22,1),SUM(OFFSET(AW18,-RIGHT($D30,1),0,RIGHT($D30,1),1)),\"ERROR\"))))","v":0},{"$f":"IF(AX$24<STANDARD_YEAR,AX18,\nIF(RIGHT($D30,1)>RIGHT('Efficiency Levels'!$C$22,1),AX18,\nIF(RIGHT($D30,1)<RIGHT('Efficiency Levels'!$C$22,1),0,\nIF(RIGHT($D30,1)=RIGHT('Efficiency Levels'!$C$22,1),SUM(OFFSET(AX18,-RIGHT($D30,1),0,RIGHT($D30,1),1)),\"ERROR\"))))","v":0},{"$f":"IF(AY$24<STANDARD_YEAR,AY18,\nIF(RIGHT($D30,1)>RIGHT('Efficiency Levels'!$C$22,1),AY18,\nIF(RIGHT($D30,1)<RIGHT('Efficiency Levels'!$C$22,1),0,\nIF(RIGHT($D30,1)=RIGHT('Efficiency Levels'!$C$22,1),SUM(OFFSET(AY18,-RIGHT($D30,1),0,RIGHT($D30,1),1)),\"ERROR\"))))","v":0},{"$f":"IF(AZ$24<STANDARD_YEAR,AZ18,\nIF(RIGHT($D30,1)>RIGHT('Efficiency Levels'!$C$22,1),AZ18,\nIF(RIGHT($D30,1)<RIGHT('Efficiency Levels'!$C$22,1),0,\nIF(RIGHT($D30,1)=RIGHT('Efficiency Levels'!$C$22,1),SUM(OFFSET(AZ18,-RIGHT($D30,1),0,RIGHT($D30,1),1)),\"ERROR\"))))","v":0},{"$f":"IF(BA$24<STANDARD_YEAR,BA18,\nIF(RIGHT($D30,1)>RIGHT('Efficiency Levels'!$C$22,1),BA18,\nIF(RIGHT($D30,1)<RIGHT('Efficiency Levels'!$C$22,1),0,\nIF(RIGHT($D30,1)=RIGHT('Efficiency Levels'!$C$22,1),SUM(OFFSET(BA18,-RIGHT($D30,1),0,RIGHT($D30,1),1)),\"ERROR\"))))","v":0},{"$f":"IF(BB$24<STANDARD_YEAR,BB18,\nIF(RIGHT($D30,1)>RIGHT('Efficiency Levels'!$C$22,1),BB18,\nIF(RIGHT($D30,1)<RIGHT('Efficiency Levels'!$C$22,1),0,\nIF(RIGHT($D30,1)=RIGHT('Efficiency Levels'!$C$22,1),SUM(OFFSET(BB18,-RIGHT($D30,1),0,RIGHT($D30,1),1)),\"ERROR\"))))","v":0},{"$f":"IF(BC$24<STANDARD_YEAR,BC18,\nIF(RIGHT($D30,1)>RIGHT('Efficiency Levels'!$C$22,1),BC18,\nIF(RIGHT($D30,1)<RIGHT('Efficiency Levels'!$C$22,1),0,\nIF(RIGHT($D30,1)=RIGHT('Efficiency Levels'!$C$22,1),SUM(OFFSET(BC18,-RIGHT($D30,1),0,RIGHT($D30,1),1)),\"ERROR\"))))","v":0},{"$f":"IF(BD$24<STANDARD_YEAR,BD18,\nIF(RIGHT($D30,1)>RIGHT('Efficiency Levels'!$C$22,1),BD18,\nIF(RIGHT($D30,1)<RIGHT('Efficiency Levels'!$C$22,1),0,\nIF(RIGHT($D30,1)=RIGHT('Efficiency Levels'!$C$22,1),SUM(OFFSET(BD18,-RIGHT($D30,1),0,RIGHT($D30,1),1)),\"ERROR\"))))","v":0},{"$f":"IF(BE$24<STANDARD_YEAR,BE18,\nIF(RIGHT($D30,1)>RIGHT('Efficiency Levels'!$C$22,1),BE18,\nIF(RIGHT($D30,1)<RIGHT('Efficiency Levels'!$C$22,1),0,\nIF(RIGHT($D30,1)=RIGHT('Efficiency Levels'!$C$22,1),SUM(OFFSET(BE18,-RIGHT($D30,1),0,RIGHT($D30,1),1)),\"ERROR\"))))","v":0},{"$f":"IF(BF$24<STANDARD_YEAR,BF18,\nIF(RIGHT($D30,1)>RIGHT('Efficiency Levels'!$C$22,1),BF18,\nIF(RIGHT($D30,1)<RIGHT('Efficiency Levels'!$C$22,1),0,\nIF(RIGHT($D30,1)=RIGHT('Efficiency Levels'!$C$22,1),SUM(OFFSET(BF18,-RIGHT($D30,1),0,RIGHT($D30,1),1)),\"ERROR\"))))","v":0},{"$f":"IF(BG$24<STANDARD_YEAR,BG18,\nIF(RIGHT($D30,1)>RIGHT('Efficiency Levels'!$C$22,1),BG18,\nIF(RIGHT($D30,1)<RIGHT('Efficiency Levels'!$C$22,1),0,\nIF(RIGHT($D30,1)=RIGHT('Efficiency Levels'!$C$22,1),SUM(OFFSET(BG18,-RIGHT($D30,1),0,RIGHT($D30,1),1)),\"ERROR\"))))","v":0},{"$f":"IF(BH$24<STANDARD_YEAR,BH18,\nIF(RIGHT($D30,1)>RIGHT('Efficiency Levels'!$C$22,1),BH18,\nIF(RIGHT($D30,1)<RIGHT('Efficiency Levels'!$C$22,1),0,\nIF(RIGHT($D30,1)=RIGHT('Efficiency Levels'!$C$22,1),SUM(OFFSET(BH18,-RIGHT($D30,1),0,RIGHT($D30,1),1)),\"ERROR\"))))","v":0},{"$f":"IF(BI$24<STANDARD_YEAR,BI18,\nIF(RIGHT($D30,1)>RIGHT('Efficiency Levels'!$C$22,1),BI18,\nIF(RIGHT($D30,1)<RIGHT('Efficiency Levels'!$C$22,1),0,\nIF(RIGHT($D30,1)=RIGHT('Efficiency Levels'!$C$22,1),SUM(OFFSET(BI18,-RIGHT($D30,1),0,RIGHT($D30,1),1)),\"ERROR\"))))","v":0},{"$f":"IF(BJ$24<STANDARD_YEAR,BJ18,\nIF(RIGHT($D30,1)>RIGHT('Efficiency Levels'!$C$22,1),BJ18,\nIF(RIGHT($D30,1)<RIGHT('Efficiency Levels'!$C$22,1),0,\nIF(RIGHT($D30,1)=RIGHT('Efficiency Levels'!$C$22,1),SUM(OFFSET(BJ18,-RIGHT($D30,1),0,RIGHT($D30,1),1)),\"ERROR\"))))","v":0}]
[null,null,null,"EL6",{"$f":"OFFSET('Efficiency Levels'!$D$11,MATCH($C$9,'Efficiency Levels'!$C$9:$C$1002,0)+RIGHT(D31,1),0)","v":295.2},null,null,null,{"$f":"IF(I$24<STANDARD_YEAR,I19,\nIF(RIGHT($D31,1)>RIGHT('Efficiency Levels'!$C$22,1),I19,\nIF(RIGHT($D31,1)<RIGHT('Efficiency Levels'!$C$22,1),0,\nIF(RIGHT($D31,1)=RIGHT('Efficiency Levels'!$C$22,1),SUM(OFFSET(I19,-RIGHT($D31,1),0,RIGHT($D31,1),1)),\"ERROR\"))))","v":0},{"$f":"IF(J$24<STANDARD_YEAR,J19,\nIF(RIGHT($D31,1)>RIGHT('Efficiency Levels'!$C$22,1),J19,\nIF(RIGHT($D31,1)<RIGHT('Efficiency Levels'!$C$22,1),0,\nIF(RIGHT($D31,1)=RIGHT('Efficiency Levels'!$C$22,1),SUM(OFFSET(J19,-RIGHT($D31,1),0,RIGHT($D31,1),1)),\"ERROR\"))))","v":0},{"$f":"IF(K$24<STANDARD_YEAR,K19,\nIF(RIGHT($D31,1)>RIGHT('Efficiency Levels'!$C$22,1),K19,\nIF(RIGHT($D31,1)<RIGHT('Efficiency Levels'!$C$22,1),0,\nIF(RIGHT($D31,1)=RIGHT('Efficiency Levels'!$C$22,1),SUM(OFFSET(K19,-RIGHT($D31,1),0,RIGHT($D31,1),1)),\"ERROR\"))))","v":0},{"$f":"IF(L$24<STANDARD_YEAR,L19,\nIF(RIGHT($D31,1)>RIGHT('Efficiency Levels'!$C$22,1),L19,\nIF(RIGHT($D31,1)<RIGHT('Efficiency Levels'!$C$22,1),0,\nIF(RIGHT($D31,1)=RIGHT('Efficiency Levels'!$C$22,1),SUM(OFFSET(L19,-RIGHT($D31,1),0,RIGHT($D31,1),1)),\"ERROR\"))))","v":0},{"$f":"IF(M$24<STANDARD_YEAR,M19,\nIF(RIGHT($D31,1)>RIGHT('Efficiency Levels'!$C$22,1),M19,\nIF(RIGHT($D31,1)<RIGHT('Efficiency Levels'!$C$22,1),0,\nIF(RIGHT($D31,1)=RIGHT('Efficiency Levels'!$C$22,1),SUM(OFFSET(M19,-RIGHT($D31,1),0,RIGHT($D31,1),1)),\"ERROR\"))))","v":0},{"$f":"IF(N$24<STANDARD_YEAR,N19,\nIF(RIGHT($D31,1)>RIGHT('Efficiency Levels'!$C$22,1),N19,\nIF(RIGHT($D31,1)<RIGHT('Efficiency Levels'!$C$22,1),0,\nIF(RIGHT($D31,1)=RIGHT('Efficiency Levels'!$C$22,1),SUM(OFFSET(N19,-RIGHT($D31,1),0,RIGHT($D31,1),1)),\"ERROR\"))))","v":0},{"$f":"IF(O$24<STANDARD_YEAR,O19,\nIF(RIGHT($D31,1)>RIGHT('Efficiency Levels'!$C$22,1),O19,\nIF(RIGHT($D31,1)<RIGHT('Efficiency Levels'!$C$22,1),0,\nIF(RIGHT($D31,1)=RIGHT('Efficiency Levels'!$C$22,1),SUM(OFFSET(O19,-RIGHT($D31,1),0,RIGHT($D31,1),1)),\"ERROR\"))))","v":0},{"$f":"IF(P$24<STANDARD_YEAR,P19,\nIF(RIGHT($D31,1)>RIGHT('Efficiency Levels'!$C$22,1),P19,\nIF(RIGHT($D31,1)<RIGHT('Efficiency Levels'!$C$22,1),0,\nIF(RIGHT($D31,1)=RIGHT('Efficiency Levels'!$C$22,1),SUM(OFFSET(P19,-RIGHT($D31,1),0,RIGHT($D31,1),1)),\"ERROR\"))))","v":0},{"$f":"IF(Q$24<STANDARD_YEAR,Q19,\nIF(RIGHT($D31,1)>RIGHT('Efficiency Levels'!$C$22,1),Q19,\nIF(RIGHT($D31,1)<RIGHT('Efficiency Levels'!$C$22,1),0,\nIF(RIGHT($D31,1)=RIGHT('Efficiency Levels'!$C$22,1),SUM(OFFSET(Q19,-RIGHT($D31,1),0,RIGHT($D31,1),1)),\"ERROR\"))))","v":0},{"$f":"IF(R$24<STANDARD_YEAR,R19,\nIF(RIGHT($D31,1)>RIGHT('Efficiency Levels'!$C$22,1),R19,\nIF(RIGHT($D31,1)<RIGHT('Efficiency Levels'!$C$22,1),0,\nIF(RIGHT($D31,1)=RIGHT('Efficiency Levels'!$C$22,1),SUM(OFFSET(R19,-RIGHT($D31,1),0,RIGHT($D31,1),1)),\"ERROR\"))))","v":0},{"$f":"IF(S$24<STANDARD_YEAR,S19,\nIF(RIGHT($D31,1)>RIGHT('Efficiency Levels'!$C$22,1),S19,\nIF(RIGHT($D31,1)<RIGHT('Efficiency Levels'!$C$22,1),0,\nIF(RIGHT($D31,1)=RIGHT('Efficiency Levels'!$C$22,1),SUM(OFFSET(S19,-RIGHT($D31,1),0,RIGHT($D31,1),1)),\"ERROR\"))))","v":0},{"$f":"IF(T$24<STANDARD_YEAR,T19,\nIF(RIGHT($D31,1)>RIGHT('Efficiency Levels'!$C$22,1),T19,\nIF(RIGHT($D31,1)<RIGHT('Efficiency Levels'!$C$22,1),0,\nIF(RIGHT($D31,1)=RIGHT('Efficiency Levels'!$C$22,1),SUM(OFFSET(T19,-RIGHT($D31,1),0,RIGHT($D31,1),1)),\"ERROR\"))))","v":0},{"$f":"IF(U$24<STANDARD_YEAR,U19,\nIF(RIGHT($D31,1)>RIGHT('Efficiency Levels'!$C$22,1),U19,\nIF(RIGHT($D31,1)<RIGHT('Efficiency Levels'!$C$22,1),0,\nIF(RIGHT($D31,1)=RIGHT('Efficiency Levels'!$C$22,1),SUM(OFFSET(U19,-RIGHT($D31,1),0,RIGHT($D31,1),1)),\"ERROR\"))))","v":0},{"$f":"IF(V$24<STANDARD_YEAR,V19,\nIF(RIGHT($D31,1)>RIGHT('Efficiency Levels'!$C$22,1),V19,\nIF(RIGHT($D31,1)<RIGHT('Efficiency Levels'!$C$22,1),0,\nIF(RIGHT($D31,1)=RIGHT('Efficiency Levels'!$C$22,1),SUM(OFFSET(V19,-RIGHT($D31,1),0,RIGHT($D31,1),1)),\"ERROR\"))))","v":0},{"$f":"IF(W$24<STANDARD_YEAR,W19,\nIF(RIGHT($D31,1)>RIGHT('Efficiency Levels'!$C$22,1),W19,\nIF(RIGHT($D31,1)<RIGHT('Efficiency Levels'!$C$22,1),0,\nIF(RIGHT($D31,1)=RIGHT('Efficiency Levels'!$C$22,1),SUM(OFFSET(W19,-RIGHT($D31,1),0,RIGHT($D31,1),1)),\"ERROR\"))))","v":0},{"$f":"IF(X$24<STANDARD_YEAR,X19,\nIF(RIGHT($D31,1)>RIGHT('Efficiency Levels'!$C$22,1),X19,\nIF(RIGHT($D31,1)<RIGHT('Efficiency Levels'!$C$22,1),0,\nIF(RIGHT($D31,1)=RIGHT('Efficiency Levels'!$C$22,1),SUM(OFFSET(X19,-RIGHT($D31,1),0,RIGHT($D31,1),1)),\"ERROR\"))))","v":0},{"$f":"IF(Y$24<STANDARD_YEAR,Y19,\nIF(RIGHT($D31,1)>RIGHT('Efficiency Levels'!$C$22,1),Y19,\nIF(RIGHT($D31,1)<RIGHT('Efficiency Levels'!$C$22,1),0,\nIF(RIGHT($D31,1)=RIGHT('Efficiency Levels'!$C$22,1),SUM(OFFSET(Y19,-RIGHT($D31,1),0,RIGHT($D31,1),1)),\"ERROR\"))))","v":0},{"$f":"IF(Z$24<STANDARD_YEAR,Z19,\nIF(RIGHT($D31,1)>RIGHT('Efficiency Levels'!$C$22,1),Z19,\nIF(RIGHT($D31,1)<RIGHT('Efficiency Levels'!$C$22,1),0,\nIF(RIGHT($D31,1)=RIGHT('Efficiency Levels'!$C$22,1),SUM(OFFSET(Z19,-RIGHT($D31,1),0,RIGHT($D31,1),1)),\"ERROR\"))))","v":0},{"$f":"IF(AA$24<STANDARD_YEAR,AA19,\nIF(RIGHT($D31,1)>RIGHT('Efficiency Levels'!$C$22,1),AA19,\nIF(RIGHT($D31,1)<RIGHT('Efficiency Levels'!$C$22,1),0,\nIF(RIGHT($D31,1)=RIGHT('Efficiency Levels'!$C$22,1),SUM(OFFSET(AA19,-RIGHT($D31,1),0,RIGHT($D31,1),1)),\"ERROR\"))))","v":0},{"$f":"IF(AB$24<STANDARD_YEAR,AB19,\nIF(RIGHT($D31,1)>RIGHT('Efficiency Levels'!$C$22,1),AB19,\nIF(RIGHT($D31,1)<RIGHT('Efficiency Levels'!$C$22,1),0,\nIF(RIGHT($D31,1)=RIGHT('Efficiency Levels'!$C$22,1),SUM(OFFSET(AB19,-RIGHT($D31,1),0,RIGHT($D31,1),1)),\"ERROR\"))))","v":0},{"$f":"IF(AC$24<STANDARD_YEAR,AC19,\nIF(RIGHT($D31,1)>RIGHT('Efficiency Levels'!$C$22,1),AC19,\nIF(RIGHT($D31,1)<RIGHT('Efficiency Levels'!$C$22,1),0,\nIF(RIGHT($D31,1)=RIGHT('Efficiency Levels'!$C$22,1),SUM(OFFSET(AC19,-RIGHT($D31,1),0,RIGHT($D31,1),1)),\"ERROR\"))))","v":0},{"$f":"IF(AD$24<STANDARD_YEAR,AD19,\nIF(RIGHT($D31,1)>RIGHT('Efficiency Levels'!$C$22,1),AD19,\nIF(RIGHT($D31,1)<RIGHT('Efficiency Levels'!$C$22,1),0,\nIF(RIGHT($D31,1)=RIGHT('Efficiency Levels'!$C$22,1),SUM(OFFSET(AD19,-RIGHT($D31,1),0,RIGHT($D31,1),1)),\"ERROR\"))))","v":0},{"$f":"IF(AE$24<STANDARD_YEAR,AE19,\nIF(RIGHT($D31,1)>RIGHT('Efficiency Levels'!$C$22,1),AE19,\nIF(RIGHT($D31,1)<RIGHT('Efficiency Levels'!$C$22,1),0,\nIF(RIGHT($D31,1)=RIGHT('Efficiency Levels'!$C$22,1),SUM(OFFSET(AE19,-RIGHT($D31,1),0,RIGHT($D31,1),1)),\"ERROR\"))))","v":0},{"$f":"IF(AF$24<STANDARD_YEAR,AF19,\nIF(RIGHT($D31,1)>RIGHT('Efficiency Levels'!$C$22,1),AF19,\nIF(RIGHT($D31,1)<RIGHT('Efficiency Levels'!$C$22,1),0,\nIF(RIGHT($D31,1)=RIGHT('Efficiency Levels'!$C$22,1),SUM(OFFSET(AF19,-RIGHT($D31,1),0,RIGHT($D31,1),1)),\"ERROR\"))))","v":0},{"$f":"IF(AG$24<STANDARD_YEAR,AG19,\nIF(RIGHT($D31,1)>RIGHT('Efficiency Levels'!$C$22,1),AG19,\nIF(RIGHT($D31,1)<RIGHT('Efficiency Levels'!$C$22,1),0,\nIF(RIGHT($D31,1)=RIGHT('Efficiency Levels'!$C$22,1),SUM(OFFSET(AG19,-RIGHT($D31,1),0,RIGHT($D31,1),1)),\"ERROR\"))))","v":0},{"$f":"IF(AH$24<STANDARD_YEAR,AH19,\nIF(RIGHT($D31,1)>RIGHT('Efficiency Levels'!$C$22,1),AH19,\nIF(RIGHT($D31,1)<RIGHT('Efficiency Levels'!$C$22,1),0,\nIF(RIGHT($D31,1)=RIGHT('Efficiency Levels'!$C$22,1),SUM(OFFSET(AH19,-RIGHT($D31,1),0,RIGHT($D31,1),1)),\"ERROR\"))))","v":0},{"$f":"IF(AI$24<STANDARD_YEAR,AI19,\nIF(RIGHT($D31,1)>RIGHT('Efficiency Levels'!$C$22,1),AI19,\nIF(RIGHT($D31,1)<RIGHT('Efficiency Levels'!$C$22,1),0,\nIF(RIGHT($D31,1)=RIGHT('Efficiency Levels'!$C$22,1),SUM(OFFSET(AI19,-RIGHT($D31,1),0,RIGHT($D31,1),1)),\"ERROR\"))))","v":0},{"$f":"IF(AJ$24<STANDARD_YEAR,AJ19,\nIF(RIGHT($D31,1)>RIGHT('Efficiency Levels'!$C$22,1),AJ19,\nIF(RIGHT($D31,1)<RIGHT('Efficiency Levels'!$C$22,1),0,\nIF(RIGHT($D31,1)=RIGHT('Efficiency Levels'!$C$22,1),SUM(OFFSET(AJ19,-RIGHT($D31,1),0,RIGHT($D31,1),1)),\"ERROR\"))))","v":0},{"$f":"IF(AK$24<STANDARD_YEAR,AK19,\nIF(RIGHT($D31,1)>RIGHT('Efficiency Levels'!$C$22,1),AK19,\nIF(RIGHT($D31,1)<RIGHT('Efficiency Levels'!$C$22,1),0,\nIF(RIGHT($D31,1)=RIGHT('Efficiency Levels'!$C$22,1),SUM(OFFSET(AK19,-RIGHT($D31,1),0,RIGHT($D31,1),1)),\"ERROR\"))))","v":0},{"$f":"IF(AL$24<STANDARD_YEAR,AL19,\nIF(RIGHT($D31,1)>RIGHT('Efficiency Levels'!$C$22,1),AL19,\nIF(RIGHT($D31,1)<RIGHT('Efficiency Levels'!$C$22,1),0,\nIF(RIGHT($D31,1)=RIGHT('Efficiency Levels'!$C$22,1),SUM(OFFSET(AL19,-RIGHT($D31,1),0,RIGHT($D31,1),1)),\"ERROR\"))))","v":0},{"$f":"IF(AM$24<STANDARD_YEAR,AM19,\nIF(RIGHT($D31,1)>RIGHT('Efficiency Levels'!$C$22,1),AM19,\nIF(RIGHT($D31,1)<RIGHT('Efficiency Levels'!$C$22,1),0,\nIF(RIGHT($D31,1)=RIGHT('Efficiency Levels'!$C$22,1),SUM(OFFSET(AM19,-RIGHT($D31,1),0,RIGHT($D31,1),1)),\"ERROR\"))))","v":0},{"$f":"IF(AN$24<STANDARD_YEAR,AN19,\nIF(RIGHT($D31,1)>RIGHT('Efficiency Levels'!$C$22,1),AN19,\nIF(RIGHT($D31,1)<RIGHT('Efficiency Levels'!$C$22,1),0,\nIF(RIGHT($D31,1)=RIGHT('Efficiency Levels'!$C$22,1),SUM(OFFSET(AN19,-RIGHT($D31,1),0,RIGHT($D31,1),1)),\"ERROR\"))))","v":0},{"$f":"IF(AO$24<STANDARD_YEAR,AO19,\nIF(RIGHT($D31,1)>RIGHT('Efficiency Levels'!$C$22,1),AO19,\nIF(RIGHT($D31,1)<RIGHT('Efficiency Levels'!$C$22,1),0,\nIF(RIGHT($D31,1)=RIGHT('Efficiency Levels'!$C$22,1),SUM(OFFSET(AO19,-RIGHT($D31,1),0,RIGHT($D31,1),1)),\"ERROR\"))))","v":0},{"$f":"IF(AP$24<STANDARD_YEAR,AP19,\nIF(RIGHT($D31,1)>RIGHT('Efficiency Levels'!$C$22,1),AP19,\nIF(RIGHT($D31,1)<RIGHT('Efficiency Levels'!$C$22,1),0,\nIF(RIGHT($D31,1)=RIGHT('Efficiency Levels'!$C$22,1),SUM(OFFSET(AP19,-RIGHT($D31,1),0,RIGHT($D31,1),1)),\"ERROR\"))))","v":0},{"$f":"IF(AQ$24<STANDARD_YEAR,AQ19,\nIF(RIGHT($D31,1)>RIGHT('Efficiency Levels'!$C$22,1),AQ19,\nIF(RIGHT($D31,1)<RIGHT('Efficiency Levels'!$C$22,1),0,\nIF(RIGHT($D31,1)=RIGHT('Efficiency Levels'!$C$22,1),SUM(OFFSET(AQ19,-RIGHT($D31,1),0,RIGHT($D31,1),1)),\"ERROR\"))))","v":0},{"$f":"IF(AR$24<STANDARD_YEAR,AR19,\nIF(RIGHT($D31,1)>RIGHT('Efficiency Levels'!$C$22,1),AR19,\nIF(RIGHT($D31,1)<RIGHT('Efficiency Levels'!$C$22,1),0,\nIF(RIGHT($D31,1)=RIGHT('Efficiency Levels'!$C$22,1),SUM(OFFSET(AR19,-RIGHT($D31,1),0,RIGHT($D31,1),1)),\"ERROR\"))))","v":0},{"$f":"IF(AS$24<STANDARD_YEAR,AS19,\nIF(RIGHT($D31,1)>RIGHT('Efficiency Levels'!$C$22,1),AS19,\nIF(RIGHT($D31,1)<RIGHT('Efficiency Levels'!$C$22,1),0,\nIF(RIGHT($D31,1)=RIGHT('Efficiency Levels'!$C$22,1),SUM(OFFSET(AS19,-RIGHT($D31,1),0,RIGHT($D31,1),1)),\"ERROR\"))))","v":0},{"$f":"IF(AT$24<STANDARD_YEAR,AT19,\nIF(RIGHT($D31,1)>RIGHT('Efficiency Levels'!$C$22,1),AT19,\nIF(RIGHT($D31,1)<RIGHT('Efficiency Levels'!$C$22,1),0,\nIF(RIGHT($D31,1)=RIGHT('Efficiency Levels'!$C$22,1),SUM(OFFSET(AT19,-RIGHT($D31,1),0,RIGHT($D31,1),1)),\"ERROR\"))))","v":0},{"$f":"IF(AU$24<STANDARD_YEAR,AU19,\nIF(RIGHT($D31,1)>RIGHT('Efficiency Levels'!$C$22,1),AU19,\nIF(RIGHT($D31,1)<RIGHT('Efficiency Levels'!$C$22,1),0,\nIF(RIGHT($D31,1)=RIGHT('Efficiency Levels'!$C$22,1),SUM(OFFSET(AU19,-RIGHT($D31,1),0,RIGHT($D31,1),1)),\"ERROR\"))))","v":0},{"$f":"IF(AV$24<STANDARD_YEAR,AV19,\nIF(RIGHT($D31,1)>RIGHT('Efficiency Levels'!$C$22,1),AV19,\nIF(RIGHT($D31,1)<RIGHT('Efficiency Levels'!$C$22,1),0,\nIF(RIGHT($D31,1)=RIGHT('Efficiency Levels'!$C$22,1),SUM(OFFSET(AV19,-RIGHT($D31,1),0,RIGHT($D31,1),1)),\"ERROR\"))))","v":0},{"$f":"IF(AW$24<STANDARD_YEAR,AW19,\nIF(RIGHT($D31,1)>RIGHT('Efficiency Levels'!$C$22,1),AW19,\nIF(RIGHT($D31,1)<RIGHT('Efficiency Levels'!$C$22,1),0,\nIF(RIGHT($D31,1)=RIGHT('Efficiency Levels'!$C$22,1),SUM(OFFSET(AW19,-RIGHT($D31,1),0,RIGHT($D31,1),1)),\"ERROR\"))))","v":0},{"$f":"IF(AX$24<STANDARD_YEAR,AX19,\nIF(RIGHT($D31,1)>RIGHT('Efficiency Levels'!$C$22,1),AX19,\nIF(RIGHT($D31,1)<RIGHT('Efficiency Levels'!$C$22,1),0,\nIF(RIGHT($D31,1)=RIGHT('Efficiency Levels'!$C$22,1),SUM(OFFSET(AX19,-RIGHT($D31,1),0,RIGHT($D31,1),1)),\"ERROR\"))))","v":0},{"$f":"IF(AY$24<STANDARD_YEAR,AY19,\nIF(RIGHT($D31,1)>RIGHT('Efficiency Levels'!$C$22,1),AY19,\nIF(RIGHT($D31,1)<RIGHT('Efficiency Levels'!$C$22,1),0,\nIF(RIGHT($D31,1)=RIGHT('Efficiency Levels'!$C$22,1),SUM(OFFSET(AY19,-RIGHT($D31,1),0,RIGHT($D31,1),1)),\"ERROR\"))))","v":0},{"$f":"IF(AZ$24<STANDARD_YEAR,AZ19,\nIF(RIGHT($D31,1)>RIGHT('Efficiency Levels'!$C$22,1),AZ19,\nIF(RIGHT($D31,1)<RIGHT('Efficiency Levels'!$C$22,1),0,\nIF(RIGHT($D31,1)=RIGHT('Efficiency Levels'!$C$22,1),SUM(OFFSET(AZ19,-RIGHT($D31,1),0,RIGHT($D31,1),1)),\"ERROR\"))))","v":0},{"$f":"IF(BA$24<STANDARD_YEAR,BA19,\nIF(RIGHT($D31,1)>RIGHT('Efficiency Levels'!$C$22,1),BA19,\nIF(RIGHT($D31,1)<RIGHT('Efficiency Levels'!$C$22,1),0,\nIF(RIGHT($D31,1)=RIGHT('Efficiency Levels'!$C$22,1),SUM(OFFSET(BA19,-RIGHT($D31,1),0,RIGHT($D31,1),1)),\"ERROR\"))))","v":0},{"$f":"IF(BB$24<STANDARD_YEAR,BB19,\nIF(RIGHT($D31,1)>RIGHT('Efficiency Levels'!$C$22,1),BB19,\nIF(RIGHT($D31,1)<RIGHT('Efficiency Levels'!$C$22,1),0,\nIF(RIGHT($D31,1)=RIGHT('Efficiency Levels'!$C$22,1),SUM(OFFSET(BB19,-RIGHT($D31,1),0,RIGHT($D31,1),1)),\"ERROR\"))))","v":0},{"$f":"IF(BC$24<STANDARD_YEAR,BC19,\nIF(RIGHT($D31,1)>RIGHT('Efficiency Levels'!$C$22,1),BC19,\nIF(RIGHT($D31,1)<RIGHT('Efficiency Levels'!$C$22,1),0,\nIF(RIGHT($D31,1)=RIGHT('Efficiency Levels'!$C$22,1),SUM(OFFSET(BC19,-RIGHT($D31,1),0,RIGHT($D31,1),1)),\"ERROR\"))))","v":0},{"$f":"IF(BD$24<STANDARD_YEAR,BD19,\nIF(RIGHT($D31,1)>RIGHT('Efficiency Levels'!$C$22,1),BD19,\nIF(RIGHT($D31,1)<RIGHT('Efficiency Levels'!$C$22,1),0,\nIF(RIGHT($D31,1)=RIGHT('Efficiency Levels'!$C$22,1),SUM(OFFSET(BD19,-RIGHT($D31,1),0,RIGHT($D31,1),1)),\"ERROR\"))))","v":0},{"$f":"IF(BE$24<STANDARD_YEAR,BE19,\nIF(RIGHT($D31,1)>RIGHT('Efficiency Levels'!$C$22,1),BE19,\nIF(RIGHT($D31,1)<RIGHT('Efficiency Levels'!$C$22,1),0,\nIF(RIGHT($D31,1)=RIGHT('Efficiency Levels'!$C$22,1),SUM(OFFSET(BE19,-RIGHT($D31,1),0,RIGHT($D31,1),1)),\"ERROR\"))))","v":0},{"$f":"IF(BF$24<STANDARD_YEAR,BF19,\nIF(RIGHT($D31,1)>RIGHT('Efficiency Levels'!$C$22,1),BF19,\nIF(RIGHT($D31,1)<RIGHT('Efficiency Levels'!$C$22,1),0,\nIF(RIGHT($D31,1)=RIGHT('Efficiency Levels'!$C$22,1),SUM(OFFSET(BF19,-RIGHT($D31,1),0,RIGHT($D31,1),1)),\"ERROR\"))))","v":0},{"$f":"IF(BG$24<STANDARD_YEAR,BG19,\nIF(RIGHT($D31,1)>RIGHT('Efficiency Levels'!$C$22,1),BG19,\nIF(RIGHT($D31,1)<RIGHT('Efficiency Levels'!$C$22,1),0,\nIF(RIGHT($D31,1)=RIGHT('Efficiency Levels'!$C$22,1),SUM(OFFSET(BG19,-RIGHT($D31,1),0,RIGHT($D31,1),1)),\"ERROR\"))))","v":0},{"$f":"IF(BH$24<STANDARD_YEAR,BH19,\nIF(RIGHT($D31,1)>RIGHT('Efficiency Levels'!$C$22,1),BH19,\nIF(RIGHT($D31,1)<RIGHT('Efficiency Levels'!$C$22,1),0,\nIF(RIGHT($D31,1)=RIGHT('Efficiency Levels'!$C$22,1),SUM(OFFSET(BH19,-RIGHT($D31,1),0,RIGHT($D31,1),1)),\"ERROR\"))))","v":0},{"$f":"IF(BI$24<STANDARD_YEAR,BI19,\nIF(RIGHT($D31,1)>RIGHT('Efficiency Levels'!$C$22,1),BI19,\nIF(RIGHT($D31,1)<RIGHT('Efficiency Levels'!$C$22,1),0,\nIF(RIGHT($D31,1)=RIGHT('Efficiency Levels'!$C$22,1),SUM(OFFSET(BI19,-RIGHT($D31,1),0,RIGHT($D31,1),1)),\"ERROR\"))))","v":0},{"$f":"IF(BJ$24<STANDARD_YEAR,BJ19,\nIF(RIGHT($D31,1)>RIGHT('Efficiency Levels'!$C$22,1),BJ19,\nIF(RIGHT($D31,1)<RIGHT('Efficiency Levels'!$C$22,1),0,\nIF(RIGHT($D31,1)=RIGHT('Efficiency Levels'!$C$22,1),SUM(OFFSET(BJ19,-RIGHT($D31,1),0,RIGHT($D31,1),1)),\"ERROR\"))))","v":0}]
[null,null,null,"EL7",{"$f":"OFFSET('Efficiency Levels'!$D$11,MATCH($C$9,'Efficiency Levels'!$C$9:$C$1002,0)+RIGHT(D32,1),0)","v":255},null,null,null,{"$f":"IF(I$24<STANDARD_YEAR,I20,\nIF(RIGHT($D32,1)>RIGHT('Efficiency Levels'!$C$22,1),I20,\nIF(RIGHT($D32,1)<RIGHT('Efficiency Levels'!$C$22,1),0,\nIF(RIGHT($D32,1)=RIGHT('Efficiency Levels'!$C$22,1),SUM(OFFSET(I20,-RIGHT($D32,1),0,RIGHT($D32,1),1)),\"ERROR\"))))","v":0},{"$f":"IF(J$24<STANDARD_YEAR,J20,\nIF(RIGHT($D32,1)>RIGHT('Efficiency Levels'!$C$22,1),J20,\nIF(RIGHT($D32,1)<RIGHT('Efficiency Levels'!$C$22,1),0,\nIF(RIGHT($D32,1)=RIGHT('Efficiency Levels'!$C$22,1),SUM(OFFSET(J20,-RIGHT($D32,1),0,RIGHT($D32,1),1)),\"ERROR\"))))","v":0},{"$f":"IF(K$24<STANDARD_YEAR,K20,\nIF(RIGHT($D32,1)>RIGHT('Efficiency Levels'!$C$22,1),K20,\nIF(RIGHT($D32,1)<RIGHT('Efficiency Levels'!$C$22,1),0,\nIF(RIGHT($D32,1)=RIGHT('Efficiency Levels'!$C$22,1),SUM(OFFSET(K20,-RIGHT($D32,1),0,RIGHT($D32,1),1)),\"ERROR\"))))","v":0},{"$f":"IF(L$24<STANDARD_YEAR,L20,\nIF(RIGHT($D32,1)>RIGHT('Efficiency Levels'!$C$22,1),L20,\nIF(RIGHT($D32,1)<RIGHT('Efficiency Levels'!$C$22,1),0,\nIF(RIGHT($D32,1)=RIGHT('Efficiency Levels'!$C$22,1),SUM(OFFSET(L20,-RIGHT($D32,1),0,RIGHT($D32,1),1)),\"ERROR\"))))","v":0},{"$f":"IF(M$24<STANDARD_YEAR,M20,\nIF(RIGHT($D32,1)>RIGHT('Efficiency Levels'!$C$22,1),M20,\nIF(RIGHT($D32,1)<RIGHT('Efficiency Levels'!$C$22,1),0,\nIF(RIGHT($D32,1)=RIGHT('Efficiency Levels'!$C$22,1),SUM(OFFSET(M20,-RIGHT($D32,1),0,RIGHT($D32,1),1)),\"ERROR\"))))","v":0},{"$f":"IF(N$24<STANDARD_YEAR,N20,\nIF(RIGHT($D32,1)>RIGHT('Efficiency Levels'!$C$22,1),N20,\nIF(RIGHT($D32,1)<RIGHT('Efficiency Levels'!$C$22,1),0,\nIF(RIGHT($D32,1)=RIGHT('Efficiency Levels'!$C$22,1),SUM(OFFSET(N20,-RIGHT($D32,1),0,RIGHT($D32,1),1)),\"ERROR\"))))","v":0},{"$f":"IF(O$24<STANDARD_YEAR,O20,\nIF(RIGHT($D32,1)>RIGHT('Efficiency Levels'!$C$22,1),O20,\nIF(RIGHT($D32,1)<RIGHT('Efficiency Levels'!$C$22,1),0,\nIF(RIGHT($D32,1)=RIGHT('Efficiency Levels'!$C$22,1),SUM(OFFSET(O20,-RIGHT($D32,1),0,RIGHT($D32,1),1)),\"ERROR\"))))","v":0},{"$f":"IF(P$24<STANDARD_YEAR,P20,\nIF(RIGHT($D32,1)>RIGHT('Efficiency Levels'!$C$22,1),P20,\nIF(RIGHT($D32,1)<RIGHT('Efficiency Levels'!$C$22,1),0,\nIF(RIGHT($D32,1)=RIGHT('Efficiency Levels'!$C$22,1),SUM(OFFSET(P20,-RIGHT($D32,1),0,RIGHT($D32,1),1)),\"ERROR\"))))","v":0},{"$f":"IF(Q$24<STANDARD_YEAR,Q20,\nIF(RIGHT($D32,1)>RIGHT('Efficiency Levels'!$C$22,1),Q20,\nIF(RIGHT($D32,1)<RIGHT('Efficiency Levels'!$C$22,1),0,\nIF(RIGHT($D32,1)=RIGHT('Efficiency Levels'!$C$22,1),SUM(OFFSET(Q20,-RIGHT($D32,1),0,RIGHT($D32,1),1)),\"ERROR\"))))","v":0},{"$f":"IF(R$24<STANDARD_YEAR,R20,\nIF(RIGHT($D32,1)>RIGHT('Efficiency Levels'!$C$22,1),R20,\nIF(RIGHT($D32,1)<RIGHT('Efficiency Levels'!$C$22,1),0,\nIF(RIGHT($D32,1)=RIGHT('Efficiency Levels'!$C$22,1),SUM(OFFSET(R20,-RIGHT($D32,1),0,RIGHT($D32,1),1)),\"ERROR\"))))","v":0},{"$f":"IF(S$24<STANDARD_YEAR,S20,\nIF(RIGHT($D32,1)>RIGHT('Efficiency Levels'!$C$22,1),S20,\nIF(RIGHT($D32,1)<RIGHT('Efficiency Levels'!$C$22,1),0,\nIF(RIGHT($D32,1)=RIGHT('Efficiency Levels'!$C$22,1),SUM(OFFSET(S20,-RIGHT($D32,1),0,RIGHT($D32,1),1)),\"ERROR\"))))","v":0},{"$f":"IF(T$24<STANDARD_YEAR,T20,\nIF(RIGHT($D32,1)>RIGHT('Efficiency Levels'!$C$22,1),T20,\nIF(RIGHT($D32,1)<RIGHT('Efficiency Levels'!$C$22,1),0,\nIF(RIGHT($D32,1)=RIGHT('Efficiency Levels'!$C$22,1),SUM(OFFSET(T20,-RIGHT($D32,1),0,RIGHT($D32,1),1)),\"ERROR\"))))","v":0},{"$f":"IF(U$24<STANDARD_YEAR,U20,\nIF(RIGHT($D32,1)>RIGHT('Efficiency Levels'!$C$22,1),U20,\nIF(RIGHT($D32,1)<RIGHT('Efficiency Levels'!$C$22,1),0,\nIF(RIGHT($D32,1)=RIGHT('Efficiency Levels'!$C$22,1),SUM(OFFSET(U20,-RIGHT($D32,1),0,RIGHT($D32,1),1)),\"ERROR\"))))","v":0},{"$f":"IF(V$24<STANDARD_YEAR,V20,\nIF(RIGHT($D32,1)>RIGHT('Efficiency Levels'!$C$22,1),V20,\nIF(RIGHT($D32,1)<RIGHT('Efficiency Levels'!$C$22,1),0,\nIF(RIGHT($D32,1)=RIGHT('Efficiency Levels'!$C$22,1),SUM(OFFSET(V20,-RIGHT($D32,1),0,RIGHT($D32,1),1)),\"ERROR\"))))","v":0},{"$f":"IF(W$24<STANDARD_YEAR,W20,\nIF(RIGHT($D32,1)>RIGHT('Efficiency Levels'!$C$22,1),W20,\nIF(RIGHT($D32,1)<RIGHT('Efficiency Levels'!$C$22,1),0,\nIF(RIGHT($D32,1)=RIGHT('Efficiency Levels'!$C$22,1),SUM(OFFSET(W20,-RIGHT($D32,1),0,RIGHT($D32,1),1)),\"ERROR\"))))","v":0},{"$f":"IF(X$24<STANDARD_YEAR,X20,\nIF(RIGHT($D32,1)>RIGHT('Efficiency Levels'!$C$22,1),X20,\nIF(RIGHT($D32,1)<RIGHT('Efficiency Levels'!$C$22,1),0,\nIF(RIGHT($D32,1)=RIGHT('Efficiency Levels'!$C$22,1),SUM(OFFSET(X20,-RIGHT($D32,1),0,RIGHT($D32,1),1)),\"ERROR\"))))","v":0},{"$f":"IF(Y$24<STANDARD_YEAR,Y20,\nIF(RIGHT($D32,1)>RIGHT('Efficiency Levels'!$C$22,1),Y20,\nIF(RIGHT($D32,1)<RIGHT('Efficiency Levels'!$C$22,1),0,\nIF(RIGHT($D32,1)=RIGHT('Efficiency Levels'!$C$22,1),SUM(OFFSET(Y20,-RIGHT($D32,1),0,RIGHT($D32,1),1)),\"ERROR\"))))","v":0},{"$f":"IF(Z$24<STANDARD_YEAR,Z20,\nIF(RIGHT($D32,1)>RIGHT('Efficiency Levels'!$C$22,1),Z20,\nIF(RIGHT($D32,1)<RIGHT('Efficiency Levels'!$C$22,1),0,\nIF(RIGHT($D32,1)=RIGHT('Efficiency Levels'!$C$22,1),SUM(OFFSET(Z20,-RIGHT($D32,1),0,RIGHT($D32,1),1)),\"ERROR\"))))","v":0},{"$f":"IF(AA$24<STANDARD_YEAR,AA20,\nIF(RIGHT($D32,1)>RIGHT('Efficiency Levels'!$C$22,1),AA20,\nIF(RIGHT($D32,1)<RIGHT('Efficiency Levels'!$C$22,1),0,\nIF(RIGHT($D32,1)=RIGHT('Efficiency Levels'!$C$22,1),SUM(OFFSET(AA20,-RIGHT($D32,1),0,RIGHT($D32,1),1)),\"ERROR\"))))","v":0},{"$f":"IF(AB$24<STANDARD_YEAR,AB20,\nIF(RIGHT($D32,1)>RIGHT('Efficiency Levels'!$C$22,1),AB20,\nIF(RIGHT($D32,1)<RIGHT('Efficiency Levels'!$C$22,1),0,\nIF(RIGHT($D32,1)=RIGHT('Efficiency Levels'!$C$22,1),SUM(OFFSET(AB20,-RIGHT($D32,1),0,RIGHT($D32,1),1)),\"ERROR\"))))","v":0},{"$f":"IF(AC$24<STANDARD_YEAR,AC20,\nIF(RIGHT($D32,1)>RIGHT('Efficiency Levels'!$C$22,1),AC20,\nIF(RIGHT($D32,1)<RIGHT('Efficiency Levels'!$C$22,1),0,\nIF(RIGHT($D32,1)=RIGHT('Efficiency Levels'!$C$22,1),SUM(OFFSET(AC20,-RIGHT($D32,1),0,RIGHT($D32,1),1)),\"ERROR\"))))","v":0},{"$f":"IF(AD$24<STANDARD_YEAR,AD20,\nIF(RIGHT($D32,1)>RIGHT('Efficiency Levels'!$C$22,1),AD20,\nIF(RIGHT($D32,1)<RIGHT('Efficiency Levels'!$C$22,1),0,\nIF(RIGHT($D32,1)=RIGHT('Efficiency Levels'!$C$22,1),SUM(OFFSET(AD20,-RIGHT($D32,1),0,RIGHT($D32,1),1)),\"ERROR\"))))","v":0},{"$f":"IF(AE$24<STANDARD_YEAR,AE20,\nIF(RIGHT($D32,1)>RIGHT('Efficiency Levels'!$C$22,1),AE20,\nIF(RIGHT($D32,1)<RIGHT('Efficiency Levels'!$C$22,1),0,\nIF(RIGHT($D32,1)=RIGHT('Efficiency Levels'!$C$22,1),SUM(OFFSET(AE20,-RIGHT($D32,1),0,RIGHT($D32,1),1)),\"ERROR\"))))","v":0},{"$f":"IF(AF$24<STANDARD_YEAR,AF20,\nIF(RIGHT($D32,1)>RIGHT('Efficiency Levels'!$C$22,1),AF20,\nIF(RIGHT($D32,1)<RIGHT('Efficiency Levels'!$C$22,1),0,\nIF(RIGHT($D32,1)=RIGHT('Efficiency Levels'!$C$22,1),SUM(OFFSET(AF20,-RIGHT($D32,1),0,RIGHT($D32,1),1)),\"ERROR\"))))","v":0},{"$f":"IF(AG$24<STANDARD_YEAR,AG20,\nIF(RIGHT($D32,1)>RIGHT('Efficiency Levels'!$C$22,1),AG20,\nIF(RIGHT($D32,1)<RIGHT('Efficiency Levels'!$C$22,1),0,\nIF(RIGHT($D32,1)=RIGHT('Efficiency Levels'!$C$22,1),SUM(OFFSET(AG20,-RIGHT($D32,1),0,RIGHT($D32,1),1)),\"ERROR\"))))","v":0},{"$f":"IF(AH$24<STANDARD_YEAR,AH20,\nIF(RIGHT($D32,1)>RIGHT('Efficiency Levels'!$C$22,1),AH20,\nIF(RIGHT($D32,1)<RIGHT('Efficiency Levels'!$C$22,1),0,\nIF(RIGHT($D32,1)=RIGHT('Efficiency Levels'!$C$22,1),SUM(OFFSET(AH20,-RIGHT($D32,1),0,RIGHT($D32,1),1)),\"ERROR\"))))","v":0},{"$f":"IF(AI$24<STANDARD_YEAR,AI20,\nIF(RIGHT($D32,1)>RIGHT('Efficiency Levels'!$C$22,1),AI20,\nIF(RIGHT($D32,1)<RIGHT('Efficiency Levels'!$C$22,1),0,\nIF(RIGHT($D32,1)=RIGHT('Efficiency Levels'!$C$22,1),SUM(OFFSET(AI20,-RIGHT($D32,1),0,RIGHT($D32,1),1)),\"ERROR\"))))","v":0},{"$f":"IF(AJ$24<STANDARD_YEAR,AJ20,\nIF(RIGHT($D32,1)>RIGHT('Efficiency Levels'!$C$22,1),AJ20,\nIF(RIGHT($D32,1)<RIGHT('Efficiency Levels'!$C$22,1),0,\nIF(RIGHT($D32,1)=RIGHT('Efficiency Levels'!$C$22,1),SUM(OFFSET(AJ20,-RIGHT($D32,1),0,RIGHT($D32,1),1)),\"ERROR\"))))","v":0},{"$f":"IF(AK$24<STANDARD_YEAR,AK20,\nIF(RIGHT($D32,1)>RIGHT('Efficiency Levels'!$C$22,1),AK20,\nIF(RIGHT($D32,1)<RIGHT('Efficiency Levels'!$C$22,1),0,\nIF(RIGHT($D32,1)=RIGHT('Efficiency Levels'!$C$22,1),SUM(OFFSET(AK20,-RIGHT($D32,1),0,RIGHT($D32,1),1)),\"ERROR\"))))","v":0},{"$f":"IF(AL$24<STANDARD_YEAR,AL20,\nIF(RIGHT($D32,1)>RIGHT('Efficiency Levels'!$C$22,1),AL20,\nIF(RIGHT($D32,1)<RIGHT('Efficiency Levels'!$C$22,1),0,\nIF(RIGHT($D32,1)=RIGHT('Efficiency Levels'!$C$22,1),SUM(OFFSET(AL20,-RIGHT($D32,1),0,RIGHT($D32,1),1)),\"ERROR\"))))","v":0},{"$f":"IF(AM$24<STANDARD_YEAR,AM20,\nIF(RIGHT($D32,1)>RIGHT('Efficiency Levels'!$C$22,1),AM20,\nIF(RIGHT($D32,1)<RIGHT('Efficiency Levels'!$C$22,1),0,\nIF(RIGHT($D32,1)=RIGHT('Efficiency Levels'!$C$22,1),SUM(OFFSET(AM20,-RIGHT($D32,1),0,RIGHT($D32,1),1)),\"ERROR\"))))","v":0},{"$f":"IF(AN$24<STANDARD_YEAR,AN20,\nIF(RIGHT($D32,1)>RIGHT('Efficiency Levels'!$C$22,1),AN20,\nIF(RIGHT($D32,1)<RIGHT('Efficiency Levels'!$C$22,1),0,\nIF(RIGHT($D32,1)=RIGHT('Efficiency Levels'!$C$22,1),SUM(OFFSET(AN20,-RIGHT($D32,1),0,RIGHT($D32,1),1)),\"ERROR\"))))","v":0},{"$f":"IF(AO$24<STANDARD_YEAR,AO20,\nIF(RIGHT($D32,1)>RIGHT('Efficiency Levels'!$C$22,1),AO20,\nIF(RIGHT($D32,1)<RIGHT('Efficiency Levels'!$C$22,1),0,\nIF(RIGHT($D32,1)=RIGHT('Efficiency Levels'!$C$22,1),SUM(OFFSET(AO20,-RIGHT($D32,1),0,RIGHT($D32,1),1)),\"ERROR\"))))","v":0},{"$f":"IF(AP$24<STANDARD_YEAR,AP20,\nIF(RIGHT($D32,1)>RIGHT('Efficiency Levels'!$C$22,1),AP20,\nIF(RIGHT($D32,1)<RIGHT('Efficiency Levels'!$C$22,1),0,\nIF(RIGHT($D32,1)=RIGHT('Efficiency Levels'!$C$22,1),SUM(OFFSET(AP20,-RIGHT($D32,1),0,RIGHT($D32,1),1)),\"ERROR\"))))","v":0},{"$f":"IF(AQ$24<STANDARD_YEAR,AQ20,\nIF(RIGHT($D32,1)>RIGHT('Efficiency Levels'!$C$22,1),AQ20,\nIF(RIGHT($D32,1)<RIGHT('Efficiency Levels'!$C$22,1),0,\nIF(RIGHT($D32,1)=RIGHT('Efficiency Levels'!$C$22,1),SUM(OFFSET(AQ20,-RIGHT($D32,1),0,RIGHT($D32,1),1)),\"ERROR\"))))","v":0},{"$f":"IF(AR$24<STANDARD_YEAR,AR20,\nIF(RIGHT($D32,1)>RIGHT('Efficiency Levels'!$C$22,1),AR20,\nIF(RIGHT($D32,1)<RIGHT('Efficiency Levels'!$C$22,1),0,\nIF(RIGHT($D32,1)=RIGHT('Efficiency Levels'!$C$22,1),SUM(OFFSET(AR20,-RIGHT($D32,1),0,RIGHT($D32,1),1)),\"ERROR\"))))","v":0},{"$f":"IF(AS$24<STANDARD_YEAR,AS20,\nIF(RIGHT($D32,1)>RIGHT('Efficiency Levels'!$C$22,1),AS20,\nIF(RIGHT($D32,1)<RIGHT('Efficiency Levels'!$C$22,1),0,\nIF(RIGHT($D32,1)=RIGHT('Efficiency Levels'!$C$22,1),SUM(OFFSET(AS20,-RIGHT($D32,1),0,RIGHT($D32,1),1)),\"ERROR\"))))","v":0},{"$f":"IF(AT$24<STANDARD_YEAR,AT20,\nIF(RIGHT($D32,1)>RIGHT('Efficiency Levels'!$C$22,1),AT20,\nIF(RIGHT($D32,1)<RIGHT('Efficiency Levels'!$C$22,1),0,\nIF(RIGHT($D32,1)=RIGHT('Efficiency Levels'!$C$22,1),SUM(OFFSET(AT20,-RIGHT($D32,1),0,RIGHT($D32,1),1)),\"ERROR\"))))","v":0},{"$f":"IF(AU$24<STANDARD_YEAR,AU20,\nIF(RIGHT($D32,1)>RIGHT('Efficiency Levels'!$C$22,1),AU20,\nIF(RIGHT($D32,1)<RIGHT('Efficiency Levels'!$C$22,1),0,\nIF(RIGHT($D32,1)=RIGHT('Efficiency Levels'!$C$22,1),SUM(OFFSET(AU20,-RIGHT($D32,1),0,RIGHT($D32,1),1)),\"ERROR\"))))","v":0},{"$f":"IF(AV$24<STANDARD_YEAR,AV20,\nIF(RIGHT($D32,1)>RIGHT('Efficiency Levels'!$C$22,1),AV20,\nIF(RIGHT($D32,1)<RIGHT('Efficiency Levels'!$C$22,1),0,\nIF(RIGHT($D32,1)=RIGHT('Efficiency Levels'!$C$22,1),SUM(OFFSET(AV20,-RIGHT($D32,1),0,RIGHT($D32,1),1)),\"ERROR\"))))","v":0},{"$f":"IF(AW$24<STANDARD_YEAR,AW20,\nIF(RIGHT($D32,1)>RIGHT('Efficiency Levels'!$C$22,1),AW20,\nIF(RIGHT($D32,1)<RIGHT('Efficiency Levels'!$C$22,1),0,\nIF(RIGHT($D32,1)=RIGHT('Efficiency Levels'!$C$22,1),SUM(OFFSET(AW20,-RIGHT($D32,1),0,RIGHT($D32,1),1)),\"ERROR\"))))","v":0},{"$f":"IF(AX$24<STANDARD_YEAR,AX20,\nIF(RIGHT($D32,1)>RIGHT('Efficiency Levels'!$C$22,1),AX20,\nIF(RIGHT($D32,1)<RIGHT('Efficiency Levels'!$C$22,1),0,\nIF(RIGHT($D32,1)=RIGHT('Efficiency Levels'!$C$22,1),SUM(OFFSET(AX20,-RIGHT($D32,1),0,RIGHT($D32,1),1)),\"ERROR\"))))","v":0},{"$f":"IF(AY$24<STANDARD_YEAR,AY20,\nIF(RIGHT($D32,1)>RIGHT('Efficiency Levels'!$C$22,1),AY20,\nIF(RIGHT($D32,1)<RIGHT('Efficiency Levels'!$C$22,1),0,\nIF(RIGHT($D32,1)=RIGHT('Efficiency Levels'!$C$22,1),SUM(OFFSET(AY20,-RIGHT($D32,1),0,RIGHT($D32,1),1)),\"ERROR\"))))","v":0},{"$f":"IF(AZ$24<STANDARD_YEAR,AZ20,\nIF(RIGHT($D32,1)>RIGHT('Efficiency Levels'!$C$22,1),AZ20,\nIF(RIGHT($D32,1)<RIGHT('Efficiency Levels'!$C$22,1),0,\nIF(RIGHT($D32,1)=RIGHT('Efficiency Levels'!$C$22,1),SUM(OFFSET(AZ20,-RIGHT($D32,1),0,RIGHT($D32,1),1)),\"ERROR\"))))","v":0},{"$f":"IF(BA$24<STANDARD_YEAR,BA20,\nIF(RIGHT($D32,1)>RIGHT('Efficiency Levels'!$C$22,1),BA20,\nIF(RIGHT($D32,1)<RIGHT('Efficiency Levels'!$C$22,1),0,\nIF(RIGHT($D32,1)=RIGHT('Efficiency Levels'!$C$22,1),SUM(OFFSET(BA20,-RIGHT($D32,1),0,RIGHT($D32,1),1)),\"ERROR\"))))","v":0},{"$f":"IF(BB$24<STANDARD_YEAR,BB20,\nIF(RIGHT($D32,1)>RIGHT('Efficiency Levels'!$C$22,1),BB20,\nIF(RIGHT($D32,1)<RIGHT('Efficiency Levels'!$C$22,1),0,\nIF(RIGHT($D32,1)=RIGHT('Efficiency Levels'!$C$22,1),SUM(OFFSET(BB20,-RIGHT($D32,1),0,RIGHT($D32,1),1)),\"ERROR\"))))","v":0},{"$f":"IF(BC$24<STANDARD_YEAR,BC20,\nIF(RIGHT($D32,1)>RIGHT('Efficiency Levels'!$C$22,1),BC20,\nIF(RIGHT($D32,1)<RIGHT('Efficiency Levels'!$C$22,1),0,\nIF(RIGHT($D32,1)=RIGHT('Efficiency Levels'!$C$22,1),SUM(OFFSET(BC20,-RIGHT($D32,1),0,RIGHT($D32,1),1)),\"ERROR\"))))","v":0},{"$f":"IF(BD$24<STANDARD_YEAR,BD20,\nIF(RIGHT($D32,1)>RIGHT('Efficiency Levels'!$C$22,1),BD20,\nIF(RIGHT($D32,1)<RIGHT('Efficiency Levels'!$C$22,1),0,\nIF(RIGHT($D32,1)=RIGHT('Efficiency Levels'!$C$22,1),SUM(OFFSET(BD20,-RIGHT($D32,1),0,RIGHT($D32,1),1)),\"ERROR\"))))","v":0},{"$f":"IF(BE$24<STANDARD_YEAR,BE20,\nIF(RIGHT($D32,1)>RIGHT('Efficiency Levels'!$C$22,1),BE20,\nIF(RIGHT($D32,1)<RIGHT('Efficiency Levels'!$C$22,1),0,\nIF(RIGHT($D32,1)=RIGHT('Efficiency Levels'!$C$22,1),SUM(OFFSET(BE20,-RIGHT($D32,1),0,RIGHT($D32,1),1)),\"ERROR\"))))","v":0},{"$f":"IF(BF$24<STANDARD_YEAR,BF20,\nIF(RIGHT($D32,1)>RIGHT('Efficiency Levels'!$C$22,1),BF20,\nIF(RIGHT($D32,1)<RIGHT('Efficiency Levels'!$C$22,1),0,\nIF(RIGHT($D32,1)=RIGHT('Efficiency Levels'!$C$22,1),SUM(OFFSET(BF20,-RIGHT($D32,1),0,RIGHT($D32,1),1)),\"ERROR\"))))","v":0},{"$f":"IF(BG$24<STANDARD_YEAR,BG20,\nIF(RIGHT($D32,1)>RIGHT('Efficiency Levels'!$C$22,1),BG20,\nIF(RIGHT($D32,1)<RIGHT('Efficiency Levels'!$C$22,1),0,\nIF(RIGHT($D32,1)=RIGHT('Efficiency Levels'!$C$22,1),SUM(OFFSET(BG20,-RIGHT($D32,1),0,RIGHT($D32,1),1)),\"ERROR\"))))","v":0},{"$f":"IF(BH$24<STANDARD_YEAR,BH20,\nIF(RIGHT($D32,1)>RIGHT('Efficiency Levels'!$C$22,1),BH20,\nIF(RIGHT($D32,1)<RIGHT('Efficiency Levels'!$C$22,1),0,\nIF(RIGHT($D32,1)=RIGHT('Efficiency Levels'!$C$22,1),SUM(OFFSET(BH20,-RIGHT($D32,1),0,RIGHT($D32,1),1)),\"ERROR\"))))","v":0},{"$f":"IF(BI$24<STANDARD_YEAR,BI20,\nIF(RIGHT($D32,1)>RIGHT('Efficiency Levels'!$C$22,1),BI20,\nIF(RIGHT($D32,1)<RIGHT('Efficiency Levels'!$C$22,1),0,\nIF(RIGHT($D32,1)=RIGHT('Efficiency Levels'!$C$22,1),SUM(OFFSET(BI20,-RIGHT($D32,1),0,RIGHT($D32,1),1)),\"ERROR\"))))","v":0},{"$f":"IF(BJ$24<STANDARD_YEAR,BJ20,\nIF(RIGHT($D32,1)>RIGHT('Efficiency Levels'!$C$22,1),BJ20,\nIF(RIGHT($D32,1)<RIGHT('Efficiency Levels'!$C$22,1),0,\nIF(RIGHT($D32,1)=RIGHT('Efficiency Levels'!$C$22,1),SUM(OFFSET(BJ20,-RIGHT($D32,1),0,RIGHT($D32,1),1)),\"ERROR\"))))","v":0}]
[null,null,null,"TOTAL",null,null,null,null,{"$f":"SUM(I25:I32)","v":1},1,1,1,1,1,1,1,1,1,1,1,1,1,1,1,1,1,1,1,1,1,1,1,1,1,1,1,1,1,1,1,1,1,1,1,1,1,1,1,1,1,1,1,1,1,1,1,1,1,1,1,1,{"$f":"SUM(BJ25:BJ32)","v":1}]
[]
[null,null,null,"Sources","Placeholder Values Assumes All Pre-Case Shipments are the Least Energy Efficient Products"]
[]
[]
[]
[null,null,"PC2",{"$f":"OFFSET('Product Classes'!$C$9,MATCH(C39,MODEL_PCS,0),0)","v":"Gas Ovens—Self-Clean Ovens"}]
[]
[null,null,null,"PRE-Case",null,"Static Distribution"]
[null,null,null,"Efficiency Level","UEC (kWh / year)",2011,null,null,1981,1982,1983,1984,1985,1986,1987,1988,1989,1990,1991,1992,1993,1994,1995,1996,1997,1998,1999,2000,2001,2002,2003,2004,2005,2006,2007,2008,2009,2010,2011,2012,2013,2014,2015,2016,2017,2018,2019,2020,2021,2022,2023,2024,2025,2026,2027,2028,2029,2030,2031,2032,2033,2034]
[null,null,null,"EL0",{"$f":"OFFSET('Efficiency Levels'!$D$11,MATCH($C$39,'Efficiency Levels'!$C$9:$C$1002,0)+RIGHT(D43,1),0)","v":360},1,null,null,{"$f":"$F43","v":1},1,1,1,1,1,1,1,{"$f":"$F43","v":1},{"$f":"$F43","v":1},1,1,1,1,1,1,1,1,1,1,1,1,1,1,1,1,1,1,1,1,1,1,1,1,1,1,1,1,1,1,1,1,1,1,1,1,1,1,1,1,1,1,1,1]
[null,null,null,"EL1",{"$f":"OFFSET('Efficiency Levels'!$D$11,MATCH($C$39,'Efficiency Levels'!$C$9:$C$1002,0)+RIGHT(D44,1),0)","v":317.7},0,null,null,0,0,0,0,0,0,0,0,{"$f":"$F44","v":0},0,0,0,0,0,0,0,0,0,0,0,0,0,0,0,0,0,0,0,0,0,0,0,0,0,0,0,0,0,0,0,0,0,0,0,0,0,0,0,0,0,0,0,0,0]
[null,null,null,"EL2",{"$f":"OFFSET('Efficiency Levels'!$D$11,MATCH($C$39,'Efficiency Levels'!$C$9:$C$1002,0)+RIGHT(D45,1),0)","v":317},0,null,null,0,0,0,0,0,0,0,0,{"$f":"$F45","v":0},0,0,0,0,0,0,0,0,0,0,0,0,0,0,0,0,0,0,0,0,0,0,0,0,0,0,0,0,0,0,0,0,0,0,0,0,0,0,0,0,0,0,0,0,0]
[null,null,null,"EL3",{"$f":"OFFSET('Efficiency Levels'!$D$11,MATCH($C$39,'Efficiency Levels'!$C$9:$C$1002,0)+RIGHT(D46,1),0)","v":312},0,null,null,0,0,0,0,0,0,0,0,{"$f":"$F46","v":0},0,0,0,0,0,0,0,0,0,0,0,0,0,0,0,0,0,0,0,0,0,0,0,0,0,0,0,0,0,0,0,0,0,0,0,0,0,0,0,0,0,0,0,0,0]
[null,null,null,"EL4",{"$f":"OFFSET('Efficiency Levels'!$D$11,MATCH($C$39,'Efficiency Levels'!$C$9:$C$1002,0)+RIGHT(D47,1),0)","v":271.89999999999998},0,null,null,0,0,0,0,0,0,0,0,{"$f":"$F47","v":0},0,0,0,0,0,0,0,0,0,0,0,0,0,0,0,0,0,0,0,0,0,0,0,0,0,0,0,0,0,0,0,0,0,0,0,0,0,0,0,0,0,0,0,0,0]
[null,null,null,"TOTAL",null,{"$f":"SUM(F43:F47)","v":1},null,null,{"$f":"SUM(I43:I47)","v":1},1,1,1,1,1,1,1,1,1,1,1,1,1,1,1,1,1,1,1,1,1,1,1,1,1,1,1,1,1,1,1,1,1,1,1,1,1,1,1,1,1,1,1,1,1,1,1,1,1,1,1,1,{"$f":"SUM(BJ43:BJ47)","v":1}]
[]
[null,null,null,"POST-Case"]
[null,null,null,"Efficiency Level","UEC (kWh / year)",null,null,null,1981,1982,1983,1984,1985,1986,1987,1988,1989,1990,1991,1992,1993,1994,1995,1996,1997,1998,1999,2000,2001,2002,2003,2004,2005,2006,2007,2008,2009,2010,2011,2012,2013,2014,2015,2016,2017,2018,2019,2020,2021,2022,2023,2024,2025,2026,2027,2028,2029,2030,2031,2032,2033,2034]
[null,null,null,"EL0",{"$f":"OFFSET('Efficiency Levels'!$D$11,MATCH($C$39,'Efficiency Levels'!$C$9:$C$1002,0)+RIGHT(D52,1),0)","v":360},null,null,null,{"$f":"IF(I$24<STANDARD_YEAR,I43,\nIF(RIGHT($D52,1)>RIGHT('Efficiency Levels'!$C$39,1),I43,\nIF(RIGHT($D52,1)<RIGHT('Efficiency Levels'!$C$39,1),0,\nIF(RIGHT($D52,1)=RIGHT('Efficiency Levels'!$C$39,1),SUM(OFFSET(I43,-RIGHT($D52,1),0,RIGHT($D52,1),1)),\"ERROR\"))))","v":1},{"$f":"IF(J$24<STANDARD_YEAR,J43,\nIF(RIGHT($D52,1)>RIGHT('Efficiency Levels'!$C$39,1),J43,\nIF(RIGHT($D52,1)<RIGHT('Efficiency Levels'!$C$39,1),0,\nIF(RIGHT($D52,1)=RIGHT('Efficiency Levels'!$C$39,1),SUM(OFFSET(J43,-RIGHT($D52,1),0,RIGHT($D52,1),1)),\"ERROR\"))))","v":1},{"$f":"IF(K$24<STANDARD_YEAR,K43,\nIF(RIGHT($D52,1)>RIGHT('Efficiency Levels'!$C$39,1),K43,\nIF(RIGHT($D52,1)<RIGHT('Efficiency Levels'!$C$39,1),0,\nIF(RIGHT($D52,1)=RIGHT('Efficiency Levels'!$C$39,1),SUM(OFFSET(K43,-RIGHT($D52,1),0,RIGHT($D52,1),1)),\"ERROR\"))))","v":1},{"$f":"IF(L$24<STANDARD_YEAR,L43,\nIF(RIGHT($D52,1)>RIGHT('Efficiency Levels'!$C$39,1),L43,\nIF(RIGHT($D52,1)<RIGHT('Efficiency Levels'!$C$39,1),0,\nIF(RIGHT($D52,1)=RIGHT('Efficiency Levels'!$C$39,1),SUM(OFFSET(L43,-RIGHT($D52,1),0,RIGHT($D52,1),1)),\"ERROR\"))))","v":1},{"$f":"IF(M$24<STANDARD_YEAR,M43,\nIF(RIGHT($D52,1)>RIGHT('Efficiency Levels'!$C$39,1),M43,\nIF(RIGHT($D52,1)<RIGHT('Efficiency Levels'!$C$39,1),0,\nIF(RIGHT($D52,1)=RIGHT('Efficiency Levels'!$C$39,1),SUM(OFFSET(M43,-RIGHT($D52,1),0,RIGHT($D52,1),1)),\"ERROR\"))))","v":1},{"$f":"IF(N$24<STANDARD_YEAR,N43,\nIF(RIGHT($D52,1)>RIGHT('Efficiency Levels'!$C$39,1),N43,\nIF(RIGHT($D52,1)<RIGHT('Efficiency Levels'!$C$39,1),0,\nIF(RIGHT($D52,1)=RIGHT('Efficiency Levels'!$C$39,1),SUM(OFFSET(N43,-RIGHT($D52,1),0,RIGHT($D52,1),1)),\"ERROR\"))))","v":1},{"$f":"IF(O$24<STANDARD_YEAR,O43,\nIF(RIGHT($D52,1)>RIGHT('Efficiency Levels'!$C$39,1),O43,\nIF(RIGHT($D52,1)<RIGHT('Efficiency Levels'!$C$39,1),0,\nIF(RIGHT($D52,1)=RIGHT('Efficiency Levels'!$C$39,1),SUM(OFFSET(O43,-RIGHT($D52,1),0,RIGHT($D52,1),1)),\"ERROR\"))))","v":1},{"$f":"IF(P$24<STANDARD_YEAR,P43,\nIF(RIGHT($D52,1)>RIGHT('Efficiency Levels'!$C$39,1),P43,\nIF(RIGHT($D52,1)<RIGHT('Efficiency Levels'!$C$39,1),0,\nIF(RIGHT($D52,1)=RIGHT('Efficiency Levels'!$C$39,1),SUM(OFFSET(P43,-RIGHT($D52,1),0,RIGHT($D52,1),1)),\"ERROR\"))))","v":1},{"$f":"IF(Q$24<STANDARD_YEAR,Q43,\nIF(RIGHT($D52,1)>RIGHT('Efficiency Levels'!$C$39,1),Q43,\nIF(RIGHT($D52,1)<RIGHT('Efficiency Levels'!$C$39,1),0,\nIF(RIGHT($D52,1)=RIGHT('Efficiency Levels'!$C$39,1),SUM(OFFSET(Q43,-RIGHT($D52,1),0,RIGHT($D52,1),1)),\"ERROR\"))))","v":1},{"$f":"IF(R$24<STANDARD_YEAR,R43,\nIF(RIGHT($D52,1)>RIGHT('Efficiency Levels'!$C$39,1),R43,\nIF(RIGHT($D52,1)<RIGHT('Efficiency Levels'!$C$39,1),0,\nIF(RIGHT($D52,1)=RIGHT('Efficiency Levels'!$C$39,1),SUM(OFFSET(R43,-RIGHT($D52,1),0,RIGHT($D52,1),1)),\"ERROR\"))))","v":1},{"$f":"IF(S$24<STANDARD_YEAR,S43,\nIF(RIGHT($D52,1)>RIGHT('Efficiency Levels'!$C$39,1),S43,\nIF(RIGHT($D52,1)<RIGHT('Efficiency Levels'!$C$39,1),0,\nIF(RIGHT($D52,1)=RIGHT('Efficiency Levels'!$C$39,1),SUM(OFFSET(S43,-RIGHT($D52,1),0,RIGHT($D52,1),1)),\"ERROR\"))))","v":1},{"$f":"IF(T$24<STANDARD_YEAR,T43,\nIF(RIGHT($D52,1)>RIGHT('Efficiency Levels'!$C$39,1),T43,\nIF(RIGHT($D52,1)<RIGHT('Efficiency Levels'!$C$39,1),0,\nIF(RIGHT($D52,1)=RIGHT('Efficiency Levels'!$C$39,1),SUM(OFFSET(T43,-RIGHT($D52,1),0,RIGHT($D52,1),1)),\"ERROR\"))))","v":1},{"$f":"IF(U$24<STANDARD_YEAR,U43,\nIF(RIGHT($D52,1)>RIGHT('Efficiency Levels'!$C$39,1),U43,\nIF(RIGHT($D52,1)<RIGHT('Efficiency Levels'!$C$39,1),0,\nIF(RIGHT($D52,1)=RIGHT('Efficiency Levels'!$C$39,1),SUM(OFFSET(U43,-RIGHT($D52,1),0,RIGHT($D52,1),1)),\"ERROR\"))))","v":1},{"$f":"IF(V$24<STANDARD_YEAR,V43,\nIF(RIGHT($D52,1)>RIGHT('Efficiency Levels'!$C$39,1),V43,\nIF(RIGHT($D52,1)<RIGHT('Efficiency Levels'!$C$39,1),0,\nIF(RIGHT($D52,1)=RIGHT('Efficiency Levels'!$C$39,1),SUM(OFFSET(V43,-RIGHT($D52,1),0,RIGHT($D52,1),1)),\"ERROR\"))))","v":1},{"$f":"IF(W$24<STANDARD_YEAR,W43,\nIF(RIGHT($D52,1)>RIGHT('Efficiency Levels'!$C$39,1),W43,\nIF(RIGHT($D52,1)<RIGHT('Efficiency Levels'!$C$39,1),0,\nIF(RIGHT($D52,1)=RIGHT('Efficiency Levels'!$C$39,1),SUM(OFFSET(W43,-RIGHT($D52,1),0,RIGHT($D52,1),1)),\"ERROR\"))))","v":1},{"$f":"IF(X$24<STANDARD_YEAR,X43,\nIF(RIGHT($D52,1)>RIGHT('Efficiency Levels'!$C$39,1),X43,\nIF(RIGHT($D52,1)<RIGHT('Efficiency Levels'!$C$39,1),0,\nIF(RIGHT($D52,1)=RIGHT('Efficiency Levels'!$C$39,1),SUM(OFFSET(X43,-RIGHT($D52,1),0,RIGHT($D52,1),1)),\"ERROR\"))))","v":1},{"$f":"IF(Y$24<STANDARD_YEAR,Y43,\nIF(RIGHT($D52,1)>RIGHT('Efficiency Levels'!$C$39,1),Y43,\nIF(RIGHT($D52,1)<RIGHT('Efficiency Levels'!$C$39,1),0,\nIF(RIGHT($D52,1)=RIGHT('Efficiency Levels'!$C$39,1),SUM(OFFSET(Y43,-RIGHT($D52,1),0,RIGHT($D52,1),1)),\"ERROR\"))))","v":1},{"$f":"IF(Z$24<STANDARD_YEAR,Z43,\nIF(RIGHT($D52,1)>RIGHT('Efficiency Levels'!$C$39,1),Z43,\nIF(RIGHT($D52,1)<RIGHT('Efficiency Levels'!$C$39,1),0,\nIF(RIGHT($D52,1)=RIGHT('Efficiency Levels'!$C$39,1),SUM(OFFSET(Z43,-RIGHT($D52,1),0,RIGHT($D52,1),1)),\"ERROR\"))))","v":1},{"$f":"IF(AA$24<STANDARD_YEAR,AA43,\nIF(RIGHT($D52,1)>RIGHT('Efficiency Levels'!$C$39,1),AA43,\nIF(RIGHT($D52,1)<RIGHT('Efficiency Levels'!$C$39,1),0,\nIF(RIGHT($D52,1)=RIGHT('Efficiency Levels'!$C$39,1),SUM(OFFSET(AA43,-RIGHT($D52,1),0,RIGHT($D52,1),1)),\"ERROR\"))))","v":1},{"$f":"IF(AB$24<STANDARD_YEAR,AB43,\nIF(RIGHT($D52,1)>RIGHT('Efficiency Levels'!$C$39,1),AB43,\nIF(RIGHT($D52,1)<RIGHT('Efficiency Levels'!$C$39,1),0,\nIF(RIGHT($D52,1)=RIGHT('Efficiency Levels'!$C$39,1),SUM(OFFSET(AB43,-RIGHT($D52,1),0,RIGHT($D52,1),1)),\"ERROR\"))))","v":1},{"$f":"IF(AC$24<STANDARD_YEAR,AC43,\nIF(RIGHT($D52,1)>RIGHT('Efficiency Levels'!$C$39,1),AC43,\nIF(RIGHT($D52,1)<RIGHT('Efficiency Levels'!$C$39,1),0,\nIF(RIGHT($D52,1)=RIGHT('Efficiency Levels'!$C$39,1),SUM(OFFSET(AC43,-RIGHT($D52,1),0,RIGHT($D52,1),1)),\"ERROR\"))))","v":1},{"$f":"IF(AD$24<STANDARD_YEAR,AD43,\nIF(RIGHT($D52,1)>RIGHT('Efficiency Levels'!$C$39,1),AD43,\nIF(RIGHT($D52,1)<RIGHT('Efficiency Levels'!$C$39,1),0,\nIF(RIGHT($D52,1)=RIGHT('Efficiency Levels'!$C$39,1),SUM(OFFSET(AD43,-RIGHT($D52,1),0,RIGHT($D52,1),1)),\"ERROR\"))))","v":1},{"$f":"IF(AE$24<STANDARD_YEAR,AE43,\nIF(RIGHT($D52,1)>RIGHT('Efficiency Levels'!$C$39,1),AE43,\nIF(RIGHT($D52,1)<RIGHT('Efficiency Levels'!$C$39,1),0,\nIF(RIGHT($D52,1)=RIGHT('Efficiency Levels'!$C$39,1),SUM(OFFSET(AE43,-RIGHT($D52,1),0,RIGHT($D52,1),1)),\"ERROR\"))))","v":1},{"$f":"IF(AF$24<STANDARD_YEAR,AF43,\nIF(RIGHT($D52,1)>RIGHT('Efficiency Levels'!$C$39,1),AF43,\nIF(RIGHT($D52,1)<RIGHT('Efficiency Levels'!$C$39,1),0,\nIF(RIGHT($D52,1)=RIGHT('Efficiency Levels'!$C$39,1),SUM(OFFSET(AF43,-RIGHT($D52,1),0,RIGHT($D52,1),1)),\"ERROR\"))))","v":1},{"$f":"IF(AG$24<STANDARD_YEAR,AG43,\nIF(RIGHT($D52,1)>RIGHT('Efficiency Levels'!$C$39,1),AG43,\nIF(RIGHT($D52,1)<RIGHT('Efficiency Levels'!$C$39,1),0,\nIF(RIGHT($D52,1)=RIGHT('Efficiency Levels'!$C$39,1),SUM(OFFSET(AG43,-RIGHT($D52,1),0,RIGHT($D52,1),1)),\"ERROR\"))))","v":1},{"$f":"IF(AH$24<STANDARD_YEAR,AH43,\nIF(RIGHT($D52,1)>RIGHT('Efficiency Levels'!$C$39,1),AH43,\nIF(RIGHT($D52,1)<RIGHT('Efficiency Levels'!$C$39,1),0,\nIF(RIGHT($D52,1)=RIGHT('Efficiency Levels'!$C$39,1),SUM(OFFSET(AH43,-RIGHT($D52,1),0,RIGHT($D52,1),1)),\"ERROR\"))))","v":1},{"$f":"IF(AI$24<STANDARD_YEAR,AI43,\nIF(RIGHT($D52,1)>RIGHT('Efficiency Levels'!$C$39,1),AI43,\nIF(RIGHT($D52,1)<RIGHT('Efficiency Levels'!$C$39,1),0,\nIF(RIGHT($D52,1)=RIGHT('Efficiency Levels'!$C$39,1),SUM(OFFSET(AI43,-RIGHT($D52,1),0,RIGHT($D52,1),1)),\"ERROR\"))))","v":1},{"$f":"IF(AJ$24<STANDARD_YEAR,AJ43,\nIF(RIGHT($D52,1)>RIGHT('Efficiency Levels'!$C$39,1),AJ43,\nIF(RIGHT($D52,1)<RIGHT('Efficiency Levels'!$C$39,1),0,\nIF(RIGHT($D52,1)=RIGHT('Efficiency Levels'!$C$39,1),SUM(OFFSET(AJ43,-RIGHT($D52,1),0,RIGHT($D52,1),1)),\"ERROR\"))))","v":1},{"$f":"IF(AK$24<STANDARD_YEAR,AK43,\nIF(RIGHT($D52,1)>RIGHT('Efficiency Levels'!$C$39,1),AK43,\nIF(RIGHT($D52,1)<RIGHT('Efficiency Levels'!$C$39,1),0,\nIF(RIGHT($D52,1)=RIGHT('Efficiency Levels'!$C$39,1),SUM(OFFSET(AK43,-RIGHT($D52,1),0,RIGHT($D52,1),1)),\"ERROR\"))))","v":1},{"$f":"IF(AL$24<STANDARD_YEAR,AL43,\nIF(RIGHT($D52,1)>RIGHT('Efficiency Levels'!$C$39,1),AL43,\nIF(RIGHT($D52,1)<RIGHT('Efficiency Levels'!$C$39,1),0,\nIF(RIGHT($D52,1)=RIGHT('Efficiency Levels'!$C$39,1),SUM(OFFSET(AL43,-RIGHT($D52,1),0,RIGHT($D52,1),1)),\"ERROR\"))))","v":1},{"$f":"IF(AM$24<STANDARD_YEAR,AM43,\nIF(RIGHT($D52,1)>RIGHT('Efficiency Levels'!$C$39,1),AM43,\nIF(RIGHT($D52,1)<RIGHT('Efficiency Levels'!$C$39,1),0,\nIF(RIGHT($D52,1)=RIGHT('Efficiency Levels'!$C$39,1),SUM(OFFSET(AM43,-RIGHT($D52,1),0,RIGHT($D52,1),1)),\"ERROR\"))))","v":1},{"$f":"IF(AN$24<STANDARD_YEAR,AN43,\nIF(RIGHT($D52,1)>RIGHT('Efficiency Levels'!$C$39,1),AN43,\nIF(RIGHT($D52,1)<RIGHT('Efficiency Levels'!$C$39,1),0,\nIF(RIGHT($D52,1)=RIGHT('Efficiency Levels'!$C$39,1),SUM(OFFSET(AN43,-RIGHT($D52,1),0,RIGHT($D52,1),1)),\"ERROR\"))))","v":1},{"$f":"IF(AO$24<STANDARD_YEAR,AO43,\nIF(RIGHT($D52,1)>RIGHT('Efficiency Levels'!$C$39,1),AO43,\nIF(RIGHT($D52,1)<RIGHT('Efficiency Levels'!$C$39,1),0,\nIF(RIGHT($D52,1)=RIGHT('Efficiency Levels'!$C$39,1),SUM(OFFSET(AO43,-RIGHT($D52,1),0,RIGHT($D52,1),1)),\"ERROR\"))))","v":1},{"$f":"IF(AP$24<STANDARD_YEAR,AP43,\nIF(RIGHT($D52,1)>RIGHT('Efficiency Levels'!$C$39,1),AP43,\nIF(RIGHT($D52,1)<RIGHT('Efficiency Levels'!$C$39,1),0,\nIF(RIGHT($D52,1)=RIGHT('Efficiency Levels'!$C$39,1),SUM(OFFSET(AP43,-RIGHT($D52,1),0,RIGHT($D52,1),1)),\"ERROR\"))))","v":1},{"$f":"IF(AQ$24<STANDARD_YEAR,AQ43,\nIF(RIGHT($D52,1)>RIGHT('Efficiency Levels'!$C$39,1),AQ43,\nIF(RIGHT($D52,1)<RIGHT('Efficiency Levels'!$C$39,1),0,\nIF(RIGHT($D52,1)=RIGHT('Efficiency Levels'!$C$39,1),SUM(OFFSET(AQ43,-RIGHT($D52,1),0,RIGHT($D52,1),1)),\"ERROR\"))))","v":1},{"$f":"IF(AR$24<STANDARD_YEAR,AR43,\nIF(RIGHT($D52,1)>RIGHT('Efficiency Levels'!$C$39,1),AR43,\nIF(RIGHT($D52,1)<RIGHT('Efficiency Levels'!$C$39,1),0,\nIF(RIGHT($D52,1)=RIGHT('Efficiency Levels'!$C$39,1),SUM(OFFSET(AR43,-RIGHT($D52,1),0,RIGHT($D52,1),1)),\"ERROR\"))))","v":1},{"$f":"IF(AS$24<STANDARD_YEAR,AS43,\nIF(RIGHT($D52,1)>RIGHT('Efficiency Levels'!$C$39,1),AS43,\nIF(RIGHT($D52,1)<RIGHT('Efficiency Levels'!$C$39,1),0,\nIF(RIGHT($D52,1)=RIGHT('Efficiency Levels'!$C$39,1),SUM(OFFSET(AS43,-RIGHT($D52,1),0,RIGHT($D52,1),1)),\"ERROR\"))))","v":1},{"$f":"IF(AT$24<STANDARD_YEAR,AT43,\nIF(RIGHT($D52,1)>RIGHT('Efficiency Levels'!$C$39,1),AT43,\nIF(RIGHT($D52,1)<RIGHT('Efficiency Levels'!$C$39,1),0,\nIF(RIGHT($D52,1)=RIGHT('Efficiency Levels'!$C$39,1),SUM(OFFSET(AT43,-RIGHT($D52,1),0,RIGHT($D52,1),1)),\"ERROR\"))))","v":1},{"$f":"IF(AU$24<STANDARD_YEAR,AU43,\nIF(RIGHT($D52,1)>RIGHT('Efficiency Levels'!$C$39,1),AU43,\nIF(RIGHT($D52,1)<RIGHT('Efficiency Levels'!$C$39,1),0,\nIF(RIGHT($D52,1)=RIGHT('Efficiency Levels'!$C$39,1),SUM(OFFSET(AU43,-RIGHT($D52,1),0,RIGHT($D52,1),1)),\"ERROR\"))))","v":0},{"$f":"IF(AV$24<STANDARD_YEAR,AV43,\nIF(RIGHT($D52,1)>RIGHT('Efficiency Levels'!$C$39,1),AV43,\nIF(RIGHT($D52,1)<RIGHT('Efficiency Levels'!$C$39,1),0,\nIF(RIGHT($D52,1)=RIGHT('Efficiency Levels'!$C$39,1),SUM(OFFSET(AV43,-RIGHT($D52,1),0,RIGHT($D52,1),1)),\"ERROR\"))))","v":0},{"$f":"IF(AW$24<STANDARD_YEAR,AW43,\nIF(RIGHT($D52,1)>RIGHT('Efficiency Levels'!$C$39,1),AW43,\nIF(RIGHT($D52,1)<RIGHT('Efficiency Levels'!$C$39,1),0,\nIF(RIGHT($D52,1)=RIGHT('Efficiency Levels'!$C$39,1),SUM(OFFSET(AW43,-RIGHT($D52,1),0,RIGHT($D52,1),1)),\"ERROR\"))))","v":0},{"$f":"IF(AX$24<STANDARD_YEAR,AX43,\nIF(RIGHT($D52,1)>RIGHT('Efficiency Levels'!$C$39,1),AX43,\nIF(RIGHT($D52,1)<RIGHT('Efficiency Levels'!$C$39,1),0,\nIF(RIGHT($D52,1)=RIGHT('Efficiency Levels'!$C$39,1),SUM(OFFSET(AX43,-RIGHT($D52,1),0,RIGHT($D52,1),1)),\"ERROR\"))))","v":0},{"$f":"IF(AY$24<STANDARD_YEAR,AY43,\nIF(RIGHT($D52,1)>RIGHT('Efficiency Levels'!$C$39,1),AY43,\nIF(RIGHT($D52,1)<RIGHT('Efficiency Levels'!$C$39,1),0,\nIF(RIGHT($D52,1)=RIGHT('Efficiency Levels'!$C$39,1),SUM(OFFSET(AY43,-RIGHT($D52,1),0,RIGHT($D52,1),1)),\"ERROR\"))))","v":0},{"$f":"IF(AZ$24<STANDARD_YEAR,AZ43,\nIF(RIGHT($D52,1)>RIGHT('Efficiency Levels'!$C$39,1),AZ43,\nIF(RIGHT($D52,1)<RIGHT('Efficiency Levels'!$C$39,1),0,\nIF(RIGHT($D52,1)=RIGHT('Efficiency Levels'!$C$39,1),SUM(OFFSET(AZ43,-RIGHT($D52,1),0,RIGHT($D52,1),1)),\"ERROR\"))))","v":0},{"$f":"IF(BA$24<STANDARD_YEAR,BA43,\nIF(RIGHT($D52,1)>RIGHT('Efficiency Levels'!$C$39,1),BA43,\nIF(RIGHT($D52,1)<RIGHT('Efficiency Levels'!$C$39,1),0,\nIF(RIGHT($D52,1)=RIGHT('Efficiency Levels'!$C$39,1),SUM(OFFSET(BA43,-RIGHT($D52,1),0,RIGHT($D52,1),1)),\"ERROR\"))))","v":0},{"$f":"IF(BB$24<STANDARD_YEAR,BB43,\nIF(RIGHT($D52,1)>RIGHT('Efficiency Levels'!$C$39,1),BB43,\nIF(RIGHT($D52,1)<RIGHT('Efficiency Levels'!$C$39,1),0,\nIF(RIGHT($D52,1)=RIGHT('Efficiency Levels'!$C$39,1),SUM(OFFSET(BB43,-RIGHT($D52,1),0,RIGHT($D52,1),1)),\"ERROR\"))))","v":0},{"$f":"IF(BC$24<STANDARD_YEAR,BC43,\nIF(RIGHT($D52,1)>RIGHT('Efficiency Levels'!$C$39,1),BC43,\nIF(RIGHT($D52,1)<RIGHT('Efficiency Levels'!$C$39,1),0,\nIF(RIGHT($D52,1)=RIGHT('Efficiency Levels'!$C$39,1),SUM(OFFSET(BC43,-RIGHT($D52,1),0,RIGHT($D52,1),1)),\"ERROR\"))))","v":0},{"$f":"IF(BD$24<STANDARD_YEAR,BD43,\nIF(RIGHT($D52,1)>RIGHT('Efficiency Levels'!$C$39,1),BD43,\nIF(RIGHT($D52,1)<RIGHT('Efficiency Levels'!$C$39,1),0,\nIF(RIGHT($D52,1)=RIGHT('Efficiency Levels'!$C$39,1),SUM(OFFSET(BD43,-RIGHT($D52,1),0,RIGHT($D52,1),1)),\"ERROR\"))))","v":0},{"$f":"IF(BE$24<STANDARD_YEAR,BE43,\nIF(RIGHT($D52,1)>RIGHT('Efficiency Levels'!$C$39,1),BE43,\nIF(RIGHT($D52,1)<RIGHT('Efficiency Levels'!$C$39,1),0,\nIF(RIGHT($D52,1)=RIGHT('Efficiency Levels'!$C$39,1),SUM(OFFSET(BE43,-RIGHT($D52,1),0,RIGHT($D52,1),1)),\"ERROR\"))))","v":0},{"$f":"IF(BF$24<STANDARD_YEAR,BF43,\nIF(RIGHT($D52,1)>RIGHT('Efficiency Levels'!$C$39,1),BF43,\nIF(RIGHT($D52,1)<RIGHT('Efficiency Levels'!$C$39,1),0,\nIF(RIGHT($D52,1)=RIGHT('Efficiency Levels'!$C$39,1),SUM(OFFSET(BF43,-RIGHT($D52,1),0,RIGHT($D52,1),1)),\"ERROR\"))))","v":0},{"$f":"IF(BG$24<STANDARD_YEAR,BG43,\nIF(RIGHT($D52,1)>RIGHT('Efficiency Levels'!$C$39,1),BG43,\nIF(RIGHT($D52,1)<RIGHT('Efficiency Levels'!$C$39,1),0,\nIF(RIGHT($D52,1)=RIGHT('Efficiency Levels'!$C$39,1),SUM(OFFSET(BG43,-RIGHT($D52,1),0,RIGHT($D52,1),1)),\"ERROR\"))))","v":0},{"$f":"IF(BH$24<STANDARD_YEAR,BH43,\nIF(RIGHT($D52,1)>RIGHT('Efficiency Levels'!$C$39,1),BH43,\nIF(RIGHT($D52,1)<RIGHT('Efficiency Levels'!$C$39,1),0,\nIF(RIGHT($D52,1)=RIGHT('Efficiency Levels'!$C$39,1),SUM(OFFSET(BH43,-RIGHT($D52,1),0,RIGHT($D52,1),1)),\"ERROR\"))))","v":0},{"$f":"IF(BI$24<STANDARD_YEAR,BI43,\nIF(RIGHT($D52,1)>RIGHT('Efficiency Levels'!$C$39,1),BI43,\nIF(RIGHT($D52,1)<RIGHT('Efficiency Levels'!$C$39,1),0,\nIF(RIGHT($D52,1)=RIGHT('Efficiency Levels'!$C$39,1),SUM(OFFSET(BI43,-RIGHT($D52,1),0,RIGHT($D52,1),1)),\"ERROR\"))))","v":0},{"$f":"IF(BJ$24<STANDARD_YEAR,BJ43,\nIF(RIGHT($D52,1)>RIGHT('Efficiency Levels'!$C$39,1),BJ43,\nIF(RIGHT($D52,1)<RIGHT('Efficiency Levels'!$C$39,1),0,\nIF(RIGHT($D52,1)=RIGHT('Efficiency Levels'!$C$39,1),SUM(OFFSET(BJ43,-RIGHT($D52,1),0,RIGHT($D52,1),1)),\"ERROR\"))))","v":0}]
[null,null,null,"EL1",{"$f":"OFFSET('Efficiency Levels'!$D$11,MATCH($C$39,'Efficiency Levels'!$C$9:$C$1002,0)+RIGHT(D53,1),0)","v":317.7},null,null,null,{"$f":"IF(I$24<STANDARD_YEAR,I44,\nIF(RIGHT($D53,1)>RIGHT('Efficiency Levels'!$C$39,1),I44,\nIF(RIGHT($D53,1)<RIGHT('Efficiency Levels'!$C$39,1),0,\nIF(RIGHT($D53,1)=RIGHT('Efficiency Levels'!$C$39,1),SUM(OFFSET(I44,-RIGHT($D53,1),0,RIGHT($D53,1),1)),\"ERROR\"))))","v":0},{"$f":"IF(J$24<STANDARD_YEAR,J44,\nIF(RIGHT($D53,1)>RIGHT('Efficiency Levels'!$C$39,1),J44,\nIF(RIGHT($D53,1)<RIGHT('Efficiency Levels'!$C$39,1),0,\nIF(RIGHT($D53,1)=RIGHT('Efficiency Levels'!$C$39,1),SUM(OFFSET(J44,-RIGHT($D53,1),0,RIGHT($D53,1),1)),\"ERROR\"))))","v":0},{"$f":"IF(K$24<STANDARD_YEAR,K44,\nIF(RIGHT($D53,1)>RIGHT('Efficiency Levels'!$C$39,1),K44,\nIF(RIGHT($D53,1)<RIGHT('Efficiency Levels'!$C$39,1),0,\nIF(RIGHT($D53,1)=RIGHT('Efficiency Levels'!$C$39,1),SUM(OFFSET(K44,-RIGHT($D53,1),0,RIGHT($D53,1),1)),\"ERROR\"))))","v":0},{"$f":"IF(L$24<STANDARD_YEAR,L44,\nIF(RIGHT($D53,1)>RIGHT('Efficiency Levels'!$C$39,1),L44,\nIF(RIGHT($D53,1)<RIGHT('Efficiency Levels'!$C$39,1),0,\nIF(RIGHT($D53,1)=RIGHT('Efficiency Levels'!$C$39,1),SUM(OFFSET(L44,-RIGHT($D53,1),0,RIGHT($D53,1),1)),\"ERROR\"))))","v":0},{"$f":"IF(M$24<STANDARD_YEAR,M44,\nIF(RIGHT($D53,1)>RIGHT('Efficiency Levels'!$C$39,1),M44,\nIF(RIGHT($D53,1)<RIGHT('Efficiency Levels'!$C$39,1),0,\nIF(RIGHT($D53,1)=RIGHT('Efficiency Levels'!$C$39,1),SUM(OFFSET(M44,-RIGHT($D53,1),0,RIGHT($D53,1),1)),\"ERROR\"))))","v":0},{"$f":"IF(N$24<STANDARD_YEAR,N44,\nIF(RIGHT($D53,1)>RIGHT('Efficiency Levels'!$C$39,1),N44,\nIF(RIGHT($D53,1)<RIGHT('Efficiency Levels'!$C$39,1),0,\nIF(RIGHT($D53,1)=RIGHT('Efficiency Levels'!$C$39,1),SUM(OFFSET(N44,-RIGHT($D53,1),0,RIGHT($D53,1),1)),\"ERROR\"))))","v":0},{"$f":"IF(O$24<STANDARD_YEAR,O44,\nIF(RIGHT($D53,1)>RIGHT('Efficiency Levels'!$C$39,1),O44,\nIF(RIGHT($D53,1)<RIGHT('Efficiency Levels'!$C$39,1),0,\nIF(RIGHT($D53,1)=RIGHT('Efficiency Levels'!$C$39,1),SUM(OFFSET(O44,-RIGHT($D53,1),0,RIGHT($D53,1),1)),\"ERROR\"))))","v":0},{"$f":"IF(P$24<STANDARD_YEAR,P44,\nIF(RIGHT($D53,1)>RIGHT('Efficiency Levels'!$C$39,1),P44,\nIF(RIGHT($D53,1)<RIGHT('Efficiency Levels'!$C$39,1),0,\nIF(RIGHT($D53,1)=RIGHT('Efficiency Levels'!$C$39,1),SUM(OFFSET(P44,-RIGHT($D53,1),0,RIGHT($D53,1),1)),\"ERROR\"))))","v":0},{"$f":"IF(Q$24<STANDARD_YEAR,Q44,\nIF(RIGHT($D53,1)>RIGHT('Efficiency Levels'!$C$39,1),Q44,\nIF(RIGHT($D53,1)<RIGHT('Efficiency Levels'!$C$39,1),0,\nIF(RIGHT($D53,1)=RIGHT('Efficiency Levels'!$C$39,1),SUM(OFFSET(Q44,-RIGHT($D53,1),0,RIGHT($D53,1),1)),\"ERROR\"))))","v":0},{"$f":"IF(R$24<STANDARD_YEAR,R44,\nIF(RIGHT($D53,1)>RIGHT('Efficiency Levels'!$C$39,1),R44,\nIF(RIGHT($D53,1)<RIGHT('Efficiency Levels'!$C$39,1),0,\nIF(RIGHT($D53,1)=RIGHT('Efficiency Levels'!$C$39,1),SUM(OFFSET(R44,-RIGHT($D53,1),0,RIGHT($D53,1),1)),\"ERROR\"))))","v":0},{"$f":"IF(S$24<STANDARD_YEAR,S44,\nIF(RIGHT($D53,1)>RIGHT('Efficiency Levels'!$C$39,1),S44,\nIF(RIGHT($D53,1)<RIGHT('Efficiency Levels'!$C$39,1),0,\nIF(RIGHT($D53,1)=RIGHT('Efficiency Levels'!$C$39,1),SUM(OFFSET(S44,-RIGHT($D53,1),0,RIGHT($D53,1),1)),\"ERROR\"))))","v":0},{"$f":"IF(T$24<STANDARD_YEAR,T44,\nIF(RIGHT($D53,1)>RIGHT('Efficiency Levels'!$C$39,1),T44,\nIF(RIGHT($D53,1)<RIGHT('Efficiency Levels'!$C$39,1),0,\nIF(RIGHT($D53,1)=RIGHT('Efficiency Levels'!$C$39,1),SUM(OFFSET(T44,-RIGHT($D53,1),0,RIGHT($D53,1),1)),\"ERROR\"))))","v":0},{"$f":"IF(U$24<STANDARD_YEAR,U44,\nIF(RIGHT($D53,1)>RIGHT('Efficiency Levels'!$C$39,1),U44,\nIF(RIGHT($D53,1)<RIGHT('Efficiency Levels'!$C$39,1),0,\nIF(RIGHT($D53,1)=RIGHT('Efficiency Levels'!$C$39,1),SUM(OFFSET(U44,-RIGHT($D53,1),0,RIGHT($D53,1),1)),\"ERROR\"))))","v":0},{"$f":"IF(V$24<STANDARD_YEAR,V44,\nIF(RIGHT($D53,1)>RIGHT('Efficiency Levels'!$C$39,1),V44,\nIF(RIGHT($D53,1)<RIGHT('Efficiency Levels'!$C$39,1),0,\nIF(RIGHT($D53,1)=RIGHT('Efficiency Levels'!$C$39,1),SUM(OFFSET(V44,-RIGHT($D53,1),0,RIGHT($D53,1),1)),\"ERROR\"))))","v":0},{"$f":"IF(W$24<STANDARD_YEAR,W44,\nIF(RIGHT($D53,1)>RIGHT('Efficiency Levels'!$C$39,1),W44,\nIF(RIGHT($D53,1)<RIGHT('Efficiency Levels'!$C$39,1),0,\nIF(RIGHT($D53,1)=RIGHT('Efficiency Levels'!$C$39,1),SUM(OFFSET(W44,-RIGHT($D53,1),0,RIGHT($D53,1),1)),\"ERROR\"))))","v":0},{"$f":"IF(X$24<STANDARD_YEAR,X44,\nIF(RIGHT($D53,1)>RIGHT('Efficiency Levels'!$C$39,1),X44,\nIF(RIGHT($D53,1)<RIGHT('Efficiency Levels'!$C$39,1),0,\nIF(RIGHT($D53,1)=RIGHT('Efficiency Levels'!$C$39,1),SUM(OFFSET(X44,-RIGHT($D53,1),0,RIGHT($D53,1),1)),\"ERROR\"))))","v":0},{"$f":"IF(Y$24<STANDARD_YEAR,Y44,\nIF(RIGHT($D53,1)>RIGHT('Efficiency Levels'!$C$39,1),Y44,\nIF(RIGHT($D53,1)<RIGHT('Efficiency Levels'!$C$39,1),0,\nIF(RIGHT($D53,1)=RIGHT('Efficiency Levels'!$C$39,1),SUM(OFFSET(Y44,-RIGHT($D53,1),0,RIGHT($D53,1),1)),\"ERROR\"))))","v":0},{"$f":"IF(Z$24<STANDARD_YEAR,Z44,\nIF(RIGHT($D53,1)>RIGHT('Efficiency Levels'!$C$39,1),Z44,\nIF(RIGHT($D53,1)<RIGHT('Efficiency Levels'!$C$39,1),0,\nIF(RIGHT($D53,1)=RIGHT('Efficiency Levels'!$C$39,1),SUM(OFFSET(Z44,-RIGHT($D53,1),0,RIGHT($D53,1),1)),\"ERROR\"))))","v":0},{"$f":"IF(AA$24<STANDARD_YEAR,AA44,\nIF(RIGHT($D53,1)>RIGHT('Efficiency Levels'!$C$39,1),AA44,\nIF(RIGHT($D53,1)<RIGHT('Efficiency Levels'!$C$39,1),0,\nIF(RIGHT($D53,1)=RIGHT('Efficiency Levels'!$C$39,1),SUM(OFFSET(AA44,-RIGHT($D53,1),0,RIGHT($D53,1),1)),\"ERROR\"))))","v":0},{"$f":"IF(AB$24<STANDARD_YEAR,AB44,\nIF(RIGHT($D53,1)>RIGHT('Efficiency Levels'!$C$39,1),AB44,\nIF(RIGHT($D53,1)<RIGHT('Efficiency Levels'!$C$39,1),0,\nIF(RIGHT($D53,1)=RIGHT('Efficiency Levels'!$C$39,1),SUM(OFFSET(AB44,-RIGHT($D53,1),0,RIGHT($D53,1),1)),\"ERROR\"))))","v":0},{"$f":"IF(AC$24<STANDARD_YEAR,AC44,\nIF(RIGHT($D53,1)>RIGHT('Efficiency Levels'!$C$39,1),AC44,\nIF(RIGHT($D53,1)<RIGHT('Efficiency Levels'!$C$39,1),0,\nIF(RIGHT($D53,1)=RIGHT('Efficiency Levels'!$C$39,1),SUM(OFFSET(AC44,-RIGHT($D53,1),0,RIGHT($D53,1),1)),\"ERROR\"))))","v":0},{"$f":"IF(AD$24<STANDARD_YEAR,AD44,\nIF(RIGHT($D53,1)>RIGHT('Efficiency Levels'!$C$39,1),AD44,\nIF(RIGHT($D53,1)<RIGHT('Efficiency Levels'!$C$39,1),0,\nIF(RIGHT($D53,1)=RIGHT('Efficiency Levels'!$C$39,1),SUM(OFFSET(AD44,-RIGHT($D53,1),0,RIGHT($D53,1),1)),\"ERROR\"))))","v":0},{"$f":"IF(AE$24<STANDARD_YEAR,AE44,\nIF(RIGHT($D53,1)>RIGHT('Efficiency Levels'!$C$39,1),AE44,\nIF(RIGHT($D53,1)<RIGHT('Efficiency Levels'!$C$39,1),0,\nIF(RIGHT($D53,1)=RIGHT('Efficiency Levels'!$C$39,1),SUM(OFFSET(AE44,-RIGHT($D53,1),0,RIGHT($D53,1),1)),\"ERROR\"))))","v":0},{"$f":"IF(AF$24<STANDARD_YEAR,AF44,\nIF(RIGHT($D53,1)>RIGHT('Efficiency Levels'!$C$39,1),AF44,\nIF(RIGHT($D53,1)<RIGHT('Efficiency Levels'!$C$39,1),0,\nIF(RIGHT($D53,1)=RIGHT('Efficiency Levels'!$C$39,1),SUM(OFFSET(AF44,-RIGHT($D53,1),0,RIGHT($D53,1),1)),\"ERROR\"))))","v":0},{"$f":"IF(AG$24<STANDARD_YEAR,AG44,\nIF(RIGHT($D53,1)>RIGHT('Efficiency Levels'!$C$39,1),AG44,\nIF(RIGHT($D53,1)<RIGHT('Efficiency Levels'!$C$39,1),0,\nIF(RIGHT($D53,1)=RIGHT('Efficiency Levels'!$C$39,1),SUM(OFFSET(AG44,-RIGHT($D53,1),0,RIGHT($D53,1),1)),\"ERROR\"))))","v":0},{"$f":"IF(AH$24<STANDARD_YEAR,AH44,\nIF(RIGHT($D53,1)>RIGHT('Efficiency Levels'!$C$39,1),AH44,\nIF(RIGHT($D53,1)<RIGHT('Efficiency Levels'!$C$39,1),0,\nIF(RIGHT($D53,1)=RIGHT('Efficiency Levels'!$C$39,1),SUM(OFFSET(AH44,-RIGHT($D53,1),0,RIGHT($D53,1),1)),\"ERROR\"))))","v":0},{"$f":"IF(AI$24<STANDARD_YEAR,AI44,\nIF(RIGHT($D53,1)>RIGHT('Efficiency Levels'!$C$39,1),AI44,\nIF(RIGHT($D53,1)<RIGHT('Efficiency Levels'!$C$39,1),0,\nIF(RIGHT($D53,1)=RIGHT('Efficiency Levels'!$C$39,1),SUM(OFFSET(AI44,-RIGHT($D53,1),0,RIGHT($D53,1),1)),\"ERROR\"))))","v":0},{"$f":"IF(AJ$24<STANDARD_YEAR,AJ44,\nIF(RIGHT($D53,1)>RIGHT('Efficiency Levels'!$C$39,1),AJ44,\nIF(RIGHT($D53,1)<RIGHT('Efficiency Levels'!$C$39,1),0,\nIF(RIGHT($D53,1)=RIGHT('Efficiency Levels'!$C$39,1),SUM(OFFSET(AJ44,-RIGHT($D53,1),0,RIGHT($D53,1),1)),\"ERROR\"))))","v":0},{"$f":"IF(AK$24<STANDARD_YEAR,AK44,\nIF(RIGHT($D53,1)>RIGHT('Efficiency Levels'!$C$39,1),AK44,\nIF(RIGHT($D53,1)<RIGHT('Efficiency Levels'!$C$39,1),0,\nIF(RIGHT($D53,1)=RIGHT('Efficiency Levels'!$C$39,1),SUM(OFFSET(AK44,-RIGHT($D53,1),0,RIGHT($D53,1),1)),\"ERROR\"))))","v":0},{"$f":"IF(AL$24<STANDARD_YEAR,AL44,\nIF(RIGHT($D53,1)>RIGHT('Efficiency Levels'!$C$39,1),AL44,\nIF(RIGHT($D53,1)<RIGHT('Efficiency Levels'!$C$39,1),0,\nIF(RIGHT($D53,1)=RIGHT('Efficiency Levels'!$C$39,1),SUM(OFFSET(AL44,-RIGHT($D53,1),0,RIGHT($D53,1),1)),\"ERROR\"))))","v":0},{"$f":"IF(AM$24<STANDARD_YEAR,AM44,\nIF(RIGHT($D53,1)>RIGHT('Efficiency Levels'!$C$39,1),AM44,\nIF(RIGHT($D53,1)<RIGHT('Efficiency Levels'!$C$39,1),0,\nIF(RIGHT($D53,1)=RIGHT('Efficiency Levels'!$C$39,1),SUM(OFFSET(AM44,-RIGHT($D53,1),0,RIGHT($D53,1),1)),\"ERROR\"))))","v":0},{"$f":"IF(AN$24<STANDARD_YEAR,AN44,\nIF(RIGHT($D53,1)>RIGHT('Efficiency Levels'!$C$39,1),AN44,\nIF(RIGHT($D53,1)<RIGHT('Efficiency Levels'!$C$39,1),0,\nIF(RIGHT($D53,1)=RIGHT('Efficiency Levels'!$C$39,1),SUM(OFFSET(AN44,-RIGHT($D53,1),0,RIGHT($D53,1),1)),\"ERROR\"))))","v":0},{"$f":"IF(AO$24<STANDARD_YEAR,AO44,\nIF(RIGHT($D53,1)>RIGHT('Efficiency Levels'!$C$39,1),AO44,\nIF(RIGHT($D53,1)<RIGHT('Efficiency Levels'!$C$39,1),0,\nIF(RIGHT($D53,1)=RIGHT('Efficiency Levels'!$C$39,1),SUM(OFFSET(AO44,-RIGHT($D53,1),0,RIGHT($D53,1),1)),\"ERROR\"))))","v":0},{"$f":"IF(AP$24<STANDARD_YEAR,AP44,\nIF(RIGHT($D53,1)>RIGHT('Efficiency Levels'!$C$39,1),AP44,\nIF(RIGHT($D53,1)<RIGHT('Efficiency Levels'!$C$39,1),0,\nIF(RIGHT($D53,1)=RIGHT('Efficiency Levels'!$C$39,1),SUM(OFFSET(AP44,-RIGHT($D53,1),0,RIGHT($D53,1),1)),\"ERROR\"))))","v":0},{"$f":"IF(AQ$24<STANDARD_YEAR,AQ44,\nIF(RIGHT($D53,1)>RIGHT('Efficiency Levels'!$C$39,1),AQ44,\nIF(RIGHT($D53,1)<RIGHT('Efficiency Levels'!$C$39,1),0,\nIF(RIGHT($D53,1)=RIGHT('Efficiency Levels'!$C$39,1),SUM(OFFSET(AQ44,-RIGHT($D53,1),0,RIGHT($D53,1),1)),\"ERROR\"))))","v":0},{"$f":"IF(AR$24<STANDARD_YEAR,AR44,\nIF(RIGHT($D53,1)>RIGHT('Efficiency Levels'!$C$39,1),AR44,\nIF(RIGHT($D53,1)<RIGHT('Efficiency Levels'!$C$39,1),0,\nIF(RIGHT($D53,1)=RIGHT('Efficiency Levels'!$C$39,1),SUM(OFFSET(AR44,-RIGHT($D53,1),0,RIGHT($D53,1),1)),\"ERROR\"))))","v":0},{"$f":"IF(AS$24<STANDARD_YEAR,AS44,\nIF(RIGHT($D53,1)>RIGHT('Efficiency Levels'!$C$39,1),AS44,\nIF(RIGHT($D53,1)<RIGHT('Efficiency Levels'!$C$39,1),0,\nIF(RIGHT($D53,1)=RIGHT('Efficiency Levels'!$C$39,1),SUM(OFFSET(AS44,-RIGHT($D53,1),0,RIGHT($D53,1),1)),\"ERROR\"))))","v":0},{"$f":"IF(AT$24<STANDARD_YEAR,AT44,\nIF(RIGHT($D53,1)>RIGHT('Efficiency Levels'!$C$39,1),AT44,\nIF(RIGHT($D53,1)<RIGHT('Efficiency Levels'!$C$39,1),0,\nIF(RIGHT($D53,1)=RIGHT('Efficiency Levels'!$C$39,1),SUM(OFFSET(AT44,-RIGHT($D53,1),0,RIGHT($D53,1),1)),\"ERROR\"))))","v":0},{"$f":"IF(AU$24<STANDARD_YEAR,AU44,\nIF(RIGHT($D53,1)>RIGHT('Efficiency Levels'!$C$39,1),AU44,\nIF(RIGHT($D53,1)<RIGHT('Efficiency Levels'!$C$39,1),0,\nIF(RIGHT($D53,1)=RIGHT('Efficiency Levels'!$C$39,1),SUM(OFFSET(AU44,-RIGHT($D53,1),0,RIGHT($D53,1),1)),\"ERROR\"))))","v":0},{"$f":"IF(AV$24<STANDARD_YEAR,AV44,\nIF(RIGHT($D53,1)>RIGHT('Efficiency Levels'!$C$39,1),AV44,\nIF(RIGHT($D53,1)<RIGHT('Efficiency Levels'!$C$39,1),0,\nIF(RIGHT($D53,1)=RIGHT('Efficiency Levels'!$C$39,1),SUM(OFFSET(AV44,-RIGHT($D53,1),0,RIGHT($D53,1),1)),\"ERROR\"))))","v":0},{"$f":"IF(AW$24<STANDARD_YEAR,AW44,\nIF(RIGHT($D53,1)>RIGHT('Efficiency Levels'!$C$39,1),AW44,\nIF(RIGHT($D53,1)<RIGHT('Efficiency Levels'!$C$39,1),0,\nIF(RIGHT($D53,1)=RIGHT('Efficiency Levels'!$C$39,1),SUM(OFFSET(AW44,-RIGHT($D53,1),0,RIGHT($D53,1),1)),\"ERROR\"))))","v":0},{"$f":"IF(AX$24<STANDARD_YEAR,AX44,\nIF(RIGHT($D53,1)>RIGHT('Efficiency Levels'!$C$39,1),AX44,\nIF(RIGHT($D53,1)<RIGHT('Efficiency Levels'!$C$39,1),0,\nIF(RIGHT($D53,1)=RIGHT('Efficiency Levels'!$C$39,1),SUM(OFFSET(AX44,-RIGHT($D53,1),0,RIGHT($D53,1),1)),\"ERROR\"))))","v":0},{"$f":"IF(AY$24<STANDARD_YEAR,AY44,\nIF(RIGHT($D53,1)>RIGHT('Efficiency Levels'!$C$39,1),AY44,\nIF(RIGHT($D53,1)<RIGHT('Efficiency Levels'!$C$39,1),0,\nIF(RIGHT($D53,1)=RIGHT('Efficiency Levels'!$C$39,1),SUM(OFFSET(AY44,-RIGHT($D53,1),0,RIGHT($D53,1),1)),\"ERROR\"))))","v":0},{"$f":"IF(AZ$24<STANDARD_YEAR,AZ44,\nIF(RIGHT($D53,1)>RIGHT('Efficiency Levels'!$C$39,1),AZ44,\nIF(RIGHT($D53,1)<RIGHT('Efficiency Levels'!$C$39,1),0,\nIF(RIGHT($D53,1)=RIGHT('Efficiency Levels'!$C$39,1),SUM(OFFSET(AZ44,-RIGHT($D53,1),0,RIGHT($D53,1),1)),\"ERROR\"))))","v":0},{"$f":"IF(BA$24<STANDARD_YEAR,BA44,\nIF(RIGHT($D53,1)>RIGHT('Efficiency Levels'!$C$39,1),BA44,\nIF(RIGHT($D53,1)<RIGHT('Efficiency Levels'!$C$39,1),0,\nIF(RIGHT($D53,1)=RIGHT('Efficiency Levels'!$C$39,1),SUM(OFFSET(BA44,-RIGHT($D53,1),0,RIGHT($D53,1),1)),\"ERROR\"))))","v":0},{"$f":"IF(BB$24<STANDARD_YEAR,BB44,\nIF(RIGHT($D53,1)>RIGHT('Efficiency Levels'!$C$39,1),BB44,\nIF(RIGHT($D53,1)<RIGHT('Efficiency Levels'!$C$39,1),0,\nIF(RIGHT($D53,1)=RIGHT('Efficiency Levels'!$C$39,1),SUM(OFFSET(BB44,-RIGHT($D53,1),0,RIGHT($D53,1),1)),\"ERROR\"))))","v":0},{"$f":"IF(BC$24<STANDARD_YEAR,BC44,\nIF(RIGHT($D53,1)>RIGHT('Efficiency Levels'!$C$39,1),BC44,\nIF(RIGHT($D53,1)<RIGHT('Efficiency Levels'!$C$39,1),0,\nIF(RIGHT($D53,1)=RIGHT('Efficiency Levels'!$C$39,1),SUM(OFFSET(BC44,-RIGHT($D53,1),0,RIGHT($D53,1),1)),\"ERROR\"))))","v":0},{"$f":"IF(BD$24<STANDARD_YEAR,BD44,\nIF(RIGHT($D53,1)>RIGHT('Efficiency Levels'!$C$39,1),BD44,\nIF(RIGHT($D53,1)<RIGHT('Efficiency Levels'!$C$39,1),0,\nIF(RIGHT($D53,1)=RIGHT('Efficiency Levels'!$C$39,1),SUM(OFFSET(BD44,-RIGHT($D53,1),0,RIGHT($D53,1),1)),\"ERROR\"))))","v":0},{"$f":"IF(BE$24<STANDARD_YEAR,BE44,\nIF(RIGHT($D53,1)>RIGHT('Efficiency Levels'!$C$39,1),BE44,\nIF(RIGHT($D53,1)<RIGHT('Efficiency Levels'!$C$39,1),0,\nIF(RIGHT($D53,1)=RIGHT('Efficiency Levels'!$C$39,1),SUM(OFFSET(BE44,-RIGHT($D53,1),0,RIGHT($D53,1),1)),\"ERROR\"))))","v":0},{"$f":"IF(BF$24<STANDARD_YEAR,BF44,\nIF(RIGHT($D53,1)>RIGHT('Efficiency Levels'!$C$39,1),BF44,\nIF(RIGHT($D53,1)<RIGHT('Efficiency Levels'!$C$39,1),0,\nIF(RIGHT($D53,1)=RIGHT('Efficiency Levels'!$C$39,1),SUM(OFFSET(BF44,-RIGHT($D53,1),0,RIGHT($D53,1),1)),\"ERROR\"))))","v":0},{"$f":"IF(BG$24<STANDARD_YEAR,BG44,\nIF(RIGHT($D53,1)>RIGHT('Efficiency Levels'!$C$39,1),BG44,\nIF(RIGHT($D53,1)<RIGHT('Efficiency Levels'!$C$39,1),0,\nIF(RIGHT($D53,1)=RIGHT('Efficiency Levels'!$C$39,1),SUM(OFFSET(BG44,-RIGHT($D53,1),0,RIGHT($D53,1),1)),\"ERROR\"))))","v":0},{"$f":"IF(BH$24<STANDARD_YEAR,BH44,\nIF(RIGHT($D53,1)>RIGHT('Efficiency Levels'!$C$39,1),BH44,\nIF(RIGHT($D53,1)<RIGHT('Efficiency Levels'!$C$39,1),0,\nIF(RIGHT($D53,1)=RIGHT('Efficiency Levels'!$C$39,1),SUM(OFFSET(BH44,-RIGHT($D53,1),0,RIGHT($D53,1),1)),\"ERROR\"))))","v":0},{"$f":"IF(BI$24<STANDARD_YEAR,BI44,\nIF(RIGHT($D53,1)>RIGHT('Efficiency Levels'!$C$39,1),BI44,\nIF(RIGHT($D53,1)<RIGHT('Efficiency Levels'!$C$39,1),0,\nIF(RIGHT($D53,1)=RIGHT('Efficiency Levels'!$C$39,1),SUM(OFFSET(BI44,-RIGHT($D53,1),0,RIGHT($D53,1),1)),\"ERROR\"))))","v":0},{"$f":"IF(BJ$24<STANDARD_YEAR,BJ44,\nIF(RIGHT($D53,1)>RIGHT('Efficiency Levels'!$C$39,1),BJ44,\nIF(RIGHT($D53,1)<RIGHT('Efficiency Levels'!$C$39,1),0,\nIF(RIGHT($D53,1)=RIGHT('Efficiency Levels'!$C$39,1),SUM(OFFSET(BJ44,-RIGHT($D53,1),0,RIGHT($D53,1),1)),\"ERROR\"))))","v":0}]
[null,null,null,"EL2",{"$f":"OFFSET('Efficiency Levels'!$D$11,MATCH($C$39,'Efficiency Levels'!$C$9:$C$1002,0)+RIGHT(D54,1),0)","v":317},null,null,null,{"$f":"IF(I$24<STANDARD_YEAR,I45,\nIF(RIGHT($D54,1)>RIGHT('Efficiency Levels'!$C$39,1),I45,\nIF(RIGHT($D54,1)<RIGHT('Efficiency Levels'!$C$39,1),0,\nIF(RIGHT($D54,1)=RIGHT('Efficiency Levels'!$C$39,1),SUM(OFFSET(I45,-RIGHT($D54,1),0,RIGHT($D54,1),1)),\"ERROR\"))))","v":0},{"$f":"IF(J$24<STANDARD_YEAR,J45,\nIF(RIGHT($D54,1)>RIGHT('Efficiency Levels'!$C$39,1),J45,\nIF(RIGHT($D54,1)<RIGHT('Efficiency Levels'!$C$39,1),0,\nIF(RIGHT($D54,1)=RIGHT('Efficiency Levels'!$C$39,1),SUM(OFFSET(J45,-RIGHT($D54,1),0,RIGHT($D54,1),1)),\"ERROR\"))))","v":0},{"$f":"IF(K$24<STANDARD_YEAR,K45,\nIF(RIGHT($D54,1)>RIGHT('Efficiency Levels'!$C$39,1),K45,\nIF(RIGHT($D54,1)<RIGHT('Efficiency Levels'!$C$39,1),0,\nIF(RIGHT($D54,1)=RIGHT('Efficiency Levels'!$C$39,1),SUM(OFFSET(K45,-RIGHT($D54,1),0,RIGHT($D54,1),1)),\"ERROR\"))))","v":0},{"$f":"IF(L$24<STANDARD_YEAR,L45,\nIF(RIGHT($D54,1)>RIGHT('Efficiency Levels'!$C$39,1),L45,\nIF(RIGHT($D54,1)<RIGHT('Efficiency Levels'!$C$39,1),0,\nIF(RIGHT($D54,1)=RIGHT('Efficiency Levels'!$C$39,1),SUM(OFFSET(L45,-RIGHT($D54,1),0,RIGHT($D54,1),1)),\"ERROR\"))))","v":0},{"$f":"IF(M$24<STANDARD_YEAR,M45,\nIF(RIGHT($D54,1)>RIGHT('Efficiency Levels'!$C$39,1),M45,\nIF(RIGHT($D54,1)<RIGHT('Efficiency Levels'!$C$39,1),0,\nIF(RIGHT($D54,1)=RIGHT('Efficiency Levels'!$C$39,1),SUM(OFFSET(M45,-RIGHT($D54,1),0,RIGHT($D54,1),1)),\"ERROR\"))))","v":0},{"$f":"IF(N$24<STANDARD_YEAR,N45,\nIF(RIGHT($D54,1)>RIGHT('Efficiency Levels'!$C$39,1),N45,\nIF(RIGHT($D54,1)<RIGHT('Efficiency Levels'!$C$39,1),0,\nIF(RIGHT($D54,1)=RIGHT('Efficiency Levels'!$C$39,1),SUM(OFFSET(N45,-RIGHT($D54,1),0,RIGHT($D54,1),1)),\"ERROR\"))))","v":0},{"$f":"IF(O$24<STANDARD_YEAR,O45,\nIF(RIGHT($D54,1)>RIGHT('Efficiency Levels'!$C$39,1),O45,\nIF(RIGHT($D54,1)<RIGHT('Efficiency Levels'!$C$39,1),0,\nIF(RIGHT($D54,1)=RIGHT('Efficiency Levels'!$C$39,1),SUM(OFFSET(O45,-RIGHT($D54,1),0,RIGHT($D54,1),1)),\"ERROR\"))))","v":0},{"$f":"IF(P$24<STANDARD_YEAR,P45,\nIF(RIGHT($D54,1)>RIGHT('Efficiency Levels'!$C$39,1),P45,\nIF(RIGHT($D54,1)<RIGHT('Efficiency Levels'!$C$39,1),0,\nIF(RIGHT($D54,1)=RIGHT('Efficiency Levels'!$C$39,1),SUM(OFFSET(P45,-RIGHT($D54,1),0,RIGHT($D54,1),1)),\"ERROR\"))))","v":0},{"$f":"IF(Q$24<STANDARD_YEAR,Q45,\nIF(RIGHT($D54,1)>RIGHT('Efficiency Levels'!$C$39,1),Q45,\nIF(RIGHT($D54,1)<RIGHT('Efficiency Levels'!$C$39,1),0,\nIF(RIGHT($D54,1)=RIGHT('Efficiency Levels'!$C$39,1),SUM(OFFSET(Q45,-RIGHT($D54,1),0,RIGHT($D54,1),1)),\"ERROR\"))))","v":0},{"$f":"IF(R$24<STANDARD_YEAR,R45,\nIF(RIGHT($D54,1)>RIGHT('Efficiency Levels'!$C$39,1),R45,\nIF(RIGHT($D54,1)<RIGHT('Efficiency Levels'!$C$39,1),0,\nIF(RIGHT($D54,1)=RIGHT('Efficiency Levels'!$C$39,1),SUM(OFFSET(R45,-RIGHT($D54,1),0,RIGHT($D54,1),1)),\"ERROR\"))))","v":0},{"$f":"IF(S$24<STANDARD_YEAR,S45,\nIF(RIGHT($D54,1)>RIGHT('Efficiency Levels'!$C$39,1),S45,\nIF(RIGHT($D54,1)<RIGHT('Efficiency Levels'!$C$39,1),0,\nIF(RIGHT($D54,1)=RIGHT('Efficiency Levels'!$C$39,1),SUM(OFFSET(S45,-RIGHT($D54,1),0,RIGHT($D54,1),1)),\"ERROR\"))))","v":0},{"$f":"IF(T$24<STANDARD_YEAR,T45,\nIF(RIGHT($D54,1)>RIGHT('Efficiency Levels'!$C$39,1),T45,\nIF(RIGHT($D54,1)<RIGHT('Efficiency Levels'!$C$39,1),0,\nIF(RIGHT($D54,1)=RIGHT('Efficiency Levels'!$C$39,1),SUM(OFFSET(T45,-RIGHT($D54,1),0,RIGHT($D54,1),1)),\"ERROR\"))))","v":0},{"$f":"IF(U$24<STANDARD_YEAR,U45,\nIF(RIGHT($D54,1)>RIGHT('Efficiency Levels'!$C$39,1),U45,\nIF(RIGHT($D54,1)<RIGHT('Efficiency Levels'!$C$39,1),0,\nIF(RIGHT($D54,1)=RIGHT('Efficiency Levels'!$C$39,1),SUM(OFFSET(U45,-RIGHT($D54,1),0,RIGHT($D54,1),1)),\"ERROR\"))))","v":0},{"$f":"IF(V$24<STANDARD_YEAR,V45,\nIF(RIGHT($D54,1)>RIGHT('Efficiency Levels'!$C$39,1),V45,\nIF(RIGHT($D54,1)<RIGHT('Efficiency Levels'!$C$39,1),0,\nIF(RIGHT($D54,1)=RIGHT('Efficiency Levels'!$C$39,1),SUM(OFFSET(V45,-RIGHT($D54,1),0,RIGHT($D54,1),1)),\"ERROR\"))))","v":0},{"$f":"IF(W$24<STANDARD_YEAR,W45,\nIF(RIGHT($D54,1)>RIGHT('Efficiency Levels'!$C$39,1),W45,\nIF(RIGHT($D54,1)<RIGHT('Efficiency Levels'!$C$39,1),0,\nIF(RIGHT($D54,1)=RIGHT('Efficiency Levels'!$C$39,1),SUM(OFFSET(W45,-RIGHT($D54,1),0,RIGHT($D54,1),1)),\"ERROR\"))))","v":0},{"$f":"IF(X$24<STANDARD_YEAR,X45,\nIF(RIGHT($D54,1)>RIGHT('Efficiency Levels'!$C$39,1),X45,\nIF(RIGHT($D54,1)<RIGHT('Efficiency Levels'!$C$39,1),0,\nIF(RIGHT($D54,1)=RIGHT('Efficiency Levels'!$C$39,1),SUM(OFFSET(X45,-RIGHT($D54,1),0,RIGHT($D54,1),1)),\"ERROR\"))))","v":0},{"$f":"IF(Y$24<STANDARD_YEAR,Y45,\nIF(RIGHT($D54,1)>RIGHT('Efficiency Levels'!$C$39,1),Y45,\nIF(RIGHT($D54,1)<RIGHT('Efficiency Levels'!$C$39,1),0,\nIF(RIGHT($D54,1)=RIGHT('Efficiency Levels'!$C$39,1),SUM(OFFSET(Y45,-RIGHT($D54,1),0,RIGHT($D54,1),1)),\"ERROR\"))))","v":0},{"$f":"IF(Z$24<STANDARD_YEAR,Z45,\nIF(RIGHT($D54,1)>RIGHT('Efficiency Levels'!$C$39,1),Z45,\nIF(RIGHT($D54,1)<RIGHT('Efficiency Levels'!$C$39,1),0,\nIF(RIGHT($D54,1)=RIGHT('Efficiency Levels'!$C$39,1),SUM(OFFSET(Z45,-RIGHT($D54,1),0,RIGHT($D54,1),1)),\"ERROR\"))))","v":0},{"$f":"IF(AA$24<STANDARD_YEAR,AA45,\nIF(RIGHT($D54,1)>RIGHT('Efficiency Levels'!$C$39,1),AA45,\nIF(RIGHT($D54,1)<RIGHT('Efficiency Levels'!$C$39,1),0,\nIF(RIGHT($D54,1)=RIGHT('Efficiency Levels'!$C$39,1),SUM(OFFSET(AA45,-RIGHT($D54,1),0,RIGHT($D54,1),1)),\"ERROR\"))))","v":0},{"$f":"IF(AB$24<STANDARD_YEAR,AB45,\nIF(RIGHT($D54,1)>RIGHT('Efficiency Levels'!$C$39,1),AB45,\nIF(RIGHT($D54,1)<RIGHT('Efficiency Levels'!$C$39,1),0,\nIF(RIGHT($D54,1)=RIGHT('Efficiency Levels'!$C$39,1),SUM(OFFSET(AB45,-RIGHT($D54,1),0,RIGHT($D54,1),1)),\"ERROR\"))))","v":0},{"$f":"IF(AC$24<STANDARD_YEAR,AC45,\nIF(RIGHT($D54,1)>RIGHT('Efficiency Levels'!$C$39,1),AC45,\nIF(RIGHT($D54,1)<RIGHT('Efficiency Levels'!$C$39,1),0,\nIF(RIGHT($D54,1)=RIGHT('Efficiency Levels'!$C$39,1),SUM(OFFSET(AC45,-RIGHT($D54,1),0,RIGHT($D54,1),1)),\"ERROR\"))))","v":0},{"$f":"IF(AD$24<STANDARD_YEAR,AD45,\nIF(RIGHT($D54,1)>RIGHT('Efficiency Levels'!$C$39,1),AD45,\nIF(RIGHT($D54,1)<RIGHT('Efficiency Levels'!$C$39,1),0,\nIF(RIGHT($D54,1)=RIGHT('Efficiency Levels'!$C$39,1),SUM(OFFSET(AD45,-RIGHT($D54,1),0,RIGHT($D54,1),1)),\"ERROR\"))))","v":0},{"$f":"IF(AE$24<STANDARD_YEAR,AE45,\nIF(RIGHT($D54,1)>RIGHT('Efficiency Levels'!$C$39,1),AE45,\nIF(RIGHT($D54,1)<RIGHT('Efficiency Levels'!$C$39,1),0,\nIF(RIGHT($D54,1)=RIGHT('Efficiency Levels'!$C$39,1),SUM(OFFSET(AE45,-RIGHT($D54,1),0,RIGHT($D54,1),1)),\"ERROR\"))))","v":0},{"$f":"IF(AF$24<STANDARD_YEAR,AF45,\nIF(RIGHT($D54,1)>RIGHT('Efficiency Levels'!$C$39,1),AF45,\nIF(RIGHT($D54,1)<RIGHT('Efficiency Levels'!$C$39,1),0,\nIF(RIGHT($D54,1)=RIGHT('Efficiency Levels'!$C$39,1),SUM(OFFSET(AF45,-RIGHT($D54,1),0,RIGHT($D54,1),1)),\"ERROR\"))))","v":0},{"$f":"IF(AG$24<STANDARD_YEAR,AG45,\nIF(RIGHT($D54,1)>RIGHT('Efficiency Levels'!$C$39,1),AG45,\nIF(RIGHT($D54,1)<RIGHT('Efficiency Levels'!$C$39,1),0,\nIF(RIGHT($D54,1)=RIGHT('Efficiency Levels'!$C$39,1),SUM(OFFSET(AG45,-RIGHT($D54,1),0,RIGHT($D54,1),1)),\"ERROR\"))))","v":0},{"$f":"IF(AH$24<STANDARD_YEAR,AH45,\nIF(RIGHT($D54,1)>RIGHT('Efficiency Levels'!$C$39,1),AH45,\nIF(RIGHT($D54,1)<RIGHT('Efficiency Levels'!$C$39,1),0,\nIF(RIGHT($D54,1)=RIGHT('Efficiency Levels'!$C$39,1),SUM(OFFSET(AH45,-RIGHT($D54,1),0,RIGHT($D54,1),1)),\"ERROR\"))))","v":0},{"$f":"IF(AI$24<STANDARD_YEAR,AI45,\nIF(RIGHT($D54,1)>RIGHT('Efficiency Levels'!$C$39,1),AI45,\nIF(RIGHT($D54,1)<RIGHT('Efficiency Levels'!$C$39,1),0,\nIF(RIGHT($D54,1)=RIGHT('Efficiency Levels'!$C$39,1),SUM(OFFSET(AI45,-RIGHT($D54,1),0,RIGHT($D54,1),1)),\"ERROR\"))))","v":0},{"$f":"IF(AJ$24<STANDARD_YEAR,AJ45,\nIF(RIGHT($D54,1)>RIGHT('Efficiency Levels'!$C$39,1),AJ45,\nIF(RIGHT($D54,1)<RIGHT('Efficiency Levels'!$C$39,1),0,\nIF(RIGHT($D54,1)=RIGHT('Efficiency Levels'!$C$39,1),SUM(OFFSET(AJ45,-RIGHT($D54,1),0,RIGHT($D54,1),1)),\"ERROR\"))))","v":0},{"$f":"IF(AK$24<STANDARD_YEAR,AK45,\nIF(RIGHT($D54,1)>RIGHT('Efficiency Levels'!$C$39,1),AK45,\nIF(RIGHT($D54,1)<RIGHT('Efficiency Levels'!$C$39,1),0,\nIF(RIGHT($D54,1)=RIGHT('Efficiency Levels'!$C$39,1),SUM(OFFSET(AK45,-RIGHT($D54,1),0,RIGHT($D54,1),1)),\"ERROR\"))))","v":0},{"$f":"IF(AL$24<STANDARD_YEAR,AL45,\nIF(RIGHT($D54,1)>RIGHT('Efficiency Levels'!$C$39,1),AL45,\nIF(RIGHT($D54,1)<RIGHT('Efficiency Levels'!$C$39,1),0,\nIF(RIGHT($D54,1)=RIGHT('Efficiency Levels'!$C$39,1),SUM(OFFSET(AL45,-RIGHT($D54,1),0,RIGHT($D54,1),1)),\"ERROR\"))))","v":0},{"$f":"IF(AM$24<STANDARD_YEAR,AM45,\nIF(RIGHT($D54,1)>RIGHT('Efficiency Levels'!$C$39,1),AM45,\nIF(RIGHT($D54,1)<RIGHT('Efficiency Levels'!$C$39,1),0,\nIF(RIGHT($D54,1)=RIGHT('Efficiency Levels'!$C$39,1),SUM(OFFSET(AM45,-RIGHT($D54,1),0,RIGHT($D54,1),1)),\"ERROR\"))))","v":0},{"$f":"IF(AN$24<STANDARD_YEAR,AN45,\nIF(RIGHT($D54,1)>RIGHT('Efficiency Levels'!$C$39,1),AN45,\nIF(RIGHT($D54,1)<RIGHT('Efficiency Levels'!$C$39,1),0,\nIF(RIGHT($D54,1)=RIGHT('Efficiency Levels'!$C$39,1),SUM(OFFSET(AN45,-RIGHT($D54,1),0,RIGHT($D54,1),1)),\"ERROR\"))))","v":0},{"$f":"IF(AO$24<STANDARD_YEAR,AO45,\nIF(RIGHT($D54,1)>RIGHT('Efficiency Levels'!$C$39,1),AO45,\nIF(RIGHT($D54,1)<RIGHT('Efficiency Levels'!$C$39,1),0,\nIF(RIGHT($D54,1)=RIGHT('Efficiency Levels'!$C$39,1),SUM(OFFSET(AO45,-RIGHT($D54,1),0,RIGHT($D54,1),1)),\"ERROR\"))))","v":0},{"$f":"IF(AP$24<STANDARD_YEAR,AP45,\nIF(RIGHT($D54,1)>RIGHT('Efficiency Levels'!$C$39,1),AP45,\nIF(RIGHT($D54,1)<RIGHT('Efficiency Levels'!$C$39,1),0,\nIF(RIGHT($D54,1)=RIGHT('Efficiency Levels'!$C$39,1),SUM(OFFSET(AP45,-RIGHT($D54,1),0,RIGHT($D54,1),1)),\"ERROR\"))))","v":0},{"$f":"IF(AQ$24<STANDARD_YEAR,AQ45,\nIF(RIGHT($D54,1)>RIGHT('Efficiency Levels'!$C$39,1),AQ45,\nIF(RIGHT($D54,1)<RIGHT('Efficiency Levels'!$C$39,1),0,\nIF(RIGHT($D54,1)=RIGHT('Efficiency Levels'!$C$39,1),SUM(OFFSET(AQ45,-RIGHT($D54,1),0,RIGHT($D54,1),1)),\"ERROR\"))))","v":0},{"$f":"IF(AR$24<STANDARD_YEAR,AR45,\nIF(RIGHT($D54,1)>RIGHT('Efficiency Levels'!$C$39,1),AR45,\nIF(RIGHT($D54,1)<RIGHT('Efficiency Levels'!$C$39,1),0,\nIF(RIGHT($D54,1)=RIGHT('Efficiency Levels'!$C$39,1),SUM(OFFSET(AR45,-RIGHT($D54,1),0,RIGHT($D54,1),1)),\"ERROR\"))))","v":0},{"$f":"IF(AS$24<STANDARD_YEAR,AS45,\nIF(RIGHT($D54,1)>RIGHT('Efficiency Levels'!$C$39,1),AS45,\nIF(RIGHT($D54,1)<RIGHT('Efficiency Levels'!$C$39,1),0,\nIF(RIGHT($D54,1)=RIGHT('Efficiency Levels'!$C$39,1),SUM(OFFSET(AS45,-RIGHT($D54,1),0,RIGHT($D54,1),1)),\"ERROR\"))))","v":0},{"$f":"IF(AT$24<STANDARD_YEAR,AT45,\nIF(RIGHT($D54,1)>RIGHT('Efficiency Levels'!$C$39,1),AT45,\nIF(RIGHT($D54,1)<RIGHT('Efficiency Levels'!$C$39,1),0,\nIF(RIGHT($D54,1)=RIGHT('Efficiency Levels'!$C$39,1),SUM(OFFSET(AT45,-RIGHT($D54,1),0,RIGHT($D54,1),1)),\"ERROR\"))))","v":0},{"$f":"IF(AU$24<STANDARD_YEAR,AU45,\nIF(RIGHT($D54,1)>RIGHT('Efficiency Levels'!$C$39,1),AU45,\nIF(RIGHT($D54,1)<RIGHT('Efficiency Levels'!$C$39,1),0,\nIF(RIGHT($D54,1)=RIGHT('Efficiency Levels'!$C$39,1),SUM(OFFSET(AU45,-RIGHT($D54,1),0,RIGHT($D54,1),1)),\"ERROR\"))))","v":0},{"$f":"IF(AV$24<STANDARD_YEAR,AV45,\nIF(RIGHT($D54,1)>RIGHT('Efficiency Levels'!$C$39,1),AV45,\nIF(RIGHT($D54,1)<RIGHT('Efficiency Levels'!$C$39,1),0,\nIF(RIGHT($D54,1)=RIGHT('Efficiency Levels'!$C$39,1),SUM(OFFSET(AV45,-RIGHT($D54,1),0,RIGHT($D54,1),1)),\"ERROR\"))))","v":0},{"$f":"IF(AW$24<STANDARD_YEAR,AW45,\nIF(RIGHT($D54,1)>RIGHT('Efficiency Levels'!$C$39,1),AW45,\nIF(RIGHT($D54,1)<RIGHT('Efficiency Levels'!$C$39,1),0,\nIF(RIGHT($D54,1)=RIGHT('Efficiency Levels'!$C$39,1),SUM(OFFSET(AW45,-RIGHT($D54,1),0,RIGHT($D54,1),1)),\"ERROR\"))))","v":0},{"$f":"IF(AX$24<STANDARD_YEAR,AX45,\nIF(RIGHT($D54,1)>RIGHT('Efficiency Levels'!$C$39,1),AX45,\nIF(RIGHT($D54,1)<RIGHT('Efficiency Levels'!$C$39,1),0,\nIF(RIGHT($D54,1)=RIGHT('Efficiency Levels'!$C$39,1),SUM(OFFSET(AX45,-RIGHT($D54,1),0,RIGHT($D54,1),1)),\"ERROR\"))))","v":0},{"$f":"IF(AY$24<STANDARD_YEAR,AY45,\nIF(RIGHT($D54,1)>RIGHT('Efficiency Levels'!$C$39,1),AY45,\nIF(RIGHT($D54,1)<RIGHT('Efficiency Levels'!$C$39,1),0,\nIF(RIGHT($D54,1)=RIGHT('Efficiency Levels'!$C$39,1),SUM(OFFSET(AY45,-RIGHT($D54,1),0,RIGHT($D54,1),1)),\"ERROR\"))))","v":0},{"$f":"IF(AZ$24<STANDARD_YEAR,AZ45,\nIF(RIGHT($D54,1)>RIGHT('Efficiency Levels'!$C$39,1),AZ45,\nIF(RIGHT($D54,1)<RIGHT('Efficiency Levels'!$C$39,1),0,\nIF(RIGHT($D54,1)=RIGHT('Efficiency Levels'!$C$39,1),SUM(OFFSET(AZ45,-RIGHT($D54,1),0,RIGHT($D54,1),1)),\"ERROR\"))))","v":0},{"$f":"IF(BA$24<STANDARD_YEAR,BA45,\nIF(RIGHT($D54,1)>RIGHT('Efficiency Levels'!$C$39,1),BA45,\nIF(RIGHT($D54,1)<RIGHT('Efficiency Levels'!$C$39,1),0,\nIF(RIGHT($D54,1)=RIGHT('Efficiency Levels'!$C$39,1),SUM(OFFSET(BA45,-RIGHT($D54,1),0,RIGHT($D54,1),1)),\"ERROR\"))))","v":0},{"$f":"IF(BB$24<STANDARD_YEAR,BB45,\nIF(RIGHT($D54,1)>RIGHT('Efficiency Levels'!$C$39,1),BB45,\nIF(RIGHT($D54,1)<RIGHT('Efficiency Levels'!$C$39,1),0,\nIF(RIGHT($D54,1)=RIGHT('Efficiency Levels'!$C$39,1),SUM(OFFSET(BB45,-RIGHT($D54,1),0,RIGHT($D54,1),1)),\"ERROR\"))))","v":0},{"$f":"IF(BC$24<STANDARD_YEAR,BC45,\nIF(RIGHT($D54,1)>RIGHT('Efficiency Levels'!$C$39,1),BC45,\nIF(RIGHT($D54,1)<RIGHT('Efficiency Levels'!$C$39,1),0,\nIF(RIGHT($D54,1)=RIGHT('Efficiency Levels'!$C$39,1),SUM(OFFSET(BC45,-RIGHT($D54,1),0,RIGHT($D54,1),1)),\"ERROR\"))))","v":0},{"$f":"IF(BD$24<STANDARD_YEAR,BD45,\nIF(RIGHT($D54,1)>RIGHT('Efficiency Levels'!$C$39,1),BD45,\nIF(RIGHT($D54,1)<RIGHT('Efficiency Levels'!$C$39,1),0,\nIF(RIGHT($D54,1)=RIGHT('Efficiency Levels'!$C$39,1),SUM(OFFSET(BD45,-RIGHT($D54,1),0,RIGHT($D54,1),1)),\"ERROR\"))))","v":0},{"$f":"IF(BE$24<STANDARD_YEAR,BE45,\nIF(RIGHT($D54,1)>RIGHT('Efficiency Levels'!$C$39,1),BE45,\nIF(RIGHT($D54,1)<RIGHT('Efficiency Levels'!$C$39,1),0,\nIF(RIGHT($D54,1)=RIGHT('Efficiency Levels'!$C$39,1),SUM(OFFSET(BE45,-RIGHT($D54,1),0,RIGHT($D54,1),1)),\"ERROR\"))))","v":0},{"$f":"IF(BF$24<STANDARD_YEAR,BF45,\nIF(RIGHT($D54,1)>RIGHT('Efficiency Levels'!$C$39,1),BF45,\nIF(RIGHT($D54,1)<RIGHT('Efficiency Levels'!$C$39,1),0,\nIF(RIGHT($D54,1)=RIGHT('Efficiency Levels'!$C$39,1),SUM(OFFSET(BF45,-RIGHT($D54,1),0,RIGHT($D54,1),1)),\"ERROR\"))))","v":0},{"$f":"IF(BG$24<STANDARD_YEAR,BG45,\nIF(RIGHT($D54,1)>RIGHT('Efficiency Levels'!$C$39,1),BG45,\nIF(RIGHT($D54,1)<RIGHT('Efficiency Levels'!$C$39,1),0,\nIF(RIGHT($D54,1)=RIGHT('Efficiency Levels'!$C$39,1),SUM(OFFSET(BG45,-RIGHT($D54,1),0,RIGHT($D54,1),1)),\"ERROR\"))))","v":0},{"$f":"IF(BH$24<STANDARD_YEAR,BH45,\nIF(RIGHT($D54,1)>RIGHT('Efficiency Levels'!$C$39,1),BH45,\nIF(RIGHT($D54,1)<RIGHT('Efficiency Levels'!$C$39,1),0,\nIF(RIGHT($D54,1)=RIGHT('Efficiency Levels'!$C$39,1),SUM(OFFSET(BH45,-RIGHT($D54,1),0,RIGHT($D54,1),1)),\"ERROR\"))))","v":0},{"$f":"IF(BI$24<STANDARD_YEAR,BI45,\nIF(RIGHT($D54,1)>RIGHT('Efficiency Levels'!$C$39,1),BI45,\nIF(RIGHT($D54,1)<RIGHT('Efficiency Levels'!$C$39,1),0,\nIF(RIGHT($D54,1)=RIGHT('Efficiency Levels'!$C$39,1),SUM(OFFSET(BI45,-RIGHT($D54,1),0,RIGHT($D54,1),1)),\"ERROR\"))))","v":0},{"$f":"IF(BJ$24<STANDARD_YEAR,BJ45,\nIF(RIGHT($D54,1)>RIGHT('Efficiency Levels'!$C$39,1),BJ45,\nIF(RIGHT($D54,1)<RIGHT('Efficiency Levels'!$C$39,1),0,\nIF(RIGHT($D54,1)=RIGHT('Efficiency Levels'!$C$39,1),SUM(OFFSET(BJ45,-RIGHT($D54,1),0,RIGHT($D54,1),1)),\"ERROR\"))))","v":0}]
[null,null,null,"EL3",{"$f":"OFFSET('Efficiency Levels'!$D$11,MATCH($C$39,'Efficiency Levels'!$C$9:$C$1002,0)+RIGHT(D55,1),0)","v":312},null,null,null,{"$f":"IF(I$24<STANDARD_YEAR,I46,\nIF(RIGHT($D55,1)>RIGHT('Efficiency Levels'!$C$39,1),I46,\nIF(RIGHT($D55,1)<RIGHT('Efficiency Levels'!$C$39,1),0,\nIF(RIGHT($D55,1)=RIGHT('Efficiency Levels'!$C$39,1),SUM(OFFSET(I46,-RIGHT($D55,1),0,RIGHT($D55,1),1)),\"ERROR\"))))","v":0},{"$f":"IF(J$24<STANDARD_YEAR,J46,\nIF(RIGHT($D55,1)>RIGHT('Efficiency Levels'!$C$39,1),J46,\nIF(RIGHT($D55,1)<RIGHT('Efficiency Levels'!$C$39,1),0,\nIF(RIGHT($D55,1)=RIGHT('Efficiency Levels'!$C$39,1),SUM(OFFSET(J46,-RIGHT($D55,1),0,RIGHT($D55,1),1)),\"ERROR\"))))","v":0},{"$f":"IF(K$24<STANDARD_YEAR,K46,\nIF(RIGHT($D55,1)>RIGHT('Efficiency Levels'!$C$39,1),K46,\nIF(RIGHT($D55,1)<RIGHT('Efficiency Levels'!$C$39,1),0,\nIF(RIGHT($D55,1)=RIGHT('Efficiency Levels'!$C$39,1),SUM(OFFSET(K46,-RIGHT($D55,1),0,RIGHT($D55,1),1)),\"ERROR\"))))","v":0},{"$f":"IF(L$24<STANDARD_YEAR,L46,\nIF(RIGHT($D55,1)>RIGHT('Efficiency Levels'!$C$39,1),L46,\nIF(RIGHT($D55,1)<RIGHT('Efficiency Levels'!$C$39,1),0,\nIF(RIGHT($D55,1)=RIGHT('Efficiency Levels'!$C$39,1),SUM(OFFSET(L46,-RIGHT($D55,1),0,RIGHT($D55,1),1)),\"ERROR\"))))","v":0},{"$f":"IF(M$24<STANDARD_YEAR,M46,\nIF(RIGHT($D55,1)>RIGHT('Efficiency Levels'!$C$39,1),M46,\nIF(RIGHT($D55,1)<RIGHT('Efficiency Levels'!$C$39,1),0,\nIF(RIGHT($D55,1)=RIGHT('Efficiency Levels'!$C$39,1),SUM(OFFSET(M46,-RIGHT($D55,1),0,RIGHT($D55,1),1)),\"ERROR\"))))","v":0},{"$f":"IF(N$24<STANDARD_YEAR,N46,\nIF(RIGHT($D55,1)>RIGHT('Efficiency Levels'!$C$39,1),N46,\nIF(RIGHT($D55,1)<RIGHT('Efficiency Levels'!$C$39,1),0,\nIF(RIGHT($D55,1)=RIGHT('Efficiency Levels'!$C$39,1),SUM(OFFSET(N46,-RIGHT($D55,1),0,RIGHT($D55,1),1)),\"ERROR\"))))","v":0},{"$f":"IF(O$24<STANDARD_YEAR,O46,\nIF(RIGHT($D55,1)>RIGHT('Efficiency Levels'!$C$39,1),O46,\nIF(RIGHT($D55,1)<RIGHT('Efficiency Levels'!$C$39,1),0,\nIF(RIGHT($D55,1)=RIGHT('Efficiency Levels'!$C$39,1),SUM(OFFSET(O46,-RIGHT($D55,1),0,RIGHT($D55,1),1)),\"ERROR\"))))","v":0},{"$f":"IF(P$24<STANDARD_YEAR,P46,\nIF(RIGHT($D55,1)>RIGHT('Efficiency Levels'!$C$39,1),P46,\nIF(RIGHT($D55,1)<RIGHT('Efficiency Levels'!$C$39,1),0,\nIF(RIGHT($D55,1)=RIGHT('Efficiency Levels'!$C$39,1),SUM(OFFSET(P46,-RIGHT($D55,1),0,RIGHT($D55,1),1)),\"ERROR\"))))","v":0},{"$f":"IF(Q$24<STANDARD_YEAR,Q46,\nIF(RIGHT($D55,1)>RIGHT('Efficiency Levels'!$C$39,1),Q46,\nIF(RIGHT($D55,1)<RIGHT('Efficiency Levels'!$C$39,1),0,\nIF(RIGHT($D55,1)=RIGHT('Efficiency Levels'!$C$39,1),SUM(OFFSET(Q46,-RIGHT($D55,1),0,RIGHT($D55,1),1)),\"ERROR\"))))","v":0},{"$f":"IF(R$24<STANDARD_YEAR,R46,\nIF(RIGHT($D55,1)>RIGHT('Efficiency Levels'!$C$39,1),R46,\nIF(RIGHT($D55,1)<RIGHT('Efficiency Levels'!$C$39,1),0,\nIF(RIGHT($D55,1)=RIGHT('Efficiency Levels'!$C$39,1),SUM(OFFSET(R46,-RIGHT($D55,1),0,RIGHT($D55,1),1)),\"ERROR\"))))","v":0},{"$f":"IF(S$24<STANDARD_YEAR,S46,\nIF(RIGHT($D55,1)>RIGHT('Efficiency Levels'!$C$39,1),S46,\nIF(RIGHT($D55,1)<RIGHT('Efficiency Levels'!$C$39,1),0,\nIF(RIGHT($D55,1)=RIGHT('Efficiency Levels'!$C$39,1),SUM(OFFSET(S46,-RIGHT($D55,1),0,RIGHT($D55,1),1)),\"ERROR\"))))","v":0},{"$f":"IF(T$24<STANDARD_YEAR,T46,\nIF(RIGHT($D55,1)>RIGHT('Efficiency Levels'!$C$39,1),T46,\nIF(RIGHT($D55,1)<RIGHT('Efficiency Levels'!$C$39,1),0,\nIF(RIGHT($D55,1)=RIGHT('Efficiency Levels'!$C$39,1),SUM(OFFSET(T46,-RIGHT($D55,1),0,RIGHT($D55,1),1)),\"ERROR\"))))","v":0},{"$f":"IF(U$24<STANDARD_YEAR,U46,\nIF(RIGHT($D55,1)>RIGHT('Efficiency Levels'!$C$39,1),U46,\nIF(RIGHT($D55,1)<RIGHT('Efficiency Levels'!$C$39,1),0,\nIF(RIGHT($D55,1)=RIGHT('Efficiency Levels'!$C$39,1),SUM(OFFSET(U46,-RIGHT($D55,1),0,RIGHT($D55,1),1)),\"ERROR\"))))","v":0},{"$f":"IF(V$24<STANDARD_YEAR,V46,\nIF(RIGHT($D55,1)>RIGHT('Efficiency Levels'!$C$39,1),V46,\nIF(RIGHT($D55,1)<RIGHT('Efficiency Levels'!$C$39,1),0,\nIF(RIGHT($D55,1)=RIGHT('Efficiency Levels'!$C$39,1),SUM(OFFSET(V46,-RIGHT($D55,1),0,RIGHT($D55,1),1)),\"ERROR\"))))","v":0},{"$f":"IF(W$24<STANDARD_YEAR,W46,\nIF(RIGHT($D55,1)>RIGHT('Efficiency Levels'!$C$39,1),W46,\nIF(RIGHT($D55,1)<RIGHT('Efficiency Levels'!$C$39,1),0,\nIF(RIGHT($D55,1)=RIGHT('Efficiency Levels'!$C$39,1),SUM(OFFSET(W46,-RIGHT($D55,1),0,RIGHT($D55,1),1)),\"ERROR\"))))","v":0},{"$f":"IF(X$24<STANDARD_YEAR,X46,\nIF(RIGHT($D55,1)>RIGHT('Efficiency Levels'!$C$39,1),X46,\nIF(RIGHT($D55,1)<RIGHT('Efficiency Levels'!$C$39,1),0,\nIF(RIGHT($D55,1)=RIGHT('Efficiency Levels'!$C$39,1),SUM(OFFSET(X46,-RIGHT($D55,1),0,RIGHT($D55,1),1)),\"ERROR\"))))","v":0},{"$f":"IF(Y$24<STANDARD_YEAR,Y46,\nIF(RIGHT($D55,1)>RIGHT('Efficiency Levels'!$C$39,1),Y46,\nIF(RIGHT($D55,1)<RIGHT('Efficiency Levels'!$C$39,1),0,\nIF(RIGHT($D55,1)=RIGHT('Efficiency Levels'!$C$39,1),SUM(OFFSET(Y46,-RIGHT($D55,1),0,RIGHT($D55,1),1)),\"ERROR\"))))","v":0},{"$f":"IF(Z$24<STANDARD_YEAR,Z46,\nIF(RIGHT($D55,1)>RIGHT('Efficiency Levels'!$C$39,1),Z46,\nIF(RIGHT($D55,1)<RIGHT('Efficiency Levels'!$C$39,1),0,\nIF(RIGHT($D55,1)=RIGHT('Efficiency Levels'!$C$39,1),SUM(OFFSET(Z46,-RIGHT($D55,1),0,RIGHT($D55,1),1)),\"ERROR\"))))","v":0},{"$f":"IF(AA$24<STANDARD_YEAR,AA46,\nIF(RIGHT($D55,1)>RIGHT('Efficiency Levels'!$C$39,1),AA46,\nIF(RIGHT($D55,1)<RIGHT('Efficiency Levels'!$C$39,1),0,\nIF(RIGHT($D55,1)=RIGHT('Efficiency Levels'!$C$39,1),SUM(OFFSET(AA46,-RIGHT($D55,1),0,RIGHT($D55,1),1)),\"ERROR\"))))","v":0},{"$f":"IF(AB$24<STANDARD_YEAR,AB46,\nIF(RIGHT($D55,1)>RIGHT('Efficiency Levels'!$C$39,1),AB46,\nIF(RIGHT($D55,1)<RIGHT('Efficiency Levels'!$C$39,1),0,\nIF(RIGHT($D55,1)=RIGHT('Efficiency Levels'!$C$39,1),SUM(OFFSET(AB46,-RIGHT($D55,1),0,RIGHT($D55,1),1)),\"ERROR\"))))","v":0},{"$f":"IF(AC$24<STANDARD_YEAR,AC46,\nIF(RIGHT($D55,1)>RIGHT('Efficiency Levels'!$C$39,1),AC46,\nIF(RIGHT($D55,1)<RIGHT('Efficiency Levels'!$C$39,1),0,\nIF(RIGHT($D55,1)=RIGHT('Efficiency Levels'!$C$39,1),SUM(OFFSET(AC46,-RIGHT($D55,1),0,RIGHT($D55,1),1)),\"ERROR\"))))","v":0},{"$f":"IF(AD$24<STANDARD_YEAR,AD46,\nIF(RIGHT($D55,1)>RIGHT('Efficiency Levels'!$C$39,1),AD46,\nIF(RIGHT($D55,1)<RIGHT('Efficiency Levels'!$C$39,1),0,\nIF(RIGHT($D55,1)=RIGHT('Efficiency Levels'!$C$39,1),SUM(OFFSET(AD46,-RIGHT($D55,1),0,RIGHT($D55,1),1)),\"ERROR\"))))","v":0},{"$f":"IF(AE$24<STANDARD_YEAR,AE46,\nIF(RIGHT($D55,1)>RIGHT('Efficiency Levels'!$C$39,1),AE46,\nIF(RIGHT($D55,1)<RIGHT('Efficiency Levels'!$C$39,1),0,\nIF(RIGHT($D55,1)=RIGHT('Efficiency Levels'!$C$39,1),SUM(OFFSET(AE46,-RIGHT($D55,1),0,RIGHT($D55,1),1)),\"ERROR\"))))","v":0},{"$f":"IF(AF$24<STANDARD_YEAR,AF46,\nIF(RIGHT($D55,1)>RIGHT('Efficiency Levels'!$C$39,1),AF46,\nIF(RIGHT($D55,1)<RIGHT('Efficiency Levels'!$C$39,1),0,\nIF(RIGHT($D55,1)=RIGHT('Efficiency Levels'!$C$39,1),SUM(OFFSET(AF46,-RIGHT($D55,1),0,RIGHT($D55,1),1)),\"ERROR\"))))","v":0},{"$f":"IF(AG$24<STANDARD_YEAR,AG46,\nIF(RIGHT($D55,1)>RIGHT('Efficiency Levels'!$C$39,1),AG46,\nIF(RIGHT($D55,1)<RIGHT('Efficiency Levels'!$C$39,1),0,\nIF(RIGHT($D55,1)=RIGHT('Efficiency Levels'!$C$39,1),SUM(OFFSET(AG46,-RIGHT($D55,1),0,RIGHT($D55,1),1)),\"ERROR\"))))","v":0},{"$f":"IF(AH$24<STANDARD_YEAR,AH46,\nIF(RIGHT($D55,1)>RIGHT('Efficiency Levels'!$C$39,1),AH46,\nIF(RIGHT($D55,1)<RIGHT('Efficiency Levels'!$C$39,1),0,\nIF(RIGHT($D55,1)=RIGHT('Efficiency Levels'!$C$39,1),SUM(OFFSET(AH46,-RIGHT($D55,1),0,RIGHT($D55,1),1)),\"ERROR\"))))","v":0},{"$f":"IF(AI$24<STANDARD_YEAR,AI46,\nIF(RIGHT($D55,1)>RIGHT('Efficiency Levels'!$C$39,1),AI46,\nIF(RIGHT($D55,1)<RIGHT('Efficiency Levels'!$C$39,1),0,\nIF(RIGHT($D55,1)=RIGHT('Efficiency Levels'!$C$39,1),SUM(OFFSET(AI46,-RIGHT($D55,1),0,RIGHT($D55,1),1)),\"ERROR\"))))","v":0},{"$f":"IF(AJ$24<STANDARD_YEAR,AJ46,\nIF(RIGHT($D55,1)>RIGHT('Efficiency Levels'!$C$39,1),AJ46,\nIF(RIGHT($D55,1)<RIGHT('Efficiency Levels'!$C$39,1),0,\nIF(RIGHT($D55,1)=RIGHT('Efficiency Levels'!$C$39,1),SUM(OFFSET(AJ46,-RIGHT($D55,1),0,RIGHT($D55,1),1)),\"ERROR\"))))","v":0},{"$f":"IF(AK$24<STANDARD_YEAR,AK46,\nIF(RIGHT($D55,1)>RIGHT('Efficiency Levels'!$C$39,1),AK46,\nIF(RIGHT($D55,1)<RIGHT('Efficiency Levels'!$C$39,1),0,\nIF(RIGHT($D55,1)=RIGHT('Efficiency Levels'!$C$39,1),SUM(OFFSET(AK46,-RIGHT($D55,1),0,RIGHT($D55,1),1)),\"ERROR\"))))","v":0},{"$f":"IF(AL$24<STANDARD_YEAR,AL46,\nIF(RIGHT($D55,1)>RIGHT('Efficiency Levels'!$C$39,1),AL46,\nIF(RIGHT($D55,1)<RIGHT('Efficiency Levels'!$C$39,1),0,\nIF(RIGHT($D55,1)=RIGHT('Efficiency Levels'!$C$39,1),SUM(OFFSET(AL46,-RIGHT($D55,1),0,RIGHT($D55,1),1)),\"ERROR\"))))","v":0},{"$f":"IF(AM$24<STANDARD_YEAR,AM46,\nIF(RIGHT($D55,1)>RIGHT('Efficiency Levels'!$C$39,1),AM46,\nIF(RIGHT($D55,1)<RIGHT('Efficiency Levels'!$C$39,1),0,\nIF(RIGHT($D55,1)=RIGHT('Efficiency Levels'!$C$39,1),SUM(OFFSET(AM46,-RIGHT($D55,1),0,RIGHT($D55,1),1)),\"ERROR\"))))","v":0},{"$f":"IF(AN$24<STANDARD_YEAR,AN46,\nIF(RIGHT($D55,1)>RIGHT('Efficiency Levels'!$C$39,1),AN46,\nIF(RIGHT($D55,1)<RIGHT('Efficiency Levels'!$C$39,1),0,\nIF(RIGHT($D55,1)=RIGHT('Efficiency Levels'!$C$39,1),SUM(OFFSET(AN46,-RIGHT($D55,1),0,RIGHT($D55,1),1)),\"ERROR\"))))","v":0},{"$f":"IF(AO$24<STANDARD_YEAR,AO46,\nIF(RIGHT($D55,1)>RIGHT('Efficiency Levels'!$C$39,1),AO46,\nIF(RIGHT($D55,1)<RIGHT('Efficiency Levels'!$C$39,1),0,\nIF(RIGHT($D55,1)=RIGHT('Efficiency Levels'!$C$39,1),SUM(OFFSET(AO46,-RIGHT($D55,1),0,RIGHT($D55,1),1)),\"ERROR\"))))","v":0},{"$f":"IF(AP$24<STANDARD_YEAR,AP46,\nIF(RIGHT($D55,1)>RIGHT('Efficiency Levels'!$C$39,1),AP46,\nIF(RIGHT($D55,1)<RIGHT('Efficiency Levels'!$C$39,1),0,\nIF(RIGHT($D55,1)=RIGHT('Efficiency Levels'!$C$39,1),SUM(OFFSET(AP46,-RIGHT($D55,1),0,RIGHT($D55,1),1)),\"ERROR\"))))","v":0},{"$f":"IF(AQ$24<STANDARD_YEAR,AQ46,\nIF(RIGHT($D55,1)>RIGHT('Efficiency Levels'!$C$39,1),AQ46,\nIF(RIGHT($D55,1)<RIGHT('Efficiency Levels'!$C$39,1),0,\nIF(RIGHT($D55,1)=RIGHT('Efficiency Levels'!$C$39,1),SUM(OFFSET(AQ46,-RIGHT($D55,1),0,RIGHT($D55,1),1)),\"ERROR\"))))","v":0},{"$f":"IF(AR$24<STANDARD_YEAR,AR46,\nIF(RIGHT($D55,1)>RIGHT('Efficiency Levels'!$C$39,1),AR46,\nIF(RIGHT($D55,1)<RIGHT('Efficiency Levels'!$C$39,1),0,\nIF(RIGHT($D55,1)=RIGHT('Efficiency Levels'!$C$39,1),SUM(OFFSET(AR46,-RIGHT($D55,1),0,RIGHT($D55,1),1)),\"ERROR\"))))","v":0},{"$f":"IF(AS$24<STANDARD_YEAR,AS46,\nIF(RIGHT($D55,1)>RIGHT('Efficiency Levels'!$C$39,1),AS46,\nIF(RIGHT($D55,1)<RIGHT('Efficiency Levels'!$C$39,1),0,\nIF(RIGHT($D55,1)=RIGHT('Efficiency Levels'!$C$39,1),SUM(OFFSET(AS46,-RIGHT($D55,1),0,RIGHT($D55,1),1)),\"ERROR\"))))","v":0},{"$f":"IF(AT$24<STANDARD_YEAR,AT46,\nIF(RIGHT($D55,1)>RIGHT('Efficiency Levels'!$C$39,1),AT46,\nIF(RIGHT($D55,1)<RIGHT('Efficiency Levels'!$C$39,1),0,\nIF(RIGHT($D55,1)=RIGHT('Efficiency Levels'!$C$39,1),SUM(OFFSET(AT46,-RIGHT($D55,1),0,RIGHT($D55,1),1)),\"ERROR\"))))","v":0},{"$f":"IF(AU$24<STANDARD_YEAR,AU46,\nIF(RIGHT($D55,1)>RIGHT('Efficiency Levels'!$C$39,1),AU46,\nIF(RIGHT($D55,1)<RIGHT('Efficiency Levels'!$C$39,1),0,\nIF(RIGHT($D55,1)=RIGHT('Efficiency Levels'!$C$39,1),SUM(OFFSET(AU46,-RIGHT($D55,1),0,RIGHT($D55,1),1)),\"ERROR\"))))","v":1},{"$f":"IF(AV$24<STANDARD_YEAR,AV46,\nIF(RIGHT($D55,1)>RIGHT('Efficiency Levels'!$C$39,1),AV46,\nIF(RIGHT($D55,1)<RIGHT('Efficiency Levels'!$C$39,1),0,\nIF(RIGHT($D55,1)=RIGHT('Efficiency Levels'!$C$39,1),SUM(OFFSET(AV46,-RIGHT($D55,1),0,RIGHT($D55,1),1)),\"ERROR\"))))","v":1},{"$f":"IF(AW$24<STANDARD_YEAR,AW46,\nIF(RIGHT($D55,1)>RIGHT('Efficiency Levels'!$C$39,1),AW46,\nIF(RIGHT($D55,1)<RIGHT('Efficiency Levels'!$C$39,1),0,\nIF(RIGHT($D55,1)=RIGHT('Efficiency Levels'!$C$39,1),SUM(OFFSET(AW46,-RIGHT($D55,1),0,RIGHT($D55,1),1)),\"ERROR\"))))","v":1},{"$f":"IF(AX$24<STANDARD_YEAR,AX46,\nIF(RIGHT($D55,1)>RIGHT('Efficiency Levels'!$C$39,1),AX46,\nIF(RIGHT($D55,1)<RIGHT('Efficiency Levels'!$C$39,1),0,\nIF(RIGHT($D55,1)=RIGHT('Efficiency Levels'!$C$39,1),SUM(OFFSET(AX46,-RIGHT($D55,1),0,RIGHT($D55,1),1)),\"ERROR\"))))","v":1},{"$f":"IF(AY$24<STANDARD_YEAR,AY46,\nIF(RIGHT($D55,1)>RIGHT('Efficiency Levels'!$C$39,1),AY46,\nIF(RIGHT($D55,1)<RIGHT('Efficiency Levels'!$C$39,1),0,\nIF(RIGHT($D55,1)=RIGHT('Efficiency Levels'!$C$39,1),SUM(OFFSET(AY46,-RIGHT($D55,1),0,RIGHT($D55,1),1)),\"ERROR\"))))","v":1},{"$f":"IF(AZ$24<STANDARD_YEAR,AZ46,\nIF(RIGHT($D55,1)>RIGHT('Efficiency Levels'!$C$39,1),AZ46,\nIF(RIGHT($D55,1)<RIGHT('Efficiency Levels'!$C$39,1),0,\nIF(RIGHT($D55,1)=RIGHT('Efficiency Levels'!$C$39,1),SUM(OFFSET(AZ46,-RIGHT($D55,1),0,RIGHT($D55,1),1)),\"ERROR\"))))","v":1},{"$f":"IF(BA$24<STANDARD_YEAR,BA46,\nIF(RIGHT($D55,1)>RIGHT('Efficiency Levels'!$C$39,1),BA46,\nIF(RIGHT($D55,1)<RIGHT('Efficiency Levels'!$C$39,1),0,\nIF(RIGHT($D55,1)=RIGHT('Efficiency Levels'!$C$39,1),SUM(OFFSET(BA46,-RIGHT($D55,1),0,RIGHT($D55,1),1)),\"ERROR\"))))","v":1},{"$f":"IF(BB$24<STANDARD_YEAR,BB46,\nIF(RIGHT($D55,1)>RIGHT('Efficiency Levels'!$C$39,1),BB46,\nIF(RIGHT($D55,1)<RIGHT('Efficiency Levels'!$C$39,1),0,\nIF(RIGHT($D55,1)=RIGHT('Efficiency Levels'!$C$39,1),SUM(OFFSET(BB46,-RIGHT($D55,1),0,RIGHT($D55,1),1)),\"ERROR\"))))","v":1},{"$f":"IF(BC$24<STANDARD_YEAR,BC46,\nIF(RIGHT($D55,1)>RIGHT('Efficiency Levels'!$C$39,1),BC46,\nIF(RIGHT($D55,1)<RIGHT('Efficiency Levels'!$C$39,1),0,\nIF(RIGHT($D55,1)=RIGHT('Efficiency Levels'!$C$39,1),SUM(OFFSET(BC46,-RIGHT($D55,1),0,RIGHT($D55,1),1)),\"ERROR\"))))","v":1},{"$f":"IF(BD$24<STANDARD_YEAR,BD46,\nIF(RIGHT($D55,1)>RIGHT('Efficiency Levels'!$C$39,1),BD46,\nIF(RIGHT($D55,1)<RIGHT('Efficiency Levels'!$C$39,1),0,\nIF(RIGHT($D55,1)=RIGHT('Efficiency Levels'!$C$39,1),SUM(OFFSET(BD46,-RIGHT($D55,1),0,RIGHT($D55,1),1)),\"ERROR\"))))","v":1},{"$f":"IF(BE$24<STANDARD_YEAR,BE46,\nIF(RIGHT($D55,1)>RIGHT('Efficiency Levels'!$C$39,1),BE46,\nIF(RIGHT($D55,1)<RIGHT('Efficiency Levels'!$C$39,1),0,\nIF(RIGHT($D55,1)=RIGHT('Efficiency Levels'!$C$39,1),SUM(OFFSET(BE46,-RIGHT($D55,1),0,RIGHT($D55,1),1)),\"ERROR\"))))","v":1},{"$f":"IF(BF$24<STANDARD_YEAR,BF46,\nIF(RIGHT($D55,1)>RIGHT('Efficiency Levels'!$C$39,1),BF46,\nIF(RIGHT($D55,1)<RIGHT('Efficiency Levels'!$C$39,1),0,\nIF(RIGHT($D55,1)=RIGHT('Efficiency Levels'!$C$39,1),SUM(OFFSET(BF46,-RIGHT($D55,1),0,RIGHT($D55,1),1)),\"ERROR\"))))","v":1},{"$f":"IF(BG$24<STANDARD_YEAR,BG46,\nIF(RIGHT($D55,1)>RIGHT('Efficiency Levels'!$C$39,1),BG46,\nIF(RIGHT($D55,1)<RIGHT('Efficiency Levels'!$C$39,1),0,\nIF(RIGHT($D55,1)=RIGHT('Efficiency Levels'!$C$39,1),SUM(OFFSET(BG46,-RIGHT($D55,1),0,RIGHT($D55,1),1)),\"ERROR\"))))","v":1},{"$f":"IF(BH$24<STANDARD_YEAR,BH46,\nIF(RIGHT($D55,1)>RIGHT('Efficiency Levels'!$C$39,1),BH46,\nIF(RIGHT($D55,1)<RIGHT('Efficiency Levels'!$C$39,1),0,\nIF(RIGHT($D55,1)=RIGHT('Efficiency Levels'!$C$39,1),SUM(OFFSET(BH46,-RIGHT($D55,1),0,RIGHT($D55,1),1)),\"ERROR\"))))","v":1},{"$f":"IF(BI$24<STANDARD_YEAR,BI46,\nIF(RIGHT($D55,1)>RIGHT('Efficiency Levels'!$C$39,1),BI46,\nIF(RIGHT($D55,1)<RIGHT('Efficiency Levels'!$C$39,1),0,\nIF(RIGHT($D55,1)=RIGHT('Efficiency Levels'!$C$39,1),SUM(OFFSET(BI46,-RIGHT($D55,1),0,RIGHT($D55,1),1)),\"ERROR\"))))","v":1},{"$f":"IF(BJ$24<STANDARD_YEAR,BJ46,\nIF(RIGHT($D55,1)>RIGHT('Efficiency Levels'!$C$39,1),BJ46,\nIF(RIGHT($D55,1)<RIGHT('Efficiency Levels'!$C$39,1),0,\nIF(RIGHT($D55,1)=RIGHT('Efficiency Levels'!$C$39,1),SUM(OFFSET(BJ46,-RIGHT($D55,1),0,RIGHT($D55,1),1)),\"ERROR\"))))","v":1}]
[null,null,null,"EL4",{"$f":"OFFSET('Efficiency Levels'!$D$11,MATCH($C$39,'Efficiency Levels'!$C$9:$C$1002,0)+RIGHT(D56,1),0)","v":271.89999999999998},null,null,null,{"$f":"IF(I$24<STANDARD_YEAR,I47,\nIF(RIGHT($D56,1)>RIGHT('Efficiency Levels'!$C$39,1),I47,\nIF(RIGHT($D56,1)<RIGHT('Efficiency Levels'!$C$39,1),0,\nIF(RIGHT($D56,1)=RIGHT('Efficiency Levels'!$C$39,1),SUM(OFFSET(I47,-RIGHT($D56,1),0,RIGHT($D56,1),1)),\"ERROR\"))))","v":0},{"$f":"IF(J$24<STANDARD_YEAR,J47,\nIF(RIGHT($D56,1)>RIGHT('Efficiency Levels'!$C$39,1),J47,\nIF(RIGHT($D56,1)<RIGHT('Efficiency Levels'!$C$39,1),0,\nIF(RIGHT($D56,1)=RIGHT('Efficiency Levels'!$C$39,1),SUM(OFFSET(J47,-RIGHT($D56,1),0,RIGHT($D56,1),1)),\"ERROR\"))))","v":0},{"$f":"IF(K$24<STANDARD_YEAR,K47,\nIF(RIGHT($D56,1)>RIGHT('Efficiency Levels'!$C$39,1),K47,\nIF(RIGHT($D56,1)<RIGHT('Efficiency Levels'!$C$39,1),0,\nIF(RIGHT($D56,1)=RIGHT('Efficiency Levels'!$C$39,1),SUM(OFFSET(K47,-RIGHT($D56,1),0,RIGHT($D56,1),1)),\"ERROR\"))))","v":0},{"$f":"IF(L$24<STANDARD_YEAR,L47,\nIF(RIGHT($D56,1)>RIGHT('Efficiency Levels'!$C$39,1),L47,\nIF(RIGHT($D56,1)<RIGHT('Efficiency Levels'!$C$39,1),0,\nIF(RIGHT($D56,1)=RIGHT('Efficiency Levels'!$C$39,1),SUM(OFFSET(L47,-RIGHT($D56,1),0,RIGHT($D56,1),1)),\"ERROR\"))))","v":0},{"$f":"IF(M$24<STANDARD_YEAR,M47,\nIF(RIGHT($D56,1)>RIGHT('Efficiency Levels'!$C$39,1),M47,\nIF(RIGHT($D56,1)<RIGHT('Efficiency Levels'!$C$39,1),0,\nIF(RIGHT($D56,1)=RIGHT('Efficiency Levels'!$C$39,1),SUM(OFFSET(M47,-RIGHT($D56,1),0,RIGHT($D56,1),1)),\"ERROR\"))))","v":0},{"$f":"IF(N$24<STANDARD_YEAR,N47,\nIF(RIGHT($D56,1)>RIGHT('Efficiency Levels'!$C$39,1),N47,\nIF(RIGHT($D56,1)<RIGHT('Efficiency Levels'!$C$39,1),0,\nIF(RIGHT($D56,1)=RIGHT('Efficiency Levels'!$C$39,1),SUM(OFFSET(N47,-RIGHT($D56,1),0,RIGHT($D56,1),1)),\"ERROR\"))))","v":0},{"$f":"IF(O$24<STANDARD_YEAR,O47,\nIF(RIGHT($D56,1)>RIGHT('Efficiency Levels'!$C$39,1),O47,\nIF(RIGHT($D56,1)<RIGHT('Efficiency Levels'!$C$39,1),0,\nIF(RIGHT($D56,1)=RIGHT('Efficiency Levels'!$C$39,1),SUM(OFFSET(O47,-RIGHT($D56,1),0,RIGHT($D56,1),1)),\"ERROR\"))))","v":0},{"$f":"IF(P$24<STANDARD_YEAR,P47,\nIF(RIGHT($D56,1)>RIGHT('Efficiency Levels'!$C$39,1),P47,\nIF(RIGHT($D56,1)<RIGHT('Efficiency Levels'!$C$39,1),0,\nIF(RIGHT($D56,1)=RIGHT('Efficiency Levels'!$C$39,1),SUM(OFFSET(P47,-RIGHT($D56,1),0,RIGHT($D56,1),1)),\"ERROR\"))))","v":0},{"$f":"IF(Q$24<STANDARD_YEAR,Q47,\nIF(RIGHT($D56,1)>RIGHT('Efficiency Levels'!$C$39,1),Q47,\nIF(RIGHT($D56,1)<RIGHT('Efficiency Levels'!$C$39,1),0,\nIF(RIGHT($D56,1)=RIGHT('Efficiency Levels'!$C$39,1),SUM(OFFSET(Q47,-RIGHT($D56,1),0,RIGHT($D56,1),1)),\"ERROR\"))))","v":0},{"$f":"IF(R$24<STANDARD_YEAR,R47,\nIF(RIGHT($D56,1)>RIGHT('Efficiency Levels'!$C$39,1),R47,\nIF(RIGHT($D56,1)<RIGHT('Efficiency Levels'!$C$39,1),0,\nIF(RIGHT($D56,1)=RIGHT('Efficiency Levels'!$C$39,1),SUM(OFFSET(R47,-RIGHT($D56,1),0,RIGHT($D56,1),1)),\"ERROR\"))))","v":0},{"$f":"IF(S$24<STANDARD_YEAR,S47,\nIF(RIGHT($D56,1)>RIGHT('Efficiency Levels'!$C$39,1),S47,\nIF(RIGHT($D56,1)<RIGHT('Efficiency Levels'!$C$39,1),0,\nIF(RIGHT($D56,1)=RIGHT('Efficiency Levels'!$C$39,1),SUM(OFFSET(S47,-RIGHT($D56,1),0,RIGHT($D56,1),1)),\"ERROR\"))))","v":0},{"$f":"IF(T$24<STANDARD_YEAR,T47,\nIF(RIGHT($D56,1)>RIGHT('Efficiency Levels'!$C$39,1),T47,\nIF(RIGHT($D56,1)<RIGHT('Efficiency Levels'!$C$39,1),0,\nIF(RIGHT($D56,1)=RIGHT('Efficiency Levels'!$C$39,1),SUM(OFFSET(T47,-RIGHT($D56,1),0,RIGHT($D56,1),1)),\"ERROR\"))))","v":0},{"$f":"IF(U$24<STANDARD_YEAR,U47,\nIF(RIGHT($D56,1)>RIGHT('Efficiency Levels'!$C$39,1),U47,\nIF(RIGHT($D56,1)<RIGHT('Efficiency Levels'!$C$39,1),0,\nIF(RIGHT($D56,1)=RIGHT('Efficiency Levels'!$C$39,1),SUM(OFFSET(U47,-RIGHT($D56,1),0,RIGHT($D56,1),1)),\"ERROR\"))))","v":0},{"$f":"IF(V$24<STANDARD_YEAR,V47,\nIF(RIGHT($D56,1)>RIGHT('Efficiency Levels'!$C$39,1),V47,\nIF(RIGHT($D56,1)<RIGHT('Efficiency Levels'!$C$39,1),0,\nIF(RIGHT($D56,1)=RIGHT('Efficiency Levels'!$C$39,1),SUM(OFFSET(V47,-RIGHT($D56,1),0,RIGHT($D56,1),1)),\"ERROR\"))))","v":0},{"$f":"IF(W$24<STANDARD_YEAR,W47,\nIF(RIGHT($D56,1)>RIGHT('Efficiency Levels'!$C$39,1),W47,\nIF(RIGHT($D56,1)<RIGHT('Efficiency Levels'!$C$39,1),0,\nIF(RIGHT($D56,1)=RIGHT('Efficiency Levels'!$C$39,1),SUM(OFFSET(W47,-RIGHT($D56,1),0,RIGHT($D56,1),1)),\"ERROR\"))))","v":0},{"$f":"IF(X$24<STANDARD_YEAR,X47,\nIF(RIGHT($D56,1)>RIGHT('Efficiency Levels'!$C$39,1),X47,\nIF(RIGHT($D56,1)<RIGHT('Efficiency Levels'!$C$39,1),0,\nIF(RIGHT($D56,1)=RIGHT('Efficiency Levels'!$C$39,1),SUM(OFFSET(X47,-RIGHT($D56,1),0,RIGHT($D56,1),1)),\"ERROR\"))))","v":0},{"$f":"IF(Y$24<STANDARD_YEAR,Y47,\nIF(RIGHT($D56,1)>RIGHT('Efficiency Levels'!$C$39,1),Y47,\nIF(RIGHT($D56,1)<RIGHT('Efficiency Levels'!$C$39,1),0,\nIF(RIGHT($D56,1)=RIGHT('Efficiency Levels'!$C$39,1),SUM(OFFSET(Y47,-RIGHT($D56,1),0,RIGHT($D56,1),1)),\"ERROR\"))))","v":0},{"$f":"IF(Z$24<STANDARD_YEAR,Z47,\nIF(RIGHT($D56,1)>RIGHT('Efficiency Levels'!$C$39,1),Z47,\nIF(RIGHT($D56,1)<RIGHT('Efficiency Levels'!$C$39,1),0,\nIF(RIGHT($D56,1)=RIGHT('Efficiency Levels'!$C$39,1),SUM(OFFSET(Z47,-RIGHT($D56,1),0,RIGHT($D56,1),1)),\"ERROR\"))))","v":0},{"$f":"IF(AA$24<STANDARD_YEAR,AA47,\nIF(RIGHT($D56,1)>RIGHT('Efficiency Levels'!$C$39,1),AA47,\nIF(RIGHT($D56,1)<RIGHT('Efficiency Levels'!$C$39,1),0,\nIF(RIGHT($D56,1)=RIGHT('Efficiency Levels'!$C$39,1),SUM(OFFSET(AA47,-RIGHT($D56,1),0,RIGHT($D56,1),1)),\"ERROR\"))))","v":0},{"$f":"IF(AB$24<STANDARD_YEAR,AB47,\nIF(RIGHT($D56,1)>RIGHT('Efficiency Levels'!$C$39,1),AB47,\nIF(RIGHT($D56,1)<RIGHT('Efficiency Levels'!$C$39,1),0,\nIF(RIGHT($D56,1)=RIGHT('Efficiency Levels'!$C$39,1),SUM(OFFSET(AB47,-RIGHT($D56,1),0,RIGHT($D56,1),1)),\"ERROR\"))))","v":0},{"$f":"IF(AC$24<STANDARD_YEAR,AC47,\nIF(RIGHT($D56,1)>RIGHT('Efficiency Levels'!$C$39,1),AC47,\nIF(RIGHT($D56,1)<RIGHT('Efficiency Levels'!$C$39,1),0,\nIF(RIGHT($D56,1)=RIGHT('Efficiency Levels'!$C$39,1),SUM(OFFSET(AC47,-RIGHT($D56,1),0,RIGHT($D56,1),1)),\"ERROR\"))))","v":0},{"$f":"IF(AD$24<STANDARD_YEAR,AD47,\nIF(RIGHT($D56,1)>RIGHT('Efficiency Levels'!$C$39,1),AD47,\nIF(RIGHT($D56,1)<RIGHT('Efficiency Levels'!$C$39,1),0,\nIF(RIGHT($D56,1)=RIGHT('Efficiency Levels'!$C$39,1),SUM(OFFSET(AD47,-RIGHT($D56,1),0,RIGHT($D56,1),1)),\"ERROR\"))))","v":0},{"$f":"IF(AE$24<STANDARD_YEAR,AE47,\nIF(RIGHT($D56,1)>RIGHT('Efficiency Levels'!$C$39,1),AE47,\nIF(RIGHT($D56,1)<RIGHT('Efficiency Levels'!$C$39,1),0,\nIF(RIGHT($D56,1)=RIGHT('Efficiency Levels'!$C$39,1),SUM(OFFSET(AE47,-RIGHT($D56,1),0,RIGHT($D56,1),1)),\"ERROR\"))))","v":0},{"$f":"IF(AF$24<STANDARD_YEAR,AF47,\nIF(RIGHT($D56,1)>RIGHT('Efficiency Levels'!$C$39,1),AF47,\nIF(RIGHT($D56,1)<RIGHT('Efficiency Levels'!$C$39,1),0,\nIF(RIGHT($D56,1)=RIGHT('Efficiency Levels'!$C$39,1),SUM(OFFSET(AF47,-RIGHT($D56,1),0,RIGHT($D56,1),1)),\"ERROR\"))))","v":0},{"$f":"IF(AG$24<STANDARD_YEAR,AG47,\nIF(RIGHT($D56,1)>RIGHT('Efficiency Levels'!$C$39,1),AG47,\nIF(RIGHT($D56,1)<RIGHT('Efficiency Levels'!$C$39,1),0,\nIF(RIGHT($D56,1)=RIGHT('Efficiency Levels'!$C$39,1),SUM(OFFSET(AG47,-RIGHT($D56,1),0,RIGHT($D56,1),1)),\"ERROR\"))))","v":0},{"$f":"IF(AH$24<STANDARD_YEAR,AH47,\nIF(RIGHT($D56,1)>RIGHT('Efficiency Levels'!$C$39,1),AH47,\nIF(RIGHT($D56,1)<RIGHT('Efficiency Levels'!$C$39,1),0,\nIF(RIGHT($D56,1)=RIGHT('Efficiency Levels'!$C$39,1),SUM(OFFSET(AH47,-RIGHT($D56,1),0,RIGHT($D56,1),1)),\"ERROR\"))))","v":0},{"$f":"IF(AI$24<STANDARD_YEAR,AI47,\nIF(RIGHT($D56,1)>RIGHT('Efficiency Levels'!$C$39,1),AI47,\nIF(RIGHT($D56,1)<RIGHT('Efficiency Levels'!$C$39,1),0,\nIF(RIGHT($D56,1)=RIGHT('Efficiency Levels'!$C$39,1),SUM(OFFSET(AI47,-RIGHT($D56,1),0,RIGHT($D56,1),1)),\"ERROR\"))))","v":0},{"$f":"IF(AJ$24<STANDARD_YEAR,AJ47,\nIF(RIGHT($D56,1)>RIGHT('Efficiency Levels'!$C$39,1),AJ47,\nIF(RIGHT($D56,1)<RIGHT('Efficiency Levels'!$C$39,1),0,\nIF(RIGHT($D56,1)=RIGHT('Efficiency Levels'!$C$39,1),SUM(OFFSET(AJ47,-RIGHT($D56,1),0,RIGHT($D56,1),1)),\"ERROR\"))))","v":0},{"$f":"IF(AK$24<STANDARD_YEAR,AK47,\nIF(RIGHT($D56,1)>RIGHT('Efficiency Levels'!$C$39,1),AK47,\nIF(RIGHT($D56,1)<RIGHT('Efficiency Levels'!$C$39,1),0,\nIF(RIGHT($D56,1)=RIGHT('Efficiency Levels'!$C$39,1),SUM(OFFSET(AK47,-RIGHT($D56,1),0,RIGHT($D56,1),1)),\"ERROR\"))))","v":0},{"$f":"IF(AL$24<STANDARD_YEAR,AL47,\nIF(RIGHT($D56,1)>RIGHT('Efficiency Levels'!$C$39,1),AL47,\nIF(RIGHT($D56,1)<RIGHT('Efficiency Levels'!$C$39,1),0,\nIF(RIGHT($D56,1)=RIGHT('Efficiency Levels'!$C$39,1),SUM(OFFSET(AL47,-RIGHT($D56,1),0,RIGHT($D56,1),1)),\"ERROR\"))))","v":0},{"$f":"IF(AM$24<STANDARD_YEAR,AM47,\nIF(RIGHT($D56,1)>RIGHT('Efficiency Levels'!$C$39,1),AM47,\nIF(RIGHT($D56,1)<RIGHT('Efficiency Levels'!$C$39,1),0,\nIF(RIGHT($D56,1)=RIGHT('Efficiency Levels'!$C$39,1),SUM(OFFSET(AM47,-RIGHT($D56,1),0,RIGHT($D56,1),1)),\"ERROR\"))))","v":0},{"$f":"IF(AN$24<STANDARD_YEAR,AN47,\nIF(RIGHT($D56,1)>RIGHT('Efficiency Levels'!$C$39,1),AN47,\nIF(RIGHT($D56,1)<RIGHT('Efficiency Levels'!$C$39,1),0,\nIF(RIGHT($D56,1)=RIGHT('Efficiency Levels'!$C$39,1),SUM(OFFSET(AN47,-RIGHT($D56,1),0,RIGHT($D56,1),1)),\"ERROR\"))))","v":0},{"$f":"IF(AO$24<STANDARD_YEAR,AO47,\nIF(RIGHT($D56,1)>RIGHT('Efficiency Levels'!$C$39,1),AO47,\nIF(RIGHT($D56,1)<RIGHT('Efficiency Levels'!$C$39,1),0,\nIF(RIGHT($D56,1)=RIGHT('Efficiency Levels'!$C$39,1),SUM(OFFSET(AO47,-RIGHT($D56,1),0,RIGHT($D56,1),1)),\"ERROR\"))))","v":0},{"$f":"IF(AP$24<STANDARD_YEAR,AP47,\nIF(RIGHT($D56,1)>RIGHT('Efficiency Levels'!$C$39,1),AP47,\nIF(RIGHT($D56,1)<RIGHT('Efficiency Levels'!$C$39,1),0,\nIF(RIGHT($D56,1)=RIGHT('Efficiency Levels'!$C$39,1),SUM(OFFSET(AP47,-RIGHT($D56,1),0,RIGHT($D56,1),1)),\"ERROR\"))))","v":0},{"$f":"IF(AQ$24<STANDARD_YEAR,AQ47,\nIF(RIGHT($D56,1)>RIGHT('Efficiency Levels'!$C$39,1),AQ47,\nIF(RIGHT($D56,1)<RIGHT('Efficiency Levels'!$C$39,1),0,\nIF(RIGHT($D56,1)=RIGHT('Efficiency Levels'!$C$39,1),SUM(OFFSET(AQ47,-RIGHT($D56,1),0,RIGHT($D56,1),1)),\"ERROR\"))))","v":0},{"$f":"IF(AR$24<STANDARD_YEAR,AR47,\nIF(RIGHT($D56,1)>RIGHT('Efficiency Levels'!$C$39,1),AR47,\nIF(RIGHT($D56,1)<RIGHT('Efficiency Levels'!$C$39,1),0,\nIF(RIGHT($D56,1)=RIGHT('Efficiency Levels'!$C$39,1),SUM(OFFSET(AR47,-RIGHT($D56,1),0,RIGHT($D56,1),1)),\"ERROR\"))))","v":0},{"$f":"IF(AS$24<STANDARD_YEAR,AS47,\nIF(RIGHT($D56,1)>RIGHT('Efficiency Levels'!$C$39,1),AS47,\nIF(RIGHT($D56,1)<RIGHT('Efficiency Levels'!$C$39,1),0,\nIF(RIGHT($D56,1)=RIGHT('Efficiency Levels'!$C$39,1),SUM(OFFSET(AS47,-RIGHT($D56,1),0,RIGHT($D56,1),1)),\"ERROR\"))))","v":0},{"$f":"IF(AT$24<STANDARD_YEAR,AT47,\nIF(RIGHT($D56,1)>RIGHT('Efficiency Levels'!$C$39,1),AT47,\nIF(RIGHT($D56,1)<RIGHT('Efficiency Levels'!$C$39,1),0,\nIF(RIGHT($D56,1)=RIGHT('Efficiency Levels'!$C$39,1),SUM(OFFSET(AT47,-RIGHT($D56,1),0,RIGHT($D56,1),1)),\"ERROR\"))))","v":0},{"$f":"IF(AU$24<STANDARD_YEAR,AU47,\nIF(RIGHT($D56,1)>RIGHT('Efficiency Levels'!$C$39,1),AU47,\nIF(RIGHT($D56,1)<RIGHT('Efficiency Levels'!$C$39,1),0,\nIF(RIGHT($D56,1)=RIGHT('Efficiency Levels'!$C$39,1),SUM(OFFSET(AU47,-RIGHT($D56,1),0,RIGHT($D56,1),1)),\"ERROR\"))))","v":0},{"$f":"IF(AV$24<STANDARD_YEAR,AV47,\nIF(RIGHT($D56,1)>RIGHT('Efficiency Levels'!$C$39,1),AV47,\nIF(RIGHT($D56,1)<RIGHT('Efficiency Levels'!$C$39,1),0,\nIF(RIGHT($D56,1)=RIGHT('Efficiency Levels'!$C$39,1),SUM(OFFSET(AV47,-RIGHT($D56,1),0,RIGHT($D56,1),1)),\"ERROR\"))))","v":0},{"$f":"IF(AW$24<STANDARD_YEAR,AW47,\nIF(RIGHT($D56,1)>RIGHT('Efficiency Levels'!$C$39,1),AW47,\nIF(RIGHT($D56,1)<RIGHT('Efficiency Levels'!$C$39,1),0,\nIF(RIGHT($D56,1)=RIGHT('Efficiency Levels'!$C$39,1),SUM(OFFSET(AW47,-RIGHT($D56,1),0,RIGHT($D56,1),1)),\"ERROR\"))))","v":0},{"$f":"IF(AX$24<STANDARD_YEAR,AX47,\nIF(RIGHT($D56,1)>RIGHT('Efficiency Levels'!$C$39,1),AX47,\nIF(RIGHT($D56,1)<RIGHT('Efficiency Levels'!$C$39,1),0,\nIF(RIGHT($D56,1)=RIGHT('Efficiency Levels'!$C$39,1),SUM(OFFSET(AX47,-RIGHT($D56,1),0,RIGHT($D56,1),1)),\"ERROR\"))))","v":0},{"$f":"IF(AY$24<STANDARD_YEAR,AY47,\nIF(RIGHT($D56,1)>RIGHT('Efficiency Levels'!$C$39,1),AY47,\nIF(RIGHT($D56,1)<RIGHT('Efficiency Levels'!$C$39,1),0,\nIF(RIGHT($D56,1)=RIGHT('Efficiency Levels'!$C$39,1),SUM(OFFSET(AY47,-RIGHT($D56,1),0,RIGHT($D56,1),1)),\"ERROR\"))))","v":0},{"$f":"IF(AZ$24<STANDARD_YEAR,AZ47,\nIF(RIGHT($D56,1)>RIGHT('Efficiency Levels'!$C$39,1),AZ47,\nIF(RIGHT($D56,1)<RIGHT('Efficiency Levels'!$C$39,1),0,\nIF(RIGHT($D56,1)=RIGHT('Efficiency Levels'!$C$39,1),SUM(OFFSET(AZ47,-RIGHT($D56,1),0,RIGHT($D56,1),1)),\"ERROR\"))))","v":0},{"$f":"IF(BA$24<STANDARD_YEAR,BA47,\nIF(RIGHT($D56,1)>RIGHT('Efficiency Levels'!$C$39,1),BA47,\nIF(RIGHT($D56,1)<RIGHT('Efficiency Levels'!$C$39,1),0,\nIF(RIGHT($D56,1)=RIGHT('Efficiency Levels'!$C$39,1),SUM(OFFSET(BA47,-RIGHT($D56,1),0,RIGHT($D56,1),1)),\"ERROR\"))))","v":0},{"$f":"IF(BB$24<STANDARD_YEAR,BB47,\nIF(RIGHT($D56,1)>RIGHT('Efficiency Levels'!$C$39,1),BB47,\nIF(RIGHT($D56,1)<RIGHT('Efficiency Levels'!$C$39,1),0,\nIF(RIGHT($D56,1)=RIGHT('Efficiency Levels'!$C$39,1),SUM(OFFSET(BB47,-RIGHT($D56,1),0,RIGHT($D56,1),1)),\"ERROR\"))))","v":0},{"$f":"IF(BC$24<STANDARD_YEAR,BC47,\nIF(RIGHT($D56,1)>RIGHT('Efficiency Levels'!$C$39,1),BC47,\nIF(RIGHT($D56,1)<RIGHT('Efficiency Levels'!$C$39,1),0,\nIF(RIGHT($D56,1)=RIGHT('Efficiency Levels'!$C$39,1),SUM(OFFSET(BC47,-RIGHT($D56,1),0,RIGHT($D56,1),1)),\"ERROR\"))))","v":0},{"$f":"IF(BD$24<STANDARD_YEAR,BD47,\nIF(RIGHT($D56,1)>RIGHT('Efficiency Levels'!$C$39,1),BD47,\nIF(RIGHT($D56,1)<RIGHT('Efficiency Levels'!$C$39,1),0,\nIF(RIGHT($D56,1)=RIGHT('Efficiency Levels'!$C$39,1),SUM(OFFSET(BD47,-RIGHT($D56,1),0,RIGHT($D56,1),1)),\"ERROR\"))))","v":0},{"$f":"IF(BE$24<STANDARD_YEAR,BE47,\nIF(RIGHT($D56,1)>RIGHT('Efficiency Levels'!$C$39,1),BE47,\nIF(RIGHT($D56,1)<RIGHT('Efficiency Levels'!$C$39,1),0,\nIF(RIGHT($D56,1)=RIGHT('Efficiency Levels'!$C$39,1),SUM(OFFSET(BE47,-RIGHT($D56,1),0,RIGHT($D56,1),1)),\"ERROR\"))))","v":0},{"$f":"IF(BF$24<STANDARD_YEAR,BF47,\nIF(RIGHT($D56,1)>RIGHT('Efficiency Levels'!$C$39,1),BF47,\nIF(RIGHT($D56,1)<RIGHT('Efficiency Levels'!$C$39,1),0,\nIF(RIGHT($D56,1)=RIGHT('Efficiency Levels'!$C$39,1),SUM(OFFSET(BF47,-RIGHT($D56,1),0,RIGHT($D56,1),1)),\"ERROR\"))))","v":0},{"$f":"IF(BG$24<STANDARD_YEAR,BG47,\nIF(RIGHT($D56,1)>RIGHT('Efficiency Levels'!$C$39,1),BG47,\nIF(RIGHT($D56,1)<RIGHT('Efficiency Levels'!$C$39,1),0,\nIF(RIGHT($D56,1)=RIGHT('Efficiency Levels'!$C$39,1),SUM(OFFSET(BG47,-RIGHT($D56,1),0,RIGHT($D56,1),1)),\"ERROR\"))))","v":0},{"$f":"IF(BH$24<STANDARD_YEAR,BH47,\nIF(RIGHT($D56,1)>RIGHT('Efficiency Levels'!$C$39,1),BH47,\nIF(RIGHT($D56,1)<RIGHT('Efficiency Levels'!$C$39,1),0,\nIF(RIGHT($D56,1)=RIGHT('Efficiency Levels'!$C$39,1),SUM(OFFSET(BH47,-RIGHT($D56,1),0,RIGHT($D56,1),1)),\"ERROR\"))))","v":0},{"$f":"IF(BI$24<STANDARD_YEAR,BI47,\nIF(RIGHT($D56,1)>RIGHT('Efficiency Levels'!$C$39,1),BI47,\nIF(RIGHT($D56,1)<RIGHT('Efficiency Levels'!$C$39,1),0,\nIF(RIGHT($D56,1)=RIGHT('Efficiency Levels'!$C$39,1),SUM(OFFSET(BI47,-RIGHT($D56,1),0,RIGHT($D56,1),1)),\"ERROR\"))))","v":0},{"$f":"IF(BJ$24<STANDARD_YEAR,BJ47,\nIF(RIGHT($D56,1)>RIGHT('Efficiency Levels'!$C$39,1),BJ47,\nIF(RIGHT($D56,1)<RIGHT('Efficiency Levels'!$C$39,1),0,\nIF(RIGHT($D56,1)=RIGHT('Efficiency Levels'!$C$39,1),SUM(OFFSET(BJ47,-RIGHT($D56,1),0,RIGHT($D56,1),1)),\"ERROR\"))))","v":0}]
[null,null,null,"TOTAL",null,null,null,null,{"$f":"SUM(I52:I56)","v":1},1,1,1,1,1,1,1,1,1,1,1,1,1,1,1,1,1,1,1,1,1,1,1,1,1,1,1,1,1,1,1,1,1,1,1,1,1,1,1,1,1,1,1,1,1,1,1,1,1,1,1,1,{"$f":"SUM(BJ52:BJ56)","v":1}]
[]
[null,null,null,"Sources","Placeholder Values Assumes All Pre-Case Shipments are the Least Energy Efficient Products"]

{"sheet":"6P UEC Development","index":14,"n_rows":46,"n_cols":10,"rows_kept":46,"cut":false,"hidden":false,"merged":[[8,7,8,9],[8,3,8,5],[25,7,25,9],[25,3,25,5]]}
[]
[null,null,"6P UEC Development"]
[]
[null,null,"NAVIGATION"]
[]
[null,null,"COMMENTS"]
[]
[]
[null,null,"Electric Standard Oven","6P Efficiency Levels 1",null,null,null,"2009 DOE TSD to 2014 DOE RFI Crosswalk"]
[null,null,"Efficiency Level","Efficiency Level Source","Cooking Efficiency","UEC (kWh/yr)",null,"Cooking Efficiency 2","Energy Factor 2,3","IAEC (kWh/yr) 3"]
[null,null,"EL0","Baseline",0.122,154.3244102114725,null,0.122,0.1066,370]
[null,null,"EL1","0 + Reduced Vent Rate",0.128,147.91170348280971]
[null,null,"EL2","1 + Improved Insulation",0.13400000000000001,142.0732689985048]
[null,null,"EL3","2 + Improved Door Seals",0.13699999999999998,139.34582515182223]
[null,null,"EL4","3 + Bi-Radiant Oven",0.21600000000000003,94.789157619442776]
[null,null,"EL5","4 + Oven Separator",0.22399999999999998,92.029544847319841]
[null,null,"EL6","5 + Forced Convection",0.22699999999999998,91.044837206165823]
[null,null,"EL7","6 + Red. Conduction Losses",0.22800000000000001,90.722359849998426]
[]
[null,null,"Sources","1. Sixth Plan Conservation Supply Curve Files: Microwaves and Ovens ('Input Assumptions' tab, Range A27:E38, cites 2008 DOE TSD)"]
[null,null,null,"2. 2009 DOE Kitchen Ranges and Ovens Final Rule, Technical Support Document Chapter 8: Lifecycle Cost Analysis, Table 8.2.31 Electric Standard Ovens: Annual Energy Consumption by Efficiency Level"]
[null,null,null,"3. 2014 DOE Request for Information: Table II.12—Efficiency Levels Under Consideration for Electric Ovens—Standards Ovens With or Without a Catalytic Line"]
[]
[]
[]
[null,null,"Electric Self-cleaning Oven","6P Efficiency Levels 1",null,null,null,"2009 DOE TSD to 2014 DOE RFI Crosswalk"]
[null,null,"Efficiency Level","Source: DOE 2008 TSD for Cooking Products","Cooking Efficiency","UEC (kWh/yr)",null,"Cooking Efficiency 2","Energy Factor 2,3","IAEC (kWh/yr) 3"]
[null,null,"EL0","Baseline",0.13800000000000001,159.19870515369044,null,0.13800000000000001,0.1099,360]
[null,null,"EL1","0 + Bi-Radiant Oven",0.22800000000000001,111.61921627723368]
[null,null,"EL2","1 + Oven Separator",0.23600000000000002,109.14615809834439]
[null,null,"EL3","2 + Red. Conduction Losses",0.23600000000000002,109.14615809834439]
[null,null,"EL4","3 + Forced Convection",0.24,107.971455463372]
[]
[null,null,"Source","1. Sixth Plan Conservation Supply Curve Files: Microwaves and Ovens ('Input Assumptions' tab, Range A40:E48, cites 2008 DOE TSD)"]
[null,null,null,"2. 2009 DOE Kitchen Ranges and Ovens Final Rule, Technical Support Document Chapter 8: Lifecycle Cost Analysis, Table 8.2.32 Electric Self-Cleaning Ovens: Annual Energy Consumption by Efficiency Level "]
[null,null,null,"3. 2014 DOE Request for Information: Table II.13—Efficiency Levels Under Consideration for Electric Ovens—Self-Clean Ovens"]
[]
[]
[]
[null,null,"Weighted Average 6P UEC Calculation",null,null,"Appliance",null,null,"Saturation","Forecast Units"]
[null,null,null,null,null,"Non Self-Cleaning Oven",null,null,0.55000000000000004,2975028.4820715822]
[null,null,null,null,null,"Self-Cleaning Oven",null,null,0.45,2434114.2126040217]
[]
[null,null,null,null,null,null,null,null,"Weighted Average 6P UEC",{"$f":"(J11*J41+J28*J42)/SUM(J41,J42)","v":365.49999999999994}]
[]
[null,null,"Source","1. Sixth Plan Conservation Supply Curve Files: Microwaves and Ovens ('Input Assumptions' tab, Range J8:L10, no citation)"]

{"sheet":"Constants","index":15,"n_rows":13,"n_cols":4,"rows_kept":13,"cut":false,"hidden":false,"merged":[]}
[]
[null,null,"Constants"]
[]
[null,null,"NAVIGATION"]
[]
[null,null,"COMMENTS"]
[]
[]
[null,null,"Constant","Value"]
[null,null,"Hours/Day",24]
[null,null,"Days/Week",7]
[null,null,"Days/Year",365.25]
[null,null,"kW/MW",1000]

{"sheet":"Product Class Dist","index":16,"n_rows":15,"n_cols":57,"rows_kept":15,"cut":false,"hidden":false,"merged":[]}
[]
[null,null,"Product Class Distributions"]
[]
[null,null,"NAVIGATION"]
[]
[null,null,"COMMENTS"]
[]
[]
[null,null,"PRE-Case",1981,1982,1983,1984,1985,1986,1987,1988,1989,1990,1991,1992,1993,1994,1995,1996,1997,1998,1999,2000,2001,2002,2003,2004,2005,2006,2007,2008,2009,2010,2011,2012,2013,2014,2015,2016,2017,2018,2019,2020,2021,2022,2023,2024,2025,2026,2027,2028,2029,2030,2031,2032,2033,2034]
[null,null,{"$f":"'Product Classes'!$H$12&\" - \"&'Product Classes'!$C$12","v":"PC1 - Electric Ovens—Standards Ovens With or Without a Catalytic Line"},{"$f":"E10","v":0.42528735632183906},0.42528735632183906,0.42528735632183906,0.42528735632183906,0.42528735632183906,0.42528735632183906,0.42528735632183906,0.42528735632183906,{"$f":"M10","v":0.42528735632183906},{"$f":"SUM('National Shipments Data'!E10,'National Shipments Data'!E12,'National Shipments Data'!E16)/SUM('National Shipments Data'!E$10:E$13,'National Shipments Data'!E$16:E$17)","v":0.42528735632183906},{"$f":"SUM('National Shipments Data'!F10,'National Shipments Data'!F12,'National Shipments Data'!F16)/SUM('National Shipments Data'!F$10:F$13,'National Shipments Data'!F$16:F$17)","v":0.43181818181818177},{"$f":"SUM('National Shipments Data'!G10,'National Shipments Data'!G12,'National Shipments Data'!G16)/SUM('National Shipments Data'!G$10:G$13,'National Shipments Data'!G$16:G$17)","v":0.4382022471910112},{"$f":"SUM('National Shipments Data'!H10,'National Shipments Data'!H12,'National Shipments Data'!H16)/SUM('National Shipments Data'!H$10:H$13,'National Shipments Data'!H$16:H$17)","v":0.43181818181818182},{"$f":"SUM('National Shipments Data'!I10,'National Shipments Data'!I12,'National Shipments Data'!I16)/SUM('National Shipments Data'!I$10:I$13,'National Shipments Data'!I$16:I$17)","v":0.3932584269662921},{"$f":"SUM('National Shipments Data'!J10,'National Shipments Data'!J12,'National Shipments Data'!J16)/SUM('National Shipments Data'!J$10:J$13,'National Shipments Data'!J$16:J$17)","v":0.39999999999999997},{"$f":"SUM('National Shipments Data'!K10,'National Shipments Data'!K12,'National Shipments Data'!K16)/SUM('National Shipments Data'!K$10:K$13,'National Shipments Data'!K$16:K$17)","v":0.36666666666666664},{"$f":"SUM('National Shipments Data'!L10,'National Shipments Data'!L12,'National Shipments Data'!L16)/SUM('National Shipments Data'!L$10:L$13,'National Shipments Data'!L$16:L$17)","v":0.34831460674157311},{"$f":"SUM('National Shipments Data'!M10,'National Shipments Data'!M12,'National Shipments Data'!M16)/SUM('National Shipments Data'!M$10:M$13,'National Shipments Data'!M$16:M$17)","v":0.3258426966292135},{"$f":"SUM('National Shipments Data'!N10,'National Shipments Data'!N12,'National Shipments Data'!N16)/SUM('National Shipments Data'!N$10:N$13,'National Shipments Data'!N$16:N$17)","v":0.31111111111111112},{"$f":"SUM('National Shipments Data'!O10,'National Shipments Data'!O12,'National Shipments Data'!O16)/SUM('National Shipments Data'!O$10:O$13,'National Shipments Data'!O$16:O$17)","v":0.30769230769230771},{"$f":"SUM('National Shipments Data'!P10,'National Shipments Data'!P12,'National Shipments Data'!P16)/SUM('National Shipments Data'!P$10:P$13,'National Shipments Data'!P$16:P$17)","v":0.29213483146067415},{"$f":"SUM('National Shipments Data'!Q10,'National Shipments Data'!Q12,'National Shipments Data'!Q16)/SUM('National Shipments Data'!Q$10:Q$13,'National Shipments Data'!Q$16:Q$17)","v":0.27472527472527469},{"$f":"SUM('National Shipments Data'!R10,'National Shipments Data'!R12,'National Shipments Data'!R16)/SUM('National Shipments Data'!R$10:R$13,'National Shipments Data'!R$16:R$17)","v":0.23333333333333331},{"$f":"SUM('National Shipments Data'!S10,'National Shipments Data'!S12,'National Shipments Data'!S16)/SUM('National Shipments Data'!S$10:S$13,'National Shipments Data'!S$16:S$17)","v":0.23076923076923075},{"$f":"SUM('National Shipments Data'!T10,'National Shipments Data'!T12,'National Shipments Data'!T16)/SUM('National Shipments Data'!T$10:T$13,'National Shipments Data'!T$16:T$17)","v":0.24175824175824176},{"$f":"FORECAST(AC$9,$D10:$AB10,$D$9:$AB$9)","v":0.25841628327331634},{"$f":"FORECAST(AD$9,$D10:$AB10,$D$9:$AB$9)","v":0.24973963151926526},0.24106297976521418,0.2323863280111631,0.22370967625711202,0.21503302450305739,0.20635637274900631,0.19767972099495523,0.18900306924090415,0.18032641748685307,0.17164976573279844,0.16297311397874736,0.15429646222469628,0.14561981047064521,0.13694315871659413,0.12826650696254305,0.11958985520848842,0.11091320345443734,0.10223655170038626,9.3559899946335179E-2,8.48832481922841E-2,7.6206596438233021E-2,6.7529944684178389E-2,5.885329293012731E-2,5.0176641176076231E-2,4.1499989422025152E-2,3.2823337667974073E-2,2.4146685913922994E-2,1.5470034159868362E-2]
[null,null,{"$f":"'Product Classes'!$H$13&\" - \"&'Product Classes'!$C$13","v":"PC2 - Electric Ovens—Self-Clean Ovens"},{"$f":"E11","v":0.57471264367816088},0.57471264367816088,0.57471264367816088,0.57471264367816088,0.57471264367816088,0.57471264367816088,0.57471264367816088,0.57471264367816088,{"$f":"M11","v":0.57471264367816088},{"$f":"SUM('National Shipments Data'!E11,'National Shipments Data'!E13,'National Shipments Data'!E17)/SUM('National Shipments Data'!E$10:E$13,'National Shipments Data'!E$16:E$17)","v":0.57471264367816088},{"$f":"SUM('National Shipments Data'!F11,'National Shipments Data'!F13,'National Shipments Data'!F17)/SUM('National Shipments Data'!F$10:F$13,'National Shipments Data'!F$16:F$17)","v":0.56818181818181823},{"$f":"SUM('National Shipments Data'!G11,'National Shipments Data'!G13,'National Shipments Data'!G17)/SUM('National Shipments Data'!G$10:G$13,'National Shipments Data'!G$16:G$17)","v":0.5617977528089888},{"$f":"SUM('National Shipments Data'!H11,'National Shipments Data'!H13,'National Shipments Data'!H17)/SUM('National Shipments Data'!H$10:H$13,'National Shipments Data'!H$16:H$17)","v":0.56818181818181823},{"$f":"SUM('National Shipments Data'!I11,'National Shipments Data'!I13,'National Shipments Data'!I17)/SUM('National Shipments Data'!I$10:I$13,'National Shipments Data'!I$16:I$17)","v":0.6067415730337079},{"$f":"SUM('National Shipments Data'!J11,'National Shipments Data'!J13,'National Shipments Data'!J17)/SUM('National Shipments Data'!J$10:J$13,'National Shipments Data'!J$16:J$17)","v":0.6},{"$f":"SUM('National Shipments Data'!K11,'National Shipments Data'!K13,'National Shipments Data'!K17)/SUM('National Shipments Data'!K$10:K$13,'National Shipments Data'!K$16:K$17)","v":0.63333333333333341},{"$f":"SUM('National Shipments Data'!L11,'National Shipments Data'!L13,'National Shipments Data'!L17)/SUM('National Shipments Data'!L$10:L$13,'National Shipments Data'!L$16:L$17)","v":0.651685393258427},{"$f":"SUM('National Shipments Data'!M11,'National Shipments Data'!M13,'National Shipments Data'!M17)/SUM('National Shipments Data'!M$10:M$13,'National Shipments Data'!M$16:M$17)","v":0.6741573033707865},{"$f":"SUM('National Shipments Data'!N11,'National Shipments Data'!N13,'National Shipments Data'!N17)/SUM('National Shipments Data'!N$10:N$13,'National Shipments Data'!N$16:N$17)","v":0.68888888888888888},{"$f":"SUM('National Shipments Data'!O11,'National Shipments Data'!O13,'National Shipments Data'!O17)/SUM('National Shipments Data'!O$10:O$13,'National Shipments Data'!O$16:O$17)","v":0.69230769230769229},{"$f":"SUM('National Shipments Data'!P11,'National Shipments Data'!P13,'National Shipments Data'!P17)/SUM('National Shipments Data'!P$10:P$13,'National Shipments Data'!P$16:P$17)","v":0.7078651685393258},{"$f":"SUM('National Shipments Data'!Q11,'National Shipments Data'!Q13,'National Shipments Data'!Q17)/SUM('National Shipments Data'!Q$10:Q$13,'National Shipments Data'!Q$16:Q$17)","v":0.72527472527472525},{"$f":"SUM('National Shipments Data'!R11,'National Shipments Data'!R13,'National Shipments Data'!R17)/SUM('National Shipments Data'!R$10:R$13,'National Shipments Data'!R$16:R$17)","v":0.76666666666666672},{"$f":"SUM('National Shipments Data'!S11,'National Shipments Data'!S13,'National Shipments Data'!S17)/SUM('National Shipments Data'!S$10:S$13,'National Shipments Data'!S$16:S$17)","v":0.76923076923076927},{"$f":"SUM('National Shipments Data'!T11,'National Shipments Data'!T13,'National Shipments Data'!T17)/SUM('National Shipments Data'!T$10:T$13,'National Shipments Data'!T$16:T$17)","v":0.75824175824175832},{"$f":"FORECAST(AC$9,$D11:$AB11,$D$9:$AB$9)","v":0.74158371672668366},0.75026036848073474,0.75893702023478582,0.7676136719888369,0.77629032374288798,0.78496697549694261,0.79364362725099369,0.80232027900504477,0.81099693075909585,0.81967358251314693,0.828350234267198,0.83702688602125264,0.84570353777530372,0.85438018952935479,0.86305684128340587,0.87173349303745695,0.88041014479151158,0.88908679654556266,0.89776344829961374,0.90644010005366482,0.9151167518077159,0.92379340356176698,0.93247005531582161,0.94114670706987269,0.94982335882392377,0.95850001057797485,0.96717666233202593,0.97585331408607701,0.98452996584013164]
[]
[null,null,"POST-Case",1981,1982,1983,1984,1985,1986,1987,1988,1989,1990,1991,1992,1993,1994,1995,1996,1997,1998,1999,2000,2001,2002,2003,2004,2005,2006,2007,2008,2009,2010,2011,2012,2013,2014,2015,2016,2017,2018,2019,2020,2021,2022,2023,2024,2025,2026,2027,2028,2029,2030,2031,2032,2033,2034]
[null,null,{"$f":"'Product Classes'!$H$12&\" - \"&'Product Classes'!$C$12","v":"PC1 - Electric Ovens—Standards Ovens With or Without a Catalytic Line"},{"$f":"E14","v":0.42528735632183906},0.42528735632183906,0.42528735632183906,0.42528735632183906,0.42528735632183906,0.42528735632183906,0.42528735632183906,0.42528735632183906,{"$f":"M14","v":0.42528735632183906},{"$f":"M10","v":0.42528735632183906},{"$f":"N10","v":0.43181818181818177},0.4382022471910112,0.43181818181818182,0.3932584269662921,0.39999999999999997,0.36666666666666664,0.34831460674157311,0.3258426966292135,0.31111111111111112,0.30769230769230771,0.29213483146067415,0.27472527472527469,0.23333333333333331,0.23076923076923075,0.24175824175824176,0.25841628327331634,0.24973963151926526,0.24106297976521418,0.2323863280111631,0.22370967625711202,0.21503302450305739,0.20635637274900631,0.19767972099495523,0.18900306924090415,0.18032641748685307,0.17164976573279844,0.16297311397874736,0.15429646222469628,0.14561981047064521,0.13694315871659413,0.12826650696254305,0.11958985520848842,0.11091320345443734,0.10223655170038626,9.3559899946335179E-2,8.48832481922841E-2,7.6206596438233021E-2,6.7529944684178389E-2,5.885329293012731E-2,5.0176641176076231E-2,4.1499989422025152E-2,3.2823337667974073E-2,2.4146685913922994E-2,1.5470034159868362E-2]
[null,null,{"$f":"'Product Classes'!$H$13&\" - \"&'Product Classes'!$C$13","v":"PC2 - Electric Ovens—Self-Clean Ovens"},{"$f":"E15","v":0.57471264367816088},0.57471264367816088,0.57471264367816088,0.57471264367816088,0.57471264367816088,0.57471264367816088,0.57471264367816088,0.57471264367816088,{"$f":"M15","v":0.57471264367816088},{"$f":"M11","v":0.57471264367816088},0.56818181818181823,0.5617977528089888,0.56818181818181823,0.6067415730337079,0.6,0.63333333333333341,0.651685393258427,0.6741573033707865,0.68888888888888888,0.69230769230769229,0.7078651685393258,0.72527472527472525,0.76666666666666672,0.76923076923076927,0.75824175824175832,0.74158371672668366,0.75026036848073474,0.75893702023478582,0.7676136719888369,0.77629032374288798,0.78496697549694261,0.79364362725099369,0.80232027900504477,0.81099693075909585,0.81967358251314693,0.828350234267198,0.83702688602125264,0.84570353777530372,0.85438018952935479,0.86305684128340587,0.87173349303745695,0.88041014479151158,0.88908679654556266,0.89776344829961374,0.90644010005366482,0.9151167518077159,0.92379340356176698,0.93247005531582161,0.94114670706987269,0.94982335882392377,0.95850001057797485,0.96717666233202593,0.97585331408607701,0.98452996584013164]

{"sheet":"UEC Development","index":17,"n_rows":34,"n_cols":12,"rows_kept":34,"cut":false,"hidden":false,"merged":[[26,5,26,7],[26,9,26,11],[1,2,1,3],[3,2,3,3],[5,2,5,3],[10,5,10,7],[10,9,10,11]]}
[]
[null,null,"UEC Development by Building Type"]
[]
[null,null,"NAVIGATION"]
[]
[null,null,"COMMENTS"]
[]
[]
[null,null,{"$f":"'Product Classes'!$H$12&\" - \"&'Product Classes'!$C$12","v":"PC1 - Electric Ovens—Standards Ovens With or Without a Catalytic Line"}]
[]
[null,null,null,"Single Family",null,"Scaling Factors",null,null,null,"Unit Energy Consumption (UEC)"]
[null,null,"Efficiency Level","Annual Energy Consumption",null,"Single Family","Multi-Family","Manufactured Homes",null,"Single Family","Multi-Family","Manufactured Homes"]
[null,null,null,"kWh / year",null,"Scaling Factors","Scaling Factors","Scaling Factors",null,"kWh / year","kWh / year","kWh / year"]
[null,null,"EL0",{"$f":"'Efficiency Levels'!D12","v":370},null,1,1,1,null,{"$f":"$D14*F14","v":370},{"$f":"$D14*G14","v":370},370]
[null,null,"EL1",{"$f":"'Efficiency Levels'!D13","v":327.7},null,1,1,1,null,{"$f":"$D15*F15","v":327.7},327.7,327.7]
[null,null,"EL2",{"$f":"'Efficiency Levels'!D14","v":316.10000000000002},null,1,1,1,null,316.10000000000002,316.10000000000002,316.10000000000002]
[null,null,"EL3",{"$f":"'Efficiency Levels'!D15","v":304.8},null,1,1,1,null,304.8,304.8,304.8]
[null,null,"EL4",{"$f":"'Efficiency Levels'!D16","v":300.89999999999998},null,1,1,1,null,300.89999999999998,300.89999999999998,300.89999999999998]
[null,null,"EL5",{"$f":"'Efficiency Levels'!D17","v":300.3},null,1,1,1,null,300.3,300.3,300.3]
[null,null,"EL6",{"$f":"'Efficiency Levels'!D18","v":295.2},null,1,1,1,null,295.2,295.2,295.2]
[null,null,"EL7",{"$f":"'Efficiency Levels'!D19","v":255},null,1,1,1,null,255,255,255]
[]
[]
[]
[null,null,{"$f":"'Product Classes'!$H$13&\" - \"&'Product Classes'!$C$13","v":"PC2 - Electric Ovens—Self-Clean Ovens"}]
[]
[null,null,null,"Single Family",null,"Scaling Factors",null,null,null,"Unit Energy Consumption (UEC)"]
[null,null,"Efficiency Level","Annual Energy Consumption",null,"Single Family","Multi-Family","Manufactured Homes",null,"Single Family","Multi-Family","Manufactured Homes"]
[null,null,null,"kWh / year",null,"Scaling Factors","Scaling Factors","Scaling Factors",null,"kWh / year","kWh / year","kWh / year"]
[null,null,"EL0",{"$f":"'Efficiency Levels'!D32","v":360},null,1,1,1,null,{"$f":"$D30*F30","v":360},360,360]
[null,null,"EL1",{"$f":"'Efficiency Levels'!D33","v":317.7},null,1,1,1,null,317.7,317.7,317.7]
[null,null,"EL2",{"$f":"'Efficiency Levels'!D34","v":317},null,1,1,1,null,317,317,317]
[null,null,"EL3",{"$f":"'Efficiency Levels'!D35","v":312},null,1,1,1,null,312,312,312]
[null,null,"EL4",{"$f":"'Efficiency Levels'!D36","v":271.89999999999998},null,1,1,1,null,271.89999999999998,271.89999999999998,271.89999999999998]

{"sheet":"UEC-SF","index":18,"n_rows":17,"n_cols":57,"rows_kept":17,"cut":false,"hidden":false,"merged":[]}
[]
[null,null,"Weighted Annual UEC - Single Family"]
[]
[null,null,"NAVIGATION"]
[]
[null,null,"COMMENTS"]
[]
[]
[null,null,"Market UEC (Shipment Weighted Average)"]
[null,null,null,1981,1982,1983,1984,1985,1986,1987,1988,1989,1990,1991,1992,1993,1994,1995,1996,1997,1998,1999,2000,2001,2002,2003,2004,2005,2006,2007,2008,2009,2010,2011,2012,2013,2014,2015,2016,2017,2018,2019,2020,2021,2022,2023,2024,2025,2026,2027,2028,2029,2030,2031,2032,2033,2034]
[null,null,"PRE-Case UEC",{"$f":"'Product Class Dist'!D10*SUMPRODUCT('UEC Development'!$J$14:$J$21,'Efficiency Dist - SF'!I13:I20)\n+'Product Class Dist'!D11*SUMPRODUCT('UEC Development'!$J$30:$J$34,'Efficiency Dist - SF'!I43:I47)","v":364.25287356321837},{"$f":"'Product Class Dist'!E10*SUMPRODUCT('UEC Development'!$J$14:$J$21,'Efficiency Dist - SF'!J13:J20)\n+'Product Class Dist'!E11*SUMPRODUCT('UEC Development'!$J$30:$J$34,'Efficiency Dist - SF'!J43:J47)","v":364.25287356321837},{"$f":"'Product Class Dist'!F10*SUMPRODUCT('UEC Development'!$J$14:$J$21,'Efficiency Dist - SF'!K13:K20)\n+'Product Class Dist'!F11*SUMPRODUCT('UEC Development'!$J$30:$J$34,'Efficiency Dist - SF'!K43:K47)","v":364.25287356321837},{"$f":"'Product Class Dist'!G10*SUMPRODUCT('UEC Development'!$J$14:$J$21,'Efficiency Dist - SF'!L13:L20)\n+'Product Class Dist'!G11*SUMPRODUCT('UEC Development'!$J$30:$J$34,'Efficiency Dist - SF'!L43:L47)","v":364.25287356321837},{"$f":"'Product Class Dist'!H10*SUMPRODUCT('UEC Development'!$J$14:$J$21,'Efficiency Dist - SF'!M13:M20)\n+'Product Class Dist'!H11*SUMPRODUCT('UEC Development'!$J$30:$J$34,'Efficiency Dist - SF'!M43:M47)","v":364.25287356321837},{"$f":"'Product Class Dist'!I10*SUMPRODUCT('UEC Development'!$J$14:$J$21,'Efficiency Dist - SF'!N13:N20)\n+'Product Class Dist'!I11*SUMPRODUCT('UEC Development'!$J$30:$J$34,'Efficiency Dist - SF'!N43:N47)","v":364.25287356321837},{"$f":"'Product Class Dist'!J10*SUMPRODUCT('UEC Development'!$J$14:$J$21,'Efficiency Dist - SF'!O13:O20)\n+'Product Class Dist'!J11*SUMPRODUCT('UEC Development'!$J$30:$J$34,'Efficiency Dist - SF'!O43:O47)","v":364.25287356321837},{"$f":"'Product Class Dist'!K10*SUMPRODUCT('UEC Development'!$J$14:$J$21,'Efficiency Dist - SF'!P13:P20)\n+'Product Class Dist'!K11*SUMPRODUCT('UEC Development'!$J$30:$J$34,'Efficiency Dist - SF'!P43:P47)","v":364.25287356321837},{"$f":"'Product Class Dist'!L10*SUMPRODUCT('UEC Development'!$J$14:$J$21,'Efficiency Dist - SF'!Q13:Q20)\n+'Product Class Dist'!L11*SUMPRODUCT('UEC Development'!$J$30:$J$34,'Efficiency Dist - SF'!Q43:Q47)","v":364.25287356321837},{"$f":"'Product Class Dist'!M10*SUMPRODUCT('UEC Development'!$J$14:$J$21,'Efficiency Dist - SF'!R13:R20)\n+'Product Class Dist'!M11*SUMPRODUCT('UEC Development'!$J$30:$J$34,'Efficiency Dist - SF'!R43:R47)","v":364.25287356321837},{"$f":"'Product Class Dist'!N10*SUMPRODUCT('UEC Development'!$J$14:$J$21,'Efficiency Dist - SF'!S13:S20)\n+'Product Class Dist'!N11*SUMPRODUCT('UEC Development'!$J$30:$J$34,'Efficiency Dist - SF'!S43:S47)","v":364.31818181818181},{"$f":"'Product Class Dist'!O10*SUMPRODUCT('UEC Development'!$J$14:$J$21,'Efficiency Dist - SF'!T13:T20)\n+'Product Class Dist'!O11*SUMPRODUCT('UEC Development'!$J$30:$J$34,'Efficiency Dist - SF'!T43:T47)","v":364.38202247191009},{"$f":"'Product Class Dist'!P10*SUMPRODUCT('UEC Development'!$J$14:$J$21,'Efficiency Dist - SF'!U13:U20)\n+'Product Class Dist'!P11*SUMPRODUCT('UEC Development'!$J$30:$J$34,'Efficiency Dist - SF'!U43:U47)","v":364.31818181818187},{"$f":"'Product Class Dist'!Q10*SUMPRODUCT('UEC Development'!$J$14:$J$21,'Efficiency Dist - SF'!V13:V20)\n+'Product Class Dist'!Q11*SUMPRODUCT('UEC Development'!$J$30:$J$34,'Efficiency Dist - SF'!V43:V47)","v":363.93258426966293},{"$f":"'Product Class Dist'!R10*SUMPRODUCT('UEC Development'!$J$14:$J$21,'Efficiency Dist - SF'!W13:W20)\n+'Product Class Dist'!R11*SUMPRODUCT('UEC Development'!$J$30:$J$34,'Efficiency Dist - SF'!W43:W47)","v":364},{"$f":"'Product Class Dist'!S10*SUMPRODUCT('UEC Development'!$J$14:$J$21,'Efficiency Dist - SF'!X13:X20)\n+'Product Class Dist'!S11*SUMPRODUCT('UEC Development'!$J$30:$J$34,'Efficiency Dist - SF'!X43:X47)","v":363.66666666666669},{"$f":"'Product Class Dist'!T10*SUMPRODUCT('UEC Development'!$J$14:$J$21,'Efficiency Dist - SF'!Y13:Y20)\n+'Product Class Dist'!T11*SUMPRODUCT('UEC Development'!$J$30:$J$34,'Efficiency Dist - SF'!Y43:Y47)","v":363.48314606741576},{"$f":"'Product Class Dist'!U10*SUMPRODUCT('UEC Development'!$J$14:$J$21,'Efficiency Dist - SF'!Z13:Z20)\n+'Product Class Dist'!U11*SUMPRODUCT('UEC Development'!$J$30:$J$34,'Efficiency Dist - SF'!Z43:Z47)","v":363.25842696629212},{"$f":"'Product Class Dist'!V10*SUMPRODUCT('UEC Development'!$J$14:$J$21,'Efficiency Dist - SF'!AA13:AA20)\n+'Product Class Dist'!V11*SUMPRODUCT('UEC Development'!$J$30:$J$34,'Efficiency Dist - SF'!AA43:AA47)","v":363.11111111111109},{"$f":"'Product Class Dist'!W10*SUMPRODUCT('UEC Development'!$J$14:$J$21,'Efficiency Dist - SF'!AB13:AB20)\n+'Product Class Dist'!W11*SUMPRODUCT('UEC Development'!$J$30:$J$34,'Efficiency Dist - SF'!AB43:AB47)","v":363.07692307692309},{"$f":"'Product Class Dist'!X10*SUMPRODUCT('UEC Development'!$J$14:$J$21,'Efficiency Dist - SF'!AC13:AC20)\n+'Product Class Dist'!X11*SUMPRODUCT('UEC Development'!$J$30:$J$34,'Efficiency Dist - SF'!AC43:AC47)","v":362.92134831460669},{"$f":"'Product Class Dist'!Y10*SUMPRODUCT('UEC Development'!$J$14:$J$21,'Efficiency Dist - SF'!AD13:AD20)\n+'Product Class Dist'!Y11*SUMPRODUCT('UEC Development'!$J$30:$J$34,'Efficiency Dist - SF'!AD43:AD47)","v":362.74725274725273},{"$f":"'Product Class Dist'!Z10*SUMPRODUCT('UEC Development'!$J$14:$J$21,'Efficiency Dist - SF'!AE13:AE20)\n+'Product Class Dist'!Z11*SUMPRODUCT('UEC Development'!$J$30:$J$34,'Efficiency Dist - SF'!AE43:AE47)","v":362.33333333333331},{"$f":"'Product Class Dist'!AA10*SUMPRODUCT('UEC Development'!$J$14:$J$21,'Efficiency Dist - SF'!AF13:AF20)\n+'Product Class Dist'!AA11*SUMPRODUCT('UEC Development'!$J$30:$J$34,'Efficiency Dist - SF'!AF43:AF47)","v":362.30769230769232},{"$f":"'Product Class Dist'!AB10*SUMPRODUCT('UEC Development'!$J$14:$J$21,'Efficiency Dist - SF'!AG13:AG20)\n+'Product Class Dist'!AB11*SUMPRODUCT('UEC Development'!$J$30:$J$34,'Efficiency Dist - SF'!AG43:AG47)","v":362.41758241758242},{"$f":"'Product Class Dist'!AC10*SUMPRODUCT('UEC Development'!$J$14:$J$21,'Efficiency Dist - SF'!AH13:AH20)\n+'Product Class Dist'!AC11*SUMPRODUCT('UEC Development'!$J$30:$J$34,'Efficiency Dist - SF'!AH43:AH47)","v":362.58416283273311},{"$f":"'Product Class Dist'!AD10*SUMPRODUCT('UEC Development'!$J$14:$J$21,'Efficiency Dist - SF'!AI13:AI20)\n+'Product Class Dist'!AD11*SUMPRODUCT('UEC Development'!$J$30:$J$34,'Efficiency Dist - SF'!AI43:AI47)","v":362.49739631519265},{"$f":"'Product Class Dist'!AE10*SUMPRODUCT('UEC Development'!$J$14:$J$21,'Efficiency Dist - SF'!AJ13:AJ20)\n+'Product Class Dist'!AE11*SUMPRODUCT('UEC Development'!$J$30:$J$34,'Efficiency Dist - SF'!AJ43:AJ47)","v":362.41062979765212},{"$f":"'Product Class Dist'!AF10*SUMPRODUCT('UEC Development'!$J$14:$J$21,'Efficiency Dist - SF'!AK13:AK20)\n+'Product Class Dist'!AF11*SUMPRODUCT('UEC Development'!$J$30:$J$34,'Efficiency Dist - SF'!AK43:AK47)","v":362.32386328011165},{"$f":"'Product Class Dist'!AG10*SUMPRODUCT('UEC Development'!$J$14:$J$21,'Efficiency Dist - SF'!AL13:AL20)\n+'Product Class Dist'!AG11*SUMPRODUCT('UEC Development'!$J$30:$J$34,'Efficiency Dist - SF'!AL43:AL47)","v":362.23709676257113},{"$f":"'Product Class Dist'!AH10*SUMPRODUCT('UEC Development'!$J$14:$J$21,'Efficiency Dist - SF'!AM13:AM20)\n+'Product Class Dist'!AH11*SUMPRODUCT('UEC Development'!$J$30:$J$34,'Efficiency Dist - SF'!AM43:AM47)","v":362.15033024503055},{"$f":"'Product Class Dist'!AI10*SUMPRODUCT('UEC Development'!$J$14:$J$21,'Efficiency Dist - SF'!AN13:AN20)\n+'Product Class Dist'!AI11*SUMPRODUCT('UEC Development'!$J$30:$J$34,'Efficiency Dist - SF'!AN43:AN47)","v":362.06356372749008},{"$f":"'Product Class Dist'!AJ10*SUMPRODUCT('UEC Development'!$J$14:$J$21,'Efficiency Dist - SF'!AO13:AO20)\n+'Product Class Dist'!AJ11*SUMPRODUCT('UEC Development'!$J$30:$J$34,'Efficiency Dist - SF'!AO43:AO47)","v":361.97679720994955},{"$f":"'Product Class Dist'!AK10*SUMPRODUCT('UEC Development'!$J$14:$J$21,'Efficiency Dist - SF'!AP13:AP20)\n+'Product Class Dist'!AK11*SUMPRODUCT('UEC Development'!$J$30:$J$34,'Efficiency Dist - SF'!AP43:AP47)","v":361.89003069240903},{"$f":"'Product Class Dist'!AL10*SUMPRODUCT('UEC Development'!$J$14:$J$21,'Efficiency Dist - SF'!AQ13:AQ20)\n+'Product Class Dist'!AL11*SUMPRODUCT('UEC Development'!$J$30:$J$34,'Efficiency Dist - SF'!AQ43:AQ47)","v":361.80326417486856},{"$f":"'Product Class Dist'!AM10*SUMPRODUCT('UEC Development'!$J$14:$J$21,'Efficiency Dist - SF'!AR13:AR20)\n+'Product Class Dist'!AM11*SUMPRODUCT('UEC Development'!$J$30:$J$34,'Efficiency Dist - SF'!AR43:AR47)","v":361.71649765732673},{"$f":"'Product Class Dist'!AN10*SUMPRODUCT('UEC Development'!$J$14:$J$21,'Efficiency Dist - SF'!AS13:AS20)\n+'Product Class Dist'!AN11*SUMPRODUCT('UEC Development'!$J$30:$J$34,'Efficiency Dist - SF'!AS43:AS47)","v":361.62973113978745},{"$f":"'Product Class Dist'!AO10*SUMPRODUCT('UEC Development'!$J$14:$J$21,'Efficiency Dist - SF'!AT13:AT20)\n+'Product Class Dist'!AO11*SUMPRODUCT('UEC Development'!$J$30:$J$34,'Efficiency Dist - SF'!AT43:AT47)","v":361.54296462224698},{"$f":"'Product Class Dist'!AP10*SUMPRODUCT('UEC Development'!$J$14:$J$21,'Efficiency Dist - SF'!AU13:AU20)\n+'Product Class Dist'!AP11*SUMPRODUCT('UEC Development'!$J$30:$J$34,'Efficiency Dist - SF'!AU43:AU47)","v":361.4561981047064},{"$f":"'Product Class Dist'!AQ10*SUMPRODUCT('UEC Development'!$J$14:$J$21,'Efficiency Dist - SF'!AV13:AV20)\n+'Product Class Dist'!AQ11*SUMPRODUCT('UEC Development'!$J$30:$J$34,'Efficiency Dist - SF'!AV43:AV47)","v":361.36943158716599},{"$f":"'Product Class Dist'!AR10*SUMPRODUCT('UEC Development'!$J$14:$J$21,'Efficiency Dist - SF'!AW13:AW20)\n+'Product Class Dist'!AR11*SUMPRODUCT('UEC Development'!$J$30:$J$34,'Efficiency Dist - SF'!AW43:AW47)","v":361.28266506962541},{"$f":"'Product Class Dist'!AS10*SUMPRODUCT('UEC Development'!$J$14:$J$21,'Efficiency Dist - SF'!AX13:AX20)\n+'Product Class Dist'!AS11*SUMPRODUCT('UEC Development'!$J$30:$J$34,'Efficiency Dist - SF'!AX43:AX47)","v":361.19589855208488},{"$f":"'Product Class Dist'!AT10*SUMPRODUCT('UEC Development'!$J$14:$J$21,'Efficiency Dist - SF'!AY13:AY20)\n+'Product Class Dist'!AT11*SUMPRODUCT('UEC Development'!$J$30:$J$34,'Efficiency Dist - SF'!AY43:AY47)","v":361.10913203454436},{"$f":"'Product Class Dist'!AU10*SUMPRODUCT('UEC Development'!$J$14:$J$21,'Efficiency Dist - SF'!AZ13:AZ20)\n+'Product Class Dist'!AU11*SUMPRODUCT('UEC Development'!$J$30:$J$34,'Efficiency Dist - SF'!AZ43:AZ47)","v":361.02236551700389},{"$f":"'Product Class Dist'!AV10*SUMPRODUCT('UEC Development'!$J$14:$J$21,'Efficiency Dist - SF'!BA13:BA20)\n+'Product Class Dist'!AV11*SUMPRODUCT('UEC Development'!$J$30:$J$34,'Efficiency Dist - SF'!BA43:BA47)","v":360.93559899946337},{"$f":"'Product Class Dist'!AW10*SUMPRODUCT('UEC Development'!$J$14:$J$21,'Efficiency Dist - SF'!BB13:BB20)\n+'Product Class Dist'!AW11*SUMPRODUCT('UEC Development'!$J$30:$J$34,'Efficiency Dist - SF'!BB43:BB47)","v":360.84883248192284},{"$f":"'Product Class Dist'!AX10*SUMPRODUCT('UEC Development'!$J$14:$J$21,'Efficiency Dist - SF'!BC13:BC20)\n+'Product Class Dist'!AX11*SUMPRODUCT('UEC Development'!$J$30:$J$34,'Efficiency Dist - SF'!BC43:BC47)","v":360.76206596438232},{"$f":"'Product Class Dist'!AY10*SUMPRODUCT('UEC Development'!$J$14:$J$21,'Efficiency Dist - SF'!BD13:BD20)\n+'Product Class Dist'!AY11*SUMPRODUCT('UEC Development'!$J$30:$J$34,'Efficiency Dist - SF'!BD43:BD47)","v":360.67529944684173},{"$f":"'Product Class Dist'!AZ10*SUMPRODUCT('UEC Development'!$J$14:$J$21,'Efficiency Dist - SF'!BE13:BE20)\n+'Product Class Dist'!AZ11*SUMPRODUCT('UEC Development'!$J$30:$J$34,'Efficiency Dist - SF'!BE43:BE47)","v":360.58853292930132},{"$f":"'Product Class Dist'!BA10*SUMPRODUCT('UEC Development'!$J$14:$J$21,'Efficiency Dist - SF'!BF13:BF20)\n+'Product Class Dist'!BA11*SUMPRODUCT('UEC Development'!$J$30:$J$34,'Efficiency Dist - SF'!BF43:BF47)","v":360.50176641176074},{"$f":"'Product Class Dist'!BB10*SUMPRODUCT('UEC Development'!$J$14:$J$21,'Efficiency Dist - SF'!BG13:BG20)\n+'Product Class Dist'!BB11*SUMPRODUCT('UEC Development'!$J$30:$J$34,'Efficiency Dist - SF'!BG43:BG47)","v":360.41499989422027},{"$f":"'Product Class Dist'!BC10*SUMPRODUCT('UEC Development'!$J$14:$J$21,'Efficiency Dist - SF'!BH13:BH20)\n+'Product Class Dist'!BC11*SUMPRODUCT('UEC Development'!$J$30:$J$34,'Efficiency Dist - SF'!BH43:BH47)","v":360.32823337667969},{"$f":"'Product Class Dist'!BD10*SUMPRODUCT('UEC Development'!$J$14:$J$21,'Efficiency Dist - SF'!BI13:BI20)\n+'Product Class Dist'!BD11*SUMPRODUCT('UEC Development'!$J$30:$J$34,'Efficiency Dist - SF'!BI43:BI47)","v":360.24146685913928},{"$f":"'Product Class Dist'!BE10*SUMPRODUCT('UEC Development'!$J$14:$J$21,'Efficiency Dist - SF'!BJ13:BJ20)\n+'Product Class Dist'!BE11*SUMPRODUCT('UEC Development'!$J$30:$J$34,'Efficiency Dist - SF'!BJ43:BJ47)","v":360.1547003415987}]
[null,null,"POST-Case UEC",{"$f":"'Product Class Dist'!D14*SUMPRODUCT('UEC Development'!$J$14:$J$21,'Efficiency Dist - SF'!I25:I32)\n+'Product Class Dist'!D15*SUMPRODUCT('UEC Development'!$J$30:$J$34,'Efficiency Dist - SF'!I52:I56)","v":364.25287356321837},{"$f":"'Product Class Dist'!E14*SUMPRODUCT('UEC Development'!$J$14:$J$21,'Efficiency Dist - SF'!J25:J32)\n+'Product Class Dist'!E15*SUMPRODUCT('UEC Development'!$J$30:$J$34,'Efficiency Dist - SF'!J52:J56)","v":364.25287356321837},{"$f":"'Product Class Dist'!F14*SUMPRODUCT('UEC Development'!$J$14:$J$21,'Efficiency Dist - SF'!K25:K32)\n+'Product Class Dist'!F15*SUMPRODUCT('UEC Development'!$J$30:$J$34,'Efficiency Dist - SF'!K52:K56)","v":364.25287356321837},{"$f":"'Product Class Dist'!G14*SUMPRODUCT('UEC Development'!$J$14:$J$21,'Efficiency Dist - SF'!L25:L32)\n+'Product Class Dist'!G15*SUMPRODUCT('UEC Development'!$J$30:$J$34,'Efficiency Dist - SF'!L52:L56)","v":364.25287356321837},{"$f":"'Product Class Dist'!H14*SUMPRODUCT('UEC Development'!$J$14:$J$21,'Efficiency Dist - SF'!M25:M32)\n+'Product Class Dist'!H15*SUMPRODUCT('UEC Development'!$J$30:$J$34,'Efficiency Dist - SF'!M52:M56)","v":364.25287356321837},{"$f":"'Product Class Dist'!I14*SUMPRODUCT('UEC Development'!$J$14:$J$21,'Efficiency Dist - SF'!N25:N32)\n+'Product Class Dist'!I15*SUMPRODUCT('UEC Development'!$J$30:$J$34,'Efficiency Dist - SF'!N52:N56)","v":364.25287356321837},{"$f":"'Product Class Dist'!J14*SUMPRODUCT('UEC Development'!$J$14:$J$21,'Efficiency Dist - SF'!O25:O32)\n+'Product Class Dist'!J15*SUMPRODUCT('UEC Development'!$J$30:$J$34,'Efficiency Dist - SF'!O52:O56)","v":364.25287356321837},{"$f":"'Product Class Dist'!K14*SUMPRODUCT('UEC Development'!$J$14:$J$21,'Efficiency Dist - SF'!P25:P32)\n+'Product Class Dist'!K15*SUMPRODUCT('UEC Development'!$J$30:$J$34,'Efficiency Dist - SF'!P52:P56)","v":364.25287356321837},{"$f":"'Product Class Dist'!L14*SUMPRODUCT('UEC Development'!$J$14:$J$21,'Efficiency Dist - SF'!Q25:Q32)\n+'Product Class Dist'!L15*SUMPRODUCT('UEC Development'!$J$30:$J$34,'Efficiency Dist - SF'!Q52:Q56)","v":364.25287356321837},{"$f":"'Product Class Dist'!M14*SUMPRODUCT('UEC Development'!$J$14:$J$21,'Efficiency Dist - SF'!R25:R32)\n+'Product Class Dist'!M15*SUMPRODUCT('UEC Development'!$J$30:$J$34,'Efficiency Dist - SF'!R52:R56)","v":364.25287356321837},{"$f":"'Product Class Dist'!N14*SUMPRODUCT('UEC Development'!$J$14:$J$21,'Efficiency Dist - SF'!S25:S32)\n+'Product Class Dist'!N15*SUMPRODUCT('UEC Development'!$J$30:$J$34,'Efficiency Dist - SF'!S52:S56)","v":364.31818181818181},{"$f":"'Product Class Dist'!O14*SUMPRODUCT('UEC Development'!$J$14:$J$21,'Efficiency Dist - SF'!T25:T32)\n+'Product Class Dist'!O15*SUMPRODUCT('UEC Development'!$J$30:$J$34,'Efficiency Dist - SF'!T52:T56)","v":364.38202247191009},{"$f":"'Product Class Dist'!P14*SUMPRODUCT('UEC Development'!$J$14:$J$21,'Efficiency Dist - SF'!U25:U32)\n+'Product Class Dist'!P15*SUMPRODUCT('UEC Development'!$J$30:$J$34,'Efficiency Dist - SF'!U52:U56)","v":364.31818181818187},{"$f":"'Product Class Dist'!Q14*SUMPRODUCT('UEC Development'!$J$14:$J$21,'Efficiency Dist - SF'!V25:V32)\n+'Product Class Dist'!Q15*SUMPRODUCT('UEC Development'!$J$30:$J$34,'Efficiency Dist - SF'!V52:V56)","v":363.93258426966293},{"$f":"'Product Class Dist'!R14*SUMPRODUCT('UEC Development'!$J$14:$J$21,'Efficiency Dist - SF'!W25:W32)\n+'Product Class Dist'!R15*SUMPRODUCT('UEC Development'!$J$30:$J$34,'Efficiency Dist - SF'!W52:W56)","v":364},{"$f":"'Product Class Dist'!S14*SUMPRODUCT('UEC Development'!$J$14:$J$21,'Efficiency Dist - SF'!X25:X32)\n+'Product Class Dist'!S15*SUMPRODUCT('UEC Development'!$J$30:$J$34,'Efficiency Dist - SF'!X52:X56)","v":363.66666666666669},{"$f":"'Product Class Dist'!T14*SUMPRODUCT('UEC Development'!$J$14:$J$21,'Efficiency Dist - SF'!Y25:Y32)\n+'Product Class Dist'!T15*SUMPRODUCT('UEC Development'!$J$30:$J$34,'Efficiency Dist - SF'!Y52:Y56)","v":363.48314606741576},{"$f":"'Product Class Dist'!U14*SUMPRODUCT('UEC Development'!$J$14:$J$21,'Efficiency Dist - SF'!Z25:Z32)\n+'Product Class Dist'!U15*SUMPRODUCT('UEC Development'!$J$30:$J$34,'Efficiency Dist - SF'!Z52:Z56)","v":363.25842696629212},{"$f":"'Product Class Dist'!V14*SUMPRODUCT('UEC Development'!$J$14:$J$21,'Efficiency Dist - SF'!AA25:AA32)\n+'Product Class Dist'!V15*SUMPRODUCT('UEC Development'!$J$30:$J$34,'Efficiency Dist - SF'!AA52:AA56)","v":363.11111111111109},{"$f":"'Product Class Dist'!W14*SUMPRODUCT('UEC Development'!$J$14:$J$21,'Efficiency Dist - SF'!AB25:AB32)\n+'Product Class Dist'!W15*SUMPRODUCT('UEC Development'!$J$30:$J$34,'Efficiency Dist - SF'!AB52:AB56)","v":363.07692307692309},{"$f":"'Product Class Dist'!X14*SUMPRODUCT('UEC Development'!$J$14:$J$21,'Efficiency Dist - SF'!AC25:AC32)\n+'Product Class Dist'!X15*SUMPRODUCT('UEC Development'!$J$30:$J$34,'Efficiency Dist - SF'!AC52:AC56)","v":362.92134831460669},{"$f":"'Product Class Dist'!Y14*SUMPRODUCT('UEC Development'!$J$14:$J$21,'Efficiency Dist - SF'!AD25:AD32)\n+'Product Class Dist'!Y15*SUMPRODUCT('UEC Development'!$J$30:$J$34,'Efficiency Dist - SF'!AD52:AD56)","v":362.74725274725273},{"$f":"'Product Class Dist'!Z14*SUMPRODUCT('UEC Development'!$J$14:$J$21,'Efficiency Dist - SF'!AE25:AE32)\n+'Product Class Dist'!Z15*SUMPRODUCT('UEC Development'!$J$30:$J$34,'Efficiency Dist - SF'!AE52:AE56)","v":362.33333333333331},{"$f":"'Product Class Dist'!AA14*SUMPRODUCT('UEC Development'!$J$14:$J$21,'Efficiency Dist - SF'!AF25:AF32)\n+'Product Class Dist'!AA15*SUMPRODUCT('UEC Development'!$J$30:$J$34,'Efficiency Dist - SF'!AF52:AF56)","v":362.30769230769232},{"$f":"'Product Class Dist'!AB14*SUMPRODUCT('UEC Development'!$J$14:$J$21,'Efficiency Dist - SF'!AG25:AG32)\n+'Product Class Dist'!AB15*SUMPRODUCT('UEC Development'!$J$30:$J$34,'Efficiency Dist - SF'!AG52:AG56)","v":362.41758241758242},{"$f":"'Product Class Dist'!AC14*SUMPRODUCT('UEC Development'!$J$14:$J$21,'Efficiency Dist - SF'!AH25:AH32)\n+'Product Class Dist'!AC15*SUMPRODUCT('UEC Development'!$J$30:$J$34,'Efficiency Dist - SF'!AH52:AH56)","v":362.58416283273311},{"$f":"'Product Class Dist'!AD14*SUMPRODUCT('UEC Development'!$J$14:$J$21,'Efficiency Dist - SF'!AI25:AI32)\n+'Product Class Dist'!AD15*SUMPRODUCT('UEC Development'!$J$30:$J$34,'Efficiency Dist - SF'!AI52:AI56)","v":362.49739631519265},{"$f":"'Product Class Dist'!AE14*SUMPRODUCT('UEC Development'!$J$14:$J$21,'Efficiency Dist - SF'!AJ25:AJ32)\n+'Product Class Dist'!AE15*SUMPRODUCT('UEC Development'!$J$30:$J$34,'Efficiency Dist - SF'!AJ52:AJ56)","v":362.41062979765212},{"$f":"'Product Class Dist'!AF14*SUMPRODUCT('UEC Development'!$J$14:$J$21,'Efficiency Dist - SF'!AK25:AK32)\n+'Product Class Dist'!AF15*SUMPRODUCT('UEC Development'!$J$30:$J$34,'Efficiency Dist - SF'!AK52:AK56)","v":362.32386328011165},{"$f":"'Product Class Dist'!AG14*SUMPRODUCT('UEC Development'!$J$14:$J$21,'Efficiency Dist - SF'!AL25:AL32)\n+'Product Class Dist'!AG15*SUMPRODUCT('UEC Development'!$J$30:$J$34,'Efficiency Dist - SF'!AL52:AL56)","v":362.23709676257113},{"$f":"'Product Class Dist'!AH14*SUMPRODUCT('UEC Development'!$J$14:$J$21,'Efficiency Dist - SF'!AM25:AM32)\n+'Product Class Dist'!AH15*SUMPRODUCT('UEC Development'!$J$30:$J$34,'Efficiency Dist - SF'!AM52:AM56)","v":362.15033024503055},{"$f":"'Product Class Dist'!AI14*SUMPRODUCT('UEC Development'!$J$14:$J$21,'Efficiency Dist - SF'!AN25:AN32)\n+'Product Class Dist'!AI15*SUMPRODUCT('UEC Development'!$J$30:$J$34,'Efficiency Dist - SF'!AN52:AN56)","v":362.06356372749008},{"$f":"'Product Class Dist'!AJ14*SUMPRODUCT('UEC Development'!$J$14:$J$21,'Efficiency Dist - SF'!AO25:AO32)\n+'Product Class Dist'!AJ15*SUMPRODUCT('UEC Development'!$J$30:$J$34,'Efficiency Dist - SF'!AO52:AO56)","v":361.97679720994955},{"$f":"'Product Class Dist'!AK14*SUMPRODUCT('UEC Development'!$J$14:$J$21,'Efficiency Dist - SF'!AP25:AP32)\n+'Product Class Dist'!AK15*SUMPRODUCT('UEC Development'!$J$30:$J$34,'Efficiency Dist - SF'!AP52:AP56)","v":361.89003069240903},{"$f":"'Product Class Dist'!AL14*SUMPRODUCT('UEC Development'!$J$14:$J$21,'Efficiency Dist - SF'!AQ25:AQ32)\n+'Product Class Dist'!AL15*SUMPRODUCT('UEC Development'!$J$30:$J$34,'Efficiency Dist - SF'!AQ52:AQ56)","v":361.80326417486856},{"$f":"'Product Class Dist'!AM14*SUMPRODUCT('UEC Development'!$J$14:$J$21,'Efficiency Dist - SF'!AR25:AR32)\n+'Product Class Dist'!AM15*SUMPRODUCT('UEC Development'!$J$30:$J$34,'Efficiency Dist - SF'!AR52:AR56)","v":361.71649765732673},{"$f":"'Product Class Dist'!AN14*SUMPRODUCT('UEC Development'!$J$14:$J$21,'Efficiency Dist - SF'!AS25:AS32)\n+'Product Class Dist'!AN15*SUMPRODUCT('UEC Development'!$J$30:$J$34,'Efficiency Dist - SF'!AS52:AS56)","v":361.62973113978745},{"$f":"'Product Class Dist'!AO14*SUMPRODUCT('UEC Development'!$J$14:$J$21,'Efficiency Dist - SF'!AT25:AT32)\n+'Product Class Dist'!AO15*SUMPRODUCT('UEC Development'!$J$30:$J$34,'Efficiency Dist - SF'!AT52:AT56)","v":361.54296462224698},{"$f":"'Product Class Dist'!AP14*SUMPRODUCT('UEC Development'!$J$14:$J$21,'Efficiency Dist - SF'!AU25:AU32)\n+'Product Class Dist'!AP15*SUMPRODUCT('UEC Development'!$J$30:$J$34,'Efficiency Dist - SF'!AU52:AU56)","v":312.59704122292965},{"$f":"'Product Class Dist'!AQ14*SUMPRODUCT('UEC Development'!$J$14:$J$21,'Efficiency Dist - SF'!AV25:AV32)\n+'Product Class Dist'!AQ15*SUMPRODUCT('UEC Development'!$J$30:$J$34,'Efficiency Dist - SF'!AV52:AV56)","v":312.56146695073801},{"$f":"'Product Class Dist'!AR14*SUMPRODUCT('UEC Development'!$J$14:$J$21,'Efficiency Dist - SF'!AW25:AW32)\n+'Product Class Dist'!AR15*SUMPRODUCT('UEC Development'!$J$30:$J$34,'Efficiency Dist - SF'!AW52:AW56)","v":312.52589267854648},{"$f":"'Product Class Dist'!AS14*SUMPRODUCT('UEC Development'!$J$14:$J$21,'Efficiency Dist - SF'!AX25:AX32)\n+'Product Class Dist'!AS15*SUMPRODUCT('UEC Development'!$J$30:$J$34,'Efficiency Dist - SF'!AX52:AX56)","v":312.49031840635479},{"$f":"'Product Class Dist'!AT14*SUMPRODUCT('UEC Development'!$J$14:$J$21,'Efficiency Dist - SF'!AY25:AY32)\n+'Product Class Dist'!AT15*SUMPRODUCT('UEC Development'!$J$30:$J$34,'Efficiency Dist - SF'!AY52:AY56)","v":312.45474413416321},{"$f":"'Product Class Dist'!AU14*SUMPRODUCT('UEC Development'!$J$14:$J$21,'Efficiency Dist - SF'!AZ25:AZ32)\n+'Product Class Dist'!AU15*SUMPRODUCT('UEC Development'!$J$30:$J$34,'Efficiency Dist - SF'!AZ52:AZ56)","v":312.41916986197157},{"$f":"'Product Class Dist'!AV14*SUMPRODUCT('UEC Development'!$J$14:$J$21,'Efficiency Dist - SF'!BA25:BA32)\n+'Product Class Dist'!AV15*SUMPRODUCT('UEC Development'!$J$30:$J$34,'Efficiency Dist - SF'!BA52:BA56)","v":312.38359558977999},{"$f":"'Product Class Dist'!AW14*SUMPRODUCT('UEC Development'!$J$14:$J$21,'Efficiency Dist - SF'!BB25:BB32)\n+'Product Class Dist'!AW15*SUMPRODUCT('UEC Development'!$J$30:$J$34,'Efficiency Dist - SF'!BB52:BB56)","v":312.34802131758835},{"$f":"'Product Class Dist'!AX14*SUMPRODUCT('UEC Development'!$J$14:$J$21,'Efficiency Dist - SF'!BC25:BC32)\n+'Product Class Dist'!AX15*SUMPRODUCT('UEC Development'!$J$30:$J$34,'Efficiency Dist - SF'!BC52:BC56)","v":312.31244704539677},{"$f":"'Product Class Dist'!AY14*SUMPRODUCT('UEC Development'!$J$14:$J$21,'Efficiency Dist - SF'!BD25:BD32)\n+'Product Class Dist'!AY15*SUMPRODUCT('UEC Development'!$J$30:$J$34,'Efficiency Dist - SF'!BD52:BD56)","v":312.27687277320518},{"$f":"'Product Class Dist'!AZ14*SUMPRODUCT('UEC Development'!$J$14:$J$21,'Efficiency Dist - SF'!BE25:BE32)\n+'Product Class Dist'!AZ15*SUMPRODUCT('UEC Development'!$J$30:$J$34,'Efficiency Dist - SF'!BE52:BE56)","v":312.24129850101349},{"$f":"'Product Class Dist'!BA14*SUMPRODUCT('UEC Development'!$J$14:$J$21,'Efficiency Dist - SF'!BF25:BF32)\n+'Product Class Dist'!BA15*SUMPRODUCT('UEC Development'!$J$30:$J$34,'Efficiency Dist - SF'!BF52:BF56)","v":312.20572422882196},{"$f":"'Product Class Dist'!BB14*SUMPRODUCT('UEC Development'!$J$14:$J$21,'Efficiency Dist - SF'!BG25:BG32)\n+'Product Class Dist'!BB15*SUMPRODUCT('UEC Development'!$J$30:$J$34,'Efficiency Dist - SF'!BG52:BG56)","v":312.17014995663027},{"$f":"'Product Class Dist'!BC14*SUMPRODUCT('UEC Development'!$J$14:$J$21,'Efficiency Dist - SF'!BH25:BH32)\n+'Product Class Dist'!BC15*SUMPRODUCT('UEC Development'!$J$30:$J$34,'Efficiency Dist - SF'!BH52:BH56)","v":312.13457568443874},{"$f":"'Product Class Dist'!BD14*SUMPRODUCT('UEC Development'!$J$14:$J$21,'Efficiency Dist - SF'!BI25:BI32)\n+'Product Class Dist'!BD15*SUMPRODUCT('UEC Development'!$J$30:$J$34,'Efficiency Dist - SF'!BI52:BI56)","v":312.09900141224705},{"$f":"'Product Class Dist'!BE14*SUMPRODUCT('UEC Development'!$J$14:$J$21,'Efficiency Dist - SF'!BJ25:BJ32)\n+'Product Class Dist'!BE15*SUMPRODUCT('UEC Development'!$J$30:$J$34,'Efficiency Dist - SF'!BJ52:BJ56)","v":312.06342714005547}]
[]
[null,null,"Installed UEC (Vintage Weighted Average) "]
[null,null,null,1981,1982,1983,1984,1985,1986,1987,1988,1989,1990,1991,1992,1993,1994,1995,1996,1997,1998,1999,2000,2001,2002,2003,2004,2005,2006,2007,2008,2009,2010,2011,2012,2013,2014,2015,2016,2017,2018,2019,2020,2021,2022,2023,2024,2025,2026,2027,2028,2029,2030,2031,2032,2033,2034]
[null,null,"PRE-Case UEC",{"$f":"IF(D$15-$D$15+2<=LIFETIME_SF,D11,\nSUMPRODUCT(OFFSET(D11,0,(-1*LIFETIME_SF)+1,1,LIFETIME_SF),OFFSET('Shipments and Stock - SF'!E$14,0,(-1*LIFETIME_SF)+1,1,LIFETIME_SF))/\nSUM(OFFSET('Shipments and Stock - SF'!E$14,0,(-1*LIFETIME_SF)+1,1,LIFETIME_SF)))","v":364.25287356321837},{"$f":"IF(E$15-$D$15+2<=LIFETIME_SF,E11,\nSUMPRODUCT(OFFSET(E11,0,(-1*LIFETIME_SF)+1,1,LIFETIME_SF),OFFSET('Shipments and Stock - SF'!F$14,0,(-1*LIFETIME_SF)+1,1,LIFETIME_SF))/\nSUM(OFFSET('Shipments and Stock - SF'!F$14,0,(-1*LIFETIME_SF)+1,1,LIFETIME_SF)))","v":364.25287356321837},{"$f":"IF(F$15-$D$15+2<=LIFETIME_SF,F11,\nSUMPRODUCT(OFFSET(F11,0,(-1*LIFETIME_SF)+1,1,LIFETIME_SF),OFFSET('Shipments and Stock - SF'!G$14,0,(-1*LIFETIME_SF)+1,1,LIFETIME_SF))/\nSUM(OFFSET('Shipments and Stock - SF'!G$14,0,(-1*LIFETIME_SF)+1,1,LIFETIME_SF)))","v":364.25287356321837},{"$f":"IF(G$15-$D$15+2<=LIFETIME_SF,G11,\nSUMPRODUCT(OFFSET(G11,0,(-1*LIFETIME_SF)+1,1,LIFETIME_SF),OFFSET('Shipments and Stock - SF'!H$14,0,(-1*LIFETIME_SF)+1,1,LIFETIME_SF))/\nSUM(OFFSET('Shipments and Stock - SF'!H$14,0,(-1*LIFETIME_SF)+1,1,LIFETIME_SF)))","v":364.25287356321837},{"$f":"IF(H$15-$D$15+2<=LIFETIME_SF,H11,\nSUMPRODUCT(OFFSET(H11,0,(-1*LIFETIME_SF)+1,1,LIFETIME_SF),OFFSET('Shipments and Stock - SF'!I$14,0,(-1*LIFETIME_SF)+1,1,LIFETIME_SF))/\nSUM(OFFSET('Shipments and Stock - SF'!I$14,0,(-1*LIFETIME_SF)+1,1,LIFETIME_SF)))","v":364.25287356321837},{"$f":"IF(I$15-$D$15+2<=LIFETIME_SF,I11,\nSUMPRODUCT(OFFSET(I11,0,(-1*LIFETIME_SF)+1,1,LIFETIME_SF),OFFSET('Shipments and Stock - SF'!J$14,0,(-1*LIFETIME_SF)+1,1,LIFETIME_SF))/\nSUM(OFFSET('Shipments and Stock - SF'!J$14,0,(-1*LIFETIME_SF)+1,1,LIFETIME_SF)))","v":364.25287356321837},{"$f":"IF(J$15-$D$15+2<=LIFETIME_SF,J11,\nSUMPRODUCT(OFFSET(J11,0,(-1*LIFETIME_SF)+1,1,LIFETIME_SF),OFFSET('Shipments and Stock - SF'!K$14,0,(-1*LIFETIME_SF)+1,1,LIFETIME_SF))/\nSUM(OFFSET('Shipments and Stock - SF'!K$14,0,(-1*LIFETIME_SF)+1,1,LIFETIME_SF)))","v":364.25287356321837},{"$f":"IF(K$15-$D$15+2<=LIFETIME_SF,K11,\nSUMPRODUCT(OFFSET(K11,0,(-1*LIFETIME_SF)+1,1,LIFETIME_SF),OFFSET('Shipments and Stock - SF'!L$14,0,(-1*LIFETIME_SF)+1,1,LIFETIME_SF))/\nSUM(OFFSET('Shipments and Stock - SF'!L$14,0,(-1*LIFETIME_SF)+1,1,LIFETIME_SF)))","v":364.25287356321837},{"$f":"IF(L$15-$D$15+2<=LIFETIME_SF,L11,\nSUMPRODUCT(OFFSET(L11,0,(-1*LIFETIME_SF)+1,1,LIFETIME_SF),OFFSET('Shipments and Stock - SF'!M$14,0,(-1*LIFETIME_SF)+1,1,LIFETIME_SF))/\nSUM(OFFSET('Shipments and Stock - SF'!M$14,0,(-1*LIFETIME_SF)+1,1,LIFETIME_SF)))","v":364.25287356321837},{"$f":"IF(M$15-$D$15+2<=LIFETIME_SF,M11,\nSUMPRODUCT(OFFSET(M11,0,(-1*LIFETIME_SF)+1,1,LIFETIME_SF),OFFSET('Shipments and Stock - SF'!N$14,0,(-1*LIFETIME_SF)+1,1,LIFETIME_SF))/\nSUM(OFFSET('Shipments and Stock - SF'!N$14,0,(-1*LIFETIME_SF)+1,1,LIFETIME_SF)))","v":364.25287356321837},{"$f":"IF(N$15-$D$15+2<=LIFETIME_SF,N11,\nSUMPRODUCT(OFFSET(N11,0,(-1*LIFETIME_SF)+1,1,LIFETIME_SF),OFFSET('Shipments and Stock - SF'!O$14,0,(-1*LIFETIME_SF)+1,1,LIFETIME_SF))/\nSUM(OFFSET('Shipments and Stock - SF'!O$14,0,(-1*LIFETIME_SF)+1,1,LIFETIME_SF)))","v":364.31818181818181},{"$f":"IF(O$15-$D$15+2<=LIFETIME_SF,O11,\nSUMPRODUCT(OFFSET(O11,0,(-1*LIFETIME_SF)+1,1,LIFETIME_SF),OFFSET('Shipments and Stock - SF'!P$14,0,(-1*LIFETIME_SF)+1,1,LIFETIME_SF))/\nSUM(OFFSET('Shipments and Stock - SF'!P$14,0,(-1*LIFETIME_SF)+1,1,LIFETIME_SF)))","v":364.38202247191009},{"$f":"IF(P$15-$D$15+2<=LIFETIME_SF,P11,\nSUMPRODUCT(OFFSET(P11,0,(-1*LIFETIME_SF)+1,1,LIFETIME_SF),OFFSET('Shipments and Stock - SF'!Q$14,0,(-1*LIFETIME_SF)+1,1,LIFETIME_SF))/\nSUM(OFFSET('Shipments and Stock - SF'!Q$14,0,(-1*LIFETIME_SF)+1,1,LIFETIME_SF)))","v":364.31818181818187},{"$f":"IF(Q$15-$D$15+2<=LIFETIME_SF,Q11,\nSUMPRODUCT(OFFSET(Q11,0,(-1*LIFETIME_SF)+1,1,LIFETIME_SF),OFFSET('Shipments and Stock - SF'!R$14,0,(-1*LIFETIME_SF)+1,1,LIFETIME_SF))/\nSUM(OFFSET('Shipments and Stock - SF'!R$14,0,(-1*LIFETIME_SF)+1,1,LIFETIME_SF)))","v":363.93258426966293},{"$f":"IF(R$15-$D$15+2<=LIFETIME_SF,R11,\nSUMPRODUCT(OFFSET(R11,0,(-1*LIFETIME_SF)+1,1,LIFETIME_SF),OFFSET('Shipments and Stock - SF'!S$14,0,(-1*LIFETIME_SF)+1,1,LIFETIME_SF))/\nSUM(OFFSET('Shipments and Stock - SF'!S$14,0,(-1*LIFETIME_SF)+1,1,LIFETIME_SF)))","v":364},{"$f":"IF(S$15-$D$15+2<=LIFETIME_SF,S11,\nSUMPRODUCT(OFFSET(S11,0,(-1*LIFETIME_SF)+1,1,LIFETIME_SF),OFFSET('Shipments and Stock - SF'!T$14,0,(-1*LIFETIME_SF)+1,1,LIFETIME_SF))/\nSUM(OFFSET('Shipments and Stock - SF'!T$14,0,(-1*LIFETIME_SF)+1,1,LIFETIME_SF)))","v":363.66666666666669},{"$f":"IF(T$15-$D$15+2<=LIFETIME_SF,T11,\nSUMPRODUCT(OFFSET(T11,0,(-1*LIFETIME_SF)+1,1,LIFETIME_SF),OFFSET('Shipments and Stock - SF'!U$14,0,(-1*LIFETIME_SF)+1,1,LIFETIME_SF))/\nSUM(OFFSET('Shipments and Stock - SF'!U$14,0,(-1*LIFETIME_SF)+1,1,LIFETIME_SF)))","v":363.48314606741576},{"$f":"IF(U$15-$D$15+2<=LIFETIME_SF,U11,\nSUMPRODUCT(OFFSET(U11,0,(-1*LIFETIME_SF)+1,1,LIFETIME_SF),OFFSET('Shipments and Stock - SF'!V$14,0,(-1*LIFETIME_SF)+1,1,LIFETIME_SF))/\nSUM(OFFSET('Shipments and Stock - SF'!V$14,0,(-1*LIFETIME_SF)+1,1,LIFETIME_SF)))","v":363.25842696629212},{"$f":"IF(V$15-$D$15+2<=LIFETIME_SF,V11,\nSUMPRODUCT(OFFSET(V11,0,(-1*LIFETIME_SF)+1,1,LIFETIME_SF),OFFSET('Shipments and Stock - SF'!W$14,0,(-1*LIFETIME_SF)+1,1,LIFETIME_SF))/\nSUM(OFFSET('Shipments and Stock - SF'!W$14,0,(-1*LIFETIME_SF)+1,1,LIFETIME_SF)))","v":364.05690365463437},{"$f":"IF(W$15-$D$15+2<=LIFETIME_SF,W11,\nSUMPRODUCT(OFFSET(W11,0,(-1*LIFETIME_SF)+1,1,LIFETIME_SF),OFFSET('Shipments and Stock - SF'!X$14,0,(-1*LIFETIME_SF)+1,1,LIFETIME_SF))/\nSUM(OFFSET('Shipments and Stock - SF'!X$14,0,(-1*LIFETIME_SF)+1,1,LIFETIME_SF)))","v":363.98910757161917},{"$f":"IF(X$15-$D$15+2<=LIFETIME_SF,X11,\nSUMPRODUCT(OFFSET(X11,0,(-1*LIFETIME_SF)+1,1,LIFETIME_SF),OFFSET('Shipments and Stock - SF'!Y$14,0,(-1*LIFETIME_SF)+1,1,LIFETIME_SF))/\nSUM(OFFSET('Shipments and Stock - SF'!Y$14,0,(-1*LIFETIME_SF)+1,1,LIFETIME_SF)))","v":363.91727850203608},{"$f":"IF(Y$15-$D$15+2<=LIFETIME_SF,Y11,\nSUMPRODUCT(OFFSET(Y11,0,(-1*LIFETIME_SF)+1,1,LIFETIME_SF),OFFSET('Shipments and Stock - SF'!Z$14,0,(-1*LIFETIME_SF)+1,1,LIFETIME_SF))/\nSUM(OFFSET('Shipments and Stock - SF'!Z$14,0,(-1*LIFETIME_SF)+1,1,LIFETIME_SF)))","v":363.82966899065934},{"$f":"IF(Z$15-$D$15+2<=LIFETIME_SF,Z11,\nSUMPRODUCT(OFFSET(Z11,0,(-1*LIFETIME_SF)+1,1,LIFETIME_SF),OFFSET('Shipments and Stock - SF'!AA$14,0,(-1*LIFETIME_SF)+1,1,LIFETIME_SF))/\nSUM(OFFSET('Shipments and Stock - SF'!AA$14,0,(-1*LIFETIME_SF)+1,1,LIFETIME_SF)))","v":363.71820247446379},{"$f":"IF(AA$15-$D$15+2<=LIFETIME_SF,AA11,\nSUMPRODUCT(OFFSET(AA11,0,(-1*LIFETIME_SF)+1,1,LIFETIME_SF),OFFSET('Shipments and Stock - SF'!AB$14,0,(-1*LIFETIME_SF)+1,1,LIFETIME_SF))/\nSUM(OFFSET('Shipments and Stock - SF'!AB$14,0,(-1*LIFETIME_SF)+1,1,LIFETIME_SF)))","v":363.60768153687854},{"$f":"IF(AB$15-$D$15+2<=LIFETIME_SF,AB11,\nSUMPRODUCT(OFFSET(AB11,0,(-1*LIFETIME_SF)+1,1,LIFETIME_SF),OFFSET('Shipments and Stock - SF'!AC$14,0,(-1*LIFETIME_SF)+1,1,LIFETIME_SF))/\nSUM(OFFSET('Shipments and Stock - SF'!AC$14,0,(-1*LIFETIME_SF)+1,1,LIFETIME_SF)))","v":363.50298012101041},{"$f":"IF(AC$15-$D$15+2<=LIFETIME_SF,AC11,\nSUMPRODUCT(OFFSET(AC11,0,(-1*LIFETIME_SF)+1,1,LIFETIME_SF),OFFSET('Shipments and Stock - SF'!AD$14,0,(-1*LIFETIME_SF)+1,1,LIFETIME_SF))/\nSUM(OFFSET('Shipments and Stock - SF'!AD$14,0,(-1*LIFETIME_SF)+1,1,LIFETIME_SF)))","v":363.41321155201211},{"$f":"IF(AD$15-$D$15+2<=LIFETIME_SF,AD11,\nSUMPRODUCT(OFFSET(AD11,0,(-1*LIFETIME_SF)+1,1,LIFETIME_SF),OFFSET('Shipments and Stock - SF'!AE$14,0,(-1*LIFETIME_SF)+1,1,LIFETIME_SF))/\nSUM(OFFSET('Shipments and Stock - SF'!AE$14,0,(-1*LIFETIME_SF)+1,1,LIFETIME_SF)))","v":363.3225661101618},{"$f":"IF(AE$15-$D$15+2<=LIFETIME_SF,AE11,\nSUMPRODUCT(OFFSET(AE11,0,(-1*LIFETIME_SF)+1,1,LIFETIME_SF),OFFSET('Shipments and Stock - SF'!AF$14,0,(-1*LIFETIME_SF)+1,1,LIFETIME_SF))/\nSUM(OFFSET('Shipments and Stock - SF'!AF$14,0,(-1*LIFETIME_SF)+1,1,LIFETIME_SF)))","v":363.22887591464189},{"$f":"IF(AF$15-$D$15+2<=LIFETIME_SF,AF11,\nSUMPRODUCT(OFFSET(AF11,0,(-1*LIFETIME_SF)+1,1,LIFETIME_SF),OFFSET('Shipments and Stock - SF'!AG$14,0,(-1*LIFETIME_SF)+1,1,LIFETIME_SF))/\nSUM(OFFSET('Shipments and Stock - SF'!AG$14,0,(-1*LIFETIME_SF)+1,1,LIFETIME_SF)))","v":363.12900394212801},{"$f":"IF(AG$15-$D$15+2<=LIFETIME_SF,AG11,\nSUMPRODUCT(OFFSET(AG11,0,(-1*LIFETIME_SF)+1,1,LIFETIME_SF),OFFSET('Shipments and Stock - SF'!AH$14,0,(-1*LIFETIME_SF)+1,1,LIFETIME_SF))/\nSUM(OFFSET('Shipments and Stock - SF'!AH$14,0,(-1*LIFETIME_SF)+1,1,LIFETIME_SF)))","v":363.02154461088458},{"$f":"IF(AH$15-$D$15+2<=LIFETIME_SF,AH11,\nSUMPRODUCT(OFFSET(AH11,0,(-1*LIFETIME_SF)+1,1,LIFETIME_SF),OFFSET('Shipments and Stock - SF'!AI$14,0,(-1*LIFETIME_SF)+1,1,LIFETIME_SF))/\nSUM(OFFSET('Shipments and Stock - SF'!AI$14,0,(-1*LIFETIME_SF)+1,1,LIFETIME_SF)))","v":362.89707911193744},{"$f":"IF(AI$15-$D$15+2<=LIFETIME_SF,AI11,\nSUMPRODUCT(OFFSET(AI11,0,(-1*LIFETIME_SF)+1,1,LIFETIME_SF),OFFSET('Shipments and Stock - SF'!AJ$14,0,(-1*LIFETIME_SF)+1,1,LIFETIME_SF))/\nSUM(OFFSET('Shipments and Stock - SF'!AJ$14,0,(-1*LIFETIME_SF)+1,1,LIFETIME_SF)))","v":362.77543754668886},{"$f":"IF(AJ$15-$D$15+2<=LIFETIME_SF,AJ11,\nSUMPRODUCT(OFFSET(AJ11,0,(-1*LIFETIME_SF)+1,1,LIFETIME_SF),OFFSET('Shipments and Stock - SF'!AK$14,0,(-1*LIFETIME_SF)+1,1,LIFETIME_SF))/\nSUM(OFFSET('Shipments and Stock - SF'!AK$14,0,(-1*LIFETIME_SF)+1,1,LIFETIME_SF)))","v":362.66866667120178},{"$f":"IF(AK$15-$D$15+2<=LIFETIME_SF,AK11,\nSUMPRODUCT(OFFSET(AK11,0,(-1*LIFETIME_SF)+1,1,LIFETIME_SF),OFFSET('Shipments and Stock - SF'!AL$14,0,(-1*LIFETIME_SF)+1,1,LIFETIME_SF))/\nSUM(OFFSET('Shipments and Stock - SF'!AL$14,0,(-1*LIFETIME_SF)+1,1,LIFETIME_SF)))","v":362.56116505726828},{"$f":"IF(AL$15-$D$15+2<=LIFETIME_SF,AL11,\nSUMPRODUCT(OFFSET(AL11,0,(-1*LIFETIME_SF)+1,1,LIFETIME_SF),OFFSET('Shipments and Stock - SF'!AM$14,0,(-1*LIFETIME_SF)+1,1,LIFETIME_SF))/\nSUM(OFFSET('Shipments and Stock - SF'!AM$14,0,(-1*LIFETIME_SF)+1,1,LIFETIME_SF)))","v":362.46583404409671},{"$f":"IF(AM$15-$D$15+2<=LIFETIME_SF,AM11,\nSUMPRODUCT(OFFSET(AM11,0,(-1*LIFETIME_SF)+1,1,LIFETIME_SF),OFFSET('Shipments and Stock - SF'!AN$14,0,(-1*LIFETIME_SF)+1,1,LIFETIME_SF))/\nSUM(OFFSET('Shipments and Stock - SF'!AN$14,0,(-1*LIFETIME_SF)+1,1,LIFETIME_SF)))","v":362.37693326580688},{"$f":"IF(AN$15-$D$15+2<=LIFETIME_SF,AN11,\nSUMPRODUCT(OFFSET(AN11,0,(-1*LIFETIME_SF)+1,1,LIFETIME_SF),OFFSET('Shipments and Stock - SF'!AO$14,0,(-1*LIFETIME_SF)+1,1,LIFETIME_SF))/\nSUM(OFFSET('Shipments and Stock - SF'!AO$14,0,(-1*LIFETIME_SF)+1,1,LIFETIME_SF)))","v":362.29503938724872},{"$f":"IF(AO$15-$D$15+2<=LIFETIME_SF,AO11,\nSUMPRODUCT(OFFSET(AO11,0,(-1*LIFETIME_SF)+1,1,LIFETIME_SF),OFFSET('Shipments and Stock - SF'!AP$14,0,(-1*LIFETIME_SF)+1,1,LIFETIME_SF))/\nSUM(OFFSET('Shipments and Stock - SF'!AP$14,0,(-1*LIFETIME_SF)+1,1,LIFETIME_SF)))","v":362.21792232215773},{"$f":"IF(AP$15-$D$15+2<=LIFETIME_SF,AP11,\nSUMPRODUCT(OFFSET(AP11,0,(-1*LIFETIME_SF)+1,1,LIFETIME_SF),OFFSET('Shipments and Stock - SF'!AQ$14,0,(-1*LIFETIME_SF)+1,1,LIFETIME_SF))/\nSUM(OFFSET('Shipments and Stock - SF'!AQ$14,0,(-1*LIFETIME_SF)+1,1,LIFETIME_SF)))","v":362.1289240485188},{"$f":"IF(AQ$15-$D$15+2<=LIFETIME_SF,AQ11,\nSUMPRODUCT(OFFSET(AQ11,0,(-1*LIFETIME_SF)+1,1,LIFETIME_SF),OFFSET('Shipments and Stock - SF'!AR$14,0,(-1*LIFETIME_SF)+1,1,LIFETIME_SF))/\nSUM(OFFSET('Shipments and Stock - SF'!AR$14,0,(-1*LIFETIME_SF)+1,1,LIFETIME_SF)))","v":362.04836929713025},{"$f":"IF(AR$15-$D$15+2<=LIFETIME_SF,AR11,\nSUMPRODUCT(OFFSET(AR11,0,(-1*LIFETIME_SF)+1,1,LIFETIME_SF),OFFSET('Shipments and Stock - SF'!AS$14,0,(-1*LIFETIME_SF)+1,1,LIFETIME_SF))/\nSUM(OFFSET('Shipments and Stock - SF'!AS$14,0,(-1*LIFETIME_SF)+1,1,LIFETIME_SF)))","v":361.96658041304016},{"$f":"IF(AS$15-$D$15+2<=LIFETIME_SF,AS11,\nSUMPRODUCT(OFFSET(AS11,0,(-1*LIFETIME_SF)+1,1,LIFETIME_SF),OFFSET('Shipments and Stock - SF'!AT$14,0,(-1*LIFETIME_SF)+1,1,LIFETIME_SF))/\nSUM(OFFSET('Shipments and Stock - SF'!AT$14,0,(-1*LIFETIME_SF)+1,1,LIFETIME_SF)))","v":361.90099100986475},{"$f":"IF(AT$15-$D$15+2<=LIFETIME_SF,AT11,\nSUMPRODUCT(OFFSET(AT11,0,(-1*LIFETIME_SF)+1,1,LIFETIME_SF),OFFSET('Shipments and Stock - SF'!AU$14,0,(-1*LIFETIME_SF)+1,1,LIFETIME_SF))/\nSUM(OFFSET('Shipments and Stock - SF'!AU$14,0,(-1*LIFETIME_SF)+1,1,LIFETIME_SF)))","v":361.83289551723385},{"$f":"IF(AU$15-$D$15+2<=LIFETIME_SF,AU11,\nSUMPRODUCT(OFFSET(AU11,0,(-1*LIFETIME_SF)+1,1,LIFETIME_SF),OFFSET('Shipments and Stock - SF'!AV$14,0,(-1*LIFETIME_SF)+1,1,LIFETIME_SF))/\nSUM(OFFSET('Shipments and Stock - SF'!AV$14,0,(-1*LIFETIME_SF)+1,1,LIFETIME_SF)))","v":361.75320620680833},{"$f":"IF(AV$15-$D$15+2<=LIFETIME_SF,AV11,\nSUMPRODUCT(OFFSET(AV11,0,(-1*LIFETIME_SF)+1,1,LIFETIME_SF),OFFSET('Shipments and Stock - SF'!AW$14,0,(-1*LIFETIME_SF)+1,1,LIFETIME_SF))/\nSUM(OFFSET('Shipments and Stock - SF'!AW$14,0,(-1*LIFETIME_SF)+1,1,LIFETIME_SF)))","v":361.66516372944324},{"$f":"IF(AW$15-$D$15+2<=LIFETIME_SF,AW11,\nSUMPRODUCT(OFFSET(AW11,0,(-1*LIFETIME_SF)+1,1,LIFETIME_SF),OFFSET('Shipments and Stock - SF'!AX$14,0,(-1*LIFETIME_SF)+1,1,LIFETIME_SF))/\nSUM(OFFSET('Shipments and Stock - SF'!AX$14,0,(-1*LIFETIME_SF)+1,1,LIFETIME_SF)))","v":361.583335852071},{"$f":"IF(AX$15-$D$15+2<=LIFETIME_SF,AX11,\nSUMPRODUCT(OFFSET(AX11,0,(-1*LIFETIME_SF)+1,1,LIFETIME_SF),OFFSET('Shipments and Stock - SF'!AY$14,0,(-1*LIFETIME_SF)+1,1,LIFETIME_SF))/\nSUM(OFFSET('Shipments and Stock - SF'!AY$14,0,(-1*LIFETIME_SF)+1,1,LIFETIME_SF)))","v":361.50742664056145},{"$f":"IF(AY$15-$D$15+2<=LIFETIME_SF,AY11,\nSUMPRODUCT(OFFSET(AY11,0,(-1*LIFETIME_SF)+1,1,LIFETIME_SF),OFFSET('Shipments and Stock - SF'!AZ$14,0,(-1*LIFETIME_SF)+1,1,LIFETIME_SF))/\nSUM(OFFSET('Shipments and Stock - SF'!AZ$14,0,(-1*LIFETIME_SF)+1,1,LIFETIME_SF)))","v":361.43286286658451},{"$f":"IF(AZ$15-$D$15+2<=LIFETIME_SF,AZ11,\nSUMPRODUCT(OFFSET(AZ11,0,(-1*LIFETIME_SF)+1,1,LIFETIME_SF),OFFSET('Shipments and Stock - SF'!BA$14,0,(-1*LIFETIME_SF)+1,1,LIFETIME_SF))/\nSUM(OFFSET('Shipments and Stock - SF'!BA$14,0,(-1*LIFETIME_SF)+1,1,LIFETIME_SF)))","v":361.35647335346636},{"$f":"IF(BA$15-$D$15+2<=LIFETIME_SF,BA11,\nSUMPRODUCT(OFFSET(BA11,0,(-1*LIFETIME_SF)+1,1,LIFETIME_SF),OFFSET('Shipments and Stock - SF'!BB$14,0,(-1*LIFETIME_SF)+1,1,LIFETIME_SF))/\nSUM(OFFSET('Shipments and Stock - SF'!BB$14,0,(-1*LIFETIME_SF)+1,1,LIFETIME_SF)))","v":361.27220995988051},{"$f":"IF(BB$15-$D$15+2<=LIFETIME_SF,BB11,\nSUMPRODUCT(OFFSET(BB11,0,(-1*LIFETIME_SF)+1,1,LIFETIME_SF),OFFSET('Shipments and Stock - SF'!BC$14,0,(-1*LIFETIME_SF)+1,1,LIFETIME_SF))/\nSUM(OFFSET('Shipments and Stock - SF'!BC$14,0,(-1*LIFETIME_SF)+1,1,LIFETIME_SF)))","v":361.18092404678356},{"$f":"IF(BC$15-$D$15+2<=LIFETIME_SF,BC11,\nSUMPRODUCT(OFFSET(BC11,0,(-1*LIFETIME_SF)+1,1,LIFETIME_SF),OFFSET('Shipments and Stock - SF'!BD$14,0,(-1*LIFETIME_SF)+1,1,LIFETIME_SF))/\nSUM(OFFSET('Shipments and Stock - SF'!BD$14,0,(-1*LIFETIME_SF)+1,1,LIFETIME_SF)))","v":361.08905953131205},{"$f":"IF(BD$15-$D$15+2<=LIFETIME_SF,BD11,\nSUMPRODUCT(OFFSET(BD11,0,(-1*LIFETIME_SF)+1,1,LIFETIME_SF),OFFSET('Shipments and Stock - SF'!BE$14,0,(-1*LIFETIME_SF)+1,1,LIFETIME_SF))/\nSUM(OFFSET('Shipments and Stock - SF'!BE$14,0,(-1*LIFETIME_SF)+1,1,LIFETIME_SF)))","v":361.00100743187386},{"$f":"IF(BE$15-$D$15+2<=LIFETIME_SF,BE11,\nSUMPRODUCT(OFFSET(BE11,0,(-1*LIFETIME_SF)+1,1,LIFETIME_SF),OFFSET('Shipments and Stock - SF'!BF$14,0,(-1*LIFETIME_SF)+1,1,LIFETIME_SF))/\nSUM(OFFSET('Shipments and Stock - SF'!BF$14,0,(-1*LIFETIME_SF)+1,1,LIFETIME_SF)))","v":360.91319961322597}]
[null,null,"POST-Case UEC",{"$f":"IF(D$15-$D$15+2<=LIFETIME_SF,D12,\nSUMPRODUCT(OFFSET(D12,0,(-1*LIFETIME_SF)+1,1,LIFETIME_SF),OFFSET('Shipments and Stock - SF'!E$14,0,(-1*LIFETIME_SF)+1,1,LIFETIME_SF))/\nSUM(OFFSET('Shipments and Stock - SF'!E$14,0,(-1*LIFETIME_SF)+1,1,LIFETIME_SF)))","v":364.25287356321837},{"$f":"IF(E$15-$D$15+2<=LIFETIME_SF,E12,\nSUMPRODUCT(OFFSET(E12,0,(-1*LIFETIME_SF)+1,1,LIFETIME_SF),OFFSET('Shipments and Stock - SF'!F$14,0,(-1*LIFETIME_SF)+1,1,LIFETIME_SF))/\nSUM(OFFSET('Shipments and Stock - SF'!F$14,0,(-1*LIFETIME_SF)+1,1,LIFETIME_SF)))","v":364.25287356321837},{"$f":"IF(F$15-$D$15+2<=LIFETIME_SF,F12,\nSUMPRODUCT(OFFSET(F12,0,(-1*LIFETIME_SF)+1,1,LIFETIME_SF),OFFSET('Shipments and Stock - SF'!G$14,0,(-1*LIFETIME_SF)+1,1,LIFETIME_SF))/\nSUM(OFFSET('Shipments and Stock - SF'!G$14,0,(-1*LIFETIME_SF)+1,1,LIFETIME_SF)))","v":364.25287356321837},{"$f":"IF(G$15-$D$15+2<=LIFETIME_SF,G12,\nSUMPRODUCT(OFFSET(G12,0,(-1*LIFETIME_SF)+1,1,LIFETIME_SF),OFFSET('Shipments and Stock - SF'!H$14,0,(-1*LIFETIME_SF)+1,1,LIFETIME_SF))/\nSUM(OFFSET('Shipments and Stock - SF'!H$14,0,(-1*LIFETIME_SF)+1,1,LIFETIME_SF)))","v":364.25287356321837},{"$f":"IF(H$15-$D$15+2<=LIFETIME_SF,H12,\nSUMPRODUCT(OFFSET(H12,0,(-1*LIFETIME_SF)+1,1,LIFETIME_SF),OFFSET('Shipments and Stock - SF'!I$14,0,(-1*LIFETIME_SF)+1,1,LIFETIME_SF))/\nSUM(OFFSET('Shipments and Stock - SF'!I$14,0,(-1*LIFETIME_SF)+1,1,LIFETIME_SF)))","v":364.25287356321837},{"$f":"IF(I$15-$D$15+2<=LIFETIME_SF,I12,\nSUMPRODUCT(OFFSET(I12,0,(-1*LIFETIME_SF)+1,1,LIFETIME_SF),OFFSET('Shipments and Stock - SF'!J$14,0,(-1*LIFETIME_SF)+1,1,LIFETIME_SF))/\nSUM(OFFSET('Shipments and Stock - SF'!J$14,0,(-1*LIFETIME_SF)+1,1,LIFETIME_SF)))","v":364.25287356321837},{"$f":"IF(J$15-$D$15+2<=LIFETIME_SF,J12,\nSUMPRODUCT(OFFSET(J12,0,(-1*LIFETIME_SF)+1,1,LIFETIME_SF),OFFSET('Shipments and Stock - SF'!K$14,0,(-1*LIFETIME_SF)+1,1,LIFETIME_SF))/\nSUM(OFFSET('Shipments and Stock - SF'!K$14,0,(-1*LIFETIME_SF)+1,1,LIFETIME_SF)))","v":364.25287356321837},{"$f":"IF(K$15-$D$15+2<=LIFETIME_SF,K12,\nSUMPRODUCT(OFFSET(K12,0,(-1*LIFETIME_SF)+1,1,LIFETIME_SF),OFFSET('Shipments and Stock - SF'!L$14,0,(-1*LIFETIME_SF)+1,1,LIFETIME_SF))/\nSUM(OFFSET('Shipments and Stock - SF'!L$14,0,(-1*LIFETIME_SF)+1,1,LIFETIME_SF)))","v":364.25287356321837},{"$f":"IF(L$15-$D$15+2<=LIFETIME_SF,L12,\nSUMPRODUCT(OFFSET(L12,0,(-1*LIFETIME_SF)+1,1,LIFETIME_SF),OFFSET('Shipments and Stock - SF'!M$14,0,(-1*LIFETIME_SF)+1,1,LIFETIME_SF))/\nSUM(OFFSET('Shipments and Stock - SF'!M$14,0,(-1*LIFETIME_SF)+1,1,LIFETIME_SF)))","v":364.25287356321837},{"$f":"IF(M$15-$D$15+2<=LIFETIME_SF,M12,\nSUMPRODUCT(OFFSET(M12,0,(-1*LIFETIME_SF)+1,1,LIFETIME_SF),OFFSET('Shipments and Stock - SF'!N$14,0,(-1*LIFETIME_SF)+1,1,LIFETIME_SF))/\nSUM(OFFSET('Shipments and Stock - SF'!N$14,0,(-1*LIFETIME_SF)+1,1,LIFETIME_SF)))","v":364.25287356321837},{"$f":"IF(N$15-$D$15+2<=LIFETIME_SF,N12,\nSUMPRODUCT(OFFSET(N12,0,(-1*LIFETIME_SF)+1,1,LIFETIME_SF),OFFSET('Shipments and Stock - SF'!O$14,0,(-1*LIFETIME_SF)+1,1,LIFETIME_SF))/\nSUM(OFFSET('Shipments and Stock - SF'!O$14,0,(-1*LIFETIME_SF)+1,1,LIFETIME_SF)))","v":364.31818181818181},{"$f":"IF(O$15-$D$15+2<=LIFETIME_SF,O12,\nSUMPRODUCT(OFFSET(O12,0,(-1*LIFETIME_SF)+1,1,LIFETIME_SF),OFFSET('Shipments and Stock - SF'!P$14,0,(-1*LIFETIME_SF)+1,1,LIFETIME_SF))/\nSUM(OFFSET('Shipments and Stock - SF'!P$14,0,(-1*LIFETIME_SF)+1,1,LIFETIME_SF)))","v":364.38202247191009},{"$f":"IF(P$15-$D$15+2<=LIFETIME_SF,P12,\nSUMPRODUCT(OFFSET(P12,0,(-1*LIFETIME_SF)+1,1,LIFETIME_SF),OFFSET('Shipments and Stock - SF'!Q$14,0,(-1*LIFETIME_SF)+1,1,LIFETIME_SF))/\nSUM(OFFSET('Shipments and Stock - SF'!Q$14,0,(-1*LIFETIME_SF)+1,1,LIFETIME_SF)))","v":364.31818181818187},{"$f":"IF(Q$15-$D$15+2<=LIFETIME_SF,Q12,\nSUMPRODUCT(OFFSET(Q12,0,(-1*LIFETIME_SF)+1,1,LIFETIME_SF),OFFSET('Shipments and Stock - SF'!R$14,0,(-1*LIFETIME_SF)+1,1,LIFETIME_SF))/\nSUM(OFFSET('Shipments and Stock - SF'!R$14,0,(-1*LIFETIME_SF)+1,1,LIFETIME_SF)))","v":363.93258426966293},{"$f":"IF(R$15-$D$15+2<=LIFETIME_SF,R12,\nSUMPRODUCT(OFFSET(R12,0,(-1*LIFETIME_SF)+1,1,LIFETIME_SF),OFFSET('Shipments and Stock - SF'!S$14,0,(-1*LIFETIME_SF)+1,1,LIFETIME_SF))/\nSUM(OFFSET('Shipments and Stock - SF'!S$14,0,(-1*LIFETIME_SF)+1,1,LIFETIME_SF)))","v":364},{"$f":"IF(S$15-$D$15+2<=LIFETIME_SF,S12,\nSUMPRODUCT(OFFSET(S12,0,(-1*LIFETIME_SF)+1,1,LIFETIME_SF),OFFSET('Shipments and Stock - SF'!T$14,0,(-1*LIFETIME_SF)+1,1,LIFETIME_SF))/\nSUM(OFFSET('Shipments and Stock - SF'!T$14,0,(-1*LIFETIME_SF)+1,1,LIFETIME_SF)))","v":363.66666666666669},{"$f":"IF(T$15-$D$15+2<=LIFETIME_SF,T12,\nSUMPRODUCT(OFFSET(T12,0,(-1*LIFETIME_SF)+1,1,LIFETIME_SF),OFFSET('Shipments and Stock - SF'!U$14,0,(-1*LIFETIME_SF)+1,1,LIFETIME_SF))/\nSUM(OFFSET('Shipments and Stock - SF'!U$14,0,(-1*LIFETIME_SF)+1,1,LIFETIME_SF)))","v":363.48314606741576},{"$f":"IF(U$15-$D$15+2<=LIFETIME_SF,U12,\nSUMPRODUCT(OFFSET(U12,0,(-1*LIFETIME_SF)+1,1,LIFETIME_SF),OFFSET('Shipments and Stock - SF'!V$14,0,(-1*LIFETIME_SF)+1,1,LIFETIME_SF))/\nSUM(OFFSET('Shipments and Stock - SF'!V$14,0,(-1*LIFETIME_SF)+1,1,LIFETIME_SF)))","v":363.25842696629212},{"$f":"IF(V$15-$D$15+2<=LIFETIME_SF,V12,\nSUMPRODUCT(OFFSET(V12,0,(-1*LIFETIME_SF)+1,1,LIFETIME_SF),OFFSET('Shipments and Stock - SF'!W$14,0,(-1*LIFETIME_SF)+1,1,LIFETIME_SF))/\nSUM(OFFSET('Shipments and Stock - SF'!W$14,0,(-1*LIFETIME_SF)+1,1,LIFETIME_SF)))","v":364.05690365463437},{"$f":"IF(W$15-$D$15+2<=LIFETIME_SF,W12,\nSUMPRODUCT(OFFSET(W12,0,(-1*LIFETIME_SF)+1,1,LIFETIME_SF),OFFSET('Shipments and Stock - SF'!X$14,0,(-1*LIFETIME_SF)+1,1,LIFETIME_SF))/\nSUM(OFFSET('Shipments and Stock - SF'!X$14,0,(-1*LIFETIME_SF)+1,1,LIFETIME_SF)))","v":363.98910757161917},{"$f":"IF(X$15-$D$15+2<=LIFETIME_SF,X12,\nSUMPRODUCT(OFFSET(X12,0,(-1*LIFETIME_SF)+1,1,LIFETIME_SF),OFFSET('Shipments and Stock - SF'!Y$14,0,(-1*LIFETIME_SF)+1,1,LIFETIME_SF))/\nSUM(OFFSET('Shipments and Stock - SF'!Y$14,0,(-1*LIFETIME_SF)+1,1,LIFETIME_SF)))","v":363.91727850203608},{"$f":"IF(Y$15-$D$15+2<=LIFETIME_SF,Y12,\nSUMPRODUCT(OFFSET(Y12,0,(-1*LIFETIME_SF)+1,1,LIFETIME_SF),OFFSET('Shipments and Stock - SF'!Z$14,0,(-1*LIFETIME_SF)+1,1,LIFETIME_SF))/\nSUM(OFFSET('Shipments and Stock - SF'!Z$14,0,(-1*LIFETIME_SF)+1,1,LIFETIME_SF)))","v":363.82966899065934},{"$f":"IF(Z$15-$D$15+2<=LIFETIME_SF,Z12,\nSUMPRODUCT(OFFSET(Z12,0,(-1*LIFETIME_SF)+1,1,LIFETIME_SF),OFFSET('Shipments and Stock - SF'!AA$14,0,(-1*LIFETIME_SF)+1,1,LIFETIME_SF))/\nSUM(OFFSET('Shipments and Stock - SF'!AA$14,0,(-1*LIFETIME_SF)+1,1,LIFETIME_SF)))","v":363.71820247446379},{"$f":"IF(AA$15-$D$15+2<=LIFETIME_SF,AA12,\nSUMPRODUCT(OFFSET(AA12,0,(-1*LIFETIME_SF)+1,1,LIFETIME_SF),OFFSET('Shipments and Stock - SF'!AB$14,0,(-1*LIFETIME_SF)+1,1,LIFETIME_SF))/\nSUM(OFFSET('Shipments and Stock - SF'!AB$14,0,(-1*LIFETIME_SF)+1,1,LIFETIME_SF)))","v":363.60768153687854},{"$f":"IF(AB$15-$D$15+2<=LIFETIME_SF,AB12,\nSUMPRODUCT(OFFSET(AB12,0,(-1*LIFETIME_SF)+1,1,LIFETIME_SF),OFFSET('Shipments and Stock - SF'!AC$14,0,(-1*LIFETIME_SF)+1,1,LIFETIME_SF))/\nSUM(OFFSET('Shipments and Stock - SF'!AC$14,0,(-1*LIFETIME_SF)+1,1,LIFETIME_SF)))","v":363.50298012101041},{"$f":"IF(AC$15-$D$15+2<=LIFETIME_SF,AC12,\nSUMPRODUCT(OFFSET(AC12,0,(-1*LIFETIME_SF)+1,1,LIFETIME_SF),OFFSET('Shipments and Stock - SF'!AD$14,0,(-1*LIFETIME_SF)+1,1,LIFETIME_SF))/\nSUM(OFFSET('Shipments and Stock - SF'!AD$14,0,(-1*LIFETIME_SF)+1,1,LIFETIME_SF)))","v":363.41321155201211},{"$f":"IF(AD$15-$D$15+2<=LIFETIME_SF,AD12,\nSUMPRODUCT(OFFSET(AD12,0,(-1*LIFETIME_SF)+1,1,LIFETIME_SF),OFFSET('Shipments and Stock - SF'!AE$14,0,(-1*LIFETIME_SF)+1,1,LIFETIME_SF))/\nSUM(OFFSET('Shipments and Stock - SF'!AE$14,0,(-1*LIFETIME_SF)+1,1,LIFETIME_SF)))","v":363.3225661101618},{"$f":"IF(AE$15-$D$15+2<=LIFETIME_SF,AE12,\nSUMPRODUCT(OFFSET(AE12,0,(-1*LIFETIME_SF)+1,1,LIFETIME_SF),OFFSET('Shipments and Stock - SF'!AF$14,0,(-1*LIFETIME_SF)+1,1,LIFETIME_SF))/\nSUM(OFFSET('Shipments and Stock - SF'!AF$14,0,(-1*LIFETIME_SF)+1,1,LIFETIME_SF)))","v":363.22887591464189},{"$f":"IF(AF$15-$D$15+2<=LIFETIME_SF,AF12,\nSUMPRODUCT(OFFSET(AF12,0,(-1*LIFETIME_SF)+1,1,LIFETIME_SF),OFFSET('Shipments and Stock - SF'!AG$14,0,(-1*LIFETIME_SF)+1,1,LIFETIME_SF))/\nSUM(OFFSET('Shipments and Stock - SF'!AG$14,0,(-1*LIFETIME_SF)+1,1,LIFETIME_SF)))","v":363.12900394212801},{"$f":"IF(AG$15-$D$15+2<=LIFETIME_SF,AG12,\nSUMPRODUCT(OFFSET(AG12,0,(-1*LIFETIME_SF)+1,1,LIFETIME_SF),OFFSET('Shipments and Stock - SF'!AH$14,0,(-1*LIFETIME_SF)+1,1,LIFETIME_SF))/\nSUM(OFFSET('Shipments and Stock - SF'!AH$14,0,(-1*LIFETIME_SF)+1,1,LIFETIME_SF)))","v":363.02154461088458},{"$f":"IF(AH$15-$D$15+2<=LIFETIME_SF,AH12,\nSUMPRODUCT(OFFSET(AH12,0,(-1*LIFETIME_SF)+1,1,LIFETIME_SF),OFFSET('Shipments and Stock - SF'!AI$14,0,(-1*LIFETIME_SF)+1,1,LIFETIME_SF))/\nSUM(OFFSET('Shipments and Stock - SF'!AI$14,0,(-1*LIFETIME_SF)+1,1,LIFETIME_SF)))","v":362.89707911193744},{"$f":"IF(AI$15-$D$15+2<=LIFETIME_SF,AI12,\nSUMPRODUCT(OFFSET(AI12,0,(-1*LIFETIME_SF)+1,1,LIFETIME_SF),OFFSET('Shipments and Stock - SF'!AJ$14,0,(-1*LIFETIME_SF)+1,1,LIFETIME_SF))/\nSUM(OFFSET('Shipments and Stock - SF'!AJ$14,0,(-1*LIFETIME_SF)+1,1,LIFETIME_SF)))","v":362.77543754668886},{"$f":"IF(AJ$15-$D$15+2<=LIFETIME_SF,AJ12,\nSUMPRODUCT(OFFSET(AJ12,0,(-1*LIFETIME_SF)+1,1,LIFETIME_SF),OFFSET('Shipments and Stock - SF'!AK$14,0,(-1*LIFETIME_SF)+1,1,LIFETIME_SF))/\nSUM(OFFSET('Shipments and Stock - SF'!AK$14,0,(-1*LIFETIME_SF)+1,1,LIFETIME_SF)))","v":362.66866667120178},{"$f":"IF(AK$15-$D$15+2<=LIFETIME_SF,AK12,\nSUMPRODUCT(OFFSET(AK12,0,(-1*LIFETIME_SF)+1,1,LIFETIME_SF),OFFSET('Shipments and Stock - SF'!AL$14,0,(-1*LIFETIME_SF)+1,1,LIFETIME_SF))/\nSUM(OFFSET('Shipments and Stock - SF'!AL$14,0,(-1*LIFETIME_SF)+1,1,LIFETIME_SF)))","v":362.56116505726828},{"$f":"IF(AL$15-$D$15+2<=LIFETIME_SF,AL12,\nSUMPRODUCT(OFFSET(AL12,0,(-1*LIFETIME_SF)+1,1,LIFETIME_SF),OFFSET('Shipments and Stock - SF'!AM$14,0,(-1*LIFETIME_SF)+1,1,LIFETIME_SF))/\nSUM(OFFSET('Shipments and Stock - SF'!AM$14,0,(-1*LIFETIME_SF)+1,1,LIFETIME_SF)))","v":362.46583404409671},{"$f":"IF(AM$15-$D$15+2<=LIFETIME_SF,AM12,\nSUMPRODUCT(OFFSET(AM12,0,(-1*LIFETIME_SF)+1,1,LIFETIME_SF),OFFSET('Shipments and Stock - SF'!AN$14,0,(-1*LIFETIME_SF)+1,1,LIFETIME_SF))/\nSUM(OFFSET('Shipments and Stock - SF'!AN$14,0,(-1*LIFETIME_SF)+1,1,LIFETIME_SF)))","v":362.37693326580688},{"$f":"IF(AN$15-$D$15+2<=LIFETIME_SF,AN12,\nSUMPRODUCT(OFFSET(AN12,0,(-1*LIFETIME_SF)+1,1,LIFETIME_SF),OFFSET('Shipments and Stock - SF'!AO$14,0,(-1*LIFETIME_SF)+1,1,LIFETIME_SF))/\nSUM(OFFSET('Shipments and Stock - SF'!AO$14,0,(-1*LIFETIME_SF)+1,1,LIFETIME_SF)))","v":362.29503938724872},{"$f":"IF(AO$15-$D$15+2<=LIFETIME_SF,AO12,\nSUMPRODUCT(OFFSET(AO12,0,(-1*LIFETIME_SF)+1,1,LIFETIME_SF),OFFSET('Shipments and Stock - SF'!AP$14,0,(-1*LIFETIME_SF)+1,1,LIFETIME_SF))/\nSUM(OFFSET('Shipments and Stock - SF'!AP$14,0,(-1*LIFETIME_SF)+1,1,LIFETIME_SF)))","v":362.21792232215773},{"$f":"IF(AP$15-$D$15+2<=LIFETIME_SF,AP12,\nSUMPRODUCT(OFFSET(AP12,0,(-1*LIFETIME_SF)+1,1,LIFETIME_SF),OFFSET('Shipments and Stock - SF'!AQ$14,0,(-1*LIFETIME_SF)+1,1,LIFETIME_SF))/\nSUM(OFFSET('Shipments and Stock - SF'!AQ$14,0,(-1*LIFETIME_SF)+1,1,LIFETIME_SF)))","v":359.08687179269526},{"$f":"IF(AQ$15-$D$15+2<=LIFETIME_SF,AQ12,\nSUMPRODUCT(OFFSET(AQ12,0,(-1*LIFETIME_SF)+1,1,LIFETIME_SF),OFFSET('Shipments and Stock - SF'!AR$14,0,(-1*LIFETIME_SF)+1,1,LIFETIME_SF))/\nSUM(OFFSET('Shipments and Stock - SF'!AR$14,0,(-1*LIFETIME_SF)+1,1,LIFETIME_SF)))","v":356.17862083724827},{"$f":"IF(AR$15-$D$15+2<=LIFETIME_SF,AR12,\nSUMPRODUCT(OFFSET(AR12,0,(-1*LIFETIME_SF)+1,1,LIFETIME_SF),OFFSET('Shipments and Stock - SF'!AS$14,0,(-1*LIFETIME_SF)+1,1,LIFETIME_SF))/\nSUM(OFFSET('Shipments and Stock - SF'!AS$14,0,(-1*LIFETIME_SF)+1,1,LIFETIME_SF)))","v":353.14915872112539},{"$f":"IF(AS$15-$D$15+2<=LIFETIME_SF,AS12,\nSUMPRODUCT(OFFSET(AS12,0,(-1*LIFETIME_SF)+1,1,LIFETIME_SF),OFFSET('Shipments and Stock - SF'!AT$14,0,(-1*LIFETIME_SF)+1,1,LIFETIME_SF))/\nSUM(OFFSET('Shipments and Stock - SF'!AT$14,0,(-1*LIFETIME_SF)+1,1,LIFETIME_SF)))","v":350.18864242399172},{"$f":"IF(AT$15-$D$15+2<=LIFETIME_SF,AT12,\nSUMPRODUCT(OFFSET(AT12,0,(-1*LIFETIME_SF)+1,1,LIFETIME_SF),OFFSET('Shipments and Stock - SF'!AU$14,0,(-1*LIFETIME_SF)+1,1,LIFETIME_SF))/\nSUM(OFFSET('Shipments and Stock - SF'!AU$14,0,(-1*LIFETIME_SF)+1,1,LIFETIME_SF)))","v":347.29763696529795},{"$f":"IF(AU$15-$D$15+2<=LIFETIME_SF,AU12,\nSUMPRODUCT(OFFSET(AU12,0,(-1*LIFETIME_SF)+1,1,LIFETIME_SF),OFFSET('Shipments and Stock - SF'!AV$14,0,(-1*LIFETIME_SF)+1,1,LIFETIME_SF))/\nSUM(OFFSET('Shipments and Stock - SF'!AV$14,0,(-1*LIFETIME_SF)+1,1,LIFETIME_SF)))","v":344.37254327342561},{"$f":"IF(AV$15-$D$15+2<=LIFETIME_SF,AV12,\nSUMPRODUCT(OFFSET(AV12,0,(-1*LIFETIME_SF)+1,1,LIFETIME_SF),OFFSET('Shipments and Stock - SF'!AW$14,0,(-1*LIFETIME_SF)+1,1,LIFETIME_SF))/\nSUM(OFFSET('Shipments and Stock - SF'!AW$14,0,(-1*LIFETIME_SF)+1,1,LIFETIME_SF)))","v":341.60846654674435},{"$f":"IF(AW$15-$D$15+2<=LIFETIME_SF,AW12,\nSUMPRODUCT(OFFSET(AW12,0,(-1*LIFETIME_SF)+1,1,LIFETIME_SF),OFFSET('Shipments and Stock - SF'!AX$14,0,(-1*LIFETIME_SF)+1,1,LIFETIME_SF))/\nSUM(OFFSET('Shipments and Stock - SF'!AX$14,0,(-1*LIFETIME_SF)+1,1,LIFETIME_SF)))","v":339.06844803630673},{"$f":"IF(AX$15-$D$15+2<=LIFETIME_SF,AX12,\nSUMPRODUCT(OFFSET(AX12,0,(-1*LIFETIME_SF)+1,1,LIFETIME_SF),OFFSET('Shipments and Stock - SF'!AY$14,0,(-1*LIFETIME_SF)+1,1,LIFETIME_SF))/\nSUM(OFFSET('Shipments and Stock - SF'!AY$14,0,(-1*LIFETIME_SF)+1,1,LIFETIME_SF)))","v":336.74163516467189},{"$f":"IF(AY$15-$D$15+2<=LIFETIME_SF,AY12,\nSUMPRODUCT(OFFSET(AY12,0,(-1*LIFETIME_SF)+1,1,LIFETIME_SF),OFFSET('Shipments and Stock - SF'!AZ$14,0,(-1*LIFETIME_SF)+1,1,LIFETIME_SF))/\nSUM(OFFSET('Shipments and Stock - SF'!AZ$14,0,(-1*LIFETIME_SF)+1,1,LIFETIME_SF)))","v":334.48657572895411},{"$f":"IF(AZ$15-$D$15+2<=LIFETIME_SF,AZ12,\nSUMPRODUCT(OFFSET(AZ12,0,(-1*LIFETIME_SF)+1,1,LIFETIME_SF),OFFSET('Shipments and Stock - SF'!BA$14,0,(-1*LIFETIME_SF)+1,1,LIFETIME_SF))/\nSUM(OFFSET('Shipments and Stock - SF'!BA$14,0,(-1*LIFETIME_SF)+1,1,LIFETIME_SF)))","v":332.20492025572167},{"$f":"IF(BA$15-$D$15+2<=LIFETIME_SF,BA12,\nSUMPRODUCT(OFFSET(BA12,0,(-1*LIFETIME_SF)+1,1,LIFETIME_SF),OFFSET('Shipments and Stock - SF'!BB$14,0,(-1*LIFETIME_SF)+1,1,LIFETIME_SF))/\nSUM(OFFSET('Shipments and Stock - SF'!BB$14,0,(-1*LIFETIME_SF)+1,1,LIFETIME_SF)))","v":329.71261048837897},{"$f":"IF(BB$15-$D$15+2<=LIFETIME_SF,BB12,\nSUMPRODUCT(OFFSET(BB12,0,(-1*LIFETIME_SF)+1,1,LIFETIME_SF),OFFSET('Shipments and Stock - SF'!BC$14,0,(-1*LIFETIME_SF)+1,1,LIFETIME_SF))/\nSUM(OFFSET('Shipments and Stock - SF'!BC$14,0,(-1*LIFETIME_SF)+1,1,LIFETIME_SF)))","v":327.03607815336051},{"$f":"IF(BC$15-$D$15+2<=LIFETIME_SF,BC12,\nSUMPRODUCT(OFFSET(BC12,0,(-1*LIFETIME_SF)+1,1,LIFETIME_SF),OFFSET('Shipments and Stock - SF'!BD$14,0,(-1*LIFETIME_SF)+1,1,LIFETIME_SF))/\nSUM(OFFSET('Shipments and Stock - SF'!BD$14,0,(-1*LIFETIME_SF)+1,1,LIFETIME_SF)))","v":324.37027480825458},{"$f":"IF(BD$15-$D$15+2<=LIFETIME_SF,BD12,\nSUMPRODUCT(OFFSET(BD12,0,(-1*LIFETIME_SF)+1,1,LIFETIME_SF),OFFSET('Shipments and Stock - SF'!BE$14,0,(-1*LIFETIME_SF)+1,1,LIFETIME_SF))/\nSUM(OFFSET('Shipments and Stock - SF'!BE$14,0,(-1*LIFETIME_SF)+1,1,LIFETIME_SF)))","v":321.84755263564591},{"$f":"IF(BE$15-$D$15+2<=LIFETIME_SF,BE12,\nSUMPRODUCT(OFFSET(BE12,0,(-1*LIFETIME_SF)+1,1,LIFETIME_SF),OFFSET('Shipments and Stock - SF'!BF$14,0,(-1*LIFETIME_SF)+1,1,LIFETIME_SF))/\nSUM(OFFSET('Shipments and Stock - SF'!BF$14,0,(-1*LIFETIME_SF)+1,1,LIFETIME_SF)))","v":319.35971671756744}]

{"sheet":"UEC-MF","index":19,"n_rows":17,"n_cols":57,"rows_kept":17,"cut":false,"hidden":false,"merged":[]}
[]
[null,null,"Weighted Annual UEC - Multi-Family"]
[]
[null,null,"NAVIGATION"]
[]
[null,null,"COMMENTS"]
[]
[]
[null,null,"Market UEC (Shipment Weighted Average)"]
[null,null,null,1981,1982,1983,1984,1985,1986,1987,1988,1989,1990,1991,1992,1993,1994,1995,1996,1997,1998,1999,2000,2001,2002,2003,2004,2005,2006,2007,2008,2009,2010,2011,2012,2013,2014,2015,2016,2017,2018,2019,2020,2021,2022,2023,2024,2025,2026,2027,2028,2029,2030,2031,2032,2033,2034]
[null,null,"PRE-Case UEC",{"$f":"'Product Class Dist'!D10*SUMPRODUCT('UEC Development'!$K$14:$K$21,'Efficiency Dist - MF'!I13:I20)\n+'Product Class Dist'!D11*SUMPRODUCT('UEC Development'!$K$30:$K$34,'Efficiency Dist - MF'!I43:I47)","v":364.25287356321837},{"$f":"'Product Class Dist'!E10*SUMPRODUCT('UEC Development'!$K$14:$K$21,'Efficiency Dist - MF'!J13:J20)\n+'Product Class Dist'!E11*SUMPRODUCT('UEC Development'!$K$30:$K$34,'Efficiency Dist - MF'!J43:J47)","v":364.25287356321837},{"$f":"'Product Class Dist'!F10*SUMPRODUCT('UEC Development'!$K$14:$K$21,'Efficiency Dist - MF'!K13:K20)\n+'Product Class Dist'!F11*SUMPRODUCT('UEC Development'!$K$30:$K$34,'Efficiency Dist - MF'!K43:K47)","v":364.25287356321837},{"$f":"'Product Class Dist'!G10*SUMPRODUCT('UEC Development'!$K$14:$K$21,'Efficiency Dist - MF'!L13:L20)\n+'Product Class Dist'!G11*SUMPRODUCT('UEC Development'!$K$30:$K$34,'Efficiency Dist - MF'!L43:L47)","v":364.25287356321837},{"$f":"'Product Class Dist'!H10*SUMPRODUCT('UEC Development'!$K$14:$K$21,'Efficiency Dist - MF'!M13:M20)\n+'Product Class Dist'!H11*SUMPRODUCT('UEC Development'!$K$30:$K$34,'Efficiency Dist - MF'!M43:M47)","v":364.25287356321837},{"$f":"'Product Class Dist'!I10*SUMPRODUCT('UEC Development'!$K$14:$K$21,'Efficiency Dist - MF'!N13:N20)\n+'Product Class Dist'!I11*SUMPRODUCT('UEC Development'!$K$30:$K$34,'Efficiency Dist - MF'!N43:N47)","v":364.25287356321837},{"$f":"'Product Class Dist'!J10*SUMPRODUCT('UEC Development'!$K$14:$K$21,'Efficiency Dist - MF'!O13:O20)\n+'Product Class Dist'!J11*SUMPRODUCT('UEC Development'!$K$30:$K$34,'Efficiency Dist - MF'!O43:O47)","v":364.25287356321837},{"$f":"'Product Class Dist'!K10*SUMPRODUCT('UEC Development'!$K$14:$K$21,'Efficiency Dist - MF'!P13:P20)\n+'Product Class Dist'!K11*SUMPRODUCT('UEC Development'!$K$30:$K$34,'Efficiency Dist - MF'!P43:P47)","v":364.25287356321837},{"$f":"'Product Class Dist'!L10*SUMPRODUCT('UEC Development'!$K$14:$K$21,'Efficiency Dist - MF'!Q13:Q20)\n+'Product Class Dist'!L11*SUMPRODUCT('UEC Development'!$K$30:$K$34,'Efficiency Dist - MF'!Q43:Q47)","v":364.25287356321837},{"$f":"'Product Class Dist'!M10*SUMPRODUCT('UEC Development'!$K$14:$K$21,'Efficiency Dist - MF'!R13:R20)\n+'Product Class Dist'!M11*SUMPRODUCT('UEC Development'!$K$30:$K$34,'Efficiency Dist - MF'!R43:R47)","v":364.25287356321837},{"$f":"'Product Class Dist'!N10*SUMPRODUCT('UEC Development'!$K$14:$K$21,'Efficiency Dist - MF'!S13:S20)\n+'Product Class Dist'!N11*SUMPRODUCT('UEC Development'!$K$30:$K$34,'Efficiency Dist - MF'!S43:S47)","v":364.31818181818181},{"$f":"'Product Class Dist'!O10*SUMPRODUCT('UEC Development'!$K$14:$K$21,'Efficiency Dist - MF'!T13:T20)\n+'Product Class Dist'!O11*SUMPRODUCT('UEC Development'!$K$30:$K$34,'Efficiency Dist - MF'!T43:T47)","v":364.38202247191009},{"$f":"'Product Class Dist'!P10*SUMPRODUCT('UEC Development'!$K$14:$K$21,'Efficiency Dist - MF'!U13:U20)\n+'Product Class Dist'!P11*SUMPRODUCT('UEC Development'!$K$30:$K$34,'Efficiency Dist - MF'!U43:U47)","v":364.31818181818187},{"$f":"'Product Class Dist'!Q10*SUMPRODUCT('UEC Development'!$K$14:$K$21,'Efficiency Dist - MF'!V13:V20)\n+'Product Class Dist'!Q11*SUMPRODUCT('UEC Development'!$K$30:$K$34,'Efficiency Dist - MF'!V43:V47)","v":363.93258426966293},{"$f":"'Product Class Dist'!R10*SUMPRODUCT('UEC Development'!$K$14:$K$21,'Efficiency Dist - MF'!W13:W20)\n+'Product Class Dist'!R11*SUMPRODUCT('UEC Development'!$K$30:$K$34,'Efficiency Dist - MF'!W43:W47)","v":364},{"$f":"'Product Class Dist'!S10*SUMPRODUCT('UEC Development'!$K$14:$K$21,'Efficiency Dist - MF'!X13:X20)\n+'Product Class Dist'!S11*SUMPRODUCT('UEC Development'!$K$30:$K$34,'Efficiency Dist - MF'!X43:X47)","v":363.66666666666669},{"$f":"'Product Class Dist'!T10*SUMPRODUCT('UEC Development'!$K$14:$K$21,'Efficiency Dist - MF'!Y13:Y20)\n+'Product Class Dist'!T11*SUMPRODUCT('UEC Development'!$K$30:$K$34,'Efficiency Dist - MF'!Y43:Y47)","v":363.48314606741576},{"$f":"'Product Class Dist'!U10*SUMPRODUCT('UEC Development'!$K$14:$K$21,'Efficiency Dist - MF'!Z13:Z20)\n+'Product Class Dist'!U11*SUMPRODUCT('UEC Development'!$K$30:$K$34,'Efficiency Dist - MF'!Z43:Z47)","v":363.25842696629212},{"$f":"'Product Class Dist'!V10*SUMPRODUCT('UEC Development'!$K$14:$K$21,'Efficiency Dist - MF'!AA13:AA20)\n+'Product Class Dist'!V11*SUMPRODUCT('UEC Development'!$K$30:$K$34,'Efficiency Dist - MF'!AA43:AA47)","v":363.11111111111109},{"$f":"'Product Class Dist'!W10*SUMPRODUCT('UEC Development'!$K$14:$K$21,'Efficiency Dist - MF'!AB13:AB20)\n+'Product Class Dist'!W11*SUMPRODUCT('UEC Development'!$K$30:$K$34,'Efficiency Dist - MF'!AB43:AB47)","v":363.07692307692309},{"$f":"'Product Class Dist'!X10*SUMPRODUCT('UEC Development'!$K$14:$K$21,'Efficiency Dist - MF'!AC13:AC20)\n+'Product Class Dist'!X11*SUMPRODUCT('UEC Development'!$K$30:$K$34,'Efficiency Dist - MF'!AC43:AC47)","v":362.92134831460669},{"$f":"'Product Class Dist'!Y10*SUMPRODUCT('UEC Development'!$K$14:$K$21,'Efficiency Dist - MF'!AD13:AD20)\n+'Product Class Dist'!Y11*SUMPRODUCT('UEC Development'!$K$30:$K$34,'Efficiency Dist - MF'!AD43:AD47)","v":362.74725274725273},{"$f":"'Product Class Dist'!Z10*SUMPRODUCT('UEC Development'!$K$14:$K$21,'Efficiency Dist - MF'!AE13:AE20)\n+'Product Class Dist'!Z11*SUMPRODUCT('UEC Development'!$K$30:$K$34,'Efficiency Dist - MF'!AE43:AE47)","v":362.33333333333331},{"$f":"'Product Class Dist'!AA10*SUMPRODUCT('UEC Development'!$K$14:$K$21,'Efficiency Dist - MF'!AF13:AF20)\n+'Product Class Dist'!AA11*SUMPRODUCT('UEC Development'!$K$30:$K$34,'Efficiency Dist - MF'!AF43:AF47)","v":362.30769230769232},{"$f":"'Product Class Dist'!AB10*SUMPRODUCT('UEC Development'!$K$14:$K$21,'Efficiency Dist - MF'!AG13:AG20)\n+'Product Class Dist'!AB11*SUMPRODUCT('UEC Development'!$K$30:$K$34,'Efficiency Dist - MF'!AG43:AG47)","v":362.41758241758242},{"$f":"'Product Class Dist'!AC10*SUMPRODUCT('UEC Development'!$K$14:$K$21,'Efficiency Dist - MF'!AH13:AH20)\n+'Product Class Dist'!AC11*SUMPRODUCT('UEC Development'!$K$30:$K$34,'Efficiency Dist - MF'!AH43:AH47)","v":362.58416283273311},{"$f":"'Product Class Dist'!AD10*SUMPRODUCT('UEC Development'!$K$14:$K$21,'Efficiency Dist - MF'!AI13:AI20)\n+'Product Class Dist'!AD11*SUMPRODUCT('UEC Development'!$K$30:$K$34,'Efficiency Dist - MF'!AI43:AI47)","v":362.49739631519265},{"$f":"'Product Class Dist'!AE10*SUMPRODUCT('UEC Development'!$K$14:$K$21,'Efficiency Dist - MF'!AJ13:AJ20)\n+'Product Class Dist'!AE11*SUMPRODUCT('UEC Development'!$K$30:$K$34,'Efficiency Dist - MF'!AJ43:AJ47)","v":362.41062979765212},{"$f":"'Product Class Dist'!AF10*SUMPRODUCT('UEC Development'!$K$14:$K$21,'Efficiency Dist - MF'!AK13:AK20)\n+'Product Class Dist'!AF11*SUMPRODUCT('UEC Development'!$K$30:$K$34,'Efficiency Dist - MF'!AK43:AK47)","v":362.32386328011165},{"$f":"'Product Class Dist'!AG10*SUMPRODUCT('UEC Development'!$K$14:$K$21,'Efficiency Dist - MF'!AL13:AL20)\n+'Product Class Dist'!AG11*SUMPRODUCT('UEC Development'!$K$30:$K$34,'Efficiency Dist - MF'!AL43:AL47)","v":362.23709676257113},{"$f":"'Product Class Dist'!AH10*SUMPRODUCT('UEC Development'!$K$14:$K$21,'Efficiency Dist - MF'!AM13:AM20)\n+'Product Class Dist'!AH11*SUMPRODUCT('UEC Development'!$K$30:$K$34,'Efficiency Dist - MF'!AM43:AM47)","v":362.15033024503055},{"$f":"'Product Class Dist'!AI10*SUMPRODUCT('UEC Development'!$K$14:$K$21,'Efficiency Dist - MF'!AN13:AN20)\n+'Product Class Dist'!AI11*SUMPRODUCT('UEC Development'!$K$30:$K$34,'Efficiency Dist - MF'!AN43:AN47)","v":362.06356372749008},{"$f":"'Product Class Dist'!AJ10*SUMPRODUCT('UEC Development'!$K$14:$K$21,'Efficiency Dist - MF'!AO13:AO20)\n+'Product Class Dist'!AJ11*SUMPRODUCT('UEC Development'!$K$30:$K$34,'Efficiency Dist - MF'!AO43:AO47)","v":361.97679720994955},{"$f":"'Product Class Dist'!AK10*SUMPRODUCT('UEC Development'!$K$14:$K$21,'Efficiency Dist - MF'!AP13:AP20)\n+'Product Class Dist'!AK11*SUMPRODUCT('UEC Development'!$K$30:$K$34,'Efficiency Dist - MF'!AP43:AP47)","v":361.89003069240903},{"$f":"'Product Class Dist'!AL10*SUMPRODUCT('UEC Development'!$K$14:$K$21,'Efficiency Dist - MF'!AQ13:AQ20)\n+'Product Class Dist'!AL11*SUMPRODUCT('UEC Development'!$K$30:$K$34,'Efficiency Dist - MF'!AQ43:AQ47)","v":361.80326417486856},{"$f":"'Product Class Dist'!AM10*SUMPRODUCT('UEC Development'!$K$14:$K$21,'Efficiency Dist - MF'!AR13:AR20)\n+'Product Class Dist'!AM11*SUMPRODUCT('UEC Development'!$K$30:$K$34,'Efficiency Dist - MF'!AR43:AR47)","v":361.71649765732673},{"$f":"'Product Class Dist'!AN10*SUMPRODUCT('UEC Development'!$K$14:$K$21,'Efficiency Dist - MF'!AS13:AS20)\n+'Product Class Dist'!AN11*SUMPRODUCT('UEC Development'!$K$30:$K$34,'Efficiency Dist - MF'!AS43:AS47)","v":361.62973113978745},{"$f":"'Product Class Dist'!AO10*SUMPRODUCT('UEC Development'!$K$14:$K$21,'Efficiency Dist - MF'!AT13:AT20)\n+'Product Class Dist'!AO11*SUMPRODUCT('UEC Development'!$K$30:$K$34,'Efficiency Dist - MF'!AT43:AT47)","v":361.54296462224698},{"$f":"'Product Class Dist'!AP10*SUMPRODUCT('UEC Development'!$K$14:$K$21,'Efficiency Dist - MF'!AU13:AU20)\n+'Product Class Dist'!AP11*SUMPRODUCT('UEC Development'!$K$30:$K$34,'Efficiency Dist - MF'!AU43:AU47)","v":361.4561981047064},{"$f":"'Product Class Dist'!AQ10*SUMPRODUCT('UEC Development'!$K$14:$K$21,'Efficiency Dist - MF'!AV13:AV20)\n+'Product Class Dist'!AQ11*SUMPRODUCT('UEC Development'!$K$30:$K$34,'Efficiency Dist - MF'!AV43:AV47)","v":361.36943158716599},{"$f":"'Product Class Dist'!AR10*SUMPRODUCT('UEC Development'!$K$14:$K$21,'Efficiency Dist - MF'!AW13:AW20)\n+'Product Class Dist'!AR11*SUMPRODUCT('UEC Development'!$K$30:$K$34,'Efficiency Dist - MF'!AW43:AW47)","v":361.28266506962541},{"$f":"'Product Class Dist'!AS10*SUMPRODUCT('UEC Development'!$K$14:$K$21,'Efficiency Dist - MF'!AX13:AX20)\n+'Product Class Dist'!AS11*SUMPRODUCT('UEC Development'!$K$30:$K$34,'Efficiency Dist - MF'!AX43:AX47)","v":361.19589855208488},{"$f":"'Product Class Dist'!AT10*SUMPRODUCT('UEC Development'!$K$14:$K$21,'Efficiency Dist - MF'!AY13:AY20)\n+'Product Class Dist'!AT11*SUMPRODUCT('UEC Development'!$K$30:$K$34,'Efficiency Dist - MF'!AY43:AY47)","v":361.10913203454436},{"$f":"'Product Class Dist'!AU10*SUMPRODUCT('UEC Development'!$K$14:$K$21,'Efficiency Dist - MF'!AZ13:AZ20)\n+'Product Class Dist'!AU11*SUMPRODUCT('UEC Development'!$K$30:$K$34,'Efficiency Dist - MF'!AZ43:AZ47)","v":361.02236551700389},{"$f":"'Product Class Dist'!AV10*SUMPRODUCT('UEC Development'!$K$14:$K$21,'Efficiency Dist - MF'!BA13:BA20)\n+'Product Class Dist'!AV11*SUMPRODUCT('UEC Development'!$K$30:$K$34,'Efficiency Dist - MF'!BA43:BA47)","v":360.93559899946337},{"$f":"'Product Class Dist'!AW10*SUMPRODUCT('UEC Development'!$K$14:$K$21,'Efficiency Dist - MF'!BB13:BB20)\n+'Product Class Dist'!AW11*SUMPRODUCT('UEC Development'!$K$30:$K$34,'Efficiency Dist - MF'!BB43:BB47)","v":360.84883248192284},{"$f":"'Product Class Dist'!AX10*SUMPRODUCT('UEC Development'!$K$14:$K$21,'Efficiency Dist - MF'!BC13:BC20)\n+'Product Class Dist'!AX11*SUMPRODUCT('UEC Development'!$K$30:$K$34,'Efficiency Dist - MF'!BC43:BC47)","v":360.76206596438232},{"$f":"'Product Class Dist'!AY10*SUMPRODUCT('UEC Development'!$K$14:$K$21,'Efficiency Dist - MF'!BD13:BD20)\n+'Product Class Dist'!AY11*SUMPRODUCT('UEC Development'!$K$30:$K$34,'Efficiency Dist - MF'!BD43:BD47)","v":360.67529944684173},{"$f":"'Product Class Dist'!AZ10*SUMPRODUCT('UEC Development'!$K$14:$K$21,'Efficiency Dist - MF'!BE13:BE20)\n+'Product Class Dist'!AZ11*SUMPRODUCT('UEC Development'!$K$30:$K$34,'Efficiency Dist - MF'!BE43:BE47)","v":360.58853292930132},{"$f":"'Product Class Dist'!BA10*SUMPRODUCT('UEC Development'!$K$14:$K$21,'Efficiency Dist - MF'!BF13:BF20)\n+'Product Class Dist'!BA11*SUMPRODUCT('UEC Development'!$K$30:$K$34,'Efficiency Dist - MF'!BF43:BF47)","v":360.50176641176074},{"$f":"'Product Class Dist'!BB10*SUMPRODUCT('UEC Development'!$K$14:$K$21,'Efficiency Dist - MF'!BG13:BG20)\n+'Product Class Dist'!BB11*SUMPRODUCT('UEC Development'!$K$30:$K$34,'Efficiency Dist - MF'!BG43:BG47)","v":360.41499989422027},{"$f":"'Product Class Dist'!BC10*SUMPRODUCT('UEC Development'!$K$14:$K$21,'Efficiency Dist - MF'!BH13:BH20)\n+'Product Class Dist'!BC11*SUMPRODUCT('UEC Development'!$K$30:$K$34,'Efficiency Dist - MF'!BH43:BH47)","v":360.32823337667969},{"$f":"'Product Class Dist'!BD10*SUMPRODUCT('UEC Development'!$K$14:$K$21,'Efficiency Dist - MF'!BI13:BI20)\n+'Product Class Dist'!BD11*SUMPRODUCT('UEC Development'!$K$30:$K$34,'Efficiency Dist - MF'!BI43:BI47)","v":360.24146685913928},{"$f":"'Product Class Dist'!BE10*SUMPRODUCT('UEC Development'!$K$14:$K$21,'Efficiency Dist - MF'!BJ13:BJ20)\n+'Product Class Dist'!BE11*SUMPRODUCT('UEC Development'!$K$30:$K$34,'Efficiency Dist - MF'!BJ43:BJ47)","v":360.1547003415987}]
[null,null,"POST-Case UEC",{"$f":"'Product Class Dist'!D14*SUMPRODUCT('UEC Development'!$K$14:$K$21,'Efficiency Dist - MF'!I25:I32)\n+'Product Class Dist'!D15*SUMPRODUCT('UEC Development'!$K$30:$K$34,'Efficiency Dist - MF'!I52:I56)","v":364.25287356321837},{"$f":"'Product Class Dist'!E14*SUMPRODUCT('UEC Development'!$K$14:$K$21,'Efficiency Dist - MF'!J25:J32)\n+'Product Class Dist'!E15*SUMPRODUCT('UEC Development'!$K$30:$K$34,'Efficiency Dist - MF'!J52:J56)","v":364.25287356321837},{"$f":"'Product Class Dist'!F14*SUMPRODUCT('UEC Development'!$K$14:$K$21,'Efficiency Dist - MF'!K25:K32)\n+'Product Class Dist'!F15*SUMPRODUCT('UEC Development'!$K$30:$K$34,'Efficiency Dist - MF'!K52:K56)","v":364.25287356321837},{"$f":"'Product Class Dist'!G14*SUMPRODUCT('UEC Development'!$K$14:$K$21,'Efficiency Dist - MF'!L25:L32)\n+'Product Class Dist'!G15*SUMPRODUCT('UEC Development'!$K$30:$K$34,'Efficiency Dist - MF'!L52:L56)","v":364.25287356321837},{"$f":"'Product Class Dist'!H14*SUMPRODUCT('UEC Development'!$K$14:$K$21,'Efficiency Dist - MF'!M25:M32)\n+'Product Class Dist'!H15*SUMPRODUCT('UEC Development'!$K$30:$K$34,'Efficiency Dist - MF'!M52:M56)","v":364.25287356321837},{"$f":"'Product Class Dist'!I14*SUMPRODUCT('UEC Development'!$K$14:$K$21,'Efficiency Dist - MF'!N25:N32)\n+'Product Class Dist'!I15*SUMPRODUCT('UEC Development'!$K$30:$K$34,'Efficiency Dist - MF'!N52:N56)","v":364.25287356321837},{"$f":"'Product Class Dist'!J14*SUMPRODUCT('UEC Development'!$K$14:$K$21,'Efficiency Dist - MF'!O25:O32)\n+'Product Class Dist'!J15*SUMPRODUCT('UEC Development'!$K$30:$K$34,'Efficiency Dist - MF'!O52:O56)","v":364.25287356321837},{"$f":"'Product Class Dist'!K14*SUMPRODUCT('UEC Development'!$K$14:$K$21,'Efficiency Dist - MF'!P25:P32)\n+'Product Class Dist'!K15*SUMPRODUCT('UEC Development'!$K$30:$K$34,'Efficiency Dist - MF'!P52:P56)","v":364.25287356321837},{"$f":"'Product Class Dist'!L14*SUMPRODUCT('UEC Development'!$K$14:$K$21,'Efficiency Dist - MF'!Q25:Q32)\n+'Product Class Dist'!L15*SUMPRODUCT('UEC Development'!$K$30:$K$34,'Efficiency Dist - MF'!Q52:Q56)","v":364.25287356321837},{"$f":"'Product Class Dist'!M14*SUMPRODUCT('UEC Development'!$K$14:$K$21,'Efficiency Dist - MF'!R25:R32)\n+'Product Class Dist'!M15*SUMPRODUCT('UEC Development'!$K$30:$K$34,'Efficiency Dist - MF'!R52:R56)","v":364.25287356321837},{"$f":"'Product Class Dist'!N14*SUMPRODUCT('UEC Development'!$K$14:$K$21,'Efficiency Dist - MF'!S25:S32)\n+'Product Class Dist'!N15*SUMPRODUCT('UEC Development'!$K$30:$K$34,'Efficiency Dist - MF'!S52:S56)","v":364.31818181818181},{"$f":"'Product Class Dist'!O14*SUMPRODUCT('UEC Development'!$K$14:$K$21,'Efficiency Dist - MF'!T25:T32)\n+'Product Class Dist'!O15*SUMPRODUCT('UEC Development'!$K$30:$K$34,'Efficiency Dist - MF'!T52:T56)","v":364.38202247191009},{"$f":"'Product Class Dist'!P14*SUMPRODUCT('UEC Development'!$K$14:$K$21,'Efficiency Dist - MF'!U25:U32)\n+'Product Class Dist'!P15*SUMPRODUCT('UEC Development'!$K$30:$K$34,'Efficiency Dist - MF'!U52:U56)","v":364.31818181818187},{"$f":"'Product Class Dist'!Q14*SUMPRODUCT('UEC Development'!$K$14:$K$21,'Efficiency Dist - MF'!V25:V32)\n+'Product Class Dist'!Q15*SUMPRODUCT('UEC Development'!$K$30:$K$34,'Efficiency Dist - MF'!V52:V56)","v":363.93258426966293},{"$f":"'Product Class Dist'!R14*SUMPRODUCT('UEC Development'!$K$14:$K$21,'Efficiency Dist - MF'!W25:W32)\n+'Product Class Dist'!R15*SUMPRODUCT('UEC Development'!$K$30:$K$34,'Efficiency Dist - MF'!W52:W56)","v":364},{"$f":"'Product Class Dist'!S14*SUMPRODUCT('UEC Development'!$K$14:$K$21,'Efficiency Dist - MF'!X25:X32)\n+'Product Class Dist'!S15*SUMPRODUCT('UEC Development'!$K$30:$K$34,'Efficiency Dist - MF'!X52:X56)","v":363.66666666666669},{"$f":"'Product Class Dist'!T14*SUMPRODUCT('UEC Development'!$K$14:$K$21,'Efficiency Dist - MF'!Y25:Y32)\n+'Product Class Dist'!T15*SUMPRODUCT('UEC Development'!$K$30:$K$34,'Efficiency Dist - MF'!Y52:Y56)","v":363.48314606741576},{"$f":"'Product Class Dist'!U14*SUMPRODUCT('UEC Development'!$K$14:$K$21,'Efficiency Dist - MF'!Z25:Z32)\n+'Product Class Dist'!U15*SUMPRODUCT('UEC Development'!$K$30:$K$34,'Efficiency Dist - MF'!Z52:Z56)","v":363.25842696629212},{"$f":"'Product Class Dist'!V14*SUMPRODUCT('UEC Development'!$K$14:$K$21,'Efficiency Dist - MF'!AA25:AA32)\n+'Product Class Dist'!V15*SUMPRODUCT('UEC Development'!$K$30:$K$34,'Efficiency Dist - MF'!AA52:AA56)","v":363.11111111111109},{"$f":"'Product Class Dist'!W14*SUMPRODUCT('UEC Development'!$K$14:$K$21,'Efficiency Dist - MF'!AB25:AB32)\n+'Product Class Dist'!W15*SUMPRODUCT('UEC Development'!$K$30:$K$34,'Efficiency Dist - MF'!AB52:AB56)","v":363.07692307692309},{"$f":"'Product Class Dist'!X14*SUMPRODUCT('UEC Development'!$K$14:$K$21,'Efficiency Dist - MF'!AC25:AC32)\n+'Product Class Dist'!X15*SUMPRODUCT('UEC Development'!$K$30:$K$34,'Efficiency Dist - MF'!AC52:AC56)","v":362.92134831460669},{"$f":"'Product Class Dist'!Y14*SUMPRODUCT('UEC Development'!$K$14:$K$21,'Efficiency Dist - MF'!AD25:AD32)\n+'Product Class Dist'!Y15*SUMPRODUCT('UEC Development'!$K$30:$K$34,'Efficiency Dist - MF'!AD52:AD56)","v":362.74725274725273},{"$f":"'Product Class Dist'!Z14*SUMPRODUCT('UEC Development'!$K$14:$K$21,'Efficiency Dist - MF'!AE25:AE32)\n+'Product Class Dist'!Z15*SUMPRODUCT('UEC Development'!$K$30:$K$34,'Efficiency Dist - MF'!AE52:AE56)","v":362.33333333333331},{"$f":"'Product Class Dist'!AA14*SUMPRODUCT('UEC Development'!$K$14:$K$21,'Efficiency Dist - MF'!AF25:AF32)\n+'Product Class Dist'!AA15*SUMPRODUCT('UEC Development'!$K$30:$K$34,'Efficiency Dist - MF'!AF52:AF56)","v":362.30769230769232},{"$f":"'Product Class Dist'!AB14*SUMPRODUCT('UEC Development'!$K$14:$K$21,'Efficiency Dist - MF'!AG25:AG32)\n+'Product Class Dist'!AB15*SUMPRODUCT('UEC Development'!$K$30:$K$34,'Efficiency Dist - MF'!AG52:AG56)","v":362.41758241758242},{"$f":"'Product Class Dist'!AC14*SUMPRODUCT('UEC Development'!$K$14:$K$21,'Efficiency Dist - MF'!AH25:AH32)\n+'Product Class Dist'!AC15*SUMPRODUCT('UEC Development'!$K$30:$K$34,'Efficiency Dist - MF'!AH52:AH56)","v":362.58416283273311},{"$f":"'Product Class Dist'!AD14*SUMPRODUCT('UEC Development'!$K$14:$K$21,'Efficiency Dist - MF'!AI25:AI32)\n+'Product Class Dist'!AD15*SUMPRODUCT('UEC Development'!$K$30:$K$34,'Efficiency Dist - MF'!AI52:AI56)","v":362.49739631519265},{"$f":"'Product Class Dist'!AE14*SUMPRODUCT('UEC Development'!$K$14:$K$21,'Efficiency Dist - MF'!AJ25:AJ32)\n+'Product Class Dist'!AE15*SUMPRODUCT('UEC Development'!$K$30:$K$34,'Efficiency Dist - MF'!AJ52:AJ56)","v":362.41062979765212},{"$f":"'Product Class Dist'!AF14*SUMPRODUCT('UEC Development'!$K$14:$K$21,'Efficiency Dist - MF'!AK25:AK32)\n+'Product Class Dist'!AF15*SUMPRODUCT('UEC Development'!$K$30:$K$34,'Efficiency Dist - MF'!AK52:AK56)","v":362.32386328011165},{"$f":"'Product Class Dist'!AG14*SUMPRODUCT('UEC Development'!$K$14:$K$21,'Efficiency Dist - MF'!AL25:AL32)\n+'Product Class Dist'!AG15*SUMPRODUCT('UEC Development'!$K$30:$K$34,'Efficiency Dist - MF'!AL52:AL56)","v":362.23709676257113},{"$f":"'Product Class Dist'!AH14*SUMPRODUCT('UEC Development'!$K$14:$K$21,'Efficiency Dist - MF'!AM25:AM32)\n+'Product Class Dist'!AH15*SUMPRODUCT('UEC Development'!$K$30:$K$34,'Efficiency Dist - MF'!AM52:AM56)","v":362.15033024503055},{"$f":"'Product Class Dist'!AI14*SUMPRODUCT('UEC Development'!$K$14:$K$21,'Efficiency Dist - MF'!AN25:AN32)\n+'Product Class Dist'!AI15*SUMPRODUCT('UEC Development'!$K$30:$K$34,'Efficiency Dist - MF'!AN52:AN56)","v":362.06356372749008},{"$f":"'Product Class Dist'!AJ14*SUMPRODUCT('UEC Development'!$K$14:$K$21,'Efficiency Dist - MF'!AO25:AO32)\n+'Product Class Dist'!AJ15*SUMPRODUCT('UEC Development'!$K$30:$K$34,'Efficiency Dist - MF'!AO52:AO56)","v":361.97679720994955},{"$f":"'Product Class Dist'!AK14*SUMPRODUCT('UEC Development'!$K$14:$K$21,'Efficiency Dist - MF'!AP25:AP32)\n+'Product Class Dist'!AK15*SUMPRODUCT('UEC Development'!$K$30:$K$34,'Efficiency Dist - MF'!AP52:AP56)","v":361.89003069240903},{"$f":"'Product Class Dist'!AL14*SUMPRODUCT('UEC Development'!$K$14:$K$21,'Efficiency Dist - MF'!AQ25:AQ32)\n+'Product Class Dist'!AL15*SUMPRODUCT('UEC Development'!$K$30:$K$34,'Efficiency Dist - MF'!AQ52:AQ56)","v":361.80326417486856},{"$f":"'Product Class Dist'!AM14*SUMPRODUCT('UEC Development'!$K$14:$K$21,'Efficiency Dist - MF'!AR25:AR32)\n+'Product Class Dist'!AM15*SUMPRODUCT('UEC Development'!$K$30:$K$34,'Efficiency Dist - MF'!AR52:AR56)","v":361.71649765732673},{"$f":"'Product Class Dist'!AN14*SUMPRODUCT('UEC Development'!$K$14:$K$21,'Efficiency Dist - MF'!AS25:AS32)\n+'Product Class Dist'!AN15*SUMPRODUCT('UEC Development'!$K$30:$K$34,'Efficiency Dist - MF'!AS52:AS56)","v":361.62973113978745},{"$f":"'Product Class Dist'!AO14*SUMPRODUCT('UEC Development'!$K$14:$K$21,'Efficiency Dist - MF'!AT25:AT32)\n+'Product Class Dist'!AO15*SUMPRODUCT('UEC Development'!$K$30:$K$34,'Efficiency Dist - MF'!AT52:AT56)","v":361.54296462224698},{"$f":"'Product Class Dist'!AP14*SUMPRODUCT('UEC Development'!$K$14:$K$21,'Efficiency Dist - MF'!AU25:AU32)\n+'Product Class Dist'!AP15*SUMPRODUCT('UEC Development'!$K$30:$K$34,'Efficiency Dist - MF'!AU52:AU56)","v":312.59704122292965},{"$f":"'Product Class Dist'!AQ14*SUMPRODUCT('UEC Development'!$K$14:$K$21,'Efficiency Dist - MF'!AV25:AV32)\n+'Product Class Dist'!AQ15*SUMPRODUCT('UEC Development'!$K$30:$K$34,'Efficiency Dist - MF'!AV52:AV56)","v":312.56146695073801},{"$f":"'Product Class Dist'!AR14*SUMPRODUCT('UEC Development'!$K$14:$K$21,'Efficiency Dist - MF'!AW25:AW32)\n+'Product Class Dist'!AR15*SUMPRODUCT('UEC Development'!$K$30:$K$34,'Efficiency Dist - MF'!AW52:AW56)","v":312.52589267854648},{"$f":"'Product Class Dist'!AS14*SUMPRODUCT('UEC Development'!$K$14:$K$21,'Efficiency Dist - MF'!AX25:AX32)\n+'Product Class Dist'!AS15*SUMPRODUCT('UEC Development'!$K$30:$K$34,'Efficiency Dist - MF'!AX52:AX56)","v":312.49031840635479},{"$f":"'Product Class Dist'!AT14*SUMPRODUCT('UEC Development'!$K$14:$K$21,'Efficiency Dist - MF'!AY25:AY32)\n+'Product Class Dist'!AT15*SUMPRODUCT('UEC Development'!$K$30:$K$34,'Efficiency Dist - MF'!AY52:AY56)","v":312.45474413416321},{"$f":"'Product Class Dist'!AU14*SUMPRODUCT('UEC Development'!$K$14:$K$21,'Efficiency Dist - MF'!AZ25:AZ32)\n+'Product Class Dist'!AU15*SUMPRODUCT('UEC Development'!$K$30:$K$34,'Efficiency Dist - MF'!AZ52:AZ56)","v":312.41916986197157},{"$f":"'Product Class Dist'!AV14*SUMPRODUCT('UEC Development'!$K$14:$K$21,'Efficiency Dist - MF'!BA25:BA32)\n+'Product Class Dist'!AV15*SUMPRODUCT('UEC Development'!$K$30:$K$34,'Efficiency Dist - MF'!BA52:BA56)","v":312.38359558977999},{"$f":"'Product Class Dist'!AW14*SUMPRODUCT('UEC Development'!$K$14:$K$21,'Efficiency Dist - MF'!BB25:BB32)\n+'Product Class Dist'!AW15*SUMPRODUCT('UEC Development'!$K$30:$K$34,'Efficiency Dist - MF'!BB52:BB56)","v":312.34802131758835},{"$f":"'Product Class Dist'!AX14*SUMPRODUCT('UEC Development'!$K$14:$K$21,'Efficiency Dist - MF'!BC25:BC32)\n+'Product Class Dist'!AX15*SUMPRODUCT('UEC Development'!$K$30:$K$34,'Efficiency Dist - MF'!BC52:BC56)","v":312.31244704539677},{"$f":"'Product Class Dist'!AY14*SUMPRODUCT('UEC Development'!$K$14:$K$21,'Efficiency Dist - MF'!BD25:BD32)\n+'Product Class Dist'!AY15*SUMPRODUCT('UEC Development'!$K$30:$K$34,'Efficiency Dist - MF'!BD52:BD56)","v":312.27687277320518},{"$f":"'Product Class Dist'!AZ14*SUMPRODUCT('UEC Development'!$K$14:$K$21,'Efficiency Dist - MF'!BE25:BE32)\n+'Product Class Dist'!AZ15*SUMPRODUCT('UEC Development'!$K$30:$K$34,'Efficiency Dist - MF'!BE52:BE56)","v":312.24129850101349},{"$f":"'Product Class Dist'!BA14*SUMPRODUCT('UEC Development'!$K$14:$K$21,'Efficiency Dist - MF'!BF25:BF32)\n+'Product Class Dist'!BA15*SUMPRODUCT('UEC Development'!$K$30:$K$34,'Efficiency Dist - MF'!BF52:BF56)","v":312.20572422882196},{"$f":"'Product Class Dist'!BB14*SUMPRODUCT('UEC Development'!$K$14:$K$21,'Efficiency Dist - MF'!BG25:BG32)\n+'Product Class Dist'!BB15*SUMPRODUCT('UEC Development'!$K$30:$K$34,'Efficiency Dist - MF'!BG52:BG56)","v":312.17014995663027},{"$f":"'Product Class Dist'!BC14*SUMPRODUCT('UEC Development'!$K$14:$K$21,'Efficiency Dist - MF'!BH25:BH32)\n+'Product Class Dist'!BC15*SUMPRODUCT('UEC Development'!$K$30:$K$34,'Efficiency Dist - MF'!BH52:BH56)","v":312.13457568443874},{"$f":"'Product Class Dist'!BD14*SUMPRODUCT('UEC Development'!$K$14:$K$21,'Efficiency Dist - MF'!BI25:BI32)\n+'Product Class Dist'!BD15*SUMPRODUCT('UEC Development'!$K$30:$K$34,'Efficiency Dist - MF'!BI52:BI56)","v":312.09900141224705},{"$f":"'Product Class Dist'!BE14*SUMPRODUCT('UEC Development'!$K$14:$K$21,'Efficiency Dist - MF'!BJ25:BJ32)\n+'Product Class Dist'!BE15*SUMPRODUCT('UEC Development'!$K$30:$K$34,'Efficiency Dist - MF'!BJ52:BJ56)","v":312.06342714005547}]
[]
[null,null,"Installed UEC (Vintage Weighted Average) "]
[null,null,null,1981,1982,1983,1984,1985,1986,1987,1988,1989,1990,1991,1992,1993,1994,1995,1996,1997,1998,1999,2000,2001,2002,2003,2004,2005,2006,2007,2008,2009,2010,2011,2012,2013,2014,2015,2016,2017,2018,2019,2020,2021,2022,2023,2024,2025,2026,2027,2028,2029,2030,2031,2032,2033,2034]
[null,null,"PRE-Case UEC",{"$f":"IF(D$15-$D$15+2<=LIFETIME_MF,D11,\nSUMPRODUCT(OFFSET(D11,0,(-1*LIFETIME_MF)+1,1,LIFETIME_MF),OFFSET('Shipments and Stock - MF'!E$14,0,(-1*LIFETIME_MF)+1,1,LIFETIME_MF))/\nSUM(OFFSET('Shipments and Stock - MF'!E$14,0,(-1*LIFETIME_MF)+1,1,LIFETIME_MF)))","v":364.25287356321837},{"$f":"IF(E$15-$D$15+2<=LIFETIME_MF,E11,\nSUMPRODUCT(OFFSET(E11,0,(-1*LIFETIME_MF)+1,1,LIFETIME_MF),OFFSET('Shipments and Stock - MF'!F$14,0,(-1*LIFETIME_MF)+1,1,LIFETIME_MF))/\nSUM(OFFSET('Shipments and Stock - MF'!F$14,0,(-1*LIFETIME_MF)+1,1,LIFETIME_MF)))","v":364.25287356321837},{"$f":"IF(F$15-$D$15+2<=LIFETIME_MF,F11,\nSUMPRODUCT(OFFSET(F11,0,(-1*LIFETIME_MF)+1,1,LIFETIME_MF),OFFSET('Shipments and Stock - MF'!G$14,0,(-1*LIFETIME_MF)+1,1,LIFETIME_MF))/\nSUM(OFFSET('Shipments and Stock - MF'!G$14,0,(-1*LIFETIME_MF)+1,1,LIFETIME_MF)))","v":364.25287356321837},{"$f":"IF(G$15-$D$15+2<=LIFETIME_MF,G11,\nSUMPRODUCT(OFFSET(G11,0,(-1*LIFETIME_MF)+1,1,LIFETIME_MF),OFFSET('Shipments and Stock - MF'!H$14,0,(-1*LIFETIME_MF)+1,1,LIFETIME_MF))/\nSUM(OFFSET('Shipments and Stock - MF'!H$14,0,(-1*LIFETIME_MF)+1,1,LIFETIME_MF)))","v":364.25287356321837},{"$f":"IF(H$15-$D$15+2<=LIFETIME_MF,H11,\nSUMPRODUCT(OFFSET(H11,0,(-1*LIFETIME_MF)+1,1,LIFETIME_MF),OFFSET('Shipments and Stock - MF'!I$14,0,(-1*LIFETIME_MF)+1,1,LIFETIME_MF))/\nSUM(OFFSET('Shipments and Stock - MF'!I$14,0,(-1*LIFETIME_MF)+1,1,LIFETIME_MF)))","v":364.25287356321837},{"$f":"IF(I$15-$D$15+2<=LIFETIME_MF,I11,\nSUMPRODUCT(OFFSET(I11,0,(-1*LIFETIME_MF)+1,1,LIFETIME_MF),OFFSET('Shipments and Stock - MF'!J$14,0,(-1*LIFETIME_MF)+1,1,LIFETIME_MF))/\nSUM(OFFSET('Shipments and Stock - MF'!J$14,0,(-1*LIFETIME_MF)+1,1,LIFETIME_MF)))","v":364.25287356321837},{"$f":"IF(J$15-$D$15+2<=LIFETIME_MF,J11,\nSUMPRODUCT(OFFSET(J11,0,(-1*LIFETIME_MF)+1,1,LIFETIME_MF),OFFSET('Shipments and Stock - MF'!K$14,0,(-1*LIFETIME_MF)+1,1,LIFETIME_MF))/\nSUM(OFFSET('Shipments and Stock - MF'!K$14,0,(-1*LIFETIME_MF)+1,1,LIFETIME_MF)))","v":364.25287356321837},{"$f":"IF(K$15-$D$15+2<=LIFETIME_MF,K11,\nSUMPRODUCT(OFFSET(K11,0,(-1*LIFETIME_MF)+1,1,LIFETIME_MF),OFFSET('Shipments and Stock - MF'!L$14,0,(-1*LIFETIME_MF)+1,1,LIFETIME_MF))/\nSUM(OFFSET('Shipments and Stock - MF'!L$14,0,(-1*LIFETIME_MF)+1,1,LIFETIME_MF)))","v":364.25287356321837},{"$f":"IF(L$15-$D$15+2<=LIFETIME_MF,L11,\nSUMPRODUCT(OFFSET(L11,0,(-1*LIFETIME_MF)+1,1,LIFETIME_MF),OFFSET('Shipments and Stock - MF'!M$14,0,(-1*LIFETIME_MF)+1,1,LIFETIME_MF))/\nSUM(OFFSET('Shipments and Stock - MF'!M$14,0,(-1*LIFETIME_MF)+1,1,LIFETIME_MF)))","v":364.25287356321837},{"$f":"IF(M$15-$D$15+2<=LIFETIME_MF,M11,\nSUMPRODUCT(OFFSET(M11,0,(-1*LIFETIME_MF)+1,1,LIFETIME_MF),OFFSET('Shipments and Stock - MF'!N$14,0,(-1*LIFETIME_MF)+1,1,LIFETIME_MF))/\nSUM(OFFSET('Shipments and Stock - MF'!N$14,0,(-1*LIFETIME_MF)+1,1,LIFETIME_MF)))","v":364.25287356321837},{"$f":"IF(N$15-$D$15+2<=LIFETIME_MF,N11,\nSUMPRODUCT(OFFSET(N11,0,(-1*LIFETIME_MF)+1,1,LIFETIME_MF),OFFSET('Shipments and Stock - MF'!O$14,0,(-1*LIFETIME_MF)+1,1,LIFETIME_MF))/\nSUM(OFFSET('Shipments and Stock - MF'!O$14,0,(-1*LIFETIME_MF)+1,1,LIFETIME_MF)))","v":364.31818181818181},{"$f":"IF(O$15-$D$15+2<=LIFETIME_MF,O11,\nSUMPRODUCT(OFFSET(O11,0,(-1*LIFETIME_MF)+1,1,LIFETIME_MF),OFFSET('Shipments and Stock - MF'!P$14,0,(-1*LIFETIME_MF)+1,1,LIFETIME_MF))/\nSUM(OFFSET('Shipments and Stock - MF'!P$14,0,(-1*LIFETIME_MF)+1,1,LIFETIME_MF)))","v":364.38202247191009},{"$f":"IF(P$15-$D$15+2<=LIFETIME_MF,P11,\nSUMPRODUCT(OFFSET(P11,0,(-1*LIFETIME_MF)+1,1,LIFETIME_MF),OFFSET('Shipments and Stock - MF'!Q$14,0,(-1*LIFETIME_MF)+1,1,LIFETIME_MF))/\nSUM(OFFSET('Shipments and Stock - MF'!Q$14,0,(-1*LIFETIME_MF)+1,1,LIFETIME_MF)))","v":364.31818181818187},{"$f":"IF(Q$15-$D$15+2<=LIFETIME_MF,Q11,\nSUMPRODUCT(OFFSET(Q11,0,(-1*LIFETIME_MF)+1,1,LIFETIME_MF),OFFSET('Shipments and Stock - MF'!R$14,0,(-1*LIFETIME_MF)+1,1,LIFETIME_MF))/\nSUM(OFFSET('Shipments and Stock - MF'!R$14,0,(-1*LIFETIME_MF)+1,1,LIFETIME_MF)))","v":363.93258426966293},{"$f":"IF(R$15-$D$15+2<=LIFETIME_MF,R11,\nSUMPRODUCT(OFFSET(R11,0,(-1*LIFETIME_MF)+1,1,LIFETIME_MF),OFFSET('Shipments and Stock - MF'!S$14,0,(-1*LIFETIME_MF)+1,1,LIFETIME_MF))/\nSUM(OFFSET('Shipments and Stock - MF'!S$14,0,(-1*LIFETIME_MF)+1,1,LIFETIME_MF)))","v":364},{"$f":"IF(S$15-$D$15+2<=LIFETIME_MF,S11,\nSUMPRODUCT(OFFSET(S11,0,(-1*LIFETIME_MF)+1,1,LIFETIME_MF),OFFSET('Shipments and Stock - MF'!T$14,0,(-1*LIFETIME_MF)+1,1,LIFETIME_MF))/\nSUM(OFFSET('Shipments and Stock - MF'!T$14,0,(-1*LIFETIME_MF)+1,1,LIFETIME_MF)))","v":363.66666666666669},{"$f":"IF(T$15-$D$15+2<=LIFETIME_MF,T11,\nSUMPRODUCT(OFFSET(T11,0,(-1*LIFETIME_MF)+1,1,LIFETIME_MF),OFFSET('Shipments and Stock - MF'!U$14,0,(-1*LIFETIME_MF)+1,1,LIFETIME_MF))/\nSUM(OFFSET('Shipments and Stock - MF'!U$14,0,(-1*LIFETIME_MF)+1,1,LIFETIME_MF)))","v":363.48314606741576},{"$f":"IF(U$15-$D$15+2<=LIFETIME_MF,U11,\nSUMPRODUCT(OFFSET(U11,0,(-1*LIFETIME_MF)+1,1,LIFETIME_MF),OFFSET('Shipments and Stock - MF'!V$14,0,(-1*LIFETIME_MF)+1,1,LIFETIME_MF))/\nSUM(OFFSET('Shipments and Stock - MF'!V$14,0,(-1*LIFETIME_MF)+1,1,LIFETIME_MF)))","v":363.25842696629212},{"$f":"IF(V$15-$D$15+2<=LIFETIME_MF,V11,\nSUMPRODUCT(OFFSET(V11,0,(-1*LIFETIME_MF)+1,1,LIFETIME_MF),OFFSET('Shipments and Stock - MF'!W$14,0,(-1*LIFETIME_MF)+1,1,LIFETIME_MF))/\nSUM(OFFSET('Shipments and Stock - MF'!W$14,0,(-1*LIFETIME_MF)+1,1,LIFETIME_MF)))","v":364.06394057102654},{"$f":"IF(W$15-$D$15+2<=LIFETIME_MF,W11,\nSUMPRODUCT(OFFSET(W11,0,(-1*LIFETIME_MF)+1,1,LIFETIME_MF),OFFSET('Shipments and Stock - MF'!X$14,0,(-1*LIFETIME_MF)+1,1,LIFETIME_MF))/\nSUM(OFFSET('Shipments and Stock - MF'!X$14,0,(-1*LIFETIME_MF)+1,1,LIFETIME_MF)))","v":363.99993437730797},{"$f":"IF(X$15-$D$15+2<=LIFETIME_MF,X11,\nSUMPRODUCT(OFFSET(X11,0,(-1*LIFETIME_MF)+1,1,LIFETIME_MF),OFFSET('Shipments and Stock - MF'!Y$14,0,(-1*LIFETIME_MF)+1,1,LIFETIME_MF))/\nSUM(OFFSET('Shipments and Stock - MF'!Y$14,0,(-1*LIFETIME_MF)+1,1,LIFETIME_MF)))","v":363.93359189602353},{"$f":"IF(Y$15-$D$15+2<=LIFETIME_MF,Y11,\nSUMPRODUCT(OFFSET(Y11,0,(-1*LIFETIME_MF)+1,1,LIFETIME_MF),OFFSET('Shipments and Stock - MF'!Z$14,0,(-1*LIFETIME_MF)+1,1,LIFETIME_MF))/\nSUM(OFFSET('Shipments and Stock - MF'!Z$14,0,(-1*LIFETIME_MF)+1,1,LIFETIME_MF)))","v":363.85904411040735},{"$f":"IF(Z$15-$D$15+2<=LIFETIME_MF,Z11,\nSUMPRODUCT(OFFSET(Z11,0,(-1*LIFETIME_MF)+1,1,LIFETIME_MF),OFFSET('Shipments and Stock - MF'!AA$14,0,(-1*LIFETIME_MF)+1,1,LIFETIME_MF))/\nSUM(OFFSET('Shipments and Stock - MF'!AA$14,0,(-1*LIFETIME_MF)+1,1,LIFETIME_MF)))","v":363.75364268826957},{"$f":"IF(AA$15-$D$15+2<=LIFETIME_MF,AA11,\nSUMPRODUCT(OFFSET(AA11,0,(-1*LIFETIME_MF)+1,1,LIFETIME_MF),OFFSET('Shipments and Stock - MF'!AB$14,0,(-1*LIFETIME_MF)+1,1,LIFETIME_MF))/\nSUM(OFFSET('Shipments and Stock - MF'!AB$14,0,(-1*LIFETIME_MF)+1,1,LIFETIME_MF)))","v":363.62918356863503},{"$f":"IF(AB$15-$D$15+2<=LIFETIME_MF,AB11,\nSUMPRODUCT(OFFSET(AB11,0,(-1*LIFETIME_MF)+1,1,LIFETIME_MF),OFFSET('Shipments and Stock - MF'!AC$14,0,(-1*LIFETIME_MF)+1,1,LIFETIME_MF))/\nSUM(OFFSET('Shipments and Stock - MF'!AC$14,0,(-1*LIFETIME_MF)+1,1,LIFETIME_MF)))","v":363.52014258744083},{"$f":"IF(AC$15-$D$15+2<=LIFETIME_MF,AC11,\nSUMPRODUCT(OFFSET(AC11,0,(-1*LIFETIME_MF)+1,1,LIFETIME_MF),OFFSET('Shipments and Stock - MF'!AD$14,0,(-1*LIFETIME_MF)+1,1,LIFETIME_MF))/\nSUM(OFFSET('Shipments and Stock - MF'!AD$14,0,(-1*LIFETIME_MF)+1,1,LIFETIME_MF)))","v":363.41774719608895},{"$f":"IF(AD$15-$D$15+2<=LIFETIME_MF,AD11,\nSUMPRODUCT(OFFSET(AD11,0,(-1*LIFETIME_MF)+1,1,LIFETIME_MF),OFFSET('Shipments and Stock - MF'!AE$14,0,(-1*LIFETIME_MF)+1,1,LIFETIME_MF))/\nSUM(OFFSET('Shipments and Stock - MF'!AE$14,0,(-1*LIFETIME_MF)+1,1,LIFETIME_MF)))","v":363.30214063976973},{"$f":"IF(AE$15-$D$15+2<=LIFETIME_MF,AE11,\nSUMPRODUCT(OFFSET(AE11,0,(-1*LIFETIME_MF)+1,1,LIFETIME_MF),OFFSET('Shipments and Stock - MF'!AF$14,0,(-1*LIFETIME_MF)+1,1,LIFETIME_MF))/\nSUM(OFFSET('Shipments and Stock - MF'!AF$14,0,(-1*LIFETIME_MF)+1,1,LIFETIME_MF)))","v":363.17577700113418},{"$f":"IF(AF$15-$D$15+2<=LIFETIME_MF,AF11,\nSUMPRODUCT(OFFSET(AF11,0,(-1*LIFETIME_MF)+1,1,LIFETIME_MF),OFFSET('Shipments and Stock - MF'!AG$14,0,(-1*LIFETIME_MF)+1,1,LIFETIME_MF))/\nSUM(OFFSET('Shipments and Stock - MF'!AG$14,0,(-1*LIFETIME_MF)+1,1,LIFETIME_MF)))","v":363.06078677686247},{"$f":"IF(AG$15-$D$15+2<=LIFETIME_MF,AG11,\nSUMPRODUCT(OFFSET(AG11,0,(-1*LIFETIME_MF)+1,1,LIFETIME_MF),OFFSET('Shipments and Stock - MF'!AH$14,0,(-1*LIFETIME_MF)+1,1,LIFETIME_MF))/\nSUM(OFFSET('Shipments and Stock - MF'!AH$14,0,(-1*LIFETIME_MF)+1,1,LIFETIME_MF)))","v":362.96717628284352},{"$f":"IF(AH$15-$D$15+2<=LIFETIME_MF,AH11,\nSUMPRODUCT(OFFSET(AH11,0,(-1*LIFETIME_MF)+1,1,LIFETIME_MF),OFFSET('Shipments and Stock - MF'!AI$14,0,(-1*LIFETIME_MF)+1,1,LIFETIME_MF))/\nSUM(OFFSET('Shipments and Stock - MF'!AI$14,0,(-1*LIFETIME_MF)+1,1,LIFETIME_MF)))","v":362.86321625364161},{"$f":"IF(AI$15-$D$15+2<=LIFETIME_MF,AI11,\nSUMPRODUCT(OFFSET(AI11,0,(-1*LIFETIME_MF)+1,1,LIFETIME_MF),OFFSET('Shipments and Stock - MF'!AJ$14,0,(-1*LIFETIME_MF)+1,1,LIFETIME_MF))/\nSUM(OFFSET('Shipments and Stock - MF'!AJ$14,0,(-1*LIFETIME_MF)+1,1,LIFETIME_MF)))","v":362.76072123223167},{"$f":"IF(AJ$15-$D$15+2<=LIFETIME_MF,AJ11,\nSUMPRODUCT(OFFSET(AJ11,0,(-1*LIFETIME_MF)+1,1,LIFETIME_MF),OFFSET('Shipments and Stock - MF'!AK$14,0,(-1*LIFETIME_MF)+1,1,LIFETIME_MF))/\nSUM(OFFSET('Shipments and Stock - MF'!AK$14,0,(-1*LIFETIME_MF)+1,1,LIFETIME_MF)))","v":362.66505158801789},{"$f":"IF(AK$15-$D$15+2<=LIFETIME_MF,AK11,\nSUMPRODUCT(OFFSET(AK11,0,(-1*LIFETIME_MF)+1,1,LIFETIME_MF),OFFSET('Shipments and Stock - MF'!AL$14,0,(-1*LIFETIME_MF)+1,1,LIFETIME_MF))/\nSUM(OFFSET('Shipments and Stock - MF'!AL$14,0,(-1*LIFETIME_MF)+1,1,LIFETIME_MF)))","v":362.56081188209163},{"$f":"IF(AL$15-$D$15+2<=LIFETIME_MF,AL11,\nSUMPRODUCT(OFFSET(AL11,0,(-1*LIFETIME_MF)+1,1,LIFETIME_MF),OFFSET('Shipments and Stock - MF'!AM$14,0,(-1*LIFETIME_MF)+1,1,LIFETIME_MF))/\nSUM(OFFSET('Shipments and Stock - MF'!AM$14,0,(-1*LIFETIME_MF)+1,1,LIFETIME_MF)))","v":362.46847802842643},{"$f":"IF(AM$15-$D$15+2<=LIFETIME_MF,AM11,\nSUMPRODUCT(OFFSET(AM11,0,(-1*LIFETIME_MF)+1,1,LIFETIME_MF),OFFSET('Shipments and Stock - MF'!AN$14,0,(-1*LIFETIME_MF)+1,1,LIFETIME_MF))/\nSUM(OFFSET('Shipments and Stock - MF'!AN$14,0,(-1*LIFETIME_MF)+1,1,LIFETIME_MF)))","v":362.38114310950982},{"$f":"IF(AN$15-$D$15+2<=LIFETIME_MF,AN11,\nSUMPRODUCT(OFFSET(AN11,0,(-1*LIFETIME_MF)+1,1,LIFETIME_MF),OFFSET('Shipments and Stock - MF'!AO$14,0,(-1*LIFETIME_MF)+1,1,LIFETIME_MF))/\nSUM(OFFSET('Shipments and Stock - MF'!AO$14,0,(-1*LIFETIME_MF)+1,1,LIFETIME_MF)))","v":362.2968546100023},{"$f":"IF(AO$15-$D$15+2<=LIFETIME_MF,AO11,\nSUMPRODUCT(OFFSET(AO11,0,(-1*LIFETIME_MF)+1,1,LIFETIME_MF),OFFSET('Shipments and Stock - MF'!AP$14,0,(-1*LIFETIME_MF)+1,1,LIFETIME_MF))/\nSUM(OFFSET('Shipments and Stock - MF'!AP$14,0,(-1*LIFETIME_MF)+1,1,LIFETIME_MF)))","v":362.22212234053859},{"$f":"IF(AP$15-$D$15+2<=LIFETIME_MF,AP11,\nSUMPRODUCT(OFFSET(AP11,0,(-1*LIFETIME_MF)+1,1,LIFETIME_MF),OFFSET('Shipments and Stock - MF'!AQ$14,0,(-1*LIFETIME_MF)+1,1,LIFETIME_MF))/\nSUM(OFFSET('Shipments and Stock - MF'!AQ$14,0,(-1*LIFETIME_MF)+1,1,LIFETIME_MF)))","v":362.13426924241935},{"$f":"IF(AQ$15-$D$15+2<=LIFETIME_MF,AQ11,\nSUMPRODUCT(OFFSET(AQ11,0,(-1*LIFETIME_MF)+1,1,LIFETIME_MF),OFFSET('Shipments and Stock - MF'!AR$14,0,(-1*LIFETIME_MF)+1,1,LIFETIME_MF))/\nSUM(OFFSET('Shipments and Stock - MF'!AR$14,0,(-1*LIFETIME_MF)+1,1,LIFETIME_MF)))","v":362.0555520921838},{"$f":"IF(AR$15-$D$15+2<=LIFETIME_MF,AR11,\nSUMPRODUCT(OFFSET(AR11,0,(-1*LIFETIME_MF)+1,1,LIFETIME_MF),OFFSET('Shipments and Stock - MF'!AS$14,0,(-1*LIFETIME_MF)+1,1,LIFETIME_MF))/\nSUM(OFFSET('Shipments and Stock - MF'!AS$14,0,(-1*LIFETIME_MF)+1,1,LIFETIME_MF)))","v":361.98196396466892},{"$f":"IF(AS$15-$D$15+2<=LIFETIME_MF,AS11,\nSUMPRODUCT(OFFSET(AS11,0,(-1*LIFETIME_MF)+1,1,LIFETIME_MF),OFFSET('Shipments and Stock - MF'!AT$14,0,(-1*LIFETIME_MF)+1,1,LIFETIME_MF))/\nSUM(OFFSET('Shipments and Stock - MF'!AT$14,0,(-1*LIFETIME_MF)+1,1,LIFETIME_MF)))","v":361.91724039742064},{"$f":"IF(AT$15-$D$15+2<=LIFETIME_MF,AT11,\nSUMPRODUCT(OFFSET(AT11,0,(-1*LIFETIME_MF)+1,1,LIFETIME_MF),OFFSET('Shipments and Stock - MF'!AU$14,0,(-1*LIFETIME_MF)+1,1,LIFETIME_MF))/\nSUM(OFFSET('Shipments and Stock - MF'!AU$14,0,(-1*LIFETIME_MF)+1,1,LIFETIME_MF)))","v":361.84065409263667},{"$f":"IF(AU$15-$D$15+2<=LIFETIME_MF,AU11,\nSUMPRODUCT(OFFSET(AU11,0,(-1*LIFETIME_MF)+1,1,LIFETIME_MF),OFFSET('Shipments and Stock - MF'!AV$14,0,(-1*LIFETIME_MF)+1,1,LIFETIME_MF))/\nSUM(OFFSET('Shipments and Stock - MF'!AV$14,0,(-1*LIFETIME_MF)+1,1,LIFETIME_MF)))","v":361.75882811894741},{"$f":"IF(AV$15-$D$15+2<=LIFETIME_MF,AV11,\nSUMPRODUCT(OFFSET(AV11,0,(-1*LIFETIME_MF)+1,1,LIFETIME_MF),OFFSET('Shipments and Stock - MF'!AW$14,0,(-1*LIFETIME_MF)+1,1,LIFETIME_MF))/\nSUM(OFFSET('Shipments and Stock - MF'!AW$14,0,(-1*LIFETIME_MF)+1,1,LIFETIME_MF)))","v":361.66089622108404},{"$f":"IF(AW$15-$D$15+2<=LIFETIME_MF,AW11,\nSUMPRODUCT(OFFSET(AW11,0,(-1*LIFETIME_MF)+1,1,LIFETIME_MF),OFFSET('Shipments and Stock - MF'!AX$14,0,(-1*LIFETIME_MF)+1,1,LIFETIME_MF))/\nSUM(OFFSET('Shipments and Stock - MF'!AX$14,0,(-1*LIFETIME_MF)+1,1,LIFETIME_MF)))","v":361.55837675827667},{"$f":"IF(AX$15-$D$15+2<=LIFETIME_MF,AX11,\nSUMPRODUCT(OFFSET(AX11,0,(-1*LIFETIME_MF)+1,1,LIFETIME_MF),OFFSET('Shipments and Stock - MF'!AY$14,0,(-1*LIFETIME_MF)+1,1,LIFETIME_MF))/\nSUM(OFFSET('Shipments and Stock - MF'!AY$14,0,(-1*LIFETIME_MF)+1,1,LIFETIME_MF)))","v":361.45662823708244},{"$f":"IF(AY$15-$D$15+2<=LIFETIME_MF,AY11,\nSUMPRODUCT(OFFSET(AY11,0,(-1*LIFETIME_MF)+1,1,LIFETIME_MF),OFFSET('Shipments and Stock - MF'!AZ$14,0,(-1*LIFETIME_MF)+1,1,LIFETIME_MF))/\nSUM(OFFSET('Shipments and Stock - MF'!AZ$14,0,(-1*LIFETIME_MF)+1,1,LIFETIME_MF)))","v":361.373109080897},{"$f":"IF(AZ$15-$D$15+2<=LIFETIME_MF,AZ11,\nSUMPRODUCT(OFFSET(AZ11,0,(-1*LIFETIME_MF)+1,1,LIFETIME_MF),OFFSET('Shipments and Stock - MF'!BA$14,0,(-1*LIFETIME_MF)+1,1,LIFETIME_MF))/\nSUM(OFFSET('Shipments and Stock - MF'!BA$14,0,(-1*LIFETIME_MF)+1,1,LIFETIME_MF)))","v":361.30632155586085},{"$f":"IF(BA$15-$D$15+2<=LIFETIME_MF,BA11,\nSUMPRODUCT(OFFSET(BA11,0,(-1*LIFETIME_MF)+1,1,LIFETIME_MF),OFFSET('Shipments and Stock - MF'!BB$14,0,(-1*LIFETIME_MF)+1,1,LIFETIME_MF))/\nSUM(OFFSET('Shipments and Stock - MF'!BB$14,0,(-1*LIFETIME_MF)+1,1,LIFETIME_MF)))","v":361.23512523065818},{"$f":"IF(BB$15-$D$15+2<=LIFETIME_MF,BB11,\nSUMPRODUCT(OFFSET(BB11,0,(-1*LIFETIME_MF)+1,1,LIFETIME_MF),OFFSET('Shipments and Stock - MF'!BC$14,0,(-1*LIFETIME_MF)+1,1,LIFETIME_MF))/\nSUM(OFFSET('Shipments and Stock - MF'!BC$14,0,(-1*LIFETIME_MF)+1,1,LIFETIME_MF)))","v":361.15747975915025},{"$f":"IF(BC$15-$D$15+2<=LIFETIME_MF,BC11,\nSUMPRODUCT(OFFSET(BC11,0,(-1*LIFETIME_MF)+1,1,LIFETIME_MF),OFFSET('Shipments and Stock - MF'!BD$14,0,(-1*LIFETIME_MF)+1,1,LIFETIME_MF))/\nSUM(OFFSET('Shipments and Stock - MF'!BD$14,0,(-1*LIFETIME_MF)+1,1,LIFETIME_MF)))","v":361.07597211247395},{"$f":"IF(BD$15-$D$15+2<=LIFETIME_MF,BD11,\nSUMPRODUCT(OFFSET(BD11,0,(-1*LIFETIME_MF)+1,1,LIFETIME_MF),OFFSET('Shipments and Stock - MF'!BE$14,0,(-1*LIFETIME_MF)+1,1,LIFETIME_MF))/\nSUM(OFFSET('Shipments and Stock - MF'!BE$14,0,(-1*LIFETIME_MF)+1,1,LIFETIME_MF)))","v":360.99254035195759},{"$f":"IF(BE$15-$D$15+2<=LIFETIME_MF,BE11,\nSUMPRODUCT(OFFSET(BE11,0,(-1*LIFETIME_MF)+1,1,LIFETIME_MF),OFFSET('Shipments and Stock - MF'!BF$14,0,(-1*LIFETIME_MF)+1,1,LIFETIME_MF))/\nSUM(OFFSET('Shipments and Stock - MF'!BF$14,0,(-1*LIFETIME_MF)+1,1,LIFETIME_MF)))","v":360.90880785299419}]
[null,null,"POST-Case UEC",{"$f":"IF(D$15-$D$15+2<=LIFETIME_MF,D12,\nSUMPRODUCT(OFFSET(D12,0,(-1*LIFETIME_MF)+1,1,LIFETIME_MF),OFFSET('Shipments and Stock - MF'!E$14,0,(-1*LIFETIME_MF)+1,1,LIFETIME_MF))/\nSUM(OFFSET('Shipments and Stock - MF'!E$14,0,(-1*LIFETIME_MF)+1,1,LIFETIME_MF)))","v":364.25287356321837},{"$f":"IF(E$15-$D$15+2<=LIFETIME_MF,E12,\nSUMPRODUCT(OFFSET(E12,0,(-1*LIFETIME_MF)+1,1,LIFETIME_MF),OFFSET('Shipments and Stock - MF'!F$14,0,(-1*LIFETIME_MF)+1,1,LIFETIME_MF))/\nSUM(OFFSET('Shipments and Stock - MF'!F$14,0,(-1*LIFETIME_MF)+1,1,LIFETIME_MF)))","v":364.25287356321837},{"$f":"IF(F$15-$D$15+2<=LIFETIME_MF,F12,\nSUMPRODUCT(OFFSET(F12,0,(-1*LIFETIME_MF)+1,1,LIFETIME_MF),OFFSET('Shipments and Stock - MF'!G$14,0,(-1*LIFETIME_MF)+1,1,LIFETIME_MF))/\nSUM(OFFSET('Shipments and Stock - MF'!G$14,0,(-1*LIFETIME_MF)+1,1,LIFETIME_MF)))","v":364.25287356321837},{"$f":"IF(G$15-$D$15+2<=LIFETIME_MF,G12,\nSUMPRODUCT(OFFSET(G12,0,(-1*LIFETIME_MF)+1,1,LIFETIME_MF),OFFSET('Shipments and Stock - MF'!H$14,0,(-1*LIFETIME_MF)+1,1,LIFETIME_MF))/\nSUM(OFFSET('Shipments and Stock - MF'!H$14,0,(-1*LIFETIME_MF)+1,1,LIFETIME_MF)))","v":364.25287356321837},{"$f":"IF(H$15-$D$15+2<=LIFETIME_MF,H12,\nSUMPRODUCT(OFFSET(H12,0,(-1*LIFETIME_MF)+1,1,LIFETIME_MF),OFFSET('Shipments and Stock - MF'!I$14,0,(-1*LIFETIME_MF)+1,1,LIFETIME_MF))/\nSUM(OFFSET('Shipments and Stock - MF'!I$14,0,(-1*LIFETIME_MF)+1,1,LIFETIME_MF)))","v":364.25287356321837},{"$f":"IF(I$15-$D$15+2<=LIFETIME_MF,I12,\nSUMPRODUCT(OFFSET(I12,0,(-1*LIFETIME_MF)+1,1,LIFETIME_MF),OFFSET('Shipments and Stock - MF'!J$14,0,(-1*LIFETIME_MF)+1,1,LIFETIME_MF))/\nSUM(OFFSET('Shipments and Stock - MF'!J$14,0,(-1*LIFETIME_MF)+1,1,LIFETIME_MF)))","v":364.25287356321837},{"$f":"IF(J$15-$D$15+2<=LIFETIME_MF,J12,\nSUMPRODUCT(OFFSET(J12,0,(-1*LIFETIME_MF)+1,1,LIFETIME_MF),OFFSET('Shipments and Stock - MF'!K$14,0,(-1*LIFETIME_MF)+1,1,LIFETIME_MF))/\nSUM(OFFSET('Shipments and Stock - MF'!K$14,0,(-1*LIFETIME_MF)+1,1,LIFETIME_MF)))","v":364.25287356321837},{"$f":"IF(K$15-$D$15+2<=LIFETIME_MF,K12,\nSUMPRODUCT(OFFSET(K12,0,(-1*LIFETIME_MF)+1,1,LIFETIME_MF),OFFSET('Shipments and Stock - MF'!L$14,0,(-1*LIFETIME_MF)+1,1,LIFETIME_MF))/\nSUM(OFFSET('Shipments and Stock - MF'!L$14,0,(-1*LIFETIME_MF)+1,1,LIFETIME_MF)))","v":364.25287356321837},{"$f":"IF(L$15-$D$15+2<=LIFETIME_MF,L12,\nSUMPRODUCT(OFFSET(L12,0,(-1*LIFETIME_MF)+1,1,LIFETIME_MF),OFFSET('Shipments and Stock - MF'!M$14,0,(-1*LIFETIME_MF)+1,1,LIFETIME_MF))/\nSUM(OFFSET('Shipments and Stock - MF'!M$14,0,(-1*LIFETIME_MF)+1,1,LIFETIME_MF)))","v":364.25287356321837},{"$f":"IF(M$15-$D$15+2<=LIFETIME_MF,M12,\nSUMPRODUCT(OFFSET(M12,0,(-1*LIFETIME_MF)+1,1,LIFETIME_MF),OFFSET('Shipments and Stock - MF'!N$14,0,(-1*LIFETIME_MF)+1,1,LIFETIME_MF))/\nSUM(OFFSET('Shipments and Stock - MF'!N$14,0,(-1*LIFETIME_MF)+1,1,LIFETIME_MF)))","v":364.25287356321837},{"$f":"IF(N$15-$D$15+2<=LIFETIME_MF,N12,\nSUMPRODUCT(OFFSET(N12,0,(-1*LIFETIME_MF)+1,1,LIFETIME_MF),OFFSET('Shipments and Stock - MF'!O$14,0,(-1*LIFETIME_MF)+1,1,LIFETIME_MF))/\nSUM(OFFSET('Shipments and Stock - MF'!O$14,0,(-1*LIFETIME_MF)+1,1,LIFETIME_MF)))","v":364.31818181818181},{"$f":"IF(O$15-$D$15+2<=LIFETIME_MF,O12,\nSUMPRODUCT(OFFSET(O12,0,(-1*LIFETIME_MF)+1,1,LIFETIME_MF),OFFSET('Shipments and Stock - MF'!P$14,0,(-1*LIFETIME_MF)+1,1,LIFETIME_MF))/\nSUM(OFFSET('Shipments and Stock - MF'!P$14,0,(-1*LIFETIME_MF)+1,1,LIFETIME_MF)))","v":364.38202247191009},{"$f":"IF(P$15-$D$15+2<=LIFETIME_MF,P12,\nSUMPRODUCT(OFFSET(P12,0,(-1*LIFETIME_MF)+1,1,LIFETIME_MF),OFFSET('Shipments and Stock - MF'!Q$14,0,(-1*LIFETIME_MF)+1,1,LIFETIME_MF))/\nSUM(OFFSET('Shipments and Stock - MF'!Q$14,0,(-1*LIFETIME_MF)+1,1,LIFETIME_MF)))","v":364.31818181818187},{"$f":"IF(Q$15-$D$15+2<=LIFETIME_MF,Q12,\nSUMPRODUCT(OFFSET(Q12,0,(-1*LIFETIME_MF)+1,1,LIFETIME_MF),OFFSET('Shipments and Stock - MF'!R$14,0,(-1*LIFETIME_MF)+1,1,LIFETIME_MF))/\nSUM(OFFSET('Shipments and Stock - MF'!R$14,0,(-1*LIFETIME_MF)+1,1,LIFETIME_MF)))","v":363.93258426966293},{"$f":"IF(R$15-$D$15+2<=LIFETIME_MF,R12,\nSUMPRODUCT(OFFSET(R12,0,(-1*LIFETIME_MF)+1,1,LIFETIME_MF),OFFSET('Shipments and Stock - MF'!S$14,0,(-1*LIFETIME_MF)+1,1,LIFETIME_MF))/\nSUM(OFFSET('Shipments and Stock - MF'!S$14,0,(-1*LIFETIME_MF)+1,1,LIFETIME_MF)))","v":364},{"$f":"IF(S$15-$D$15+2<=LIFETIME_MF,S12,\nSUMPRODUCT(OFFSET(S12,0,(-1*LIFETIME_MF)+1,1,LIFETIME_MF),OFFSET('Shipments and Stock - MF'!T$14,0,(-1*LIFETIME_MF)+1,1,LIFETIME_MF))/\nSUM(OFFSET('Shipments and Stock - MF'!T$14,0,(-1*LIFETIME_MF)+1,1,LIFETIME_MF)))","v":363.66666666666669},{"$f":"IF(T$15-$D$15+2<=LIFETIME_MF,T12,\nSUMPRODUCT(OFFSET(T12,0,(-1*LIFETIME_MF)+1,1,LIFETIME_MF),OFFSET('Shipments and Stock - MF'!U$14,0,(-1*LIFETIME_MF)+1,1,LIFETIME_MF))/\nSUM(OFFSET('Shipments and Stock - MF'!U$14,0,(-1*LIFETIME_MF)+1,1,LIFETIME_MF)))","v":363.48314606741576},{"$f":"IF(U$15-$D$15+2<=LIFETIME_MF,U12,\nSUMPRODUCT(OFFSET(U12,0,(-1*LIFETIME_MF)+1,1,LIFETIME_MF),OFFSET('Shipments and Stock - MF'!V$14,0,(-1*LIFETIME_MF)+1,1,LIFETIME_MF))/\nSUM(OFFSET('Shipments and Stock - MF'!V$14,0,(-1*LIFETIME_MF)+1,1,LIFETIME_MF)))","v":363.25842696629212},{"$f":"IF(V$15-$D$15+2<=LIFETIME_MF,V12,\nSUMPRODUCT(OFFSET(V12,0,(-1*LIFETIME_MF)+1,1,LIFETIME_MF),OFFSET('Shipments and Stock - MF'!W$14,0,(-1*LIFETIME_MF)+1,1,LIFETIME_MF))/\nSUM(OFFSET('Shipments and Stock - MF'!W$14,0,(-1*LIFETIME_MF)+1,1,LIFETIME_MF)))","v":364.06394057102654},{"$f":"IF(W$15-$D$15+2<=LIFETIME_MF,W12,\nSUMPRODUCT(OFFSET(W12,0,(-1*LIFETIME_MF)+1,1,LIFETIME_MF),OFFSET('Shipments and Stock - MF'!X$14,0,(-1*LIFETIME_MF)+1,1,LIFETIME_MF))/\nSUM(OFFSET('Shipments and Stock - MF'!X$14,0,(-1*LIFETIME_MF)+1,1,LIFETIME_MF)))","v":363.99993437730797},{"$f":"IF(X$15-$D$15+2<=LIFETIME_MF,X12,\nSUMPRODUCT(OFFSET(X12,0,(-1*LIFETIME_MF)+1,1,LIFETIME_MF),OFFSET('Shipments and Stock - MF'!Y$14,0,(-1*LIFETIME_MF)+1,1,LIFETIME_MF))/\nSUM(OFFSET('Shipments and Stock - MF'!Y$14,0,(-1*LIFETIME_MF)+1,1,LIFETIME_MF)))","v":363.93359189602353},{"$f":"IF(Y$15-$D$15+2<=LIFETIME_MF,Y12,\nSUMPRODUCT(OFFSET(Y12,0,(-1*LIFETIME_MF)+1,1,LIFETIME_MF),OFFSET('Shipments and Stock - MF'!Z$14,0,(-1*LIFETIME_MF)+1,1,LIFETIME_MF))/\nSUM(OFFSET('Shipments and Stock - MF'!Z$14,0,(-1*LIFETIME_MF)+1,1,LIFETIME_MF)))","v":363.85904411040735},{"$f":"IF(Z$15-$D$15+2<=LIFETIME_MF,Z12,\nSUMPRODUCT(OFFSET(Z12,0,(-1*LIFETIME_MF)+1,1,LIFETIME_MF),OFFSET('Shipments and Stock - MF'!AA$14,0,(-1*LIFETIME_MF)+1,1,LIFETIME_MF))/\nSUM(OFFSET('Shipments and Stock - MF'!AA$14,0,(-1*LIFETIME_MF)+1,1,LIFETIME_MF)))","v":363.75364268826957},{"$f":"IF(AA$15-$D$15+2<=LIFETIME_MF,AA12,\nSUMPRODUCT(OFFSET(AA12,0,(-1*LIFETIME_MF)+1,1,LIFETIME_MF),OFFSET('Shipments and Stock - MF'!AB$14,0,(-1*LIFETIME_MF)+1,1,LIFETIME_MF))/\nSUM(OFFSET('Shipments and Stock - MF'!AB$14,0,(-1*LIFETIME_MF)+1,1,LIFETIME_MF)))","v":363.62918356863503},{"$f":"IF(AB$15-$D$15+2<=LIFETIME_MF,AB12,\nSUMPRODUCT(OFFSET(AB12,0,(-1*LIFETIME_MF)+1,1,LIFETIME_MF),OFFSET('Shipments and Stock - MF'!AC$14,0,(-1*LIFETIME_MF)+1,1,LIFETIME_MF))/\nSUM(OFFSET('Shipments and Stock - MF'!AC$14,0,(-1*LIFETIME_MF)+1,1,LIFETIME_MF)))","v":363.52014258744083},{"$f":"IF(AC$15-$D$15+2<=LIFETIME_MF,AC12,\nSUMPRODUCT(OFFSET(AC12,0,(-1*LIFETIME_MF)+1,1,LIFETIME_MF),OFFSET('Shipments and Stock - MF'!AD$14,0,(-1*LIFETIME_MF)+1,1,LIFETIME_MF))/\nSUM(OFFSET('Shipments and Stock - MF'!AD$14,0,(-1*LIFETIME_MF)+1,1,LIFETIME_MF)))","v":363.41774719608895},{"$f":"IF(AD$15-$D$15+2<=LIFETIME_MF,AD12,\nSUMPRODUCT(OFFSET(AD12,0,(-1*LIFETIME_MF)+1,1,LIFETIME_MF),OFFSET('Shipments and Stock - MF'!AE$14,0,(-1*LIFETIME_MF)+1,1,LIFETIME_MF))/\nSUM(OFFSET('Shipments and Stock - MF'!AE$14,0,(-1*LIFETIME_MF)+1,1,LIFETIME_MF)))","v":363.30214063976973},{"$f":"IF(AE$15-$D$15+2<=LIFETIME_MF,AE12,\nSUMPRODUCT(OFFSET(AE12,0,(-1*LIFETIME_MF)+1,1,LIFETIME_MF),OFFSET('Shipments and Stock - MF'!AF$14,0,(-1*LIFETIME_MF)+1,1,LIFETIME_MF))/\nSUM(OFFSET('Shipments and Stock - MF'!AF$14,0,(-1*LIFETIME_MF)+1,1,LIFETIME_MF)))","v":363.17577700113418},{"$f":"IF(AF$15-$D$15+2<=LIFETIME_MF,AF12,\nSUMPRODUCT(OFFSET(AF12,0,(-1*LIFETIME_MF)+1,1,LIFETIME_MF),OFFSET('Shipments and Stock - MF'!AG$14,0,(-1*LIFETIME_MF)+1,1,LIFETIME_MF))/\nSUM(OFFSET('Shipments and Stock - MF'!AG$14,0,(-1*LIFETIME_MF)+1,1,LIFETIME_MF)))","v":363.06078677686247},{"$f":"IF(AG$15-$D$15+2<=LIFETIME_MF,AG12,\nSUMPRODUCT(OFFSET(AG12,0,(-1*LIFETIME_MF)+1,1,LIFETIME_MF),OFFSET('Shipments and Stock - MF'!AH$14,0,(-1*LIFETIME_MF)+1,1,LIFETIME_MF))/\nSUM(OFFSET('Shipments and Stock - MF'!AH$14,0,(-1*LIFETIME_MF)+1,1,LIFETIME_MF)))","v":362.96717628284352},{"$f":"IF(AH$15-$D$15+2<=LIFETIME_MF,AH12,\nSUMPRODUCT(OFFSET(AH12,0,(-1*LIFETIME_MF)+1,1,LIFETIME_MF),OFFSET('Shipments and Stock - MF'!AI$14,0,(-1*LIFETIME_MF)+1,1,LIFETIME_MF))/\nSUM(OFFSET('Shipments and Stock - MF'!AI$14,0,(-1*LIFETIME_MF)+1,1,LIFETIME_MF)))","v":362.86321625364161},{"$f":"IF(AI$15-$D$15+2<=LIFETIME_MF,AI12,\nSUMPRODUCT(OFFSET(AI12,0,(-1*LIFETIME_MF)+1,1,LIFETIME_MF),OFFSET('Shipments and Stock - MF'!AJ$14,0,(-1*LIFETIME_MF)+1,1,LIFETIME_MF))/\nSUM(OFFSET('Shipments and Stock - MF'!AJ$14,0,(-1*LIFETIME_MF)+1,1,LIFETIME_MF)))","v":362.76072123223167},{"$f":"IF(AJ$15-$D$15+2<=LIFETIME_MF,AJ12,\nSUMPRODUCT(OFFSET(AJ12,0,(-1*LIFETIME_MF)+1,1,LIFETIME_MF),OFFSET('Shipments and Stock - MF'!AK$14,0,(-1*LIFETIME_MF)+1,1,LIFETIME_MF))/\nSUM(OFFSET('Shipments and Stock - MF'!AK$14,0,(-1*LIFETIME_MF)+1,1,LIFETIME_MF)))","v":362.66505158801789},{"$f":"IF(AK$15-$D$15+2<=LIFETIME_MF,AK12,\nSUMPRODUCT(OFFSET(AK12,0,(-1*LIFETIME_MF)+1,1,LIFETIME_MF),OFFSET('Shipments and Stock - MF'!AL$14,0,(-1*LIFETIME_MF)+1,1,LIFETIME_MF))/\nSUM(OFFSET('Shipments and Stock - MF'!AL$14,0,(-1*LIFETIME_MF)+1,1,LIFETIME_MF)))","v":362.56081188209163},{"$f":"IF(AL$15-$D$15+2<=LIFETIME_MF,AL12,\nSUMPRODUCT(OFFSET(AL12,0,(-1*LIFETIME_MF)+1,1,LIFETIME_MF),OFFSET('Shipments and Stock - MF'!AM$14,0,(-1*LIFETIME_MF)+1,1,LIFETIME_MF))/\nSUM(OFFSET('Shipments and Stock - MF'!AM$14,0,(-1*LIFETIME_MF)+1,1,LIFETIME_MF)))","v":362.46847802842643},{"$f":"IF(AM$15-$D$15+2<=LIFETIME_MF,AM12,\nSUMPRODUCT(OFFSET(AM12,0,(-1*LIFETIME_MF)+1,1,LIFETIME_MF),OFFSET('Shipments and Stock - MF'!AN$14,0,(-1*LIFETIME_MF)+1,1,LIFETIME_MF))/\nSUM(OFFSET('Shipments and Stock - MF'!AN$14,0,(-1*LIFETIME_MF)+1,1,LIFETIME_MF)))","v":362.38114310950982},{"$f":"IF(AN$15-$D$15+2<=LIFETIME_MF,AN12,\nSUMPRODUCT(OFFSET(AN12,0,(-1*LIFETIME_MF)+1,1,LIFETIME_MF),OFFSET('Shipments and Stock - MF'!AO$14,0,(-1*LIFETIME_MF)+1,1,LIFETIME_MF))/\nSUM(OFFSET('Shipments and Stock - MF'!AO$14,0,(-1*LIFETIME_MF)+1,1,LIFETIME_MF)))","v":362.2968546100023},{"$f":"IF(AO$15-$D$15+2<=LIFETIME_MF,AO12,\nSUMPRODUCT(OFFSET(AO12,0,(-1*LIFETIME_MF)+1,1,LIFETIME_MF),OFFSET('Shipments and Stock - MF'!AP$14,0,(-1*LIFETIME_MF)+1,1,LIFETIME_MF))/\nSUM(OFFSET('Shipments and Stock - MF'!AP$14,0,(-1*LIFETIME_MF)+1,1,LIFETIME_MF)))","v":362.22212234053859},{"$f":"IF(AP$15-$D$15+2<=LIFETIME_MF,AP12,\nSUMPRODUCT(OFFSET(AP12,0,(-1*LIFETIME_MF)+1,1,LIFETIME_MF),OFFSET('Shipments and Stock - MF'!AQ$14,0,(-1*LIFETIME_MF)+1,1,LIFETIME_MF))/\nSUM(OFFSET('Shipments and Stock - MF'!AQ$14,0,(-1*LIFETIME_MF)+1,1,LIFETIME_MF)))","v":359.01382316012996},{"$f":"IF(AQ$15-$D$15+2<=LIFETIME_MF,AQ12,\nSUMPRODUCT(OFFSET(AQ12,0,(-1*LIFETIME_MF)+1,1,LIFETIME_MF),OFFSET('Shipments and Stock - MF'!AR$14,0,(-1*LIFETIME_MF)+1,1,LIFETIME_MF))/\nSUM(OFFSET('Shipments and Stock - MF'!AR$14,0,(-1*LIFETIME_MF)+1,1,LIFETIME_MF)))","v":356.06187693783346},{"$f":"IF(AR$15-$D$15+2<=LIFETIME_MF,AR12,\nSUMPRODUCT(OFFSET(AR12,0,(-1*LIFETIME_MF)+1,1,LIFETIME_MF),OFFSET('Shipments and Stock - MF'!AS$14,0,(-1*LIFETIME_MF)+1,1,LIFETIME_MF))/\nSUM(OFFSET('Shipments and Stock - MF'!AS$14,0,(-1*LIFETIME_MF)+1,1,LIFETIME_MF)))","v":353.23645987632904},{"$f":"IF(AS$15-$D$15+2<=LIFETIME_MF,AS12,\nSUMPRODUCT(OFFSET(AS12,0,(-1*LIFETIME_MF)+1,1,LIFETIME_MF),OFFSET('Shipments and Stock - MF'!AT$14,0,(-1*LIFETIME_MF)+1,1,LIFETIME_MF))/\nSUM(OFFSET('Shipments and Stock - MF'!AT$14,0,(-1*LIFETIME_MF)+1,1,LIFETIME_MF)))","v":350.28925563109743},{"$f":"IF(AT$15-$D$15+2<=LIFETIME_MF,AT12,\nSUMPRODUCT(OFFSET(AT12,0,(-1*LIFETIME_MF)+1,1,LIFETIME_MF),OFFSET('Shipments and Stock - MF'!AU$14,0,(-1*LIFETIME_MF)+1,1,LIFETIME_MF))/\nSUM(OFFSET('Shipments and Stock - MF'!AU$14,0,(-1*LIFETIME_MF)+1,1,LIFETIME_MF)))","v":347.03030778025988},{"$f":"IF(AU$15-$D$15+2<=LIFETIME_MF,AU12,\nSUMPRODUCT(OFFSET(AU12,0,(-1*LIFETIME_MF)+1,1,LIFETIME_MF),OFFSET('Shipments and Stock - MF'!AV$14,0,(-1*LIFETIME_MF)+1,1,LIFETIME_MF))/\nSUM(OFFSET('Shipments and Stock - MF'!AV$14,0,(-1*LIFETIME_MF)+1,1,LIFETIME_MF)))","v":344.00790580659793},{"$f":"IF(AV$15-$D$15+2<=LIFETIME_MF,AV12,\nSUMPRODUCT(OFFSET(AV12,0,(-1*LIFETIME_MF)+1,1,LIFETIME_MF),OFFSET('Shipments and Stock - MF'!AW$14,0,(-1*LIFETIME_MF)+1,1,LIFETIME_MF))/\nSUM(OFFSET('Shipments and Stock - MF'!AW$14,0,(-1*LIFETIME_MF)+1,1,LIFETIME_MF)))","v":340.91706643217429},{"$f":"IF(AW$15-$D$15+2<=LIFETIME_MF,AW12,\nSUMPRODUCT(OFFSET(AW12,0,(-1*LIFETIME_MF)+1,1,LIFETIME_MF),OFFSET('Shipments and Stock - MF'!AX$14,0,(-1*LIFETIME_MF)+1,1,LIFETIME_MF))/\nSUM(OFFSET('Shipments and Stock - MF'!AX$14,0,(-1*LIFETIME_MF)+1,1,LIFETIME_MF)))","v":337.73629382344183},{"$f":"IF(AX$15-$D$15+2<=LIFETIME_MF,AX12,\nSUMPRODUCT(OFFSET(AX12,0,(-1*LIFETIME_MF)+1,1,LIFETIME_MF),OFFSET('Shipments and Stock - MF'!AY$14,0,(-1*LIFETIME_MF)+1,1,LIFETIME_MF))/\nSUM(OFFSET('Shipments and Stock - MF'!AY$14,0,(-1*LIFETIME_MF)+1,1,LIFETIME_MF)))","v":334.62497893942555},{"$f":"IF(AY$15-$D$15+2<=LIFETIME_MF,AY12,\nSUMPRODUCT(OFFSET(AY12,0,(-1*LIFETIME_MF)+1,1,LIFETIME_MF),OFFSET('Shipments and Stock - MF'!AZ$14,0,(-1*LIFETIME_MF)+1,1,LIFETIME_MF))/\nSUM(OFFSET('Shipments and Stock - MF'!AZ$14,0,(-1*LIFETIME_MF)+1,1,LIFETIME_MF)))","v":332.1107225219834},{"$f":"IF(AZ$15-$D$15+2<=LIFETIME_MF,AZ12,\nSUMPRODUCT(OFFSET(AZ12,0,(-1*LIFETIME_MF)+1,1,LIFETIME_MF),OFFSET('Shipments and Stock - MF'!BA$14,0,(-1*LIFETIME_MF)+1,1,LIFETIME_MF))/\nSUM(OFFSET('Shipments and Stock - MF'!BA$14,0,(-1*LIFETIME_MF)+1,1,LIFETIME_MF)))","v":330.14484411863771},{"$f":"IF(BA$15-$D$15+2<=LIFETIME_MF,BA12,\nSUMPRODUCT(OFFSET(BA12,0,(-1*LIFETIME_MF)+1,1,LIFETIME_MF),OFFSET('Shipments and Stock - MF'!BB$14,0,(-1*LIFETIME_MF)+1,1,LIFETIME_MF))/\nSUM(OFFSET('Shipments and Stock - MF'!BB$14,0,(-1*LIFETIME_MF)+1,1,LIFETIME_MF)))","v":328.0831038389411},{"$f":"IF(BB$15-$D$15+2<=LIFETIME_MF,BB12,\nSUMPRODUCT(OFFSET(BB12,0,(-1*LIFETIME_MF)+1,1,LIFETIME_MF),OFFSET('Shipments and Stock - MF'!BC$14,0,(-1*LIFETIME_MF)+1,1,LIFETIME_MF))/\nSUM(OFFSET('Shipments and Stock - MF'!BC$14,0,(-1*LIFETIME_MF)+1,1,LIFETIME_MF)))","v":325.86432898175184},{"$f":"IF(BC$15-$D$15+2<=LIFETIME_MF,BC12,\nSUMPRODUCT(OFFSET(BC12,0,(-1*LIFETIME_MF)+1,1,LIFETIME_MF),OFFSET('Shipments and Stock - MF'!BD$14,0,(-1*LIFETIME_MF)+1,1,LIFETIME_MF))/\nSUM(OFFSET('Shipments and Stock - MF'!BD$14,0,(-1*LIFETIME_MF)+1,1,LIFETIME_MF)))","v":323.56622336486373},{"$f":"IF(BD$15-$D$15+2<=LIFETIME_MF,BD12,\nSUMPRODUCT(OFFSET(BD12,0,(-1*LIFETIME_MF)+1,1,LIFETIME_MF),OFFSET('Shipments and Stock - MF'!BE$14,0,(-1*LIFETIME_MF)+1,1,LIFETIME_MF))/\nSUM(OFFSET('Shipments and Stock - MF'!BE$14,0,(-1*LIFETIME_MF)+1,1,LIFETIME_MF)))","v":321.24668399473541},{"$f":"IF(BE$15-$D$15+2<=LIFETIME_MF,BE12,\nSUMPRODUCT(OFFSET(BE12,0,(-1*LIFETIME_MF)+1,1,LIFETIME_MF),OFFSET('Shipments and Stock - MF'!BF$14,0,(-1*LIFETIME_MF)+1,1,LIFETIME_MF))/\nSUM(OFFSET('Shipments and Stock - MF'!BF$14,0,(-1*LIFETIME_MF)+1,1,LIFETIME_MF)))","v":318.95396345418339}]

{"sheet":"UEC-MH","index":20,"n_rows":17,"n_cols":57,"rows_kept":17,"cut":false,"hidden":false,"merged":[]}
[]
[null,null,"Weighted Annual UEC - Manufactured Homes"]
[]
[null,null,"NAVIGATION"]
[]
[null,null,"COMMENTS"]
[]
[]
[null,null,"Market UEC (Shipment Weighted Average)"]
[null,null,null,1981,1982,1983,1984,1985,1986,1987,1988,1989,1990,1991,1992,1993,1994,1995,1996,1997,1998,1999,2000,2001,2002,2003,2004,2005,2006,2007,2008,2009,2010,2011,2012,2013,2014,2015,2016,2017,2018,2019,2020,2021,2022,2023,2024,2025,2026,2027,2028,2029,2030,2031,2032,2033,2034]
[null,null,"PRE-Case UEC",{"$f":"'Product Class Dist'!D10*SUMPRODUCT('UEC Development'!$L$14:$L$21,'Efficiency Dist - MH'!I13:I20)\n+'Product Class Dist'!D11*SUMPRODUCT('UEC Development'!$L$30:$L$34,'Efficiency Dist - MH'!I43:I47)","v":364.25287356321837},{"$f":"'Product Class Dist'!E10*SUMPRODUCT('UEC Development'!$L$14:$L$21,'Efficiency Dist - MH'!J13:J20)\n+'Product Class Dist'!E11*SUMPRODUCT('UEC Development'!$L$30:$L$34,'Efficiency Dist - MH'!J43:J47)","v":364.25287356321837},{"$f":"'Product Class Dist'!F10*SUMPRODUCT('UEC Development'!$L$14:$L$21,'Efficiency Dist - MH'!K13:K20)\n+'Product Class Dist'!F11*SUMPRODUCT('UEC Development'!$L$30:$L$34,'Efficiency Dist - MH'!K43:K47)","v":364.25287356321837},{"$f":"'Product Class Dist'!G10*SUMPRODUCT('UEC Development'!$L$14:$L$21,'Efficiency Dist - MH'!L13:L20)\n+'Product Class Dist'!G11*SUMPRODUCT('UEC Development'!$L$30:$L$34,'Efficiency Dist - MH'!L43:L47)","v":364.25287356321837},{"$f":"'Product Class Dist'!H10*SUMPRODUCT('UEC Development'!$L$14:$L$21,'Efficiency Dist - MH'!M13:M20)\n+'Product Class Dist'!H11*SUMPRODUCT('UEC Development'!$L$30:$L$34,'Efficiency Dist - MH'!M43:M47)","v":364.25287356321837},{"$f":"'Product Class Dist'!I10*SUMPRODUCT('UEC Development'!$L$14:$L$21,'Efficiency Dist - MH'!N13:N20)\n+'Product Class Dist'!I11*SUMPRODUCT('UEC Development'!$L$30:$L$34,'Efficiency Dist - MH'!N43:N47)","v":364.25287356321837},{"$f":"'Product Class Dist'!J10*SUMPRODUCT('UEC Development'!$L$14:$L$21,'Efficiency Dist - MH'!O13:O20)\n+'Product Class Dist'!J11*SUMPRODUCT('UEC Development'!$L$30:$L$34,'Efficiency Dist - MH'!O43:O47)","v":364.25287356321837},{"$f":"'Product Class Dist'!K10*SUMPRODUCT('UEC Development'!$L$14:$L$21,'Efficiency Dist - MH'!P13:P20)\n+'Product Class Dist'!K11*SUMPRODUCT('UEC Development'!$L$30:$L$34,'Efficiency Dist - MH'!P43:P47)","v":364.25287356321837},{"$f":"'Product Class Dist'!L10*SUMPRODUCT('UEC Development'!$L$14:$L$21,'Efficiency Dist - MH'!Q13:Q20)\n+'Product Class Dist'!L11*SUMPRODUCT('UEC Development'!$L$30:$L$34,'Efficiency Dist - MH'!Q43:Q47)","v":364.25287356321837},{"$f":"'Product Class Dist'!M10*SUMPRODUCT('UEC Development'!$L$14:$L$21,'Efficiency Dist - MH'!R13:R20)\n+'Product Class Dist'!M11*SUMPRODUCT('UEC Development'!$L$30:$L$34,'Efficiency Dist - MH'!R43:R47)","v":364.25287356321837},{"$f":"'Product Class Dist'!N10*SUMPRODUCT('UEC Development'!$L$14:$L$21,'Efficiency Dist - MH'!S13:S20)\n+'Product Class Dist'!N11*SUMPRODUCT('UEC Development'!$L$30:$L$34,'Efficiency Dist - MH'!S43:S47)","v":364.31818181818181},{"$f":"'Product Class Dist'!O10*SUMPRODUCT('UEC Development'!$L$14:$L$21,'Efficiency Dist - MH'!T13:T20)\n+'Product Class Dist'!O11*SUMPRODUCT('UEC Development'!$L$30:$L$34,'Efficiency Dist - MH'!T43:T47)","v":364.38202247191009},{"$f":"'Product Class Dist'!P10*SUMPRODUCT('UEC Development'!$L$14:$L$21,'Efficiency Dist - MH'!U13:U20)\n+'Product Class Dist'!P11*SUMPRODUCT('UEC Development'!$L$30:$L$34,'Efficiency Dist - MH'!U43:U47)","v":364.31818181818187},{"$f":"'Product Class Dist'!Q10*SUMPRODUCT('UEC Development'!$L$14:$L$21,'Efficiency Dist - MH'!V13:V20)\n+'Product Class Dist'!Q11*SUMPRODUCT('UEC Development'!$L$30:$L$34,'Efficiency Dist - MH'!V43:V47)","v":363.93258426966293},{"$f":"'Product Class Dist'!R10*SUMPRODUCT('UEC Development'!$L$14:$L$21,'Efficiency Dist - MH'!W13:W20)\n+'Product Class Dist'!R11*SUMPRODUCT('UEC Development'!$L$30:$L$34,'Efficiency Dist - MH'!W43:W47)","v":364},{"$f":"'Product Class Dist'!S10*SUMPRODUCT('UEC Development'!$L$14:$L$21,'Efficiency Dist - MH'!X13:X20)\n+'Product Class Dist'!S11*SUMPRODUCT('UEC Development'!$L$30:$L$34,'Efficiency Dist - MH'!X43:X47)","v":363.66666666666669},{"$f":"'Product Class Dist'!T10*SUMPRODUCT('UEC Development'!$L$14:$L$21,'Efficiency Dist - MH'!Y13:Y20)\n+'Product Class Dist'!T11*SUMPRODUCT('UEC Development'!$L$30:$L$34,'Efficiency Dist - MH'!Y43:Y47)","v":363.48314606741576},{"$f":"'Product Class Dist'!U10*SUMPRODUCT('UEC Development'!$L$14:$L$21,'Efficiency Dist - MH'!Z13:Z20)\n+'Product Class Dist'!U11*SUMPRODUCT('UEC Development'!$L$30:$L$34,'Efficiency Dist - MH'!Z43:Z47)","v":363.25842696629212},{"$f":"'Product Class Dist'!V10*SUMPRODUCT('UEC Development'!$L$14:$L$21,'Efficiency Dist - MH'!AA13:AA20)\n+'Product Class Dist'!V11*SUMPRODUCT('UEC Development'!$L$30:$L$34,'Efficiency Dist - MH'!AA43:AA47)","v":363.11111111111109},{"$f":"'Product Class Dist'!W10*SUMPRODUCT('UEC Development'!$L$14:$L$21,'Efficiency Dist - MH'!AB13:AB20)\n+'Product Class Dist'!W11*SUMPRODUCT('UEC Development'!$L$30:$L$34,'Efficiency Dist - MH'!AB43:AB47)","v":363.07692307692309},{"$f":"'Product Class Dist'!X10*SUMPRODUCT('UEC Development'!$L$14:$L$21,'Efficiency Dist - MH'!AC13:AC20)\n+'Product Class Dist'!X11*SUMPRODUCT('UEC Development'!$L$30:$L$34,'Efficiency Dist - MH'!AC43:AC47)","v":362.92134831460669},{"$f":"'Product Class Dist'!Y10*SUMPRODUCT('UEC Development'!$L$14:$L$21,'Efficiency Dist - MH'!AD13:AD20)\n+'Product Class Dist'!Y11*SUMPRODUCT('UEC Development'!$L$30:$L$34,'Efficiency Dist - MH'!AD43:AD47)","v":362.74725274725273},{"$f":"'Product Class Dist'!Z10*SUMPRODUCT('UEC Development'!$L$14:$L$21,'Efficiency Dist - MH'!AE13:AE20)\n+'Product Class Dist'!Z11*SUMPRODUCT('UEC Development'!$L$30:$L$34,'Efficiency Dist - MH'!AE43:AE47)","v":362.33333333333331},{"$f":"'Product Class Dist'!AA10*SUMPRODUCT('UEC Development'!$L$14:$L$21,'Efficiency Dist - MH'!AF13:AF20)\n+'Product Class Dist'!AA11*SUMPRODUCT('UEC Development'!$L$30:$L$34,'Efficiency Dist - MH'!AF43:AF47)","v":362.30769230769232},{"$f":"'Product Class Dist'!AB10*SUMPRODUCT('UEC Development'!$L$14:$L$21,'Efficiency Dist - MH'!AG13:AG20)\n+'Product Class Dist'!AB11*SUMPRODUCT('UEC Development'!$L$30:$L$34,'Efficiency Dist - MH'!AG43:AG47)","v":362.41758241758242},{"$f":"'Product Class Dist'!AC10*SUMPRODUCT('UEC Development'!$L$14:$L$21,'Efficiency Dist - MH'!AH13:AH20)\n+'Product Class Dist'!AC11*SUMPRODUCT('UEC Development'!$L$30:$L$34,'Efficiency Dist - MH'!AH43:AH47)","v":362.58416283273311},{"$f":"'Product Class Dist'!AD10*SUMPRODUCT('UEC Development'!$L$14:$L$21,'Efficiency Dist - MH'!AI13:AI20)\n+'Product Class Dist'!AD11*SUMPRODUCT('UEC Development'!$L$30:$L$34,'Efficiency Dist - MH'!AI43:AI47)","v":362.49739631519265},{"$f":"'Product Class Dist'!AE10*SUMPRODUCT('UEC Development'!$L$14:$L$21,'Efficiency Dist - MH'!AJ13:AJ20)\n+'Product Class Dist'!AE11*SUMPRODUCT('UEC Development'!$L$30:$L$34,'Efficiency Dist - MH'!AJ43:AJ47)","v":362.41062979765212},{"$f":"'Product Class Dist'!AF10*SUMPRODUCT('UEC Development'!$L$14:$L$21,'Efficiency Dist - MH'!AK13:AK20)\n+'Product Class Dist'!AF11*SUMPRODUCT('UEC Development'!$L$30:$L$34,'Efficiency Dist - MH'!AK43:AK47)","v":362.32386328011165},{"$f":"'Product Class Dist'!AG10*SUMPRODUCT('UEC Development'!$L$14:$L$21,'Efficiency Dist - MH'!AL13:AL20)\n+'Product Class Dist'!AG11*SUMPRODUCT('UEC Development'!$L$30:$L$34,'Efficiency Dist - MH'!AL43:AL47)","v":362.23709676257113},{"$f":"'Product Class Dist'!AH10*SUMPRODUCT('UEC Development'!$L$14:$L$21,'Efficiency Dist - MH'!AM13:AM20)\n+'Product Class Dist'!AH11*SUMPRODUCT('UEC Development'!$L$30:$L$34,'Efficiency Dist - MH'!AM43:AM47)","v":362.15033024503055},{"$f":"'Product Class Dist'!AI10*SUMPRODUCT('UEC Development'!$L$14:$L$21,'Efficiency Dist - MH'!AN13:AN20)\n+'Product Class Dist'!AI11*SUMPRODUCT('UEC Development'!$L$30:$L$34,'Efficiency Dist - MH'!AN43:AN47)","v":362.06356372749008},{"$f":"'Product Class Dist'!AJ10*SUMPRODUCT('UEC Development'!$L$14:$L$21,'Efficiency Dist - MH'!AO13:AO20)\n+'Product Class Dist'!AJ11*SUMPRODUCT('UEC Development'!$L$30:$L$34,'Efficiency Dist - MH'!AO43:AO47)","v":361.97679720994955},{"$f":"'Product Class Dist'!AK10*SUMPRODUCT('UEC Development'!$L$14:$L$21,'Efficiency Dist - MH'!AP13:AP20)\n+'Product Class Dist'!AK11*SUMPRODUCT('UEC Development'!$L$30:$L$34,'Efficiency Dist - MH'!AP43:AP47)","v":361.89003069240903},{"$f":"'Product Class Dist'!AL10*SUMPRODUCT('UEC Development'!$L$14:$L$21,'Efficiency Dist - MH'!AQ13:AQ20)\n+'Product Class Dist'!AL11*SUMPRODUCT('UEC Development'!$L$30:$L$34,'Efficiency Dist - MH'!AQ43:AQ47)","v":361.80326417486856},{"$f":"'Product Class Dist'!AM10*SUMPRODUCT('UEC Development'!$L$14:$L$21,'Efficiency Dist - MH'!AR13:AR20)\n+'Product Class Dist'!AM11*SUMPRODUCT('UEC Development'!$L$30:$L$34,'Efficiency Dist - MH'!AR43:AR47)","v":361.71649765732673},{"$f":"'Product Class Dist'!AN10*SUMPRODUCT('UEC Development'!$L$14:$L$21,'Efficiency Dist - MH'!AS13:AS20)\n+'Product Class Dist'!AN11*SUMPRODUCT('UEC Development'!$L$30:$L$34,'Efficiency Dist - MH'!AS43:AS47)","v":361.62973113978745},{"$f":"'Product Class Dist'!AO10*SUMPRODUCT('UEC Development'!$L$14:$L$21,'Efficiency Dist - MH'!AT13:AT20)\n+'Product Class Dist'!AO11*SUMPRODUCT('UEC Development'!$L$30:$L$34,'Efficiency Dist - MH'!AT43:AT47)","v":361.54296462224698},{"$f":"'Product Class Dist'!AP10*SUMPRODUCT('UEC Development'!$L$14:$L$21,'Efficiency Dist - MH'!AU13:AU20)\n+'Product Class Dist'!AP11*SUMPRODUCT('UEC Development'!$L$30:$L$34,'Efficiency Dist - MH'!AU43:AU47)","v":361.4561981047064},{"$f":"'Product Class Dist'!AQ10*SUMPRODUCT('UEC Development'!$L$14:$L$21,'Efficiency Dist - MH'!AV13:AV20)\n+'Product Class Dist'!AQ11*SUMPRODUCT('UEC Development'!$L$30:$L$34,'Efficiency Dist - MH'!AV43:AV47)","v":361.36943158716599},{"$f":"'Product Class Dist'!AR10*SUMPRODUCT('UEC Development'!$L$14:$L$21,'Efficiency Dist - MH'!AW13:AW20)\n+'Product Class Dist'!AR11*SUMPRODUCT('UEC Development'!$L$30:$L$34,'Efficiency Dist - MH'!AW43:AW47)","v":361.28266506962541},{"$f":"'Product Class Dist'!AS10*SUMPRODUCT('UEC Development'!$L$14:$L$21,'Efficiency Dist - MH'!AX13:AX20)\n+'Product Class Dist'!AS11*SUMPRODUCT('UEC Development'!$L$30:$L$34,'Efficiency Dist - MH'!AX43:AX47)","v":361.19589855208488},{"$f":"'Product Class Dist'!AT10*SUMPRODUCT('UEC Development'!$L$14:$L$21,'Efficiency Dist - MH'!AY13:AY20)\n+'Product Class Dist'!AT11*SUMPRODUCT('UEC Development'!$L$30:$L$34,'Efficiency Dist - MH'!AY43:AY47)","v":361.10913203454436},{"$f":"'Product Class Dist'!AU10*SUMPRODUCT('UEC Development'!$L$14:$L$21,'Efficiency Dist - MH'!AZ13:AZ20)\n+'Product Class Dist'!AU11*SUMPRODUCT('UEC Development'!$L$30:$L$34,'Efficiency Dist - MH'!AZ43:AZ47)","v":361.02236551700389},{"$f":"'Product Class Dist'!AV10*SUMPRODUCT('UEC Development'!$L$14:$L$21,'Efficiency Dist - MH'!BA13:BA20)\n+'Product Class Dist'!AV11*SUMPRODUCT('UEC Development'!$L$30:$L$34,'Efficiency Dist - MH'!BA43:BA47)","v":360.93559899946337},{"$f":"'Product Class Dist'!AW10*SUMPRODUCT('UEC Development'!$L$14:$L$21,'Efficiency Dist - MH'!BB13:BB20)\n+'Product Class Dist'!AW11*SUMPRODUCT('UEC Development'!$L$30:$L$34,'Efficiency Dist - MH'!BB43:BB47)","v":360.84883248192284},{"$f":"'Product Class Dist'!AX10*SUMPRODUCT('UEC Development'!$L$14:$L$21,'Efficiency Dist - MH'!BC13:BC20)\n+'Product Class Dist'!AX11*SUMPRODUCT('UEC Development'!$L$30:$L$34,'Efficiency Dist - MH'!BC43:BC47)","v":360.76206596438232},{"$f":"'Product Class Dist'!AY10*SUMPRODUCT('UEC Development'!$L$14:$L$21,'Efficiency Dist - MH'!BD13:BD20)\n+'Product Class Dist'!AY11*SUMPRODUCT('UEC Development'!$L$30:$L$34,'Efficiency Dist - MH'!BD43:BD47)","v":360.67529944684173},{"$f":"'Product Class Dist'!AZ10*SUMPRODUCT('UEC Development'!$L$14:$L$21,'Efficiency Dist - MH'!BE13:BE20)\n+'Product Class Dist'!AZ11*SUMPRODUCT('UEC Development'!$L$30:$L$34,'Efficiency Dist - MH'!BE43:BE47)","v":360.58853292930132},{"$f":"'Product Class Dist'!BA10*SUMPRODUCT('UEC Development'!$L$14:$L$21,'Efficiency Dist - MH'!BF13:BF20)\n+'Product Class Dist'!BA11*SUMPRODUCT('UEC Development'!$L$30:$L$34,'Efficiency Dist - MH'!BF43:BF47)","v":360.50176641176074},{"$f":"'Product Class Dist'!BB10*SUMPRODUCT('UEC Development'!$L$14:$L$21,'Efficiency Dist - MH'!BG13:BG20)\n+'Product Class Dist'!BB11*SUMPRODUCT('UEC Development'!$L$30:$L$34,'Efficiency Dist - MH'!BG43:BG47)","v":360.41499989422027},{"$f":"'Product Class Dist'!BC10*SUMPRODUCT('UEC Development'!$L$14:$L$21,'Efficiency Dist - MH'!BH13:BH20)\n+'Product Class Dist'!BC11*SUMPRODUCT('UEC Development'!$L$30:$L$34,'Efficiency Dist - MH'!BH43:BH47)","v":360.32823337667969},{"$f":"'Product Class Dist'!BD10*SUMPRODUCT('UEC Development'!$L$14:$L$21,'Efficiency Dist - MH'!BI13:BI20)\n+'Product Class Dist'!BD11*SUMPRODUCT('UEC Development'!$L$30:$L$34,'Efficiency Dist - MH'!BI43:BI47)","v":360.24146685913928},{"$f":"'Product Class Dist'!BE10*SUMPRODUCT('UEC Development'!$L$14:$L$21,'Efficiency Dist - MH'!BJ13:BJ20)\n+'Product Class Dist'!BE11*SUMPRODUCT('UEC Development'!$L$30:$L$34,'Efficiency Dist - MH'!BJ43:BJ47)","v":360.1547003415987}]
[null,null,"POST-Case UEC",{"$f":"'Product Class Dist'!D14*SUMPRODUCT('UEC Development'!$L$14:$L$21,'Efficiency Dist - MH'!I25:I32)\n+'Product Class Dist'!D15*SUMPRODUCT('UEC Development'!$L$30:$L$34,'Efficiency Dist - MH'!I52:I56)","v":364.25287356321837},{"$f":"'Product Class Dist'!E14*SUMPRODUCT('UEC Development'!$L$14:$L$21,'Efficiency Dist - MH'!J25:J32)\n+'Product Class Dist'!E15*SUMPRODUCT('UEC Development'!$L$30:$L$34,'Efficiency Dist - MH'!J52:J56)","v":364.25287356321837},{"$f":"'Product Class Dist'!F14*SUMPRODUCT('UEC Development'!$L$14:$L$21,'Efficiency Dist - MH'!K25:K32)\n+'Product Class Dist'!F15*SUMPRODUCT('UEC Development'!$L$30:$L$34,'Efficiency Dist - MH'!K52:K56)","v":364.25287356321837},{"$f":"'Product Class Dist'!G14*SUMPRODUCT('UEC Development'!$L$14:$L$21,'Efficiency Dist - MH'!L25:L32)\n+'Product Class Dist'!G15*SUMPRODUCT('UEC Development'!$L$30:$L$34,'Efficiency Dist - MH'!L52:L56)","v":364.25287356321837},{"$f":"'Product Class Dist'!H14*SUMPRODUCT('UEC Development'!$L$14:$L$21,'Efficiency Dist - MH'!M25:M32)\n+'Product Class Dist'!H15*SUMPRODUCT('UEC Development'!$L$30:$L$34,'Efficiency Dist - MH'!M52:M56)","v":364.25287356321837},{"$f":"'Product Class Dist'!I14*SUMPRODUCT('UEC Development'!$L$14:$L$21,'Efficiency Dist - MH'!N25:N32)\n+'Product Class Dist'!I15*SUMPRODUCT('UEC Development'!$L$30:$L$34,'Efficiency Dist - MH'!N52:N56)","v":364.25287356321837},{"$f":"'Product Class Dist'!J14*SUMPRODUCT('UEC Development'!$L$14:$L$21,'Efficiency Dist - MH'!O25:O32)\n+'Product Class Dist'!J15*SUMPRODUCT('UEC Development'!$L$30:$L$34,'Efficiency Dist - MH'!O52:O56)","v":364.25287356321837},{"$f":"'Product Class Dist'!K14*SUMPRODUCT('UEC Development'!$L$14:$L$21,'Efficiency Dist - MH'!P25:P32)\n+'Product Class Dist'!K15*SUMPRODUCT('UEC Development'!$L$30:$L$34,'Efficiency Dist - MH'!P52:P56)","v":364.25287356321837},{"$f":"'Product Class Dist'!L14*SUMPRODUCT('UEC Development'!$L$14:$L$21,'Efficiency Dist - MH'!Q25:Q32)\n+'Product Class Dist'!L15*SUMPRODUCT('UEC Development'!$L$30:$L$34,'Efficiency Dist - MH'!Q52:Q56)","v":364.25287356321837},{"$f":"'Product Class Dist'!M14*SUMPRODUCT('UEC Development'!$L$14:$L$21,'Efficiency Dist - MH'!R25:R32)\n+'Product Class Dist'!M15*SUMPRODUCT('UEC Development'!$L$30:$L$34,'Efficiency Dist - MH'!R52:R56)","v":364.25287356321837},{"$f":"'Product Class Dist'!N14*SUMPRODUCT('UEC Development'!$L$14:$L$21,'Efficiency Dist - MH'!S25:S32)\n+'Product Class Dist'!N15*SUMPRODUCT('UEC Development'!$L$30:$L$34,'Efficiency Dist - MH'!S52:S56)","v":364.31818181818181},{"$f":"'Product Class Dist'!O14*SUMPRODUCT('UEC Development'!$L$14:$L$21,'Efficiency Dist - MH'!T25:T32)\n+'Product Class Dist'!O15*SUMPRODUCT('UEC Development'!$L$30:$L$34,'Efficiency Dist - MH'!T52:T56)","v":364.38202247191009},{"$f":"'Product Class Dist'!P14*SUMPRODUCT('UEC Development'!$L$14:$L$21,'Efficiency Dist - MH'!U25:U32)\n+'Product Class Dist'!P15*SUMPRODUCT('UEC Development'!$L$30:$L$34,'Efficiency Dist - MH'!U52:U56)","v":364.31818181818187},{"$f":"'Product Class Dist'!Q14*SUMPRODUCT('UEC Development'!$L$14:$L$21,'Efficiency Dist - MH'!V25:V32)\n+'Product Class Dist'!Q15*SUMPRODUCT('UEC Development'!$L$30:$L$34,'Efficiency Dist - MH'!V52:V56)","v":363.93258426966293},{"$f":"'Product Class Dist'!R14*SUMPRODUCT('UEC Development'!$L$14:$L$21,'Efficiency Dist - MH'!W25:W32)\n+'Product Class Dist'!R15*SUMPRODUCT('UEC Development'!$L$30:$L$34,'Efficiency Dist - MH'!W52:W56)","v":364},{"$f":"'Product Class Dist'!S14*SUMPRODUCT('UEC Development'!$L$14:$L$21,'Efficiency Dist - MH'!X25:X32)\n+'Product Class Dist'!S15*SUMPRODUCT('UEC Development'!$L$30:$L$34,'Efficiency Dist - MH'!X52:X56)","v":363.66666666666669},{"$f":"'Product Class Dist'!T14*SUMPRODUCT('UEC Development'!$L$14:$L$21,'Efficiency Dist - MH'!Y25:Y32)\n+'Product Class Dist'!T15*SUMPRODUCT('UEC Development'!$L$30:$L$34,'Efficiency Dist - MH'!Y52:Y56)","v":363.48314606741576},{"$f":"'Product Class Dist'!U14*SUMPRODUCT('UEC Development'!$L$14:$L$21,'Efficiency Dist - MH'!Z25:Z32)\n+'Product Class Dist'!U15*SUMPRODUCT('UEC Development'!$L$30:$L$34,'Efficiency Dist - MH'!Z52:Z56)","v":363.25842696629212},{"$f":"'Product Class Dist'!V14*SUMPRODUCT('UEC Development'!$L$14:$L$21,'Efficiency Dist - MH'!AA25:AA32)\n+'Product Class Dist'!V15*SUMPRODUCT('UEC Development'!$L$30:$L$34,'Efficiency Dist - MH'!AA52:AA56)","v":363.11111111111109},{"$f":"'Product Class Dist'!W14*SUMPRODUCT('UEC Development'!$L$14:$L$21,'Efficiency Dist - MH'!AB25:AB32)\n+'Product Class Dist'!W15*SUMPRODUCT('UEC Development'!$L$30:$L$34,'Efficiency Dist - MH'!AB52:AB56)","v":363.07692307692309},{"$f":"'Product Class Dist'!X14*SUMPRODUCT('UEC Development'!$L$14:$L$21,'Efficiency Dist - MH'!AC25:AC32)\n+'Product Class Dist'!X15*SUMPRODUCT('UEC Development'!$L$30:$L$34,'Efficiency Dist - MH'!AC52:AC56)","v":362.92134831460669},{"$f":"'Product Class Dist'!Y14*SUMPRODUCT('UEC Development'!$L$14:$L$21,'Efficiency Dist - MH'!AD25:AD32)\n+'Product Class Dist'!Y15*SUMPRODUCT('UEC Development'!$L$30:$L$34,'Efficiency Dist - MH'!AD52:AD56)","v":362.74725274725273},{"$f":"'Product Class Dist'!Z14*SUMPRODUCT('UEC Development'!$L$14:$L$21,'Efficiency Dist - MH'!AE25:AE32)\n+'Product Class Dist'!Z15*SUMPRODUCT('UEC Development'!$L$30:$L$34,'Efficiency Dist - MH'!AE52:AE56)","v":362.33333333333331},{"$f":"'Product Class Dist'!AA14*SUMPRODUCT('UEC Development'!$L$14:$L$21,'Efficiency Dist - MH'!AF25:AF32)\n+'Product Class Dist'!AA15*SUMPRODUCT('UEC Development'!$L$30:$L$34,'Efficiency Dist - MH'!AF52:AF56)","v":362.30769230769232},{"$f":"'Product Class Dist'!AB14*SUMPRODUCT('UEC Development'!$L$14:$L$21,'Efficiency Dist - MH'!AG25:AG32)\n+'Product Class Dist'!AB15*SUMPRODUCT('UEC Development'!$L$30:$L$34,'Efficiency Dist - MH'!AG52:AG56)","v":362.41758241758242},{"$f":"'Product Class Dist'!AC14*SUMPRODUCT('UEC Development'!$L$14:$L$21,'Efficiency Dist - MH'!AH25:AH32)\n+'Product Class Dist'!AC15*SUMPRODUCT('UEC Development'!$L$30:$L$34,'Efficiency Dist - MH'!AH52:AH56)","v":362.58416283273311},{"$f":"'Product Class Dist'!AD14*SUMPRODUCT('UEC Development'!$L$14:$L$21,'Efficiency Dist - MH'!AI25:AI32)\n+'Product Class Dist'!AD15*SUMPRODUCT('UEC Development'!$L$30:$L$34,'Efficiency Dist - MH'!AI52:AI56)","v":362.49739631519265},{"$f":"'Product Class Dist'!AE14*SUMPRODUCT('UEC Development'!$L$14:$L$21,'Efficiency Dist - MH'!AJ25:AJ32)\n+'Product Class Dist'!AE15*SUMPRODUCT('UEC Development'!$L$30:$L$34,'Efficiency Dist - MH'!AJ52:AJ56)","v":362.41062979765212},{"$f":"'Product Class Dist'!AF14*SUMPRODUCT('UEC Development'!$L$14:$L$21,'Efficiency Dist - MH'!AK25:AK32)\n+'Product Class Dist'!AF15*SUMPRODUCT('UEC Development'!$L$30:$L$34,'Efficiency Dist - MH'!AK52:AK56)","v":362.32386328011165},{"$f":"'Product Class Dist'!AG14*SUMPRODUCT('UEC Development'!$L$14:$L$21,'Efficiency Dist - MH'!AL25:AL32)\n+'Product Class Dist'!AG15*SUMPRODUCT('UEC Development'!$L$30:$L$34,'Efficiency Dist - MH'!AL52:AL56)","v":362.23709676257113},{"$f":"'Product Class Dist'!AH14*SUMPRODUCT('UEC Development'!$L$14:$L$21,'Efficiency Dist - MH'!AM25:AM32)\n+'Product Class Dist'!AH15*SUMPRODUCT('UEC Development'!$L$30:$L$34,'Efficiency Dist - MH'!AM52:AM56)","v":362.15033024503055},{"$f":"'Product Class Dist'!AI14*SUMPRODUCT('UEC Development'!$L$14:$L$21,'Efficiency Dist - MH'!AN25:AN32)\n+'Product Class Dist'!AI15*SUMPRODUCT('UEC Development'!$L$30:$L$34,'Efficiency Dist - MH'!AN52:AN56)","v":362.06356372749008},{"$f":"'Product Class Dist'!AJ14*SUMPRODUCT('UEC Development'!$L$14:$L$21,'Efficiency Dist - MH'!AO25:AO32)\n+'Product Class Dist'!AJ15*SUMPRODUCT('UEC Development'!$L$30:$L$34,'Efficiency Dist - MH'!AO52:AO56)","v":361.97679720994955},{"$f":"'Product Class Dist'!AK14*SUMPRODUCT('UEC Development'!$L$14:$L$21,'Efficiency Dist - MH'!AP25:AP32)\n+'Product Class Dist'!AK15*SUMPRODUCT('UEC Development'!$L$30:$L$34,'Efficiency Dist - MH'!AP52:AP56)","v":361.89003069240903},{"$f":"'Product Class Dist'!AL14*SUMPRODUCT('UEC Development'!$L$14:$L$21,'Efficiency Dist - MH'!AQ25:AQ32)\n+'Product Class Dist'!AL15*SUMPRODUCT('UEC Development'!$L$30:$L$34,'Efficiency Dist - MH'!AQ52:AQ56)","v":361.80326417486856},{"$f":"'Product Class Dist'!AM14*SUMPRODUCT('UEC Development'!$L$14:$L$21,'Efficiency Dist - MH'!AR25:AR32)\n+'Product Class Dist'!AM15*SUMPRODUCT('UEC Development'!$L$30:$L$34,'Efficiency Dist - MH'!AR52:AR56)","v":361.71649765732673},{"$f":"'Product Class Dist'!AN14*SUMPRODUCT('UEC Development'!$L$14:$L$21,'Efficiency Dist - MH'!AS25:AS32)\n+'Product Class Dist'!AN15*SUMPRODUCT('UEC Development'!$L$30:$L$34,'Efficiency Dist - MH'!AS52:AS56)","v":361.62973113978745},{"$f":"'Product Class Dist'!AO14*SUMPRODUCT('UEC Development'!$L$14:$L$21,'Efficiency Dist - MH'!AT25:AT32)\n+'Product Class Dist'!AO15*SUMPRODUCT('UEC Development'!$L$30:$L$34,'Efficiency Dist - MH'!AT52:AT56)","v":361.54296462224698},{"$f":"'Product Class Dist'!AP14*SUMPRODUCT('UEC Development'!$L$14:$L$21,'Efficiency Dist - MH'!AU25:AU32)\n+'Product Class Dist'!AP15*SUMPRODUCT('UEC Development'!$L$30:$L$34,'Efficiency Dist - MH'!AU52:AU56)","v":312.59704122292965},{"$f":"'Product Class Dist'!AQ14*SUMPRODUCT('UEC Development'!$L$14:$L$21,'Efficiency Dist - MH'!AV25:AV32)\n+'Product Class Dist'!AQ15*SUMPRODUCT('UEC Development'!$L$30:$L$34,'Efficiency Dist - MH'!AV52:AV56)","v":312.56146695073801},{"$f":"'Product Class Dist'!AR14*SUMPRODUCT('UEC Development'!$L$14:$L$21,'Efficiency Dist - MH'!AW25:AW32)\n+'Product Class Dist'!AR15*SUMPRODUCT('UEC Development'!$L$30:$L$34,'Efficiency Dist - MH'!AW52:AW56)","v":312.52589267854648},{"$f":"'Product Class Dist'!AS14*SUMPRODUCT('UEC Development'!$L$14:$L$21,'Efficiency Dist - MH'!AX25:AX32)\n+'Product Class Dist'!AS15*SUMPRODUCT('UEC Development'!$L$30:$L$34,'Efficiency Dist - MH'!AX52:AX56)","v":312.49031840635479},{"$f":"'Product Class Dist'!AT14*SUMPRODUCT('UEC Development'!$L$14:$L$21,'Efficiency Dist - MH'!AY25:AY32)\n+'Product Class Dist'!AT15*SUMPRODUCT('UEC Development'!$L$30:$L$34,'Efficiency Dist - MH'!AY52:AY56)","v":312.45474413416321},{"$f":"'Product Class Dist'!AU14*SUMPRODUCT('UEC Development'!$L$14:$L$21,'Efficiency Dist - MH'!AZ25:AZ32)\n+'Product Class Dist'!AU15*SUMPRODUCT('UEC Development'!$L$30:$L$34,'Efficiency Dist - MH'!AZ52:AZ56)","v":312.41916986197157},{"$f":"'Product Class Dist'!AV14*SUMPRODUCT('UEC Development'!$L$14:$L$21,'Efficiency Dist - MH'!BA25:BA32)\n+'Product Class Dist'!AV15*SUMPRODUCT('UEC Development'!$L$30:$L$34,'Efficiency Dist - MH'!BA52:BA56)","v":312.38359558977999},{"$f":"'Product Class Dist'!AW14*SUMPRODUCT('UEC Development'!$L$14:$L$21,'Efficiency Dist - MH'!BB25:BB32)\n+'Product Class Dist'!AW15*SUMPRODUCT('UEC Development'!$L$30:$L$34,'Efficiency Dist - MH'!BB52:BB56)","v":312.34802131758835},{"$f":"'Product Class Dist'!AX14*SUMPRODUCT('UEC Development'!$L$14:$L$21,'Efficiency Dist - MH'!BC25:BC32)\n+'Product Class Dist'!AX15*SUMPRODUCT('UEC Development'!$L$30:$L$34,'Efficiency Dist - MH'!BC52:BC56)","v":312.31244704539677},{"$f":"'Product Class Dist'!AY14*SUMPRODUCT('UEC Development'!$L$14:$L$21,'Efficiency Dist - MH'!BD25:BD32)\n+'Product Class Dist'!AY15*SUMPRODUCT('UEC Development'!$L$30:$L$34,'Efficiency Dist - MH'!BD52:BD56)","v":312.27687277320518},{"$f":"'Product Class Dist'!AZ14*SUMPRODUCT('UEC Development'!$L$14:$L$21,'Efficiency Dist - MH'!BE25:BE32)\n+'Product Class Dist'!AZ15*SUMPRODUCT('UEC Development'!$L$30:$L$34,'Efficiency Dist - MH'!BE52:BE56)","v":312.24129850101349},{"$f":"'Product Class Dist'!BA14*SUMPRODUCT('UEC Development'!$L$14:$L$21,'Efficiency Dist - MH'!BF25:BF32)\n+'Product Class Dist'!BA15*SUMPRODUCT('UEC Development'!$L$30:$L$34,'Efficiency Dist - MH'!BF52:BF56)","v":312.20572422882196},{"$f":"'Product Class Dist'!BB14*SUMPRODUCT('UEC Development'!$L$14:$L$21,'Efficiency Dist - MH'!BG25:BG32)\n+'Product Class Dist'!BB15*SUMPRODUCT('UEC Development'!$L$30:$L$34,'Efficiency Dist - MH'!BG52:BG56)","v":312.17014995663027},{"$f":"'Product Class Dist'!BC14*SUMPRODUCT('UEC Development'!$L$14:$L$21,'Efficiency Dist - MH'!BH25:BH32)\n+'Product Class Dist'!BC15*SUMPRODUCT('UEC Development'!$L$30:$L$34,'Efficiency Dist - MH'!BH52:BH56)","v":312.13457568443874},{"$f":"'Product Class Dist'!BD14*SUMPRODUCT('UEC Development'!$L$14:$L$21,'Efficiency Dist - MH'!BI25:BI32)\n+'Product Class Dist'!BD15*SUMPRODUCT('UEC Development'!$L$30:$L$34,'Efficiency Dist - MH'!BI52:BI56)","v":312.09900141224705},{"$f":"'Product Class Dist'!BE14*SUMPRODUCT('UEC Development'!$L$14:$L$21,'Efficiency Dist - MH'!BJ25:BJ32)\n+'Product Class Dist'!BE15*SUMPRODUCT('UEC Development'!$L$30:$L$34,'Efficiency Dist - MH'!BJ52:BJ56)","v":312.06342714005547}]
[]
[null,null,"Installed UEC (Vintage Weighted Average) "]
[null,null,null,1981,1982,1983,1984,1985,1986,1987,1988,1989,1990,1991,1992,1993,1994,1995,1996,1997,1998,1999,2000,2001,2002,2003,2004,2005,2006,2007,2008,2009,2010,2011,2012,2013,2014,2015,2016,2017,2018,2019,2020,2021,2022,2023,2024,2025,2026,2027,2028,2029,2030,2031,2032,2033,2034]
[null,null,"PRE-Case UEC",{"$f":"IF(D$15-$D$15+2<=LIFETIME_MH,D11,\nSUMPRODUCT(OFFSET(D11,0,(-1*LIFETIME_MH)+1,1,LIFETIME_MH),OFFSET('Shipments and Stock - MH'!E$14,0,(-1*LIFETIME_MH)+1,1,LIFETIME_MH))/\nSUM(OFFSET('Shipments and Stock - MH'!E$14,0,(-1*LIFETIME_MH)+1,1,LIFETIME_MH)))","v":364.25287356321837},{"$f":"IF(E$15-$D$15+2<=LIFETIME_MH,E11,\nSUMPRODUCT(OFFSET(E11,0,(-1*LIFETIME_MH)+1,1,LIFETIME_MH),OFFSET('Shipments and Stock - MH'!F$14,0,(-1*LIFETIME_MH)+1,1,LIFETIME_MH))/\nSUM(OFFSET('Shipments and Stock - MH'!F$14,0,(-1*LIFETIME_MH)+1,1,LIFETIME_MH)))","v":364.25287356321837},{"$f":"IF(F$15-$D$15+2<=LIFETIME_MH,F11,\nSUMPRODUCT(OFFSET(F11,0,(-1*LIFETIME_MH)+1,1,LIFETIME_MH),OFFSET('Shipments and Stock - MH'!G$14,0,(-1*LIFETIME_MH)+1,1,LIFETIME_MH))/\nSUM(OFFSET('Shipments and Stock - MH'!G$14,0,(-1*LIFETIME_MH)+1,1,LIFETIME_MH)))","v":364.25287356321837},{"$f":"IF(G$15-$D$15+2<=LIFETIME_MH,G11,\nSUMPRODUCT(OFFSET(G11,0,(-1*LIFETIME_MH)+1,1,LIFETIME_MH),OFFSET('Shipments and Stock - MH'!H$14,0,(-1*LIFETIME_MH)+1,1,LIFETIME_MH))/\nSUM(OFFSET('Shipments and Stock - MH'!H$14,0,(-1*LIFETIME_MH)+1,1,LIFETIME_MH)))","v":364.25287356321837},{"$f":"IF(H$15-$D$15+2<=LIFETIME_MH,H11,\nSUMPRODUCT(OFFSET(H11,0,(-1*LIFETIME_MH)+1,1,LIFETIME_MH),OFFSET('Shipments and Stock - MH'!I$14,0,(-1*LIFETIME_MH)+1,1,LIFETIME_MH))/\nSUM(OFFSET('Shipments and Stock - MH'!I$14,0,(-1*LIFETIME_MH)+1,1,LIFETIME_MH)))","v":364.25287356321837},{"$f":"IF(I$15-$D$15+2<=LIFETIME_MH,I11,\nSUMPRODUCT(OFFSET(I11,0,(-1*LIFETIME_MH)+1,1,LIFETIME_MH),OFFSET('Shipments and Stock - MH'!J$14,0,(-1*LIFETIME_MH)+1,1,LIFETIME_MH))/\nSUM(OFFSET('Shipments and Stock - MH'!J$14,0,(-1*LIFETIME_MH)+1,1,LIFETIME_MH)))","v":364.25287356321837},{"$f":"IF(J$15-$D$15+2<=LIFETIME_MH,J11,\nSUMPRODUCT(OFFSET(J11,0,(-1*LIFETIME_MH)+1,1,LIFETIME_MH),OFFSET('Shipments and Stock - MH'!K$14,0,(-1*LIFETIME_MH)+1,1,LIFETIME_MH))/\nSUM(OFFSET('Shipments and Stock - MH'!K$14,0,(-1*LIFETIME_MH)+1,1,LIFETIME_MH)))","v":364.25287356321837},{"$f":"IF(K$15-$D$15+2<=LIFETIME_MH,K11,\nSUMPRODUCT(OFFSET(K11,0,(-1*LIFETIME_MH)+1,1,LIFETIME_MH),OFFSET('Shipments and Stock - MH'!L$14,0,(-1*LIFETIME_MH)+1,1,LIFETIME_MH))/\nSUM(OFFSET('Shipments and Stock - MH'!L$14,0,(-1*LIFETIME_MH)+1,1,LIFETIME_MH)))","v":364.25287356321837},{"$f":"IF(L$15-$D$15+2<=LIFETIME_MH,L11,\nSUMPRODUCT(OFFSET(L11,0,(-1*LIFETIME_MH)+1,1,LIFETIME_MH),OFFSET('Shipments and Stock - MH'!M$14,0,(-1*LIFETIME_MH)+1,1,LIFETIME_MH))/\nSUM(OFFSET('Shipments and Stock - MH'!M$14,0,(-1*LIFETIME_MH)+1,1,LIFETIME_MH)))","v":364.25287356321837},{"$f":"IF(M$15-$D$15+2<=LIFETIME_MH,M11,\nSUMPRODUCT(OFFSET(M11,0,(-1*LIFETIME_MH)+1,1,LIFETIME_MH),OFFSET('Shipments and Stock - MH'!N$14,0,(-1*LIFETIME_MH)+1,1,LIFETIME_MH))/\nSUM(OFFSET('Shipments and Stock - MH'!N$14,0,(-1*LIFETIME_MH)+1,1,LIFETIME_MH)))","v":364.25287356321837},{"$f":"IF(N$15-$D$15+2<=LIFETIME_MH,N11,\nSUMPRODUCT(OFFSET(N11,0,(-1*LIFETIME_MH)+1,1,LIFETIME_MH),OFFSET('Shipments and Stock - MH'!O$14,0,(-1*LIFETIME_MH)+1,1,LIFETIME_MH))/\nSUM(OFFSET('Shipments and Stock - MH'!O$14,0,(-1*LIFETIME_MH)+1,1,LIFETIME_MH)))","v":364.31818181818181},{"$f":"IF(O$15-$D$15+2<=LIFETIME_MH,O11,\nSUMPRODUCT(OFFSET(O11,0,(-1*LIFETIME_MH)+1,1,LIFETIME_MH),OFFSET('Shipments and Stock - MH'!P$14,0,(-1*LIFETIME_MH)+1,1,LIFETIME_MH))/\nSUM(OFFSET('Shipments and Stock - MH'!P$14,0,(-1*LIFETIME_MH)+1,1,LIFETIME_MH)))","v":364.38202247191009},{"$f":"IF(P$15-$D$15+2<=LIFETIME_MH,P11,\nSUMPRODUCT(OFFSET(P11,0,(-1*LIFETIME_MH)+1,1,LIFETIME_MH),OFFSET('Shipments and Stock - MH'!Q$14,0,(-1*LIFETIME_MH)+1,1,LIFETIME_MH))/\nSUM(OFFSET('Shipments and Stock - MH'!Q$14,0,(-1*LIFETIME_MH)+1,1,LIFETIME_MH)))","v":364.31818181818187},{"$f":"IF(Q$15-$D$15+2<=LIFETIME_MH,Q11,\nSUMPRODUCT(OFFSET(Q11,0,(-1*LIFETIME_MH)+1,1,LIFETIME_MH),OFFSET('Shipments and Stock - MH'!R$14,0,(-1*LIFETIME_MH)+1,1,LIFETIME_MH))/\nSUM(OFFSET('Shipments and Stock - MH'!R$14,0,(-1*LIFETIME_MH)+1,1,LIFETIME_MH)))","v":363.93258426966293},{"$f":"IF(R$15-$D$15+2<=LIFETIME_MH,R11,\nSUMPRODUCT(OFFSET(R11,0,(-1*LIFETIME_MH)+1,1,LIFETIME_MH),OFFSET('Shipments and Stock - MH'!S$14,0,(-1*LIFETIME_MH)+1,1,LIFETIME_MH))/\nSUM(OFFSET('Shipments and Stock - MH'!S$14,0,(-1*LIFETIME_MH)+1,1,LIFETIME_MH)))","v":364},{"$f":"IF(S$15-$D$15+2<=LIFETIME_MH,S11,\nSUMPRODUCT(OFFSET(S11,0,(-1*LIFETIME_MH)+1,1,LIFETIME_MH),OFFSET('Shipments and Stock - MH'!T$14,0,(-1*LIFETIME_MH)+1,1,LIFETIME_MH))/\nSUM(OFFSET('Shipments and Stock - MH'!T$14,0,(-1*LIFETIME_MH)+1,1,LIFETIME_MH)))","v":363.66666666666669},{"$f":"IF(T$15-$D$15+2<=LIFETIME_MH,T11,\nSUMPRODUCT(OFFSET(T11,0,(-1*LIFETIME_MH)+1,1,LIFETIME_MH),OFFSET('Shipments and Stock - MH'!U$14,0,(-1*LIFETIME_MH)+1,1,LIFETIME_MH))/\nSUM(OFFSET('Shipments and Stock - MH'!U$14,0,(-1*LIFETIME_MH)+1,1,LIFETIME_MH)))","v":363.48314606741576},{"$f":"IF(U$15-$D$15+2<=LIFETIME_MH,U11,\nSUMPRODUCT(OFFSET(U11,0,(-1*LIFETIME_MH)+1,1,LIFETIME_MH),OFFSET('Shipments and Stock - MH'!V$14,0,(-1*LIFETIME_MH)+1,1,LIFETIME_MH))/\nSUM(OFFSET('Shipments and Stock - MH'!V$14,0,(-1*LIFETIME_MH)+1,1,LIFETIME_MH)))","v":363.25842696629212},{"$f":"IF(V$15-$D$15+2<=LIFETIME_MH,V11,\nSUMPRODUCT(OFFSET(V11,0,(-1*LIFETIME_MH)+1,1,LIFETIME_MH),OFFSET('Shipments and Stock - MH'!W$14,0,(-1*LIFETIME_MH)+1,1,LIFETIME_MH))/\nSUM(OFFSET('Shipments and Stock - MH'!W$14,0,(-1*LIFETIME_MH)+1,1,LIFETIME_MH)))","v":364.04535542274459},{"$f":"IF(W$15-$D$15+2<=LIFETIME_MH,W11,\nSUMPRODUCT(OFFSET(W11,0,(-1*LIFETIME_MH)+1,1,LIFETIME_MH),OFFSET('Shipments and Stock - MH'!X$14,0,(-1*LIFETIME_MH)+1,1,LIFETIME_MH))/\nSUM(OFFSET('Shipments and Stock - MH'!X$14,0,(-1*LIFETIME_MH)+1,1,LIFETIME_MH)))","v":363.97663564197734},{"$f":"IF(X$15-$D$15+2<=LIFETIME_MH,X11,\nSUMPRODUCT(OFFSET(X11,0,(-1*LIFETIME_MH)+1,1,LIFETIME_MH),OFFSET('Shipments and Stock - MH'!Y$14,0,(-1*LIFETIME_MH)+1,1,LIFETIME_MH))/\nSUM(OFFSET('Shipments and Stock - MH'!Y$14,0,(-1*LIFETIME_MH)+1,1,LIFETIME_MH)))","v":363.90986230645518},{"$f":"IF(Y$15-$D$15+2<=LIFETIME_MH,Y11,\nSUMPRODUCT(OFFSET(Y11,0,(-1*LIFETIME_MH)+1,1,LIFETIME_MH),OFFSET('Shipments and Stock - MH'!Z$14,0,(-1*LIFETIME_MH)+1,1,LIFETIME_MH))/\nSUM(OFFSET('Shipments and Stock - MH'!Z$14,0,(-1*LIFETIME_MH)+1,1,LIFETIME_MH)))","v":363.8248643214535},{"$f":"IF(Z$15-$D$15+2<=LIFETIME_MH,Z11,\nSUMPRODUCT(OFFSET(Z11,0,(-1*LIFETIME_MH)+1,1,LIFETIME_MH),OFFSET('Shipments and Stock - MH'!AA$14,0,(-1*LIFETIME_MH)+1,1,LIFETIME_MH))/\nSUM(OFFSET('Shipments and Stock - MH'!AA$14,0,(-1*LIFETIME_MH)+1,1,LIFETIME_MH)))","v":363.71958381689382},{"$f":"IF(AA$15-$D$15+2<=LIFETIME_MH,AA11,\nSUMPRODUCT(OFFSET(AA11,0,(-1*LIFETIME_MH)+1,1,LIFETIME_MH),OFFSET('Shipments and Stock - MH'!AB$14,0,(-1*LIFETIME_MH)+1,1,LIFETIME_MH))/\nSUM(OFFSET('Shipments and Stock - MH'!AB$14,0,(-1*LIFETIME_MH)+1,1,LIFETIME_MH)))","v":363.62139422698709},{"$f":"IF(AB$15-$D$15+2<=LIFETIME_MH,AB11,\nSUMPRODUCT(OFFSET(AB11,0,(-1*LIFETIME_MH)+1,1,LIFETIME_MH),OFFSET('Shipments and Stock - MH'!AC$14,0,(-1*LIFETIME_MH)+1,1,LIFETIME_MH))/\nSUM(OFFSET('Shipments and Stock - MH'!AC$14,0,(-1*LIFETIME_MH)+1,1,LIFETIME_MH)))","v":363.53594250824727},{"$f":"IF(AC$15-$D$15+2<=LIFETIME_MH,AC11,\nSUMPRODUCT(OFFSET(AC11,0,(-1*LIFETIME_MH)+1,1,LIFETIME_MH),OFFSET('Shipments and Stock - MH'!AD$14,0,(-1*LIFETIME_MH)+1,1,LIFETIME_MH))/\nSUM(OFFSET('Shipments and Stock - MH'!AD$14,0,(-1*LIFETIME_MH)+1,1,LIFETIME_MH)))","v":363.4610669869088},{"$f":"IF(AD$15-$D$15+2<=LIFETIME_MH,AD11,\nSUMPRODUCT(OFFSET(AD11,0,(-1*LIFETIME_MH)+1,1,LIFETIME_MH),OFFSET('Shipments and Stock - MH'!AE$14,0,(-1*LIFETIME_MH)+1,1,LIFETIME_MH))/\nSUM(OFFSET('Shipments and Stock - MH'!AE$14,0,(-1*LIFETIME_MH)+1,1,LIFETIME_MH)))","v":363.37631188872496},{"$f":"IF(AE$15-$D$15+2<=LIFETIME_MH,AE11,\nSUMPRODUCT(OFFSET(AE11,0,(-1*LIFETIME_MH)+1,1,LIFETIME_MH),OFFSET('Shipments and Stock - MH'!AF$14,0,(-1*LIFETIME_MH)+1,1,LIFETIME_MH))/\nSUM(OFFSET('Shipments and Stock - MH'!AF$14,0,(-1*LIFETIME_MH)+1,1,LIFETIME_MH)))","v":363.28459252361574},{"$f":"IF(AF$15-$D$15+2<=LIFETIME_MH,AF11,\nSUMPRODUCT(OFFSET(AF11,0,(-1*LIFETIME_MH)+1,1,LIFETIME_MH),OFFSET('Shipments and Stock - MH'!AG$14,0,(-1*LIFETIME_MH)+1,1,LIFETIME_MH))/\nSUM(OFFSET('Shipments and Stock - MH'!AG$14,0,(-1*LIFETIME_MH)+1,1,LIFETIME_MH)))","v":363.18235243945475},{"$f":"IF(AG$15-$D$15+2<=LIFETIME_MH,AG11,\nSUMPRODUCT(OFFSET(AG11,0,(-1*LIFETIME_MH)+1,1,LIFETIME_MH),OFFSET('Shipments and Stock - MH'!AH$14,0,(-1*LIFETIME_MH)+1,1,LIFETIME_MH))/\nSUM(OFFSET('Shipments and Stock - MH'!AH$14,0,(-1*LIFETIME_MH)+1,1,LIFETIME_MH)))","v":363.07351949832355},{"$f":"IF(AH$15-$D$15+2<=LIFETIME_MH,AH11,\nSUMPRODUCT(OFFSET(AH11,0,(-1*LIFETIME_MH)+1,1,LIFETIME_MH),OFFSET('Shipments and Stock - MH'!AI$14,0,(-1*LIFETIME_MH)+1,1,LIFETIME_MH))/\nSUM(OFFSET('Shipments and Stock - MH'!AI$14,0,(-1*LIFETIME_MH)+1,1,LIFETIME_MH)))","v":362.94992641186633},{"$f":"IF(AI$15-$D$15+2<=LIFETIME_MH,AI11,\nSUMPRODUCT(OFFSET(AI11,0,(-1*LIFETIME_MH)+1,1,LIFETIME_MH),OFFSET('Shipments and Stock - MH'!AJ$14,0,(-1*LIFETIME_MH)+1,1,LIFETIME_MH))/\nSUM(OFFSET('Shipments and Stock - MH'!AJ$14,0,(-1*LIFETIME_MH)+1,1,LIFETIME_MH)))","v":362.81728001220716},{"$f":"IF(AJ$15-$D$15+2<=LIFETIME_MH,AJ11,\nSUMPRODUCT(OFFSET(AJ11,0,(-1*LIFETIME_MH)+1,1,LIFETIME_MH),OFFSET('Shipments and Stock - MH'!AK$14,0,(-1*LIFETIME_MH)+1,1,LIFETIME_MH))/\nSUM(OFFSET('Shipments and Stock - MH'!AK$14,0,(-1*LIFETIME_MH)+1,1,LIFETIME_MH)))","v":362.69357684353611},{"$f":"IF(AK$15-$D$15+2<=LIFETIME_MH,AK11,\nSUMPRODUCT(OFFSET(AK11,0,(-1*LIFETIME_MH)+1,1,LIFETIME_MH),OFFSET('Shipments and Stock - MH'!AL$14,0,(-1*LIFETIME_MH)+1,1,LIFETIME_MH))/\nSUM(OFFSET('Shipments and Stock - MH'!AL$14,0,(-1*LIFETIME_MH)+1,1,LIFETIME_MH)))","v":362.5679237542459},{"$f":"IF(AL$15-$D$15+2<=LIFETIME_MH,AL11,\nSUMPRODUCT(OFFSET(AL11,0,(-1*LIFETIME_MH)+1,1,LIFETIME_MH),OFFSET('Shipments and Stock - MH'!AM$14,0,(-1*LIFETIME_MH)+1,1,LIFETIME_MH))/\nSUM(OFFSET('Shipments and Stock - MH'!AM$14,0,(-1*LIFETIME_MH)+1,1,LIFETIME_MH)))","v":362.46721560450493},{"$f":"IF(AM$15-$D$15+2<=LIFETIME_MH,AM11,\nSUMPRODUCT(OFFSET(AM11,0,(-1*LIFETIME_MH)+1,1,LIFETIME_MH),OFFSET('Shipments and Stock - MH'!AN$14,0,(-1*LIFETIME_MH)+1,1,LIFETIME_MH))/\nSUM(OFFSET('Shipments and Stock - MH'!AN$14,0,(-1*LIFETIME_MH)+1,1,LIFETIME_MH)))","v":362.37307807547353},{"$f":"IF(AN$15-$D$15+2<=LIFETIME_MH,AN11,\nSUMPRODUCT(OFFSET(AN11,0,(-1*LIFETIME_MH)+1,1,LIFETIME_MH),OFFSET('Shipments and Stock - MH'!AO$14,0,(-1*LIFETIME_MH)+1,1,LIFETIME_MH))/\nSUM(OFFSET('Shipments and Stock - MH'!AO$14,0,(-1*LIFETIME_MH)+1,1,LIFETIME_MH)))","v":362.28567931148325},{"$f":"IF(AO$15-$D$15+2<=LIFETIME_MH,AO11,\nSUMPRODUCT(OFFSET(AO11,0,(-1*LIFETIME_MH)+1,1,LIFETIME_MH),OFFSET('Shipments and Stock - MH'!AP$14,0,(-1*LIFETIME_MH)+1,1,LIFETIME_MH))/\nSUM(OFFSET('Shipments and Stock - MH'!AP$14,0,(-1*LIFETIME_MH)+1,1,LIFETIME_MH)))","v":362.2116379228724},{"$f":"IF(AP$15-$D$15+2<=LIFETIME_MH,AP11,\nSUMPRODUCT(OFFSET(AP11,0,(-1*LIFETIME_MH)+1,1,LIFETIME_MH),OFFSET('Shipments and Stock - MH'!AQ$14,0,(-1*LIFETIME_MH)+1,1,LIFETIME_MH))/\nSUM(OFFSET('Shipments and Stock - MH'!AQ$14,0,(-1*LIFETIME_MH)+1,1,LIFETIME_MH)))","v":362.11930885245209},{"$f":"IF(AQ$15-$D$15+2<=LIFETIME_MH,AQ11,\nSUMPRODUCT(OFFSET(AQ11,0,(-1*LIFETIME_MH)+1,1,LIFETIME_MH),OFFSET('Shipments and Stock - MH'!AR$14,0,(-1*LIFETIME_MH)+1,1,LIFETIME_MH))/\nSUM(OFFSET('Shipments and Stock - MH'!AR$14,0,(-1*LIFETIME_MH)+1,1,LIFETIME_MH)))","v":362.04288366929569},{"$f":"IF(AR$15-$D$15+2<=LIFETIME_MH,AR11,\nSUMPRODUCT(OFFSET(AR11,0,(-1*LIFETIME_MH)+1,1,LIFETIME_MH),OFFSET('Shipments and Stock - MH'!AS$14,0,(-1*LIFETIME_MH)+1,1,LIFETIME_MH))/\nSUM(OFFSET('Shipments and Stock - MH'!AS$14,0,(-1*LIFETIME_MH)+1,1,LIFETIME_MH)))","v":361.96216614023263},{"$f":"IF(AS$15-$D$15+2<=LIFETIME_MH,AS11,\nSUMPRODUCT(OFFSET(AS11,0,(-1*LIFETIME_MH)+1,1,LIFETIME_MH),OFFSET('Shipments and Stock - MH'!AT$14,0,(-1*LIFETIME_MH)+1,1,LIFETIME_MH))/\nSUM(OFFSET('Shipments and Stock - MH'!AT$14,0,(-1*LIFETIME_MH)+1,1,LIFETIME_MH)))","v":361.89971398341964},{"$f":"IF(AT$15-$D$15+2<=LIFETIME_MH,AT11,\nSUMPRODUCT(OFFSET(AT11,0,(-1*LIFETIME_MH)+1,1,LIFETIME_MH),OFFSET('Shipments and Stock - MH'!AU$14,0,(-1*LIFETIME_MH)+1,1,LIFETIME_MH))/\nSUM(OFFSET('Shipments and Stock - MH'!AU$14,0,(-1*LIFETIME_MH)+1,1,LIFETIME_MH)))","v":361.83875579243642},{"$f":"IF(AU$15-$D$15+2<=LIFETIME_MH,AU11,\nSUMPRODUCT(OFFSET(AU11,0,(-1*LIFETIME_MH)+1,1,LIFETIME_MH),OFFSET('Shipments and Stock - MH'!AV$14,0,(-1*LIFETIME_MH)+1,1,LIFETIME_MH))/\nSUM(OFFSET('Shipments and Stock - MH'!AV$14,0,(-1*LIFETIME_MH)+1,1,LIFETIME_MH)))","v":361.77372487251779},{"$f":"IF(AV$15-$D$15+2<=LIFETIME_MH,AV11,\nSUMPRODUCT(OFFSET(AV11,0,(-1*LIFETIME_MH)+1,1,LIFETIME_MH),OFFSET('Shipments and Stock - MH'!AW$14,0,(-1*LIFETIME_MH)+1,1,LIFETIME_MH))/\nSUM(OFFSET('Shipments and Stock - MH'!AW$14,0,(-1*LIFETIME_MH)+1,1,LIFETIME_MH)))","v":361.70125907206858},{"$f":"IF(AW$15-$D$15+2<=LIFETIME_MH,AW11,\nSUMPRODUCT(OFFSET(AW11,0,(-1*LIFETIME_MH)+1,1,LIFETIME_MH),OFFSET('Shipments and Stock - MH'!AX$14,0,(-1*LIFETIME_MH)+1,1,LIFETIME_MH))/\nSUM(OFFSET('Shipments and Stock - MH'!AX$14,0,(-1*LIFETIME_MH)+1,1,LIFETIME_MH)))","v":361.62276151308726},{"$f":"IF(AX$15-$D$15+2<=LIFETIME_MH,AX11,\nSUMPRODUCT(OFFSET(AX11,0,(-1*LIFETIME_MH)+1,1,LIFETIME_MH),OFFSET('Shipments and Stock - MH'!AY$14,0,(-1*LIFETIME_MH)+1,1,LIFETIME_MH))/\nSUM(OFFSET('Shipments and Stock - MH'!AY$14,0,(-1*LIFETIME_MH)+1,1,LIFETIME_MH)))","v":361.54245881588281},{"$f":"IF(AY$15-$D$15+2<=LIFETIME_MH,AY11,\nSUMPRODUCT(OFFSET(AY11,0,(-1*LIFETIME_MH)+1,1,LIFETIME_MH),OFFSET('Shipments and Stock - MH'!AZ$14,0,(-1*LIFETIME_MH)+1,1,LIFETIME_MH))/\nSUM(OFFSET('Shipments and Stock - MH'!AZ$14,0,(-1*LIFETIME_MH)+1,1,LIFETIME_MH)))","v":361.45827350409155},{"$f":"IF(AZ$15-$D$15+2<=LIFETIME_MH,AZ11,\nSUMPRODUCT(OFFSET(AZ11,0,(-1*LIFETIME_MH)+1,1,LIFETIME_MH),OFFSET('Shipments and Stock - MH'!BA$14,0,(-1*LIFETIME_MH)+1,1,LIFETIME_MH))/\nSUM(OFFSET('Shipments and Stock - MH'!BA$14,0,(-1*LIFETIME_MH)+1,1,LIFETIME_MH)))","v":361.37559523164884},{"$f":"IF(BA$15-$D$15+2<=LIFETIME_MH,BA11,\nSUMPRODUCT(OFFSET(BA11,0,(-1*LIFETIME_MH)+1,1,LIFETIME_MH),OFFSET('Shipments and Stock - MH'!BB$14,0,(-1*LIFETIME_MH)+1,1,LIFETIME_MH))/\nSUM(OFFSET('Shipments and Stock - MH'!BB$14,0,(-1*LIFETIME_MH)+1,1,LIFETIME_MH)))","v":361.28946960577792},{"$f":"IF(BB$15-$D$15+2<=LIFETIME_MH,BB11,\nSUMPRODUCT(OFFSET(BB11,0,(-1*LIFETIME_MH)+1,1,LIFETIME_MH),OFFSET('Shipments and Stock - MH'!BC$14,0,(-1*LIFETIME_MH)+1,1,LIFETIME_MH))/\nSUM(OFFSET('Shipments and Stock - MH'!BC$14,0,(-1*LIFETIME_MH)+1,1,LIFETIME_MH)))","v":361.19132179286964},{"$f":"IF(BC$15-$D$15+2<=LIFETIME_MH,BC11,\nSUMPRODUCT(OFFSET(BC11,0,(-1*LIFETIME_MH)+1,1,LIFETIME_MH),OFFSET('Shipments and Stock - MH'!BD$14,0,(-1*LIFETIME_MH)+1,1,LIFETIME_MH))/\nSUM(OFFSET('Shipments and Stock - MH'!BD$14,0,(-1*LIFETIME_MH)+1,1,LIFETIME_MH)))","v":361.08806209281335},{"$f":"IF(BD$15-$D$15+2<=LIFETIME_MH,BD11,\nSUMPRODUCT(OFFSET(BD11,0,(-1*LIFETIME_MH)+1,1,LIFETIME_MH),OFFSET('Shipments and Stock - MH'!BE$14,0,(-1*LIFETIME_MH)+1,1,LIFETIME_MH))/\nSUM(OFFSET('Shipments and Stock - MH'!BE$14,0,(-1*LIFETIME_MH)+1,1,LIFETIME_MH)))","v":360.98962708846972},{"$f":"IF(BE$15-$D$15+2<=LIFETIME_MH,BE11,\nSUMPRODUCT(OFFSET(BE11,0,(-1*LIFETIME_MH)+1,1,LIFETIME_MH),OFFSET('Shipments and Stock - MH'!BF$14,0,(-1*LIFETIME_MH)+1,1,LIFETIME_MH))/\nSUM(OFFSET('Shipments and Stock - MH'!BF$14,0,(-1*LIFETIME_MH)+1,1,LIFETIME_MH)))","v":360.89974392131899}]
[null,null,"POST-Case UEC",{"$f":"IF(D$15-$D$15+2<=LIFETIME_MH,D12,\nSUMPRODUCT(OFFSET(D12,0,(-1*LIFETIME_MH)+1,1,LIFETIME_MH),OFFSET('Shipments and Stock - MH'!E$14,0,(-1*LIFETIME_MH)+1,1,LIFETIME_MH))/\nSUM(OFFSET('Shipments and Stock - MH'!E$14,0,(-1*LIFETIME_MH)+1,1,LIFETIME_MH)))","v":364.25287356321837},{"$f":"IF(E$15-$D$15+2<=LIFETIME_MH,E12,\nSUMPRODUCT(OFFSET(E12,0,(-1*LIFETIME_MH)+1,1,LIFETIME_MH),OFFSET('Shipments and Stock - MH'!F$14,0,(-1*LIFETIME_MH)+1,1,LIFETIME_MH))/\nSUM(OFFSET('Shipments and Stock - MH'!F$14,0,(-1*LIFETIME_MH)+1,1,LIFETIME_MH)))","v":364.25287356321837},{"$f":"IF(F$15-$D$15+2<=LIFETIME_MH,F12,\nSUMPRODUCT(OFFSET(F12,0,(-1*LIFETIME_MH)+1,1,LIFETIME_MH),OFFSET('Shipments and Stock - MH'!G$14,0,(-1*LIFETIME_MH)+1,1,LIFETIME_MH))/\nSUM(OFFSET('Shipments and Stock - MH'!G$14,0,(-1*LIFETIME_MH)+1,1,LIFETIME_MH)))","v":364.25287356321837},{"$f":"IF(G$15-$D$15+2<=LIFETIME_MH,G12,\nSUMPRODUCT(OFFSET(G12,0,(-1*LIFETIME_MH)+1,1,LIFETIME_MH),OFFSET('Shipments and Stock - MH'!H$14,0,(-1*LIFETIME_MH)+1,1,LIFETIME_MH))/\nSUM(OFFSET('Shipments and Stock - MH'!H$14,0,(-1*LIFETIME_MH)+1,1,LIFETIME_MH)))","v":364.25287356321837},{"$f":"IF(H$15-$D$15+2<=LIFETIME_MH,H12,\nSUMPRODUCT(OFFSET(H12,0,(-1*LIFETIME_MH)+1,1,LIFETIME_MH),OFFSET('Shipments and Stock - MH'!I$14,0,(-1*LIFETIME_MH)+1,1,LIFETIME_MH))/\nSUM(OFFSET('Shipments and Stock - MH'!I$14,0,(-1*LIFETIME_MH)+1,1,LIFETIME_MH)))","v":364.25287356321837},{"$f":"IF(I$15-$D$15+2<=LIFETIME_MH,I12,\nSUMPRODUCT(OFFSET(I12,0,(-1*LIFETIME_MH)+1,1,LIFETIME_MH),OFFSET('Shipments and Stock - MH'!J$14,0,(-1*LIFETIME_MH)+1,1,LIFETIME_MH))/\nSUM(OFFSET('Shipments and Stock - MH'!J$14,0,(-1*LIFETIME_MH)+1,1,LIFETIME_MH)))","v":364.25287356321837},{"$f":"IF(J$15-$D$15+2<=LIFETIME_MH,J12,\nSUMPRODUCT(OFFSET(J12,0,(-1*LIFETIME_MH)+1,1,LIFETIME_MH),OFFSET('Shipments and Stock - MH'!K$14,0,(-1*LIFETIME_MH)+1,1,LIFETIME_MH))/\nSUM(OFFSET('Shipments and Stock - MH'!K$14,0,(-1*LIFETIME_MH)+1,1,LIFETIME_MH)))","v":364.25287356321837},{"$f":"IF(K$15-$D$15+2<=LIFETIME_MH,K12,\nSUMPRODUCT(OFFSET(K12,0,(-1*LIFETIME_MH)+1,1,LIFETIME_MH),OFFSET('Shipments and Stock - MH'!L$14,0,(-1*LIFETIME_MH)+1,1,LIFETIME_MH))/\nSUM(OFFSET('Shipments and Stock - MH'!L$14,0,(-1*LIFETIME_MH)+1,1,LIFETIME_MH)))","v":364.25287356321837},{"$f":"IF(L$15-$D$15+2<=LIFETIME_MH,L12,\nSUMPRODUCT(OFFSET(L12,0,(-1*LIFETIME_MH)+1,1,LIFETIME_MH),OFFSET('Shipments and Stock - MH'!M$14,0,(-1*LIFETIME_MH)+1,1,LIFETIME_MH))/\nSUM(OFFSET('Shipments and Stock - MH'!M$14,0,(-1*LIFETIME_MH)+1,1,LIFETIME_MH)))","v":364.25287356321837},{"$f":"IF(M$15-$D$15+2<=LIFETIME_MH,M12,\nSUMPRODUCT(OFFSET(M12,0,(-1*LIFETIME_MH)+1,1,LIFETIME_MH),OFFSET('Shipments and Stock - MH'!N$14,0,(-1*LIFETIME_MH)+1,1,LIFETIME_MH))/\nSUM(OFFSET('Shipments and Stock - MH'!N$14,0,(-1*LIFETIME_MH)+1,1,LIFETIME_MH)))","v":364.25287356321837},{"$f":"IF(N$15-$D$15+2<=LIFETIME_MH,N12,\nSUMPRODUCT(OFFSET(N12,0,(-1*LIFETIME_MH)+1,1,LIFETIME_MH),OFFSET('Shipments and Stock - MH'!O$14,0,(-1*LIFETIME_MH)+1,1,LIFETIME_MH))/\nSUM(OFFSET('Shipments and Stock - MH'!O$14,0,(-1*LIFETIME_MH)+1,1,LIFETIME_MH)))","v":364.31818181818181},{"$f":"IF(O$15-$D$15+2<=LIFETIME_MH,O12,\nSUMPRODUCT(OFFSET(O12,0,(-1*LIFETIME_MH)+1,1,LIFETIME_MH),OFFSET('Shipments and Stock - MH'!P$14,0,(-1*LIFETIME_MH)+1,1,LIFETIME_MH))/\nSUM(OFFSET('Shipments and Stock - MH'!P$14,0,(-1*LIFETIME_MH)+1,1,LIFETIME_MH)))","v":364.38202247191009},{"$f":"IF(P$15-$D$15+2<=LIFETIME_MH,P12,\nSUMPRODUCT(OFFSET(P12,0,(-1*LIFETIME_MH)+1,1,LIFETIME_MH),OFFSET('Shipments and Stock - MH'!Q$14,0,(-1*LIFETIME_MH)+1,1,LIFETIME_MH))/\nSUM(OFFSET('Shipments and Stock - MH'!Q$14,0,(-1*LIFETIME_MH)+1,1,LIFETIME_MH)))","v":364.31818181818187},{"$f":"IF(Q$15-$D$15+2<=LIFETIME_MH,Q12,\nSUMPRODUCT(OFFSET(Q12,0,(-1*LIFETIME_MH)+1,1,LIFETIME_MH),OFFSET('Shipments and Stock - MH'!R$14,0,(-1*LIFETIME_MH)+1,1,LIFETIME_MH))/\nSUM(OFFSET('Shipments and Stock - MH'!R$14,0,(-1*LIFETIME_MH)+1,1,LIFETIME_MH)))","v":363.93258426966293},{"$f":"IF(R$15-$D$15+2<=LIFETIME_MH,R12,\nSUMPRODUCT(OFFSET(R12,0,(-1*LIFETIME_MH)+1,1,LIFETIME_MH),OFFSET('Shipments and Stock - MH'!S$14,0,(-1*LIFETIME_MH)+1,1,LIFETIME_MH))/\nSUM(OFFSET('Shipments and Stock - MH'!S$14,0,(-1*LIFETIME_MH)+1,1,LIFETIME_MH)))","v":364},{"$f":"IF(S$15-$D$15+2<=LIFETIME_MH,S12,\nSUMPRODUCT(OFFSET(S12,0,(-1*LIFETIME_MH)+1,1,LIFETIME_MH),OFFSET('Shipments and Stock - MH'!T$14,0,(-1*LIFETIME_MH)+1,1,LIFETIME_MH))/\nSUM(OFFSET('Shipments and Stock - MH'!T$14,0,(-1*LIFETIME_MH)+1,1,LIFETIME_MH)))","v":363.66666666666669},{"$f":"IF(T$15-$D$15+2<=LIFETIME_MH,T12,\nSUMPRODUCT(OFFSET(T12,0,(-1*LIFETIME_MH)+1,1,LIFETIME_MH),OFFSET('Shipments and Stock - MH'!U$14,0,(-1*LIFETIME_MH)+1,1,LIFETIME_MH))/\nSUM(OFFSET('Shipments and Stock - MH'!U$14,0,(-1*LIFETIME_MH)+1,1,LIFETIME_MH)))","v":363.48314606741576},{"$f":"IF(U$15-$D$15+2<=LIFETIME_MH,U12,\nSUMPRODUCT(OFFSET(U12,0,(-1*LIFETIME_MH)+1,1,LIFETIME_MH),OFFSET('Shipments and Stock - MH'!V$14,0,(-1*LIFETIME_MH)+1,1,LIFETIME_MH))/\nSUM(OFFSET('Shipments and Stock - MH'!V$14,0,(-1*LIFETIME_MH)+1,1,LIFETIME_MH)))","v":363.25842696629212},{"$f":"IF(V$15-$D$15+2<=LIFETIME_MH,V12,\nSUMPRODUCT(OFFSET(V12,0,(-1*LIFETIME_MH)+1,1,LIFETIME_MH),OFFSET('Shipments and Stock - MH'!W$14,0,(-1*LIFETIME_MH)+1,1,LIFETIME_MH))/\nSUM(OFFSET('Shipments and Stock - MH'!W$14,0,(-1*LIFETIME_MH)+1,1,LIFETIME_MH)))","v":364.04535542274459},{"$f":"IF(W$15-$D$15+2<=LIFETIME_MH,W12,\nSUMPRODUCT(OFFSET(W12,0,(-1*LIFETIME_MH)+1,1,LIFETIME_MH),OFFSET('Shipments and Stock - MH'!X$14,0,(-1*LIFETIME_MH)+1,1,LIFETIME_MH))/\nSUM(OFFSET('Shipments and Stock - MH'!X$14,0,(-1*LIFETIME_MH)+1,1,LIFETIME_MH)))","v":363.97663564197734},{"$f":"IF(X$15-$D$15+2<=LIFETIME_MH,X12,\nSUMPRODUCT(OFFSET(X12,0,(-1*LIFETIME_MH)+1,1,LIFETIME_MH),OFFSET('Shipments and Stock - MH'!Y$14,0,(-1*LIFETIME_MH)+1,1,LIFETIME_MH))/\nSUM(OFFSET('Shipments and Stock - MH'!Y$14,0,(-1*LIFETIME_MH)+1,1,LIFETIME_MH)))","v":363.90986230645518},{"$f":"IF(Y$15-$D$15+2<=LIFETIME_MH,Y12,\nSUMPRODUCT(OFFSET(Y12,0,(-1*LIFETIME_MH)+1,1,LIFETIME_MH),OFFSET('Shipments and Stock - MH'!Z$14,0,(-1*LIFETIME_MH)+1,1,LIFETIME_MH))/\nSUM(OFFSET('Shipments and Stock - MH'!Z$14,0,(-1*LIFETIME_MH)+1,1,LIFETIME_MH)))","v":363.8248643214535},{"$f":"IF(Z$15-$D$15+2<=LIFETIME_MH,Z12,\nSUMPRODUCT(OFFSET(Z12,0,(-1*LIFETIME_MH)+1,1,LIFETIME_MH),OFFSET('Shipments and Stock - MH'!AA$14,0,(-1*LIFETIME_MH)+1,1,LIFETIME_MH))/\nSUM(OFFSET('Shipments and Stock - MH'!AA$14,0,(-1*LIFETIME_MH)+1,1,LIFETIME_MH)))","v":363.71958381689382},{"$f":"IF(AA$15-$D$15+2<=LIFETIME_MH,AA12,\nSUMPRODUCT(OFFSET(AA12,0,(-1*LIFETIME_MH)+1,1,LIFETIME_MH),OFFSET('Shipments and Stock - MH'!AB$14,0,(-1*LIFETIME_MH)+1,1,LIFETIME_MH))/\nSUM(OFFSET('Shipments and Stock - MH'!AB$14,0,(-1*LIFETIME_MH)+1,1,LIFETIME_MH)))","v":363.62139422698709},{"$f":"IF(AB$15-$D$15+2<=LIFETIME_MH,AB12,\nSUMPRODUCT(OFFSET(AB12,0,(-1*LIFETIME_MH)+1,1,LIFETIME_MH),OFFSET('Shipments and Stock - MH'!AC$14,0,(-1*LIFETIME_MH)+1,1,LIFETIME_MH))/\nSUM(OFFSET('Shipments and Stock - MH'!AC$14,0,(-1*LIFETIME_MH)+1,1,LIFETIME_MH)))","v":363.53594250824727},{"$f":"IF(AC$15-$D$15+2<=LIFETIME_MH,AC12,\nSUMPRODUCT(OFFSET(AC12,0,(-1*LIFETIME_MH)+1,1,LIFETIME_MH),OFFSET('Shipments and Stock - MH'!AD$14,0,(-1*LIFETIME_MH)+1,1,LIFETIME_MH))/\nSUM(OFFSET('Shipments and Stock - MH'!AD$14,0,(-1*LIFETIME_MH)+1,1,LIFETIME_MH)))","v":363.4610669869088},{"$f":"IF(AD$15-$D$15+2<=LIFETIME_MH,AD12,\nSUMPRODUCT(OFFSET(AD12,0,(-1*LIFETIME_MH)+1,1,LIFETIME_MH),OFFSET('Shipments and Stock - MH'!AE$14,0,(-1*LIFETIME_MH)+1,1,LIFETIME_MH))/\nSUM(OFFSET('Shipments and Stock - MH'!AE$14,0,(-1*LIFETIME_MH)+1,1,LIFETIME_MH)))","v":363.37631188872496},{"$f":"IF(AE$15-$D$15+2<=LIFETIME_MH,AE12,\nSUMPRODUCT(OFFSET(AE12,0,(-1*LIFETIME_MH)+1,1,LIFETIME_MH),OFFSET('Shipments and Stock - MH'!AF$14,0,(-1*LIFETIME_MH)+1,1,LIFETIME_MH))/\nSUM(OFFSET('Shipments and Stock - MH'!AF$14,0,(-1*LIFETIME_MH)+1,1,LIFETIME_MH)))","v":363.28459252361574},{"$f":"IF(AF$15-$D$15+2<=LIFETIME_MH,AF12,\nSUMPRODUCT(OFFSET(AF12,0,(-1*LIFETIME_MH)+1,1,LIFETIME_MH),OFFSET('Shipments and Stock - MH'!AG$14,0,(-1*LIFETIME_MH)+1,1,LIFETIME_MH))/\nSUM(OFFSET('Shipments and Stock - MH'!AG$14,0,(-1*LIFETIME_MH)+1,1,LIFETIME_MH)))","v":363.18235243945475},{"$f":"IF(AG$15-$D$15+2<=LIFETIME_MH,AG12,\nSUMPRODUCT(OFFSET(AG12,0,(-1*LIFETIME_MH)+1,1,LIFETIME_MH),OFFSET('Shipments and Stock - MH'!AH$14,0,(-1*LIFETIME_MH)+1,1,LIFETIME_MH))/\nSUM(OFFSET('Shipments and Stock - MH'!AH$14,0,(-1*LIFETIME_MH)+1,1,LIFETIME_MH)))","v":363.07351949832355},{"$f":"IF(AH$15-$D$15+2<=LIFETIME_MH,AH12,\nSUMPRODUCT(OFFSET(AH12,0,(-1*LIFETIME_MH)+1,1,LIFETIME_MH),OFFSET('Shipments and Stock - MH'!AI$14,0,(-1*LIFETIME_MH)+1,1,LIFETIME_MH))/\nSUM(OFFSET('Shipments and Stock - MH'!AI$14,0,(-1*LIFETIME_MH)+1,1,LIFETIME_MH)))","v":362.94992641186633},{"$f":"IF(AI$15-$D$15+2<=LIFETIME_MH,AI12,\nSUMPRODUCT(OFFSET(AI12,0,(-1*LIFETIME_MH)+1,1,LIFETIME_MH),OFFSET('Shipments and Stock - MH'!AJ$14,0,(-1*LIFETIME_MH)+1,1,LIFETIME_MH))/\nSUM(OFFSET('Shipments and Stock - MH'!AJ$14,0,(-1*LIFETIME_MH)+1,1,LIFETIME_MH)))","v":362.81728001220716},{"$f":"IF(AJ$15-$D$15+2<=LIFETIME_MH,AJ12,\nSUMPRODUCT(OFFSET(AJ12,0,(-1*LIFETIME_MH)+1,1,LIFETIME_MH),OFFSET('Shipments and Stock - MH'!AK$14,0,(-1*LIFETIME_MH)+1,1,LIFETIME_MH))/\nSUM(OFFSET('Shipments and Stock - MH'!AK$14,0,(-1*LIFETIME_MH)+1,1,LIFETIME_MH)))","v":362.69357684353611},{"$f":"IF(AK$15-$D$15+2<=LIFETIME_MH,AK12,\nSUMPRODUCT(OFFSET(AK12,0,(-1*LIFETIME_MH)+1,1,LIFETIME_MH),OFFSET('Shipments and Stock - MH'!AL$14,0,(-1*LIFETIME_MH)+1,1,LIFETIME_MH))/\nSUM(OFFSET('Shipments and Stock - MH'!AL$14,0,(-1*LIFETIME_MH)+1,1,LIFETIME_MH)))","v":362.5679237542459},{"$f":"IF(AL$15-$D$15+2<=LIFETIME_MH,AL12,\nSUMPRODUCT(OFFSET(AL12,0,(-1*LIFETIME_MH)+1,1,LIFETIME_MH),OFFSET('Shipments and Stock - MH'!AM$14,0,(-1*LIFETIME_MH)+1,1,LIFETIME_MH))/\nSUM(OFFSET('Shipments and Stock - MH'!AM$14,0,(-1*LIFETIME_MH)+1,1,LIFETIME_MH)))","v":362.46721560450493},{"$f":"IF(AM$15-$D$15+2<=LIFETIME_MH,AM12,\nSUMPRODUCT(OFFSET(AM12,0,(-1*LIFETIME_MH)+1,1,LIFETIME_MH),OFFSET('Shipments and Stock - MH'!AN$14,0,(-1*LIFETIME_MH)+1,1,LIFETIME_MH))/\nSUM(OFFSET('Shipments and Stock - MH'!AN$14,0,(-1*LIFETIME_MH)+1,1,LIFETIME_MH)))","v":362.37307807547353},{"$f":"IF(AN$15-$D$15+2<=LIFETIME_MH,AN12,\nSUMPRODUCT(OFFSET(AN12,0,(-1*LIFETIME_MH)+1,1,LIFETIME_MH),OFFSET('Shipments and Stock - MH'!AO$14,0,(-1*LIFETIME_MH)+1,1,LIFETIME_MH))/\nSUM(OFFSET('Shipments and Stock - MH'!AO$14,0,(-1*LIFETIME_MH)+1,1,LIFETIME_MH)))","v":362.28567931148325},{"$f":"IF(AO$15-$D$15+2<=LIFETIME_MH,AO12,\nSUMPRODUCT(OFFSET(AO12,0,(-1*LIFETIME_MH)+1,1,LIFETIME_MH),OFFSET('Shipments and Stock - MH'!AP$14,0,(-1*LIFETIME_MH)+1,1,LIFETIME_MH))/\nSUM(OFFSET('Shipments and Stock - MH'!AP$14,0,(-1*LIFETIME_MH)+1,1,LIFETIME_MH)))","v":362.2116379228724},{"$f":"IF(AP$15-$D$15+2<=LIFETIME_MH,AP12,\nSUMPRODUCT(OFFSET(AP12,0,(-1*LIFETIME_MH)+1,1,LIFETIME_MH),OFFSET('Shipments and Stock - MH'!AQ$14,0,(-1*LIFETIME_MH)+1,1,LIFETIME_MH))/\nSUM(OFFSET('Shipments and Stock - MH'!AQ$14,0,(-1*LIFETIME_MH)+1,1,LIFETIME_MH)))","v":359.0886567943881},{"$f":"IF(AQ$15-$D$15+2<=LIFETIME_MH,AQ12,\nSUMPRODUCT(OFFSET(AQ12,0,(-1*LIFETIME_MH)+1,1,LIFETIME_MH),OFFSET('Shipments and Stock - MH'!AR$14,0,(-1*LIFETIME_MH)+1,1,LIFETIME_MH))/\nSUM(OFFSET('Shipments and Stock - MH'!AR$14,0,(-1*LIFETIME_MH)+1,1,LIFETIME_MH)))","v":356.39319575462116},{"$f":"IF(AR$15-$D$15+2<=LIFETIME_MH,AR12,\nSUMPRODUCT(OFFSET(AR12,0,(-1*LIFETIME_MH)+1,1,LIFETIME_MH),OFFSET('Shipments and Stock - MH'!AS$14,0,(-1*LIFETIME_MH)+1,1,LIFETIME_MH))/\nSUM(OFFSET('Shipments and Stock - MH'!AS$14,0,(-1*LIFETIME_MH)+1,1,LIFETIME_MH)))","v":353.44703953997993},{"$f":"IF(AS$15-$D$15+2<=LIFETIME_MH,AS12,\nSUMPRODUCT(OFFSET(AS12,0,(-1*LIFETIME_MH)+1,1,LIFETIME_MH),OFFSET('Shipments and Stock - MH'!AT$14,0,(-1*LIFETIME_MH)+1,1,LIFETIME_MH))/\nSUM(OFFSET('Shipments and Stock - MH'!AT$14,0,(-1*LIFETIME_MH)+1,1,LIFETIME_MH)))","v":350.63420804253298},{"$f":"IF(AT$15-$D$15+2<=LIFETIME_MH,AT12,\nSUMPRODUCT(OFFSET(AT12,0,(-1*LIFETIME_MH)+1,1,LIFETIME_MH),OFFSET('Shipments and Stock - MH'!AU$14,0,(-1*LIFETIME_MH)+1,1,LIFETIME_MH))/\nSUM(OFFSET('Shipments and Stock - MH'!AU$14,0,(-1*LIFETIME_MH)+1,1,LIFETIME_MH)))","v":348.04294485917927},{"$f":"IF(AU$15-$D$15+2<=LIFETIME_MH,AU12,\nSUMPRODUCT(OFFSET(AU12,0,(-1*LIFETIME_MH)+1,1,LIFETIME_MH),OFFSET('Shipments and Stock - MH'!AV$14,0,(-1*LIFETIME_MH)+1,1,LIFETIME_MH))/\nSUM(OFFSET('Shipments and Stock - MH'!AV$14,0,(-1*LIFETIME_MH)+1,1,LIFETIME_MH)))","v":345.64508154376824},{"$f":"IF(AV$15-$D$15+2<=LIFETIME_MH,AV12,\nSUMPRODUCT(OFFSET(AV12,0,(-1*LIFETIME_MH)+1,1,LIFETIME_MH),OFFSET('Shipments and Stock - MH'!AW$14,0,(-1*LIFETIME_MH)+1,1,LIFETIME_MH))/\nSUM(OFFSET('Shipments and Stock - MH'!AW$14,0,(-1*LIFETIME_MH)+1,1,LIFETIME_MH)))","v":343.35735363648547},{"$f":"IF(AW$15-$D$15+2<=LIFETIME_MH,AW12,\nSUMPRODUCT(OFFSET(AW12,0,(-1*LIFETIME_MH)+1,1,LIFETIME_MH),OFFSET('Shipments and Stock - MH'!AX$14,0,(-1*LIFETIME_MH)+1,1,LIFETIME_MH))/\nSUM(OFFSET('Shipments and Stock - MH'!AX$14,0,(-1*LIFETIME_MH)+1,1,LIFETIME_MH)))","v":340.91773884513964},{"$f":"IF(AX$15-$D$15+2<=LIFETIME_MH,AX12,\nSUMPRODUCT(OFFSET(AX12,0,(-1*LIFETIME_MH)+1,1,LIFETIME_MH),OFFSET('Shipments and Stock - MH'!AY$14,0,(-1*LIFETIME_MH)+1,1,LIFETIME_MH))/\nSUM(OFFSET('Shipments and Stock - MH'!AY$14,0,(-1*LIFETIME_MH)+1,1,LIFETIME_MH)))","v":338.45352343534938},{"$f":"IF(AY$15-$D$15+2<=LIFETIME_MH,AY12,\nSUMPRODUCT(OFFSET(AY12,0,(-1*LIFETIME_MH)+1,1,LIFETIME_MH),OFFSET('Shipments and Stock - MH'!AZ$14,0,(-1*LIFETIME_MH)+1,1,LIFETIME_MH))/\nSUM(OFFSET('Shipments and Stock - MH'!AZ$14,0,(-1*LIFETIME_MH)+1,1,LIFETIME_MH)))","v":335.89920484599111},{"$f":"IF(AZ$15-$D$15+2<=LIFETIME_MH,AZ12,\nSUMPRODUCT(OFFSET(AZ12,0,(-1*LIFETIME_MH)+1,1,LIFETIME_MH),OFFSET('Shipments and Stock - MH'!BA$14,0,(-1*LIFETIME_MH)+1,1,LIFETIME_MH))/\nSUM(OFFSET('Shipments and Stock - MH'!BA$14,0,(-1*LIFETIME_MH)+1,1,LIFETIME_MH)))","v":333.415557564349},{"$f":"IF(BA$15-$D$15+2<=LIFETIME_MH,BA12,\nSUMPRODUCT(OFFSET(BA12,0,(-1*LIFETIME_MH)+1,1,LIFETIME_MH),OFFSET('Shipments and Stock - MH'!BB$14,0,(-1*LIFETIME_MH)+1,1,LIFETIME_MH))/\nSUM(OFFSET('Shipments and Stock - MH'!BB$14,0,(-1*LIFETIME_MH)+1,1,LIFETIME_MH)))","v":330.8497928171011},{"$f":"IF(BB$15-$D$15+2<=LIFETIME_MH,BB12,\nSUMPRODUCT(OFFSET(BB12,0,(-1*LIFETIME_MH)+1,1,LIFETIME_MH),OFFSET('Shipments and Stock - MH'!BC$14,0,(-1*LIFETIME_MH)+1,1,LIFETIME_MH))/\nSUM(OFFSET('Shipments and Stock - MH'!BC$14,0,(-1*LIFETIME_MH)+1,1,LIFETIME_MH)))","v":327.94379749888719},{"$f":"IF(BC$15-$D$15+2<=LIFETIME_MH,BC12,\nSUMPRODUCT(OFFSET(BC12,0,(-1*LIFETIME_MH)+1,1,LIFETIME_MH),OFFSET('Shipments and Stock - MH'!BD$14,0,(-1*LIFETIME_MH)+1,1,LIFETIME_MH))/\nSUM(OFFSET('Shipments and Stock - MH'!BD$14,0,(-1*LIFETIME_MH)+1,1,LIFETIME_MH)))","v":324.90711688098366},{"$f":"IF(BD$15-$D$15+2<=LIFETIME_MH,BD12,\nSUMPRODUCT(OFFSET(BD12,0,(-1*LIFETIME_MH)+1,1,LIFETIME_MH),OFFSET('Shipments and Stock - MH'!BE$14,0,(-1*LIFETIME_MH)+1,1,LIFETIME_MH))/\nSUM(OFFSET('Shipments and Stock - MH'!BE$14,0,(-1*LIFETIME_MH)+1,1,LIFETIME_MH)))","v":322.04005505452687},{"$f":"IF(BE$15-$D$15+2<=LIFETIME_MH,BE12,\nSUMPRODUCT(OFFSET(BE12,0,(-1*LIFETIME_MH)+1,1,LIFETIME_MH),OFFSET('Shipments and Stock - MH'!BF$14,0,(-1*LIFETIME_MH)+1,1,LIFETIME_MH))/\nSUM(OFFSET('Shipments and Stock - MH'!BF$14,0,(-1*LIFETIME_MH)+1,1,LIFETIME_MH)))","v":319.4546397523074}]

{"sheet":"Results-SF","index":21,"n_rows":46,"n_cols":28,"rows_kept":46,"cut":false,"hidden":false,"merged":[]}
[]
[null,null,"RESULTS - Single Family"]
[]
[null,null,"NAVIGATION"]
[]
[null,null,"COMMENTS"]
[]
[]
[null,null,"SINGLE FAMILY"]
[]
[null,null,"Unit Energy Consumption (kWh/year) ",2010,2011,2012,2013,2014,2015,2016,2017,2018,2019,2020,2021,2022,2023,2024,2025,2026,2027,2028,2029,2030,2031,2032,2033,2034]
[null,null,"6P UEC",{"$f":"'6P UEC Development'!$J$44","v":365.49999999999994},{"$f":"'6P UEC Development'!$J$44","v":365.49999999999994},{"$f":"'6P UEC Development'!$J$44","v":365.49999999999994},{"$f":"'6P UEC Development'!$J$44","v":365.49999999999994},{"$f":"'6P UEC Development'!$J$44","v":365.49999999999994},{"$f":"'6P UEC Development'!$J$44","v":365.49999999999994},{"$f":"'6P UEC Development'!$J$44","v":365.49999999999994},{"$f":"'6P UEC Development'!$J$44","v":365.49999999999994},{"$f":"'6P UEC Development'!$J$44","v":365.49999999999994},{"$f":"'6P UEC Development'!$J$44","v":365.49999999999994},{"$f":"'6P UEC Development'!$J$44","v":365.49999999999994},{"$f":"'6P UEC Development'!$J$44","v":365.49999999999994},{"$f":"'6P UEC Development'!$J$44","v":365.49999999999994},{"$f":"'6P UEC Development'!$J$44","v":365.49999999999994},{"$f":"'6P UEC Development'!$J$44","v":365.49999999999994},{"$f":"'6P UEC Development'!$J$44","v":365.49999999999994},{"$f":"'6P UEC Development'!$J$44","v":365.49999999999994},{"$f":"'6P UEC Development'!$J$44","v":365.49999999999994},{"$f":"'6P UEC Development'!$J$44","v":365.49999999999994},{"$f":"'6P UEC Development'!$J$44","v":365.49999999999994},{"$f":"'6P UEC Development'!$J$44","v":365.49999999999994},{"$f":"'6P UEC Development'!$J$44","v":365.49999999999994},{"$f":"'6P UEC Development'!$J$44","v":365.49999999999994},{"$f":"'6P UEC Development'!$J$44","v":365.49999999999994},{"$f":"'6P UEC Development'!$J$44","v":365.49999999999994}]
[null,null,{"$f":"'UEC-SF'!$C$9&\" - \"&'UEC-SF'!C11","v":"Market UEC (Shipment Weighted Average) - PRE-Case UEC"},{"$f":"'UEC-SF'!AG11","v":362.23709676257113},{"$f":"'UEC-SF'!AH11","v":362.15033024503055},{"$f":"'UEC-SF'!AI11","v":362.06356372749008},{"$f":"'UEC-SF'!AJ11","v":361.97679720994955},{"$f":"'UEC-SF'!AK11","v":361.89003069240903},{"$f":"'UEC-SF'!AL11","v":361.80326417486856},{"$f":"'UEC-SF'!AM11","v":361.71649765732673},{"$f":"'UEC-SF'!AN11","v":361.62973113978745},{"$f":"'UEC-SF'!AO11","v":361.54296462224698},{"$f":"'UEC-SF'!AP11","v":361.4561981047064},{"$f":"'UEC-SF'!AQ11","v":361.36943158716599},{"$f":"'UEC-SF'!AR11","v":361.28266506962541},{"$f":"'UEC-SF'!AS11","v":361.19589855208488},{"$f":"'UEC-SF'!AT11","v":361.10913203454436},{"$f":"'UEC-SF'!AU11","v":361.02236551700389},{"$f":"'UEC-SF'!AV11","v":360.93559899946337},{"$f":"'UEC-SF'!AW11","v":360.84883248192284},{"$f":"'UEC-SF'!AX11","v":360.76206596438232},{"$f":"'UEC-SF'!AY11","v":360.67529944684173},{"$f":"'UEC-SF'!AZ11","v":360.58853292930132},{"$f":"'UEC-SF'!BA11","v":360.50176641176074},{"$f":"'UEC-SF'!BB11","v":360.41499989422027},{"$f":"'UEC-SF'!BC11","v":360.32823337667969},{"$f":"'UEC-SF'!BD11","v":360.24146685913928},{"$f":"'UEC-SF'!BE11","v":360.1547003415987}]
[null,null,{"$f":"'UEC-SF'!$C$9&\" - \"&'UEC-SF'!C12","v":"Market UEC (Shipment Weighted Average) - POST-Case UEC"},{"$f":"'UEC-SF'!AG12","v":362.23709676257113},{"$f":"'UEC-SF'!AH12","v":362.15033024503055},{"$f":"'UEC-SF'!AI12","v":362.06356372749008},{"$f":"'UEC-SF'!AJ12","v":361.97679720994955},{"$f":"'UEC-SF'!AK12","v":361.89003069240903},{"$f":"'UEC-SF'!AL12","v":361.80326417486856},{"$f":"'UEC-SF'!AM12","v":361.71649765732673},{"$f":"'UEC-SF'!AN12","v":361.62973113978745},{"$f":"'UEC-SF'!AO12","v":361.54296462224698},{"$f":"'UEC-SF'!AP12","v":312.59704122292965},{"$f":"'UEC-SF'!AQ12","v":312.56146695073801},{"$f":"'UEC-SF'!AR12","v":312.52589267854648},{"$f":"'UEC-SF'!AS12","v":312.49031840635479},{"$f":"'UEC-SF'!AT12","v":312.45474413416321},{"$f":"'UEC-SF'!AU12","v":312.41916986197157},{"$f":"'UEC-SF'!AV12","v":312.38359558977999},{"$f":"'UEC-SF'!AW12","v":312.34802131758835},{"$f":"'UEC-SF'!AX12","v":312.31244704539677},{"$f":"'UEC-SF'!AY12","v":312.27687277320518},{"$f":"'UEC-SF'!AZ12","v":312.24129850101349},{"$f":"'UEC-SF'!BA12","v":312.20572422882196},{"$f":"'UEC-SF'!BB12","v":312.17014995663027},{"$f":"'UEC-SF'!BC12","v":312.13457568443874},{"$f":"'UEC-SF'!BD12","v":312.09900141224705},{"$f":"'UEC-SF'!BE12","v":312.06342714005547}]
[null,null,{"$f":"'UEC-SF'!$C$14&\" - \"&'UEC-SF'!C16","v":"Installed UEC (Vintage Weighted Average)  - PRE-Case UEC"},{"$f":"'UEC-SF'!AG16","v":363.02154461088458},{"$f":"'UEC-SF'!AH16","v":362.89707911193744},{"$f":"'UEC-SF'!AI16","v":362.77543754668886},{"$f":"'UEC-SF'!AJ16","v":362.66866667120178},{"$f":"'UEC-SF'!AK16","v":362.56116505726828},{"$f":"'UEC-SF'!AL16","v":362.46583404409671},{"$f":"'UEC-SF'!AM16","v":362.37693326580688},{"$f":"'UEC-SF'!AN16","v":362.29503938724872},{"$f":"'UEC-SF'!AO16","v":362.21792232215773},{"$f":"'UEC-SF'!AP16","v":362.1289240485188},{"$f":"'UEC-SF'!AQ16","v":362.04836929713025},{"$f":"'UEC-SF'!AR16","v":361.96658041304016},{"$f":"'UEC-SF'!AS16","v":361.90099100986475},{"$f":"'UEC-SF'!AT16","v":361.83289551723385},{"$f":"'UEC-SF'!AU16","v":361.75320620680833},{"$f":"'UEC-SF'!AV16","v":361.66516372944324},{"$f":"'UEC-SF'!AW16","v":361.583335852071},{"$f":"'UEC-SF'!AX16","v":361.50742664056145},{"$f":"'UEC-SF'!AY16","v":361.43286286658451},{"$f":"'UEC-SF'!AZ16","v":361.35647335346636},{"$f":"'UEC-SF'!BA16","v":361.27220995988051},{"$f":"'UEC-SF'!BB16","v":361.18092404678356},{"$f":"'UEC-SF'!BC16","v":361.08905953131205},{"$f":"'UEC-SF'!BD16","v":361.00100743187386},{"$f":"'UEC-SF'!BE16","v":360.91319961322597}]
[null,null,{"$f":"'UEC-SF'!$C$14&\" - \"&'UEC-SF'!C17","v":"Installed UEC (Vintage Weighted Average)  - POST-Case UEC"},{"$f":"'UEC-SF'!AG17","v":363.02154461088458},{"$f":"'UEC-SF'!AH17","v":362.89707911193744},{"$f":"'UEC-SF'!AI17","v":362.77543754668886},{"$f":"'UEC-SF'!AJ17","v":362.66866667120178},{"$f":"'UEC-SF'!AK17","v":362.56116505726828},{"$f":"'UEC-SF'!AL17","v":362.46583404409671},{"$f":"'UEC-SF'!AM17","v":362.37693326580688},{"$f":"'UEC-SF'!AN17","v":362.29503938724872},{"$f":"'UEC-SF'!AO17","v":362.21792232215773},{"$f":"'UEC-SF'!AP17","v":359.08687179269526},{"$f":"'UEC-SF'!AQ17","v":356.17862083724827},{"$f":"'UEC-SF'!AR17","v":353.14915872112539},{"$f":"'UEC-SF'!AS17","v":350.18864242399172},{"$f":"'UEC-SF'!AT17","v":347.29763696529795},{"$f":"'UEC-SF'!AU17","v":344.37254327342561},{"$f":"'UEC-SF'!AV17","v":341.60846654674435},{"$f":"'UEC-SF'!AW17","v":339.06844803630673},{"$f":"'UEC-SF'!AX17","v":336.74163516467189},{"$f":"'UEC-SF'!AY17","v":334.48657572895411},{"$f":"'UEC-SF'!AZ17","v":332.20492025572167},{"$f":"'UEC-SF'!BA17","v":329.71261048837897},{"$f":"'UEC-SF'!BB17","v":327.03607815336051},{"$f":"'UEC-SF'!BC17","v":324.37027480825458},{"$f":"'UEC-SF'!BD17","v":321.84755263564591},{"$f":"'UEC-SF'!BE17","v":319.35971671756744}]
[]
[null,null,"Stock and Shipments (units)",2010,2011,2012,2013,2014,2015,2016,2017,2018,2019,2020,2021,2022,2023,2024,2025,2026,2027,2028,2029,2030,2031,2032,2033,2034]
[null,null,"6P Shipments",{"$f":"'Shipments and Stock - SF'!AH11","v":205558.35415872282},{"$f":"'Shipments and Stock - SF'!AI11","v":219017.92851581212},{"$f":"'Shipments and Stock - SF'!AJ11","v":226757.94123086293},{"$f":"'Shipments and Stock - SF'!AK11","v":228191.18318438},{"$f":"'Shipments and Stock - SF'!AL11","v":227781.48093049668},{"$f":"'Shipments and Stock - SF'!AM11","v":227960.70921498735},{"$f":"'Shipments and Stock - SF'!AN11","v":228146.92865545137},{"$f":"'Shipments and Stock - SF'!AO11","v":227130.14357792155},{"$f":"'Shipments and Stock - SF'!AP11","v":225994.32269736912},{"$f":"'Shipments and Stock - SF'!AQ11","v":224770.2052017689},{"$f":"'Shipments and Stock - SF'!AR11","v":223845.74652877738},{"$f":"'Shipments and Stock - SF'!AS11","v":222440.67584313729},{"$f":"'Shipments and Stock - SF'!AT11","v":224081.21249699945},{"$f":"'Shipments and Stock - SF'!AU11","v":223377.36612049473},{"$f":"'Shipments and Stock - SF'!AV11","v":222570.81588102595},{"$f":"'Shipments and Stock - SF'!AW11","v":222391.86499675148},{"$f":"'Shipments and Stock - SF'!AX11","v":221916.40008197122},{"$f":"'Shipments and Stock - SF'!AY11","v":220900.0248166768},{"$f":"'Shipments and Stock - SF'!AZ11","v":219577.35600768364},{"$f":"'Shipments and Stock - SF'!BA11","v":218675.52918926626},{"$f":"'Shipments and Stock - SF'!BB11","v":48374.491154703632},{"$f":"'Shipments and Stock - SF'!BC11","v":48374.491154703632},{"$f":"'Shipments and Stock - SF'!BD11","v":48374.491154703632},{"$f":"'Shipments and Stock - SF'!BE11","v":48374.491154703632},{"$f":"'Shipments and Stock - SF'!BF11","v":48374.491154703632}]
[null,null,"Replacement Shipments",{"$f":"'Shipments and Stock - SF'!AH12","v":182985.91606633124},{"$f":"'Shipments and Stock - SF'!AI12","v":193902.16972050251},{"$f":"'Shipments and Stock - SF'!AJ12","v":176141.55762338909},{"$f":"'Shipments and Stock - SF'!AK12","v":178898.11801938887},{"$f":"'Shipments and Stock - SF'!AL12","v":170883.21852097372},{"$f":"'Shipments and Stock - SF'!AM12","v":172416.59491185742},{"$f":"'Shipments and Stock - SF'!AN12","v":171091.09216325957},{"$f":"'Shipments and Stock - SF'!AO12","v":172306.17238173672},{"$f":"'Shipments and Stock - SF'!AP12","v":170105.08806127906},{"$f":"'Shipments and Stock - SF'!AQ12","v":197436.02254571521},{"$f":"'Shipments and Stock - SF'!AR12","v":187429.98423026816},{"$f":"'Shipments and Stock - SF'!AS12","v":205639.04925371372},{"$f":"'Shipments and Stock - SF'!AT12","v":208602.37413104661},{"$f":"'Shipments and Stock - SF'!AU12","v":209335.90493533658},{"$f":"'Shipments and Stock - SF'!AV12","v":218233.01963763582},{"$f":"'Shipments and Stock - SF'!AW12","v":209337.83871461533},{"$f":"'Shipments and Stock - SF'!AX12","v":195563.89310754222},{"$f":"'Shipments and Stock - SF'!AY12","v":182240.85364044309},{"$f":"'Shipments and Stock - SF'!AZ12","v":181102.23453099598},{"$f":"'Shipments and Stock - SF'!BA12","v":188451.53822115567},{"$f":"'Shipments and Stock - SF'!BB12","v":212638.37349088344},{"$f":"'Shipments and Stock - SF'!BC12","v":234765.61977812363},{"$f":"'Shipments and Stock - SF'!BD12","v":239005.31497556844},{"$f":"'Shipments and Stock - SF'!BE12","v":230566.45100313416},{"$f":"'Shipments and Stock - SF'!BF12","v":232285.29482711889}]
[null,null,"Net New Shipments",{"$f":"'Shipments and Stock - SF'!AH13","v":5465.6221548244357},{"$f":"'Shipments and Stock - SF'!AI13","v":18736.203770380933},{"$f":"'Shipments and Stock - SF'!AJ13","v":58624.062154734507},{"$f":"'Shipments and Stock - SF'!AK13","v":60107.19695617957},{"$f":"'Shipments and Stock - SF'!AL13","v":59683.232482160442},{"$f":"'Shipments and Stock - SF'!AM13","v":59868.699915261474},{"$f":"'Shipments and Stock - SF'!AN13","v":60061.40187474573},{"$f":"'Shipments and Stock - SF'!AO13","v":59009.221305809922},{"$f":"'Shipments and Stock - SF'!AP13","v":57833.861156728584},{"$f":"'Shipments and Stock - SF'!AQ13","v":56567.130682975054},{"$f":"'Shipments and Stock - SF'!AR13","v":55610.490509941708},{"$f":"'Shipments and Stock - SF'!AS13","v":54156.507651534397},{"$f":"'Shipments and Stock - SF'!AT13","v":53194.431740070228},{"$f":"'Shipments and Stock - SF'!AU13","v":52500.766881478019},{"$f":"'Shipments and Stock - SF'!AV13","v":51705.883826759644},{"$f":"'Shipments and Stock - SF'!AW13","v":51529.521563660353},{"$f":"'Shipments and Stock - SF'!AX13","v":51060.934505621903},{"$f":"'Shipments and Stock - SF'!AY13","v":50059.261657383293},{"$f":"'Shipments and Stock - SF'!AZ13","v":48755.72596695181},{"$f":"'Shipments and Stock - SF'!BA13","v":47866.944560448639},{"$f":"'Shipments and Stock - SF'!BB13","v":47674.728017953224},{"$f":"'Shipments and Stock - SF'!BC13","v":48151.475298133679},{"$f":"'Shipments and Stock - SF'!BD13","v":48632.990051114},{"$f":"'Shipments and Stock - SF'!BE13","v":49119.31995162461},{"$f":"'Shipments and Stock - SF'!BF13","v":49610.513151141815}]
[null,null,"Total Model Shipments",{"$f":"'Shipments and Stock - SF'!AH14","v":188451.53822115567},{"$f":"'Shipments and Stock - SF'!AI14","v":212638.37349088344},{"$f":"'Shipments and Stock - SF'!AJ14","v":234765.6197781236},{"$f":"'Shipments and Stock - SF'!AK14","v":239005.31497556844},{"$f":"'Shipments and Stock - SF'!AL14","v":230566.45100313416},{"$f":"'Shipments and Stock - SF'!AM14","v":232285.29482711889},{"$f":"'Shipments and Stock - SF'!AN14","v":231152.4940380053},{"$f":"'Shipments and Stock - SF'!AO14","v":231315.39368754663},{"$f":"'Shipments and Stock - SF'!AP14","v":227938.94921800765},{"$f":"'Shipments and Stock - SF'!AQ14","v":254003.15322869027},{"$f":"'Shipments and Stock - SF'!AR14","v":243040.47474020987},{"$f":"'Shipments and Stock - SF'!AS14","v":259795.55690524812},{"$f":"'Shipments and Stock - SF'!AT14","v":261796.80587111684},{"$f":"'Shipments and Stock - SF'!AU14","v":261836.6718168146},{"$f":"'Shipments and Stock - SF'!AV14","v":269938.90346439544},{"$f":"'Shipments and Stock - SF'!AW14","v":260867.36027827568},{"$f":"'Shipments and Stock - SF'!AX14","v":246624.82761316412},{"$f":"'Shipments and Stock - SF'!AY14","v":232300.11529782639},{"$f":"'Shipments and Stock - SF'!AZ14","v":229857.96049794779},{"$f":"'Shipments and Stock - SF'!BA14","v":236318.48278160431},{"$f":"'Shipments and Stock - SF'!BB14","v":260313.10150883667},{"$f":"'Shipments and Stock - SF'!BC14","v":282917.0950762573},{"$f":"'Shipments and Stock - SF'!BD14","v":287638.30502668244},{"$f":"'Shipments and Stock - SF'!BE14","v":279685.77095475874},{"$f":"'Shipments and Stock - SF'!BF14","v":281895.80797826068}]
[null,null,"Model Installed Stock",{"$f":"'Shipments and Stock - SF'!AH15","v":3589116.7243508557},{"$f":"'Shipments and Stock - SF'!AI15","v":3607852.9281212366},{"$f":"'Shipments and Stock - SF'!AJ15","v":3666476.9902759711},{"$f":"'Shipments and Stock - SF'!AK15","v":3726584.1872321507},{"$f":"'Shipments and Stock - SF'!AL15","v":3786267.4197143111},{"$f":"'Shipments and Stock - SF'!AM15","v":3846136.1196295726},{"$f":"'Shipments and Stock - SF'!AN15","v":3906197.5215043183},{"$f":"'Shipments and Stock - SF'!AO15","v":3965206.7428101283},{"$f":"'Shipments and Stock - SF'!AP15","v":4023040.6039668568},{"$f":"'Shipments and Stock - SF'!AQ15","v":4079607.7346498319},{"$f":"'Shipments and Stock - SF'!AR15","v":4135218.2251597736},{"$f":"'Shipments and Stock - SF'!AS15","v":4189374.732811308},{"$f":"'Shipments and Stock - SF'!AT15","v":4242569.1645513782},{"$f":"'Shipments and Stock - SF'!AU15","v":4295069.9314328562},{"$f":"'Shipments and Stock - SF'!AV15","v":4346775.8152596159},{"$f":"'Shipments and Stock - SF'!AW15","v":4398305.3368232762},{"$f":"'Shipments and Stock - SF'!AX15","v":4449366.2713288981},{"$f":"'Shipments and Stock - SF'!AY15","v":4499425.5329862814},{"$f":"'Shipments and Stock - SF'!AZ15","v":4548181.2589532332},{"$f":"'Shipments and Stock - SF'!BA15","v":4596048.2035136819},{"$f":"'Shipments and Stock - SF'!BB15","v":4643722.9315316351},{"$f":"'Shipments and Stock - SF'!BC15","v":4691874.4068297688},{"$f":"'Shipments and Stock - SF'!BD15","v":4740507.3968808828},{"$f":"'Shipments and Stock - SF'!BE15","v":4789626.7168325074},{"$f":"'Shipments and Stock - SF'!BF15","v":4839237.2299836492}]
[]
[]
[]
[null,null,"First Year Energy Consumption ",2010,2011,2012,2013,2014,2015,2016,2017,2018,2019,2020,2021,2022,2023,2024,2025,2026,2027,2028,2029,2030,2031,2032,2033,2034]
[null,null,"6P Shipments * 6P UEC",{"$f":"D12*D19","v":75131578.44501318},{"$f":"E12*E19","v":80051052.872529313},82880027.519880384,83403877.453890875,83254131.280096516,83319639.218077868,83387702.423567459,83016067.477730319,82600924.9458884,82153510.001246527,81815620.356268123,81302067.020666659,81901683.167653292,81644427.317040816,81349633.204514965,81284226.656312659,81110444.229960471,80738959.070495352,80255523.620808363,79925905.918676808,17680876.517044175,17680876.517044175,17680876.517044175,17680876.517044175,17680876.517044175]
[null,null,"Model Shipments * Model Pre-Case UEC",{"$f":"D13*D22","v":68264138.08567214},{"$f":"E13*E22","v":77007057.182489589},85000076.937560365,86514378.431011453,83439700.030164048,84041577.888273329,83611670.568183377,83650523.627721578,82409723.453158289,91811014.072649568,87827398.209544614,93859631.171975568,94559932.534683779,94551613.294583768,97453981.473782197,94156316.941448241,88994281.105265751,83805069.518608063,82904088.732837632,85213735.01029706,93843332.914059594,101967564.79198238,103644202.30172701,100754412.38837154,101526100.24996333]
[null,null,"Model Shipments * Model Post-Case UEC",{"$f":"D14*D22","v":68264138.08567214},{"$f":"E14*E22","v":77007057.182489589},85000076.937560365,86514378.431011453,83439700.030164048,84041577.888273329,83611670.568183377,83650523.627721578,82409723.453158289,79400634.160583004,75965087.313203782,81192838.335732788,81808967.224431962,81812110.29746367,84334088.133797303,81490683.97574231,77032776.912763134,72550217.457591966,71779325.086326063,73788389.923517525,81271240.382817194,88318271.995249465,89781860.290094689,87289649.824194655,87969371.934111014]
[]
[null,null,"Total Energy Consumption (kWh)",2010,2011,2012,2013,2014,2015,2016,2017,2018,2019,2020,2021,2022,2023,2024,2025,2026,2027,2028,2029,2030,2031,2032,2033,2034]
[null,null,"Modeled Pre-case Consumption \n(Installed UEC * Stock)",{"$f":"D15*D$23","v":1302926697.0626061},{"$f":"E15*E$23","v":1309279289.4806476},1330107794.4022324,1351515318.4214683,1372753526.9099977,1394092936.4486587,1415515878.5732305,1436574733.0649796,1457217408.9865534,1477343959.4887588,1497149015.1068692,1516413646.1045029,1535389985.0790377,1554097589.7393575,1572460087.8323791,1590713819.7742741,1608816698.8147938,1626575745.7907073,1643862173.2596138,1660811770.1842387,1677648045.9158087,1694615533.7702303,1711745357.6409461,1729060069.9991536,1746544592.3608434]
[null,null,"Modeled Post-case Consumption \n(Installed UEC* Stock)",{"$f":"D16*D$23","v":1302926697.0626061},{"$f":"E16*E$23","v":1309279289.4806476},1330107794.4022324,1351515318.4214683,1372753526.9099977,1394092936.4486587,1415515878.5732305,1436574733.0649796,1457217408.9865534,1464933579.5766921,1472876324.2984617,1479474162.4598529,1485699536.124136,1491667637.7873354,1496910242.5403719,1502498341.5165613,1508639716.3645782,1515143911.2794757,1521305575.1018705,1526829826.9397156,1531094010.1400433,1534412205.1977322,1537679687.0568154,1541529636.8508463,1545457430.8966839]
[]
[]
[]
[null,null,"Total Energy Consumption (aMW)",2010,2011,2012,2013,2014,2015,2016,2017,2018,2019,2020,2021,2022,2023,2024,2025,2026,2027,2028,2029,2030,2031,2032,2033,2034]
[null,null,{"$f":"C33","v":"Modeled Pre-case Consumption \n(Installed UEC * Stock)"},{"$f":"D33/Constants!$D$13/(Constants!$D$12*Constants!$D$10)","v":148.6341201303452},{"$f":"E33/Constants!$D$13/(Constants!$D$12*Constants!$D$10)","v":149.35880555334788},{"$f":"F33/Constants!$D$13/(Constants!$D$12*Constants!$D$10)","v":151.73486132811229},{"$f":"G33/Constants!$D$13/(Constants!$D$12*Constants!$D$10)","v":154.17696993172123},{"$f":"H33/Constants!$D$13/(Constants!$D$12*Constants!$D$10)","v":156.59976350787105},{"$f":"I33/Constants!$D$13/(Constants!$D$12*Constants!$D$10)","v":159.03410180796928},{"$f":"J33/Constants!$D$13/(Constants!$D$12*Constants!$D$10)","v":161.47796926457113},{"$f":"K33/Constants!$D$13/(Constants!$D$12*Constants!$D$10)","v":163.88030265400178},{"$f":"L33/Constants!$D$13/(Constants!$D$12*Constants!$D$10)","v":166.23515959235152},{"$f":"M33/Constants!$D$13/(Constants!$D$12*Constants!$D$10)","v":168.53113843129807},{"$f":"N33/Constants!$D$13/(Constants!$D$12*Constants!$D$10)","v":170.79044206101634},{"$f":"O33/Constants!$D$13/(Constants!$D$12*Constants!$D$10)","v":172.98809560854471},{"$f":"P33/Constants!$D$13/(Constants!$D$12*Constants!$D$10)","v":175.15286163347452},{"$f":"Q33/Constants!$D$13/(Constants!$D$12*Constants!$D$10)","v":177.28697122283339},{"$f":"R33/Constants!$D$13/(Constants!$D$12*Constants!$D$10)","v":179.38171205023718},{"$f":"S33/Constants!$D$13/(Constants!$D$12*Constants!$D$10)","v":181.46404514878782},{"$f":"T33/Constants!$D$13/(Constants!$D$12*Constants!$D$10)","v":183.52916938338964},{"$f":"U33/Constants!$D$13/(Constants!$D$12*Constants!$D$10)","v":185.55507024762804},{"$f":"V33/Constants!$D$13/(Constants!$D$12*Constants!$D$10)","v":187.52705604148002},{"$f":"W33/Constants!$D$13/(Constants!$D$12*Constants!$D$10)","v":189.46061717821567},{"$f":"X33/Constants!$D$13/(Constants!$D$12*Constants!$D$10)","v":191.3812509600512},{"$f":"Y33/Constants!$D$13/(Constants!$D$12*Constants!$D$10)","v":193.31685304246298},{"$f":"Z33/Constants!$D$13/(Constants!$D$12*Constants!$D$10)","v":195.27097394945767},{"$f":"AA33/Constants!$D$13/(Constants!$D$12*Constants!$D$10)","v":197.24618640191122},{"$f":"AB33/Constants!$D$13/(Constants!$D$12*Constants!$D$10)","v":199.24077028985209}]
[null,null,{"$f":"C34","v":"Modeled Post-case Consumption \n(Installed UEC* Stock)"},{"$f":"D34/Constants!$D$13/(Constants!$D$12*Constants!$D$10)","v":148.6341201303452},{"$f":"E34/Constants!$D$13/(Constants!$D$12*Constants!$D$10)","v":149.35880555334788},{"$f":"F34/Constants!$D$13/(Constants!$D$12*Constants!$D$10)","v":151.73486132811229},{"$f":"G34/Constants!$D$13/(Constants!$D$12*Constants!$D$10)","v":154.17696993172123},{"$f":"H34/Constants!$D$13/(Constants!$D$12*Constants!$D$10)","v":156.59976350787105},{"$f":"I34/Constants!$D$13/(Constants!$D$12*Constants!$D$10)","v":159.03410180796928},{"$f":"J34/Constants!$D$13/(Constants!$D$12*Constants!$D$10)","v":161.47796926457113},{"$f":"K34/Constants!$D$13/(Constants!$D$12*Constants!$D$10)","v":163.88030265400178},{"$f":"L34/Constants!$D$13/(Constants!$D$12*Constants!$D$10)","v":166.23515959235152},{"$f":"M34/Constants!$D$13/(Constants!$D$12*Constants!$D$10)","v":167.11539808084555},{"$f":"N34/Constants!$D$13/(Constants!$D$12*Constants!$D$10)","v":168.0214834928658},{"$f":"O34/Constants!$D$13/(Constants!$D$12*Constants!$D$10)","v":168.77414584301312},{"$f":"P34/Constants!$D$13/(Constants!$D$12*Constants!$D$10)","v":169.48431851746932},{"$f":"Q34/Constants!$D$13/(Constants!$D$12*Constants!$D$10)","v":170.16514234398076},{"$f":"R34/Constants!$D$13/(Constants!$D$12*Constants!$D$10)","v":170.76320357521925},{"$f":"S34/Constants!$D$13/(Constants!$D$12*Constants!$D$10)","v":171.40067779107477},{"$f":"T34/Constants!$D$13/(Constants!$D$12*Constants!$D$10)","v":172.10126812281294},{"$f":"U34/Constants!$D$13/(Constants!$D$12*Constants!$D$10)","v":172.84324792145514},{"$f":"V34/Constants!$D$13/(Constants!$D$12*Constants!$D$10)","v":173.54615276087961},{"$f":"W34/Constants!$D$13/(Constants!$D$12*Constants!$D$10)","v":174.1763434793196},{"$f":"X34/Constants!$D$13/(Constants!$D$12*Constants!$D$10)","v":174.66278920146513},{"$f":"Y34/Constants!$D$13/(Constants!$D$12*Constants!$D$10)","v":175.04131932440478},{"$f":"Z34/Constants!$D$13/(Constants!$D$12*Constants!$D$10)","v":175.41406423189773},{"$f":"AA34/Constants!$D$13/(Constants!$D$12*Constants!$D$10)","v":175.85325540164797},{"$f":"AB34/Constants!$D$13/(Constants!$D$12*Constants!$D$10)","v":176.30132681915171}]
[]
[null,null,"Savings (aMW)",2010,2011,2012,2013,2014,2015,2016,2017,2018,2019,2020,2021,2022,2023,2024,2025,2026,2027,2028,2029,2030,2031,2032,2033,2034]
[null,null,"Incremental Savings",{"$f":"IF(AND(D42>=STANDARD_YEAR,(D42-STANDARD_YEAR)<LIFETIME_SF),\n(D13-D14)*D22,\n(D13-D14)*D21)\n/Constants!$D$13/(Constants!$D$12*Constants!$D$10)","v":0},{"$f":"IF(AND(E42>=STANDARD_YEAR,(E42-STANDARD_YEAR)<LIFETIME_SF),\n(E13-E14)*E22,\n(E13-E14)*E21)\n/Constants!$D$13/(Constants!$D$12*Constants!$D$10)","v":0},{"$f":"IF(AND(F42>=STANDARD_YEAR,(F42-STANDARD_YEAR)<LIFETIME_SF),\n(F13-F14)*F22,\n(F13-F14)*F21)\n/Constants!$D$13/(Constants!$D$12*Constants!$D$10)","v":0},{"$f":"IF(AND(G42>=STANDARD_YEAR,(G42-STANDARD_YEAR)<LIFETIME_SF),\n(G13-G14)*G22,\n(G13-G14)*G21)\n/Constants!$D$13/(Constants!$D$12*Constants!$D$10)","v":0},{"$f":"IF(AND(H42>=STANDARD_YEAR,(H42-STANDARD_YEAR)<LIFETIME_SF),\n(H13-H14)*H22,\n(H13-H14)*H21)\n/Constants!$D$13/(Constants!$D$12*Constants!$D$10)","v":0},{"$f":"IF(AND(I42>=STANDARD_YEAR,(I42-STANDARD_YEAR)<LIFETIME_SF),\n(I13-I14)*I22,\n(I13-I14)*I21)\n/Constants!$D$13/(Constants!$D$12*Constants!$D$10)","v":0},{"$f":"IF(AND(J42>=STANDARD_YEAR,(J42-STANDARD_YEAR)<LIFETIME_SF),\n(J13-J14)*J22,\n(J13-J14)*J21)\n/Constants!$D$13/(Constants!$D$12*Constants!$D$10)","v":0},{"$f":"IF(AND(K42>=STANDARD_YEAR,(K42-STANDARD_YEAR)<LIFETIME_SF),\n(K13-K14)*K22,\n(K13-K14)*K21)\n/Constants!$D$13/(Constants!$D$12*Constants!$D$10)","v":0},{"$f":"IF(AND(L42>=STANDARD_YEAR,(L42-STANDARD_YEAR)<LIFETIME_SF),\n(L13-L14)*L22,\n(L13-L14)*L21)\n/Constants!$D$13/(Constants!$D$12*Constants!$D$10)","v":0},{"$f":"IF(AND(M42>=STANDARD_YEAR,(M42-STANDARD_YEAR)<LIFETIME_SF),\n(M13-M14)*M22,\n(M13-M14)*M21)\n/Constants!$D$13/(Constants!$D$12*Constants!$D$10)","v":1.4157403504524937},{"$f":"IF(AND(N42>=STANDARD_YEAR,(N42-STANDARD_YEAR)<LIFETIME_SF),\n(N13-N14)*N22,\n(N13-N14)*N21)\n/Constants!$D$13/(Constants!$D$12*Constants!$D$10)","v":1.3532182176980188},{"$f":"IF(AND(O42>=STANDARD_YEAR,(O42-STANDARD_YEAR)<LIFETIME_SF),\n(O13-O14)*O22,\n(O13-O14)*O21)\n/Constants!$D$13/(Constants!$D$12*Constants!$D$10)","v":1.4449911973811058},{"$f":"IF(AND(P42>=STANDARD_YEAR,(P42-STANDARD_YEAR)<LIFETIME_SF),\n(P13-P14)*P22,\n(P13-P14)*P21)\n/Constants!$D$13/(Constants!$D$12*Constants!$D$10)","v":1.4545933504736281},{"$f":"IF(AND(Q42>=STANDARD_YEAR,(Q42-STANDARD_YEAR)<LIFETIME_SF),\n(Q13-Q14)*Q22,\n(Q13-Q14)*Q21)\n/Constants!$D$13/(Constants!$D$12*Constants!$D$10)","v":1.4532857628473757},{"$f":"IF(AND(R42>=STANDARD_YEAR,(R42-STANDARD_YEAR)<LIFETIME_SF),\n(R13-R14)*R22,\n(R13-R14)*R21)\n/Constants!$D$13/(Constants!$D$12*Constants!$D$10)","v":1.4966795961652857},{"$f":"IF(AND(S42>=STANDARD_YEAR,(S42-STANDARD_YEAR)<LIFETIME_SF),\n(S13-S14)*S22,\n(S13-S14)*S21)\n/Constants!$D$13/(Constants!$D$12*Constants!$D$10)","v":1.4448588826951796},{"$f":"IF(AND(T42>=STANDARD_YEAR,(T42-STANDARD_YEAR)<LIFETIME_SF),\n(T13-T14)*T22,\n(T13-T14)*T21)\n/Constants!$D$13/(Constants!$D$12*Constants!$D$10)","v":1.3645339028636345},{"$f":"IF(AND(U42>=STANDARD_YEAR,(U42-STANDARD_YEAR)<LIFETIME_SF),\n(U13-U14)*U22,\n(U13-U14)*U21)\n/Constants!$D$13/(Constants!$D$12*Constants!$D$10)","v":1.2839210655961777},{"$f":"IF(AND(V42>=STANDARD_YEAR,(V42-STANDARD_YEAR)<LIFETIME_SF),\n(V13-V14)*V22,\n(V13-V14)*V21)\n/Constants!$D$13/(Constants!$D$12*Constants!$D$10)","v":1.2690809544275123},{"$f":"IF(AND(W42>=STANDARD_YEAR,(W42-STANDARD_YEAR)<LIFETIME_SF),\n(W13-W14)*W22,\n(W13-W14)*W21)\n/Constants!$D$13/(Constants!$D$12*Constants!$D$10)","v":1.3033704182956338},{"$f":"IF(AND(X42>=STANDARD_YEAR,(X42-STANDARD_YEAR)<LIFETIME_SF),\n(X13-X14)*X22,\n(X13-X14)*X21)\n/Constants!$D$13/(Constants!$D$12*Constants!$D$10)","v":1.4341880596899841},{"$f":"IF(AND(Y42>=STANDARD_YEAR,(Y42-STANDARD_YEAR)<LIFETIME_SF),\n(Y13-Y14)*Y22,\n(Y13-Y14)*Y21)\n/Constants!$D$13/(Constants!$D$12*Constants!$D$10)","v":1.5570719594721558},{"$f":"IF(AND(Z42>=STANDARD_YEAR,(Z42-STANDARD_YEAR)<LIFETIME_SF),\n(Z13-Z14)*Z22,\n(Z13-Z14)*Z21)\n/Constants!$D$13/(Constants!$D$12*Constants!$D$10)","v":1.5813759995017478},{"$f":"IF(AND(AA42>=STANDARD_YEAR,(AA42-STANDARD_YEAR)<LIFETIME_SF),\n(AA13-AA14)*AA22,\n(AA13-AA14)*AA21)\n/Constants!$D$13/(Constants!$D$12*Constants!$D$10)","v":1.5360212827032724},{"$f":"IF(AND(AB42>=STANDARD_YEAR,(AB42-STANDARD_YEAR)<LIFETIME_SF),\n(AB13-AB14)*AB22,\n(AB13-AB14)*AB21)\n/Constants!$D$13/(Constants!$D$12*Constants!$D$10)","v":1.5465124704371782}]
[null,null,"Cumulative Savings",{"$f":"D39-D40","v":0},0,0,0,0,0,0,0,0,{"$f":"M39-M40","v":1.4157403504525234},2.7689585681505378,4.2139497655315949,5.6685431160051962,7.1218288788526252,8.6185084750179328,10.063367357713048,11.427901260576704,12.711822326172893,13.980903280600415,15.284273698896072,16.718461758586074,18.275533718058199,19.856909717559944,21.392931000263246,22.939443470700382]
[null,null,"DOE Aggregate Lifecycle Savings (formerly DOE Carbon proxy)",{"$f":"SUM($D$44:D44)","v":0},{"$f":"SUM($D$44:E44)","v":0},{"$f":"SUM($D$44:F44)","v":0},{"$f":"SUM($D$44:G44)","v":0},{"$f":"SUM($D$44:H44)","v":0},{"$f":"SUM($D$44:I44)","v":0},{"$f":"SUM($D$44:J44)","v":0},{"$f":"SUM($D$44:K44)","v":0},{"$f":"SUM($D$44:L44)","v":0},{"$f":"SUM($D$44:M44)","v":1.4157403504525234},{"$f":"SUM($D$44:N44)","v":4.1846989186030612},{"$f":"SUM($D$44:O44)","v":8.3986486841346562},{"$f":"SUM($D$44:P44)","v":14.067191800139852},{"$f":"SUM($D$44:Q44)","v":21.189020678992478},{"$f":"SUM($D$44:R44)","v":29.80752915401041},{"$f":"SUM($D$44:S44)","v":39.870896511723458},{"$f":"SUM($D$44:T44)","v":51.298797772300162},{"$f":"SUM($D$44:U44)","v":64.010620098473055},{"$f":"SUM($D$44:V44)","v":77.99152337907347},{"$f":"SUM($D$44:W44)","v":93.275797077969543},{"$f":"SUM($D$44:X44)","v":109.99425883655562},{"$f":"SUM($D$44:Y44)","v":128.26979255461382},{"$f":"SUM($D$44:Z44)","v":148.12670227217376},{"$f":"SUM($D$44:AA44)","v":169.51963327243701},{"$f":"SUM($D$44:AB44)","v":192.45907674313739}]
[null,null,"Check",{"$f":"IF(ISNUMBER(C44),ROUND((D44-C44-D43),3),0)","v":0},{"$f":"IF(ISNUMBER(D44),ROUND((E44-D44-E43),3),0)","v":0},0,0,0,0,0,0,0,0,0,0,0,0,0,0,0,0,0,0,0,0,0,0,0]

{"sheet":"Results-MF","index":22,"n_rows":46,"n_cols":28,"rows_kept":46,"cut":false,"hidden":false,"merged":[]}
[]
[null,null,"RESULTS - Multi-Family"]
[]
[null,null,"NAVIGATION"]
[]
[null,null,"COMMENTS"]
[]
[]
[null,null,"MULTI-FAMILY"]
[]
[null,null,"Unit Energy Consumption (kWh/year) ",2010,2011,2012,2013,2014,2015,2016,2017,2018,2019,2020,2021,2022,2023,2024,2025,2026,2027,2028,2029,2030,2031,2032,2033,2034]
[null,null,"6P UEC",{"$f":"'6P UEC Development'!$J$44","v":365.49999999999994},{"$f":"'6P UEC Development'!$J$44","v":365.49999999999994},{"$f":"'6P UEC Development'!$J$44","v":365.49999999999994},{"$f":"'6P UEC Development'!$J$44","v":365.49999999999994},{"$f":"'6P UEC Development'!$J$44","v":365.49999999999994},{"$f":"'6P UEC Development'!$J$44","v":365.49999999999994},{"$f":"'6P UEC Development'!$J$44","v":365.49999999999994},{"$f":"'6P UEC Development'!$J$44","v":365.49999999999994},{"$f":"'6P UEC Development'!$J$44","v":365.49999999999994},{"$f":"'6P UEC Development'!$J$44","v":365.49999999999994},{"$f":"'6P UEC Development'!$J$44","v":365.49999999999994},{"$f":"'6P UEC Development'!$J$44","v":365.49999999999994},{"$f":"'6P UEC Development'!$J$44","v":365.49999999999994},{"$f":"'6P UEC Development'!$J$44","v":365.49999999999994},{"$f":"'6P UEC Development'!$J$44","v":365.49999999999994},{"$f":"'6P UEC Development'!$J$44","v":365.49999999999994},{"$f":"'6P UEC Development'!$J$44","v":365.49999999999994},{"$f":"'6P UEC Development'!$J$44","v":365.49999999999994},{"$f":"'6P UEC Development'!$J$44","v":365.49999999999994},{"$f":"'6P UEC Development'!$J$44","v":365.49999999999994},{"$f":"'6P UEC Development'!$J$44","v":365.49999999999994},{"$f":"'6P UEC Development'!$J$44","v":365.49999999999994},{"$f":"'6P UEC Development'!$J$44","v":365.49999999999994},{"$f":"'6P UEC Development'!$J$44","v":365.49999999999994},{"$f":"'6P UEC Development'!$J$44","v":365.49999999999994}]
[null,null,{"$f":"'UEC-SF'!$C$9&\" - \"&'UEC-SF'!C11","v":"Market UEC (Shipment Weighted Average) - PRE-Case UEC"},{"$f":"'UEC-MF'!AG11","v":362.23709676257113},{"$f":"'UEC-MF'!AH11","v":362.15033024503055},{"$f":"'UEC-MF'!AI11","v":362.06356372749008},{"$f":"'UEC-MF'!AJ11","v":361.97679720994955},{"$f":"'UEC-MF'!AK11","v":361.89003069240903},{"$f":"'UEC-MF'!AL11","v":361.80326417486856},{"$f":"'UEC-MF'!AM11","v":361.71649765732673},{"$f":"'UEC-MF'!AN11","v":361.62973113978745},{"$f":"'UEC-MF'!AO11","v":361.54296462224698},{"$f":"'UEC-MF'!AP11","v":361.4561981047064},{"$f":"'UEC-MF'!AQ11","v":361.36943158716599},{"$f":"'UEC-MF'!AR11","v":361.28266506962541},{"$f":"'UEC-MF'!AS11","v":361.19589855208488},{"$f":"'UEC-MF'!AT11","v":361.10913203454436},{"$f":"'UEC-MF'!AU11","v":361.02236551700389},{"$f":"'UEC-MF'!AV11","v":360.93559899946337},{"$f":"'UEC-MF'!AW11","v":360.84883248192284},{"$f":"'UEC-MF'!AX11","v":360.76206596438232},{"$f":"'UEC-MF'!AY11","v":360.67529944684173},{"$f":"'UEC-MF'!AZ11","v":360.58853292930132},{"$f":"'UEC-MF'!BA11","v":360.50176641176074},{"$f":"'UEC-MF'!BB11","v":360.41499989422027},{"$f":"'UEC-MF'!BC11","v":360.32823337667969},{"$f":"'UEC-MF'!BD11","v":360.24146685913928},{"$f":"'UEC-MF'!BE11","v":360.1547003415987}]
[null,null,{"$f":"'UEC-SF'!$C$9&\" - \"&'UEC-SF'!C12","v":"Market UEC (Shipment Weighted Average) - POST-Case UEC"},{"$f":"'UEC-MF'!AG12","v":362.23709676257113},{"$f":"'UEC-MF'!AH12","v":362.15033024503055},{"$f":"'UEC-MF'!AI12","v":362.06356372749008},{"$f":"'UEC-MF'!AJ12","v":361.97679720994955},{"$f":"'UEC-MF'!AK12","v":361.89003069240903},{"$f":"'UEC-MF'!AL12","v":361.80326417486856},{"$f":"'UEC-MF'!AM12","v":361.71649765732673},{"$f":"'UEC-MF'!AN12","v":361.62973113978745},{"$f":"'UEC-MF'!AO12","v":361.54296462224698},{"$f":"'UEC-MF'!AP12","v":312.59704122292965},{"$f":"'UEC-MF'!AQ12","v":312.56146695073801},{"$f":"'UEC-MF'!AR12","v":312.52589267854648},{"$f":"'UEC-MF'!AS12","v":312.49031840635479},{"$f":"'UEC-MF'!AT12","v":312.45474413416321},{"$f":"'UEC-MF'!AU12","v":312.41916986197157},{"$f":"'UEC-MF'!AV12","v":312.38359558977999},{"$f":"'UEC-MF'!AW12","v":312.34802131758835},{"$f":"'UEC-MF'!AX12","v":312.31244704539677},{"$f":"'UEC-MF'!AY12","v":312.27687277320518},{"$f":"'UEC-MF'!AZ12","v":312.24129850101349},{"$f":"'UEC-MF'!BA12","v":312.20572422882196},{"$f":"'UEC-MF'!BB12","v":312.17014995663027},{"$f":"'UEC-MF'!BC12","v":312.13457568443874},{"$f":"'UEC-MF'!BD12","v":312.09900141224705},{"$f":"'UEC-MF'!BE12","v":312.06342714005547}]
[null,null,{"$f":"'UEC-SF'!$C$14&\" - \"&'UEC-SF'!C16","v":"Installed UEC (Vintage Weighted Average)  - PRE-Case UEC"},{"$f":"'UEC-MF'!AG16","v":362.96717628284352},{"$f":"'UEC-MF'!AH16","v":362.86321625364161},{"$f":"'UEC-MF'!AI16","v":362.76072123223167},{"$f":"'UEC-MF'!AJ16","v":362.66505158801789},{"$f":"'UEC-MF'!AK16","v":362.56081188209163},{"$f":"'UEC-MF'!AL16","v":362.46847802842643},{"$f":"'UEC-MF'!AM16","v":362.38114310950982},{"$f":"'UEC-MF'!AN16","v":362.2968546100023},{"$f":"'UEC-MF'!AO16","v":362.22212234053859},{"$f":"'UEC-MF'!AP16","v":362.13426924241935},{"$f":"'UEC-MF'!AQ16","v":362.0555520921838},{"$f":"'UEC-MF'!AR16","v":361.98196396466892},{"$f":"'UEC-MF'!AS16","v":361.91724039742064},{"$f":"'UEC-MF'!AT16","v":361.84065409263667},{"$f":"'UEC-MF'!AU16","v":361.75882811894741},{"$f":"'UEC-MF'!AV16","v":361.66089622108404},{"$f":"'UEC-MF'!AW16","v":361.55837675827667},{"$f":"'UEC-MF'!AX16","v":361.45662823708244},{"$f":"'UEC-MF'!AY16","v":361.373109080897},{"$f":"'UEC-MF'!AZ16","v":361.30632155586085},{"$f":"'UEC-MF'!BA16","v":361.23512523065818},{"$f":"'UEC-MF'!BB16","v":361.15747975915025},{"$f":"'UEC-MF'!BC16","v":361.07597211247395},{"$f":"'UEC-MF'!BD16","v":360.99254035195759},{"$f":"'UEC-MF'!BE16","v":360.90880785299419}]
[null,null,{"$f":"'UEC-SF'!$C$14&\" - \"&'UEC-SF'!C17","v":"Installed UEC (Vintage Weighted Average)  - POST-Case UEC"},{"$f":"'UEC-MF'!AG17","v":362.96717628284352},{"$f":"'UEC-MF'!AH17","v":362.86321625364161},{"$f":"'UEC-MF'!AI17","v":362.76072123223167},{"$f":"'UEC-MF'!AJ17","v":362.66505158801789},{"$f":"'UEC-MF'!AK17","v":362.56081188209163},{"$f":"'UEC-MF'!AL17","v":362.46847802842643},{"$f":"'UEC-MF'!AM17","v":362.38114310950982},{"$f":"'UEC-MF'!AN17","v":362.2968546100023},{"$f":"'UEC-MF'!AO17","v":362.22212234053859},{"$f":"'UEC-MF'!AP17","v":359.01382316012996},{"$f":"'UEC-MF'!AQ17","v":356.06187693783346},{"$f":"'UEC-MF'!AR17","v":353.23645987632904},{"$f":"'UEC-MF'!AS17","v":350.28925563109743},{"$f":"'UEC-MF'!AT17","v":347.03030778025988},{"$f":"'UEC-MF'!AU17","v":344.00790580659793},{"$f":"'UEC-MF'!AV17","v":340.91706643217429},{"$f":"'UEC-MF'!AW17","v":337.73629382344183},{"$f":"'UEC-MF'!AX17","v":334.62497893942555},{"$f":"'UEC-MF'!AY17","v":332.1107225219834},{"$f":"'UEC-MF'!AZ17","v":330.14484411863771},{"$f":"'UEC-MF'!BA17","v":328.0831038389411},{"$f":"'UEC-MF'!BB17","v":325.86432898175184},{"$f":"'UEC-MF'!BC17","v":323.56622336486373},{"$f":"'UEC-MF'!BD17","v":321.24668399473541},{"$f":"'UEC-MF'!BE17","v":318.95396345418339}]
[]
[null,null,"Stock and Shipments (units)",2010,2011,2012,2013,2014,2015,2016,2017,2018,2019,2020,2021,2022,2023,2024,2025,2026,2027,2028,2029,2030,2031,2032,2033,2034]
[null,null,"6P Shipments",{"$f":"'Shipments and Stock - MF'!AH11","v":49067.603189415095},{"$f":"'Shipments and Stock - MF'!AI11","v":52597.469069762796},{"$f":"'Shipments and Stock - MF'!AJ11","v":53589.172972836874},{"$f":"'Shipments and Stock - MF'!AK11","v":54278.741445469001},{"$f":"'Shipments and Stock - MF'!AL11","v":55235.223464804076},{"$f":"'Shipments and Stock - MF'!AM11","v":56370.917344514455},{"$f":"'Shipments and Stock - MF'!AN11","v":57303.858011645934},{"$f":"'Shipments and Stock - MF'!AO11","v":57827.445139406169},{"$f":"'Shipments and Stock - MF'!AP11","v":58401.883867698583},{"$f":"'Shipments and Stock - MF'!AQ11","v":59065.919893488783},{"$f":"'Shipments and Stock - MF'!AR11","v":59458.367682360986},{"$f":"'Shipments and Stock - MF'!AS11","v":59138.48517449043},{"$f":"'Shipments and Stock - MF'!AT11","v":60236.915276900836},{"$f":"'Shipments and Stock - MF'!AU11","v":60323.7366855652},{"$f":"'Shipments and Stock - MF'!AV11","v":60271.06724060842},{"$f":"'Shipments and Stock - MF'!AW11","v":60066.593586106348},{"$f":"'Shipments and Stock - MF'!AX11","v":59785.913040315951},{"$f":"'Shipments and Stock - MF'!AY11","v":59698.832503002544},{"$f":"'Shipments and Stock - MF'!AZ11","v":59661.993718894249},{"$f":"'Shipments and Stock - MF'!BA11","v":59600.948166581344},{"$f":"'Shipments and Stock - MF'!BB11","v":18052.229935790008},{"$f":"'Shipments and Stock - MF'!BC11","v":18052.229935790008},{"$f":"'Shipments and Stock - MF'!BD11","v":18052.229935790008},{"$f":"'Shipments and Stock - MF'!BE11","v":18052.229935790008},{"$f":"'Shipments and Stock - MF'!BF11","v":18052.229935790008}]
[null,null,"Replacement Shipments",{"$f":"'Shipments and Stock - MF'!AH12","v":44358.784988727981},{"$f":"'Shipments and Stock - MF'!AI12","v":44704.879130979389},{"$f":"'Shipments and Stock - MF'!AJ12","v":40759.656441002015},{"$f":"'Shipments and Stock - MF'!AK12","v":44000.946273915804},{"$f":"'Shipments and Stock - MF'!AL12","v":45402.553902835905},{"$f":"'Shipments and Stock - MF'!AM12","v":45248.242146580109},{"$f":"'Shipments and Stock - MF'!AN12","v":45248.481458459733},{"$f":"'Shipments and Stock - MF'!AO12","v":47791.998059193582},{"$f":"'Shipments and Stock - MF'!AP12","v":43557.439664361162},{"$f":"'Shipments and Stock - MF'!AQ12","v":51791.877498364403},{"$f":"'Shipments and Stock - MF'!AR12","v":48261.617082243771},{"$f":"'Shipments and Stock - MF'!AS12","v":48214.988117624409},{"$f":"'Shipments and Stock - MF'!AT12","v":53691.73254398883},{"$f":"'Shipments and Stock - MF'!AU12","v":63737.047164633856},{"$f":"'Shipments and Stock - MF'!AV12","v":60462.892746789599},{"$f":"'Shipments and Stock - MF'!AW12","v":64608.386271300129},{"$f":"'Shipments and Stock - MF'!AX12","v":69705.340447392751},{"$f":"'Shipments and Stock - MF'!AY12","v":70616.889106657909},{"$f":"'Shipments and Stock - MF'!AZ12","v":57432.203736082534},{"$f":"'Shipments and Stock - MF'!BA12","v":44800.054548264925},{"$f":"'Shipments and Stock - MF'!BB12","v":49133.03126618531},{"$f":"'Shipments and Stock - MF'!BC12","v":55147.067331510108},{"$f":"'Shipments and Stock - MF'!BD12","v":59198.969589687404},{"$f":"'Shipments and Stock - MF'!BE12","v":61724.956073189591},{"$f":"'Shipments and Stock - MF'!BF12","v":62905.69312894647}]
[null,null,"Net New Shipments",{"$f":"'Shipments and Stock - MF'!AH13","v":441.26955953694414},{"$f":"'Shipments and Stock - MF'!AI13","v":4428.1521352059208},{"$f":"'Shipments and Stock - MF'!AJ13","v":14387.410890508094},{"$f":"'Shipments and Stock - MF'!AK13","v":15198.023315771599},{"$f":"'Shipments and Stock - MF'!AL13","v":16322.402170353686},{"$f":"'Shipments and Stock - MF'!AM13","v":17657.450982366357},{"$f":"'Shipments and Stock - MF'!AN13","v":18754.156134682242},{"$f":"'Shipments and Stock - MF'!AO13","v":19369.651547125541},{"$f":"'Shipments and Stock - MF'!AP13","v":20044.924836417438},{"$f":"'Shipments and Stock - MF'!AQ13","v":20825.52295638877},{"$f":"'Shipments and Stock - MF'!AR13","v":21286.859381345334},{"$f":"'Shipments and Stock - MF'!AS13","v":20910.826041951776},{"$f":"'Shipments and Stock - MF'!AT13","v":21144.828523573466},{"$f":"'Shipments and Stock - MF'!AU13","v":21242.030117842369},{"$f":"'Shipments and Stock - MF'!AV13","v":21183.063624464441},{"$f":"'Shipments and Stock - MF'!AW13","v":20954.143528495915},{"$f":"'Shipments and Stock - MF'!AX13","v":20639.905405079713},{"$f":"'Shipments and Stock - MF'!AY13","v":20542.413701283513},{"$f":"'Shipments and Stock - MF'!AZ13","v":20501.170549377566},{"$f":"'Shipments and Stock - MF'!BA13","v":20432.826518808026},{"$f":"'Shipments and Stock - MF'!BB13","v":20210.516701578159},{"$f":"'Shipments and Stock - MF'!BC13","v":20412.621868593851},{"$f":"'Shipments and Stock - MF'!BD13","v":20616.748087279964},{"$f":"'Shipments and Stock - MF'!BE13","v":20822.915568152679},{"$f":"'Shipments and Stock - MF'!BF13","v":21031.144723834237}]
[null,null,"Total Model Shipments",{"$f":"'Shipments and Stock - MF'!AH14","v":44800.054548264925},{"$f":"'Shipments and Stock - MF'!AI14","v":49133.03126618531},{"$f":"'Shipments and Stock - MF'!AJ14","v":55147.067331510108},{"$f":"'Shipments and Stock - MF'!AK14","v":59198.969589687404},{"$f":"'Shipments and Stock - MF'!AL14","v":61724.956073189591},{"$f":"'Shipments and Stock - MF'!AM14","v":62905.69312894647},{"$f":"'Shipments and Stock - MF'!AN14","v":64002.637593141975},{"$f":"'Shipments and Stock - MF'!AO14","v":67161.649606319115},{"$f":"'Shipments and Stock - MF'!AP14","v":63602.364500778596},{"$f":"'Shipments and Stock - MF'!AQ14","v":72617.400454753166},{"$f":"'Shipments and Stock - MF'!AR14","v":69548.476463589104},{"$f":"'Shipments and Stock - MF'!AS14","v":69125.814159576184},{"$f":"'Shipments and Stock - MF'!AT14","v":74836.561067562288},{"$f":"'Shipments and Stock - MF'!AU14","v":84979.077282476224},{"$f":"'Shipments and Stock - MF'!AV14","v":81645.95637125404},{"$f":"'Shipments and Stock - MF'!AW14","v":85562.529799796044},{"$f":"'Shipments and Stock - MF'!AX14","v":90345.245852472464},{"$f":"'Shipments and Stock - MF'!AY14","v":91159.302807941422},{"$f":"'Shipments and Stock - MF'!AZ14","v":77933.374285460101},{"$f":"'Shipments and Stock - MF'!BA14","v":65232.881067072951},{"$f":"'Shipments and Stock - MF'!BB14","v":69343.547967763472},{"$f":"'Shipments and Stock - MF'!BC14","v":75559.689200103952},{"$f":"'Shipments and Stock - MF'!BD14","v":79815.717676967368},{"$f":"'Shipments and Stock - MF'!BE14","v":82547.871641342266},{"$f":"'Shipments and Stock - MF'!BF14","v":83936.837852780707}]
[null,null,"Model Installed Stock",{"$f":"'Shipments and Stock - MF'!AH15","v":990037.22634067107},{"$f":"'Shipments and Stock - MF'!AI15","v":994465.37847587699},{"$f":"'Shipments and Stock - MF'!AJ15","v":1008852.7893663851},{"$f":"'Shipments and Stock - MF'!AK15","v":1024050.8126821567},{"$f":"'Shipments and Stock - MF'!AL15","v":1040373.2148525104},{"$f":"'Shipments and Stock - MF'!AM15","v":1058030.6658348767},{"$f":"'Shipments and Stock - MF'!AN15","v":1076784.821969559},{"$f":"'Shipments and Stock - MF'!AO15","v":1096154.4735166845},{"$f":"'Shipments and Stock - MF'!AP15","v":1116199.3983531019},{"$f":"'Shipments and Stock - MF'!AQ15","v":1137024.9213094907},{"$f":"'Shipments and Stock - MF'!AR15","v":1158311.780690836},{"$f":"'Shipments and Stock - MF'!AS15","v":1179222.6067327878},{"$f":"'Shipments and Stock - MF'!AT15","v":1200367.4352563613},{"$f":"'Shipments and Stock - MF'!AU15","v":1221609.4653742036},{"$f":"'Shipments and Stock - MF'!AV15","v":1242792.5289986681},{"$f":"'Shipments and Stock - MF'!AW15","v":1263746.672527164},{"$f":"'Shipments and Stock - MF'!AX15","v":1284386.5779322437},{"$f":"'Shipments and Stock - MF'!AY15","v":1304928.9916335272},{"$f":"'Shipments and Stock - MF'!AZ15","v":1325430.1621829048},{"$f":"'Shipments and Stock - MF'!BA15","v":1345862.9887017128},{"$f":"'Shipments and Stock - MF'!BB15","v":1366073.505403291},{"$f":"'Shipments and Stock - MF'!BC15","v":1386486.1272718848},{"$f":"'Shipments and Stock - MF'!BD15","v":1407102.8753591648},{"$f":"'Shipments and Stock - MF'!BE15","v":1427925.7909273175},{"$f":"'Shipments and Stock - MF'!BF15","v":1448956.9356511517}]
[]
[]
[]
[null,null,"First Year Energy Consumption ",2010,2011,2012,2013,2014,2015,2016,2017,2018,2019,2020,2021,2022,2023,2024,2025,2026,2027,2028,2029,2030,2031,2032,2033,2034]
[null,null,"6P Shipments * 6P UEC",{"$f":"D12*D19","v":17934208.965731215},19224374.944998298,19586842.721571874,19838879.998318918,20188474.176385887,20603570.289420031,20944560.103256587,21135931.198452953,21345888.55364383,21588593.721070148,21732033.387902938,21615116.331276249,22016592.533707254,22048325.758574076,22029075.076442372,21954339.955721866,21851751.216235477,21819923.279847428,21806458.704255845,21784146.554885477,6598090.0415312471,6598090.0415312471,6598090.0415312471,6598090.0415312471,6598090.0415312471]
[null,null,"Model Shipments * Model Pre-Case UEC",{"$f":"D13*D22","v":16228241.694368307},{"$f":"E13*E22","v":17793543.49898842},19966743.727166396,21428653.410204247,22337646.247814178,22759485.109235432,23150809.911022469,24287649.290037792,22994987.418596253,26248009.484622058,25132693.407400586,24973958.364679333,27030658.919346135,30686720.838571455,29476016.304048229,30882562.945198819,32600976.48615697,32886818.412865665,28108643.107311118,23522228.882727433,24998471.531637393,27232845.375062782,28759856.546233475,29737166.366177082,30230246.684489593]
[null,null,"Model Shipments * Model Post-Case UEC",{"$f":"D14*D22","v":16228241.694368307},{"$f":"E14*E22","v":17793543.49898842},19966743.727166396,21428653.410204247,22337646.247814178,22759485.109235432,23150809.911022469,24287649.290037792,22994987.418596253,22699984.523456465,21738173.827648286,21603606.777352855,23385700.796439152,26552115.84905339,25507761.912093937,26728330.706617985,28219158.777470831,28470184.930900495,24336790.406527203,20368399.489345036,21649452.613871649,23587479.508272827,24913245.170049164,25763108.307969268,26193617.283637881]
[]
[null,null,"Total Energy Consumption (kWh)",2010,2011,2012,2013,2014,2015,2016,2017,2018,2019,2020,2021,2022,2023,2024,2025,2026,2027,2028,2029,2030,2031,2032,2033,2034]
[null,null,"Modeled Pre-case Consumption \n(Installed UEC * Stock)",{"$f":"D15*D$23","v":359351016.45977181},{"$f":"E15*E$23","v":360854905.68665171},365972165.48769855,371387440.81012601,377198557.43730789,383502765.15257043,390206514.66829878,397133317.92177784,404312115.02669287,411755688.98883176,419373211.25290114,426857315.13667095,434433669.63091177,442027967.99675804,449591168.88554114,457047754.18258691,464380726.24729985,471675233.40467072,478974818.57763386,486268805.76599294,493473733.79864204,500739835.44653833,508071038.58256769,515470558.7009306,522941320.2761848]
[null,null,"Modeled Post-case Consumption \n(Installed UEC* Stock)",{"$f":"D16*D$23","v":359351016.45977181},360854905.68665171,365972165.48769855,371387440.81012601,377198557.43730789,383502765.15257043,390206514.66829878,397133317.92177784,404312115.02669287,408207664.02766615,412430666.7119832,416544419.00842655,420475815.37976032,423935508.75608861,427530455.25291741,430832808.31138235,433783962.66740924,436661836.34281486,440189568.81499416,444329726.60997081,448185635.72485417,451806371.50596052,455290963.26580554,458716425.32596058,462150557.50036299]
[]
[]
[]
[null,null,"Total Energy Consumption (aMW)",2010,2011,2012,2013,2014,2015,2016,2017,2018,2019,2020,2021,2022,2023,2024,2025,2026,2027,2028,2029,2030,2031,2032,2033,2034]
[null,null,{"$f":"C33","v":"Modeled Pre-case Consumption \n(Installed UEC * Stock)"},{"$f":"D33/Constants!$D$13/(Constants!$D$12*Constants!$D$10)","v":40.993727636296128},{"$f":"E33/Constants!$D$13/(Constants!$D$12*Constants!$D$10)","v":41.165286982278317},{"$f":"F33/Constants!$D$13/(Constants!$D$12*Constants!$D$10)","v":41.749049222872301},{"$f":"G33/Constants!$D$13/(Constants!$D$12*Constants!$D$10)","v":42.366808214707511},{"$f":"H33/Constants!$D$13/(Constants!$D$12*Constants!$D$10)","v":43.029723641034437},{"$f":"I33/Constants!$D$13/(Constants!$D$12*Constants!$D$10)","v":43.748889476679267},{"$f":"J33/Constants!$D$13/(Constants!$D$12*Constants!$D$10)","v":44.51363388869482},{"$f":"K33/Constants!$D$13/(Constants!$D$12*Constants!$D$10)","v":45.303823627855103},{"$f":"L33/Constants!$D$13/(Constants!$D$12*Constants!$D$10)","v":46.122760098869819},{"$f":"M33/Constants!$D$13/(Constants!$D$12*Constants!$D$10)","v":46.971901550174742},{"$f":"N33/Constants!$D$13/(Constants!$D$12*Constants!$D$10)","v":47.840886522119682},{"$f":"O33/Constants!$D$13/(Constants!$D$12*Constants!$D$10)","v":48.69465151000125},{"$f":"P33/Constants!$D$13/(Constants!$D$12*Constants!$D$10)","v":49.558940181486626},{"$f":"Q33/Constants!$D$13/(Constants!$D$12*Constants!$D$10)","v":50.425275838096972},{"$f":"R33/Constants!$D$13/(Constants!$D$12*Constants!$D$10)","v":51.28806398420501},{"$f":"S33/Constants!$D$13/(Constants!$D$12*Constants!$D$10)","v":52.138689731073114},{"$f":"T33/Constants!$D$13/(Constants!$D$12*Constants!$D$10)","v":52.97521403688112},{"$f":"U33/Constants!$D$13/(Constants!$D$12*Constants!$D$10)","v":53.807350376987308},{"$f":"V33/Constants!$D$13/(Constants!$D$12*Constants!$D$10)","v":54.640066002467933},{"$f":"W33/Constants!$D$13/(Constants!$D$12*Constants!$D$10)","v":55.47214302600878},{"$f":"X33/Constants!$D$13/(Constants!$D$12*Constants!$D$10)","v":56.294060437901216},{"$f":"Y33/Constants!$D$13/(Constants!$D$12*Constants!$D$10)","v":57.122956359404327},{"$f":"Z33/Constants!$D$13/(Constants!$D$12*Constants!$D$10)","v":57.959278870929467},{"$f":"AA33/Constants!$D$13/(Constants!$D$12*Constants!$D$10)","v":58.803394786781958},{"$f":"AB33/Constants!$D$13/(Constants!$D$12*Constants!$D$10)","v":59.655637722585539}]
[null,null,{"$f":"C34","v":"Modeled Post-case Consumption \n(Installed UEC* Stock)"},{"$f":"D34/Constants!$D$13/(Constants!$D$12*Constants!$D$10)","v":40.993727636296128},{"$f":"E34/Constants!$D$13/(Constants!$D$12*Constants!$D$10)","v":41.165286982278317},{"$f":"F34/Constants!$D$13/(Constants!$D$12*Constants!$D$10)","v":41.749049222872301},{"$f":"G34/Constants!$D$13/(Constants!$D$12*Constants!$D$10)","v":42.366808214707511},{"$f":"H34/Constants!$D$13/(Constants!$D$12*Constants!$D$10)","v":43.029723641034437},{"$f":"I34/Constants!$D$13/(Constants!$D$12*Constants!$D$10)","v":43.748889476679267},{"$f":"J34/Constants!$D$13/(Constants!$D$12*Constants!$D$10)","v":44.51363388869482},{"$f":"K34/Constants!$D$13/(Constants!$D$12*Constants!$D$10)","v":45.303823627855103},{"$f":"L34/Constants!$D$13/(Constants!$D$12*Constants!$D$10)","v":46.122760098869819},{"$f":"M34/Constants!$D$13/(Constants!$D$12*Constants!$D$10)","v":46.567153094645924},{"$f":"N34/Constants!$D$13/(Constants!$D$12*Constants!$D$10)","v":47.048901062284187},{"$f":"O34/Constants!$D$13/(Constants!$D$12*Constants!$D$10)","v":47.518186060737683},{"$f":"P34/Constants!$D$13/(Constants!$D$12*Constants!$D$10)","v":47.966668421145371},{"$f":"Q34/Constants!$D$13/(Constants!$D$12*Constants!$D$10)","v":48.361340264212707},{"$f":"R34/Constants!$D$13/(Constants!$D$12*Constants!$D$10)","v":48.771441393214403},{"$f":"S34/Constants!$D$13/(Constants!$D$12*Constants!$D$10)","v":49.14816430656883},{"$f":"T34/Constants!$D$13/(Constants!$D$12*Constants!$D$10)","v":49.484823484760348},{"$f":"U34/Constants!$D$13/(Constants!$D$12*Constants!$D$10)","v":49.813123014238521},{"$f":"V34/Constants!$D$13/(Constants!$D$12*Constants!$D$10)","v":50.215556561144673},{"$f":"W34/Constants!$D$13/(Constants!$D$12*Constants!$D$10)","v":50.687853822720832},{"$f":"X34/Constants!$D$13/(Constants!$D$12*Constants!$D$10)","v":51.127724814608051},{"$f":"Y34/Constants!$D$13/(Constants!$D$12*Constants!$D$10)","v":51.540767910787196},{"$f":"Z34/Constants!$D$13/(Constants!$D$12*Constants!$D$10)","v":51.938280089642433},{"$f":"AA34/Constants!$D$13/(Constants!$D$12*Constants!$D$10)","v":52.329046922879371},{"$f":"AB34/Constants!$D$13/(Constants!$D$12*Constants!$D$10)","v":52.720802817746176}]
[]
[null,null,"Savings (aMW)",2010,2011,2012,2013,2014,2015,2016,2017,2018,2019,2020,2021,2022,2023,2024,2025,2026,2027,2028,2029,2030,2031,2032,2033,2034]
[null,null,"Incremental Savings",{"$f":"IF(AND(D42>=STANDARD_YEAR,(D42-STANDARD_YEAR)<LIFETIME_MF),\n(D13-D14)*D22,\n(D13-D14)*D21)\n/Constants!$D$13/(Constants!$D$12*Constants!$D$10)","v":0},{"$f":"IF(AND(E42>=STANDARD_YEAR,(E42-STANDARD_YEAR)<LIFETIME_MF),\n(E13-E14)*E22,\n(E13-E14)*E21)\n/Constants!$D$13/(Constants!$D$12*Constants!$D$10)","v":0},{"$f":"IF(AND(F42>=STANDARD_YEAR,(F42-STANDARD_YEAR)<LIFETIME_MF),\n(F13-F14)*F22,\n(F13-F14)*F21)\n/Constants!$D$13/(Constants!$D$12*Constants!$D$10)","v":0},{"$f":"IF(AND(G42>=STANDARD_YEAR,(G42-STANDARD_YEAR)<LIFETIME_MF),\n(G13-G14)*G22,\n(G13-G14)*G21)\n/Constants!$D$13/(Constants!$D$12*Constants!$D$10)","v":0},{"$f":"IF(AND(H42>=STANDARD_YEAR,(H42-STANDARD_YEAR)<LIFETIME_MF),\n(H13-H14)*H22,\n(H13-H14)*H21)\n/Constants!$D$13/(Constants!$D$12*Constants!$D$10)","v":0},{"$f":"IF(AND(I42>=STANDARD_YEAR,(I42-STANDARD_YEAR)<LIFETIME_MF),\n(I13-I14)*I22,\n(I13-I14)*I21)\n/Constants!$D$13/(Constants!$D$12*Constants!$D$10)","v":0},{"$f":"IF(AND(J42>=STANDARD_YEAR,(J42-STANDARD_YEAR)<LIFETIME_MF),\n(J13-J14)*J22,\n(J13-J14)*J21)\n/Constants!$D$13/(Constants!$D$12*Constants!$D$10)","v":0},{"$f":"IF(AND(K42>=STANDARD_YEAR,(K42-STANDARD_YEAR)<LIFETIME_MF),\n(K13-K14)*K22,\n(K13-K14)*K21)\n/Constants!$D$13/(Constants!$D$12*Constants!$D$10)","v":0},{"$f":"IF(AND(L42>=STANDARD_YEAR,(L42-STANDARD_YEAR)<LIFETIME_MF),\n(L13-L14)*L22,\n(L13-L14)*L21)\n/Constants!$D$13/(Constants!$D$12*Constants!$D$10)","v":0},{"$f":"IF(AND(M42>=STANDARD_YEAR,(M42-STANDARD_YEAR)<LIFETIME_MF),\n(M13-M14)*M22,\n(M13-M14)*M21)\n/Constants!$D$13/(Constants!$D$12*Constants!$D$10)","v":0.40474845552881494},{"$f":"IF(AND(N42>=STANDARD_YEAR,(N42-STANDARD_YEAR)<LIFETIME_MF),\n(N13-N14)*N22,\n(N13-N14)*N21)\n/Constants!$D$13/(Constants!$D$12*Constants!$D$10)","v":0.38723700430667363},{"$f":"IF(AND(O42>=STANDARD_YEAR,(O42-STANDARD_YEAR)<LIFETIME_MF),\n(O13-O14)*O22,\n(O13-O14)*O21)\n/Constants!$D$13/(Constants!$D$12*Constants!$D$10)","v":0.38447998942807177},{"$f":"IF(AND(P42>=STANDARD_YEAR,(P42-STANDARD_YEAR)<LIFETIME_MF),\n(P13-P14)*P22,\n(P13-P14)*P21)\n/Constants!$D$13/(Constants!$D$12*Constants!$D$10)","v":0.41580631107768418},{"$f":"IF(AND(Q42>=STANDARD_YEAR,(Q42-STANDARD_YEAR)<LIFETIME_MF),\n(Q13-Q14)*Q22,\n(Q13-Q14)*Q21)\n/Constants!$D$13/(Constants!$D$12*Constants!$D$10)","v":0.47166381354301457},{"$f":"IF(AND(R42>=STANDARD_YEAR,(R42-STANDARD_YEAR)<LIFETIME_MF),\n(R13-R14)*R22,\n(R13-R14)*R21)\n/Constants!$D$13/(Constants!$D$12*Constants!$D$10)","v":0.45268701710635334},{"$f":"IF(AND(S42>=STANDARD_YEAR,(S42-STANDARD_YEAR)<LIFETIME_MF),\n(S13-S14)*S22,\n(S13-S14)*S21)\n/Constants!$D$13/(Constants!$D$12*Constants!$D$10)","v":0.47390283351367019},{"$f":"IF(AND(T42>=STANDARD_YEAR,(T42-STANDARD_YEAR)<LIFETIME_MF),\n(T13-T14)*T22,\n(T13-T14)*T21)\n/Constants!$D$13/(Constants!$D$12*Constants!$D$10)","v":0.49986512761648888},{"$f":"IF(AND(U42>=STANDARD_YEAR,(U42-STANDARD_YEAR)<LIFETIME_MF),\n(U13-U14)*U22,\n(U13-U14)*U21)\n/Constants!$D$13/(Constants!$D$12*Constants!$D$10)","v":0.503836810628014},{"$f":"IF(AND(V42>=STANDARD_YEAR,(V42-STANDARD_YEAR)<LIFETIME_MF),\n(V13-V14)*V22,\n(V13-V14)*V21)\n/Constants!$D$13/(Constants!$D$12*Constants!$D$10)","v":0.43028207857448242},{"$f":"IF(AND(W42>=STANDARD_YEAR,(W42-STANDARD_YEAR)<LIFETIME_MF),\n(W13-W14)*W22,\n(W13-W14)*W21)\n/Constants!$D$13/(Constants!$D$12*Constants!$D$10)","v":0.3597797619646812},{"$f":"IF(AND(X42>=STANDARD_YEAR,(X42-STANDARD_YEAR)<LIFETIME_MF),\n(X13-X14)*X22,\n(X13-X14)*X21)\n/Constants!$D$13/(Constants!$D$12*Constants!$D$10)","v":0.38204642000521821},{"$f":"IF(AND(Y42>=STANDARD_YEAR,(Y42-STANDARD_YEAR)<LIFETIME_MF),\n(Y13-Y14)*Y22,\n(Y13-Y14)*Y21)\n/Constants!$D$13/(Constants!$D$12*Constants!$D$10)","v":0.41585282532397394},{"$f":"IF(AND(Z42>=STANDARD_YEAR,(Z42-STANDARD_YEAR)<LIFETIME_MF),\n(Z13-Z14)*Z22,\n(Z13-Z14)*Z21)\n/Constants!$D$13/(Constants!$D$12*Constants!$D$10)","v":0.43881033266989622},{"$f":"IF(AND(AA42>=STANDARD_YEAR,(AA42-STANDARD_YEAR)<LIFETIME_MF),\n(AA13-AA14)*AA22,\n(AA13-AA14)*AA21)\n/Constants!$D$13/(Constants!$D$12*Constants!$D$10)","v":0.45334908261553902},{"$f":"IF(AND(AB42>=STANDARD_YEAR,(AB42-STANDARD_YEAR)<LIFETIME_MF),\n(AB13-AB14)*AB22,\n(AB13-AB14)*AB21)\n/Constants!$D$13/(Constants!$D$12*Constants!$D$10)","v":0.46048704093676845}]
[null,null,"Cumulative Savings",{"$f":"D39-D40","v":0},0,0,0,0,0,0,0,0,{"$f":"M39-M40","v":0.40474845552881789},0.79198545983549451,1.1764654492635671,1.5922717603412551,2.0639355738842653,2.5166225909906075,2.990525424504284,3.4903905521207719,3.9942273627487879,4.4245094413232593,4.7842892032879476,5.1663356232931648,5.5821884486171314,6.0209987812870338,6.4743478639025867,6.9348349048393629]
[null,null,"DOE Aggregate Lifecycle Savings (formerly DOE Carbon proxy)",{"$f":"SUM($D$44:D44)","v":0},{"$f":"SUM($D$44:E44)","v":0},{"$f":"SUM($D$44:F44)","v":0},{"$f":"SUM($D$44:G44)","v":0},{"$f":"SUM($D$44:H44)","v":0},{"$f":"SUM($D$44:I44)","v":0},{"$f":"SUM($D$44:J44)","v":0},{"$f":"SUM($D$44:K44)","v":0},{"$f":"SUM($D$44:L44)","v":0},{"$f":"SUM($D$44:M44)","v":0.40474845552881789},{"$f":"SUM($D$44:N44)","v":1.1967339153643124},{"$f":"SUM($D$44:O44)","v":2.3731993646278795},{"$f":"SUM($D$44:P44)","v":3.9654711249691346},{"$f":"SUM($D$44:Q44)","v":6.0294066988533999},{"$f":"SUM($D$44:R44)","v":8.5460292898440073},{"$f":"SUM($D$44:S44)","v":11.536554714348291},{"$f":"SUM($D$44:T44)","v":15.026945266469063},{"$f":"SUM($D$44:U44)","v":19.021172629217851},{"$f":"SUM($D$44:V44)","v":23.44568207054111},{"$f":"SUM($D$44:W44)","v":28.229971273829058},{"$f":"SUM($D$44:X44)","v":33.396306897122223},{"$f":"SUM($D$44:Y44)","v":38.978495345739354},{"$f":"SUM($D$44:Z44)","v":44.999494127026388},{"$f":"SUM($D$44:AA44)","v":51.473841990928975},{"$f":"SUM($D$44:AB44)","v":58.408676895768338}]
[null,null,"Check",{"$f":"IF(ISNUMBER(C44),ROUND((D44-C44-D43),3),0)","v":0},{"$f":"IF(ISNUMBER(D44),ROUND((E44-D44-E43),3),0)","v":0},0,0,0,0,0,0,0,0,0,0,0,0,0,0,0,0,0,0,0,0,0,0,0]

{"sheet":"Results-MH","index":23,"n_rows":46,"n_cols":28,"rows_kept":46,"cut":false,"hidden":false,"merged":[]}
[]
[null,null,"RESULTS - Manufactured Homes"]
[]
[null,null,"NAVIGATION"]
[]
[null,null,"COMMENTS"]
[]
[]
[null,null,"MANUFACTURED HOMES"]
[]
[null,null,"Unit Energy Consumption (kWh/year) ",2010,2011,2012,2013,2014,2015,2016,2017,2018,2019,2020,2021,2022,2023,2024,2025,2026,2027,2028,2029,2030,2031,2032,2033,2034]
[null,null,"6P UEC",{"$f":"'6P UEC Development'!$J$44","v":365.49999999999994},{"$f":"'6P UEC Development'!$J$44","v":365.49999999999994},{"$f":"'6P UEC Development'!$J$44","v":365.49999999999994},{"$f":"'6P UEC Development'!$J$44","v":365.49999999999994},{"$f":"'6P UEC Development'!$J$44","v":365.49999999999994},{"$f":"'6P UEC Development'!$J$44","v":365.49999999999994},{"$f":"'6P UEC Development'!$J$44","v":365.49999999999994},{"$f":"'6P UEC Development'!$J$44","v":365.49999999999994},{"$f":"'6P UEC Development'!$J$44","v":365.49999999999994},{"$f":"'6P UEC Development'!$J$44","v":365.49999999999994},{"$f":"'6P UEC Development'!$J$44","v":365.49999999999994},{"$f":"'6P UEC Development'!$J$44","v":365.49999999999994},{"$f":"'6P UEC Development'!$J$44","v":365.49999999999994},{"$f":"'6P UEC Development'!$J$44","v":365.49999999999994},{"$f":"'6P UEC Development'!$J$44","v":365.49999999999994},{"$f":"'6P UEC Development'!$J$44","v":365.49999999999994},{"$f":"'6P UEC Development'!$J$44","v":365.49999999999994},{"$f":"'6P UEC Development'!$J$44","v":365.49999999999994},{"$f":"'6P UEC Development'!$J$44","v":365.49999999999994},{"$f":"'6P UEC Development'!$J$44","v":365.49999999999994},{"$f":"'6P UEC Development'!$J$44","v":365.49999999999994},{"$f":"'6P UEC Development'!$J$44","v":365.49999999999994},{"$f":"'6P UEC Development'!$J$44","v":365.49999999999994},{"$f":"'6P UEC Development'!$J$44","v":365.49999999999994},{"$f":"'6P UEC Development'!$J$44","v":365.49999999999994}]
[null,null,{"$f":"'UEC-SF'!$C$9&\" - \"&'UEC-SF'!C11","v":"Market UEC (Shipment Weighted Average) - PRE-Case UEC"},{"$f":"'UEC-MH'!AG11","v":362.23709676257113},{"$f":"'UEC-MH'!AH11","v":362.15033024503055},{"$f":"'UEC-MH'!AI11","v":362.06356372749008},{"$f":"'UEC-MH'!AJ11","v":361.97679720994955},{"$f":"'UEC-MH'!AK11","v":361.89003069240903},{"$f":"'UEC-MH'!AL11","v":361.80326417486856},{"$f":"'UEC-MH'!AM11","v":361.71649765732673},{"$f":"'UEC-MH'!AN11","v":361.62973113978745},{"$f":"'UEC-MH'!AO11","v":361.54296462224698},{"$f":"'UEC-MH'!AP11","v":361.4561981047064},{"$f":"'UEC-MH'!AQ11","v":361.36943158716599},{"$f":"'UEC-MH'!AR11","v":361.28266506962541},{"$f":"'UEC-MH'!AS11","v":361.19589855208488},{"$f":"'UEC-MH'!AT11","v":361.10913203454436},{"$f":"'UEC-MH'!AU11","v":361.02236551700389},{"$f":"'UEC-MH'!AV11","v":360.93559899946337},{"$f":"'UEC-MH'!AW11","v":360.84883248192284},{"$f":"'UEC-MH'!AX11","v":360.76206596438232},{"$f":"'UEC-MH'!AY11","v":360.67529944684173},{"$f":"'UEC-MH'!AZ11","v":360.58853292930132},{"$f":"'UEC-MH'!BA11","v":360.50176641176074},{"$f":"'UEC-MH'!BB11","v":360.41499989422027},{"$f":"'UEC-MH'!BC11","v":360.32823337667969},{"$f":"'UEC-MH'!BD11","v":360.24146685913928},{"$f":"'UEC-MH'!BE11","v":360.1547003415987}]
[null,null,{"$f":"'UEC-SF'!$C$9&\" - \"&'UEC-SF'!C12","v":"Market UEC (Shipment Weighted Average) - POST-Case UEC"},{"$f":"'UEC-MH'!AG12","v":362.23709676257113},{"$f":"'UEC-MH'!AH12","v":362.15033024503055},{"$f":"'UEC-MH'!AI12","v":362.06356372749008},{"$f":"'UEC-MH'!AJ12","v":361.97679720994955},{"$f":"'UEC-MH'!AK12","v":361.89003069240903},{"$f":"'UEC-MH'!AL12","v":361.80326417486856},{"$f":"'UEC-MH'!AM12","v":361.71649765732673},{"$f":"'UEC-MH'!AN12","v":361.62973113978745},{"$f":"'UEC-MH'!AO12","v":361.54296462224698},{"$f":"'UEC-MH'!AP12","v":312.59704122292965},{"$f":"'UEC-MH'!AQ12","v":312.56146695073801},{"$f":"'UEC-MH'!AR12","v":312.52589267854648},{"$f":"'UEC-MH'!AS12","v":312.49031840635479},{"$f":"'UEC-MH'!AT12","v":312.45474413416321},{"$f":"'UEC-MH'!AU12","v":312.41916986197157},{"$f":"'UEC-MH'!AV12","v":312.38359558977999},{"$f":"'UEC-MH'!AW12","v":312.34802131758835},{"$f":"'UEC-MH'!AX12","v":312.31244704539677},{"$f":"'UEC-MH'!AY12","v":312.27687277320518},{"$f":"'UEC-MH'!AZ12","v":312.24129850101349},{"$f":"'UEC-MH'!BA12","v":312.20572422882196},{"$f":"'UEC-MH'!BB12","v":312.17014995663027},{"$f":"'UEC-MH'!BC12","v":312.13457568443874},{"$f":"'UEC-MH'!BD12","v":312.09900141224705},{"$f":"'UEC-MH'!BE12","v":312.06342714005547}]
[null,null,{"$f":"'UEC-SF'!$C$14&\" - \"&'UEC-SF'!C16","v":"Installed UEC (Vintage Weighted Average)  - PRE-Case UEC"},{"$f":"'UEC-MH'!AG16","v":363.07351949832355},{"$f":"'UEC-MH'!AH16","v":362.94992641186633},{"$f":"'UEC-MH'!AI16","v":362.81728001220716},{"$f":"'UEC-MH'!AJ16","v":362.69357684353611},{"$f":"'UEC-MH'!AK16","v":362.5679237542459},{"$f":"'UEC-MH'!AL16","v":362.46721560450493},{"$f":"'UEC-MH'!AM16","v":362.37307807547353},{"$f":"'UEC-MH'!AN16","v":362.28567931148325},{"$f":"'UEC-MH'!AO16","v":362.2116379228724},{"$f":"'UEC-MH'!AP16","v":362.11930885245209},{"$f":"'UEC-MH'!AQ16","v":362.04288366929569},{"$f":"'UEC-MH'!AR16","v":361.96216614023263},{"$f":"'UEC-MH'!AS16","v":361.89971398341964},{"$f":"'UEC-MH'!AT16","v":361.83875579243642},{"$f":"'UEC-MH'!AU16","v":361.77372487251779},{"$f":"'UEC-MH'!AV16","v":361.70125907206858},{"$f":"'UEC-MH'!AW16","v":361.62276151308726},{"$f":"'UEC-MH'!AX16","v":361.54245881588281},{"$f":"'UEC-MH'!AY16","v":361.45827350409155},{"$f":"'UEC-MH'!AZ16","v":361.37559523164884},{"$f":"'UEC-MH'!BA16","v":361.28946960577792},{"$f":"'UEC-MH'!BB16","v":361.19132179286964},{"$f":"'UEC-MH'!BC16","v":361.08806209281335},{"$f":"'UEC-MH'!BD16","v":360.98962708846972},{"$f":"'UEC-MH'!BE16","v":360.89974392131899}]
[null,null,{"$f":"'UEC-SF'!$C$14&\" - \"&'UEC-SF'!C17","v":"Installed UEC (Vintage Weighted Average)  - POST-Case UEC"},{"$f":"'UEC-MH'!AG17","v":363.07351949832355},{"$f":"'UEC-MH'!AH17","v":362.94992641186633},{"$f":"'UEC-MH'!AI17","v":362.81728001220716},{"$f":"'UEC-MH'!AJ17","v":362.69357684353611},{"$f":"'UEC-MH'!AK17","v":362.5679237542459},{"$f":"'UEC-MH'!AL17","v":362.46721560450493},{"$f":"'UEC-MH'!AM17","v":362.37307807547353},{"$f":"'UEC-MH'!AN17","v":362.28567931148325},{"$f":"'UEC-MH'!AO17","v":362.2116379228724},{"$f":"'UEC-MH'!AP17","v":359.0886567943881},{"$f":"'UEC-MH'!AQ17","v":356.39319575462116},{"$f":"'UEC-MH'!AR17","v":353.44703953997993},{"$f":"'UEC-MH'!AS17","v":350.63420804253298},{"$f":"'UEC-MH'!AT17","v":348.04294485917927},{"$f":"'UEC-MH'!AU17","v":345.64508154376824},{"$f":"'UEC-MH'!AV17","v":343.35735363648547},{"$f":"'UEC-MH'!AW17","v":340.91773884513964},{"$f":"'UEC-MH'!AX17","v":338.45352343534938},{"$f":"'UEC-MH'!AY17","v":335.89920484599111},{"$f":"'UEC-MH'!AZ17","v":333.415557564349},{"$f":"'UEC-MH'!BA17","v":330.8497928171011},{"$f":"'UEC-MH'!BB17","v":327.94379749888719},{"$f":"'UEC-MH'!BC17","v":324.90711688098366},{"$f":"'UEC-MH'!BD17","v":322.04005505452687},{"$f":"'UEC-MH'!BE17","v":319.4546397523074}]
[]
[null,null,"Stock and Shipments (units)",2010,2011,2012,2013,2014,2015,2016,2017,2018,2019,2020,2021,2022,2023,2024,2025,2026,2027,2028,2029,2030,2031,2032,2033,2034]
[null,null,"6P Shipments",{"$f":"'Shipments and Stock - MH'!AH11","v":31811.190457273435},{"$f":"'Shipments and Stock - MH'!AI11","v":31705.394476050886},{"$f":"'Shipments and Stock - MH'!AJ11","v":31469.738292285991},{"$f":"'Shipments and Stock - MH'!AK11","v":31173.584031901155},{"$f":"'Shipments and Stock - MH'!AL11","v":30794.374194682008},{"$f":"'Shipments and Stock - MH'!AM11","v":30443.414004936349},{"$f":"'Shipments and Stock - MH'!AN11","v":30177.629418894438},{"$f":"'Shipments and Stock - MH'!AO11","v":30023.54287902113},{"$f":"'Shipments and Stock - MH'!AP11","v":29995.946763564771},{"$f":"'Shipments and Stock - MH'!AQ11","v":30088.83726416601},{"$f":"'Shipments and Stock - MH'!AR11","v":30269.178165757912},{"$f":"'Shipments and Stock - MH'!AS11","v":30500.279756473326},{"$f":"'Shipments and Stock - MH'!AT11","v":31027.840274430022},{"$f":"'Shipments and Stock - MH'!AU11","v":31221.725147310724},{"$f":"'Shipments and Stock - MH'!AV11","v":31327.681947579124},{"$f":"'Shipments and Stock - MH'!AW11","v":31323.997544928341},{"$f":"'Shipments and Stock - MH'!AX11","v":31208.556256353153},{"$f":"'Shipments and Stock - MH'!AY11","v":31000.566380192358},{"$f":"'Shipments and Stock - MH'!AZ11","v":30733.587514410945},{"$f":"'Shipments and Stock - MH'!BA11","v":30449.906126297577},{"$f":"'Shipments and Stock - MH'!BB11","v":5373.5825281798398},{"$f":"'Shipments and Stock - MH'!BC11","v":5373.5825281798398},{"$f":"'Shipments and Stock - MH'!BD11","v":5373.5825281798398},{"$f":"'Shipments and Stock - MH'!BE11","v":5373.5825281798398},{"$f":"'Shipments and Stock - MH'!BF11","v":5373.5825281798398}]
[null,null,"Replacement Shipments",{"$f":"'Shipments and Stock - MH'!AH12","v":27769.672360546509},{"$f":"'Shipments and Stock - MH'!AI12","v":29848.115730899073},{"$f":"'Shipments and Stock - MH'!AJ12","v":30418.010462421076},{"$f":"'Shipments and Stock - MH'!AK12","v":33228.871290624171},{"$f":"'Shipments and Stock - MH'!AL12","v":31998.969603511476},{"$f":"'Shipments and Stock - MH'!AM12","v":29106.943541997436},{"$f":"'Shipments and Stock - MH'!AN12","v":29008.758889621851},{"$f":"'Shipments and Stock - MH'!AO12","v":29428.982451841443},{"$f":"'Shipments and Stock - MH'!AP12","v":25765.423554045119},{"$f":"'Shipments and Stock - MH'!AQ12","v":31964.681614275876},{"$f":"'Shipments and Stock - MH'!AR12","v":27367.329995223474},{"$f":"'Shipments and Stock - MH'!AS12","v":30968.555289198965},{"$f":"'Shipments and Stock - MH'!AT12","v":30063.514590778123},{"$f":"'Shipments and Stock - MH'!AU12","v":27823.658873606379},{"$f":"'Shipments and Stock - MH'!AV12","v":25879.500470821527},{"$f":"'Shipments and Stock - MH'!AW12","v":25000.94777089791},{"$f":"'Shipments and Stock - MH'!AX12","v":27689.198768266273},{"$f":"'Shipments and Stock - MH'!AY12","v":28798.640362092323},{"$f":"'Shipments and Stock - MH'!AZ12","v":30789.461484457977},{"$f":"'Shipments and Stock - MH'!BA12","v":30620.834256932576},{"$f":"'Shipments and Stock - MH'!BB12","v":32446.391206266162},{"$f":"'Shipments and Stock - MH'!BC12","v":37694.750784491269},{"$f":"'Shipments and Stock - MH'!BD12","v":40181.543272756884},{"$f":"'Shipments and Stock - MH'!BE12","v":38536.689248723997},{"$f":"'Shipments and Stock - MH'!BF12","v":35260.623173984561}]
[null,null,"Net New Shipments",{"$f":"'Shipments and Stock - MH'!AH13","v":2851.1618963860674},{"$f":"'Shipments and Stock - MH'!AI13","v":2598.2754753670888},{"$f":"'Shipments and Stock - MH'!AJ13","v":7276.7403220701963},{"$f":"'Shipments and Stock - MH'!AK13","v":6952.6719821327133},{"$f":"'Shipments and Stock - MH'!AL13","v":6537.7196452125208},{"$f":"'Shipments and Stock - MH'!AM13","v":6153.679631987121},{"$f":"'Shipments and Stock - MH'!AN13","v":5862.843466173741},{"$f":"'Shipments and Stock - MH'!AO13","v":5694.2334684026428},{"$f":"'Shipments and Stock - MH'!AP13","v":5664.0362755171955},{"$f":"'Shipments and Stock - MH'!AQ13","v":5765.6821889904095},{"$f":"'Shipments and Stock - MH'!AR13","v":5963.0211586400401},{"$f":"'Shipments and Stock - MH'!AS13","v":6215.9052764059743},{"$f":"'Shipments and Stock - MH'!AT13","v":6469.7058260969352},{"$f":"'Shipments and Stock - MH'!AU13","v":6671.7625219868496},{"$f":"'Shipments and Stock - MH'!AV13","v":6782.18516946421},{"$f":"'Shipments and Stock - MH'!AW13","v":6778.3454773062886},{"$f":"'Shipments and Stock - MH'!AX13","v":6658.0385911000194},{"$f":"'Shipments and Stock - MH'!AY13","v":6441.2823969153687},{"$f":"'Shipments and Stock - MH'!AZ13","v":6163.0509563148953},{"$f":"'Shipments and Stock - MH'!BA13","v":5867.4130186254624},{"$f":"'Shipments and Stock - MH'!BB13","v":5600.0672698367853},{"$f":"'Shipments and Stock - MH'!BC13","v":5656.067942535039},{"$f":"'Shipments and Stock - MH'!BD13","v":5712.6286219604081},{"$f":"'Shipments and Stock - MH'!BE13","v":5769.7549081800971},{"$f":"'Shipments and Stock - MH'!BF13","v":5827.4524572618539}]
[null,null,"Total Model Shipments",{"$f":"'Shipments and Stock - MH'!AH14","v":30620.834256932576},{"$f":"'Shipments and Stock - MH'!AI14","v":32446.391206266162},{"$f":"'Shipments and Stock - MH'!AJ14","v":37694.750784491276},{"$f":"'Shipments and Stock - MH'!AK14","v":40181.543272756884},{"$f":"'Shipments and Stock - MH'!AL14","v":38536.689248723997},{"$f":"'Shipments and Stock - MH'!AM14","v":35260.623173984553},{"$f":"'Shipments and Stock - MH'!AN14","v":34871.602355795592},{"$f":"'Shipments and Stock - MH'!AO14","v":35123.215920244082},{"$f":"'Shipments and Stock - MH'!AP14","v":31429.459829562315},{"$f":"'Shipments and Stock - MH'!AQ14","v":37730.363803266286},{"$f":"'Shipments and Stock - MH'!AR14","v":33330.351153863514},{"$f":"'Shipments and Stock - MH'!AS14","v":37184.460565604939},{"$f":"'Shipments and Stock - MH'!AT14","v":36533.220416875061},{"$f":"'Shipments and Stock - MH'!AU14","v":34495.421395593228},{"$f":"'Shipments and Stock - MH'!AV14","v":32661.685640285737},{"$f":"'Shipments and Stock - MH'!AW14","v":31779.293248204198},{"$f":"'Shipments and Stock - MH'!AX14","v":34347.237359366292},{"$f":"'Shipments and Stock - MH'!AY14","v":35239.922759007692},{"$f":"'Shipments and Stock - MH'!AZ14","v":36952.512440772873},{"$f":"'Shipments and Stock - MH'!BA14","v":36488.247275558038},{"$f":"'Shipments and Stock - MH'!BB14","v":38046.458476102947},{"$f":"'Shipments and Stock - MH'!BC14","v":43350.818727026308},{"$f":"'Shipments and Stock - MH'!BD14","v":45894.171894717292},{"$f":"'Shipments and Stock - MH'!BE14","v":44306.444156904094},{"$f":"'Shipments and Stock - MH'!BF14","v":41088.075631246415}]
[null,null,"Model Installed Stock",{"$f":"'Shipments and Stock - MH'!AH15","v":555770.39900151303},{"$f":"'Shipments and Stock - MH'!AI15","v":558368.67447688011},{"$f":"'Shipments and Stock - MH'!AJ15","v":565645.41479895031},{"$f":"'Shipments and Stock - MH'!AK15","v":572598.08678108302},{"$f":"'Shipments and Stock - MH'!AL15","v":579135.80642629554},{"$f":"'Shipments and Stock - MH'!AM15","v":585289.48605828267},{"$f":"'Shipments and Stock - MH'!AN15","v":591152.32952445641},{"$f":"'Shipments and Stock - MH'!AO15","v":596846.56299285905},{"$f":"'Shipments and Stock - MH'!AP15","v":602510.59926837625},{"$f":"'Shipments and Stock - MH'!AQ15","v":608276.28145736665},{"$f":"'Shipments and Stock - MH'!AR15","v":614239.30261600669},{"$f":"'Shipments and Stock - MH'!AS15","v":620455.20789241267},{"$f":"'Shipments and Stock - MH'!AT15","v":626924.9137185096},{"$f":"'Shipments and Stock - MH'!AU15","v":633596.67624049645},{"$f":"'Shipments and Stock - MH'!AV15","v":640378.86140996066},{"$f":"'Shipments and Stock - MH'!AW15","v":647157.20688726695},{"$f":"'Shipments and Stock - MH'!AX15","v":653815.24547836697},{"$f":"'Shipments and Stock - MH'!AY15","v":660256.52787528234},{"$f":"'Shipments and Stock - MH'!AZ15","v":666419.57883159723},{"$f":"'Shipments and Stock - MH'!BA15","v":672286.99185022269},{"$f":"'Shipments and Stock - MH'!BB15","v":677887.05912005948},{"$f":"'Shipments and Stock - MH'!BC15","v":683543.12706259452},{"$f":"'Shipments and Stock - MH'!BD15","v":689255.75568455493},{"$f":"'Shipments and Stock - MH'!BE15","v":695025.51059273502},{"$f":"'Shipments and Stock - MH'!BF15","v":700852.96304999688}]
[]
[]
[]
[null,null,"First Year Energy Consumption ",2010,2011,2012,2013,2014,2015,2016,2017,2018,2019,2020,2021,2022,2023,2024,2025,2026,2027,2028,2029,2030,2031,2032,2033,2034]
[null,null,"6P Shipments * 6P UEC",{"$f":"D12*D19","v":11626990.112133438},11588321.680996597,11502189.345830528,11393944.96365987,11255343.768156271,11127067.818804234,11029923.552605916,10973604.922282221,10963518.542082923,10997470.020052675,11063384.619584516,11147852.250991,11340675.620304171,11411540.541342068,11450267.751840169,11448921.102671307,11406727.311697075,11330707.011960305,11233126.236517198,11129440.689161763,1964044.4140497311,1964044.4140497311,1964044.4140497311,1964044.4140497311,1964044.4140497311]
[null,null,"Model Shipments * Model Pre-Case UEC",{"$f":"D13*D22","v":11092002.101679139},{"$f":"E13*E22","v":11750471.290608745},13647895.802852513,14544786.340825532,13946043.655004555,12757408.561187625,12613633.871837366,12701599.130002569,11363100.083255781,13637873.853436062,12044570.051072299,13434101.012318144,13195649.375474561,12456611.679328522,11791599.011628715,11470278.244320184,12394160.50010681,12713227.33896487,13327858.489888901,13157243.55425505,13715815.486346819,15624285.326915549,16536965.881109146,15961018.434395671,14798063.566584496]
[null,null,"Model Shipments * Model Post-Case UEC",{"$f":"D14*D22","v":11092002.101679139},{"$f":"E14*E22","v":11750471.290608745},13647895.802852513,14544786.340825532,13946043.655004555,12757408.561187625,12613633.871837366,12701599.130002569,11363100.083255781,11794400.089165764,10417783.450634804,11621106.732035892,11416277.68047883,10778258.065960221,10204136.714030748,9927329.8901760466,10728291.62692361,11005866.510556461,11539415.026117513,11393137.709346309,11878322.122873522,13532831.582758497,14325157.870746275,13827996.977497255,12822085.696076553]
[]
[null,null,"Total Energy Consumption (kWh)",2010,2011,2012,2013,2014,2015,2016,2017,2018,2019,2020,2021,2022,2023,2024,2025,2026,2027,2028,2029,2030,2031,2032,2033,2034]
[null,null,"Modeled Pre-case Consumption \n(Installed UEC * Stock)",{"$f":"D15*D$23","v":201785514.79846689},{"$f":"E15*E$23","v":202659869.31207499},205225930.84873182,207677648.18839648,209976066.90772283,212148250.33413744,214217689.26126391,216228962.51859191,218236351.02688995,220268586.63268122,222380968.38211623,224581311.04172605,226883946.96380866,229259833.0050844,231672246.02190331,234077576.54868764,236434474.5892441,238710768.53726706,240882870.39379299,242948111.84636888,244913456.04210693,246889845.56616995,248882025.10645357,250896999.88584468,252937654.89124152]
[null,null,"Modeled Post-case Consumption \n(Installed UEC* Stock)",{"$f":"D16*D$23","v":201785514.79846689},202659869.31207499,205225930.84873182,207677648.18839648,209976066.90772283,212148250.33413744,214217689.26126391,216228962.51859191,218236351.02688995,218425112.86841094,218910708.01740846,219298056.39673606,219821320.62382293,220518853.05173036,221343803.7709513,222206185.94359151,222897215.11096478,223466148.23057929,223849806.62333381,224150942.23100096,224278793.06326565,224163728.84317163,223944100.37309241,223826053.69558504,223890730.83047396]
[]
[]
[]
[null,null,"Total Energy Consumption (aMW)",2010,2011,2012,2013,2014,2015,2016,2017,2018,2019,2020,2021,2022,2023,2024,2025,2026,2027,2028,2029,2030,2031,2032,2033,2034]
[null,null,{"$f":"C33","v":"Modeled Pre-case Consumption \n(Installed UEC * Stock)"},{"$f":"D33/Constants!$D$13/(Constants!$D$12*Constants!$D$10)","v":23.019109605118288},{"$f":"E33/Constants!$D$13/(Constants!$D$12*Constants!$D$10)","v":23.118853446506389},{"$f":"F33/Constants!$D$13/(Constants!$D$12*Constants!$D$10)","v":23.411582346421607},{"$f":"G33/Constants!$D$13/(Constants!$D$12*Constants!$D$10)","v":23.691267190097705},{"$f":"H33/Constants!$D$13/(Constants!$D$12*Constants!$D$10)","v":23.953464169258822},{"$f":"I33/Constants!$D$13/(Constants!$D$12*Constants!$D$10)","v":24.201260590250676},{"$f":"J33/Constants!$D$13/(Constants!$D$12*Constants!$D$10)","v":24.437336215065468},{"$f":"K33/Constants!$D$13/(Constants!$D$12*Constants!$D$10)","v":24.666776468011854},{"$f":"L33/Constants!$D$13/(Constants!$D$12*Constants!$D$10)","v":24.895773559992008},{"$f":"M33/Constants!$D$13/(Constants!$D$12*Constants!$D$10)","v":25.127605137198405},{"$f":"N33/Constants!$D$13/(Constants!$D$12*Constants!$D$10)","v":25.368579555340659},{"$f":"O33/Constants!$D$13/(Constants!$D$12*Constants!$D$10)","v":25.619588300447873},{"$f":"P33/Constants!$D$13/(Constants!$D$12*Constants!$D$10)","v":25.882266365937561},{"$f":"Q33/Constants!$D$13/(Constants!$D$12*Constants!$D$10)","v":26.153300593781015},{"$f":"R33/Constants!$D$13/(Constants!$D$12*Constants!$D$10)","v":26.428501713655407},{"$f":"S33/Constants!$D$13/(Constants!$D$12*Constants!$D$10)","v":26.702894883491631},{"$f":"T33/Constants!$D$13/(Constants!$D$12*Constants!$D$10)","v":26.971763014971948},{"$f":"U33/Constants!$D$13/(Constants!$D$12*Constants!$D$10)","v":27.231436064027726},{"$f":"V33/Constants!$D$13/(Constants!$D$12*Constants!$D$10)","v":27.47922317976192},{"$f":"W33/Constants!$D$13/(Constants!$D$12*Constants!$D$10)","v":27.714819968784951},{"$f":"X33/Constants!$D$13/(Constants!$D$12*Constants!$D$10)","v":27.939020766838574},{"$f":"Y33/Constants!$D$13/(Constants!$D$12*Constants!$D$10)","v":28.164481584094222},{"$f":"Z33/Constants!$D$13/(Constants!$D$12*Constants!$D$10)","v":28.391743680863971},{"$f":"AA33/Constants!$D$13/(Constants!$D$12*Constants!$D$10)","v":28.621606192772607},{"$f":"AB33/Constants!$D$13/(Constants!$D$12*Constants!$D$10)","v":28.854398230805558}]
[null,null,{"$f":"C34","v":"Modeled Post-case Consumption \n(Installed UEC* Stock)"},{"$f":"D34/Constants!$D$13/(Constants!$D$12*Constants!$D$10)","v":23.019109605118288},{"$f":"E34/Constants!$D$13/(Constants!$D$12*Constants!$D$10)","v":23.118853446506389},{"$f":"F34/Constants!$D$13/(Constants!$D$12*Constants!$D$10)","v":23.411582346421607},{"$f":"G34/Constants!$D$13/(Constants!$D$12*Constants!$D$10)","v":23.691267190097705},{"$f":"H34/Constants!$D$13/(Constants!$D$12*Constants!$D$10)","v":23.953464169258822},{"$f":"I34/Constants!$D$13/(Constants!$D$12*Constants!$D$10)","v":24.201260590250676},{"$f":"J34/Constants!$D$13/(Constants!$D$12*Constants!$D$10)","v":24.437336215065468},{"$f":"K34/Constants!$D$13/(Constants!$D$12*Constants!$D$10)","v":24.666776468011854},{"$f":"L34/Constants!$D$13/(Constants!$D$12*Constants!$D$10)","v":24.895773559992008},{"$f":"M34/Constants!$D$13/(Constants!$D$12*Constants!$D$10)","v":24.917306966508207},{"$f":"N34/Constants!$D$13/(Constants!$D$12*Constants!$D$10)","v":24.972702260712808},{"$f":"O34/Constants!$D$13/(Constants!$D$12*Constants!$D$10)","v":25.016889846764325},{"$f":"P34/Constants!$D$13/(Constants!$D$12*Constants!$D$10)","v":25.076582320764651},{"$f":"Q34/Constants!$D$13/(Constants!$D$12*Constants!$D$10)","v":25.156154808547839},{"$f":"R34/Constants!$D$13/(Constants!$D$12*Constants!$D$10)","v":25.250262807546349},{"$f":"S34/Constants!$D$13/(Constants!$D$12*Constants!$D$10)","v":25.348640878803501},{"$f":"T34/Constants!$D$13/(Constants!$D$12*Constants!$D$10)","v":25.42747149337951},{"$f":"U34/Constants!$D$13/(Constants!$D$12*Constants!$D$10)","v":25.492373742936262},{"$f":"V34/Constants!$D$13/(Constants!$D$12*Constants!$D$10)","v":25.536140385960962},{"$f":"W34/Constants!$D$13/(Constants!$D$12*Constants!$D$10)","v":25.570493067647838},{"$f":"X34/Constants!$D$13/(Constants!$D$12*Constants!$D$10)","v":25.585077921887478},{"$f":"Y34/Constants!$D$13/(Constants!$D$12*Constants!$D$10)","v":25.571951727489346},{"$f":"Z34/Constants!$D$13/(Constants!$D$12*Constants!$D$10)","v":25.546897145002553},{"$f":"AA34/Constants!$D$13/(Constants!$D$12*Constants!$D$10)","v":25.533430720463731},{"$f":"AB34/Constants!$D$13/(Constants!$D$12*Constants!$D$10)","v":25.540808901491442}]
[]
[null,null,"Savings (aMW)",2010,2011,2012,2013,2014,2015,2016,2017,2018,2019,2020,2021,2022,2023,2024,2025,2026,2027,2028,2029,2030,2031,2032,2033,2034]
[null,null,"Incremental Savings",{"$f":"IF(AND(D42>=STANDARD_YEAR,(D42-STANDARD_YEAR)<LIFETIME_MH),\n(D13-D14)*D22,\n(D13-D14)*D21)\n/Constants!$D$13/(Constants!$D$12*Constants!$D$10)","v":0},{"$f":"IF(AND(E42>=STANDARD_YEAR,(E42-STANDARD_YEAR)<LIFETIME_MH),\n(E13-E14)*E22,\n(E13-E14)*E21)\n/Constants!$D$13/(Constants!$D$12*Constants!$D$10)","v":0},{"$f":"IF(AND(F42>=STANDARD_YEAR,(F42-STANDARD_YEAR)<LIFETIME_MH),\n(F13-F14)*F22,\n(F13-F14)*F21)\n/Constants!$D$13/(Constants!$D$12*Constants!$D$10)","v":0},{"$f":"IF(AND(G42>=STANDARD_YEAR,(G42-STANDARD_YEAR)<LIFETIME_MH),\n(G13-G14)*G22,\n(G13-G14)*G21)\n/Constants!$D$13/(Constants!$D$12*Constants!$D$10)","v":0},{"$f":"IF(AND(H42>=STANDARD_YEAR,(H42-STANDARD_YEAR)<LIFETIME_MH),\n(H13-H14)*H22,\n(H13-H14)*H21)\n/Constants!$D$13/(Constants!$D$12*Constants!$D$10)","v":0},{"$f":"IF(AND(I42>=STANDARD_YEAR,(I42-STANDARD_YEAR)<LIFETIME_MH),\n(I13-I14)*I22,\n(I13-I14)*I21)\n/Constants!$D$13/(Constants!$D$12*Constants!$D$10)","v":0},{"$f":"IF(AND(J42>=STANDARD_YEAR,(J42-STANDARD_YEAR)<LIFETIME_MH),\n(J13-J14)*J22,\n(J13-J14)*J21)\n/Constants!$D$13/(Constants!$D$12*Constants!$D$10)","v":0},{"$f":"IF(AND(K42>=STANDARD_YEAR,(K42-STANDARD_YEAR)<LIFETIME_MH),\n(K13-K14)*K22,\n(K13-K14)*K21)\n/Constants!$D$13/(Constants!$D$12*Constants!$D$10)","v":0},{"$f":"IF(AND(L42>=STANDARD_YEAR,(L42-STANDARD_YEAR)<LIFETIME_MH),\n(L13-L14)*L22,\n(L13-L14)*L21)\n/Constants!$D$13/(Constants!$D$12*Constants!$D$10)","v":0},{"$f":"IF(AND(M42>=STANDARD_YEAR,(M42-STANDARD_YEAR)<LIFETIME_MH),\n(M13-M14)*M22,\n(M13-M14)*M21)\n/Constants!$D$13/(Constants!$D$12*Constants!$D$10)","v":0.2102981706902006},{"$f":"IF(AND(N42>=STANDARD_YEAR,(N42-STANDARD_YEAR)<LIFETIME_MH),\n(N13-N14)*N22,\n(N13-N14)*N21)\n/Constants!$D$13/(Constants!$D$12*Constants!$D$10)","v":0.18557912393765652},{"$f":"IF(AND(O42>=STANDARD_YEAR,(O42-STANDARD_YEAR)<LIFETIME_MH),\n(O13-O14)*O22,\n(O13-O14)*O21)\n/Constants!$D$13/(Constants!$D$12*Constants!$D$10)","v":0.20682115905569814},{"$f":"IF(AND(P42>=STANDARD_YEAR,(P42-STANDARD_YEAR)<LIFETIME_MH),\n(P13-P14)*P22,\n(P13-P14)*P21)\n/Constants!$D$13/(Constants!$D$12*Constants!$D$10)","v":0.20298559148936018},{"$f":"IF(AND(Q42>=STANDARD_YEAR,(Q42-STANDARD_YEAR)<LIFETIME_MH),\n(Q13-Q14)*Q22,\n(Q13-Q14)*Q21)\n/Constants!$D$13/(Constants!$D$12*Constants!$D$10)","v":0.19146174006026698},{"$f":"IF(AND(R42>=STANDARD_YEAR,(R42-STANDARD_YEAR)<LIFETIME_MH),\n(R13-R14)*R22,\n(R13-R14)*R21)\n/Constants!$D$13/(Constants!$D$12*Constants!$D$10)","v":0.18109312087588036},{"$f":"IF(AND(S42>=STANDARD_YEAR,(S42-STANDARD_YEAR)<LIFETIME_MH),\n(S13-S14)*S22,\n(S13-S14)*S21)\n/Constants!$D$13/(Constants!$D$12*Constants!$D$10)","v":0.17601509857907122},{"$f":"IF(AND(T42>=STANDARD_YEAR,(T42-STANDARD_YEAR)<LIFETIME_MH),\n(T13-T14)*T22,\n(T13-T14)*T21)\n/Constants!$D$13/(Constants!$D$12*Constants!$D$10)","v":0.19003751690431206},{"$f":"IF(AND(U42>=STANDARD_YEAR,(U42-STANDARD_YEAR)<LIFETIME_MH),\n(U13-U14)*U22,\n(U13-U14)*U21)\n/Constants!$D$13/(Constants!$D$12*Constants!$D$10)","v":0.1947707994990199},{"$f":"IF(AND(V42>=STANDARD_YEAR,(V42-STANDARD_YEAR)<LIFETIME_MH),\n(V13-V14)*V22,\n(V13-V14)*V21)\n/Constants!$D$13/(Constants!$D$12*Constants!$D$10)","v":0.20402047270948986},{"$f":"IF(AND(W42>=STANDARD_YEAR,(W42-STANDARD_YEAR)<LIFETIME_MH),\n(W13-W14)*W22,\n(W13-W14)*W21)\n/Constants!$D$13/(Constants!$D$12*Constants!$D$10)","v":0.20124410733615555},{"$f":"IF(AND(X42>=STANDARD_YEAR,(X42-STANDARD_YEAR)<LIFETIME_MH),\n(X13-X14)*X22,\n(X13-X14)*X21)\n/Constants!$D$13/(Constants!$D$12*Constants!$D$10)","v":0.20961594381397405},{"$f":"IF(AND(Y42>=STANDARD_YEAR,(Y42-STANDARD_YEAR)<LIFETIME_MH),\n(Y13-Y14)*Y22,\n(Y13-Y14)*Y21)\n/Constants!$D$13/(Constants!$D$12*Constants!$D$10)","v":0.23858701165378171},{"$f":"IF(AND(Z42>=STANDARD_YEAR,(Z42-STANDARD_YEAR)<LIFETIME_MH),\n(Z13-Z14)*Z22,\n(Z13-Z14)*Z21)\n/Constants!$D$13/(Constants!$D$12*Constants!$D$10)","v":0.25231667925654466},{"$f":"IF(AND(AA42>=STANDARD_YEAR,(AA42-STANDARD_YEAR)<LIFETIME_MH),\n(AA13-AA14)*AA22,\n(AA13-AA14)*AA21)\n/Constants!$D$13/(Constants!$D$12*Constants!$D$10)","v":0.24332893644745787},{"$f":"IF(AND(AB42>=STANDARD_YEAR,(AB42-STANDARD_YEAR)<LIFETIME_MH),\n(AB13-AB14)*AB22,\n(AB13-AB14)*AB21)\n/Constants!$D$13/(Constants!$D$12*Constants!$D$10)","v":0.22541385700524097}]
[null,null,"Cumulative Savings",{"$f":"D39-D40","v":0},0,0,0,0,0,0,0,0,{"$f":"M39-M40","v":0.21029817069019785},0.39587729462785148,0.6026984536835478,0.80568404517291015,0.99714578523317599,1.1782389061090583,1.35425400468813,1.544291521592438,1.7390623210914633,1.9430827938009578,2.1443269011371129,2.3539428449510957,2.5925298566048767,2.8448465358614179,3.0881754723088761,3.3135893293141159]
[null,null,"DOE Aggregate Lifecycle Savings (formerly DOE Carbon proxy)",{"$f":"SUM($D$44:D44)","v":0},{"$f":"SUM($D$44:E44)","v":0},{"$f":"SUM($D$44:F44)","v":0},{"$f":"SUM($D$44:G44)","v":0},{"$f":"SUM($D$44:H44)","v":0},{"$f":"SUM($D$44:I44)","v":0},{"$f":"SUM($D$44:J44)","v":0},{"$f":"SUM($D$44:K44)","v":0},{"$f":"SUM($D$44:L44)","v":0},{"$f":"SUM($D$44:M44)","v":0.21029817069019785},{"$f":"SUM($D$44:N44)","v":0.60617546531804933},{"$f":"SUM($D$44:O44)","v":1.2088739190015971},{"$f":"SUM($D$44:P44)","v":2.0145579641745073},{"$f":"SUM($D$44:Q44)","v":3.0117037494076833},{"$f":"SUM($D$44:R44)","v":4.1899426555167416},{"$f":"SUM($D$44:S44)","v":5.5441966602048716},{"$f":"SUM($D$44:T44)","v":7.0884881817973096},{"$f":"SUM($D$44:U44)","v":8.8275505028887729},{"$f":"SUM($D$44:V44)","v":10.770633296689731},{"$f":"SUM($D$44:W44)","v":12.914960197826844},{"$f":"SUM($D$44:X44)","v":15.268903042777939},{"$f":"SUM($D$44:Y44)","v":17.861432899382816},{"$f":"SUM($D$44:Z44)","v":20.706279435244234},{"$f":"SUM($D$44:AA44)","v":23.79445490755311},{"$f":"SUM($D$44:AB44)","v":27.108044236867226}]
[null,null,"Check",{"$f":"IF(ISNUMBER(C44),ROUND((D44-C44-D43),3),0)","v":0},{"$f":"IF(ISNUMBER(D44),ROUND((E44-D44-E43),3),0)","v":0},0,0,0,0,0,0,0,0,0,0,0,0,0,0,0,0,0,0,0,0,0,0,0]

{"sheet":"Results-TH","index":24,"n_rows":46,"n_cols":28,"rows_kept":46,"cut":false,"hidden":false,"merged":[]}
[]
[null,null,"RESULTS - Total Homes"]
[]
[null,null,"NAVIGATION"]
[]
[null,null,"COMMENTS"]
[]
[]
[null,null,"TOTAL HOMES"]
[]
[null,null,"Unit Energy Consumption (kWh/year) ",2010,2011,2012,2013,2014,2015,2016,2017,2018,2019,2020,2021,2022,2023,2024,2025,2026,2027,2028,2029,2030,2031,2032,2033,2034]
[null,null,"6P UEC",{"$f":"(('Results-SF'!D12*'Results-SF'!D19)+('Results-MF'!D12*'Results-MF'!D19)+('Results-MH'!D12*'Results-MH'!D19))\n/\n('Results-SF'!D19+'Results-MF'!D19+'Results-MH'!D19)","v":365.49999999999994},{"$f":"(('Results-SF'!E12*'Results-SF'!E19)+('Results-MF'!E12*'Results-MF'!E19)+('Results-MH'!E12*'Results-MH'!E19))\n/\n('Results-SF'!E19+'Results-MF'!E19+'Results-MH'!E19)","v":365.5},{"$f":"(('Results-SF'!F12*'Results-SF'!F19)+('Results-MF'!F12*'Results-MF'!F19)+('Results-MH'!F12*'Results-MH'!F19))\n/\n('Results-SF'!F19+'Results-MF'!F19+'Results-MH'!F19)","v":365.49999999999994},{"$f":"(('Results-SF'!G12*'Results-SF'!G19)+('Results-MF'!G12*'Results-MF'!G19)+('Results-MH'!G12*'Results-MH'!G19))\n/\n('Results-SF'!G19+'Results-MF'!G19+'Results-MH'!G19)","v":365.49999999999994},{"$f":"(('Results-SF'!H12*'Results-SF'!H19)+('Results-MF'!H12*'Results-MF'!H19)+('Results-MH'!H12*'Results-MH'!H19))\n/\n('Results-SF'!H19+'Results-MF'!H19+'Results-MH'!H19)","v":365.49999999999994},{"$f":"(('Results-SF'!I12*'Results-SF'!I19)+('Results-MF'!I12*'Results-MF'!I19)+('Results-MH'!I12*'Results-MH'!I19))\n/\n('Results-SF'!I19+'Results-MF'!I19+'Results-MH'!I19)","v":365.5},{"$f":"(('Results-SF'!J12*'Results-SF'!J19)+('Results-MF'!J12*'Results-MF'!J19)+('Results-MH'!J12*'Results-MH'!J19))\n/\n('Results-SF'!J19+'Results-MF'!J19+'Results-MH'!J19)","v":365.49999999999994},{"$f":"(('Results-SF'!K12*'Results-SF'!K19)+('Results-MF'!K12*'Results-MF'!K19)+('Results-MH'!K12*'Results-MH'!K19))\n/\n('Results-SF'!K19+'Results-MF'!K19+'Results-MH'!K19)","v":365.49999999999989},{"$f":"(('Results-SF'!L12*'Results-SF'!L19)+('Results-MF'!L12*'Results-MF'!L19)+('Results-MH'!L12*'Results-MH'!L19))\n/\n('Results-SF'!L19+'Results-MF'!L19+'Results-MH'!L19)","v":365.49999999999994},{"$f":"(('Results-SF'!M12*'Results-SF'!M19)+('Results-MF'!M12*'Results-MF'!M19)+('Results-MH'!M12*'Results-MH'!M19))\n/\n('Results-SF'!M19+'Results-MF'!M19+'Results-MH'!M19)","v":365.50000000000006},{"$f":"(('Results-SF'!N12*'Results-SF'!N19)+('Results-MF'!N12*'Results-MF'!N19)+('Results-MH'!N12*'Results-MH'!N19))\n/\n('Results-SF'!N19+'Results-MF'!N19+'Results-MH'!N19)","v":365.49999999999994},{"$f":"(('Results-SF'!O12*'Results-SF'!O19)+('Results-MF'!O12*'Results-MF'!O19)+('Results-MH'!O12*'Results-MH'!O19))\n/\n('Results-SF'!O19+'Results-MF'!O19+'Results-MH'!O19)","v":365.5},{"$f":"(('Results-SF'!P12*'Results-SF'!P19)+('Results-MF'!P12*'Results-MF'!P19)+('Results-MH'!P12*'Results-MH'!P19))\n/\n('Results-SF'!P19+'Results-MF'!P19+'Results-MH'!P19)","v":365.5},{"$f":"(('Results-SF'!Q12*'Results-SF'!Q19)+('Results-MF'!Q12*'Results-MF'!Q19)+('Results-MH'!Q12*'Results-MH'!Q19))\n/\n('Results-SF'!Q19+'Results-MF'!Q19+'Results-MH'!Q19)","v":365.5},{"$f":"(('Results-SF'!R12*'Results-SF'!R19)+('Results-MF'!R12*'Results-MF'!R19)+('Results-MH'!R12*'Results-MH'!R19))\n/\n('Results-SF'!R19+'Results-MF'!R19+'Results-MH'!R19)","v":365.49999999999994},{"$f":"(('Results-SF'!S12*'Results-SF'!S19)+('Results-MF'!S12*'Results-MF'!S19)+('Results-MH'!S12*'Results-MH'!S19))\n/\n('Results-SF'!S19+'Results-MF'!S19+'Results-MH'!S19)","v":365.49999999999994},{"$f":"(('Results-SF'!T12*'Results-SF'!T19)+('Results-MF'!T12*'Results-MF'!T19)+('Results-MH'!T12*'Results-MH'!T19))\n/\n('Results-SF'!T19+'Results-MF'!T19+'Results-MH'!T19)","v":365.49999999999994},{"$f":"(('Results-SF'!U12*'Results-SF'!U19)+('Results-MF'!U12*'Results-MF'!U19)+('Results-MH'!U12*'Results-MH'!U19))\n/\n('Results-SF'!U19+'Results-MF'!U19+'Results-MH'!U19)","v":365.49999999999994},{"$f":"(('Results-SF'!V12*'Results-SF'!V19)+('Results-MF'!V12*'Results-MF'!V19)+('Results-MH'!V12*'Results-MH'!V19))\n/\n('Results-SF'!V19+'Results-MF'!V19+'Results-MH'!V19)","v":365.49999999999994},{"$f":"(('Results-SF'!W12*'Results-SF'!W19)+('Results-MF'!W12*'Results-MF'!W19)+('Results-MH'!W12*'Results-MH'!W19))\n/\n('Results-SF'!W19+'Results-MF'!W19+'Results-MH'!W19)","v":365.49999999999994},{"$f":"(('Results-SF'!X12*'Results-SF'!X19)+('Results-MF'!X12*'Results-MF'!X19)+('Results-MH'!X12*'Results-MH'!X19))\n/\n('Results-SF'!X19+'Results-MF'!X19+'Results-MH'!X19)","v":365.49999999999989},{"$f":"(('Results-SF'!Y12*'Results-SF'!Y19)+('Results-MF'!Y12*'Results-MF'!Y19)+('Results-MH'!Y12*'Results-MH'!Y19))\n/\n('Results-SF'!Y19+'Results-MF'!Y19+'Results-MH'!Y19)","v":365.49999999999989},{"$f":"(('Results-SF'!Z12*'Results-SF'!Z19)+('Results-MF'!Z12*'Results-MF'!Z19)+('Results-MH'!Z12*'Results-MH'!Z19))\n/\n('Results-SF'!Z19+'Results-MF'!Z19+'Results-MH'!Z19)","v":365.49999999999989},{"$f":"(('Results-SF'!AA12*'Results-SF'!AA19)+('Results-MF'!AA12*'Results-MF'!AA19)+('Results-MH'!AA12*'Results-MH'!AA19))\n/\n('Results-SF'!AA19+'Results-MF'!AA19+'Results-MH'!AA19)","v":365.49999999999989},{"$f":"(('Results-SF'!AB12*'Results-SF'!AB19)+('Results-MF'!AB12*'Results-MF'!AB19)+('Results-MH'!AB12*'Results-MH'!AB19))\n/\n('Results-SF'!AB19+'Results-MF'!AB19+'Results-MH'!AB19)","v":365.49999999999989}]
[null,null,{"$f":"'UEC-SF'!$C$9&\" - \"&'UEC-SF'!C11","v":"Market UEC (Shipment Weighted Average) - PRE-Case UEC"},{"$f":"(('Results-SF'!D13*'Results-SF'!D$22)+('Results-MF'!D13*'Results-MF'!D$22)+('Results-MH'!D13*'Results-MH'!D$22))\n/\n('Results-SF'!D$22+'Results-MF'!D$22+'Results-MH'!D$22)","v":362.23709676257113},{"$f":"(('Results-SF'!E13*'Results-SF'!E$22)+('Results-MF'!E13*'Results-MF'!E$22)+('Results-MH'!E13*'Results-MH'!E$22))\n/\n('Results-SF'!E$22+'Results-MF'!E$22+'Results-MH'!E$22)","v":362.15033024503055},{"$f":"(('Results-SF'!F13*'Results-SF'!F$22)+('Results-MF'!F13*'Results-MF'!F$22)+('Results-MH'!F13*'Results-MH'!F$22))\n/\n('Results-SF'!F$22+'Results-MF'!F$22+'Results-MH'!F$22)","v":362.06356372749008},{"$f":"(('Results-SF'!G13*'Results-SF'!G$22)+('Results-MF'!G13*'Results-MF'!G$22)+('Results-MH'!G13*'Results-MH'!G$22))\n/\n('Results-SF'!G$22+'Results-MF'!G$22+'Results-MH'!G$22)","v":361.97679720994955},{"$f":"(('Results-SF'!H13*'Results-SF'!H$22)+('Results-MF'!H13*'Results-MF'!H$22)+('Results-MH'!H13*'Results-MH'!H$22))\n/\n('Results-SF'!H$22+'Results-MF'!H$22+'Results-MH'!H$22)","v":361.89003069240903},{"$f":"(('Results-SF'!I13*'Results-SF'!I$22)+('Results-MF'!I13*'Results-MF'!I$22)+('Results-MH'!I13*'Results-MH'!I$22))\n/\n('Results-SF'!I$22+'Results-MF'!I$22+'Results-MH'!I$22)","v":361.80326417486856},{"$f":"(('Results-SF'!J13*'Results-SF'!J$22)+('Results-MF'!J13*'Results-MF'!J$22)+('Results-MH'!J13*'Results-MH'!J$22))\n/\n('Results-SF'!J$22+'Results-MF'!J$22+'Results-MH'!J$22)","v":361.71649765732667},{"$f":"(('Results-SF'!K13*'Results-SF'!K$22)+('Results-MF'!K13*'Results-MF'!K$22)+('Results-MH'!K13*'Results-MH'!K$22))\n/\n('Results-SF'!K$22+'Results-MF'!K$22+'Results-MH'!K$22)","v":361.62973113978745},{"$f":"(('Results-SF'!L13*'Results-SF'!L$22)+('Results-MF'!L13*'Results-MF'!L$22)+('Results-MH'!L13*'Results-MH'!L$22))\n/\n('Results-SF'!L$22+'Results-MF'!L$22+'Results-MH'!L$22)","v":361.54296462224698},{"$f":"(('Results-SF'!M13*'Results-SF'!M$22)+('Results-MF'!M13*'Results-MF'!M$22)+('Results-MH'!M13*'Results-MH'!M$22))\n/\n('Results-SF'!M$22+'Results-MF'!M$22+'Results-MH'!M$22)","v":361.4561981047064},{"$f":"(('Results-SF'!N13*'Results-SF'!N$22)+('Results-MF'!N13*'Results-MF'!N$22)+('Results-MH'!N13*'Results-MH'!N$22))\n/\n('Results-SF'!N$22+'Results-MF'!N$22+'Results-MH'!N$22)","v":361.36943158716599},{"$f":"(('Results-SF'!O13*'Results-SF'!O$22)+('Results-MF'!O13*'Results-MF'!O$22)+('Results-MH'!O13*'Results-MH'!O$22))\n/\n('Results-SF'!O$22+'Results-MF'!O$22+'Results-MH'!O$22)","v":361.28266506962541},{"$f":"(('Results-SF'!P13*'Results-SF'!P$22)+('Results-MF'!P13*'Results-MF'!P$22)+('Results-MH'!P13*'Results-MH'!P$22))\n/\n('Results-SF'!P$22+'Results-MF'!P$22+'Results-MH'!P$22)","v":361.19589855208488},{"$f":"(('Results-SF'!Q13*'Results-SF'!Q$22)+('Results-MF'!Q13*'Results-MF'!Q$22)+('Results-MH'!Q13*'Results-MH'!Q$22))\n/\n('Results-SF'!Q$22+'Results-MF'!Q$22+'Results-MH'!Q$22)","v":361.10913203454442},{"$f":"(('Results-SF'!R13*'Results-SF'!R$22)+('Results-MF'!R13*'Results-MF'!R$22)+('Results-MH'!R13*'Results-MH'!R$22))\n/\n('Results-SF'!R$22+'Results-MF'!R$22+'Results-MH'!R$22)","v":361.02236551700389},{"$f":"(('Results-SF'!S13*'Results-SF'!S$22)+('Results-MF'!S13*'Results-MF'!S$22)+('Results-MH'!S13*'Results-MH'!S$22))\n/\n('Results-SF'!S$22+'Results-MF'!S$22+'Results-MH'!S$22)","v":360.93559899946337},{"$f":"(('Results-SF'!T13*'Results-SF'!T$22)+('Results-MF'!T13*'Results-MF'!T$22)+('Results-MH'!T13*'Results-MH'!T$22))\n/\n('Results-SF'!T$22+'Results-MF'!T$22+'Results-MH'!T$22)","v":360.84883248192284},{"$f":"(('Results-SF'!U13*'Results-SF'!U$22)+('Results-MF'!U13*'Results-MF'!U$22)+('Results-MH'!U13*'Results-MH'!U$22))\n/\n('Results-SF'!U$22+'Results-MF'!U$22+'Results-MH'!U$22)","v":360.76206596438237},{"$f":"(('Results-SF'!V13*'Results-SF'!V$22)+('Results-MF'!V13*'Results-MF'!V$22)+('Results-MH'!V13*'Results-MH'!V$22))\n/\n('Results-SF'!V$22+'Results-MF'!V$22+'Results-MH'!V$22)","v":360.67529944684179},{"$f":"(('Results-SF'!W13*'Results-SF'!W$22)+('Results-MF'!W13*'Results-MF'!W$22)+('Results-MH'!W13*'Results-MH'!W$22))\n/\n('Results-SF'!W$22+'Results-MF'!W$22+'Results-MH'!W$22)","v":360.58853292930132},{"$f":"(('Results-SF'!X13*'Results-SF'!X$22)+('Results-MF'!X13*'Results-MF'!X$22)+('Results-MH'!X13*'Results-MH'!X$22))\n/\n('Results-SF'!X$22+'Results-MF'!X$22+'Results-MH'!X$22)","v":360.50176641176068},{"$f":"(('Results-SF'!Y13*'Results-SF'!Y$22)+('Results-MF'!Y13*'Results-MF'!Y$22)+('Results-MH'!Y13*'Results-MH'!Y$22))\n/\n('Results-SF'!Y$22+'Results-MF'!Y$22+'Results-MH'!Y$22)","v":360.41499989422033},{"$f":"(('Results-SF'!Z13*'Results-SF'!Z$22)+('Results-MF'!Z13*'Results-MF'!Z$22)+('Results-MH'!Z13*'Results-MH'!Z$22))\n/\n('Results-SF'!Z$22+'Results-MF'!Z$22+'Results-MH'!Z$22)","v":360.32823337667969},{"$f":"(('Results-SF'!AA13*'Results-SF'!AA$22)+('Results-MF'!AA13*'Results-MF'!AA$22)+('Results-MH'!AA13*'Results-MH'!AA$22))\n/\n('Results-SF'!AA$22+'Results-MF'!AA$22+'Results-MH'!AA$22)","v":360.24146685913917},{"$f":"(('Results-SF'!AB13*'Results-SF'!AB$22)+('Results-MF'!AB13*'Results-MF'!AB$22)+('Results-MH'!AB13*'Results-MH'!AB$22))\n/\n('Results-SF'!AB$22+'Results-MF'!AB$22+'Results-MH'!AB$22)","v":360.1547003415987}]
[null,null,{"$f":"'UEC-SF'!$C$9&\" - \"&'UEC-SF'!C12","v":"Market UEC (Shipment Weighted Average) - POST-Case UEC"},{"$f":"(('Results-SF'!D14*'Results-SF'!D$22)+('Results-MF'!D14*'Results-MF'!D$22)+('Results-MH'!D14*'Results-MH'!D$22))\n/\n('Results-SF'!D$22+'Results-MF'!D$22+'Results-MH'!D$22)","v":362.23709676257113},{"$f":"(('Results-SF'!E14*'Results-SF'!E$22)+('Results-MF'!E14*'Results-MF'!E$22)+('Results-MH'!E14*'Results-MH'!E$22))\n/\n('Results-SF'!E$22+'Results-MF'!E$22+'Results-MH'!E$22)","v":362.15033024503055},{"$f":"(('Results-SF'!F14*'Results-SF'!F$22)+('Results-MF'!F14*'Results-MF'!F$22)+('Results-MH'!F14*'Results-MH'!F$22))\n/\n('Results-SF'!F$22+'Results-MF'!F$22+'Results-MH'!F$22)","v":362.06356372749008},{"$f":"(('Results-SF'!G14*'Results-SF'!G$22)+('Results-MF'!G14*'Results-MF'!G$22)+('Results-MH'!G14*'Results-MH'!G$22))\n/\n('Results-SF'!G$22+'Results-MF'!G$22+'Results-MH'!G$22)","v":361.97679720994955},{"$f":"(('Results-SF'!H14*'Results-SF'!H$22)+('Results-MF'!H14*'Results-MF'!H$22)+('Results-MH'!H14*'Results-MH'!H$22))\n/\n('Results-SF'!H$22+'Results-MF'!H$22+'Results-MH'!H$22)","v":361.89003069240903},{"$f":"(('Results-SF'!I14*'Results-SF'!I$22)+('Results-MF'!I14*'Results-MF'!I$22)+('Results-MH'!I14*'Results-MH'!I$22))\n/\n('Results-SF'!I$22+'Results-MF'!I$22+'Results-MH'!I$22)","v":361.80326417486856},{"$f":"(('Results-SF'!J14*'Results-SF'!J$22)+('Results-MF'!J14*'Results-MF'!J$22)+('Results-MH'!J14*'Results-MH'!J$22))\n/\n('Results-SF'!J$22+'Results-MF'!J$22+'Results-MH'!J$22)","v":361.71649765732667},{"$f":"(('Results-SF'!K14*'Results-SF'!K$22)+('Results-MF'!K14*'Results-MF'!K$22)+('Results-MH'!K14*'Results-MH'!K$22))\n/\n('Results-SF'!K$22+'Results-MF'!K$22+'Results-MH'!K$22)","v":361.62973113978745},{"$f":"(('Results-SF'!L14*'Results-SF'!L$22)+('Results-MF'!L14*'Results-MF'!L$22)+('Results-MH'!L14*'Results-MH'!L$22))\n/\n('Results-SF'!L$22+'Results-MF'!L$22+'Results-MH'!L$22)","v":361.54296462224698},{"$f":"(('Results-SF'!M14*'Results-SF'!M$22)+('Results-MF'!M14*'Results-MF'!M$22)+('Results-MH'!M14*'Results-MH'!M$22))\n/\n('Results-SF'!M$22+'Results-MF'!M$22+'Results-MH'!M$22)","v":312.59704122292959},{"$f":"(('Results-SF'!N14*'Results-SF'!N$22)+('Results-MF'!N14*'Results-MF'!N$22)+('Results-MH'!N14*'Results-MH'!N$22))\n/\n('Results-SF'!N$22+'Results-MF'!N$22+'Results-MH'!N$22)","v":312.56146695073795},{"$f":"(('Results-SF'!O14*'Results-SF'!O$22)+('Results-MF'!O14*'Results-MF'!O$22)+('Results-MH'!O14*'Results-MH'!O$22))\n/\n('Results-SF'!O$22+'Results-MF'!O$22+'Results-MH'!O$22)","v":312.52589267854648},{"$f":"(('Results-SF'!P14*'Results-SF'!P$22)+('Results-MF'!P14*'Results-MF'!P$22)+('Results-MH'!P14*'Results-MH'!P$22))\n/\n('Results-SF'!P$22+'Results-MF'!P$22+'Results-MH'!P$22)","v":312.49031840635479},{"$f":"(('Results-SF'!Q14*'Results-SF'!Q$22)+('Results-MF'!Q14*'Results-MF'!Q$22)+('Results-MH'!Q14*'Results-MH'!Q$22))\n/\n('Results-SF'!Q$22+'Results-MF'!Q$22+'Results-MH'!Q$22)","v":312.45474413416326},{"$f":"(('Results-SF'!R14*'Results-SF'!R$22)+('Results-MF'!R14*'Results-MF'!R$22)+('Results-MH'!R14*'Results-MH'!R$22))\n/\n('Results-SF'!R$22+'Results-MF'!R$22+'Results-MH'!R$22)","v":312.41916986197157},{"$f":"(('Results-SF'!S14*'Results-SF'!S$22)+('Results-MF'!S14*'Results-MF'!S$22)+('Results-MH'!S14*'Results-MH'!S$22))\n/\n('Results-SF'!S$22+'Results-MF'!S$22+'Results-MH'!S$22)","v":312.38359558977993},{"$f":"(('Results-SF'!T14*'Results-SF'!T$22)+('Results-MF'!T14*'Results-MF'!T$22)+('Results-MH'!T14*'Results-MH'!T$22))\n/\n('Results-SF'!T$22+'Results-MF'!T$22+'Results-MH'!T$22)","v":312.34802131758835},{"$f":"(('Results-SF'!U14*'Results-SF'!U$22)+('Results-MF'!U14*'Results-MF'!U$22)+('Results-MH'!U14*'Results-MH'!U$22))\n/\n('Results-SF'!U$22+'Results-MF'!U$22+'Results-MH'!U$22)","v":312.31244704539682},{"$f":"(('Results-SF'!V14*'Results-SF'!V$22)+('Results-MF'!V14*'Results-MF'!V$22)+('Results-MH'!V14*'Results-MH'!V$22))\n/\n('Results-SF'!V$22+'Results-MF'!V$22+'Results-MH'!V$22)","v":312.27687277320524},{"$f":"(('Results-SF'!W14*'Results-SF'!W$22)+('Results-MF'!W14*'Results-MF'!W$22)+('Results-MH'!W14*'Results-MH'!W$22))\n/\n('Results-SF'!W$22+'Results-MF'!W$22+'Results-MH'!W$22)","v":312.24129850101349},{"$f":"(('Results-SF'!X14*'Results-SF'!X$22)+('Results-MF'!X14*'Results-MF'!X$22)+('Results-MH'!X14*'Results-MH'!X$22))\n/\n('Results-SF'!X$22+'Results-MF'!X$22+'Results-MH'!X$22)","v":312.20572422882191},{"$f":"(('Results-SF'!Y14*'Results-SF'!Y$22)+('Results-MF'!Y14*'Results-MF'!Y$22)+('Results-MH'!Y14*'Results-MH'!Y$22))\n/\n('Results-SF'!Y$22+'Results-MF'!Y$22+'Results-MH'!Y$22)","v":312.17014995663033},{"$f":"(('Results-SF'!Z14*'Results-SF'!Z$22)+('Results-MF'!Z14*'Results-MF'!Z$22)+('Results-MH'!Z14*'Results-MH'!Z$22))\n/\n('Results-SF'!Z$22+'Results-MF'!Z$22+'Results-MH'!Z$22)","v":312.13457568443874},{"$f":"(('Results-SF'!AA14*'Results-SF'!AA$22)+('Results-MF'!AA14*'Results-MF'!AA$22)+('Results-MH'!AA14*'Results-MH'!AA$22))\n/\n('Results-SF'!AA$22+'Results-MF'!AA$22+'Results-MH'!AA$22)","v":312.09900141224699},{"$f":"(('Results-SF'!AB14*'Results-SF'!AB$22)+('Results-MF'!AB14*'Results-MF'!AB$22)+('Results-MH'!AB14*'Results-MH'!AB$22))\n/\n('Results-SF'!AB$22+'Results-MF'!AB$22+'Results-MH'!AB$22)","v":312.06342714005547}]
[null,null,{"$f":"'UEC-SF'!$C$14&\" - \"&'UEC-SF'!C16","v":"Installed UEC (Vintage Weighted Average)  - PRE-Case UEC"},{"$f":"(('Results-SF'!D15*'Results-SF'!D$23)+('Results-MF'!D15*'Results-MF'!D$23)+('Results-MH'!D15*'Results-MH'!D$23))\n/\n('Results-SF'!D$23+'Results-MF'!D$23+'Results-MH'!D$23)","v":363.01668756469149},{"$f":"(('Results-SF'!E15*'Results-SF'!E$23)+('Results-MF'!E15*'Results-MF'!E$23)+('Results-MH'!E15*'Results-MH'!E$23))\n/\n('Results-SF'!E$23+'Results-MF'!E$23+'Results-MH'!E$23)","v":362.89627162963984},{"$f":"(('Results-SF'!F15*'Results-SF'!F$23)+('Results-MF'!F15*'Results-MF'!F$23)+('Results-MH'!F15*'Results-MH'!F$23))\n/\n('Results-SF'!F$23+'Results-MF'!F$23+'Results-MH'!F$23)","v":362.77712070746475},{"$f":"(('Results-SF'!G15*'Results-SF'!G$23)+('Results-MF'!G15*'Results-MF'!G$23)+('Results-MH'!G15*'Results-MH'!G$23))\n/\n('Results-SF'!G$23+'Results-MF'!G$23+'Results-MH'!G$23)","v":362.67065070759014},{"$f":"(('Results-SF'!H15*'Results-SF'!H$23)+('Results-MF'!H15*'Results-MF'!H$23)+('Results-MH'!H15*'Results-MH'!H$23))\n/\n('Results-SF'!H$23+'Results-MF'!H$23+'Results-MH'!H$23)","v":362.56182116457666},{"$f":"(('Results-SF'!I15*'Results-SF'!I$23)+('Results-MF'!I15*'Results-MF'!I$23)+('Results-MH'!I15*'Results-MH'!I$23))\n/\n('Results-SF'!I$23+'Results-MF'!I$23+'Results-MH'!I$23)","v":362.46649094509092},{"$f":"(('Results-SF'!J15*'Results-SF'!J$23)+('Results-MF'!J15*'Results-MF'!J$23)+('Results-MH'!J15*'Results-MH'!J$23))\n/\n('Results-SF'!J$23+'Results-MF'!J$23+'Results-MH'!J$23)","v":362.37733764983915},{"$f":"(('Results-SF'!K15*'Results-SF'!K$23)+('Results-MF'!K15*'Results-MF'!K$23)+('Results-MH'!K15*'Results-MH'!K$23))\n/\n('Results-SF'!K$23+'Results-MF'!K$23+'Results-MH'!K$23)","v":362.29440371520406},{"$f":"(('Results-SF'!L15*'Results-SF'!L$23)+('Results-MF'!L15*'Results-MF'!L$23)+('Results-MH'!L15*'Results-MH'!L$23))\n/\n('Results-SF'!L$23+'Results-MF'!L$23+'Results-MH'!L$23)","v":362.21807935454609},{"$f":"(('Results-SF'!M15*'Results-SF'!M$23)+('Results-MF'!M15*'Results-MF'!M$23)+('Results-MH'!M15*'Results-MH'!M$23))\n/\n('Results-SF'!M$23+'Results-MF'!M$23+'Results-MH'!M$23)","v":362.128963349213},{"$f":"(('Results-SF'!N15*'Results-SF'!N$23)+('Results-MF'!N15*'Results-MF'!N$23)+('Results-MH'!N15*'Results-MH'!N$23))\n/\n('Results-SF'!N$23+'Results-MF'!N$23+'Results-MH'!N$23)","v":362.04920724926666},{"$f":"(('Results-SF'!O15*'Results-SF'!O$23)+('Results-MF'!O15*'Results-MF'!O$23)+('Results-MH'!O15*'Results-MH'!O$23))\n/\n('Results-SF'!O$23+'Results-MF'!O$23+'Results-MH'!O$23)","v":361.96915206743421},{"$f":"(('Results-SF'!P15*'Results-SF'!P$23)+('Results-MF'!P15*'Results-MF'!P$23)+('Results-MH'!P15*'Results-MH'!P$23))\n/\n('Results-SF'!P$23+'Results-MF'!P$23+'Results-MH'!P$23)","v":361.90407256879809},{"$f":"(('Results-SF'!Q15*'Results-SF'!Q$23)+('Results-MF'!Q15*'Results-MF'!Q$23)+('Results-MH'!Q15*'Results-MH'!Q$23))\n/\n('Results-SF'!Q$23+'Results-MF'!Q$23+'Results-MH'!Q$23)","v":361.83504029901007},{"$f":"(('Results-SF'!R15*'Results-SF'!R$23)+('Results-MF'!R15*'Results-MF'!R$23)+('Results-MH'!R15*'Results-MH'!R$23))\n/\n('Results-SF'!R$23+'Results-MF'!R$23+'Results-MH'!R$23)","v":361.75643682651111},{"$f":"(('Results-SF'!S15*'Results-SF'!S$23)+('Results-MF'!S15*'Results-MF'!S$23)+('Results-MH'!S15*'Results-MH'!S$23))\n/\n('Results-SF'!S$23+'Results-MF'!S$23+'Results-MH'!S$23)","v":361.66801136232561},{"$f":"(('Results-SF'!T15*'Results-SF'!T$23)+('Results-MF'!T15*'Results-MF'!T$23)+('Results-MH'!T15*'Results-MH'!T$23))\n/\n('Results-SF'!T$23+'Results-MF'!T$23+'Results-MH'!T$23)","v":361.58235268809705},{"$f":"(('Results-SF'!U15*'Results-SF'!U$23)+('Results-MF'!U15*'Results-MF'!U$23)+('Results-MH'!U15*'Results-MH'!U$23))\n/\n('Results-SF'!U$23+'Results-MF'!U$23+'Results-MH'!U$23)","v":361.50075058741049},{"$f":"(('Results-SF'!V15*'Results-SF'!V$23)+('Results-MF'!V15*'Results-MF'!V$23)+('Results-MH'!V15*'Results-MH'!V$23))\n/\n('Results-SF'!V$23+'Results-MF'!V$23+'Results-MH'!V$23)","v":361.42334222004479},{"$f":"(('Results-SF'!W15*'Results-SF'!W$23)+('Results-MF'!W15*'Results-MF'!W$23)+('Results-MH'!W15*'Results-MH'!W$23))\n/\n('Results-SF'!W$23+'Results-MF'!W$23+'Results-MH'!W$23)","v":361.3482120258297},{"$f":"(('Results-SF'!X15*'Results-SF'!X$23)+('Results-MF'!X15*'Results-MF'!X$23)+('Results-MH'!X15*'Results-MH'!X$23))\n/\n('Results-SF'!X$23+'Results-MF'!X$23+'Results-MH'!X$23)","v":361.26638426919567},{"$f":"(('Results-SF'!Y15*'Results-SF'!Y$23)+('Results-MF'!Y15*'Results-MF'!Y$23)+('Results-MH'!Y15*'Results-MH'!Y$23))\n/\n('Results-SF'!Y$23+'Results-MF'!Y$23+'Results-MH'!Y$23)","v":361.17716802289351},{"$f":"(('Results-SF'!Z15*'Results-SF'!Z$23)+('Results-MF'!Z15*'Results-MF'!Z$23)+('Results-MH'!Z15*'Results-MH'!Z$23))\n/\n('Results-SF'!Z$23+'Results-MF'!Z$23+'Results-MH'!Z$23)","v":361.08626543898578},{"$f":"(('Results-SF'!AA15*'Results-SF'!AA$23)+('Results-MF'!AA15*'Results-MF'!AA$23)+('Results-MH'!AA15*'Results-MH'!AA$23))\n/\n('Results-SF'!AA$23+'Results-MF'!AA$23+'Results-MH'!AA$23)","v":360.99811415664163},{"$f":"(('Results-SF'!AB15*'Results-SF'!AB$23)+('Results-MF'!AB15*'Results-MF'!AB$23)+('Results-MH'!AB15*'Results-MH'!AB$23))\n/\n('Results-SF'!AB$23+'Results-MF'!AB$23+'Results-MH'!AB$23)","v":360.91093980116585}]
[null,null,{"$f":"'UEC-SF'!$C$14&\" - \"&'UEC-SF'!C17","v":"Installed UEC (Vintage Weighted Average)  - POST-Case UEC"},{"$f":"(('Results-SF'!D16*'Results-SF'!D$23)+('Results-MF'!D16*'Results-MF'!D$23)+('Results-MH'!D16*'Results-MH'!D$23))\n/\n('Results-SF'!D$23+'Results-MF'!D$23+'Results-MH'!D$23)","v":363.01668756469149},{"$f":"(('Results-SF'!E16*'Results-SF'!E$23)+('Results-MF'!E16*'Results-MF'!E$23)+('Results-MH'!E16*'Results-MH'!E$23))\n/\n('Results-SF'!E$23+'Results-MF'!E$23+'Results-MH'!E$23)","v":362.89627162963984},{"$f":"(('Results-SF'!F16*'Results-SF'!F$23)+('Results-MF'!F16*'Results-MF'!F$23)+('Results-MH'!F16*'Results-MH'!F$23))\n/\n('Results-SF'!F$23+'Results-MF'!F$23+'Results-MH'!F$23)","v":362.77712070746475},{"$f":"(('Results-SF'!G16*'Results-SF'!G$23)+('Results-MF'!G16*'Results-MF'!G$23)+('Results-MH'!G16*'Results-MH'!G$23))\n/\n('Results-SF'!G$23+'Results-MF'!G$23+'Results-MH'!G$23)","v":362.67065070759014},{"$f":"(('Results-SF'!H16*'Results-SF'!H$23)+('Results-MF'!H16*'Results-MF'!H$23)+('Results-MH'!H16*'Results-MH'!H$23))\n/\n('Results-SF'!H$23+'Results-MF'!H$23+'Results-MH'!H$23)","v":362.56182116457666},{"$f":"(('Results-SF'!I16*'Results-SF'!I$23)+('Results-MF'!I16*'Results-MF'!I$23)+('Results-MH'!I16*'Results-MH'!I$23))\n/\n('Results-SF'!I$23+'Results-MF'!I$23+'Results-MH'!I$23)","v":362.46649094509092},{"$f":"(('Results-SF'!J16*'Results-SF'!J$23)+('Results-MF'!J16*'Results-MF'!J$23)+('Results-MH'!J16*'Results-MH'!J$23))\n/\n('Results-SF'!J$23+'Results-MF'!J$23+'Results-MH'!J$23)","v":362.37733764983915},{"$f":"(('Results-SF'!K16*'Results-SF'!K$23)+('Results-MF'!K16*'Results-MF'!K$23)+('Results-MH'!K16*'Results-MH'!K$23))\n/\n('Results-SF'!K$23+'Results-MF'!K$23+'Results-MH'!K$23)","v":362.29440371520406},{"$f":"(('Results-SF'!L16*'Results-SF'!L$23)+('Results-MF'!L16*'Results-MF'!L$23)+('Results-MH'!L16*'Results-MH'!L$23))\n/\n('Results-SF'!L$23+'Results-MF'!L$23+'Results-MH'!L$23)","v":362.21807935454609},{"$f":"(('Results-SF'!M16*'Results-SF'!M$23)+('Results-MF'!M16*'Results-MF'!M$23)+('Results-MH'!M16*'Results-MH'!M$23))\n/\n('Results-SF'!M$23+'Results-MF'!M$23+'Results-MH'!M$23)","v":359.07279906771657},{"$f":"(('Results-SF'!N16*'Results-SF'!N$23)+('Results-MF'!N16*'Results-MF'!N$23)+('Results-MH'!N16*'Results-MH'!N$23))\n/\n('Results-SF'!N$23+'Results-MF'!N$23+'Results-MH'!N$23)","v":356.17804100986655},{"$f":"(('Results-SF'!O16*'Results-SF'!O$23)+('Results-MF'!O16*'Results-MF'!O$23)+('Results-MH'!O16*'Results-MH'!O$23))\n/\n('Results-SF'!O$23+'Results-MF'!O$23+'Results-MH'!O$23)","v":353.19720792405366},{"$f":"(('Results-SF'!P16*'Results-SF'!P$23)+('Results-MF'!P16*'Results-MF'!P$23)+('Results-MH'!P16*'Results-MH'!P$23))\n/\n('Results-SF'!P$23+'Results-MF'!P$23+'Results-MH'!P$23)","v":350.25455974408789},{"$f":"(('Results-SF'!Q16*'Results-SF'!Q$23)+('Results-MF'!Q16*'Results-MF'!Q$23)+('Results-MH'!Q16*'Results-MH'!Q$23))\n/\n('Results-SF'!Q$23+'Results-MF'!Q$23+'Results-MH'!Q$23)","v":347.32131927480668},{"$f":"(('Results-SF'!R16*'Results-SF'!R$23)+('Results-MF'!R16*'Results-MF'!R$23)+('Results-MH'!R16*'Results-MH'!R$23))\n/\n('Results-SF'!R$23+'Results-MF'!R$23+'Results-MH'!R$23)","v":344.43060763210377},{"$f":"(('Results-SF'!S16*'Results-SF'!S$23)+('Results-MF'!S16*'Results-MF'!S$23)+('Results-MH'!S16*'Results-MH'!S$23))\n/\n('Results-SF'!S$23+'Results-MF'!S$23+'Results-MH'!S$23)","v":341.64936712257577},{"$f":"(('Results-SF'!T16*'Results-SF'!T$23)+('Results-MF'!T16*'Results-MF'!T$23)+('Results-MH'!T16*'Results-MH'!T$23))\n/\n('Results-SF'!T$23+'Results-MF'!T$23+'Results-MH'!T$23)","v":338.98987251912115},{"$f":"(('Results-SF'!U16*'Results-SF'!U$23)+('Results-MF'!U16*'Results-MF'!U$23)+('Results-MH'!U16*'Results-MH'!U$23))\n/\n('Results-SF'!U$23+'Results-MF'!U$23+'Results-MH'!U$23)","v":336.48921461613674},{"$f":"(('Results-SF'!V16*'Results-SF'!V$23)+('Results-MF'!V16*'Results-MF'!V$23)+('Results-MH'!V16*'Results-MH'!V$23))\n/\n('Results-SF'!V$23+'Results-MF'!V$23+'Results-MH'!V$23)","v":334.14902017298994},{"$f":"(('Results-SF'!W16*'Results-SF'!W$23)+('Results-MF'!W16*'Results-MF'!W$23)+('Results-MH'!W16*'Results-MH'!W$23))\n/\n('Results-SF'!W$23+'Results-MF'!W$23+'Results-MH'!W$23)","v":331.90878692892045},{"$f":"(('Results-SF'!X16*'Results-SF'!X$23)+('Results-MF'!X16*'Results-MF'!X$23)+('Results-MH'!X16*'Results-MH'!X$23))\n/\n('Results-SF'!X$23+'Results-MF'!X$23+'Results-MH'!X$23)","v":329.49502473136266},{"$f":"(('Results-SF'!Y16*'Results-SF'!Y$23)+('Results-MF'!Y16*'Results-MF'!Y$23)+('Results-MH'!Y16*'Results-MH'!Y$23))\n/\n('Results-SF'!Y$23+'Results-MF'!Y$23+'Results-MH'!Y$23)","v":326.8875772723278},{"$f":"(('Results-SF'!Z16*'Results-SF'!Z$23)+('Results-MF'!Z16*'Results-MF'!Z$23)+('Results-MH'!Z16*'Results-MH'!Z$23))\n/\n('Results-SF'!Z$23+'Results-MF'!Z$23+'Results-MH'!Z$23)","v":324.25891360762546},{"$f":"(('Results-SF'!AA16*'Results-SF'!AA$23)+('Results-MF'!AA16*'Results-MF'!AA$23)+('Results-MH'!AA16*'Results-MH'!AA$23))\n/\n('Results-SF'!AA$23+'Results-MF'!AA$23+'Results-MH'!AA$23)","v":321.74278683981407},{"$f":"(('Results-SF'!AB16*'Results-SF'!AB$23)+('Results-MF'!AB16*'Results-MF'!AB$23)+('Results-MH'!AB16*'Results-MH'!AB$23))\n/\n('Results-SF'!AB$23+'Results-MF'!AB$23+'Results-MH'!AB$23)","v":319.285115429955}]
[]
[null,null,"Stock and Shipments (units)",2010,2011,2012,2013,2014,2015,2016,2017,2018,2019,2020,2021,2022,2023,2024,2025,2026,2027,2028,2029,2030,2031,2032,2033,2034]
[null,null,"6P Shipments",{"$f":"'Results-SF'!D19+'Results-MF'!D19+'Results-MH'!D19","v":286437.14780541137},{"$f":"'Results-SF'!E19+'Results-MF'!E19+'Results-MH'!E19","v":303320.79206162575},{"$f":"'Results-SF'!F19+'Results-MF'!F19+'Results-MH'!F19","v":311816.8524959858},{"$f":"'Results-SF'!G19+'Results-MF'!G19+'Results-MH'!G19","v":313643.50866175018},{"$f":"'Results-SF'!H19+'Results-MF'!H19+'Results-MH'!H19","v":313811.07858998276},{"$f":"'Results-SF'!I19+'Results-MF'!I19+'Results-MH'!I19","v":314775.04056443815},{"$f":"'Results-SF'!J19+'Results-MF'!J19+'Results-MH'!J19","v":315628.41608599172},{"$f":"'Results-SF'!K19+'Results-MF'!K19+'Results-MH'!K19","v":314981.13159634889},{"$f":"'Results-SF'!L19+'Results-MF'!L19+'Results-MH'!L19","v":314392.15332863247},{"$f":"'Results-SF'!M19+'Results-MF'!M19+'Results-MH'!M19","v":313924.96235942363},{"$f":"'Results-SF'!N19+'Results-MF'!N19+'Results-MH'!N19","v":313573.29237689625},{"$f":"'Results-SF'!O19+'Results-MF'!O19+'Results-MH'!O19","v":312079.44077410101},{"$f":"'Results-SF'!P19+'Results-MF'!P19+'Results-MH'!P19","v":315345.96804833028},{"$f":"'Results-SF'!Q19+'Results-MF'!Q19+'Results-MH'!Q19","v":314922.82795337064},{"$f":"'Results-SF'!R19+'Results-MF'!R19+'Results-MH'!R19","v":314169.56506921351},{"$f":"'Results-SF'!S19+'Results-MF'!S19+'Results-MH'!S19","v":313782.45612778619},{"$f":"'Results-SF'!T19+'Results-MF'!T19+'Results-MH'!T19","v":312910.86937864032},{"$f":"'Results-SF'!U19+'Results-MF'!U19+'Results-MH'!U19","v":311599.4236998717},{"$f":"'Results-SF'!V19+'Results-MF'!V19+'Results-MH'!V19","v":309972.93724098883},{"$f":"'Results-SF'!W19+'Results-MF'!W19+'Results-MH'!W19","v":308726.3834821452},{"$f":"'Results-SF'!X19+'Results-MF'!X19+'Results-MH'!X19","v":71800.303618673483},{"$f":"'Results-SF'!Y19+'Results-MF'!Y19+'Results-MH'!Y19","v":71800.303618673483},{"$f":"'Results-SF'!Z19+'Results-MF'!Z19+'Results-MH'!Z19","v":71800.303618673483},{"$f":"'Results-SF'!AA19+'Results-MF'!AA19+'Results-MH'!AA19","v":71800.303618673483},{"$f":"'Results-SF'!AB19+'Results-MF'!AB19+'Results-MH'!AB19","v":71800.303618673483}]
[null,null,"Replacement Shipments",{"$f":"'Results-SF'!D20+'Results-MF'!D20+'Results-MH'!D20","v":255114.37341560572},{"$f":"'Results-SF'!E20+'Results-MF'!E20+'Results-MH'!E20","v":268455.16458238097},{"$f":"'Results-SF'!F20+'Results-MF'!F20+'Results-MH'!F20","v":247319.22452681218},{"$f":"'Results-SF'!G20+'Results-MF'!G20+'Results-MH'!G20","v":256127.93558392886},{"$f":"'Results-SF'!H20+'Results-MF'!H20+'Results-MH'!H20","v":248284.7420273211},{"$f":"'Results-SF'!I20+'Results-MF'!I20+'Results-MH'!I20","v":246771.78060043495},{"$f":"'Results-SF'!J20+'Results-MF'!J20+'Results-MH'!J20","v":245348.33251134117},{"$f":"'Results-SF'!K20+'Results-MF'!K20+'Results-MH'!K20","v":249527.15289277173},{"$f":"'Results-SF'!L20+'Results-MF'!L20+'Results-MH'!L20","v":239427.95127968534},{"$f":"'Results-SF'!M20+'Results-MF'!M20+'Results-MH'!M20","v":281192.58165835548},{"$f":"'Results-SF'!N20+'Results-MF'!N20+'Results-MH'!N20","v":263058.93130773545},{"$f":"'Results-SF'!O20+'Results-MF'!O20+'Results-MH'!O20","v":284822.59266053711},{"$f":"'Results-SF'!P20+'Results-MF'!P20+'Results-MH'!P20","v":292357.62126581353},{"$f":"'Results-SF'!Q20+'Results-MF'!Q20+'Results-MH'!Q20","v":300896.61097357678},{"$f":"'Results-SF'!R20+'Results-MF'!R20+'Results-MH'!R20","v":304575.41285524692},{"$f":"'Results-SF'!S20+'Results-MF'!S20+'Results-MH'!S20","v":298947.17275681335},{"$f":"'Results-SF'!T20+'Results-MF'!T20+'Results-MH'!T20","v":292958.43232320121},{"$f":"'Results-SF'!U20+'Results-MF'!U20+'Results-MH'!U20","v":281656.3831091933},{"$f":"'Results-SF'!V20+'Results-MF'!V20+'Results-MH'!V20","v":269323.89975153649},{"$f":"'Results-SF'!W20+'Results-MF'!W20+'Results-MH'!W20","v":263872.42702635319},{"$f":"'Results-SF'!X20+'Results-MF'!X20+'Results-MH'!X20","v":294217.79596333491},{"$f":"'Results-SF'!Y20+'Results-MF'!Y20+'Results-MH'!Y20","v":327607.437894125},{"$f":"'Results-SF'!Z20+'Results-MF'!Z20+'Results-MH'!Z20","v":338385.82783801272},{"$f":"'Results-SF'!AA20+'Results-MF'!AA20+'Results-MH'!AA20","v":330828.09632504778},{"$f":"'Results-SF'!AB20+'Results-MF'!AB20+'Results-MH'!AB20","v":330451.61113004992}]
[null,null,"Net New Shipments",{"$f":"'Results-SF'!D21+'Results-MF'!D21+'Results-MH'!D21","v":8758.0536107474472},{"$f":"'Results-SF'!E21+'Results-MF'!E21+'Results-MH'!E21","v":25762.631380953942},{"$f":"'Results-SF'!F21+'Results-MF'!F21+'Results-MH'!F21","v":80288.213367312797},{"$f":"'Results-SF'!G21+'Results-MF'!G21+'Results-MH'!G21","v":82257.892254083883},{"$f":"'Results-SF'!H21+'Results-MF'!H21+'Results-MH'!H21","v":82543.354297726648},{"$f":"'Results-SF'!I21+'Results-MF'!I21+'Results-MH'!I21","v":83679.830529614948},{"$f":"'Results-SF'!J21+'Results-MF'!J21+'Results-MH'!J21","v":84678.401475601713},{"$f":"'Results-SF'!K21+'Results-MF'!K21+'Results-MH'!K21","v":84073.106321338098},{"$f":"'Results-SF'!L21+'Results-MF'!L21+'Results-MH'!L21","v":83542.822268663222},{"$f":"'Results-SF'!M21+'Results-MF'!M21+'Results-MH'!M21","v":83158.335828354233},{"$f":"'Results-SF'!N21+'Results-MF'!N21+'Results-MH'!N21","v":82860.371049927082},{"$f":"'Results-SF'!O21+'Results-MF'!O21+'Results-MH'!O21","v":81283.238969892147},{"$f":"'Results-SF'!P21+'Results-MF'!P21+'Results-MH'!P21","v":80808.966089740628},{"$f":"'Results-SF'!Q21+'Results-MF'!Q21+'Results-MH'!Q21","v":80414.559521307237},{"$f":"'Results-SF'!R21+'Results-MF'!R21+'Results-MH'!R21","v":79671.132620688295},{"$f":"'Results-SF'!S21+'Results-MF'!S21+'Results-MH'!S21","v":79262.010569462553},{"$f":"'Results-SF'!T21+'Results-MF'!T21+'Results-MH'!T21","v":78358.878501801635},{"$f":"'Results-SF'!U21+'Results-MF'!U21+'Results-MH'!U21","v":77042.957755582174},{"$f":"'Results-SF'!V21+'Results-MF'!V21+'Results-MH'!V21","v":75419.947472644271},{"$f":"'Results-SF'!W21+'Results-MF'!W21+'Results-MH'!W21","v":74167.184097882127},{"$f":"'Results-SF'!X21+'Results-MF'!X21+'Results-MH'!X21","v":73485.311989368172},{"$f":"'Results-SF'!Y21+'Results-MF'!Y21+'Results-MH'!Y21","v":74220.165109262569},{"$f":"'Results-SF'!Z21+'Results-MF'!Z21+'Results-MH'!Z21","v":74962.366760354373},{"$f":"'Results-SF'!AA21+'Results-MF'!AA21+'Results-MH'!AA21","v":75711.990427957382},{"$f":"'Results-SF'!AB21+'Results-MF'!AB21+'Results-MH'!AB21","v":76469.110332237906}]
[null,null,"Total Model Shipments",{"$f":"'Results-SF'!D22+'Results-MF'!D22+'Results-MH'!D22","v":263872.42702635319},{"$f":"'Results-SF'!E22+'Results-MF'!E22+'Results-MH'!E22","v":294217.79596333491},{"$f":"'Results-SF'!F22+'Results-MF'!F22+'Results-MH'!F22","v":327607.437894125},{"$f":"'Results-SF'!G22+'Results-MF'!G22+'Results-MH'!G22","v":338385.82783801272},{"$f":"'Results-SF'!H22+'Results-MF'!H22+'Results-MH'!H22","v":330828.09632504778},{"$f":"'Results-SF'!I22+'Results-MF'!I22+'Results-MH'!I22","v":330451.61113004992},{"$f":"'Results-SF'!J22+'Results-MF'!J22+'Results-MH'!J22","v":330026.73398694291},{"$f":"'Results-SF'!K22+'Results-MF'!K22+'Results-MH'!K22","v":333600.25921410986},{"$f":"'Results-SF'!L22+'Results-MF'!L22+'Results-MH'!L22","v":322970.77354834857},{"$f":"'Results-SF'!M22+'Results-MF'!M22+'Results-MH'!M22","v":364350.91748670978},{"$f":"'Results-SF'!N22+'Results-MF'!N22+'Results-MH'!N22","v":345919.30235766253},{"$f":"'Results-SF'!O22+'Results-MF'!O22+'Results-MH'!O22","v":366105.83163042925},{"$f":"'Results-SF'!P22+'Results-MF'!P22+'Results-MH'!P22","v":373166.58735555422},{"$f":"'Results-SF'!Q22+'Results-MF'!Q22+'Results-MH'!Q22","v":381311.17049488402},{"$f":"'Results-SF'!R22+'Results-MF'!R22+'Results-MH'!R22","v":384246.54547593521},{"$f":"'Results-SF'!S22+'Results-MF'!S22+'Results-MH'!S22","v":378209.18332627596},{"$f":"'Results-SF'!T22+'Results-MF'!T22+'Results-MH'!T22","v":371317.31082500285},{"$f":"'Results-SF'!U22+'Results-MF'!U22+'Results-MH'!U22","v":358699.34086477547},{"$f":"'Results-SF'!V22+'Results-MF'!V22+'Results-MH'!V22","v":344743.8472241807},{"$f":"'Results-SF'!W22+'Results-MF'!W22+'Results-MH'!W22","v":338039.61112423532},{"$f":"'Results-SF'!X22+'Results-MF'!X22+'Results-MH'!X22","v":367703.10795270308},{"$f":"'Results-SF'!Y22+'Results-MF'!Y22+'Results-MH'!Y22","v":401827.60300338751},{"$f":"'Results-SF'!Z22+'Results-MF'!Z22+'Results-MH'!Z22","v":413348.19459836709},{"$f":"'Results-SF'!AA22+'Results-MF'!AA22+'Results-MH'!AA22","v":406540.08675300516},{"$f":"'Results-SF'!AB22+'Results-MF'!AB22+'Results-MH'!AB22","v":406920.72146228782}]
[null,null,"Model Installed Stock",{"$f":"'Results-SF'!D23+'Results-MF'!D23+'Results-MH'!D23","v":5134924.3496930394},{"$f":"'Results-SF'!E23+'Results-MF'!E23+'Results-MH'!E23","v":5160686.9810739942},{"$f":"'Results-SF'!F23+'Results-MF'!F23+'Results-MH'!F23","v":5240975.1944413073},{"$f":"'Results-SF'!G23+'Results-MF'!G23+'Results-MH'!G23","v":5323233.0866953898},{"$f":"'Results-SF'!H23+'Results-MF'!H23+'Results-MH'!H23","v":5405776.4409931172},{"$f":"'Results-SF'!I23+'Results-MF'!I23+'Results-MH'!I23","v":5489456.2715227315},{"$f":"'Results-SF'!J23+'Results-MF'!J23+'Results-MH'!J23","v":5574134.6729983343},{"$f":"'Results-SF'!K23+'Results-MF'!K23+'Results-MH'!K23","v":5658207.779319671},{"$f":"'Results-SF'!L23+'Results-MF'!L23+'Results-MH'!L23","v":5741750.6015883349},{"$f":"'Results-SF'!M23+'Results-MF'!M23+'Results-MH'!M23","v":5824908.9374166895},{"$f":"'Results-SF'!N23+'Results-MF'!N23+'Results-MH'!N23","v":5907769.3084666161},{"$f":"'Results-SF'!O23+'Results-MF'!O23+'Results-MH'!O23","v":5989052.5474365084},{"$f":"'Results-SF'!P23+'Results-MF'!P23+'Results-MH'!P23","v":6069861.5135262487},{"$f":"'Results-SF'!Q23+'Results-MF'!Q23+'Results-MH'!Q23","v":6150276.073047556},{"$f":"'Results-SF'!R23+'Results-MF'!R23+'Results-MH'!R23","v":6229947.2056682445},{"$f":"'Results-SF'!S23+'Results-MF'!S23+'Results-MH'!S23","v":6309209.2162377071},{"$f":"'Results-SF'!T23+'Results-MF'!T23+'Results-MH'!T23","v":6387568.0947395097},{"$f":"'Results-SF'!U23+'Results-MF'!U23+'Results-MH'!U23","v":6464611.0524950903},{"$f":"'Results-SF'!V23+'Results-MF'!V23+'Results-MH'!V23","v":6540030.9999677353},{"$f":"'Results-SF'!W23+'Results-MF'!W23+'Results-MH'!W23","v":6614198.1840656167},{"$f":"'Results-SF'!X23+'Results-MF'!X23+'Results-MH'!X23","v":6687683.4960549846},{"$f":"'Results-SF'!Y23+'Results-MF'!Y23+'Results-MH'!Y23","v":6761903.6611642484},{"$f":"'Results-SF'!Z23+'Results-MF'!Z23+'Results-MH'!Z23","v":6836866.0279246019},{"$f":"'Results-SF'!AA23+'Results-MF'!AA23+'Results-MH'!AA23","v":6912578.0183525598},{"$f":"'Results-SF'!AB23+'Results-MF'!AB23+'Results-MH'!AB23","v":6989047.1286847973}]
[]
[]
[]
[null,null,"First Year Energy Consumption ",2010,2011,2012,2013,2014,2015,2016,2017,2018,2019,2020,2021,2022,2023,2024,2025,2026,2027,2028,2029,2030,2031,2032,2033,2034]
[null,null,"6P Shipments * 6P UEC",{"$f":"D12*D19","v":104692777.52287784},110863749.4985242,113969059.58728279,114636702.41586967,114697949.22463869,115050277.32630214,115362186.07942995,115125603.59846549,114910332.04161514,114739573.74236935,114611038.36375557,114065035.60293391,115258951.32166472,115104293.61695696,114828976.03279752,114687487.71470584,114368922.75789301,113889589.36230309,113295108.5615814,112839493.16272405,26243010.972625151,26243010.972625151,26243010.972625151,26243010.972625151,26243010.972625151]
[null,null,"Model Shipments * Model Pre-Case UEC",{"$f":"D13*D22","v":95584381.881719589},{"$f":"E13*E22","v":106551071.97208676},118614716.46757928,122487818.18204123,119723389.93298279,119558471.55869639,119376114.35104321,120639772.04776195,116767810.95501032,131696897.4107077,125004661.66801752,132267690.54897304,134786240.82950449,137694945.81248376,138721596.78945914,136509158.13096726,133989418.09152953,129405115.27043861,124340590.33003765,121893207.44727954,132557619.93204379,144824695.49396071,148941024.72906962,146452597.18894428,146554410.50103742]
[null,null,"Model Shipments * Model Post-Case UEC",{"$f":"D14*D22","v":95584381.881719589},{"$f":"E14*E22","v":106551071.97208676},118614716.46757928,122487818.18204123,119723389.93298279,119558471.55869639,119376114.35104321,120639772.04776195,116767810.95501032,113895018.77320524,108121044.59148687,114417551.84512155,116610945.70134994,119142484.2124773,120045986.75992198,118146344.57253633,115980227.31715757,112026268.89904894,107655530.51897079,105549927.12220888,114799015.11956234,125438583.08628079,129020263.33089012,126880755.10966118,126985074.91382547]
[]
[null,null,"Total Energy Consumption (kWh)",2010,2011,2012,2013,2014,2015,2016,2017,2018,2019,2020,2021,2022,2023,2024,2025,2026,2027,2028,2029,2030,2031,2032,2033,2034]
[null,null,"Modeled Pre-case Consumption \n(Installed UEC * Stock)",{"$f":"D15*D$23","v":1864063228.3208447},{"$f":"E15*E$23","v":1872794064.4793742},1901305890.7386627,1930580407.4199905,1959928151.2550282,1989743951.9353669,2019940082.5027931,2049937013.5053492,2079765875.0401363,2109368235.1102715,2138903194.7418866,2167852272.2828999,2196707601.673758,2225385390.7412,2253723502.7398238,2281839150.5055485,2309631899.6513376,2336961747.732645,2363719862.2310405,2390028687.7966003,2416035235.7565579,2442245214.7829385,2468698421.329967,2495427628.5859289,2522423567.5282698]
[null,null,"Modeled Post-case Consumption \n(Installed UEC* Stock)",{"$f":"D16*D$23","v":1864063228.3208447},1872794064.4793742,1901305890.7386627,1930580407.4199905,1959928151.2550282,1989743951.9353669,2019940082.5027931,2049937013.5053492,2079765875.0401363,2091566356.4727695,2104217699.0278533,2115316637.8650157,2125996672.1277192,2136121999.5951545,2145784501.5642405,2155537335.7715349,2165320894.142952,2175271895.85287,2185344950.5401983,2195310495.7806873,2203558438.9281631,2210382305.5468645,2216914750.695713,2224072115.8723922,2231498719.2275209]
[]
[]
[]
[null,null,"Total Energy Consumption (aMW)",2010,2011,2012,2013,2014,2015,2016,2017,2018,2019,2020,2021,2022,2023,2024,2025,2026,2027,2028,2029,2030,2031,2032,2033,2034]
[null,null,{"$f":"C33","v":"Modeled Pre-case Consumption \n(Installed UEC * Stock)"},{"$f":"D33/Constants!$D$13/(Constants!$D$12*Constants!$D$10)","v":212.64695737175961},{"$f":"E33/Constants!$D$13/(Constants!$D$12*Constants!$D$10)","v":213.64294598213257},{"$f":"F33/Constants!$D$13/(Constants!$D$12*Constants!$D$10)","v":216.8954928974062},{"$f":"G33/Constants!$D$13/(Constants!$D$12*Constants!$D$10)","v":220.23504533652641},{"$f":"H33/Constants!$D$13/(Constants!$D$12*Constants!$D$10)","v":223.58295131816431},{"$f":"I33/Constants!$D$13/(Constants!$D$12*Constants!$D$10)","v":226.98425187489926},{"$f":"J33/Constants!$D$13/(Constants!$D$12*Constants!$D$10)","v":230.42893936833141},{"$f":"K33/Constants!$D$13/(Constants!$D$12*Constants!$D$10)","v":233.85090274986871},{"$f":"L33/Constants!$D$13/(Constants!$D$12*Constants!$D$10)","v":237.25369325121335},{"$f":"M33/Constants!$D$13/(Constants!$D$12*Constants!$D$10)","v":240.63064511867114},{"$f":"N33/Constants!$D$13/(Constants!$D$12*Constants!$D$10)","v":243.99990813847668},{"$f":"O33/Constants!$D$13/(Constants!$D$12*Constants!$D$10)","v":247.30233541899381},{"$f":"P33/Constants!$D$13/(Constants!$D$12*Constants!$D$10)","v":250.59406818089872},{"$f":"Q33/Constants!$D$13/(Constants!$D$12*Constants!$D$10)","v":253.86554765471141},{"$f":"R33/Constants!$D$13/(Constants!$D$12*Constants!$D$10)","v":257.09827774809764},{"$f":"S33/Constants!$D$13/(Constants!$D$12*Constants!$D$10)","v":260.30562976335256},{"$f":"T33/Constants!$D$13/(Constants!$D$12*Constants!$D$10)","v":263.4761464352427},{"$f":"U33/Constants!$D$13/(Constants!$D$12*Constants!$D$10)","v":266.59385668864303},{"$f":"V33/Constants!$D$13/(Constants!$D$12*Constants!$D$10)","v":269.64634522370983},{"$f":"W33/Constants!$D$13/(Constants!$D$12*Constants!$D$10)","v":272.64758017300937},{"$f":"X33/Constants!$D$13/(Constants!$D$12*Constants!$D$10)","v":275.61433216479099},{"$f":"Y33/Constants!$D$13/(Constants!$D$12*Constants!$D$10)","v":278.60429098596148},{"$f":"Z33/Constants!$D$13/(Constants!$D$12*Constants!$D$10)","v":281.62199650125109},{"$f":"AA33/Constants!$D$13/(Constants!$D$12*Constants!$D$10)","v":284.67118738146576},{"$f":"AB33/Constants!$D$13/(Constants!$D$12*Constants!$D$10)","v":287.75080624324318}]
[null,null,{"$f":"C34","v":"Modeled Post-case Consumption \n(Installed UEC* Stock)"},{"$f":"D34/Constants!$D$13/(Constants!$D$12*Constants!$D$10)","v":212.64695737175961},{"$f":"E34/Constants!$D$13/(Constants!$D$12*Constants!$D$10)","v":213.64294598213257},{"$f":"F34/Constants!$D$13/(Constants!$D$12*Constants!$D$10)","v":216.8954928974062},{"$f":"G34/Constants!$D$13/(Constants!$D$12*Constants!$D$10)","v":220.23504533652641},{"$f":"H34/Constants!$D$13/(Constants!$D$12*Constants!$D$10)","v":223.58295131816431},{"$f":"I34/Constants!$D$13/(Constants!$D$12*Constants!$D$10)","v":226.98425187489926},{"$f":"J34/Constants!$D$13/(Constants!$D$12*Constants!$D$10)","v":230.42893936833141},{"$f":"K34/Constants!$D$13/(Constants!$D$12*Constants!$D$10)","v":233.85090274986871},{"$f":"L34/Constants!$D$13/(Constants!$D$12*Constants!$D$10)","v":237.25369325121335},{"$f":"M34/Constants!$D$13/(Constants!$D$12*Constants!$D$10)","v":238.5998581419997},{"$f":"N34/Constants!$D$13/(Constants!$D$12*Constants!$D$10)","v":240.04308681586278},{"$f":"O34/Constants!$D$13/(Constants!$D$12*Constants!$D$10)","v":241.30922175051515},{"$f":"P34/Constants!$D$13/(Constants!$D$12*Constants!$D$10)","v":242.52756925937931},{"$f":"Q34/Constants!$D$13/(Constants!$D$12*Constants!$D$10)","v":243.68263741674133},{"$f":"R34/Constants!$D$13/(Constants!$D$12*Constants!$D$10)","v":244.78490777597997},{"$f":"S34/Constants!$D$13/(Constants!$D$12*Constants!$D$10)","v":245.89748297644707},{"$f":"T34/Constants!$D$13/(Constants!$D$12*Constants!$D$10)","v":247.01356310095275},{"$f":"U34/Constants!$D$13/(Constants!$D$12*Constants!$D$10)","v":248.14874467862992},{"$f":"V34/Constants!$D$13/(Constants!$D$12*Constants!$D$10)","v":249.29784970798522},{"$f":"W34/Constants!$D$13/(Constants!$D$12*Constants!$D$10)","v":250.43469036968827},{"$f":"X34/Constants!$D$13/(Constants!$D$12*Constants!$D$10)","v":251.37559193796065},{"$f":"Y34/Constants!$D$13/(Constants!$D$12*Constants!$D$10)","v":252.15403896268131},{"$f":"Z34/Constants!$D$13/(Constants!$D$12*Constants!$D$10)","v":252.89924146654266},{"$f":"AA34/Constants!$D$13/(Constants!$D$12*Constants!$D$10)","v":253.71573304499111},{"$f":"AB34/Constants!$D$13/(Constants!$D$12*Constants!$D$10)","v":254.56293853838932}]
[]
[null,null,"Savings (aMW)",2010,2011,2012,2013,2014,2015,2016,2017,2018,2019,2020,2021,2022,2023,2024,2025,2026,2027,2028,2029,2030,2031,2032,2033,2034]
[null,null,"Incremental Savings",{"$f":"IF(AND(D42>=STANDARD_YEAR,(D42-STANDARD_YEAR)<LIFETIME_TH),\n(D13-D14)*D22,\n(D13-D14)*D21)\n/Constants!$D$13/(Constants!$D$12*Constants!$D$10)","v":0},{"$f":"IF(AND(E42>=STANDARD_YEAR,(E42-STANDARD_YEAR)<LIFETIME_TH),\n(E13-E14)*E22,\n(E13-E14)*E21)\n/Constants!$D$13/(Constants!$D$12*Constants!$D$10)","v":0},{"$f":"IF(AND(F42>=STANDARD_YEAR,(F42-STANDARD_YEAR)<LIFETIME_TH),\n(F13-F14)*F22,\n(F13-F14)*F21)\n/Constants!$D$13/(Constants!$D$12*Constants!$D$10)","v":0},{"$f":"IF(AND(G42>=STANDARD_YEAR,(G42-STANDARD_YEAR)<LIFETIME_TH),\n(G13-G14)*G22,\n(G13-G14)*G21)\n/Constants!$D$13/(Constants!$D$12*Constants!$D$10)","v":0},{"$f":"IF(AND(H42>=STANDARD_YEAR,(H42-STANDARD_YEAR)<LIFETIME_TH),\n(H13-H14)*H22,\n(H13-H14)*H21)\n/Constants!$D$13/(Constants!$D$12*Constants!$D$10)","v":0},{"$f":"IF(AND(I42>=STANDARD_YEAR,(I42-STANDARD_YEAR)<LIFETIME_TH),\n(I13-I14)*I22,\n(I13-I14)*I21)\n/Constants!$D$13/(Constants!$D$12*Constants!$D$10)","v":0},{"$f":"IF(AND(J42>=STANDARD_YEAR,(J42-STANDARD_YEAR)<LIFETIME_TH),\n(J13-J14)*J22,\n(J13-J14)*J21)\n/Constants!$D$13/(Constants!$D$12*Constants!$D$10)","v":0},{"$f":"IF(AND(K42>=STANDARD_YEAR,(K42-STANDARD_YEAR)<LIFETIME_TH),\n(K13-K14)*K22,\n(K13-K14)*K21)\n/Constants!$D$13/(Constants!$D$12*Constants!$D$10)","v":0},{"$f":"IF(AND(L42>=STANDARD_YEAR,(L42-STANDARD_YEAR)<LIFETIME_TH),\n(L13-L14)*L22,\n(L13-L14)*L21)\n/Constants!$D$13/(Constants!$D$12*Constants!$D$10)","v":0},{"$f":"IF(AND(M42>=STANDARD_YEAR,(M42-STANDARD_YEAR)<LIFETIME_TH),\n(M13-M14)*M22,\n(M13-M14)*M21)\n/Constants!$D$13/(Constants!$D$12*Constants!$D$10)","v":2.0307869766715116},{"$f":"IF(AND(N42>=STANDARD_YEAR,(N42-STANDARD_YEAR)<LIFETIME_TH),\n(N13-N14)*N22,\n(N13-N14)*N21)\n/Constants!$D$13/(Constants!$D$12*Constants!$D$10)","v":1.926034345942351},{"$f":"IF(AND(O42>=STANDARD_YEAR,(O42-STANDARD_YEAR)<LIFETIME_TH),\n(O13-O14)*O22,\n(O13-O14)*O21)\n/Constants!$D$13/(Constants!$D$12*Constants!$D$10)","v":2.0362923458648758},{"$f":"IF(AND(P42>=STANDARD_YEAR,(P42-STANDARD_YEAR)<LIFETIME_TH),\n(P13-P14)*P22,\n(P13-P14)*P21)\n/Constants!$D$13/(Constants!$D$12*Constants!$D$10)","v":2.0733852530406729},{"$f":"IF(AND(Q42>=STANDARD_YEAR,(Q42-STANDARD_YEAR)<LIFETIME_TH),\n(Q13-Q14)*Q22,\n(Q13-Q14)*Q21)\n/Constants!$D$13/(Constants!$D$12*Constants!$D$10)","v":2.1164113164506571},{"$f":"IF(AND(R42>=STANDARD_YEAR,(R42-STANDARD_YEAR)<LIFETIME_TH),\n(R13-R14)*R22,\n(R13-R14)*R21)\n/Constants!$D$13/(Constants!$D$12*Constants!$D$10)","v":2.1304597341475189},{"$f":"IF(AND(S42>=STANDARD_YEAR,(S42-STANDARD_YEAR)<LIFETIME_TH),\n(S13-S14)*S22,\n(S13-S14)*S21)\n/Constants!$D$13/(Constants!$D$12*Constants!$D$10)","v":2.0947768147879238},{"$f":"IF(AND(T42>=STANDARD_YEAR,(T42-STANDARD_YEAR)<LIFETIME_TH),\n(T13-T14)*T22,\n(T13-T14)*T21)\n/Constants!$D$13/(Constants!$D$12*Constants!$D$10)","v":2.0544365473844355},{"$f":"IF(AND(U42>=STANDARD_YEAR,(U42-STANDARD_YEAR)<LIFETIME_TH),\n(U13-U14)*U22,\n(U13-U14)*U21)\n/Constants!$D$13/(Constants!$D$12*Constants!$D$10)","v":1.9825286757232115},{"$f":"IF(AND(V42>=STANDARD_YEAR,(V42-STANDARD_YEAR)<LIFETIME_TH),\n(V13-V14)*V22,\n(V13-V14)*V21)\n/Constants!$D$13/(Constants!$D$12*Constants!$D$10)","v":1.9033835057114845},{"$f":"IF(AND(W42>=STANDARD_YEAR,(W42-STANDARD_YEAR)<LIFETIME_TH),\n(W13-W14)*W22,\n(W13-W14)*W21)\n/Constants!$D$13/(Constants!$D$12*Constants!$D$10)","v":1.8643942875964705},{"$f":"IF(AND(X42>=STANDARD_YEAR,(X42-STANDARD_YEAR)<LIFETIME_TH),\n(X13-X14)*X22,\n(X13-X14)*X21)\n/Constants!$D$13/(Constants!$D$12*Constants!$D$10)","v":2.0258504235091763},{"$f":"IF(AND(Y42>=STANDARD_YEAR,(Y42-STANDARD_YEAR)<LIFETIME_TH),\n(Y13-Y14)*Y22,\n(Y13-Y14)*Y21)\n/Constants!$D$13/(Constants!$D$12*Constants!$D$10)","v":2.2115117964499116},{"$f":"IF(AND(Z42>=STANDARD_YEAR,(Z42-STANDARD_YEAR)<LIFETIME_TH),\n(Z13-Z14)*Z22,\n(Z13-Z14)*Z21)\n/Constants!$D$13/(Constants!$D$12*Constants!$D$10)","v":2.2725030114281886},{"$f":"IF(AND(AA42>=STANDARD_YEAR,(AA42-STANDARD_YEAR)<LIFETIME_TH),\n(AA13-AA14)*AA22,\n(AA13-AA14)*AA21)\n/Constants!$D$13/(Constants!$D$12*Constants!$D$10)","v":2.2326993017662673},{"$f":"IF(AND(AB42>=STANDARD_YEAR,(AB42-STANDARD_YEAR)<LIFETIME_TH),\n(AB13-AB14)*AB22,\n(AB13-AB14)*AB21)\n/Constants!$D$13/(Constants!$D$12*Constants!$D$10)","v":2.2324133683791874}]
[null,null,"Cumulative Savings",{"$f":"D39-D40","v":0},0,0,0,0,0,0,0,0,{"$f":"M39-M40","v":2.0307869766714362},3.9568213226139051,5.9931136684786566,8.0664989215194112,10.182910237970077,12.31336997211767,14.40814678690549,16.462583334289945,18.445112010013105,20.348495515724608,22.212889803321104,24.238740226830345,26.450252023280171,28.722755034708428,30.955454336474645,33.187867704853858]
[null,null,"DOE Aggregate Lifecycle Savings (formerly DOE Carbon proxy)",{"$f":"SUM($D$44:D44)","v":0},{"$f":"SUM($D$44:E44)","v":0},{"$f":"SUM($D$44:F44)","v":0},{"$f":"SUM($D$44:G44)","v":0},{"$f":"SUM($D$44:H44)","v":0},{"$f":"SUM($D$44:I44)","v":0},{"$f":"SUM($D$44:J44)","v":0},{"$f":"SUM($D$44:K44)","v":0},{"$f":"SUM($D$44:L44)","v":0},{"$f":"SUM($D$44:M44)","v":2.0307869766714362},{"$f":"SUM($D$44:N44)","v":5.9876082992853412},{"$f":"SUM($D$44:O44)","v":11.980721967763998},{"$f":"SUM($D$44:P44)","v":20.047220889283409},{"$f":"SUM($D$44:Q44)","v":30.230131127253486},{"$f":"SUM($D$44:R44)","v":42.543501099371156},{"$f":"SUM($D$44:S44)","v":56.951647886276646},{"$f":"SUM($D$44:T44)","v":73.414231220566592},{"$f":"SUM($D$44:U44)","v":91.859343230579697},{"$f":"SUM($D$44:V44)","v":112.2078387463043},{"$f":"SUM($D$44:W44)","v":134.42072854962541},{"$f":"SUM($D$44:X44)","v":158.65946877645575},{"$f":"SUM($D$44:Y44)","v":185.10972079973592},{"$f":"SUM($D$44:Z44)","v":213.83247583444435},{"$f":"SUM($D$44:AA44)","v":244.787930170919},{"$f":"SUM($D$44:AB44)","v":277.97579787577286}]
[null,null,"Check",{"$f":"IF(ISNUMBER(C44),ROUND((D44-C44-D43),3),0)","v":0},{"$f":"IF(ISNUMBER(D44),ROUND((E44-D44-E43),3),0)","v":0},0,0,0,0,0,0,0,0,0,0,0,0,0,0,0,0,0,0,0,0,0,0,0]

{"sheet":"SUMMARY RESULTS","index":25,"n_rows":12,"n_cols":7,"rows_kept":12,"cut":false,"hidden":false,"merged":[]}
[]
[null,null,"SUMMARY RESULTS"]
[]
[null,null,"NAVIGATION"]
[]
[null,null,"COMMENTS"]
[]
[]
[null,null,null,"Single Family","Multi-Family","Manufactured Homes","TOTAL"]
[null,null,"Adjustment to 6P Baseline (aMW)","n/a","n/a","n/a","n/a"]
[null,null,"Cumulative Savings 2010 through 2015 (aMW)",{"$f":"SUM('Results-SF'!$D$43:$I$43)","v":0},{"$f":"SUM('Results-MF'!$D$43:$I$43)","v":0},{"$f":"SUM('Results-MH'!$D$43:$I$43)","v":0},{"$f":"SUM('Results-TH'!$D$43:$I$43)","v":0}]
[null,null,"Cumulative Savings through 2034 (aMW)",{"$f":"SUM('Results-SF'!$D$43:$AB$43)","v":22.93944347070039},{"$f":"SUM('Results-MF'!$D$43:$AB$43)","v":6.9348349048393434},{"$f":"SUM('Results-MH'!$D$43:$AB$43)","v":3.313589329314111},{"$f":"SUM('Results-TH'!$D$43:$AB$43)","v":33.187867704853844}]

{"sheet":"Charts-SF","index":26,"n_rows":6,"n_cols":3,"rows_kept":6,"cut":false,"hidden":false,"merged":[]}
[]
[null,null,"CHARTS - Single Family"]
[]
[null,null,"NAVIGATION"]
[]
[null,null,"COMMENTS"]

{"sheet":"Charts-MF","index":27,"n_rows":6,"n_cols":3,"rows_kept":6,"cut":false,"hidden":false,"merged":[]}
[]
[null,null,"CHARTS - Multi-Family"]
[]
[null,null,"NAVIGATION"]
[]
[null,null,"COMMENTS"]

{"sheet":"Charts-MH","index":28,"n_rows":6,"n_cols":3,"rows_kept":6,"cut":false,"hidden":false,"merged":[]}
[]
[null,null,"CHARTS - Manufactured Homes"]
[]
[null,null,"NAVIGATION"]
[]
[null,null,"COMMENTS"]

{"sheet":"Charts-TH","index":29,"n_rows":6,"n_cols":3,"rows_kept":6,"cut":false,"hidden":false,"merged":[]}
[]
[null,null,"CHARTS - Total Homes"]
[]
[null,null,"NAVIGATION"]
[]
[null,null,"COMMENTS"]