{"text_format":"1","workbook":"xlsx","n_sheets":30,"sheets":["COVER","Definitions","Comments","Navigation","Product Classes","Efficiency Levels","Lifetime and Usage Data","National Shipments","Efficiency Dist - SF","Efficiency Dist - MF","Efficiency Dist - MH","Shipments and Stock - SF","Shipments and Stock - MF","Shipments and Stock - MH","6P UEC Development","Constants","Product Class Dist","UEC Development","UEC-SF","UEC-MF","UEC-MH","Results-SF","Results-MF","Results-MH","Results-TH","SUMMARY RESULTS","Charts-SF","Charts-MF","Charts-MH","Charts-TH"],"not_rendered":{"charts":39,"images":0,"macros":1,"external_links":1,"defined_names":12,"comments":0,"pivot_tables":0},"unopened":[],"bounds":{"document_bytes":16777216,"sheet_cells":100000,"rows_first":2000,"rows_last":500,"rows_between":2000,"halvings":0,"cell_chars":16384,"cell_head_chars":4096},"cells_cut":0,"cells_raw":0,"read":"whole","date_system":"1900"}

{"sheet":"COVER","index":0,"n_rows":28,"n_cols":4,"rows_kept":28,"cut":false,"hidden":false,"merged":[[22,2,22,3],[8,2,8,3],[9,2,9,3],[10,2,10,3],[13,2,13,3],[16,2,16,3],[18,2,18,3]]}
[]
[null,null,"Cover"]
[]
[null,null,"NAVIGATION"]
[]
[null,null,"COMMENTS"]
[]
[]
[null,null,"Bonneville Power Administration"]
[null,null,"6P Energy Conservation Standards Savings Model"]
[null,null,"Room AC"]
[]
[null,null,"Product Description"]
[null,null,"Most consumers would identify a room AC as either a window unit or a 'through the wall' unit.\n\nDOE defines “room air conditioner” under EPCA as “a consumer product, other than a \n“packaged terminal air conditioner”, which is powered by a single phase electric current and \nwhich is an encased assembly designed as a unit for mounting in a window or through the wall \nfor the purpose of providing delivery of conditioned air to an enclosed space. It includes a prime \nsource of refrigeration and may include a means for ventilating and heating.” (10 CFR 430.2) "]
[]
[null,null,"Standard Compliance Year"]
[null,null,"2014 per the DOE 2011 Direct Final Rule"]
[]
[null,null,"Major changes from previous rulemaking (2009 effective standard)"]
[null,null,"Subdivision of two existing product classes based on product capacity and more stringent standards."]
[]
[null,null,"6P Baseline "]
[null,null,"Existing standards (Compliance Year 2000) are included in the 6P baseline."]
[]
[null,null,"Prepared By:"]
[null,null,"Navigant Consulting","Cadeo Group"]
[null,null,"One Market Street | Spear Street Tower, Suite 1200 ","840 First Street, Suite 300"]
[null,null,"San Francisco, CA 94105","Washington, DC  20002"]

{"sheet":"Definitions","index":1,"n_rows":32,"n_cols":4,"rows_kept":32,"cut":false,"hidden":false,"merged":[]}
[]
[null,null,"Definitions"]
[]
[null,null,"NAVIGATION"]
[]
[null,null,"COMMENTS"]
[]
[]
[null,null,"Average Megawatt (aMW)","The average number of megawatts over a specified time period"]
[null,null,"Adjustment to 6P Baseline ","Adjustment to reconcile the 6P projected energy consumption and the modeled consumption calculated using best available data."]
[null,null,"Department of Energy Aggregate Lifecycle Savings ","Sum of 'Total First Year Savings'.  This accounts for the cumulative savings in accordance with DOE Carbon Accounting Practices."]
[null,null,"Department of Energy Notice of Proposed Rulemaking (DOE NOPR)","Federal Register notice detailing analyses conducted by the DOE to establish proposed energy conservation standards. "]
[null,null,"Efficiency Level (EL)","The discrete efficiency ratings of a product.  Each efficiency level is associated with a different UEC."]
[null,null,"Efficiency Level Distribution","The mix of various equipment efficiencies shipped in a given year."]
[null,null,"Incremental Savings ","Savings due to the higher standards for units installed in a particular year. First year savings are highest following the standards compliance year while the stock turns over, after which first year savings are only attributed to shipments associated wit"]
[null,null,"Governmental Regulatory Impact Model (GRIM)","The industry cash flow model used by DOE to assess impacts on manufacturers due to proposed energy conservation standards"]
[null,null,"Installed Unit Energy Consumption (Installed UEC)","The average annual unit energy consumption of all installed units in a given year."]
[null,null,"Market Unit Energy Consumption (Market UEC)","The average annual unit energy consumption of units shipped in a given year.   "]
[null,null,"National Impact Analysis (NIA)","The energy impact analysis used by DOE to calculate energy savings associated with each standard. "]
[null,null,"Pre-case ","The case representing 6P baseline assumptions where energy consumption due to the product accounts for shipment and shipment UEC by year, without the affect of standards announced following the development of the 6P."]
[null,null,"Post-case","The case in which standards are implemented. If the 6P already captured the analyzed standard, the post-case will be the same as the pre-case."]
[null,null,"Product Class","Product classificiation determined by product configuration, size, application, location, and other attributes that contribute to consumer utility.  DOE is allowed to establish different standards for each product class."]
[null,null,"Product Class Distribution ","Market share/mix of each product class shipped in a given year."]
[null,null,"Product Lifetime","The average time a given class of products stays in the field as part of the installed stock.  Some products will last longer (delaying replacement) whereas others will fail and be retired earlier (accelerating replacement), but the lifetime represents th"]
[null,null,"Shipments ","Sales of products.  This may be presented by product class, efficiency distribution, or delineated by other metrics. Shipments may be attributed to new construction and/or replacements and retrofits. "]
[null,null,"Sixth Power Plan (6P)","The Pacific Northwest Resource Plan published by the Northwest Power Conservation Council. The 6P timeframe is from 2010-2015."]
[null,null,"Sixth Power Plan Baseline (6P Baseline)","The 6P assumes equipment efficiency and shipment units in the region.  When available, the 6P assumptions are the baseline for each standard impact analysis."]
[null,null,"Standard Compliance Year","The year when the appliance standard goes into effect. "]
[null,null,"Stock ","All units installed in previous years which remain in operation."]
[null,null,"Technical Support Document (TSD)","TSDs are published by the DOE as companion documents to Federal Register notices (e.g., ANOPRs/preliminary analyses and NOPRs).  The TSDs include technical detail that supports the notices.  The final rule TSD includes the discussion of the Manufacturer I"]
[null,null,"Cumulative Savings through 2034","The sum of incremental savings from 2010 through 2034"]
[null,null,"Trial Standard Level (TSL)","A proposed  efficiency standard evaluated by DOE during the NOPR and Final Rule phase analyses.  A TSL may specify different standard efficiency levels for each product class included in the rulemaking."]

{"sheet":"Comments","index":2,"n_rows":8,"n_cols":4,"rows_kept":8,"cut":false,"hidden":false,"merged":[[7,3,7,7],[14,3,14,7],[15,3,15,7],[16,3,16,7],[8,3,8,7],[9,3,9,7],[10,3,10,7],[11,3,11,7],[12,3,12,7],[13,3,13,7]]}
[]
[null,null,"Comments"]
[]
[null,null,"NAVIGATION"]
[]
[]
[null,null,"Tab","Comment"]
[null,null,"Example","Please use this space to document your comments as you review the model.  We look forward to receiving your feedback.  Thank you."]

{"sheet":"Navigation","index":3,"n_rows":33,"n_cols":11,"rows_kept":33,"cut":false,"hidden":false,"merged":[[10,6,12,6],[16,2,24,2],[32,8,34,8],[16,10,18,10],[20,10,22,10],[24,10,26,10],[28,10,30,10],[28,8,30,8],[16,6,18,6],[20,6,22,6],[24,6,26,6],[16,8,18,8],[20,8,22,8],[24,8,26,8]]}
[]
[null,null,"NAVIGATION"]
[]
[null,null,"COMMENTS"]
[]
[]
[null,null,"INFORMATION TABS",null,"INPUT TABS",null,"UEC CALCULATIONS",null,"RESULTS",null,"CHARTS"]
[]
[null,null,"COVER",null,"PRODUCT CLASSES"]
[]
[null,null,"DEFINITIONS",null,"EFFICIENCY LEVELS",null,"UEC DEVELOPMENT"]
[]
[null,null,"COMMENTS",null,"LIFETIME AND USAGE DATA"]
[]
[null,null,"NAVIGATION",null,"NATIONAL SHIPMENTS",null,"PRODUCT CLASS DISTRIBUTION"]
[]
[null,null,"CENTRAL RESIDENTIAL MODEL (EXTERNAL)",null,"SHIPMENTS AND STOCK - SF",null,"UEC - SF",null,"RESULTS - SF",null,"CHARTS - SF"]
[]
[null,null,null,null,"EFFICIENCY DISTRIBUTION - SF"]
[]
[null,null,null,null,"SHIPMENTS AND STOCK - MF",null,"UEC - MF",null,"RESULTS - MF",null,"CHARTS - MF"]
[]
[null,null,null,null,"EFFICIENCY DISTRIBUTION - MF"]
[]
[null,null,null,null,"SHIPMENTS AND STOCK - MH",null,"UEC - MH",null,"RESULTS - MH",null,"CHARTS - MH"]
[]
[null,null,null,null,"EFFICIENCY DISTRIBUTION - MH"]
[]
[null,null,null,null,"6P UEC DEVELOPMENT",null,null,null,"RESULTS - TH",null,"CHARTS - ALL"]
[]
[null,null,null,null,"CONSTANTS"]
[]
[null,null,null,null,null,null,null,null,"SUMMARY RESULTS"]

{"sheet":"Product Classes","index":4,"n_rows":32,"n_cols":10,"rows_kept":32,"cut":false,"hidden":false,"merged":[[13,3,14,3],[17,3,18,3]]}
[]
[null,null,"Selection of Product Classes for Model"]
[]
[null,null,"NAVIGATION"]
[]
[null,null,"COMMENTS"]
[]
[]
[null,null,"All Product Classes","1997 Final Rule Product Classes 1","2011 Direct Final Rule Product Classes 2","Representative PCs 3","6P PCs 4",null,"Model PCs","Rationale"]
[null,null,"PC1","PC1. Without reverse cycle, with louvered sides, and less than 6,000 Btu/h","PC1.  Without reverse cycle, with louvered sides, and less than 6,000 Btu/h","2014-DOE-PC1","Included",null,"PC1","Efficiency distributions (GRIM shipments) available for each representative product class"]
[null,null,"PC2","PC2. Without reverse cycle, with louvered sides, and 6,000 to 7,999 Btu/h","PC2.  Without reverse cycle, with louvered sides, and 6,000 to 7,999 Btu/h",null,"Included"]
[null,null,"PC3","PC3. Without reverse cycle, with louvered sides, and 8,000 to 13,999 Btu/h","PC3.  Without reverse cycle, with louvered sides, and 8,000 to 13,999 Btu/h","2014-DOE-PC3","Included",null,"PC2"]
[null,null,"PC4","PC4. Without reverse cycle, with louvered sides, and 14,000 to 19,999 Btu/h","PC4.  Without reverse cycle, with louvered sides, and 14,000 to 19,999 Btu/h",null,"Included"]
[null,null,"PC5a","PC5. Without reverse cycle, with louvered sides, and 20,000 Btu/h or more","PC5a. Without reverse cycle, with louvered sides, and 20,000 to 24,999 Btu/h","2014-DOE-PC5a","Included",null,"PC3"]
[null,null,"PC5b",null,"PC5b. Without reverse cycle, with louvered sides, and 25,000 Btu/h or more","2014-DOE-PC5b","Included",null,"PC4"]
[null,null,"PC6","PC6. Without reverse cycle, without louvered sides, and less than 6,000 Btu/h","PC6.  Without reverse cycle, without louvered sides, and less than 6,000 Btu/h",null,"Included"]
[null,null,"PC7","PC7. Without reverse cycle, without louvered sides, and 6,000 to 7,999 Btu/h","PC7.  Without reverse cycle, without louvered sides, and 6,000 to 7,999 Btu/h",null,"Included"]
[null,null,"PC8a","PC8. Without reverse cycle, without louvered sides, and 8,000 to 13,999 Btu/h","PC8a. Without reverse cycle, without louvered sides, and 8,000 to 10,999 Btu/h","2014-DOE-PC8a","Included",null,"PC5"]
[null,null,"PC8b",null,"PC8b. Without reverse cycle, without louvered sides, and 11,000 to 13,999 Btu/h","2014-DOE-PC8b","Included",null,"PC6"]
[null,null,"PC9","PC9. Without reverse cycle, without louvered sides, and 14,000 to 19,999 Btu/h","PC9.  Without reverse cycle, without louvered sides, and 14,000 to 19,999 Btu/h",null,"Included"]
[null,null,"PC10","PC10. Without reverse cycle, without louvered sides, and 20,000 Btu/h or more","PC10.  Without reverse cycle, without louvered sides, and 20,000 Btu/h or more",null,"Included"]
[null,null,"PC11","PC11. With reverse cycle, with louvered sides, and less than 20,000 Btu/h","PC11.  With reverse cycle, with louvered sides, and less than 20,000 Btu/h",null,"Included"]
[null,null,"PC12","PC12. With reverse cycle, without louvered sides, and less than 14,000 Btu/h","PC12.  With reverse cycle, without louvered sides, and less than 14,000 Btu/h",null,"Included"]
[null,null,"PC13","PC13. With reverse cycle, with louvered sides, and 20,000 Btu/h or more","PC13. With reverse cycle, with louvered sides, and 20,000 Btu/h or more",null,"Included"]
[null,null,"PC14","PC14. With reverse cycle, without louvered sides, and 14,000 Btu/h or more","PC14. With reverse cycle, without louvered sides, and 14,000 Btu/h or more",null,"Included"]
[null,null,"PC15","PC15. Casement-Only","PC15. Casement-Only"]
[null,null,"PC16","PC16. Casement-Slider","PC16. Casement-Slider"]
[]
[null,null,"Sources","1. DOE Residential Room Air Conditioners 1997 Final Rule: TABLE 1–1.—PROPOSED STANDARDS LEVELS FOR ROOM AIR CONDITIONERS"]
[null,null,null,"2. DOE Residential Room Air Conditioners 2011 Direct Final Rule: Table I-1—Amended Energy Conservation Standards for Residential Clothes Dryers and Room Air Conditioners"]
[null,null,null,"3. DOE Residential Room Air Conditioners 2011 Direct Final Rule Technical Support Document CHAPTER 10. NATIONAL IMPACT ANALYSIS, Section 10.1 Introduction"]
[null,null,null,"4. 6P Conservation Supply Curve Files - Window AC Upgrades *Note: 6P Breaks out Measures by Capacity alone ranging from <5,000 Btu/h to >20,000 Btu/h"]

{"sheet":"Efficiency Levels","index":5,"n_rows":27,"n_cols":9,"rows_kept":27,"cut":false,"hidden":false,"merged":[[1,2,1,3],[3,2,3,3],[4,2,4,3],[5,2,5,3]]}
[]
[null,null,"Efficiency Levels and Standards"]
[]
[null,null,"NAVIGATION"]
[]
[null,null,"COMMENTS"]
[]
[]
[null,null,null,"PC1","PC2","PC3","PC4","PC5","PC6"]
[null,null,null," Without reverse cycle, \nwith louvered sides, and \nless than 6,000 Btu/h"," Without reverse cycle, \nwith louvered sides, and \n8,000 to 13,999 Btu/h"," Without reverse cycle, \nwith louvered sides, and \n20,000 to 24,999 Btu/h"," Without reverse cycle, \nwith louvered sides, and \n25,000 Btu/h or more"," Without reverse cycle, \nwithout louvered sides, and \n8,000 to 10,999 Btu/h"," Without reverse cycle, \nwithout louvered sides, and \n11,000 to 13,999 Btu/h"]
[null,null,"Representative Capacity",6000,8000,20000,25000,8000,11000]
[]
[null,null," Model ELs","CEER","CEER","CEER","CEER","CEER","CEER"]
[null,null,"EL0",9.5235933377732245,9.6867014340173032,8.4713534124895506,8.4754339546823534,8.4146356252408392,8.4428992651201167]
[null,null,"EL1",10.1,10.199999999999999,9,9,9.3000000000000007,9.3000000000000007]
[null,null,"EL2",10.6,10.7,9.4,9.4,9.6,9.5]
[null,null,"EL3",11.1,10.9,9.8000000000000007,9.8000000000000007,10,9.8000000000000007]
[null,null,"EL4",11.384883004768115,11.5,10.154447630701553,null,10.354619755605318,10.020890372503978]
[null,null,"EL5",11.665601284887952,11.961997496471479]
[]
[null,null,"Standard Level","EL3","EL3","EL2","EL1","EL2","EL2"]
[]
[null,null,"Compliance Year",2014]
[]
[null,null,"Sources","2011 DOE Residential Room Air Conditioners Direct Final Rule Government Regulatory Impact Model 'Assumptions (INPUT)' tab, Range C9:H14."]
[null,null,null,"DOE Residential Room Air Conditioners 2011 Final Rule (Amending Compliance Dates), Federal Register, 76 FR 52852, (Aug. 24, 2011)"]
[null,null,null,"DOE Residential Room Air Conditioners 2011 Final Rule Government Regulatory Impact Model ('Assumptions (INPUT)' tab, Range G23:G28)."]

{"sheet":"Lifetime and Usage Data","index":6,"n_rows":15,"n_cols":8,"rows_kept":15,"cut":false,"hidden":false,"merged":[]}
[]
[null,null,"Lifetime and Usage Data"]
[]
[null,null,"NAVIGATION"]
[]
[null,null,"COMMENTS"]
[]
[]
[null,null,{"$f":"MODEL_NAME","v":"Room AC"},"Single Family","Multi-Family","Manufactured Homes","Total Homes","Source"]
[null,null,"Lifetime (years)",{"$f":"ROUND(INDEX([1]!LIFETIMES_TABLE,\nMATCH($C$9,[1]!APPLIANCES,0),\nMATCH(D9,[1]!LIFETIMES_HOUSING_TYPE,0)),0)","v":11},{"$f":"ROUND(INDEX([1]!LIFETIMES_TABLE,\nMATCH($C$9,[1]!APPLIANCES,0),\nMATCH(E9,[1]!LIFETIMES_HOUSING_TYPE,0)),0)","v":11},{"$f":"ROUND(INDEX([1]!LIFETIMES_TABLE,\nMATCH($C$9,[1]!APPLIANCES,0),\nMATCH(F9,[1]!LIFETIMES_HOUSING_TYPE,0)),0)","v":11},{"$f":"ROUND(INDEX([1]!LIFETIMES_TABLE,\nMATCH($C$9,[1]!APPLIANCES,0),\nMATCH(G9,[1]!LIFETIMES_HOUSING_TYPE,0)),0)","v":11},"DOE Room Air Conditioners 2011 Direct Final Rule, Technical Support Document Chapter 8: Lifecycle Cost Analysis, Table 8.2.39 Lifetime Parameters (page 8-41)"]
[]
[]
[]
[null,null,"Usage Data","Single Family","Multi-Family","Manufactured Homes","All Segments (AVERAGE)","Source"]
[null,null,"6P - Cooling Degree Hours per Year",{"$f":"$G15","v":486},486,{"$f":"$G15","v":486},486,"6P Conservation Supply Curve Files - Window AC Upgrades - 'Window AC' tab, cell G8 (computed from hourly temperatures using SUNCODE & TMY2 Weather Files)"]

{"sheet":"National Shipments","index":7,"n_rows":151,"n_cols":31,"rows_kept":151,"cut":false,"hidden":false,"merged":[[1,2,1,4],[3,2,3,4],[5,2,5,4]]}
[]
[null,null,"National Shipments"]
[]
[null,null,"NAVIGATION"]
[]
[null,null,"COMMENTS"]
[]
[]
[null,null,null,"PC1 - Room ACs without reverse cycle, with louvered sides, and less than 6,000 Btu/h"]
[]
[null,null,null,"PRE-Case"]
[null,null,null,"Efficiency Level","CEER",2009,2010,2011,2012,2013,2014,2015,2016,2017,2018,2019,2020,2021,2022,2023,2024,2025,2026,2027,2028,2029,2030,2031,2032,2033,2034]
[null,null,null,"EL0",{"$f":"INDEX(EFFICIENCY_LEVELS,RIGHT(D13,1)+1,MID($D$9,3,1))","v":9.5235933377732245},1.2307884262131066,1.2968910913230942,1.3807111922841278,2.0574603316521456,2.0229733967534806,1.939567553689564,1.7527662485596105,1.6514490279704783,1.5422067785667677,1.4221298569514766,1.295759808372881,1.1723549042013315,1.0512297711974428,0.93114104349840288,0.81119997806679534,0.6916161812344328,0.57249968429535314,0.45424289318303968,0.33679424969168648,0.22032749321004064,0.10469236445970433,0,0,0,0,0]
[null,null,null,"EL1",10.1,0,0,0,0,0,0,0.11521765683413381,0.23272280367861226,0.3512415700768593,0.4681145297086523,0.58200861836034012,0.69564817139825808,0.80939760313974862,0.92291284502914017,1.0353980136837964,1.1467504670855704,1.2567327377009792,1.3658239318600407,1.4737468439650605,1.5811556522386421,1.6870975646303779,1.7693063259800079,1.6273722525205976,1.4874246556444028,1.3483631028883931,1.2095015247348333]
[null,null,null,"EL2",10.6,0.52387951042187753,0.55201580996602484,0.58769345570899478,0.87574865696025994,0.86106944956289067,0.82556813081464053,0.79509887564069492,0.80198919301838545,0.80593770039627033,0.80457394851204955,0.79926361276355617,0.79510703535185179,0.79196760156772705,0.78916962715199468,0.78599605851088927,0.78249242451930312,0.77860448252000236,0.77470318775452607,0.77064860340127783,0.76679312883586648,0.76266725526393075,0.76950241292964228,0.89570487952748679,1.0210653634202616,1.1449708180938478,1.2665100796444413]
[null,null,null,"EL3",11.1,2.0593027180256792E-2,2.1699028788905079E-2,2.3101470980089259E-2,3.4424549036729972E-2,3.3847528346084489E-2,3.2452017341409116E-2,3.1254310259003937E-2,3.1525159739116473E-2,3.1680370466271555E-2,3.1626763140426215E-2,3.1418020698262453E-2,3.1254631006714613E-2,3.1131223917945216E-2,3.1021239156093318E-2,3.0896490270167117E-2,3.0758766941456846E-2,3.060593696113869E-2,3.0452582100821763E-2,3.0293201624719837E-2,3.0141647897309561E-2,2.9979465134061661E-2,2.9795812799829971E-2,2.9611184471628672E-2,2.9439988082911886E-2,2.9262114005861997E-2,2.9058816886685136E-2]
[null,null,null,"EL4",11.384883004768115,0,0,0,0,0,0,0,0,0,0,0,0,0,0,0,0,0,0,0,0,0,0,0,0,0,0]
[null,null,null,"EL5",11.665601284887952,0,0,0,0,0,0,0,0,0,0,0,0,0,0,0,0,0,0,0,0,0,0,0,0,0,0]
[null,null,null,"TOTAL",null,{"$f":"SUM(F13:F18)","v":1.775260963815241},1.8706059300780242,1.9915061189732117,2.9676335376491356,2.9178903746624556,2.7975877018456132,2.694337091293443,2.7176861844065923,2.7310664195061691,2.7264450983126047,2.7084500601950396,2.694364741958156,2.6837261998228636,2.6742447548356307,2.6634905405316478,2.651617839780763,2.6384428414774734,2.6252225948984278,2.6114828986827447,2.5984179221818584,2.5844366494880746,2.5686045517094804,2.552688316519713,2.5379300071475765,2.5225960349881031,2.5050704212659594]
[]
[null,null,null,"POST-Case"]
[null,null,null,"Efficiency Level","CEER",2009,2010,2011,2012,2013,2014,2015,2016,2017,2018,2019,2020,2021,2022,2023,2024,2025,2026,2027,2028,2029,2030,2031,2032,2033,2034]
[null,null,null,"EL0",{"$f":"INDEX(EFFICIENCY_LEVELS,RIGHT(D23,1)+1,MID($D$9,3,1))","v":9.5235933377732245},1.2307884262131066,1.2968910913230942,1.3807111922841278,2.0574603316521456,2.0229733967534806,0,0,0,0,0,0,0,0,0,0,0,0,0,0,0,0,0,0,0,0,0]
[null,null,null,"EL1",10.1,0,0,0,0,0,0,0,0,0,0,0,0,0,0,0,0,0,0,0,0,0,0,0,0,0,0]
[null,null,null,"EL2",10.6,0.52387951042187753,0.55201580996602484,0.58769345570899478,0.87574865696025994,0.86106944956289067,0,0,0,0,0,0,0,0,0,0,0,0,0,0,0,0,0,0,0,0,0]
[null,null,null,"EL3",11.1,2.0593027180256792E-2,2.1699028788905079E-2,2.3101470980089259E-2,3.4424549036729972E-2,3.3847528346084489E-2,2.7066423854423567,2.5433920626278264,2.4981601357378795,2.445903887446657,2.3771520462060405,2.2971098721964558,2.2209803670802186,2.1481157518869023,2.0764927297286673,2.0042011135148572,1.9314465271684136,1.8581820725373803,1.7853589626684108,1.712671548594304,1.6409139173958947,1.5690729459737716,1.4939728473964027,1.3914162153536482,1.2903683999806226,1.1898880321120506,1.0893396769331698]
[null,null,null,"EL4",11.384883004768115,0,0,0,0,0,0,6.3462199405913924E-2,0.1313370421966677,0.19664675297751177,0.26103429527587962,0.32377049624630239,0.38637608363347947,0.44905128509884373,0.51160388471199358,0.57359251941475997,0.63496073960084409,0.69557739949033359,0.75570788444279147,0.81519881896453861,0.87441203658083499,0.93282053851303481,0.99269962826887348,1.0799974496983697,1.1669055371742769,1.2526868701623379,1.3364119739063476]
[null,null,null,"EL5",11.665601284887952,0,0,0,0,0,0,0,0,0,0,0,0,0,0,0,0,0,0,0,0,0,0,0,0,0,0]
[null,null,null,"TOTAL",null,{"$f":"SUM(F23:F28)","v":1.775260963815241},1.8706059300780242,1.9915061189732117,2.9676335376491356,2.9178903746624556,2.7066423854423567,2.6068542620337403,2.6294971779345473,2.6425506404241688,2.6381863414819202,2.6208803684427582,2.6073564507136981,2.5971670369857458,2.5880966144406607,2.5777936329296169,2.5664072667692577,2.5537594720277141,2.5410668471112023,2.5278703675588425,2.5153259539767294,2.5018934844868062,2.486672475665276,2.471413665052018,2.4572739371548993,2.4425749022743886,2.4257516508395174]
[]
[null,null,null,"Sources","2011 DOE Residential Room Air Conditioners Direct Final Rule Government Regulatory Impact Model 'Product Shipments (CALC)' tab."]
[]
[]
[]
[null,null,null,"PC2 - Room ACs without reverse cycle, with louvered sides, and 8,000 to 13,999 Btu/h"]
[]
[null,null,null,"PRE-Case"]
[null,null,null,"Efficiency Level","CEER",2009,2010,2011,2012,2013,2014,2015,2016,2017,2018,2019,2020,2021,2022,2023,2024,2025,2026,2027,2028,2029,2030,2031,2032,2033,2034]
[null,null,null,"EL0",{"$f":"INDEX(EFFICIENCY_LEVELS,RIGHT(D39,1)+1,MID($D$35,3,1))","v":9.6867014340173032},1.2215446471985993,1.2871508513283465,1.370341425334336,2.0420078718858292,2.0077799495016642,1.9250005221281949,1.6023586393613374,1.3618340329166925,1.1122365274421488,0.85384615475688774,0.59275825394967807,0.33491642254784287,7.9206356246770415E-2,0,0,0,0,0,0,0,0,0,0,0,0,0]
[null,null,null,"EL1",10.199999999999999,8.1106608154076887E-2,8.5462647618562107E-2,9.0986232289405139E-2,0.13558270890254059,0.1333100857158997,0.12781379984980701,0.37469243417421555,0.63235014165310155,0.89176579803877565,1.1467651369679368,1.3946486360157637,1.6421549404965956,1.8900586557596339,1.7824518720585598,1.5148018565254322,1.2480802741353343,0.98255474438834789,0.71896160755044036,0.45723935275035377,0.19764129719874743,0,0,0,0,0,0]
[null,null,null,"EL2",10.7,1.9221606729197931,2.0253952667325934,2.1562997327123288,3.2131999711455821,3.1593406492833189,3.0290831427820173,2.9172887265786569,2.9425699159053145,2.9570573418258137,2.9520536144661422,2.9325695187290624,2.9173186652870351,2.9057998025809506,3.0753896285961915,3.3235043086076326,3.5686587930990763,3.8102515644801547,4.0498297481749566,4.2865934548233655,4.5224586097358976,4.5447325503308775,3.8778127484375693,3.2170772388551176,2.5638694933305732,1.9160278280602172,1.2731886821384126]
[null,null,null,"EL3",10.9,4.6817635601133903E-2,4.9332097405836751E-2,5.2520508069494112E-2,7.8263189691710575E-2,7.6951350291291826E-2,7.3778697474278981E-2,7.1055745998999886E-2,7.1671514246750362E-2,7.2024381224573844E-2,7.1902506561611013E-2,7.1427936819815921E-2,7.1056475209392622E-2,7.0775912858747E-2,7.0525865769652862E-2,7.0242252883027823E-2,6.9929142986124751E-2,6.9581688565517566E-2,6.9233040845824184E-2,6.8870694067627858E-2,6.8526141170097074E-2,0.21812740139822956,0.85587022018519499,1.4872736897725256,2.1132833375306954,2.7328660157162838,3.343407196917922]
[null,null,null,"EL4",11.5,1.022075143405036E-2,1.076968323648549E-2,1.1465744719396603E-2,1.7085625918612873E-2,1.6799238443873571E-2,1.6106617054244005E-2,1.5512169901190115E-2,1.5646598180628603E-2,1.5723632520857671E-2,1.56970260803517E-2,1.5593422826861226E-2,1.5512329095008251E-2,1.5451079567754629E-2,1.539649182295239E-2,1.5334576333618753E-2,1.526622135612583E-2,1.5190368630500318E-2,1.5114255395919367E-2,1.5035151521806086E-2,1.4959932227274715E-2,1.4879437519258524E-2,1.4788287012728581E-2,1.4696652099915043E-2,1.4611683740471566E-2,1.4523401104209568E-2,1.44225004787611E-2]
[null,null,null,"EL5",11.961997496471479,1.5166276321494081E-2,1.5980820286397822E-2,1.7013685712653024E-2,2.5352864266328778E-2,2.4927902207038197E-2,2.390014143532981E-2,2.3018058563056297E-2,2.321753278415857E-2,2.3331841805143642E-2,2.3292361280521878E-2,2.3138627420503752E-2,2.3018294786141272E-2,2.2927408390861707E-2,2.2846407221155156E-2,2.2754532624079438E-2,2.2653102657477036E-2,2.2540547000097243E-2,2.2427604781041638E-2,2.2310224838809026E-2,2.21986091114399E-2,2.2079165351157809E-2,2.1943909760823055E-2,2.1807935374067479E-2,2.1681853292312647E-2,2.1550853251407744E-2,2.1401129742677757E-2]
[null,null,null,"TOTAL",null,{"$f":"SUM(F39:F44)","v":3.2970165916291476},3.474091366608222,3.6986273288376132,5.5114922318106041,5.4191091754430865,5.1956829207238719,5.0039257745774561,5.0472897356866468,5.072139522857313,5.0635568001134503,5.0301363957616854,5.0039771274220159,4.9842192154047185,4.9666102654685114,4.9466375269737899,4.9245875342341376,4.9001189130646177,4.8755662567481819,4.8500488780019619,4.8257845894434572,4.7998185545995229,4.770415165396316,4.7408555161016261,4.7134463678940532,4.6849680981321189,4.6524195092777738]
[]
[null,null,null,"POST-Case"]
[null,null,null,"Efficiency Level","CEER",2009,2010,2011,2012,2013,2014,2015,2016,2017,2018,2019,2020,2021,2022,2023,2024,2025,2026,2027,2028,2029,2030,2031,2032,2033,2034]
[null,null,null,"EL0",{"$f":"INDEX(EFFICIENCY_LEVELS,RIGHT(D49,1)+1,MID($D$35,3,1))","v":9.6867014340173032},1.2215446471985993,1.2871508513283465,1.370341425334336,2.0420078718858292,2.0077799495016642,0,0,0,0,0,0,0,0,0,0,0,0,0,0,0,0,0,0,0,0,0]
[null,null,null,"EL1",10.199999999999999,8.1106608154076887E-2,8.5462647618562107E-2,9.0986232289405139E-2,0.13558270890254059,0.1333100857158997,0,0,0,0,0,0,0,0,0,0,0,0,0,0,0,0,0,0,0,0,0]
[null,null,null,"EL2",10.7,1.9221606729197931,2.0253952667325934,2.1562997327123288,3.2131999711455821,3.1593406492833189,0,0,0,0,0,0,0,0,0,0,0,0,0,0,0,0,0,0,0,0,0]
[null,null,null,"EL3",10.9,4.6817635601133903E-2,4.9332097405836751E-2,5.2520508069494112E-2,7.8263189691710575E-2,7.6951350291291826E-2,5.1179690923639125,4.8339290833815962,4.8266736508489565,4.8009251550302725,4.7432490057340413,4.6625938645158014,4.5891306248692398,4.5218666414969082,4.4268158018818058,4.316571759153069,4.2050686573492646,4.0921406960916302,3.9798327255397687,3.8674501357800346,3.7567771370098102,3.6443744546432848,3.5265155675417827,3.4094828629148006,3.2949021539536845,3.1804614624897223,3.0642525471734428]
[null,null,null,"EL4",11.5,1.022075143405036E-2,1.076968323648549E-2,1.1465744719396603E-2,1.7085625918612873E-2,1.6799238443873571E-2,1.5988818085587154E-2,0.10964406644664577,0.15976245420278989,0.21008327785864359,0.25930228498501745,0.30696169116916827,0.35460264983024142,0.40236846888470618,0.48005742755838487,0.57060996301920475,0.66036893309711087,0.7491628095128704,0.83725327251921677,0.92446479852378338,1.0112044007801693,1.0979924092273865,1.1868415592529777,1.2747096252353736,1.3622500004469917,1.4485935214561647,1.5326829955842074]
[null,null,null,"EL5",11.961997496471479,1.5166276321494081E-2,1.5980820286397822E-2,1.7013685712653024E-2,2.5352864266328778E-2,2.4927902207038197E-2,2.3725342965709967E-2,2.2845525908388498E-2,2.304360667393815E-2,2.3157161735271263E-2,2.311807910117307E-2,2.29655973037481E-2,2.2846265886696419E-2,2.2756159843033384E-2,2.2675926115556438E-2,2.258492658428015E-2,2.248444134624606E-2,2.2372911518767032E-2,2.2260996173469293E-2,2.2144674199113486E-2,2.2034071804132919E-2,2.1915699792852208E-2,2.1781638319525717E-2,2.1646861006118949E-2,2.1521900653248049E-2,2.1392056385524497E-2,2.1243624167857335E-2]
[null,null,null,"TOTAL",null,{"$f":"SUM(F49:F54)","v":3.2970165916291476},3.474091366608222,3.6986273288376132,5.5114922318106041,5.4191091754430865,5.1576832534152093,4.9664186757366302,5.0094797117256844,5.034165594624187,5.0256693698202319,4.9925211529887177,4.966579540586177,4.9469912702246477,4.9295491555557467,4.9097666487565546,4.8879220317926215,4.8636764171232674,4.8393469942324545,4.814059608502931,4.7900156095941124,4.7642825636635235,4.7351387651142867,4.7058393491562933,4.6786740550539241,4.6504470403314109,4.6181791669255077]
[]
[null,null,null,"Sources","2011 DOE Residential Room Air Conditioners Direct Final Rule Government Regulatory Impact Model 'Product Shipments (CALC)' tab."]
[]
[]
[]
[null,null,null,"PC3 - Rooms ACs without reverse cycle, with louvered sides, and 20,000 to 24,999 Btu/h"]
[]
[null,null,null,"PRE-Case"]
[null,null,null,"Efficiency Level","CEER",2009,2010,2011,2012,2013,2014,2015,2016,2017,2018,2019,2020,2021,2022,2023,2024,2025,2026,2027,2028,2029,2030,2031,2032,2033,2034]
[null,null,null,"EL0",{"$f":"INDEX(EFFICIENCY_LEVELS,RIGHT(D65,1)+1,MID($D$61,3,1))","v":8.4713534124895506},1.5657434372583427E-2,1.6498357246709713E-2,1.7564671896692832E-2,2.6173913753930099E-2,2.5735189348998204E-2,2.4674144667191006E-2,1.5856260671535286E-2,7.9979724613207757E-3,0,0,0,0,0,0,0,0,0,0,0,0,0,0,0,0,0,0]
[null,null,null,"EL1",{"$f":"INDEX(EFFICIENCY_LEVELS,RIGHT(D66,1)+1,MID($D$61,3,1))","v":9},1.7779070067278702E-3,1.8733940855461464E-3,1.9944744772929044E-3,2.9720568229292341E-3,2.922239517297301E-3,2.8017575322321379E-3,1.0605588000382495E-2,1.8693194275728221E-2,2.679904990262607E-2,1.6099325474309912E-2,5.3825507396349547E-3,0,0,0,0,0,0,0,0,0,0,0,0,0,0,0]
[null,null,null,"EL2",{"$f":"INDEX(EFFICIENCY_LEVELS,RIGHT(D67,1)+1,MID($D$61,3,1))","v":9.4},9.6315148911137724E-2,0.10148800226098648,0.10804733068321419,0.16100622495415293,0.1583074554503856,0.15178054471278887,0.14617877791162737,0.14744556145836857,0.14819502171091478,0.15859863330721793,0.16816236944622112,0.16741523255812699,0.15618791024585765,0.14508082230431829,0.13395827354241957,0.122842773038839,0.11174013368831189,0.10071444454511311,8.9750279011331896E-2,7.8890467414946625E-2,6.8085312511288132E-2,5.7325354755736385E-2,4.6665661713911032E-2,3.6125348880823187E-2,2.5673098500522702E-2,1.5306444907738038E-2]
[null,null,null,"EL3",{"$f":"INDEX(EFFICIENCY_LEVELS,RIGHT(D68,1)+1,MID($D$61,3,1))","v":9.8000000000000007},2.2994263953680437E-3,2.4229230173063478E-3,2.5795203239654882E-3,3.8438601576551404E-3,3.7794297757045067E-3,3.6236064083535625E-3,3.4898699132236916E-3,3.5201130842879035E-3,3.5374439817679412E-3,3.5314581643864132E-3,3.5081498922638417E-3,8.7170714798437722E-3,1.9248945655966448E-2,2.9736225623772872E-2,4.0155764687696549E-2,5.0495139336509953E-2,6.0736520828842164E-2,7.0897994205832149E-2,8.0963987226603362E-2,9.0969733158653018E-2,0.10086092354422263,0.11058592719127029,0.12020516600953472,0.1297807189521222,0.13923057800639188,0.14845157129695735]
[null,null,null,"EL4",{"$f":"INDEX(EFFICIENCY_LEVELS,RIGHT(D69,1)+1,MID($D$61,3,1))","v":10.154447630701553},2.4772170960408301E-3,2.610262425860961E-3,2.7789677716947778E-3,4.1410658399480627E-3,4.071653727434235E-3,3.9037821615767756E-3,3.7597052157925326E-3,3.7922867763720189E-3,3.8109576916984509E-3,3.8045090533853614E-3,3.7793985952739311E-3,3.7597437998096095E-3,3.7448986705628877E-3,3.7316681663743289E-3,3.7166616270140193E-3,3.7000943403582807E-3,3.6817098145322438E-3,3.6632621488047758E-3,3.6440896378029282E-3,3.6258586375122379E-3,3.6063490282506128E-3,3.5842567589545902E-3,3.5620470834644229E-3,3.5414531893663147E-3,3.520056009595051E-3,3.4956005910306742E-3]
[null,null,null,"TOTAL",null,{"$f":"SUM(F65:F69)","v":0.11852713378185789},{"$f":"SUM(G65:G69)","v":0.12489293903640963},0.13296496515286022,0.19813712152861546,0.19481596781981986,0.18678383548214236,0.17989020171256137,0.18144912805607749,0.18234247328700726,0.18203392599929963,0.18083246867339384,0.17989204783778037,0.17918175457238697,0.17854871609446549,0.17783069985713013,0.17703800671570724,0.1761583643316863,0.17527570089975003,0.1743583558757382,0.17348605921111188,0.17255258508376137,0.17149553870596126,0.17043287480691016,0.16944752102231173,0.16842373251650963,0.16725361679572606]
[]
[null,null,null,"POST-Case"]
[null,null,null,"Efficiency Level","CEER",2009,2010,2011,2012,2013,2014,2015,2016,2017,2018,2019,2020,2021,2022,2023,2024,2025,2026,2027,2028,2029,2030,2031,2032,2033,2034]
[null,null,null,{"$f":"D65","v":"EL0"},{"$f":"E65","v":8.4713534124895506},1.5657434372583427E-2,1.6498357246709713E-2,1.7564671896692832E-2,2.6173913753930099E-2,2.5735189348998204E-2,0,0,0,0,0,0,0,0,0,0,0,0,0,0,0,0,0,0,0,0,0]
[null,null,null,{"$f":"D66","v":"EL1"},9,1.7779070067278702E-3,1.8733940855461464E-3,1.9944744772929044E-3,2.9720568229292341E-3,2.922239517297301E-3,0,0,0,0,0,0,0,0,0,0,0,0,0,0,0,0,0,0,0,0,0]
[null,null,null,"EL2",9.4,9.6315148911137724E-2,0.10148800226098648,0.10804733068321419,0.16100622495415293,0.1583074554503856,0.17895331637785306,0.15406776160643959,0.15278555819121972,0.15089922643275425,0.14722335705208436,0.14284518478086564,0.1351739078286473,0.12410975616460866,0.1131515998933339,0.10219277146068401,9.1253893698676813E-2,8.034292503817482E-2,6.9508963549313046E-2,5.8742214095412131E-2,4.8071325693216441E-2,3.7465480064838248E-2,2.6926244843684138E-2,1.6487733144500326E-2,6.15439243832374E-3,1.8356029248469351E-3,2.1796557464852464E-5]
[null,null,null,"EL3",9.8000000000000007,2.2994263953680437E-3,2.4229230173063478E-3,2.5795203239654882E-3,3.8438601576551404E-3,3.7794297757045067E-3,3.617478730572418E-3,2.1483252470201712E-2,2.4287241678788846E-2,2.7045838093103659E-2,3.0421203925155255E-2,3.3627488516690687E-2,4.0382232325530384E-2,5.0755046958288953E-2,6.1097238812359636E-2,7.1357150668355296E-2,8.1524210218727688E-2,9.1578479728555165E-2,0.10155276903258649,0.11142597363439412,0.12124725829863869,0.13094376766111349,0.14045303522680916,0.14985606909408924,0.15922936060711199,0.16265377862892288,0.16347136448596614]
[null,null,null,"EL4",10.154447630701553,2.4772170960408301E-3,2.610262425860961E-3,2.7789677716947778E-3,4.1410658399480627E-3,4.071653727434235E-3,3.8971806942764697E-3,3.7473355062831205E-3,3.7798197500594211E-3,3.7984392284653563E-3,3.7920246393875071E-3,3.7670093677039393E-3,3.7474449282221566E-3,3.7326875551716475E-3,3.7195390960565768E-3,3.7046199290132987E-3,3.6881445938859708E-3,3.6698573788424642E-3,3.651506701012869E-3,3.6324329726820045E-3,3.6142972172707303E-3,3.5948864033013899E-3,3.5729005755012868E-3,3.5507971267352894E-3,3.5303037878149385E-3,3.5112124139248177E-3,3.4899469572134694E-3]
[null,null,null,"TOTAL",null,{"$f":"SUM(F74:F78)","v":0.11852713378185789},0.12489293903640963,0.13296496515286022,0.19813712152861546,0.19481596781981986,0.18646797580270194,0.17929834958292443,0.18085261962006799,0.18174350375432324,0.18143658561662715,0.18023968266526028,0.17930358508239985,0.17859749067806927,0.17796837780175009,0.17725454205805261,0.17646624851129047,0.17559126214557244,0.17471323928291241,0.17380062070248825,0.17293288120912584,0.17200413412925311,0.17095218064599457,0.16989459936532486,0.16891405683325067,0.16800059396769465,0.16698310800064445]
[]
[null,null,null,"Sources","2011 DOE Residential Room Air Conditioners Direct Final Rule Government Regulatory Impact Model 'Product Shipments (CALC)' tab."]
[]
[]
[]
[null,null,null,"PC4 - Rooms ACs without reverse cycle, with louvered sides, and 25,000 Btu/h or more"]
[]
[null,null,null,"PRE-Case"]
[null,null,null,"Efficiency Level","CEER",2009,2010,2011,2012,2013,2014,2015,2016,2017,2018,2019,2020,2021,2022,2023,2024,2025,2026,2027,2028,2029,2030,2031,2032,2033,2034]
[null,null,null,"EL0",{"$f":"INDEX(EFFICIENCY_LEVELS,RIGHT(D89,1)+1,MID($D$85,3,1))","v":8.4754339546823534},9.6571455292468727E-3,1.0175807423722386E-2,1.0833485783395807E-2,1.614346821943306E-2,1.5872873093511389E-2,1.5218445129043098E-2,9.4549935267634177E-3,4.2769504072600285E-3,0,0,0,0,0,0,0,0,0,0,0,0,0,0,0,0,0,0]
[null,null,null,"EL1",{"$f":"INDEX(EFFICIENCY_LEVELS,RIGHT(D90,1)+1,MID($D$85,3,1))","v":9},1.7530240077187052E-3,1.8471746809327336E-3,1.9665604715240533E-3,2.9304608976641463E-3,2.8813408185811764E-3,2.7625450595692626E-3,7.8623719918941761E-3,1.319048719453675E-2,1.6235043995252968E-2,9.2215324495832831E-3,2.2033882306884984E-3,0,0,0,0,0,0,0,0,0,0,0,0,0,0,0]
[null,null,null,"EL2",{"$f":"INDEX(EFFICIENCY_LEVELS,RIGHT(D91,1)+1,MID($D$85,3,1))","v":9.4},6.6157264432888802E-2,6.9710410856970426E-2,7.4215903812516304E-2,0.11059248228397149,0.10873874266229604,0.10425551687197473,0.10040775697391612,0.10127788939886112,0.10309491282814209,0.10990650249649811,0.11613837981750005,0.11300136476519602,0.10565564213035955,9.839001145732007E-2,9.1112545391072275E-2,8.383815273597589E-2,7.6570377912683507E-2,6.9352787930127113E-2,6.2174661360006066E-2,5.5065597802971329E-2,4.7990971244313327E-2,4.0943327348672419E-2,3.3961038963337097E-2,2.7058285924671348E-2,2.0212248703572775E-2,1.3419108283506329E-2]
[null,null,null,"EL3",{"$f":"INDEX(EFFICIENCY_LEVELS,RIGHT(D92,1)+1,MID($D$85,3,1))","v":9.8000000000000007},0,0,0,0,0,0,0,0,0,0,0,4.7249658827717648E-3,1.1605852963042035E-2,1.8457205750758442E-2,2.5264782136038343E-2,3.202041447909651E-2,3.8712527001592806E-2,4.5352477626056466E-2,5.1930268245182765E-2,5.846847674332397E-2,6.4932212019745375E-2,7.1288095535320159E-2,7.7574947279341833E-2,8.3832857553443163E-2,9.0008899265588901E-2,9.6036283600841751E-2]
[null,null,null,"TOTAL",null,{"$f":"SUM(F89:F92)","v":7.7567433969854382E-2},8.1733392961625545E-2,8.7015950067436162E-2,0.12966641140106869,0.12749295657438861,0.1222365070605871,0.11772512249257371,0.1187453270006579,0.11932995682339506,0.11912803494608139,0.11834176804818855,0.11772633064796779,0.11726149509340159,0.11684721720807852,0.11637732752711062,0.1158585672150724,0.11528290491427631,0.11470526555618357,0.11410492960518884,0.1135340745462953,0.1129231832640587,0.11223142288399257,0.11153598624267894,0.11089114347811452,0.11022114796916167,0.10945539188434808]
[]
[null,null,null,"POST-Case"]
[null,null,null,"Efficiency Level","CEER",2009,2010,2011,2012,2013,2014,2015,2016,2017,2018,2019,2020,2021,2022,2023,2024,2025,2026,2027,2028,2029,2030,2031,2032,2033,2034]
[null,null,null,{"$f":"D89","v":"EL0"},{"$f":"E89","v":8.4754339546823534},9.6571455292468727E-3,1.0175807423722386E-2,1.0833485783395807E-2,1.614346821943306E-2,1.5872873093511389E-2,0,0,0,0,0,0,0,0,0,0,0,0,0,0,0,0,0,0,0,0,0]
[null,null,null,{"$f":"D90","v":"EL1"},9,1.7530240077187052E-3,1.8471746809327336E-3,1.9665604715240533E-3,2.9304608976641463E-3,2.8813408185811764E-3,1.796245598266704E-2,1.4151400719439457E-2,1.1090694843497537E-2,7.2271022662213722E-3,2.3600993860025749E-4,0,0,0,0,0,0,0,0,0,0,0,0,0,0,0,0]
[null,null,null,"EL2",9.4,6.6157264432888802E-2,6.9710410856970426E-2,7.4215903812516304E-2,0.11059248228397149,0.10873874266229604,0.10414805375674178,0.10345250506102723,0.10753249658214589,0.11198027925168649,0.11876994387777549,0.117208369267552,0.11154987295498997,0.10421845424045906,9.6966208960510059E-2,8.9702518867173717E-2,8.2442211643078911E-2,7.5188929371921162E-2,6.798558420897266E-2,6.0821710471059942E-2,5.3726298043538505E-2,4.666555161508449E-2,3.9632495773559359E-2,3.2664601138130821E-2,2.5775427684633326E-2,1.8943044422224768E-2,1.216444535532687E-2]
[null,null,null,"EL3",9.8000000000000007,0,0,0,0,0,0,0,0,0,0,1.0124076534567773E-3,6.0574472858337348E-3,1.2926296542271754E-2,1.9766417076818626E-2,2.6562365021863772E-2,3.330604746215738E-2,3.9985798790628843E-2,4.6613580939407324E-2,5.3179161061568878E-2,5.9705681050189315E-2,6.6157483845321455E-2,7.2500748125276848E-2,7.8775128446356757E-2,8.5021290428925561E-2,9.1185485509460706E-2,9.720017117636745E-2]
[null,null,null,"TOTAL",null,{"$f":"SUM(F97:F100)","v":7.7567433969854382E-2},8.1733392961625545E-2,8.7015950067436162E-2,0.12966641140106869,0.12749295657438861,0.12211050973940882,0.11760390578046669,0.11862319142564343,0.11920738151790787,0.11900595381637576,0.11822077692100878,0.11760732024082371,0.11714475078273082,0.11673262603732869,0.1162648838890375,0.11574825910523628,0.11517472816255001,0.11459916514837998,0.11400087153262882,0.11343197909372782,0.11282303546040595,0.11213324389883621,0.11143972958448758,0.11079671811355889,0.11012852993168548,0.10936461653169433]
[]
[null,null,null,"Sources","2011 DOE Residential Room Air Conditioners Direct Final Rule Government Regulatory Impact Model 'Product Shipments (CALC)' tab."]
[]
[]
[]
[null,null,null,"PC5 - Room ACs without reverse cycle, without louvered sides, and 8,000 to 10,999 Btu/h"]
[]
[null,null,null,"PRE-Case"]
[null,null,null,"Efficiency Level","CEER",2009,2010,2011,2012,2013,2014,2015,2016,2017,2018,2019,2020,2021,2022,2023,2024,2025,2026,2027,2028,2029,2030,2031,2032,2033,2034]
[null,null,null,"EL0",{"$f":"INDEX(EFFICIENCY_LEVELS,RIGHT(D111,1)+1,MID($D$107,3,1))","v":8.4146356252408392},2.7657120130007613E-2,2.9142517060075958E-2,3.1026043547826083E-2,4.6233313820076574E-2,4.5458355849158028E-2,4.3584138175320475E-2,3.1032693295207338E-2,2.0236312600784789E-2,9.188355929838939E-3,0,0,0,0,0,0,0,0,0,0,0,0,0,0,0,0,0]
[null,null,null,"EL1",{"$f":"INDEX(EFFICIENCY_LEVELS,RIGHT(D112,1)+1,MID($D$107,3,1))","v":9.3000000000000007},0.17748251024955333,0.18701466597025951,0.19910171652346276,0.29669049255202762,0.29171739754538972,0.27969008392983163,0.28031044232921903,0.29380491892534805,0.30639902376192452,0.30919892638545032,0.27436833697748336,0.2402406378077977,0.20663890548022446,0.17328972352120139,0.14002367158210571,0.10689444123319343,7.3938901759006678E-2,4.1225816480443024E-2,8.7562856535718398E-3,0,0,0,0,0,0,0]
[null,null,null,"EL2",{"$f":"INDEX(EFFICIENCY_LEVELS,RIGHT(D113,1)+1,MID($D$107,3,1))","v":9.6},5.353256255094635E-2,5.6407666816975566E-2,6.0053382605455244E-2,8.9488267483260206E-2,8.7988274502879715E-2,8.4360576666403259E-2,8.1247079619789497E-2,8.1951165843203819E-2,8.2354643578035E-2,8.8069726990151725E-2,0.1202782703628502,0.15235360639791906,0.1844052032356624,0.21637284962499287,0.24807191155306646,0.27947117791254994,0.31050699641476004,0.34129376762266761,0.37176129568895777,0.36101877450190778,0.33501660340468864,0.30899227762492243,0.28319456964161793,0.2577529514549724,0.23247596592944189,0.20724709184800091]
[null,null,null,"EL3",{"$f":"INDEX(EFFICIENCY_LEVELS,RIGHT(D114,1)+1,MID($D$107,3,1))","v":10},1.0114447302252538E-2,1.0657669767262666E-2,1.1346491644348687E-2,1.6907921506053775E-2,1.6624512694092482E-2,1.5939095130518593E-2,1.5350830711573135E-2,1.5483860827517775E-2,1.5560093947923669E-2,1.5533764236049291E-2,1.5431238540699704E-2,1.5350988249646019E-2,1.5290375767316124E-2,1.5236355779479252E-2,1.5175084261616885E-2,1.5107440231512059E-2,1.5032376435956334E-2,1.4957054840950286E-2,1.4878773711496604E-2,3.2399453837246101E-2,5.6284764714960377E-2,7.9912002710742738E-2,0.10329988393110318,0.12650699323567025,0.149462310599631,0.17203768701148528]
[null,null,null,"EL4",{"$f":"INDEX(EFFICIENCY_LEVELS,RIGHT(D115,1)+1,MID($D$107,3,1))","v":10.354619755605318},5.3176227009132581E-3,5.6032193356340305E-3,5.9653641707415866E-3,8.889259545188162E-3,8.7402587063792458E-3,8.3799036729555743E-3,8.070626444566905E-3,8.1405663971231661E-3,8.1806455986373761E-3,8.1668028774893285E-3,8.1129004793922561E-3,8.0707092694615925E-3,8.038842544334221E-3,8.0104417919213411E-3,7.9782285819882809E-3,7.9426650539656894E-3,7.9032006194458774E-3,7.8636006480876826E-3,7.8224447155293801E-3,7.7833098406889512E-3,7.74143028913032E-3,7.6940067698469351E-3,7.6463312250772885E-3,7.6021241352217696E-3,7.5561927031042361E-3,7.5036964204303822E-3]
[null,null,null,"TOTAL",null,{"$f":"SUM(F111:F115)","v":0.27410426293367307},0.28882573895020769,0.30749299849183437,0.45820925490660636,0.45052879929789919,0.43195379757502961,0.41601167240035591,0.41961682459397764,0.42168276281635952,0.42096922048914065,0.41819074636042558,0.41601594172482437,0.41437332702753721,0.41290937071759481,0.41124889597877734,0.4094157244312211,0.40738147522916895,0.4053402395921486,0.4032187997695556,0.40120153817984283,0.39904279840877932,0.39659828710551209,0.3941407847977984,0.39186206882586438,0.38949446923217712,0.38678847527991655]
[]
[null,null,null,"POST-Case"]
[null,null,null,"Efficiency Level","CEER",2009,2010,2011,2012,2013,2014,2015,2016,2017,2018,2019,2020,2021,2022,2023,2024,2025,2026,2027,2028,2029,2030,2031,2032,2033,2034]
[null,null,null,"EL0",{"$f":"INDEX(EFFICIENCY_LEVELS,RIGHT(D120,1)+1,MID($D$107,3,1))","v":8.4146356252408392},2.7657120130007613E-2,2.9142517060075958E-2,3.1026043547826083E-2,4.6233313820076574E-2,4.5458355849158028E-2,0,0,0,0,0,0,0,0,0,0,0,0,0,0,0,0,0,0,0,0,0]
[null,null,null,"EL1",{"$f":"INDEX(EFFICIENCY_LEVELS,RIGHT(D121,1)+1,MID($D$107,3,1))","v":9.3000000000000007},0.17748251024955333,0.18701466597025951,0.19910171652346276,0.29669049255202762,0.29171739754538972,0,0,0,0,0,0,0,0,0,0,0,0,0,0,0,0,0,0,0,0,0]
[null,null,null,"EL2",{"$f":"INDEX(EFFICIENCY_LEVELS,RIGHT(D122,1)+1,MID($D$107,3,1))","v":9.6},5.353256255094635E-2,5.6407666816975566E-2,6.0053382605455244E-2,8.9488267483260206E-2,8.7988274502879715E-2,0.40679614140051301,0.3353281507278057,0.33312968415095651,0.32962742828838576,0.32362265188132378,0.31467841036338123,0.30625210184414803,0.29826294187250779,0.29043629601783233,0.28250578419199451,0.27449723491033118,0.26640081410965,0.2583504083067894,0.25030112583036962,0.22970349505106147,0.20448800902313902,0.17934283552665437,0.15442745826150014,0.12980872698877655,0.10538263487830203,8.111397519250696E-2]
[null,null,null,"EL3",{"$f":"INDEX(EFFICIENCY_LEVELS,RIGHT(D123,1)+1,MID($D$107,3,1))","v":10},1.0114447302252538E-2,1.0657669767262666E-2,1.1346491644348687E-2,1.6907921506053775E-2,1.6624512694092482E-2,1.5906302445352263E-2,7.1265449019591379E-2,7.6987945941040414E-2,8.250987013915137E-2,8.7817783889463874E-2,9.4047101754183807E-2,0.10034848599082771,0.10673286196367035,0.11312933514034645,0.11943759892434913,0.12565510648973235,0.13176395231453916,0.13781994926477401,0.14379642747823362,0.1624242828254534,0.1855321422458184,0.20829035023824743,0.23080603411824166,0.25319978835417567,0.27531399901001374,0.29693999508601282]
[null,null,null,"EL4",{"$f":"INDEX(EFFICIENCY_LEVELS,RIGHT(D124,1)+1,MID($D$107,3,1))","v":10.354619755605318},5.3176227009132581E-3,5.6032193356340305E-3,5.9653641707415866E-3,8.889259545188162E-3,8.7402587063792458E-3,8.3626630742502407E-3,8.0439688304094464E-3,8.1136875624971856E-3,8.1536442886948994E-3,8.1398576932013873E-3,8.0861461707941694E-3,8.0441070813772487E-3,8.0123583463408699E-3,7.984064087771435E-3,7.9519698474985381E-3,7.9165362259445565E-3,7.8772144285430036E-3,7.8377574310507132E-3,7.796749473982156E-3,7.7577798192987844E-3,7.7160829437260599E-3,7.6688596816633639E-3,7.6213846136722321E-3,7.5773660999931399E-3,7.5316282861853214E-3,7.4793463424467502E-3]
[null,null,null,"TOTAL",null,{"$f":"SUM(F120:F124)","v":0.27410426293367307},0.28882573895020769,0.30749299849183437,0.45820925490660636,0.45052879929789919,0.43106510692011551,0.41463756857780648,0.41823131765449412,0.42029094271623202,0.41958029346398906,0.4168116582883592,0.41464469491635303,0.41300816218251901,0.4115496952459502,0.40989535296384216,0.40806887762600808,0.40604198085273219,0.40400811500261408,0.40189430278258542,0.39988555769581363,0.39773623421268345,0.39530204544656516,0.39285487699341404,0.39058588144294537,0.38822826217450107,0.38553331662096652]
[]
[null,null,null,"Sources","2011 DOE Residential Room Air Conditioners Direct Final Rule Government Regulatory Impact Model 'Product Shipments (CALC)' tab."]
[]
[]
[]
[null,null,null,"PC6 - Room ACs without reverse cycle, without louvered sides, and 11,000 to 13,999 Btu/h"]
[]
[null,null,null,"PRE-Case"]
[null,null,null,"Efficiency Level","CEER",2009,2010,2011,2012,2013,2014,2015,2016,2017,2018,2019,2020,2021,2022,2023,2024,2025,2026,2027,2028,2029,2030,2031,2032,2033,2034]
[null,null,null,"EL0",{"$f":"INDEX(EFFICIENCY_LEVELS,RIGHT(D135,1)+1,MID($D$131,3,1))","v":8.4428992651201167},2.4571532639505771E-2,2.5891210139485088E-2,2.7564599572425772E-2,4.1075259254124384E-2,4.0386760054382687E-2,3.8721640890501563E-2,3.1596255257499454E-3,1.7307321918476868E-2,7.1500601576040129E-3,0,0,0,0,0,0,0,0,0,0,0,0,0,0,0,0,0]
[null,null,null,"EL1",{"$f":"INDEX(EFFICIENCY_LEVELS,RIGHT(D136,1)+1,MID($D$131,3,1))","v":9.3000000000000007},0.1444825601092049,0.1522423684415907,0.16208203098434304,0.24152578112459858,0.23747735124147917,0.22768631853651711,0.25341601141548897,0.2414917964337798,0.25292322776838227,0.24629354084714367,0.20091937327525616,0.15624461754788302,0.11206144801666265,6.8144680955490144E-2,2.441643341795666E-2,0,0,0,0,0,0,0,0,0,0,0]
[null,null,null,"EL2",{"$f":"INDEX(EFFICIENCY_LEVELS,RIGHT(D137,1)+1,MID($D$131,3,1))","v":9.5},3.2437345367514067E-2,3.4179476616247914E-2,3.6388549683321246E-2,5.4224227280965001E-2,5.3315326454348611E-2,5.1117171126013973E-2,4.9230588937731246E-2,4.9657220634573035E-2,4.9901702609826244E-2,6.3156931506684513E-2,0.10648866915803112,0.14956474667092085,0.1925404457524483,0.2353810724461835,0.27788872078726823,0.288250229926381,0.25797730470294195,0.22791674007755022,0.19803496914159205,0.1684274679093973,0.1389872803787964,0.10970582011825346,8.0701531076315183E-2,5.2003810437376757E-2,2.3558879869237201E-2,0]
[null,null,null,"EL3",{"$f":"INDEX(EFFICIENCY_LEVELS,RIGHT(D138,1)+1,MID($D$131,3,1))","v":9.8000000000000007},4.2032175754000957E-2,4.4289622101834757E-2,4.7152129694754102E-2,7.0263525740950142E-2,6.9085775871025296E-2,6.6237415438063135E-2,6.379279017006316E-2,6.4345617729183971E-2,6.4662416444864937E-2,6.4552999188144486E-2,6.4126937544096443E-2,6.3793444844290004E-2,6.3541560145695633E-2,6.3317071594306121E-2,6.3062448169956278E-2,7.5488720069128906E-2,0.10395434863875329,0.13220140962225466,0.16019842077127347,0.1880137177261953,0.21553600691830163,0.24264567962491546,0.26946663945969851,0.29613987079471304,0.32248134480555007,0.3373752067642567]
[null,null,null,"EL4",{"$f":"INDEX(EFFICIENCY_LEVELS,RIGHT(D139,1)+1,MID($D$131,3,1))","v":10.020890372503978},0,0,0,0,0,0,0,0,0,0,0,0,0,0,0,0,0,0,0,0,0,0,0,0,0,6.2609202167820685E-3]
[null,null,null,"TOTAL",null,{"$f":"SUM(F135:F139)","v":0.24352361387022567},0.25660267729915842,0.27318730993484419,0.40708879340063808,0.40026521362123579,0.38376254599109583,0.36959901604903334,0.37280195671601363,0.37463740698067743,0.37400347154197267,0.37153497997738372,0.3696028090630939,0.36814345391480657,0.36684282499597975,0.36536760237518118,0.36373894999550993,0.36193165334169525,0.36011814969980488,0.35823338991286552,0.35644118563559257,0.35452328729709803,0.35235149974316893,0.35016817053601368,0.34814368123208983,0.34604022467478729,0.34363612698103879]
[]
[null,null,null,"POST-Case"]
[null,null,null,"Efficiency Level","CEER",2009,2010,2011,2012,2013,2014,2015,2016,2017,2018,2019,2020,2021,2022,2023,2024,2025,2026,2027,2028,2029,2030,2031,2032,2033,2034]
[null,null,null,{"$f":"D135","v":"EL0"},{"$f":"E135","v":8.4428992651201167},2.4571532639505771E-2,2.5891210139485088E-2,2.7564599572425772E-2,4.1075259254124384E-2,4.0386760054382687E-2,0,0,0,0,0,0,0,0,0,0,0,0,0,0,0,0,0,0,0,0,0]
[null,null,null,{"$f":"D136","v":"EL1"},9.3000000000000007,0.1444825601092049,0.1522423684415907,0.16208203098434304,0.24152578112459858,0.23747735124147917,0,0,0,0,0,0,0,0,0,0,0,0,0,0,0,0,0,0,0,0,0]
[null,null,null,"EL2",9.5,3.2437345367514067E-2,3.4179476616247914E-2,3.6388549683321246E-2,5.4224227280965001E-2,5.3315326454348611E-2,0.31666673362028064,0.28759747605013514,0.29728052015712791,0.2935282096036817,0.28481974387676057,0.26792984038877676,0.25156706650493921,0.23562610507753623,0.21986146958452016,0.20406791282770265,0.18214531046422958,0.15247774858799132,0.12302343283902734,9.3767727758994432E-2,6.4758421974341909E-2,3.5952051328360761E-2,7.3771809190514718E-3,0,0,0,0]
[null,null,null,"EL3",9.8000000000000007,4.2032175754000957E-2,4.4289622101834757E-2,4.7152129694754102E-2,7.0263525740950142E-2,6.9085775871025296E-2,6.6058349314552151E-2,8.1003655279749731E-2,7.4514371484359576E-2,8.0097560589555195E-2,8.8174410532827624E-2,0.10260359327130388,0.11704050847078225,0.13152714400176971,0.14599574495588066,0.16031913456316835,0.18061899024811023,0.20848619116847006,0.23613393083414894,0.26351196867497351,0.29073589139161132,0.31763149374591082,0.34404235246022236,0.34592813792770505,0.33946686979562196,0.33297035505792982,0.32071795466527059]
[null,null,null,"EL4",10.020890372503978,0,0,0,0,0,0,0,0,0,0,0,0,0,0,0,0,0,0,0,0,0,0,3.3158440023441497E-3,7.7599536516082821E-3,1.2160523428854205E-2,2.2019521786145385E-2]
[null,null,null,"TOTAL",null,{"$f":"SUM(F144:F148)","v":0.24352361387022567},0.25660267729915842,0.27318730993484419,0.40708879340063808,0.40026521362123579,0.38272508293483276,0.36860113132988487,0.37179489164148749,0.37362577019323689,0.37299415440958816,0.37053343366008062,0.36860757497572144,0.36715324907930591,0.36585721454040082,0.36438704739087102,0.36276430071233978,0.36096393975646135,0.3591573636731763,0.35727969643396795,0.35549431336595322,0.35358354507427159,0.35141953337927384,0.34924398193004919,0.34722682344723027,0.34513087848678403,0.34273747645141595]
[]
[null,null,null,"Sources","2011 DOE Residential Room Air Conditioners Direct Final Rule Government Regulatory Impact Model 'Product Shipments (CALC)' tab."]

{"sheet":"Efficiency Dist - SF","index":8,"n_rows":151,"n_cols":60,"rows_kept":151,"cut":false,"hidden":false,"merged":[[1,2,1,5],[3,2,3,5],[5,2,5,5]]}
[]
[null,null,"Efficiency Distributions by Product Class - Single Family"]
[]
[null,null,"NAVIGATION"]
[]
[null,null,"COMMENTS"]
[]
[]
[null,null,null,"PC1  Without reverse cycle, with louvered sides, and less than 6,000 Btu/h"]
[]
[null,null,null,"PRE-Case"]
[null,null,null,"Efficiency Level","CEER",null,1981,1982,1983,1984,1985,1986,1987,1988,1989,1990,1991,1992,1993,1994,1995,1996,1997,1998,1999,2000,2001,2002,2003,2004,2005,2006,2007,2008,2009,2010,2011,2012,2013,2014,2015,2016,2017,2018,2019,2020,2021,2022,2023,2024,2025,2026,2027,2028,2029,2030,2031,2032,2033,2034]
[null,null,null,"EL0",{"$f":"INDEX(EFFICIENCY_LEVELS,RIGHT(D13,1)+1,MID($D$9,3,1))","v":9.5235933377732245},null,{"$f":"H13","v":0.69330000000000003},0.69330000000000003,0.69330000000000003,0.69330000000000003,0.69330000000000003,0.69330000000000003,0.69330000000000003,0.69330000000000003,0.69330000000000003,0.69330000000000003,0.69330000000000003,0.69330000000000003,0.69330000000000003,0.69330000000000003,0.69330000000000003,0.69330000000000003,0.69330000000000003,0.69330000000000003,0.69330000000000003,0.69330000000000003,0.69330000000000003,0.69330000000000003,0.69330000000000003,0.69330000000000003,0.69330000000000003,0.69330000000000003,0.69330000000000003,{"$f":"AI13","v":0.69330000000000003},{"$f":"'National Shipments'!F13/'National Shipments'!F$19","v":0.69330000000000003},{"$f":"'National Shipments'!G13/'National Shipments'!G$19","v":0.69330000000000003},{"$f":"'National Shipments'!H13/'National Shipments'!H$19","v":0.69330000000000003},{"$f":"'National Shipments'!I13/'National Shipments'!I$19","v":0.69329999999999992},{"$f":"'National Shipments'!J13/'National Shipments'!J$19","v":0.69330000000000003},{"$f":"'National Shipments'!K13/'National Shipments'!K$19","v":0.69330000000000014},{"$f":"'National Shipments'!L13/'National Shipments'!L$19","v":0.65053710399621079},{"$f":"'National Shipments'!M13/'National Shipments'!M$19","v":0.60766730075241293},{"$f":"'National Shipments'!N13/'National Shipments'!N$19","v":0.5646903230005037},{"$f":"'National Shipments'!O13/'National Shipments'!O$19","v":0.52160590280421637},{"$f":"'National Shipments'!P13/'National Shipments'!P$19","v":0.47841377155743875},{"$f":"'National Shipments'!Q13/'National Shipments'!Q$19","v":0.43511365998254231},{"$f":"'National Shipments'!R13/'National Shipments'!R$19","v":0.39170529812870925},{"$f":"'National Shipments'!S13/'National Shipments'!S$19","v":0.34818841537024325},{"$f":"'National Shipments'!T13/'National Shipments'!T$19","v":0.30456274040488057},{"$f":"'National Shipments'!U13/'National Shipments'!U$19","v":0.26082800125210198},{"$f":"'National Shipments'!V13/'National Shipments'!V$19","v":0.21698392525144305},{"$f":"'National Shipments'!W13/'National Shipments'!W$19","v":0.17303023906078133},{"$f":"'National Shipments'!X13/'National Shipments'!X$19","v":0.12896666865464387},{"$f":"'National Shipments'!Y13/'National Shipments'!Y$19","v":8.4792939322491448E-2},{"$f":"'National Shipments'!Z13/'National Shipments'!Z$19","v":4.0508775667007273E-2},{"$f":"'National Shipments'!AA13/'National Shipments'!AA$19","v":0},{"$f":"'National Shipments'!AB13/'National Shipments'!AB$19","v":0},{"$f":"'National Shipments'!AC13/'National Shipments'!AC$19","v":0},{"$f":"'National Shipments'!AD13/'National Shipments'!AD$19","v":0},{"$f":"'National Shipments'!AE13/'National Shipments'!AE$19","v":0}]
[null,null,null,"EL1",10.1,null,0,0,0,0,0,0,0,0,0,0,0,0,0,0,0,0,0,0,0,0,0,0,0,0,0,0,0,{"$f":"AI14","v":0},{"$f":"'National Shipments'!F14/'National Shipments'!F$19","v":0},{"$f":"'National Shipments'!G14/'National Shipments'!G$19","v":0},{"$f":"'National Shipments'!H14/'National Shipments'!H$19","v":0},{"$f":"'National Shipments'!I14/'National Shipments'!I$19","v":0},{"$f":"'National Shipments'!J14/'National Shipments'!J$19","v":0},{"$f":"'National Shipments'!K14/'National Shipments'!K$19","v":0},{"$f":"'National Shipments'!L14/'National Shipments'!L$19","v":4.2762896003789352E-2},{"$f":"'National Shipments'!M14/'National Shipments'!M$19","v":8.5632699247587096E-2},{"$f":"'National Shipments'!N14/'National Shipments'!N$19","v":0.1286096769994963},{"$f":"'National Shipments'!O14/'National Shipments'!O$19","v":0.17169409719578366},{"$f":"'National Shipments'!P14/'National Shipments'!P$19","v":0.21488622844256128},{"$f":"'National Shipments'!Q14/'National Shipments'!Q$19","v":0.25818634001745766},{"$f":"'National Shipments'!R14/'National Shipments'!R$19","v":0.30159470187129073},{"$f":"'National Shipments'!S14/'National Shipments'!S$19","v":0.34511158462975688},{"$f":"'National Shipments'!T14/'National Shipments'!T$19","v":0.38873725959511951},{"$f":"'National Shipments'!U14/'National Shipments'!U$19","v":0.4324719987478981},{"$f":"'National Shipments'!V14/'National Shipments'!V$19","v":0.47631607474855692},{"$f":"'National Shipments'!W14/'National Shipments'!W$19","v":0.52026976093921884},{"$f":"'National Shipments'!X14/'National Shipments'!X$19","v":0.56433333134535613},{"$f":"'National Shipments'!Y14/'National Shipments'!Y$19","v":0.6085070606775087},{"$f":"'National Shipments'!Z14/'National Shipments'!Z$19","v":0.65279122433299275},{"$f":"'National Shipments'!AA14/'National Shipments'!AA$19","v":0.68882005398708945},{"$f":"'National Shipments'!AB14/'National Shipments'!AB$19","v":0.63751310412205986},{"$f":"'National Shipments'!AC14/'National Shipments'!AC$19","v":0.58607788688236728},{"$f":"'National Shipments'!AD14/'National Shipments'!AD$19","v":0.53451408159957414},{"$f":"'National Shipments'!AE14/'National Shipments'!AE$19","v":0.48282136680357318}]
[null,null,null,"EL2",10.6,null,0.29509999999999992,0.29509999999999992,0.29509999999999992,0.29509999999999992,0.29509999999999992,0.29509999999999992,0.29509999999999992,0.29509999999999992,0.29509999999999992,0.29509999999999992,0.29509999999999992,0.29509999999999992,0.29509999999999992,0.29509999999999992,0.29509999999999992,0.29509999999999992,0.29509999999999992,0.29509999999999992,0.29509999999999992,0.29509999999999992,0.29509999999999992,0.29509999999999992,0.29509999999999992,0.29509999999999992,0.29509999999999992,0.29509999999999992,0.29509999999999992,0.29509999999999992,{"$f":"'National Shipments'!F15/'National Shipments'!F$19","v":0.29509999999999992},{"$f":"'National Shipments'!G15/'National Shipments'!G$19","v":0.29509999999999992},{"$f":"'National Shipments'!H15/'National Shipments'!H$19","v":0.29510000000000003},{"$f":"'National Shipments'!I15/'National Shipments'!I$19","v":0.29510000000000003},{"$f":"'National Shipments'!J15/'National Shipments'!J$19","v":0.29510000000000003},{"$f":"'National Shipments'!K15/'National Shipments'!K$19","v":0.29510000000000003},{"$f":"'National Shipments'!L15/'National Shipments'!L$19","v":0.29509999999999997},{"$f":"'National Shipments'!M15/'National Shipments'!M$19","v":0.29510000000000003},{"$f":"'National Shipments'!N15/'National Shipments'!N$19","v":0.29509999999999992},{"$f":"'National Shipments'!O15/'National Shipments'!O$19","v":0.29509999999999997},{"$f":"'National Shipments'!P15/'National Shipments'!P$19","v":0.29509999999999997},{"$f":"'National Shipments'!Q15/'National Shipments'!Q$19","v":0.29509999999999997},{"$f":"'National Shipments'!R15/'National Shipments'!R$19","v":0.29509999999999997},{"$f":"'National Shipments'!S15/'National Shipments'!S$19","v":0.29510000000000003},{"$f":"'National Shipments'!T15/'National Shipments'!T$19","v":0.29510000000000003},{"$f":"'National Shipments'!U15/'National Shipments'!U$19","v":0.29509999999999997},{"$f":"'National Shipments'!V15/'National Shipments'!V$19","v":0.29509999999999997},{"$f":"'National Shipments'!W15/'National Shipments'!W$19","v":0.29510000000000003},{"$f":"'National Shipments'!X15/'National Shipments'!X$19","v":0.29509999999999992},{"$f":"'National Shipments'!Y15/'National Shipments'!Y$19","v":0.29510000000000003},{"$f":"'National Shipments'!Z15/'National Shipments'!Z$19","v":0.29509999999999997},{"$f":"'National Shipments'!AA15/'National Shipments'!AA$19","v":0.29957994601291049},{"$f":"'National Shipments'!AB15/'National Shipments'!AB$19","v":0.35088689587794014},{"$f":"'National Shipments'!AC15/'National Shipments'!AC$19","v":0.40232211311763266},{"$f":"'National Shipments'!AD15/'National Shipments'!AD$19","v":0.4538859184004258},{"$f":"'National Shipments'!AE15/'National Shipments'!AE$19","v":0.50557863319642693}]
[null,null,null,"EL3",11.1,null,1.1599999999999997E-2,1.1599999999999997E-2,1.1599999999999997E-2,1.1599999999999997E-2,1.1599999999999997E-2,1.1599999999999997E-2,1.1599999999999997E-2,1.1599999999999997E-2,1.1599999999999997E-2,1.1599999999999997E-2,1.1599999999999997E-2,1.1599999999999997E-2,1.1599999999999997E-2,1.1599999999999997E-2,1.1599999999999997E-2,1.1599999999999997E-2,1.1599999999999997E-2,1.1599999999999997E-2,1.1599999999999997E-2,1.1599999999999997E-2,1.1599999999999997E-2,1.1599999999999997E-2,1.1599999999999997E-2,1.1599999999999997E-2,1.1599999999999997E-2,1.1599999999999997E-2,1.1599999999999997E-2,1.1599999999999997E-2,{"$f":"'National Shipments'!F16/'National Shipments'!F$19","v":1.1599999999999997E-2},{"$f":"'National Shipments'!G16/'National Shipments'!G$19","v":1.1599999999999999E-2},{"$f":"'National Shipments'!H16/'National Shipments'!H$19","v":1.1600000000000001E-2},{"$f":"'National Shipments'!I16/'National Shipments'!I$19","v":1.1599999999999999E-2},{"$f":"'National Shipments'!J16/'National Shipments'!J$19","v":1.1600000000000001E-2},{"$f":"'National Shipments'!K16/'National Shipments'!K$19","v":1.1600000000000001E-2},{"$f":"'National Shipments'!L16/'National Shipments'!L$19","v":1.1599999999999999E-2},{"$f":"'National Shipments'!M16/'National Shipments'!M$19","v":1.1600000000000001E-2},{"$f":"'National Shipments'!N16/'National Shipments'!N$19","v":1.1599999999999997E-2},{"$f":"'National Shipments'!O16/'National Shipments'!O$19","v":1.1599999999999999E-2},{"$f":"'National Shipments'!P16/'National Shipments'!P$19","v":1.1599999999999997E-2},{"$f":"'National Shipments'!Q16/'National Shipments'!Q$19","v":1.1600000000000001E-2},{"$f":"'National Shipments'!R16/'National Shipments'!R$19","v":1.1599999999999999E-2},{"$f":"'National Shipments'!S16/'National Shipments'!S$19","v":1.1600000000000001E-2},{"$f":"'National Shipments'!T16/'National Shipments'!T$19","v":1.1600000000000001E-2},{"$f":"'National Shipments'!U16/'National Shipments'!U$19","v":1.1599999999999997E-2},{"$f":"'National Shipments'!V16/'National Shipments'!V$19","v":1.1599999999999999E-2},{"$f":"'National Shipments'!W16/'National Shipments'!W$19","v":1.1600000000000001E-2},{"$f":"'National Shipments'!X16/'National Shipments'!X$19","v":1.1599999999999999E-2},{"$f":"'National Shipments'!Y16/'National Shipments'!Y$19","v":1.1600000000000001E-2},{"$f":"'National Shipments'!Z16/'National Shipments'!Z$19","v":1.1599999999999999E-2},{"$f":"'National Shipments'!AA16/'National Shipments'!AA$19","v":1.1599999999999999E-2},{"$f":"'National Shipments'!AB16/'National Shipments'!AB$19","v":1.1600000000000001E-2},{"$f":"'National Shipments'!AC16/'National Shipments'!AC$19","v":1.1599999999999999E-2},{"$f":"'National Shipments'!AD16/'National Shipments'!AD$19","v":1.1600000000000001E-2},{"$f":"'National Shipments'!AE16/'National Shipments'!AE$19","v":1.1600000000000003E-2}]
[null,null,null,"EL4",11.384883004768115,null,0,0,0,0,0,0,0,0,0,0,0,0,0,0,0,0,0,0,0,0,0,0,0,0,0,0,0,0,{"$f":"'National Shipments'!F17/'National Shipments'!F$19","v":0},{"$f":"'National Shipments'!G17/'National Shipments'!G$19","v":0},{"$f":"'National Shipments'!H17/'National Shipments'!H$19","v":0},{"$f":"'National Shipments'!I17/'National Shipments'!I$19","v":0},{"$f":"'National Shipments'!J17/'National Shipments'!J$19","v":0},{"$f":"'National Shipments'!K17/'National Shipments'!K$19","v":0},{"$f":"'National Shipments'!L17/'National Shipments'!L$19","v":0},{"$f":"'National Shipments'!M17/'National Shipments'!M$19","v":0},{"$f":"'National Shipments'!N17/'National Shipments'!N$19","v":0},{"$f":"'National Shipments'!O17/'National Shipments'!O$19","v":0},{"$f":"'National Shipments'!P17/'National Shipments'!P$19","v":0},{"$f":"'National Shipments'!Q17/'National Shipments'!Q$19","v":0},{"$f":"'National Shipments'!R17/'National Shipments'!R$19","v":0},{"$f":"'National Shipments'!S17/'National Shipments'!S$19","v":0},{"$f":"'National Shipments'!T17/'National Shipments'!T$19","v":0},{"$f":"'National Shipments'!U17/'National Shipments'!U$19","v":0},{"$f":"'National Shipments'!V17/'National Shipments'!V$19","v":0},{"$f":"'National Shipments'!W17/'National Shipments'!W$19","v":0},{"$f":"'National Shipments'!X17/'National Shipments'!X$19","v":0},{"$f":"'National Shipments'!Y17/'National Shipments'!Y$19","v":0},{"$f":"'National Shipments'!Z17/'National Shipments'!Z$19","v":0},{"$f":"'National Shipments'!AA17/'National Shipments'!AA$19","v":0},{"$f":"'National Shipments'!AB17/'National Shipments'!AB$19","v":0},{"$f":"'National Shipments'!AC17/'National Shipments'!AC$19","v":0},{"$f":"'National Shipments'!AD17/'National Shipments'!AD$19","v":0},{"$f":"'National Shipments'!AE17/'National Shipments'!AE$19","v":0}]
[null,null,null,"EL5",11.665601284887952,null,0,0,0,0,0,0,0,0,0,0,0,0,0,0,0,0,0,0,0,0,0,0,0,0,0,0,0,0,{"$f":"'National Shipments'!F18/'National Shipments'!F$19","v":0},{"$f":"'National Shipments'!G18/'National Shipments'!G$19","v":0},{"$f":"'National Shipments'!H18/'National Shipments'!H$19","v":0},{"$f":"'National Shipments'!I18/'National Shipments'!I$19","v":0},{"$f":"'National Shipments'!J18/'National Shipments'!J$19","v":0},{"$f":"'National Shipments'!K18/'National Shipments'!K$19","v":0},{"$f":"'National Shipments'!L18/'National Shipments'!L$19","v":0},{"$f":"'National Shipments'!M18/'National Shipments'!M$19","v":0},{"$f":"'National Shipments'!N18/'National Shipments'!N$19","v":0},{"$f":"'National Shipments'!O18/'National Shipments'!O$19","v":0},{"$f":"'National Shipments'!P18/'National Shipments'!P$19","v":0},{"$f":"'National Shipments'!Q18/'National Shipments'!Q$19","v":0},{"$f":"'National Shipments'!R18/'National Shipments'!R$19","v":0},{"$f":"'National Shipments'!S18/'National Shipments'!S$19","v":0},{"$f":"'National Shipments'!T18/'National Shipments'!T$19","v":0},{"$f":"'National Shipments'!U18/'National Shipments'!U$19","v":0},{"$f":"'National Shipments'!V18/'National Shipments'!V$19","v":0},{"$f":"'National Shipments'!W18/'National Shipments'!W$19","v":0},{"$f":"'National Shipments'!X18/'National Shipments'!X$19","v":0},{"$f":"'National Shipments'!Y18/'National Shipments'!Y$19","v":0},{"$f":"'National Shipments'!Z18/'National Shipments'!Z$19","v":0},{"$f":"'National Shipments'!AA18/'National Shipments'!AA$19","v":0},{"$f":"'National Shipments'!AB18/'National Shipments'!AB$19","v":0},{"$f":"'National Shipments'!AC18/'National Shipments'!AC$19","v":0},{"$f":"'National Shipments'!AD18/'National Shipments'!AD$19","v":0},{"$f":"'National Shipments'!AE18/'National Shipments'!AE$19","v":0}]
[null,null,null,"TOTAL",null,null,1,1,1,1,1,1,1,1,1,1,1,1,1,1,1,1,1,1,1,1,1,1,1,1,1,1,1,1,{"$f":"'National Shipments'!F19/'National Shipments'!F$19","v":1},{"$f":"'National Shipments'!G19/'National Shipments'!G$19","v":1},{"$f":"'National Shipments'!H19/'National Shipments'!H$19","v":1},{"$f":"'National Shipments'!I19/'National Shipments'!I$19","v":1},{"$f":"'National Shipments'!J19/'National Shipments'!J$19","v":1},{"$f":"'National Shipments'!K19/'National Shipments'!K$19","v":1},{"$f":"'National Shipments'!L19/'National Shipments'!L$19","v":1},{"$f":"'National Shipments'!M19/'National Shipments'!M$19","v":1},{"$f":"'National Shipments'!N19/'National Shipments'!N$19","v":1},{"$f":"'National Shipments'!O19/'National Shipments'!O$19","v":1},{"$f":"'National Shipments'!P19/'National Shipments'!P$19","v":1},{"$f":"'National Shipments'!Q19/'National Shipments'!Q$19","v":1},{"$f":"'National Shipments'!R19/'National Shipments'!R$19","v":1},{"$f":"'National Shipments'!S19/'National Shipments'!S$19","v":1},{"$f":"'National Shipments'!T19/'National Shipments'!T$19","v":1},{"$f":"'National Shipments'!U19/'National Shipments'!U$19","v":1},{"$f":"'National Shipments'!V19/'National Shipments'!V$19","v":1},{"$f":"'National Shipments'!W19/'National Shipments'!W$19","v":1},{"$f":"'National Shipments'!X19/'National Shipments'!X$19","v":1},{"$f":"'National Shipments'!Y19/'National Shipments'!Y$19","v":1},{"$f":"'National Shipments'!Z19/'National Shipments'!Z$19","v":1},{"$f":"'National Shipments'!AA19/'National Shipments'!AA$19","v":1},{"$f":"'National Shipments'!AB19/'National Shipments'!AB$19","v":1},{"$f":"'National Shipments'!AC19/'National Shipments'!AC$19","v":1},{"$f":"'National Shipments'!AD19/'National Shipments'!AD$19","v":1},{"$f":"'National Shipments'!AE19/'National Shipments'!AE$19","v":1}]
[]
[null,null,null,"POST-Case"]
[null,null,null,"Efficiency Level","CEER",null,1981,1982,1983,1984,1985,1986,1987,1988,1989,1990,1991,1992,1993,1994,1995,1996,1997,1998,1999,2000,2001,2002,2003,2004,2005,2006,2007,2008,2009,2010,2011,2012,2013,2014,2015,2016,2017,2018,2019,2020,2021,2022,2023,2024,2025,2026,2027,2028,2029,2030,2031,2032,2033,2034]
[null,null,null,"EL0",{"$f":"INDEX(EFFICIENCY_LEVELS,RIGHT(D23,1)+1,MID($D$9,3,1))","v":9.5235933377732245},null,{"$f":"H23","v":0.69330000000000003},0.69330000000000003,0.69330000000000003,0.69330000000000003,0.69330000000000003,0.69330000000000003,0.69330000000000003,0.69330000000000003,0.69330000000000003,0.69330000000000003,0.69330000000000003,0.69330000000000003,0.69330000000000003,0.69330000000000003,0.69330000000000003,0.69330000000000003,0.69330000000000003,0.69330000000000003,0.69330000000000003,0.69330000000000003,0.69330000000000003,0.69330000000000003,0.69330000000000003,0.69330000000000003,0.69330000000000003,0.69330000000000003,0.69330000000000003,{"$f":"AI23","v":0.69330000000000003},{"$f":"'National Shipments'!F23/'National Shipments'!F$29","v":0.69330000000000003},{"$f":"'National Shipments'!G23/'National Shipments'!G$29","v":0.69330000000000003},{"$f":"'National Shipments'!H23/'National Shipments'!H$29","v":0.69330000000000003},{"$f":"'National Shipments'!I23/'National Shipments'!I$29","v":0.69329999999999992},{"$f":"'National Shipments'!J23/'National Shipments'!J$29","v":0.69330000000000003},{"$f":"'National Shipments'!K23/'National Shipments'!K$29","v":0},{"$f":"'National Shipments'!L23/'National Shipments'!L$29","v":0},{"$f":"'National Shipments'!M23/'National Shipments'!M$29","v":0},{"$f":"'National Shipments'!N23/'National Shipments'!N$29","v":0},{"$f":"'National Shipments'!O23/'National Shipments'!O$29","v":0},{"$f":"'National Shipments'!P23/'National Shipments'!P$29","v":0},{"$f":"'National Shipments'!Q23/'National Shipments'!Q$29","v":0},{"$f":"'National Shipments'!R23/'National Shipments'!R$29","v":0},{"$f":"'National Shipments'!S23/'National Shipments'!S$29","v":0},{"$f":"'National Shipments'!T23/'National Shipments'!T$29","v":0},{"$f":"'National Shipments'!U23/'National Shipments'!U$29","v":0},{"$f":"'National Shipments'!V23/'National Shipments'!V$29","v":0},{"$f":"'National Shipments'!W23/'National Shipments'!W$29","v":0},{"$f":"'National Shipments'!X23/'National Shipments'!X$29","v":0},{"$f":"'National Shipments'!Y23/'National Shipments'!Y$29","v":0},{"$f":"'National Shipments'!Z23/'National Shipments'!Z$29","v":0},{"$f":"'National Shipments'!AA23/'National Shipments'!AA$29","v":0},{"$f":"'National Shipments'!AB23/'National Shipments'!AB$29","v":0},{"$f":"'National Shipments'!AC23/'National Shipments'!AC$29","v":0},{"$f":"'National Shipments'!AD23/'National Shipments'!AD$29","v":0},{"$f":"'National Shipments'!AE23/'National Shipments'!AE$29","v":0}]
[null,null,null,"EL1",10.1,null,{"$f":"H24","v":0},0,0,0,0,0,0,0,0,0,0,0,0,0,0,0,0,0,0,0,0,0,0,0,0,0,0,0,{"$f":"'National Shipments'!F24/'National Shipments'!F$29","v":0},{"$f":"'National Shipments'!G24/'National Shipments'!G$29","v":0},{"$f":"'National Shipments'!H24/'National Shipments'!H$29","v":0},{"$f":"'National Shipments'!I24/'National Shipments'!I$29","v":0},{"$f":"'National Shipments'!J24/'National Shipments'!J$29","v":0},{"$f":"'National Shipments'!K24/'National Shipments'!K$29","v":0},{"$f":"'National Shipments'!L24/'National Shipments'!L$29","v":0},{"$f":"'National Shipments'!M24/'National Shipments'!M$29","v":0},{"$f":"'National Shipments'!N24/'National Shipments'!N$29","v":0},{"$f":"'National Shipments'!O24/'National Shipments'!O$29","v":0},{"$f":"'National Shipments'!P24/'National Shipments'!P$29","v":0},{"$f":"'National Shipments'!Q24/'National Shipments'!Q$29","v":0},{"$f":"'National Shipments'!R24/'National Shipments'!R$29","v":0},{"$f":"'National Shipments'!S24/'National Shipments'!S$29","v":0},{"$f":"'National Shipments'!T24/'National Shipments'!T$29","v":0},{"$f":"'National Shipments'!U24/'National Shipments'!U$29","v":0},{"$f":"'National Shipments'!V24/'National Shipments'!V$29","v":0},{"$f":"'National Shipments'!W24/'National Shipments'!W$29","v":0},{"$f":"'National Shipments'!X24/'National Shipments'!X$29","v":0},{"$f":"'National Shipments'!Y24/'National Shipments'!Y$29","v":0},{"$f":"'National Shipments'!Z24/'National Shipments'!Z$29","v":0},{"$f":"'National Shipments'!AA24/'National Shipments'!AA$29","v":0},{"$f":"'National Shipments'!AB24/'National Shipments'!AB$29","v":0},{"$f":"'National Shipments'!AC24/'National Shipments'!AC$29","v":0},{"$f":"'National Shipments'!AD24/'National Shipments'!AD$29","v":0},{"$f":"'National Shipments'!AE24/'National Shipments'!AE$29","v":0}]
[null,null,null,"EL2",10.6,null,{"$f":"H25","v":0.29509999999999992},0.29509999999999992,0.29509999999999992,0.29509999999999992,0.29509999999999992,0.29509999999999992,0.29509999999999992,0.29509999999999992,0.29509999999999992,0.29509999999999992,0.29509999999999992,0.29509999999999992,0.29509999999999992,0.29509999999999992,0.29509999999999992,0.29509999999999992,0.29509999999999992,0.29509999999999992,0.29509999999999992,0.29509999999999992,0.29509999999999992,0.29509999999999992,0.29509999999999992,0.29509999999999992,0.29509999999999992,0.29509999999999992,0.29509999999999992,0.29509999999999992,{"$f":"'National Shipments'!F25/'National Shipments'!F$29","v":0.29509999999999992},{"$f":"'National Shipments'!G25/'National Shipments'!G$29","v":0.29509999999999992},{"$f":"'National Shipments'!H25/'National Shipments'!H$29","v":0.29510000000000003},{"$f":"'National Shipments'!I25/'National Shipments'!I$29","v":0.29510000000000003},{"$f":"'National Shipments'!J25/'National Shipments'!J$29","v":0.29510000000000003},{"$f":"'National Shipments'!K25/'National Shipments'!K$29","v":0},{"$f":"'National Shipments'!L25/'National Shipments'!L$29","v":0},{"$f":"'National Shipments'!M25/'National Shipments'!M$29","v":0},{"$f":"'National Shipments'!N25/'National Shipments'!N$29","v":0},{"$f":"'National Shipments'!O25/'National Shipments'!O$29","v":0},{"$f":"'National Shipments'!P25/'National Shipments'!P$29","v":0},{"$f":"'National Shipments'!Q25/'National Shipments'!Q$29","v":0},{"$f":"'National Shipments'!R25/'National Shipments'!R$29","v":0},{"$f":"'National Shipments'!S25/'National Shipments'!S$29","v":0},{"$f":"'National Shipments'!T25/'National Shipments'!T$29","v":0},{"$f":"'National Shipments'!U25/'National Shipments'!U$29","v":0},{"$f":"'National Shipments'!V25/'National Shipments'!V$29","v":0},{"$f":"'National Shipments'!W25/'National Shipments'!W$29","v":0},{"$f":"'National Shipments'!X25/'National Shipments'!X$29","v":0},{"$f":"'National Shipments'!Y25/'National Shipments'!Y$29","v":0},{"$f":"'National Shipments'!Z25/'National Shipments'!Z$29","v":0},{"$f":"'National Shipments'!AA25/'National Shipments'!AA$29","v":0},{"$f":"'National Shipments'!AB25/'National Shipments'!AB$29","v":0},{"$f":"'National Shipments'!AC25/'National Shipments'!AC$29","v":0},{"$f":"'National Shipments'!AD25/'National Shipments'!AD$29","v":0},{"$f":"'National Shipments'!AE25/'National Shipments'!AE$29","v":0}]
[null,null,null,"EL3",11.1,null,{"$f":"H26","v":1.1599999999999997E-2},1.1599999999999997E-2,1.1599999999999997E-2,1.1599999999999997E-2,1.1599999999999997E-2,1.1599999999999997E-2,1.1599999999999997E-2,1.1599999999999997E-2,1.1599999999999997E-2,1.1599999999999997E-2,1.1599999999999997E-2,1.1599999999999997E-2,1.1599999999999997E-2,1.1599999999999997E-2,1.1599999999999997E-2,1.1599999999999997E-2,1.1599999999999997E-2,1.1599999999999997E-2,1.1599999999999997E-2,1.1599999999999997E-2,1.1599999999999997E-2,1.1599999999999997E-2,1.1599999999999997E-2,1.1599999999999997E-2,1.1599999999999997E-2,1.1599999999999997E-2,1.1599999999999997E-2,1.1599999999999997E-2,{"$f":"'National Shipments'!F26/'National Shipments'!F$29","v":1.1599999999999997E-2},{"$f":"'National Shipments'!G26/'National Shipments'!G$29","v":1.1599999999999999E-2},{"$f":"'National Shipments'!H26/'National Shipments'!H$29","v":1.1600000000000001E-2},{"$f":"'National Shipments'!I26/'National Shipments'!I$29","v":1.1599999999999999E-2},{"$f":"'National Shipments'!J26/'National Shipments'!J$29","v":1.1600000000000001E-2},{"$f":"'National Shipments'!K26/'National Shipments'!K$29","v":1},{"$f":"'National Shipments'!L26/'National Shipments'!L$29","v":0.975655639699473},{"$f":"'National Shipments'!M26/'National Shipments'!M$29","v":0.95005241180755629},{"$f":"'National Shipments'!N26/'National Shipments'!N$29","v":0.92558449023858747},{"$f":"'National Shipments'!O26/'National Shipments'!O$29","v":0.90105539886570263},{"$f":"'National Shipments'!P26/'National Shipments'!P$29","v":0.87646498476438428},{"$f":"'National Shipments'!Q26/'National Shipments'!Q$29","v":0.85181309462781019},{"$f":"'National Shipments'!R26/'National Shipments'!R$29","v":0.82709957476589213},{"$f":"'National Shipments'!S26/'National Shipments'!S$29","v":0.80232427110432225},{"$f":"'National Shipments'!T26/'National Shipments'!T$29","v":0.77748702918360379},{"$f":"'National Shipments'!U26/'National Shipments'!U$29","v":0.75258769415807902},{"$f":"'National Shipments'!V26/'National Shipments'!V$29","v":0.72762611079498518},{"$f":"'National Shipments'!W26/'National Shipments'!W$29","v":0.70260212347348761},{"$f":"'National Shipments'!X26/'National Shipments'!X$29","v":0.67751557618368941},{"$f":"'National Shipments'!Y26/'National Shipments'!Y$29","v":0.65236631252566302},{"$f":"'National Shipments'!Z26/'National Shipments'!Z$29","v":0.62715417570849274},{"$f":"'National Shipments'!AA26/'National Shipments'!AA$29","v":0.60079196678151603},{"$f":"'National Shipments'!AB26/'National Shipments'!AB$29","v":0.56300417652840073},{"$f":"'National Shipments'!AC26/'National Shipments'!AC$29","v":0.52512191679965781},{"$f":"'National Shipments'!AD26/'National Shipments'!AD$29","v":0.48714495142158948},{"$f":"'National Shipments'!AE26/'National Shipments'!AE$29","v":0.44907304363007039}]
[null,null,null,"EL4",11.384883004768115,null,{"$f":"H27","v":0},0,0,0,0,0,0,0,0,0,0,0,0,0,0,0,0,0,0,0,0,0,0,0,0,0,0,0,{"$f":"'National Shipments'!F27/'National Shipments'!F$29","v":0},{"$f":"'National Shipments'!G27/'National Shipments'!G$29","v":0},{"$f":"'National Shipments'!H27/'National Shipments'!H$29","v":0},{"$f":"'National Shipments'!I27/'National Shipments'!I$29","v":0},{"$f":"'National Shipments'!J27/'National Shipments'!J$29","v":0},{"$f":"'National Shipments'!K27/'National Shipments'!K$29","v":0},{"$f":"'National Shipments'!L27/'National Shipments'!L$29","v":2.434436030052705E-2},{"$f":"'National Shipments'!M27/'National Shipments'!M$29","v":4.9947588192443729E-2},{"$f":"'National Shipments'!N27/'National Shipments'!N$29","v":7.4415509761412577E-2},{"$f":"'National Shipments'!O27/'National Shipments'!O$29","v":9.8944601134297289E-2},{"$f":"'National Shipments'!P27/'National Shipments'!P$29","v":0.12353501523561576},{"$f":"'National Shipments'!Q27/'National Shipments'!Q$29","v":0.14818690537218981},{"$f":"'National Shipments'!R27/'National Shipments'!R$29","v":0.17290042523410801},{"$f":"'National Shipments'!S27/'National Shipments'!S$29","v":0.19767572889567778},{"$f":"'National Shipments'!T27/'National Shipments'!T$29","v":0.22251297081639626},{"$f":"'National Shipments'!U27/'National Shipments'!U$29","v":0.247412305841921},{"$f":"'National Shipments'!V27/'National Shipments'!V$29","v":0.27237388920501476},{"$f":"'National Shipments'!W27/'National Shipments'!W$29","v":0.29739787652651239},{"$f":"'National Shipments'!X27/'National Shipments'!X$29","v":0.32248442381631059},{"$f":"'National Shipments'!Y27/'National Shipments'!Y$29","v":0.34763368747433704},{"$f":"'National Shipments'!Z27/'National Shipments'!Z$29","v":0.37284582429150737},{"$f":"'National Shipments'!AA27/'National Shipments'!AA$29","v":0.39920803321848403},{"$f":"'National Shipments'!AB27/'National Shipments'!AB$29","v":0.43699582347159927},{"$f":"'National Shipments'!AC27/'National Shipments'!AC$29","v":0.4748780832003423},{"$f":"'National Shipments'!AD27/'National Shipments'!AD$29","v":0.51285504857841058},{"$f":"'National Shipments'!AE27/'National Shipments'!AE$29","v":0.55092695636992961}]
[null,null,null,"EL5",11.665601284887952,null,{"$f":"H28","v":0},0,0,0,0,0,0,0,0,0,0,0,0,0,0,0,0,0,0,0,0,0,0,0,0,0,0,0,{"$f":"'National Shipments'!F28/'National Shipments'!F$29","v":0},{"$f":"'National Shipments'!G28/'National Shipments'!G$29","v":0},{"$f":"'National Shipments'!H28/'National Shipments'!H$29","v":0},{"$f":"'National Shipments'!I28/'National Shipments'!I$29","v":0},{"$f":"'National Shipments'!J28/'National Shipments'!J$29","v":0},{"$f":"'National Shipments'!K28/'National Shipments'!K$29","v":0},{"$f":"'National Shipments'!L28/'National Shipments'!L$29","v":0},{"$f":"'National Shipments'!M28/'National Shipments'!M$29","v":0},{"$f":"'National Shipments'!N28/'National Shipments'!N$29","v":0},{"$f":"'National Shipments'!O28/'National Shipments'!O$29","v":0},{"$f":"'National Shipments'!P28/'National Shipments'!P$29","v":0},{"$f":"'National Shipments'!Q28/'National Shipments'!Q$29","v":0},{"$f":"'National Shipments'!R28/'National Shipments'!R$29","v":0},{"$f":"'National Shipments'!S28/'National Shipments'!S$29","v":0},{"$f":"'National Shipments'!T28/'National Shipments'!T$29","v":0},{"$f":"'National Shipments'!U28/'National Shipments'!U$29","v":0},{"$f":"'National Shipments'!V28/'National Shipments'!V$29","v":0},{"$f":"'National Shipments'!W28/'National Shipments'!W$29","v":0},{"$f":"'National Shipments'!X28/'National Shipments'!X$29","v":0},{"$f":"'National Shipments'!Y28/'National Shipments'!Y$29","v":0},{"$f":"'National Shipments'!Z28/'National Shipments'!Z$29","v":0},{"$f":"'National Shipments'!AA28/'National Shipments'!AA$29","v":0},{"$f":"'National Shipments'!AB28/'National Shipments'!AB$29","v":0},{"$f":"'National Shipments'!AC28/'National Shipments'!AC$29","v":0},{"$f":"'National Shipments'!AD28/'National Shipments'!AD$29","v":0},{"$f":"'National Shipments'!AE28/'National Shipments'!AE$29","v":0}]
[null,null,null,"TOTAL",null,null,{"$f":"H29","v":1},1,1,1,1,1,1,1,1,1,1,1,1,1,1,1,1,1,1,1,1,1,1,1,1,1,1,1,{"$f":"'National Shipments'!F29/'National Shipments'!F$29","v":1},{"$f":"'National Shipments'!G29/'National Shipments'!G$29","v":1},{"$f":"'National Shipments'!H29/'National Shipments'!H$29","v":1},{"$f":"'National Shipments'!I29/'National Shipments'!I$29","v":1},{"$f":"'National Shipments'!J29/'National Shipments'!J$29","v":1},{"$f":"'National Shipments'!K29/'National Shipments'!K$29","v":1},{"$f":"'National Shipments'!L29/'National Shipments'!L$29","v":1},{"$f":"'National Shipments'!M29/'National Shipments'!M$29","v":1},{"$f":"'National Shipments'!N29/'National Shipments'!N$29","v":1},{"$f":"'National Shipments'!O29/'National Shipments'!O$29","v":1},{"$f":"'National Shipments'!P29/'National Shipments'!P$29","v":1},{"$f":"'National Shipments'!Q29/'National Shipments'!Q$29","v":1},{"$f":"'National Shipments'!R29/'National Shipments'!R$29","v":1},{"$f":"'National Shipments'!S29/'National Shipments'!S$29","v":1},{"$f":"'National Shipments'!T29/'National Shipments'!T$29","v":1},{"$f":"'National Shipments'!U29/'National Shipments'!U$29","v":1},{"$f":"'National Shipments'!V29/'National Shipments'!V$29","v":1},{"$f":"'National Shipments'!W29/'National Shipments'!W$29","v":1},{"$f":"'National Shipments'!X29/'National Shipments'!X$29","v":1},{"$f":"'National Shipments'!Y29/'National Shipments'!Y$29","v":1},{"$f":"'National Shipments'!Z29/'National Shipments'!Z$29","v":1},{"$f":"'National Shipments'!AA29/'National Shipments'!AA$29","v":1},{"$f":"'National Shipments'!AB29/'National Shipments'!AB$29","v":1},{"$f":"'National Shipments'!AC29/'National Shipments'!AC$29","v":1},{"$f":"'National Shipments'!AD29/'National Shipments'!AD$29","v":1},{"$f":"'National Shipments'!AE29/'National Shipments'!AE$29","v":1}]
[]
[null,null,null,"Sources","2011 DOE Residential Room Air Conditioners Direct Final Rule Government Regulatory Impact Model 'Product Shipments (CALC)' tab."]
[]
[]
[]
[null,null,null,"PC2  Without reverse cycle, with louvered sides, and 8,000 to 13,999 Btu/h"]
[]
[null,null,null,"PRE-Case"]
[null,null,null,"Efficiency Level","CEER",null,1981,1982,1983,1984,1985,1986,1987,1988,1989,1990,1991,1992,1993,1994,1995,1996,1997,1998,1999,2000,2001,2002,2003,2004,2005,2006,2007,2008,2009,2010,2011,2012,2013,2014,2015,2016,2017,2018,2019,2020,2021,2022,2023,2024,2025,2026,2027,2028,2029,2030,2031,2032,2033,2034]
[null,null,null,"EL0",{"$f":"INDEX(EFFICIENCY_LEVELS,RIGHT(D39,1)+1,MID($D$35,3,1))","v":9.6867014340173032},null,{"$f":"H39","v":0.37050000000000005},0.37050000000000005,0.37050000000000005,0.37050000000000005,0.37050000000000005,0.37050000000000005,0.37050000000000005,0.37050000000000005,0.37050000000000005,0.37050000000000005,0.37050000000000005,0.37050000000000005,0.37050000000000005,0.37050000000000005,0.37050000000000005,0.37050000000000005,0.37050000000000005,0.37050000000000005,0.37050000000000005,0.37050000000000005,0.37050000000000005,0.37050000000000005,0.37050000000000005,0.37050000000000005,0.37050000000000005,0.37050000000000005,0.37050000000000005,{"$f":"AI39","v":0.37050000000000005},{"$f":"'National Shipments'!F39/'National Shipments'!F$45","v":0.37050000000000005},{"$f":"'National Shipments'!G39/'National Shipments'!G$45","v":0.37050000000000005},{"$f":"'National Shipments'!H39/'National Shipments'!H$45","v":0.37050000000000011},{"$f":"'National Shipments'!I39/'National Shipments'!I$45","v":0.37050000000000005},{"$f":"'National Shipments'!J39/'National Shipments'!J$45","v":0.37050000000000011},{"$f":"'National Shipments'!K39/'National Shipments'!K$45","v":0.37050000000000005},{"$f":"'National Shipments'!L39/'National Shipments'!L$45","v":0.32022030532550105},{"$f":"'National Shipments'!M39/'National Shipments'!M$45","v":0.26981491141431868},{"$f":"'National Shipments'!N39/'National Shipments'!N$45","v":0.21928350401835697},{"$f":"'National Shipments'!O39/'National Shipments'!O$45","v":0.16862576810390614},{"$f":"'National Shipments'!P39/'National Shipments'!P$45","v":0.11784138784966686},{"$f":"'National Shipments'!Q39/'National Shipments'!Q$45","v":6.6930046644795016E-2},{"$f":"'National Shipments'!R39/'National Shipments'!R$45","v":1.5891427086908105E-2},{"$f":"'National Shipments'!S39/'National Shipments'!S$45","v":0},{"$f":"'National Shipments'!T39/'National Shipments'!T$45","v":0},{"$f":"'National Shipments'!U39/'National Shipments'!U$45","v":0},{"$f":"'National Shipments'!V39/'National Shipments'!V$45","v":0},{"$f":"'National Shipments'!W39/'National Shipments'!W$45","v":0},{"$f":"'National Shipments'!X39/'National Shipments'!X$45","v":0},{"$f":"'National Shipments'!Y39/'National Shipments'!Y$45","v":0},{"$f":"'National Shipments'!Z39/'National Shipments'!Z$45","v":0},{"$f":"'National Shipments'!AA39/'National Shipments'!AA$45","v":0},{"$f":"'National Shipments'!AB39/'National Shipments'!AB$45","v":0},{"$f":"'National Shipments'!AC39/'National Shipments'!AC$45","v":0},{"$f":"'National Shipments'!AD39/'National Shipments'!AD$45","v":0},{"$f":"'National Shipments'!AE39/'National Shipments'!AE$45","v":0}]
[null,null,null,"EL1",10.199999999999999,null,2.4599999999999955E-2,2.4599999999999955E-2,2.4599999999999955E-2,2.4599999999999955E-2,2.4599999999999955E-2,2.4599999999999955E-2,2.4599999999999955E-2,2.4599999999999955E-2,2.4599999999999955E-2,2.4599999999999955E-2,2.4599999999999955E-2,2.4599999999999955E-2,2.4599999999999955E-2,2.4599999999999955E-2,2.4599999999999955E-2,2.4599999999999955E-2,2.4599999999999955E-2,2.4599999999999955E-2,2.4599999999999955E-2,2.4599999999999955E-2,2.4599999999999955E-2,2.4599999999999955E-2,2.4599999999999955E-2,2.4599999999999955E-2,2.4599999999999955E-2,2.4599999999999955E-2,2.4599999999999955E-2,{"$f":"AI40","v":2.4599999999999955E-2},{"$f":"'National Shipments'!F40/'National Shipments'!F$45","v":2.4599999999999955E-2},{"$f":"'National Shipments'!G40/'National Shipments'!G$45","v":2.4599999999999955E-2},{"$f":"'National Shipments'!H40/'National Shipments'!H$45","v":2.4599999999999959E-2},{"$f":"'National Shipments'!I40/'National Shipments'!I$45","v":2.4599999999999952E-2},{"$f":"'National Shipments'!J40/'National Shipments'!J$45","v":2.4599999999999959E-2},{"$f":"'National Shipments'!K40/'National Shipments'!K$45","v":2.4599999999999955E-2},{"$f":"'National Shipments'!L40/'National Shipments'!L$45","v":7.4879694674498939E-2},{"$f":"'National Shipments'!M40/'National Shipments'!M$45","v":0.1252850885856813},{"$f":"'National Shipments'!N40/'National Shipments'!N$45","v":0.17581649598164303},{"$f":"'National Shipments'!O40/'National Shipments'!O$45","v":0.22647423189609392},{"$f":"'National Shipments'!P40/'National Shipments'!P$45","v":0.27725861215033315},{"$f":"'National Shipments'!Q40/'National Shipments'!Q$45","v":0.32816995335520499},{"$f":"'National Shipments'!R40/'National Shipments'!R$45","v":0.3792085729130919},{"$f":"'National Shipments'!S40/'National Shipments'!S$45","v":0.3588870027615137},{"$f":"'National Shipments'!T40/'National Shipments'!T$45","v":0.30622859432600152},{"$f":"'National Shipments'!U40/'National Shipments'!U$45","v":0.25343853986939707},{"$f":"'National Shipments'!V40/'National Shipments'!V$45","v":0.20051651027665396},{"$f":"'National Shipments'!W40/'National Shipments'!W$45","v":0.14746217560992814},{"$f":"'National Shipments'!X40/'National Shipments'!X$45","v":9.4275205106534768E-2},{"$f":"'National Shipments'!Y40/'National Shipments'!Y$45","v":4.0955267176884247E-2},{"$f":"'National Shipments'!Z40/'National Shipments'!Z$45","v":0},{"$f":"'National Shipments'!AA40/'National Shipments'!AA$45","v":0},{"$f":"'National Shipments'!AB40/'National Shipments'!AB$45","v":0},{"$f":"'National Shipments'!AC40/'National Shipments'!AC$45","v":0},{"$f":"'National Shipments'!AD40/'National Shipments'!AD$45","v":0},{"$f":"'National Shipments'!AE40/'National Shipments'!AE$45","v":0}]
[null,null,null,"EL2",10.7,null,0.58299999999999996,0.58299999999999996,0.58299999999999996,0.58299999999999996,0.58299999999999996,0.58299999999999996,0.58299999999999996,0.58299999999999996,0.58299999999999996,0.58299999999999996,0.58299999999999996,0.58299999999999996,0.58299999999999996,0.58299999999999996,0.58299999999999996,0.58299999999999996,0.58299999999999996,0.58299999999999996,0.58299999999999996,0.58299999999999996,0.58299999999999996,0.58299999999999996,0.58299999999999996,0.58299999999999996,0.58299999999999996,0.58299999999999996,0.58299999999999996,0.58299999999999996,{"$f":"'National Shipments'!F41/'National Shipments'!F$45","v":0.58299999999999996},{"$f":"'National Shipments'!G41/'National Shipments'!G$45","v":0.58299999999999996},{"$f":"'National Shipments'!H41/'National Shipments'!H$45","v":0.58300000000000007},{"$f":"'National Shipments'!I41/'National Shipments'!I$45","v":0.58299999999999996},{"$f":"'National Shipments'!J41/'National Shipments'!J$45","v":0.58299999999999996},{"$f":"'National Shipments'!K41/'National Shipments'!K$45","v":0.58299999999999996},{"$f":"'National Shipments'!L41/'National Shipments'!L$45","v":0.58299999999999996},{"$f":"'National Shipments'!M41/'National Shipments'!M$45","v":0.58299999999999985},{"$f":"'National Shipments'!N41/'National Shipments'!N$45","v":0.58300000000000007},{"$f":"'National Shipments'!O41/'National Shipments'!O$45","v":0.58300000000000018},{"$f":"'National Shipments'!P41/'National Shipments'!P$45","v":0.58299999999999996},{"$f":"'National Shipments'!Q41/'National Shipments'!Q$45","v":0.58299999999999996},{"$f":"'National Shipments'!R41/'National Shipments'!R$45","v":0.58299999999999996},{"$f":"'National Shipments'!S41/'National Shipments'!S$45","v":0.61921299723848644},{"$f":"'National Shipments'!T41/'National Shipments'!T$45","v":0.67187140567399861},{"$f":"'National Shipments'!U41/'National Shipments'!U$45","v":0.72466146013060306},{"$f":"'National Shipments'!V41/'National Shipments'!V$45","v":0.77758348972334601},{"$f":"'National Shipments'!W41/'National Shipments'!W$45","v":0.83063782439007194},{"$f":"'National Shipments'!X41/'National Shipments'!X$45","v":0.88382479489346533},{"$f":"'National Shipments'!Y41/'National Shipments'!Y$45","v":0.93714473282311561},{"$f":"'National Shipments'!Z41/'National Shipments'!Z$45","v":0.94685507350601739},{"$f":"'National Shipments'!AA41/'National Shipments'!AA$45","v":0.81288789633373737},{"$f":"'National Shipments'!AB41/'National Shipments'!AB$45","v":0.67858580121853174},{"$f":"'National Shipments'!AC41/'National Shipments'!AC$45","v":0.54394795086553593},{"$f":"'National Shipments'!AD41/'National Shipments'!AD$45","v":0.40897350588665293},{"$f":"'National Shipments'!AE41/'National Shipments'!AE$45","v":0.27366162479532252}]
[null,null,null,"EL3",10.9,null,1.4200000000000003E-2,1.4200000000000003E-2,1.4200000000000003E-2,1.4200000000000003E-2,1.4200000000000003E-2,1.4200000000000003E-2,1.4200000000000003E-2,1.4200000000000003E-2,1.4200000000000003E-2,1.4200000000000003E-2,1.4200000000000003E-2,1.4200000000000003E-2,1.4200000000000003E-2,1.4200000000000003E-2,1.4200000000000003E-2,1.4200000000000003E-2,1.4200000000000003E-2,1.4200000000000003E-2,1.4200000000000003E-2,1.4200000000000003E-2,1.4200000000000003E-2,1.4200000000000003E-2,1.4200000000000003E-2,1.4200000000000003E-2,1.4200000000000003E-2,1.4200000000000003E-2,1.4200000000000003E-2,1.4200000000000003E-2,{"$f":"'National Shipments'!F42/'National Shipments'!F$45","v":1.4200000000000003E-2},{"$f":"'National Shipments'!G42/'National Shipments'!G$45","v":1.4199999999999999E-2},{"$f":"'National Shipments'!H42/'National Shipments'!H$45","v":1.4200000000000001E-2},{"$f":"'National Shipments'!I42/'National Shipments'!I$45","v":1.4199999999999999E-2},{"$f":"'National Shipments'!J42/'National Shipments'!J$45","v":1.4199999999999999E-2},{"$f":"'National Shipments'!K42/'National Shipments'!K$45","v":1.4200000000000001E-2},{"$f":"'National Shipments'!L42/'National Shipments'!L$45","v":1.4200000000000003E-2},{"$f":"'National Shipments'!M42/'National Shipments'!M$45","v":1.4199999999999996E-2},{"$f":"'National Shipments'!N42/'National Shipments'!N$45","v":1.4200000000000001E-2},{"$f":"'National Shipments'!O42/'National Shipments'!O$45","v":1.4200000000000004E-2},{"$f":"'National Shipments'!P42/'National Shipments'!P$45","v":1.4199999999999997E-2},{"$f":"'National Shipments'!Q42/'National Shipments'!Q$45","v":1.4199999999999999E-2},{"$f":"'National Shipments'!R42/'National Shipments'!R$45","v":1.4199999999999999E-2},{"$f":"'National Shipments'!S42/'National Shipments'!S$45","v":1.4200000000000001E-2},{"$f":"'National Shipments'!T42/'National Shipments'!T$45","v":1.4200000000000001E-2},{"$f":"'National Shipments'!U42/'National Shipments'!U$45","v":1.4199999999999999E-2},{"$f":"'National Shipments'!V42/'National Shipments'!V$45","v":1.4199999999999999E-2},{"$f":"'National Shipments'!W42/'National Shipments'!W$45","v":1.4200000000000001E-2},{"$f":"'National Shipments'!X42/'National Shipments'!X$45","v":1.4199999999999999E-2},{"$f":"'National Shipments'!Y42/'National Shipments'!Y$45","v":1.4199999999999996E-2},{"$f":"'National Shipments'!Z42/'National Shipments'!Z$45","v":4.5444926493982692E-2},{"$f":"'National Shipments'!AA42/'National Shipments'!AA$45","v":0.17941210366626256},{"$f":"'National Shipments'!AB42/'National Shipments'!AB$45","v":0.31371419878146822},{"$f":"'National Shipments'!AC42/'National Shipments'!AC$45","v":0.44835204913446397},{"$f":"'National Shipments'!AD42/'National Shipments'!AD$45","v":0.58332649411334703},{"$f":"'National Shipments'!AE42/'National Shipments'!AE$45","v":0.71863837520467744}]
[null,null,null,"EL4",11.5,null,3.1000000000000008E-3,3.1000000000000008E-3,3.1000000000000008E-3,3.1000000000000008E-3,3.1000000000000008E-3,3.1000000000000008E-3,3.1000000000000008E-3,3.1000000000000008E-3,3.1000000000000008E-3,3.1000000000000008E-3,3.1000000000000008E-3,3.1000000000000008E-3,3.1000000000000008E-3,3.1000000000000008E-3,3.1000000000000008E-3,3.1000000000000008E-3,3.1000000000000008E-3,3.1000000000000008E-3,3.1000000000000008E-3,3.1000000000000008E-3,3.1000000000000008E-3,3.1000000000000008E-3,3.1000000000000008E-3,3.1000000000000008E-3,3.1000000000000008E-3,3.1000000000000008E-3,3.1000000000000008E-3,3.1000000000000008E-3,{"$f":"'National Shipments'!F43/'National Shipments'!F$45","v":3.1000000000000008E-3},{"$f":"'National Shipments'!G43/'National Shipments'!G$45","v":3.1000000000000003E-3},{"$f":"'National Shipments'!H43/'National Shipments'!H$45","v":3.1000000000000003E-3},{"$f":"'National Shipments'!I43/'National Shipments'!I$45","v":3.1000000000000003E-3},{"$f":"'National Shipments'!J43/'National Shipments'!J$45","v":3.1000000000000003E-3},{"$f":"'National Shipments'!K43/'National Shipments'!K$45","v":3.1000000000000003E-3},{"$f":"'National Shipments'!L43/'National Shipments'!L$45","v":3.1000000000000003E-3},{"$f":"'National Shipments'!M43/'National Shipments'!M$45","v":3.0999999999999995E-3},{"$f":"'National Shipments'!N43/'National Shipments'!N$45","v":3.1000000000000003E-3},{"$f":"'National Shipments'!O43/'National Shipments'!O$45","v":3.1000000000000008E-3},{"$f":"'National Shipments'!P43/'National Shipments'!P$45","v":3.1000000000000003E-3},{"$f":"'National Shipments'!Q43/'National Shipments'!Q$45","v":3.1000000000000003E-3},{"$f":"'National Shipments'!R43/'National Shipments'!R$45","v":3.1000000000000003E-3},{"$f":"'National Shipments'!S43/'National Shipments'!S$45","v":3.1000000000000012E-3},{"$f":"'National Shipments'!T43/'National Shipments'!T$45","v":3.1000000000000008E-3},{"$f":"'National Shipments'!U43/'National Shipments'!U$45","v":3.1000000000000008E-3},{"$f":"'National Shipments'!V43/'National Shipments'!V$45","v":3.1000000000000008E-3},{"$f":"'National Shipments'!W43/'National Shipments'!W$45","v":3.1000000000000008E-3},{"$f":"'National Shipments'!X43/'National Shipments'!X$45","v":3.1000000000000008E-3},{"$f":"'National Shipments'!Y43/'National Shipments'!Y$45","v":3.0999999999999995E-3},{"$f":"'National Shipments'!Z43/'National Shipments'!Z$45","v":3.1000000000000008E-3},{"$f":"'National Shipments'!AA43/'National Shipments'!AA$45","v":3.1000000000000003E-3},{"$f":"'National Shipments'!AB43/'National Shipments'!AB$45","v":3.1000000000000003E-3},{"$f":"'National Shipments'!AC43/'National Shipments'!AC$45","v":3.1000000000000003E-3},{"$f":"'National Shipments'!AD43/'National Shipments'!AD$45","v":3.0999999999999999E-3},{"$f":"'National Shipments'!AE43/'National Shipments'!AE$45","v":3.1000000000000003E-3}]
[null,null,null,"EL5",11.961997496471479,null,4.6000000000000008E-3,4.6000000000000008E-3,4.6000000000000008E-3,4.6000000000000008E-3,4.6000000000000008E-3,4.6000000000000008E-3,4.6000000000000008E-3,4.6000000000000008E-3,4.6000000000000008E-3,4.6000000000000008E-3,4.6000000000000008E-3,4.6000000000000008E-3,4.6000000000000008E-3,4.6000000000000008E-3,4.6000000000000008E-3,4.6000000000000008E-3,4.6000000000000008E-3,4.6000000000000008E-3,4.6000000000000008E-3,4.6000000000000008E-3,4.6000000000000008E-3,4.6000000000000008E-3,4.6000000000000008E-3,4.6000000000000008E-3,4.6000000000000008E-3,4.6000000000000008E-3,4.6000000000000008E-3,4.6000000000000008E-3,{"$f":"'National Shipments'!F44/'National Shipments'!F$45","v":4.6000000000000008E-3},{"$f":"'National Shipments'!G44/'National Shipments'!G$45","v":4.5999999999999999E-3},{"$f":"'National Shipments'!H44/'National Shipments'!H$45","v":4.6000000000000008E-3},{"$f":"'National Shipments'!I44/'National Shipments'!I$45","v":4.5999999999999999E-3},{"$f":"'National Shipments'!J44/'National Shipments'!J$45","v":4.5999999999999999E-3},{"$f":"'National Shipments'!K44/'National Shipments'!K$45","v":4.5999999999999999E-3},{"$f":"'National Shipments'!L44/'National Shipments'!L$45","v":4.5999999999999999E-3},{"$f":"'National Shipments'!M44/'National Shipments'!M$45","v":4.5999999999999991E-3},{"$f":"'National Shipments'!N44/'National Shipments'!N$45","v":4.6000000000000008E-3},{"$f":"'National Shipments'!O44/'National Shipments'!O$45","v":4.6000000000000008E-3},{"$f":"'National Shipments'!P44/'National Shipments'!P$45","v":4.5999999999999999E-3},{"$f":"'National Shipments'!Q44/'National Shipments'!Q$45","v":4.5999999999999999E-3},{"$f":"'National Shipments'!R44/'National Shipments'!R$45","v":4.6000000000000008E-3},{"$f":"'National Shipments'!S44/'National Shipments'!S$45","v":4.6000000000000008E-3},{"$f":"'National Shipments'!T44/'National Shipments'!T$45","v":4.6000000000000008E-3},{"$f":"'National Shipments'!U44/'National Shipments'!U$45","v":4.6000000000000008E-3},{"$f":"'National Shipments'!V44/'National Shipments'!V$45","v":4.5999999999999999E-3},{"$f":"'National Shipments'!W44/'National Shipments'!W$45","v":4.5999999999999999E-3},{"$f":"'National Shipments'!X44/'National Shipments'!X$45","v":4.5999999999999999E-3},{"$f":"'National Shipments'!Y44/'National Shipments'!Y$45","v":4.5999999999999991E-3},{"$f":"'National Shipments'!Z44/'National Shipments'!Z$45","v":4.6000000000000008E-3},{"$f":"'National Shipments'!AA44/'National Shipments'!AA$45","v":4.5999999999999999E-3},{"$f":"'National Shipments'!AB44/'National Shipments'!AB$45","v":4.5999999999999999E-3},{"$f":"'National Shipments'!AC44/'National Shipments'!AC$45","v":4.6000000000000008E-3},{"$f":"'National Shipments'!AD44/'National Shipments'!AD$45","v":4.5999999999999991E-3},{"$f":"'National Shipments'!AE44/'National Shipments'!AE$45","v":4.5999999999999999E-3}]
[null,null,null,"TOTAL",null,null,1,1,1,1,1,1,1,1,1,1,1,1,1,1,1,1,1,1,1,1,1,1,1,1,1,1,1,1,{"$f":"'National Shipments'!F45/'National Shipments'!F$45","v":1},{"$f":"'National Shipments'!G45/'National Shipments'!G$45","v":1},{"$f":"'National Shipments'!H45/'National Shipments'!H$45","v":1},{"$f":"'National Shipments'!I45/'National Shipments'!I$45","v":1},{"$f":"'National Shipments'!J45/'National Shipments'!J$45","v":1},{"$f":"'National Shipments'!K45/'National Shipments'!K$45","v":1},{"$f":"'National Shipments'!L45/'National Shipments'!L$45","v":1},{"$f":"'National Shipments'!M45/'National Shipments'!M$45","v":1},{"$f":"'National Shipments'!N45/'National Shipments'!N$45","v":1},{"$f":"'National Shipments'!O45/'National Shipments'!O$45","v":1},{"$f":"'National Shipments'!P45/'National Shipments'!P$45","v":1},{"$f":"'National Shipments'!Q45/'National Shipments'!Q$45","v":1},{"$f":"'National Shipments'!R45/'National Shipments'!R$45","v":1},{"$f":"'National Shipments'!S45/'National Shipments'!S$45","v":1},{"$f":"'National Shipments'!T45/'National Shipments'!T$45","v":1},{"$f":"'National Shipments'!U45/'National Shipments'!U$45","v":1},{"$f":"'National Shipments'!V45/'National Shipments'!V$45","v":1},{"$f":"'National Shipments'!W45/'National Shipments'!W$45","v":1},{"$f":"'National Shipments'!X45/'National Shipments'!X$45","v":1},{"$f":"'National Shipments'!Y45/'National Shipments'!Y$45","v":1},{"$f":"'National Shipments'!Z45/'National Shipments'!Z$45","v":1},{"$f":"'National Shipments'!AA45/'National Shipments'!AA$45","v":1},{"$f":"'National Shipments'!AB45/'National Shipments'!AB$45","v":1},{"$f":"'National Shipments'!AC45/'National Shipments'!AC$45","v":1},{"$f":"'National Shipments'!AD45/'National Shipments'!AD$45","v":1},{"$f":"'National Shipments'!AE45/'National Shipments'!AE$45","v":1}]
[]
[null,null,null,"POST-Case"]
[null,null,null,"Efficiency Level","CEER",null,1981,1982,1983,1984,1985,1986,1987,1988,1989,1990,1991,1992,1993,1994,1995,1996,1997,1998,1999,2000,2001,2002,2003,2004,2005,2006,2007,2008,2009,2010,2011,2012,2013,2014,2015,2016,2017,2018,2019,2020,2021,2022,2023,2024,2025,2026,2027,2028,2029,2030,2031,2032,2033,2034]
[null,null,null,"EL0",{"$f":"INDEX(EFFICIENCY_LEVELS,RIGHT(D49,1)+1,MID($D$35,3,1))","v":9.6867014340173032},null,{"$f":"H49","v":0.37050000000000005},0.37050000000000005,0.37050000000000005,0.37050000000000005,0.37050000000000005,0.37050000000000005,0.37050000000000005,0.37050000000000005,0.37050000000000005,0.37050000000000005,0.37050000000000005,0.37050000000000005,0.37050000000000005,0.37050000000000005,0.37050000000000005,0.37050000000000005,0.37050000000000005,0.37050000000000005,0.37050000000000005,0.37050000000000005,0.37050000000000005,0.37050000000000005,0.37050000000000005,0.37050000000000005,0.37050000000000005,0.37050000000000005,0.37050000000000005,{"$f":"AI49","v":0.37050000000000005},{"$f":"'National Shipments'!F49/'National Shipments'!F$55","v":0.37050000000000005},{"$f":"'National Shipments'!G49/'National Shipments'!G$55","v":0.37050000000000005},{"$f":"'National Shipments'!H49/'National Shipments'!H$55","v":0.37050000000000011},{"$f":"'National Shipments'!I49/'National Shipments'!I$55","v":0.37050000000000005},{"$f":"'National Shipments'!J49/'National Shipments'!J$55","v":0.37050000000000011},{"$f":"'National Shipments'!K49/'National Shipments'!K$55","v":0},{"$f":"'National Shipments'!L49/'National Shipments'!L$55","v":0},{"$f":"'National Shipments'!M49/'National Shipments'!M$55","v":0},{"$f":"'National Shipments'!N49/'National Shipments'!N$55","v":0},{"$f":"'National Shipments'!O49/'National Shipments'!O$55","v":0},{"$f":"'National Shipments'!P49/'National Shipments'!P$55","v":0},{"$f":"'National Shipments'!Q49/'National Shipments'!Q$55","v":0},{"$f":"'National Shipments'!R49/'National Shipments'!R$55","v":0},{"$f":"'National Shipments'!S49/'National Shipments'!S$55","v":0},{"$f":"'National Shipments'!T49/'National Shipments'!T$55","v":0},{"$f":"'National Shipments'!U49/'National Shipments'!U$55","v":0},{"$f":"'National Shipments'!V49/'National Shipments'!V$55","v":0},{"$f":"'National Shipments'!W49/'National Shipments'!W$55","v":0},{"$f":"'National Shipments'!X49/'National Shipments'!X$55","v":0},{"$f":"'National Shipments'!Y49/'National Shipments'!Y$55","v":0},{"$f":"'National Shipments'!Z49/'National Shipments'!Z$55","v":0},{"$f":"'National Shipments'!AA49/'National Shipments'!AA$55","v":0},{"$f":"'National Shipments'!AB49/'National Shipments'!AB$55","v":0},{"$f":"'National Shipments'!AC49/'National Shipments'!AC$55","v":0},{"$f":"'National Shipments'!AD49/'National Shipments'!AD$55","v":0},{"$f":"'National Shipments'!AE49/'National Shipments'!AE$55","v":0}]
[null,null,null,"EL1",10.199999999999999,null,{"$f":"H50","v":2.4599999999999955E-2},2.4599999999999955E-2,2.4599999999999955E-2,2.4599999999999955E-2,2.4599999999999955E-2,2.4599999999999955E-2,2.4599999999999955E-2,2.4599999999999955E-2,2.4599999999999955E-2,2.4599999999999955E-2,2.4599999999999955E-2,2.4599999999999955E-2,2.4599999999999955E-2,2.4599999999999955E-2,2.4599999999999955E-2,2.4599999999999955E-2,2.4599999999999955E-2,2.4599999999999955E-2,2.4599999999999955E-2,2.4599999999999955E-2,2.4599999999999955E-2,2.4599999999999955E-2,2.4599999999999955E-2,2.4599999999999955E-2,2.4599999999999955E-2,2.4599999999999955E-2,2.4599999999999955E-2,2.4599999999999955E-2,{"$f":"'National Shipments'!F50/'National Shipments'!F$55","v":2.4599999999999955E-2},{"$f":"'National Shipments'!G50/'National Shipments'!G$55","v":2.4599999999999955E-2},{"$f":"'National Shipments'!H50/'National Shipments'!H$55","v":2.4599999999999959E-2},{"$f":"'National Shipments'!I50/'National Shipments'!I$55","v":2.4599999999999952E-2},{"$f":"'National Shipments'!J50/'National Shipments'!J$55","v":2.4599999999999959E-2},{"$f":"'National Shipments'!K50/'National Shipments'!K$55","v":0},{"$f":"'National Shipments'!L50/'National Shipments'!L$55","v":0},{"$f":"'National Shipments'!M50/'National Shipments'!M$55","v":0},{"$f":"'National Shipments'!N50/'National Shipments'!N$55","v":0},{"$f":"'National Shipments'!O50/'National Shipments'!O$55","v":0},{"$f":"'National Shipments'!P50/'National Shipments'!P$55","v":0},{"$f":"'National Shipments'!Q50/'National Shipments'!Q$55","v":0},{"$f":"'National Shipments'!R50/'National Shipments'!R$55","v":0},{"$f":"'National Shipments'!S50/'National Shipments'!S$55","v":0},{"$f":"'National Shipments'!T50/'National Shipments'!T$55","v":0},{"$f":"'National Shipments'!U50/'National Shipments'!U$55","v":0},{"$f":"'National Shipments'!V50/'National Shipments'!V$55","v":0},{"$f":"'National Shipments'!W50/'National Shipments'!W$55","v":0},{"$f":"'National Shipments'!X50/'National Shipments'!X$55","v":0},{"$f":"'National Shipments'!Y50/'National Shipments'!Y$55","v":0},{"$f":"'National Shipments'!Z50/'National Shipments'!Z$55","v":0},{"$f":"'National Shipments'!AA50/'National Shipments'!AA$55","v":0},{"$f":"'National Shipments'!AB50/'National Shipments'!AB$55","v":0},{"$f":"'National Shipments'!AC50/'National Shipments'!AC$55","v":0},{"$f":"'National Shipments'!AD50/'National Shipments'!AD$55","v":0},{"$f":"'National Shipments'!AE50/'National Shipments'!AE$55","v":0}]
[null,null,null,"EL2",10.7,null,{"$f":"H51","v":0.58299999999999996},0.58299999999999996,0.58299999999999996,0.58299999999999996,0.58299999999999996,0.58299999999999996,0.58299999999999996,0.58299999999999996,0.58299999999999996,0.58299999999999996,0.58299999999999996,0.58299999999999996,0.58299999999999996,0.58299999999999996,0.58299999999999996,0.58299999999999996,0.58299999999999996,0.58299999999999996,0.58299999999999996,0.58299999999999996,0.58299999999999996,0.58299999999999996,0.58299999999999996,0.58299999999999996,0.58299999999999996,0.58299999999999996,0.58299999999999996,0.58299999999999996,{"$f":"'National Shipments'!F51/'National Shipments'!F$55","v":0.58299999999999996},{"$f":"'National Shipments'!G51/'National Shipments'!G$55","v":0.58299999999999996},{"$f":"'National Shipments'!H51/'National Shipments'!H$55","v":0.58300000000000007},{"$f":"'National Shipments'!I51/'National Shipments'!I$55","v":0.58299999999999996},{"$f":"'National Shipments'!J51/'National Shipments'!J$55","v":0.58299999999999996},{"$f":"'National Shipments'!K51/'National Shipments'!K$55","v":0},{"$f":"'National Shipments'!L51/'National Shipments'!L$55","v":0},{"$f":"'National Shipments'!M51/'National Shipments'!M$55","v":0},{"$f":"'National Shipments'!N51/'National Shipments'!N$55","v":0},{"$f":"'National Shipments'!O51/'National Shipments'!O$55","v":0},{"$f":"'National Shipments'!P51/'National Shipments'!P$55","v":0},{"$f":"'National Shipments'!Q51/'National Shipments'!Q$55","v":0},{"$f":"'National Shipments'!R51/'National Shipments'!R$55","v":0},{"$f":"'National Shipments'!S51/'National Shipments'!S$55","v":0},{"$f":"'National Shipments'!T51/'National Shipments'!T$55","v":0},{"$f":"'National Shipments'!U51/'National Shipments'!U$55","v":0},{"$f":"'National Shipments'!V51/'National Shipments'!V$55","v":0},{"$f":"'National Shipments'!W51/'National Shipments'!W$55","v":0},{"$f":"'National Shipments'!X51/'National Shipments'!X$55","v":0},{"$f":"'National Shipments'!Y51/'National Shipments'!Y$55","v":0},{"$f":"'National Shipments'!Z51/'National Shipments'!Z$55","v":0},{"$f":"'National Shipments'!AA51/'National Shipments'!AA$55","v":0},{"$f":"'National Shipments'!AB51/'National Shipments'!AB$55","v":0},{"$f":"'National Shipments'!AC51/'National Shipments'!AC$55","v":0},{"$f":"'National Shipments'!AD51/'National Shipments'!AD$55","v":0},{"$f":"'National Shipments'!AE51/'National Shipments'!AE$55","v":0}]
[null,null,null,"EL3",10.9,null,{"$f":"H52","v":1.4200000000000003E-2},1.4200000000000003E-2,1.4200000000000003E-2,1.4200000000000003E-2,1.4200000000000003E-2,1.4200000000000003E-2,1.4200000000000003E-2,1.4200000000000003E-2,1.4200000000000003E-2,1.4200000000000003E-2,1.4200000000000003E-2,1.4200000000000003E-2,1.4200000000000003E-2,1.4200000000000003E-2,1.4200000000000003E-2,1.4200000000000003E-2,1.4200000000000003E-2,1.4200000000000003E-2,1.4200000000000003E-2,1.4200000000000003E-2,1.4200000000000003E-2,1.4200000000000003E-2,1.4200000000000003E-2,1.4200000000000003E-2,1.4200000000000003E-2,1.4200000000000003E-2,1.4200000000000003E-2,1.4200000000000003E-2,{"$f":"'National Shipments'!F52/'National Shipments'!F$55","v":1.4200000000000003E-2},{"$f":"'National Shipments'!G52/'National Shipments'!G$55","v":1.4199999999999999E-2},{"$f":"'National Shipments'!H52/'National Shipments'!H$55","v":1.4200000000000001E-2},{"$f":"'National Shipments'!I52/'National Shipments'!I$55","v":1.4199999999999999E-2},{"$f":"'National Shipments'!J52/'National Shipments'!J$55","v":1.4199999999999999E-2},{"$f":"'National Shipments'!K52/'National Shipments'!K$55","v":0.99230000000000007},{"$f":"'National Shipments'!L52/'National Shipments'!L$55","v":0.97332291113467539},{"$f":"'National Shipments'!M52/'National Shipments'!M$55","v":0.96350797460086846},{"$f":"'National Shipments'!N52/'National Shipments'!N$55","v":0.95366850072572429},{"$f":"'National Shipments'!O52/'National Shipments'!O$55","v":0.94380442816589571},{"$f":"'National Shipments'!P52/'National Shipments'!P$55","v":0.93391569542466357},{"$f":"'National Shipments'!Q52/'National Shipments'!Q$55","v":0.92400224085158034},{"$f":"'National Shipments'!R52/'National Shipments'!R$55","v":0.91406400264206766},{"$f":"'National Shipments'!S52/'National Shipments'!S$55","v":0.89801636259020856},{"$f":"'National Shipments'!T52/'National Shipments'!T$55","v":0.87918063483654196},{"$f":"'National Shipments'!U52/'National Shipments'!U$55","v":0.86029781776348757},{"$f":"'National Shipments'!V52/'National Shipments'!V$55","v":0.84136779364775682},{"$f":"'National Shipments'!W52/'National Shipments'!W$55","v":0.82239044447173204},{"$f":"'National Shipments'!X52/'National Shipments'!X$55","v":0.80336565192277054},{"$f":"'National Shipments'!Y52/'National Shipments'!Y$55","v":0.78429329739243692},{"$f":"'National Shipments'!Z52/'National Shipments'!Z$55","v":0.76493667324402381},{"$f":"'National Shipments'!AA52/'National Shipments'!AA$55","v":0.74475442906194689},{"$f":"'National Shipments'!AB52/'National Shipments'!AB$55","v":0.72452172926942027},{"$f":"'National Shipments'!AC52/'National Shipments'!AC$55","v":0.70423844772741051},{"$f":"'National Shipments'!AD52/'National Shipments'!AD$55","v":0.68390445798154254},{"$f":"'National Shipments'!AE52/'National Shipments'!AE$55","v":0.66351963326131169}]
[null,null,null,"EL4",11.5,null,{"$f":"H53","v":3.1000000000000008E-3},3.1000000000000008E-3,3.1000000000000008E-3,3.1000000000000008E-3,3.1000000000000008E-3,3.1000000000000008E-3,3.1000000000000008E-3,3.1000000000000008E-3,3.1000000000000008E-3,3.1000000000000008E-3,3.1000000000000008E-3,3.1000000000000008E-3,3.1000000000000008E-3,3.1000000000000008E-3,3.1000000000000008E-3,3.1000000000000008E-3,3.1000000000000008E-3,3.1000000000000008E-3,3.1000000000000008E-3,3.1000000000000008E-3,3.1000000000000008E-3,3.1000000000000008E-3,3.1000000000000008E-3,3.1000000000000008E-3,3.1000000000000008E-3,3.1000000000000008E-3,3.1000000000000008E-3,3.1000000000000008E-3,{"$f":"'National Shipments'!F53/'National Shipments'!F$55","v":3.1000000000000008E-3},{"$f":"'National Shipments'!G53/'National Shipments'!G$55","v":3.1000000000000003E-3},{"$f":"'National Shipments'!H53/'National Shipments'!H$55","v":3.1000000000000003E-3},{"$f":"'National Shipments'!I53/'National Shipments'!I$55","v":3.1000000000000003E-3},{"$f":"'National Shipments'!J53/'National Shipments'!J$55","v":3.1000000000000003E-3},{"$f":"'National Shipments'!K53/'National Shipments'!K$55","v":3.1000000000000012E-3},{"$f":"'National Shipments'!L53/'National Shipments'!L$55","v":2.2077088865324695E-2},{"$f":"'National Shipments'!M53/'National Shipments'!M$55","v":3.1892025399131586E-2},{"$f":"'National Shipments'!N53/'National Shipments'!N$55","v":4.1731499274275823E-2},{"$f":"'National Shipments'!O53/'National Shipments'!O$55","v":5.1595571834104299E-2},{"$f":"'National Shipments'!P53/'National Shipments'!P$55","v":6.1484304575336463E-2},{"$f":"'National Shipments'!Q53/'National Shipments'!Q$55","v":7.1397759148419823E-2},{"$f":"'National Shipments'!R53/'National Shipments'!R$55","v":8.1335997357932316E-2},{"$f":"'National Shipments'!S53/'National Shipments'!S$55","v":9.7383637409791529E-2},{"$f":"'National Shipments'!T53/'National Shipments'!T$55","v":0.11621936516345786},{"$f":"'National Shipments'!U53/'National Shipments'!U$55","v":0.13510218223651244},{"$f":"'National Shipments'!V53/'National Shipments'!V$55","v":0.15403220635224329},{"$f":"'National Shipments'!W53/'National Shipments'!W$55","v":0.17300955552826802},{"$f":"'National Shipments'!X53/'National Shipments'!X$55","v":0.19203434807722958},{"$f":"'National Shipments'!Y53/'National Shipments'!Y$55","v":0.21110670260756309},{"$f":"'National Shipments'!Z53/'National Shipments'!Z$55","v":0.23046332675597617},{"$f":"'National Shipments'!AA53/'National Shipments'!AA$55","v":0.25064557093805301},{"$f":"'National Shipments'!AB53/'National Shipments'!AB$55","v":0.27087827073057974},{"$f":"'National Shipments'!AC53/'National Shipments'!AC$55","v":0.29116155227258955},{"$f":"'National Shipments'!AD53/'National Shipments'!AD$55","v":0.31149554201845758},{"$f":"'National Shipments'!AE53/'National Shipments'!AE$55","v":0.33188036673868826}]
[null,null,null,"EL5",11.961997496471479,null,{"$f":"H54","v":4.6000000000000008E-3},4.6000000000000008E-3,4.6000000000000008E-3,4.6000000000000008E-3,4.6000000000000008E-3,4.6000000000000008E-3,4.6000000000000008E-3,4.6000000000000008E-3,4.6000000000000008E-3,4.6000000000000008E-3,4.6000000000000008E-3,4.6000000000000008E-3,4.6000000000000008E-3,4.6000000000000008E-3,4.6000000000000008E-3,4.6000000000000008E-3,4.6000000000000008E-3,4.6000000000000008E-3,4.6000000000000008E-3,4.6000000000000008E-3,4.6000000000000008E-3,4.6000000000000008E-3,4.6000000000000008E-3,4.6000000000000008E-3,4.6000000000000008E-3,4.6000000000000008E-3,4.6000000000000008E-3,4.6000000000000008E-3,{"$f":"'National Shipments'!F54/'National Shipments'!F$55","v":4.6000000000000008E-3},{"$f":"'National Shipments'!G54/'National Shipments'!G$55","v":4.5999999999999999E-3},{"$f":"'National Shipments'!H54/'National Shipments'!H$55","v":4.6000000000000008E-3},{"$f":"'National Shipments'!I54/'National Shipments'!I$55","v":4.5999999999999999E-3},{"$f":"'National Shipments'!J54/'National Shipments'!J$55","v":4.5999999999999999E-3},{"$f":"'National Shipments'!K54/'National Shipments'!K$55","v":4.6000000000000008E-3},{"$f":"'National Shipments'!L54/'National Shipments'!L$55","v":4.5999999999999999E-3},{"$f":"'National Shipments'!M54/'National Shipments'!M$55","v":4.5999999999999999E-3},{"$f":"'National Shipments'!N54/'National Shipments'!N$55","v":4.6000000000000008E-3},{"$f":"'National Shipments'!O54/'National Shipments'!O$55","v":4.6000000000000008E-3},{"$f":"'National Shipments'!P54/'National Shipments'!P$55","v":4.5999999999999999E-3},{"$f":"'National Shipments'!Q54/'National Shipments'!Q$55","v":4.6000000000000008E-3},{"$f":"'National Shipments'!R54/'National Shipments'!R$55","v":4.6000000000000008E-3},{"$f":"'National Shipments'!S54/'National Shipments'!S$55","v":4.6000000000000008E-3},{"$f":"'National Shipments'!T54/'National Shipments'!T$55","v":4.5999999999999999E-3},{"$f":"'National Shipments'!U54/'National Shipments'!U$55","v":4.5999999999999999E-3},{"$f":"'National Shipments'!V54/'National Shipments'!V$55","v":4.5999999999999999E-3},{"$f":"'National Shipments'!W54/'National Shipments'!W$55","v":4.6000000000000008E-3},{"$f":"'National Shipments'!X54/'National Shipments'!X$55","v":4.6000000000000008E-3},{"$f":"'National Shipments'!Y54/'National Shipments'!Y$55","v":4.5999999999999999E-3},{"$f":"'National Shipments'!Z54/'National Shipments'!Z$55","v":4.5999999999999999E-3},{"$f":"'National Shipments'!AA54/'National Shipments'!AA$55","v":4.5999999999999999E-3},{"$f":"'National Shipments'!AB54/'National Shipments'!AB$55","v":4.5999999999999999E-3},{"$f":"'National Shipments'!AC54/'National Shipments'!AC$55","v":4.5999999999999999E-3},{"$f":"'National Shipments'!AD54/'National Shipments'!AD$55","v":4.6000000000000017E-3},{"$f":"'National Shipments'!AE54/'National Shipments'!AE$55","v":4.5999999999999999E-3}]
[null,null,null,"TOTAL",null,null,{"$f":"H55","v":1},1,1,1,1,1,1,1,1,1,1,1,1,1,1,1,1,1,1,1,1,1,1,1,1,1,1,1,{"$f":"'National Shipments'!F55/'National Shipments'!F$55","v":1},{"$f":"'National Shipments'!G55/'National Shipments'!G$55","v":1},{"$f":"'National Shipments'!H55/'National Shipments'!H$55","v":1},{"$f":"'National Shipments'!I55/'National Shipments'!I$55","v":1},{"$f":"'National Shipments'!J55/'National Shipments'!J$55","v":1},{"$f":"'National Shipments'!K55/'National Shipments'!K$55","v":1},{"$f":"'National Shipments'!L55/'National Shipments'!L$55","v":1},{"$f":"'National Shipments'!M55/'National Shipments'!M$55","v":1},{"$f":"'National Shipments'!N55/'National Shipments'!N$55","v":1},{"$f":"'National Shipments'!O55/'National Shipments'!O$55","v":1},{"$f":"'National Shipments'!P55/'National Shipments'!P$55","v":1},{"$f":"'National Shipments'!Q55/'National Shipments'!Q$55","v":1},{"$f":"'National Shipments'!R55/'National Shipments'!R$55","v":1},{"$f":"'National Shipments'!S55/'National Shipments'!S$55","v":1},{"$f":"'National Shipments'!T55/'National Shipments'!T$55","v":1},{"$f":"'National Shipments'!U55/'National Shipments'!U$55","v":1},{"$f":"'National Shipments'!V55/'National Shipments'!V$55","v":1},{"$f":"'National Shipments'!W55/'National Shipments'!W$55","v":1},{"$f":"'National Shipments'!X55/'National Shipments'!X$55","v":1},{"$f":"'National Shipments'!Y55/'National Shipments'!Y$55","v":1},{"$f":"'National Shipments'!Z55/'National Shipments'!Z$55","v":1},{"$f":"'National Shipments'!AA55/'National Shipments'!AA$55","v":1},{"$f":"'National Shipments'!AB55/'National Shipments'!AB$55","v":1},{"$f":"'National Shipments'!AC55/'National Shipments'!AC$55","v":1},{"$f":"'National Shipments'!AD55/'National Shipments'!AD$55","v":1},{"$f":"'National Shipments'!AE55/'National Shipments'!AE$55","v":1}]
[]
[null,null,null,"Sources","2011 DOE Residential Room Air Conditioners Direct Final Rule Government Regulatory Impact Model 'Product Shipments (CALC)' tab."]
[]
[]
[]
[null,null,null,"PC3  Without reverse cycle, with louvered sides, and 20,000 to 24,999 Btu/h"]
[]
[null,null,null,"PRE-Case"]
[null,null,null,"Efficiency Level","CEER",null,1981,1982,1983,1984,1985,1986,1987,1988,1989,1990,1991,1992,1993,1994,1995,1996,1997,1998,1999,2000,2001,2002,2003,2004,2005,2006,2007,2008,2009,2010,2011,2012,2013,2014,2015,2016,2017,2018,2019,2020,2021,2022,2023,2024,2025,2026,2027,2028,2029,2030,2031,2032,2033,2034]
[null,null,null,"EL0",{"$f":"INDEX(EFFICIENCY_LEVELS,RIGHT(D65,1)+1,MID($D$61,3,1))","v":8.4713534124895506},null,{"$f":"H65","v":0.1321},0.1321,0.1321,0.1321,0.1321,0.1321,0.1321,0.1321,0.1321,0.1321,0.1321,0.1321,0.1321,0.1321,0.1321,0.1321,0.1321,0.1321,0.1321,0.1321,0.1321,0.1321,0.1321,0.1321,0.1321,0.1321,0.1321,{"$f":"AI65","v":0.1321},{"$f":"'National Shipments'!F65/'National Shipments'!F$70","v":0.1321},{"$f":"'National Shipments'!G65/'National Shipments'!G$70","v":0.1321},{"$f":"'National Shipments'!H65/'National Shipments'!H$70","v":0.13209999999999997},{"$f":"'National Shipments'!I65/'National Shipments'!I$70","v":0.1321},{"$f":"'National Shipments'!J65/'National Shipments'!J$70","v":0.1321},{"$f":"'National Shipments'!K65/'National Shipments'!K$70","v":0.1321},{"$f":"'National Shipments'!L65/'National Shipments'!L$70","v":8.8144104128980341E-2},{"$f":"'National Shipments'!M65/'National Shipments'!M$70","v":4.4078318518284497E-2},{"$f":"'National Shipments'!N65/'National Shipments'!N$70","v":0},{"$f":"'National Shipments'!O65/'National Shipments'!O$70","v":0},{"$f":"'National Shipments'!P65/'National Shipments'!P$70","v":0},{"$f":"'National Shipments'!Q65/'National Shipments'!Q$70","v":0},{"$f":"'National Shipments'!R65/'National Shipments'!R$70","v":0},{"$f":"'National Shipments'!S65/'National Shipments'!S$70","v":0},{"$f":"'National Shipments'!T65/'National Shipments'!T$70","v":0},{"$f":"'National Shipments'!U65/'National Shipments'!U$70","v":0},{"$f":"'National Shipments'!V65/'National Shipments'!V$70","v":0},{"$f":"'National Shipments'!W65/'National Shipments'!W$70","v":0},{"$f":"'National Shipments'!X65/'National Shipments'!X$70","v":0},{"$f":"'National Shipments'!Y65/'National Shipments'!Y$70","v":0},{"$f":"'National Shipments'!Z65/'National Shipments'!Z$70","v":0},{"$f":"'National Shipments'!AA65/'National Shipments'!AA$70","v":0},{"$f":"'National Shipments'!AB65/'National Shipments'!AB$70","v":0},{"$f":"'National Shipments'!AC65/'National Shipments'!AC$70","v":0},{"$f":"'National Shipments'!AD65/'National Shipments'!AD$70","v":0},{"$f":"'National Shipments'!AE65/'National Shipments'!AE$70","v":0}]
[null,null,null,"EL1",{"$f":"INDEX(EFFICIENCY_LEVELS,RIGHT(D66,1)+1,MID($D$61,3,1))","v":9},null,1.5000000000000015E-2,1.5000000000000015E-2,1.5000000000000015E-2,1.5000000000000015E-2,1.5000000000000015E-2,1.5000000000000015E-2,1.5000000000000015E-2,1.5000000000000015E-2,1.5000000000000015E-2,1.5000000000000015E-2,1.5000000000000015E-2,1.5000000000000015E-2,1.5000000000000015E-2,1.5000000000000015E-2,1.5000000000000015E-2,1.5000000000000015E-2,1.5000000000000015E-2,1.5000000000000015E-2,1.5000000000000015E-2,1.5000000000000015E-2,1.5000000000000015E-2,1.5000000000000015E-2,1.5000000000000015E-2,1.5000000000000015E-2,1.5000000000000015E-2,1.5000000000000015E-2,1.5000000000000015E-2,{"$f":"AI66","v":1.5000000000000015E-2},{"$f":"'National Shipments'!F66/'National Shipments'!F$70","v":1.5000000000000015E-2},{"$f":"'National Shipments'!G66/'National Shipments'!G$70","v":1.5000000000000015E-2},{"$f":"'National Shipments'!H66/'National Shipments'!H$70","v":1.5000000000000008E-2},{"$f":"'National Shipments'!I66/'National Shipments'!I$70","v":1.5000000000000012E-2},{"$f":"'National Shipments'!J66/'National Shipments'!J$70","v":1.5000000000000017E-2},{"$f":"'National Shipments'!K66/'National Shipments'!K$70","v":1.5000000000000013E-2},{"$f":"'National Shipments'!L66/'National Shipments'!L$70","v":5.8955895871019688E-2},{"$f":"'National Shipments'!M66/'National Shipments'!M$70","v":0.10302168148171549},{"$f":"'National Shipments'!N66/'National Shipments'!N$70","v":0.14697096852714253},{"$f":"'National Shipments'!O66/'National Shipments'!O$70","v":8.8441346226702008E-2},{"$f":"'National Shipments'!P66/'National Shipments'!P$70","v":2.9765399870509524E-2},{"$f":"'National Shipments'!Q66/'National Shipments'!Q$70","v":0},{"$f":"'National Shipments'!R66/'National Shipments'!R$70","v":0},{"$f":"'National Shipments'!S66/'National Shipments'!S$70","v":0},{"$f":"'National Shipments'!T66/'National Shipments'!T$70","v":0},{"$f":"'National Shipments'!U66/'National Shipments'!U$70","v":0},{"$f":"'National Shipments'!V66/'National Shipments'!V$70","v":0},{"$f":"'National Shipments'!W66/'National Shipments'!W$70","v":0},{"$f":"'National Shipments'!X66/'National Shipments'!X$70","v":0},{"$f":"'National Shipments'!Y66/'National Shipments'!Y$70","v":0},{"$f":"'National Shipments'!Z66/'National Shipments'!Z$70","v":0},{"$f":"'National Shipments'!AA66/'National Shipments'!AA$70","v":0},{"$f":"'National Shipments'!AB66/'National Shipments'!AB$70","v":0},{"$f":"'National Shipments'!AC66/'National Shipments'!AC$70","v":0},{"$f":"'National Shipments'!AD66/'National Shipments'!AD$70","v":0},{"$f":"'National Shipments'!AE66/'National Shipments'!AE$70","v":0}]
[null,null,null,"EL2",{"$f":"INDEX(EFFICIENCY_LEVELS,RIGHT(D67,1)+1,MID($D$61,3,1))","v":9.4},null,0.81259999999999999,0.81259999999999999,0.81259999999999999,0.81259999999999999,0.81259999999999999,0.81259999999999999,0.81259999999999999,0.81259999999999999,0.81259999999999999,0.81259999999999999,0.81259999999999999,0.81259999999999999,0.81259999999999999,0.81259999999999999,0.81259999999999999,0.81259999999999999,0.81259999999999999,0.81259999999999999,0.81259999999999999,0.81259999999999999,0.81259999999999999,0.81259999999999999,0.81259999999999999,0.81259999999999999,0.81259999999999999,0.81259999999999999,0.81259999999999999,0.81259999999999999,{"$f":"'National Shipments'!F67/'National Shipments'!F$70","v":0.81259999999999999},{"$f":"'National Shipments'!G67/'National Shipments'!G$70","v":0.8126000000000001},{"$f":"'National Shipments'!H67/'National Shipments'!H$70","v":0.81259999999999988},{"$f":"'National Shipments'!I67/'National Shipments'!I$70","v":0.81259999999999999},{"$f":"'National Shipments'!J67/'National Shipments'!J$70","v":0.81259999999999999},{"$f":"'National Shipments'!K67/'National Shipments'!K$70","v":0.81259999999999999},{"$f":"'National Shipments'!L67/'National Shipments'!L$70","v":0.81259999999999999},{"$f":"'National Shipments'!M67/'National Shipments'!M$70","v":0.81259999999999999},{"$f":"'National Shipments'!N67/'National Shipments'!N$70","v":0.81272903147285736},{"$f":"'National Shipments'!O67/'National Shipments'!O$70","v":0.87125865377329792},{"$f":"'National Shipments'!P67/'National Shipments'!P$70","v":0.92993460012949059},{"$f":"'National Shipments'!Q67/'National Shipments'!Q$70","v":0.93064276364842713},{"$f":"'National Shipments'!R67/'National Shipments'!R$70","v":0.87167307083579137},{"$f":"'National Shipments'!S67/'National Shipments'!S$70","v":0.81255595379111989},{"$f":"'National Shipments'!T67/'National Shipments'!T$70","v":0.75329104395384017},{"$f":"'National Shipments'!U67/'National Shipments'!U$70","v":0.69387797184196431},{"$f":"'National Shipments'!V67/'National Shipments'!V$70","v":0.63431636704980887},{"$f":"'National Shipments'!W67/'National Shipments'!W$70","v":0.57460585824567512},{"$f":"'National Shipments'!X67/'National Shipments'!X$70","v":0.51474607316953125},{"$f":"'National Shipments'!Y67/'National Shipments'!Y$70","v":0.45473663863069436},{"$f":"'National Shipments'!Z67/'National Shipments'!Z$70","v":0.3945771805055126},{"$f":"'National Shipments'!AA67/'National Shipments'!AA$70","v":0.33426732373501522},{"$f":"'National Shipments'!AB67/'National Shipments'!AB$70","v":0.27380669232259519},{"$f":"'National Shipments'!AC67/'National Shipments'!AC$70","v":0.21319490933164162},{"$f":"'National Shipments'!AD67/'National Shipments'!AD$70","v":0.15243159688321306},{"$f":"'National Shipments'!AE67/'National Shipments'!AE$70","v":9.1516376153661594E-2}]
[null,null,null,"EL3",{"$f":"INDEX(EFFICIENCY_LEVELS,RIGHT(D68,1)+1,MID($D$61,3,1))","v":9.8000000000000007},null,1.9400000000000004E-2,1.9400000000000004E-2,1.9400000000000004E-2,1.9400000000000004E-2,1.9400000000000004E-2,1.9400000000000004E-2,1.9400000000000004E-2,1.9400000000000004E-2,1.9400000000000004E-2,1.9400000000000004E-2,1.9400000000000004E-2,1.9400000000000004E-2,1.9400000000000004E-2,1.9400000000000004E-2,1.9400000000000004E-2,1.9400000000000004E-2,1.9400000000000004E-2,1.9400000000000004E-2,1.9400000000000004E-2,1.9400000000000004E-2,1.9400000000000004E-2,1.9400000000000004E-2,1.9400000000000004E-2,1.9400000000000004E-2,1.9400000000000004E-2,1.9400000000000004E-2,1.9400000000000004E-2,1.9400000000000004E-2,{"$f":"'National Shipments'!F68/'National Shipments'!F$70","v":1.9400000000000004E-2},{"$f":"'National Shipments'!G68/'National Shipments'!G$70","v":1.9400000000000008E-2},{"$f":"'National Shipments'!H68/'National Shipments'!H$70","v":1.9400000000000001E-2},{"$f":"'National Shipments'!I68/'National Shipments'!I$70","v":1.9400000000000004E-2},{"$f":"'National Shipments'!J68/'National Shipments'!J$70","v":1.9400000000000008E-2},{"$f":"'National Shipments'!K68/'National Shipments'!K$70","v":1.9400000000000004E-2},{"$f":"'National Shipments'!L68/'National Shipments'!L$70","v":1.9400000000000004E-2},{"$f":"'National Shipments'!M68/'National Shipments'!M$70","v":1.9400000000000001E-2},{"$f":"'National Shipments'!N68/'National Shipments'!N$70","v":1.9400000000000001E-2},{"$f":"'National Shipments'!O68/'National Shipments'!O$70","v":1.9400000000000004E-2},{"$f":"'National Shipments'!P68/'National Shipments'!P$70","v":1.9400000000000008E-2},{"$f":"'National Shipments'!Q68/'National Shipments'!Q$70","v":4.8457236351572848E-2},{"$f":"'National Shipments'!R68/'National Shipments'!R$70","v":0.10742692916420872},{"$f":"'National Shipments'!S68/'National Shipments'!S$70","v":0.16654404620888008},{"$f":"'National Shipments'!T68/'National Shipments'!T$70","v":0.22580895604615989},{"$f":"'National Shipments'!U68/'National Shipments'!U$70","v":0.28522202815803566},{"$f":"'National Shipments'!V68/'National Shipments'!V$70","v":0.3447836329501911},{"$f":"'National Shipments'!W68/'National Shipments'!W$70","v":0.40449414175432497},{"$f":"'National Shipments'!X68/'National Shipments'!X$70","v":0.46435392683046872},{"$f":"'National Shipments'!Y68/'National Shipments'!Y$70","v":0.52436336136930572},{"$f":"'National Shipments'!Z68/'National Shipments'!Z$70","v":0.58452281949448748},{"$f":"'National Shipments'!AA68/'National Shipments'!AA$70","v":0.64483267626498486},{"$f":"'National Shipments'!AB68/'National Shipments'!AB$70","v":0.70529330767740495},{"$f":"'National Shipments'!AC68/'National Shipments'!AC$70","v":0.76590509066835821},{"$f":"'National Shipments'!AD68/'National Shipments'!AD$70","v":0.82666840311678691},{"$f":"'National Shipments'!AE68/'National Shipments'!AE$70","v":0.88758362384633838}]
[null,null,null,"EL4",{"$f":"INDEX(EFFICIENCY_LEVELS,RIGHT(D69,1)+1,MID($D$61,3,1))","v":10.154447630701553},null,2.0900000000000002E-2,2.0900000000000002E-2,2.0900000000000002E-2,2.0900000000000002E-2,2.0900000000000002E-2,2.0900000000000002E-2,2.0900000000000002E-2,2.0900000000000002E-2,2.0900000000000002E-2,2.0900000000000002E-2,2.0900000000000002E-2,2.0900000000000002E-2,2.0900000000000002E-2,2.0900000000000002E-2,2.0900000000000002E-2,2.0900000000000002E-2,2.0900000000000002E-2,2.0900000000000002E-2,2.0900000000000002E-2,2.0900000000000002E-2,2.0900000000000002E-2,2.0900000000000002E-2,2.0900000000000002E-2,2.0900000000000002E-2,2.0900000000000002E-2,2.0900000000000002E-2,2.0900000000000002E-2,2.0900000000000002E-2,{"$f":"'National Shipments'!F69/'National Shipments'!F$70","v":2.0900000000000002E-2},{"$f":"'National Shipments'!G69/'National Shipments'!G$70","v":2.0899999999999998E-2},{"$f":"'National Shipments'!H69/'National Shipments'!H$70","v":2.0899999999999995E-2},{"$f":"'National Shipments'!I69/'National Shipments'!I$70","v":2.0899999999999998E-2},{"$f":"'National Shipments'!J69/'National Shipments'!J$70","v":2.0899999999999998E-2},{"$f":"'National Shipments'!K69/'National Shipments'!K$70","v":2.0900000000000002E-2},{"$f":"'National Shipments'!L69/'National Shipments'!L$70","v":2.0899999999999998E-2},{"$f":"'National Shipments'!M69/'National Shipments'!M$70","v":2.0899999999999995E-2},{"$f":"'National Shipments'!N69/'National Shipments'!N$70","v":2.0899999999999995E-2},{"$f":"'National Shipments'!O69/'National Shipments'!O$70","v":2.0899999999999995E-2},{"$f":"'National Shipments'!P69/'National Shipments'!P$70","v":2.0899999999999998E-2},{"$f":"'National Shipments'!Q69/'National Shipments'!Q$70","v":2.0899999999999998E-2},{"$f":"'National Shipments'!R69/'National Shipments'!R$70","v":2.0900000000000002E-2},{"$f":"'National Shipments'!S69/'National Shipments'!S$70","v":2.0900000000000002E-2},{"$f":"'National Shipments'!T69/'National Shipments'!T$70","v":2.0899999999999998E-2},{"$f":"'National Shipments'!U69/'National Shipments'!U$70","v":2.0899999999999995E-2},{"$f":"'National Shipments'!V69/'National Shipments'!V$70","v":2.0900000000000002E-2},{"$f":"'National Shipments'!W69/'National Shipments'!W$70","v":2.0900000000000002E-2},{"$f":"'National Shipments'!X69/'National Shipments'!X$70","v":2.0899999999999998E-2},{"$f":"'National Shipments'!Y69/'National Shipments'!Y$70","v":2.0899999999999998E-2},{"$f":"'National Shipments'!Z69/'National Shipments'!Z$70","v":2.0900000000000002E-2},{"$f":"'National Shipments'!AA69/'National Shipments'!AA$70","v":2.0899999999999998E-2},{"$f":"'National Shipments'!AB69/'National Shipments'!AB$70","v":2.0900000000000002E-2},{"$f":"'National Shipments'!AC69/'National Shipments'!AC$70","v":2.0899999999999998E-2},{"$f":"'National Shipments'!AD69/'National Shipments'!AD$70","v":2.0899999999999998E-2},{"$f":"'National Shipments'!AE69/'National Shipments'!AE$70","v":2.0899999999999998E-2}]
[null,null,null,"TOTAL",null,null,1,1,1,1,1,1,1,1,1,1,1,1,1,1,1,1,1,1,1,1,1,1,1,1,1,1,1,1,{"$f":"'National Shipments'!F70/'National Shipments'!F$70","v":1},{"$f":"'National Shipments'!G70/'National Shipments'!G$70","v":1},{"$f":"'National Shipments'!H70/'National Shipments'!H$70","v":1},{"$f":"'National Shipments'!I70/'National Shipments'!I$70","v":1},{"$f":"'National Shipments'!J70/'National Shipments'!J$70","v":1},{"$f":"'National Shipments'!K70/'National Shipments'!K$70","v":1},{"$f":"'National Shipments'!L70/'National Shipments'!L$70","v":1},{"$f":"'National Shipments'!M70/'National Shipments'!M$70","v":1},{"$f":"'National Shipments'!N70/'National Shipments'!N$70","v":1},{"$f":"'National Shipments'!O70/'National Shipments'!O$70","v":1},{"$f":"'National Shipments'!P70/'National Shipments'!P$70","v":1},{"$f":"'National Shipments'!Q70/'National Shipments'!Q$70","v":1},{"$f":"'National Shipments'!R70/'National Shipments'!R$70","v":1},{"$f":"'National Shipments'!S70/'National Shipments'!S$70","v":1},{"$f":"'National Shipments'!T70/'National Shipments'!T$70","v":1},{"$f":"'National Shipments'!U70/'National Shipments'!U$70","v":1},{"$f":"'National Shipments'!V70/'National Shipments'!V$70","v":1},{"$f":"'National Shipments'!W70/'National Shipments'!W$70","v":1},{"$f":"'National Shipments'!X70/'National Shipments'!X$70","v":1},{"$f":"'National Shipments'!Y70/'National Shipments'!Y$70","v":1},{"$f":"'National Shipments'!Z70/'National Shipments'!Z$70","v":1},{"$f":"'National Shipments'!AA70/'National Shipments'!AA$70","v":1},{"$f":"'National Shipments'!AB70/'National Shipments'!AB$70","v":1},{"$f":"'National Shipments'!AC70/'National Shipments'!AC$70","v":1},{"$f":"'National Shipments'!AD70/'National Shipments'!AD$70","v":1},{"$f":"'National Shipments'!AE70/'National Shipments'!AE$70","v":1}]
[]
[null,null,null,"POST-Case"]
[null,null,null,"Efficiency Level","CEER",null,1981,1982,1983,1984,1985,1986,1987,1988,1989,1990,1991,1992,1993,1994,1995,1996,1997,1998,1999,2000,2001,2002,2003,2004,2005,2006,2007,2008,2009,2010,2011,2012,2013,2014,2015,2016,2017,2018,2019,2020,2021,2022,2023,2024,2025,2026,2027,2028,2029,2030,2031,2032,2033,2034]
[null,null,null,{"$f":"D65","v":"EL0"},{"$f":"E65","v":8.4713534124895506},null,{"$f":"H74","v":0.1321},0.1321,0.1321,0.1321,0.1321,0.1321,0.1321,0.1321,0.1321,0.1321,0.1321,0.1321,0.1321,0.1321,0.1321,0.1321,0.1321,0.1321,0.1321,0.1321,0.1321,0.1321,0.1321,0.1321,0.1321,0.1321,0.1321,{"$f":"AI74","v":0.1321},{"$f":"'National Shipments'!F74/'National Shipments'!F$79","v":0.1321},{"$f":"'National Shipments'!G74/'National Shipments'!G$79","v":0.1321},{"$f":"'National Shipments'!H74/'National Shipments'!H$79","v":0.13209999999999997},{"$f":"'National Shipments'!I74/'National Shipments'!I$79","v":0.1321},{"$f":"'National Shipments'!J74/'National Shipments'!J$79","v":0.1321},{"$f":"'National Shipments'!K74/'National Shipments'!K$79","v":0},{"$f":"'National Shipments'!L74/'National Shipments'!L$79","v":0},{"$f":"'National Shipments'!M74/'National Shipments'!M$79","v":0},{"$f":"'National Shipments'!N74/'National Shipments'!N$79","v":0},{"$f":"'National Shipments'!O74/'National Shipments'!O$79","v":0},{"$f":"'National Shipments'!P74/'National Shipments'!P$79","v":0},{"$f":"'National Shipments'!Q74/'National Shipments'!Q$79","v":0},{"$f":"'National Shipments'!R74/'National Shipments'!R$79","v":0},{"$f":"'National Shipments'!S74/'National Shipments'!S$79","v":0},{"$f":"'National Shipments'!T74/'National Shipments'!T$79","v":0},{"$f":"'National Shipments'!U74/'National Shipments'!U$79","v":0},{"$f":"'National Shipments'!V74/'National Shipments'!V$79","v":0},{"$f":"'National Shipments'!W74/'National Shipments'!W$79","v":0},{"$f":"'National Shipments'!X74/'National Shipments'!X$79","v":0},{"$f":"'National Shipments'!Y74/'National Shipments'!Y$79","v":0},{"$f":"'National Shipments'!Z74/'National Shipments'!Z$79","v":0},{"$f":"'National Shipments'!AA74/'National Shipments'!AA$79","v":0},{"$f":"'National Shipments'!AB74/'National Shipments'!AB$79","v":0},{"$f":"'National Shipments'!AC74/'National Shipments'!AC$79","v":0},{"$f":"'National Shipments'!AD74/'National Shipments'!AD$79","v":0},{"$f":"'National Shipments'!AE74/'National Shipments'!AE$79","v":0}]
[null,null,null,{"$f":"D66","v":"EL1"},9,null,{"$f":"H75","v":1.5000000000000015E-2},1.5000000000000015E-2,1.5000000000000015E-2,1.5000000000000015E-2,1.5000000000000015E-2,1.5000000000000015E-2,1.5000000000000015E-2,1.5000000000000015E-2,1.5000000000000015E-2,1.5000000000000015E-2,1.5000000000000015E-2,1.5000000000000015E-2,1.5000000000000015E-2,1.5000000000000015E-2,1.5000000000000015E-2,1.5000000000000015E-2,1.5000000000000015E-2,1.5000000000000015E-2,1.5000000000000015E-2,1.5000000000000015E-2,1.5000000000000015E-2,1.5000000000000015E-2,1.5000000000000015E-2,1.5000000000000015E-2,1.5000000000000015E-2,1.5000000000000015E-2,1.5000000000000015E-2,1.5000000000000015E-2,{"$f":"'National Shipments'!F75/'National Shipments'!F$79","v":1.5000000000000015E-2},{"$f":"'National Shipments'!G75/'National Shipments'!G$79","v":1.5000000000000015E-2},{"$f":"'National Shipments'!H75/'National Shipments'!H$79","v":1.5000000000000008E-2},{"$f":"'National Shipments'!I75/'National Shipments'!I$79","v":1.5000000000000012E-2},{"$f":"'National Shipments'!J75/'National Shipments'!J$79","v":1.5000000000000017E-2},{"$f":"'National Shipments'!K75/'National Shipments'!K$79","v":0},{"$f":"'National Shipments'!L75/'National Shipments'!L$79","v":0},{"$f":"'National Shipments'!M75/'National Shipments'!M$79","v":0},{"$f":"'National Shipments'!N75/'National Shipments'!N$79","v":0},{"$f":"'National Shipments'!O75/'National Shipments'!O$79","v":0},{"$f":"'National Shipments'!P75/'National Shipments'!P$79","v":0},{"$f":"'National Shipments'!Q75/'National Shipments'!Q$79","v":0},{"$f":"'National Shipments'!R75/'National Shipments'!R$79","v":0},{"$f":"'National Shipments'!S75/'National Shipments'!S$79","v":0},{"$f":"'National Shipments'!T75/'National Shipments'!T$79","v":0},{"$f":"'National Shipments'!U75/'National Shipments'!U$79","v":0},{"$f":"'National Shipments'!V75/'National Shipments'!V$79","v":0},{"$f":"'National Shipments'!W75/'National Shipments'!W$79","v":0},{"$f":"'National Shipments'!X75/'National Shipments'!X$79","v":0},{"$f":"'National Shipments'!Y75/'National Shipments'!Y$79","v":0},{"$f":"'National Shipments'!Z75/'National Shipments'!Z$79","v":0},{"$f":"'National Shipments'!AA75/'National Shipments'!AA$79","v":0},{"$f":"'National Shipments'!AB75/'National Shipments'!AB$79","v":0},{"$f":"'National Shipments'!AC75/'National Shipments'!AC$79","v":0},{"$f":"'National Shipments'!AD75/'National Shipments'!AD$79","v":0},{"$f":"'National Shipments'!AE75/'National Shipments'!AE$79","v":0}]
[null,null,null,"EL2",9.4,null,{"$f":"H76","v":0.81259999999999999},0.81259999999999999,0.81259999999999999,0.81259999999999999,0.81259999999999999,0.81259999999999999,0.81259999999999999,0.81259999999999999,0.81259999999999999,0.81259999999999999,0.81259999999999999,0.81259999999999999,0.81259999999999999,0.81259999999999999,0.81259999999999999,0.81259999999999999,0.81259999999999999,0.81259999999999999,0.81259999999999999,0.81259999999999999,0.81259999999999999,0.81259999999999999,0.81259999999999999,0.81259999999999999,0.81259999999999999,0.81259999999999999,0.81259999999999999,0.81259999999999999,{"$f":"'National Shipments'!F76/'National Shipments'!F$79","v":0.81259999999999999},{"$f":"'National Shipments'!G76/'National Shipments'!G$79","v":0.8126000000000001},{"$f":"'National Shipments'!H76/'National Shipments'!H$79","v":0.81259999999999988},{"$f":"'National Shipments'!I76/'National Shipments'!I$79","v":0.81259999999999999},{"$f":"'National Shipments'!J76/'National Shipments'!J$79","v":0.81259999999999999},{"$f":"'National Shipments'!K76/'National Shipments'!K$79","v":0.9597},{"$f":"'National Shipments'!L76/'National Shipments'!L$79","v":0.8592815380890283},{"$f":"'National Shipments'!M76/'National Shipments'!M$79","v":0.84480699539873372},{"$f":"'National Shipments'!N76/'National Shipments'!N$79","v":0.83028676852591332},{"$f":"'National Shipments'!O76/'National Shipments'!O$79","v":0.81143147922307779},{"$f":"'National Shipments'!P76/'National Shipments'!P$79","v":0.79252905169699284},{"$f":"'National Shipments'!Q76/'National Shipments'!Q$79","v":0.75388290628169796},{"$f":"'National Shipments'!R76/'National Shipments'!R$79","v":0.69491321346906598},{"$f":"'National Shipments'!S76/'National Shipments'!S$79","v":0.63579609642439072},{"$f":"'National Shipments'!T76/'National Shipments'!T$79","v":0.57653118658711078},{"$f":"'National Shipments'!U76/'National Shipments'!U$79","v":0.51711811447523526},{"$f":"'National Shipments'!V76/'National Shipments'!V$79","v":0.45755650968307982},{"$f":"'National Shipments'!W76/'National Shipments'!W$79","v":0.39784600087894584},{"$f":"'National Shipments'!X76/'National Shipments'!X$79","v":0.33798621580280197},{"$f":"'National Shipments'!Y76/'National Shipments'!Y$79","v":0.27797678126396513},{"$f":"'National Shipments'!Z76/'National Shipments'!Z$79","v":0.21781732313878388},{"$f":"'National Shipments'!AA76/'National Shipments'!AA$79","v":0.15750746636828597},{"$f":"'National Shipments'!AB76/'National Shipments'!AB$79","v":9.7046834955869923E-2},{"$f":"'National Shipments'!AC76/'National Shipments'!AC$79","v":3.6435051964912903E-2},{"$f":"'National Shipments'!AD76/'National Shipments'!AD$79","v":1.0926169256281967E-2},{"$f":"'National Shipments'!AE76/'National Shipments'!AE$79","v":1.3053151139556188E-4}]
[null,null,null,"EL3",9.8000000000000007,null,{"$f":"H77","v":1.9400000000000004E-2},1.9400000000000004E-2,1.9400000000000004E-2,1.9400000000000004E-2,1.9400000000000004E-2,1.9400000000000004E-2,1.9400000000000004E-2,1.9400000000000004E-2,1.9400000000000004E-2,1.9400000000000004E-2,1.9400000000000004E-2,1.9400000000000004E-2,1.9400000000000004E-2,1.9400000000000004E-2,1.9400000000000004E-2,1.9400000000000004E-2,1.9400000000000004E-2,1.9400000000000004E-2,1.9400000000000004E-2,1.9400000000000004E-2,1.9400000000000004E-2,1.9400000000000004E-2,1.9400000000000004E-2,1.9400000000000004E-2,1.9400000000000004E-2,1.9400000000000004E-2,1.9400000000000004E-2,1.9400000000000004E-2,{"$f":"'National Shipments'!F77/'National Shipments'!F$79","v":1.9400000000000004E-2},{"$f":"'National Shipments'!G77/'National Shipments'!G$79","v":1.9400000000000008E-2},{"$f":"'National Shipments'!H77/'National Shipments'!H$79","v":1.9400000000000001E-2},{"$f":"'National Shipments'!I77/'National Shipments'!I$79","v":1.9400000000000004E-2},{"$f":"'National Shipments'!J77/'National Shipments'!J$79","v":1.9400000000000008E-2},{"$f":"'National Shipments'!K77/'National Shipments'!K$79","v":1.9400000000000001E-2},{"$f":"'National Shipments'!L77/'National Shipments'!L$79","v":0.11981846191097166},{"$f":"'National Shipments'!M77/'National Shipments'!M$79","v":0.13429300460126625},{"$f":"'National Shipments'!N77/'National Shipments'!N$79","v":0.14881323147408676},{"$f":"'National Shipments'!O77/'National Shipments'!O$79","v":0.1676685207769221},{"$f":"'National Shipments'!P77/'National Shipments'!P$79","v":0.18657094830300713},{"$f":"'National Shipments'!Q77/'National Shipments'!Q$79","v":0.22521709371830201},{"$f":"'National Shipments'!R77/'National Shipments'!R$79","v":0.28418678653093404},{"$f":"'National Shipments'!S77/'National Shipments'!S$79","v":0.34330390357560936},{"$f":"'National Shipments'!T77/'National Shipments'!T$79","v":0.40256881341288919},{"$f":"'National Shipments'!U77/'National Shipments'!U$79","v":0.46198188552476477},{"$f":"'National Shipments'!V77/'National Shipments'!V$79","v":0.52154349031692027},{"$f":"'National Shipments'!W77/'National Shipments'!W$79","v":0.58125399912105413},{"$f":"'National Shipments'!X77/'National Shipments'!X$79","v":0.641113784197198},{"$f":"'National Shipments'!Y77/'National Shipments'!Y$79","v":0.701123218736035},{"$f":"'National Shipments'!Z77/'National Shipments'!Z$79","v":0.7612826768612162},{"$f":"'National Shipments'!AA77/'National Shipments'!AA$79","v":0.82159253363171414},{"$f":"'National Shipments'!AB77/'National Shipments'!AB$79","v":0.88205316504413012},{"$f":"'National Shipments'!AC77/'National Shipments'!AC$79","v":0.94266494803508705},{"$f":"'National Shipments'!AD77/'National Shipments'!AD$79","v":0.96817383074371799},{"$f":"'National Shipments'!AE77/'National Shipments'!AE$79","v":0.97896946848860444}]
[null,null,null,"EL4",10.154447630701553,null,{"$f":"H78","v":2.0900000000000002E-2},2.0900000000000002E-2,2.0900000000000002E-2,2.0900000000000002E-2,2.0900000000000002E-2,2.0900000000000002E-2,2.0900000000000002E-2,2.0900000000000002E-2,2.0900000000000002E-2,2.0900000000000002E-2,2.0900000000000002E-2,2.0900000000000002E-2,2.0900000000000002E-2,2.0900000000000002E-2,2.0900000000000002E-2,2.0900000000000002E-2,2.0900000000000002E-2,2.0900000000000002E-2,2.0900000000000002E-2,2.0900000000000002E-2,2.0900000000000002E-2,2.0900000000000002E-2,2.0900000000000002E-2,2.0900000000000002E-2,2.0900000000000002E-2,2.0900000000000002E-2,2.0900000000000002E-2,2.0900000000000002E-2,{"$f":"'National Shipments'!F78/'National Shipments'!F$79","v":2.0900000000000002E-2},{"$f":"'National Shipments'!G78/'National Shipments'!G$79","v":2.0899999999999998E-2},{"$f":"'National Shipments'!H78/'National Shipments'!H$79","v":2.0899999999999995E-2},{"$f":"'National Shipments'!I78/'National Shipments'!I$79","v":2.0899999999999998E-2},{"$f":"'National Shipments'!J78/'National Shipments'!J$79","v":2.0899999999999998E-2},{"$f":"'National Shipments'!K78/'National Shipments'!K$79","v":2.0899999999999995E-2},{"$f":"'National Shipments'!L78/'National Shipments'!L$79","v":2.0899999999999998E-2},{"$f":"'National Shipments'!M78/'National Shipments'!M$79","v":2.0900000000000002E-2},{"$f":"'National Shipments'!N78/'National Shipments'!N$79","v":2.0900000000000002E-2},{"$f":"'National Shipments'!O78/'National Shipments'!O$79","v":2.0899999999999998E-2},{"$f":"'National Shipments'!P78/'National Shipments'!P$79","v":2.0899999999999998E-2},{"$f":"'National Shipments'!Q78/'National Shipments'!Q$79","v":2.0899999999999998E-2},{"$f":"'National Shipments'!R78/'National Shipments'!R$79","v":2.0899999999999998E-2},{"$f":"'National Shipments'!S78/'National Shipments'!S$79","v":2.0899999999999998E-2},{"$f":"'National Shipments'!T78/'National Shipments'!T$79","v":2.0899999999999995E-2},{"$f":"'National Shipments'!U78/'National Shipments'!U$79","v":2.0899999999999998E-2},{"$f":"'National Shipments'!V78/'National Shipments'!V$79","v":2.0900000000000002E-2},{"$f":"'National Shipments'!W78/'National Shipments'!W$79","v":2.0899999999999998E-2},{"$f":"'National Shipments'!X78/'National Shipments'!X$79","v":2.0900000000000002E-2},{"$f":"'National Shipments'!Y78/'National Shipments'!Y$79","v":2.0900000000000002E-2},{"$f":"'National Shipments'!Z78/'National Shipments'!Z$79","v":2.0899999999999998E-2},{"$f":"'National Shipments'!AA78/'National Shipments'!AA$79","v":2.0900000000000002E-2},{"$f":"'National Shipments'!AB78/'National Shipments'!AB$79","v":2.0899999999999998E-2},{"$f":"'National Shipments'!AC78/'National Shipments'!AC$79","v":2.0899999999999998E-2},{"$f":"'National Shipments'!AD78/'National Shipments'!AD$79","v":2.0899999999999998E-2},{"$f":"'National Shipments'!AE78/'National Shipments'!AE$79","v":2.0900000000000002E-2}]
[null,null,null,"TOTAL",null,null,{"$f":"H79","v":1},1,1,1,1,1,1,1,1,1,1,1,1,1,1,1,1,1,1,1,1,1,1,1,1,1,1,1,{"$f":"'National Shipments'!F79/'National Shipments'!F$79","v":1},{"$f":"'National Shipments'!G79/'National Shipments'!G$79","v":1},{"$f":"'National Shipments'!H79/'National Shipments'!H$79","v":1},{"$f":"'National Shipments'!I79/'National Shipments'!I$79","v":1},{"$f":"'National Shipments'!J79/'National Shipments'!J$79","v":1},{"$f":"'National Shipments'!K79/'National Shipments'!K$79","v":1},{"$f":"'National Shipments'!L79/'National Shipments'!L$79","v":1},{"$f":"'National Shipments'!M79/'National Shipments'!M$79","v":1},{"$f":"'National Shipments'!N79/'National Shipments'!N$79","v":1},{"$f":"'National Shipments'!O79/'National Shipments'!O$79","v":1},{"$f":"'National Shipments'!P79/'National Shipments'!P$79","v":1},{"$f":"'National Shipments'!Q79/'National Shipments'!Q$79","v":1},{"$f":"'National Shipments'!R79/'National Shipments'!R$79","v":1},{"$f":"'National Shipments'!S79/'National Shipments'!S$79","v":1},{"$f":"'National Shipments'!T79/'National Shipments'!T$79","v":1},{"$f":"'National Shipments'!U79/'National Shipments'!U$79","v":1},{"$f":"'National Shipments'!V79/'National Shipments'!V$79","v":1},{"$f":"'National Shipments'!W79/'National Shipments'!W$79","v":1},{"$f":"'National Shipments'!X79/'National Shipments'!X$79","v":1},{"$f":"'National Shipments'!Y79/'National Shipments'!Y$79","v":1},{"$f":"'National Shipments'!Z79/'National Shipments'!Z$79","v":1},{"$f":"'National Shipments'!AA79/'National Shipments'!AA$79","v":1},{"$f":"'National Shipments'!AB79/'National Shipments'!AB$79","v":1},{"$f":"'National Shipments'!AC79/'National Shipments'!AC$79","v":1},{"$f":"'National Shipments'!AD79/'National Shipments'!AD$79","v":1},{"$f":"'National Shipments'!AE79/'National Shipments'!AE$79","v":1}]
[]
[null,null,null,"Sources","2011 DOE Residential Room Air Conditioners Direct Final Rule Government Regulatory Impact Model 'Product Shipments (CALC)' tab."]
[]
[]
[]
[null,null,null,"PC4  Without reverse cycle, with louvered sides, and 25,000 Btu/h or more"]
[]
[null,null,null,"PRE-Case"]
[null,null,null,"Efficiency Level","CEER",null,1981,1982,1983,1984,1985,1986,1987,1988,1989,1990,1991,1992,1993,1994,1995,1996,1997,1998,1999,2000,2001,2002,2003,2004,2005,2006,2007,2008,2009,2010,2011,2012,2013,2014,2015,2016,2017,2018,2019,2020,2021,2022,2023,2024,2025,2026,2027,2028,2029,2030,2031,2032,2033,2034]
[null,null,null,"EL0",{"$f":"INDEX(EFFICIENCY_LEVELS,RIGHT(D89,1)+1,MID($D$85,3,1))","v":8.4754339546823534},null,{"$f":"H89","v":0.12450000000000003},0.12450000000000003,0.12450000000000003,0.12450000000000003,0.12450000000000003,0.12450000000000003,0.12450000000000003,0.12450000000000003,0.12450000000000003,0.12450000000000003,0.12450000000000003,0.12450000000000003,0.12450000000000003,0.12450000000000003,0.12450000000000003,0.12450000000000003,0.12450000000000003,0.12450000000000003,0.12450000000000003,0.12450000000000003,0.12450000000000003,0.12450000000000003,0.12450000000000003,0.12450000000000003,0.12450000000000003,0.12450000000000003,0.12450000000000003,0.12450000000000003,{"$f":"'National Shipments'!F89/'National Shipments'!F$93","v":0.12450000000000003},{"$f":"'National Shipments'!G89/'National Shipments'!G$93","v":0.12450000000000007},{"$f":"'National Shipments'!H89/'National Shipments'!H$93","v":0.12450000000000006},{"$f":"'National Shipments'!I89/'National Shipments'!I$93","v":0.12450000000000006},{"$f":"'National Shipments'!J89/'National Shipments'!J$93","v":0.12450000000000006},{"$f":"'National Shipments'!K89/'National Shipments'!K$93","v":0.12450000000000003},{"$f":"'National Shipments'!L89/'National Shipments'!L$93","v":8.0314153228932539E-2},{"$f":"'National Shipments'!M89/'National Shipments'!M$93","v":3.6017841840936884E-2},{"$f":"'National Shipments'!N89/'National Shipments'!N$93","v":0},{"$f":"'National Shipments'!O89/'National Shipments'!O$93","v":0},{"$f":"'National Shipments'!P89/'National Shipments'!P$93","v":0},{"$f":"'National Shipments'!Q89/'National Shipments'!Q$93","v":0},{"$f":"'National Shipments'!R89/'National Shipments'!R$93","v":0},{"$f":"'National Shipments'!S89/'National Shipments'!S$93","v":0},{"$f":"'National Shipments'!T89/'National Shipments'!T$93","v":0},{"$f":"'National Shipments'!U89/'National Shipments'!U$93","v":0},{"$f":"'National Shipments'!V89/'National Shipments'!V$93","v":0},{"$f":"'National Shipments'!W89/'National Shipments'!W$93","v":0},{"$f":"'National Shipments'!X89/'National Shipments'!X$93","v":0},{"$f":"'National Shipments'!Y89/'National Shipments'!Y$93","v":0},{"$f":"'National Shipments'!Z89/'National Shipments'!Z$93","v":0},{"$f":"'National Shipments'!AA89/'National Shipments'!AA$93","v":0},{"$f":"'National Shipments'!AB89/'National Shipments'!AB$93","v":0},{"$f":"'National Shipments'!AC89/'National Shipments'!AC$93","v":0},{"$f":"'National Shipments'!AD89/'National Shipments'!AD$93","v":0},{"$f":"'National Shipments'!AE89/'National Shipments'!AE$93","v":0}]
[null,null,null,"EL1",{"$f":"INDEX(EFFICIENCY_LEVELS,RIGHT(D90,1)+1,MID($D$85,3,1))","v":9},null,{"$f":"H90","v":2.259999999999995E-2},2.259999999999995E-2,2.259999999999995E-2,2.259999999999995E-2,2.259999999999995E-2,2.259999999999995E-2,2.259999999999995E-2,2.259999999999995E-2,2.259999999999995E-2,2.259999999999995E-2,2.259999999999995E-2,2.259999999999995E-2,2.259999999999995E-2,2.259999999999995E-2,2.259999999999995E-2,2.259999999999995E-2,2.259999999999995E-2,2.259999999999995E-2,2.259999999999995E-2,2.259999999999995E-2,2.259999999999995E-2,2.259999999999995E-2,2.259999999999995E-2,2.259999999999995E-2,2.259999999999995E-2,2.259999999999995E-2,2.259999999999995E-2,2.259999999999995E-2,{"$f":"'National Shipments'!F90/'National Shipments'!F$93","v":2.259999999999995E-2},{"$f":"'National Shipments'!G90/'National Shipments'!G$93","v":2.2599999999999953E-2},{"$f":"'National Shipments'!H90/'National Shipments'!H$93","v":2.2599999999999953E-2},{"$f":"'National Shipments'!I90/'National Shipments'!I$93","v":2.2599999999999953E-2},{"$f":"'National Shipments'!J90/'National Shipments'!J$93","v":2.259999999999995E-2},{"$f":"'National Shipments'!K90/'National Shipments'!K$93","v":2.2599999999999953E-2},{"$f":"'National Shipments'!L90/'National Shipments'!L$93","v":6.678584677106747E-2},{"$f":"'National Shipments'!M90/'National Shipments'!M$93","v":0.11108215815906312},{"$f":"'National Shipments'!N90/'National Shipments'!N$93","v":0.13605170426132285},{"$f":"'National Shipments'!O90/'National Shipments'!O$93","v":7.7408583577803891E-2},{"$f":"'National Shipments'!P90/'National Shipments'!P$93","v":1.8618855092576297E-2},{"$f":"'National Shipments'!Q90/'National Shipments'!Q$93","v":0},{"$f":"'National Shipments'!R90/'National Shipments'!R$93","v":0},{"$f":"'National Shipments'!S90/'National Shipments'!S$93","v":0},{"$f":"'National Shipments'!T90/'National Shipments'!T$93","v":0},{"$f":"'National Shipments'!U90/'National Shipments'!U$93","v":0},{"$f":"'National Shipments'!V90/'National Shipments'!V$93","v":0},{"$f":"'National Shipments'!W90/'National Shipments'!W$93","v":0},{"$f":"'National Shipments'!X90/'National Shipments'!X$93","v":0},{"$f":"'National Shipments'!Y90/'National Shipments'!Y$93","v":0},{"$f":"'National Shipments'!Z90/'National Shipments'!Z$93","v":0},{"$f":"'National Shipments'!AA90/'National Shipments'!AA$93","v":0},{"$f":"'National Shipments'!AB90/'National Shipments'!AB$93","v":0},{"$f":"'National Shipments'!AC90/'National Shipments'!AC$93","v":0},{"$f":"'National Shipments'!AD90/'National Shipments'!AD$93","v":0},{"$f":"'National Shipments'!AE90/'National Shipments'!AE$93","v":0}]
[null,null,null,"EL2",{"$f":"INDEX(EFFICIENCY_LEVELS,RIGHT(D91,1)+1,MID($D$85,3,1))","v":9.4},null,{"$f":"H91","v":0.85289999999999999},0.85289999999999999,0.85289999999999999,0.85289999999999999,0.85289999999999999,0.85289999999999999,0.85289999999999999,0.85289999999999999,0.85289999999999999,0.85289999999999999,0.85289999999999999,0.85289999999999999,0.85289999999999999,0.85289999999999999,0.85289999999999999,0.85289999999999999,0.85289999999999999,0.85289999999999999,0.85289999999999999,0.85289999999999999,0.85289999999999999,0.85289999999999999,0.85289999999999999,0.85289999999999999,0.85289999999999999,0.85289999999999999,0.85289999999999999,0.85289999999999999,{"$f":"'National Shipments'!F91/'National Shipments'!F$93","v":0.85289999999999999},{"$f":"'National Shipments'!G91/'National Shipments'!G$93","v":0.85289999999999999},{"$f":"'National Shipments'!H91/'National Shipments'!H$93","v":0.85289999999999999},{"$f":"'National Shipments'!I91/'National Shipments'!I$93","v":0.8529000000000001},{"$f":"'National Shipments'!J91/'National Shipments'!J$93","v":0.85289999999999988},{"$f":"'National Shipments'!K91/'National Shipments'!K$93","v":0.85289999999999999},{"$f":"'National Shipments'!L91/'National Shipments'!L$93","v":0.85289999999999999},{"$f":"'National Shipments'!M91/'National Shipments'!M$93","v":0.85289999999999999},{"$f":"'National Shipments'!N91/'National Shipments'!N$93","v":0.86394829573867715},{"$f":"'National Shipments'!O91/'National Shipments'!O$93","v":0.92259141642219611},{"$f":"'National Shipments'!P91/'National Shipments'!P$93","v":0.98138114490742367},{"$f":"'National Shipments'!Q91/'National Shipments'!Q$93","v":0.95986483349336149},{"$f":"'National Shipments'!R91/'National Shipments'!R$93","v":0.90102588276059681},{"$f":"'National Shipments'!S91/'National Shipments'!S$93","v":0.8420398346510013},{"$f":"'National Shipments'!T91/'National Shipments'!T$93","v":0.7829063214211307},{"$f":"'National Shipments'!U91/'National Shipments'!U$93","v":0.72362497440818618},{"$f":"'National Shipments'!V91/'National Shipments'!V$93","v":0.66419542402770637},{"$f":"'National Shipments'!W91/'National Shipments'!W$93","v":0.6046172997712782},{"$f":"'National Shipments'!X91/'National Shipments'!X$93","v":0.54489023020420602},{"$f":"'National Shipments'!Y91/'National Shipments'!Y$93","v":0.48501384296321953},{"$f":"'National Shipments'!Z91/'National Shipments'!Z$93","v":0.4249877647541303},{"$f":"'National Shipments'!AA91/'National Shipments'!AA$93","v":0.36481162134951528},{"$f":"'National Shipments'!AB91/'National Shipments'!AB$93","v":0.30448503758638928},{"$f":"'National Shipments'!AC91/'National Shipments'!AC$93","v":0.2440076373638583},{"$f":"'National Shipments'!AD91/'National Shipments'!AD$93","v":0.18337904364077098},{"$f":"'National Shipments'!AE91/'National Shipments'!AE$93","v":0.12259887843337242}]
[null,null,null,"EL3",{"$f":"INDEX(EFFICIENCY_LEVELS,RIGHT(D92,1)+1,MID($D$85,3,1))","v":9.8000000000000007},null,{"$f":"H92","v":0},0,0,0,0,0,0,0,0,0,0,0,0,0,0,0,0,0,0,0,0,0,0,0,0,0,0,0,{"$f":"'National Shipments'!F92/'National Shipments'!F$93","v":0},{"$f":"'National Shipments'!G92/'National Shipments'!G$93","v":0},{"$f":"'National Shipments'!H92/'National Shipments'!H$93","v":0},{"$f":"'National Shipments'!I92/'National Shipments'!I$93","v":0},{"$f":"'National Shipments'!J92/'National Shipments'!J$93","v":0},{"$f":"'National Shipments'!K92/'National Shipments'!K$93","v":0},{"$f":"'National Shipments'!L92/'National Shipments'!L$93","v":0},{"$f":"'National Shipments'!M92/'National Shipments'!M$93","v":0},{"$f":"'National Shipments'!N92/'National Shipments'!N$93","v":0},{"$f":"'National Shipments'!O92/'National Shipments'!O$93","v":0},{"$f":"'National Shipments'!P92/'National Shipments'!P$93","v":0},{"$f":"'National Shipments'!Q92/'National Shipments'!Q$93","v":4.0135166506638488E-2},{"$f":"'National Shipments'!R92/'National Shipments'!R$93","v":9.8974117239403234E-2},{"$f":"'National Shipments'!S92/'National Shipments'!S$93","v":0.15796016534899865},{"$f":"'National Shipments'!T92/'National Shipments'!T$93","v":0.21709367857886921},{"$f":"'National Shipments'!U92/'National Shipments'!U$93","v":0.27637502559181376},{"$f":"'National Shipments'!V92/'National Shipments'!V$93","v":0.33580457597229363},{"$f":"'National Shipments'!W92/'National Shipments'!W$93","v":0.39538270022872185},{"$f":"'National Shipments'!X92/'National Shipments'!X$93","v":0.45510976979579393},{"$f":"'National Shipments'!Y92/'National Shipments'!Y$93","v":0.51498615703678041},{"$f":"'National Shipments'!Z92/'National Shipments'!Z$93","v":0.57501223524586964},{"$f":"'National Shipments'!AA92/'National Shipments'!AA$93","v":0.63518837865048483},{"$f":"'National Shipments'!AB92/'National Shipments'!AB$93","v":0.69551496241361066},{"$f":"'National Shipments'!AC92/'National Shipments'!AC$93","v":0.75599236263614167},{"$f":"'National Shipments'!AD92/'National Shipments'!AD$93","v":0.81662095635922904},{"$f":"'National Shipments'!AE92/'National Shipments'!AE$93","v":0.87740112156662753}]
[null,null,null,"TOTAL",null,null,{"$f":"H93","v":1},1,1,1,1,1,1,1,1,1,1,1,1,1,1,1,1,1,1,1,1,1,1,1,1,1,1,1,{"$f":"'National Shipments'!F93/'National Shipments'!F$93","v":1},{"$f":"'National Shipments'!G93/'National Shipments'!G$93","v":1},{"$f":"'National Shipments'!H93/'National Shipments'!H$93","v":1},{"$f":"'National Shipments'!I93/'National Shipments'!I$93","v":1},{"$f":"'National Shipments'!J93/'National Shipments'!J$93","v":1},{"$f":"'National Shipments'!K93/'National Shipments'!K$93","v":1},{"$f":"'National Shipments'!L93/'National Shipments'!L$93","v":1},{"$f":"'National Shipments'!M93/'National Shipments'!M$93","v":1},{"$f":"'National Shipments'!N93/'National Shipments'!N$93","v":1},{"$f":"'National Shipments'!O93/'National Shipments'!O$93","v":1},{"$f":"'National Shipments'!P93/'National Shipments'!P$93","v":1},{"$f":"'National Shipments'!Q93/'National Shipments'!Q$93","v":1},{"$f":"'National Shipments'!R93/'National Shipments'!R$93","v":1},{"$f":"'National Shipments'!S93/'National Shipments'!S$93","v":1},{"$f":"'National Shipments'!T93/'National Shipments'!T$93","v":1},{"$f":"'National Shipments'!U93/'National Shipments'!U$93","v":1},{"$f":"'National Shipments'!V93/'National Shipments'!V$93","v":1},{"$f":"'National Shipments'!W93/'National Shipments'!W$93","v":1},{"$f":"'National Shipments'!X93/'National Shipments'!X$93","v":1},{"$f":"'National Shipments'!Y93/'National Shipments'!Y$93","v":1},{"$f":"'National Shipments'!Z93/'National Shipments'!Z$93","v":1},{"$f":"'National Shipments'!AA93/'National Shipments'!AA$93","v":1},{"$f":"'National Shipments'!AB93/'National Shipments'!AB$93","v":1},{"$f":"'National Shipments'!AC93/'National Shipments'!AC$93","v":1},{"$f":"'National Shipments'!AD93/'National Shipments'!AD$93","v":1},{"$f":"'National Shipments'!AE93/'National Shipments'!AE$93","v":1}]
[]
[null,null,null,"POST-Case"]
[null,null,null,"Efficiency Level","CEER",null,1981,1982,1983,1984,1985,1986,1987,1988,1989,1990,1991,1992,1993,1994,1995,1996,1997,1998,1999,2000,2001,2002,2003,2004,2005,2006,2007,2008,2009,2010,2011,2012,2013,2014,2015,2016,2017,2018,2019,2020,2021,2022,2023,2024,2025,2026,2027,2028,2029,2030,2031,2032,2033,2034]
[null,null,null,{"$f":"D89","v":"EL0"},{"$f":"E89","v":8.4754339546823534},null,{"$f":"H97","v":0.12450000000000003},0.12450000000000003,0.12450000000000003,0.12450000000000003,0.12450000000000003,0.12450000000000003,0.12450000000000003,0.12450000000000003,0.12450000000000003,0.12450000000000003,0.12450000000000003,0.12450000000000003,0.12450000000000003,0.12450000000000003,0.12450000000000003,0.12450000000000003,0.12450000000000003,0.12450000000000003,0.12450000000000003,0.12450000000000003,0.12450000000000003,0.12450000000000003,0.12450000000000003,0.12450000000000003,0.12450000000000003,0.12450000000000003,0.12450000000000003,0.12450000000000003,{"$f":"'National Shipments'!F97/'National Shipments'!F$101","v":0.12450000000000003},{"$f":"'National Shipments'!G97/'National Shipments'!G$101","v":0.12450000000000007},{"$f":"'National Shipments'!H97/'National Shipments'!H$101","v":0.12450000000000006},{"$f":"'National Shipments'!I97/'National Shipments'!I$101","v":0.12450000000000006},{"$f":"'National Shipments'!J97/'National Shipments'!J$101","v":0.12450000000000006},{"$f":"'National Shipments'!K97/'National Shipments'!K$101","v":0},{"$f":"'National Shipments'!L97/'National Shipments'!L$101","v":0},{"$f":"'National Shipments'!M97/'National Shipments'!M$101","v":0},{"$f":"'National Shipments'!N97/'National Shipments'!N$101","v":0},{"$f":"'National Shipments'!O97/'National Shipments'!O$101","v":0},{"$f":"'National Shipments'!P97/'National Shipments'!P$101","v":0},{"$f":"'National Shipments'!Q97/'National Shipments'!Q$101","v":0},{"$f":"'National Shipments'!R97/'National Shipments'!R$101","v":0},{"$f":"'National Shipments'!S97/'National Shipments'!S$101","v":0},{"$f":"'National Shipments'!T97/'National Shipments'!T$101","v":0},{"$f":"'National Shipments'!U97/'National Shipments'!U$101","v":0},{"$f":"'National Shipments'!V97/'National Shipments'!V$101","v":0},{"$f":"'National Shipments'!W97/'National Shipments'!W$101","v":0},{"$f":"'National Shipments'!X97/'National Shipments'!X$101","v":0},{"$f":"'National Shipments'!Y97/'National Shipments'!Y$101","v":0},{"$f":"'National Shipments'!Z97/'National Shipments'!Z$101","v":0},{"$f":"'National Shipments'!AA97/'National Shipments'!AA$101","v":0},{"$f":"'National Shipments'!AB97/'National Shipments'!AB$101","v":0},{"$f":"'National Shipments'!AC97/'National Shipments'!AC$101","v":0},{"$f":"'National Shipments'!AD97/'National Shipments'!AD$101","v":0},{"$f":"'National Shipments'!AE97/'National Shipments'!AE$101","v":0}]
[null,null,null,{"$f":"D90","v":"EL1"},9,null,{"$f":"H98","v":2.259999999999995E-2},2.259999999999995E-2,2.259999999999995E-2,2.259999999999995E-2,2.259999999999995E-2,2.259999999999995E-2,2.259999999999995E-2,2.259999999999995E-2,2.259999999999995E-2,2.259999999999995E-2,2.259999999999995E-2,2.259999999999995E-2,2.259999999999995E-2,2.259999999999995E-2,2.259999999999995E-2,2.259999999999995E-2,2.259999999999995E-2,2.259999999999995E-2,2.259999999999995E-2,2.259999999999995E-2,2.259999999999995E-2,2.259999999999995E-2,2.259999999999995E-2,2.259999999999995E-2,2.259999999999995E-2,2.259999999999995E-2,2.259999999999995E-2,2.259999999999995E-2,{"$f":"'National Shipments'!F98/'National Shipments'!F$101","v":2.259999999999995E-2},{"$f":"'National Shipments'!G98/'National Shipments'!G$101","v":2.2599999999999953E-2},{"$f":"'National Shipments'!H98/'National Shipments'!H$101","v":2.2599999999999953E-2},{"$f":"'National Shipments'!I98/'National Shipments'!I$101","v":2.2599999999999953E-2},{"$f":"'National Shipments'!J98/'National Shipments'!J$101","v":2.259999999999995E-2},{"$f":"'National Shipments'!K98/'National Shipments'!K$101","v":0.14710000000000004},{"$f":"'National Shipments'!L98/'National Shipments'!L$101","v":0.12033104364625551},{"$f":"'National Shipments'!M98/'National Shipments'!M$101","v":9.3495164901624808E-2},{"$f":"'National Shipments'!N98/'National Shipments'!N$101","v":6.0626298255999224E-2},{"$f":"'National Shipments'!O98/'National Shipments'!O$101","v":1.9831775724802555E-3},{"$f":"'National Shipments'!P98/'National Shipments'!P$101","v":0},{"$f":"'National Shipments'!Q98/'National Shipments'!Q$101","v":0},{"$f":"'National Shipments'!R98/'National Shipments'!R$101","v":0},{"$f":"'National Shipments'!S98/'National Shipments'!S$101","v":0},{"$f":"'National Shipments'!T98/'National Shipments'!T$101","v":0},{"$f":"'National Shipments'!U98/'National Shipments'!U$101","v":0},{"$f":"'National Shipments'!V98/'National Shipments'!V$101","v":0},{"$f":"'National Shipments'!W98/'National Shipments'!W$101","v":0},{"$f":"'National Shipments'!X98/'National Shipments'!X$101","v":0},{"$f":"'National Shipments'!Y98/'National Shipments'!Y$101","v":0},{"$f":"'National Shipments'!Z98/'National Shipments'!Z$101","v":0},{"$f":"'National Shipments'!AA98/'National Shipments'!AA$101","v":0},{"$f":"'National Shipments'!AB98/'National Shipments'!AB$101","v":0},{"$f":"'National Shipments'!AC98/'National Shipments'!AC$101","v":0},{"$f":"'National Shipments'!AD98/'National Shipments'!AD$101","v":0},{"$f":"'National Shipments'!AE98/'National Shipments'!AE$101","v":0}]
[null,null,null,"EL2",9.4,null,{"$f":"H99","v":0.85289999999999999},0.85289999999999999,0.85289999999999999,0.85289999999999999,0.85289999999999999,0.85289999999999999,0.85289999999999999,0.85289999999999999,0.85289999999999999,0.85289999999999999,0.85289999999999999,0.85289999999999999,0.85289999999999999,0.85289999999999999,0.85289999999999999,0.85289999999999999,0.85289999999999999,0.85289999999999999,0.85289999999999999,0.85289999999999999,0.85289999999999999,0.85289999999999999,0.85289999999999999,0.85289999999999999,0.85289999999999999,0.85289999999999999,0.85289999999999999,0.85289999999999999,{"$f":"'National Shipments'!F99/'National Shipments'!F$101","v":0.85289999999999999},{"$f":"'National Shipments'!G99/'National Shipments'!G$101","v":0.85289999999999999},{"$f":"'National Shipments'!H99/'National Shipments'!H$101","v":0.85289999999999999},{"$f":"'National Shipments'!I99/'National Shipments'!I$101","v":0.8529000000000001},{"$f":"'National Shipments'!J99/'National Shipments'!J$101","v":0.85289999999999988},{"$f":"'National Shipments'!K99/'National Shipments'!K$101","v":0.85289999999999999},{"$f":"'National Shipments'!L99/'National Shipments'!L$101","v":0.87966895635374442},{"$f":"'National Shipments'!M99/'National Shipments'!M$101","v":0.90650483509837521},{"$f":"'National Shipments'!N99/'National Shipments'!N$101","v":0.9393737017440007},{"$f":"'National Shipments'!O99/'National Shipments'!O$101","v":0.99801682242751966},{"$f":"'National Shipments'!P99/'National Shipments'!P$101","v":0.99143629673375233},{"$f":"'National Shipments'!Q99/'National Shipments'!Q$101","v":0.94849430058069562},{"$f":"'National Shipments'!R99/'National Shipments'!R$101","v":0.88965534984793082},{"$f":"'National Shipments'!S99/'National Shipments'!S$101","v":0.83066930173833542},{"$f":"'National Shipments'!T99/'National Shipments'!T$101","v":0.77153578850846538},{"$f":"'National Shipments'!U99/'National Shipments'!U$101","v":0.71225444149552086},{"$f":"'National Shipments'!V99/'National Shipments'!V$101","v":0.65282489111504105},{"$f":"'National Shipments'!W99/'National Shipments'!W$101","v":0.59324676685861299},{"$f":"'National Shipments'!X99/'National Shipments'!X$101","v":0.5335196972915407},{"$f":"'National Shipments'!Y99/'National Shipments'!Y$101","v":0.47364331005055416},{"$f":"'National Shipments'!Z99/'National Shipments'!Z$101","v":0.41361723184146443},{"$f":"'National Shipments'!AA99/'National Shipments'!AA$101","v":0.35344108843684929},{"$f":"'National Shipments'!AB99/'National Shipments'!AB$101","v":0.29311450467372396},{"$f":"'National Shipments'!AC99/'National Shipments'!AC$101","v":0.23263710445119246},{"$f":"'National Shipments'!AD99/'National Shipments'!AD$101","v":0.17200851072810514},{"$f":"'National Shipments'!AE99/'National Shipments'!AE$101","v":0.11122834552070653}]
[null,null,null,"EL3",9.8000000000000007,null,{"$f":"H100","v":0},0,0,0,0,0,0,0,0,0,0,0,0,0,0,0,0,0,0,0,0,0,0,0,0,0,0,0,{"$f":"'National Shipments'!F100/'National Shipments'!F$101","v":0},{"$f":"'National Shipments'!G100/'National Shipments'!G$101","v":0},{"$f":"'National Shipments'!H100/'National Shipments'!H$101","v":0},{"$f":"'National Shipments'!I100/'National Shipments'!I$101","v":0},{"$f":"'National Shipments'!J100/'National Shipments'!J$101","v":0},{"$f":"'National Shipments'!K100/'National Shipments'!K$101","v":0},{"$f":"'National Shipments'!L100/'National Shipments'!L$101","v":0},{"$f":"'National Shipments'!M100/'National Shipments'!M$101","v":0},{"$f":"'National Shipments'!N100/'National Shipments'!N$101","v":0},{"$f":"'National Shipments'!O100/'National Shipments'!O$101","v":0},{"$f":"'National Shipments'!P100/'National Shipments'!P$101","v":8.5637032662476461E-3},{"$f":"'National Shipments'!Q100/'National Shipments'!Q$101","v":5.150569941930435E-2},{"$f":"'National Shipments'!R100/'National Shipments'!R$101","v":0.1103446501520691},{"$f":"'National Shipments'!S100/'National Shipments'!S$101","v":0.1693306982616645},{"$f":"'National Shipments'!T100/'National Shipments'!T$101","v":0.22846421149153456},{"$f":"'National Shipments'!U100/'National Shipments'!U$101","v":0.28774555850447914},{"$f":"'National Shipments'!V100/'National Shipments'!V$101","v":0.34717510888495895},{"$f":"'National Shipments'!W100/'National Shipments'!W$101","v":0.40675323314138712},{"$f":"'National Shipments'!X100/'National Shipments'!X$101","v":0.46648030270845936},{"$f":"'National Shipments'!Y100/'National Shipments'!Y$101","v":0.52635668994944584},{"$f":"'National Shipments'!Z100/'National Shipments'!Z$101","v":0.58638276815853552},{"$f":"'National Shipments'!AA100/'National Shipments'!AA$101","v":0.64655891156315071},{"$f":"'National Shipments'!AB100/'National Shipments'!AB$101","v":0.70688549532627598},{"$f":"'National Shipments'!AC100/'National Shipments'!AC$101","v":0.76736289554880754},{"$f":"'National Shipments'!AD100/'National Shipments'!AD$101","v":0.82799148927189481},{"$f":"'National Shipments'!AE100/'National Shipments'!AE$101","v":0.8887716544792934}]
[null,null,null,"TOTAL",null,null,{"$f":"H101","v":1},1,1,1,1,1,1,1,1,1,1,1,1,1,1,1,1,1,1,1,1,1,1,1,1,1,1,1,{"$f":"'National Shipments'!F101/'National Shipments'!F$101","v":1},{"$f":"'National Shipments'!G101/'National Shipments'!G$101","v":1},{"$f":"'National Shipments'!H101/'National Shipments'!H$101","v":1},{"$f":"'National Shipments'!I101/'National Shipments'!I$101","v":1},{"$f":"'National Shipments'!J101/'National Shipments'!J$101","v":1},{"$f":"'National Shipments'!K101/'National Shipments'!K$101","v":1},{"$f":"'National Shipments'!L101/'National Shipments'!L$101","v":1},{"$f":"'National Shipments'!M101/'National Shipments'!M$101","v":1},{"$f":"'National Shipments'!N101/'National Shipments'!N$101","v":1},{"$f":"'National Shipments'!O101/'National Shipments'!O$101","v":1},{"$f":"'National Shipments'!P101/'National Shipments'!P$101","v":1},{"$f":"'National Shipments'!Q101/'National Shipments'!Q$101","v":1},{"$f":"'National Shipments'!R101/'National Shipments'!R$101","v":1},{"$f":"'National Shipments'!S101/'National Shipments'!S$101","v":1},{"$f":"'National Shipments'!T101/'National Shipments'!T$101","v":1},{"$f":"'National Shipments'!U101/'National Shipments'!U$101","v":1},{"$f":"'National Shipments'!V101/'National Shipments'!V$101","v":1},{"$f":"'National Shipments'!W101/'National Shipments'!W$101","v":1},{"$f":"'National Shipments'!X101/'National Shipments'!X$101","v":1},{"$f":"'National Shipments'!Y101/'National Shipments'!Y$101","v":1},{"$f":"'National Shipments'!Z101/'National Shipments'!Z$101","v":1},{"$f":"'National Shipments'!AA101/'National Shipments'!AA$101","v":1},{"$f":"'National Shipments'!AB101/'National Shipments'!AB$101","v":1},{"$f":"'National Shipments'!AC101/'National Shipments'!AC$101","v":1},{"$f":"'National Shipments'!AD101/'National Shipments'!AD$101","v":1},{"$f":"'National Shipments'!AE101/'National Shipments'!AE$101","v":1}]
[]
[null,null,null,"Sources","2011 DOE Residential Room Air Conditioners Direct Final Rule Government Regulatory Impact Model 'Product Shipments (CALC)' tab."]
[]
[]
[]
[null,null,null,"PC5  Without reverse cycle, without louvered sides, and 8,000 to 10,999 Btu/h"]
[]
[null,null,null,"PRE-Case"]
[null,null,null,"Efficiency Level","CEER",null,1981,1982,1983,1984,1985,1986,1987,1988,1989,1990,1991,1992,1993,1994,1995,1996,1997,1998,1999,2000,2001,2002,2003,2004,2005,2006,2007,2008,2009,2010,2011,2012,2013,2014,2015,2016,2017,2018,2019,2020,2021,2022,2023,2024,2025,2026,2027,2028,2029,2030,2031,2032,2033,2034]
[null,null,null,"EL0",{"$f":"INDEX(EFFICIENCY_LEVELS,RIGHT(D111,1)+1,MID($D$107,3,1))","v":8.4146356252408392},null,{"$f":"H111","v":0.1009},0.1009,0.1009,0.1009,0.1009,0.1009,0.1009,0.1009,0.1009,0.1009,0.1009,0.1009,0.1009,0.1009,0.1009,0.1009,0.1009,0.1009,0.1009,0.1009,0.1009,0.1009,0.1009,0.1009,0.1009,0.1009,0.1009,{"$f":"AI111","v":0.1009},{"$f":"'National Shipments'!F111/'National Shipments'!F$116","v":0.1009},{"$f":"'National Shipments'!G111/'National Shipments'!G$116","v":0.1009},{"$f":"'National Shipments'!H111/'National Shipments'!H$116","v":0.10089999999999999},{"$f":"'National Shipments'!I111/'National Shipments'!I$116","v":0.10089999999999999},{"$f":"'National Shipments'!J111/'National Shipments'!J$116","v":0.1009},{"$f":"'National Shipments'!K111/'National Shipments'!K$116","v":0.10089999999999998},{"$f":"'National Shipments'!L111/'National Shipments'!L$116","v":7.4595727365415115E-2},{"$f":"'National Shipments'!M111/'National Shipments'!M$116","v":4.8225694049244809E-2},{"$f":"'National Shipments'!N111/'National Shipments'!N$116","v":2.1789735649783759E-2},{"$f":"'National Shipments'!O111/'National Shipments'!O$116","v":0},{"$f":"'National Shipments'!P111/'National Shipments'!P$116","v":0},{"$f":"'National Shipments'!Q111/'National Shipments'!Q$116","v":0},{"$f":"'National Shipments'!R111/'National Shipments'!R$116","v":0},{"$f":"'National Shipments'!S111/'National Shipments'!S$116","v":0},{"$f":"'National Shipments'!T111/'National Shipments'!T$116","v":0},{"$f":"'National Shipments'!U111/'National Shipments'!U$116","v":0},{"$f":"'National Shipments'!V111/'National Shipments'!V$116","v":0},{"$f":"'National Shipments'!W111/'National Shipments'!W$116","v":0},{"$f":"'National Shipments'!X111/'National Shipments'!X$116","v":0},{"$f":"'National Shipments'!Y111/'National Shipments'!Y$116","v":0},{"$f":"'National Shipments'!Z111/'National Shipments'!Z$116","v":0},{"$f":"'National Shipments'!AA111/'National Shipments'!AA$116","v":0},{"$f":"'National Shipments'!AB111/'National Shipments'!AB$116","v":0},{"$f":"'National Shipments'!AC111/'National Shipments'!AC$116","v":0},{"$f":"'National Shipments'!AD111/'National Shipments'!AD$116","v":0},{"$f":"'National Shipments'!AE111/'National Shipments'!AE$116","v":0}]
[null,null,null,"EL1",{"$f":"INDEX(EFFICIENCY_LEVELS,RIGHT(D112,1)+1,MID($D$107,3,1))","v":9.3000000000000007},null,0.64750000000000008,0.64750000000000008,0.64750000000000008,0.64750000000000008,0.64750000000000008,0.64750000000000008,0.64750000000000008,0.64750000000000008,0.64750000000000008,0.64750000000000008,0.64750000000000008,0.64750000000000008,0.64750000000000008,0.64750000000000008,0.64750000000000008,0.64750000000000008,0.64750000000000008,0.64750000000000008,0.64750000000000008,0.64750000000000008,0.64750000000000008,0.64750000000000008,0.64750000000000008,0.64750000000000008,0.64750000000000008,0.64750000000000008,0.64750000000000008,{"$f":"AI112","v":0.64750000000000008},{"$f":"'National Shipments'!F112/'National Shipments'!F$116","v":0.64750000000000008},{"$f":"'National Shipments'!G112/'National Shipments'!G$116","v":0.64750000000000008},{"$f":"'National Shipments'!H112/'National Shipments'!H$116","v":0.64749999999999996},{"$f":"'National Shipments'!I112/'National Shipments'!I$116","v":0.64749999999999996},{"$f":"'National Shipments'!J112/'National Shipments'!J$116","v":0.64749999999999996},{"$f":"'National Shipments'!K112/'National Shipments'!K$116","v":0.64749999999999996},{"$f":"'National Shipments'!L112/'National Shipments'!L$116","v":0.67380427263458487},{"$f":"'National Shipments'!M112/'National Shipments'!M$116","v":0.70017430595075514},{"$f":"'National Shipments'!N112/'National Shipments'!N$116","v":0.72661026435021625},{"$f":"'National Shipments'!O112/'National Shipments'!O$116","v":0.73449295420263738},{"$f":"'National Shipments'!P112/'National Shipments'!P$116","v":0.65608418972765559},{"$f":"'National Shipments'!Q112/'National Shipments'!Q$116","v":0.57747940334148529},{"$f":"'National Shipments'!R112/'National Shipments'!R$116","v":0.49867810498935},{"$f":"'National Shipments'!S112/'National Shipments'!S$116","v":0.41967980339133826},{"$f":"'National Shipments'!T112/'National Shipments'!T$116","v":0.34048400603932977},{"$f":"'National Shipments'!U112/'National Shipments'!U$116","v":0.26109021919394043},{"$f":"'National Shipments'!V112/'National Shipments'!V$116","v":0.18149794788143714},{"$f":"'National Shipments'!W112/'National Shipments'!W$116","v":0.10170669589065286},{"$f":"'National Shipments'!X112/'National Shipments'!X$116","v":2.17159657698901E-2},{"$f":"'National Shipments'!Y112/'National Shipments'!Y$116","v":0},{"$f":"'National Shipments'!Z112/'National Shipments'!Z$116","v":0},{"$f":"'National Shipments'!AA112/'National Shipments'!AA$116","v":0},{"$f":"'National Shipments'!AB112/'National Shipments'!AB$116","v":0},{"$f":"'National Shipments'!AC112/'National Shipments'!AC$116","v":0},{"$f":"'National Shipments'!AD112/'National Shipments'!AD$116","v":0},{"$f":"'National Shipments'!AE112/'National Shipments'!AE$116","v":0}]
[null,null,null,"EL2",{"$f":"INDEX(EFFICIENCY_LEVELS,RIGHT(D113,1)+1,MID($D$107,3,1))","v":9.6},null,0.1953,0.1953,0.1953,0.1953,0.1953,0.1953,0.1953,0.1953,0.1953,0.1953,0.1953,0.1953,0.1953,0.1953,0.1953,0.1953,0.1953,0.1953,0.1953,0.1953,0.1953,0.1953,0.1953,0.1953,0.1953,0.1953,0.1953,0.1953,{"$f":"'National Shipments'!F113/'National Shipments'!F$116","v":0.1953},{"$f":"'National Shipments'!G113/'National Shipments'!G$116","v":0.1953},{"$f":"'National Shipments'!H113/'National Shipments'!H$116","v":0.19529999999999997},{"$f":"'National Shipments'!I113/'National Shipments'!I$116","v":0.19529999999999997},{"$f":"'National Shipments'!J113/'National Shipments'!J$116","v":0.1953},{"$f":"'National Shipments'!K113/'National Shipments'!K$116","v":0.19529999999999995},{"$f":"'National Shipments'!L113/'National Shipments'!L$116","v":0.19529999999999997},{"$f":"'National Shipments'!M113/'National Shipments'!M$116","v":0.19529999999999997},{"$f":"'National Shipments'!N113/'National Shipments'!N$116","v":0.19529999999999997},{"$f":"'National Shipments'!O113/'National Shipments'!O$116","v":0.20920704579736271},{"$f":"'National Shipments'!P113/'National Shipments'!P$116","v":0.28761581027234423},{"$f":"'National Shipments'!Q113/'National Shipments'!Q$116","v":0.3662205966585147},{"$f":"'National Shipments'!R113/'National Shipments'!R$116","v":0.44502189501064998},{"$f":"'National Shipments'!S113/'National Shipments'!S$116","v":0.52402019660866184},{"$f":"'National Shipments'!T113/'National Shipments'!T$116","v":0.60321599396067027},{"$f":"'National Shipments'!U113/'National Shipments'!U$116","v":0.68260978080605961},{"$f":"'National Shipments'!V113/'National Shipments'!V$116","v":0.76220205211856284},{"$f":"'National Shipments'!W113/'National Shipments'!W$116","v":0.84199330410934714},{"$f":"'National Shipments'!X113/'National Shipments'!X$116","v":0.92198403423010988},{"$f":"'National Shipments'!Y113/'National Shipments'!Y$116","v":0.89984394411787449},{"$f":"'National Shipments'!Z113/'National Shipments'!Z$116","v":0.83955055633280151},{"$f":"'National Shipments'!AA113/'National Shipments'!AA$116","v":0.77910643507826671},{"$f":"'National Shipments'!AB113/'National Shipments'!AB$116","v":0.71851120352059494},{"$f":"'National Shipments'!AC113/'National Shipments'!AC$116","v":0.65776448388402864},{"$f":"'National Shipments'!AD113/'National Shipments'!AD$116","v":0.59686589744837504},{"$f":"'National Shipments'!AE113/'National Shipments'!AE$116","v":0.53581506454662953}]
[null,null,null,"EL3",{"$f":"INDEX(EFFICIENCY_LEVELS,RIGHT(D114,1)+1,MID($D$107,3,1))","v":10},null,3.6900000000000002E-2,3.6900000000000002E-2,3.6900000000000002E-2,3.6900000000000002E-2,3.6900000000000002E-2,3.6900000000000002E-2,3.6900000000000002E-2,3.6900000000000002E-2,3.6900000000000002E-2,3.6900000000000002E-2,3.6900000000000002E-2,3.6900000000000002E-2,3.6900000000000002E-2,3.6900000000000002E-2,3.6900000000000002E-2,3.6900000000000002E-2,3.6900000000000002E-2,3.6900000000000002E-2,3.6900000000000002E-2,3.6900000000000002E-2,3.6900000000000002E-2,3.6900000000000002E-2,3.6900000000000002E-2,3.6900000000000002E-2,3.6900000000000002E-2,3.6900000000000002E-2,3.6900000000000002E-2,3.6900000000000002E-2,{"$f":"'National Shipments'!F114/'National Shipments'!F$116","v":3.6900000000000002E-2},{"$f":"'National Shipments'!G114/'National Shipments'!G$116","v":3.6900000000000009E-2},{"$f":"'National Shipments'!H114/'National Shipments'!H$116","v":3.6899999999999995E-2},{"$f":"'National Shipments'!I114/'National Shipments'!I$116","v":3.6900000000000002E-2},{"$f":"'National Shipments'!J114/'National Shipments'!J$116","v":3.6900000000000002E-2},{"$f":"'National Shipments'!K114/'National Shipments'!K$116","v":3.6900000000000002E-2},{"$f":"'National Shipments'!L114/'National Shipments'!L$116","v":3.6900000000000002E-2},{"$f":"'National Shipments'!M114/'National Shipments'!M$116","v":3.6900000000000002E-2},{"$f":"'National Shipments'!N114/'National Shipments'!N$116","v":3.6900000000000009E-2},{"$f":"'National Shipments'!O114/'National Shipments'!O$116","v":3.6900000000000002E-2},{"$f":"'National Shipments'!P114/'National Shipments'!P$116","v":3.6900000000000002E-2},{"$f":"'National Shipments'!Q114/'National Shipments'!Q$116","v":3.6899999999999995E-2},{"$f":"'National Shipments'!R114/'National Shipments'!R$116","v":3.6900000000000002E-2},{"$f":"'National Shipments'!S114/'National Shipments'!S$116","v":3.6900000000000009E-2},{"$f":"'National Shipments'!T114/'National Shipments'!T$116","v":3.6900000000000002E-2},{"$f":"'National Shipments'!U114/'National Shipments'!U$116","v":3.6900000000000002E-2},{"$f":"'National Shipments'!V114/'National Shipments'!V$116","v":3.6899999999999995E-2},{"$f":"'National Shipments'!W114/'National Shipments'!W$116","v":3.6900000000000009E-2},{"$f":"'National Shipments'!X114/'National Shipments'!X$116","v":3.6900000000000009E-2},{"$f":"'National Shipments'!Y114/'National Shipments'!Y$116","v":8.0756055882125519E-2},{"$f":"'National Shipments'!Z114/'National Shipments'!Z$116","v":0.14104944366719852},{"$f":"'National Shipments'!AA114/'National Shipments'!AA$116","v":0.20149356492173334},{"$f":"'National Shipments'!AB114/'National Shipments'!AB$116","v":0.26208879647940508},{"$f":"'National Shipments'!AC114/'National Shipments'!AC$116","v":0.32283551611597144},{"$f":"'National Shipments'!AD114/'National Shipments'!AD$116","v":0.38373410255162499},{"$f":"'National Shipments'!AE114/'National Shipments'!AE$116","v":0.4447849354533705}]
[null,null,null,"EL4",{"$f":"INDEX(EFFICIENCY_LEVELS,RIGHT(D115,1)+1,MID($D$107,3,1))","v":10.354619755605318},null,1.9400000000000001E-2,1.9400000000000001E-2,1.9400000000000001E-2,1.9400000000000001E-2,1.9400000000000001E-2,1.9400000000000001E-2,1.9400000000000001E-2,1.9400000000000001E-2,1.9400000000000001E-2,1.9400000000000001E-2,1.9400000000000001E-2,1.9400000000000001E-2,1.9400000000000001E-2,1.9400000000000001E-2,1.9400000000000001E-2,1.9400000000000001E-2,1.9400000000000001E-2,1.9400000000000001E-2,1.9400000000000001E-2,1.9400000000000001E-2,1.9400000000000001E-2,1.9400000000000001E-2,1.9400000000000001E-2,1.9400000000000001E-2,1.9400000000000001E-2,1.9400000000000001E-2,1.9400000000000001E-2,1.9400000000000001E-2,{"$f":"'National Shipments'!F115/'National Shipments'!F$116","v":1.9400000000000001E-2},{"$f":"'National Shipments'!G115/'National Shipments'!G$116","v":1.9400000000000004E-2},{"$f":"'National Shipments'!H115/'National Shipments'!H$116","v":1.9400000000000001E-2},{"$f":"'National Shipments'!I115/'National Shipments'!I$116","v":1.9399999999999997E-2},{"$f":"'National Shipments'!J115/'National Shipments'!J$116","v":1.9400000000000004E-2},{"$f":"'National Shipments'!K115/'National Shipments'!K$116","v":1.9400000000000001E-2},{"$f":"'National Shipments'!L115/'National Shipments'!L$116","v":1.9400000000000001E-2},{"$f":"'National Shipments'!M115/'National Shipments'!M$116","v":1.9400000000000001E-2},{"$f":"'National Shipments'!N115/'National Shipments'!N$116","v":1.9400000000000004E-2},{"$f":"'National Shipments'!O115/'National Shipments'!O$116","v":1.9400000000000001E-2},{"$f":"'National Shipments'!P115/'National Shipments'!P$116","v":1.9400000000000001E-2},{"$f":"'National Shipments'!Q115/'National Shipments'!Q$116","v":1.9400000000000001E-2},{"$f":"'National Shipments'!R115/'National Shipments'!R$116","v":1.9399999999999997E-2},{"$f":"'National Shipments'!S115/'National Shipments'!S$116","v":1.9400000000000004E-2},{"$f":"'National Shipments'!T115/'National Shipments'!T$116","v":1.9400000000000001E-2},{"$f":"'National Shipments'!U115/'National Shipments'!U$116","v":1.9400000000000001E-2},{"$f":"'National Shipments'!V115/'National Shipments'!V$116","v":1.9400000000000001E-2},{"$f":"'National Shipments'!W115/'National Shipments'!W$116","v":1.9400000000000001E-2},{"$f":"'National Shipments'!X115/'National Shipments'!X$116","v":1.9400000000000004E-2},{"$f":"'National Shipments'!Y115/'National Shipments'!Y$116","v":1.9400000000000001E-2},{"$f":"'National Shipments'!Z115/'National Shipments'!Z$116","v":1.9400000000000004E-2},{"$f":"'National Shipments'!AA115/'National Shipments'!AA$116","v":1.9400000000000001E-2},{"$f":"'National Shipments'!AB115/'National Shipments'!AB$116","v":1.9399999999999997E-2},{"$f":"'National Shipments'!AC115/'National Shipments'!AC$116","v":1.9400000000000001E-2},{"$f":"'National Shipments'!AD115/'National Shipments'!AD$116","v":1.9400000000000001E-2},{"$f":"'National Shipments'!AE115/'National Shipments'!AE$116","v":1.9400000000000004E-2}]
[null,null,null,"TOTAL",null,null,1,1,1,1,1,1,1,1,1,1,1,1,1,1,1,1,1,1,1,1,1,1,1,1,1,1,1,1,{"$f":"'National Shipments'!F116/'National Shipments'!F$116","v":1},{"$f":"'National Shipments'!G116/'National Shipments'!G$116","v":1},{"$f":"'National Shipments'!H116/'National Shipments'!H$116","v":1},{"$f":"'National Shipments'!I116/'National Shipments'!I$116","v":1},{"$f":"'National Shipments'!J116/'National Shipments'!J$116","v":1},{"$f":"'National Shipments'!K116/'National Shipments'!K$116","v":1},{"$f":"'National Shipments'!L116/'National Shipments'!L$116","v":1},{"$f":"'National Shipments'!M116/'National Shipments'!M$116","v":1},{"$f":"'National Shipments'!N116/'National Shipments'!N$116","v":1},{"$f":"'National Shipments'!O116/'National Shipments'!O$116","v":1},{"$f":"'National Shipments'!P116/'National Shipments'!P$116","v":1},{"$f":"'National Shipments'!Q116/'National Shipments'!Q$116","v":1},{"$f":"'National Shipments'!R116/'National Shipments'!R$116","v":1},{"$f":"'National Shipments'!S116/'National Shipments'!S$116","v":1},{"$f":"'National Shipments'!T116/'National Shipments'!T$116","v":1},{"$f":"'National Shipments'!U116/'National Shipments'!U$116","v":1},{"$f":"'National Shipments'!V116/'National Shipments'!V$116","v":1},{"$f":"'National Shipments'!W116/'National Shipments'!W$116","v":1},{"$f":"'National Shipments'!X116/'National Shipments'!X$116","v":1},{"$f":"'National Shipments'!Y116/'National Shipments'!Y$116","v":1},{"$f":"'National Shipments'!Z116/'National Shipments'!Z$116","v":1},{"$f":"'National Shipments'!AA116/'National Shipments'!AA$116","v":1},{"$f":"'National Shipments'!AB116/'National Shipments'!AB$116","v":1},{"$f":"'National Shipments'!AC116/'National Shipments'!AC$116","v":1},{"$f":"'National Shipments'!AD116/'National Shipments'!AD$116","v":1},{"$f":"'National Shipments'!AE116/'National Shipments'!AE$116","v":1}]
[]
[null,null,null,"POST-Case"]
[null,null,null,"Efficiency Level","CEER",null,1981,1982,1983,1984,1985,1986,1987,1988,1989,1990,1991,1992,1993,1994,1995,1996,1997,1998,1999,2000,2001,2002,2003,2004,2005,2006,2007,2008,2009,2010,2011,2012,2013,2014,2015,2016,2017,2018,2019,2020,2021,2022,2023,2024,2025,2026,2027,2028,2029,2030,2031,2032,2033,2034]
[null,null,null,"EL0",{"$f":"INDEX(EFFICIENCY_LEVELS,RIGHT(D120,1)+1,MID($D$107,3,1))","v":8.4146356252408392},null,{"$f":"H120","v":0.1009},0.1009,0.1009,0.1009,0.1009,0.1009,0.1009,0.1009,0.1009,0.1009,0.1009,0.1009,0.1009,0.1009,0.1009,0.1009,0.1009,0.1009,0.1009,0.1009,0.1009,0.1009,0.1009,0.1009,0.1009,0.1009,0.1009,{"$f":"AI120","v":0.1009},{"$f":"'National Shipments'!F120/'National Shipments'!F$125","v":0.1009},{"$f":"'National Shipments'!G120/'National Shipments'!G$125","v":0.1009},{"$f":"'National Shipments'!H120/'National Shipments'!H$125","v":0.10089999999999999},{"$f":"'National Shipments'!I120/'National Shipments'!I$125","v":0.10089999999999999},{"$f":"'National Shipments'!J120/'National Shipments'!J$125","v":0.1009},{"$f":"'National Shipments'!K120/'National Shipments'!K$125","v":0},{"$f":"'National Shipments'!L120/'National Shipments'!L$125","v":0},{"$f":"'National Shipments'!M120/'National Shipments'!M$125","v":0},{"$f":"'National Shipments'!N120/'National Shipments'!N$125","v":0},{"$f":"'National Shipments'!O120/'National Shipments'!O$125","v":0},{"$f":"'National Shipments'!P120/'National Shipments'!P$125","v":0},{"$f":"'National Shipments'!Q120/'National Shipments'!Q$125","v":0},{"$f":"'National Shipments'!R120/'National Shipments'!R$125","v":0},{"$f":"'National Shipments'!S120/'National Shipments'!S$125","v":0},{"$f":"'National Shipments'!T120/'National Shipments'!T$125","v":0},{"$f":"'National Shipments'!U120/'National Shipments'!U$125","v":0},{"$f":"'National Shipments'!V120/'National Shipments'!V$125","v":0},{"$f":"'National Shipments'!W120/'National Shipments'!W$125","v":0},{"$f":"'National Shipments'!X120/'National Shipments'!X$125","v":0},{"$f":"'National Shipments'!Y120/'National Shipments'!Y$125","v":0},{"$f":"'National Shipments'!Z120/'National Shipments'!Z$125","v":0},{"$f":"'National Shipments'!AA120/'National Shipments'!AA$125","v":0},{"$f":"'National Shipments'!AB120/'National Shipments'!AB$125","v":0},{"$f":"'National Shipments'!AC120/'National Shipments'!AC$125","v":0},{"$f":"'National Shipments'!AD120/'National Shipments'!AD$125","v":0},{"$f":"'National Shipments'!AE120/'National Shipments'!AE$125","v":0}]
[null,null,null,"EL1",{"$f":"INDEX(EFFICIENCY_LEVELS,RIGHT(D121,1)+1,MID($D$107,3,1))","v":9.3000000000000007},null,{"$f":"H121","v":0.64750000000000008},0.64750000000000008,0.64750000000000008,0.64750000000000008,0.64750000000000008,0.64750000000000008,0.64750000000000008,0.64750000000000008,0.64750000000000008,0.64750000000000008,0.64750000000000008,0.64750000000000008,0.64750000000000008,0.64750000000000008,0.64750000000000008,0.64750000000000008,0.64750000000000008,0.64750000000000008,0.64750000000000008,0.64750000000000008,0.64750000000000008,0.64750000000000008,0.64750000000000008,0.64750000000000008,0.64750000000000008,0.64750000000000008,0.64750000000000008,0.64750000000000008,{"$f":"'National Shipments'!F121/'National Shipments'!F$125","v":0.64750000000000008},{"$f":"'National Shipments'!G121/'National Shipments'!G$125","v":0.64750000000000008},{"$f":"'National Shipments'!H121/'National Shipments'!H$125","v":0.64749999999999996},{"$f":"'National Shipments'!I121/'National Shipments'!I$125","v":0.64749999999999996},{"$f":"'National Shipments'!J121/'National Shipments'!J$125","v":0.64749999999999996},{"$f":"'National Shipments'!K121/'National Shipments'!K$125","v":0},{"$f":"'National Shipments'!L121/'National Shipments'!L$125","v":0},{"$f":"'National Shipments'!M121/'National Shipments'!M$125","v":0},{"$f":"'National Shipments'!N121/'National Shipments'!N$125","v":0},{"$f":"'National Shipments'!O121/'National Shipments'!O$125","v":0},{"$f":"'National Shipments'!P121/'National Shipments'!P$125","v":0},{"$f":"'National Shipments'!Q121/'National Shipments'!Q$125","v":0},{"$f":"'National Shipments'!R121/'National Shipments'!R$125","v":0},{"$f":"'National Shipments'!S121/'National Shipments'!S$125","v":0},{"$f":"'National Shipments'!T121/'National Shipments'!T$125","v":0},{"$f":"'National Shipments'!U121/'National Shipments'!U$125","v":0},{"$f":"'National Shipments'!V121/'National Shipments'!V$125","v":0},{"$f":"'National Shipments'!W121/'National Shipments'!W$125","v":0},{"$f":"'National Shipments'!X121/'National Shipments'!X$125","v":0},{"$f":"'National Shipments'!Y121/'National Shipments'!Y$125","v":0},{"$f":"'National Shipments'!Z121/'National Shipments'!Z$125","v":0},{"$f":"'National Shipments'!AA121/'National Shipments'!AA$125","v":0},{"$f":"'National Shipments'!AB121/'National Shipments'!AB$125","v":0},{"$f":"'National Shipments'!AC121/'National Shipments'!AC$125","v":0},{"$f":"'National Shipments'!AD121/'National Shipments'!AD$125","v":0},{"$f":"'National Shipments'!AE121/'National Shipments'!AE$125","v":0}]
[null,null,null,"EL2",{"$f":"INDEX(EFFICIENCY_LEVELS,RIGHT(D122,1)+1,MID($D$107,3,1))","v":9.6},null,{"$f":"H122","v":0.1953},0.1953,0.1953,0.1953,0.1953,0.1953,0.1953,0.1953,0.1953,0.1953,0.1953,0.1953,0.1953,0.1953,0.1953,0.1953,0.1953,0.1953,0.1953,0.1953,0.1953,0.1953,0.1953,0.1953,0.1953,0.1953,0.1953,0.1953,{"$f":"'National Shipments'!F122/'National Shipments'!F$125","v":0.1953},{"$f":"'National Shipments'!G122/'National Shipments'!G$125","v":0.1953},{"$f":"'National Shipments'!H122/'National Shipments'!H$125","v":0.19529999999999997},{"$f":"'National Shipments'!I122/'National Shipments'!I$125","v":0.19529999999999997},{"$f":"'National Shipments'!J122/'National Shipments'!J$125","v":0.1953},{"$f":"'National Shipments'!K122/'National Shipments'!K$125","v":0.94369999999999998},{"$f":"'National Shipments'!L122/'National Shipments'!L$125","v":0.80872592389052078},{"$f":"'National Shipments'!M122/'National Shipments'!M$125","v":0.79652017935720187},{"$f":"'National Shipments'!N122/'National Shipments'!N$125","v":0.78428392046254591},{"$f":"'National Shipments'!O122/'National Shipments'!O$125","v":0.77130088548617459},{"$f":"'National Shipments'!P122/'National Shipments'!P$125","v":0.75496547206863396},{"$f":"'National Shipments'!Q122/'National Shipments'!Q$125","v":0.73858922011754857},{"$f":"'National Shipments'!R122/'National Shipments'!R$125","v":0.72217202753658327},{"$f":"'National Shipments'!S122/'National Shipments'!S$125","v":0.70571379197416706},{"$f":"'National Shipments'!T122/'National Shipments'!T$125","v":0.68921441082283996},{"$f":"'National Shipments'!U122/'National Shipments'!U$125","v":0.67267378121863475},{"$f":"'National Shipments'!V122/'National Shipments'!V$125","v":0.65609180004042789},{"$f":"'National Shipments'!W122/'National Shipments'!W$125","v":0.63946836390926898},{"$f":"'National Shipments'!X122/'National Shipments'!X$125","v":0.62280336918778401},{"$f":"'National Shipments'!Y122/'National Shipments'!Y$125","v":0.57442308338075354},{"$f":"'National Shipments'!Z122/'National Shipments'!Z$125","v":0.51412969559568},{"$f":"'National Shipments'!AA122/'National Shipments'!AA$125","v":0.45368557434114509},{"$f":"'National Shipments'!AB122/'National Shipments'!AB$125","v":0.39309034278347277},{"$f":"'National Shipments'!AC122/'National Shipments'!AC$125","v":0.33234362314690652},{"$f":"'National Shipments'!AD122/'National Shipments'!AD$125","v":0.27144503671124948},{"$f":"'National Shipments'!AE122/'National Shipments'!AE$125","v":0.21039420380950735}]
[null,null,null,"EL3",{"$f":"INDEX(EFFICIENCY_LEVELS,RIGHT(D123,1)+1,MID($D$107,3,1))","v":10},null,{"$f":"H123","v":3.6900000000000002E-2},3.6900000000000002E-2,3.6900000000000002E-2,3.6900000000000002E-2,3.6900000000000002E-2,3.6900000000000002E-2,3.6900000000000002E-2,3.6900000000000002E-2,3.6900000000000002E-2,3.6900000000000002E-2,3.6900000000000002E-2,3.6900000000000002E-2,3.6900000000000002E-2,3.6900000000000002E-2,3.6900000000000002E-2,3.6900000000000002E-2,3.6900000000000002E-2,3.6900000000000002E-2,3.6900000000000002E-2,3.6900000000000002E-2,3.6900000000000002E-2,3.6900000000000002E-2,3.6900000000000002E-2,3.6900000000000002E-2,3.6900000000000002E-2,3.6900000000000002E-2,3.6900000000000002E-2,3.6900000000000002E-2,{"$f":"'National Shipments'!F123/'National Shipments'!F$125","v":3.6900000000000002E-2},{"$f":"'National Shipments'!G123/'National Shipments'!G$125","v":3.6900000000000009E-2},{"$f":"'National Shipments'!H123/'National Shipments'!H$125","v":3.6899999999999995E-2},{"$f":"'National Shipments'!I123/'National Shipments'!I$125","v":3.6900000000000002E-2},{"$f":"'National Shipments'!J123/'National Shipments'!J$125","v":3.6900000000000002E-2},{"$f":"'National Shipments'!K123/'National Shipments'!K$125","v":3.6900000000000002E-2},{"$f":"'National Shipments'!L123/'National Shipments'!L$125","v":0.17187407610947936},{"$f":"'National Shipments'!M123/'National Shipments'!M$125","v":0.18407982064279815},{"$f":"'National Shipments'!N123/'National Shipments'!N$125","v":0.19631607953745411},{"$f":"'National Shipments'!O123/'National Shipments'!O$125","v":0.2092991145138253},{"$f":"'National Shipments'!P123/'National Shipments'!P$125","v":0.2256345279313661},{"$f":"'National Shipments'!Q123/'National Shipments'!Q$125","v":0.24201077988245137},{"$f":"'National Shipments'!R123/'National Shipments'!R$125","v":0.2584279724634167},{"$f":"'National Shipments'!S123/'National Shipments'!S$125","v":0.27488620802583302},{"$f":"'National Shipments'!T123/'National Shipments'!T$125","v":0.29138558917716006},{"$f":"'National Shipments'!U123/'National Shipments'!U$125","v":0.30792621878136534},{"$f":"'National Shipments'!V123/'National Shipments'!V$125","v":0.32450819995957209},{"$f":"'National Shipments'!W123/'National Shipments'!W$125","v":0.34113163609073116},{"$f":"'National Shipments'!X123/'National Shipments'!X$125","v":0.35779663081221591},{"$f":"'National Shipments'!Y123/'National Shipments'!Y$125","v":0.40617691661924654},{"$f":"'National Shipments'!Z123/'National Shipments'!Z$125","v":0.46647030440432008},{"$f":"'National Shipments'!AA123/'National Shipments'!AA$125","v":0.52691442565885493},{"$f":"'National Shipments'!AB123/'National Shipments'!AB$125","v":0.58750965721652726},{"$f":"'National Shipments'!AC123/'National Shipments'!AC$125","v":0.64825637685309345},{"$f":"'National Shipments'!AD123/'National Shipments'!AD$125","v":0.70915496328875061},{"$f":"'National Shipments'!AE123/'National Shipments'!AE$125","v":0.77020579619049268}]
[null,null,null,"EL4",{"$f":"INDEX(EFFICIENCY_LEVELS,RIGHT(D124,1)+1,MID($D$107,3,1))","v":10.354619755605318},null,{"$f":"H124","v":1.9400000000000001E-2},1.9400000000000001E-2,1.9400000000000001E-2,1.9400000000000001E-2,1.9400000000000001E-2,1.9400000000000001E-2,1.9400000000000001E-2,1.9400000000000001E-2,1.9400000000000001E-2,1.9400000000000001E-2,1.9400000000000001E-2,1.9400000000000001E-2,1.9400000000000001E-2,1.9400000000000001E-2,1.9400000000000001E-2,1.9400000000000001E-2,1.9400000000000001E-2,1.9400000000000001E-2,1.9400000000000001E-2,1.9400000000000001E-2,1.9400000000000001E-2,1.9400000000000001E-2,1.9400000000000001E-2,1.9400000000000001E-2,1.9400000000000001E-2,1.9400000000000001E-2,1.9400000000000001E-2,1.9400000000000001E-2,{"$f":"'National Shipments'!F124/'National Shipments'!F$125","v":1.9400000000000001E-2},{"$f":"'National Shipments'!G124/'National Shipments'!G$125","v":1.9400000000000004E-2},{"$f":"'National Shipments'!H124/'National Shipments'!H$125","v":1.9400000000000001E-2},{"$f":"'National Shipments'!I124/'National Shipments'!I$125","v":1.9399999999999997E-2},{"$f":"'National Shipments'!J124/'National Shipments'!J$125","v":1.9400000000000004E-2},{"$f":"'National Shipments'!K124/'National Shipments'!K$125","v":1.9400000000000001E-2},{"$f":"'National Shipments'!L124/'National Shipments'!L$125","v":1.9400000000000001E-2},{"$f":"'National Shipments'!M124/'National Shipments'!M$125","v":1.9400000000000001E-2},{"$f":"'National Shipments'!N124/'National Shipments'!N$125","v":1.9399999999999997E-2},{"$f":"'National Shipments'!O124/'National Shipments'!O$125","v":1.9399999999999997E-2},{"$f":"'National Shipments'!P124/'National Shipments'!P$125","v":1.9400000000000001E-2},{"$f":"'National Shipments'!Q124/'National Shipments'!Q$125","v":1.9400000000000001E-2},{"$f":"'National Shipments'!R124/'National Shipments'!R$125","v":1.9400000000000004E-2},{"$f":"'National Shipments'!S124/'National Shipments'!S$125","v":1.9400000000000004E-2},{"$f":"'National Shipments'!T124/'National Shipments'!T$125","v":1.9400000000000001E-2},{"$f":"'National Shipments'!U124/'National Shipments'!U$125","v":1.9400000000000001E-2},{"$f":"'National Shipments'!V124/'National Shipments'!V$125","v":1.9399999999999997E-2},{"$f":"'National Shipments'!W124/'National Shipments'!W$125","v":1.9400000000000001E-2},{"$f":"'National Shipments'!X124/'National Shipments'!X$125","v":1.9399999999999997E-2},{"$f":"'National Shipments'!Y124/'National Shipments'!Y$125","v":1.9400000000000001E-2},{"$f":"'National Shipments'!Z124/'National Shipments'!Z$125","v":1.9400000000000004E-2},{"$f":"'National Shipments'!AA124/'National Shipments'!AA$125","v":1.9400000000000001E-2},{"$f":"'National Shipments'!AB124/'National Shipments'!AB$125","v":1.9400000000000001E-2},{"$f":"'National Shipments'!AC124/'National Shipments'!AC$125","v":1.9400000000000001E-2},{"$f":"'National Shipments'!AD124/'National Shipments'!AD$125","v":1.9400000000000001E-2},{"$f":"'National Shipments'!AE124/'National Shipments'!AE$125","v":1.9400000000000001E-2}]
[null,null,null,"TOTAL",null,null,{"$f":"H125","v":1},1,1,1,1,1,1,1,1,1,1,1,1,1,1,1,1,1,1,1,1,1,1,1,1,1,1,1,{"$f":"'National Shipments'!F125/'National Shipments'!F$125","v":1},{"$f":"'National Shipments'!G125/'National Shipments'!G$125","v":1},{"$f":"'National Shipments'!H125/'National Shipments'!H$125","v":1},{"$f":"'National Shipments'!I125/'National Shipments'!I$125","v":1},{"$f":"'National Shipments'!J125/'National Shipments'!J$125","v":1},{"$f":"'National Shipments'!K125/'National Shipments'!K$125","v":1},{"$f":"'National Shipments'!L125/'National Shipments'!L$125","v":1},{"$f":"'National Shipments'!M125/'National Shipments'!M$125","v":1},{"$f":"'National Shipments'!N125/'National Shipments'!N$125","v":1},{"$f":"'National Shipments'!O125/'National Shipments'!O$125","v":1},{"$f":"'National Shipments'!P125/'National Shipments'!P$125","v":1},{"$f":"'National Shipments'!Q125/'National Shipments'!Q$125","v":1},{"$f":"'National Shipments'!R125/'National Shipments'!R$125","v":1},{"$f":"'National Shipments'!S125/'National Shipments'!S$125","v":1},{"$f":"'National Shipments'!T125/'National Shipments'!T$125","v":1},{"$f":"'National Shipments'!U125/'National Shipments'!U$125","v":1},{"$f":"'National Shipments'!V125/'National Shipments'!V$125","v":1},{"$f":"'National Shipments'!W125/'National Shipments'!W$125","v":1},{"$f":"'National Shipments'!X125/'National Shipments'!X$125","v":1},{"$f":"'National Shipments'!Y125/'National Shipments'!Y$125","v":1},{"$f":"'National Shipments'!Z125/'National Shipments'!Z$125","v":1},{"$f":"'National Shipments'!AA125/'National Shipments'!AA$125","v":1},{"$f":"'National Shipments'!AB125/'National Shipments'!AB$125","v":1},{"$f":"'National Shipments'!AC125/'National Shipments'!AC$125","v":1},{"$f":"'National Shipments'!AD125/'National Shipments'!AD$125","v":1},{"$f":"'National Shipments'!AE125/'National Shipments'!AE$125","v":1}]
[]
[null,null,null,"Sources","2011 DOE Residential Room Air Conditioners Direct Final Rule Government Regulatory Impact Model 'Product Shipments (CALC)' tab."]
[]
[]
[]
[null,null,null,"PC6  Without reverse cycle, without louvered sides, and 11,000 to 13,999 Btu/h"]
[]
[null,null,null,"PRE-Case"]
[null,null,null,"Efficiency Level","CEER",null,1981,1982,1983,1984,1985,1986,1987,1988,1989,1990,1991,1992,1993,1994,1995,1996,1997,1998,1999,2000,2001,2002,2003,2004,2005,2006,2007,2008,2009,2010,2011,2012,2013,2014,2015,2016,2017,2018,2019,2020,2021,2022,2023,2024,2025,2026,2027,2028,2029,2030,2031,2032,2033,2034]
[null,null,null,"EL0",{"$f":"INDEX(EFFICIENCY_LEVELS,RIGHT(D135,1)+1,MID($D$131,3,1))","v":8.4428992651201167},null,{"$f":"H135","v":0.1009},0.1009,0.1009,0.1009,0.1009,0.1009,0.1009,0.1009,0.1009,0.1009,0.1009,0.1009,0.1009,0.1009,0.1009,0.1009,0.1009,0.1009,0.1009,0.1009,0.1009,0.1009,0.1009,0.1009,0.1009,0.1009,0.1009,{"$f":"AI135","v":0.1009},{"$f":"'National Shipments'!F135/'National Shipments'!F$140","v":0.1009},{"$f":"'National Shipments'!G135/'National Shipments'!G$140","v":0.10090000000000002},{"$f":"'National Shipments'!H135/'National Shipments'!H$140","v":0.10089999999999998},{"$f":"'National Shipments'!I135/'National Shipments'!I$140","v":0.1009},{"$f":"'National Shipments'!J135/'National Shipments'!J$140","v":0.10089999999999999},{"$f":"'National Shipments'!K135/'National Shipments'!K$140","v":0.10089999999999999},{"$f":"'National Shipments'!L135/'National Shipments'!L$140","v":8.5487931205173173E-3},{"$f":"'National Shipments'!M135/'National Shipments'!M$140","v":4.6424976067550333E-2},{"$f":"'National Shipments'!N135/'National Shipments'!N$140","v":1.9085280925972215E-2},{"$f":"'National Shipments'!O135/'National Shipments'!O$140","v":0},{"$f":"'National Shipments'!P135/'National Shipments'!P$140","v":0},{"$f":"'National Shipments'!Q135/'National Shipments'!Q$140","v":0},{"$f":"'National Shipments'!R135/'National Shipments'!R$140","v":0},{"$f":"'National Shipments'!S135/'National Shipments'!S$140","v":0},{"$f":"'National Shipments'!T135/'National Shipments'!T$140","v":0},{"$f":"'National Shipments'!U135/'National Shipments'!U$140","v":0},{"$f":"'National Shipments'!V135/'National Shipments'!V$140","v":0},{"$f":"'National Shipments'!W135/'National Shipments'!W$140","v":0},{"$f":"'National Shipments'!X135/'National Shipments'!X$140","v":0},{"$f":"'National Shipments'!Y135/'National Shipments'!Y$140","v":0},{"$f":"'National Shipments'!Z135/'National Shipments'!Z$140","v":0},{"$f":"'National Shipments'!AA135/'National Shipments'!AA$140","v":0},{"$f":"'National Shipments'!AB135/'National Shipments'!AB$140","v":0},{"$f":"'National Shipments'!AC135/'National Shipments'!AC$140","v":0},{"$f":"'National Shipments'!AD135/'National Shipments'!AD$140","v":0},{"$f":"'National Shipments'!AE135/'National Shipments'!AE$140","v":0}]
[null,null,null,"EL1",{"$f":"INDEX(EFFICIENCY_LEVELS,RIGHT(D136,1)+1,MID($D$131,3,1))","v":9.3000000000000007},null,{"$f":"H136","v":0.59330000000000005},0.59330000000000005,0.59330000000000005,0.59330000000000005,0.59330000000000005,0.59330000000000005,0.59330000000000005,0.59330000000000005,0.59330000000000005,0.59330000000000005,0.59330000000000005,0.59330000000000005,0.59330000000000005,0.59330000000000005,0.59330000000000005,0.59330000000000005,0.59330000000000005,0.59330000000000005,0.59330000000000005,0.59330000000000005,0.59330000000000005,0.59330000000000005,0.59330000000000005,0.59330000000000005,0.59330000000000005,0.59330000000000005,0.59330000000000005,0.59330000000000005,{"$f":"'National Shipments'!F136/'National Shipments'!F$140","v":0.59330000000000005},{"$f":"'National Shipments'!G136/'National Shipments'!G$140","v":0.59330000000000005},{"$f":"'National Shipments'!H136/'National Shipments'!H$140","v":0.59329999999999994},{"$f":"'National Shipments'!I136/'National Shipments'!I$140","v":0.59330000000000005},{"$f":"'National Shipments'!J136/'National Shipments'!J$140","v":0.59329999999999994},{"$f":"'National Shipments'!K136/'National Shipments'!K$140","v":0.59329999999999983},{"$f":"'National Shipments'!L136/'National Shipments'!L$140","v":0.68565120687948267},{"$f":"'National Shipments'!M136/'National Shipments'!M$140","v":0.64777502393244968},{"$f":"'National Shipments'!N136/'National Shipments'!N$140","v":0.67511471907402787},{"$f":"'National Shipments'!O136/'National Shipments'!O$140","v":0.65853276663904792},{"$f":"'National Shipments'!P136/'National Shipments'!P$140","v":0.54078184855565048},{"$f":"'National Shipments'!Q136/'National Shipments'!Q$140","v":0.42273655317703746},{"$f":"'National Shipments'!R136/'National Shipments'!R$140","v":0.30439614455998232},{"$f":"'National Shipments'!S136/'National Shipments'!S$140","v":0.18575988492138817},{"$f":"'National Shipments'!T136/'National Shipments'!T$140","v":6.6827034633695881E-2},{"$f":"'National Shipments'!U136/'National Shipments'!U$140","v":0},{"$f":"'National Shipments'!V136/'National Shipments'!V$140","v":0},{"$f":"'National Shipments'!W136/'National Shipments'!W$140","v":0},{"$f":"'National Shipments'!X136/'National Shipments'!X$140","v":0},{"$f":"'National Shipments'!Y136/'National Shipments'!Y$140","v":0},{"$f":"'National Shipments'!Z136/'National Shipments'!Z$140","v":0},{"$f":"'National Shipments'!AA136/'National Shipments'!AA$140","v":0},{"$f":"'National Shipments'!AB136/'National Shipments'!AB$140","v":0},{"$f":"'National Shipments'!AC136/'National Shipments'!AC$140","v":0},{"$f":"'National Shipments'!AD136/'National Shipments'!AD$140","v":0},{"$f":"'National Shipments'!AE136/'National Shipments'!AE$140","v":0}]
[null,null,null,"EL2",{"$f":"INDEX(EFFICIENCY_LEVELS,RIGHT(D137,1)+1,MID($D$131,3,1))","v":9.5},null,{"$f":"H137","v":0.13320000000000004},0.13320000000000004,0.13320000000000004,0.13320000000000004,0.13320000000000004,0.13320000000000004,0.13320000000000004,0.13320000000000004,0.13320000000000004,0.13320000000000004,0.13320000000000004,0.13320000000000004,0.13320000000000004,0.13320000000000004,0.13320000000000004,0.13320000000000004,0.13320000000000004,0.13320000000000004,0.13320000000000004,0.13320000000000004,0.13320000000000004,0.13320000000000004,0.13320000000000004,0.13320000000000004,0.13320000000000004,0.13320000000000004,0.13320000000000004,0.13320000000000004,{"$f":"'National Shipments'!F137/'National Shipments'!F$140","v":0.13320000000000004},{"$f":"'National Shipments'!G137/'National Shipments'!G$140","v":0.13320000000000004},{"$f":"'National Shipments'!H137/'National Shipments'!H$140","v":0.13320000000000001},{"$f":"'National Shipments'!I137/'National Shipments'!I$140","v":0.13320000000000001},{"$f":"'National Shipments'!J137/'National Shipments'!J$140","v":0.13320000000000001},{"$f":"'National Shipments'!K137/'National Shipments'!K$140","v":0.13320000000000001},{"$f":"'National Shipments'!L137/'National Shipments'!L$140","v":0.13320000000000001},{"$f":"'National Shipments'!M137/'National Shipments'!M$140","v":0.13320000000000004},{"$f":"'National Shipments'!N137/'National Shipments'!N$140","v":0.13320000000000001},{"$f":"'National Shipments'!O137/'National Shipments'!O$140","v":0.16886723336095211},{"$f":"'National Shipments'!P137/'National Shipments'!P$140","v":0.28661815144434949},{"$f":"'National Shipments'!Q137/'National Shipments'!Q$140","v":0.40466344682296246},{"$f":"'National Shipments'!R137/'National Shipments'!R$140","v":0.52300385544001771},{"$f":"'National Shipments'!S137/'National Shipments'!S$140","v":0.64164011507861185},{"$f":"'National Shipments'!T137/'National Shipments'!T$140","v":0.76057296536630403},{"$f":"'National Shipments'!U137/'National Shipments'!U$140","v":0.79246456814685151},{"$f":"'National Shipments'!V137/'National Shipments'!V$140","v":0.71277906290055471},{"$f":"'National Shipments'!W137/'National Shipments'!W$140","v":0.63289434389114241},{"$f":"'National Shipments'!X137/'National Shipments'!X$140","v":0.55280991308420702},{"$f":"'National Shipments'!Y137/'National Shipments'!Y$140","v":0.47252527120025078},{"$f":"'National Shipments'!Z137/'National Shipments'!Z$140","v":0.39203991771158919},{"$f":"'National Shipments'!AA137/'National Shipments'!AA$140","v":0.31135335083920085},{"$f":"'National Shipments'!AB137/'National Shipments'!AB$140","v":0.23046506754963694},{"$f":"'National Shipments'!AC137/'National Shipments'!AC$140","v":0.14937456355184697},{"$f":"'National Shipments'!AD137/'National Shipments'!AD$140","v":6.8081333294064628E-2},{"$f":"'National Shipments'!AE137/'National Shipments'!AE$140","v":0}]
[null,null,null,"EL3",{"$f":"INDEX(EFFICIENCY_LEVELS,RIGHT(D138,1)+1,MID($D$131,3,1))","v":9.8000000000000007},null,{"$f":"H138","v":0.17260000000000003},0.17260000000000003,0.17260000000000003,0.17260000000000003,0.17260000000000003,0.17260000000000003,0.17260000000000003,0.17260000000000003,0.17260000000000003,0.17260000000000003,0.17260000000000003,0.17260000000000003,0.17260000000000003,0.17260000000000003,0.17260000000000003,0.17260000000000003,0.17260000000000003,0.17260000000000003,0.17260000000000003,0.17260000000000003,0.17260000000000003,0.17260000000000003,0.17260000000000003,0.17260000000000003,0.17260000000000003,0.17260000000000003,0.17260000000000003,0.17260000000000003,{"$f":"'National Shipments'!F138/'National Shipments'!F$140","v":0.17260000000000003},{"$f":"'National Shipments'!G138/'National Shipments'!G$140","v":0.17260000000000006},{"$f":"'National Shipments'!H138/'National Shipments'!H$140","v":0.17259999999999998},{"$f":"'National Shipments'!I138/'National Shipments'!I$140","v":0.17260000000000003},{"$f":"'National Shipments'!J138/'National Shipments'!J$140","v":0.1726},{"$f":"'National Shipments'!K138/'National Shipments'!K$140","v":0.17259999999999998},{"$f":"'National Shipments'!L138/'National Shipments'!L$140","v":0.1726},{"$f":"'National Shipments'!M138/'National Shipments'!M$140","v":0.17260000000000006},{"$f":"'National Shipments'!N138/'National Shipments'!N$140","v":0.17260000000000003},{"$f":"'National Shipments'!O138/'National Shipments'!O$140","v":0.1726},{"$f":"'National Shipments'!P138/'National Shipments'!P$140","v":0.17260000000000003},{"$f":"'National Shipments'!Q138/'National Shipments'!Q$140","v":0.1726},{"$f":"'National Shipments'!R138/'National Shipments'!R$140","v":0.17260000000000006},{"$f":"'National Shipments'!S138/'National Shipments'!S$140","v":0.17260000000000003},{"$f":"'National Shipments'!T138/'National Shipments'!T$140","v":0.17260000000000003},{"$f":"'National Shipments'!U138/'National Shipments'!U$140","v":0.20753543185314841},{"$f":"'National Shipments'!V138/'National Shipments'!V$140","v":0.28722093709944529},{"$f":"'National Shipments'!W138/'National Shipments'!W$140","v":0.36710565610885754},{"$f":"'National Shipments'!X138/'National Shipments'!X$140","v":0.44719008691579293},{"$f":"'National Shipments'!Y138/'National Shipments'!Y$140","v":0.52747472879974933},{"$f":"'National Shipments'!Z138/'National Shipments'!Z$140","v":0.60796008228841081},{"$f":"'National Shipments'!AA138/'National Shipments'!AA$140","v":0.6886466491607991},{"$f":"'National Shipments'!AB138/'National Shipments'!AB$140","v":0.76953493245036309},{"$f":"'National Shipments'!AC138/'National Shipments'!AC$140","v":0.85062543644815292},{"$f":"'National Shipments'!AD138/'National Shipments'!AD$140","v":0.93191866670593537},{"$f":"'National Shipments'!AE138/'National Shipments'!AE$140","v":0.98178037835606391}]
[null,null,null,"EL4",{"$f":"INDEX(EFFICIENCY_LEVELS,RIGHT(D139,1)+1,MID($D$131,3,1))","v":10.020890372503978},null,{"$f":"H139","v":0},0,0,0,0,0,0,0,0,0,0,0,0,0,0,0,0,0,0,0,0,0,0,0,0,0,0,0,{"$f":"'National Shipments'!F139/'National Shipments'!F$140","v":0},{"$f":"'National Shipments'!G139/'National Shipments'!G$140","v":0},{"$f":"'National Shipments'!H139/'National Shipments'!H$140","v":0},{"$f":"'National Shipments'!I139/'National Shipments'!I$140","v":0},{"$f":"'National Shipments'!J139/'National Shipments'!J$140","v":0},{"$f":"'National Shipments'!K139/'National Shipments'!K$140","v":0},{"$f":"'National Shipments'!L139/'National Shipments'!L$140","v":0},{"$f":"'National Shipments'!M139/'National Shipments'!M$140","v":0},{"$f":"'National Shipments'!N139/'National Shipments'!N$140","v":0},{"$f":"'National Shipments'!O139/'National Shipments'!O$140","v":0},{"$f":"'National Shipments'!P139/'National Shipments'!P$140","v":0},{"$f":"'National Shipments'!Q139/'National Shipments'!Q$140","v":0},{"$f":"'National Shipments'!R139/'National Shipments'!R$140","v":0},{"$f":"'National Shipments'!S139/'National Shipments'!S$140","v":0},{"$f":"'National Shipments'!T139/'National Shipments'!T$140","v":0},{"$f":"'National Shipments'!U139/'National Shipments'!U$140","v":0},{"$f":"'National Shipments'!V139/'National Shipments'!V$140","v":0},{"$f":"'National Shipments'!W139/'National Shipments'!W$140","v":0},{"$f":"'National Shipments'!X139/'National Shipments'!X$140","v":0},{"$f":"'National Shipments'!Y139/'National Shipments'!Y$140","v":0},{"$f":"'National Shipments'!Z139/'National Shipments'!Z$140","v":0},{"$f":"'National Shipments'!AA139/'National Shipments'!AA$140","v":0},{"$f":"'National Shipments'!AB139/'National Shipments'!AB$140","v":0},{"$f":"'National Shipments'!AC139/'National Shipments'!AC$140","v":0},{"$f":"'National Shipments'!AD139/'National Shipments'!AD$140","v":0},{"$f":"'National Shipments'!AE139/'National Shipments'!AE$140","v":1.8219621643935983E-2}]
[null,null,null,"TOTAL",null,null,{"$f":"H140","v":1},1,1,1,1,1,1,1,1,1,1,1,1,1,1,1,1,1,1,1,1,1,1,1,1,1,1,1,{"$f":"'National Shipments'!F140/'National Shipments'!F$140","v":1},{"$f":"'National Shipments'!G140/'National Shipments'!G$140","v":1},{"$f":"'National Shipments'!H140/'National Shipments'!H$140","v":1},{"$f":"'National Shipments'!I140/'National Shipments'!I$140","v":1},{"$f":"'National Shipments'!J140/'National Shipments'!J$140","v":1},{"$f":"'National Shipments'!K140/'National Shipments'!K$140","v":1},{"$f":"'National Shipments'!L140/'National Shipments'!L$140","v":1},{"$f":"'National Shipments'!M140/'National Shipments'!M$140","v":1},{"$f":"'National Shipments'!N140/'National Shipments'!N$140","v":1},{"$f":"'National Shipments'!O140/'National Shipments'!O$140","v":1},{"$f":"'National Shipments'!P140/'National Shipments'!P$140","v":1},{"$f":"'National Shipments'!Q140/'National Shipments'!Q$140","v":1},{"$f":"'National Shipments'!R140/'National Shipments'!R$140","v":1},{"$f":"'National Shipments'!S140/'National Shipments'!S$140","v":1},{"$f":"'National Shipments'!T140/'National Shipments'!T$140","v":1},{"$f":"'National Shipments'!U140/'National Shipments'!U$140","v":1},{"$f":"'National Shipments'!V140/'National Shipments'!V$140","v":1},{"$f":"'National Shipments'!W140/'National Shipments'!W$140","v":1},{"$f":"'National Shipments'!X140/'National Shipments'!X$140","v":1},{"$f":"'National Shipments'!Y140/'National Shipments'!Y$140","v":1},{"$f":"'National Shipments'!Z140/'National Shipments'!Z$140","v":1},{"$f":"'National Shipments'!AA140/'National Shipments'!AA$140","v":1},{"$f":"'National Shipments'!AB140/'National Shipments'!AB$140","v":1},{"$f":"'National Shipments'!AC140/'National Shipments'!AC$140","v":1},{"$f":"'National Shipments'!AD140/'National Shipments'!AD$140","v":1},{"$f":"'National Shipments'!AE140/'National Shipments'!AE$140","v":1}]
[]
[null,null,null,"POST-Case"]
[null,null,null,"Efficiency Level","CEER",null,1981,1982,1983,1984,1985,1986,1987,1988,1989,1990,1991,1992,1993,1994,1995,1996,1997,1998,1999,2000,2001,2002,2003,2004,2005,2006,2007,2008,2009,2010,2011,2012,2013,2014,2015,2016,2017,2018,2019,2020,2021,2022,2023,2024,2025,2026,2027,2028,2029,2030,2031,2032,2033,2034]
[null,null,null,{"$f":"D135","v":"EL0"},{"$f":"E135","v":8.4428992651201167},null,{"$f":"H144","v":0.1009},0.1009,0.1009,0.1009,0.1009,0.1009,0.1009,0.1009,0.1009,0.1009,0.1009,0.1009,0.1009,0.1009,0.1009,0.1009,0.1009,0.1009,0.1009,0.1009,0.1009,0.1009,0.1009,0.1009,0.1009,0.1009,0.1009,{"$f":"AI144","v":0.1009},{"$f":"'National Shipments'!F144/'National Shipments'!F$149","v":0.1009},{"$f":"'National Shipments'!G144/'National Shipments'!G$149","v":0.10090000000000002},{"$f":"'National Shipments'!H144/'National Shipments'!H$149","v":0.10089999999999998},{"$f":"'National Shipments'!I144/'National Shipments'!I$149","v":0.1009},{"$f":"'National Shipments'!J144/'National Shipments'!J$149","v":0.10089999999999999},{"$f":"'National Shipments'!K144/'National Shipments'!K$149","v":0},{"$f":"'National Shipments'!L144/'National Shipments'!L$149","v":0},{"$f":"'National Shipments'!M144/'National Shipments'!M$149","v":0},{"$f":"'National Shipments'!N144/'National Shipments'!N$149","v":0},{"$f":"'National Shipments'!O144/'National Shipments'!O$149","v":0},{"$f":"'National Shipments'!P144/'National Shipments'!P$149","v":0},{"$f":"'National Shipments'!Q144/'National Shipments'!Q$149","v":0},{"$f":"'National Shipments'!R144/'National Shipments'!R$149","v":0},{"$f":"'National Shipments'!S144/'National Shipments'!S$149","v":0},{"$f":"'National Shipments'!T144/'National Shipments'!T$149","v":0},{"$f":"'National Shipments'!U144/'National Shipments'!U$149","v":0},{"$f":"'National Shipments'!V144/'National Shipments'!V$149","v":0},{"$f":"'National Shipments'!W144/'National Shipments'!W$149","v":0},{"$f":"'National Shipments'!X144/'National Shipments'!X$149","v":0},{"$f":"'National Shipments'!Y144/'National Shipments'!Y$149","v":0},{"$f":"'National Shipments'!Z144/'National Shipments'!Z$149","v":0},{"$f":"'National Shipments'!AA144/'National Shipments'!AA$149","v":0},{"$f":"'National Shipments'!AB144/'National Shipments'!AB$149","v":0},{"$f":"'National Shipments'!AC144/'National Shipments'!AC$149","v":0},{"$f":"'National Shipments'!AD144/'National Shipments'!AD$149","v":0},{"$f":"'National Shipments'!AE144/'National Shipments'!AE$149","v":0}]
[null,null,null,{"$f":"D136","v":"EL1"},9.3000000000000007,null,{"$f":"H145","v":0.59330000000000005},0.59330000000000005,0.59330000000000005,0.59330000000000005,0.59330000000000005,0.59330000000000005,0.59330000000000005,0.59330000000000005,0.59330000000000005,0.59330000000000005,0.59330000000000005,0.59330000000000005,0.59330000000000005,0.59330000000000005,0.59330000000000005,0.59330000000000005,0.59330000000000005,0.59330000000000005,0.59330000000000005,0.59330000000000005,0.59330000000000005,0.59330000000000005,0.59330000000000005,0.59330000000000005,0.59330000000000005,0.59330000000000005,0.59330000000000005,0.59330000000000005,{"$f":"'National Shipments'!F145/'National Shipments'!F$149","v":0.59330000000000005},{"$f":"'National Shipments'!G145/'National Shipments'!G$149","v":0.59330000000000005},{"$f":"'National Shipments'!H145/'National Shipments'!H$149","v":0.59329999999999994},{"$f":"'National Shipments'!I145/'National Shipments'!I$149","v":0.59330000000000005},{"$f":"'National Shipments'!J145/'National Shipments'!J$149","v":0.59329999999999994},{"$f":"'National Shipments'!K145/'National Shipments'!K$149","v":0},{"$f":"'National Shipments'!L145/'National Shipments'!L$149","v":0},{"$f":"'National Shipments'!M145/'National Shipments'!M$149","v":0},{"$f":"'National Shipments'!N145/'National Shipments'!N$149","v":0},{"$f":"'National Shipments'!O145/'National Shipments'!O$149","v":0},{"$f":"'National Shipments'!P145/'National Shipments'!P$149","v":0},{"$f":"'National Shipments'!Q145/'National Shipments'!Q$149","v":0},{"$f":"'National Shipments'!R145/'National Shipments'!R$149","v":0},{"$f":"'National Shipments'!S145/'National Shipments'!S$149","v":0},{"$f":"'National Shipments'!T145/'National Shipments'!T$149","v":0},{"$f":"'National Shipments'!U145/'National Shipments'!U$149","v":0},{"$f":"'National Shipments'!V145/'National Shipments'!V$149","v":0},{"$f":"'National Shipments'!W145/'National Shipments'!W$149","v":0},{"$f":"'National Shipments'!X145/'National Shipments'!X$149","v":0},{"$f":"'National Shipments'!Y145/'National Shipments'!Y$149","v":0},{"$f":"'National Shipments'!Z145/'National Shipments'!Z$149","v":0},{"$f":"'National Shipments'!AA145/'National Shipments'!AA$149","v":0},{"$f":"'National Shipments'!AB145/'National Shipments'!AB$149","v":0},{"$f":"'National Shipments'!AC145/'National Shipments'!AC$149","v":0},{"$f":"'National Shipments'!AD145/'National Shipments'!AD$149","v":0},{"$f":"'National Shipments'!AE145/'National Shipments'!AE$149","v":0}]
[null,null,null,"EL2",9.5,null,{"$f":"H146","v":0.13320000000000004},0.13320000000000004,0.13320000000000004,0.13320000000000004,0.13320000000000004,0.13320000000000004,0.13320000000000004,0.13320000000000004,0.13320000000000004,0.13320000000000004,0.13320000000000004,0.13320000000000004,0.13320000000000004,0.13320000000000004,0.13320000000000004,0.13320000000000004,0.13320000000000004,0.13320000000000004,0.13320000000000004,0.13320000000000004,0.13320000000000004,0.13320000000000004,0.13320000000000004,0.13320000000000004,0.13320000000000004,0.13320000000000004,0.13320000000000004,0.13320000000000004,{"$f":"'National Shipments'!F146/'National Shipments'!F$149","v":0.13320000000000004},{"$f":"'National Shipments'!G146/'National Shipments'!G$149","v":0.13320000000000004},{"$f":"'National Shipments'!H146/'National Shipments'!H$149","v":0.13320000000000001},{"$f":"'National Shipments'!I146/'National Shipments'!I$149","v":0.13320000000000001},{"$f":"'National Shipments'!J146/'National Shipments'!J$149","v":0.13320000000000001},{"$f":"'National Shipments'!K146/'National Shipments'!K$149","v":0.82740000000000002},{"$f":"'National Shipments'!L146/'National Shipments'!L$149","v":0.78024035089774491},{"$f":"'National Shipments'!M146/'National Shipments'!M$149","v":0.79958204601635052},{"$f":"'National Shipments'!N146/'National Shipments'!N$149","v":0.78562088865516622},{"$f":"'National Shipments'!O146/'National Shipments'!O$149","v":0.76360377370417853},{"$f":"'National Shipments'!P146/'National Shipments'!P$149","v":0.72309221260332968},{"$f":"'National Shipments'!Q146/'National Shipments'!Q$149","v":0.68247937259973246},{"$f":"'National Shipments'!R146/'National Shipments'!R$149","v":0.64176500049612928},{"$f":"'National Shipments'!S146/'National Shipments'!S$149","v":0.60094884246225877},{"$f":"'National Shipments'!T146/'National Shipments'!T$149","v":0.56003064403330149},{"$f":"'National Shipments'!U146/'National Shipments'!U$149","v":0.50210373541873088},{"$f":"'National Shipments'!V146/'National Shipments'!V$149","v":0.42241823017242797},{"$f":"'National Shipments'!W146/'National Shipments'!W$149","v":0.34253351116302155},{"$f":"'National Shipments'!X146/'National Shipments'!X$149","v":0.26244908035608028},{"$f":"'National Shipments'!Y146/'National Shipments'!Y$149","v":0.18216443847212332},{"$f":"'National Shipments'!Z146/'National Shipments'!Z$149","v":0.10167908498346238},{"$f":"'National Shipments'!AA146/'National Shipments'!AA$149","v":2.0992518111079383E-2},{"$f":"'National Shipments'!AB146/'National Shipments'!AB$149","v":0},{"$f":"'National Shipments'!AC146/'National Shipments'!AC$149","v":0},{"$f":"'National Shipments'!AD146/'National Shipments'!AD$149","v":0},{"$f":"'National Shipments'!AE146/'National Shipments'!AE$149","v":0}]
[null,null,null,"EL3",9.8000000000000007,null,{"$f":"H147","v":0.17260000000000003},0.17260000000000003,0.17260000000000003,0.17260000000000003,0.17260000000000003,0.17260000000000003,0.17260000000000003,0.17260000000000003,0.17260000000000003,0.17260000000000003,0.17260000000000003,0.17260000000000003,0.17260000000000003,0.17260000000000003,0.17260000000000003,0.17260000000000003,0.17260000000000003,0.17260000000000003,0.17260000000000003,0.17260000000000003,0.17260000000000003,0.17260000000000003,0.17260000000000003,0.17260000000000003,0.17260000000000003,0.17260000000000003,0.17260000000000003,0.17260000000000003,{"$f":"'National Shipments'!F147/'National Shipments'!F$149","v":0.17260000000000003},{"$f":"'National Shipments'!G147/'National Shipments'!G$149","v":0.17260000000000006},{"$f":"'National Shipments'!H147/'National Shipments'!H$149","v":0.17259999999999998},{"$f":"'National Shipments'!I147/'National Shipments'!I$149","v":0.17260000000000003},{"$f":"'National Shipments'!J147/'National Shipments'!J$149","v":0.1726},{"$f":"'National Shipments'!K147/'National Shipments'!K$149","v":0.17260000000000003},{"$f":"'National Shipments'!L147/'National Shipments'!L$149","v":0.21975964910225507},{"$f":"'National Shipments'!M147/'National Shipments'!M$149","v":0.20041795398364945},{"$f":"'National Shipments'!N147/'National Shipments'!N$149","v":0.21437911134483373},{"$f":"'National Shipments'!O147/'National Shipments'!O$149","v":0.23639622629582158},{"$f":"'National Shipments'!P147/'National Shipments'!P$149","v":0.27690778739667038},{"$f":"'National Shipments'!Q147/'National Shipments'!Q$149","v":0.3175206274002676},{"$f":"'National Shipments'!R147/'National Shipments'!R$149","v":0.35823499950387083},{"$f":"'National Shipments'!S147/'National Shipments'!S$149","v":0.39905115753774117},{"$f":"'National Shipments'!T147/'National Shipments'!T$149","v":0.43996935596669845},{"$f":"'National Shipments'!U147/'National Shipments'!U$149","v":0.49789626458126923},{"$f":"'National Shipments'!V147/'National Shipments'!V$149","v":0.57758176982757214},{"$f":"'National Shipments'!W147/'National Shipments'!W$149","v":0.65746648883697834},{"$f":"'National Shipments'!X147/'National Shipments'!X$149","v":0.73755091964391961},{"$f":"'National Shipments'!Y147/'National Shipments'!Y$149","v":0.81783556152787673},{"$f":"'National Shipments'!Z147/'National Shipments'!Z$149","v":0.89832091501653766},{"$f":"'National Shipments'!AA147/'National Shipments'!AA$149","v":0.97900748188892062},{"$f":"'National Shipments'!AB147/'National Shipments'!AB$149","v":0.9905056517108195},{"$f":"'National Shipments'!AC147/'National Shipments'!AC$149","v":0.97765162963342422},{"$f":"'National Shipments'!AD147/'National Shipments'!AD$149","v":0.96476547250083311},{"$f":"'National Shipments'!AE147/'National Shipments'!AE$149","v":0.93575397119063897}]
[null,null,null,"EL4",10.020890372503978,null,{"$f":"H148","v":0},0,0,0,0,0,0,0,0,0,0,0,0,0,0,0,0,0,0,0,0,0,0,0,0,0,0,0,{"$f":"'National Shipments'!F148/'National Shipments'!F$149","v":0},{"$f":"'National Shipments'!G148/'National Shipments'!G$149","v":0},{"$f":"'National Shipments'!H148/'National Shipments'!H$149","v":0},{"$f":"'National Shipments'!I148/'National Shipments'!I$149","v":0},{"$f":"'National Shipments'!J148/'National Shipments'!J$149","v":0},{"$f":"'National Shipments'!K148/'National Shipments'!K$149","v":0},{"$f":"'National Shipments'!L148/'National Shipments'!L$149","v":0},{"$f":"'National Shipments'!M148/'National Shipments'!M$149","v":0},{"$f":"'National Shipments'!N148/'National Shipments'!N$149","v":0},{"$f":"'National Shipments'!O148/'National Shipments'!O$149","v":0},{"$f":"'National Shipments'!P148/'National Shipments'!P$149","v":0},{"$f":"'National Shipments'!Q148/'National Shipments'!Q$149","v":0},{"$f":"'National Shipments'!R148/'National Shipments'!R$149","v":0},{"$f":"'National Shipments'!S148/'National Shipments'!S$149","v":0},{"$f":"'National Shipments'!T148/'National Shipments'!T$149","v":0},{"$f":"'National Shipments'!U148/'National Shipments'!U$149","v":0},{"$f":"'National Shipments'!V148/'National Shipments'!V$149","v":0},{"$f":"'National Shipments'!W148/'National Shipments'!W$149","v":0},{"$f":"'National Shipments'!X148/'National Shipments'!X$149","v":0},{"$f":"'National Shipments'!Y148/'National Shipments'!Y$149","v":0},{"$f":"'National Shipments'!Z148/'National Shipments'!Z$149","v":0},{"$f":"'National Shipments'!AA148/'National Shipments'!AA$149","v":0},{"$f":"'National Shipments'!AB148/'National Shipments'!AB$149","v":9.4943482891805056E-3},{"$f":"'National Shipments'!AC148/'National Shipments'!AC$149","v":2.2348370366575668E-2},{"$f":"'National Shipments'!AD148/'National Shipments'!AD$149","v":3.5234527499166848E-2},{"$f":"'National Shipments'!AE148/'National Shipments'!AE$149","v":6.4246028809361089E-2}]
[null,null,null,"TOTAL",null,null,{"$f":"H149","v":1},1,1,1,1,1,1,1,1,1,1,1,1,1,1,1,1,1,1,1,1,1,1,1,1,1,1,1,{"$f":"'National Shipments'!F149/'National Shipments'!F$149","v":1},{"$f":"'National Shipments'!G149/'National Shipments'!G$149","v":1},{"$f":"'National Shipments'!H149/'National Shipments'!H$149","v":1},{"$f":"'National Shipments'!I149/'National Shipments'!I$149","v":1},{"$f":"'National Shipments'!J149/'National Shipments'!J$149","v":1},{"$f":"'National Shipments'!K149/'National Shipments'!K$149","v":1},{"$f":"'National Shipments'!L149/'National Shipments'!L$149","v":1},{"$f":"'National Shipments'!M149/'National Shipments'!M$149","v":1},{"$f":"'National Shipments'!N149/'National Shipments'!N$149","v":1},{"$f":"'National Shipments'!O149/'National Shipments'!O$149","v":1},{"$f":"'National Shipments'!P149/'National Shipments'!P$149","v":1},{"$f":"'National Shipments'!Q149/'National Shipments'!Q$149","v":1},{"$f":"'National Shipments'!R149/'National Shipments'!R$149","v":1},{"$f":"'National Shipments'!S149/'National Shipments'!S$149","v":1},{"$f":"'National Shipments'!T149/'National Shipments'!T$149","v":1},{"$f":"'National Shipments'!U149/'National Shipments'!U$149","v":1},{"$f":"'National Shipments'!V149/'National Shipments'!V$149","v":1},{"$f":"'National Shipments'!W149/'National Shipments'!W$149","v":1},{"$f":"'National Shipments'!X149/'National Shipments'!X$149","v":1},{"$f":"'National Shipments'!Y149/'National Shipments'!Y$149","v":1},{"$f":"'National Shipments'!Z149/'National Shipments'!Z$149","v":1},{"$f":"'National Shipments'!AA149/'National Shipments'!AA$149","v":1},{"$f":"'National Shipments'!AB149/'National Shipments'!AB$149","v":1},{"$f":"'National Shipments'!AC149/'National Shipments'!AC$149","v":1},{"$f":"'National Shipments'!AD149/'National Shipments'!AD$149","v":1},{"$f":"'National Shipments'!AE149/'National Shipments'!AE$149","v":1}]
[]
[null,null,null,"Sources","2011 DOE Residential Room Air Conditioners Direct Final Rule Government Regulatory Impact Model 'Product Shipments (CALC)' tab."]

{"sheet":"Efficiency Dist - MF","index":9,"n_rows":151,"n_cols":60,"rows_kept":151,"cut":false,"hidden":false,"merged":[[1,2,1,5],[3,2,3,5],[5,2,5,5]]}
[]
[null,null,"Efficiency Distributions by Product Class - Multi-Family"]
[]
[null,null,"NAVIGATION"]
[]
[null,null,"COMMENTS"]
[]
[]
[null,null,null,"PC1  Without reverse cycle, with louvered sides, and less than 6,000 Btu/h"]
[]
[null,null,null,"PRE-Case"]
[null,null,null,"Efficiency Level","CEER",null,1981,1982,1983,1984,1985,1986,1987,1988,1989,1990,1991,1992,1993,1994,1995,1996,1997,1998,1999,2000,2001,2002,2003,2004,2005,2006,2007,2008,2009,2010,2011,2012,2013,2014,2015,2016,2017,2018,2019,2020,2021,2022,2023,2024,2025,2026,2027,2028,2029,2030,2031,2032,2033,2034]
[null,null,null,"EL0",{"$f":"INDEX(EFFICIENCY_LEVELS,RIGHT(D13,1)+1,MID($D$9,3,1))","v":9.5235933377732245},null,{"$f":"H13","v":0.69330000000000003},0.69330000000000003,0.69330000000000003,0.69330000000000003,0.69330000000000003,0.69330000000000003,0.69330000000000003,0.69330000000000003,0.69330000000000003,0.69330000000000003,0.69330000000000003,0.69330000000000003,0.69330000000000003,0.69330000000000003,0.69330000000000003,0.69330000000000003,{"$f":"X13","v":0.69330000000000003},0.69330000000000003,0.69330000000000003,0.69330000000000003,0.69330000000000003,0.69330000000000003,0.69330000000000003,0.69330000000000003,0.69330000000000003,0.69330000000000003,0.69330000000000003,{"$f":"AI13","v":0.69330000000000003},{"$f":"'National Shipments'!F13/'National Shipments'!F$19","v":0.69330000000000003},{"$f":"'National Shipments'!G13/'National Shipments'!G$19","v":0.69330000000000003},{"$f":"'National Shipments'!H13/'National Shipments'!H$19","v":0.69330000000000003},{"$f":"'National Shipments'!I13/'National Shipments'!I$19","v":0.69329999999999992},{"$f":"'National Shipments'!J13/'National Shipments'!J$19","v":0.69330000000000003},{"$f":"'National Shipments'!K13/'National Shipments'!K$19","v":0.69330000000000014},{"$f":"'National Shipments'!L13/'National Shipments'!L$19","v":0.65053710399621079},{"$f":"'National Shipments'!M13/'National Shipments'!M$19","v":0.60766730075241293},{"$f":"'National Shipments'!N13/'National Shipments'!N$19","v":0.5646903230005037},{"$f":"'National Shipments'!O13/'National Shipments'!O$19","v":0.52160590280421637},{"$f":"'National Shipments'!P13/'National Shipments'!P$19","v":0.47841377155743875},{"$f":"'National Shipments'!Q13/'National Shipments'!Q$19","v":0.43511365998254231},{"$f":"'National Shipments'!R13/'National Shipments'!R$19","v":0.39170529812870925},{"$f":"'National Shipments'!S13/'National Shipments'!S$19","v":0.34818841537024325},{"$f":"'National Shipments'!T13/'National Shipments'!T$19","v":0.30456274040488057},{"$f":"'National Shipments'!U13/'National Shipments'!U$19","v":0.26082800125210198},{"$f":"'National Shipments'!V13/'National Shipments'!V$19","v":0.21698392525144305},{"$f":"'National Shipments'!W13/'National Shipments'!W$19","v":0.17303023906078133},{"$f":"'National Shipments'!X13/'National Shipments'!X$19","v":0.12896666865464387},{"$f":"'National Shipments'!Y13/'National Shipments'!Y$19","v":8.4792939322491448E-2},{"$f":"'National Shipments'!Z13/'National Shipments'!Z$19","v":4.0508775667007273E-2},{"$f":"'National Shipments'!AA13/'National Shipments'!AA$19","v":0},{"$f":"'National Shipments'!AB13/'National Shipments'!AB$19","v":0},{"$f":"'National Shipments'!AC13/'National Shipments'!AC$19","v":0},{"$f":"'National Shipments'!AD13/'National Shipments'!AD$19","v":0},{"$f":"'National Shipments'!AE13/'National Shipments'!AE$19","v":0}]
[null,null,null,"EL1",10.1,null,0,0,0,0,0,0,0,0,0,0,0,0,0,0,0,0,0,0,0,0,0,0,0,0,0,0,0,0,{"$f":"'National Shipments'!F14/'National Shipments'!F$19","v":0},{"$f":"'National Shipments'!G14/'National Shipments'!G$19","v":0},{"$f":"'National Shipments'!H14/'National Shipments'!H$19","v":0},{"$f":"'National Shipments'!I14/'National Shipments'!I$19","v":0},{"$f":"'National Shipments'!J14/'National Shipments'!J$19","v":0},{"$f":"'National Shipments'!K14/'National Shipments'!K$19","v":0},{"$f":"'National Shipments'!L14/'National Shipments'!L$19","v":4.2762896003789352E-2},{"$f":"'National Shipments'!M14/'National Shipments'!M$19","v":8.5632699247587096E-2},{"$f":"'National Shipments'!N14/'National Shipments'!N$19","v":0.1286096769994963},{"$f":"'National Shipments'!O14/'National Shipments'!O$19","v":0.17169409719578366},{"$f":"'National Shipments'!P14/'National Shipments'!P$19","v":0.21488622844256128},{"$f":"'National Shipments'!Q14/'National Shipments'!Q$19","v":0.25818634001745766},{"$f":"'National Shipments'!R14/'National Shipments'!R$19","v":0.30159470187129073},{"$f":"'National Shipments'!S14/'National Shipments'!S$19","v":0.34511158462975688},{"$f":"'National Shipments'!T14/'National Shipments'!T$19","v":0.38873725959511951},{"$f":"'National Shipments'!U14/'National Shipments'!U$19","v":0.4324719987478981},{"$f":"'National Shipments'!V14/'National Shipments'!V$19","v":0.47631607474855692},{"$f":"'National Shipments'!W14/'National Shipments'!W$19","v":0.52026976093921884},{"$f":"'National Shipments'!X14/'National Shipments'!X$19","v":0.56433333134535613},{"$f":"'National Shipments'!Y14/'National Shipments'!Y$19","v":0.6085070606775087},{"$f":"'National Shipments'!Z14/'National Shipments'!Z$19","v":0.65279122433299275},{"$f":"'National Shipments'!AA14/'National Shipments'!AA$19","v":0.68882005398708945},{"$f":"'National Shipments'!AB14/'National Shipments'!AB$19","v":0.63751310412205986},{"$f":"'National Shipments'!AC14/'National Shipments'!AC$19","v":0.58607788688236728},{"$f":"'National Shipments'!AD14/'National Shipments'!AD$19","v":0.53451408159957414},{"$f":"'National Shipments'!AE14/'National Shipments'!AE$19","v":0.48282136680357318}]
[null,null,null,"EL2",10.6,null,0.29509999999999992,0.29509999999999992,0.29509999999999992,0.29509999999999992,0.29509999999999992,0.29509999999999992,0.29509999999999992,0.29509999999999992,0.29509999999999992,0.29509999999999992,0.29509999999999992,0.29509999999999992,0.29509999999999992,0.29509999999999992,0.29509999999999992,0.29509999999999992,0.29509999999999992,0.29509999999999992,0.29509999999999992,0.29509999999999992,0.29509999999999992,0.29509999999999992,0.29509999999999992,0.29509999999999992,0.29509999999999992,0.29509999999999992,0.29509999999999992,0.29509999999999992,{"$f":"'National Shipments'!F15/'National Shipments'!F$19","v":0.29509999999999992},{"$f":"'National Shipments'!G15/'National Shipments'!G$19","v":0.29509999999999992},{"$f":"'National Shipments'!H15/'National Shipments'!H$19","v":0.29510000000000003},{"$f":"'National Shipments'!I15/'National Shipments'!I$19","v":0.29510000000000003},{"$f":"'National Shipments'!J15/'National Shipments'!J$19","v":0.29510000000000003},{"$f":"'National Shipments'!K15/'National Shipments'!K$19","v":0.29510000000000003},{"$f":"'National Shipments'!L15/'National Shipments'!L$19","v":0.29509999999999997},{"$f":"'National Shipments'!M15/'National Shipments'!M$19","v":0.29510000000000003},{"$f":"'National Shipments'!N15/'National Shipments'!N$19","v":0.29509999999999992},{"$f":"'National Shipments'!O15/'National Shipments'!O$19","v":0.29509999999999997},{"$f":"'National Shipments'!P15/'National Shipments'!P$19","v":0.29509999999999997},{"$f":"'National Shipments'!Q15/'National Shipments'!Q$19","v":0.29509999999999997},{"$f":"'National Shipments'!R15/'National Shipments'!R$19","v":0.29509999999999997},{"$f":"'National Shipments'!S15/'National Shipments'!S$19","v":0.29510000000000003},{"$f":"'National Shipments'!T15/'National Shipments'!T$19","v":0.29510000000000003},{"$f":"'National Shipments'!U15/'National Shipments'!U$19","v":0.29509999999999997},{"$f":"'National Shipments'!V15/'National Shipments'!V$19","v":0.29509999999999997},{"$f":"'National Shipments'!W15/'National Shipments'!W$19","v":0.29510000000000003},{"$f":"'National Shipments'!X15/'National Shipments'!X$19","v":0.29509999999999992},{"$f":"'National Shipments'!Y15/'National Shipments'!Y$19","v":0.29510000000000003},{"$f":"'National Shipments'!Z15/'National Shipments'!Z$19","v":0.29509999999999997},{"$f":"'National Shipments'!AA15/'National Shipments'!AA$19","v":0.29957994601291049},{"$f":"'National Shipments'!AB15/'National Shipments'!AB$19","v":0.35088689587794014},{"$f":"'National Shipments'!AC15/'National Shipments'!AC$19","v":0.40232211311763266},{"$f":"'National Shipments'!AD15/'National Shipments'!AD$19","v":0.4538859184004258},{"$f":"'National Shipments'!AE15/'National Shipments'!AE$19","v":0.50557863319642693}]
[null,null,null,"EL3",11.1,null,1.1599999999999997E-2,1.1599999999999997E-2,1.1599999999999997E-2,1.1599999999999997E-2,1.1599999999999997E-2,1.1599999999999997E-2,1.1599999999999997E-2,1.1599999999999997E-2,1.1599999999999997E-2,1.1599999999999997E-2,1.1599999999999997E-2,1.1599999999999997E-2,1.1599999999999997E-2,1.1599999999999997E-2,1.1599999999999997E-2,1.1599999999999997E-2,1.1599999999999997E-2,1.1599999999999997E-2,1.1599999999999997E-2,1.1599999999999997E-2,1.1599999999999997E-2,1.1599999999999997E-2,1.1599999999999997E-2,1.1599999999999997E-2,1.1599999999999997E-2,1.1599999999999997E-2,1.1599999999999997E-2,1.1599999999999997E-2,{"$f":"'National Shipments'!F16/'National Shipments'!F$19","v":1.1599999999999997E-2},{"$f":"'National Shipments'!G16/'National Shipments'!G$19","v":1.1599999999999999E-2},{"$f":"'National Shipments'!H16/'National Shipments'!H$19","v":1.1600000000000001E-2},{"$f":"'National Shipments'!I16/'National Shipments'!I$19","v":1.1599999999999999E-2},{"$f":"'National Shipments'!J16/'National Shipments'!J$19","v":1.1600000000000001E-2},{"$f":"'National Shipments'!K16/'National Shipments'!K$19","v":1.1600000000000001E-2},{"$f":"'National Shipments'!L16/'National Shipments'!L$19","v":1.1599999999999999E-2},{"$f":"'National Shipments'!M16/'National Shipments'!M$19","v":1.1600000000000001E-2},{"$f":"'National Shipments'!N16/'National Shipments'!N$19","v":1.1599999999999997E-2},{"$f":"'National Shipments'!O16/'National Shipments'!O$19","v":1.1599999999999999E-2},{"$f":"'National Shipments'!P16/'National Shipments'!P$19","v":1.1599999999999997E-2},{"$f":"'National Shipments'!Q16/'National Shipments'!Q$19","v":1.1600000000000001E-2},{"$f":"'National Shipments'!R16/'National Shipments'!R$19","v":1.1599999999999999E-2},{"$f":"'National Shipments'!S16/'National Shipments'!S$19","v":1.1600000000000001E-2},{"$f":"'National Shipments'!T16/'National Shipments'!T$19","v":1.1600000000000001E-2},{"$f":"'National Shipments'!U16/'National Shipments'!U$19","v":1.1599999999999997E-2},{"$f":"'National Shipments'!V16/'National Shipments'!V$19","v":1.1599999999999999E-2},{"$f":"'National Shipments'!W16/'National Shipments'!W$19","v":1.1600000000000001E-2},{"$f":"'National Shipments'!X16/'National Shipments'!X$19","v":1.1599999999999999E-2},{"$f":"'National Shipments'!Y16/'National Shipments'!Y$19","v":1.1600000000000001E-2},{"$f":"'National Shipments'!Z16/'National Shipments'!Z$19","v":1.1599999999999999E-2},{"$f":"'National Shipments'!AA16/'National Shipments'!AA$19","v":1.1599999999999999E-2},{"$f":"'National Shipments'!AB16/'National Shipments'!AB$19","v":1.1600000000000001E-2},{"$f":"'National Shipments'!AC16/'National Shipments'!AC$19","v":1.1599999999999999E-2},{"$f":"'National Shipments'!AD16/'National Shipments'!AD$19","v":1.1600000000000001E-2},{"$f":"'National Shipments'!AE16/'National Shipments'!AE$19","v":1.1600000000000003E-2}]
[null,null,null,"EL4",11.384883004768115,null,0,0,0,0,0,0,0,0,0,0,0,0,0,0,0,0,0,0,0,0,0,0,0,0,0,0,0,0,{"$f":"'National Shipments'!F17/'National Shipments'!F$19","v":0},{"$f":"'National Shipments'!G17/'National Shipments'!G$19","v":0},{"$f":"'National Shipments'!H17/'National Shipments'!H$19","v":0},{"$f":"'National Shipments'!I17/'National Shipments'!I$19","v":0},{"$f":"'National Shipments'!J17/'National Shipments'!J$19","v":0},{"$f":"'National Shipments'!K17/'National Shipments'!K$19","v":0},{"$f":"'National Shipments'!L17/'National Shipments'!L$19","v":0},{"$f":"'National Shipments'!M17/'National Shipments'!M$19","v":0},{"$f":"'National Shipments'!N17/'National Shipments'!N$19","v":0},{"$f":"'National Shipments'!O17/'National Shipments'!O$19","v":0},{"$f":"'National Shipments'!P17/'National Shipments'!P$19","v":0},{"$f":"'National Shipments'!Q17/'National Shipments'!Q$19","v":0},{"$f":"'National Shipments'!R17/'National Shipments'!R$19","v":0},{"$f":"'National Shipments'!S17/'National Shipments'!S$19","v":0},{"$f":"'National Shipments'!T17/'National Shipments'!T$19","v":0},{"$f":"'National Shipments'!U17/'National Shipments'!U$19","v":0},{"$f":"'National Shipments'!V17/'National Shipments'!V$19","v":0},{"$f":"'National Shipments'!W17/'National Shipments'!W$19","v":0},{"$f":"'National Shipments'!X17/'National Shipments'!X$19","v":0},{"$f":"'National Shipments'!Y17/'National Shipments'!Y$19","v":0},{"$f":"'National Shipments'!Z17/'National Shipments'!Z$19","v":0},{"$f":"'National Shipments'!AA17/'National Shipments'!AA$19","v":0},{"$f":"'National Shipments'!AB17/'National Shipments'!AB$19","v":0},{"$f":"'National Shipments'!AC17/'National Shipments'!AC$19","v":0},{"$f":"'National Shipments'!AD17/'National Shipments'!AD$19","v":0},{"$f":"'National Shipments'!AE17/'National Shipments'!AE$19","v":0}]
[null,null,null,"EL5",11.665601284887952,null,0,0,0,0,0,0,0,0,0,0,0,0,0,0,0,0,0,0,0,0,0,0,0,0,0,0,0,0,{"$f":"'National Shipments'!F18/'National Shipments'!F$19","v":0},{"$f":"'National Shipments'!G18/'National Shipments'!G$19","v":0},{"$f":"'National Shipments'!H18/'National Shipments'!H$19","v":0},{"$f":"'National Shipments'!I18/'National Shipments'!I$19","v":0},{"$f":"'National Shipments'!J18/'National Shipments'!J$19","v":0},{"$f":"'National Shipments'!K18/'National Shipments'!K$19","v":0},{"$f":"'National Shipments'!L18/'National Shipments'!L$19","v":0},{"$f":"'National Shipments'!M18/'National Shipments'!M$19","v":0},{"$f":"'National Shipments'!N18/'National Shipments'!N$19","v":0},{"$f":"'National Shipments'!O18/'National Shipments'!O$19","v":0},{"$f":"'National Shipments'!P18/'National Shipments'!P$19","v":0},{"$f":"'National Shipments'!Q18/'National Shipments'!Q$19","v":0},{"$f":"'National Shipments'!R18/'National Shipments'!R$19","v":0},{"$f":"'National Shipments'!S18/'National Shipments'!S$19","v":0},{"$f":"'National Shipments'!T18/'National Shipments'!T$19","v":0},{"$f":"'National Shipments'!U18/'National Shipments'!U$19","v":0},{"$f":"'National Shipments'!V18/'National Shipments'!V$19","v":0},{"$f":"'National Shipments'!W18/'National Shipments'!W$19","v":0},{"$f":"'National Shipments'!X18/'National Shipments'!X$19","v":0},{"$f":"'National Shipments'!Y18/'National Shipments'!Y$19","v":0},{"$f":"'National Shipments'!Z18/'National Shipments'!Z$19","v":0},{"$f":"'National Shipments'!AA18/'National Shipments'!AA$19","v":0},{"$f":"'National Shipments'!AB18/'National Shipments'!AB$19","v":0},{"$f":"'National Shipments'!AC18/'National Shipments'!AC$19","v":0},{"$f":"'National Shipments'!AD18/'National Shipments'!AD$19","v":0},{"$f":"'National Shipments'!AE18/'National Shipments'!AE$19","v":0}]
[null,null,null,"TOTAL",null,null,1,1,1,1,1,1,1,1,1,1,1,1,1,1,1,1,1,1,1,1,1,1,1,1,1,1,1,1,{"$f":"'National Shipments'!F19/'National Shipments'!F$19","v":1},{"$f":"'National Shipments'!G19/'National Shipments'!G$19","v":1},{"$f":"'National Shipments'!H19/'National Shipments'!H$19","v":1},{"$f":"'National Shipments'!I19/'National Shipments'!I$19","v":1},{"$f":"'National Shipments'!J19/'National Shipments'!J$19","v":1},{"$f":"'National Shipments'!K19/'National Shipments'!K$19","v":1},{"$f":"'National Shipments'!L19/'National Shipments'!L$19","v":1},{"$f":"'National Shipments'!M19/'National Shipments'!M$19","v":1},{"$f":"'National Shipments'!N19/'National Shipments'!N$19","v":1},{"$f":"'National Shipments'!O19/'National Shipments'!O$19","v":1},{"$f":"'National Shipments'!P19/'National Shipments'!P$19","v":1},{"$f":"'National Shipments'!Q19/'National Shipments'!Q$19","v":1},{"$f":"'National Shipments'!R19/'National Shipments'!R$19","v":1},{"$f":"'National Shipments'!S19/'National Shipments'!S$19","v":1},{"$f":"'National Shipments'!T19/'National Shipments'!T$19","v":1},{"$f":"'National Shipments'!U19/'National Shipments'!U$19","v":1},{"$f":"'National Shipments'!V19/'National Shipments'!V$19","v":1},{"$f":"'National Shipments'!W19/'National Shipments'!W$19","v":1},{"$f":"'National Shipments'!X19/'National Shipments'!X$19","v":1},{"$f":"'National Shipments'!Y19/'National Shipments'!Y$19","v":1},{"$f":"'National Shipments'!Z19/'National Shipments'!Z$19","v":1},{"$f":"'National Shipments'!AA19/'National Shipments'!AA$19","v":1},{"$f":"'National Shipments'!AB19/'National Shipments'!AB$19","v":1},{"$f":"'National Shipments'!AC19/'National Shipments'!AC$19","v":1},{"$f":"'National Shipments'!AD19/'National Shipments'!AD$19","v":1},{"$f":"'National Shipments'!AE19/'National Shipments'!AE$19","v":1}]
[]
[null,null,null,"POST-Case"]
[null,null,null,"Efficiency Level","CEER",null,1981,1982,1983,1984,1985,1986,1987,1988,1989,1990,1991,1992,1993,1994,1995,1996,1997,1998,1999,2000,2001,2002,2003,2004,2005,2006,2007,2008,2009,2010,2011,2012,2013,2014,2015,2016,2017,2018,2019,2020,2021,2022,2023,2024,2025,2026,2027,2028,2029,2030,2031,2032,2033,2034]
[null,null,null,"EL0",{"$f":"INDEX(EFFICIENCY_LEVELS,RIGHT(D23,1)+1,MID($D$9,3,1))","v":9.5235933377732245},null,{"$f":"H23","v":0.69330000000000003},0.69330000000000003,0.69330000000000003,0.69330000000000003,0.69330000000000003,0.69330000000000003,0.69330000000000003,0.69330000000000003,0.69330000000000003,0.69330000000000003,0.69330000000000003,0.69330000000000003,0.69330000000000003,0.69330000000000003,0.69330000000000003,0.69330000000000003,0.69330000000000003,0.69330000000000003,0.69330000000000003,0.69330000000000003,0.69330000000000003,0.69330000000000003,0.69330000000000003,0.69330000000000003,0.69330000000000003,0.69330000000000003,0.69330000000000003,{"$f":"AI23","v":0.69330000000000003},{"$f":"'National Shipments'!F23/'National Shipments'!F$29","v":0.69330000000000003},{"$f":"'National Shipments'!G23/'National Shipments'!G$29","v":0.69330000000000003},{"$f":"'National Shipments'!H23/'National Shipments'!H$29","v":0.69330000000000003},{"$f":"'National Shipments'!I23/'National Shipments'!I$29","v":0.69329999999999992},{"$f":"'National Shipments'!J23/'National Shipments'!J$29","v":0.69330000000000003},{"$f":"'National Shipments'!K23/'National Shipments'!K$29","v":0},{"$f":"'National Shipments'!L23/'National Shipments'!L$29","v":0},{"$f":"'National Shipments'!M23/'National Shipments'!M$29","v":0},{"$f":"'National Shipments'!N23/'National Shipments'!N$29","v":0},{"$f":"'National Shipments'!O23/'National Shipments'!O$29","v":0},{"$f":"'National Shipments'!P23/'National Shipments'!P$29","v":0},{"$f":"'National Shipments'!Q23/'National Shipments'!Q$29","v":0},{"$f":"'National Shipments'!R23/'National Shipments'!R$29","v":0},{"$f":"'National Shipments'!S23/'National Shipments'!S$29","v":0},{"$f":"'National Shipments'!T23/'National Shipments'!T$29","v":0},{"$f":"'National Shipments'!U23/'National Shipments'!U$29","v":0},{"$f":"'National Shipments'!V23/'National Shipments'!V$29","v":0},{"$f":"'National Shipments'!W23/'National Shipments'!W$29","v":0},{"$f":"'National Shipments'!X23/'National Shipments'!X$29","v":0},{"$f":"'National Shipments'!Y23/'National Shipments'!Y$29","v":0},{"$f":"'National Shipments'!Z23/'National Shipments'!Z$29","v":0},{"$f":"'National Shipments'!AA23/'National Shipments'!AA$29","v":0},{"$f":"'National Shipments'!AB23/'National Shipments'!AB$29","v":0},{"$f":"'National Shipments'!AC23/'National Shipments'!AC$29","v":0},{"$f":"'National Shipments'!AD23/'National Shipments'!AD$29","v":0},{"$f":"'National Shipments'!AE23/'National Shipments'!AE$29","v":0}]
[null,null,null,"EL1",10.1,null,0,0,0,0,0,0,0,0,0,0,0,0,0,0,0,0,0,0,0,0,0,0,0,0,0,0,0,{"$f":"AI24","v":0},{"$f":"'National Shipments'!F24/'National Shipments'!F$29","v":0},{"$f":"'National Shipments'!G24/'National Shipments'!G$29","v":0},{"$f":"'National Shipments'!H24/'National Shipments'!H$29","v":0},{"$f":"'National Shipments'!I24/'National Shipments'!I$29","v":0},{"$f":"'National Shipments'!J24/'National Shipments'!J$29","v":0},{"$f":"'National Shipments'!K24/'National Shipments'!K$29","v":0},{"$f":"'National Shipments'!L24/'National Shipments'!L$29","v":0},{"$f":"'National Shipments'!M24/'National Shipments'!M$29","v":0},{"$f":"'National Shipments'!N24/'National Shipments'!N$29","v":0},{"$f":"'National Shipments'!O24/'National Shipments'!O$29","v":0},{"$f":"'National Shipments'!P24/'National Shipments'!P$29","v":0},{"$f":"'National Shipments'!Q24/'National Shipments'!Q$29","v":0},{"$f":"'National Shipments'!R24/'National Shipments'!R$29","v":0},{"$f":"'National Shipments'!S24/'National Shipments'!S$29","v":0},{"$f":"'National Shipments'!T24/'National Shipments'!T$29","v":0},{"$f":"'National Shipments'!U24/'National Shipments'!U$29","v":0},{"$f":"'National Shipments'!V24/'National Shipments'!V$29","v":0},{"$f":"'National Shipments'!W24/'National Shipments'!W$29","v":0},{"$f":"'National Shipments'!X24/'National Shipments'!X$29","v":0},{"$f":"'National Shipments'!Y24/'National Shipments'!Y$29","v":0},{"$f":"'National Shipments'!Z24/'National Shipments'!Z$29","v":0},{"$f":"'National Shipments'!AA24/'National Shipments'!AA$29","v":0},{"$f":"'National Shipments'!AB24/'National Shipments'!AB$29","v":0},{"$f":"'National Shipments'!AC24/'National Shipments'!AC$29","v":0},{"$f":"'National Shipments'!AD24/'National Shipments'!AD$29","v":0},{"$f":"'National Shipments'!AE24/'National Shipments'!AE$29","v":0}]
[null,null,null,"EL2",10.6,null,0.29509999999999992,0.29509999999999992,0.29509999999999992,0.29509999999999992,0.29509999999999992,0.29509999999999992,0.29509999999999992,0.29509999999999992,0.29509999999999992,0.29509999999999992,0.29509999999999992,0.29509999999999992,0.29509999999999992,0.29509999999999992,0.29509999999999992,0.29509999999999992,0.29509999999999992,0.29509999999999992,0.29509999999999992,0.29509999999999992,0.29509999999999992,0.29509999999999992,0.29509999999999992,0.29509999999999992,0.29509999999999992,0.29509999999999992,0.29509999999999992,0.29509999999999992,{"$f":"'National Shipments'!F25/'National Shipments'!F$29","v":0.29509999999999992},{"$f":"'National Shipments'!G25/'National Shipments'!G$29","v":0.29509999999999992},{"$f":"'National Shipments'!H25/'National Shipments'!H$29","v":0.29510000000000003},{"$f":"'National Shipments'!I25/'National Shipments'!I$29","v":0.29510000000000003},{"$f":"'National Shipments'!J25/'National Shipments'!J$29","v":0.29510000000000003},{"$f":"'National Shipments'!K25/'National Shipments'!K$29","v":0},{"$f":"'National Shipments'!L25/'National Shipments'!L$29","v":0},{"$f":"'National Shipments'!M25/'National Shipments'!M$29","v":0},{"$f":"'National Shipments'!N25/'National Shipments'!N$29","v":0},{"$f":"'National Shipments'!O25/'National Shipments'!O$29","v":0},{"$f":"'National Shipments'!P25/'National Shipments'!P$29","v":0},{"$f":"'National Shipments'!Q25/'National Shipments'!Q$29","v":0},{"$f":"'National Shipments'!R25/'National Shipments'!R$29","v":0},{"$f":"'National Shipments'!S25/'National Shipments'!S$29","v":0},{"$f":"'National Shipments'!T25/'National Shipments'!T$29","v":0},{"$f":"'National Shipments'!U25/'National Shipments'!U$29","v":0},{"$f":"'National Shipments'!V25/'National Shipments'!V$29","v":0},{"$f":"'National Shipments'!W25/'National Shipments'!W$29","v":0},{"$f":"'National Shipments'!X25/'National Shipments'!X$29","v":0},{"$f":"'National Shipments'!Y25/'National Shipments'!Y$29","v":0},{"$f":"'National Shipments'!Z25/'National Shipments'!Z$29","v":0},{"$f":"'National Shipments'!AA25/'National Shipments'!AA$29","v":0},{"$f":"'National Shipments'!AB25/'National Shipments'!AB$29","v":0},{"$f":"'National Shipments'!AC25/'National Shipments'!AC$29","v":0},{"$f":"'National Shipments'!AD25/'National Shipments'!AD$29","v":0},{"$f":"'National Shipments'!AE25/'National Shipments'!AE$29","v":0}]
[null,null,null,"EL3",11.1,null,1.1599999999999997E-2,1.1599999999999997E-2,1.1599999999999997E-2,1.1599999999999997E-2,1.1599999999999997E-2,1.1599999999999997E-2,1.1599999999999997E-2,1.1599999999999997E-2,1.1599999999999997E-2,1.1599999999999997E-2,1.1599999999999997E-2,1.1599999999999997E-2,1.1599999999999997E-2,1.1599999999999997E-2,1.1599999999999997E-2,1.1599999999999997E-2,1.1599999999999997E-2,1.1599999999999997E-2,1.1599999999999997E-2,1.1599999999999997E-2,1.1599999999999997E-2,1.1599999999999997E-2,1.1599999999999997E-2,1.1599999999999997E-2,1.1599999999999997E-2,1.1599999999999997E-2,1.1599999999999997E-2,1.1599999999999997E-2,{"$f":"'National Shipments'!F26/'National Shipments'!F$29","v":1.1599999999999997E-2},{"$f":"'National Shipments'!G26/'National Shipments'!G$29","v":1.1599999999999999E-2},{"$f":"'National Shipments'!H26/'National Shipments'!H$29","v":1.1600000000000001E-2},{"$f":"'National Shipments'!I26/'National Shipments'!I$29","v":1.1599999999999999E-2},{"$f":"'National Shipments'!J26/'National Shipments'!J$29","v":1.1600000000000001E-2},{"$f":"'National Shipments'!K26/'National Shipments'!K$29","v":1},{"$f":"'National Shipments'!L26/'National Shipments'!L$29","v":0.975655639699473},{"$f":"'National Shipments'!M26/'National Shipments'!M$29","v":0.95005241180755629},{"$f":"'National Shipments'!N26/'National Shipments'!N$29","v":0.92558449023858747},{"$f":"'National Shipments'!O26/'National Shipments'!O$29","v":0.90105539886570263},{"$f":"'National Shipments'!P26/'National Shipments'!P$29","v":0.87646498476438428},{"$f":"'National Shipments'!Q26/'National Shipments'!Q$29","v":0.85181309462781019},{"$f":"'National Shipments'!R26/'National Shipments'!R$29","v":0.82709957476589213},{"$f":"'National Shipments'!S26/'National Shipments'!S$29","v":0.80232427110432225},{"$f":"'National Shipments'!T26/'National Shipments'!T$29","v":0.77748702918360379},{"$f":"'National Shipments'!U26/'National Shipments'!U$29","v":0.75258769415807902},{"$f":"'National Shipments'!V26/'National Shipments'!V$29","v":0.72762611079498518},{"$f":"'National Shipments'!W26/'National Shipments'!W$29","v":0.70260212347348761},{"$f":"'National Shipments'!X26/'National Shipments'!X$29","v":0.67751557618368941},{"$f":"'National Shipments'!Y26/'National Shipments'!Y$29","v":0.65236631252566302},{"$f":"'National Shipments'!Z26/'National Shipments'!Z$29","v":0.62715417570849274},{"$f":"'National Shipments'!AA26/'National Shipments'!AA$29","v":0.60079196678151603},{"$f":"'National Shipments'!AB26/'National Shipments'!AB$29","v":0.56300417652840073},{"$f":"'National Shipments'!AC26/'National Shipments'!AC$29","v":0.52512191679965781},{"$f":"'National Shipments'!AD26/'National Shipments'!AD$29","v":0.48714495142158948},{"$f":"'National Shipments'!AE26/'National Shipments'!AE$29","v":0.44907304363007039}]
[null,null,null,"EL4",11.384883004768115,null,0,0,0,0,0,0,0,0,0,0,0,0,0,0,0,0,0,0,0,0,0,0,0,0,0,0,0,0,{"$f":"'National Shipments'!F27/'National Shipments'!F$29","v":0},{"$f":"'National Shipments'!G27/'National Shipments'!G$29","v":0},{"$f":"'National Shipments'!H27/'National Shipments'!H$29","v":0},{"$f":"'National Shipments'!I27/'National Shipments'!I$29","v":0},{"$f":"'National Shipments'!J27/'National Shipments'!J$29","v":0},{"$f":"'National Shipments'!K27/'National Shipments'!K$29","v":0},{"$f":"'National Shipments'!L27/'National Shipments'!L$29","v":2.434436030052705E-2},{"$f":"'National Shipments'!M27/'National Shipments'!M$29","v":4.9947588192443729E-2},{"$f":"'National Shipments'!N27/'National Shipments'!N$29","v":7.4415509761412577E-2},{"$f":"'National Shipments'!O27/'National Shipments'!O$29","v":9.8944601134297289E-2},{"$f":"'National Shipments'!P27/'National Shipments'!P$29","v":0.12353501523561576},{"$f":"'National Shipments'!Q27/'National Shipments'!Q$29","v":0.14818690537218981},{"$f":"'National Shipments'!R27/'National Shipments'!R$29","v":0.17290042523410801},{"$f":"'National Shipments'!S27/'National Shipments'!S$29","v":0.19767572889567778},{"$f":"'National Shipments'!T27/'National Shipments'!T$29","v":0.22251297081639626},{"$f":"'National Shipments'!U27/'National Shipments'!U$29","v":0.247412305841921},{"$f":"'National Shipments'!V27/'National Shipments'!V$29","v":0.27237388920501476},{"$f":"'National Shipments'!W27/'National Shipments'!W$29","v":0.29739787652651239},{"$f":"'National Shipments'!X27/'National Shipments'!X$29","v":0.32248442381631059},{"$f":"'National Shipments'!Y27/'National Shipments'!Y$29","v":0.34763368747433704},{"$f":"'National Shipments'!Z27/'National Shipments'!Z$29","v":0.37284582429150737},{"$f":"'National Shipments'!AA27/'National Shipments'!AA$29","v":0.39920803321848403},{"$f":"'National Shipments'!AB27/'National Shipments'!AB$29","v":0.43699582347159927},{"$f":"'National Shipments'!AC27/'National Shipments'!AC$29","v":0.4748780832003423},{"$f":"'National Shipments'!AD27/'National Shipments'!AD$29","v":0.51285504857841058},{"$f":"'National Shipments'!AE27/'National Shipments'!AE$29","v":0.55092695636992961}]
[null,null,null,"EL5",11.665601284887952,null,0,0,0,0,0,0,0,0,0,0,0,0,0,0,0,0,0,0,0,0,0,0,0,0,0,0,0,0,{"$f":"'National Shipments'!F28/'National Shipments'!F$29","v":0},{"$f":"'National Shipments'!G28/'National Shipments'!G$29","v":0},{"$f":"'National Shipments'!H28/'National Shipments'!H$29","v":0},{"$f":"'National Shipments'!I28/'National Shipments'!I$29","v":0},{"$f":"'National Shipments'!J28/'National Shipments'!J$29","v":0},{"$f":"'National Shipments'!K28/'National Shipments'!K$29","v":0},{"$f":"'National Shipments'!L28/'National Shipments'!L$29","v":0},{"$f":"'National Shipments'!M28/'National Shipments'!M$29","v":0},{"$f":"'National Shipments'!N28/'National Shipments'!N$29","v":0},{"$f":"'National Shipments'!O28/'National Shipments'!O$29","v":0},{"$f":"'National Shipments'!P28/'National Shipments'!P$29","v":0},{"$f":"'National Shipments'!Q28/'National Shipments'!Q$29","v":0},{"$f":"'National Shipments'!R28/'National Shipments'!R$29","v":0},{"$f":"'National Shipments'!S28/'National Shipments'!S$29","v":0},{"$f":"'National Shipments'!T28/'National Shipments'!T$29","v":0},{"$f":"'National Shipments'!U28/'National Shipments'!U$29","v":0},{"$f":"'National Shipments'!V28/'National Shipments'!V$29","v":0},{"$f":"'National Shipments'!W28/'National Shipments'!W$29","v":0},{"$f":"'National Shipments'!X28/'National Shipments'!X$29","v":0},{"$f":"'National Shipments'!Y28/'National Shipments'!Y$29","v":0},{"$f":"'National Shipments'!Z28/'National Shipments'!Z$29","v":0},{"$f":"'National Shipments'!AA28/'National Shipments'!AA$29","v":0},{"$f":"'National Shipments'!AB28/'National Shipments'!AB$29","v":0},{"$f":"'National Shipments'!AC28/'National Shipments'!AC$29","v":0},{"$f":"'National Shipments'!AD28/'National Shipments'!AD$29","v":0},{"$f":"'National Shipments'!AE28/'National Shipments'!AE$29","v":0}]
[null,null,null,"TOTAL",null,null,1,1,1,1,1,1,1,1,1,1,1,1,1,1,1,1,1,1,1,1,1,1,1,1,1,1,1,1,{"$f":"'National Shipments'!F29/'National Shipments'!F$29","v":1},{"$f":"'National Shipments'!G29/'National Shipments'!G$29","v":1},{"$f":"'National Shipments'!H29/'National Shipments'!H$29","v":1},{"$f":"'National Shipments'!I29/'National Shipments'!I$29","v":1},{"$f":"'National Shipments'!J29/'National Shipments'!J$29","v":1},{"$f":"'National Shipments'!K29/'National Shipments'!K$29","v":1},{"$f":"'National Shipments'!L29/'National Shipments'!L$29","v":1},{"$f":"'National Shipments'!M29/'National Shipments'!M$29","v":1},{"$f":"'National Shipments'!N29/'National Shipments'!N$29","v":1},{"$f":"'National Shipments'!O29/'National Shipments'!O$29","v":1},{"$f":"'National Shipments'!P29/'National Shipments'!P$29","v":1},{"$f":"'National Shipments'!Q29/'National Shipments'!Q$29","v":1},{"$f":"'National Shipments'!R29/'National Shipments'!R$29","v":1},{"$f":"'National Shipments'!S29/'National Shipments'!S$29","v":1},{"$f":"'National Shipments'!T29/'National Shipments'!T$29","v":1},{"$f":"'National Shipments'!U29/'National Shipments'!U$29","v":1},{"$f":"'National Shipments'!V29/'National Shipments'!V$29","v":1},{"$f":"'National Shipments'!W29/'National Shipments'!W$29","v":1},{"$f":"'National Shipments'!X29/'National Shipments'!X$29","v":1},{"$f":"'National Shipments'!Y29/'National Shipments'!Y$29","v":1},{"$f":"'National Shipments'!Z29/'National Shipments'!Z$29","v":1},{"$f":"'National Shipments'!AA29/'National Shipments'!AA$29","v":1},{"$f":"'National Shipments'!AB29/'National Shipments'!AB$29","v":1},{"$f":"'National Shipments'!AC29/'National Shipments'!AC$29","v":1},{"$f":"'National Shipments'!AD29/'National Shipments'!AD$29","v":1},{"$f":"'National Shipments'!AE29/'National Shipments'!AE$29","v":1}]
[]
[null,null,null,"Sources","2011 DOE Residential Room Air Conditioners Direct Final Rule Government Regulatory Impact Model 'Product Shipments (CALC)' tab."]
[]
[]
[]
[null,null,null,"PC2  Without reverse cycle, with louvered sides, and 8,000 to 13,999 Btu/h"]
[]
[null,null,null,"PRE-Case"]
[null,null,null,"Efficiency Level","CEER",null,1981,1982,1983,1984,1985,1986,1987,1988,1989,1990,1991,1992,1993,1994,1995,1996,1997,1998,1999,2000,2001,2002,2003,2004,2005,2006,2007,2008,2009,2010,2011,2012,2013,2014,2015,2016,2017,2018,2019,2020,2021,2022,2023,2024,2025,2026,2027,2028,2029,2030,2031,2032,2033,2034]
[null,null,null,"EL0",{"$f":"INDEX(EFFICIENCY_LEVELS,RIGHT(D39,1)+1,MID($D$35,3,1))","v":9.6867014340173032},null,{"$f":"H39","v":0.37050000000000005},0.37050000000000005,0.37050000000000005,0.37050000000000005,0.37050000000000005,0.37050000000000005,0.37050000000000005,0.37050000000000005,0.37050000000000005,0.37050000000000005,0.37050000000000005,0.37050000000000005,0.37050000000000005,0.37050000000000005,0.37050000000000005,0.37050000000000005,{"$f":"X39","v":0.37050000000000005},0.37050000000000005,0.37050000000000005,0.37050000000000005,0.37050000000000005,0.37050000000000005,0.37050000000000005,0.37050000000000005,0.37050000000000005,0.37050000000000005,0.37050000000000005,{"$f":"AI39","v":0.37050000000000005},{"$f":"'National Shipments'!F39/'National Shipments'!F$45","v":0.37050000000000005},{"$f":"'National Shipments'!G39/'National Shipments'!G$45","v":0.37050000000000005},{"$f":"'National Shipments'!H39/'National Shipments'!H$45","v":0.37050000000000011},{"$f":"'National Shipments'!I39/'National Shipments'!I$45","v":0.37050000000000005},{"$f":"'National Shipments'!J39/'National Shipments'!J$45","v":0.37050000000000011},{"$f":"'National Shipments'!K39/'National Shipments'!K$45","v":0.37050000000000005},{"$f":"'National Shipments'!L39/'National Shipments'!L$45","v":0.32022030532550105},{"$f":"'National Shipments'!M39/'National Shipments'!M$45","v":0.26981491141431868},{"$f":"'National Shipments'!N39/'National Shipments'!N$45","v":0.21928350401835697},{"$f":"'National Shipments'!O39/'National Shipments'!O$45","v":0.16862576810390614},{"$f":"'National Shipments'!P39/'National Shipments'!P$45","v":0.11784138784966686},{"$f":"'National Shipments'!Q39/'National Shipments'!Q$45","v":6.6930046644795016E-2},{"$f":"'National Shipments'!R39/'National Shipments'!R$45","v":1.5891427086908105E-2},{"$f":"'National Shipments'!S39/'National Shipments'!S$45","v":0},{"$f":"'National Shipments'!T39/'National Shipments'!T$45","v":0},{"$f":"'National Shipments'!U39/'National Shipments'!U$45","v":0},{"$f":"'National Shipments'!V39/'National Shipments'!V$45","v":0},{"$f":"'National Shipments'!W39/'National Shipments'!W$45","v":0},{"$f":"'National Shipments'!X39/'National Shipments'!X$45","v":0},{"$f":"'National Shipments'!Y39/'National Shipments'!Y$45","v":0},{"$f":"'National Shipments'!Z39/'National Shipments'!Z$45","v":0},{"$f":"'National Shipments'!AA39/'National Shipments'!AA$45","v":0},{"$f":"'National Shipments'!AB39/'National Shipments'!AB$45","v":0},{"$f":"'National Shipments'!AC39/'National Shipments'!AC$45","v":0},{"$f":"'National Shipments'!AD39/'National Shipments'!AD$45","v":0},{"$f":"'National Shipments'!AE39/'National Shipments'!AE$45","v":0}]
[null,null,null,"EL1",10.199999999999999,null,2.4599999999999955E-2,2.4599999999999955E-2,2.4599999999999955E-2,2.4599999999999955E-2,2.4599999999999955E-2,2.4599999999999955E-2,2.4599999999999955E-2,2.4599999999999955E-2,2.4599999999999955E-2,2.4599999999999955E-2,2.4599999999999955E-2,2.4599999999999955E-2,2.4599999999999955E-2,2.4599999999999955E-2,2.4599999999999955E-2,2.4599999999999955E-2,2.4599999999999955E-2,2.4599999999999955E-2,2.4599999999999955E-2,2.4599999999999955E-2,2.4599999999999955E-2,2.4599999999999955E-2,2.4599999999999955E-2,2.4599999999999955E-2,2.4599999999999955E-2,2.4599999999999955E-2,2.4599999999999955E-2,2.4599999999999955E-2,{"$f":"'National Shipments'!F40/'National Shipments'!F$45","v":2.4599999999999955E-2},{"$f":"'National Shipments'!G40/'National Shipments'!G$45","v":2.4599999999999955E-2},{"$f":"'National Shipments'!H40/'National Shipments'!H$45","v":2.4599999999999959E-2},{"$f":"'National Shipments'!I40/'National Shipments'!I$45","v":2.4599999999999952E-2},{"$f":"'National Shipments'!J40/'National Shipments'!J$45","v":2.4599999999999959E-2},{"$f":"'National Shipments'!K40/'National Shipments'!K$45","v":2.4599999999999955E-2},{"$f":"'National Shipments'!L40/'National Shipments'!L$45","v":7.4879694674498939E-2},{"$f":"'National Shipments'!M40/'National Shipments'!M$45","v":0.1252850885856813},{"$f":"'National Shipments'!N40/'National Shipments'!N$45","v":0.17581649598164303},{"$f":"'National Shipments'!O40/'National Shipments'!O$45","v":0.22647423189609392},{"$f":"'National Shipments'!P40/'National Shipments'!P$45","v":0.27725861215033315},{"$f":"'National Shipments'!Q40/'National Shipments'!Q$45","v":0.32816995335520499},{"$f":"'National Shipments'!R40/'National Shipments'!R$45","v":0.3792085729130919},{"$f":"'National Shipments'!S40/'National Shipments'!S$45","v":0.3588870027615137},{"$f":"'National Shipments'!T40/'National Shipments'!T$45","v":0.30622859432600152},{"$f":"'National Shipments'!U40/'National Shipments'!U$45","v":0.25343853986939707},{"$f":"'National Shipments'!V40/'National Shipments'!V$45","v":0.20051651027665396},{"$f":"'National Shipments'!W40/'National Shipments'!W$45","v":0.14746217560992814},{"$f":"'National Shipments'!X40/'National Shipments'!X$45","v":9.4275205106534768E-2},{"$f":"'National Shipments'!Y40/'National Shipments'!Y$45","v":4.0955267176884247E-2},{"$f":"'National Shipments'!Z40/'National Shipments'!Z$45","v":0},{"$f":"'National Shipments'!AA40/'National Shipments'!AA$45","v":0},{"$f":"'National Shipments'!AB40/'National Shipments'!AB$45","v":0},{"$f":"'National Shipments'!AC40/'National Shipments'!AC$45","v":0},{"$f":"'National Shipments'!AD40/'National Shipments'!AD$45","v":0},{"$f":"'National Shipments'!AE40/'National Shipments'!AE$45","v":0}]
[null,null,null,"EL2",10.7,null,0.58299999999999996,0.58299999999999996,0.58299999999999996,0.58299999999999996,0.58299999999999996,0.58299999999999996,0.58299999999999996,0.58299999999999996,0.58299999999999996,0.58299999999999996,0.58299999999999996,0.58299999999999996,0.58299999999999996,0.58299999999999996,0.58299999999999996,0.58299999999999996,0.58299999999999996,0.58299999999999996,0.58299999999999996,0.58299999999999996,0.58299999999999996,0.58299999999999996,0.58299999999999996,0.58299999999999996,0.58299999999999996,0.58299999999999996,0.58299999999999996,0.58299999999999996,{"$f":"'National Shipments'!F41/'National Shipments'!F$45","v":0.58299999999999996},{"$f":"'National Shipments'!G41/'National Shipments'!G$45","v":0.58299999999999996},{"$f":"'National Shipments'!H41/'National Shipments'!H$45","v":0.58300000000000007},{"$f":"'National Shipments'!I41/'National Shipments'!I$45","v":0.58299999999999996},{"$f":"'National Shipments'!J41/'National Shipments'!J$45","v":0.58299999999999996},{"$f":"'National Shipments'!K41/'National Shipments'!K$45","v":0.58299999999999996},{"$f":"'National Shipments'!L41/'National Shipments'!L$45","v":0.58299999999999996},{"$f":"'National Shipments'!M41/'National Shipments'!M$45","v":0.58299999999999985},{"$f":"'National Shipments'!N41/'National Shipments'!N$45","v":0.58300000000000007},{"$f":"'National Shipments'!O41/'National Shipments'!O$45","v":0.58300000000000018},{"$f":"'National Shipments'!P41/'National Shipments'!P$45","v":0.58299999999999996},{"$f":"'National Shipments'!Q41/'National Shipments'!Q$45","v":0.58299999999999996},{"$f":"'National Shipments'!R41/'National Shipments'!R$45","v":0.58299999999999996},{"$f":"'National Shipments'!S41/'National Shipments'!S$45","v":0.61921299723848644},{"$f":"'National Shipments'!T41/'National Shipments'!T$45","v":0.67187140567399861},{"$f":"'National Shipments'!U41/'National Shipments'!U$45","v":0.72466146013060306},{"$f":"'National Shipments'!V41/'National Shipments'!V$45","v":0.77758348972334601},{"$f":"'National Shipments'!W41/'National Shipments'!W$45","v":0.83063782439007194},{"$f":"'National Shipments'!X41/'National Shipments'!X$45","v":0.88382479489346533},{"$f":"'National Shipments'!Y41/'National Shipments'!Y$45","v":0.93714473282311561},{"$f":"'National Shipments'!Z41/'National Shipments'!Z$45","v":0.94685507350601739},{"$f":"'National Shipments'!AA41/'National Shipments'!AA$45","v":0.81288789633373737},{"$f":"'National Shipments'!AB41/'National Shipments'!AB$45","v":0.67858580121853174},{"$f":"'National Shipments'!AC41/'National Shipments'!AC$45","v":0.54394795086553593},{"$f":"'National Shipments'!AD41/'National Shipments'!AD$45","v":0.40897350588665293},{"$f":"'National Shipments'!AE41/'National Shipments'!AE$45","v":0.27366162479532252}]
[null,null,null,"EL3",10.9,null,1.4200000000000003E-2,1.4200000000000003E-2,1.4200000000000003E-2,1.4200000000000003E-2,1.4200000000000003E-2,1.4200000000000003E-2,1.4200000000000003E-2,1.4200000000000003E-2,1.4200000000000003E-2,1.4200000000000003E-2,1.4200000000000003E-2,1.4200000000000003E-2,1.4200000000000003E-2,1.4200000000000003E-2,1.4200000000000003E-2,1.4200000000000003E-2,1.4200000000000003E-2,1.4200000000000003E-2,1.4200000000000003E-2,1.4200000000000003E-2,1.4200000000000003E-2,1.4200000000000003E-2,1.4200000000000003E-2,1.4200000000000003E-2,1.4200000000000003E-2,1.4200000000000003E-2,1.4200000000000003E-2,1.4200000000000003E-2,{"$f":"'National Shipments'!F42/'National Shipments'!F$45","v":1.4200000000000003E-2},{"$f":"'National Shipments'!G42/'National Shipments'!G$45","v":1.4199999999999999E-2},{"$f":"'National Shipments'!H42/'National Shipments'!H$45","v":1.4200000000000001E-2},{"$f":"'National Shipments'!I42/'National Shipments'!I$45","v":1.4199999999999999E-2},{"$f":"'National Shipments'!J42/'National Shipments'!J$45","v":1.4199999999999999E-2},{"$f":"'National Shipments'!K42/'National Shipments'!K$45","v":1.4200000000000001E-2},{"$f":"'National Shipments'!L42/'National Shipments'!L$45","v":1.4200000000000003E-2},{"$f":"'National Shipments'!M42/'National Shipments'!M$45","v":1.4199999999999996E-2},{"$f":"'National Shipments'!N42/'National Shipments'!N$45","v":1.4200000000000001E-2},{"$f":"'National Shipments'!O42/'National Shipments'!O$45","v":1.4200000000000004E-2},{"$f":"'National Shipments'!P42/'National Shipments'!P$45","v":1.4199999999999997E-2},{"$f":"'National Shipments'!Q42/'National Shipments'!Q$45","v":1.4199999999999999E-2},{"$f":"'National Shipments'!R42/'National Shipments'!R$45","v":1.4199999999999999E-2},{"$f":"'National Shipments'!S42/'National Shipments'!S$45","v":1.4200000000000001E-2},{"$f":"'National Shipments'!T42/'National Shipments'!T$45","v":1.4200000000000001E-2},{"$f":"'National Shipments'!U42/'National Shipments'!U$45","v":1.4199999999999999E-2},{"$f":"'National Shipments'!V42/'National Shipments'!V$45","v":1.4199999999999999E-2},{"$f":"'National Shipments'!W42/'National Shipments'!W$45","v":1.4200000000000001E-2},{"$f":"'National Shipments'!X42/'National Shipments'!X$45","v":1.4199999999999999E-2},{"$f":"'National Shipments'!Y42/'National Shipments'!Y$45","v":1.4199999999999996E-2},{"$f":"'National Shipments'!Z42/'National Shipments'!Z$45","v":4.5444926493982692E-2},{"$f":"'National Shipments'!AA42/'National Shipments'!AA$45","v":0.17941210366626256},{"$f":"'National Shipments'!AB42/'National Shipments'!AB$45","v":0.31371419878146822},{"$f":"'National Shipments'!AC42/'National Shipments'!AC$45","v":0.44835204913446397},{"$f":"'National Shipments'!AD42/'National Shipments'!AD$45","v":0.58332649411334703},{"$f":"'National Shipments'!AE42/'National Shipments'!AE$45","v":0.71863837520467744}]
[null,null,null,"EL4",11.5,null,3.1000000000000008E-3,3.1000000000000008E-3,3.1000000000000008E-3,3.1000000000000008E-3,3.1000000000000008E-3,3.1000000000000008E-3,3.1000000000000008E-3,3.1000000000000008E-3,3.1000000000000008E-3,3.1000000000000008E-3,3.1000000000000008E-3,3.1000000000000008E-3,3.1000000000000008E-3,3.1000000000000008E-3,3.1000000000000008E-3,3.1000000000000008E-3,3.1000000000000008E-3,3.1000000000000008E-3,3.1000000000000008E-3,3.1000000000000008E-3,3.1000000000000008E-3,3.1000000000000008E-3,3.1000000000000008E-3,3.1000000000000008E-3,3.1000000000000008E-3,3.1000000000000008E-3,3.1000000000000008E-3,3.1000000000000008E-3,{"$f":"'National Shipments'!F43/'National Shipments'!F$45","v":3.1000000000000008E-3},{"$f":"'National Shipments'!G43/'National Shipments'!G$45","v":3.1000000000000003E-3},{"$f":"'National Shipments'!H43/'National Shipments'!H$45","v":3.1000000000000003E-3},{"$f":"'National Shipments'!I43/'National Shipments'!I$45","v":3.1000000000000003E-3},{"$f":"'National Shipments'!J43/'National Shipments'!J$45","v":3.1000000000000003E-3},{"$f":"'National Shipments'!K43/'National Shipments'!K$45","v":3.1000000000000003E-3},{"$f":"'National Shipments'!L43/'National Shipments'!L$45","v":3.1000000000000003E-3},{"$f":"'National Shipments'!M43/'National Shipments'!M$45","v":3.0999999999999995E-3},{"$f":"'National Shipments'!N43/'National Shipments'!N$45","v":3.1000000000000003E-3},{"$f":"'National Shipments'!O43/'National Shipments'!O$45","v":3.1000000000000008E-3},{"$f":"'National Shipments'!P43/'National Shipments'!P$45","v":3.1000000000000003E-3},{"$f":"'National Shipments'!Q43/'National Shipments'!Q$45","v":3.1000000000000003E-3},{"$f":"'National Shipments'!R43/'National Shipments'!R$45","v":3.1000000000000003E-3},{"$f":"'National Shipments'!S43/'National Shipments'!S$45","v":3.1000000000000012E-3},{"$f":"'National Shipments'!T43/'National Shipments'!T$45","v":3.1000000000000008E-3},{"$f":"'National Shipments'!U43/'National Shipments'!U$45","v":3.1000000000000008E-3},{"$f":"'National Shipments'!V43/'National Shipments'!V$45","v":3.1000000000000008E-3},{"$f":"'National Shipments'!W43/'National Shipments'!W$45","v":3.1000000000000008E-3},{"$f":"'National Shipments'!X43/'National Shipments'!X$45","v":3.1000000000000008E-3},{"$f":"'National Shipments'!Y43/'National Shipments'!Y$45","v":3.0999999999999995E-3},{"$f":"'National Shipments'!Z43/'National Shipments'!Z$45","v":3.1000000000000008E-3},{"$f":"'National Shipments'!AA43/'National Shipments'!AA$45","v":3.1000000000000003E-3},{"$f":"'National Shipments'!AB43/'National Shipments'!AB$45","v":3.1000000000000003E-3},{"$f":"'National Shipments'!AC43/'National Shipments'!AC$45","v":3.1000000000000003E-3},{"$f":"'National Shipments'!AD43/'National Shipments'!AD$45","v":3.0999999999999999E-3},{"$f":"'National Shipments'!AE43/'National Shipments'!AE$45","v":3.1000000000000003E-3}]
[null,null,null,"EL5",11.961997496471479,null,4.6000000000000008E-3,4.6000000000000008E-3,4.6000000000000008E-3,4.6000000000000008E-3,4.6000000000000008E-3,4.6000000000000008E-3,4.6000000000000008E-3,4.6000000000000008E-3,4.6000000000000008E-3,4.6000000000000008E-3,4.6000000000000008E-3,4.6000000000000008E-3,4.6000000000000008E-3,4.6000000000000008E-3,4.6000000000000008E-3,4.6000000000000008E-3,4.6000000000000008E-3,4.6000000000000008E-3,4.6000000000000008E-3,4.6000000000000008E-3,4.6000000000000008E-3,4.6000000000000008E-3,4.6000000000000008E-3,4.6000000000000008E-3,4.6000000000000008E-3,4.6000000000000008E-3,4.6000000000000008E-3,4.6000000000000008E-3,{"$f":"'National Shipments'!F44/'National Shipments'!F$45","v":4.6000000000000008E-3},{"$f":"'National Shipments'!G44/'National Shipments'!G$45","v":4.5999999999999999E-3},{"$f":"'National Shipments'!H44/'National Shipments'!H$45","v":4.6000000000000008E-3},{"$f":"'National Shipments'!I44/'National Shipments'!I$45","v":4.5999999999999999E-3},{"$f":"'National Shipments'!J44/'National Shipments'!J$45","v":4.5999999999999999E-3},{"$f":"'National Shipments'!K44/'National Shipments'!K$45","v":4.5999999999999999E-3},{"$f":"'National Shipments'!L44/'National Shipments'!L$45","v":4.5999999999999999E-3},{"$f":"'National Shipments'!M44/'National Shipments'!M$45","v":4.5999999999999991E-3},{"$f":"'National Shipments'!N44/'National Shipments'!N$45","v":4.6000000000000008E-3},{"$f":"'National Shipments'!O44/'National Shipments'!O$45","v":4.6000000000000008E-3},{"$f":"'National Shipments'!P44/'National Shipments'!P$45","v":4.5999999999999999E-3},{"$f":"'National Shipments'!Q44/'National Shipments'!Q$45","v":4.5999999999999999E-3},{"$f":"'National Shipments'!R44/'National Shipments'!R$45","v":4.6000000000000008E-3},{"$f":"'National Shipments'!S44/'National Shipments'!S$45","v":4.6000000000000008E-3},{"$f":"'National Shipments'!T44/'National Shipments'!T$45","v":4.6000000000000008E-3},{"$f":"'National Shipments'!U44/'National Shipments'!U$45","v":4.6000000000000008E-3},{"$f":"'National Shipments'!V44/'National Shipments'!V$45","v":4.5999999999999999E-3},{"$f":"'National Shipments'!W44/'National Shipments'!W$45","v":4.5999999999999999E-3},{"$f":"'National Shipments'!X44/'National Shipments'!X$45","v":4.5999999999999999E-3},{"$f":"'National Shipments'!Y44/'National Shipments'!Y$45","v":4.5999999999999991E-3},{"$f":"'National Shipments'!Z44/'National Shipments'!Z$45","v":4.6000000000000008E-3},{"$f":"'National Shipments'!AA44/'National Shipments'!AA$45","v":4.5999999999999999E-3},{"$f":"'National Shipments'!AB44/'National Shipments'!AB$45","v":4.5999999999999999E-3},{"$f":"'National Shipments'!AC44/'National Shipments'!AC$45","v":4.6000000000000008E-3},{"$f":"'National Shipments'!AD44/'National Shipments'!AD$45","v":4.5999999999999991E-3},{"$f":"'National Shipments'!AE44/'National Shipments'!AE$45","v":4.5999999999999999E-3}]
[null,null,null,"TOTAL",null,null,1,1,1,1,1,1,1,1,1,1,1,1,1,1,1,1,1,1,1,1,1,1,1,1,1,1,1,1,{"$f":"'National Shipments'!F45/'National Shipments'!F$45","v":1},{"$f":"'National Shipments'!G45/'National Shipments'!G$45","v":1},{"$f":"'National Shipments'!H45/'National Shipments'!H$45","v":1},{"$f":"'National Shipments'!I45/'National Shipments'!I$45","v":1},{"$f":"'National Shipments'!J45/'National Shipments'!J$45","v":1},{"$f":"'National Shipments'!K45/'National Shipments'!K$45","v":1},{"$f":"'National Shipments'!L45/'National Shipments'!L$45","v":1},{"$f":"'National Shipments'!M45/'National Shipments'!M$45","v":1},{"$f":"'National Shipments'!N45/'National Shipments'!N$45","v":1},{"$f":"'National Shipments'!O45/'National Shipments'!O$45","v":1},{"$f":"'National Shipments'!P45/'National Shipments'!P$45","v":1},{"$f":"'National Shipments'!Q45/'National Shipments'!Q$45","v":1},{"$f":"'National Shipments'!R45/'National Shipments'!R$45","v":1},{"$f":"'National Shipments'!S45/'National Shipments'!S$45","v":1},{"$f":"'National Shipments'!T45/'National Shipments'!T$45","v":1},{"$f":"'National Shipments'!U45/'National Shipments'!U$45","v":1},{"$f":"'National Shipments'!V45/'National Shipments'!V$45","v":1},{"$f":"'National Shipments'!W45/'National Shipments'!W$45","v":1},{"$f":"'National Shipments'!X45/'National Shipments'!X$45","v":1},{"$f":"'National Shipments'!Y45/'National Shipments'!Y$45","v":1},{"$f":"'National Shipments'!Z45/'National Shipments'!Z$45","v":1},{"$f":"'National Shipments'!AA45/'National Shipments'!AA$45","v":1},{"$f":"'National Shipments'!AB45/'National Shipments'!AB$45","v":1},{"$f":"'National Shipments'!AC45/'National Shipments'!AC$45","v":1},{"$f":"'National Shipments'!AD45/'National Shipments'!AD$45","v":1},{"$f":"'National Shipments'!AE45/'National Shipments'!AE$45","v":1}]
[]
[null,null,null,"POST-Case"]
[null,null,null,"Efficiency Level","CEER",null,1981,1982,1983,1984,1985,1986,1987,1988,1989,1990,1991,1992,1993,1994,1995,1996,1997,1998,1999,2000,2001,2002,2003,2004,2005,2006,2007,2008,2009,2010,2011,2012,2013,2014,2015,2016,2017,2018,2019,2020,2021,2022,2023,2024,2025,2026,2027,2028,2029,2030,2031,2032,2033,2034]
[null,null,null,"EL0",{"$f":"INDEX(EFFICIENCY_LEVELS,RIGHT(D49,1)+1,MID($D$35,3,1))","v":9.6867014340173032},null,{"$f":"H49","v":0.37050000000000005},0.37050000000000005,0.37050000000000005,0.37050000000000005,0.37050000000000005,0.37050000000000005,0.37050000000000005,0.37050000000000005,0.37050000000000005,0.37050000000000005,0.37050000000000005,0.37050000000000005,0.37050000000000005,0.37050000000000005,0.37050000000000005,0.37050000000000005,0.37050000000000005,0.37050000000000005,0.37050000000000005,0.37050000000000005,0.37050000000000005,0.37050000000000005,0.37050000000000005,0.37050000000000005,0.37050000000000005,0.37050000000000005,0.37050000000000005,{"$f":"AI49","v":0.37050000000000005},{"$f":"'National Shipments'!F49/'National Shipments'!F$55","v":0.37050000000000005},{"$f":"'National Shipments'!G49/'National Shipments'!G$55","v":0.37050000000000005},{"$f":"'National Shipments'!H49/'National Shipments'!H$55","v":0.37050000000000011},{"$f":"'National Shipments'!I49/'National Shipments'!I$55","v":0.37050000000000005},{"$f":"'National Shipments'!J49/'National Shipments'!J$55","v":0.37050000000000011},{"$f":"'National Shipments'!K49/'National Shipments'!K$55","v":0},{"$f":"'National Shipments'!L49/'National Shipments'!L$55","v":0},{"$f":"'National Shipments'!M49/'National Shipments'!M$55","v":0},{"$f":"'National Shipments'!N49/'National Shipments'!N$55","v":0},{"$f":"'National Shipments'!O49/'National Shipments'!O$55","v":0},{"$f":"'National Shipments'!P49/'National Shipments'!P$55","v":0},{"$f":"'National Shipments'!Q49/'National Shipments'!Q$55","v":0},{"$f":"'National Shipments'!R49/'National Shipments'!R$55","v":0},{"$f":"'National Shipments'!S49/'National Shipments'!S$55","v":0},{"$f":"'National Shipments'!T49/'National Shipments'!T$55","v":0},{"$f":"'National Shipments'!U49/'National Shipments'!U$55","v":0},{"$f":"'National Shipments'!V49/'National Shipments'!V$55","v":0},{"$f":"'National Shipments'!W49/'National Shipments'!W$55","v":0},{"$f":"'National Shipments'!X49/'National Shipments'!X$55","v":0},{"$f":"'National Shipments'!Y49/'National Shipments'!Y$55","v":0},{"$f":"'National Shipments'!Z49/'National Shipments'!Z$55","v":0},{"$f":"'National Shipments'!AA49/'National Shipments'!AA$55","v":0},{"$f":"'National Shipments'!AB49/'National Shipments'!AB$55","v":0},{"$f":"'National Shipments'!AC49/'National Shipments'!AC$55","v":0},{"$f":"'National Shipments'!AD49/'National Shipments'!AD$55","v":0},{"$f":"'National Shipments'!AE49/'National Shipments'!AE$55","v":0}]
[null,null,null,"EL1",10.199999999999999,null,2.4599999999999955E-2,2.4599999999999955E-2,2.4599999999999955E-2,2.4599999999999955E-2,2.4599999999999955E-2,2.4599999999999955E-2,2.4599999999999955E-2,2.4599999999999955E-2,2.4599999999999955E-2,2.4599999999999955E-2,2.4599999999999955E-2,2.4599999999999955E-2,2.4599999999999955E-2,2.4599999999999955E-2,2.4599999999999955E-2,2.4599999999999955E-2,2.4599999999999955E-2,2.4599999999999955E-2,2.4599999999999955E-2,2.4599999999999955E-2,2.4599999999999955E-2,2.4599999999999955E-2,2.4599999999999955E-2,2.4599999999999955E-2,2.4599999999999955E-2,2.4599999999999955E-2,2.4599999999999955E-2,{"$f":"AI50","v":2.4599999999999955E-2},{"$f":"'National Shipments'!F50/'National Shipments'!F$55","v":2.4599999999999955E-2},{"$f":"'National Shipments'!G50/'National Shipments'!G$55","v":2.4599999999999955E-2},{"$f":"'National Shipments'!H50/'National Shipments'!H$55","v":2.4599999999999959E-2},{"$f":"'National Shipments'!I50/'National Shipments'!I$55","v":2.4599999999999952E-2},{"$f":"'National Shipments'!J50/'National Shipments'!J$55","v":2.4599999999999959E-2},{"$f":"'National Shipments'!K50/'National Shipments'!K$55","v":0},{"$f":"'National Shipments'!L50/'National Shipments'!L$55","v":0},{"$f":"'National Shipments'!M50/'National Shipments'!M$55","v":0},{"$f":"'National Shipments'!N50/'National Shipments'!N$55","v":0},{"$f":"'National Shipments'!O50/'National Shipments'!O$55","v":0},{"$f":"'National Shipments'!P50/'National Shipments'!P$55","v":0},{"$f":"'National Shipments'!Q50/'National Shipments'!Q$55","v":0},{"$f":"'National Shipments'!R50/'National Shipments'!R$55","v":0},{"$f":"'National Shipments'!S50/'National Shipments'!S$55","v":0},{"$f":"'National Shipments'!T50/'National Shipments'!T$55","v":0},{"$f":"'National Shipments'!U50/'National Shipments'!U$55","v":0},{"$f":"'National Shipments'!V50/'National Shipments'!V$55","v":0},{"$f":"'National Shipments'!W50/'National Shipments'!W$55","v":0},{"$f":"'National Shipments'!X50/'National Shipments'!X$55","v":0},{"$f":"'National Shipments'!Y50/'National Shipments'!Y$55","v":0},{"$f":"'National Shipments'!Z50/'National Shipments'!Z$55","v":0},{"$f":"'National Shipments'!AA50/'National Shipments'!AA$55","v":0},{"$f":"'National Shipments'!AB50/'National Shipments'!AB$55","v":0},{"$f":"'National Shipments'!AC50/'National Shipments'!AC$55","v":0},{"$f":"'National Shipments'!AD50/'National Shipments'!AD$55","v":0},{"$f":"'National Shipments'!AE50/'National Shipments'!AE$55","v":0}]
[null,null,null,"EL2",10.7,null,0.58299999999999996,0.58299999999999996,0.58299999999999996,0.58299999999999996,0.58299999999999996,0.58299999999999996,0.58299999999999996,0.58299999999999996,0.58299999999999996,0.58299999999999996,0.58299999999999996,0.58299999999999996,0.58299999999999996,0.58299999999999996,0.58299999999999996,0.58299999999999996,0.58299999999999996,0.58299999999999996,0.58299999999999996,0.58299999999999996,0.58299999999999996,0.58299999999999996,0.58299999999999996,0.58299999999999996,0.58299999999999996,0.58299999999999996,0.58299999999999996,0.58299999999999996,{"$f":"'National Shipments'!F51/'National Shipments'!F$55","v":0.58299999999999996},{"$f":"'National Shipments'!G51/'National Shipments'!G$55","v":0.58299999999999996},{"$f":"'National Shipments'!H51/'National Shipments'!H$55","v":0.58300000000000007},{"$f":"'National Shipments'!I51/'National Shipments'!I$55","v":0.58299999999999996},{"$f":"'National Shipments'!J51/'National Shipments'!J$55","v":0.58299999999999996},{"$f":"'National Shipments'!K51/'National Shipments'!K$55","v":0},{"$f":"'National Shipments'!L51/'National Shipments'!L$55","v":0},{"$f":"'National Shipments'!M51/'National Shipments'!M$55","v":0},{"$f":"'National Shipments'!N51/'National Shipments'!N$55","v":0},{"$f":"'National Shipments'!O51/'National Shipments'!O$55","v":0},{"$f":"'National Shipments'!P51/'National Shipments'!P$55","v":0},{"$f":"'National Shipments'!Q51/'National Shipments'!Q$55","v":0},{"$f":"'National Shipments'!R51/'National Shipments'!R$55","v":0},{"$f":"'National Shipments'!S51/'National Shipments'!S$55","v":0},{"$f":"'National Shipments'!T51/'National Shipments'!T$55","v":0},{"$f":"'National Shipments'!U51/'National Shipments'!U$55","v":0},{"$f":"'National Shipments'!V51/'National Shipments'!V$55","v":0},{"$f":"'National Shipments'!W51/'National Shipments'!W$55","v":0},{"$f":"'National Shipments'!X51/'National Shipments'!X$55","v":0},{"$f":"'National Shipments'!Y51/'National Shipments'!Y$55","v":0},{"$f":"'National Shipments'!Z51/'National Shipments'!Z$55","v":0},{"$f":"'National Shipments'!AA51/'National Shipments'!AA$55","v":0},{"$f":"'National Shipments'!AB51/'National Shipments'!AB$55","v":0},{"$f":"'National Shipments'!AC51/'National Shipments'!AC$55","v":0},{"$f":"'National Shipments'!AD51/'National Shipments'!AD$55","v":0},{"$f":"'National Shipments'!AE51/'National Shipments'!AE$55","v":0}]
[null,null,null,"EL3",10.9,null,1.4200000000000003E-2,1.4200000000000003E-2,1.4200000000000003E-2,1.4200000000000003E-2,1.4200000000000003E-2,1.4200000000000003E-2,1.4200000000000003E-2,1.4200000000000003E-2,1.4200000000000003E-2,1.4200000000000003E-2,1.4200000000000003E-2,1.4200000000000003E-2,1.4200000000000003E-2,1.4200000000000003E-2,1.4200000000000003E-2,1.4200000000000003E-2,1.4200000000000003E-2,1.4200000000000003E-2,1.4200000000000003E-2,1.4200000000000003E-2,1.4200000000000003E-2,1.4200000000000003E-2,1.4200000000000003E-2,1.4200000000000003E-2,1.4200000000000003E-2,1.4200000000000003E-2,1.4200000000000003E-2,1.4200000000000003E-2,{"$f":"'National Shipments'!F52/'National Shipments'!F$55","v":1.4200000000000003E-2},{"$f":"'National Shipments'!G52/'National Shipments'!G$55","v":1.4199999999999999E-2},{"$f":"'National Shipments'!H52/'National Shipments'!H$55","v":1.4200000000000001E-2},{"$f":"'National Shipments'!I52/'National Shipments'!I$55","v":1.4199999999999999E-2},{"$f":"'National Shipments'!J52/'National Shipments'!J$55","v":1.4199999999999999E-2},{"$f":"'National Shipments'!K52/'National Shipments'!K$55","v":0.99230000000000007},{"$f":"'National Shipments'!L52/'National Shipments'!L$55","v":0.97332291113467539},{"$f":"'National Shipments'!M52/'National Shipments'!M$55","v":0.96350797460086846},{"$f":"'National Shipments'!N52/'National Shipments'!N$55","v":0.95366850072572429},{"$f":"'National Shipments'!O52/'National Shipments'!O$55","v":0.94380442816589571},{"$f":"'National Shipments'!P52/'National Shipments'!P$55","v":0.93391569542466357},{"$f":"'National Shipments'!Q52/'National Shipments'!Q$55","v":0.92400224085158034},{"$f":"'National Shipments'!R52/'National Shipments'!R$55","v":0.91406400264206766},{"$f":"'National Shipments'!S52/'National Shipments'!S$55","v":0.89801636259020856},{"$f":"'National Shipments'!T52/'National Shipments'!T$55","v":0.87918063483654196},{"$f":"'National Shipments'!U52/'National Shipments'!U$55","v":0.86029781776348757},{"$f":"'National Shipments'!V52/'National Shipments'!V$55","v":0.84136779364775682},{"$f":"'National Shipments'!W52/'National Shipments'!W$55","v":0.82239044447173204},{"$f":"'National Shipments'!X52/'National Shipments'!X$55","v":0.80336565192277054},{"$f":"'National Shipments'!Y52/'National Shipments'!Y$55","v":0.78429329739243692},{"$f":"'National Shipments'!Z52/'National Shipments'!Z$55","v":0.76493667324402381},{"$f":"'National Shipments'!AA52/'National Shipments'!AA$55","v":0.74475442906194689},{"$f":"'National Shipments'!AB52/'National Shipments'!AB$55","v":0.72452172926942027},{"$f":"'National Shipments'!AC52/'National Shipments'!AC$55","v":0.70423844772741051},{"$f":"'National Shipments'!AD52/'National Shipments'!AD$55","v":0.68390445798154254},{"$f":"'National Shipments'!AE52/'National Shipments'!AE$55","v":0.66351963326131169}]
[null,null,null,"EL4",11.5,null,3.1000000000000008E-3,3.1000000000000008E-3,3.1000000000000008E-3,3.1000000000000008E-3,3.1000000000000008E-3,3.1000000000000008E-3,3.1000000000000008E-3,3.1000000000000008E-3,3.1000000000000008E-3,3.1000000000000008E-3,3.1000000000000008E-3,3.1000000000000008E-3,3.1000000000000008E-3,3.1000000000000008E-3,3.1000000000000008E-3,3.1000000000000008E-3,3.1000000000000008E-3,3.1000000000000008E-3,3.1000000000000008E-3,3.1000000000000008E-3,3.1000000000000008E-3,3.1000000000000008E-3,3.1000000000000008E-3,3.1000000000000008E-3,3.1000000000000008E-3,3.1000000000000008E-3,3.1000000000000008E-3,3.1000000000000008E-3,{"$f":"'National Shipments'!F53/'National Shipments'!F$55","v":3.1000000000000008E-3},{"$f":"'National Shipments'!G53/'National Shipments'!G$55","v":3.1000000000000003E-3},{"$f":"'National Shipments'!H53/'National Shipments'!H$55","v":3.1000000000000003E-3},{"$f":"'National Shipments'!I53/'National Shipments'!I$55","v":3.1000000000000003E-3},{"$f":"'National Shipments'!J53/'National Shipments'!J$55","v":3.1000000000000003E-3},{"$f":"'National Shipments'!K53/'National Shipments'!K$55","v":3.1000000000000012E-3},{"$f":"'National Shipments'!L53/'National Shipments'!L$55","v":2.2077088865324695E-2},{"$f":"'National Shipments'!M53/'National Shipments'!M$55","v":3.1892025399131586E-2},{"$f":"'National Shipments'!N53/'National Shipments'!N$55","v":4.1731499274275823E-2},{"$f":"'National Shipments'!O53/'National Shipments'!O$55","v":5.1595571834104299E-2},{"$f":"'National Shipments'!P53/'National Shipments'!P$55","v":6.1484304575336463E-2},{"$f":"'National Shipments'!Q53/'National Shipments'!Q$55","v":7.1397759148419823E-2},{"$f":"'National Shipments'!R53/'National Shipments'!R$55","v":8.1335997357932316E-2},{"$f":"'National Shipments'!S53/'National Shipments'!S$55","v":9.7383637409791529E-2},{"$f":"'National Shipments'!T53/'National Shipments'!T$55","v":0.11621936516345786},{"$f":"'National Shipments'!U53/'National Shipments'!U$55","v":0.13510218223651244},{"$f":"'National Shipments'!V53/'National Shipments'!V$55","v":0.15403220635224329},{"$f":"'National Shipments'!W53/'National Shipments'!W$55","v":0.17300955552826802},{"$f":"'National Shipments'!X53/'National Shipments'!X$55","v":0.19203434807722958},{"$f":"'National Shipments'!Y53/'National Shipments'!Y$55","v":0.21110670260756309},{"$f":"'National Shipments'!Z53/'National Shipments'!Z$55","v":0.23046332675597617},{"$f":"'National Shipments'!AA53/'National Shipments'!AA$55","v":0.25064557093805301},{"$f":"'National Shipments'!AB53/'National Shipments'!AB$55","v":0.27087827073057974},{"$f":"'National Shipments'!AC53/'National Shipments'!AC$55","v":0.29116155227258955},{"$f":"'National Shipments'!AD53/'National Shipments'!AD$55","v":0.31149554201845758},{"$f":"'National Shipments'!AE53/'National Shipments'!AE$55","v":0.33188036673868826}]
[null,null,null,"EL5",11.961997496471479,null,4.6000000000000008E-3,4.6000000000000008E-3,4.6000000000000008E-3,4.6000000000000008E-3,4.6000000000000008E-3,4.6000000000000008E-3,4.6000000000000008E-3,4.6000000000000008E-3,4.6000000000000008E-3,4.6000000000000008E-3,4.6000000000000008E-3,4.6000000000000008E-3,4.6000000000000008E-3,4.6000000000000008E-3,4.6000000000000008E-3,4.6000000000000008E-3,4.6000000000000008E-3,4.6000000000000008E-3,4.6000000000000008E-3,4.6000000000000008E-3,4.6000000000000008E-3,4.6000000000000008E-3,4.6000000000000008E-3,4.6000000000000008E-3,4.6000000000000008E-3,4.6000000000000008E-3,4.6000000000000008E-3,4.6000000000000008E-3,{"$f":"'National Shipments'!F54/'National Shipments'!F$55","v":4.6000000000000008E-3},{"$f":"'National Shipments'!G54/'National Shipments'!G$55","v":4.5999999999999999E-3},{"$f":"'National Shipments'!H54/'National Shipments'!H$55","v":4.6000000000000008E-3},{"$f":"'National Shipments'!I54/'National Shipments'!I$55","v":4.5999999999999999E-3},{"$f":"'National Shipments'!J54/'National Shipments'!J$55","v":4.5999999999999999E-3},{"$f":"'National Shipments'!K54/'National Shipments'!K$55","v":4.6000000000000008E-3},{"$f":"'National Shipments'!L54/'National Shipments'!L$55","v":4.5999999999999999E-3},{"$f":"'National Shipments'!M54/'National Shipments'!M$55","v":4.5999999999999999E-3},{"$f":"'National Shipments'!N54/'National Shipments'!N$55","v":4.6000000000000008E-3},{"$f":"'National Shipments'!O54/'National Shipments'!O$55","v":4.6000000000000008E-3},{"$f":"'National Shipments'!P54/'National Shipments'!P$55","v":4.5999999999999999E-3},{"$f":"'National Shipments'!Q54/'National Shipments'!Q$55","v":4.6000000000000008E-3},{"$f":"'National Shipments'!R54/'National Shipments'!R$55","v":4.6000000000000008E-3},{"$f":"'National Shipments'!S54/'National Shipments'!S$55","v":4.6000000000000008E-3},{"$f":"'National Shipments'!T54/'National Shipments'!T$55","v":4.5999999999999999E-3},{"$f":"'National Shipments'!U54/'National Shipments'!U$55","v":4.5999999999999999E-3},{"$f":"'National Shipments'!V54/'National Shipments'!V$55","v":4.5999999999999999E-3},{"$f":"'National Shipments'!W54/'National Shipments'!W$55","v":4.6000000000000008E-3},{"$f":"'National Shipments'!X54/'National Shipments'!X$55","v":4.6000000000000008E-3},{"$f":"'National Shipments'!Y54/'National Shipments'!Y$55","v":4.5999999999999999E-3},{"$f":"'National Shipments'!Z54/'National Shipments'!Z$55","v":4.5999999999999999E-3},{"$f":"'National Shipments'!AA54/'National Shipments'!AA$55","v":4.5999999999999999E-3},{"$f":"'National Shipments'!AB54/'National Shipments'!AB$55","v":4.5999999999999999E-3},{"$f":"'National Shipments'!AC54/'National Shipments'!AC$55","v":4.5999999999999999E-3},{"$f":"'National Shipments'!AD54/'National Shipments'!AD$55","v":4.6000000000000017E-3},{"$f":"'National Shipments'!AE54/'National Shipments'!AE$55","v":4.5999999999999999E-3}]
[null,null,null,"TOTAL",null,null,1,1,1,1,1,1,1,1,1,1,1,1,1,1,1,1,1,1,1,1,1,1,1,1,1,1,1,1,{"$f":"'National Shipments'!F55/'National Shipments'!F$55","v":1},{"$f":"'National Shipments'!G55/'National Shipments'!G$55","v":1},{"$f":"'National Shipments'!H55/'National Shipments'!H$55","v":1},{"$f":"'National Shipments'!I55/'National Shipments'!I$55","v":1},{"$f":"'National Shipments'!J55/'National Shipments'!J$55","v":1},{"$f":"'National Shipments'!K55/'National Shipments'!K$55","v":1},{"$f":"'National Shipments'!L55/'National Shipments'!L$55","v":1},{"$f":"'National Shipments'!M55/'National Shipments'!M$55","v":1},{"$f":"'National Shipments'!N55/'National Shipments'!N$55","v":1},{"$f":"'National Shipments'!O55/'National Shipments'!O$55","v":1},{"$f":"'National Shipments'!P55/'National Shipments'!P$55","v":1},{"$f":"'National Shipments'!Q55/'National Shipments'!Q$55","v":1},{"$f":"'National Shipments'!R55/'National Shipments'!R$55","v":1},{"$f":"'National Shipments'!S55/'National Shipments'!S$55","v":1},{"$f":"'National Shipments'!T55/'National Shipments'!T$55","v":1},{"$f":"'National Shipments'!U55/'National Shipments'!U$55","v":1},{"$f":"'National Shipments'!V55/'National Shipments'!V$55","v":1},{"$f":"'National Shipments'!W55/'National Shipments'!W$55","v":1},{"$f":"'National Shipments'!X55/'National Shipments'!X$55","v":1},{"$f":"'National Shipments'!Y55/'National Shipments'!Y$55","v":1},{"$f":"'National Shipments'!Z55/'National Shipments'!Z$55","v":1},{"$f":"'National Shipments'!AA55/'National Shipments'!AA$55","v":1},{"$f":"'National Shipments'!AB55/'National Shipments'!AB$55","v":1},{"$f":"'National Shipments'!AC55/'National Shipments'!AC$55","v":1},{"$f":"'National Shipments'!AD55/'National Shipments'!AD$55","v":1},{"$f":"'National Shipments'!AE55/'National Shipments'!AE$55","v":1}]
[]
[null,null,null,"Sources","2011 DOE Residential Room Air Conditioners Direct Final Rule Government Regulatory Impact Model 'Product Shipments (CALC)' tab."]
[]
[]
[]
[null,null,null,"PC3  Without reverse cycle, with louvered sides, and 20,000 to 24,999 Btu/h"]
[]
[null,null,null,"PRE-Case"]
[null,null,null,"Efficiency Level","CEER",null,1981,1982,1983,1984,1985,1986,1987,1988,1989,1990,1991,1992,1993,1994,1995,1996,1997,1998,1999,2000,2001,2002,2003,2004,2005,2006,2007,2008,2009,2010,2011,2012,2013,2014,2015,2016,2017,2018,2019,2020,2021,2022,2023,2024,2025,2026,2027,2028,2029,2030,2031,2032,2033,2034]
[null,null,null,"EL0",{"$f":"INDEX(EFFICIENCY_LEVELS,RIGHT(D65,1)+1,MID($D$61,3,1))","v":8.4713534124895506},null,{"$f":"H65","v":0.1321},0.1321,0.1321,0.1321,0.1321,0.1321,0.1321,0.1321,0.1321,0.1321,0.1321,0.1321,0.1321,0.1321,0.1321,0.1321,{"$f":"X65","v":0.1321},0.1321,0.1321,0.1321,0.1321,0.1321,0.1321,0.1321,0.1321,0.1321,0.1321,{"$f":"AI65","v":0.1321},{"$f":"'National Shipments'!F65/'National Shipments'!F$70","v":0.1321},{"$f":"'National Shipments'!G65/'National Shipments'!G$70","v":0.1321},{"$f":"'National Shipments'!H65/'National Shipments'!H$70","v":0.13209999999999997},{"$f":"'National Shipments'!I65/'National Shipments'!I$70","v":0.1321},{"$f":"'National Shipments'!J65/'National Shipments'!J$70","v":0.1321},{"$f":"'National Shipments'!K65/'National Shipments'!K$70","v":0.1321},{"$f":"'National Shipments'!L65/'National Shipments'!L$70","v":8.8144104128980341E-2},{"$f":"'National Shipments'!M65/'National Shipments'!M$70","v":4.4078318518284497E-2},{"$f":"'National Shipments'!N65/'National Shipments'!N$70","v":0},{"$f":"'National Shipments'!O65/'National Shipments'!O$70","v":0},{"$f":"'National Shipments'!P65/'National Shipments'!P$70","v":0},{"$f":"'National Shipments'!Q65/'National Shipments'!Q$70","v":0},{"$f":"'National Shipments'!R65/'National Shipments'!R$70","v":0},{"$f":"'National Shipments'!S65/'National Shipments'!S$70","v":0},{"$f":"'National Shipments'!T65/'National Shipments'!T$70","v":0},{"$f":"'National Shipments'!U65/'National Shipments'!U$70","v":0},{"$f":"'National Shipments'!V65/'National Shipments'!V$70","v":0},{"$f":"'National Shipments'!W65/'National Shipments'!W$70","v":0},{"$f":"'National Shipments'!X65/'National Shipments'!X$70","v":0},{"$f":"'National Shipments'!Y65/'National Shipments'!Y$70","v":0},{"$f":"'National Shipments'!Z65/'National Shipments'!Z$70","v":0},{"$f":"'National Shipments'!AA65/'National Shipments'!AA$70","v":0},{"$f":"'National Shipments'!AB65/'National Shipments'!AB$70","v":0},{"$f":"'National Shipments'!AC65/'National Shipments'!AC$70","v":0},{"$f":"'National Shipments'!AD65/'National Shipments'!AD$70","v":0},{"$f":"'National Shipments'!AE65/'National Shipments'!AE$70","v":0}]
[null,null,null,"EL1",{"$f":"INDEX(EFFICIENCY_LEVELS,RIGHT(D66,1)+1,MID($D$61,3,1))","v":9},null,1.5000000000000015E-2,1.5000000000000015E-2,1.5000000000000015E-2,1.5000000000000015E-2,1.5000000000000015E-2,1.5000000000000015E-2,1.5000000000000015E-2,1.5000000000000015E-2,1.5000000000000015E-2,1.5000000000000015E-2,1.5000000000000015E-2,1.5000000000000015E-2,1.5000000000000015E-2,1.5000000000000015E-2,1.5000000000000015E-2,1.5000000000000015E-2,1.5000000000000015E-2,1.5000000000000015E-2,1.5000000000000015E-2,1.5000000000000015E-2,1.5000000000000015E-2,1.5000000000000015E-2,1.5000000000000015E-2,1.5000000000000015E-2,1.5000000000000015E-2,1.5000000000000015E-2,1.5000000000000015E-2,1.5000000000000015E-2,{"$f":"'National Shipments'!F66/'National Shipments'!F$70","v":1.5000000000000015E-2},{"$f":"'National Shipments'!G66/'National Shipments'!G$70","v":1.5000000000000015E-2},{"$f":"'National Shipments'!H66/'National Shipments'!H$70","v":1.5000000000000008E-2},{"$f":"'National Shipments'!I66/'National Shipments'!I$70","v":1.5000000000000012E-2},{"$f":"'National Shipments'!J66/'National Shipments'!J$70","v":1.5000000000000017E-2},{"$f":"'National Shipments'!K66/'National Shipments'!K$70","v":1.5000000000000013E-2},{"$f":"'National Shipments'!L66/'National Shipments'!L$70","v":5.8955895871019688E-2},{"$f":"'National Shipments'!M66/'National Shipments'!M$70","v":0.10302168148171549},{"$f":"'National Shipments'!N66/'National Shipments'!N$70","v":0.14697096852714253},{"$f":"'National Shipments'!O66/'National Shipments'!O$70","v":8.8441346226702008E-2},{"$f":"'National Shipments'!P66/'National Shipments'!P$70","v":2.9765399870509524E-2},{"$f":"'National Shipments'!Q66/'National Shipments'!Q$70","v":0},{"$f":"'National Shipments'!R66/'National Shipments'!R$70","v":0},{"$f":"'National Shipments'!S66/'National Shipments'!S$70","v":0},{"$f":"'National Shipments'!T66/'National Shipments'!T$70","v":0},{"$f":"'National Shipments'!U66/'National Shipments'!U$70","v":0},{"$f":"'National Shipments'!V66/'National Shipments'!V$70","v":0},{"$f":"'National Shipments'!W66/'National Shipments'!W$70","v":0},{"$f":"'National Shipments'!X66/'National Shipments'!X$70","v":0},{"$f":"'National Shipments'!Y66/'National Shipments'!Y$70","v":0},{"$f":"'National Shipments'!Z66/'National Shipments'!Z$70","v":0},{"$f":"'National Shipments'!AA66/'National Shipments'!AA$70","v":0},{"$f":"'National Shipments'!AB66/'National Shipments'!AB$70","v":0},{"$f":"'National Shipments'!AC66/'National Shipments'!AC$70","v":0},{"$f":"'National Shipments'!AD66/'National Shipments'!AD$70","v":0},{"$f":"'National Shipments'!AE66/'National Shipments'!AE$70","v":0}]
[null,null,null,"EL2",{"$f":"INDEX(EFFICIENCY_LEVELS,RIGHT(D67,1)+1,MID($D$61,3,1))","v":9.4},null,0.81259999999999999,0.81259999999999999,0.81259999999999999,0.81259999999999999,0.81259999999999999,0.81259999999999999,0.81259999999999999,0.81259999999999999,0.81259999999999999,0.81259999999999999,0.81259999999999999,0.81259999999999999,0.81259999999999999,0.81259999999999999,0.81259999999999999,0.81259999999999999,0.81259999999999999,0.81259999999999999,0.81259999999999999,0.81259999999999999,0.81259999999999999,0.81259999999999999,0.81259999999999999,0.81259999999999999,0.81259999999999999,0.81259999999999999,0.81259999999999999,0.81259999999999999,{"$f":"'National Shipments'!F67/'National Shipments'!F$70","v":0.81259999999999999},{"$f":"'National Shipments'!G67/'National Shipments'!G$70","v":0.8126000000000001},{"$f":"'National Shipments'!H67/'National Shipments'!H$70","v":0.81259999999999988},{"$f":"'National Shipments'!I67/'National Shipments'!I$70","v":0.81259999999999999},{"$f":"'National Shipments'!J67/'National Shipments'!J$70","v":0.81259999999999999},{"$f":"'National Shipments'!K67/'National Shipments'!K$70","v":0.81259999999999999},{"$f":"'National Shipments'!L67/'National Shipments'!L$70","v":0.81259999999999999},{"$f":"'National Shipments'!M67/'National Shipments'!M$70","v":0.81259999999999999},{"$f":"'National Shipments'!N67/'National Shipments'!N$70","v":0.81272903147285736},{"$f":"'National Shipments'!O67/'National Shipments'!O$70","v":0.87125865377329792},{"$f":"'National Shipments'!P67/'National Shipments'!P$70","v":0.92993460012949059},{"$f":"'National Shipments'!Q67/'National Shipments'!Q$70","v":0.93064276364842713},{"$f":"'National Shipments'!R67/'National Shipments'!R$70","v":0.87167307083579137},{"$f":"'National Shipments'!S67/'National Shipments'!S$70","v":0.81255595379111989},{"$f":"'National Shipments'!T67/'National Shipments'!T$70","v":0.75329104395384017},{"$f":"'National Shipments'!U67/'National Shipments'!U$70","v":0.69387797184196431},{"$f":"'National Shipments'!V67/'National Shipments'!V$70","v":0.63431636704980887},{"$f":"'National Shipments'!W67/'National Shipments'!W$70","v":0.57460585824567512},{"$f":"'National Shipments'!X67/'National Shipments'!X$70","v":0.51474607316953125},{"$f":"'National Shipments'!Y67/'National Shipments'!Y$70","v":0.45473663863069436},{"$f":"'National Shipments'!Z67/'National Shipments'!Z$70","v":0.3945771805055126},{"$f":"'National Shipments'!AA67/'National Shipments'!AA$70","v":0.33426732373501522},{"$f":"'National Shipments'!AB67/'National Shipments'!AB$70","v":0.27380669232259519},{"$f":"'National Shipments'!AC67/'National Shipments'!AC$70","v":0.21319490933164162},{"$f":"'National Shipments'!AD67/'National Shipments'!AD$70","v":0.15243159688321306},{"$f":"'National Shipments'!AE67/'National Shipments'!AE$70","v":9.1516376153661594E-2}]
[null,null,null,"EL3",{"$f":"INDEX(EFFICIENCY_LEVELS,RIGHT(D68,1)+1,MID($D$61,3,1))","v":9.8000000000000007},null,1.9400000000000004E-2,1.9400000000000004E-2,1.9400000000000004E-2,1.9400000000000004E-2,1.9400000000000004E-2,1.9400000000000004E-2,1.9400000000000004E-2,1.9400000000000004E-2,1.9400000000000004E-2,1.9400000000000004E-2,1.9400000000000004E-2,1.9400000000000004E-2,1.9400000000000004E-2,1.9400000000000004E-2,1.9400000000000004E-2,1.9400000000000004E-2,1.9400000000000004E-2,1.9400000000000004E-2,1.9400000000000004E-2,1.9400000000000004E-2,1.9400000000000004E-2,1.9400000000000004E-2,1.9400000000000004E-2,1.9400000000000004E-2,1.9400000000000004E-2,1.9400000000000004E-2,1.9400000000000004E-2,1.9400000000000004E-2,{"$f":"'National Shipments'!F68/'National Shipments'!F$70","v":1.9400000000000004E-2},{"$f":"'National Shipments'!G68/'National Shipments'!G$70","v":1.9400000000000008E-2},{"$f":"'National Shipments'!H68/'National Shipments'!H$70","v":1.9400000000000001E-2},{"$f":"'National Shipments'!I68/'National Shipments'!I$70","v":1.9400000000000004E-2},{"$f":"'National Shipments'!J68/'National Shipments'!J$70","v":1.9400000000000008E-2},{"$f":"'National Shipments'!K68/'National Shipments'!K$70","v":1.9400000000000004E-2},{"$f":"'National Shipments'!L68/'National Shipments'!L$70","v":1.9400000000000004E-2},{"$f":"'National Shipments'!M68/'National Shipments'!M$70","v":1.9400000000000001E-2},{"$f":"'National Shipments'!N68/'National Shipments'!N$70","v":1.9400000000000001E-2},{"$f":"'National Shipments'!O68/'National Shipments'!O$70","v":1.9400000000000004E-2},{"$f":"'National Shipments'!P68/'National Shipments'!P$70","v":1.9400000000000008E-2},{"$f":"'National Shipments'!Q68/'National Shipments'!Q$70","v":4.8457236351572848E-2},{"$f":"'National Shipments'!R68/'National Shipments'!R$70","v":0.10742692916420872},{"$f":"'National Shipments'!S68/'National Shipments'!S$70","v":0.16654404620888008},{"$f":"'National Shipments'!T68/'National Shipments'!T$70","v":0.22580895604615989},{"$f":"'National Shipments'!U68/'National Shipments'!U$70","v":0.28522202815803566},{"$f":"'National Shipments'!V68/'National Shipments'!V$70","v":0.3447836329501911},{"$f":"'National Shipments'!W68/'National Shipments'!W$70","v":0.40449414175432497},{"$f":"'National Shipments'!X68/'National Shipments'!X$70","v":0.46435392683046872},{"$f":"'National Shipments'!Y68/'National Shipments'!Y$70","v":0.52436336136930572},{"$f":"'National Shipments'!Z68/'National Shipments'!Z$70","v":0.58452281949448748},{"$f":"'National Shipments'!AA68/'National Shipments'!AA$70","v":0.64483267626498486},{"$f":"'National Shipments'!AB68/'National Shipments'!AB$70","v":0.70529330767740495},{"$f":"'National Shipments'!AC68/'National Shipments'!AC$70","v":0.76590509066835821},{"$f":"'National Shipments'!AD68/'National Shipments'!AD$70","v":0.82666840311678691},{"$f":"'National Shipments'!AE68/'National Shipments'!AE$70","v":0.88758362384633838}]
[null,null,null,"EL4",{"$f":"INDEX(EFFICIENCY_LEVELS,RIGHT(D69,1)+1,MID($D$61,3,1))","v":10.154447630701553},null,2.0900000000000002E-2,2.0900000000000002E-2,2.0900000000000002E-2,2.0900000000000002E-2,2.0900000000000002E-2,2.0900000000000002E-2,2.0900000000000002E-2,2.0900000000000002E-2,2.0900000000000002E-2,2.0900000000000002E-2,2.0900000000000002E-2,2.0900000000000002E-2,2.0900000000000002E-2,2.0900000000000002E-2,2.0900000000000002E-2,2.0900000000000002E-2,2.0900000000000002E-2,2.0900000000000002E-2,2.0900000000000002E-2,2.0900000000000002E-2,2.0900000000000002E-2,2.0900000000000002E-2,2.0900000000000002E-2,2.0900000000000002E-2,2.0900000000000002E-2,2.0900000000000002E-2,2.0900000000000002E-2,2.0900000000000002E-2,{"$f":"'National Shipments'!F69/'National Shipments'!F$70","v":2.0900000000000002E-2},{"$f":"'National Shipments'!G69/'National Shipments'!G$70","v":2.0899999999999998E-2},{"$f":"'National Shipments'!H69/'National Shipments'!H$70","v":2.0899999999999995E-2},{"$f":"'National Shipments'!I69/'National Shipments'!I$70","v":2.0899999999999998E-2},{"$f":"'National Shipments'!J69/'National Shipments'!J$70","v":2.0899999999999998E-2},{"$f":"'National Shipments'!K69/'National Shipments'!K$70","v":2.0900000000000002E-2},{"$f":"'National Shipments'!L69/'National Shipments'!L$70","v":2.0899999999999998E-2},{"$f":"'National Shipments'!M69/'National Shipments'!M$70","v":2.0899999999999995E-2},{"$f":"'National Shipments'!N69/'National Shipments'!N$70","v":2.0899999999999995E-2},{"$f":"'National Shipments'!O69/'National Shipments'!O$70","v":2.0899999999999995E-2},{"$f":"'National Shipments'!P69/'National Shipments'!P$70","v":2.0899999999999998E-2},{"$f":"'National Shipments'!Q69/'National Shipments'!Q$70","v":2.0899999999999998E-2},{"$f":"'National Shipments'!R69/'National Shipments'!R$70","v":2.0900000000000002E-2},{"$f":"'National Shipments'!S69/'National Shipments'!S$70","v":2.0900000000000002E-2},{"$f":"'National Shipments'!T69/'National Shipments'!T$70","v":2.0899999999999998E-2},{"$f":"'National Shipments'!U69/'National Shipments'!U$70","v":2.0899999999999995E-2},{"$f":"'National Shipments'!V69/'National Shipments'!V$70","v":2.0900000000000002E-2},{"$f":"'National Shipments'!W69/'National Shipments'!W$70","v":2.0900000000000002E-2},{"$f":"'National Shipments'!X69/'National Shipments'!X$70","v":2.0899999999999998E-2},{"$f":"'National Shipments'!Y69/'National Shipments'!Y$70","v":2.0899999999999998E-2},{"$f":"'National Shipments'!Z69/'National Shipments'!Z$70","v":2.0900000000000002E-2},{"$f":"'National Shipments'!AA69/'National Shipments'!AA$70","v":2.0899999999999998E-2},{"$f":"'National Shipments'!AB69/'National Shipments'!AB$70","v":2.0900000000000002E-2},{"$f":"'National Shipments'!AC69/'National Shipments'!AC$70","v":2.0899999999999998E-2},{"$f":"'National Shipments'!AD69/'National Shipments'!AD$70","v":2.0899999999999998E-2},{"$f":"'National Shipments'!AE69/'National Shipments'!AE$70","v":2.0899999999999998E-2}]
[null,null,null,"TOTAL",null,null,1,1,1,1,1,1,1,1,1,1,1,1,1,1,1,1,1,1,1,1,1,1,1,1,1,1,1,1,{"$f":"'National Shipments'!F70/'National Shipments'!F$70","v":1},{"$f":"'National Shipments'!G70/'National Shipments'!G$70","v":1},{"$f":"'National Shipments'!H70/'National Shipments'!H$70","v":1},{"$f":"'National Shipments'!I70/'National Shipments'!I$70","v":1},{"$f":"'National Shipments'!J70/'National Shipments'!J$70","v":1},{"$f":"'National Shipments'!K70/'National Shipments'!K$70","v":1},{"$f":"'National Shipments'!L70/'National Shipments'!L$70","v":1},{"$f":"'National Shipments'!M70/'National Shipments'!M$70","v":1},{"$f":"'National Shipments'!N70/'National Shipments'!N$70","v":1},{"$f":"'National Shipments'!O70/'National Shipments'!O$70","v":1},{"$f":"'National Shipments'!P70/'National Shipments'!P$70","v":1},{"$f":"'National Shipments'!Q70/'National Shipments'!Q$70","v":1},{"$f":"'National Shipments'!R70/'National Shipments'!R$70","v":1},{"$f":"'National Shipments'!S70/'National Shipments'!S$70","v":1},{"$f":"'National Shipments'!T70/'National Shipments'!T$70","v":1},{"$f":"'National Shipments'!U70/'National Shipments'!U$70","v":1},{"$f":"'National Shipments'!V70/'National Shipments'!V$70","v":1},{"$f":"'National Shipments'!W70/'National Shipments'!W$70","v":1},{"$f":"'National Shipments'!X70/'National Shipments'!X$70","v":1},{"$f":"'National Shipments'!Y70/'National Shipments'!Y$70","v":1},{"$f":"'National Shipments'!Z70/'National Shipments'!Z$70","v":1},{"$f":"'National Shipments'!AA70/'National Shipments'!AA$70","v":1},{"$f":"'National Shipments'!AB70/'National Shipments'!AB$70","v":1},{"$f":"'National Shipments'!AC70/'National Shipments'!AC$70","v":1},{"$f":"'National Shipments'!AD70/'National Shipments'!AD$70","v":1},{"$f":"'National Shipments'!AE70/'National Shipments'!AE$70","v":1}]
[]
[null,null,null,"POST-Case"]
[null,null,null,"Efficiency Level","CEER",null,1981,1982,1983,1984,1985,1986,1987,1988,1989,1990,1991,1992,1993,1994,1995,1996,1997,1998,1999,2000,2001,2002,2003,2004,2005,2006,2007,2008,2009,2010,2011,2012,2013,2014,2015,2016,2017,2018,2019,2020,2021,2022,2023,2024,2025,2026,2027,2028,2029,2030,2031,2032,2033,2034]
[null,null,null,{"$f":"D65","v":"EL0"},{"$f":"E65","v":8.4713534124895506},null,{"$f":"H74","v":0.1321},0.1321,0.1321,0.1321,0.1321,0.1321,0.1321,0.1321,0.1321,0.1321,0.1321,0.1321,0.1321,0.1321,0.1321,0.1321,0.1321,0.1321,0.1321,0.1321,0.1321,0.1321,0.1321,0.1321,0.1321,0.1321,0.1321,{"$f":"AI74","v":0.1321},{"$f":"'National Shipments'!F74/'National Shipments'!F$79","v":0.1321},{"$f":"'National Shipments'!G74/'National Shipments'!G$79","v":0.1321},{"$f":"'National Shipments'!H74/'National Shipments'!H$79","v":0.13209999999999997},{"$f":"'National Shipments'!I74/'National Shipments'!I$79","v":0.1321},{"$f":"'National Shipments'!J74/'National Shipments'!J$79","v":0.1321},{"$f":"'National Shipments'!K74/'National Shipments'!K$79","v":0},{"$f":"'National Shipments'!L74/'National Shipments'!L$79","v":0},{"$f":"'National Shipments'!M74/'National Shipments'!M$79","v":0},{"$f":"'National Shipments'!N74/'National Shipments'!N$79","v":0},{"$f":"'National Shipments'!O74/'National Shipments'!O$79","v":0},{"$f":"'National Shipments'!P74/'National Shipments'!P$79","v":0},{"$f":"'National Shipments'!Q74/'National Shipments'!Q$79","v":0},{"$f":"'National Shipments'!R74/'National Shipments'!R$79","v":0},{"$f":"'National Shipments'!S74/'National Shipments'!S$79","v":0},{"$f":"'National Shipments'!T74/'National Shipments'!T$79","v":0},{"$f":"'National Shipments'!U74/'National Shipments'!U$79","v":0},{"$f":"'National Shipments'!V74/'National Shipments'!V$79","v":0},{"$f":"'National Shipments'!W74/'National Shipments'!W$79","v":0},{"$f":"'National Shipments'!X74/'National Shipments'!X$79","v":0},{"$f":"'National Shipments'!Y74/'National Shipments'!Y$79","v":0},{"$f":"'National Shipments'!Z74/'National Shipments'!Z$79","v":0},{"$f":"'National Shipments'!AA74/'National Shipments'!AA$79","v":0},{"$f":"'National Shipments'!AB74/'National Shipments'!AB$79","v":0},{"$f":"'National Shipments'!AC74/'National Shipments'!AC$79","v":0},{"$f":"'National Shipments'!AD74/'National Shipments'!AD$79","v":0},{"$f":"'National Shipments'!AE74/'National Shipments'!AE$79","v":0}]
[null,null,null,{"$f":"D66","v":"EL1"},9,null,1.5000000000000015E-2,1.5000000000000015E-2,1.5000000000000015E-2,1.5000000000000015E-2,1.5000000000000015E-2,1.5000000000000015E-2,1.5000000000000015E-2,1.5000000000000015E-2,1.5000000000000015E-2,1.5000000000000015E-2,1.5000000000000015E-2,1.5000000000000015E-2,1.5000000000000015E-2,1.5000000000000015E-2,1.5000000000000015E-2,1.5000000000000015E-2,1.5000000000000015E-2,1.5000000000000015E-2,1.5000000000000015E-2,1.5000000000000015E-2,1.5000000000000015E-2,1.5000000000000015E-2,1.5000000000000015E-2,1.5000000000000015E-2,1.5000000000000015E-2,1.5000000000000015E-2,1.5000000000000015E-2,{"$f":"AI75","v":1.5000000000000015E-2},{"$f":"'National Shipments'!F75/'National Shipments'!F$79","v":1.5000000000000015E-2},{"$f":"'National Shipments'!G75/'National Shipments'!G$79","v":1.5000000000000015E-2},{"$f":"'National Shipments'!H75/'National Shipments'!H$79","v":1.5000000000000008E-2},{"$f":"'National Shipments'!I75/'National Shipments'!I$79","v":1.5000000000000012E-2},{"$f":"'National Shipments'!J75/'National Shipments'!J$79","v":1.5000000000000017E-2},{"$f":"'National Shipments'!K75/'National Shipments'!K$79","v":0},{"$f":"'National Shipments'!L75/'National Shipments'!L$79","v":0},{"$f":"'National Shipments'!M75/'National Shipments'!M$79","v":0},{"$f":"'National Shipments'!N75/'National Shipments'!N$79","v":0},{"$f":"'National Shipments'!O75/'National Shipments'!O$79","v":0},{"$f":"'National Shipments'!P75/'National Shipments'!P$79","v":0},{"$f":"'National Shipments'!Q75/'National Shipments'!Q$79","v":0},{"$f":"'National Shipments'!R75/'National Shipments'!R$79","v":0},{"$f":"'National Shipments'!S75/'National Shipments'!S$79","v":0},{"$f":"'National Shipments'!T75/'National Shipments'!T$79","v":0},{"$f":"'National Shipments'!U75/'National Shipments'!U$79","v":0},{"$f":"'National Shipments'!V75/'National Shipments'!V$79","v":0},{"$f":"'National Shipments'!W75/'National Shipments'!W$79","v":0},{"$f":"'National Shipments'!X75/'National Shipments'!X$79","v":0},{"$f":"'National Shipments'!Y75/'National Shipments'!Y$79","v":0},{"$f":"'National Shipments'!Z75/'National Shipments'!Z$79","v":0},{"$f":"'National Shipments'!AA75/'National Shipments'!AA$79","v":0},{"$f":"'National Shipments'!AB75/'National Shipments'!AB$79","v":0},{"$f":"'National Shipments'!AC75/'National Shipments'!AC$79","v":0},{"$f":"'National Shipments'!AD75/'National Shipments'!AD$79","v":0},{"$f":"'National Shipments'!AE75/'National Shipments'!AE$79","v":0}]
[null,null,null,"EL2",9.4,null,0.81259999999999999,0.81259999999999999,0.81259999999999999,0.81259999999999999,0.81259999999999999,0.81259999999999999,0.81259999999999999,0.81259999999999999,0.81259999999999999,0.81259999999999999,0.81259999999999999,0.81259999999999999,0.81259999999999999,0.81259999999999999,0.81259999999999999,0.81259999999999999,0.81259999999999999,0.81259999999999999,0.81259999999999999,0.81259999999999999,0.81259999999999999,0.81259999999999999,0.81259999999999999,0.81259999999999999,0.81259999999999999,0.81259999999999999,0.81259999999999999,0.81259999999999999,{"$f":"'National Shipments'!F76/'National Shipments'!F$79","v":0.81259999999999999},{"$f":"'National Shipments'!G76/'National Shipments'!G$79","v":0.8126000000000001},{"$f":"'National Shipments'!H76/'National Shipments'!H$79","v":0.81259999999999988},{"$f":"'National Shipments'!I76/'National Shipments'!I$79","v":0.81259999999999999},{"$f":"'National Shipments'!J76/'National Shipments'!J$79","v":0.81259999999999999},{"$f":"'National Shipments'!K76/'National Shipments'!K$79","v":0.9597},{"$f":"'National Shipments'!L76/'National Shipments'!L$79","v":0.8592815380890283},{"$f":"'National Shipments'!M76/'National Shipments'!M$79","v":0.84480699539873372},{"$f":"'National Shipments'!N76/'National Shipments'!N$79","v":0.83028676852591332},{"$f":"'National Shipments'!O76/'National Shipments'!O$79","v":0.81143147922307779},{"$f":"'National Shipments'!P76/'National Shipments'!P$79","v":0.79252905169699284},{"$f":"'National Shipments'!Q76/'National Shipments'!Q$79","v":0.75388290628169796},{"$f":"'National Shipments'!R76/'National Shipments'!R$79","v":0.69491321346906598},{"$f":"'National Shipments'!S76/'National Shipments'!S$79","v":0.63579609642439072},{"$f":"'National Shipments'!T76/'National Shipments'!T$79","v":0.57653118658711078},{"$f":"'National Shipments'!U76/'National Shipments'!U$79","v":0.51711811447523526},{"$f":"'National Shipments'!V76/'National Shipments'!V$79","v":0.45755650968307982},{"$f":"'National Shipments'!W76/'National Shipments'!W$79","v":0.39784600087894584},{"$f":"'National Shipments'!X76/'National Shipments'!X$79","v":0.33798621580280197},{"$f":"'National Shipments'!Y76/'National Shipments'!Y$79","v":0.27797678126396513},{"$f":"'National Shipments'!Z76/'National Shipments'!Z$79","v":0.21781732313878388},{"$f":"'National Shipments'!AA76/'National Shipments'!AA$79","v":0.15750746636828597},{"$f":"'National Shipments'!AB76/'National Shipments'!AB$79","v":9.7046834955869923E-2},{"$f":"'National Shipments'!AC76/'National Shipments'!AC$79","v":3.6435051964912903E-2},{"$f":"'National Shipments'!AD76/'National Shipments'!AD$79","v":1.0926169256281967E-2},{"$f":"'National Shipments'!AE76/'National Shipments'!AE$79","v":1.3053151139556188E-4}]
[null,null,null,"EL3",9.8000000000000007,null,1.9400000000000004E-2,1.9400000000000004E-2,1.9400000000000004E-2,1.9400000000000004E-2,1.9400000000000004E-2,1.9400000000000004E-2,1.9400000000000004E-2,1.9400000000000004E-2,1.9400000000000004E-2,1.9400000000000004E-2,1.9400000000000004E-2,1.9400000000000004E-2,1.9400000000000004E-2,1.9400000000000004E-2,1.9400000000000004E-2,1.9400000000000004E-2,1.9400000000000004E-2,1.9400000000000004E-2,1.9400000000000004E-2,1.9400000000000004E-2,1.9400000000000004E-2,1.9400000000000004E-2,1.9400000000000004E-2,1.9400000000000004E-2,1.9400000000000004E-2,1.9400000000000004E-2,1.9400000000000004E-2,1.9400000000000004E-2,{"$f":"'National Shipments'!F77/'National Shipments'!F$79","v":1.9400000000000004E-2},{"$f":"'National Shipments'!G77/'National Shipments'!G$79","v":1.9400000000000008E-2},{"$f":"'National Shipments'!H77/'National Shipments'!H$79","v":1.9400000000000001E-2},{"$f":"'National Shipments'!I77/'National Shipments'!I$79","v":1.9400000000000004E-2},{"$f":"'National Shipments'!J77/'National Shipments'!J$79","v":1.9400000000000008E-2},{"$f":"'National Shipments'!K77/'National Shipments'!K$79","v":1.9400000000000001E-2},{"$f":"'National Shipments'!L77/'National Shipments'!L$79","v":0.11981846191097166},{"$f":"'National Shipments'!M77/'National Shipments'!M$79","v":0.13429300460126625},{"$f":"'National Shipments'!N77/'National Shipments'!N$79","v":0.14881323147408676},{"$f":"'National Shipments'!O77/'National Shipments'!O$79","v":0.1676685207769221},{"$f":"'National Shipments'!P77/'National Shipments'!P$79","v":0.18657094830300713},{"$f":"'National Shipments'!Q77/'National Shipments'!Q$79","v":0.22521709371830201},{"$f":"'National Shipments'!R77/'National Shipments'!R$79","v":0.28418678653093404},{"$f":"'National Shipments'!S77/'National Shipments'!S$79","v":0.34330390357560936},{"$f":"'National Shipments'!T77/'National Shipments'!T$79","v":0.40256881341288919},{"$f":"'National Shipments'!U77/'National Shipments'!U$79","v":0.46198188552476477},{"$f":"'National Shipments'!V77/'National Shipments'!V$79","v":0.52154349031692027},{"$f":"'National Shipments'!W77/'National Shipments'!W$79","v":0.58125399912105413},{"$f":"'National Shipments'!X77/'National Shipments'!X$79","v":0.641113784197198},{"$f":"'National Shipments'!Y77/'National Shipments'!Y$79","v":0.701123218736035},{"$f":"'National Shipments'!Z77/'National Shipments'!Z$79","v":0.7612826768612162},{"$f":"'National Shipments'!AA77/'National Shipments'!AA$79","v":0.82159253363171414},{"$f":"'National Shipments'!AB77/'National Shipments'!AB$79","v":0.88205316504413012},{"$f":"'National Shipments'!AC77/'National Shipments'!AC$79","v":0.94266494803508705},{"$f":"'National Shipments'!AD77/'National Shipments'!AD$79","v":0.96817383074371799},{"$f":"'National Shipments'!AE77/'National Shipments'!AE$79","v":0.97896946848860444}]
[null,null,null,"EL4",10.154447630701553,null,2.0900000000000002E-2,2.0900000000000002E-2,2.0900000000000002E-2,2.0900000000000002E-2,2.0900000000000002E-2,2.0900000000000002E-2,2.0900000000000002E-2,2.0900000000000002E-2,2.0900000000000002E-2,2.0900000000000002E-2,2.0900000000000002E-2,2.0900000000000002E-2,2.0900000000000002E-2,2.0900000000000002E-2,2.0900000000000002E-2,2.0900000000000002E-2,2.0900000000000002E-2,2.0900000000000002E-2,2.0900000000000002E-2,2.0900000000000002E-2,2.0900000000000002E-2,2.0900000000000002E-2,2.0900000000000002E-2,2.0900000000000002E-2,2.0900000000000002E-2,2.0900000000000002E-2,2.0900000000000002E-2,2.0900000000000002E-2,{"$f":"'National Shipments'!F78/'National Shipments'!F$79","v":2.0900000000000002E-2},{"$f":"'National Shipments'!G78/'National Shipments'!G$79","v":2.0899999999999998E-2},{"$f":"'National Shipments'!H78/'National Shipments'!H$79","v":2.0899999999999995E-2},{"$f":"'National Shipments'!I78/'National Shipments'!I$79","v":2.0899999999999998E-2},{"$f":"'National Shipments'!J78/'National Shipments'!J$79","v":2.0899999999999998E-2},{"$f":"'National Shipments'!K78/'National Shipments'!K$79","v":2.0899999999999995E-2},{"$f":"'National Shipments'!L78/'National Shipments'!L$79","v":2.0899999999999998E-2},{"$f":"'National Shipments'!M78/'National Shipments'!M$79","v":2.0900000000000002E-2},{"$f":"'National Shipments'!N78/'National Shipments'!N$79","v":2.0900000000000002E-2},{"$f":"'National Shipments'!O78/'National Shipments'!O$79","v":2.0899999999999998E-2},{"$f":"'National Shipments'!P78/'National Shipments'!P$79","v":2.0899999999999998E-2},{"$f":"'National Shipments'!Q78/'National Shipments'!Q$79","v":2.0899999999999998E-2},{"$f":"'National Shipments'!R78/'National Shipments'!R$79","v":2.0899999999999998E-2},{"$f":"'National Shipments'!S78/'National Shipments'!S$79","v":2.0899999999999998E-2},{"$f":"'National Shipments'!T78/'National Shipments'!T$79","v":2.0899999999999995E-2},{"$f":"'National Shipments'!U78/'National Shipments'!U$79","v":2.0899999999999998E-2},{"$f":"'National Shipments'!V78/'National Shipments'!V$79","v":2.0900000000000002E-2},{"$f":"'National Shipments'!W78/'National Shipments'!W$79","v":2.0899999999999998E-2},{"$f":"'National Shipments'!X78/'National Shipments'!X$79","v":2.0900000000000002E-2},{"$f":"'National Shipments'!Y78/'National Shipments'!Y$79","v":2.0900000000000002E-2},{"$f":"'National Shipments'!Z78/'National Shipments'!Z$79","v":2.0899999999999998E-2},{"$f":"'National Shipments'!AA78/'National Shipments'!AA$79","v":2.0900000000000002E-2},{"$f":"'National Shipments'!AB78/'National Shipments'!AB$79","v":2.0899999999999998E-2},{"$f":"'National Shipments'!AC78/'National Shipments'!AC$79","v":2.0899999999999998E-2},{"$f":"'National Shipments'!AD78/'National Shipments'!AD$79","v":2.0899999999999998E-2},{"$f":"'National Shipments'!AE78/'National Shipments'!AE$79","v":2.0900000000000002E-2}]
[null,null,null,"TOTAL",null,null,1,1,1,1,1,1,1,1,1,1,1,1,1,1,1,1,1,1,1,1,1,1,1,1,1,1,1,1,{"$f":"'National Shipments'!F79/'National Shipments'!F$79","v":1},{"$f":"'National Shipments'!G79/'National Shipments'!G$79","v":1},{"$f":"'National Shipments'!H79/'National Shipments'!H$79","v":1},{"$f":"'National Shipments'!I79/'National Shipments'!I$79","v":1},{"$f":"'National Shipments'!J79/'National Shipments'!J$79","v":1},{"$f":"'National Shipments'!K79/'National Shipments'!K$79","v":1},{"$f":"'National Shipments'!L79/'National Shipments'!L$79","v":1},{"$f":"'National Shipments'!M79/'National Shipments'!M$79","v":1},{"$f":"'National Shipments'!N79/'National Shipments'!N$79","v":1},{"$f":"'National Shipments'!O79/'National Shipments'!O$79","v":1},{"$f":"'National Shipments'!P79/'National Shipments'!P$79","v":1},{"$f":"'National Shipments'!Q79/'National Shipments'!Q$79","v":1},{"$f":"'National Shipments'!R79/'National Shipments'!R$79","v":1},{"$f":"'National Shipments'!S79/'National Shipments'!S$79","v":1},{"$f":"'National Shipments'!T79/'National Shipments'!T$79","v":1},{"$f":"'National Shipments'!U79/'National Shipments'!U$79","v":1},{"$f":"'National Shipments'!V79/'National Shipments'!V$79","v":1},{"$f":"'National Shipments'!W79/'National Shipments'!W$79","v":1},{"$f":"'National Shipments'!X79/'National Shipments'!X$79","v":1},{"$f":"'National Shipments'!Y79/'National Shipments'!Y$79","v":1},{"$f":"'National Shipments'!Z79/'National Shipments'!Z$79","v":1},{"$f":"'National Shipments'!AA79/'National Shipments'!AA$79","v":1},{"$f":"'National Shipments'!AB79/'National Shipments'!AB$79","v":1},{"$f":"'National Shipments'!AC79/'National Shipments'!AC$79","v":1},{"$f":"'National Shipments'!AD79/'National Shipments'!AD$79","v":1},{"$f":"'National Shipments'!AE79/'National Shipments'!AE$79","v":1}]
[]
[null,null,null,"Sources","2011 DOE Residential Room Air Conditioners Direct Final Rule Government Regulatory Impact Model 'Product Shipments (CALC)' tab."]
[]
[]
[]
[null,null,null,"PC4  Without reverse cycle, with louvered sides, and 25,000 Btu/h or more"]
[]
[null,null,null,"PRE-Case"]
[null,null,null,"Efficiency Level","CEER",null,1981,1982,1983,1984,1985,1986,1987,1988,1989,1990,1991,1992,1993,1994,1995,1996,1997,1998,1999,2000,2001,2002,2003,2004,2005,2006,2007,2008,2009,2010,2011,2012,2013,2014,2015,2016,2017,2018,2019,2020,2021,2022,2023,2024,2025,2026,2027,2028,2029,2030,2031,2032,2033,2034]
[null,null,null,"EL0",{"$f":"INDEX(EFFICIENCY_LEVELS,RIGHT(D89,1)+1,MID($D$85,3,1))","v":8.4754339546823534},null,{"$f":"H89","v":0.12450000000000003},0.12450000000000003,0.12450000000000003,0.12450000000000003,0.12450000000000003,0.12450000000000003,0.12450000000000003,0.12450000000000003,0.12450000000000003,0.12450000000000003,0.12450000000000003,0.12450000000000003,0.12450000000000003,0.12450000000000003,0.12450000000000003,0.12450000000000003,0.12450000000000003,0.12450000000000003,0.12450000000000003,0.12450000000000003,0.12450000000000003,0.12450000000000003,0.12450000000000003,0.12450000000000003,0.12450000000000003,0.12450000000000003,0.12450000000000003,0.12450000000000003,{"$f":"'National Shipments'!F89/'National Shipments'!F$93","v":0.12450000000000003},{"$f":"'National Shipments'!G89/'National Shipments'!G$93","v":0.12450000000000007},{"$f":"'National Shipments'!H89/'National Shipments'!H$93","v":0.12450000000000006},{"$f":"'National Shipments'!I89/'National Shipments'!I$93","v":0.12450000000000006},{"$f":"'National Shipments'!J89/'National Shipments'!J$93","v":0.12450000000000006},{"$f":"'National Shipments'!K89/'National Shipments'!K$93","v":0.12450000000000003},{"$f":"'National Shipments'!L89/'National Shipments'!L$93","v":8.0314153228932539E-2},{"$f":"'National Shipments'!M89/'National Shipments'!M$93","v":3.6017841840936884E-2},{"$f":"'National Shipments'!N89/'National Shipments'!N$93","v":0},{"$f":"'National Shipments'!O89/'National Shipments'!O$93","v":0},{"$f":"'National Shipments'!P89/'National Shipments'!P$93","v":0},{"$f":"'National Shipments'!Q89/'National Shipments'!Q$93","v":0},{"$f":"'National Shipments'!R89/'National Shipments'!R$93","v":0},{"$f":"'National Shipments'!S89/'National Shipments'!S$93","v":0},{"$f":"'National Shipments'!T89/'National Shipments'!T$93","v":0},{"$f":"'National Shipments'!U89/'National Shipments'!U$93","v":0},{"$f":"'National Shipments'!V89/'National Shipments'!V$93","v":0},{"$f":"'National Shipments'!W89/'National Shipments'!W$93","v":0},{"$f":"'National Shipments'!X89/'National Shipments'!X$93","v":0},{"$f":"'National Shipments'!Y89/'National Shipments'!Y$93","v":0},{"$f":"'National Shipments'!Z89/'National Shipments'!Z$93","v":0},{"$f":"'National Shipments'!AA89/'National Shipments'!AA$93","v":0},{"$f":"'National Shipments'!AB89/'National Shipments'!AB$93","v":0},{"$f":"'National Shipments'!AC89/'National Shipments'!AC$93","v":0},{"$f":"'National Shipments'!AD89/'National Shipments'!AD$93","v":0},{"$f":"'National Shipments'!AE89/'National Shipments'!AE$93","v":0}]
[null,null,null,"EL1",{"$f":"INDEX(EFFICIENCY_LEVELS,RIGHT(D90,1)+1,MID($D$85,3,1))","v":9},null,2.259999999999995E-2,2.259999999999995E-2,2.259999999999995E-2,2.259999999999995E-2,2.259999999999995E-2,2.259999999999995E-2,2.259999999999995E-2,2.259999999999995E-2,2.259999999999995E-2,2.259999999999995E-2,2.259999999999995E-2,2.259999999999995E-2,2.259999999999995E-2,2.259999999999995E-2,2.259999999999995E-2,2.259999999999995E-2,2.259999999999995E-2,2.259999999999995E-2,2.259999999999995E-2,2.259999999999995E-2,2.259999999999995E-2,2.259999999999995E-2,2.259999999999995E-2,2.259999999999995E-2,2.259999999999995E-2,2.259999999999995E-2,2.259999999999995E-2,2.259999999999995E-2,{"$f":"'National Shipments'!F90/'National Shipments'!F$93","v":2.259999999999995E-2},{"$f":"'National Shipments'!G90/'National Shipments'!G$93","v":2.2599999999999953E-2},{"$f":"'National Shipments'!H90/'National Shipments'!H$93","v":2.2599999999999953E-2},{"$f":"'National Shipments'!I90/'National Shipments'!I$93","v":2.2599999999999953E-2},{"$f":"'National Shipments'!J90/'National Shipments'!J$93","v":2.259999999999995E-2},{"$f":"'National Shipments'!K90/'National Shipments'!K$93","v":2.2599999999999953E-2},{"$f":"'National Shipments'!L90/'National Shipments'!L$93","v":6.678584677106747E-2},{"$f":"'National Shipments'!M90/'National Shipments'!M$93","v":0.11108215815906312},{"$f":"'National Shipments'!N90/'National Shipments'!N$93","v":0.13605170426132285},{"$f":"'National Shipments'!O90/'National Shipments'!O$93","v":7.7408583577803891E-2},{"$f":"'National Shipments'!P90/'National Shipments'!P$93","v":1.8618855092576297E-2},{"$f":"'National Shipments'!Q90/'National Shipments'!Q$93","v":0},{"$f":"'National Shipments'!R90/'National Shipments'!R$93","v":0},{"$f":"'National Shipments'!S90/'National Shipments'!S$93","v":0},{"$f":"'National Shipments'!T90/'National Shipments'!T$93","v":0},{"$f":"'National Shipments'!U90/'National Shipments'!U$93","v":0},{"$f":"'National Shipments'!V90/'National Shipments'!V$93","v":0},{"$f":"'National Shipments'!W90/'National Shipments'!W$93","v":0},{"$f":"'National Shipments'!X90/'National Shipments'!X$93","v":0},{"$f":"'National Shipments'!Y90/'National Shipments'!Y$93","v":0},{"$f":"'National Shipments'!Z90/'National Shipments'!Z$93","v":0},{"$f":"'National Shipments'!AA90/'National Shipments'!AA$93","v":0},{"$f":"'National Shipments'!AB90/'National Shipments'!AB$93","v":0},{"$f":"'National Shipments'!AC90/'National Shipments'!AC$93","v":0},{"$f":"'National Shipments'!AD90/'National Shipments'!AD$93","v":0},{"$f":"'National Shipments'!AE90/'National Shipments'!AE$93","v":0}]
[null,null,null,"EL2",{"$f":"INDEX(EFFICIENCY_LEVELS,RIGHT(D91,1)+1,MID($D$85,3,1))","v":9.4},null,0.85289999999999999,0.85289999999999999,0.85289999999999999,0.85289999999999999,0.85289999999999999,0.85289999999999999,0.85289999999999999,0.85289999999999999,0.85289999999999999,0.85289999999999999,0.85289999999999999,0.85289999999999999,0.85289999999999999,0.85289999999999999,0.85289999999999999,0.85289999999999999,0.85289999999999999,0.85289999999999999,0.85289999999999999,0.85289999999999999,0.85289999999999999,0.85289999999999999,0.85289999999999999,0.85289999999999999,0.85289999999999999,0.85289999999999999,0.85289999999999999,0.85289999999999999,{"$f":"'National Shipments'!F91/'National Shipments'!F$93","v":0.85289999999999999},{"$f":"'National Shipments'!G91/'National Shipments'!G$93","v":0.85289999999999999},{"$f":"'National Shipments'!H91/'National Shipments'!H$93","v":0.85289999999999999},{"$f":"'National Shipments'!I91/'National Shipments'!I$93","v":0.8529000000000001},{"$f":"'National Shipments'!J91/'National Shipments'!J$93","v":0.85289999999999988},{"$f":"'National Shipments'!K91/'National Shipments'!K$93","v":0.85289999999999999},{"$f":"'National Shipments'!L91/'National Shipments'!L$93","v":0.85289999999999999},{"$f":"'National Shipments'!M91/'National Shipments'!M$93","v":0.85289999999999999},{"$f":"'National Shipments'!N91/'National Shipments'!N$93","v":0.86394829573867715},{"$f":"'National Shipments'!O91/'National Shipments'!O$93","v":0.92259141642219611},{"$f":"'National Shipments'!P91/'National Shipments'!P$93","v":0.98138114490742367},{"$f":"'National Shipments'!Q91/'National Shipments'!Q$93","v":0.95986483349336149},{"$f":"'National Shipments'!R91/'National Shipments'!R$93","v":0.90102588276059681},{"$f":"'National Shipments'!S91/'National Shipments'!S$93","v":0.8420398346510013},{"$f":"'National Shipments'!T91/'National Shipments'!T$93","v":0.7829063214211307},{"$f":"'National Shipments'!U91/'National Shipments'!U$93","v":0.72362497440818618},{"$f":"'National Shipments'!V91/'National Shipments'!V$93","v":0.66419542402770637},{"$f":"'National Shipments'!W91/'National Shipments'!W$93","v":0.6046172997712782},{"$f":"'National Shipments'!X91/'National Shipments'!X$93","v":0.54489023020420602},{"$f":"'National Shipments'!Y91/'National Shipments'!Y$93","v":0.48501384296321953},{"$f":"'National Shipments'!Z91/'National Shipments'!Z$93","v":0.4249877647541303},{"$f":"'National Shipments'!AA91/'National Shipments'!AA$93","v":0.36481162134951528},{"$f":"'National Shipments'!AB91/'National Shipments'!AB$93","v":0.30448503758638928},{"$f":"'National Shipments'!AC91/'National Shipments'!AC$93","v":0.2440076373638583},{"$f":"'National Shipments'!AD91/'National Shipments'!AD$93","v":0.18337904364077098},{"$f":"'National Shipments'!AE91/'National Shipments'!AE$93","v":0.12259887843337242}]
[null,null,null,"EL3",{"$f":"INDEX(EFFICIENCY_LEVELS,RIGHT(D92,1)+1,MID($D$85,3,1))","v":9.8000000000000007},null,0,0,0,0,0,0,0,0,0,0,0,0,0,0,0,0,0,0,0,0,0,0,0,0,0,0,0,0,{"$f":"'National Shipments'!F92/'National Shipments'!F$93","v":0},{"$f":"'National Shipments'!G92/'National Shipments'!G$93","v":0},{"$f":"'National Shipments'!H92/'National Shipments'!H$93","v":0},{"$f":"'National Shipments'!I92/'National Shipments'!I$93","v":0},{"$f":"'National Shipments'!J92/'National Shipments'!J$93","v":0},{"$f":"'National Shipments'!K92/'National Shipments'!K$93","v":0},{"$f":"'National Shipments'!L92/'National Shipments'!L$93","v":0},{"$f":"'National Shipments'!M92/'National Shipments'!M$93","v":0},{"$f":"'National Shipments'!N92/'National Shipments'!N$93","v":0},{"$f":"'National Shipments'!O92/'National Shipments'!O$93","v":0},{"$f":"'National Shipments'!P92/'National Shipments'!P$93","v":0},{"$f":"'National Shipments'!Q92/'National Shipments'!Q$93","v":4.0135166506638488E-2},{"$f":"'National Shipments'!R92/'National Shipments'!R$93","v":9.8974117239403234E-2},{"$f":"'National Shipments'!S92/'National Shipments'!S$93","v":0.15796016534899865},{"$f":"'National Shipments'!T92/'National Shipments'!T$93","v":0.21709367857886921},{"$f":"'National Shipments'!U92/'National Shipments'!U$93","v":0.27637502559181376},{"$f":"'National Shipments'!V92/'National Shipments'!V$93","v":0.33580457597229363},{"$f":"'National Shipments'!W92/'National Shipments'!W$93","v":0.39538270022872185},{"$f":"'National Shipments'!X92/'National Shipments'!X$93","v":0.45510976979579393},{"$f":"'National Shipments'!Y92/'National Shipments'!Y$93","v":0.51498615703678041},{"$f":"'National Shipments'!Z92/'National Shipments'!Z$93","v":0.57501223524586964},{"$f":"'National Shipments'!AA92/'National Shipments'!AA$93","v":0.63518837865048483},{"$f":"'National Shipments'!AB92/'National Shipments'!AB$93","v":0.69551496241361066},{"$f":"'National Shipments'!AC92/'National Shipments'!AC$93","v":0.75599236263614167},{"$f":"'National Shipments'!AD92/'National Shipments'!AD$93","v":0.81662095635922904},{"$f":"'National Shipments'!AE92/'National Shipments'!AE$93","v":0.87740112156662753}]
[null,null,null,"TOTAL",null,null,1,1,1,1,1,1,1,1,1,1,1,1,1,1,1,1,1,1,1,1,1,1,1,1,1,1,1,1,{"$f":"'National Shipments'!F93/'National Shipments'!F$93","v":1},{"$f":"'National Shipments'!G93/'National Shipments'!G$93","v":1},{"$f":"'National Shipments'!H93/'National Shipments'!H$93","v":1},{"$f":"'National Shipments'!I93/'National Shipments'!I$93","v":1},{"$f":"'National Shipments'!J93/'National Shipments'!J$93","v":1},{"$f":"'National Shipments'!K93/'National Shipments'!K$93","v":1},{"$f":"'National Shipments'!L93/'National Shipments'!L$93","v":1},{"$f":"'National Shipments'!M93/'National Shipments'!M$93","v":1},{"$f":"'National Shipments'!N93/'National Shipments'!N$93","v":1},{"$f":"'National Shipments'!O93/'National Shipments'!O$93","v":1},{"$f":"'National Shipments'!P93/'National Shipments'!P$93","v":1},{"$f":"'National Shipments'!Q93/'National Shipments'!Q$93","v":1},{"$f":"'National Shipments'!R93/'National Shipments'!R$93","v":1},{"$f":"'National Shipments'!S93/'National Shipments'!S$93","v":1},{"$f":"'National Shipments'!T93/'National Shipments'!T$93","v":1},{"$f":"'National Shipments'!U93/'National Shipments'!U$93","v":1},{"$f":"'National Shipments'!V93/'National Shipments'!V$93","v":1},{"$f":"'National Shipments'!W93/'National Shipments'!W$93","v":1},{"$f":"'National Shipments'!X93/'National Shipments'!X$93","v":1},{"$f":"'National Shipments'!Y93/'National Shipments'!Y$93","v":1},{"$f":"'National Shipments'!Z93/'National Shipments'!Z$93","v":1},{"$f":"'National Shipments'!AA93/'National Shipments'!AA$93","v":1},{"$f":"'National Shipments'!AB93/'National Shipments'!AB$93","v":1},{"$f":"'National Shipments'!AC93/'National Shipments'!AC$93","v":1},{"$f":"'National Shipments'!AD93/'National Shipments'!AD$93","v":1},{"$f":"'National Shipments'!AE93/'National Shipments'!AE$93","v":1}]
[]
[null,null,null,"POST-Case"]
[null,null,null,"Efficiency Level","CEER",null,1981,1982,1983,1984,1985,1986,1987,1988,1989,1990,1991,1992,1993,1994,1995,1996,1997,1998,1999,2000,2001,2002,2003,2004,2005,2006,2007,2008,2009,2010,2011,2012,2013,2014,2015,2016,2017,2018,2019,2020,2021,2022,2023,2024,2025,2026,2027,2028,2029,2030,2031,2032,2033,2034]
[null,null,null,{"$f":"D89","v":"EL0"},{"$f":"E89","v":8.4754339546823534},null,{"$f":"H97","v":0.12450000000000003},0.12450000000000003,0.12450000000000003,0.12450000000000003,0.12450000000000003,0.12450000000000003,0.12450000000000003,0.12450000000000003,0.12450000000000003,0.12450000000000003,0.12450000000000003,0.12450000000000003,0.12450000000000003,0.12450000000000003,0.12450000000000003,0.12450000000000003,0.12450000000000003,0.12450000000000003,0.12450000000000003,0.12450000000000003,0.12450000000000003,0.12450000000000003,0.12450000000000003,0.12450000000000003,0.12450000000000003,0.12450000000000003,0.12450000000000003,0.12450000000000003,{"$f":"'National Shipments'!F97/'National Shipments'!F$101","v":0.12450000000000003},{"$f":"'National Shipments'!G97/'National Shipments'!G$101","v":0.12450000000000007},{"$f":"'National Shipments'!H97/'National Shipments'!H$101","v":0.12450000000000006},{"$f":"'National Shipments'!I97/'National Shipments'!I$101","v":0.12450000000000006},{"$f":"'National Shipments'!J97/'National Shipments'!J$101","v":0.12450000000000006},{"$f":"'National Shipments'!K97/'National Shipments'!K$101","v":0},{"$f":"'National Shipments'!L97/'National Shipments'!L$101","v":0},{"$f":"'National Shipments'!M97/'National Shipments'!M$101","v":0},{"$f":"'National Shipments'!N97/'National Shipments'!N$101","v":0},{"$f":"'National Shipments'!O97/'National Shipments'!O$101","v":0},{"$f":"'National Shipments'!P97/'National Shipments'!P$101","v":0},{"$f":"'National Shipments'!Q97/'National Shipments'!Q$101","v":0},{"$f":"'National Shipments'!R97/'National Shipments'!R$101","v":0},{"$f":"'National Shipments'!S97/'National Shipments'!S$101","v":0},{"$f":"'National Shipments'!T97/'National Shipments'!T$101","v":0},{"$f":"'National Shipments'!U97/'National Shipments'!U$101","v":0},{"$f":"'National Shipments'!V97/'National Shipments'!V$101","v":0},{"$f":"'National Shipments'!W97/'National Shipments'!W$101","v":0},{"$f":"'National Shipments'!X97/'National Shipments'!X$101","v":0},{"$f":"'National Shipments'!Y97/'National Shipments'!Y$101","v":0},{"$f":"'National Shipments'!Z97/'National Shipments'!Z$101","v":0},{"$f":"'National Shipments'!AA97/'National Shipments'!AA$101","v":0},{"$f":"'National Shipments'!AB97/'National Shipments'!AB$101","v":0},{"$f":"'National Shipments'!AC97/'National Shipments'!AC$101","v":0},{"$f":"'National Shipments'!AD97/'National Shipments'!AD$101","v":0},{"$f":"'National Shipments'!AE97/'National Shipments'!AE$101","v":0}]
[null,null,null,{"$f":"D90","v":"EL1"},9,null,2.259999999999995E-2,2.259999999999995E-2,2.259999999999995E-2,2.259999999999995E-2,2.259999999999995E-2,2.259999999999995E-2,2.259999999999995E-2,2.259999999999995E-2,2.259999999999995E-2,2.259999999999995E-2,2.259999999999995E-2,2.259999999999995E-2,2.259999999999995E-2,2.259999999999995E-2,2.259999999999995E-2,2.259999999999995E-2,2.259999999999995E-2,2.259999999999995E-2,2.259999999999995E-2,2.259999999999995E-2,2.259999999999995E-2,2.259999999999995E-2,2.259999999999995E-2,2.259999999999995E-2,2.259999999999995E-2,2.259999999999995E-2,2.259999999999995E-2,2.259999999999995E-2,{"$f":"'National Shipments'!F98/'National Shipments'!F$101","v":2.259999999999995E-2},{"$f":"'National Shipments'!G98/'National Shipments'!G$101","v":2.2599999999999953E-2},{"$f":"'National Shipments'!H98/'National Shipments'!H$101","v":2.2599999999999953E-2},{"$f":"'National Shipments'!I98/'National Shipments'!I$101","v":2.2599999999999953E-2},{"$f":"'National Shipments'!J98/'National Shipments'!J$101","v":2.259999999999995E-2},{"$f":"'National Shipments'!K98/'National Shipments'!K$101","v":0.14710000000000004},{"$f":"'National Shipments'!L98/'National Shipments'!L$101","v":0.12033104364625551},{"$f":"'National Shipments'!M98/'National Shipments'!M$101","v":9.3495164901624808E-2},{"$f":"'National Shipments'!N98/'National Shipments'!N$101","v":6.0626298255999224E-2},{"$f":"'National Shipments'!O98/'National Shipments'!O$101","v":1.9831775724802555E-3},{"$f":"'National Shipments'!P98/'National Shipments'!P$101","v":0},{"$f":"'National Shipments'!Q98/'National Shipments'!Q$101","v":0},{"$f":"'National Shipments'!R98/'National Shipments'!R$101","v":0},{"$f":"'National Shipments'!S98/'National Shipments'!S$101","v":0},{"$f":"'National Shipments'!T98/'National Shipments'!T$101","v":0},{"$f":"'National Shipments'!U98/'National Shipments'!U$101","v":0},{"$f":"'National Shipments'!V98/'National Shipments'!V$101","v":0},{"$f":"'National Shipments'!W98/'National Shipments'!W$101","v":0},{"$f":"'National Shipments'!X98/'National Shipments'!X$101","v":0},{"$f":"'National Shipments'!Y98/'National Shipments'!Y$101","v":0},{"$f":"'National Shipments'!Z98/'National Shipments'!Z$101","v":0},{"$f":"'National Shipments'!AA98/'National Shipments'!AA$101","v":0},{"$f":"'National Shipments'!AB98/'National Shipments'!AB$101","v":0},{"$f":"'National Shipments'!AC98/'National Shipments'!AC$101","v":0},{"$f":"'National Shipments'!AD98/'National Shipments'!AD$101","v":0},{"$f":"'National Shipments'!AE98/'National Shipments'!AE$101","v":0}]
[null,null,null,"EL2",9.4,null,0.85289999999999999,0.85289999999999999,0.85289999999999999,0.85289999999999999,0.85289999999999999,0.85289999999999999,0.85289999999999999,0.85289999999999999,0.85289999999999999,0.85289999999999999,0.85289999999999999,0.85289999999999999,0.85289999999999999,0.85289999999999999,0.85289999999999999,0.85289999999999999,0.85289999999999999,0.85289999999999999,0.85289999999999999,0.85289999999999999,0.85289999999999999,0.85289999999999999,0.85289999999999999,0.85289999999999999,0.85289999999999999,0.85289999999999999,0.85289999999999999,0.85289999999999999,{"$f":"'National Shipments'!F99/'National Shipments'!F$101","v":0.85289999999999999},{"$f":"'National Shipments'!G99/'National Shipments'!G$101","v":0.85289999999999999},{"$f":"'National Shipments'!H99/'National Shipments'!H$101","v":0.85289999999999999},{"$f":"'National Shipments'!I99/'National Shipments'!I$101","v":0.8529000000000001},{"$f":"'National Shipments'!J99/'National Shipments'!J$101","v":0.85289999999999988},{"$f":"'National Shipments'!K99/'National Shipments'!K$101","v":0.85289999999999999},{"$f":"'National Shipments'!L99/'National Shipments'!L$101","v":0.87966895635374442},{"$f":"'National Shipments'!M99/'National Shipments'!M$101","v":0.90650483509837521},{"$f":"'National Shipments'!N99/'National Shipments'!N$101","v":0.9393737017440007},{"$f":"'National Shipments'!O99/'National Shipments'!O$101","v":0.99801682242751966},{"$f":"'National Shipments'!P99/'National Shipments'!P$101","v":0.99143629673375233},{"$f":"'National Shipments'!Q99/'National Shipments'!Q$101","v":0.94849430058069562},{"$f":"'National Shipments'!R99/'National Shipments'!R$101","v":0.88965534984793082},{"$f":"'National Shipments'!S99/'National Shipments'!S$101","v":0.83066930173833542},{"$f":"'National Shipments'!T99/'National Shipments'!T$101","v":0.77153578850846538},{"$f":"'National Shipments'!U99/'National Shipments'!U$101","v":0.71225444149552086},{"$f":"'National Shipments'!V99/'National Shipments'!V$101","v":0.65282489111504105},{"$f":"'National Shipments'!W99/'National Shipments'!W$101","v":0.59324676685861299},{"$f":"'National Shipments'!X99/'National Shipments'!X$101","v":0.5335196972915407},{"$f":"'National Shipments'!Y99/'National Shipments'!Y$101","v":0.47364331005055416},{"$f":"'National Shipments'!Z99/'National Shipments'!Z$101","v":0.41361723184146443},{"$f":"'National Shipments'!AA99/'National Shipments'!AA$101","v":0.35344108843684929},{"$f":"'National Shipments'!AB99/'National Shipments'!AB$101","v":0.29311450467372396},{"$f":"'National Shipments'!AC99/'National Shipments'!AC$101","v":0.23263710445119246},{"$f":"'National Shipments'!AD99/'National Shipments'!AD$101","v":0.17200851072810514},{"$f":"'National Shipments'!AE99/'National Shipments'!AE$101","v":0.11122834552070653}]
[null,null,null,"EL3",9.8000000000000007,null,0,0,0,0,0,0,0,0,0,0,0,0,0,0,0,0,0,0,0,0,0,0,0,0,0,0,0,0,{"$f":"'National Shipments'!F100/'National Shipments'!F$101","v":0},{"$f":"'National Shipments'!G100/'National Shipments'!G$101","v":0},{"$f":"'National Shipments'!H100/'National Shipments'!H$101","v":0},{"$f":"'National Shipments'!I100/'National Shipments'!I$101","v":0},{"$f":"'National Shipments'!J100/'National Shipments'!J$101","v":0},{"$f":"'National Shipments'!K100/'National Shipments'!K$101","v":0},{"$f":"'National Shipments'!L100/'National Shipments'!L$101","v":0},{"$f":"'National Shipments'!M100/'National Shipments'!M$101","v":0},{"$f":"'National Shipments'!N100/'National Shipments'!N$101","v":0},{"$f":"'National Shipments'!O100/'National Shipments'!O$101","v":0},{"$f":"'National Shipments'!P100/'National Shipments'!P$101","v":8.5637032662476461E-3},{"$f":"'National Shipments'!Q100/'National Shipments'!Q$101","v":5.150569941930435E-2},{"$f":"'National Shipments'!R100/'National Shipments'!R$101","v":0.1103446501520691},{"$f":"'National Shipments'!S100/'National Shipments'!S$101","v":0.1693306982616645},{"$f":"'National Shipments'!T100/'National Shipments'!T$101","v":0.22846421149153456},{"$f":"'National Shipments'!U100/'National Shipments'!U$101","v":0.28774555850447914},{"$f":"'National Shipments'!V100/'National Shipments'!V$101","v":0.34717510888495895},{"$f":"'National Shipments'!W100/'National Shipments'!W$101","v":0.40675323314138712},{"$f":"'National Shipments'!X100/'National Shipments'!X$101","v":0.46648030270845936},{"$f":"'National Shipments'!Y100/'National Shipments'!Y$101","v":0.52635668994944584},{"$f":"'National Shipments'!Z100/'National Shipments'!Z$101","v":0.58638276815853552},{"$f":"'National Shipments'!AA100/'National Shipments'!AA$101","v":0.64655891156315071},{"$f":"'National Shipments'!AB100/'National Shipments'!AB$101","v":0.70688549532627598},{"$f":"'National Shipments'!AC100/'National Shipments'!AC$101","v":0.76736289554880754},{"$f":"'National Shipments'!AD100/'National Shipments'!AD$101","v":0.82799148927189481},{"$f":"'National Shipments'!AE100/'National Shipments'!AE$101","v":0.8887716544792934}]
[null,null,null,"TOTAL",null,null,1,1,1,1,1,1,1,1,1,1,1,1,1,1,1,1,1,1,1,1,1,1,1,1,1,1,1,1,{"$f":"'National Shipments'!F101/'National Shipments'!F$101","v":1},{"$f":"'National Shipments'!G101/'National Shipments'!G$101","v":1},{"$f":"'National Shipments'!H101/'National Shipments'!H$101","v":1},{"$f":"'National Shipments'!I101/'National Shipments'!I$101","v":1},{"$f":"'National Shipments'!J101/'National Shipments'!J$101","v":1},{"$f":"'National Shipments'!K101/'National Shipments'!K$101","v":1},{"$f":"'National Shipments'!L101/'National Shipments'!L$101","v":1},{"$f":"'National Shipments'!M101/'National Shipments'!M$101","v":1},{"$f":"'National Shipments'!N101/'National Shipments'!N$101","v":1},{"$f":"'National Shipments'!O101/'National Shipments'!O$101","v":1},{"$f":"'National Shipments'!P101/'National Shipments'!P$101","v":1},{"$f":"'National Shipments'!Q101/'National Shipments'!Q$101","v":1},{"$f":"'National Shipments'!R101/'National Shipments'!R$101","v":1},{"$f":"'National Shipments'!S101/'National Shipments'!S$101","v":1},{"$f":"'National Shipments'!T101/'National Shipments'!T$101","v":1},{"$f":"'National Shipments'!U101/'National Shipments'!U$101","v":1},{"$f":"'National Shipments'!V101/'National Shipments'!V$101","v":1},{"$f":"'National Shipments'!W101/'National Shipments'!W$101","v":1},{"$f":"'National Shipments'!X101/'National Shipments'!X$101","v":1},{"$f":"'National Shipments'!Y101/'National Shipments'!Y$101","v":1},{"$f":"'National Shipments'!Z101/'National Shipments'!Z$101","v":1},{"$f":"'National Shipments'!AA101/'National Shipments'!AA$101","v":1},{"$f":"'National Shipments'!AB101/'National Shipments'!AB$101","v":1},{"$f":"'National Shipments'!AC101/'National Shipments'!AC$101","v":1},{"$f":"'National Shipments'!AD101/'National Shipments'!AD$101","v":1},{"$f":"'National Shipments'!AE101/'National Shipments'!AE$101","v":1}]
[]
[null,null,null,"Sources","2011 DOE Residential Room Air Conditioners Direct Final Rule Government Regulatory Impact Model 'Product Shipments (CALC)' tab."]
[]
[]
[]
[null,null,null,"PC5  Without reverse cycle, without louvered sides, and 8,000 to 10,999 Btu/h"]
[]
[null,null,null,"PRE-Case"]
[null,null,null,"Efficiency Level","CEER",null,1981,1982,1983,1984,1985,1986,1987,1988,1989,1990,1991,1992,1993,1994,1995,1996,1997,1998,1999,2000,2001,2002,2003,2004,2005,2006,2007,2008,2009,2010,2011,2012,2013,2014,2015,2016,2017,2018,2019,2020,2021,2022,2023,2024,2025,2026,2027,2028,2029,2030,2031,2032,2033,2034]
[null,null,null,"EL0",{"$f":"INDEX(EFFICIENCY_LEVELS,RIGHT(D111,1)+1,MID($D$107,3,1))","v":8.4146356252408392},null,{"$f":"H111","v":0.1009},0.1009,0.1009,0.1009,0.1009,0.1009,0.1009,0.1009,0.1009,0.1009,0.1009,0.1009,0.1009,0.1009,0.1009,0.1009,{"$f":"X111","v":0.1009},0.1009,0.1009,0.1009,0.1009,0.1009,0.1009,0.1009,0.1009,0.1009,0.1009,{"$f":"AI111","v":0.1009},{"$f":"'National Shipments'!F111/'National Shipments'!F$116","v":0.1009},{"$f":"'National Shipments'!G111/'National Shipments'!G$116","v":0.1009},{"$f":"'National Shipments'!H111/'National Shipments'!H$116","v":0.10089999999999999},{"$f":"'National Shipments'!I111/'National Shipments'!I$116","v":0.10089999999999999},{"$f":"'National Shipments'!J111/'National Shipments'!J$116","v":0.1009},{"$f":"'National Shipments'!K111/'National Shipments'!K$116","v":0.10089999999999998},{"$f":"'National Shipments'!L111/'National Shipments'!L$116","v":7.4595727365415115E-2},{"$f":"'National Shipments'!M111/'National Shipments'!M$116","v":4.8225694049244809E-2},{"$f":"'National Shipments'!N111/'National Shipments'!N$116","v":2.1789735649783759E-2},{"$f":"'National Shipments'!O111/'National Shipments'!O$116","v":0},{"$f":"'National Shipments'!P111/'National Shipments'!P$116","v":0},{"$f":"'National Shipments'!Q111/'National Shipments'!Q$116","v":0},{"$f":"'National Shipments'!R111/'National Shipments'!R$116","v":0},{"$f":"'National Shipments'!S111/'National Shipments'!S$116","v":0},{"$f":"'National Shipments'!T111/'National Shipments'!T$116","v":0},{"$f":"'National Shipments'!U111/'National Shipments'!U$116","v":0},{"$f":"'National Shipments'!V111/'National Shipments'!V$116","v":0},{"$f":"'National Shipments'!W111/'National Shipments'!W$116","v":0},{"$f":"'National Shipments'!X111/'National Shipments'!X$116","v":0},{"$f":"'National Shipments'!Y111/'National Shipments'!Y$116","v":0},{"$f":"'National Shipments'!Z111/'National Shipments'!Z$116","v":0},{"$f":"'National Shipments'!AA111/'National Shipments'!AA$116","v":0},{"$f":"'National Shipments'!AB111/'National Shipments'!AB$116","v":0},{"$f":"'National Shipments'!AC111/'National Shipments'!AC$116","v":0},{"$f":"'National Shipments'!AD111/'National Shipments'!AD$116","v":0},{"$f":"'National Shipments'!AE111/'National Shipments'!AE$116","v":0}]
[null,null,null,"EL1",{"$f":"INDEX(EFFICIENCY_LEVELS,RIGHT(D112,1)+1,MID($D$107,3,1))","v":9.3000000000000007},null,0.64750000000000008,0.64750000000000008,0.64750000000000008,0.64750000000000008,0.64750000000000008,0.64750000000000008,0.64750000000000008,0.64750000000000008,0.64750000000000008,0.64750000000000008,0.64750000000000008,0.64750000000000008,0.64750000000000008,0.64750000000000008,0.64750000000000008,0.64750000000000008,0.64750000000000008,0.64750000000000008,0.64750000000000008,0.64750000000000008,0.64750000000000008,0.64750000000000008,0.64750000000000008,0.64750000000000008,0.64750000000000008,0.64750000000000008,0.64750000000000008,0.64750000000000008,{"$f":"'National Shipments'!F112/'National Shipments'!F$116","v":0.64750000000000008},{"$f":"'National Shipments'!G112/'National Shipments'!G$116","v":0.64750000000000008},{"$f":"'National Shipments'!H112/'National Shipments'!H$116","v":0.64749999999999996},{"$f":"'National Shipments'!I112/'National Shipments'!I$116","v":0.64749999999999996},{"$f":"'National Shipments'!J112/'National Shipments'!J$116","v":0.64749999999999996},{"$f":"'National Shipments'!K112/'National Shipments'!K$116","v":0.64749999999999996},{"$f":"'National Shipments'!L112/'National Shipments'!L$116","v":0.67380427263458487},{"$f":"'National Shipments'!M112/'National Shipments'!M$116","v":0.70017430595075514},{"$f":"'National Shipments'!N112/'National Shipments'!N$116","v":0.72661026435021625},{"$f":"'National Shipments'!O112/'National Shipments'!O$116","v":0.73449295420263738},{"$f":"'National Shipments'!P112/'National Shipments'!P$116","v":0.65608418972765559},{"$f":"'National Shipments'!Q112/'National Shipments'!Q$116","v":0.57747940334148529},{"$f":"'National Shipments'!R112/'National Shipments'!R$116","v":0.49867810498935},{"$f":"'National Shipments'!S112/'National Shipments'!S$116","v":0.41967980339133826},{"$f":"'National Shipments'!T112/'National Shipments'!T$116","v":0.34048400603932977},{"$f":"'National Shipments'!U112/'National Shipments'!U$116","v":0.26109021919394043},{"$f":"'National Shipments'!V112/'National Shipments'!V$116","v":0.18149794788143714},{"$f":"'National Shipments'!W112/'National Shipments'!W$116","v":0.10170669589065286},{"$f":"'National Shipments'!X112/'National Shipments'!X$116","v":2.17159657698901E-2},{"$f":"'National Shipments'!Y112/'National Shipments'!Y$116","v":0},{"$f":"'National Shipments'!Z112/'National Shipments'!Z$116","v":0},{"$f":"'National Shipments'!AA112/'National Shipments'!AA$116","v":0},{"$f":"'National Shipments'!AB112/'National Shipments'!AB$116","v":0},{"$f":"'National Shipments'!AC112/'National Shipments'!AC$116","v":0},{"$f":"'National Shipments'!AD112/'National Shipments'!AD$116","v":0},{"$f":"'National Shipments'!AE112/'National Shipments'!AE$116","v":0}]
[null,null,null,"EL2",{"$f":"INDEX(EFFICIENCY_LEVELS,RIGHT(D113,1)+1,MID($D$107,3,1))","v":9.6},null,0.1953,0.1953,0.1953,0.1953,0.1953,0.1953,0.1953,0.1953,0.1953,0.1953,0.1953,0.1953,0.1953,0.1953,0.1953,0.1953,0.1953,0.1953,0.1953,0.1953,0.1953,0.1953,0.1953,0.1953,0.1953,0.1953,0.1953,0.1953,{"$f":"'National Shipments'!F113/'National Shipments'!F$116","v":0.1953},{"$f":"'National Shipments'!G113/'National Shipments'!G$116","v":0.1953},{"$f":"'National Shipments'!H113/'National Shipments'!H$116","v":0.19529999999999997},{"$f":"'National Shipments'!I113/'National Shipments'!I$116","v":0.19529999999999997},{"$f":"'National Shipments'!J113/'National Shipments'!J$116","v":0.1953},{"$f":"'National Shipments'!K113/'National Shipments'!K$116","v":0.19529999999999995},{"$f":"'National Shipments'!L113/'National Shipments'!L$116","v":0.19529999999999997},{"$f":"'National Shipments'!M113/'National Shipments'!M$116","v":0.19529999999999997},{"$f":"'National Shipments'!N113/'National Shipments'!N$116","v":0.19529999999999997},{"$f":"'National Shipments'!O113/'National Shipments'!O$116","v":0.20920704579736271},{"$f":"'National Shipments'!P113/'National Shipments'!P$116","v":0.28761581027234423},{"$f":"'National Shipments'!Q113/'National Shipments'!Q$116","v":0.3662205966585147},{"$f":"'National Shipments'!R113/'National Shipments'!R$116","v":0.44502189501064998},{"$f":"'National Shipments'!S113/'National Shipments'!S$116","v":0.52402019660866184},{"$f":"'National Shipments'!T113/'National Shipments'!T$116","v":0.60321599396067027},{"$f":"'National Shipments'!U113/'National Shipments'!U$116","v":0.68260978080605961},{"$f":"'National Shipments'!V113/'National Shipments'!V$116","v":0.76220205211856284},{"$f":"'National Shipments'!W113/'National Shipments'!W$116","v":0.84199330410934714},{"$f":"'National Shipments'!X113/'National Shipments'!X$116","v":0.92198403423010988},{"$f":"'National Shipments'!Y113/'National Shipments'!Y$116","v":0.89984394411787449},{"$f":"'National Shipments'!Z113/'National Shipments'!Z$116","v":0.83955055633280151},{"$f":"'National Shipments'!AA113/'National Shipments'!AA$116","v":0.77910643507826671},{"$f":"'National Shipments'!AB113/'National Shipments'!AB$116","v":0.71851120352059494},{"$f":"'National Shipments'!AC113/'National Shipments'!AC$116","v":0.65776448388402864},{"$f":"'National Shipments'!AD113/'National Shipments'!AD$116","v":0.59686589744837504},{"$f":"'National Shipments'!AE113/'National Shipments'!AE$116","v":0.53581506454662953}]
[null,null,null,"EL3",{"$f":"INDEX(EFFICIENCY_LEVELS,RIGHT(D114,1)+1,MID($D$107,3,1))","v":10},null,3.6900000000000002E-2,3.6900000000000002E-2,3.6900000000000002E-2,3.6900000000000002E-2,3.6900000000000002E-2,3.6900000000000002E-2,3.6900000000000002E-2,3.6900000000000002E-2,3.6900000000000002E-2,3.6900000000000002E-2,3.6900000000000002E-2,3.6900000000000002E-2,3.6900000000000002E-2,3.6900000000000002E-2,3.6900000000000002E-2,3.6900000000000002E-2,3.6900000000000002E-2,3.6900000000000002E-2,3.6900000000000002E-2,3.6900000000000002E-2,3.6900000000000002E-2,3.6900000000000002E-2,3.6900000000000002E-2,3.6900000000000002E-2,3.6900000000000002E-2,3.6900000000000002E-2,3.6900000000000002E-2,3.6900000000000002E-2,{"$f":"'National Shipments'!F114/'National Shipments'!F$116","v":3.6900000000000002E-2},{"$f":"'National Shipments'!G114/'National Shipments'!G$116","v":3.6900000000000009E-2},{"$f":"'National Shipments'!H114/'National Shipments'!H$116","v":3.6899999999999995E-2},{"$f":"'National Shipments'!I114/'National Shipments'!I$116","v":3.6900000000000002E-2},{"$f":"'National Shipments'!J114/'National Shipments'!J$116","v":3.6900000000000002E-2},{"$f":"'National Shipments'!K114/'National Shipments'!K$116","v":3.6900000000000002E-2},{"$f":"'National Shipments'!L114/'National Shipments'!L$116","v":3.6900000000000002E-2},{"$f":"'National Shipments'!M114/'National Shipments'!M$116","v":3.6900000000000002E-2},{"$f":"'National Shipments'!N114/'National Shipments'!N$116","v":3.6900000000000009E-2},{"$f":"'National Shipments'!O114/'National Shipments'!O$116","v":3.6900000000000002E-2},{"$f":"'National Shipments'!P114/'National Shipments'!P$116","v":3.6900000000000002E-2},{"$f":"'National Shipments'!Q114/'National Shipments'!Q$116","v":3.6899999999999995E-2},{"$f":"'National Shipments'!R114/'National Shipments'!R$116","v":3.6900000000000002E-2},{"$f":"'National Shipments'!S114/'National Shipments'!S$116","v":3.6900000000000009E-2},{"$f":"'National Shipments'!T114/'National Shipments'!T$116","v":3.6900000000000002E-2},{"$f":"'National Shipments'!U114/'National Shipments'!U$116","v":3.6900000000000002E-2},{"$f":"'National Shipments'!V114/'National Shipments'!V$116","v":3.6899999999999995E-2},{"$f":"'National Shipments'!W114/'National Shipments'!W$116","v":3.6900000000000009E-2},{"$f":"'National Shipments'!X114/'National Shipments'!X$116","v":3.6900000000000009E-2},{"$f":"'National Shipments'!Y114/'National Shipments'!Y$116","v":8.0756055882125519E-2},{"$f":"'National Shipments'!Z114/'National Shipments'!Z$116","v":0.14104944366719852},{"$f":"'National Shipments'!AA114/'National Shipments'!AA$116","v":0.20149356492173334},{"$f":"'National Shipments'!AB114/'National Shipments'!AB$116","v":0.26208879647940508},{"$f":"'National Shipments'!AC114/'National Shipments'!AC$116","v":0.32283551611597144},{"$f":"'National Shipments'!AD114/'National Shipments'!AD$116","v":0.38373410255162499},{"$f":"'National Shipments'!AE114/'National Shipments'!AE$116","v":0.4447849354533705}]
[null,null,null,"EL4",{"$f":"INDEX(EFFICIENCY_LEVELS,RIGHT(D115,1)+1,MID($D$107,3,1))","v":10.354619755605318},null,1.9400000000000001E-2,1.9400000000000001E-2,1.9400000000000001E-2,1.9400000000000001E-2,1.9400000000000001E-2,1.9400000000000001E-2,1.9400000000000001E-2,1.9400000000000001E-2,1.9400000000000001E-2,1.9400000000000001E-2,1.9400000000000001E-2,1.9400000000000001E-2,1.9400000000000001E-2,1.9400000000000001E-2,1.9400000000000001E-2,1.9400000000000001E-2,1.9400000000000001E-2,1.9400000000000001E-2,1.9400000000000001E-2,1.9400000000000001E-2,1.9400000000000001E-2,1.9400000000000001E-2,1.9400000000000001E-2,1.9400000000000001E-2,1.9400000000000001E-2,1.9400000000000001E-2,1.9400000000000001E-2,1.9400000000000001E-2,{"$f":"'National Shipments'!F115/'National Shipments'!F$116","v":1.9400000000000001E-2},{"$f":"'National Shipments'!G115/'National Shipments'!G$116","v":1.9400000000000004E-2},{"$f":"'National Shipments'!H115/'National Shipments'!H$116","v":1.9400000000000001E-2},{"$f":"'National Shipments'!I115/'National Shipments'!I$116","v":1.9399999999999997E-2},{"$f":"'National Shipments'!J115/'National Shipments'!J$116","v":1.9400000000000004E-2},{"$f":"'National Shipments'!K115/'National Shipments'!K$116","v":1.9400000000000001E-2},{"$f":"'National Shipments'!L115/'National Shipments'!L$116","v":1.9400000000000001E-2},{"$f":"'National Shipments'!M115/'National Shipments'!M$116","v":1.9400000000000001E-2},{"$f":"'National Shipments'!N115/'National Shipments'!N$116","v":1.9400000000000004E-2},{"$f":"'National Shipments'!O115/'National Shipments'!O$116","v":1.9400000000000001E-2},{"$f":"'National Shipments'!P115/'National Shipments'!P$116","v":1.9400000000000001E-2},{"$f":"'National Shipments'!Q115/'National Shipments'!Q$116","v":1.9400000000000001E-2},{"$f":"'National Shipments'!R115/'National Shipments'!R$116","v":1.9399999999999997E-2},{"$f":"'National Shipments'!S115/'National Shipments'!S$116","v":1.9400000000000004E-2},{"$f":"'National Shipments'!T115/'National Shipments'!T$116","v":1.9400000000000001E-2},{"$f":"'National Shipments'!U115/'National Shipments'!U$116","v":1.9400000000000001E-2},{"$f":"'National Shipments'!V115/'National Shipments'!V$116","v":1.9400000000000001E-2},{"$f":"'National Shipments'!W115/'National Shipments'!W$116","v":1.9400000000000001E-2},{"$f":"'National Shipments'!X115/'National Shipments'!X$116","v":1.9400000000000004E-2},{"$f":"'National Shipments'!Y115/'National Shipments'!Y$116","v":1.9400000000000001E-2},{"$f":"'National Shipments'!Z115/'National Shipments'!Z$116","v":1.9400000000000004E-2},{"$f":"'National Shipments'!AA115/'National Shipments'!AA$116","v":1.9400000000000001E-2},{"$f":"'National Shipments'!AB115/'National Shipments'!AB$116","v":1.9399999999999997E-2},{"$f":"'National Shipments'!AC115/'National Shipments'!AC$116","v":1.9400000000000001E-2},{"$f":"'National Shipments'!AD115/'National Shipments'!AD$116","v":1.9400000000000001E-2},{"$f":"'National Shipments'!AE115/'National Shipments'!AE$116","v":1.9400000000000004E-2}]
[null,null,null,"TOTAL",null,null,1,1,1,1,1,1,1,1,1,1,1,1,1,1,1,1,1,1,1,1,1,1,1,1,1,1,1,1,{"$f":"'National Shipments'!F116/'National Shipments'!F$116","v":1},{"$f":"'National Shipments'!G116/'National Shipments'!G$116","v":1},{"$f":"'National Shipments'!H116/'National Shipments'!H$116","v":1},{"$f":"'National Shipments'!I116/'National Shipments'!I$116","v":1},{"$f":"'National Shipments'!J116/'National Shipments'!J$116","v":1},{"$f":"'National Shipments'!K116/'National Shipments'!K$116","v":1},{"$f":"'National Shipments'!L116/'National Shipments'!L$116","v":1},{"$f":"'National Shipments'!M116/'National Shipments'!M$116","v":1},{"$f":"'National Shipments'!N116/'National Shipments'!N$116","v":1},{"$f":"'National Shipments'!O116/'National Shipments'!O$116","v":1},{"$f":"'National Shipments'!P116/'National Shipments'!P$116","v":1},{"$f":"'National Shipments'!Q116/'National Shipments'!Q$116","v":1},{"$f":"'National Shipments'!R116/'National Shipments'!R$116","v":1},{"$f":"'National Shipments'!S116/'National Shipments'!S$116","v":1},{"$f":"'National Shipments'!T116/'National Shipments'!T$116","v":1},{"$f":"'National Shipments'!U116/'National Shipments'!U$116","v":1},{"$f":"'National Shipments'!V116/'National Shipments'!V$116","v":1},{"$f":"'National Shipments'!W116/'National Shipments'!W$116","v":1},{"$f":"'National Shipments'!X116/'National Shipments'!X$116","v":1},{"$f":"'National Shipments'!Y116/'National Shipments'!Y$116","v":1},{"$f":"'National Shipments'!Z116/'National Shipments'!Z$116","v":1},{"$f":"'National Shipments'!AA116/'National Shipments'!AA$116","v":1},{"$f":"'National Shipments'!AB116/'National Shipments'!AB$116","v":1},{"$f":"'National Shipments'!AC116/'National Shipments'!AC$116","v":1},{"$f":"'National Shipments'!AD116/'National Shipments'!AD$116","v":1},{"$f":"'National Shipments'!AE116/'National Shipments'!AE$116","v":1}]
[]
[null,null,null,"POST-Case"]
[null,null,null,"Efficiency Level","CEER",null,1981,1982,1983,1984,1985,1986,1987,1988,1989,1990,1991,1992,1993,1994,1995,1996,1997,1998,1999,2000,2001,2002,2003,2004,2005,2006,2007,2008,2009,2010,2011,2012,2013,2014,2015,2016,2017,2018,2019,2020,2021,2022,2023,2024,2025,2026,2027,2028,2029,2030,2031,2032,2033,2034]
[null,null,null,"EL0",{"$f":"INDEX(EFFICIENCY_LEVELS,RIGHT(D120,1)+1,MID($D$107,3,1))","v":8.4146356252408392},null,{"$f":"H120","v":0.1009},0.1009,0.1009,0.1009,0.1009,0.1009,0.1009,0.1009,0.1009,0.1009,0.1009,0.1009,0.1009,0.1009,0.1009,0.1009,0.1009,0.1009,0.1009,0.1009,0.1009,0.1009,0.1009,0.1009,0.1009,0.1009,0.1009,{"$f":"AI120","v":0.1009},{"$f":"'National Shipments'!F120/'National Shipments'!F$125","v":0.1009},{"$f":"'National Shipments'!G120/'National Shipments'!G$125","v":0.1009},{"$f":"'National Shipments'!H120/'National Shipments'!H$125","v":0.10089999999999999},{"$f":"'National Shipments'!I120/'National Shipments'!I$125","v":0.10089999999999999},{"$f":"'National Shipments'!J120/'National Shipments'!J$125","v":0.1009},{"$f":"'National Shipments'!K120/'National Shipments'!K$125","v":0},{"$f":"'National Shipments'!L120/'National Shipments'!L$125","v":0},{"$f":"'National Shipments'!M120/'National Shipments'!M$125","v":0},{"$f":"'National Shipments'!N120/'National Shipments'!N$125","v":0},{"$f":"'National Shipments'!O120/'National Shipments'!O$125","v":0},{"$f":"'National Shipments'!P120/'National Shipments'!P$125","v":0},{"$f":"'National Shipments'!Q120/'National Shipments'!Q$125","v":0},{"$f":"'National Shipments'!R120/'National Shipments'!R$125","v":0},{"$f":"'National Shipments'!S120/'National Shipments'!S$125","v":0},{"$f":"'National Shipments'!T120/'National Shipments'!T$125","v":0},{"$f":"'National Shipments'!U120/'National Shipments'!U$125","v":0},{"$f":"'National Shipments'!V120/'National Shipments'!V$125","v":0},{"$f":"'National Shipments'!W120/'National Shipments'!W$125","v":0},{"$f":"'National Shipments'!X120/'National Shipments'!X$125","v":0},{"$f":"'National Shipments'!Y120/'National Shipments'!Y$125","v":0},{"$f":"'National Shipments'!Z120/'National Shipments'!Z$125","v":0},{"$f":"'National Shipments'!AA120/'National Shipments'!AA$125","v":0},{"$f":"'National Shipments'!AB120/'National Shipments'!AB$125","v":0},{"$f":"'National Shipments'!AC120/'National Shipments'!AC$125","v":0},{"$f":"'National Shipments'!AD120/'National Shipments'!AD$125","v":0},{"$f":"'National Shipments'!AE120/'National Shipments'!AE$125","v":0}]
[null,null,null,"EL1",{"$f":"INDEX(EFFICIENCY_LEVELS,RIGHT(D121,1)+1,MID($D$107,3,1))","v":9.3000000000000007},null,0.64750000000000008,0.64750000000000008,0.64750000000000008,0.64750000000000008,0.64750000000000008,0.64750000000000008,0.64750000000000008,0.64750000000000008,0.64750000000000008,0.64750000000000008,0.64750000000000008,0.64750000000000008,0.64750000000000008,0.64750000000000008,0.64750000000000008,0.64750000000000008,0.64750000000000008,0.64750000000000008,0.64750000000000008,0.64750000000000008,0.64750000000000008,0.64750000000000008,0.64750000000000008,0.64750000000000008,0.64750000000000008,0.64750000000000008,0.64750000000000008,{"$f":"AI121","v":0.64750000000000008},{"$f":"'National Shipments'!F121/'National Shipments'!F$125","v":0.64750000000000008},{"$f":"'National Shipments'!G121/'National Shipments'!G$125","v":0.64750000000000008},{"$f":"'National Shipments'!H121/'National Shipments'!H$125","v":0.64749999999999996},{"$f":"'National Shipments'!I121/'National Shipments'!I$125","v":0.64749999999999996},{"$f":"'National Shipments'!J121/'National Shipments'!J$125","v":0.64749999999999996},{"$f":"'National Shipments'!K121/'National Shipments'!K$125","v":0},{"$f":"'National Shipments'!L121/'National Shipments'!L$125","v":0},{"$f":"'National Shipments'!M121/'National Shipments'!M$125","v":0},{"$f":"'National Shipments'!N121/'National Shipments'!N$125","v":0},{"$f":"'National Shipments'!O121/'National Shipments'!O$125","v":0},{"$f":"'National Shipments'!P121/'National Shipments'!P$125","v":0},{"$f":"'National Shipments'!Q121/'National Shipments'!Q$125","v":0},{"$f":"'National Shipments'!R121/'National Shipments'!R$125","v":0},{"$f":"'National Shipments'!S121/'National Shipments'!S$125","v":0},{"$f":"'National Shipments'!T121/'National Shipments'!T$125","v":0},{"$f":"'National Shipments'!U121/'National Shipments'!U$125","v":0},{"$f":"'National Shipments'!V121/'National Shipments'!V$125","v":0},{"$f":"'National Shipments'!W121/'National Shipments'!W$125","v":0},{"$f":"'National Shipments'!X121/'National Shipments'!X$125","v":0},{"$f":"'National Shipments'!Y121/'National Shipments'!Y$125","v":0},{"$f":"'National Shipments'!Z121/'National Shipments'!Z$125","v":0},{"$f":"'National Shipments'!AA121/'National Shipments'!AA$125","v":0},{"$f":"'National Shipments'!AB121/'National Shipments'!AB$125","v":0},{"$f":"'National Shipments'!AC121/'National Shipments'!AC$125","v":0},{"$f":"'National Shipments'!AD121/'National Shipments'!AD$125","v":0},{"$f":"'National Shipments'!AE121/'National Shipments'!AE$125","v":0}]
[null,null,null,"EL2",{"$f":"INDEX(EFFICIENCY_LEVELS,RIGHT(D122,1)+1,MID($D$107,3,1))","v":9.6},null,0.1953,0.1953,0.1953,0.1953,0.1953,0.1953,0.1953,0.1953,0.1953,0.1953,0.1953,0.1953,0.1953,0.1953,0.1953,0.1953,0.1953,0.1953,0.1953,0.1953,0.1953,0.1953,0.1953,0.1953,0.1953,0.1953,0.1953,0.1953,{"$f":"'National Shipments'!F122/'National Shipments'!F$125","v":0.1953},{"$f":"'National Shipments'!G122/'National Shipments'!G$125","v":0.1953},{"$f":"'National Shipments'!H122/'National Shipments'!H$125","v":0.19529999999999997},{"$f":"'National Shipments'!I122/'National Shipments'!I$125","v":0.19529999999999997},{"$f":"'National Shipments'!J122/'National Shipments'!J$125","v":0.1953},{"$f":"'National Shipments'!K122/'National Shipments'!K$125","v":0.94369999999999998},{"$f":"'National Shipments'!L122/'National Shipments'!L$125","v":0.80872592389052078},{"$f":"'National Shipments'!M122/'National Shipments'!M$125","v":0.79652017935720187},{"$f":"'National Shipments'!N122/'National Shipments'!N$125","v":0.78428392046254591},{"$f":"'National Shipments'!O122/'National Shipments'!O$125","v":0.77130088548617459},{"$f":"'National Shipments'!P122/'National Shipments'!P$125","v":0.75496547206863396},{"$f":"'National Shipments'!Q122/'National Shipments'!Q$125","v":0.73858922011754857},{"$f":"'National Shipments'!R122/'National Shipments'!R$125","v":0.72217202753658327},{"$f":"'National Shipments'!S122/'National Shipments'!S$125","v":0.70571379197416706},{"$f":"'National Shipments'!T122/'National Shipments'!T$125","v":0.68921441082283996},{"$f":"'National Shipments'!U122/'National Shipments'!U$125","v":0.67267378121863475},{"$f":"'National Shipments'!V122/'National Shipments'!V$125","v":0.65609180004042789},{"$f":"'National Shipments'!W122/'National Shipments'!W$125","v":0.63946836390926898},{"$f":"'National Shipments'!X122/'National Shipments'!X$125","v":0.62280336918778401},{"$f":"'National Shipments'!Y122/'National Shipments'!Y$125","v":0.57442308338075354},{"$f":"'National Shipments'!Z122/'National Shipments'!Z$125","v":0.51412969559568},{"$f":"'National Shipments'!AA122/'National Shipments'!AA$125","v":0.45368557434114509},{"$f":"'National Shipments'!AB122/'National Shipments'!AB$125","v":0.39309034278347277},{"$f":"'National Shipments'!AC122/'National Shipments'!AC$125","v":0.33234362314690652},{"$f":"'National Shipments'!AD122/'National Shipments'!AD$125","v":0.27144503671124948},{"$f":"'National Shipments'!AE122/'National Shipments'!AE$125","v":0.21039420380950735}]
[null,null,null,"EL3",{"$f":"INDEX(EFFICIENCY_LEVELS,RIGHT(D123,1)+1,MID($D$107,3,1))","v":10},null,3.6900000000000002E-2,3.6900000000000002E-2,3.6900000000000002E-2,3.6900000000000002E-2,3.6900000000000002E-2,3.6900000000000002E-2,3.6900000000000002E-2,3.6900000000000002E-2,3.6900000000000002E-2,3.6900000000000002E-2,3.6900000000000002E-2,3.6900000000000002E-2,3.6900000000000002E-2,3.6900000000000002E-2,3.6900000000000002E-2,3.6900000000000002E-2,3.6900000000000002E-2,3.6900000000000002E-2,3.6900000000000002E-2,3.6900000000000002E-2,3.6900000000000002E-2,3.6900000000000002E-2,3.6900000000000002E-2,3.6900000000000002E-2,3.6900000000000002E-2,3.6900000000000002E-2,3.6900000000000002E-2,3.6900000000000002E-2,{"$f":"'National Shipments'!F123/'National Shipments'!F$125","v":3.6900000000000002E-2},{"$f":"'National Shipments'!G123/'National Shipments'!G$125","v":3.6900000000000009E-2},{"$f":"'National Shipments'!H123/'National Shipments'!H$125","v":3.6899999999999995E-2},{"$f":"'National Shipments'!I123/'National Shipments'!I$125","v":3.6900000000000002E-2},{"$f":"'National Shipments'!J123/'National Shipments'!J$125","v":3.6900000000000002E-2},{"$f":"'National Shipments'!K123/'National Shipments'!K$125","v":3.6900000000000002E-2},{"$f":"'National Shipments'!L123/'National Shipments'!L$125","v":0.17187407610947936},{"$f":"'National Shipments'!M123/'National Shipments'!M$125","v":0.18407982064279815},{"$f":"'National Shipments'!N123/'National Shipments'!N$125","v":0.19631607953745411},{"$f":"'National Shipments'!O123/'National Shipments'!O$125","v":0.2092991145138253},{"$f":"'National Shipments'!P123/'National Shipments'!P$125","v":0.2256345279313661},{"$f":"'National Shipments'!Q123/'National Shipments'!Q$125","v":0.24201077988245137},{"$f":"'National Shipments'!R123/'National Shipments'!R$125","v":0.2584279724634167},{"$f":"'National Shipments'!S123/'National Shipments'!S$125","v":0.27488620802583302},{"$f":"'National Shipments'!T123/'National Shipments'!T$125","v":0.29138558917716006},{"$f":"'National Shipments'!U123/'National Shipments'!U$125","v":0.30792621878136534},{"$f":"'National Shipments'!V123/'National Shipments'!V$125","v":0.32450819995957209},{"$f":"'National Shipments'!W123/'National Shipments'!W$125","v":0.34113163609073116},{"$f":"'National Shipments'!X123/'National Shipments'!X$125","v":0.35779663081221591},{"$f":"'National Shipments'!Y123/'National Shipments'!Y$125","v":0.40617691661924654},{"$f":"'National Shipments'!Z123/'National Shipments'!Z$125","v":0.46647030440432008},{"$f":"'National Shipments'!AA123/'National Shipments'!AA$125","v":0.52691442565885493},{"$f":"'National Shipments'!AB123/'National Shipments'!AB$125","v":0.58750965721652726},{"$f":"'National Shipments'!AC123/'National Shipments'!AC$125","v":0.64825637685309345},{"$f":"'National Shipments'!AD123/'National Shipments'!AD$125","v":0.70915496328875061},{"$f":"'National Shipments'!AE123/'National Shipments'!AE$125","v":0.77020579619049268}]
[null,null,null,"EL4",{"$f":"INDEX(EFFICIENCY_LEVELS,RIGHT(D124,1)+1,MID($D$107,3,1))","v":10.354619755605318},null,1.9400000000000001E-2,1.9400000000000001E-2,1.9400000000000001E-2,1.9400000000000001E-2,1.9400000000000001E-2,1.9400000000000001E-2,1.9400000000000001E-2,1.9400000000000001E-2,1.9400000000000001E-2,1.9400000000000001E-2,1.9400000000000001E-2,1.9400000000000001E-2,1.9400000000000001E-2,1.9400000000000001E-2,1.9400000000000001E-2,1.9400000000000001E-2,1.9400000000000001E-2,1.9400000000000001E-2,1.9400000000000001E-2,1.9400000000000001E-2,1.9400000000000001E-2,1.9400000000000001E-2,1.9400000000000001E-2,1.9400000000000001E-2,1.9400000000000001E-2,1.9400000000000001E-2,1.9400000000000001E-2,1.9400000000000001E-2,{"$f":"'National Shipments'!F124/'National Shipments'!F$125","v":1.9400000000000001E-2},{"$f":"'National Shipments'!G124/'National Shipments'!G$125","v":1.9400000000000004E-2},{"$f":"'National Shipments'!H124/'National Shipments'!H$125","v":1.9400000000000001E-2},{"$f":"'National Shipments'!I124/'National Shipments'!I$125","v":1.9399999999999997E-2},{"$f":"'National Shipments'!J124/'National Shipments'!J$125","v":1.9400000000000004E-2},{"$f":"'National Shipments'!K124/'National Shipments'!K$125","v":1.9400000000000001E-2},{"$f":"'National Shipments'!L124/'National Shipments'!L$125","v":1.9400000000000001E-2},{"$f":"'National Shipments'!M124/'National Shipments'!M$125","v":1.9400000000000001E-2},{"$f":"'National Shipments'!N124/'National Shipments'!N$125","v":1.9399999999999997E-2},{"$f":"'National Shipments'!O124/'National Shipments'!O$125","v":1.9399999999999997E-2},{"$f":"'National Shipments'!P124/'National Shipments'!P$125","v":1.9400000000000001E-2},{"$f":"'National Shipments'!Q124/'National Shipments'!Q$125","v":1.9400000000000001E-2},{"$f":"'National Shipments'!R124/'National Shipments'!R$125","v":1.9400000000000004E-2},{"$f":"'National Shipments'!S124/'National Shipments'!S$125","v":1.9400000000000004E-2},{"$f":"'National Shipments'!T124/'National Shipments'!T$125","v":1.9400000000000001E-2},{"$f":"'National Shipments'!U124/'National Shipments'!U$125","v":1.9400000000000001E-2},{"$f":"'National Shipments'!V124/'National Shipments'!V$125","v":1.9399999999999997E-2},{"$f":"'National Shipments'!W124/'National Shipments'!W$125","v":1.9400000000000001E-2},{"$f":"'National Shipments'!X124/'National Shipments'!X$125","v":1.9399999999999997E-2},{"$f":"'National Shipments'!Y124/'National Shipments'!Y$125","v":1.9400000000000001E-2},{"$f":"'National Shipments'!Z124/'National Shipments'!Z$125","v":1.9400000000000004E-2},{"$f":"'National Shipments'!AA124/'National Shipments'!AA$125","v":1.9400000000000001E-2},{"$f":"'National Shipments'!AB124/'National Shipments'!AB$125","v":1.9400000000000001E-2},{"$f":"'National Shipments'!AC124/'National Shipments'!AC$125","v":1.9400000000000001E-2},{"$f":"'National Shipments'!AD124/'National Shipments'!AD$125","v":1.9400000000000001E-2},{"$f":"'National Shipments'!AE124/'National Shipments'!AE$125","v":1.9400000000000001E-2}]
[null,null,null,"TOTAL",null,null,1,1,1,1,1,1,1,1,1,1,1,1,1,1,1,1,1,1,1,1,1,1,1,1,1,1,1,1,{"$f":"'National Shipments'!F125/'National Shipments'!F$125","v":1},{"$f":"'National Shipments'!G125/'National Shipments'!G$125","v":1},{"$f":"'National Shipments'!H125/'National Shipments'!H$125","v":1},{"$f":"'National Shipments'!I125/'National Shipments'!I$125","v":1},{"$f":"'National Shipments'!J125/'National Shipments'!J$125","v":1},{"$f":"'National Shipments'!K125/'National Shipments'!K$125","v":1},{"$f":"'National Shipments'!L125/'National Shipments'!L$125","v":1},{"$f":"'National Shipments'!M125/'National Shipments'!M$125","v":1},{"$f":"'National Shipments'!N125/'National Shipments'!N$125","v":1},{"$f":"'National Shipments'!O125/'National Shipments'!O$125","v":1},{"$f":"'National Shipments'!P125/'National Shipments'!P$125","v":1},{"$f":"'National Shipments'!Q125/'National Shipments'!Q$125","v":1},{"$f":"'National Shipments'!R125/'National Shipments'!R$125","v":1},{"$f":"'National Shipments'!S125/'National Shipments'!S$125","v":1},{"$f":"'National Shipments'!T125/'National Shipments'!T$125","v":1},{"$f":"'National Shipments'!U125/'National Shipments'!U$125","v":1},{"$f":"'National Shipments'!V125/'National Shipments'!V$125","v":1},{"$f":"'National Shipments'!W125/'National Shipments'!W$125","v":1},{"$f":"'National Shipments'!X125/'National Shipments'!X$125","v":1},{"$f":"'National Shipments'!Y125/'National Shipments'!Y$125","v":1},{"$f":"'National Shipments'!Z125/'National Shipments'!Z$125","v":1},{"$f":"'National Shipments'!AA125/'National Shipments'!AA$125","v":1},{"$f":"'National Shipments'!AB125/'National Shipments'!AB$125","v":1},{"$f":"'National Shipments'!AC125/'National Shipments'!AC$125","v":1},{"$f":"'National Shipments'!AD125/'National Shipments'!AD$125","v":1},{"$f":"'National Shipments'!AE125/'National Shipments'!AE$125","v":1}]
[]
[null,null,null,"Sources","2011 DOE Residential Room Air Conditioners Direct Final Rule Government Regulatory Impact Model 'Product Shipments (CALC)' tab."]
[]
[]
[]
[null,null,null,"PC6  Without reverse cycle, without louvered sides, and 11,000 to 13,999 Btu/h"]
[]
[null,null,null,"PRE-Case"]
[null,null,null,"Efficiency Level","CEER",null,1981,1982,1983,1984,1985,1986,1987,1988,1989,1990,1991,1992,1993,1994,1995,1996,1997,1998,1999,2000,2001,2002,2003,2004,2005,2006,2007,2008,2009,2010,2011,2012,2013,2014,2015,2016,2017,2018,2019,2020,2021,2022,2023,2024,2025,2026,2027,2028,2029,2030,2031,2032,2033,2034]
[null,null,null,"EL0",{"$f":"INDEX(EFFICIENCY_LEVELS,RIGHT(D135,1)+1,MID($D$131,3,1))","v":8.4428992651201167},null,{"$f":"H135","v":0.1009},0.1009,0.1009,0.1009,0.1009,0.1009,0.1009,0.1009,0.1009,0.1009,0.1009,0.1009,0.1009,0.1009,0.1009,0.1009,0.1009,0.1009,0.1009,0.1009,0.1009,0.1009,0.1009,0.1009,0.1009,0.1009,0.1009,{"$f":"AI135","v":0.1009},{"$f":"'National Shipments'!F135/'National Shipments'!F$140","v":0.1009},{"$f":"'National Shipments'!G135/'National Shipments'!G$140","v":0.10090000000000002},{"$f":"'National Shipments'!H135/'National Shipments'!H$140","v":0.10089999999999998},{"$f":"'National Shipments'!I135/'National Shipments'!I$140","v":0.1009},{"$f":"'National Shipments'!J135/'National Shipments'!J$140","v":0.10089999999999999},{"$f":"'National Shipments'!K135/'National Shipments'!K$140","v":0.10089999999999999},{"$f":"'National Shipments'!L135/'National Shipments'!L$140","v":8.5487931205173173E-3},{"$f":"'National Shipments'!M135/'National Shipments'!M$140","v":4.6424976067550333E-2},{"$f":"'National Shipments'!N135/'National Shipments'!N$140","v":1.9085280925972215E-2},{"$f":"'National Shipments'!O135/'National Shipments'!O$140","v":0},{"$f":"'National Shipments'!P135/'National Shipments'!P$140","v":0},{"$f":"'National Shipments'!Q135/'National Shipments'!Q$140","v":0},{"$f":"'National Shipments'!R135/'National Shipments'!R$140","v":0},{"$f":"'National Shipments'!S135/'National Shipments'!S$140","v":0},{"$f":"'National Shipments'!T135/'National Shipments'!T$140","v":0},{"$f":"'National Shipments'!U135/'National Shipments'!U$140","v":0},{"$f":"'National Shipments'!V135/'National Shipments'!V$140","v":0},{"$f":"'National Shipments'!W135/'National Shipments'!W$140","v":0},{"$f":"'National Shipments'!X135/'National Shipments'!X$140","v":0},{"$f":"'National Shipments'!Y135/'National Shipments'!Y$140","v":0},{"$f":"'National Shipments'!Z135/'National Shipments'!Z$140","v":0},{"$f":"'National Shipments'!AA135/'National Shipments'!AA$140","v":0},{"$f":"'National Shipments'!AB135/'National Shipments'!AB$140","v":0},{"$f":"'National Shipments'!AC135/'National Shipments'!AC$140","v":0},{"$f":"'National Shipments'!AD135/'National Shipments'!AD$140","v":0},{"$f":"'National Shipments'!AE135/'National Shipments'!AE$140","v":0}]
[null,null,null,"EL1",{"$f":"INDEX(EFFICIENCY_LEVELS,RIGHT(D136,1)+1,MID($D$131,3,1))","v":9.3000000000000007},null,0.59330000000000005,0.59330000000000005,0.59330000000000005,0.59330000000000005,0.59330000000000005,0.59330000000000005,0.59330000000000005,0.59330000000000005,0.59330000000000005,0.59330000000000005,0.59330000000000005,0.59330000000000005,0.59330000000000005,0.59330000000000005,0.59330000000000005,0.59330000000000005,0.59330000000000005,0.59330000000000005,0.59330000000000005,0.59330000000000005,0.59330000000000005,0.59330000000000005,0.59330000000000005,0.59330000000000005,0.59330000000000005,0.59330000000000005,0.59330000000000005,{"$f":"AI136","v":0.59330000000000005},{"$f":"'National Shipments'!F136/'National Shipments'!F$140","v":0.59330000000000005},{"$f":"'National Shipments'!G136/'National Shipments'!G$140","v":0.59330000000000005},{"$f":"'National Shipments'!H136/'National Shipments'!H$140","v":0.59329999999999994},{"$f":"'National Shipments'!I136/'National Shipments'!I$140","v":0.59330000000000005},{"$f":"'National Shipments'!J136/'National Shipments'!J$140","v":0.59329999999999994},{"$f":"'National Shipments'!K136/'National Shipments'!K$140","v":0.59329999999999983},{"$f":"'National Shipments'!L136/'National Shipments'!L$140","v":0.68565120687948267},{"$f":"'National Shipments'!M136/'National Shipments'!M$140","v":0.64777502393244968},{"$f":"'National Shipments'!N136/'National Shipments'!N$140","v":0.67511471907402787},{"$f":"'National Shipments'!O136/'National Shipments'!O$140","v":0.65853276663904792},{"$f":"'National Shipments'!P136/'National Shipments'!P$140","v":0.54078184855565048},{"$f":"'National Shipments'!Q136/'National Shipments'!Q$140","v":0.42273655317703746},{"$f":"'National Shipments'!R136/'National Shipments'!R$140","v":0.30439614455998232},{"$f":"'National Shipments'!S136/'National Shipments'!S$140","v":0.18575988492138817},{"$f":"'National Shipments'!T136/'National Shipments'!T$140","v":6.6827034633695881E-2},{"$f":"'National Shipments'!U136/'National Shipments'!U$140","v":0},{"$f":"'National Shipments'!V136/'National Shipments'!V$140","v":0},{"$f":"'National Shipments'!W136/'National Shipments'!W$140","v":0},{"$f":"'National Shipments'!X136/'National Shipments'!X$140","v":0},{"$f":"'National Shipments'!Y136/'National Shipments'!Y$140","v":0},{"$f":"'National Shipments'!Z136/'National Shipments'!Z$140","v":0},{"$f":"'National Shipments'!AA136/'National Shipments'!AA$140","v":0},{"$f":"'National Shipments'!AB136/'National Shipments'!AB$140","v":0},{"$f":"'National Shipments'!AC136/'National Shipments'!AC$140","v":0},{"$f":"'National Shipments'!AD136/'National Shipments'!AD$140","v":0},{"$f":"'National Shipments'!AE136/'National Shipments'!AE$140","v":0}]
[null,null,null,"EL2",{"$f":"INDEX(EFFICIENCY_LEVELS,RIGHT(D137,1)+1,MID($D$131,3,1))","v":9.5},null,0.13320000000000004,0.13320000000000004,0.13320000000000004,0.13320000000000004,0.13320000000000004,0.13320000000000004,0.13320000000000004,0.13320000000000004,0.13320000000000004,0.13320000000000004,0.13320000000000004,0.13320000000000004,0.13320000000000004,0.13320000000000004,0.13320000000000004,0.13320000000000004,0.13320000000000004,0.13320000000000004,0.13320000000000004,0.13320000000000004,0.13320000000000004,0.13320000000000004,0.13320000000000004,0.13320000000000004,0.13320000000000004,0.13320000000000004,0.13320000000000004,0.13320000000000004,{"$f":"'National Shipments'!F137/'National Shipments'!F$140","v":0.13320000000000004},{"$f":"'National Shipments'!G137/'National Shipments'!G$140","v":0.13320000000000004},{"$f":"'National Shipments'!H137/'National Shipments'!H$140","v":0.13320000000000001},{"$f":"'National Shipments'!I137/'National Shipments'!I$140","v":0.13320000000000001},{"$f":"'National Shipments'!J137/'National Shipments'!J$140","v":0.13320000000000001},{"$f":"'National Shipments'!K137/'National Shipments'!K$140","v":0.13320000000000001},{"$f":"'National Shipments'!L137/'National Shipments'!L$140","v":0.13320000000000001},{"$f":"'National Shipments'!M137/'National Shipments'!M$140","v":0.13320000000000004},{"$f":"'National Shipments'!N137/'National Shipments'!N$140","v":0.13320000000000001},{"$f":"'National Shipments'!O137/'National Shipments'!O$140","v":0.16886723336095211},{"$f":"'National Shipments'!P137/'National Shipments'!P$140","v":0.28661815144434949},{"$f":"'National Shipments'!Q137/'National Shipments'!Q$140","v":0.40466344682296246},{"$f":"'National Shipments'!R137/'National Shipments'!R$140","v":0.52300385544001771},{"$f":"'National Shipments'!S137/'National Shipments'!S$140","v":0.64164011507861185},{"$f":"'National Shipments'!T137/'National Shipments'!T$140","v":0.76057296536630403},{"$f":"'National Shipments'!U137/'National Shipments'!U$140","v":0.79246456814685151},{"$f":"'National Shipments'!V137/'National Shipments'!V$140","v":0.71277906290055471},{"$f":"'National Shipments'!W137/'National Shipments'!W$140","v":0.63289434389114241},{"$f":"'National Shipments'!X137/'National Shipments'!X$140","v":0.55280991308420702},{"$f":"'National Shipments'!Y137/'National Shipments'!Y$140","v":0.47252527120025078},{"$f":"'National Shipments'!Z137/'National Shipments'!Z$140","v":0.39203991771158919},{"$f":"'National Shipments'!AA137/'National Shipments'!AA$140","v":0.31135335083920085},{"$f":"'National Shipments'!AB137/'National Shipments'!AB$140","v":0.23046506754963694},{"$f":"'National Shipments'!AC137/'National Shipments'!AC$140","v":0.14937456355184697},{"$f":"'National Shipments'!AD137/'National Shipments'!AD$140","v":6.8081333294064628E-2},{"$f":"'National Shipments'!AE137/'National Shipments'!AE$140","v":0}]
[null,null,null,"EL3",{"$f":"INDEX(EFFICIENCY_LEVELS,RIGHT(D138,1)+1,MID($D$131,3,1))","v":9.8000000000000007},null,0.17260000000000003,0.17260000000000003,0.17260000000000003,0.17260000000000003,0.17260000000000003,0.17260000000000003,0.17260000000000003,0.17260000000000003,0.17260000000000003,0.17260000000000003,0.17260000000000003,0.17260000000000003,0.17260000000000003,0.17260000000000003,0.17260000000000003,0.17260000000000003,0.17260000000000003,0.17260000000000003,0.17260000000000003,0.17260000000000003,0.17260000000000003,0.17260000000000003,0.17260000000000003,0.17260000000000003,0.17260000000000003,0.17260000000000003,0.17260000000000003,0.17260000000000003,{"$f":"'National Shipments'!F138/'National Shipments'!F$140","v":0.17260000000000003},{"$f":"'National Shipments'!G138/'National Shipments'!G$140","v":0.17260000000000006},{"$f":"'National Shipments'!H138/'National Shipments'!H$140","v":0.17259999999999998},{"$f":"'National Shipments'!I138/'National Shipments'!I$140","v":0.17260000000000003},{"$f":"'National Shipments'!J138/'National Shipments'!J$140","v":0.1726},{"$f":"'National Shipments'!K138/'National Shipments'!K$140","v":0.17259999999999998},{"$f":"'National Shipments'!L138/'National Shipments'!L$140","v":0.1726},{"$f":"'National Shipments'!M138/'National Shipments'!M$140","v":0.17260000000000006},{"$f":"'National Shipments'!N138/'National Shipments'!N$140","v":0.17260000000000003},{"$f":"'National Shipments'!O138/'National Shipments'!O$140","v":0.1726},{"$f":"'National Shipments'!P138/'National Shipments'!P$140","v":0.17260000000000003},{"$f":"'National Shipments'!Q138/'National Shipments'!Q$140","v":0.1726},{"$f":"'National Shipments'!R138/'National Shipments'!R$140","v":0.17260000000000006},{"$f":"'National Shipments'!S138/'National Shipments'!S$140","v":0.17260000000000003},{"$f":"'National Shipments'!T138/'National Shipments'!T$140","v":0.17260000000000003},{"$f":"'National Shipments'!U138/'National Shipments'!U$140","v":0.20753543185314841},{"$f":"'National Shipments'!V138/'National Shipments'!V$140","v":0.28722093709944529},{"$f":"'National Shipments'!W138/'National Shipments'!W$140","v":0.36710565610885754},{"$f":"'National Shipments'!X138/'National Shipments'!X$140","v":0.44719008691579293},{"$f":"'National Shipments'!Y138/'National Shipments'!Y$140","v":0.52747472879974933},{"$f":"'National Shipments'!Z138/'National Shipments'!Z$140","v":0.60796008228841081},{"$f":"'National Shipments'!AA138/'National Shipments'!AA$140","v":0.6886466491607991},{"$f":"'National Shipments'!AB138/'National Shipments'!AB$140","v":0.76953493245036309},{"$f":"'National Shipments'!AC138/'National Shipments'!AC$140","v":0.85062543644815292},{"$f":"'National Shipments'!AD138/'National Shipments'!AD$140","v":0.93191866670593537},{"$f":"'National Shipments'!AE138/'National Shipments'!AE$140","v":0.98178037835606391}]
[null,null,null,"EL4",{"$f":"INDEX(EFFICIENCY_LEVELS,RIGHT(D139,1)+1,MID($D$131,3,1))","v":10.020890372503978},null,0,0,0,0,0,0,0,0,0,0,0,0,0,0,0,0,0,0,0,0,0,0,0,0,0,0,0,0,{"$f":"'National Shipments'!F139/'National Shipments'!F$140","v":0},{"$f":"'National Shipments'!G139/'National Shipments'!G$140","v":0},{"$f":"'National Shipments'!H139/'National Shipments'!H$140","v":0},{"$f":"'National Shipments'!I139/'National Shipments'!I$140","v":0},{"$f":"'National Shipments'!J139/'National Shipments'!J$140","v":0},{"$f":"'National Shipments'!K139/'National Shipments'!K$140","v":0},{"$f":"'National Shipments'!L139/'National Shipments'!L$140","v":0},{"$f":"'National Shipments'!M139/'National Shipments'!M$140","v":0},{"$f":"'National Shipments'!N139/'National Shipments'!N$140","v":0},{"$f":"'National Shipments'!O139/'National Shipments'!O$140","v":0},{"$f":"'National Shipments'!P139/'National Shipments'!P$140","v":0},{"$f":"'National Shipments'!Q139/'National Shipments'!Q$140","v":0},{"$f":"'National Shipments'!R139/'National Shipments'!R$140","v":0},{"$f":"'National Shipments'!S139/'National Shipments'!S$140","v":0},{"$f":"'National Shipments'!T139/'National Shipments'!T$140","v":0},{"$f":"'National Shipments'!U139/'National Shipments'!U$140","v":0},{"$f":"'National Shipments'!V139/'National Shipments'!V$140","v":0},{"$f":"'National Shipments'!W139/'National Shipments'!W$140","v":0},{"$f":"'National Shipments'!X139/'National Shipments'!X$140","v":0},{"$f":"'National Shipments'!Y139/'National Shipments'!Y$140","v":0},{"$f":"'National Shipments'!Z139/'National Shipments'!Z$140","v":0},{"$f":"'National Shipments'!AA139/'National Shipments'!AA$140","v":0},{"$f":"'National Shipments'!AB139/'National Shipments'!AB$140","v":0},{"$f":"'National Shipments'!AC139/'National Shipments'!AC$140","v":0},{"$f":"'National Shipments'!AD139/'National Shipments'!AD$140","v":0},{"$f":"'National Shipments'!AE139/'National Shipments'!AE$140","v":1.8219621643935983E-2}]
[null,null,null,"TOTAL",null,null,1,1,1,1,1,1,1,1,1,1,1,1,1,1,1,1,1,1,1,1,1,1,1,1,1,1,1,1,{"$f":"'National Shipments'!F140/'National Shipments'!F$140","v":1},{"$f":"'National Shipments'!G140/'National Shipments'!G$140","v":1},{"$f":"'National Shipments'!H140/'National Shipments'!H$140","v":1},{"$f":"'National Shipments'!I140/'National Shipments'!I$140","v":1},{"$f":"'National Shipments'!J140/'National Shipments'!J$140","v":1},{"$f":"'National Shipments'!K140/'National Shipments'!K$140","v":1},{"$f":"'National Shipments'!L140/'National Shipments'!L$140","v":1},{"$f":"'National Shipments'!M140/'National Shipments'!M$140","v":1},{"$f":"'National Shipments'!N140/'National Shipments'!N$140","v":1},{"$f":"'National Shipments'!O140/'National Shipments'!O$140","v":1},{"$f":"'National Shipments'!P140/'National Shipments'!P$140","v":1},{"$f":"'National Shipments'!Q140/'National Shipments'!Q$140","v":1},{"$f":"'National Shipments'!R140/'National Shipments'!R$140","v":1},{"$f":"'National Shipments'!S140/'National Shipments'!S$140","v":1},{"$f":"'National Shipments'!T140/'National Shipments'!T$140","v":1},{"$f":"'National Shipments'!U140/'National Shipments'!U$140","v":1},{"$f":"'National Shipments'!V140/'National Shipments'!V$140","v":1},{"$f":"'National Shipments'!W140/'National Shipments'!W$140","v":1},{"$f":"'National Shipments'!X140/'National Shipments'!X$140","v":1},{"$f":"'National Shipments'!Y140/'National Shipments'!Y$140","v":1},{"$f":"'National Shipments'!Z140/'National Shipments'!Z$140","v":1},{"$f":"'National Shipments'!AA140/'National Shipments'!AA$140","v":1},{"$f":"'National Shipments'!AB140/'National Shipments'!AB$140","v":1},{"$f":"'National Shipments'!AC140/'National Shipments'!AC$140","v":1},{"$f":"'National Shipments'!AD140/'National Shipments'!AD$140","v":1},{"$f":"'National Shipments'!AE140/'National Shipments'!AE$140","v":1}]
[]
[null,null,null,"POST-Case"]
[null,null,null,"Efficiency Level","CEER",null,1981,1982,1983,1984,1985,1986,1987,1988,1989,1990,1991,1992,1993,1994,1995,1996,1997,1998,1999,2000,2001,2002,2003,2004,2005,2006,2007,2008,2009,2010,2011,2012,2013,2014,2015,2016,2017,2018,2019,2020,2021,2022,2023,2024,2025,2026,2027,2028,2029,2030,2031,2032,2033,2034]
[null,null,null,{"$f":"D135","v":"EL0"},{"$f":"E135","v":8.4428992651201167},null,{"$f":"H144","v":0.1009},0.1009,0.1009,0.1009,0.1009,0.1009,0.1009,0.1009,0.1009,0.1009,0.1009,0.1009,0.1009,0.1009,0.1009,0.1009,0.1009,0.1009,0.1009,0.1009,0.1009,0.1009,0.1009,0.1009,0.1009,0.1009,0.1009,{"$f":"AI144","v":0.1009},{"$f":"'National Shipments'!F144/'National Shipments'!F$149","v":0.1009},{"$f":"'National Shipments'!G144/'National Shipments'!G$149","v":0.10090000000000002},{"$f":"'National Shipments'!H144/'National Shipments'!H$149","v":0.10089999999999998},{"$f":"'National Shipments'!I144/'National Shipments'!I$149","v":0.1009},{"$f":"'National Shipments'!J144/'National Shipments'!J$149","v":0.10089999999999999},{"$f":"'National Shipments'!K144/'National Shipments'!K$149","v":0},{"$f":"'National Shipments'!L144/'National Shipments'!L$149","v":0},{"$f":"'National Shipments'!M144/'National Shipments'!M$149","v":0},{"$f":"'National Shipments'!N144/'National Shipments'!N$149","v":0},{"$f":"'National Shipments'!O144/'National Shipments'!O$149","v":0},{"$f":"'National Shipments'!P144/'National Shipments'!P$149","v":0},{"$f":"'National Shipments'!Q144/'National Shipments'!Q$149","v":0},{"$f":"'National Shipments'!R144/'National Shipments'!R$149","v":0},{"$f":"'National Shipments'!S144/'National Shipments'!S$149","v":0},{"$f":"'National Shipments'!T144/'National Shipments'!T$149","v":0},{"$f":"'National Shipments'!U144/'National Shipments'!U$149","v":0},{"$f":"'National Shipments'!V144/'National Shipments'!V$149","v":0},{"$f":"'National Shipments'!W144/'National Shipments'!W$149","v":0},{"$f":"'National Shipments'!X144/'National Shipments'!X$149","v":0},{"$f":"'National Shipments'!Y144/'National Shipments'!Y$149","v":0},{"$f":"'National Shipments'!Z144/'National Shipments'!Z$149","v":0},{"$f":"'National Shipments'!AA144/'National Shipments'!AA$149","v":0},{"$f":"'National Shipments'!AB144/'National Shipments'!AB$149","v":0},{"$f":"'National Shipments'!AC144/'National Shipments'!AC$149","v":0},{"$f":"'National Shipments'!AD144/'National Shipments'!AD$149","v":0},{"$f":"'National Shipments'!AE144/'National Shipments'!AE$149","v":0}]
[null,null,null,{"$f":"D136","v":"EL1"},9.3000000000000007,null,0.59330000000000005,0.59330000000000005,0.59330000000000005,0.59330000000000005,0.59330000000000005,0.59330000000000005,0.59330000000000005,0.59330000000000005,0.59330000000000005,0.59330000000000005,0.59330000000000005,0.59330000000000005,0.59330000000000005,0.59330000000000005,0.59330000000000005,0.59330000000000005,0.59330000000000005,0.59330000000000005,0.59330000000000005,0.59330000000000005,0.59330000000000005,0.59330000000000005,0.59330000000000005,0.59330000000000005,0.59330000000000005,0.59330000000000005,0.59330000000000005,{"$f":"AI145","v":0.59330000000000005},{"$f":"'National Shipments'!F145/'National Shipments'!F$149","v":0.59330000000000005},{"$f":"'National Shipments'!G145/'National Shipments'!G$149","v":0.59330000000000005},{"$f":"'National Shipments'!H145/'National Shipments'!H$149","v":0.59329999999999994},{"$f":"'National Shipments'!I145/'National Shipments'!I$149","v":0.59330000000000005},{"$f":"'National Shipments'!J145/'National Shipments'!J$149","v":0.59329999999999994},{"$f":"'National Shipments'!K145/'National Shipments'!K$149","v":0},{"$f":"'National Shipments'!L145/'National Shipments'!L$149","v":0},{"$f":"'National Shipments'!M145/'National Shipments'!M$149","v":0},{"$f":"'National Shipments'!N145/'National Shipments'!N$149","v":0},{"$f":"'National Shipments'!O145/'National Shipments'!O$149","v":0},{"$f":"'National Shipments'!P145/'National Shipments'!P$149","v":0},{"$f":"'National Shipments'!Q145/'National Shipments'!Q$149","v":0},{"$f":"'National Shipments'!R145/'National Shipments'!R$149","v":0},{"$f":"'National Shipments'!S145/'National Shipments'!S$149","v":0},{"$f":"'National Shipments'!T145/'National Shipments'!T$149","v":0},{"$f":"'National Shipments'!U145/'National Shipments'!U$149","v":0},{"$f":"'National Shipments'!V145/'National Shipments'!V$149","v":0},{"$f":"'National Shipments'!W145/'National Shipments'!W$149","v":0},{"$f":"'National Shipments'!X145/'National Shipments'!X$149","v":0},{"$f":"'National Shipments'!Y145/'National Shipments'!Y$149","v":0},{"$f":"'National Shipments'!Z145/'National Shipments'!Z$149","v":0},{"$f":"'National Shipments'!AA145/'National Shipments'!AA$149","v":0},{"$f":"'National Shipments'!AB145/'National Shipments'!AB$149","v":0},{"$f":"'National Shipments'!AC145/'National Shipments'!AC$149","v":0},{"$f":"'National Shipments'!AD145/'National Shipments'!AD$149","v":0},{"$f":"'National Shipments'!AE145/'National Shipments'!AE$149","v":0}]
[null,null,null,"EL2",9.5,null,0.13320000000000004,0.13320000000000004,0.13320000000000004,0.13320000000000004,0.13320000000000004,0.13320000000000004,0.13320000000000004,0.13320000000000004,0.13320000000000004,0.13320000000000004,0.13320000000000004,0.13320000000000004,0.13320000000000004,0.13320000000000004,0.13320000000000004,0.13320000000000004,0.13320000000000004,0.13320000000000004,0.13320000000000004,0.13320000000000004,0.13320000000000004,0.13320000000000004,0.13320000000000004,0.13320000000000004,0.13320000000000004,0.13320000000000004,0.13320000000000004,0.13320000000000004,{"$f":"'National Shipments'!F146/'National Shipments'!F$149","v":0.13320000000000004},{"$f":"'National Shipments'!G146/'National Shipments'!G$149","v":0.13320000000000004},{"$f":"'National Shipments'!H146/'National Shipments'!H$149","v":0.13320000000000001},{"$f":"'National Shipments'!I146/'National Shipments'!I$149","v":0.13320000000000001},{"$f":"'National Shipments'!J146/'National Shipments'!J$149","v":0.13320000000000001},{"$f":"'National Shipments'!K146/'National Shipments'!K$149","v":0.82740000000000002},{"$f":"'National Shipments'!L146/'National Shipments'!L$149","v":0.78024035089774491},{"$f":"'National Shipments'!M146/'National Shipments'!M$149","v":0.79958204601635052},{"$f":"'National Shipments'!N146/'National Shipments'!N$149","v":0.78562088865516622},{"$f":"'National Shipments'!O146/'National Shipments'!O$149","v":0.76360377370417853},{"$f":"'National Shipments'!P146/'National Shipments'!P$149","v":0.72309221260332968},{"$f":"'National Shipments'!Q146/'National Shipments'!Q$149","v":0.68247937259973246},{"$f":"'National Shipments'!R146/'National Shipments'!R$149","v":0.64176500049612928},{"$f":"'National Shipments'!S146/'National Shipments'!S$149","v":0.60094884246225877},{"$f":"'National Shipments'!T146/'National Shipments'!T$149","v":0.56003064403330149},{"$f":"'National Shipments'!U146/'National Shipments'!U$149","v":0.50210373541873088},{"$f":"'National Shipments'!V146/'National Shipments'!V$149","v":0.42241823017242797},{"$f":"'National Shipments'!W146/'National Shipments'!W$149","v":0.34253351116302155},{"$f":"'National Shipments'!X146/'National Shipments'!X$149","v":0.26244908035608028},{"$f":"'National Shipments'!Y146/'National Shipments'!Y$149","v":0.18216443847212332},{"$f":"'National Shipments'!Z146/'National Shipments'!Z$149","v":0.10167908498346238},{"$f":"'National Shipments'!AA146/'National Shipments'!AA$149","v":2.0992518111079383E-2},{"$f":"'National Shipments'!AB146/'National Shipments'!AB$149","v":0},{"$f":"'National Shipments'!AC146/'National Shipments'!AC$149","v":0},{"$f":"'National Shipments'!AD146/'National Shipments'!AD$149","v":0},{"$f":"'National Shipments'!AE146/'National Shipments'!AE$149","v":0}]
[null,null,null,"EL3",9.8000000000000007,null,0.17260000000000003,0.17260000000000003,0.17260000000000003,0.17260000000000003,0.17260000000000003,0.17260000000000003,0.17260000000000003,0.17260000000000003,0.17260000000000003,0.17260000000000003,0.17260000000000003,0.17260000000000003,0.17260000000000003,0.17260000000000003,0.17260000000000003,0.17260000000000003,0.17260000000000003,0.17260000000000003,0.17260000000000003,0.17260000000000003,0.17260000000000003,0.17260000000000003,0.17260000000000003,0.17260000000000003,0.17260000000000003,0.17260000000000003,0.17260000000000003,0.17260000000000003,{"$f":"'National Shipments'!F147/'National Shipments'!F$149","v":0.17260000000000003},{"$f":"'National Shipments'!G147/'National Shipments'!G$149","v":0.17260000000000006},{"$f":"'National Shipments'!H147/'National Shipments'!H$149","v":0.17259999999999998},{"$f":"'National Shipments'!I147/'National Shipments'!I$149","v":0.17260000000000003},{"$f":"'National Shipments'!J147/'National Shipments'!J$149","v":0.1726},{"$f":"'National Shipments'!K147/'National Shipments'!K$149","v":0.17260000000000003},{"$f":"'National Shipments'!L147/'National Shipments'!L$149","v":0.21975964910225507},{"$f":"'National Shipments'!M147/'National Shipments'!M$149","v":0.20041795398364945},{"$f":"'National Shipments'!N147/'National Shipments'!N$149","v":0.21437911134483373},{"$f":"'National Shipments'!O147/'National Shipments'!O$149","v":0.23639622629582158},{"$f":"'National Shipments'!P147/'National Shipments'!P$149","v":0.27690778739667038},{"$f":"'National Shipments'!Q147/'National Shipments'!Q$149","v":0.3175206274002676},{"$f":"'National Shipments'!R147/'National Shipments'!R$149","v":0.35823499950387083},{"$f":"'National Shipments'!S147/'National Shipments'!S$149","v":0.39905115753774117},{"$f":"'National Shipments'!T147/'National Shipments'!T$149","v":0.43996935596669845},{"$f":"'National Shipments'!U147/'National Shipments'!U$149","v":0.49789626458126923},{"$f":"'National Shipments'!V147/'National Shipments'!V$149","v":0.57758176982757214},{"$f":"'National Shipments'!W147/'National Shipments'!W$149","v":0.65746648883697834},{"$f":"'National Shipments'!X147/'National Shipments'!X$149","v":0.73755091964391961},{"$f":"'National Shipments'!Y147/'National Shipments'!Y$149","v":0.81783556152787673},{"$f":"'National Shipments'!Z147/'National Shipments'!Z$149","v":0.89832091501653766},{"$f":"'National Shipments'!AA147/'National Shipments'!AA$149","v":0.97900748188892062},{"$f":"'National Shipments'!AB147/'National Shipments'!AB$149","v":0.9905056517108195},{"$f":"'National Shipments'!AC147/'National Shipments'!AC$149","v":0.97765162963342422},{"$f":"'National Shipments'!AD147/'National Shipments'!AD$149","v":0.96476547250083311},{"$f":"'National Shipments'!AE147/'National Shipments'!AE$149","v":0.93575397119063897}]
[null,null,null,"EL4",10.020890372503978,null,0,0,0,0,0,0,0,0,0,0,0,0,0,0,0,0,0,0,0,0,0,0,0,0,0,0,0,0,{"$f":"'National Shipments'!F148/'National Shipments'!F$149","v":0},{"$f":"'National Shipments'!G148/'National Shipments'!G$149","v":0},{"$f":"'National Shipments'!H148/'National Shipments'!H$149","v":0},{"$f":"'National Shipments'!I148/'National Shipments'!I$149","v":0},{"$f":"'National Shipments'!J148/'National Shipments'!J$149","v":0},{"$f":"'National Shipments'!K148/'National Shipments'!K$149","v":0},{"$f":"'National Shipments'!L148/'National Shipments'!L$149","v":0},{"$f":"'National Shipments'!M148/'National Shipments'!M$149","v":0},{"$f":"'National Shipments'!N148/'National Shipments'!N$149","v":0},{"$f":"'National Shipments'!O148/'National Shipments'!O$149","v":0},{"$f":"'National Shipments'!P148/'National Shipments'!P$149","v":0},{"$f":"'National Shipments'!Q148/'National Shipments'!Q$149","v":0},{"$f":"'National Shipments'!R148/'National Shipments'!R$149","v":0},{"$f":"'National Shipments'!S148/'National Shipments'!S$149","v":0},{"$f":"'National Shipments'!T148/'National Shipments'!T$149","v":0},{"$f":"'National Shipments'!U148/'National Shipments'!U$149","v":0},{"$f":"'National Shipments'!V148/'National Shipments'!V$149","v":0},{"$f":"'National Shipments'!W148/'National Shipments'!W$149","v":0},{"$f":"'National Shipments'!X148/'National Shipments'!X$149","v":0},{"$f":"'National Shipments'!Y148/'National Shipments'!Y$149","v":0},{"$f":"'National Shipments'!Z148/'National Shipments'!Z$149","v":0},{"$f":"'National Shipments'!AA148/'National Shipments'!AA$149","v":0},{"$f":"'National Shipments'!AB148/'National Shipments'!AB$149","v":9.4943482891805056E-3},{"$f":"'National Shipments'!AC148/'National Shipments'!AC$149","v":2.2348370366575668E-2},{"$f":"'National Shipments'!AD148/'National Shipments'!AD$149","v":3.5234527499166848E-2},{"$f":"'National Shipments'!AE148/'National Shipments'!AE$149","v":6.4246028809361089E-2}]
[null,null,null,"TOTAL",null,null,1,1,1,1,1,1,1,1,1,1,1,1,1,1,1,1,1,1,1,1,1,1,1,1,1,1,1,1,{"$f":"'National Shipments'!F149/'National Shipments'!F$149","v":1},{"$f":"'National Shipments'!G149/'National Shipments'!G$149","v":1},{"$f":"'National Shipments'!H149/'National Shipments'!H$149","v":1},{"$f":"'National Shipments'!I149/'National Shipments'!I$149","v":1},{"$f":"'National Shipments'!J149/'National Shipments'!J$149","v":1},{"$f":"'National Shipments'!K149/'National Shipments'!K$149","v":1},{"$f":"'National Shipments'!L149/'National Shipments'!L$149","v":1},{"$f":"'National Shipments'!M149/'National Shipments'!M$149","v":1},{"$f":"'National Shipments'!N149/'National Shipments'!N$149","v":1},{"$f":"'National Shipments'!O149/'National Shipments'!O$149","v":1},{"$f":"'National Shipments'!P149/'National Shipments'!P$149","v":1},{"$f":"'National Shipments'!Q149/'National Shipments'!Q$149","v":1},{"$f":"'National Shipments'!R149/'National Shipments'!R$149","v":1},{"$f":"'National Shipments'!S149/'National Shipments'!S$149","v":1},{"$f":"'National Shipments'!T149/'National Shipments'!T$149","v":1},{"$f":"'National Shipments'!U149/'National Shipments'!U$149","v":1},{"$f":"'National Shipments'!V149/'National Shipments'!V$149","v":1},{"$f":"'National Shipments'!W149/'National Shipments'!W$149","v":1},{"$f":"'National Shipments'!X149/'National Shipments'!X$149","v":1},{"$f":"'National Shipments'!Y149/'National Shipments'!Y$149","v":1},{"$f":"'National Shipments'!Z149/'National Shipments'!Z$149","v":1},{"$f":"'National Shipments'!AA149/'National Shipments'!AA$149","v":1},{"$f":"'National Shipments'!AB149/'National Shipments'!AB$149","v":1},{"$f":"'National Shipments'!AC149/'National Shipments'!AC$149","v":1},{"$f":"'National Shipments'!AD149/'National Shipments'!AD$149","v":1},{"$f":"'National Shipments'!AE149/'National Shipments'!AE$149","v":1}]
[]
[null,null,null,"Sources","2011 DOE Residential Room Air Conditioners Direct Final Rule Government Regulatory Impact Model 'Product Shipments (CALC)' tab."]

{"sheet":"Efficiency Dist - MH","index":10,"n_rows":151,"n_cols":60,"rows_kept":151,"cut":false,"hidden":false,"merged":[[1,2,1,5],[3,2,3,5],[5,2,5,5]]}
[]
[null,null,"Efficiency Distributions by Product Class - Manufactured Homes"]
[]
[null,null,"NAVIGATION"]
[]
[null,null,"COMMENTS"]
[]
[]
[null,null,null,"PC1  Without reverse cycle, with louvered sides, and less than 6,000 Btu/h"]
[]
[null,null,null,"PRE-Case"]
[null,null,null,"Efficiency Level","CEER",null,1981,1982,1983,1984,1985,1986,1987,1988,1989,1990,1991,1992,1993,1994,1995,1996,1997,1998,1999,2000,2001,2002,2003,2004,2005,2006,2007,2008,2009,2010,2011,2012,2013,2014,2015,2016,2017,2018,2019,2020,2021,2022,2023,2024,2025,2026,2027,2028,2029,2030,2031,2032,2033,2034]
[null,null,null,"EL0",{"$f":"INDEX(EFFICIENCY_LEVELS,RIGHT(D13,1)+1,MID($D$9,3,1))","v":9.5235933377732245},null,{"$f":"H13","v":0.69330000000000003},0.69330000000000003,0.69330000000000003,0.69330000000000003,0.69330000000000003,0.69330000000000003,0.69330000000000003,0.69330000000000003,0.69330000000000003,0.69330000000000003,0.69330000000000003,0.69330000000000003,0.69330000000000003,0.69330000000000003,0.69330000000000003,0.69330000000000003,{"$f":"X13","v":0.69330000000000003},0.69330000000000003,0.69330000000000003,0.69330000000000003,0.69330000000000003,0.69330000000000003,0.69330000000000003,0.69330000000000003,0.69330000000000003,0.69330000000000003,0.69330000000000003,{"$f":"AI13","v":0.69330000000000003},{"$f":"'National Shipments'!F13/'National Shipments'!F$19","v":0.69330000000000003},{"$f":"'National Shipments'!G13/'National Shipments'!G$19","v":0.69330000000000003},{"$f":"'National Shipments'!H13/'National Shipments'!H$19","v":0.69330000000000003},{"$f":"'National Shipments'!I13/'National Shipments'!I$19","v":0.69329999999999992},{"$f":"'National Shipments'!J13/'National Shipments'!J$19","v":0.69330000000000003},{"$f":"'National Shipments'!K13/'National Shipments'!K$19","v":0.69330000000000014},{"$f":"'National Shipments'!L13/'National Shipments'!L$19","v":0.65053710399621079},{"$f":"'National Shipments'!M13/'National Shipments'!M$19","v":0.60766730075241293},{"$f":"'National Shipments'!N13/'National Shipments'!N$19","v":0.5646903230005037},{"$f":"'National Shipments'!O13/'National Shipments'!O$19","v":0.52160590280421637},{"$f":"'National Shipments'!P13/'National Shipments'!P$19","v":0.47841377155743875},{"$f":"'National Shipments'!Q13/'National Shipments'!Q$19","v":0.43511365998254231},{"$f":"'National Shipments'!R13/'National Shipments'!R$19","v":0.39170529812870925},{"$f":"'National Shipments'!S13/'National Shipments'!S$19","v":0.34818841537024325},{"$f":"'National Shipments'!T13/'National Shipments'!T$19","v":0.30456274040488057},{"$f":"'National Shipments'!U13/'National Shipments'!U$19","v":0.26082800125210198},{"$f":"'National Shipments'!V13/'National Shipments'!V$19","v":0.21698392525144305},{"$f":"'National Shipments'!W13/'National Shipments'!W$19","v":0.17303023906078133},{"$f":"'National Shipments'!X13/'National Shipments'!X$19","v":0.12896666865464387},{"$f":"'National Shipments'!Y13/'National Shipments'!Y$19","v":8.4792939322491448E-2},{"$f":"'National Shipments'!Z13/'National Shipments'!Z$19","v":4.0508775667007273E-2},{"$f":"'National Shipments'!AA13/'National Shipments'!AA$19","v":0},{"$f":"'National Shipments'!AB13/'National Shipments'!AB$19","v":0},{"$f":"'National Shipments'!AC13/'National Shipments'!AC$19","v":0},{"$f":"'National Shipments'!AD13/'National Shipments'!AD$19","v":0},{"$f":"'National Shipments'!AE13/'National Shipments'!AE$19","v":0}]
[null,null,null,"EL1",10.1,null,0,0,0,0,0,0,0,0,0,0,0,0,0,0,0,0,0,0,0,0,0,0,0,0,0,0,0,0,{"$f":"'National Shipments'!F14/'National Shipments'!F$19","v":0},{"$f":"'National Shipments'!G14/'National Shipments'!G$19","v":0},{"$f":"'National Shipments'!H14/'National Shipments'!H$19","v":0},{"$f":"'National Shipments'!I14/'National Shipments'!I$19","v":0},{"$f":"'National Shipments'!J14/'National Shipments'!J$19","v":0},{"$f":"'National Shipments'!K14/'National Shipments'!K$19","v":0},{"$f":"'National Shipments'!L14/'National Shipments'!L$19","v":4.2762896003789352E-2},{"$f":"'National Shipments'!M14/'National Shipments'!M$19","v":8.5632699247587096E-2},{"$f":"'National Shipments'!N14/'National Shipments'!N$19","v":0.1286096769994963},{"$f":"'National Shipments'!O14/'National Shipments'!O$19","v":0.17169409719578366},{"$f":"'National Shipments'!P14/'National Shipments'!P$19","v":0.21488622844256128},{"$f":"'National Shipments'!Q14/'National Shipments'!Q$19","v":0.25818634001745766},{"$f":"'National Shipments'!R14/'National Shipments'!R$19","v":0.30159470187129073},{"$f":"'National Shipments'!S14/'National Shipments'!S$19","v":0.34511158462975688},{"$f":"'National Shipments'!T14/'National Shipments'!T$19","v":0.38873725959511951},{"$f":"'National Shipments'!U14/'National Shipments'!U$19","v":0.4324719987478981},{"$f":"'National Shipments'!V14/'National Shipments'!V$19","v":0.47631607474855692},{"$f":"'National Shipments'!W14/'National Shipments'!W$19","v":0.52026976093921884},{"$f":"'National Shipments'!X14/'National Shipments'!X$19","v":0.56433333134535613},{"$f":"'National Shipments'!Y14/'National Shipments'!Y$19","v":0.6085070606775087},{"$f":"'National Shipments'!Z14/'National Shipments'!Z$19","v":0.65279122433299275},{"$f":"'National Shipments'!AA14/'National Shipments'!AA$19","v":0.68882005398708945},{"$f":"'National Shipments'!AB14/'National Shipments'!AB$19","v":0.63751310412205986},{"$f":"'National Shipments'!AC14/'National Shipments'!AC$19","v":0.58607788688236728},{"$f":"'National Shipments'!AD14/'National Shipments'!AD$19","v":0.53451408159957414},{"$f":"'National Shipments'!AE14/'National Shipments'!AE$19","v":0.48282136680357318}]
[null,null,null,"EL2",10.6,null,0.29509999999999992,0.29509999999999992,0.29509999999999992,0.29509999999999992,0.29509999999999992,0.29509999999999992,0.29509999999999992,0.29509999999999992,0.29509999999999992,0.29509999999999992,0.29509999999999992,0.29509999999999992,0.29509999999999992,0.29509999999999992,0.29509999999999992,0.29509999999999992,0.29509999999999992,0.29509999999999992,0.29509999999999992,0.29509999999999992,0.29509999999999992,0.29509999999999992,0.29509999999999992,0.29509999999999992,0.29509999999999992,0.29509999999999992,0.29509999999999992,0.29509999999999992,{"$f":"'National Shipments'!F15/'National Shipments'!F$19","v":0.29509999999999992},{"$f":"'National Shipments'!G15/'National Shipments'!G$19","v":0.29509999999999992},{"$f":"'National Shipments'!H15/'National Shipments'!H$19","v":0.29510000000000003},{"$f":"'National Shipments'!I15/'National Shipments'!I$19","v":0.29510000000000003},{"$f":"'National Shipments'!J15/'National Shipments'!J$19","v":0.29510000000000003},{"$f":"'National Shipments'!K15/'National Shipments'!K$19","v":0.29510000000000003},{"$f":"'National Shipments'!L15/'National Shipments'!L$19","v":0.29509999999999997},{"$f":"'National Shipments'!M15/'National Shipments'!M$19","v":0.29510000000000003},{"$f":"'National Shipments'!N15/'National Shipments'!N$19","v":0.29509999999999992},{"$f":"'National Shipments'!O15/'National Shipments'!O$19","v":0.29509999999999997},{"$f":"'National Shipments'!P15/'National Shipments'!P$19","v":0.29509999999999997},{"$f":"'National Shipments'!Q15/'National Shipments'!Q$19","v":0.29509999999999997},{"$f":"'National Shipments'!R15/'National Shipments'!R$19","v":0.29509999999999997},{"$f":"'National Shipments'!S15/'National Shipments'!S$19","v":0.29510000000000003},{"$f":"'National Shipments'!T15/'National Shipments'!T$19","v":0.29510000000000003},{"$f":"'National Shipments'!U15/'National Shipments'!U$19","v":0.29509999999999997},{"$f":"'National Shipments'!V15/'National Shipments'!V$19","v":0.29509999999999997},{"$f":"'National Shipments'!W15/'National Shipments'!W$19","v":0.29510000000000003},{"$f":"'National Shipments'!X15/'National Shipments'!X$19","v":0.29509999999999992},{"$f":"'National Shipments'!Y15/'National Shipments'!Y$19","v":0.29510000000000003},{"$f":"'National Shipments'!Z15/'National Shipments'!Z$19","v":0.29509999999999997},{"$f":"'National Shipments'!AA15/'National Shipments'!AA$19","v":0.29957994601291049},{"$f":"'National Shipments'!AB15/'National Shipments'!AB$19","v":0.35088689587794014},{"$f":"'National Shipments'!AC15/'National Shipments'!AC$19","v":0.40232211311763266},{"$f":"'National Shipments'!AD15/'National Shipments'!AD$19","v":0.4538859184004258},{"$f":"'National Shipments'!AE15/'National Shipments'!AE$19","v":0.50557863319642693}]
[null,null,null,"EL3",11.1,null,1.1599999999999997E-2,1.1599999999999997E-2,1.1599999999999997E-2,1.1599999999999997E-2,1.1599999999999997E-2,1.1599999999999997E-2,1.1599999999999997E-2,1.1599999999999997E-2,1.1599999999999997E-2,1.1599999999999997E-2,1.1599999999999997E-2,1.1599999999999997E-2,1.1599999999999997E-2,1.1599999999999997E-2,1.1599999999999997E-2,1.1599999999999997E-2,1.1599999999999997E-2,1.1599999999999997E-2,1.1599999999999997E-2,1.1599999999999997E-2,1.1599999999999997E-2,1.1599999999999997E-2,1.1599999999999997E-2,1.1599999999999997E-2,1.1599999999999997E-2,1.1599999999999997E-2,1.1599999999999997E-2,1.1599999999999997E-2,{"$f":"'National Shipments'!F16/'National Shipments'!F$19","v":1.1599999999999997E-2},{"$f":"'National Shipments'!G16/'National Shipments'!G$19","v":1.1599999999999999E-2},{"$f":"'National Shipments'!H16/'National Shipments'!H$19","v":1.1600000000000001E-2},{"$f":"'National Shipments'!I16/'National Shipments'!I$19","v":1.1599999999999999E-2},{"$f":"'National Shipments'!J16/'National Shipments'!J$19","v":1.1600000000000001E-2},{"$f":"'National Shipments'!K16/'National Shipments'!K$19","v":1.1600000000000001E-2},{"$f":"'National Shipments'!L16/'National Shipments'!L$19","v":1.1599999999999999E-2},{"$f":"'National Shipments'!M16/'National Shipments'!M$19","v":1.1600000000000001E-2},{"$f":"'National Shipments'!N16/'National Shipments'!N$19","v":1.1599999999999997E-2},{"$f":"'National Shipments'!O16/'National Shipments'!O$19","v":1.1599999999999999E-2},{"$f":"'National Shipments'!P16/'National Shipments'!P$19","v":1.1599999999999997E-2},{"$f":"'National Shipments'!Q16/'National Shipments'!Q$19","v":1.1600000000000001E-2},{"$f":"'National Shipments'!R16/'National Shipments'!R$19","v":1.1599999999999999E-2},{"$f":"'National Shipments'!S16/'National Shipments'!S$19","v":1.1600000000000001E-2},{"$f":"'National Shipments'!T16/'National Shipments'!T$19","v":1.1600000000000001E-2},{"$f":"'National Shipments'!U16/'National Shipments'!U$19","v":1.1599999999999997E-2},{"$f":"'National Shipments'!V16/'National Shipments'!V$19","v":1.1599999999999999E-2},{"$f":"'National Shipments'!W16/'National Shipments'!W$19","v":1.1600000000000001E-2},{"$f":"'National Shipments'!X16/'National Shipments'!X$19","v":1.1599999999999999E-2},{"$f":"'National Shipments'!Y16/'National Shipments'!Y$19","v":1.1600000000000001E-2},{"$f":"'National Shipments'!Z16/'National Shipments'!Z$19","v":1.1599999999999999E-2},{"$f":"'National Shipments'!AA16/'National Shipments'!AA$19","v":1.1599999999999999E-2},{"$f":"'National Shipments'!AB16/'National Shipments'!AB$19","v":1.1600000000000001E-2},{"$f":"'National Shipments'!AC16/'National Shipments'!AC$19","v":1.1599999999999999E-2},{"$f":"'National Shipments'!AD16/'National Shipments'!AD$19","v":1.1600000000000001E-2},{"$f":"'National Shipments'!AE16/'National Shipments'!AE$19","v":1.1600000000000003E-2}]
[null,null,null,"EL4",11.384883004768115,null,0,0,0,0,0,0,0,0,0,0,0,0,0,0,0,0,0,0,0,0,0,0,0,0,0,0,0,0,{"$f":"'National Shipments'!F17/'National Shipments'!F$19","v":0},{"$f":"'National Shipments'!G17/'National Shipments'!G$19","v":0},{"$f":"'National Shipments'!H17/'National Shipments'!H$19","v":0},{"$f":"'National Shipments'!I17/'National Shipments'!I$19","v":0},{"$f":"'National Shipments'!J17/'National Shipments'!J$19","v":0},{"$f":"'National Shipments'!K17/'National Shipments'!K$19","v":0},{"$f":"'National Shipments'!L17/'National Shipments'!L$19","v":0},{"$f":"'National Shipments'!M17/'National Shipments'!M$19","v":0},{"$f":"'National Shipments'!N17/'National Shipments'!N$19","v":0},{"$f":"'National Shipments'!O17/'National Shipments'!O$19","v":0},{"$f":"'National Shipments'!P17/'National Shipments'!P$19","v":0},{"$f":"'National Shipments'!Q17/'National Shipments'!Q$19","v":0},{"$f":"'National Shipments'!R17/'National Shipments'!R$19","v":0},{"$f":"'National Shipments'!S17/'National Shipments'!S$19","v":0},{"$f":"'National Shipments'!T17/'National Shipments'!T$19","v":0},{"$f":"'National Shipments'!U17/'National Shipments'!U$19","v":0},{"$f":"'National Shipments'!V17/'National Shipments'!V$19","v":0},{"$f":"'National Shipments'!W17/'National Shipments'!W$19","v":0},{"$f":"'National Shipments'!X17/'National Shipments'!X$19","v":0},{"$f":"'National Shipments'!Y17/'National Shipments'!Y$19","v":0},{"$f":"'National Shipments'!Z17/'National Shipments'!Z$19","v":0},{"$f":"'National Shipments'!AA17/'National Shipments'!AA$19","v":0},{"$f":"'National Shipments'!AB17/'National Shipments'!AB$19","v":0},{"$f":"'National Shipments'!AC17/'National Shipments'!AC$19","v":0},{"$f":"'National Shipments'!AD17/'National Shipments'!AD$19","v":0},{"$f":"'National Shipments'!AE17/'National Shipments'!AE$19","v":0}]
[null,null,null,"EL5",11.665601284887952,null,0,0,0,0,0,0,0,0,0,0,0,0,0,0,0,0,0,0,0,0,0,0,0,0,0,0,0,0,{"$f":"'National Shipments'!F18/'National Shipments'!F$19","v":0},{"$f":"'National Shipments'!G18/'National Shipments'!G$19","v":0},{"$f":"'National Shipments'!H18/'National Shipments'!H$19","v":0},{"$f":"'National Shipments'!I18/'National Shipments'!I$19","v":0},{"$f":"'National Shipments'!J18/'National Shipments'!J$19","v":0},{"$f":"'National Shipments'!K18/'National Shipments'!K$19","v":0},{"$f":"'National Shipments'!L18/'National Shipments'!L$19","v":0},{"$f":"'National Shipments'!M18/'National Shipments'!M$19","v":0},{"$f":"'National Shipments'!N18/'National Shipments'!N$19","v":0},{"$f":"'National Shipments'!O18/'National Shipments'!O$19","v":0},{"$f":"'National Shipments'!P18/'National Shipments'!P$19","v":0},{"$f":"'National Shipments'!Q18/'National Shipments'!Q$19","v":0},{"$f":"'National Shipments'!R18/'National Shipments'!R$19","v":0},{"$f":"'National Shipments'!S18/'National Shipments'!S$19","v":0},{"$f":"'National Shipments'!T18/'National Shipments'!T$19","v":0},{"$f":"'National Shipments'!U18/'National Shipments'!U$19","v":0},{"$f":"'National Shipments'!V18/'National Shipments'!V$19","v":0},{"$f":"'National Shipments'!W18/'National Shipments'!W$19","v":0},{"$f":"'National Shipments'!X18/'National Shipments'!X$19","v":0},{"$f":"'National Shipments'!Y18/'National Shipments'!Y$19","v":0},{"$f":"'National Shipments'!Z18/'National Shipments'!Z$19","v":0},{"$f":"'National Shipments'!AA18/'National Shipments'!AA$19","v":0},{"$f":"'National Shipments'!AB18/'National Shipments'!AB$19","v":0},{"$f":"'National Shipments'!AC18/'National Shipments'!AC$19","v":0},{"$f":"'National Shipments'!AD18/'National Shipments'!AD$19","v":0},{"$f":"'National Shipments'!AE18/'National Shipments'!AE$19","v":0}]
[null,null,null,"TOTAL",null,null,1,1,1,1,1,1,1,1,1,1,1,1,1,1,1,1,1,1,1,1,1,1,1,1,1,1,1,1,{"$f":"'National Shipments'!F19/'National Shipments'!F$19","v":1},{"$f":"'National Shipments'!G19/'National Shipments'!G$19","v":1},{"$f":"'National Shipments'!H19/'National Shipments'!H$19","v":1},{"$f":"'National Shipments'!I19/'National Shipments'!I$19","v":1},{"$f":"'National Shipments'!J19/'National Shipments'!J$19","v":1},{"$f":"'National Shipments'!K19/'National Shipments'!K$19","v":1},{"$f":"'National Shipments'!L19/'National Shipments'!L$19","v":1},{"$f":"'National Shipments'!M19/'National Shipments'!M$19","v":1},{"$f":"'National Shipments'!N19/'National Shipments'!N$19","v":1},{"$f":"'National Shipments'!O19/'National Shipments'!O$19","v":1},{"$f":"'National Shipments'!P19/'National Shipments'!P$19","v":1},{"$f":"'National Shipments'!Q19/'National Shipments'!Q$19","v":1},{"$f":"'National Shipments'!R19/'National Shipments'!R$19","v":1},{"$f":"'National Shipments'!S19/'National Shipments'!S$19","v":1},{"$f":"'National Shipments'!T19/'National Shipments'!T$19","v":1},{"$f":"'National Shipments'!U19/'National Shipments'!U$19","v":1},{"$f":"'National Shipments'!V19/'National Shipments'!V$19","v":1},{"$f":"'National Shipments'!W19/'National Shipments'!W$19","v":1},{"$f":"'National Shipments'!X19/'National Shipments'!X$19","v":1},{"$f":"'National Shipments'!Y19/'National Shipments'!Y$19","v":1},{"$f":"'National Shipments'!Z19/'National Shipments'!Z$19","v":1},{"$f":"'National Shipments'!AA19/'National Shipments'!AA$19","v":1},{"$f":"'National Shipments'!AB19/'National Shipments'!AB$19","v":1},{"$f":"'National Shipments'!AC19/'National Shipments'!AC$19","v":1},{"$f":"'National Shipments'!AD19/'National Shipments'!AD$19","v":1},{"$f":"'National Shipments'!AE19/'National Shipments'!AE$19","v":1}]
[]
[null,null,null,"POST-Case"]
[null,null,null,"Efficiency Level","CEER",null,1981,1982,1983,1984,1985,1986,1987,1988,1989,1990,1991,1992,1993,1994,1995,1996,1997,1998,1999,2000,2001,2002,2003,2004,2005,2006,2007,2008,2009,2010,2011,2012,2013,2014,2015,2016,2017,2018,2019,2020,2021,2022,2023,2024,2025,2026,2027,2028,2029,2030,2031,2032,2033,2034]
[null,null,null,"EL0",{"$f":"INDEX(EFFICIENCY_LEVELS,RIGHT(D23,1)+1,MID($D$9,3,1))","v":9.5235933377732245},null,{"$f":"H23","v":0.69330000000000003},0.69330000000000003,0.69330000000000003,0.69330000000000003,0.69330000000000003,0.69330000000000003,0.69330000000000003,0.69330000000000003,0.69330000000000003,0.69330000000000003,0.69330000000000003,0.69330000000000003,0.69330000000000003,0.69330000000000003,0.69330000000000003,0.69330000000000003,{"$f":"X23","v":0.69330000000000003},0.69330000000000003,0.69330000000000003,0.69330000000000003,0.69330000000000003,0.69330000000000003,0.69330000000000003,0.69330000000000003,0.69330000000000003,0.69330000000000003,0.69330000000000003,{"$f":"AI23","v":0.69330000000000003},{"$f":"'National Shipments'!F23/'National Shipments'!F$29","v":0.69330000000000003},{"$f":"'National Shipments'!G23/'National Shipments'!G$29","v":0.69330000000000003},{"$f":"'National Shipments'!H23/'National Shipments'!H$29","v":0.69330000000000003},{"$f":"'National Shipments'!I23/'National Shipments'!I$29","v":0.69329999999999992},{"$f":"'National Shipments'!J23/'National Shipments'!J$29","v":0.69330000000000003},{"$f":"'National Shipments'!K23/'National Shipments'!K$29","v":0},{"$f":"'National Shipments'!L23/'National Shipments'!L$29","v":0},{"$f":"'National Shipments'!M23/'National Shipments'!M$29","v":0},{"$f":"'National Shipments'!N23/'National Shipments'!N$29","v":0},{"$f":"'National Shipments'!O23/'National Shipments'!O$29","v":0},{"$f":"'National Shipments'!P23/'National Shipments'!P$29","v":0},{"$f":"'National Shipments'!Q23/'National Shipments'!Q$29","v":0},{"$f":"'National Shipments'!R23/'National Shipments'!R$29","v":0},{"$f":"'National Shipments'!S23/'National Shipments'!S$29","v":0},{"$f":"'National Shipments'!T23/'National Shipments'!T$29","v":0},{"$f":"'National Shipments'!U23/'National Shipments'!U$29","v":0},{"$f":"'National Shipments'!V23/'National Shipments'!V$29","v":0},{"$f":"'National Shipments'!W23/'National Shipments'!W$29","v":0},{"$f":"'National Shipments'!X23/'National Shipments'!X$29","v":0},{"$f":"'National Shipments'!Y23/'National Shipments'!Y$29","v":0},{"$f":"'National Shipments'!Z23/'National Shipments'!Z$29","v":0},{"$f":"'National Shipments'!AA23/'National Shipments'!AA$29","v":0},{"$f":"'National Shipments'!AB23/'National Shipments'!AB$29","v":0},{"$f":"'National Shipments'!AC23/'National Shipments'!AC$29","v":0},{"$f":"'National Shipments'!AD23/'National Shipments'!AD$29","v":0},{"$f":"'National Shipments'!AE23/'National Shipments'!AE$29","v":0}]
[null,null,null,"EL1",10.1,null,0,0,0,0,0,0,0,0,0,0,0,0,0,0,0,0,0,0,0,0,0,0,0,0,0,0,0,0,{"$f":"'National Shipments'!F24/'National Shipments'!F$29","v":0},{"$f":"'National Shipments'!G24/'National Shipments'!G$29","v":0},{"$f":"'National Shipments'!H24/'National Shipments'!H$29","v":0},{"$f":"'National Shipments'!I24/'National Shipments'!I$29","v":0},{"$f":"'National Shipments'!J24/'National Shipments'!J$29","v":0},{"$f":"'National Shipments'!K24/'National Shipments'!K$29","v":0},{"$f":"'National Shipments'!L24/'National Shipments'!L$29","v":0},{"$f":"'National Shipments'!M24/'National Shipments'!M$29","v":0},{"$f":"'National Shipments'!N24/'National Shipments'!N$29","v":0},{"$f":"'National Shipments'!O24/'National Shipments'!O$29","v":0},{"$f":"'National Shipments'!P24/'National Shipments'!P$29","v":0},{"$f":"'National Shipments'!Q24/'National Shipments'!Q$29","v":0},{"$f":"'National Shipments'!R24/'National Shipments'!R$29","v":0},{"$f":"'National Shipments'!S24/'National Shipments'!S$29","v":0},{"$f":"'National Shipments'!T24/'National Shipments'!T$29","v":0},{"$f":"'National Shipments'!U24/'National Shipments'!U$29","v":0},{"$f":"'National Shipments'!V24/'National Shipments'!V$29","v":0},{"$f":"'National Shipments'!W24/'National Shipments'!W$29","v":0},{"$f":"'National Shipments'!X24/'National Shipments'!X$29","v":0},{"$f":"'National Shipments'!Y24/'National Shipments'!Y$29","v":0},{"$f":"'National Shipments'!Z24/'National Shipments'!Z$29","v":0},{"$f":"'National Shipments'!AA24/'National Shipments'!AA$29","v":0},{"$f":"'National Shipments'!AB24/'National Shipments'!AB$29","v":0},{"$f":"'National Shipments'!AC24/'National Shipments'!AC$29","v":0},{"$f":"'National Shipments'!AD24/'National Shipments'!AD$29","v":0},{"$f":"'National Shipments'!AE24/'National Shipments'!AE$29","v":0}]
[null,null,null,"EL2",10.6,null,0.29509999999999992,0.29509999999999992,0.29509999999999992,0.29509999999999992,0.29509999999999992,0.29509999999999992,0.29509999999999992,0.29509999999999992,0.29509999999999992,0.29509999999999992,0.29509999999999992,0.29509999999999992,0.29509999999999992,0.29509999999999992,0.29509999999999992,0.29509999999999992,0.29509999999999992,0.29509999999999992,0.29509999999999992,0.29509999999999992,0.29509999999999992,0.29509999999999992,0.29509999999999992,0.29509999999999992,0.29509999999999992,0.29509999999999992,0.29509999999999992,0.29509999999999992,{"$f":"'National Shipments'!F25/'National Shipments'!F$29","v":0.29509999999999992},{"$f":"'National Shipments'!G25/'National Shipments'!G$29","v":0.29509999999999992},{"$f":"'National Shipments'!H25/'National Shipments'!H$29","v":0.29510000000000003},{"$f":"'National Shipments'!I25/'National Shipments'!I$29","v":0.29510000000000003},{"$f":"'National Shipments'!J25/'National Shipments'!J$29","v":0.29510000000000003},{"$f":"'National Shipments'!K25/'National Shipments'!K$29","v":0},{"$f":"'National Shipments'!L25/'National Shipments'!L$29","v":0},{"$f":"'National Shipments'!M25/'National Shipments'!M$29","v":0},{"$f":"'National Shipments'!N25/'National Shipments'!N$29","v":0},{"$f":"'National Shipments'!O25/'National Shipments'!O$29","v":0},{"$f":"'National Shipments'!P25/'National Shipments'!P$29","v":0},{"$f":"'National Shipments'!Q25/'National Shipments'!Q$29","v":0},{"$f":"'National Shipments'!R25/'National Shipments'!R$29","v":0},{"$f":"'National Shipments'!S25/'National Shipments'!S$29","v":0},{"$f":"'National Shipments'!T25/'National Shipments'!T$29","v":0},{"$f":"'National Shipments'!U25/'National Shipments'!U$29","v":0},{"$f":"'National Shipments'!V25/'National Shipments'!V$29","v":0},{"$f":"'National Shipments'!W25/'National Shipments'!W$29","v":0},{"$f":"'National Shipments'!X25/'National Shipments'!X$29","v":0},{"$f":"'National Shipments'!Y25/'National Shipments'!Y$29","v":0},{"$f":"'National Shipments'!Z25/'National Shipments'!Z$29","v":0},{"$f":"'National Shipments'!AA25/'National Shipments'!AA$29","v":0},{"$f":"'National Shipments'!AB25/'National Shipments'!AB$29","v":0},{"$f":"'National Shipments'!AC25/'National Shipments'!AC$29","v":0},{"$f":"'National Shipments'!AD25/'National Shipments'!AD$29","v":0},{"$f":"'National Shipments'!AE25/'National Shipments'!AE$29","v":0}]
[null,null,null,"EL3",11.1,null,1.1599999999999997E-2,1.1599999999999997E-2,1.1599999999999997E-2,1.1599999999999997E-2,1.1599999999999997E-2,1.1599999999999997E-2,1.1599999999999997E-2,1.1599999999999997E-2,1.1599999999999997E-2,1.1599999999999997E-2,1.1599999999999997E-2,1.1599999999999997E-2,1.1599999999999997E-2,1.1599999999999997E-2,1.1599999999999997E-2,1.1599999999999997E-2,1.1599999999999997E-2,1.1599999999999997E-2,1.1599999999999997E-2,1.1599999999999997E-2,1.1599999999999997E-2,1.1599999999999997E-2,1.1599999999999997E-2,1.1599999999999997E-2,1.1599999999999997E-2,1.1599999999999997E-2,1.1599999999999997E-2,1.1599999999999997E-2,{"$f":"'National Shipments'!F26/'National Shipments'!F$29","v":1.1599999999999997E-2},{"$f":"'National Shipments'!G26/'National Shipments'!G$29","v":1.1599999999999999E-2},{"$f":"'National Shipments'!H26/'National Shipments'!H$29","v":1.1600000000000001E-2},{"$f":"'National Shipments'!I26/'National Shipments'!I$29","v":1.1599999999999999E-2},{"$f":"'National Shipments'!J26/'National Shipments'!J$29","v":1.1600000000000001E-2},{"$f":"'National Shipments'!K26/'National Shipments'!K$29","v":1},{"$f":"'National Shipments'!L26/'National Shipments'!L$29","v":0.975655639699473},{"$f":"'National Shipments'!M26/'National Shipments'!M$29","v":0.95005241180755629},{"$f":"'National Shipments'!N26/'National Shipments'!N$29","v":0.92558449023858747},{"$f":"'National Shipments'!O26/'National Shipments'!O$29","v":0.90105539886570263},{"$f":"'National Shipments'!P26/'National Shipments'!P$29","v":0.87646498476438428},{"$f":"'National Shipments'!Q26/'National Shipments'!Q$29","v":0.85181309462781019},{"$f":"'National Shipments'!R26/'National Shipments'!R$29","v":0.82709957476589213},{"$f":"'National Shipments'!S26/'National Shipments'!S$29","v":0.80232427110432225},{"$f":"'National Shipments'!T26/'National Shipments'!T$29","v":0.77748702918360379},{"$f":"'National Shipments'!U26/'National Shipments'!U$29","v":0.75258769415807902},{"$f":"'National Shipments'!V26/'National Shipments'!V$29","v":0.72762611079498518},{"$f":"'National Shipments'!W26/'National Shipments'!W$29","v":0.70260212347348761},{"$f":"'National Shipments'!X26/'National Shipments'!X$29","v":0.67751557618368941},{"$f":"'National Shipments'!Y26/'National Shipments'!Y$29","v":0.65236631252566302},{"$f":"'National Shipments'!Z26/'National Shipments'!Z$29","v":0.62715417570849274},{"$f":"'National Shipments'!AA26/'National Shipments'!AA$29","v":0.60079196678151603},{"$f":"'National Shipments'!AB26/'National Shipments'!AB$29","v":0.56300417652840073},{"$f":"'National Shipments'!AC26/'National Shipments'!AC$29","v":0.52512191679965781},{"$f":"'National Shipments'!AD26/'National Shipments'!AD$29","v":0.48714495142158948},{"$f":"'National Shipments'!AE26/'National Shipments'!AE$29","v":0.44907304363007039}]
[null,null,null,"EL4",11.384883004768115,null,0,0,0,0,0,0,0,0,0,0,0,0,0,0,0,0,0,0,0,0,0,0,0,0,0,0,0,0,{"$f":"'National Shipments'!F27/'National Shipments'!F$29","v":0},{"$f":"'National Shipments'!G27/'National Shipments'!G$29","v":0},{"$f":"'National Shipments'!H27/'National Shipments'!H$29","v":0},{"$f":"'National Shipments'!I27/'National Shipments'!I$29","v":0},{"$f":"'National Shipments'!J27/'National Shipments'!J$29","v":0},{"$f":"'National Shipments'!K27/'National Shipments'!K$29","v":0},{"$f":"'National Shipments'!L27/'National Shipments'!L$29","v":2.434436030052705E-2},{"$f":"'National Shipments'!M27/'National Shipments'!M$29","v":4.9947588192443729E-2},{"$f":"'National Shipments'!N27/'National Shipments'!N$29","v":7.4415509761412577E-2},{"$f":"'National Shipments'!O27/'National Shipments'!O$29","v":9.8944601134297289E-2},{"$f":"'National Shipments'!P27/'National Shipments'!P$29","v":0.12353501523561576},{"$f":"'National Shipments'!Q27/'National Shipments'!Q$29","v":0.14818690537218981},{"$f":"'National Shipments'!R27/'National Shipments'!R$29","v":0.17290042523410801},{"$f":"'National Shipments'!S27/'National Shipments'!S$29","v":0.19767572889567778},{"$f":"'National Shipments'!T27/'National Shipments'!T$29","v":0.22251297081639626},{"$f":"'National Shipments'!U27/'National Shipments'!U$29","v":0.247412305841921},{"$f":"'National Shipments'!V27/'National Shipments'!V$29","v":0.27237388920501476},{"$f":"'National Shipments'!W27/'National Shipments'!W$29","v":0.29739787652651239},{"$f":"'National Shipments'!X27/'National Shipments'!X$29","v":0.32248442381631059},{"$f":"'National Shipments'!Y27/'National Shipments'!Y$29","v":0.34763368747433704},{"$f":"'National Shipments'!Z27/'National Shipments'!Z$29","v":0.37284582429150737},{"$f":"'National Shipments'!AA27/'National Shipments'!AA$29","v":0.39920803321848403},{"$f":"'National Shipments'!AB27/'National Shipments'!AB$29","v":0.43699582347159927},{"$f":"'National Shipments'!AC27/'National Shipments'!AC$29","v":0.4748780832003423},{"$f":"'National Shipments'!AD27/'National Shipments'!AD$29","v":0.51285504857841058},{"$f":"'National Shipments'!AE27/'National Shipments'!AE$29","v":0.55092695636992961}]
[null,null,null,"EL5",11.665601284887952,null,0,0,0,0,0,0,0,0,0,0,0,0,0,0,0,0,0,0,0,0,0,0,0,0,0,0,0,0,{"$f":"'National Shipments'!F28/'National Shipments'!F$29","v":0},{"$f":"'National Shipments'!G28/'National Shipments'!G$29","v":0},{"$f":"'National Shipments'!H28/'National Shipments'!H$29","v":0},{"$f":"'National Shipments'!I28/'National Shipments'!I$29","v":0},{"$f":"'National Shipments'!J28/'National Shipments'!J$29","v":0},{"$f":"'National Shipments'!K28/'National Shipments'!K$29","v":0},{"$f":"'National Shipments'!L28/'National Shipments'!L$29","v":0},{"$f":"'National Shipments'!M28/'National Shipments'!M$29","v":0},{"$f":"'National Shipments'!N28/'National Shipments'!N$29","v":0},{"$f":"'National Shipments'!O28/'National Shipments'!O$29","v":0},{"$f":"'National Shipments'!P28/'National Shipments'!P$29","v":0},{"$f":"'National Shipments'!Q28/'National Shipments'!Q$29","v":0},{"$f":"'National Shipments'!R28/'National Shipments'!R$29","v":0},{"$f":"'National Shipments'!S28/'National Shipments'!S$29","v":0},{"$f":"'National Shipments'!T28/'National Shipments'!T$29","v":0},{"$f":"'National Shipments'!U28/'National Shipments'!U$29","v":0},{"$f":"'National Shipments'!V28/'National Shipments'!V$29","v":0},{"$f":"'National Shipments'!W28/'National Shipments'!W$29","v":0},{"$f":"'National Shipments'!X28/'National Shipments'!X$29","v":0},{"$f":"'National Shipments'!Y28/'National Shipments'!Y$29","v":0},{"$f":"'National Shipments'!Z28/'National Shipments'!Z$29","v":0},{"$f":"'National Shipments'!AA28/'National Shipments'!AA$29","v":0},{"$f":"'National Shipments'!AB28/'National Shipments'!AB$29","v":0},{"$f":"'National Shipments'!AC28/'National Shipments'!AC$29","v":0},{"$f":"'National Shipments'!AD28/'National Shipments'!AD$29","v":0},{"$f":"'National Shipments'!AE28/'National Shipments'!AE$29","v":0}]
[null,null,null,"TOTAL",null,null,1,1,1,1,1,1,1,1,1,1,1,1,1,1,1,1,1,1,1,1,1,1,1,1,1,1,1,1,{"$f":"'National Shipments'!F29/'National Shipments'!F$29","v":1},{"$f":"'National Shipments'!G29/'National Shipments'!G$29","v":1},{"$f":"'National Shipments'!H29/'National Shipments'!H$29","v":1},{"$f":"'National Shipments'!I29/'National Shipments'!I$29","v":1},{"$f":"'National Shipments'!J29/'National Shipments'!J$29","v":1},{"$f":"'National Shipments'!K29/'National Shipments'!K$29","v":1},{"$f":"'National Shipments'!L29/'National Shipments'!L$29","v":1},{"$f":"'National Shipments'!M29/'National Shipments'!M$29","v":1},{"$f":"'National Shipments'!N29/'National Shipments'!N$29","v":1},{"$f":"'National Shipments'!O29/'National Shipments'!O$29","v":1},{"$f":"'National Shipments'!P29/'National Shipments'!P$29","v":1},{"$f":"'National Shipments'!Q29/'National Shipments'!Q$29","v":1},{"$f":"'National Shipments'!R29/'National Shipments'!R$29","v":1},{"$f":"'National Shipments'!S29/'National Shipments'!S$29","v":1},{"$f":"'National Shipments'!T29/'National Shipments'!T$29","v":1},{"$f":"'National Shipments'!U29/'National Shipments'!U$29","v":1},{"$f":"'National Shipments'!V29/'National Shipments'!V$29","v":1},{"$f":"'National Shipments'!W29/'National Shipments'!W$29","v":1},{"$f":"'National Shipments'!X29/'National Shipments'!X$29","v":1},{"$f":"'National Shipments'!Y29/'National Shipments'!Y$29","v":1},{"$f":"'National Shipments'!Z29/'National Shipments'!Z$29","v":1},{"$f":"'National Shipments'!AA29/'National Shipments'!AA$29","v":1},{"$f":"'National Shipments'!AB29/'National Shipments'!AB$29","v":1},{"$f":"'National Shipments'!AC29/'National Shipments'!AC$29","v":1},{"$f":"'National Shipments'!AD29/'National Shipments'!AD$29","v":1},{"$f":"'National Shipments'!AE29/'National Shipments'!AE$29","v":1}]
[]
[null,null,null,"Sources","2011 DOE Residential Room Air Conditioners Direct Final Rule Government Regulatory Impact Model 'Product Shipments (CALC)' tab."]
[]
[]
[]
[null,null,null,"PC2  Without reverse cycle, with louvered sides, and 8,000 to 13,999 Btu/h"]
[]
[null,null,null,"PRE-Case"]
[null,null,null,"Efficiency Level","CEER",null,1981,1982,1983,1984,1985,1986,1987,1988,1989,1990,1991,1992,1993,1994,1995,1996,1997,1998,1999,2000,2001,2002,2003,2004,2005,2006,2007,2008,2009,2010,2011,2012,2013,2014,2015,2016,2017,2018,2019,2020,2021,2022,2023,2024,2025,2026,2027,2028,2029,2030,2031,2032,2033,2034]
[null,null,null,"EL0",{"$f":"INDEX(EFFICIENCY_LEVELS,RIGHT(D39,1)+1,MID($D$35,3,1))","v":9.6867014340173032},null,{"$f":"H39","v":0.37050000000000005},0.37050000000000005,0.37050000000000005,0.37050000000000005,0.37050000000000005,0.37050000000000005,0.37050000000000005,0.37050000000000005,0.37050000000000005,0.37050000000000005,0.37050000000000005,0.37050000000000005,0.37050000000000005,0.37050000000000005,0.37050000000000005,0.37050000000000005,{"$f":"X39","v":0.37050000000000005},0.37050000000000005,0.37050000000000005,0.37050000000000005,0.37050000000000005,0.37050000000000005,0.37050000000000005,0.37050000000000005,0.37050000000000005,0.37050000000000005,0.37050000000000005,{"$f":"AI39","v":0.37050000000000005},{"$f":"'National Shipments'!F39/'National Shipments'!F$45","v":0.37050000000000005},{"$f":"'National Shipments'!G39/'National Shipments'!G$45","v":0.37050000000000005},{"$f":"'National Shipments'!H39/'National Shipments'!H$45","v":0.37050000000000011},{"$f":"'National Shipments'!I39/'National Shipments'!I$45","v":0.37050000000000005},{"$f":"'National Shipments'!J39/'National Shipments'!J$45","v":0.37050000000000011},{"$f":"'National Shipments'!K39/'National Shipments'!K$45","v":0.37050000000000005},{"$f":"'National Shipments'!L39/'National Shipments'!L$45","v":0.32022030532550105},{"$f":"'National Shipments'!M39/'National Shipments'!M$45","v":0.26981491141431868},{"$f":"'National Shipments'!N39/'National Shipments'!N$45","v":0.21928350401835697},{"$f":"'National Shipments'!O39/'National Shipments'!O$45","v":0.16862576810390614},{"$f":"'National Shipments'!P39/'National Shipments'!P$45","v":0.11784138784966686},{"$f":"'National Shipments'!Q39/'National Shipments'!Q$45","v":6.6930046644795016E-2},{"$f":"'National Shipments'!R39/'National Shipments'!R$45","v":1.5891427086908105E-2},{"$f":"'National Shipments'!S39/'National Shipments'!S$45","v":0},{"$f":"'National Shipments'!T39/'National Shipments'!T$45","v":0},{"$f":"'National Shipments'!U39/'National Shipments'!U$45","v":0},{"$f":"'National Shipments'!V39/'National Shipments'!V$45","v":0},{"$f":"'National Shipments'!W39/'National Shipments'!W$45","v":0},{"$f":"'National Shipments'!X39/'National Shipments'!X$45","v":0},{"$f":"'National Shipments'!Y39/'National Shipments'!Y$45","v":0},{"$f":"'National Shipments'!Z39/'National Shipments'!Z$45","v":0},{"$f":"'National Shipments'!AA39/'National Shipments'!AA$45","v":0},{"$f":"'National Shipments'!AB39/'National Shipments'!AB$45","v":0},{"$f":"'National Shipments'!AC39/'National Shipments'!AC$45","v":0},{"$f":"'National Shipments'!AD39/'National Shipments'!AD$45","v":0},{"$f":"'National Shipments'!AE39/'National Shipments'!AE$45","v":0}]
[null,null,null,"EL1",10.199999999999999,null,2.4599999999999955E-2,2.4599999999999955E-2,2.4599999999999955E-2,2.4599999999999955E-2,2.4599999999999955E-2,2.4599999999999955E-2,2.4599999999999955E-2,2.4599999999999955E-2,2.4599999999999955E-2,2.4599999999999955E-2,2.4599999999999955E-2,2.4599999999999955E-2,2.4599999999999955E-2,2.4599999999999955E-2,2.4599999999999955E-2,2.4599999999999955E-2,2.4599999999999955E-2,2.4599999999999955E-2,2.4599999999999955E-2,2.4599999999999955E-2,2.4599999999999955E-2,2.4599999999999955E-2,2.4599999999999955E-2,2.4599999999999955E-2,2.4599999999999955E-2,2.4599999999999955E-2,2.4599999999999955E-2,2.4599999999999955E-2,{"$f":"'National Shipments'!F40/'National Shipments'!F$45","v":2.4599999999999955E-2},{"$f":"'National Shipments'!G40/'National Shipments'!G$45","v":2.4599999999999955E-2},{"$f":"'National Shipments'!H40/'National Shipments'!H$45","v":2.4599999999999959E-2},{"$f":"'National Shipments'!I40/'National Shipments'!I$45","v":2.4599999999999952E-2},{"$f":"'National Shipments'!J40/'National Shipments'!J$45","v":2.4599999999999959E-2},{"$f":"'National Shipments'!K40/'National Shipments'!K$45","v":2.4599999999999955E-2},{"$f":"'National Shipments'!L40/'National Shipments'!L$45","v":7.4879694674498939E-2},{"$f":"'National Shipments'!M40/'National Shipments'!M$45","v":0.1252850885856813},{"$f":"'National Shipments'!N40/'National Shipments'!N$45","v":0.17581649598164303},{"$f":"'National Shipments'!O40/'National Shipments'!O$45","v":0.22647423189609392},{"$f":"'National Shipments'!P40/'National Shipments'!P$45","v":0.27725861215033315},{"$f":"'National Shipments'!Q40/'National Shipments'!Q$45","v":0.32816995335520499},{"$f":"'National Shipments'!R40/'National Shipments'!R$45","v":0.3792085729130919},{"$f":"'National Shipments'!S40/'National Shipments'!S$45","v":0.3588870027615137},{"$f":"'National Shipments'!T40/'National Shipments'!T$45","v":0.30622859432600152},{"$f":"'National Shipments'!U40/'National Shipments'!U$45","v":0.25343853986939707},{"$f":"'National Shipments'!V40/'National Shipments'!V$45","v":0.20051651027665396},{"$f":"'National Shipments'!W40/'National Shipments'!W$45","v":0.14746217560992814},{"$f":"'National Shipments'!X40/'National Shipments'!X$45","v":9.4275205106534768E-2},{"$f":"'National Shipments'!Y40/'National Shipments'!Y$45","v":4.0955267176884247E-2},{"$f":"'National Shipments'!Z40/'National Shipments'!Z$45","v":0},{"$f":"'National Shipments'!AA40/'National Shipments'!AA$45","v":0},{"$f":"'National Shipments'!AB40/'National Shipments'!AB$45","v":0},{"$f":"'National Shipments'!AC40/'National Shipments'!AC$45","v":0},{"$f":"'National Shipments'!AD40/'National Shipments'!AD$45","v":0},{"$f":"'National Shipments'!AE40/'National Shipments'!AE$45","v":0}]
[null,null,null,"EL2",10.7,null,0.58299999999999996,0.58299999999999996,0.58299999999999996,0.58299999999999996,0.58299999999999996,0.58299999999999996,0.58299999999999996,0.58299999999999996,0.58299999999999996,0.58299999999999996,0.58299999999999996,0.58299999999999996,0.58299999999999996,0.58299999999999996,0.58299999999999996,0.58299999999999996,0.58299999999999996,0.58299999999999996,0.58299999999999996,0.58299999999999996,0.58299999999999996,0.58299999999999996,0.58299999999999996,0.58299999999999996,0.58299999999999996,0.58299999999999996,0.58299999999999996,0.58299999999999996,{"$f":"'National Shipments'!F41/'National Shipments'!F$45","v":0.58299999999999996},{"$f":"'National Shipments'!G41/'National Shipments'!G$45","v":0.58299999999999996},{"$f":"'National Shipments'!H41/'National Shipments'!H$45","v":0.58300000000000007},{"$f":"'National Shipments'!I41/'National Shipments'!I$45","v":0.58299999999999996},{"$f":"'National Shipments'!J41/'National Shipments'!J$45","v":0.58299999999999996},{"$f":"'National Shipments'!K41/'National Shipments'!K$45","v":0.58299999999999996},{"$f":"'National Shipments'!L41/'National Shipments'!L$45","v":0.58299999999999996},{"$f":"'National Shipments'!M41/'National Shipments'!M$45","v":0.58299999999999985},{"$f":"'National Shipments'!N41/'National Shipments'!N$45","v":0.58300000000000007},{"$f":"'National Shipments'!O41/'National Shipments'!O$45","v":0.58300000000000018},{"$f":"'National Shipments'!P41/'National Shipments'!P$45","v":0.58299999999999996},{"$f":"'National Shipments'!Q41/'National Shipments'!Q$45","v":0.58299999999999996},{"$f":"'National Shipments'!R41/'National Shipments'!R$45","v":0.58299999999999996},{"$f":"'National Shipments'!S41/'National Shipments'!S$45","v":0.61921299723848644},{"$f":"'National Shipments'!T41/'National Shipments'!T$45","v":0.67187140567399861},{"$f":"'National Shipments'!U41/'National Shipments'!U$45","v":0.72466146013060306},{"$f":"'National Shipments'!V41/'National Shipments'!V$45","v":0.77758348972334601},{"$f":"'National Shipments'!W41/'National Shipments'!W$45","v":0.83063782439007194},{"$f":"'National Shipments'!X41/'National Shipments'!X$45","v":0.88382479489346533},{"$f":"'National Shipments'!Y41/'National Shipments'!Y$45","v":0.93714473282311561},{"$f":"'National Shipments'!Z41/'National Shipments'!Z$45","v":0.94685507350601739},{"$f":"'National Shipments'!AA41/'National Shipments'!AA$45","v":0.81288789633373737},{"$f":"'National Shipments'!AB41/'National Shipments'!AB$45","v":0.67858580121853174},{"$f":"'National Shipments'!AC41/'National Shipments'!AC$45","v":0.54394795086553593},{"$f":"'National Shipments'!AD41/'National Shipments'!AD$45","v":0.40897350588665293},{"$f":"'National Shipments'!AE41/'National Shipments'!AE$45","v":0.27366162479532252}]
[null,null,null,"EL3",10.9,null,1.4200000000000003E-2,1.4200000000000003E-2,1.4200000000000003E-2,1.4200000000000003E-2,1.4200000000000003E-2,1.4200000000000003E-2,1.4200000000000003E-2,1.4200000000000003E-2,1.4200000000000003E-2,1.4200000000000003E-2,1.4200000000000003E-2,1.4200000000000003E-2,1.4200000000000003E-2,1.4200000000000003E-2,1.4200000000000003E-2,1.4200000000000003E-2,1.4200000000000003E-2,1.4200000000000003E-2,1.4200000000000003E-2,1.4200000000000003E-2,1.4200000000000003E-2,1.4200000000000003E-2,1.4200000000000003E-2,1.4200000000000003E-2,1.4200000000000003E-2,1.4200000000000003E-2,1.4200000000000003E-2,1.4200000000000003E-2,{"$f":"'National Shipments'!F42/'National Shipments'!F$45","v":1.4200000000000003E-2},{"$f":"'National Shipments'!G42/'National Shipments'!G$45","v":1.4199999999999999E-2},{"$f":"'National Shipments'!H42/'National Shipments'!H$45","v":1.4200000000000001E-2},{"$f":"'National Shipments'!I42/'National Shipments'!I$45","v":1.4199999999999999E-2},{"$f":"'National Shipments'!J42/'National Shipments'!J$45","v":1.4199999999999999E-2},{"$f":"'National Shipments'!K42/'National Shipments'!K$45","v":1.4200000000000001E-2},{"$f":"'National Shipments'!L42/'National Shipments'!L$45","v":1.4200000000000003E-2},{"$f":"'National Shipments'!M42/'National Shipments'!M$45","v":1.4199999999999996E-2},{"$f":"'National Shipments'!N42/'National Shipments'!N$45","v":1.4200000000000001E-2},{"$f":"'National Shipments'!O42/'National Shipments'!O$45","v":1.4200000000000004E-2},{"$f":"'National Shipments'!P42/'National Shipments'!P$45","v":1.4199999999999997E-2},{"$f":"'National Shipments'!Q42/'National Shipments'!Q$45","v":1.4199999999999999E-2},{"$f":"'National Shipments'!R42/'National Shipments'!R$45","v":1.4199999999999999E-2},{"$f":"'National Shipments'!S42/'National Shipments'!S$45","v":1.4200000000000001E-2},{"$f":"'National Shipments'!T42/'National Shipments'!T$45","v":1.4200000000000001E-2},{"$f":"'National Shipments'!U42/'National Shipments'!U$45","v":1.4199999999999999E-2},{"$f":"'National Shipments'!V42/'National Shipments'!V$45","v":1.4199999999999999E-2},{"$f":"'National Shipments'!W42/'National Shipments'!W$45","v":1.4200000000000001E-2},{"$f":"'National Shipments'!X42/'National Shipments'!X$45","v":1.4199999999999999E-2},{"$f":"'National Shipments'!Y42/'National Shipments'!Y$45","v":1.4199999999999996E-2},{"$f":"'National Shipments'!Z42/'National Shipments'!Z$45","v":4.5444926493982692E-2},{"$f":"'National Shipments'!AA42/'National Shipments'!AA$45","v":0.17941210366626256},{"$f":"'National Shipments'!AB42/'National Shipments'!AB$45","v":0.31371419878146822},{"$f":"'National Shipments'!AC42/'National Shipments'!AC$45","v":0.44835204913446397},{"$f":"'National Shipments'!AD42/'National Shipments'!AD$45","v":0.58332649411334703},{"$f":"'National Shipments'!AE42/'National Shipments'!AE$45","v":0.71863837520467744}]
[null,null,null,"EL4",11.5,null,3.1000000000000008E-3,3.1000000000000008E-3,3.1000000000000008E-3,3.1000000000000008E-3,3.1000000000000008E-3,3.1000000000000008E-3,3.1000000000000008E-3,3.1000000000000008E-3,3.1000000000000008E-3,3.1000000000000008E-3,3.1000000000000008E-3,3.1000000000000008E-3,3.1000000000000008E-3,3.1000000000000008E-3,3.1000000000000008E-3,3.1000000000000008E-3,3.1000000000000008E-3,3.1000000000000008E-3,3.1000000000000008E-3,3.1000000000000008E-3,3.1000000000000008E-3,3.1000000000000008E-3,3.1000000000000008E-3,3.1000000000000008E-3,3.1000000000000008E-3,3.1000000000000008E-3,3.1000000000000008E-3,3.1000000000000008E-3,{"$f":"'National Shipments'!F43/'National Shipments'!F$45","v":3.1000000000000008E-3},{"$f":"'National Shipments'!G43/'National Shipments'!G$45","v":3.1000000000000003E-3},{"$f":"'National Shipments'!H43/'National Shipments'!H$45","v":3.1000000000000003E-3},{"$f":"'National Shipments'!I43/'National Shipments'!I$45","v":3.1000000000000003E-3},{"$f":"'National Shipments'!J43/'National Shipments'!J$45","v":3.1000000000000003E-3},{"$f":"'National Shipments'!K43/'National Shipments'!K$45","v":3.1000000000000003E-3},{"$f":"'National Shipments'!L43/'National Shipments'!L$45","v":3.1000000000000003E-3},{"$f":"'National Shipments'!M43/'National Shipments'!M$45","v":3.0999999999999995E-3},{"$f":"'National Shipments'!N43/'National Shipments'!N$45","v":3.1000000000000003E-3},{"$f":"'National Shipments'!O43/'National Shipments'!O$45","v":3.1000000000000008E-3},{"$f":"'National Shipments'!P43/'National Shipments'!P$45","v":3.1000000000000003E-3},{"$f":"'National Shipments'!Q43/'National Shipments'!Q$45","v":3.1000000000000003E-3},{"$f":"'National Shipments'!R43/'National Shipments'!R$45","v":3.1000000000000003E-3},{"$f":"'National Shipments'!S43/'National Shipments'!S$45","v":3.1000000000000012E-3},{"$f":"'National Shipments'!T43/'National Shipments'!T$45","v":3.1000000000000008E-3},{"$f":"'National Shipments'!U43/'National Shipments'!U$45","v":3.1000000000000008E-3},{"$f":"'National Shipments'!V43/'National Shipments'!V$45","v":3.1000000000000008E-3},{"$f":"'National Shipments'!W43/'National Shipments'!W$45","v":3.1000000000000008E-3},{"$f":"'National Shipments'!X43/'National Shipments'!X$45","v":3.1000000000000008E-3},{"$f":"'National Shipments'!Y43/'National Shipments'!Y$45","v":3.0999999999999995E-3},{"$f":"'National Shipments'!Z43/'National Shipments'!Z$45","v":3.1000000000000008E-3},{"$f":"'National Shipments'!AA43/'National Shipments'!AA$45","v":3.1000000000000003E-3},{"$f":"'National Shipments'!AB43/'National Shipments'!AB$45","v":3.1000000000000003E-3},{"$f":"'National Shipments'!AC43/'National Shipments'!AC$45","v":3.1000000000000003E-3},{"$f":"'National Shipments'!AD43/'National Shipments'!AD$45","v":3.0999999999999999E-3},{"$f":"'National Shipments'!AE43/'National Shipments'!AE$45","v":3.1000000000000003E-3}]
[null,null,null,"EL5",11.961997496471479,null,4.6000000000000008E-3,4.6000000000000008E-3,4.6000000000000008E-3,4.6000000000000008E-3,4.6000000000000008E-3,4.6000000000000008E-3,4.6000000000000008E-3,4.6000000000000008E-3,4.6000000000000008E-3,4.6000000000000008E-3,4.6000000000000008E-3,4.6000000000000008E-3,4.6000000000000008E-3,4.6000000000000008E-3,4.6000000000000008E-3,4.6000000000000008E-3,4.6000000000000008E-3,4.6000000000000008E-3,4.6000000000000008E-3,4.6000000000000008E-3,4.6000000000000008E-3,4.6000000000000008E-3,4.6000000000000008E-3,4.6000000000000008E-3,4.6000000000000008E-3,4.6000000000000008E-3,4.6000000000000008E-3,4.6000000000000008E-3,{"$f":"'National Shipments'!F44/'National Shipments'!F$45","v":4.6000000000000008E-3},{"$f":"'National Shipments'!G44/'National Shipments'!G$45","v":4.5999999999999999E-3},{"$f":"'National Shipments'!H44/'National Shipments'!H$45","v":4.6000000000000008E-3},{"$f":"'National Shipments'!I44/'National Shipments'!I$45","v":4.5999999999999999E-3},{"$f":"'National Shipments'!J44/'National Shipments'!J$45","v":4.5999999999999999E-3},{"$f":"'National Shipments'!K44/'National Shipments'!K$45","v":4.5999999999999999E-3},{"$f":"'National Shipments'!L44/'National Shipments'!L$45","v":4.5999999999999999E-3},{"$f":"'National Shipments'!M44/'National Shipments'!M$45","v":4.5999999999999991E-3},{"$f":"'National Shipments'!N44/'National Shipments'!N$45","v":4.6000000000000008E-3},{"$f":"'National Shipments'!O44/'National Shipments'!O$45","v":4.6000000000000008E-3},{"$f":"'National Shipments'!P44/'National Shipments'!P$45","v":4.5999999999999999E-3},{"$f":"'National Shipments'!Q44/'National Shipments'!Q$45","v":4.5999999999999999E-3},{"$f":"'National Shipments'!R44/'National Shipments'!R$45","v":4.6000000000000008E-3},{"$f":"'National Shipments'!S44/'National Shipments'!S$45","v":4.6000000000000008E-3},{"$f":"'National Shipments'!T44/'National Shipments'!T$45","v":4.6000000000000008E-3},{"$f":"'National Shipments'!U44/'National Shipments'!U$45","v":4.6000000000000008E-3},{"$f":"'National Shipments'!V44/'National Shipments'!V$45","v":4.5999999999999999E-3},{"$f":"'National Shipments'!W44/'National Shipments'!W$45","v":4.5999999999999999E-3},{"$f":"'National Shipments'!X44/'National Shipments'!X$45","v":4.5999999999999999E-3},{"$f":"'National Shipments'!Y44/'National Shipments'!Y$45","v":4.5999999999999991E-3},{"$f":"'National Shipments'!Z44/'National Shipments'!Z$45","v":4.6000000000000008E-3},{"$f":"'National Shipments'!AA44/'National Shipments'!AA$45","v":4.5999999999999999E-3},{"$f":"'National Shipments'!AB44/'National Shipments'!AB$45","v":4.5999999999999999E-3},{"$f":"'National Shipments'!AC44/'National Shipments'!AC$45","v":4.6000000000000008E-3},{"$f":"'National Shipments'!AD44/'National Shipments'!AD$45","v":4.5999999999999991E-3},{"$f":"'National Shipments'!AE44/'National Shipments'!AE$45","v":4.5999999999999999E-3}]
[null,null,null,"TOTAL",null,null,1,1,1,1,1,1,1,1,1,1,1,1,1,1,1,1,1,1,1,1,1,1,1,1,1,1,1,1,{"$f":"'National Shipments'!F45/'National Shipments'!F$45","v":1},{"$f":"'National Shipments'!G45/'National Shipments'!G$45","v":1},{"$f":"'National Shipments'!H45/'National Shipments'!H$45","v":1},{"$f":"'National Shipments'!I45/'National Shipments'!I$45","v":1},{"$f":"'National Shipments'!J45/'National Shipments'!J$45","v":1},{"$f":"'National Shipments'!K45/'National Shipments'!K$45","v":1},{"$f":"'National Shipments'!L45/'National Shipments'!L$45","v":1},{"$f":"'National Shipments'!M45/'National Shipments'!M$45","v":1},{"$f":"'National Shipments'!N45/'National Shipments'!N$45","v":1},{"$f":"'National Shipments'!O45/'National Shipments'!O$45","v":1},{"$f":"'National Shipments'!P45/'National Shipments'!P$45","v":1},{"$f":"'National Shipments'!Q45/'National Shipments'!Q$45","v":1},{"$f":"'National Shipments'!R45/'National Shipments'!R$45","v":1},{"$f":"'National Shipments'!S45/'National Shipments'!S$45","v":1},{"$f":"'National Shipments'!T45/'National Shipments'!T$45","v":1},{"$f":"'National Shipments'!U45/'National Shipments'!U$45","v":1},{"$f":"'National Shipments'!V45/'National Shipments'!V$45","v":1},{"$f":"'National Shipments'!W45/'National Shipments'!W$45","v":1},{"$f":"'National Shipments'!X45/'National Shipments'!X$45","v":1},{"$f":"'National Shipments'!Y45/'National Shipments'!Y$45","v":1},{"$f":"'National Shipments'!Z45/'National Shipments'!Z$45","v":1},{"$f":"'National Shipments'!AA45/'National Shipments'!AA$45","v":1},{"$f":"'National Shipments'!AB45/'National Shipments'!AB$45","v":1},{"$f":"'National Shipments'!AC45/'National Shipments'!AC$45","v":1},{"$f":"'National Shipments'!AD45/'National Shipments'!AD$45","v":1},{"$f":"'National Shipments'!AE45/'National Shipments'!AE$45","v":1}]
[]
[null,null,null,"POST-Case"]
[null,null,null,"Efficiency Level","CEER",null,1981,1982,1983,1984,1985,1986,1987,1988,1989,1990,1991,1992,1993,1994,1995,1996,1997,1998,1999,2000,2001,2002,2003,2004,2005,2006,2007,2008,2009,2010,2011,2012,2013,2014,2015,2016,2017,2018,2019,2020,2021,2022,2023,2024,2025,2026,2027,2028,2029,2030,2031,2032,2033,2034]
[null,null,null,"EL0",{"$f":"INDEX(EFFICIENCY_LEVELS,RIGHT(D49,1)+1,MID($D$35,3,1))","v":9.6867014340173032},null,{"$f":"H49","v":0.37050000000000005},0.37050000000000005,0.37050000000000005,0.37050000000000005,0.37050000000000005,0.37050000000000005,0.37050000000000005,0.37050000000000005,0.37050000000000005,0.37050000000000005,0.37050000000000005,0.37050000000000005,0.37050000000000005,0.37050000000000005,0.37050000000000005,0.37050000000000005,{"$f":"X49","v":0.37050000000000005},0.37050000000000005,0.37050000000000005,0.37050000000000005,0.37050000000000005,0.37050000000000005,0.37050000000000005,0.37050000000000005,0.37050000000000005,0.37050000000000005,0.37050000000000005,{"$f":"AI49","v":0.37050000000000005},{"$f":"'National Shipments'!F49/'National Shipments'!F$55","v":0.37050000000000005},{"$f":"'National Shipments'!G49/'National Shipments'!G$55","v":0.37050000000000005},{"$f":"'National Shipments'!H49/'National Shipments'!H$55","v":0.37050000000000011},{"$f":"'National Shipments'!I49/'National Shipments'!I$55","v":0.37050000000000005},{"$f":"'National Shipments'!J49/'National Shipments'!J$55","v":0.37050000000000011},{"$f":"'National Shipments'!K49/'National Shipments'!K$55","v":0},{"$f":"'National Shipments'!L49/'National Shipments'!L$55","v":0},{"$f":"'National Shipments'!M49/'National Shipments'!M$55","v":0},{"$f":"'National Shipments'!N49/'National Shipments'!N$55","v":0},{"$f":"'National Shipments'!O49/'National Shipments'!O$55","v":0},{"$f":"'National Shipments'!P49/'National Shipments'!P$55","v":0},{"$f":"'National Shipments'!Q49/'National Shipments'!Q$55","v":0},{"$f":"'National Shipments'!R49/'National Shipments'!R$55","v":0},{"$f":"'National Shipments'!S49/'National Shipments'!S$55","v":0},{"$f":"'National Shipments'!T49/'National Shipments'!T$55","v":0},{"$f":"'National Shipments'!U49/'National Shipments'!U$55","v":0},{"$f":"'National Shipments'!V49/'National Shipments'!V$55","v":0},{"$f":"'National Shipments'!W49/'National Shipments'!W$55","v":0},{"$f":"'National Shipments'!X49/'National Shipments'!X$55","v":0},{"$f":"'National Shipments'!Y49/'National Shipments'!Y$55","v":0},{"$f":"'National Shipments'!Z49/'National Shipments'!Z$55","v":0},{"$f":"'National Shipments'!AA49/'National Shipments'!AA$55","v":0},{"$f":"'National Shipments'!AB49/'National Shipments'!AB$55","v":0},{"$f":"'National Shipments'!AC49/'National Shipments'!AC$55","v":0},{"$f":"'National Shipments'!AD49/'National Shipments'!AD$55","v":0},{"$f":"'National Shipments'!AE49/'National Shipments'!AE$55","v":0}]
[null,null,null,"EL1",10.199999999999999,null,2.4599999999999955E-2,2.4599999999999955E-2,2.4599999999999955E-2,2.4599999999999955E-2,2.4599999999999955E-2,2.4599999999999955E-2,2.4599999999999955E-2,2.4599999999999955E-2,2.4599999999999955E-2,2.4599999999999955E-2,2.4599999999999955E-2,2.4599999999999955E-2,2.4599999999999955E-2,2.4599999999999955E-2,2.4599999999999955E-2,2.4599999999999955E-2,2.4599999999999955E-2,2.4599999999999955E-2,2.4599999999999955E-2,2.4599999999999955E-2,2.4599999999999955E-2,2.4599999999999955E-2,2.4599999999999955E-2,2.4599999999999955E-2,2.4599999999999955E-2,2.4599999999999955E-2,2.4599999999999955E-2,2.4599999999999955E-2,{"$f":"'National Shipments'!F50/'National Shipments'!F$55","v":2.4599999999999955E-2},{"$f":"'National Shipments'!G50/'National Shipments'!G$55","v":2.4599999999999955E-2},{"$f":"'National Shipments'!H50/'National Shipments'!H$55","v":2.4599999999999959E-2},{"$f":"'National Shipments'!I50/'National Shipments'!I$55","v":2.4599999999999952E-2},{"$f":"'National Shipments'!J50/'National Shipments'!J$55","v":2.4599999999999959E-2},{"$f":"'National Shipments'!K50/'National Shipments'!K$55","v":0},{"$f":"'National Shipments'!L50/'National Shipments'!L$55","v":0},{"$f":"'National Shipments'!M50/'National Shipments'!M$55","v":0},{"$f":"'National Shipments'!N50/'National Shipments'!N$55","v":0},{"$f":"'National Shipments'!O50/'National Shipments'!O$55","v":0},{"$f":"'National Shipments'!P50/'National Shipments'!P$55","v":0},{"$f":"'National Shipments'!Q50/'National Shipments'!Q$55","v":0},{"$f":"'National Shipments'!R50/'National Shipments'!R$55","v":0},{"$f":"'National Shipments'!S50/'National Shipments'!S$55","v":0},{"$f":"'National Shipments'!T50/'National Shipments'!T$55","v":0},{"$f":"'National Shipments'!U50/'National Shipments'!U$55","v":0},{"$f":"'National Shipments'!V50/'National Shipments'!V$55","v":0},{"$f":"'National Shipments'!W50/'National Shipments'!W$55","v":0},{"$f":"'National Shipments'!X50/'National Shipments'!X$55","v":0},{"$f":"'National Shipments'!Y50/'National Shipments'!Y$55","v":0},{"$f":"'National Shipments'!Z50/'National Shipments'!Z$55","v":0},{"$f":"'National Shipments'!AA50/'National Shipments'!AA$55","v":0},{"$f":"'National Shipments'!AB50/'National Shipments'!AB$55","v":0},{"$f":"'National Shipments'!AC50/'National Shipments'!AC$55","v":0},{"$f":"'National Shipments'!AD50/'National Shipments'!AD$55","v":0},{"$f":"'National Shipments'!AE50/'National Shipments'!AE$55","v":0}]
[null,null,null,"EL2",10.7,null,0.58299999999999996,0.58299999999999996,0.58299999999999996,0.58299999999999996,0.58299999999999996,0.58299999999999996,0.58299999999999996,0.58299999999999996,0.58299999999999996,0.58299999999999996,0.58299999999999996,0.58299999999999996,0.58299999999999996,0.58299999999999996,0.58299999999999996,0.58299999999999996,0.58299999999999996,0.58299999999999996,0.58299999999999996,0.58299999999999996,0.58299999999999996,0.58299999999999996,0.58299999999999996,0.58299999999999996,0.58299999999999996,0.58299999999999996,0.58299999999999996,0.58299999999999996,{"$f":"'National Shipments'!F51/'National Shipments'!F$55","v":0.58299999999999996},{"$f":"'National Shipments'!G51/'National Shipments'!G$55","v":0.58299999999999996},{"$f":"'National Shipments'!H51/'National Shipments'!H$55","v":0.58300000000000007},{"$f":"'National Shipments'!I51/'National Shipments'!I$55","v":0.58299999999999996},{"$f":"'National Shipments'!J51/'National Shipments'!J$55","v":0.58299999999999996},{"$f":"'National Shipments'!K51/'National Shipments'!K$55","v":0},{"$f":"'National Shipments'!L51/'National Shipments'!L$55","v":0},{"$f":"'National Shipments'!M51/'National Shipments'!M$55","v":0},{"$f":"'National Shipments'!N51/'National Shipments'!N$55","v":0},{"$f":"'National Shipments'!O51/'National Shipments'!O$55","v":0},{"$f":"'National Shipments'!P51/'National Shipments'!P$55","v":0},{"$f":"'National Shipments'!Q51/'National Shipments'!Q$55","v":0},{"$f":"'National Shipments'!R51/'National Shipments'!R$55","v":0},{"$f":"'National Shipments'!S51/'National Shipments'!S$55","v":0},{"$f":"'National Shipments'!T51/'National Shipments'!T$55","v":0},{"$f":"'National Shipments'!U51/'National Shipments'!U$55","v":0},{"$f":"'National Shipments'!V51/'National Shipments'!V$55","v":0},{"$f":"'National Shipments'!W51/'National Shipments'!W$55","v":0},{"$f":"'National Shipments'!X51/'National Shipments'!X$55","v":0},{"$f":"'National Shipments'!Y51/'National Shipments'!Y$55","v":0},{"$f":"'National Shipments'!Z51/'National Shipments'!Z$55","v":0},{"$f":"'National Shipments'!AA51/'National Shipments'!AA$55","v":0},{"$f":"'National Shipments'!AB51/'National Shipments'!AB$55","v":0},{"$f":"'National Shipments'!AC51/'National Shipments'!AC$55","v":0},{"$f":"'National Shipments'!AD51/'National Shipments'!AD$55","v":0},{"$f":"'National Shipments'!AE51/'National Shipments'!AE$55","v":0}]
[null,null,null,"EL3",10.9,null,1.4200000000000003E-2,1.4200000000000003E-2,1.4200000000000003E-2,1.4200000000000003E-2,1.4200000000000003E-2,1.4200000000000003E-2,1.4200000000000003E-2,1.4200000000000003E-2,1.4200000000000003E-2,1.4200000000000003E-2,1.4200000000000003E-2,1.4200000000000003E-2,1.4200000000000003E-2,1.4200000000000003E-2,1.4200000000000003E-2,1.4200000000000003E-2,1.4200000000000003E-2,1.4200000000000003E-2,1.4200000000000003E-2,1.4200000000000003E-2,1.4200000000000003E-2,1.4200000000000003E-2,1.4200000000000003E-2,1.4200000000000003E-2,1.4200000000000003E-2,1.4200000000000003E-2,1.4200000000000003E-2,1.4200000000000003E-2,{"$f":"'National Shipments'!F52/'National Shipments'!F$55","v":1.4200000000000003E-2},{"$f":"'National Shipments'!G52/'National Shipments'!G$55","v":1.4199999999999999E-2},{"$f":"'National Shipments'!H52/'National Shipments'!H$55","v":1.4200000000000001E-2},{"$f":"'National Shipments'!I52/'National Shipments'!I$55","v":1.4199999999999999E-2},{"$f":"'National Shipments'!J52/'National Shipments'!J$55","v":1.4199999999999999E-2},{"$f":"'National Shipments'!K52/'National Shipments'!K$55","v":0.99230000000000007},{"$f":"'National Shipments'!L52/'National Shipments'!L$55","v":0.97332291113467539},{"$f":"'National Shipments'!M52/'National Shipments'!M$55","v":0.96350797460086846},{"$f":"'National Shipments'!N52/'National Shipments'!N$55","v":0.95366850072572429},{"$f":"'National Shipments'!O52/'National Shipments'!O$55","v":0.94380442816589571},{"$f":"'National Shipments'!P52/'National Shipments'!P$55","v":0.93391569542466357},{"$f":"'National Shipments'!Q52/'National Shipments'!Q$55","v":0.92400224085158034},{"$f":"'National Shipments'!R52/'National Shipments'!R$55","v":0.91406400264206766},{"$f":"'National Shipments'!S52/'National Shipments'!S$55","v":0.89801636259020856},{"$f":"'National Shipments'!T52/'National Shipments'!T$55","v":0.87918063483654196},{"$f":"'National Shipments'!U52/'National Shipments'!U$55","v":0.86029781776348757},{"$f":"'National Shipments'!V52/'National Shipments'!V$55","v":0.84136779364775682},{"$f":"'National Shipments'!W52/'National Shipments'!W$55","v":0.82239044447173204},{"$f":"'National Shipments'!X52/'National Shipments'!X$55","v":0.80336565192277054},{"$f":"'National Shipments'!Y52/'National Shipments'!Y$55","v":0.78429329739243692},{"$f":"'National Shipments'!Z52/'National Shipments'!Z$55","v":0.76493667324402381},{"$f":"'National Shipments'!AA52/'National Shipments'!AA$55","v":0.74475442906194689},{"$f":"'National Shipments'!AB52/'National Shipments'!AB$55","v":0.72452172926942027},{"$f":"'National Shipments'!AC52/'National Shipments'!AC$55","v":0.70423844772741051},{"$f":"'National Shipments'!AD52/'National Shipments'!AD$55","v":0.68390445798154254},{"$f":"'National Shipments'!AE52/'National Shipments'!AE$55","v":0.66351963326131169}]
[null,null,null,"EL4",11.5,null,3.1000000000000008E-3,3.1000000000000008E-3,3.1000000000000008E-3,3.1000000000000008E-3,3.1000000000000008E-3,3.1000000000000008E-3,3.1000000000000008E-3,3.1000000000000008E-3,3.1000000000000008E-3,3.1000000000000008E-3,3.1000000000000008E-3,3.1000000000000008E-3,3.1000000000000008E-3,3.1000000000000008E-3,3.1000000000000008E-3,3.1000000000000008E-3,3.1000000000000008E-3,3.1000000000000008E-3,3.1000000000000008E-3,3.1000000000000008E-3,3.1000000000000008E-3,3.1000000000000008E-3,3.1000000000000008E-3,3.1000000000000008E-3,3.1000000000000008E-3,3.1000000000000008E-3,3.1000000000000008E-3,3.1000000000000008E-3,{"$f":"'National Shipments'!F53/'National Shipments'!F$55","v":3.1000000000000008E-3},{"$f":"'National Shipments'!G53/'National Shipments'!G$55","v":3.1000000000000003E-3},{"$f":"'National Shipments'!H53/'National Shipments'!H$55","v":3.1000000000000003E-3},{"$f":"'National Shipments'!I53/'National Shipments'!I$55","v":3.1000000000000003E-3},{"$f":"'National Shipments'!J53/'National Shipments'!J$55","v":3.1000000000000003E-3},{"$f":"'National Shipments'!K53/'National Shipments'!K$55","v":3.1000000000000012E-3},{"$f":"'National Shipments'!L53/'National Shipments'!L$55","v":2.2077088865324695E-2},{"$f":"'National Shipments'!M53/'National Shipments'!M$55","v":3.1892025399131586E-2},{"$f":"'National Shipments'!N53/'National Shipments'!N$55","v":4.1731499274275823E-2},{"$f":"'National Shipments'!O53/'National Shipments'!O$55","v":5.1595571834104299E-2},{"$f":"'National Shipments'!P53/'National Shipments'!P$55","v":6.1484304575336463E-2},{"$f":"'National Shipments'!Q53/'National Shipments'!Q$55","v":7.1397759148419823E-2},{"$f":"'National Shipments'!R53/'National Shipments'!R$55","v":8.1335997357932316E-2},{"$f":"'National Shipments'!S53/'National Shipments'!S$55","v":9.7383637409791529E-2},{"$f":"'National Shipments'!T53/'National Shipments'!T$55","v":0.11621936516345786},{"$f":"'National Shipments'!U53/'National Shipments'!U$55","v":0.13510218223651244},{"$f":"'National Shipments'!V53/'National Shipments'!V$55","v":0.15403220635224329},{"$f":"'National Shipments'!W53/'National Shipments'!W$55","v":0.17300955552826802},{"$f":"'National Shipments'!X53/'National Shipments'!X$55","v":0.19203434807722958},{"$f":"'National Shipments'!Y53/'National Shipments'!Y$55","v":0.21110670260756309},{"$f":"'National Shipments'!Z53/'National Shipments'!Z$55","v":0.23046332675597617},{"$f":"'National Shipments'!AA53/'National Shipments'!AA$55","v":0.25064557093805301},{"$f":"'National Shipments'!AB53/'National Shipments'!AB$55","v":0.27087827073057974},{"$f":"'National Shipments'!AC53/'National Shipments'!AC$55","v":0.29116155227258955},{"$f":"'National Shipments'!AD53/'National Shipments'!AD$55","v":0.31149554201845758},{"$f":"'National Shipments'!AE53/'National Shipments'!AE$55","v":0.33188036673868826}]
[null,null,null,"EL5",11.961997496471479,null,4.6000000000000008E-3,4.6000000000000008E-3,4.6000000000000008E-3,4.6000000000000008E-3,4.6000000000000008E-3,4.6000000000000008E-3,4.6000000000000008E-3,4.6000000000000008E-3,4.6000000000000008E-3,4.6000000000000008E-3,4.6000000000000008E-3,4.6000000000000008E-3,4.6000000000000008E-3,4.6000000000000008E-3,4.6000000000000008E-3,4.6000000000000008E-3,4.6000000000000008E-3,4.6000000000000008E-3,4.6000000000000008E-3,4.6000000000000008E-3,4.6000000000000008E-3,4.6000000000000008E-3,4.6000000000000008E-3,4.6000000000000008E-3,4.6000000000000008E-3,4.6000000000000008E-3,4.6000000000000008E-3,4.6000000000000008E-3,{"$f":"'National Shipments'!F54/'National Shipments'!F$55","v":4.6000000000000008E-3},{"$f":"'National Shipments'!G54/'National Shipments'!G$55","v":4.5999999999999999E-3},{"$f":"'National Shipments'!H54/'National Shipments'!H$55","v":4.6000000000000008E-3},{"$f":"'National Shipments'!I54/'National Shipments'!I$55","v":4.5999999999999999E-3},{"$f":"'National Shipments'!J54/'National Shipments'!J$55","v":4.5999999999999999E-3},{"$f":"'National Shipments'!K54/'National Shipments'!K$55","v":4.6000000000000008E-3},{"$f":"'National Shipments'!L54/'National Shipments'!L$55","v":4.5999999999999999E-3},{"$f":"'National Shipments'!M54/'National Shipments'!M$55","v":4.5999999999999999E-3},{"$f":"'National Shipments'!N54/'National Shipments'!N$55","v":4.6000000000000008E-3},{"$f":"'National Shipments'!O54/'National Shipments'!O$55","v":4.6000000000000008E-3},{"$f":"'National Shipments'!P54/'National Shipments'!P$55","v":4.5999999999999999E-3},{"$f":"'National Shipments'!Q54/'National Shipments'!Q$55","v":4.6000000000000008E-3},{"$f":"'National Shipments'!R54/'National Shipments'!R$55","v":4.6000000000000008E-3},{"$f":"'National Shipments'!S54/'National Shipments'!S$55","v":4.6000000000000008E-3},{"$f":"'National Shipments'!T54/'National Shipments'!T$55","v":4.5999999999999999E-3},{"$f":"'National Shipments'!U54/'National Shipments'!U$55","v":4.5999999999999999E-3},{"$f":"'National Shipments'!V54/'National Shipments'!V$55","v":4.5999999999999999E-3},{"$f":"'National Shipments'!W54/'National Shipments'!W$55","v":4.6000000000000008E-3},{"$f":"'National Shipments'!X54/'National Shipments'!X$55","v":4.6000000000000008E-3},{"$f":"'National Shipments'!Y54/'National Shipments'!Y$55","v":4.5999999999999999E-3},{"$f":"'National Shipments'!Z54/'National Shipments'!Z$55","v":4.5999999999999999E-3},{"$f":"'National Shipments'!AA54/'National Shipments'!AA$55","v":4.5999999999999999E-3},{"$f":"'National Shipments'!AB54/'National Shipments'!AB$55","v":4.5999999999999999E-3},{"$f":"'National Shipments'!AC54/'National Shipments'!AC$55","v":4.5999999999999999E-3},{"$f":"'National Shipments'!AD54/'National Shipments'!AD$55","v":4.6000000000000017E-3},{"$f":"'National Shipments'!AE54/'National Shipments'!AE$55","v":4.5999999999999999E-3}]
[null,null,null,"TOTAL",null,null,1,1,1,1,1,1,1,1,1,1,1,1,1,1,1,1,1,1,1,1,1,1,1,1,1,1,1,1,{"$f":"'National Shipments'!F55/'National Shipments'!F$55","v":1},{"$f":"'National Shipments'!G55/'National Shipments'!G$55","v":1},{"$f":"'National Shipments'!H55/'National Shipments'!H$55","v":1},{"$f":"'National Shipments'!I55/'National Shipments'!I$55","v":1},{"$f":"'National Shipments'!J55/'National Shipments'!J$55","v":1},{"$f":"'National Shipments'!K55/'National Shipments'!K$55","v":1},{"$f":"'National Shipments'!L55/'National Shipments'!L$55","v":1},{"$f":"'National Shipments'!M55/'National Shipments'!M$55","v":1},{"$f":"'National Shipments'!N55/'National Shipments'!N$55","v":1},{"$f":"'National Shipments'!O55/'National Shipments'!O$55","v":1},{"$f":"'National Shipments'!P55/'National Shipments'!P$55","v":1},{"$f":"'National Shipments'!Q55/'National Shipments'!Q$55","v":1},{"$f":"'National Shipments'!R55/'National Shipments'!R$55","v":1},{"$f":"'National Shipments'!S55/'National Shipments'!S$55","v":1},{"$f":"'National Shipments'!T55/'National Shipments'!T$55","v":1},{"$f":"'National Shipments'!U55/'National Shipments'!U$55","v":1},{"$f":"'National Shipments'!V55/'National Shipments'!V$55","v":1},{"$f":"'National Shipments'!W55/'National Shipments'!W$55","v":1},{"$f":"'National Shipments'!X55/'National Shipments'!X$55","v":1},{"$f":"'National Shipments'!Y55/'National Shipments'!Y$55","v":1},{"$f":"'National Shipments'!Z55/'National Shipments'!Z$55","v":1},{"$f":"'National Shipments'!AA55/'National Shipments'!AA$55","v":1},{"$f":"'National Shipments'!AB55/'National Shipments'!AB$55","v":1},{"$f":"'National Shipments'!AC55/'National Shipments'!AC$55","v":1},{"$f":"'National Shipments'!AD55/'National Shipments'!AD$55","v":1},{"$f":"'National Shipments'!AE55/'National Shipments'!AE$55","v":1}]
[]
[null,null,null,"Sources","2011 DOE Residential Room Air Conditioners Direct Final Rule Government Regulatory Impact Model 'Product Shipments (CALC)' tab."]
[]
[]
[]
[null,null,null,"PC3  Without reverse cycle, with louvered sides, and 20,000 to 24,999 Btu/h"]
[]
[null,null,null,"PRE-Case"]
[null,null,null,"Efficiency Level","CEER",null,1981,1982,1983,1984,1985,1986,1987,1988,1989,1990,1991,1992,1993,1994,1995,1996,1997,1998,1999,2000,2001,2002,2003,2004,2005,2006,2007,2008,2009,2010,2011,2012,2013,2014,2015,2016,2017,2018,2019,2020,2021,2022,2023,2024,2025,2026,2027,2028,2029,2030,2031,2032,2033,2034]
[null,null,null,"EL0",{"$f":"INDEX(EFFICIENCY_LEVELS,RIGHT(D65,1)+1,MID($D$61,3,1))","v":8.4713534124895506},null,{"$f":"H65","v":0.1321},0.1321,0.1321,0.1321,0.1321,0.1321,0.1321,0.1321,0.1321,0.1321,0.1321,0.1321,0.1321,0.1321,0.1321,0.1321,{"$f":"X65","v":0.1321},0.1321,0.1321,0.1321,0.1321,0.1321,0.1321,0.1321,0.1321,0.1321,0.1321,{"$f":"AI65","v":0.1321},{"$f":"'National Shipments'!F65/'National Shipments'!F$70","v":0.1321},{"$f":"'National Shipments'!G65/'National Shipments'!G$70","v":0.1321},{"$f":"'National Shipments'!H65/'National Shipments'!H$70","v":0.13209999999999997},{"$f":"'National Shipments'!I65/'National Shipments'!I$70","v":0.1321},{"$f":"'National Shipments'!J65/'National Shipments'!J$70","v":0.1321},{"$f":"'National Shipments'!K65/'National Shipments'!K$70","v":0.1321},{"$f":"'National Shipments'!L65/'National Shipments'!L$70","v":8.8144104128980341E-2},{"$f":"'National Shipments'!M65/'National Shipments'!M$70","v":4.4078318518284497E-2},{"$f":"'National Shipments'!N65/'National Shipments'!N$70","v":0},{"$f":"'National Shipments'!O65/'National Shipments'!O$70","v":0},{"$f":"'National Shipments'!P65/'National Shipments'!P$70","v":0},{"$f":"'National Shipments'!Q65/'National Shipments'!Q$70","v":0},{"$f":"'National Shipments'!R65/'National Shipments'!R$70","v":0},{"$f":"'National Shipments'!S65/'National Shipments'!S$70","v":0},{"$f":"'National Shipments'!T65/'National Shipments'!T$70","v":0},{"$f":"'National Shipments'!U65/'National Shipments'!U$70","v":0},{"$f":"'National Shipments'!V65/'National Shipments'!V$70","v":0},{"$f":"'National Shipments'!W65/'National Shipments'!W$70","v":0},{"$f":"'National Shipments'!X65/'National Shipments'!X$70","v":0},{"$f":"'National Shipments'!Y65/'National Shipments'!Y$70","v":0},{"$f":"'National Shipments'!Z65/'National Shipments'!Z$70","v":0},{"$f":"'National Shipments'!AA65/'National Shipments'!AA$70","v":0},{"$f":"'National Shipments'!AB65/'National Shipments'!AB$70","v":0},{"$f":"'National Shipments'!AC65/'National Shipments'!AC$70","v":0},{"$f":"'National Shipments'!AD65/'National Shipments'!AD$70","v":0},{"$f":"'National Shipments'!AE65/'National Shipments'!AE$70","v":0}]
[null,null,null,"EL1",{"$f":"INDEX(EFFICIENCY_LEVELS,RIGHT(D66,1)+1,MID($D$61,3,1))","v":9},null,1.5000000000000015E-2,1.5000000000000015E-2,1.5000000000000015E-2,1.5000000000000015E-2,1.5000000000000015E-2,1.5000000000000015E-2,1.5000000000000015E-2,1.5000000000000015E-2,1.5000000000000015E-2,1.5000000000000015E-2,1.5000000000000015E-2,1.5000000000000015E-2,1.5000000000000015E-2,1.5000000000000015E-2,1.5000000000000015E-2,1.5000000000000015E-2,1.5000000000000015E-2,1.5000000000000015E-2,1.5000000000000015E-2,1.5000000000000015E-2,1.5000000000000015E-2,1.5000000000000015E-2,1.5000000000000015E-2,1.5000000000000015E-2,1.5000000000000015E-2,1.5000000000000015E-2,1.5000000000000015E-2,1.5000000000000015E-2,{"$f":"'National Shipments'!F66/'National Shipments'!F$70","v":1.5000000000000015E-2},{"$f":"'National Shipments'!G66/'National Shipments'!G$70","v":1.5000000000000015E-2},{"$f":"'National Shipments'!H66/'National Shipments'!H$70","v":1.5000000000000008E-2},{"$f":"'National Shipments'!I66/'National Shipments'!I$70","v":1.5000000000000012E-2},{"$f":"'National Shipments'!J66/'National Shipments'!J$70","v":1.5000000000000017E-2},{"$f":"'National Shipments'!K66/'National Shipments'!K$70","v":1.5000000000000013E-2},{"$f":"'National Shipments'!L66/'National Shipments'!L$70","v":5.8955895871019688E-2},{"$f":"'National Shipments'!M66/'National Shipments'!M$70","v":0.10302168148171549},{"$f":"'National Shipments'!N66/'National Shipments'!N$70","v":0.14697096852714253},{"$f":"'National Shipments'!O66/'National Shipments'!O$70","v":8.8441346226702008E-2},{"$f":"'National Shipments'!P66/'National Shipments'!P$70","v":2.9765399870509524E-2},{"$f":"'National Shipments'!Q66/'National Shipments'!Q$70","v":0},{"$f":"'National Shipments'!R66/'National Shipments'!R$70","v":0},{"$f":"'National Shipments'!S66/'National Shipments'!S$70","v":0},{"$f":"'National Shipments'!T66/'National Shipments'!T$70","v":0},{"$f":"'National Shipments'!U66/'National Shipments'!U$70","v":0},{"$f":"'National Shipments'!V66/'National Shipments'!V$70","v":0},{"$f":"'National Shipments'!W66/'National Shipments'!W$70","v":0},{"$f":"'National Shipments'!X66/'National Shipments'!X$70","v":0},{"$f":"'National Shipments'!Y66/'National Shipments'!Y$70","v":0},{"$f":"'National Shipments'!Z66/'National Shipments'!Z$70","v":0},{"$f":"'National Shipments'!AA66/'National Shipments'!AA$70","v":0},{"$f":"'National Shipments'!AB66/'National Shipments'!AB$70","v":0},{"$f":"'National Shipments'!AC66/'National Shipments'!AC$70","v":0},{"$f":"'National Shipments'!AD66/'National Shipments'!AD$70","v":0},{"$f":"'National Shipments'!AE66/'National Shipments'!AE$70","v":0}]
[null,null,null,"EL2",{"$f":"INDEX(EFFICIENCY_LEVELS,RIGHT(D67,1)+1,MID($D$61,3,1))","v":9.4},null,0.81259999999999999,0.81259999999999999,0.81259999999999999,0.81259999999999999,0.81259999999999999,0.81259999999999999,0.81259999999999999,0.81259999999999999,0.81259999999999999,0.81259999999999999,0.81259999999999999,0.81259999999999999,0.81259999999999999,0.81259999999999999,0.81259999999999999,0.81259999999999999,0.81259999999999999,0.81259999999999999,0.81259999999999999,0.81259999999999999,0.81259999999999999,0.81259999999999999,0.81259999999999999,0.81259999999999999,0.81259999999999999,0.81259999999999999,0.81259999999999999,0.81259999999999999,{"$f":"'National Shipments'!F67/'National Shipments'!F$70","v":0.81259999999999999},{"$f":"'National Shipments'!G67/'National Shipments'!G$70","v":0.8126000000000001},{"$f":"'National Shipments'!H67/'National Shipments'!H$70","v":0.81259999999999988},{"$f":"'National Shipments'!I67/'National Shipments'!I$70","v":0.81259999999999999},{"$f":"'National Shipments'!J67/'National Shipments'!J$70","v":0.81259999999999999},{"$f":"'National Shipments'!K67/'National Shipments'!K$70","v":0.81259999999999999},{"$f":"'National Shipments'!L67/'National Shipments'!L$70","v":0.81259999999999999},{"$f":"'National Shipments'!M67/'National Shipments'!M$70","v":0.81259999999999999},{"$f":"'National Shipments'!N67/'National Shipments'!N$70","v":0.81272903147285736},{"$f":"'National Shipments'!O67/'National Shipments'!O$70","v":0.87125865377329792},{"$f":"'National Shipments'!P67/'National Shipments'!P$70","v":0.92993460012949059},{"$f":"'National Shipments'!Q67/'National Shipments'!Q$70","v":0.93064276364842713},{"$f":"'National Shipments'!R67/'National Shipments'!R$70","v":0.87167307083579137},{"$f":"'National Shipments'!S67/'National Shipments'!S$70","v":0.81255595379111989},{"$f":"'National Shipments'!T67/'National Shipments'!T$70","v":0.75329104395384017},{"$f":"'National Shipments'!U67/'National Shipments'!U$70","v":0.69387797184196431},{"$f":"'National Shipments'!V67/'National Shipments'!V$70","v":0.63431636704980887},{"$f":"'National Shipments'!W67/'National Shipments'!W$70","v":0.57460585824567512},{"$f":"'National Shipments'!X67/'National Shipments'!X$70","v":0.51474607316953125},{"$f":"'National Shipments'!Y67/'National Shipments'!Y$70","v":0.45473663863069436},{"$f":"'National Shipments'!Z67/'National Shipments'!Z$70","v":0.3945771805055126},{"$f":"'National Shipments'!AA67/'National Shipments'!AA$70","v":0.33426732373501522},{"$f":"'National Shipments'!AB67/'National Shipments'!AB$70","v":0.27380669232259519},{"$f":"'National Shipments'!AC67/'National Shipments'!AC$70","v":0.21319490933164162},{"$f":"'National Shipments'!AD67/'National Shipments'!AD$70","v":0.15243159688321306},{"$f":"'National Shipments'!AE67/'National Shipments'!AE$70","v":9.1516376153661594E-2}]
[null,null,null,"EL3",{"$f":"INDEX(EFFICIENCY_LEVELS,RIGHT(D68,1)+1,MID($D$61,3,1))","v":9.8000000000000007},null,1.9400000000000004E-2,1.9400000000000004E-2,1.9400000000000004E-2,1.9400000000000004E-2,1.9400000000000004E-2,1.9400000000000004E-2,1.9400000000000004E-2,1.9400000000000004E-2,1.9400000000000004E-2,1.9400000000000004E-2,1.9400000000000004E-2,1.9400000000000004E-2,1.9400000000000004E-2,1.9400000000000004E-2,1.9400000000000004E-2,1.9400000000000004E-2,1.9400000000000004E-2,1.9400000000000004E-2,1.9400000000000004E-2,1.9400000000000004E-2,1.9400000000000004E-2,1.9400000000000004E-2,1.9400000000000004E-2,1.9400000000000004E-2,1.9400000000000004E-2,1.9400000000000004E-2,1.9400000000000004E-2,1.9400000000000004E-2,{"$f":"'National Shipments'!F68/'National Shipments'!F$70","v":1.9400000000000004E-2},{"$f":"'National Shipments'!G68/'National Shipments'!G$70","v":1.9400000000000008E-2},{"$f":"'National Shipments'!H68/'National Shipments'!H$70","v":1.9400000000000001E-2},{"$f":"'National Shipments'!I68/'National Shipments'!I$70","v":1.9400000000000004E-2},{"$f":"'National Shipments'!J68/'National Shipments'!J$70","v":1.9400000000000008E-2},{"$f":"'National Shipments'!K68/'National Shipments'!K$70","v":1.9400000000000004E-2},{"$f":"'National Shipments'!L68/'National Shipments'!L$70","v":1.9400000000000004E-2},{"$f":"'National Shipments'!M68/'National Shipments'!M$70","v":1.9400000000000001E-2},{"$f":"'National Shipments'!N68/'National Shipments'!N$70","v":1.9400000000000001E-2},{"$f":"'National Shipments'!O68/'National Shipments'!O$70","v":1.9400000000000004E-2},{"$f":"'National Shipments'!P68/'National Shipments'!P$70","v":1.9400000000000008E-2},{"$f":"'National Shipments'!Q68/'National Shipments'!Q$70","v":4.8457236351572848E-2},{"$f":"'National Shipments'!R68/'National Shipments'!R$70","v":0.10742692916420872},{"$f":"'National Shipments'!S68/'National Shipments'!S$70","v":0.16654404620888008},{"$f":"'National Shipments'!T68/'National Shipments'!T$70","v":0.22580895604615989},{"$f":"'National Shipments'!U68/'National Shipments'!U$70","v":0.28522202815803566},{"$f":"'National Shipments'!V68/'National Shipments'!V$70","v":0.3447836329501911},{"$f":"'National Shipments'!W68/'National Shipments'!W$70","v":0.40449414175432497},{"$f":"'National Shipments'!X68/'National Shipments'!X$70","v":0.46435392683046872},{"$f":"'National Shipments'!Y68/'National Shipments'!Y$70","v":0.52436336136930572},{"$f":"'National Shipments'!Z68/'National Shipments'!Z$70","v":0.58452281949448748},{"$f":"'National Shipments'!AA68/'National Shipments'!AA$70","v":0.64483267626498486},{"$f":"'National Shipments'!AB68/'National Shipments'!AB$70","v":0.70529330767740495},{"$f":"'National Shipments'!AC68/'National Shipments'!AC$70","v":0.76590509066835821},{"$f":"'National Shipments'!AD68/'National Shipments'!AD$70","v":0.82666840311678691},{"$f":"'National Shipments'!AE68/'National Shipments'!AE$70","v":0.88758362384633838}]
[null,null,null,"EL4",{"$f":"INDEX(EFFICIENCY_LEVELS,RIGHT(D69,1)+1,MID($D$61,3,1))","v":10.154447630701553},null,2.0900000000000002E-2,2.0900000000000002E-2,2.0900000000000002E-2,2.0900000000000002E-2,2.0900000000000002E-2,2.0900000000000002E-2,2.0900000000000002E-2,2.0900000000000002E-2,2.0900000000000002E-2,2.0900000000000002E-2,2.0900000000000002E-2,2.0900000000000002E-2,2.0900000000000002E-2,2.0900000000000002E-2,2.0900000000000002E-2,2.0900000000000002E-2,2.0900000000000002E-2,2.0900000000000002E-2,2.0900000000000002E-2,2.0900000000000002E-2,2.0900000000000002E-2,2.0900000000000002E-2,2.0900000000000002E-2,2.0900000000000002E-2,2.0900000000000002E-2,2.0900000000000002E-2,2.0900000000000002E-2,2.0900000000000002E-2,{"$f":"'National Shipments'!F69/'National Shipments'!F$70","v":2.0900000000000002E-2},{"$f":"'National Shipments'!G69/'National Shipments'!G$70","v":2.0899999999999998E-2},{"$f":"'National Shipments'!H69/'National Shipments'!H$70","v":2.0899999999999995E-2},{"$f":"'National Shipments'!I69/'National Shipments'!I$70","v":2.0899999999999998E-2},{"$f":"'National Shipments'!J69/'National Shipments'!J$70","v":2.0899999999999998E-2},{"$f":"'National Shipments'!K69/'National Shipments'!K$70","v":2.0900000000000002E-2},{"$f":"'National Shipments'!L69/'National Shipments'!L$70","v":2.0899999999999998E-2},{"$f":"'National Shipments'!M69/'National Shipments'!M$70","v":2.0899999999999995E-2},{"$f":"'National Shipments'!N69/'National Shipments'!N$70","v":2.0899999999999995E-2},{"$f":"'National Shipments'!O69/'National Shipments'!O$70","v":2.0899999999999995E-2},{"$f":"'National Shipments'!P69/'National Shipments'!P$70","v":2.0899999999999998E-2},{"$f":"'National Shipments'!Q69/'National Shipments'!Q$70","v":2.0899999999999998E-2},{"$f":"'National Shipments'!R69/'National Shipments'!R$70","v":2.0900000000000002E-2},{"$f":"'National Shipments'!S69/'National Shipments'!S$70","v":2.0900000000000002E-2},{"$f":"'National Shipments'!T69/'National Shipments'!T$70","v":2.0899999999999998E-2},{"$f":"'National Shipments'!U69/'National Shipments'!U$70","v":2.0899999999999995E-2},{"$f":"'National Shipments'!V69/'National Shipments'!V$70","v":2.0900000000000002E-2},{"$f":"'National Shipments'!W69/'National Shipments'!W$70","v":2.0900000000000002E-2},{"$f":"'National Shipments'!X69/'National Shipments'!X$70","v":2.0899999999999998E-2},{"$f":"'National Shipments'!Y69/'National Shipments'!Y$70","v":2.0899999999999998E-2},{"$f":"'National Shipments'!Z69/'National Shipments'!Z$70","v":2.0900000000000002E-2},{"$f":"'National Shipments'!AA69/'National Shipments'!AA$70","v":2.0899999999999998E-2},{"$f":"'National Shipments'!AB69/'National Shipments'!AB$70","v":2.0900000000000002E-2},{"$f":"'National Shipments'!AC69/'National Shipments'!AC$70","v":2.0899999999999998E-2},{"$f":"'National Shipments'!AD69/'National Shipments'!AD$70","v":2.0899999999999998E-2},{"$f":"'National Shipments'!AE69/'National Shipments'!AE$70","v":2.0899999999999998E-2}]
[null,null,null,"TOTAL",null,null,1,1,1,1,1,1,1,1,1,1,1,1,1,1,1,1,1,1,1,1,1,1,1,1,1,1,1,1,{"$f":"'National Shipments'!F70/'National Shipments'!F$70","v":1},{"$f":"'National Shipments'!G70/'National Shipments'!G$70","v":1},{"$f":"'National Shipments'!H70/'National Shipments'!H$70","v":1},{"$f":"'National Shipments'!I70/'National Shipments'!I$70","v":1},{"$f":"'National Shipments'!J70/'National Shipments'!J$70","v":1},{"$f":"'National Shipments'!K70/'National Shipments'!K$70","v":1},{"$f":"'National Shipments'!L70/'National Shipments'!L$70","v":1},{"$f":"'National Shipments'!M70/'National Shipments'!M$70","v":1},{"$f":"'National Shipments'!N70/'National Shipments'!N$70","v":1},{"$f":"'National Shipments'!O70/'National Shipments'!O$70","v":1},{"$f":"'National Shipments'!P70/'National Shipments'!P$70","v":1},{"$f":"'National Shipments'!Q70/'National Shipments'!Q$70","v":1},{"$f":"'National Shipments'!R70/'National Shipments'!R$70","v":1},{"$f":"'National Shipments'!S70/'National Shipments'!S$70","v":1},{"$f":"'National Shipments'!T70/'National Shipments'!T$70","v":1},{"$f":"'National Shipments'!U70/'National Shipments'!U$70","v":1},{"$f":"'National Shipments'!V70/'National Shipments'!V$70","v":1},{"$f":"'National Shipments'!W70/'National Shipments'!W$70","v":1},{"$f":"'National Shipments'!X70/'National Shipments'!X$70","v":1},{"$f":"'National Shipments'!Y70/'National Shipments'!Y$70","v":1},{"$f":"'National Shipments'!Z70/'National Shipments'!Z$70","v":1},{"$f":"'National Shipments'!AA70/'National Shipments'!AA$70","v":1},{"$f":"'National Shipments'!AB70/'National Shipments'!AB$70","v":1},{"$f":"'National Shipments'!AC70/'National Shipments'!AC$70","v":1},{"$f":"'National Shipments'!AD70/'National Shipments'!AD$70","v":1},{"$f":"'National Shipments'!AE70/'National Shipments'!AE$70","v":1}]
[]
[null,null,null,"POST-Case"]
[null,null,null,"Efficiency Level","CEER",null,1981,1982,1983,1984,1985,1986,1987,1988,1989,1990,1991,1992,1993,1994,1995,1996,1997,1998,1999,2000,2001,2002,2003,2004,2005,2006,2007,2008,2009,2010,2011,2012,2013,2014,2015,2016,2017,2018,2019,2020,2021,2022,2023,2024,2025,2026,2027,2028,2029,2030,2031,2032,2033,2034]
[null,null,null,{"$f":"D65","v":"EL0"},{"$f":"E65","v":8.4713534124895506},null,{"$f":"H74","v":0.1321},0.1321,0.1321,0.1321,0.1321,0.1321,0.1321,0.1321,0.1321,0.1321,0.1321,0.1321,0.1321,0.1321,0.1321,0.1321,{"$f":"X74","v":0.1321},0.1321,0.1321,0.1321,0.1321,0.1321,0.1321,0.1321,0.1321,0.1321,0.1321,{"$f":"AI74","v":0.1321},{"$f":"'National Shipments'!F74/'National Shipments'!F$79","v":0.1321},{"$f":"'National Shipments'!G74/'National Shipments'!G$79","v":0.1321},{"$f":"'National Shipments'!H74/'National Shipments'!H$79","v":0.13209999999999997},{"$f":"'National Shipments'!I74/'National Shipments'!I$79","v":0.1321},{"$f":"'National Shipments'!J74/'National Shipments'!J$79","v":0.1321},{"$f":"'National Shipments'!K74/'National Shipments'!K$79","v":0},{"$f":"'National Shipments'!L74/'National Shipments'!L$79","v":0},{"$f":"'National Shipments'!M74/'National Shipments'!M$79","v":0},{"$f":"'National Shipments'!N74/'National Shipments'!N$79","v":0},{"$f":"'National Shipments'!O74/'National Shipments'!O$79","v":0},{"$f":"'National Shipments'!P74/'National Shipments'!P$79","v":0},{"$f":"'National Shipments'!Q74/'National Shipments'!Q$79","v":0},{"$f":"'National Shipments'!R74/'National Shipments'!R$79","v":0},{"$f":"'National Shipments'!S74/'National Shipments'!S$79","v":0},{"$f":"'National Shipments'!T74/'National Shipments'!T$79","v":0},{"$f":"'National Shipments'!U74/'National Shipments'!U$79","v":0},{"$f":"'National Shipments'!V74/'National Shipments'!V$79","v":0},{"$f":"'National Shipments'!W74/'National Shipments'!W$79","v":0},{"$f":"'National Shipments'!X74/'National Shipments'!X$79","v":0},{"$f":"'National Shipments'!Y74/'National Shipments'!Y$79","v":0},{"$f":"'National Shipments'!Z74/'National Shipments'!Z$79","v":0},{"$f":"'National Shipments'!AA74/'National Shipments'!AA$79","v":0},{"$f":"'National Shipments'!AB74/'National Shipments'!AB$79","v":0},{"$f":"'National Shipments'!AC74/'National Shipments'!AC$79","v":0},{"$f":"'National Shipments'!AD74/'National Shipments'!AD$79","v":0},{"$f":"'National Shipments'!AE74/'National Shipments'!AE$79","v":0}]
[null,null,null,{"$f":"D66","v":"EL1"},9,null,1.5000000000000015E-2,1.5000000000000015E-2,1.5000000000000015E-2,1.5000000000000015E-2,1.5000000000000015E-2,1.5000000000000015E-2,1.5000000000000015E-2,1.5000000000000015E-2,1.5000000000000015E-2,1.5000000000000015E-2,1.5000000000000015E-2,1.5000000000000015E-2,1.5000000000000015E-2,1.5000000000000015E-2,1.5000000000000015E-2,1.5000000000000015E-2,1.5000000000000015E-2,1.5000000000000015E-2,1.5000000000000015E-2,1.5000000000000015E-2,1.5000000000000015E-2,1.5000000000000015E-2,1.5000000000000015E-2,1.5000000000000015E-2,1.5000000000000015E-2,1.5000000000000015E-2,1.5000000000000015E-2,1.5000000000000015E-2,{"$f":"'National Shipments'!F75/'National Shipments'!F$79","v":1.5000000000000015E-2},{"$f":"'National Shipments'!G75/'National Shipments'!G$79","v":1.5000000000000015E-2},{"$f":"'National Shipments'!H75/'National Shipments'!H$79","v":1.5000000000000008E-2},{"$f":"'National Shipments'!I75/'National Shipments'!I$79","v":1.5000000000000012E-2},{"$f":"'National Shipments'!J75/'National Shipments'!J$79","v":1.5000000000000017E-2},{"$f":"'National Shipments'!K75/'National Shipments'!K$79","v":0},{"$f":"'National Shipments'!L75/'National Shipments'!L$79","v":0},{"$f":"'National Shipments'!M75/'National Shipments'!M$79","v":0},{"$f":"'National Shipments'!N75/'National Shipments'!N$79","v":0},{"$f":"'National Shipments'!O75/'National Shipments'!O$79","v":0},{"$f":"'National Shipments'!P75/'National Shipments'!P$79","v":0},{"$f":"'National Shipments'!Q75/'National Shipments'!Q$79","v":0},{"$f":"'National Shipments'!R75/'National Shipments'!R$79","v":0},{"$f":"'National Shipments'!S75/'National Shipments'!S$79","v":0},{"$f":"'National Shipments'!T75/'National Shipments'!T$79","v":0},{"$f":"'National Shipments'!U75/'National Shipments'!U$79","v":0},{"$f":"'National Shipments'!V75/'National Shipments'!V$79","v":0},{"$f":"'National Shipments'!W75/'National Shipments'!W$79","v":0},{"$f":"'National Shipments'!X75/'National Shipments'!X$79","v":0},{"$f":"'National Shipments'!Y75/'National Shipments'!Y$79","v":0},{"$f":"'National Shipments'!Z75/'National Shipments'!Z$79","v":0},{"$f":"'National Shipments'!AA75/'National Shipments'!AA$79","v":0},{"$f":"'National Shipments'!AB75/'National Shipments'!AB$79","v":0},{"$f":"'National Shipments'!AC75/'National Shipments'!AC$79","v":0},{"$f":"'National Shipments'!AD75/'National Shipments'!AD$79","v":0},{"$f":"'National Shipments'!AE75/'National Shipments'!AE$79","v":0}]
[null,null,null,"EL2",9.4,null,0.81259999999999999,0.81259999999999999,0.81259999999999999,0.81259999999999999,0.81259999999999999,0.81259999999999999,0.81259999999999999,0.81259999999999999,0.81259999999999999,0.81259999999999999,0.81259999999999999,0.81259999999999999,0.81259999999999999,0.81259999999999999,0.81259999999999999,0.81259999999999999,0.81259999999999999,0.81259999999999999,0.81259999999999999,0.81259999999999999,0.81259999999999999,0.81259999999999999,0.81259999999999999,0.81259999999999999,0.81259999999999999,0.81259999999999999,0.81259999999999999,0.81259999999999999,{"$f":"'National Shipments'!F76/'National Shipments'!F$79","v":0.81259999999999999},{"$f":"'National Shipments'!G76/'National Shipments'!G$79","v":0.8126000000000001},{"$f":"'National Shipments'!H76/'National Shipments'!H$79","v":0.81259999999999988},{"$f":"'National Shipments'!I76/'National Shipments'!I$79","v":0.81259999999999999},{"$f":"'National Shipments'!J76/'National Shipments'!J$79","v":0.81259999999999999},{"$f":"'National Shipments'!K76/'National Shipments'!K$79","v":0.9597},{"$f":"'National Shipments'!L76/'National Shipments'!L$79","v":0.8592815380890283},{"$f":"'National Shipments'!M76/'National Shipments'!M$79","v":0.84480699539873372},{"$f":"'National Shipments'!N76/'National Shipments'!N$79","v":0.83028676852591332},{"$f":"'National Shipments'!O76/'National Shipments'!O$79","v":0.81143147922307779},{"$f":"'National Shipments'!P76/'National Shipments'!P$79","v":0.79252905169699284},{"$f":"'National Shipments'!Q76/'National Shipments'!Q$79","v":0.75388290628169796},{"$f":"'National Shipments'!R76/'National Shipments'!R$79","v":0.69491321346906598},{"$f":"'National Shipments'!S76/'National Shipments'!S$79","v":0.63579609642439072},{"$f":"'National Shipments'!T76/'National Shipments'!T$79","v":0.57653118658711078},{"$f":"'National Shipments'!U76/'National Shipments'!U$79","v":0.51711811447523526},{"$f":"'National Shipments'!V76/'National Shipments'!V$79","v":0.45755650968307982},{"$f":"'National Shipments'!W76/'National Shipments'!W$79","v":0.39784600087894584},{"$f":"'National Shipments'!X76/'National Shipments'!X$79","v":0.33798621580280197},{"$f":"'National Shipments'!Y76/'National Shipments'!Y$79","v":0.27797678126396513},{"$f":"'National Shipments'!Z76/'National Shipments'!Z$79","v":0.21781732313878388},{"$f":"'National Shipments'!AA76/'National Shipments'!AA$79","v":0.15750746636828597},{"$f":"'National Shipments'!AB76/'National Shipments'!AB$79","v":9.7046834955869923E-2},{"$f":"'National Shipments'!AC76/'National Shipments'!AC$79","v":3.6435051964912903E-2},{"$f":"'National Shipments'!AD76/'National Shipments'!AD$79","v":1.0926169256281967E-2},{"$f":"'National Shipments'!AE76/'National Shipments'!AE$79","v":1.3053151139556188E-4}]
[null,null,null,"EL3",9.8000000000000007,null,1.9400000000000004E-2,1.9400000000000004E-2,1.9400000000000004E-2,1.9400000000000004E-2,1.9400000000000004E-2,1.9400000000000004E-2,1.9400000000000004E-2,1.9400000000000004E-2,1.9400000000000004E-2,1.9400000000000004E-2,1.9400000000000004E-2,1.9400000000000004E-2,1.9400000000000004E-2,1.9400000000000004E-2,1.9400000000000004E-2,1.9400000000000004E-2,1.9400000000000004E-2,1.9400000000000004E-2,1.9400000000000004E-2,1.9400000000000004E-2,1.9400000000000004E-2,1.9400000000000004E-2,1.9400000000000004E-2,1.9400000000000004E-2,1.9400000000000004E-2,1.9400000000000004E-2,1.9400000000000004E-2,1.9400000000000004E-2,{"$f":"'National Shipments'!F77/'National Shipments'!F$79","v":1.9400000000000004E-2},{"$f":"'National Shipments'!G77/'National Shipments'!G$79","v":1.9400000000000008E-2},{"$f":"'National Shipments'!H77/'National Shipments'!H$79","v":1.9400000000000001E-2},{"$f":"'National Shipments'!I77/'National Shipments'!I$79","v":1.9400000000000004E-2},{"$f":"'National Shipments'!J77/'National Shipments'!J$79","v":1.9400000000000008E-2},{"$f":"'National Shipments'!K77/'National Shipments'!K$79","v":1.9400000000000001E-2},{"$f":"'National Shipments'!L77/'National Shipments'!L$79","v":0.11981846191097166},{"$f":"'National Shipments'!M77/'National Shipments'!M$79","v":0.13429300460126625},{"$f":"'National Shipments'!N77/'National Shipments'!N$79","v":0.14881323147408676},{"$f":"'National Shipments'!O77/'National Shipments'!O$79","v":0.1676685207769221},{"$f":"'National Shipments'!P77/'National Shipments'!P$79","v":0.18657094830300713},{"$f":"'National Shipments'!Q77/'National Shipments'!Q$79","v":0.22521709371830201},{"$f":"'National Shipments'!R77/'National Shipments'!R$79","v":0.28418678653093404},{"$f":"'National Shipments'!S77/'National Shipments'!S$79","v":0.34330390357560936},{"$f":"'National Shipments'!T77/'National Shipments'!T$79","v":0.40256881341288919},{"$f":"'National Shipments'!U77/'National Shipments'!U$79","v":0.46198188552476477},{"$f":"'National Shipments'!V77/'National Shipments'!V$79","v":0.52154349031692027},{"$f":"'National Shipments'!W77/'National Shipments'!W$79","v":0.58125399912105413},{"$f":"'National Shipments'!X77/'National Shipments'!X$79","v":0.641113784197198},{"$f":"'National Shipments'!Y77/'National Shipments'!Y$79","v":0.701123218736035},{"$f":"'National Shipments'!Z77/'National Shipments'!Z$79","v":0.7612826768612162},{"$f":"'National Shipments'!AA77/'National Shipments'!AA$79","v":0.82159253363171414},{"$f":"'National Shipments'!AB77/'National Shipments'!AB$79","v":0.88205316504413012},{"$f":"'National Shipments'!AC77/'National Shipments'!AC$79","v":0.94266494803508705},{"$f":"'National Shipments'!AD77/'National Shipments'!AD$79","v":0.96817383074371799},{"$f":"'National Shipments'!AE77/'National Shipments'!AE$79","v":0.97896946848860444}]
[null,null,null,"EL4",10.154447630701553,null,2.0900000000000002E-2,2.0900000000000002E-2,2.0900000000000002E-2,2.0900000000000002E-2,2.0900000000000002E-2,2.0900000000000002E-2,2.0900000000000002E-2,2.0900000000000002E-2,2.0900000000000002E-2,2.0900000000000002E-2,2.0900000000000002E-2,2.0900000000000002E-2,2.0900000000000002E-2,2.0900000000000002E-2,2.0900000000000002E-2,2.0900000000000002E-2,2.0900000000000002E-2,2.0900000000000002E-2,2.0900000000000002E-2,2.0900000000000002E-2,2.0900000000000002E-2,2.0900000000000002E-2,2.0900000000000002E-2,2.0900000000000002E-2,2.0900000000000002E-2,2.0900000000000002E-2,2.0900000000000002E-2,2.0900000000000002E-2,{"$f":"'National Shipments'!F78/'National Shipments'!F$79","v":2.0900000000000002E-2},{"$f":"'National Shipments'!G78/'National Shipments'!G$79","v":2.0899999999999998E-2},{"$f":"'National Shipments'!H78/'National Shipments'!H$79","v":2.0899999999999995E-2},{"$f":"'National Shipments'!I78/'National Shipments'!I$79","v":2.0899999999999998E-2},{"$f":"'National Shipments'!J78/'National Shipments'!J$79","v":2.0899999999999998E-2},{"$f":"'National Shipments'!K78/'National Shipments'!K$79","v":2.0899999999999995E-2},{"$f":"'National Shipments'!L78/'National Shipments'!L$79","v":2.0899999999999998E-2},{"$f":"'National Shipments'!M78/'National Shipments'!M$79","v":2.0900000000000002E-2},{"$f":"'National Shipments'!N78/'National Shipments'!N$79","v":2.0900000000000002E-2},{"$f":"'National Shipments'!O78/'National Shipments'!O$79","v":2.0899999999999998E-2},{"$f":"'National Shipments'!P78/'National Shipments'!P$79","v":2.0899999999999998E-2},{"$f":"'National Shipments'!Q78/'National Shipments'!Q$79","v":2.0899999999999998E-2},{"$f":"'National Shipments'!R78/'National Shipments'!R$79","v":2.0899999999999998E-2},{"$f":"'National Shipments'!S78/'National Shipments'!S$79","v":2.0899999999999998E-2},{"$f":"'National Shipments'!T78/'National Shipments'!T$79","v":2.0899999999999995E-2},{"$f":"'National Shipments'!U78/'National Shipments'!U$79","v":2.0899999999999998E-2},{"$f":"'National Shipments'!V78/'National Shipments'!V$79","v":2.0900000000000002E-2},{"$f":"'National Shipments'!W78/'National Shipments'!W$79","v":2.0899999999999998E-2},{"$f":"'National Shipments'!X78/'National Shipments'!X$79","v":2.0900000000000002E-2},{"$f":"'National Shipments'!Y78/'National Shipments'!Y$79","v":2.0900000000000002E-2},{"$f":"'National Shipments'!Z78/'National Shipments'!Z$79","v":2.0899999999999998E-2},{"$f":"'National Shipments'!AA78/'National Shipments'!AA$79","v":2.0900000000000002E-2},{"$f":"'National Shipments'!AB78/'National Shipments'!AB$79","v":2.0899999999999998E-2},{"$f":"'National Shipments'!AC78/'National Shipments'!AC$79","v":2.0899999999999998E-2},{"$f":"'National Shipments'!AD78/'National Shipments'!AD$79","v":2.0899999999999998E-2},{"$f":"'National Shipments'!AE78/'National Shipments'!AE$79","v":2.0900000000000002E-2}]
[null,null,null,"TOTAL",null,null,1,1,1,1,1,1,1,1,1,1,1,1,1,1,1,1,1,1,1,1,1,1,1,1,1,1,1,1,{"$f":"'National Shipments'!F79/'National Shipments'!F$79","v":1},{"$f":"'National Shipments'!G79/'National Shipments'!G$79","v":1},{"$f":"'National Shipments'!H79/'National Shipments'!H$79","v":1},{"$f":"'National Shipments'!I79/'National Shipments'!I$79","v":1},{"$f":"'National Shipments'!J79/'National Shipments'!J$79","v":1},{"$f":"'National Shipments'!K79/'National Shipments'!K$79","v":1},{"$f":"'National Shipments'!L79/'National Shipments'!L$79","v":1},{"$f":"'National Shipments'!M79/'National Shipments'!M$79","v":1},{"$f":"'National Shipments'!N79/'National Shipments'!N$79","v":1},{"$f":"'National Shipments'!O79/'National Shipments'!O$79","v":1},{"$f":"'National Shipments'!P79/'National Shipments'!P$79","v":1},{"$f":"'National Shipments'!Q79/'National Shipments'!Q$79","v":1},{"$f":"'National Shipments'!R79/'National Shipments'!R$79","v":1},{"$f":"'National Shipments'!S79/'National Shipments'!S$79","v":1},{"$f":"'National Shipments'!T79/'National Shipments'!T$79","v":1},{"$f":"'National Shipments'!U79/'National Shipments'!U$79","v":1},{"$f":"'National Shipments'!V79/'National Shipments'!V$79","v":1},{"$f":"'National Shipments'!W79/'National Shipments'!W$79","v":1},{"$f":"'National Shipments'!X79/'National Shipments'!X$79","v":1},{"$f":"'National Shipments'!Y79/'National Shipments'!Y$79","v":1},{"$f":"'National Shipments'!Z79/'National Shipments'!Z$79","v":1},{"$f":"'National Shipments'!AA79/'National Shipments'!AA$79","v":1},{"$f":"'National Shipments'!AB79/'National Shipments'!AB$79","v":1},{"$f":"'National Shipments'!AC79/'National Shipments'!AC$79","v":1},{"$f":"'National Shipments'!AD79/'National Shipments'!AD$79","v":1},{"$f":"'National Shipments'!AE79/'National Shipments'!AE$79","v":1}]
[]
[null,null,null,"Sources","2011 DOE Residential Room Air Conditioners Direct Final Rule Government Regulatory Impact Model 'Product Shipments (CALC)' tab."]
[]
[]
[]
[null,null,null,"PC4  Without reverse cycle, with louvered sides, and 25,000 Btu/h or more"]
[]
[null,null,null,"PRE-Case"]
[null,null,null,"Efficiency Level","CEER",null,1981,1982,1983,1984,1985,1986,1987,1988,1989,1990,1991,1992,1993,1994,1995,1996,1997,1998,1999,2000,2001,2002,2003,2004,2005,2006,2007,2008,2009,2010,2011,2012,2013,2014,2015,2016,2017,2018,2019,2020,2021,2022,2023,2024,2025,2026,2027,2028,2029,2030,2031,2032,2033,2034]
[null,null,null,"EL0",{"$f":"INDEX(EFFICIENCY_LEVELS,RIGHT(D89,1)+1,MID($D$85,3,1))","v":8.4754339546823534},null,{"$f":"H89","v":0.12450000000000003},0.12450000000000003,0.12450000000000003,0.12450000000000003,0.12450000000000003,0.12450000000000003,0.12450000000000003,0.12450000000000003,0.12450000000000003,0.12450000000000003,0.12450000000000003,0.12450000000000003,0.12450000000000003,0.12450000000000003,0.12450000000000003,0.12450000000000003,{"$f":"X89","v":0.12450000000000003},0.12450000000000003,0.12450000000000003,0.12450000000000003,0.12450000000000003,0.12450000000000003,0.12450000000000003,0.12450000000000003,0.12450000000000003,0.12450000000000003,0.12450000000000003,0.12450000000000003,{"$f":"'National Shipments'!F89/'National Shipments'!F$93","v":0.12450000000000003},{"$f":"'National Shipments'!G89/'National Shipments'!G$93","v":0.12450000000000007},{"$f":"'National Shipments'!H89/'National Shipments'!H$93","v":0.12450000000000006},{"$f":"'National Shipments'!I89/'National Shipments'!I$93","v":0.12450000000000006},{"$f":"'National Shipments'!J89/'National Shipments'!J$93","v":0.12450000000000006},{"$f":"'National Shipments'!K89/'National Shipments'!K$93","v":0.12450000000000003},{"$f":"'National Shipments'!L89/'National Shipments'!L$93","v":8.0314153228932539E-2},{"$f":"'National Shipments'!M89/'National Shipments'!M$93","v":3.6017841840936884E-2},{"$f":"'National Shipments'!N89/'National Shipments'!N$93","v":0},{"$f":"'National Shipments'!O89/'National Shipments'!O$93","v":0},{"$f":"'National Shipments'!P89/'National Shipments'!P$93","v":0},{"$f":"'National Shipments'!Q89/'National Shipments'!Q$93","v":0},{"$f":"'National Shipments'!R89/'National Shipments'!R$93","v":0},{"$f":"'National Shipments'!S89/'National Shipments'!S$93","v":0},{"$f":"'National Shipments'!T89/'National Shipments'!T$93","v":0},{"$f":"'National Shipments'!U89/'National Shipments'!U$93","v":0},{"$f":"'National Shipments'!V89/'National Shipments'!V$93","v":0},{"$f":"'National Shipments'!W89/'National Shipments'!W$93","v":0},{"$f":"'National Shipments'!X89/'National Shipments'!X$93","v":0},{"$f":"'National Shipments'!Y89/'National Shipments'!Y$93","v":0},{"$f":"'National Shipments'!Z89/'National Shipments'!Z$93","v":0},{"$f":"'National Shipments'!AA89/'National Shipments'!AA$93","v":0},{"$f":"'National Shipments'!AB89/'National Shipments'!AB$93","v":0},{"$f":"'National Shipments'!AC89/'National Shipments'!AC$93","v":0},{"$f":"'National Shipments'!AD89/'National Shipments'!AD$93","v":0},{"$f":"'National Shipments'!AE89/'National Shipments'!AE$93","v":0}]
[null,null,null,"EL1",{"$f":"INDEX(EFFICIENCY_LEVELS,RIGHT(D90,1)+1,MID($D$85,3,1))","v":9},null,2.259999999999995E-2,2.259999999999995E-2,2.259999999999995E-2,2.259999999999995E-2,2.259999999999995E-2,2.259999999999995E-2,2.259999999999995E-2,2.259999999999995E-2,2.259999999999995E-2,2.259999999999995E-2,2.259999999999995E-2,2.259999999999995E-2,2.259999999999995E-2,2.259999999999995E-2,2.259999999999995E-2,2.259999999999995E-2,2.259999999999995E-2,2.259999999999995E-2,2.259999999999995E-2,2.259999999999995E-2,2.259999999999995E-2,2.259999999999995E-2,2.259999999999995E-2,2.259999999999995E-2,2.259999999999995E-2,2.259999999999995E-2,2.259999999999995E-2,2.259999999999995E-2,{"$f":"'National Shipments'!F90/'National Shipments'!F$93","v":2.259999999999995E-2},{"$f":"'National Shipments'!G90/'National Shipments'!G$93","v":2.2599999999999953E-2},{"$f":"'National Shipments'!H90/'National Shipments'!H$93","v":2.2599999999999953E-2},{"$f":"'National Shipments'!I90/'National Shipments'!I$93","v":2.2599999999999953E-2},{"$f":"'National Shipments'!J90/'National Shipments'!J$93","v":2.259999999999995E-2},{"$f":"'National Shipments'!K90/'National Shipments'!K$93","v":2.2599999999999953E-2},{"$f":"'National Shipments'!L90/'National Shipments'!L$93","v":6.678584677106747E-2},{"$f":"'National Shipments'!M90/'National Shipments'!M$93","v":0.11108215815906312},{"$f":"'National Shipments'!N90/'National Shipments'!N$93","v":0.13605170426132285},{"$f":"'National Shipments'!O90/'National Shipments'!O$93","v":7.7408583577803891E-2},{"$f":"'National Shipments'!P90/'National Shipments'!P$93","v":1.8618855092576297E-2},{"$f":"'National Shipments'!Q90/'National Shipments'!Q$93","v":0},{"$f":"'National Shipments'!R90/'National Shipments'!R$93","v":0},{"$f":"'National Shipments'!S90/'National Shipments'!S$93","v":0},{"$f":"'National Shipments'!T90/'National Shipments'!T$93","v":0},{"$f":"'National Shipments'!U90/'National Shipments'!U$93","v":0},{"$f":"'National Shipments'!V90/'National Shipments'!V$93","v":0},{"$f":"'National Shipments'!W90/'National Shipments'!W$93","v":0},{"$f":"'National Shipments'!X90/'National Shipments'!X$93","v":0},{"$f":"'National Shipments'!Y90/'National Shipments'!Y$93","v":0},{"$f":"'National Shipments'!Z90/'National Shipments'!Z$93","v":0},{"$f":"'National Shipments'!AA90/'National Shipments'!AA$93","v":0},{"$f":"'National Shipments'!AB90/'National Shipments'!AB$93","v":0},{"$f":"'National Shipments'!AC90/'National Shipments'!AC$93","v":0},{"$f":"'National Shipments'!AD90/'National Shipments'!AD$93","v":0},{"$f":"'National Shipments'!AE90/'National Shipments'!AE$93","v":0}]
[null,null,null,"EL2",{"$f":"INDEX(EFFICIENCY_LEVELS,RIGHT(D91,1)+1,MID($D$85,3,1))","v":9.4},null,0.85289999999999999,0.85289999999999999,0.85289999999999999,0.85289999999999999,0.85289999999999999,0.85289999999999999,0.85289999999999999,0.85289999999999999,0.85289999999999999,0.85289999999999999,0.85289999999999999,0.85289999999999999,0.85289999999999999,0.85289999999999999,0.85289999999999999,0.85289999999999999,0.85289999999999999,0.85289999999999999,0.85289999999999999,0.85289999999999999,0.85289999999999999,0.85289999999999999,0.85289999999999999,0.85289999999999999,0.85289999999999999,0.85289999999999999,0.85289999999999999,0.85289999999999999,{"$f":"'National Shipments'!F91/'National Shipments'!F$93","v":0.85289999999999999},{"$f":"'National Shipments'!G91/'National Shipments'!G$93","v":0.85289999999999999},{"$f":"'National Shipments'!H91/'National Shipments'!H$93","v":0.85289999999999999},{"$f":"'National Shipments'!I91/'National Shipments'!I$93","v":0.8529000000000001},{"$f":"'National Shipments'!J91/'National Shipments'!J$93","v":0.85289999999999988},{"$f":"'National Shipments'!K91/'National Shipments'!K$93","v":0.85289999999999999},{"$f":"'National Shipments'!L91/'National Shipments'!L$93","v":0.85289999999999999},{"$f":"'National Shipments'!M91/'National Shipments'!M$93","v":0.85289999999999999},{"$f":"'National Shipments'!N91/'National Shipments'!N$93","v":0.86394829573867715},{"$f":"'National Shipments'!O91/'National Shipments'!O$93","v":0.92259141642219611},{"$f":"'National Shipments'!P91/'National Shipments'!P$93","v":0.98138114490742367},{"$f":"'National Shipments'!Q91/'National Shipments'!Q$93","v":0.95986483349336149},{"$f":"'National Shipments'!R91/'National Shipments'!R$93","v":0.90102588276059681},{"$f":"'National Shipments'!S91/'National Shipments'!S$93","v":0.8420398346510013},{"$f":"'National Shipments'!T91/'National Shipments'!T$93","v":0.7829063214211307},{"$f":"'National Shipments'!U91/'National Shipments'!U$93","v":0.72362497440818618},{"$f":"'National Shipments'!V91/'National Shipments'!V$93","v":0.66419542402770637},{"$f":"'National Shipments'!W91/'National Shipments'!W$93","v":0.6046172997712782},{"$f":"'National Shipments'!X91/'National Shipments'!X$93","v":0.54489023020420602},{"$f":"'National Shipments'!Y91/'National Shipments'!Y$93","v":0.48501384296321953},{"$f":"'National Shipments'!Z91/'National Shipments'!Z$93","v":0.4249877647541303},{"$f":"'National Shipments'!AA91/'National Shipments'!AA$93","v":0.36481162134951528},{"$f":"'National Shipments'!AB91/'National Shipments'!AB$93","v":0.30448503758638928},{"$f":"'National Shipments'!AC91/'National Shipments'!AC$93","v":0.2440076373638583},{"$f":"'National Shipments'!AD91/'National Shipments'!AD$93","v":0.18337904364077098},{"$f":"'National Shipments'!AE91/'National Shipments'!AE$93","v":0.12259887843337242}]
[null,null,null,"EL3",{"$f":"INDEX(EFFICIENCY_LEVELS,RIGHT(D92,1)+1,MID($D$85,3,1))","v":9.8000000000000007},null,0,0,0,0,0,0,0,0,0,0,0,0,0,0,0,0,0,0,0,0,0,0,0,0,0,0,0,0,{"$f":"'National Shipments'!F92/'National Shipments'!F$93","v":0},{"$f":"'National Shipments'!G92/'National Shipments'!G$93","v":0},{"$f":"'National Shipments'!H92/'National Shipments'!H$93","v":0},{"$f":"'National Shipments'!I92/'National Shipments'!I$93","v":0},{"$f":"'National Shipments'!J92/'National Shipments'!J$93","v":0},{"$f":"'National Shipments'!K92/'National Shipments'!K$93","v":0},{"$f":"'National Shipments'!L92/'National Shipments'!L$93","v":0},{"$f":"'National Shipments'!M92/'National Shipments'!M$93","v":0},{"$f":"'National Shipments'!N92/'National Shipments'!N$93","v":0},{"$f":"'National Shipments'!O92/'National Shipments'!O$93","v":0},{"$f":"'National Shipments'!P92/'National Shipments'!P$93","v":0},{"$f":"'National Shipments'!Q92/'National Shipments'!Q$93","v":4.0135166506638488E-2},{"$f":"'National Shipments'!R92/'National Shipments'!R$93","v":9.8974117239403234E-2},{"$f":"'National Shipments'!S92/'National Shipments'!S$93","v":0.15796016534899865},{"$f":"'National Shipments'!T92/'National Shipments'!T$93","v":0.21709367857886921},{"$f":"'National Shipments'!U92/'National Shipments'!U$93","v":0.27637502559181376},{"$f":"'National Shipments'!V92/'National Shipments'!V$93","v":0.33580457597229363},{"$f":"'National Shipments'!W92/'National Shipments'!W$93","v":0.39538270022872185},{"$f":"'National Shipments'!X92/'National Shipments'!X$93","v":0.45510976979579393},{"$f":"'National Shipments'!Y92/'National Shipments'!Y$93","v":0.51498615703678041},{"$f":"'National Shipments'!Z92/'National Shipments'!Z$93","v":0.57501223524586964},{"$f":"'National Shipments'!AA92/'National Shipments'!AA$93","v":0.63518837865048483},{"$f":"'National Shipments'!AB92/'National Shipments'!AB$93","v":0.69551496241361066},{"$f":"'National Shipments'!AC92/'National Shipments'!AC$93","v":0.75599236263614167},{"$f":"'National Shipments'!AD92/'National Shipments'!AD$93","v":0.81662095635922904},{"$f":"'National Shipments'!AE92/'National Shipments'!AE$93","v":0.87740112156662753}]
[null,null,null,"TOTAL",null,null,1,1,1,1,1,1,1,1,1,1,1,1,1,1,1,1,1,1,1,1,1,1,1,1,1,1,1,1,{"$f":"'National Shipments'!F93/'National Shipments'!F$93","v":1},{"$f":"'National Shipments'!G93/'National Shipments'!G$93","v":1},{"$f":"'National Shipments'!H93/'National Shipments'!H$93","v":1},{"$f":"'National Shipments'!I93/'National Shipments'!I$93","v":1},{"$f":"'National Shipments'!J93/'National Shipments'!J$93","v":1},{"$f":"'National Shipments'!K93/'National Shipments'!K$93","v":1},{"$f":"'National Shipments'!L93/'National Shipments'!L$93","v":1},{"$f":"'National Shipments'!M93/'National Shipments'!M$93","v":1},{"$f":"'National Shipments'!N93/'National Shipments'!N$93","v":1},{"$f":"'National Shipments'!O93/'National Shipments'!O$93","v":1},{"$f":"'National Shipments'!P93/'National Shipments'!P$93","v":1},{"$f":"'National Shipments'!Q93/'National Shipments'!Q$93","v":1},{"$f":"'National Shipments'!R93/'National Shipments'!R$93","v":1},{"$f":"'National Shipments'!S93/'National Shipments'!S$93","v":1},{"$f":"'National Shipments'!T93/'National Shipments'!T$93","v":1},{"$f":"'National Shipments'!U93/'National Shipments'!U$93","v":1},{"$f":"'National Shipments'!V93/'National Shipments'!V$93","v":1},{"$f":"'National Shipments'!W93/'National Shipments'!W$93","v":1},{"$f":"'National Shipments'!X93/'National Shipments'!X$93","v":1},{"$f":"'National Shipments'!Y93/'National Shipments'!Y$93","v":1},{"$f":"'National Shipments'!Z93/'National Shipments'!Z$93","v":1},{"$f":"'National Shipments'!AA93/'National Shipments'!AA$93","v":1},{"$f":"'National Shipments'!AB93/'National Shipments'!AB$93","v":1},{"$f":"'National Shipments'!AC93/'National Shipments'!AC$93","v":1},{"$f":"'National Shipments'!AD93/'National Shipments'!AD$93","v":1},{"$f":"'National Shipments'!AE93/'National Shipments'!AE$93","v":1}]
[]
[null,null,null,"POST-Case"]
[null,null,null,"Efficiency Level","CEER",null,1981,1982,1983,1984,1985,1986,1987,1988,1989,1990,1991,1992,1993,1994,1995,1996,1997,1998,1999,2000,2001,2002,2003,2004,2005,2006,2007,2008,2009,2010,2011,2012,2013,2014,2015,2016,2017,2018,2019,2020,2021,2022,2023,2024,2025,2026,2027,2028,2029,2030,2031,2032,2033,2034]
[null,null,null,{"$f":"D89","v":"EL0"},{"$f":"E89","v":8.4754339546823534},null,{"$f":"H97","v":0.12450000000000003},0.12450000000000003,0.12450000000000003,0.12450000000000003,0.12450000000000003,0.12450000000000003,0.12450000000000003,0.12450000000000003,0.12450000000000003,0.12450000000000003,0.12450000000000003,0.12450000000000003,0.12450000000000003,0.12450000000000003,0.12450000000000003,0.12450000000000003,{"$f":"X97","v":0.12450000000000003},0.12450000000000003,0.12450000000000003,0.12450000000000003,0.12450000000000003,0.12450000000000003,0.12450000000000003,0.12450000000000003,0.12450000000000003,0.12450000000000003,0.12450000000000003,0.12450000000000003,{"$f":"'National Shipments'!F97/'National Shipments'!F$101","v":0.12450000000000003},{"$f":"'National Shipments'!G97/'National Shipments'!G$101","v":0.12450000000000007},{"$f":"'National Shipments'!H97/'National Shipments'!H$101","v":0.12450000000000006},{"$f":"'National Shipments'!I97/'National Shipments'!I$101","v":0.12450000000000006},{"$f":"'National Shipments'!J97/'National Shipments'!J$101","v":0.12450000000000006},{"$f":"'National Shipments'!K97/'National Shipments'!K$101","v":0},{"$f":"'National Shipments'!L97/'National Shipments'!L$101","v":0},{"$f":"'National Shipments'!M97/'National Shipments'!M$101","v":0},{"$f":"'National Shipments'!N97/'National Shipments'!N$101","v":0},{"$f":"'National Shipments'!O97/'National Shipments'!O$101","v":0},{"$f":"'National Shipments'!P97/'National Shipments'!P$101","v":0},{"$f":"'National Shipments'!Q97/'National Shipments'!Q$101","v":0},{"$f":"'National Shipments'!R97/'National Shipments'!R$101","v":0},{"$f":"'National Shipments'!S97/'National Shipments'!S$101","v":0},{"$f":"'National Shipments'!T97/'National Shipments'!T$101","v":0},{"$f":"'National Shipments'!U97/'National Shipments'!U$101","v":0},{"$f":"'National Shipments'!V97/'National Shipments'!V$101","v":0},{"$f":"'National Shipments'!W97/'National Shipments'!W$101","v":0},{"$f":"'National Shipments'!X97/'National Shipments'!X$101","v":0},{"$f":"'National Shipments'!Y97/'National Shipments'!Y$101","v":0},{"$f":"'National Shipments'!Z97/'National Shipments'!Z$101","v":0},{"$f":"'National Shipments'!AA97/'National Shipments'!AA$101","v":0},{"$f":"'National Shipments'!AB97/'National Shipments'!AB$101","v":0},{"$f":"'National Shipments'!AC97/'National Shipments'!AC$101","v":0},{"$f":"'National Shipments'!AD97/'National Shipments'!AD$101","v":0},{"$f":"'National Shipments'!AE97/'National Shipments'!AE$101","v":0}]
[null,null,null,{"$f":"D90","v":"EL1"},9,null,2.259999999999995E-2,2.259999999999995E-2,2.259999999999995E-2,2.259999999999995E-2,2.259999999999995E-2,2.259999999999995E-2,2.259999999999995E-2,2.259999999999995E-2,2.259999999999995E-2,2.259999999999995E-2,2.259999999999995E-2,2.259999999999995E-2,2.259999999999995E-2,2.259999999999995E-2,2.259999999999995E-2,2.259999999999995E-2,2.259999999999995E-2,2.259999999999995E-2,2.259999999999995E-2,2.259999999999995E-2,2.259999999999995E-2,2.259999999999995E-2,2.259999999999995E-2,2.259999999999995E-2,2.259999999999995E-2,2.259999999999995E-2,2.259999999999995E-2,2.259999999999995E-2,{"$f":"'National Shipments'!F98/'National Shipments'!F$101","v":2.259999999999995E-2},{"$f":"'National Shipments'!G98/'National Shipments'!G$101","v":2.2599999999999953E-2},{"$f":"'National Shipments'!H98/'National Shipments'!H$101","v":2.2599999999999953E-2},{"$f":"'National Shipments'!I98/'National Shipments'!I$101","v":2.2599999999999953E-2},{"$f":"'National Shipments'!J98/'National Shipments'!J$101","v":2.259999999999995E-2},{"$f":"'National Shipments'!K98/'National Shipments'!K$101","v":0.14710000000000004},{"$f":"'National Shipments'!L98/'National Shipments'!L$101","v":0.12033104364625551},{"$f":"'National Shipments'!M98/'National Shipments'!M$101","v":9.3495164901624808E-2},{"$f":"'National Shipments'!N98/'National Shipments'!N$101","v":6.0626298255999224E-2},{"$f":"'National Shipments'!O98/'National Shipments'!O$101","v":1.9831775724802555E-3},{"$f":"'National Shipments'!P98/'National Shipments'!P$101","v":0},{"$f":"'National Shipments'!Q98/'National Shipments'!Q$101","v":0},{"$f":"'National Shipments'!R98/'National Shipments'!R$101","v":0},{"$f":"'National Shipments'!S98/'National Shipments'!S$101","v":0},{"$f":"'National Shipments'!T98/'National Shipments'!T$101","v":0},{"$f":"'National Shipments'!U98/'National Shipments'!U$101","v":0},{"$f":"'National Shipments'!V98/'National Shipments'!V$101","v":0},{"$f":"'National Shipments'!W98/'National Shipments'!W$101","v":0},{"$f":"'National Shipments'!X98/'National Shipments'!X$101","v":0},{"$f":"'National Shipments'!Y98/'National Shipments'!Y$101","v":0},{"$f":"'National Shipments'!Z98/'National Shipments'!Z$101","v":0},{"$f":"'National Shipments'!AA98/'National Shipments'!AA$101","v":0},{"$f":"'National Shipments'!AB98/'National Shipments'!AB$101","v":0},{"$f":"'National Shipments'!AC98/'National Shipments'!AC$101","v":0},{"$f":"'National Shipments'!AD98/'National Shipments'!AD$101","v":0},{"$f":"'National Shipments'!AE98/'National Shipments'!AE$101","v":0}]
[null,null,null,"EL2",9.4,null,0.85289999999999999,0.85289999999999999,0.85289999999999999,0.85289999999999999,0.85289999999999999,0.85289999999999999,0.85289999999999999,0.85289999999999999,0.85289999999999999,0.85289999999999999,0.85289999999999999,0.85289999999999999,0.85289999999999999,0.85289999999999999,0.85289999999999999,0.85289999999999999,0.85289999999999999,0.85289999999999999,0.85289999999999999,0.85289999999999999,0.85289999999999999,0.85289999999999999,0.85289999999999999,0.85289999999999999,0.85289999999999999,0.85289999999999999,0.85289999999999999,0.85289999999999999,{"$f":"'National Shipments'!F99/'National Shipments'!F$101","v":0.85289999999999999},{"$f":"'National Shipments'!G99/'National Shipments'!G$101","v":0.85289999999999999},{"$f":"'National Shipments'!H99/'National Shipments'!H$101","v":0.85289999999999999},{"$f":"'National Shipments'!I99/'National Shipments'!I$101","v":0.8529000000000001},{"$f":"'National Shipments'!J99/'National Shipments'!J$101","v":0.85289999999999988},{"$f":"'National Shipments'!K99/'National Shipments'!K$101","v":0.85289999999999999},{"$f":"'National Shipments'!L99/'National Shipments'!L$101","v":0.87966895635374442},{"$f":"'National Shipments'!M99/'National Shipments'!M$101","v":0.90650483509837521},{"$f":"'National Shipments'!N99/'National Shipments'!N$101","v":0.9393737017440007},{"$f":"'National Shipments'!O99/'National Shipments'!O$101","v":0.99801682242751966},{"$f":"'National Shipments'!P99/'National Shipments'!P$101","v":0.99143629673375233},{"$f":"'National Shipments'!Q99/'National Shipments'!Q$101","v":0.94849430058069562},{"$f":"'National Shipments'!R99/'National Shipments'!R$101","v":0.88965534984793082},{"$f":"'National Shipments'!S99/'National Shipments'!S$101","v":0.83066930173833542},{"$f":"'National Shipments'!T99/'National Shipments'!T$101","v":0.77153578850846538},{"$f":"'National Shipments'!U99/'National Shipments'!U$101","v":0.71225444149552086},{"$f":"'National Shipments'!V99/'National Shipments'!V$101","v":0.65282489111504105},{"$f":"'National Shipments'!W99/'National Shipments'!W$101","v":0.59324676685861299},{"$f":"'National Shipments'!X99/'National Shipments'!X$101","v":0.5335196972915407},{"$f":"'National Shipments'!Y99/'National Shipments'!Y$101","v":0.47364331005055416},{"$f":"'National Shipments'!Z99/'National Shipments'!Z$101","v":0.41361723184146443},{"$f":"'National Shipments'!AA99/'National Shipments'!AA$101","v":0.35344108843684929},{"$f":"'National Shipments'!AB99/'National Shipments'!AB$101","v":0.29311450467372396},{"$f":"'National Shipments'!AC99/'National Shipments'!AC$101","v":0.23263710445119246},{"$f":"'National Shipments'!AD99/'National Shipments'!AD$101","v":0.17200851072810514},{"$f":"'National Shipments'!AE99/'National Shipments'!AE$101","v":0.11122834552070653}]
[null,null,null,"EL3",9.8000000000000007,null,0,0,0,0,0,0,0,0,0,0,0,0,0,0,0,0,0,0,0,0,0,0,0,0,0,0,0,0,{"$f":"'National Shipments'!F100/'National Shipments'!F$101","v":0},{"$f":"'National Shipments'!G100/'National Shipments'!G$101","v":0},{"$f":"'National Shipments'!H100/'National Shipments'!H$101","v":0},{"$f":"'National Shipments'!I100/'National Shipments'!I$101","v":0},{"$f":"'National Shipments'!J100/'National Shipments'!J$101","v":0},{"$f":"'National Shipments'!K100/'National Shipments'!K$101","v":0},{"$f":"'National Shipments'!L100/'National Shipments'!L$101","v":0},{"$f":"'National Shipments'!M100/'National Shipments'!M$101","v":0},{"$f":"'National Shipments'!N100/'National Shipments'!N$101","v":0},{"$f":"'National Shipments'!O100/'National Shipments'!O$101","v":0},{"$f":"'National Shipments'!P100/'National Shipments'!P$101","v":8.5637032662476461E-3},{"$f":"'National Shipments'!Q100/'National Shipments'!Q$101","v":5.150569941930435E-2},{"$f":"'National Shipments'!R100/'National Shipments'!R$101","v":0.1103446501520691},{"$f":"'National Shipments'!S100/'National Shipments'!S$101","v":0.1693306982616645},{"$f":"'National Shipments'!T100/'National Shipments'!T$101","v":0.22846421149153456},{"$f":"'National Shipments'!U100/'National Shipments'!U$101","v":0.28774555850447914},{"$f":"'National Shipments'!V100/'National Shipments'!V$101","v":0.34717510888495895},{"$f":"'National Shipments'!W100/'National Shipments'!W$101","v":0.40675323314138712},{"$f":"'National Shipments'!X100/'National Shipments'!X$101","v":0.46648030270845936},{"$f":"'National Shipments'!Y100/'National Shipments'!Y$101","v":0.52635668994944584},{"$f":"'National Shipments'!Z100/'National Shipments'!Z$101","v":0.58638276815853552},{"$f":"'National Shipments'!AA100/'National Shipments'!AA$101","v":0.64655891156315071},{"$f":"'National Shipments'!AB100/'National Shipments'!AB$101","v":0.70688549532627598},{"$f":"'National Shipments'!AC100/'National Shipments'!AC$101","v":0.76736289554880754},{"$f":"'National Shipments'!AD100/'National Shipments'!AD$101","v":0.82799148927189481},{"$f":"'National Shipments'!AE100/'National Shipments'!AE$101","v":0.8887716544792934}]
[null,null,null,"TOTAL",null,null,1,1,1,1,1,1,1,1,1,1,1,1,1,1,1,1,1,1,1,1,1,1,1,1,1,1,1,1,{"$f":"'National Shipments'!F101/'National Shipments'!F$101","v":1},{"$f":"'National Shipments'!G101/'National Shipments'!G$101","v":1},{"$f":"'National Shipments'!H101/'National Shipments'!H$101","v":1},{"$f":"'National Shipments'!I101/'National Shipments'!I$101","v":1},{"$f":"'National Shipments'!J101/'National Shipments'!J$101","v":1},{"$f":"'National Shipments'!K101/'National Shipments'!K$101","v":1},{"$f":"'National Shipments'!L101/'National Shipments'!L$101","v":1},{"$f":"'National Shipments'!M101/'National Shipments'!M$101","v":1},{"$f":"'National Shipments'!N101/'National Shipments'!N$101","v":1},{"$f":"'National Shipments'!O101/'National Shipments'!O$101","v":1},{"$f":"'National Shipments'!P101/'National Shipments'!P$101","v":1},{"$f":"'National Shipments'!Q101/'National Shipments'!Q$101","v":1},{"$f":"'National Shipments'!R101/'National Shipments'!R$101","v":1},{"$f":"'National Shipments'!S101/'National Shipments'!S$101","v":1},{"$f":"'National Shipments'!T101/'National Shipments'!T$101","v":1},{"$f":"'National Shipments'!U101/'National Shipments'!U$101","v":1},{"$f":"'National Shipments'!V101/'National Shipments'!V$101","v":1},{"$f":"'National Shipments'!W101/'National Shipments'!W$101","v":1},{"$f":"'National Shipments'!X101/'National Shipments'!X$101","v":1},{"$f":"'National Shipments'!Y101/'National Shipments'!Y$101","v":1},{"$f":"'National Shipments'!Z101/'National Shipments'!Z$101","v":1},{"$f":"'National Shipments'!AA101/'National Shipments'!AA$101","v":1},{"$f":"'National Shipments'!AB101/'National Shipments'!AB$101","v":1},{"$f":"'National Shipments'!AC101/'National Shipments'!AC$101","v":1},{"$f":"'National Shipments'!AD101/'National Shipments'!AD$101","v":1},{"$f":"'National Shipments'!AE101/'National Shipments'!AE$101","v":1}]
[]
[null,null,null,"Sources","2011 DOE Residential Room Air Conditioners Direct Final Rule Government Regulatory Impact Model 'Product Shipments (CALC)' tab."]
[]
[]
[]
[null,null,null,"PC5  Without reverse cycle, without louvered sides, and 8,000 to 10,999 Btu/h"]
[]
[null,null,null,"PRE-Case"]
[null,null,null,"Efficiency Level","CEER",null,1981,1982,1983,1984,1985,1986,1987,1988,1989,1990,1991,1992,1993,1994,1995,1996,1997,1998,1999,2000,2001,2002,2003,2004,2005,2006,2007,2008,2009,2010,2011,2012,2013,2014,2015,2016,2017,2018,2019,2020,2021,2022,2023,2024,2025,2026,2027,2028,2029,2030,2031,2032,2033,2034]
[null,null,null,"EL0",{"$f":"INDEX(EFFICIENCY_LEVELS,RIGHT(D111,1)+1,MID($D$107,3,1))","v":8.4146356252408392},null,{"$f":"H111","v":0.1009},0.1009,0.1009,0.1009,0.1009,0.1009,0.1009,0.1009,0.1009,0.1009,0.1009,0.1009,0.1009,0.1009,0.1009,0.1009,{"$f":"X111","v":0.1009},0.1009,0.1009,0.1009,0.1009,0.1009,0.1009,0.1009,0.1009,0.1009,0.1009,{"$f":"AI111","v":0.1009},{"$f":"'National Shipments'!F111/'National Shipments'!F$116","v":0.1009},{"$f":"'National Shipments'!G111/'National Shipments'!G$116","v":0.1009},{"$f":"'National Shipments'!H111/'National Shipments'!H$116","v":0.10089999999999999},{"$f":"'National Shipments'!I111/'National Shipments'!I$116","v":0.10089999999999999},{"$f":"'National Shipments'!J111/'National Shipments'!J$116","v":0.1009},{"$f":"'National Shipments'!K111/'National Shipments'!K$116","v":0.10089999999999998},{"$f":"'National Shipments'!L111/'National Shipments'!L$116","v":7.4595727365415115E-2},{"$f":"'National Shipments'!M111/'National Shipments'!M$116","v":4.8225694049244809E-2},{"$f":"'National Shipments'!N111/'National Shipments'!N$116","v":2.1789735649783759E-2},{"$f":"'National Shipments'!O111/'National Shipments'!O$116","v":0},{"$f":"'National Shipments'!P111/'National Shipments'!P$116","v":0},{"$f":"'National Shipments'!Q111/'National Shipments'!Q$116","v":0},{"$f":"'National Shipments'!R111/'National Shipments'!R$116","v":0},{"$f":"'National Shipments'!S111/'National Shipments'!S$116","v":0},{"$f":"'National Shipments'!T111/'National Shipments'!T$116","v":0},{"$f":"'National Shipments'!U111/'National Shipments'!U$116","v":0},{"$f":"'National Shipments'!V111/'National Shipments'!V$116","v":0},{"$f":"'National Shipments'!W111/'National Shipments'!W$116","v":0},{"$f":"'National Shipments'!X111/'National Shipments'!X$116","v":0},{"$f":"'National Shipments'!Y111/'National Shipments'!Y$116","v":0},{"$f":"'National Shipments'!Z111/'National Shipments'!Z$116","v":0},{"$f":"'National Shipments'!AA111/'National Shipments'!AA$116","v":0},{"$f":"'National Shipments'!AB111/'National Shipments'!AB$116","v":0},{"$f":"'National Shipments'!AC111/'National Shipments'!AC$116","v":0},{"$f":"'National Shipments'!AD111/'National Shipments'!AD$116","v":0},{"$f":"'National Shipments'!AE111/'National Shipments'!AE$116","v":0}]
[null,null,null,"EL1",{"$f":"INDEX(EFFICIENCY_LEVELS,RIGHT(D112,1)+1,MID($D$107,3,1))","v":9.3000000000000007},null,0.64750000000000008,0.64750000000000008,0.64750000000000008,0.64750000000000008,0.64750000000000008,0.64750000000000008,0.64750000000000008,0.64750000000000008,0.64750000000000008,0.64750000000000008,0.64750000000000008,0.64750000000000008,0.64750000000000008,0.64750000000000008,0.64750000000000008,0.64750000000000008,0.64750000000000008,0.64750000000000008,0.64750000000000008,0.64750000000000008,0.64750000000000008,0.64750000000000008,0.64750000000000008,0.64750000000000008,0.64750000000000008,0.64750000000000008,0.64750000000000008,0.64750000000000008,{"$f":"'National Shipments'!F112/'National Shipments'!F$116","v":0.64750000000000008},{"$f":"'National Shipments'!G112/'National Shipments'!G$116","v":0.64750000000000008},{"$f":"'National Shipments'!H112/'National Shipments'!H$116","v":0.64749999999999996},{"$f":"'National Shipments'!I112/'National Shipments'!I$116","v":0.64749999999999996},{"$f":"'National Shipments'!J112/'National Shipments'!J$116","v":0.64749999999999996},{"$f":"'National Shipments'!K112/'National Shipments'!K$116","v":0.64749999999999996},{"$f":"'National Shipments'!L112/'National Shipments'!L$116","v":0.67380427263458487},{"$f":"'National Shipments'!M112/'National Shipments'!M$116","v":0.70017430595075514},{"$f":"'National Shipments'!N112/'National Shipments'!N$116","v":0.72661026435021625},{"$f":"'National Shipments'!O112/'National Shipments'!O$116","v":0.73449295420263738},{"$f":"'National Shipments'!P112/'National Shipments'!P$116","v":0.65608418972765559},{"$f":"'National Shipments'!Q112/'National Shipments'!Q$116","v":0.57747940334148529},{"$f":"'National Shipments'!R112/'National Shipments'!R$116","v":0.49867810498935},{"$f":"'National Shipments'!S112/'National Shipments'!S$116","v":0.41967980339133826},{"$f":"'National Shipments'!T112/'National Shipments'!T$116","v":0.34048400603932977},{"$f":"'National Shipments'!U112/'National Shipments'!U$116","v":0.26109021919394043},{"$f":"'National Shipments'!V112/'National Shipments'!V$116","v":0.18149794788143714},{"$f":"'National Shipments'!W112/'National Shipments'!W$116","v":0.10170669589065286},{"$f":"'National Shipments'!X112/'National Shipments'!X$116","v":2.17159657698901E-2},{"$f":"'National Shipments'!Y112/'National Shipments'!Y$116","v":0},{"$f":"'National Shipments'!Z112/'National Shipments'!Z$116","v":0},{"$f":"'National Shipments'!AA112/'National Shipments'!AA$116","v":0},{"$f":"'National Shipments'!AB112/'National Shipments'!AB$116","v":0},{"$f":"'National Shipments'!AC112/'National Shipments'!AC$116","v":0},{"$f":"'National Shipments'!AD112/'National Shipments'!AD$116","v":0},{"$f":"'National Shipments'!AE112/'National Shipments'!AE$116","v":0}]
[null,null,null,"EL2",{"$f":"INDEX(EFFICIENCY_LEVELS,RIGHT(D113,1)+1,MID($D$107,3,1))","v":9.6},null,0.1953,0.1953,0.1953,0.1953,0.1953,0.1953,0.1953,0.1953,0.1953,0.1953,0.1953,0.1953,0.1953,0.1953,0.1953,0.1953,0.1953,0.1953,0.1953,0.1953,0.1953,0.1953,0.1953,0.1953,0.1953,0.1953,0.1953,0.1953,{"$f":"'National Shipments'!F113/'National Shipments'!F$116","v":0.1953},{"$f":"'National Shipments'!G113/'National Shipments'!G$116","v":0.1953},{"$f":"'National Shipments'!H113/'National Shipments'!H$116","v":0.19529999999999997},{"$f":"'National Shipments'!I113/'National Shipments'!I$116","v":0.19529999999999997},{"$f":"'National Shipments'!J113/'National Shipments'!J$116","v":0.1953},{"$f":"'National Shipments'!K113/'National Shipments'!K$116","v":0.19529999999999995},{"$f":"'National Shipments'!L113/'National Shipments'!L$116","v":0.19529999999999997},{"$f":"'National Shipments'!M113/'National Shipments'!M$116","v":0.19529999999999997},{"$f":"'National Shipments'!N113/'National Shipments'!N$116","v":0.19529999999999997},{"$f":"'National Shipments'!O113/'National Shipments'!O$116","v":0.20920704579736271},{"$f":"'National Shipments'!P113/'National Shipments'!P$116","v":0.28761581027234423},{"$f":"'National Shipments'!Q113/'National Shipments'!Q$116","v":0.3662205966585147},{"$f":"'National Shipments'!R113/'National Shipments'!R$116","v":0.44502189501064998},{"$f":"'National Shipments'!S113/'National Shipments'!S$116","v":0.52402019660866184},{"$f":"'National Shipments'!T113/'National Shipments'!T$116","v":0.60321599396067027},{"$f":"'National Shipments'!U113/'National Shipments'!U$116","v":0.68260978080605961},{"$f":"'National Shipments'!V113/'National Shipments'!V$116","v":0.76220205211856284},{"$f":"'National Shipments'!W113/'National Shipments'!W$116","v":0.84199330410934714},{"$f":"'National Shipments'!X113/'National Shipments'!X$116","v":0.92198403423010988},{"$f":"'National Shipments'!Y113/'National Shipments'!Y$116","v":0.89984394411787449},{"$f":"'National Shipments'!Z113/'National Shipments'!Z$116","v":0.83955055633280151},{"$f":"'National Shipments'!AA113/'National Shipments'!AA$116","v":0.77910643507826671},{"$f":"'National Shipments'!AB113/'National Shipments'!AB$116","v":0.71851120352059494},{"$f":"'National Shipments'!AC113/'National Shipments'!AC$116","v":0.65776448388402864},{"$f":"'National Shipments'!AD113/'National Shipments'!AD$116","v":0.59686589744837504},{"$f":"'National Shipments'!AE113/'National Shipments'!AE$116","v":0.53581506454662953}]
[null,null,null,"EL3",{"$f":"INDEX(EFFICIENCY_LEVELS,RIGHT(D114,1)+1,MID($D$107,3,1))","v":10},null,3.6900000000000002E-2,3.6900000000000002E-2,3.6900000000000002E-2,3.6900000000000002E-2,3.6900000000000002E-2,3.6900000000000002E-2,3.6900000000000002E-2,3.6900000000000002E-2,3.6900000000000002E-2,3.6900000000000002E-2,3.6900000000000002E-2,3.6900000000000002E-2,3.6900000000000002E-2,3.6900000000000002E-2,3.6900000000000002E-2,3.6900000000000002E-2,3.6900000000000002E-2,3.6900000000000002E-2,3.6900000000000002E-2,3.6900000000000002E-2,3.6900000000000002E-2,3.6900000000000002E-2,3.6900000000000002E-2,3.6900000000000002E-2,3.6900000000000002E-2,3.6900000000000002E-2,3.6900000000000002E-2,3.6900000000000002E-2,{"$f":"'National Shipments'!F114/'National Shipments'!F$116","v":3.6900000000000002E-2},{"$f":"'National Shipments'!G114/'National Shipments'!G$116","v":3.6900000000000009E-2},{"$f":"'National Shipments'!H114/'National Shipments'!H$116","v":3.6899999999999995E-2},{"$f":"'National Shipments'!I114/'National Shipments'!I$116","v":3.6900000000000002E-2},{"$f":"'National Shipments'!J114/'National Shipments'!J$116","v":3.6900000000000002E-2},{"$f":"'National Shipments'!K114/'National Shipments'!K$116","v":3.6900000000000002E-2},{"$f":"'National Shipments'!L114/'National Shipments'!L$116","v":3.6900000000000002E-2},{"$f":"'National Shipments'!M114/'National Shipments'!M$116","v":3.6900000000000002E-2},{"$f":"'National Shipments'!N114/'National Shipments'!N$116","v":3.6900000000000009E-2},{"$f":"'National Shipments'!O114/'National Shipments'!O$116","v":3.6900000000000002E-2},{"$f":"'National Shipments'!P114/'National Shipments'!P$116","v":3.6900000000000002E-2},{"$f":"'National Shipments'!Q114/'National Shipments'!Q$116","v":3.6899999999999995E-2},{"$f":"'National Shipments'!R114/'National Shipments'!R$116","v":3.6900000000000002E-2},{"$f":"'National Shipments'!S114/'National Shipments'!S$116","v":3.6900000000000009E-2},{"$f":"'National Shipments'!T114/'National Shipments'!T$116","v":3.6900000000000002E-2},{"$f":"'National Shipments'!U114/'National Shipments'!U$116","v":3.6900000000000002E-2},{"$f":"'National Shipments'!V114/'National Shipments'!V$116","v":3.6899999999999995E-2},{"$f":"'National Shipments'!W114/'National Shipments'!W$116","v":3.6900000000000009E-2},{"$f":"'National Shipments'!X114/'National Shipments'!X$116","v":3.6900000000000009E-2},{"$f":"'National Shipments'!Y114/'National Shipments'!Y$116","v":8.0756055882125519E-2},{"$f":"'National Shipments'!Z114/'National Shipments'!Z$116","v":0.14104944366719852},{"$f":"'National Shipments'!AA114/'National Shipments'!AA$116","v":0.20149356492173334},{"$f":"'National Shipments'!AB114/'National Shipments'!AB$116","v":0.26208879647940508},{"$f":"'National Shipments'!AC114/'National Shipments'!AC$116","v":0.32283551611597144},{"$f":"'National Shipments'!AD114/'National Shipments'!AD$116","v":0.38373410255162499},{"$f":"'National Shipments'!AE114/'National Shipments'!AE$116","v":0.4447849354533705}]
[null,null,null,"EL4",{"$f":"INDEX(EFFICIENCY_LEVELS,RIGHT(D115,1)+1,MID($D$107,3,1))","v":10.354619755605318},null,1.9400000000000001E-2,1.9400000000000001E-2,1.9400000000000001E-2,1.9400000000000001E-2,1.9400000000000001E-2,1.9400000000000001E-2,1.9400000000000001E-2,1.9400000000000001E-2,1.9400000000000001E-2,1.9400000000000001E-2,1.9400000000000001E-2,1.9400000000000001E-2,1.9400000000000001E-2,1.9400000000000001E-2,1.9400000000000001E-2,1.9400000000000001E-2,1.9400000000000001E-2,1.9400000000000001E-2,1.9400000000000001E-2,1.9400000000000001E-2,1.9400000000000001E-2,1.9400000000000001E-2,1.9400000000000001E-2,1.9400000000000001E-2,1.9400000000000001E-2,1.9400000000000001E-2,1.9400000000000001E-2,1.9400000000000001E-2,{"$f":"'National Shipments'!F115/'National Shipments'!F$116","v":1.9400000000000001E-2},{"$f":"'National Shipments'!G115/'National Shipments'!G$116","v":1.9400000000000004E-2},{"$f":"'National Shipments'!H115/'National Shipments'!H$116","v":1.9400000000000001E-2},{"$f":"'National Shipments'!I115/'National Shipments'!I$116","v":1.9399999999999997E-2},{"$f":"'National Shipments'!J115/'National Shipments'!J$116","v":1.9400000000000004E-2},{"$f":"'National Shipments'!K115/'National Shipments'!K$116","v":1.9400000000000001E-2},{"$f":"'National Shipments'!L115/'National Shipments'!L$116","v":1.9400000000000001E-2},{"$f":"'National Shipments'!M115/'National Shipments'!M$116","v":1.9400000000000001E-2},{"$f":"'National Shipments'!N115/'National Shipments'!N$116","v":1.9400000000000004E-2},{"$f":"'National Shipments'!O115/'National Shipments'!O$116","v":1.9400000000000001E-2},{"$f":"'National Shipments'!P115/'National Shipments'!P$116","v":1.9400000000000001E-2},{"$f":"'National Shipments'!Q115/'National Shipments'!Q$116","v":1.9400000000000001E-2},{"$f":"'National Shipments'!R115/'National Shipments'!R$116","v":1.9399999999999997E-2},{"$f":"'National Shipments'!S115/'National Shipments'!S$116","v":1.9400000000000004E-2},{"$f":"'National Shipments'!T115/'National Shipments'!T$116","v":1.9400000000000001E-2},{"$f":"'National Shipments'!U115/'National Shipments'!U$116","v":1.9400000000000001E-2},{"$f":"'National Shipments'!V115/'National Shipments'!V$116","v":1.9400000000000001E-2},{"$f":"'National Shipments'!W115/'National Shipments'!W$116","v":1.9400000000000001E-2},{"$f":"'National Shipments'!X115/'National Shipments'!X$116","v":1.9400000000000004E-2},{"$f":"'National Shipments'!Y115/'National Shipments'!Y$116","v":1.9400000000000001E-2},{"$f":"'National Shipments'!Z115/'National Shipments'!Z$116","v":1.9400000000000004E-2},{"$f":"'National Shipments'!AA115/'National Shipments'!AA$116","v":1.9400000000000001E-2},{"$f":"'National Shipments'!AB115/'National Shipments'!AB$116","v":1.9399999999999997E-2},{"$f":"'National Shipments'!AC115/'National Shipments'!AC$116","v":1.9400000000000001E-2},{"$f":"'National Shipments'!AD115/'National Shipments'!AD$116","v":1.9400000000000001E-2},{"$f":"'National Shipments'!AE115/'National Shipments'!AE$116","v":1.9400000000000004E-2}]
[null,null,null,"TOTAL",null,null,1,1,1,1,1,1,1,1,1,1,1,1,1,1,1,1,1,1,1,1,1,1,1,1,1,1,1,1,{"$f":"'National Shipments'!F116/'National Shipments'!F$116","v":1},{"$f":"'National Shipments'!G116/'National Shipments'!G$116","v":1},{"$f":"'National Shipments'!H116/'National Shipments'!H$116","v":1},{"$f":"'National Shipments'!I116/'National Shipments'!I$116","v":1},{"$f":"'National Shipments'!J116/'National Shipments'!J$116","v":1},{"$f":"'National Shipments'!K116/'National Shipments'!K$116","v":1},{"$f":"'National Shipments'!L116/'National Shipments'!L$116","v":1},{"$f":"'National Shipments'!M116/'National Shipments'!M$116","v":1},{"$f":"'National Shipments'!N116/'National Shipments'!N$116","v":1},{"$f":"'National Shipments'!O116/'National Shipments'!O$116","v":1},{"$f":"'National Shipments'!P116/'National Shipments'!P$116","v":1},{"$f":"'National Shipments'!Q116/'National Shipments'!Q$116","v":1},{"$f":"'National Shipments'!R116/'National Shipments'!R$116","v":1},{"$f":"'National Shipments'!S116/'National Shipments'!S$116","v":1},{"$f":"'National Shipments'!T116/'National Shipments'!T$116","v":1},{"$f":"'National Shipments'!U116/'National Shipments'!U$116","v":1},{"$f":"'National Shipments'!V116/'National Shipments'!V$116","v":1},{"$f":"'National Shipments'!W116/'National Shipments'!W$116","v":1},{"$f":"'National Shipments'!X116/'National Shipments'!X$116","v":1},{"$f":"'National Shipments'!Y116/'National Shipments'!Y$116","v":1},{"$f":"'National Shipments'!Z116/'National Shipments'!Z$116","v":1},{"$f":"'National Shipments'!AA116/'National Shipments'!AA$116","v":1},{"$f":"'National Shipments'!AB116/'National Shipments'!AB$116","v":1},{"$f":"'National Shipments'!AC116/'National Shipments'!AC$116","v":1},{"$f":"'National Shipments'!AD116/'National Shipments'!AD$116","v":1},{"$f":"'National Shipments'!AE116/'National Shipments'!AE$116","v":1}]
[]
[null,null,null,"POST-Case"]
[null,null,null,"Efficiency Level","CEER",null,1981,1982,1983,1984,1985,1986,1987,1988,1989,1990,1991,1992,1993,1994,1995,1996,1997,1998,1999,2000,2001,2002,2003,2004,2005,2006,2007,2008,2009,2010,2011,2012,2013,2014,2015,2016,2017,2018,2019,2020,2021,2022,2023,2024,2025,2026,2027,2028,2029,2030,2031,2032,2033,2034]
[null,null,null,"EL0",{"$f":"INDEX(EFFICIENCY_LEVELS,RIGHT(D120,1)+1,MID($D$107,3,1))","v":8.4146356252408392},null,{"$f":"H120","v":0.1009},0.1009,0.1009,0.1009,0.1009,0.1009,0.1009,0.1009,0.1009,0.1009,0.1009,0.1009,0.1009,0.1009,0.1009,0.1009,{"$f":"X120","v":0.1009},0.1009,0.1009,0.1009,0.1009,0.1009,0.1009,0.1009,0.1009,0.1009,0.1009,{"$f":"AI120","v":0.1009},{"$f":"'National Shipments'!F120/'National Shipments'!F$125","v":0.1009},{"$f":"'National Shipments'!G120/'National Shipments'!G$125","v":0.1009},{"$f":"'National Shipments'!H120/'National Shipments'!H$125","v":0.10089999999999999},{"$f":"'National Shipments'!I120/'National Shipments'!I$125","v":0.10089999999999999},{"$f":"'National Shipments'!J120/'National Shipments'!J$125","v":0.1009},{"$f":"'National Shipments'!K120/'National Shipments'!K$125","v":0},{"$f":"'National Shipments'!L120/'National Shipments'!L$125","v":0},{"$f":"'National Shipments'!M120/'National Shipments'!M$125","v":0},{"$f":"'National Shipments'!N120/'National Shipments'!N$125","v":0},{"$f":"'National Shipments'!O120/'National Shipments'!O$125","v":0},{"$f":"'National Shipments'!P120/'National Shipments'!P$125","v":0},{"$f":"'National Shipments'!Q120/'National Shipments'!Q$125","v":0},{"$f":"'National Shipments'!R120/'National Shipments'!R$125","v":0},{"$f":"'National Shipments'!S120/'National Shipments'!S$125","v":0},{"$f":"'National Shipments'!T120/'National Shipments'!T$125","v":0},{"$f":"'National Shipments'!U120/'National Shipments'!U$125","v":0},{"$f":"'National Shipments'!V120/'National Shipments'!V$125","v":0},{"$f":"'National Shipments'!W120/'National Shipments'!W$125","v":0},{"$f":"'National Shipments'!X120/'National Shipments'!X$125","v":0},{"$f":"'National Shipments'!Y120/'National Shipments'!Y$125","v":0},{"$f":"'National Shipments'!Z120/'National Shipments'!Z$125","v":0},{"$f":"'National Shipments'!AA120/'National Shipments'!AA$125","v":0},{"$f":"'National Shipments'!AB120/'National Shipments'!AB$125","v":0},{"$f":"'National Shipments'!AC120/'National Shipments'!AC$125","v":0},{"$f":"'National Shipments'!AD120/'National Shipments'!AD$125","v":0},{"$f":"'National Shipments'!AE120/'National Shipments'!AE$125","v":0}]
[null,null,null,"EL1",{"$f":"INDEX(EFFICIENCY_LEVELS,RIGHT(D121,1)+1,MID($D$107,3,1))","v":9.3000000000000007},null,0.64750000000000008,0.64750000000000008,0.64750000000000008,0.64750000000000008,0.64750000000000008,0.64750000000000008,0.64750000000000008,0.64750000000000008,0.64750000000000008,0.64750000000000008,0.64750000000000008,0.64750000000000008,0.64750000000000008,0.64750000000000008,0.64750000000000008,0.64750000000000008,0.64750000000000008,0.64750000000000008,0.64750000000000008,0.64750000000000008,0.64750000000000008,0.64750000000000008,0.64750000000000008,0.64750000000000008,0.64750000000000008,0.64750000000000008,0.64750000000000008,0.64750000000000008,{"$f":"'National Shipments'!F121/'National Shipments'!F$125","v":0.64750000000000008},{"$f":"'National Shipments'!G121/'National Shipments'!G$125","v":0.64750000000000008},{"$f":"'National Shipments'!H121/'National Shipments'!H$125","v":0.64749999999999996},{"$f":"'National Shipments'!I121/'National Shipments'!I$125","v":0.64749999999999996},{"$f":"'National Shipments'!J121/'National Shipments'!J$125","v":0.64749999999999996},{"$f":"'National Shipments'!K121/'National Shipments'!K$125","v":0},{"$f":"'National Shipments'!L121/'National Shipments'!L$125","v":0},{"$f":"'National Shipments'!M121/'National Shipments'!M$125","v":0},{"$f":"'National Shipments'!N121/'National Shipments'!N$125","v":0},{"$f":"'National Shipments'!O121/'National Shipments'!O$125","v":0},{"$f":"'National Shipments'!P121/'National Shipments'!P$125","v":0},{"$f":"'National Shipments'!Q121/'National Shipments'!Q$125","v":0},{"$f":"'National Shipments'!R121/'National Shipments'!R$125","v":0},{"$f":"'National Shipments'!S121/'National Shipments'!S$125","v":0},{"$f":"'National Shipments'!T121/'National Shipments'!T$125","v":0},{"$f":"'National Shipments'!U121/'National Shipments'!U$125","v":0},{"$f":"'National Shipments'!V121/'National Shipments'!V$125","v":0},{"$f":"'National Shipments'!W121/'National Shipments'!W$125","v":0},{"$f":"'National Shipments'!X121/'National Shipments'!X$125","v":0},{"$f":"'National Shipments'!Y121/'National Shipments'!Y$125","v":0},{"$f":"'National Shipments'!Z121/'National Shipments'!Z$125","v":0},{"$f":"'National Shipments'!AA121/'National Shipments'!AA$125","v":0},{"$f":"'National Shipments'!AB121/'National Shipments'!AB$125","v":0},{"$f":"'National Shipments'!AC121/'National Shipments'!AC$125","v":0},{"$f":"'National Shipments'!AD121/'National Shipments'!AD$125","v":0},{"$f":"'National Shipments'!AE121/'National Shipments'!AE$125","v":0}]
[null,null,null,"EL2",{"$f":"INDEX(EFFICIENCY_LEVELS,RIGHT(D122,1)+1,MID($D$107,3,1))","v":9.6},null,0.1953,0.1953,0.1953,0.1953,0.1953,0.1953,0.1953,0.1953,0.1953,0.1953,0.1953,0.1953,0.1953,0.1953,0.1953,0.1953,0.1953,0.1953,0.1953,0.1953,0.1953,0.1953,0.1953,0.1953,0.1953,0.1953,0.1953,0.1953,{"$f":"'National Shipments'!F122/'National Shipments'!F$125","v":0.1953},{"$f":"'National Shipments'!G122/'National Shipments'!G$125","v":0.1953},{"$f":"'National Shipments'!H122/'National Shipments'!H$125","v":0.19529999999999997},{"$f":"'National Shipments'!I122/'National Shipments'!I$125","v":0.19529999999999997},{"$f":"'National Shipments'!J122/'National Shipments'!J$125","v":0.1953},{"$f":"'National Shipments'!K122/'National Shipments'!K$125","v":0.94369999999999998},{"$f":"'National Shipments'!L122/'National Shipments'!L$125","v":0.80872592389052078},{"$f":"'National Shipments'!M122/'National Shipments'!M$125","v":0.79652017935720187},{"$f":"'National Shipments'!N122/'National Shipments'!N$125","v":0.78428392046254591},{"$f":"'National Shipments'!O122/'National Shipments'!O$125","v":0.77130088548617459},{"$f":"'National Shipments'!P122/'National Shipments'!P$125","v":0.75496547206863396},{"$f":"'National Shipments'!Q122/'National Shipments'!Q$125","v":0.73858922011754857},{"$f":"'National Shipments'!R122/'National Shipments'!R$125","v":0.72217202753658327},{"$f":"'National Shipments'!S122/'National Shipments'!S$125","v":0.70571379197416706},{"$f":"'National Shipments'!T122/'National Shipments'!T$125","v":0.68921441082283996},{"$f":"'National Shipments'!U122/'National Shipments'!U$125","v":0.67267378121863475},{"$f":"'National Shipments'!V122/'National Shipments'!V$125","v":0.65609180004042789},{"$f":"'National Shipments'!W122/'National Shipments'!W$125","v":0.63946836390926898},{"$f":"'National Shipments'!X122/'National Shipments'!X$125","v":0.62280336918778401},{"$f":"'National Shipments'!Y122/'National Shipments'!Y$125","v":0.57442308338075354},{"$f":"'National Shipments'!Z122/'National Shipments'!Z$125","v":0.51412969559568},{"$f":"'National Shipments'!AA122/'National Shipments'!AA$125","v":0.45368557434114509},{"$f":"'National Shipments'!AB122/'National Shipments'!AB$125","v":0.39309034278347277},{"$f":"'National Shipments'!AC122/'National Shipments'!AC$125","v":0.33234362314690652},{"$f":"'National Shipments'!AD122/'National Shipments'!AD$125","v":0.27144503671124948},{"$f":"'National Shipments'!AE122/'National Shipments'!AE$125","v":0.21039420380950735}]
[null,null,null,"EL3",{"$f":"INDEX(EFFICIENCY_LEVELS,RIGHT(D123,1)+1,MID($D$107,3,1))","v":10},null,3.6900000000000002E-2,3.6900000000000002E-2,3.6900000000000002E-2,3.6900000000000002E-2,3.6900000000000002E-2,3.6900000000000002E-2,3.6900000000000002E-2,3.6900000000000002E-2,3.6900000000000002E-2,3.6900000000000002E-2,3.6900000000000002E-2,3.6900000000000002E-2,3.6900000000000002E-2,3.6900000000000002E-2,3.6900000000000002E-2,3.6900000000000002E-2,3.6900000000000002E-2,3.6900000000000002E-2,3.6900000000000002E-2,3.6900000000000002E-2,3.6900000000000002E-2,3.6900000000000002E-2,3.6900000000000002E-2,3.6900000000000002E-2,3.6900000000000002E-2,3.6900000000000002E-2,3.6900000000000002E-2,3.6900000000000002E-2,{"$f":"'National Shipments'!F123/'National Shipments'!F$125","v":3.6900000000000002E-2},{"$f":"'National Shipments'!G123/'National Shipments'!G$125","v":3.6900000000000009E-2},{"$f":"'National Shipments'!H123/'National Shipments'!H$125","v":3.6899999999999995E-2},{"$f":"'National Shipments'!I123/'National Shipments'!I$125","v":3.6900000000000002E-2},{"$f":"'National Shipments'!J123/'National Shipments'!J$125","v":3.6900000000000002E-2},{"$f":"'National Shipments'!K123/'National Shipments'!K$125","v":3.6900000000000002E-2},{"$f":"'National Shipments'!L123/'National Shipments'!L$125","v":0.17187407610947936},{"$f":"'National Shipments'!M123/'National Shipments'!M$125","v":0.18407982064279815},{"$f":"'National Shipments'!N123/'National Shipments'!N$125","v":0.19631607953745411},{"$f":"'National Shipments'!O123/'National Shipments'!O$125","v":0.2092991145138253},{"$f":"'National Shipments'!P123/'National Shipments'!P$125","v":0.2256345279313661},{"$f":"'National Shipments'!Q123/'National Shipments'!Q$125","v":0.24201077988245137},{"$f":"'National Shipments'!R123/'National Shipments'!R$125","v":0.2584279724634167},{"$f":"'National Shipments'!S123/'National Shipments'!S$125","v":0.27488620802583302},{"$f":"'National Shipments'!T123/'National Shipments'!T$125","v":0.29138558917716006},{"$f":"'National Shipments'!U123/'National Shipments'!U$125","v":0.30792621878136534},{"$f":"'National Shipments'!V123/'National Shipments'!V$125","v":0.32450819995957209},{"$f":"'National Shipments'!W123/'National Shipments'!W$125","v":0.34113163609073116},{"$f":"'National Shipments'!X123/'National Shipments'!X$125","v":0.35779663081221591},{"$f":"'National Shipments'!Y123/'National Shipments'!Y$125","v":0.40617691661924654},{"$f":"'National Shipments'!Z123/'National Shipments'!Z$125","v":0.46647030440432008},{"$f":"'National Shipments'!AA123/'National Shipments'!AA$125","v":0.52691442565885493},{"$f":"'National Shipments'!AB123/'National Shipments'!AB$125","v":0.58750965721652726},{"$f":"'National Shipments'!AC123/'National Shipments'!AC$125","v":0.64825637685309345},{"$f":"'National Shipments'!AD123/'National Shipments'!AD$125","v":0.70915496328875061},{"$f":"'National Shipments'!AE123/'National Shipments'!AE$125","v":0.77020579619049268}]
[null,null,null,"EL4",{"$f":"INDEX(EFFICIENCY_LEVELS,RIGHT(D124,1)+1,MID($D$107,3,1))","v":10.354619755605318},null,1.9400000000000001E-2,1.9400000000000001E-2,1.9400000000000001E-2,1.9400000000000001E-2,1.9400000000000001E-2,1.9400000000000001E-2,1.9400000000000001E-2,1.9400000000000001E-2,1.9400000000000001E-2,1.9400000000000001E-2,1.9400000000000001E-2,1.9400000000000001E-2,1.9400000000000001E-2,1.9400000000000001E-2,1.9400000000000001E-2,1.9400000000000001E-2,1.9400000000000001E-2,1.9400000000000001E-2,1.9400000000000001E-2,1.9400000000000001E-2,1.9400000000000001E-2,1.9400000000000001E-2,1.9400000000000001E-2,1.9400000000000001E-2,1.9400000000000001E-2,1.9400000000000001E-2,1.9400000000000001E-2,1.9400000000000001E-2,{"$f":"'National Shipments'!F124/'National Shipments'!F$125","v":1.9400000000000001E-2},{"$f":"'National Shipments'!G124/'National Shipments'!G$125","v":1.9400000000000004E-2},{"$f":"'National Shipments'!H124/'National Shipments'!H$125","v":1.9400000000000001E-2},{"$f":"'National Shipments'!I124/'National Shipments'!I$125","v":1.9399999999999997E-2},{"$f":"'National Shipments'!J124/'National Shipments'!J$125","v":1.9400000000000004E-2},{"$f":"'National Shipments'!K124/'National Shipments'!K$125","v":1.9400000000000001E-2},{"$f":"'National Shipments'!L124/'National Shipments'!L$125","v":1.9400000000000001E-2},{"$f":"'National Shipments'!M124/'National Shipments'!M$125","v":1.9400000000000001E-2},{"$f":"'National Shipments'!N124/'National Shipments'!N$125","v":1.9399999999999997E-2},{"$f":"'National Shipments'!O124/'National Shipments'!O$125","v":1.9399999999999997E-2},{"$f":"'National Shipments'!P124/'National Shipments'!P$125","v":1.9400000000000001E-2},{"$f":"'National Shipments'!Q124/'National Shipments'!Q$125","v":1.9400000000000001E-2},{"$f":"'National Shipments'!R124/'National Shipments'!R$125","v":1.9400000000000004E-2},{"$f":"'National Shipments'!S124/'National Shipments'!S$125","v":1.9400000000000004E-2},{"$f":"'National Shipments'!T124/'National Shipments'!T$125","v":1.9400000000000001E-2},{"$f":"'National Shipments'!U124/'National Shipments'!U$125","v":1.9400000000000001E-2},{"$f":"'National Shipments'!V124/'National Shipments'!V$125","v":1.9399999999999997E-2},{"$f":"'National Shipments'!W124/'National Shipments'!W$125","v":1.9400000000000001E-2},{"$f":"'National Shipments'!X124/'National Shipments'!X$125","v":1.9399999999999997E-2},{"$f":"'National Shipments'!Y124/'National Shipments'!Y$125","v":1.9400000000000001E-2},{"$f":"'National Shipments'!Z124/'National Shipments'!Z$125","v":1.9400000000000004E-2},{"$f":"'National Shipments'!AA124/'National Shipments'!AA$125","v":1.9400000000000001E-2},{"$f":"'National Shipments'!AB124/'National Shipments'!AB$125","v":1.9400000000000001E-2},{"$f":"'National Shipments'!AC124/'National Shipments'!AC$125","v":1.9400000000000001E-2},{"$f":"'National Shipments'!AD124/'National Shipments'!AD$125","v":1.9400000000000001E-2},{"$f":"'National Shipments'!AE124/'National Shipments'!AE$125","v":1.9400000000000001E-2}]
[null,null,null,"TOTAL",null,null,1,1,1,1,1,1,1,1,1,1,1,1,1,1,1,1,1,1,1,1,1,1,1,1,1,1,1,1,{"$f":"'National Shipments'!F125/'National Shipments'!F$125","v":1},{"$f":"'National Shipments'!G125/'National Shipments'!G$125","v":1},{"$f":"'National Shipments'!H125/'National Shipments'!H$125","v":1},{"$f":"'National Shipments'!I125/'National Shipments'!I$125","v":1},{"$f":"'National Shipments'!J125/'National Shipments'!J$125","v":1},{"$f":"'National Shipments'!K125/'National Shipments'!K$125","v":1},{"$f":"'National Shipments'!L125/'National Shipments'!L$125","v":1},{"$f":"'National Shipments'!M125/'National Shipments'!M$125","v":1},{"$f":"'National Shipments'!N125/'National Shipments'!N$125","v":1},{"$f":"'National Shipments'!O125/'National Shipments'!O$125","v":1},{"$f":"'National Shipments'!P125/'National Shipments'!P$125","v":1},{"$f":"'National Shipments'!Q125/'National Shipments'!Q$125","v":1},{"$f":"'National Shipments'!R125/'National Shipments'!R$125","v":1},{"$f":"'National Shipments'!S125/'National Shipments'!S$125","v":1},{"$f":"'National Shipments'!T125/'National Shipments'!T$125","v":1},{"$f":"'National Shipments'!U125/'National Shipments'!U$125","v":1},{"$f":"'National Shipments'!V125/'National Shipments'!V$125","v":1},{"$f":"'National Shipments'!W125/'National Shipments'!W$125","v":1},{"$f":"'National Shipments'!X125/'National Shipments'!X$125","v":1},{"$f":"'National Shipments'!Y125/'National Shipments'!Y$125","v":1},{"$f":"'National Shipments'!Z125/'National Shipments'!Z$125","v":1},{"$f":"'National Shipments'!AA125/'National Shipments'!AA$125","v":1},{"$f":"'National Shipments'!AB125/'National Shipments'!AB$125","v":1},{"$f":"'National Shipments'!AC125/'National Shipments'!AC$125","v":1},{"$f":"'National Shipments'!AD125/'National Shipments'!AD$125","v":1},{"$f":"'National Shipments'!AE125/'National Shipments'!AE$125","v":1}]
[]
[null,null,null,"Sources","2011 DOE Residential Room Air Conditioners Direct Final Rule Government Regulatory Impact Model 'Product Shipments (CALC)' tab."]
[]
[]
[]
[null,null,null,"PC6  Without reverse cycle, without louvered sides, and 11,000 to 13,999 Btu/h"]
[]
[null,null,null,"PRE-Case"]
[null,null,null,"Efficiency Level","CEER",null,1981,1982,1983,1984,1985,1986,1987,1988,1989,1990,1991,1992,1993,1994,1995,1996,1997,1998,1999,2000,2001,2002,2003,2004,2005,2006,2007,2008,2009,2010,2011,2012,2013,2014,2015,2016,2017,2018,2019,2020,2021,2022,2023,2024,2025,2026,2027,2028,2029,2030,2031,2032,2033,2034]
[null,null,null,"EL0",{"$f":"INDEX(EFFICIENCY_LEVELS,RIGHT(D135,1)+1,MID($D$131,3,1))","v":8.4428992651201167},null,{"$f":"H135","v":0.1009},0.1009,0.1009,0.1009,0.1009,0.1009,0.1009,0.1009,0.1009,0.1009,0.1009,0.1009,0.1009,0.1009,0.1009,0.1009,{"$f":"X135","v":0.1009},0.1009,0.1009,0.1009,0.1009,0.1009,0.1009,0.1009,0.1009,0.1009,0.1009,{"$f":"AI135","v":0.1009},{"$f":"'National Shipments'!F135/'National Shipments'!F$140","v":0.1009},{"$f":"'National Shipments'!G135/'National Shipments'!G$140","v":0.10090000000000002},{"$f":"'National Shipments'!H135/'National Shipments'!H$140","v":0.10089999999999998},{"$f":"'National Shipments'!I135/'National Shipments'!I$140","v":0.1009},{"$f":"'National Shipments'!J135/'National Shipments'!J$140","v":0.10089999999999999},{"$f":"'National Shipments'!K135/'National Shipments'!K$140","v":0.10089999999999999},{"$f":"'National Shipments'!L135/'National Shipments'!L$140","v":8.5487931205173173E-3},{"$f":"'National Shipments'!M135/'National Shipments'!M$140","v":4.6424976067550333E-2},{"$f":"'National Shipments'!N135/'National Shipments'!N$140","v":1.9085280925972215E-2},{"$f":"'National Shipments'!O135/'National Shipments'!O$140","v":0},{"$f":"'National Shipments'!P135/'National Shipments'!P$140","v":0},{"$f":"'National Shipments'!Q135/'National Shipments'!Q$140","v":0},{"$f":"'National Shipments'!R135/'National Shipments'!R$140","v":0},{"$f":"'National Shipments'!S135/'National Shipments'!S$140","v":0},{"$f":"'National Shipments'!T135/'National Shipments'!T$140","v":0},{"$f":"'National Shipments'!U135/'National Shipments'!U$140","v":0},{"$f":"'National Shipments'!V135/'National Shipments'!V$140","v":0},{"$f":"'National Shipments'!W135/'National Shipments'!W$140","v":0},{"$f":"'National Shipments'!X135/'National Shipments'!X$140","v":0},{"$f":"'National Shipments'!Y135/'National Shipments'!Y$140","v":0},{"$f":"'National Shipments'!Z135/'National Shipments'!Z$140","v":0},{"$f":"'National Shipments'!AA135/'National Shipments'!AA$140","v":0},{"$f":"'National Shipments'!AB135/'National Shipments'!AB$140","v":0},{"$f":"'National Shipments'!AC135/'National Shipments'!AC$140","v":0},{"$f":"'National Shipments'!AD135/'National Shipments'!AD$140","v":0},{"$f":"'National Shipments'!AE135/'National Shipments'!AE$140","v":0}]
[null,null,null,"EL1",{"$f":"INDEX(EFFICIENCY_LEVELS,RIGHT(D136,1)+1,MID($D$131,3,1))","v":9.3000000000000007},null,0.59330000000000005,0.59330000000000005,0.59330000000000005,0.59330000000000005,0.59330000000000005,0.59330000000000005,0.59330000000000005,0.59330000000000005,0.59330000000000005,0.59330000000000005,0.59330000000000005,0.59330000000000005,0.59330000000000005,0.59330000000000005,0.59330000000000005,0.59330000000000005,0.59330000000000005,0.59330000000000005,0.59330000000000005,0.59330000000000005,0.59330000000000005,0.59330000000000005,0.59330000000000005,0.59330000000000005,0.59330000000000005,0.59330000000000005,0.59330000000000005,0.59330000000000005,{"$f":"'National Shipments'!F136/'National Shipments'!F$140","v":0.59330000000000005},{"$f":"'National Shipments'!G136/'National Shipments'!G$140","v":0.59330000000000005},{"$f":"'National Shipments'!H136/'National Shipments'!H$140","v":0.59329999999999994},{"$f":"'National Shipments'!I136/'National Shipments'!I$140","v":0.59330000000000005},{"$f":"'National Shipments'!J136/'National Shipments'!J$140","v":0.59329999999999994},{"$f":"'National Shipments'!K136/'National Shipments'!K$140","v":0.59329999999999983},{"$f":"'National Shipments'!L136/'National Shipments'!L$140","v":0.68565120687948267},{"$f":"'National Shipments'!M136/'National Shipments'!M$140","v":0.64777502393244968},{"$f":"'National Shipments'!N136/'National Shipments'!N$140","v":0.67511471907402787},{"$f":"'National Shipments'!O136/'National Shipments'!O$140","v":0.65853276663904792},{"$f":"'National Shipments'!P136/'National Shipments'!P$140","v":0.54078184855565048},{"$f":"'National Shipments'!Q136/'National Shipments'!Q$140","v":0.42273655317703746},{"$f":"'National Shipments'!R136/'National Shipments'!R$140","v":0.30439614455998232},{"$f":"'National Shipments'!S136/'National Shipments'!S$140","v":0.18575988492138817},{"$f":"'National Shipments'!T136/'National Shipments'!T$140","v":6.6827034633695881E-2},{"$f":"'National Shipments'!U136/'National Shipments'!U$140","v":0},{"$f":"'National Shipments'!V136/'National Shipments'!V$140","v":0},{"$f":"'National Shipments'!W136/'National Shipments'!W$140","v":0},{"$f":"'National Shipments'!X136/'National Shipments'!X$140","v":0},{"$f":"'National Shipments'!Y136/'National Shipments'!Y$140","v":0},{"$f":"'National Shipments'!Z136/'National Shipments'!Z$140","v":0},{"$f":"'National Shipments'!AA136/'National Shipments'!AA$140","v":0},{"$f":"'National Shipments'!AB136/'National Shipments'!AB$140","v":0},{"$f":"'National Shipments'!AC136/'National Shipments'!AC$140","v":0},{"$f":"'National Shipments'!AD136/'National Shipments'!AD$140","v":0},{"$f":"'National Shipments'!AE136/'National Shipments'!AE$140","v":0}]
[null,null,null,"EL2",{"$f":"INDEX(EFFICIENCY_LEVELS,RIGHT(D137,1)+1,MID($D$131,3,1))","v":9.5},null,0.13320000000000004,0.13320000000000004,0.13320000000000004,0.13320000000000004,0.13320000000000004,0.13320000000000004,0.13320000000000004,0.13320000000000004,0.13320000000000004,0.13320000000000004,0.13320000000000004,0.13320000000000004,0.13320000000000004,0.13320000000000004,0.13320000000000004,0.13320000000000004,0.13320000000000004,0.13320000000000004,0.13320000000000004,0.13320000000000004,0.13320000000000004,0.13320000000000004,0.13320000000000004,0.13320000000000004,0.13320000000000004,0.13320000000000004,0.13320000000000004,0.13320000000000004,{"$f":"'National Shipments'!F137/'National Shipments'!F$140","v":0.13320000000000004},{"$f":"'National Shipments'!G137/'National Shipments'!G$140","v":0.13320000000000004},{"$f":"'National Shipments'!H137/'National Shipments'!H$140","v":0.13320000000000001},{"$f":"'National Shipments'!I137/'National Shipments'!I$140","v":0.13320000000000001},{"$f":"'National Shipments'!J137/'National Shipments'!J$140","v":0.13320000000000001},{"$f":"'National Shipments'!K137/'National Shipments'!K$140","v":0.13320000000000001},{"$f":"'National Shipments'!L137/'National Shipments'!L$140","v":0.13320000000000001},{"$f":"'National Shipments'!M137/'National Shipments'!M$140","v":0.13320000000000004},{"$f":"'National Shipments'!N137/'National Shipments'!N$140","v":0.13320000000000001},{"$f":"'National Shipments'!O137/'National Shipments'!O$140","v":0.16886723336095211},{"$f":"'National Shipments'!P137/'National Shipments'!P$140","v":0.28661815144434949},{"$f":"'National Shipments'!Q137/'National Shipments'!Q$140","v":0.40466344682296246},{"$f":"'National Shipments'!R137/'National Shipments'!R$140","v":0.52300385544001771},{"$f":"'National Shipments'!S137/'National Shipments'!S$140","v":0.64164011507861185},{"$f":"'National Shipments'!T137/'National Shipments'!T$140","v":0.76057296536630403},{"$f":"'National Shipments'!U137/'National Shipments'!U$140","v":0.79246456814685151},{"$f":"'National Shipments'!V137/'National Shipments'!V$140","v":0.71277906290055471},{"$f":"'National Shipments'!W137/'National Shipments'!W$140","v":0.63289434389114241},{"$f":"'National Shipments'!X137/'National Shipments'!X$140","v":0.55280991308420702},{"$f":"'National Shipments'!Y137/'National Shipments'!Y$140","v":0.47252527120025078},{"$f":"'National Shipments'!Z137/'National Shipments'!Z$140","v":0.39203991771158919},{"$f":"'National Shipments'!AA137/'National Shipments'!AA$140","v":0.31135335083920085},{"$f":"'National Shipments'!AB137/'National Shipments'!AB$140","v":0.23046506754963694},{"$f":"'National Shipments'!AC137/'National Shipments'!AC$140","v":0.14937456355184697},{"$f":"'National Shipments'!AD137/'National Shipments'!AD$140","v":6.8081333294064628E-2},{"$f":"'National Shipments'!AE137/'National Shipments'!AE$140","v":0}]
[null,null,null,"EL3",{"$f":"INDEX(EFFICIENCY_LEVELS,RIGHT(D138,1)+1,MID($D$131,3,1))","v":9.8000000000000007},null,0.17260000000000003,0.17260000000000003,0.17260000000000003,0.17260000000000003,0.17260000000000003,0.17260000000000003,0.17260000000000003,0.17260000000000003,0.17260000000000003,0.17260000000000003,0.17260000000000003,0.17260000000000003,0.17260000000000003,0.17260000000000003,0.17260000000000003,0.17260000000000003,0.17260000000000003,0.17260000000000003,0.17260000000000003,0.17260000000000003,0.17260000000000003,0.17260000000000003,0.17260000000000003,0.17260000000000003,0.17260000000000003,0.17260000000000003,0.17260000000000003,0.17260000000000003,{"$f":"'National Shipments'!F138/'National Shipments'!F$140","v":0.17260000000000003},{"$f":"'National Shipments'!G138/'National Shipments'!G$140","v":0.17260000000000006},{"$f":"'National Shipments'!H138/'National Shipments'!H$140","v":0.17259999999999998},{"$f":"'National Shipments'!I138/'National Shipments'!I$140","v":0.17260000000000003},{"$f":"'National Shipments'!J138/'National Shipments'!J$140","v":0.1726},{"$f":"'National Shipments'!K138/'National Shipments'!K$140","v":0.17259999999999998},{"$f":"'National Shipments'!L138/'National Shipments'!L$140","v":0.1726},{"$f":"'National Shipments'!M138/'National Shipments'!M$140","v":0.17260000000000006},{"$f":"'National Shipments'!N138/'National Shipments'!N$140","v":0.17260000000000003},{"$f":"'National Shipments'!O138/'National Shipments'!O$140","v":0.1726},{"$f":"'National Shipments'!P138/'National Shipments'!P$140","v":0.17260000000000003},{"$f":"'National Shipments'!Q138/'National Shipments'!Q$140","v":0.1726},{"$f":"'National Shipments'!R138/'National Shipments'!R$140","v":0.17260000000000006},{"$f":"'National Shipments'!S138/'National Shipments'!S$140","v":0.17260000000000003},{"$f":"'National Shipments'!T138/'National Shipments'!T$140","v":0.17260000000000003},{"$f":"'National Shipments'!U138/'National Shipments'!U$140","v":0.20753543185314841},{"$f":"'National Shipments'!V138/'National Shipments'!V$140","v":0.28722093709944529},{"$f":"'National Shipments'!W138/'National Shipments'!W$140","v":0.36710565610885754},{"$f":"'National Shipments'!X138/'National Shipments'!X$140","v":0.44719008691579293},{"$f":"'National Shipments'!Y138/'National Shipments'!Y$140","v":0.52747472879974933},{"$f":"'National Shipments'!Z138/'National Shipments'!Z$140","v":0.60796008228841081},{"$f":"'National Shipments'!AA138/'National Shipments'!AA$140","v":0.6886466491607991},{"$f":"'National Shipments'!AB138/'National Shipments'!AB$140","v":0.76953493245036309},{"$f":"'National Shipments'!AC138/'National Shipments'!AC$140","v":0.85062543644815292},{"$f":"'National Shipments'!AD138/'National Shipments'!AD$140","v":0.93191866670593537},{"$f":"'National Shipments'!AE138/'National Shipments'!AE$140","v":0.98178037835606391}]
[null,null,null,"EL4",{"$f":"INDEX(EFFICIENCY_LEVELS,RIGHT(D139,1)+1,MID($D$131,3,1))","v":10.020890372503978},null,0,0,0,0,0,0,0,0,0,0,0,0,0,0,0,0,0,0,0,0,0,0,0,0,0,0,0,0,{"$f":"'National Shipments'!F139/'National Shipments'!F$140","v":0},{"$f":"'National Shipments'!G139/'National Shipments'!G$140","v":0},{"$f":"'National Shipments'!H139/'National Shipments'!H$140","v":0},{"$f":"'National Shipments'!I139/'National Shipments'!I$140","v":0},{"$f":"'National Shipments'!J139/'National Shipments'!J$140","v":0},{"$f":"'National Shipments'!K139/'National Shipments'!K$140","v":0},{"$f":"'National Shipments'!L139/'National Shipments'!L$140","v":0},{"$f":"'National Shipments'!M139/'National Shipments'!M$140","v":0},{"$f":"'National Shipments'!N139/'National Shipments'!N$140","v":0},{"$f":"'National Shipments'!O139/'National Shipments'!O$140","v":0},{"$f":"'National Shipments'!P139/'National Shipments'!P$140","v":0},{"$f":"'National Shipments'!Q139/'National Shipments'!Q$140","v":0},{"$f":"'National Shipments'!R139/'National Shipments'!R$140","v":0},{"$f":"'National Shipments'!S139/'National Shipments'!S$140","v":0},{"$f":"'National Shipments'!T139/'National Shipments'!T$140","v":0},{"$f":"'National Shipments'!U139/'National Shipments'!U$140","v":0},{"$f":"'National Shipments'!V139/'National Shipments'!V$140","v":0},{"$f":"'National Shipments'!W139/'National Shipments'!W$140","v":0},{"$f":"'National Shipments'!X139/'National Shipments'!X$140","v":0},{"$f":"'National Shipments'!Y139/'National Shipments'!Y$140","v":0},{"$f":"'National Shipments'!Z139/'National Shipments'!Z$140","v":0},{"$f":"'National Shipments'!AA139/'National Shipments'!AA$140","v":0},{"$f":"'National Shipments'!AB139/'National Shipments'!AB$140","v":0},{"$f":"'National Shipments'!AC139/'National Shipments'!AC$140","v":0},{"$f":"'National Shipments'!AD139/'National Shipments'!AD$140","v":0},{"$f":"'National Shipments'!AE139/'National Shipments'!AE$140","v":1.8219621643935983E-2}]
[null,null,null,"TOTAL",null,null,1,1,1,1,1,1,1,1,1,1,1,1,1,1,1,1,1,1,1,1,1,1,1,1,1,1,1,1,{"$f":"'National Shipments'!F140/'National Shipments'!F$140","v":1},{"$f":"'National Shipments'!G140/'National Shipments'!G$140","v":1},{"$f":"'National Shipments'!H140/'National Shipments'!H$140","v":1},{"$f":"'National Shipments'!I140/'National Shipments'!I$140","v":1},{"$f":"'National Shipments'!J140/'National Shipments'!J$140","v":1},{"$f":"'National Shipments'!K140/'National Shipments'!K$140","v":1},{"$f":"'National Shipments'!L140/'National Shipments'!L$140","v":1},{"$f":"'National Shipments'!M140/'National Shipments'!M$140","v":1},{"$f":"'National Shipments'!N140/'National Shipments'!N$140","v":1},{"$f":"'National Shipments'!O140/'National Shipments'!O$140","v":1},{"$f":"'National Shipments'!P140/'National Shipments'!P$140","v":1},{"$f":"'National Shipments'!Q140/'National Shipments'!Q$140","v":1},{"$f":"'National Shipments'!R140/'National Shipments'!R$140","v":1},{"$f":"'National Shipments'!S140/'National Shipments'!S$140","v":1},{"$f":"'National Shipments'!T140/'National Shipments'!T$140","v":1},{"$f":"'National Shipments'!U140/'National Shipments'!U$140","v":1},{"$f":"'National Shipments'!V140/'National Shipments'!V$140","v":1},{"$f":"'National Shipments'!W140/'National Shipments'!W$140","v":1},{"$f":"'National Shipments'!X140/'National Shipments'!X$140","v":1},{"$f":"'National Shipments'!Y140/'National Shipments'!Y$140","v":1},{"$f":"'National Shipments'!Z140/'National Shipments'!Z$140","v":1},{"$f":"'National Shipments'!AA140/'National Shipments'!AA$140","v":1},{"$f":"'National Shipments'!AB140/'National Shipments'!AB$140","v":1},{"$f":"'National Shipments'!AC140/'National Shipments'!AC$140","v":1},{"$f":"'National Shipments'!AD140/'National Shipments'!AD$140","v":1},{"$f":"'National Shipments'!AE140/'National Shipments'!AE$140","v":1}]
[]
[null,null,null,"POST-Case"]
[null,null,null,"Efficiency Level","CEER",null,1981,1982,1983,1984,1985,1986,1987,1988,1989,1990,1991,1992,1993,1994,1995,1996,1997,1998,1999,2000,2001,2002,2003,2004,2005,2006,2007,2008,2009,2010,2011,2012,2013,2014,2015,2016,2017,2018,2019,2020,2021,2022,2023,2024,2025,2026,2027,2028,2029,2030,2031,2032,2033,2034]
[null,null,null,{"$f":"D135","v":"EL0"},{"$f":"E135","v":8.4428992651201167},null,{"$f":"H144","v":0.1009},0.1009,0.1009,0.1009,0.1009,0.1009,0.1009,0.1009,0.1009,0.1009,0.1009,0.1009,0.1009,0.1009,0.1009,0.1009,{"$f":"X144","v":0.1009},0.1009,0.1009,0.1009,0.1009,0.1009,0.1009,0.1009,0.1009,0.1009,0.1009,{"$f":"AI144","v":0.1009},{"$f":"'National Shipments'!F144/'National Shipments'!F$149","v":0.1009},{"$f":"'National Shipments'!G144/'National Shipments'!G$149","v":0.10090000000000002},{"$f":"'National Shipments'!H144/'National Shipments'!H$149","v":0.10089999999999998},{"$f":"'National Shipments'!I144/'National Shipments'!I$149","v":0.1009},{"$f":"'National Shipments'!J144/'National Shipments'!J$149","v":0.10089999999999999},{"$f":"'National Shipments'!K144/'National Shipments'!K$149","v":0},{"$f":"'National Shipments'!L144/'National Shipments'!L$149","v":0},{"$f":"'National Shipments'!M144/'National Shipments'!M$149","v":0},{"$f":"'National Shipments'!N144/'National Shipments'!N$149","v":0},{"$f":"'National Shipments'!O144/'National Shipments'!O$149","v":0},{"$f":"'National Shipments'!P144/'National Shipments'!P$149","v":0},{"$f":"'National Shipments'!Q144/'National Shipments'!Q$149","v":0},{"$f":"'National Shipments'!R144/'National Shipments'!R$149","v":0},{"$f":"'National Shipments'!S144/'National Shipments'!S$149","v":0},{"$f":"'National Shipments'!T144/'National Shipments'!T$149","v":0},{"$f":"'National Shipments'!U144/'National Shipments'!U$149","v":0},{"$f":"'National Shipments'!V144/'National Shipments'!V$149","v":0},{"$f":"'National Shipments'!W144/'National Shipments'!W$149","v":0},{"$f":"'National Shipments'!X144/'National Shipments'!X$149","v":0},{"$f":"'National Shipments'!Y144/'National Shipments'!Y$149","v":0},{"$f":"'National Shipments'!Z144/'National Shipments'!Z$149","v":0},{"$f":"'National Shipments'!AA144/'National Shipments'!AA$149","v":0},{"$f":"'National Shipments'!AB144/'National Shipments'!AB$149","v":0},{"$f":"'National Shipments'!AC144/'National Shipments'!AC$149","v":0},{"$f":"'National Shipments'!AD144/'National Shipments'!AD$149","v":0},{"$f":"'National Shipments'!AE144/'National Shipments'!AE$149","v":0}]
[null,null,null,{"$f":"D136","v":"EL1"},9.3000000000000007,null,0.59330000000000005,0.59330000000000005,0.59330000000000005,0.59330000000000005,0.59330000000000005,0.59330000000000005,0.59330000000000005,0.59330000000000005,0.59330000000000005,0.59330000000000005,0.59330000000000005,0.59330000000000005,0.59330000000000005,0.59330000000000005,0.59330000000000005,0.59330000000000005,0.59330000000000005,0.59330000000000005,0.59330000000000005,0.59330000000000005,0.59330000000000005,0.59330000000000005,0.59330000000000005,0.59330000000000005,0.59330000000000005,0.59330000000000005,0.59330000000000005,0.59330000000000005,{"$f":"'National Shipments'!F145/'National Shipments'!F$149","v":0.59330000000000005},{"$f":"'National Shipments'!G145/'National Shipments'!G$149","v":0.59330000000000005},{"$f":"'National Shipments'!H145/'National Shipments'!H$149","v":0.59329999999999994},{"$f":"'National Shipments'!I145/'National Shipments'!I$149","v":0.59330000000000005},{"$f":"'National Shipments'!J145/'National Shipments'!J$149","v":0.59329999999999994},{"$f":"'National Shipments'!K145/'National Shipments'!K$149","v":0},{"$f":"'National Shipments'!L145/'National Shipments'!L$149","v":0},{"$f":"'National Shipments'!M145/'National Shipments'!M$149","v":0},{"$f":"'National Shipments'!N145/'National Shipments'!N$149","v":0},{"$f":"'National Shipments'!O145/'National Shipments'!O$149","v":0},{"$f":"'National Shipments'!P145/'National Shipments'!P$149","v":0},{"$f":"'National Shipments'!Q145/'National Shipments'!Q$149","v":0},{"$f":"'National Shipments'!R145/'National Shipments'!R$149","v":0},{"$f":"'National Shipments'!S145/'National Shipments'!S$149","v":0},{"$f":"'National Shipments'!T145/'National Shipments'!T$149","v":0},{"$f":"'National Shipments'!U145/'National Shipments'!U$149","v":0},{"$f":"'National Shipments'!V145/'National Shipments'!V$149","v":0},{"$f":"'National Shipments'!W145/'National Shipments'!W$149","v":0},{"$f":"'National Shipments'!X145/'National Shipments'!X$149","v":0},{"$f":"'National Shipments'!Y145/'National Shipments'!Y$149","v":0},{"$f":"'National Shipments'!Z145/'National Shipments'!Z$149","v":0},{"$f":"'National Shipments'!AA145/'National Shipments'!AA$149","v":0},{"$f":"'National Shipments'!AB145/'National Shipments'!AB$149","v":0},{"$f":"'National Shipments'!AC145/'National Shipments'!AC$149","v":0},{"$f":"'National Shipments'!AD145/'National Shipments'!AD$149","v":0},{"$f":"'National Shipments'!AE145/'National Shipments'!AE$149","v":0}]
[null,null,null,"EL2",9.5,null,0.13320000000000004,0.13320000000000004,0.13320000000000004,0.13320000000000004,0.13320000000000004,0.13320000000000004,0.13320000000000004,0.13320000000000004,0.13320000000000004,0.13320000000000004,0.13320000000000004,0.13320000000000004,0.13320000000000004,0.13320000000000004,0.13320000000000004,0.13320000000000004,0.13320000000000004,0.13320000000000004,0.13320000000000004,0.13320000000000004,0.13320000000000004,0.13320000000000004,0.13320000000000004,0.13320000000000004,0.13320000000000004,0.13320000000000004,0.13320000000000004,0.13320000000000004,{"$f":"'National Shipments'!F146/'National Shipments'!F$149","v":0.13320000000000004},{"$f":"'National Shipments'!G146/'National Shipments'!G$149","v":0.13320000000000004},{"$f":"'National Shipments'!H146/'National Shipments'!H$149","v":0.13320000000000001},{"$f":"'National Shipments'!I146/'National Shipments'!I$149","v":0.13320000000000001},{"$f":"'National Shipments'!J146/'National Shipments'!J$149","v":0.13320000000000001},{"$f":"'National Shipments'!K146/'National Shipments'!K$149","v":0.82740000000000002},{"$f":"'National Shipments'!L146/'National Shipments'!L$149","v":0.78024035089774491},{"$f":"'National Shipments'!M146/'National Shipments'!M$149","v":0.79958204601635052},{"$f":"'National Shipments'!N146/'National Shipments'!N$149","v":0.78562088865516622},{"$f":"'National Shipments'!O146/'National Shipments'!O$149","v":0.76360377370417853},{"$f":"'National Shipments'!P146/'National Shipments'!P$149","v":0.72309221260332968},{"$f":"'National Shipments'!Q146/'National Shipments'!Q$149","v":0.68247937259973246},{"$f":"'National Shipments'!R146/'National Shipments'!R$149","v":0.64176500049612928},{"$f":"'National Shipments'!S146/'National Shipments'!S$149","v":0.60094884246225877},{"$f":"'National Shipments'!T146/'National Shipments'!T$149","v":0.56003064403330149},{"$f":"'National Shipments'!U146/'National Shipments'!U$149","v":0.50210373541873088},{"$f":"'National Shipments'!V146/'National Shipments'!V$149","v":0.42241823017242797},{"$f":"'National Shipments'!W146/'National Shipments'!W$149","v":0.34253351116302155},{"$f":"'National Shipments'!X146/'National Shipments'!X$149","v":0.26244908035608028},{"$f":"'National Shipments'!Y146/'National Shipments'!Y$149","v":0.18216443847212332},{"$f":"'National Shipments'!Z146/'National Shipments'!Z$149","v":0.10167908498346238},{"$f":"'National Shipments'!AA146/'National Shipments'!AA$149","v":2.0992518111079383E-2},{"$f":"'National Shipments'!AB146/'National Shipments'!AB$149","v":0},{"$f":"'National Shipments'!AC146/'National Shipments'!AC$149","v":0},{"$f":"'National Shipments'!AD146/'National Shipments'!AD$149","v":0},{"$f":"'National Shipments'!AE146/'National Shipments'!AE$149","v":0}]
[null,null,null,"EL3",9.8000000000000007,null,0.17260000000000003,0.17260000000000003,0.17260000000000003,0.17260000000000003,0.17260000000000003,0.17260000000000003,0.17260000000000003,0.17260000000000003,0.17260000000000003,0.17260000000000003,0.17260000000000003,0.17260000000000003,0.17260000000000003,0.17260000000000003,0.17260000000000003,0.17260000000000003,0.17260000000000003,0.17260000000000003,0.17260000000000003,0.17260000000000003,0.17260000000000003,0.17260000000000003,0.17260000000000003,0.17260000000000003,0.17260000000000003,0.17260000000000003,0.17260000000000003,0.17260000000000003,{"$f":"'National Shipments'!F147/'National Shipments'!F$149","v":0.17260000000000003},{"$f":"'National Shipments'!G147/'National Shipments'!G$149","v":0.17260000000000006},{"$f":"'National Shipments'!H147/'National Shipments'!H$149","v":0.17259999999999998},{"$f":"'National Shipments'!I147/'National Shipments'!I$149","v":0.17260000000000003},{"$f":"'National Shipments'!J147/'National Shipments'!J$149","v":0.1726},{"$f":"'National Shipments'!K147/'National Shipments'!K$149","v":0.17260000000000003},{"$f":"'National Shipments'!L147/'National Shipments'!L$149","v":0.21975964910225507},{"$f":"'National Shipments'!M147/'National Shipments'!M$149","v":0.20041795398364945},{"$f":"'National Shipments'!N147/'National Shipments'!N$149","v":0.21437911134483373},{"$f":"'National Shipments'!O147/'National Shipments'!O$149","v":0.23639622629582158},{"$f":"'National Shipments'!P147/'National Shipments'!P$149","v":0.27690778739667038},{"$f":"'National Shipments'!Q147/'National Shipments'!Q$149","v":0.3175206274002676},{"$f":"'National Shipments'!R147/'National Shipments'!R$149","v":0.35823499950387083},{"$f":"'National Shipments'!S147/'National Shipments'!S$149","v":0.39905115753774117},{"$f":"'National Shipments'!T147/'National Shipments'!T$149","v":0.43996935596669845},{"$f":"'National Shipments'!U147/'National Shipments'!U$149","v":0.49789626458126923},{"$f":"'National Shipments'!V147/'National Shipments'!V$149","v":0.57758176982757214},{"$f":"'National Shipments'!W147/'National Shipments'!W$149","v":0.65746648883697834},{"$f":"'National Shipments'!X147/'National Shipments'!X$149","v":0.73755091964391961},{"$f":"'National Shipments'!Y147/'National Shipments'!Y$149","v":0.81783556152787673},{"$f":"'National Shipments'!Z147/'National Shipments'!Z$149","v":0.89832091501653766},{"$f":"'National Shipments'!AA147/'National Shipments'!AA$149","v":0.97900748188892062},{"$f":"'National Shipments'!AB147/'National Shipments'!AB$149","v":0.9905056517108195},{"$f":"'National Shipments'!AC147/'National Shipments'!AC$149","v":0.97765162963342422},{"$f":"'National Shipments'!AD147/'National Shipments'!AD$149","v":0.96476547250083311},{"$f":"'National Shipments'!AE147/'National Shipments'!AE$149","v":0.93575397119063897}]
[null,null,null,"EL4",10.020890372503978,null,0,0,0,0,0,0,0,0,0,0,0,0,0,0,0,0,0,0,0,0,0,0,0,0,0,0,0,0,{"$f":"'National Shipments'!F148/'National Shipments'!F$149","v":0},{"$f":"'National Shipments'!G148/'National Shipments'!G$149","v":0},{"$f":"'National Shipments'!H148/'National Shipments'!H$149","v":0},{"$f":"'National Shipments'!I148/'National Shipments'!I$149","v":0},{"$f":"'National Shipments'!J148/'National Shipments'!J$149","v":0},{"$f":"'National Shipments'!K148/'National Shipments'!K$149","v":0},{"$f":"'National Shipments'!L148/'National Shipments'!L$149","v":0},{"$f":"'National Shipments'!M148/'National Shipments'!M$149","v":0},{"$f":"'National Shipments'!N148/'National Shipments'!N$149","v":0},{"$f":"'National Shipments'!O148/'National Shipments'!O$149","v":0},{"$f":"'National Shipments'!P148/'National Shipments'!P$149","v":0},{"$f":"'National Shipments'!Q148/'National Shipments'!Q$149","v":0},{"$f":"'National Shipments'!R148/'National Shipments'!R$149","v":0},{"$f":"'National Shipments'!S148/'National Shipments'!S$149","v":0},{"$f":"'National Shipments'!T148/'National Shipments'!T$149","v":0},{"$f":"'National Shipments'!U148/'National Shipments'!U$149","v":0},{"$f":"'National Shipments'!V148/'National Shipments'!V$149","v":0},{"$f":"'National Shipments'!W148/'National Shipments'!W$149","v":0},{"$f":"'National Shipments'!X148/'National Shipments'!X$149","v":0},{"$f":"'National Shipments'!Y148/'National Shipments'!Y$149","v":0},{"$f":"'National Shipments'!Z148/'National Shipments'!Z$149","v":0},{"$f":"'National Shipments'!AA148/'National Shipments'!AA$149","v":0},{"$f":"'National Shipments'!AB148/'National Shipments'!AB$149","v":9.4943482891805056E-3},{"$f":"'National Shipments'!AC148/'National Shipments'!AC$149","v":2.2348370366575668E-2},{"$f":"'National Shipments'!AD148/'National Shipments'!AD$149","v":3.5234527499166848E-2},{"$f":"'National Shipments'!AE148/'National Shipments'!AE$149","v":6.4246028809361089E-2}]
[null,null,null,"TOTAL",null,null,1,1,1,1,1,1,1,1,1,1,1,1,1,1,1,1,1,1,1,1,1,1,1,1,1,1,1,1,{"$f":"'National Shipments'!F149/'National Shipments'!F$149","v":1},{"$f":"'National Shipments'!G149/'National Shipments'!G$149","v":1},{"$f":"'National Shipments'!H149/'National Shipments'!H$149","v":1},{"$f":"'National Shipments'!I149/'National Shipments'!I$149","v":1},{"$f":"'National Shipments'!J149/'National Shipments'!J$149","v":1},{"$f":"'National Shipments'!K149/'National Shipments'!K$149","v":1},{"$f":"'National Shipments'!L149/'National Shipments'!L$149","v":1},{"$f":"'National Shipments'!M149/'National Shipments'!M$149","v":1},{"$f":"'National Shipments'!N149/'National Shipments'!N$149","v":1},{"$f":"'National Shipments'!O149/'National Shipments'!O$149","v":1},{"$f":"'National Shipments'!P149/'National Shipments'!P$149","v":1},{"$f":"'National Shipments'!Q149/'National Shipments'!Q$149","v":1},{"$f":"'National Shipments'!R149/'National Shipments'!R$149","v":1},{"$f":"'National Shipments'!S149/'National Shipments'!S$149","v":1},{"$f":"'National Shipments'!T149/'National Shipments'!T$149","v":1},{"$f":"'National Shipments'!U149/'National Shipments'!U$149","v":1},{"$f":"'National Shipments'!V149/'National Shipments'!V$149","v":1},{"$f":"'National Shipments'!W149/'National Shipments'!W$149","v":1},{"$f":"'National Shipments'!X149/'National Shipments'!X$149","v":1},{"$f":"'National Shipments'!Y149/'National Shipments'!Y$149","v":1},{"$f":"'National Shipments'!Z149/'National Shipments'!Z$149","v":1},{"$f":"'National Shipments'!AA149/'National Shipments'!AA$149","v":1},{"$f":"'National Shipments'!AB149/'National Shipments'!AB$149","v":1},{"$f":"'National Shipments'!AC149/'National Shipments'!AC$149","v":1},{"$f":"'National Shipments'!AD149/'National Shipments'!AD$149","v":1},{"$f":"'National Shipments'!AE149/'National Shipments'!AE$149","v":1}]
[]
[null,null,null,"Sources","2011 DOE Residential Room Air Conditioners Direct Final Rule Government Regulatory Impact Model 'Product Shipments (CALC)' tab."]

{"sheet":"Shipments and Stock - SF","index":11,"n_rows":15,"n_cols":58,"rows_kept":15,"cut":false,"hidden":false,"merged":[]}
[]
[null,null,"Shipments and Stock - SF"]
[]
[null,null,"NAVIGATION"]
[]
[null,null,"COMMENTS"]
[]
[]
[null,null,{"$f":"MODEL_NAME","v":"Room AC"}]
[null,null,null,null,1981,1982,1983,1984,1985,1986,1987,1988,1989,1990,1991,1992,1993,1994,1995,1996,1997,1998,1999,2000,2001,2002,2003,2004,2005,2006,2007,2008,2009,2010,2011,2012,2013,2014,2015,2016,2017,2018,2019,2020,2021,2022,2023,2024,2025,2026,2027,2028,2029,2030,2031,2032,2033,2034]
[null,null,"6P Shipments","(units)",{"$f":"IF(ISNUMBER(MATCH(E10,[1]!SIXTH_PLAN_SF_YEARS,0)),\nINDEX([1]!SIXTH_PLAN_SF,\nMATCH($C$9,[1]!APPLIANCES,0),\nMATCH(E$10,[1]!SIXTH_PLAN_SF_YEARS,0)),\"pre-dates plan\")","v":"pre-dates plan"},{"$f":"IF(ISNUMBER(MATCH(F10,[1]!SIXTH_PLAN_SF_YEARS,0)),\nINDEX([1]!SIXTH_PLAN_SF,\nMATCH($C$9,[1]!APPLIANCES,0),\nMATCH(F$10,[1]!SIXTH_PLAN_SF_YEARS,0)),\"pre-dates plan\")","v":"pre-dates plan"},{"$f":"IF(ISNUMBER(MATCH(G10,[1]!SIXTH_PLAN_SF_YEARS,0)),\nINDEX([1]!SIXTH_PLAN_SF,\nMATCH($C$9,[1]!APPLIANCES,0),\nMATCH(G$10,[1]!SIXTH_PLAN_SF_YEARS,0)),\"pre-dates plan\")","v":"pre-dates plan"},{"$f":"IF(ISNUMBER(MATCH(H10,[1]!SIXTH_PLAN_SF_YEARS,0)),\nINDEX([1]!SIXTH_PLAN_SF,\nMATCH($C$9,[1]!APPLIANCES,0),\nMATCH(H$10,[1]!SIXTH_PLAN_SF_YEARS,0)),\"pre-dates plan\")","v":"pre-dates plan"},{"$f":"IF(ISNUMBER(MATCH(I10,[1]!SIXTH_PLAN_SF_YEARS,0)),\nINDEX([1]!SIXTH_PLAN_SF,\nMATCH($C$9,[1]!APPLIANCES,0),\nMATCH(I$10,[1]!SIXTH_PLAN_SF_YEARS,0)),\"pre-dates plan\")","v":"pre-dates plan"},{"$f":"IF(ISNUMBER(MATCH(J10,[1]!SIXTH_PLAN_SF_YEARS,0)),\nINDEX([1]!SIXTH_PLAN_SF,\nMATCH($C$9,[1]!APPLIANCES,0),\nMATCH(J$10,[1]!SIXTH_PLAN_SF_YEARS,0)),\"pre-dates plan\")","v":"pre-dates plan"},{"$f":"IF(ISNUMBER(MATCH(K10,[1]!SIXTH_PLAN_SF_YEARS,0)),\nINDEX([1]!SIXTH_PLAN_SF,\nMATCH($C$9,[1]!APPLIANCES,0),\nMATCH(K$10,[1]!SIXTH_PLAN_SF_YEARS,0)),\"pre-dates plan\")","v":"pre-dates plan"},{"$f":"IF(ISNUMBER(MATCH(L10,[1]!SIXTH_PLAN_SF_YEARS,0)),\nINDEX([1]!SIXTH_PLAN_SF,\nMATCH($C$9,[1]!APPLIANCES,0),\nMATCH(L$10,[1]!SIXTH_PLAN_SF_YEARS,0)),\"pre-dates plan\")","v":"pre-dates plan"},{"$f":"IF(ISNUMBER(MATCH(M10,[1]!SIXTH_PLAN_SF_YEARS,0)),\nINDEX([1]!SIXTH_PLAN_SF,\nMATCH($C$9,[1]!APPLIANCES,0),\nMATCH(M$10,[1]!SIXTH_PLAN_SF_YEARS,0)),\"pre-dates plan\")","v":"pre-dates plan"},{"$f":"IF(ISNUMBER(MATCH(N10,[1]!SIXTH_PLAN_SF_YEARS,0)),\nINDEX([1]!SIXTH_PLAN_SF,\nMATCH($C$9,[1]!APPLIANCES,0),\nMATCH(N$10,[1]!SIXTH_PLAN_SF_YEARS,0)),\"pre-dates plan\")","v":"pre-dates plan"},{"$f":"IF(ISNUMBER(MATCH(O10,[1]!SIXTH_PLAN_SF_YEARS,0)),\nINDEX([1]!SIXTH_PLAN_SF,\nMATCH($C$9,[1]!APPLIANCES,0),\nMATCH(O$10,[1]!SIXTH_PLAN_SF_YEARS,0)),\"pre-dates plan\")","v":"pre-dates plan"},{"$f":"IF(ISNUMBER(MATCH(P10,[1]!SIXTH_PLAN_SF_YEARS,0)),\nINDEX([1]!SIXTH_PLAN_SF,\nMATCH($C$9,[1]!APPLIANCES,0),\nMATCH(P$10,[1]!SIXTH_PLAN_SF_YEARS,0)),\"pre-dates plan\")","v":"pre-dates plan"},{"$f":"IF(ISNUMBER(MATCH(Q10,[1]!SIXTH_PLAN_SF_YEARS,0)),\nINDEX([1]!SIXTH_PLAN_SF,\nMATCH($C$9,[1]!APPLIANCES,0),\nMATCH(Q$10,[1]!SIXTH_PLAN_SF_YEARS,0)),\"pre-dates plan\")","v":"pre-dates plan"},{"$f":"IF(ISNUMBER(MATCH(R10,[1]!SIXTH_PLAN_SF_YEARS,0)),\nINDEX([1]!SIXTH_PLAN_SF,\nMATCH($C$9,[1]!APPLIANCES,0),\nMATCH(R$10,[1]!SIXTH_PLAN_SF_YEARS,0)),\"pre-dates plan\")","v":"pre-dates plan"},{"$f":"IF(ISNUMBER(MATCH(S10,[1]!SIXTH_PLAN_SF_YEARS,0)),\nINDEX([1]!SIXTH_PLAN_SF,\nMATCH($C$9,[1]!APPLIANCES,0),\nMATCH(S$10,[1]!SIXTH_PLAN_SF_YEARS,0)),\"pre-dates plan\")","v":"pre-dates plan"},{"$f":"IF(ISNUMBER(MATCH(T10,[1]!SIXTH_PLAN_SF_YEARS,0)),\nINDEX([1]!SIXTH_PLAN_SF,\nMATCH($C$9,[1]!APPLIANCES,0),\nMATCH(T$10,[1]!SIXTH_PLAN_SF_YEARS,0)),\"pre-dates plan\")","v":"pre-dates plan"},{"$f":"IF(ISNUMBER(MATCH(U10,[1]!SIXTH_PLAN_SF_YEARS,0)),\nINDEX([1]!SIXTH_PLAN_SF,\nMATCH($C$9,[1]!APPLIANCES,0),\nMATCH(U$10,[1]!SIXTH_PLAN_SF_YEARS,0)),\"pre-dates plan\")","v":"pre-dates plan"},{"$f":"IF(ISNUMBER(MATCH(V10,[1]!SIXTH_PLAN_SF_YEARS,0)),\nINDEX([1]!SIXTH_PLAN_SF,\nMATCH($C$9,[1]!APPLIANCES,0),\nMATCH(V$10,[1]!SIXTH_PLAN_SF_YEARS,0)),\"pre-dates plan\")","v":"pre-dates plan"},{"$f":"IF(ISNUMBER(MATCH(W10,[1]!SIXTH_PLAN_SF_YEARS,0)),\nINDEX([1]!SIXTH_PLAN_SF,\nMATCH($C$9,[1]!APPLIANCES,0),\nMATCH(W$10,[1]!SIXTH_PLAN_SF_YEARS,0)),\"pre-dates plan\")","v":"pre-dates plan"},{"$f":"IF(ISNUMBER(MATCH(X10,[1]!SIXTH_PLAN_SF_YEARS,0)),\nINDEX([1]!SIXTH_PLAN_SF,\nMATCH($C$9,[1]!APPLIANCES,0),\nMATCH(X$10,[1]!SIXTH_PLAN_SF_YEARS,0)),\"pre-dates plan\")","v":"pre-dates plan"},{"$f":"IF(ISNUMBER(MATCH(Y10,[1]!SIXTH_PLAN_SF_YEARS,0)),\nINDEX([1]!SIXTH_PLAN_SF,\nMATCH($C$9,[1]!APPLIANCES,0),\nMATCH(Y$10,[1]!SIXTH_PLAN_SF_YEARS,0)),\"pre-dates plan\")","v":"pre-dates plan"},{"$f":"IF(ISNUMBER(MATCH(Z10,[1]!SIXTH_PLAN_SF_YEARS,0)),\nINDEX([1]!SIXTH_PLAN_SF,\nMATCH($C$9,[1]!APPLIANCES,0),\nMATCH(Z$10,[1]!SIXTH_PLAN_SF_YEARS,0)),\"pre-dates plan\")","v":"pre-dates plan"},{"$f":"IF(ISNUMBER(MATCH(AA10,[1]!SIXTH_PLAN_SF_YEARS,0)),\nINDEX([1]!SIXTH_PLAN_SF,\nMATCH($C$9,[1]!APPLIANCES,0),\nMATCH(AA$10,[1]!SIXTH_PLAN_SF_YEARS,0)),\"pre-dates plan\")","v":"pre-dates plan"},{"$f":"IF(ISNUMBER(MATCH(AB10,[1]!SIXTH_PLAN_SF_YEARS,0)),\nINDEX([1]!SIXTH_PLAN_SF,\nMATCH($C$9,[1]!APPLIANCES,0),\nMATCH(AB$10,[1]!SIXTH_PLAN_SF_YEARS,0)),\"pre-dates plan\")","v":"pre-dates plan"},{"$f":"IF(ISNUMBER(MATCH(AC10,[1]!SIXTH_PLAN_SF_YEARS,0)),\nINDEX([1]!SIXTH_PLAN_SF,\nMATCH($C$9,[1]!APPLIANCES,0),\nMATCH(AC$10,[1]!SIXTH_PLAN_SF_YEARS,0)),\"pre-dates plan\")","v":"pre-dates plan"},{"$f":"IF(ISNUMBER(MATCH(AD10,[1]!SIXTH_PLAN_SF_YEARS,0)),\nINDEX([1]!SIXTH_PLAN_SF,\nMATCH($C$9,[1]!APPLIANCES,0),\nMATCH(AD$10,[1]!SIXTH_PLAN_SF_YEARS,0)),\"pre-dates plan\")","v":"pre-dates plan"},{"$f":"IF(ISNUMBER(MATCH(AE10,[1]!SIXTH_PLAN_SF_YEARS,0)),\nINDEX([1]!SIXTH_PLAN_SF,\nMATCH($C$9,[1]!APPLIANCES,0),\nMATCH(AE$10,[1]!SIXTH_PLAN_SF_YEARS,0)),\"pre-dates plan\")","v":"pre-dates plan"},{"$f":"IF(ISNUMBER(MATCH(AF10,[1]!SIXTH_PLAN_SF_YEARS,0)),\nINDEX([1]!SIXTH_PLAN_SF,\nMATCH($C$9,[1]!APPLIANCES,0),\nMATCH(AF$10,[1]!SIXTH_PLAN_SF_YEARS,0)),\"pre-dates plan\")","v":"pre-dates plan"},{"$f":"IF(ISNUMBER(MATCH(AG10,[1]!SIXTH_PLAN_SF_YEARS,0)),\nINDEX([1]!SIXTH_PLAN_SF,\nMATCH($C$9,[1]!APPLIANCES,0),\nMATCH(AG$10,[1]!SIXTH_PLAN_SF_YEARS,0)),\"pre-dates plan\")","v":"pre-dates plan"},{"$f":"IF(ISNUMBER(MATCH(AH10,[1]!SIXTH_PLAN_SF_YEARS,0)),\nINDEX([1]!SIXTH_PLAN_SF,\nMATCH($C$9,[1]!APPLIANCES,0),\nMATCH(AH$10,[1]!SIXTH_PLAN_SF_YEARS,0)),\"pre-dates plan\")","v":55721.129220756338},{"$f":"IF(ISNUMBER(MATCH(AI10,[1]!SIXTH_PLAN_SF_YEARS,0)),\nINDEX([1]!SIXTH_PLAN_SF,\nMATCH($C$9,[1]!APPLIANCES,0),\nMATCH(AI$10,[1]!SIXTH_PLAN_SF_YEARS,0)),\"pre-dates plan\")","v":58267.429998211432},{"$f":"IF(ISNUMBER(MATCH(AJ10,[1]!SIXTH_PLAN_SF_YEARS,0)),\nINDEX([1]!SIXTH_PLAN_SF,\nMATCH($C$9,[1]!APPLIANCES,0),\nMATCH(AJ$10,[1]!SIXTH_PLAN_SF_YEARS,0)),\"pre-dates plan\")","v":59426.419759107492},{"$f":"IF(ISNUMBER(MATCH(AK10,[1]!SIXTH_PLAN_SF_YEARS,0)),\nINDEX([1]!SIXTH_PLAN_SF,\nMATCH($C$9,[1]!APPLIANCES,0),\nMATCH(AK$10,[1]!SIXTH_PLAN_SF_YEARS,0)),\"pre-dates plan\")","v":59641.033456806312},{"$f":"IF(ISNUMBER(MATCH(AL10,[1]!SIXTH_PLAN_SF_YEARS,0)),\nINDEX([1]!SIXTH_PLAN_SF,\nMATCH($C$9,[1]!APPLIANCES,0),\nMATCH(AL$10,[1]!SIXTH_PLAN_SF_YEARS,0)),\"pre-dates plan\")","v":59579.684627708994},{"$f":"IF(ISNUMBER(MATCH(AM10,[1]!SIXTH_PLAN_SF_YEARS,0)),\nINDEX([1]!SIXTH_PLAN_SF,\nMATCH($C$9,[1]!APPLIANCES,0),\nMATCH(AM$10,[1]!SIXTH_PLAN_SF_YEARS,0)),\"pre-dates plan\")","v":59606.522276978445},{"$f":"IF(ISNUMBER(MATCH(AN10,[1]!SIXTH_PLAN_SF_YEARS,0)),\nINDEX([1]!SIXTH_PLAN_SF,\nMATCH($C$9,[1]!APPLIANCES,0),\nMATCH(AN$10,[1]!SIXTH_PLAN_SF_YEARS,0)),\"pre-dates plan\")","v":59634.406782175436},{"$f":"IF(ISNUMBER(MATCH(AO10,[1]!SIXTH_PLAN_SF_YEARS,0)),\nINDEX([1]!SIXTH_PLAN_SF,\nMATCH($C$9,[1]!APPLIANCES,0),\nMATCH(AO$10,[1]!SIXTH_PLAN_SF_YEARS,0)),\"pre-dates plan\")","v":59482.153350912013},{"$f":"IF(ISNUMBER(MATCH(AP10,[1]!SIXTH_PLAN_SF_YEARS,0)),\nINDEX([1]!SIXTH_PLAN_SF,\nMATCH($C$9,[1]!APPLIANCES,0),\nMATCH(AP$10,[1]!SIXTH_PLAN_SF_YEARS,0)),\"pre-dates plan\")","v":59312.075494552373},{"$f":"IF(ISNUMBER(MATCH(AQ10,[1]!SIXTH_PLAN_SF_YEARS,0)),\nINDEX([1]!SIXTH_PLAN_SF,\nMATCH($C$9,[1]!APPLIANCES,0),\nMATCH(AQ$10,[1]!SIXTH_PLAN_SF_YEARS,0)),\"pre-dates plan\")","v":8185.4198770448802},{"$f":"IF(ISNUMBER(MATCH(AR10,[1]!SIXTH_PLAN_SF_YEARS,0)),\nINDEX([1]!SIXTH_PLAN_SF,\nMATCH($C$9,[1]!APPLIANCES,0),\nMATCH(AR$10,[1]!SIXTH_PLAN_SF_YEARS,0)),\"pre-dates plan\")","v":8046.9914046619788},{"$f":"IF(ISNUMBER(MATCH(AS10,[1]!SIXTH_PLAN_SF_YEARS,0)),\nINDEX([1]!SIXTH_PLAN_SF,\nMATCH($C$9,[1]!APPLIANCES,0),\nMATCH(AS$10,[1]!SIXTH_PLAN_SF_YEARS,0)),\"pre-dates plan\")","v":7836.5960735502558},{"$f":"IF(ISNUMBER(MATCH(AT10,[1]!SIXTH_PLAN_SF_YEARS,0)),\nINDEX([1]!SIXTH_PLAN_SF,\nMATCH($C$9,[1]!APPLIANCES,0),\nMATCH(AT$10,[1]!SIXTH_PLAN_SF_YEARS,0)),\"pre-dates plan\")","v":7697.3810348193247},{"$f":"IF(ISNUMBER(MATCH(AU10,[1]!SIXTH_PLAN_SF_YEARS,0)),\nINDEX([1]!SIXTH_PLAN_SF,\nMATCH($C$9,[1]!APPLIANCES,0),\nMATCH(AU$10,[1]!SIXTH_PLAN_SF_YEARS,0)),\"pre-dates plan\")","v":7597.005815978061},{"$f":"IF(ISNUMBER(MATCH(AV10,[1]!SIXTH_PLAN_SF_YEARS,0)),\nINDEX([1]!SIXTH_PLAN_SF,\nMATCH($C$9,[1]!APPLIANCES,0),\nMATCH(AV$10,[1]!SIXTH_PLAN_SF_YEARS,0)),\"pre-dates plan\")","v":7481.984044898998},{"$f":"IF(ISNUMBER(MATCH(AW10,[1]!SIXTH_PLAN_SF_YEARS,0)),\nINDEX([1]!SIXTH_PLAN_SF,\nMATCH($C$9,[1]!APPLIANCES,0),\nMATCH(AW$10,[1]!SIXTH_PLAN_SF_YEARS,0)),\"pre-dates plan\")","v":7456.4639388495943},{"$f":"IF(ISNUMBER(MATCH(AX10,[1]!SIXTH_PLAN_SF_YEARS,0)),\nINDEX([1]!SIXTH_PLAN_SF,\nMATCH($C$9,[1]!APPLIANCES,0),\nMATCH(AX$10,[1]!SIXTH_PLAN_SF_YEARS,0)),\"pre-dates plan\")","v":7388.6580987323105},{"$f":"IF(ISNUMBER(MATCH(AY10,[1]!SIXTH_PLAN_SF_YEARS,0)),\nINDEX([1]!SIXTH_PLAN_SF,\nMATCH($C$9,[1]!APPLIANCES,0),\nMATCH(AY$10,[1]!SIXTH_PLAN_SF_YEARS,0)),\"pre-dates plan\")","v":7243.7132740030856},{"$f":"IF(ISNUMBER(MATCH(AZ10,[1]!SIXTH_PLAN_SF_YEARS,0)),\nINDEX([1]!SIXTH_PLAN_SF,\nMATCH($C$9,[1]!APPLIANCES,0),\nMATCH(AZ$10,[1]!SIXTH_PLAN_SF_YEARS,0)),\"pre-dates plan\")","v":7055.0880631772525},{"$f":"IF(ISNUMBER(MATCH(BA10,[1]!SIXTH_PLAN_SF_YEARS,0)),\nINDEX([1]!SIXTH_PLAN_SF,\nMATCH($C$9,[1]!APPLIANCES,0),\nMATCH(BA$10,[1]!SIXTH_PLAN_SF_YEARS,0)),\"pre-dates plan\")","v":6926.4789415318592},{"$f":"IF(ISNUMBER(MATCH(BB10,[1]!SIXTH_PLAN_SF_YEARS,0)),\nINDEX([1]!SIXTH_PLAN_SF,\nMATCH($C$9,[1]!APPLIANCES,0),\nMATCH(BB$10,[1]!SIXTH_PLAN_SF_YEARS,0)),\"pre-dates plan\")","v":6898.6646775123527},{"$f":"IF(ISNUMBER(MATCH(BC10,[1]!SIXTH_PLAN_SF_YEARS,0)),\nINDEX([1]!SIXTH_PLAN_SF,\nMATCH($C$9,[1]!APPLIANCES,0),\nMATCH(BC$10,[1]!SIXTH_PLAN_SF_YEARS,0)),\"pre-dates plan\")","v":6898.6646775123527},{"$f":"IF(ISNUMBER(MATCH(BD10,[1]!SIXTH_PLAN_SF_YEARS,0)),\nINDEX([1]!SIXTH_PLAN_SF,\nMATCH($C$9,[1]!APPLIANCES,0),\nMATCH(BD$10,[1]!SIXTH_PLAN_SF_YEARS,0)),\"pre-dates plan\")","v":6898.6646775123527},{"$f":"IF(ISNUMBER(MATCH(BE10,[1]!SIXTH_PLAN_SF_YEARS,0)),\nINDEX([1]!SIXTH_PLAN_SF,\nMATCH($C$9,[1]!APPLIANCES,0),\nMATCH(BE$10,[1]!SIXTH_PLAN_SF_YEARS,0)),\"pre-dates plan\")","v":6898.6646775123527},{"$f":"IF(ISNUMBER(MATCH(BF10,[1]!SIXTH_PLAN_SF_YEARS,0)),\nINDEX([1]!SIXTH_PLAN_SF,\nMATCH($C$9,[1]!APPLIANCES,0),\nMATCH(BF$10,[1]!SIXTH_PLAN_SF_YEARS,0)),\"pre-dates plan\")","v":6898.6646775123527}]
[null,null,"Replacement Shipments","(units)",{"$f":"INDEX([1]!SHIPMENTS_SF,\n((MATCH($C$9,[1]!APPLIANCES,0)-1)*2)+1,\nMATCH(E$10,[1]!SHIPMENTS_SF_YEARS,0))","v":19709.165625563317},{"$f":"INDEX([1]!SHIPMENTS_SF,\n((MATCH($C$9,[1]!APPLIANCES,0)-1)*2)+1,\nMATCH(F$10,[1]!SHIPMENTS_SF_YEARS,0))","v":19709.165625563317},{"$f":"INDEX([1]!SHIPMENTS_SF,\n((MATCH($C$9,[1]!APPLIANCES,0)-1)*2)+1,\nMATCH(G$10,[1]!SHIPMENTS_SF_YEARS,0))","v":19709.165625563317},{"$f":"INDEX([1]!SHIPMENTS_SF,\n((MATCH($C$9,[1]!APPLIANCES,0)-1)*2)+1,\nMATCH(H$10,[1]!SHIPMENTS_SF_YEARS,0))","v":19709.165625563317},{"$f":"INDEX([1]!SHIPMENTS_SF,\n((MATCH($C$9,[1]!APPLIANCES,0)-1)*2)+1,\nMATCH(I$10,[1]!SHIPMENTS_SF_YEARS,0))","v":19709.165625563317},{"$f":"INDEX([1]!SHIPMENTS_SF,\n((MATCH($C$9,[1]!APPLIANCES,0)-1)*2)+1,\nMATCH(J$10,[1]!SHIPMENTS_SF_YEARS,0))","v":19709.165625563317},{"$f":"INDEX([1]!SHIPMENTS_SF,\n((MATCH($C$9,[1]!APPLIANCES,0)-1)*2)+1,\nMATCH(K$10,[1]!SHIPMENTS_SF_YEARS,0))","v":19709.165625563317},{"$f":"INDEX([1]!SHIPMENTS_SF,\n((MATCH($C$9,[1]!APPLIANCES,0)-1)*2)+1,\nMATCH(L$10,[1]!SHIPMENTS_SF_YEARS,0))","v":19709.165625563317},{"$f":"INDEX([1]!SHIPMENTS_SF,\n((MATCH($C$9,[1]!APPLIANCES,0)-1)*2)+1,\nMATCH(M$10,[1]!SHIPMENTS_SF_YEARS,0))","v":19709.165625563317},{"$f":"INDEX([1]!SHIPMENTS_SF,\n((MATCH($C$9,[1]!APPLIANCES,0)-1)*2)+1,\nMATCH(N$10,[1]!SHIPMENTS_SF_YEARS,0))","v":19709.165625563317},{"$f":"INDEX([1]!SHIPMENTS_SF,\n((MATCH($C$9,[1]!APPLIANCES,0)-1)*2)+1,\nMATCH(O$10,[1]!SHIPMENTS_SF_YEARS,0))","v":19709.165625563317},{"$f":"INDEX([1]!SHIPMENTS_SF,\n((MATCH($C$9,[1]!APPLIANCES,0)-1)*2)+1,\nMATCH(P$10,[1]!SHIPMENTS_SF_YEARS,0))","v":22447.666069860617},{"$f":"INDEX([1]!SHIPMENTS_SF,\n((MATCH($C$9,[1]!APPLIANCES,0)-1)*2)+1,\nMATCH(Q$10,[1]!SHIPMENTS_SF_YEARS,0))","v":21592.238940896921},{"$f":"INDEX([1]!SHIPMENTS_SF,\n((MATCH($C$9,[1]!APPLIANCES,0)-1)*2)+1,\nMATCH(R$10,[1]!SHIPMENTS_SF_YEARS,0))","v":22629.810628069492},{"$f":"INDEX([1]!SHIPMENTS_SF,\n((MATCH($C$9,[1]!APPLIANCES,0)-1)*2)+1,\nMATCH(S$10,[1]!SHIPMENTS_SF_YEARS,0))","v":22423.126182006457},{"$f":"INDEX([1]!SHIPMENTS_SF,\n((MATCH($C$9,[1]!APPLIANCES,0)-1)*2)+1,\nMATCH(T$10,[1]!SHIPMENTS_SF_YEARS,0))","v":22298.360313220575},{"$f":"INDEX([1]!SHIPMENTS_SF,\n((MATCH($C$9,[1]!APPLIANCES,0)-1)*2)+1,\nMATCH(U$10,[1]!SHIPMENTS_SF_YEARS,0))","v":22505.617384329951},{"$f":"INDEX([1]!SHIPMENTS_SF,\n((MATCH($C$9,[1]!APPLIANCES,0)-1)*2)+1,\nMATCH(V$10,[1]!SHIPMENTS_SF_YEARS,0))","v":22522.206912845508},{"$f":"INDEX([1]!SHIPMENTS_SF,\n((MATCH($C$9,[1]!APPLIANCES,0)-1)*2)+1,\nMATCH(W$10,[1]!SHIPMENTS_SF_YEARS,0))","v":22811.291273181199},{"$f":"INDEX([1]!SHIPMENTS_SF,\n((MATCH($C$9,[1]!APPLIANCES,0)-1)*2)+1,\nMATCH(X$10,[1]!SHIPMENTS_SF_YEARS,0))","v":23521.11396102158},{"$f":"INDEX([1]!SHIPMENTS_SF,\n((MATCH($C$9,[1]!APPLIANCES,0)-1)*2)+1,\nMATCH(Y$10,[1]!SHIPMENTS_SF_YEARS,0))","v":24049.431107009168},{"$f":"INDEX([1]!SHIPMENTS_SF,\n((MATCH($C$9,[1]!APPLIANCES,0)-1)*2)+1,\nMATCH(Z$10,[1]!SHIPMENTS_SF_YEARS,0))","v":23511.213356960001},{"$f":"INDEX([1]!SHIPMENTS_SF,\n((MATCH($C$9,[1]!APPLIANCES,0)-1)*2)+1,\nMATCH(AA$10,[1]!SHIPMENTS_SF_YEARS,0))","v":27157.241510521522},{"$f":"INDEX([1]!SHIPMENTS_SF,\n((MATCH($C$9,[1]!APPLIANCES,0)-1)*2)+1,\nMATCH(AB$10,[1]!SHIPMENTS_SF_YEARS,0))","v":24081.974379011652},{"$f":"INDEX([1]!SHIPMENTS_SF,\n((MATCH($C$9,[1]!APPLIANCES,0)-1)*2)+1,\nMATCH(AC$10,[1]!SHIPMENTS_SF_YEARS,0))","v":25317.068236684994},{"$f":"INDEX([1]!SHIPMENTS_SF,\n((MATCH($C$9,[1]!APPLIANCES,0)-1)*2)+1,\nMATCH(AD$10,[1]!SHIPMENTS_SF_YEARS,0))","v":24417.515226814332},{"$f":"INDEX([1]!SHIPMENTS_SF,\n((MATCH($C$9,[1]!APPLIANCES,0)-1)*2)+1,\nMATCH(AE$10,[1]!SHIPMENTS_SF_YEARS,0))","v":24389.586286970516},{"$f":"INDEX([1]!SHIPMENTS_SF,\n((MATCH($C$9,[1]!APPLIANCES,0)-1)*2)+1,\nMATCH(AF$10,[1]!SHIPMENTS_SF_YEARS,0))","v":23291.162433397767},{"$f":"INDEX([1]!SHIPMENTS_SF,\n((MATCH($C$9,[1]!APPLIANCES,0)-1)*2)+1,\nMATCH(AG$10,[1]!SHIPMENTS_SF_YEARS,0))","v":22769.282837459545},{"$f":"INDEX([1]!SHIPMENTS_SF,\n((MATCH($C$9,[1]!APPLIANCES,0)-1)*2)+1,\nMATCH(AH$10,[1]!SHIPMENTS_SF_YEARS,0))","v":23913.314650618402},{"$f":"INDEX([1]!SHIPMENTS_SF,\n((MATCH($C$9,[1]!APPLIANCES,0)-1)*2)+1,\nMATCH(AI$10,[1]!SHIPMENTS_SF_YEARS,0))","v":24843.88778941274},{"$f":"INDEX([1]!SHIPMENTS_SF,\n((MATCH($C$9,[1]!APPLIANCES,0)-1)*2)+1,\nMATCH(AJ$10,[1]!SHIPMENTS_SF_YEARS,0))","v":25365.733146067989},{"$f":"INDEX([1]!SHIPMENTS_SF,\n((MATCH($C$9,[1]!APPLIANCES,0)-1)*2)+1,\nMATCH(AK$10,[1]!SHIPMENTS_SF_YEARS,0))","v":25258.752872856581},{"$f":"INDEX([1]!SHIPMENTS_SF,\n((MATCH($C$9,[1]!APPLIANCES,0)-1)*2)+1,\nMATCH(AL$10,[1]!SHIPMENTS_SF_YEARS,0))","v":29308.024056238137},{"$f":"INDEX([1]!SHIPMENTS_SF,\n((MATCH($C$9,[1]!APPLIANCES,0)-1)*2)+1,\nMATCH(AM$10,[1]!SHIPMENTS_SF_YEARS,0))","v":26373.260132046755},{"$f":"INDEX([1]!SHIPMENTS_SF,\n((MATCH($C$9,[1]!APPLIANCES,0)-1)*2)+1,\nMATCH(AN$10,[1]!SHIPMENTS_SF_YEARS,0))","v":28078.301212094884},{"$f":"INDEX([1]!SHIPMENTS_SF,\n((MATCH($C$9,[1]!APPLIANCES,0)-1)*2)+1,\nMATCH(AO$10,[1]!SHIPMENTS_SF_YEARS,0))","v":26411.184301654415},{"$f":"INDEX([1]!SHIPMENTS_SF,\n((MATCH($C$9,[1]!APPLIANCES,0)-1)*2)+1,\nMATCH(AP$10,[1]!SHIPMENTS_SF_YEARS,0))","v":24977.440807500141},{"$f":"INDEX([1]!SHIPMENTS_SF,\n((MATCH($C$9,[1]!APPLIANCES,0)-1)*2)+1,\nMATCH(AQ$10,[1]!SHIPMENTS_SF_YEARS,0))","v":23291.162433397767},{"$f":"INDEX([1]!SHIPMENTS_SF,\n((MATCH($C$9,[1]!APPLIANCES,0)-1)*2)+1,\nMATCH(AR$10,[1]!SHIPMENTS_SF_YEARS,0))","v":22769.282837459545},{"$f":"INDEX([1]!SHIPMENTS_SF,\n((MATCH($C$9,[1]!APPLIANCES,0)-1)*2)+1,\nMATCH(AS$10,[1]!SHIPMENTS_SF_YEARS,0))","v":23913.314650618402},{"$f":"INDEX([1]!SHIPMENTS_SF,\n((MATCH($C$9,[1]!APPLIANCES,0)-1)*2)+1,\nMATCH(AT$10,[1]!SHIPMENTS_SF_YEARS,0))","v":25145.830548259302},{"$f":"INDEX([1]!SHIPMENTS_SF,\n((MATCH($C$9,[1]!APPLIANCES,0)-1)*2)+1,\nMATCH(AU$10,[1]!SHIPMENTS_SF_YEARS,0))","v":29929.956583064562},{"$f":"INDEX([1]!SHIPMENTS_SF,\n((MATCH($C$9,[1]!APPLIANCES,0)-1)*2)+1,\nMATCH(AV$10,[1]!SHIPMENTS_SF_YEARS,0))","v":29938.446960848189},{"$f":"INDEX([1]!SHIPMENTS_SF,\n((MATCH($C$9,[1]!APPLIANCES,0)-1)*2)+1,\nMATCH(AW$10,[1]!SHIPMENTS_SF_YEARS,0))","v":33954.710049641151},{"$f":"INDEX([1]!SHIPMENTS_SF,\n((MATCH($C$9,[1]!APPLIANCES,0)-1)*2)+1,\nMATCH(AX$10,[1]!SHIPMENTS_SF_YEARS,0))","v":31034.385841393076},{"$f":"INDEX([1]!SHIPMENTS_SF,\n((MATCH($C$9,[1]!APPLIANCES,0)-1)*2)+1,\nMATCH(AY$10,[1]!SHIPMENTS_SF_YEARS,0))","v":32754.429887245802},{"$f":"INDEX([1]!SHIPMENTS_SF,\n((MATCH($C$9,[1]!APPLIANCES,0)-1)*2)+1,\nMATCH(AZ$10,[1]!SHIPMENTS_SF_YEARS,0))","v":31005.394613659257},{"$f":"INDEX([1]!SHIPMENTS_SF,\n((MATCH($C$9,[1]!APPLIANCES,0)-1)*2)+1,\nMATCH(BA$10,[1]!SHIPMENTS_SF_YEARS,0))","v":29480.142511227619},{"$f":"INDEX([1]!SHIPMENTS_SF,\n((MATCH($C$9,[1]!APPLIANCES,0)-1)*2)+1,\nMATCH(BB$10,[1]!SHIPMENTS_SF_YEARS,0))","v":27695.241818845665},{"$f":"INDEX([1]!SHIPMENTS_SF,\n((MATCH($C$9,[1]!APPLIANCES,0)-1)*2)+1,\nMATCH(BC$10,[1]!SHIPMENTS_SF_YEARS,0))","v":27098.882234007837},{"$f":"INDEX([1]!SHIPMENTS_SF,\n((MATCH($C$9,[1]!APPLIANCES,0)-1)*2)+1,\nMATCH(BD$10,[1]!SHIPMENTS_SF_YEARS,0))","v":28129.713044107357},{"$f":"INDEX([1]!SHIPMENTS_SF,\n((MATCH($C$9,[1]!APPLIANCES,0)-1)*2)+1,\nMATCH(BE$10,[1]!SHIPMENTS_SF_YEARS,0))","v":29287.32574906799},{"$f":"INDEX([1]!SHIPMENTS_SF,\n((MATCH($C$9,[1]!APPLIANCES,0)-1)*2)+1,\nMATCH(BF$10,[1]!SHIPMENTS_SF_YEARS,0))","v":34017.445949261302}]
[null,null,"Net New Shipments","(units)",{"$f":"INDEX([1]!SHIPMENTS_SF,\n((MATCH($C$9,[1]!APPLIANCES,0)-1)*2)+2,\nMATCH(E$10,[1]!SHIPMENTS_SF_YEARS,0))","v":2738.5004442973004},{"$f":"INDEX([1]!SHIPMENTS_SF,\n((MATCH($C$9,[1]!APPLIANCES,0)-1)*2)+2,\nMATCH(F$10,[1]!SHIPMENTS_SF_YEARS,0))","v":1883.0733153336041},{"$f":"INDEX([1]!SHIPMENTS_SF,\n((MATCH($C$9,[1]!APPLIANCES,0)-1)*2)+2,\nMATCH(G$10,[1]!SHIPMENTS_SF_YEARS,0))","v":2920.6450025061768},{"$f":"INDEX([1]!SHIPMENTS_SF,\n((MATCH($C$9,[1]!APPLIANCES,0)-1)*2)+2,\nMATCH(H$10,[1]!SHIPMENTS_SF_YEARS,0))","v":2713.9605564431404},{"$f":"INDEX([1]!SHIPMENTS_SF,\n((MATCH($C$9,[1]!APPLIANCES,0)-1)*2)+2,\nMATCH(I$10,[1]!SHIPMENTS_SF_YEARS,0))","v":2589.1946876572601},{"$f":"INDEX([1]!SHIPMENTS_SF,\n((MATCH($C$9,[1]!APPLIANCES,0)-1)*2)+2,\nMATCH(J$10,[1]!SHIPMENTS_SF_YEARS,0))","v":2796.4517587666342},{"$f":"INDEX([1]!SHIPMENTS_SF,\n((MATCH($C$9,[1]!APPLIANCES,0)-1)*2)+2,\nMATCH(K$10,[1]!SHIPMENTS_SF_YEARS,0))","v":2813.0412872821908},{"$f":"INDEX([1]!SHIPMENTS_SF,\n((MATCH($C$9,[1]!APPLIANCES,0)-1)*2)+2,\nMATCH(L$10,[1]!SHIPMENTS_SF_YEARS,0))","v":3102.1256476178824},{"$f":"INDEX([1]!SHIPMENTS_SF,\n((MATCH($C$9,[1]!APPLIANCES,0)-1)*2)+2,\nMATCH(M$10,[1]!SHIPMENTS_SF_YEARS,0))","v":3811.9483354582626},{"$f":"INDEX([1]!SHIPMENTS_SF,\n((MATCH($C$9,[1]!APPLIANCES,0)-1)*2)+2,\nMATCH(N$10,[1]!SHIPMENTS_SF_YEARS,0))","v":4340.265481445851},{"$f":"INDEX([1]!SHIPMENTS_SF,\n((MATCH($C$9,[1]!APPLIANCES,0)-1)*2)+2,\nMATCH(O$10,[1]!SHIPMENTS_SF_YEARS,0))","v":3802.047731396684},{"$f":"INDEX([1]!SHIPMENTS_SF,\n((MATCH($C$9,[1]!APPLIANCES,0)-1)*2)+2,\nMATCH(P$10,[1]!SHIPMENTS_SF_YEARS,0))","v":4709.5754406609049},{"$f":"INDEX([1]!SHIPMENTS_SF,\n((MATCH($C$9,[1]!APPLIANCES,0)-1)*2)+2,\nMATCH(Q$10,[1]!SHIPMENTS_SF_YEARS,0))","v":2489.7354381147306},{"$f":"INDEX([1]!SHIPMENTS_SF,\n((MATCH($C$9,[1]!APPLIANCES,0)-1)*2)+2,\nMATCH(R$10,[1]!SHIPMENTS_SF_YEARS,0))","v":2687.2576086155022},{"$f":"INDEX([1]!SHIPMENTS_SF,\n((MATCH($C$9,[1]!APPLIANCES,0)-1)*2)+2,\nMATCH(S$10,[1]!SHIPMENTS_SF_YEARS,0))","v":1994.3890448078746},{"$f":"INDEX([1]!SHIPMENTS_SF,\n((MATCH($C$9,[1]!APPLIANCES,0)-1)*2)+2,\nMATCH(T$10,[1]!SHIPMENTS_SF_YEARS,0))","v":2091.2259737499407},{"$f":"INDEX([1]!SHIPMENTS_SF,\n((MATCH($C$9,[1]!APPLIANCES,0)-1)*2)+2,\nMATCH(U$10,[1]!SHIPMENTS_SF_YEARS,0))","v":1952.0502562272013},{"$f":"INDEX([1]!SHIPMENTS_SF,\n((MATCH($C$9,[1]!APPLIANCES,0)-1)*2)+2,\nMATCH(V$10,[1]!SHIPMENTS_SF_YEARS,0))","v":2020.5851036219392},{"$f":"INDEX([1]!SHIPMENTS_SF,\n((MATCH($C$9,[1]!APPLIANCES,0)-1)*2)+2,\nMATCH(W$10,[1]!SHIPMENTS_SF_YEARS,0))","v":1809.4122235162649},{"$f":"INDEX([1]!SHIPMENTS_SF,\n((MATCH($C$9,[1]!APPLIANCES,0)-1)*2)+2,\nMATCH(X$10,[1]!SHIPMENTS_SF_YEARS,0))","v":1322.7738283911604},{"$f":"INDEX([1]!SHIPMENTS_SF,\n((MATCH($C$9,[1]!APPLIANCES,0)-1)*2)+2,\nMATCH(Y$10,[1]!SHIPMENTS_SF_YEARS,0))","v":1316.3020390588208},{"$f":"INDEX([1]!SHIPMENTS_SF,\n((MATCH($C$9,[1]!APPLIANCES,0)-1)*2)+2,\nMATCH(Z$10,[1]!SHIPMENTS_SF_YEARS,0))","v":1747.5395158965839},{"$f":"INDEX([1]!SHIPMENTS_SF,\n((MATCH($C$9,[1]!APPLIANCES,0)-1)*2)+2,\nMATCH(AA$10,[1]!SHIPMENTS_SF_YEARS,0))","v":2150.7825457166182},{"$f":"INDEX([1]!SHIPMENTS_SF,\n((MATCH($C$9,[1]!APPLIANCES,0)-1)*2)+2,\nMATCH(AB$10,[1]!SHIPMENTS_SF_YEARS,0))","v":2291.285753035103},{"$f":"INDEX([1]!SHIPMENTS_SF,\n((MATCH($C$9,[1]!APPLIANCES,0)-1)*2)+2,\nMATCH(AC$10,[1]!SHIPMENTS_SF_YEARS,0))","v":2761.2329754098901},{"$f":"INDEX([1]!SHIPMENTS_SF,\n((MATCH($C$9,[1]!APPLIANCES,0)-1)*2)+2,\nMATCH(AD$10,[1]!SHIPMENTS_SF_YEARS,0))","v":1993.669074840087},{"$f":"INDEX([1]!SHIPMENTS_SF,\n((MATCH($C$9,[1]!APPLIANCES,0)-1)*2)+2,\nMATCH(AE$10,[1]!SHIPMENTS_SF_YEARS,0))","v":587.85452052962501},{"$f":"INDEX([1]!SHIPMENTS_SF,\n((MATCH($C$9,[1]!APPLIANCES,0)-1)*2)+2,\nMATCH(AF$10,[1]!SHIPMENTS_SF_YEARS,0))","v":0},{"$f":"INDEX([1]!SHIPMENTS_SF,\n((MATCH($C$9,[1]!APPLIANCES,0)-1)*2)+2,\nMATCH(AG$10,[1]!SHIPMENTS_SF_YEARS,0))","v":0},{"$f":"INDEX([1]!SHIPMENTS_SF,\n((MATCH($C$9,[1]!APPLIANCES,0)-1)*2)+2,\nMATCH(AH$10,[1]!SHIPMENTS_SF_YEARS,0))","v":0},{"$f":"INDEX([1]!SHIPMENTS_SF,\n((MATCH($C$9,[1]!APPLIANCES,0)-1)*2)+2,\nMATCH(AI$10,[1]!SHIPMENTS_SF_YEARS,0))","v":301.94275884656236},{"$f":"INDEX([1]!SHIPMENTS_SF,\n((MATCH($C$9,[1]!APPLIANCES,0)-1)*2)+2,\nMATCH(AJ$10,[1]!SHIPMENTS_SF_YEARS,0))","v":4564.2234369965745},{"$f":"INDEX([1]!SHIPMENTS_SF,\n((MATCH($C$9,[1]!APPLIANCES,0)-1)*2)+2,\nMATCH(AK$10,[1]!SHIPMENTS_SF_YEARS,0))","v":4679.6940879916074},{"$f":"INDEX([1]!SHIPMENTS_SF,\n((MATCH($C$9,[1]!APPLIANCES,0)-1)*2)+2,\nMATCH(AL$10,[1]!SHIPMENTS_SF_YEARS,0))","v":4646.6859934030153},{"$f":"INDEX([1]!SHIPMENTS_SF,\n((MATCH($C$9,[1]!APPLIANCES,0)-1)*2)+2,\nMATCH(AM$10,[1]!SHIPMENTS_SF_YEARS,0))","v":4661.1257093463209},{"$f":"INDEX([1]!SHIPMENTS_SF,\n((MATCH($C$9,[1]!APPLIANCES,0)-1)*2)+2,\nMATCH(AN$10,[1]!SHIPMENTS_SF_YEARS,0))","v":4676.1286751509178},{"$f":"INDEX([1]!SHIPMENTS_SF,\n((MATCH($C$9,[1]!APPLIANCES,0)-1)*2)+2,\nMATCH(AO$10,[1]!SHIPMENTS_SF_YEARS,0))","v":4594.2103120048414},{"$f":"INDEX([1]!SHIPMENTS_SF,\n((MATCH($C$9,[1]!APPLIANCES,0)-1)*2)+2,\nMATCH(AP$10,[1]!SHIPMENTS_SF_YEARS,0))","v":4502.7017037274782},{"$f":"INDEX([1]!SHIPMENTS_SF,\n((MATCH($C$9,[1]!APPLIANCES,0)-1)*2)+2,\nMATCH(AQ$10,[1]!SHIPMENTS_SF_YEARS,0))","v":4404.0793854478979},{"$f":"INDEX([1]!SHIPMENTS_SF,\n((MATCH($C$9,[1]!APPLIANCES,0)-1)*2)+2,\nMATCH(AR$10,[1]!SHIPMENTS_SF_YEARS,0))","v":4329.5993965482921},{"$f":"INDEX([1]!SHIPMENTS_SF,\n((MATCH($C$9,[1]!APPLIANCES,0)-1)*2)+2,\nMATCH(AS$10,[1]!SHIPMENTS_SF_YEARS,0))","v":4216.3983934889548},{"$f":"INDEX([1]!SHIPMENTS_SF,\n((MATCH($C$9,[1]!APPLIANCES,0)-1)*2)+2,\nMATCH(AT$10,[1]!SHIPMENTS_SF_YEARS,0))","v":4141.4952008086839},{"$f":"INDEX([1]!SHIPMENTS_SF,\n((MATCH($C$9,[1]!APPLIANCES,0)-1)*2)+2,\nMATCH(AU$10,[1]!SHIPMENTS_SF_YEARS,0))","v":4087.4893661967362},{"$f":"INDEX([1]!SHIPMENTS_SF,\n((MATCH($C$9,[1]!APPLIANCES,0)-1)*2)+2,\nMATCH(AV$10,[1]!SHIPMENTS_SF_YEARS,0))","v":4025.6031076423824},{"$f":"INDEX([1]!SHIPMENTS_SF,\n((MATCH($C$9,[1]!APPLIANCES,0)-1)*2)+2,\nMATCH(AW$10,[1]!SHIPMENTS_SF_YEARS,0))","v":4011.8722820213879},{"$f":"INDEX([1]!SHIPMENTS_SF,\n((MATCH($C$9,[1]!APPLIANCES,0)-1)*2)+2,\nMATCH(AX$10,[1]!SHIPMENTS_SF_YEARS,0))","v":3975.3900603199145},{"$f":"INDEX([1]!SHIPMENTS_SF,\n((MATCH($C$9,[1]!APPLIANCES,0)-1)*2)+2,\nMATCH(AY$10,[1]!SHIPMENTS_SF_YEARS,0))","v":3897.4040163287427},{"$f":"INDEX([1]!SHIPMENTS_SF,\n((MATCH($C$9,[1]!APPLIANCES,0)-1)*2)+2,\nMATCH(AZ$10,[1]!SHIPMENTS_SF_YEARS,0))","v":3795.9161983485101},{"$f":"INDEX([1]!SHIPMENTS_SF,\n((MATCH($C$9,[1]!APPLIANCES,0)-1)*2)+2,\nMATCH(BA$10,[1]!SHIPMENTS_SF_YEARS,0))","v":3726.7194082110095},{"$f":"INDEX([1]!SHIPMENTS_SF,\n((MATCH($C$9,[1]!APPLIANCES,0)-1)*2)+2,\nMATCH(BB$10,[1]!SHIPMENTS_SF_YEARS,0))","v":3711.7542349358555},{"$f":"INDEX([1]!SHIPMENTS_SF,\n((MATCH($C$9,[1]!APPLIANCES,0)-1)*2)+2,\nMATCH(BC$10,[1]!SHIPMENTS_SF_YEARS,0))","v":3748.8717772852397},{"$f":"INDEX([1]!SHIPMENTS_SF,\n((MATCH($C$9,[1]!APPLIANCES,0)-1)*2)+2,\nMATCH(BD$10,[1]!SHIPMENTS_SF_YEARS,0))","v":3786.360495058063},{"$f":"INDEX([1]!SHIPMENTS_SF,\n((MATCH($C$9,[1]!APPLIANCES,0)-1)*2)+2,\nMATCH(BE$10,[1]!SHIPMENTS_SF_YEARS,0))","v":3824.2241000086669},{"$f":"INDEX([1]!SHIPMENTS_SF,\n((MATCH($C$9,[1]!APPLIANCES,0)-1)*2)+2,\nMATCH(BF$10,[1]!SHIPMENTS_SF_YEARS,0))","v":3862.4663410087815}]
[null,null,"Total Model Shipments","(units)",{"$f":"SUM(E12:E13)","v":22447.666069860617},{"$f":"SUM(F12:F13)","v":21592.238940896921},22629.810628069492,22423.126182006457,22298.360313220575,22505.617384329951,22522.206912845508,22811.291273181199,23521.11396102158,24049.431107009168,23511.213356960001,27157.241510521522,24081.974379011652,25317.068236684994,24417.515226814332,24389.586286970516,24457.667640557152,24542.792016467447,24620.703496697464,24843.88778941274,25365.733146067989,25258.752872856585,29308.02405623814,26373.260132046755,28078.301212094884,26411.184301654419,24977.440807500141,23291.162433397767,22769.282837459545,23913.314650618402,25145.830548259302,29929.956583064562,29938.446960848189,33954.710049641151,31034.385841393076,32754.429887245802,31005.394613659257,29480.142511227619,27695.241818845665,27098.882234007837,28129.713044107357,29287.325749067986,34017.445949261295,33964.050068490571,37966.582331662539,35009.775901712987,36651.833903574545,34801.310812007767,33206.861919438627,31406.99605378152,30847.754011293076,31916.07353916542,33111.549849076655,37879.912290270084]
[null,null,"Model Installed Stock","(units)",{"$f":"INDEX([1]!STOCK_SF,\nMATCH($C$9,[1]!APPLIANCES,0),\nMATCH(E$10,[1]!STOCK_SF_YEARS,0))","v":219539.32232549379},{"$f":"INDEX([1]!STOCK_SF,\nMATCH($C$9,[1]!APPLIANCES,0),\nMATCH(F$10,[1]!STOCK_SF_YEARS,0))","v":221422.3956408274},{"$f":"INDEX([1]!STOCK_SF,\nMATCH($C$9,[1]!APPLIANCES,0),\nMATCH(G$10,[1]!STOCK_SF_YEARS,0))","v":224343.04064333357},{"$f":"INDEX([1]!STOCK_SF,\nMATCH($C$9,[1]!APPLIANCES,0),\nMATCH(H$10,[1]!STOCK_SF_YEARS,0))","v":227057.00119977671},{"$f":"INDEX([1]!STOCK_SF,\nMATCH($C$9,[1]!APPLIANCES,0),\nMATCH(I$10,[1]!STOCK_SF_YEARS,0))","v":229646.19588743398},{"$f":"INDEX([1]!STOCK_SF,\nMATCH($C$9,[1]!APPLIANCES,0),\nMATCH(J$10,[1]!STOCK_SF_YEARS,0))","v":232442.64764620061},{"$f":"INDEX([1]!STOCK_SF,\nMATCH($C$9,[1]!APPLIANCES,0),\nMATCH(K$10,[1]!STOCK_SF_YEARS,0))","v":235255.6889334828},{"$f":"INDEX([1]!STOCK_SF,\nMATCH($C$9,[1]!APPLIANCES,0),\nMATCH(L$10,[1]!STOCK_SF_YEARS,0))","v":238357.81458110068},{"$f":"INDEX([1]!STOCK_SF,\nMATCH($C$9,[1]!APPLIANCES,0),\nMATCH(M$10,[1]!STOCK_SF_YEARS,0))","v":242169.76291655895},{"$f":"INDEX([1]!STOCK_SF,\nMATCH($C$9,[1]!APPLIANCES,0),\nMATCH(N$10,[1]!STOCK_SF_YEARS,0))","v":246510.0283980048},{"$f":"INDEX([1]!STOCK_SF,\nMATCH($C$9,[1]!APPLIANCES,0),\nMATCH(O$10,[1]!STOCK_SF_YEARS,0))","v":250312.07612940148},{"$f":"INDEX([1]!STOCK_SF,\nMATCH($C$9,[1]!APPLIANCES,0),\nMATCH(P$10,[1]!STOCK_SF_YEARS,0))","v":255021.65157006239},{"$f":"INDEX([1]!STOCK_SF,\nMATCH($C$9,[1]!APPLIANCES,0),\nMATCH(Q$10,[1]!STOCK_SF_YEARS,0))","v":257511.38700817712},{"$f":"INDEX([1]!STOCK_SF,\nMATCH($C$9,[1]!APPLIANCES,0),\nMATCH(R$10,[1]!STOCK_SF_YEARS,0))","v":260198.64461679262},{"$f":"INDEX([1]!STOCK_SF,\nMATCH($C$9,[1]!APPLIANCES,0),\nMATCH(S$10,[1]!STOCK_SF_YEARS,0))","v":262193.03366160049},{"$f":"INDEX([1]!STOCK_SF,\nMATCH($C$9,[1]!APPLIANCES,0),\nMATCH(T$10,[1]!STOCK_SF_YEARS,0))","v":264284.25963535043},{"$f":"INDEX([1]!STOCK_SF,\nMATCH($C$9,[1]!APPLIANCES,0),\nMATCH(U$10,[1]!STOCK_SF_YEARS,0))","v":266236.30989157764},{"$f":"INDEX([1]!STOCK_SF,\nMATCH($C$9,[1]!APPLIANCES,0),\nMATCH(V$10,[1]!STOCK_SF_YEARS,0))","v":268256.89499519957},{"$f":"INDEX([1]!STOCK_SF,\nMATCH($C$9,[1]!APPLIANCES,0),\nMATCH(W$10,[1]!STOCK_SF_YEARS,0))","v":270066.30721871584},{"$f":"INDEX([1]!STOCK_SF,\nMATCH($C$9,[1]!APPLIANCES,0),\nMATCH(X$10,[1]!STOCK_SF_YEARS,0))","v":271389.081047107},{"$f":"INDEX([1]!STOCK_SF,\nMATCH($C$9,[1]!APPLIANCES,0),\nMATCH(Y$10,[1]!STOCK_SF_YEARS,0))","v":272705.38308616582},{"$f":"INDEX([1]!STOCK_SF,\nMATCH($C$9,[1]!APPLIANCES,0),\nMATCH(Z$10,[1]!STOCK_SF_YEARS,0))","v":274452.9226020624},{"$f":"INDEX([1]!STOCK_SF,\nMATCH($C$9,[1]!APPLIANCES,0),\nMATCH(AA$10,[1]!STOCK_SF_YEARS,0))","v":276603.70514777902},{"$f":"INDEX([1]!STOCK_SF,\nMATCH($C$9,[1]!APPLIANCES,0),\nMATCH(AB$10,[1]!STOCK_SF_YEARS,0))","v":278894.99090081413},{"$f":"INDEX([1]!STOCK_SF,\nMATCH($C$9,[1]!APPLIANCES,0),\nMATCH(AC$10,[1]!STOCK_SF_YEARS,0))","v":281656.22387622402},{"$f":"INDEX([1]!STOCK_SF,\nMATCH($C$9,[1]!APPLIANCES,0),\nMATCH(AD$10,[1]!STOCK_SF_YEARS,0))","v":283649.8929510641},{"$f":"INDEX([1]!STOCK_SF,\nMATCH($C$9,[1]!APPLIANCES,0),\nMATCH(AE$10,[1]!STOCK_SF_YEARS,0))","v":284237.74747159373},{"$f":"INDEX([1]!STOCK_SF,\nMATCH($C$9,[1]!APPLIANCES,0),\nMATCH(AF$10,[1]!STOCK_SF_YEARS,0))","v":283071.24226443435},{"$f":"INDEX([1]!STOCK_SF,\nMATCH($C$9,[1]!APPLIANCES,0),\nMATCH(AG$10,[1]!STOCK_SF_YEARS,0))","v":281297.73308542644},{"$f":"INDEX([1]!STOCK_SF,\nMATCH($C$9,[1]!APPLIANCES,0),\nMATCH(AH$10,[1]!STOCK_SF_YEARS,0))","v":280590.34423934738},{"$f":"INDEX([1]!STOCK_SF,\nMATCH($C$9,[1]!APPLIANCES,0),\nMATCH(AI$10,[1]!STOCK_SF_YEARS,0))","v":280892.28699819394},{"$f":"INDEX([1]!STOCK_SF,\nMATCH($C$9,[1]!APPLIANCES,0),\nMATCH(AJ$10,[1]!STOCK_SF_YEARS,0))","v":285456.51043519052},{"$f":"INDEX([1]!STOCK_SF,\nMATCH($C$9,[1]!APPLIANCES,0),\nMATCH(AK$10,[1]!STOCK_SF_YEARS,0))","v":290136.20452318212},{"$f":"INDEX([1]!STOCK_SF,\nMATCH($C$9,[1]!APPLIANCES,0),\nMATCH(AL$10,[1]!STOCK_SF_YEARS,0))","v":294782.89051658515},{"$f":"INDEX([1]!STOCK_SF,\nMATCH($C$9,[1]!APPLIANCES,0),\nMATCH(AM$10,[1]!STOCK_SF_YEARS,0))","v":299444.01622593147},{"$f":"INDEX([1]!STOCK_SF,\nMATCH($C$9,[1]!APPLIANCES,0),\nMATCH(AN$10,[1]!STOCK_SF_YEARS,0))","v":304120.14490108239},{"$f":"INDEX([1]!STOCK_SF,\nMATCH($C$9,[1]!APPLIANCES,0),\nMATCH(AO$10,[1]!STOCK_SF_YEARS,0))","v":308714.35521308723},{"$f":"INDEX([1]!STOCK_SF,\nMATCH($C$9,[1]!APPLIANCES,0),\nMATCH(AP$10,[1]!STOCK_SF_YEARS,0))","v":313217.0569168147},{"$f":"INDEX([1]!STOCK_SF,\nMATCH($C$9,[1]!APPLIANCES,0),\nMATCH(AQ$10,[1]!STOCK_SF_YEARS,0))","v":317621.1363022626},{"$f":"INDEX([1]!STOCK_SF,\nMATCH($C$9,[1]!APPLIANCES,0),\nMATCH(AR$10,[1]!STOCK_SF_YEARS,0))","v":321950.73569881089},{"$f":"INDEX([1]!STOCK_SF,\nMATCH($C$9,[1]!APPLIANCES,0),\nMATCH(AS$10,[1]!STOCK_SF_YEARS,0))","v":326167.13409229985},{"$f":"INDEX([1]!STOCK_SF,\nMATCH($C$9,[1]!APPLIANCES,0),\nMATCH(AT$10,[1]!STOCK_SF_YEARS,0))","v":330308.62929310853},{"$f":"INDEX([1]!STOCK_SF,\nMATCH($C$9,[1]!APPLIANCES,0),\nMATCH(AU$10,[1]!STOCK_SF_YEARS,0))","v":334396.11865930527},{"$f":"INDEX([1]!STOCK_SF,\nMATCH($C$9,[1]!APPLIANCES,0),\nMATCH(AV$10,[1]!STOCK_SF_YEARS,0))","v":338421.72176694765},{"$f":"INDEX([1]!STOCK_SF,\nMATCH($C$9,[1]!APPLIANCES,0),\nMATCH(AW$10,[1]!STOCK_SF_YEARS,0))","v":342433.59404896904},{"$f":"INDEX([1]!STOCK_SF,\nMATCH($C$9,[1]!APPLIANCES,0),\nMATCH(AX$10,[1]!STOCK_SF_YEARS,0))","v":346408.98410928895},{"$f":"INDEX([1]!STOCK_SF,\nMATCH($C$9,[1]!APPLIANCES,0),\nMATCH(AY$10,[1]!STOCK_SF_YEARS,0))","v":350306.3881256177},{"$f":"INDEX([1]!STOCK_SF,\nMATCH($C$9,[1]!APPLIANCES,0),\nMATCH(AZ$10,[1]!STOCK_SF_YEARS,0))","v":354102.30432396621},{"$f":"INDEX([1]!STOCK_SF,\nMATCH($C$9,[1]!APPLIANCES,0),\nMATCH(BA$10,[1]!STOCK_SF_YEARS,0))","v":357829.02373217721},{"$f":"INDEX([1]!STOCK_SF,\nMATCH($C$9,[1]!APPLIANCES,0),\nMATCH(BB$10,[1]!STOCK_SF_YEARS,0))","v":361540.77796711307},{"$f":"INDEX([1]!STOCK_SF,\nMATCH($C$9,[1]!APPLIANCES,0),\nMATCH(BC$10,[1]!STOCK_SF_YEARS,0))","v":365289.64974439831},{"$f":"INDEX([1]!STOCK_SF,\nMATCH($C$9,[1]!APPLIANCES,0),\nMATCH(BD$10,[1]!STOCK_SF_YEARS,0))","v":369076.01023945637},{"$f":"INDEX([1]!STOCK_SF,\nMATCH($C$9,[1]!APPLIANCES,0),\nMATCH(BE$10,[1]!STOCK_SF_YEARS,0))","v":372900.23433946504},{"$f":"INDEX([1]!STOCK_SF,\nMATCH($C$9,[1]!APPLIANCES,0),\nMATCH(BF$10,[1]!STOCK_SF_YEARS,0))","v":376762.70068047382}]

{"sheet":"Shipments and Stock - MF","index":12,"n_rows":15,"n_cols":58,"rows_kept":15,"cut":false,"hidden":false,"merged":[]}
[]
[null,null,"Shipments and Stock - MF"]
[]
[null,null,"NAVIGATION"]
[]
[null,null,"COMMENTS"]
[]
[]
[null,null,{"$f":"MODEL_NAME","v":"Room AC"}]
[null,null,null,null,1981,1982,1983,1984,1985,1986,1987,1988,1989,1990,1991,1992,1993,1994,1995,1996,1997,1998,1999,2000,2001,2002,2003,2004,2005,2006,2007,2008,2009,2010,2011,2012,2013,2014,2015,2016,2017,2018,2019,2020,2021,2022,2023,2024,2025,2026,2027,2028,2029,2030,2031,2032,2033,2034]
[null,null,"6P Shipments","(units)",{"$f":"IF(ISNUMBER(MATCH(E10,[1]!SIXTH_PLAN_MF_YEARS,0)),\nINDEX([1]!SIXTH_PLAN_MF,\nMATCH($C$9,[1]!APPLIANCES,0),\nMATCH(E$10,[1]!SIXTH_PLAN_MF_YEARS,0)),\"pre-dates plan\")","v":"pre-dates plan"},{"$f":"IF(ISNUMBER(MATCH(F10,[1]!SIXTH_PLAN_MF_YEARS,0)),\nINDEX([1]!SIXTH_PLAN_MF,\nMATCH($C$9,[1]!APPLIANCES,0),\nMATCH(F$10,[1]!SIXTH_PLAN_MF_YEARS,0)),\"pre-dates plan\")","v":"pre-dates plan"},{"$f":"IF(ISNUMBER(MATCH(G10,[1]!SIXTH_PLAN_MF_YEARS,0)),\nINDEX([1]!SIXTH_PLAN_MF,\nMATCH($C$9,[1]!APPLIANCES,0),\nMATCH(G$10,[1]!SIXTH_PLAN_MF_YEARS,0)),\"pre-dates plan\")","v":"pre-dates plan"},{"$f":"IF(ISNUMBER(MATCH(H10,[1]!SIXTH_PLAN_MF_YEARS,0)),\nINDEX([1]!SIXTH_PLAN_MF,\nMATCH($C$9,[1]!APPLIANCES,0),\nMATCH(H$10,[1]!SIXTH_PLAN_MF_YEARS,0)),\"pre-dates plan\")","v":"pre-dates plan"},{"$f":"IF(ISNUMBER(MATCH(I10,[1]!SIXTH_PLAN_MF_YEARS,0)),\nINDEX([1]!SIXTH_PLAN_MF,\nMATCH($C$9,[1]!APPLIANCES,0),\nMATCH(I$10,[1]!SIXTH_PLAN_MF_YEARS,0)),\"pre-dates plan\")","v":"pre-dates plan"},{"$f":"IF(ISNUMBER(MATCH(J10,[1]!SIXTH_PLAN_MF_YEARS,0)),\nINDEX([1]!SIXTH_PLAN_MF,\nMATCH($C$9,[1]!APPLIANCES,0),\nMATCH(J$10,[1]!SIXTH_PLAN_MF_YEARS,0)),\"pre-dates plan\")","v":"pre-dates plan"},{"$f":"IF(ISNUMBER(MATCH(K10,[1]!SIXTH_PLAN_MF_YEARS,0)),\nINDEX([1]!SIXTH_PLAN_MF,\nMATCH($C$9,[1]!APPLIANCES,0),\nMATCH(K$10,[1]!SIXTH_PLAN_MF_YEARS,0)),\"pre-dates plan\")","v":"pre-dates plan"},{"$f":"IF(ISNUMBER(MATCH(L10,[1]!SIXTH_PLAN_MF_YEARS,0)),\nINDEX([1]!SIXTH_PLAN_MF,\nMATCH($C$9,[1]!APPLIANCES,0),\nMATCH(L$10,[1]!SIXTH_PLAN_MF_YEARS,0)),\"pre-dates plan\")","v":"pre-dates plan"},{"$f":"IF(ISNUMBER(MATCH(M10,[1]!SIXTH_PLAN_MF_YEARS,0)),\nINDEX([1]!SIXTH_PLAN_MF,\nMATCH($C$9,[1]!APPLIANCES,0),\nMATCH(M$10,[1]!SIXTH_PLAN_MF_YEARS,0)),\"pre-dates plan\")","v":"pre-dates plan"},{"$f":"IF(ISNUMBER(MATCH(N10,[1]!SIXTH_PLAN_MF_YEARS,0)),\nINDEX([1]!SIXTH_PLAN_MF,\nMATCH($C$9,[1]!APPLIANCES,0),\nMATCH(N$10,[1]!SIXTH_PLAN_MF_YEARS,0)),\"pre-dates plan\")","v":"pre-dates plan"},{"$f":"IF(ISNUMBER(MATCH(O10,[1]!SIXTH_PLAN_MF_YEARS,0)),\nINDEX([1]!SIXTH_PLAN_MF,\nMATCH($C$9,[1]!APPLIANCES,0),\nMATCH(O$10,[1]!SIXTH_PLAN_MF_YEARS,0)),\"pre-dates plan\")","v":"pre-dates plan"},{"$f":"IF(ISNUMBER(MATCH(P10,[1]!SIXTH_PLAN_MF_YEARS,0)),\nINDEX([1]!SIXTH_PLAN_MF,\nMATCH($C$9,[1]!APPLIANCES,0),\nMATCH(P$10,[1]!SIXTH_PLAN_MF_YEARS,0)),\"pre-dates plan\")","v":"pre-dates plan"},{"$f":"IF(ISNUMBER(MATCH(Q10,[1]!SIXTH_PLAN_MF_YEARS,0)),\nINDEX([1]!SIXTH_PLAN_MF,\nMATCH($C$9,[1]!APPLIANCES,0),\nMATCH(Q$10,[1]!SIXTH_PLAN_MF_YEARS,0)),\"pre-dates plan\")","v":"pre-dates plan"},{"$f":"IF(ISNUMBER(MATCH(R10,[1]!SIXTH_PLAN_MF_YEARS,0)),\nINDEX([1]!SIXTH_PLAN_MF,\nMATCH($C$9,[1]!APPLIANCES,0),\nMATCH(R$10,[1]!SIXTH_PLAN_MF_YEARS,0)),\"pre-dates plan\")","v":"pre-dates plan"},{"$f":"IF(ISNUMBER(MATCH(S10,[1]!SIXTH_PLAN_MF_YEARS,0)),\nINDEX([1]!SIXTH_PLAN_MF,\nMATCH($C$9,[1]!APPLIANCES,0),\nMATCH(S$10,[1]!SIXTH_PLAN_MF_YEARS,0)),\"pre-dates plan\")","v":"pre-dates plan"},{"$f":"IF(ISNUMBER(MATCH(T10,[1]!SIXTH_PLAN_MF_YEARS,0)),\nINDEX([1]!SIXTH_PLAN_MF,\nMATCH($C$9,[1]!APPLIANCES,0),\nMATCH(T$10,[1]!SIXTH_PLAN_MF_YEARS,0)),\"pre-dates plan\")","v":"pre-dates plan"},{"$f":"IF(ISNUMBER(MATCH(U10,[1]!SIXTH_PLAN_MF_YEARS,0)),\nINDEX([1]!SIXTH_PLAN_MF,\nMATCH($C$9,[1]!APPLIANCES,0),\nMATCH(U$10,[1]!SIXTH_PLAN_MF_YEARS,0)),\"pre-dates plan\")","v":"pre-dates plan"},{"$f":"IF(ISNUMBER(MATCH(V10,[1]!SIXTH_PLAN_MF_YEARS,0)),\nINDEX([1]!SIXTH_PLAN_MF,\nMATCH($C$9,[1]!APPLIANCES,0),\nMATCH(V$10,[1]!SIXTH_PLAN_MF_YEARS,0)),\"pre-dates plan\")","v":"pre-dates plan"},{"$f":"IF(ISNUMBER(MATCH(W10,[1]!SIXTH_PLAN_MF_YEARS,0)),\nINDEX([1]!SIXTH_PLAN_MF,\nMATCH($C$9,[1]!APPLIANCES,0),\nMATCH(W$10,[1]!SIXTH_PLAN_MF_YEARS,0)),\"pre-dates plan\")","v":"pre-dates plan"},{"$f":"IF(ISNUMBER(MATCH(X10,[1]!SIXTH_PLAN_MF_YEARS,0)),\nINDEX([1]!SIXTH_PLAN_MF,\nMATCH($C$9,[1]!APPLIANCES,0),\nMATCH(X$10,[1]!SIXTH_PLAN_MF_YEARS,0)),\"pre-dates plan\")","v":"pre-dates plan"},{"$f":"IF(ISNUMBER(MATCH(Y10,[1]!SIXTH_PLAN_MF_YEARS,0)),\nINDEX([1]!SIXTH_PLAN_MF,\nMATCH($C$9,[1]!APPLIANCES,0),\nMATCH(Y$10,[1]!SIXTH_PLAN_MF_YEARS,0)),\"pre-dates plan\")","v":"pre-dates plan"},{"$f":"IF(ISNUMBER(MATCH(Z10,[1]!SIXTH_PLAN_MF_YEARS,0)),\nINDEX([1]!SIXTH_PLAN_MF,\nMATCH($C$9,[1]!APPLIANCES,0),\nMATCH(Z$10,[1]!SIXTH_PLAN_MF_YEARS,0)),\"pre-dates plan\")","v":"pre-dates plan"},{"$f":"IF(ISNUMBER(MATCH(AA10,[1]!SIXTH_PLAN_MF_YEARS,0)),\nINDEX([1]!SIXTH_PLAN_MF,\nMATCH($C$9,[1]!APPLIANCES,0),\nMATCH(AA$10,[1]!SIXTH_PLAN_MF_YEARS,0)),\"pre-dates plan\")","v":"pre-dates plan"},{"$f":"IF(ISNUMBER(MATCH(AB10,[1]!SIXTH_PLAN_MF_YEARS,0)),\nINDEX([1]!SIXTH_PLAN_MF,\nMATCH($C$9,[1]!APPLIANCES,0),\nMATCH(AB$10,[1]!SIXTH_PLAN_MF_YEARS,0)),\"pre-dates plan\")","v":"pre-dates plan"},{"$f":"IF(ISNUMBER(MATCH(AC10,[1]!SIXTH_PLAN_MF_YEARS,0)),\nINDEX([1]!SIXTH_PLAN_MF,\nMATCH($C$9,[1]!APPLIANCES,0),\nMATCH(AC$10,[1]!SIXTH_PLAN_MF_YEARS,0)),\"pre-dates plan\")","v":"pre-dates plan"},{"$f":"IF(ISNUMBER(MATCH(AD10,[1]!SIXTH_PLAN_MF_YEARS,0)),\nINDEX([1]!SIXTH_PLAN_MF,\nMATCH($C$9,[1]!APPLIANCES,0),\nMATCH(AD$10,[1]!SIXTH_PLAN_MF_YEARS,0)),\"pre-dates plan\")","v":"pre-dates plan"},{"$f":"IF(ISNUMBER(MATCH(AE10,[1]!SIXTH_PLAN_MF_YEARS,0)),\nINDEX([1]!SIXTH_PLAN_MF,\nMATCH($C$9,[1]!APPLIANCES,0),\nMATCH(AE$10,[1]!SIXTH_PLAN_MF_YEARS,0)),\"pre-dates plan\")","v":"pre-dates plan"},{"$f":"IF(ISNUMBER(MATCH(AF10,[1]!SIXTH_PLAN_MF_YEARS,0)),\nINDEX([1]!SIXTH_PLAN_MF,\nMATCH($C$9,[1]!APPLIANCES,0),\nMATCH(AF$10,[1]!SIXTH_PLAN_MF_YEARS,0)),\"pre-dates plan\")","v":"pre-dates plan"},{"$f":"IF(ISNUMBER(MATCH(AG10,[1]!SIXTH_PLAN_MF_YEARS,0)),\nINDEX([1]!SIXTH_PLAN_MF,\nMATCH($C$9,[1]!APPLIANCES,0),\nMATCH(AG$10,[1]!SIXTH_PLAN_MF_YEARS,0)),\"pre-dates plan\")","v":"pre-dates plan"},{"$f":"IF(ISNUMBER(MATCH(AH10,[1]!SIXTH_PLAN_MF_YEARS,0)),\nINDEX([1]!SIXTH_PLAN_MF,\nMATCH($C$9,[1]!APPLIANCES,0),\nMATCH(AH$10,[1]!SIXTH_PLAN_MF_YEARS,0)),\"pre-dates plan\")","v":13423.596020143743},{"$f":"IF(ISNUMBER(MATCH(AI10,[1]!SIXTH_PLAN_MF_YEARS,0)),\nINDEX([1]!SIXTH_PLAN_MF,\nMATCH($C$9,[1]!APPLIANCES,0),\nMATCH(AI$10,[1]!SIXTH_PLAN_MF_YEARS,0)),\"pre-dates plan\")","v":14067.719439775386},{"$f":"IF(ISNUMBER(MATCH(AJ10,[1]!SIXTH_PLAN_MF_YEARS,0)),\nINDEX([1]!SIXTH_PLAN_MF,\nMATCH($C$9,[1]!APPLIANCES,0),\nMATCH(AJ$10,[1]!SIXTH_PLAN_MF_YEARS,0)),\"pre-dates plan\")","v":14216.217215143184},{"$f":"IF(ISNUMBER(MATCH(AK10,[1]!SIXTH_PLAN_MF_YEARS,0)),\nINDEX([1]!SIXTH_PLAN_MF,\nMATCH($C$9,[1]!APPLIANCES,0),\nMATCH(AK$10,[1]!SIXTH_PLAN_MF_YEARS,0)),\"pre-dates plan\")","v":14319.473221126647},{"$f":"IF(ISNUMBER(MATCH(AL10,[1]!SIXTH_PLAN_MF_YEARS,0)),\nINDEX([1]!SIXTH_PLAN_MF,\nMATCH($C$9,[1]!APPLIANCES,0),\nMATCH(AL$10,[1]!SIXTH_PLAN_MF_YEARS,0)),\"pre-dates plan\")","v":14462.69687045411},{"$f":"IF(ISNUMBER(MATCH(AM10,[1]!SIXTH_PLAN_MF_YEARS,0)),\nINDEX([1]!SIXTH_PLAN_MF,\nMATCH($C$9,[1]!APPLIANCES,0),\nMATCH(AM$10,[1]!SIXTH_PLAN_MF_YEARS,0)),\"pre-dates plan\")","v":14632.755709703446},{"$f":"IF(ISNUMBER(MATCH(AN10,[1]!SIXTH_PLAN_MF_YEARS,0)),\nINDEX([1]!SIXTH_PLAN_MF,\nMATCH($C$9,[1]!APPLIANCES,0),\nMATCH(AN$10,[1]!SIXTH_PLAN_MF_YEARS,0)),\"pre-dates plan\")","v":14772.454276170443},{"$f":"IF(ISNUMBER(MATCH(AO10,[1]!SIXTH_PLAN_MF_YEARS,0)),\nINDEX([1]!SIXTH_PLAN_MF,\nMATCH($C$9,[1]!APPLIANCES,0),\nMATCH(AO$10,[1]!SIXTH_PLAN_MF_YEARS,0)),\"pre-dates plan\")","v":14850.856230062724},{"$f":"IF(ISNUMBER(MATCH(AP10,[1]!SIXTH_PLAN_MF_YEARS,0)),\nINDEX([1]!SIXTH_PLAN_MF,\nMATCH($C$9,[1]!APPLIANCES,0),\nMATCH(AP$10,[1]!SIXTH_PLAN_MF_YEARS,0)),\"pre-dates plan\")","v":14936.872704306808},{"$f":"IF(ISNUMBER(MATCH(AQ10,[1]!SIXTH_PLAN_MF_YEARS,0)),\nINDEX([1]!SIXTH_PLAN_MF,\nMATCH($C$9,[1]!APPLIANCES,0),\nMATCH(AQ$10,[1]!SIXTH_PLAN_MF_YEARS,0)),\"pre-dates plan\")","v":2652.7601304591144},{"$f":"IF(ISNUMBER(MATCH(AR10,[1]!SIXTH_PLAN_MF_YEARS,0)),\nINDEX([1]!SIXTH_PLAN_MF,\nMATCH($C$9,[1]!APPLIANCES,0),\nMATCH(AR$10,[1]!SIXTH_PLAN_MF_YEARS,0)),\"pre-dates plan\")","v":2711.5252753928853},{"$f":"IF(ISNUMBER(MATCH(AS10,[1]!SIXTH_PLAN_MF_YEARS,0)),\nINDEX([1]!SIXTH_PLAN_MF,\nMATCH($C$9,[1]!APPLIANCES,0),\nMATCH(AS$10,[1]!SIXTH_PLAN_MF_YEARS,0)),\"pre-dates plan\")","v":2663.6260580452431},{"$f":"IF(ISNUMBER(MATCH(AT10,[1]!SIXTH_PLAN_MF_YEARS,0)),\nINDEX([1]!SIXTH_PLAN_MF,\nMATCH($C$9,[1]!APPLIANCES,0),\nMATCH(AT$10,[1]!SIXTH_PLAN_MF_YEARS,0)),\"pre-dates plan\")","v":2693.433350518706},{"$f":"IF(ISNUMBER(MATCH(AU10,[1]!SIXTH_PLAN_MF_YEARS,0)),\nINDEX([1]!SIXTH_PLAN_MF,\nMATCH($C$9,[1]!APPLIANCES,0),\nMATCH(AU$10,[1]!SIXTH_PLAN_MF_YEARS,0)),\"pre-dates plan\")","v":2705.8149130097554},{"$f":"IF(ISNUMBER(MATCH(AV10,[1]!SIXTH_PLAN_MF_YEARS,0)),\nINDEX([1]!SIXTH_PLAN_MF,\nMATCH($C$9,[1]!APPLIANCES,0),\nMATCH(AV$10,[1]!SIXTH_PLAN_MF_YEARS,0)),\"pre-dates plan\")","v":2698.3037468799553},{"$f":"IF(ISNUMBER(MATCH(AW10,[1]!SIXTH_PLAN_MF_YEARS,0)),\nINDEX([1]!SIXTH_PLAN_MF,\nMATCH($C$9,[1]!APPLIANCES,0),\nMATCH(AW$10,[1]!SIXTH_PLAN_MF_YEARS,0)),\"pre-dates plan\")","v":2669.1438499151645},{"$f":"IF(ISNUMBER(MATCH(AX10,[1]!SIXTH_PLAN_MF_YEARS,0)),\nINDEX([1]!SIXTH_PLAN_MF,\nMATCH($C$9,[1]!APPLIANCES,0),\nMATCH(AX$10,[1]!SIXTH_PLAN_MF_YEARS,0)),\"pre-dates plan\")","v":2629.1161220633794},{"$f":"IF(ISNUMBER(MATCH(AY10,[1]!SIXTH_PLAN_MF_YEARS,0)),\nINDEX([1]!SIXTH_PLAN_MF,\nMATCH($C$9,[1]!APPLIANCES,0),\nMATCH(AY$10,[1]!SIXTH_PLAN_MF_YEARS,0)),\"pre-dates plan\")","v":2616.697605350892},{"$f":"IF(ISNUMBER(MATCH(AZ10,[1]!SIXTH_PLAN_MF_YEARS,0)),\nINDEX([1]!SIXTH_PLAN_MF,\nMATCH($C$9,[1]!APPLIANCES,0),\nMATCH(AZ$10,[1]!SIXTH_PLAN_MF_YEARS,0)),\"pre-dates plan\")","v":2611.4440427267878},{"$f":"IF(ISNUMBER(MATCH(BA10,[1]!SIXTH_PLAN_MF_YEARS,0)),\nINDEX([1]!SIXTH_PLAN_MF,\nMATCH($C$9,[1]!APPLIANCES,0),\nMATCH(BA$10,[1]!SIXTH_PLAN_MF_YEARS,0)),\"pre-dates plan\")","v":2602.7383636507329},{"$f":"IF(ISNUMBER(MATCH(BB10,[1]!SIXTH_PLAN_MF_YEARS,0)),\nINDEX([1]!SIXTH_PLAN_MF,\nMATCH($C$9,[1]!APPLIANCES,0),\nMATCH(BB$10,[1]!SIXTH_PLAN_MF_YEARS,0)),\"pre-dates plan\")","v":2574.420485583888},{"$f":"IF(ISNUMBER(MATCH(BC10,[1]!SIXTH_PLAN_MF_YEARS,0)),\nINDEX([1]!SIXTH_PLAN_MF,\nMATCH($C$9,[1]!APPLIANCES,0),\nMATCH(BC$10,[1]!SIXTH_PLAN_MF_YEARS,0)),\"pre-dates plan\")","v":2574.420485583888},{"$f":"IF(ISNUMBER(MATCH(BD10,[1]!SIXTH_PLAN_MF_YEARS,0)),\nINDEX([1]!SIXTH_PLAN_MF,\nMATCH($C$9,[1]!APPLIANCES,0),\nMATCH(BD$10,[1]!SIXTH_PLAN_MF_YEARS,0)),\"pre-dates plan\")","v":2574.420485583888},{"$f":"IF(ISNUMBER(MATCH(BE10,[1]!SIXTH_PLAN_MF_YEARS,0)),\nINDEX([1]!SIXTH_PLAN_MF,\nMATCH($C$9,[1]!APPLIANCES,0),\nMATCH(BE$10,[1]!SIXTH_PLAN_MF_YEARS,0)),\"pre-dates plan\")","v":2574.420485583888},{"$f":"IF(ISNUMBER(MATCH(BF10,[1]!SIXTH_PLAN_MF_YEARS,0)),\nINDEX([1]!SIXTH_PLAN_MF,\nMATCH($C$9,[1]!APPLIANCES,0),\nMATCH(BF$10,[1]!SIXTH_PLAN_MF_YEARS,0)),\"pre-dates plan\")","v":2574.420485583888}]
[null,null,"Replacement Shipments","(units)",{"$f":"INDEX([1]!SHIPMENTS_MF,\n((MATCH($C$9,[1]!APPLIANCES,0)-1)*2)+1,\nMATCH(E$10,[1]!SHIPMENTS_MF_YEARS,0))","v":5032.6240191993274},{"$f":"INDEX([1]!SHIPMENTS_MF,\n((MATCH($C$9,[1]!APPLIANCES,0)-1)*2)+1,\nMATCH(F$10,[1]!SHIPMENTS_MF_YEARS,0))","v":5032.6240191993274},{"$f":"INDEX([1]!SHIPMENTS_MF,\n((MATCH($C$9,[1]!APPLIANCES,0)-1)*2)+1,\nMATCH(G$10,[1]!SHIPMENTS_MF_YEARS,0))","v":5032.6240191993274},{"$f":"INDEX([1]!SHIPMENTS_MF,\n((MATCH($C$9,[1]!APPLIANCES,0)-1)*2)+1,\nMATCH(H$10,[1]!SHIPMENTS_MF_YEARS,0))","v":5032.6240191993274},{"$f":"INDEX([1]!SHIPMENTS_MF,\n((MATCH($C$9,[1]!APPLIANCES,0)-1)*2)+1,\nMATCH(I$10,[1]!SHIPMENTS_MF_YEARS,0))","v":5032.6240191993274},{"$f":"INDEX([1]!SHIPMENTS_MF,\n((MATCH($C$9,[1]!APPLIANCES,0)-1)*2)+1,\nMATCH(J$10,[1]!SHIPMENTS_MF_YEARS,0))","v":5032.6240191993274},{"$f":"INDEX([1]!SHIPMENTS_MF,\n((MATCH($C$9,[1]!APPLIANCES,0)-1)*2)+1,\nMATCH(K$10,[1]!SHIPMENTS_MF_YEARS,0))","v":5032.6240191993274},{"$f":"INDEX([1]!SHIPMENTS_MF,\n((MATCH($C$9,[1]!APPLIANCES,0)-1)*2)+1,\nMATCH(L$10,[1]!SHIPMENTS_MF_YEARS,0))","v":5032.6240191993274},{"$f":"INDEX([1]!SHIPMENTS_MF,\n((MATCH($C$9,[1]!APPLIANCES,0)-1)*2)+1,\nMATCH(M$10,[1]!SHIPMENTS_MF_YEARS,0))","v":5032.6240191993274},{"$f":"INDEX([1]!SHIPMENTS_MF,\n((MATCH($C$9,[1]!APPLIANCES,0)-1)*2)+1,\nMATCH(N$10,[1]!SHIPMENTS_MF_YEARS,0))","v":5032.6240191993274},{"$f":"INDEX([1]!SHIPMENTS_MF,\n((MATCH($C$9,[1]!APPLIANCES,0)-1)*2)+1,\nMATCH(O$10,[1]!SHIPMENTS_MF_YEARS,0))","v":5032.6240191993274},{"$f":"INDEX([1]!SHIPMENTS_MF,\n((MATCH($C$9,[1]!APPLIANCES,0)-1)*2)+1,\nMATCH(P$10,[1]!SHIPMENTS_MF_YEARS,0))","v":6195.3278104150158},{"$f":"INDEX([1]!SHIPMENTS_MF,\n((MATCH($C$9,[1]!APPLIANCES,0)-1)*2)+1,\nMATCH(Q$10,[1]!SHIPMENTS_MF_YEARS,0))","v":5860.1835822290232},{"$f":"INDEX([1]!SHIPMENTS_MF,\n((MATCH($C$9,[1]!APPLIANCES,0)-1)*2)+1,\nMATCH(R$10,[1]!SHIPMENTS_MF_YEARS,0))","v":6008.7463965853167},{"$f":"INDEX([1]!SHIPMENTS_MF,\n((MATCH($C$9,[1]!APPLIANCES,0)-1)*2)+1,\nMATCH(S$10,[1]!SHIPMENTS_MF_YEARS,0))","v":6522.3290786337075},{"$f":"INDEX([1]!SHIPMENTS_MF,\n((MATCH($C$9,[1]!APPLIANCES,0)-1)*2)+1,\nMATCH(T$10,[1]!SHIPMENTS_MF_YEARS,0))","v":7323.9594567208751},{"$f":"INDEX([1]!SHIPMENTS_MF,\n((MATCH($C$9,[1]!APPLIANCES,0)-1)*2)+1,\nMATCH(U$10,[1]!SHIPMENTS_MF_YEARS,0))","v":7068.1791908328087},{"$f":"INDEX([1]!SHIPMENTS_MF,\n((MATCH($C$9,[1]!APPLIANCES,0)-1)*2)+1,\nMATCH(V$10,[1]!SHIPMENTS_MF_YEARS,0))","v":7304.4881065187437},{"$f":"INDEX([1]!SHIPMENTS_MF,\n((MATCH($C$9,[1]!APPLIANCES,0)-1)*2)+1,\nMATCH(W$10,[1]!SHIPMENTS_MF_YEARS,0))","v":7859.2530747567798},{"$f":"INDEX([1]!SHIPMENTS_MF,\n((MATCH($C$9,[1]!APPLIANCES,0)-1)*2)+1,\nMATCH(X$10,[1]!SHIPMENTS_MF_YEARS,0))","v":8416.0401932670793},{"$f":"INDEX([1]!SHIPMENTS_MF,\n((MATCH($C$9,[1]!APPLIANCES,0)-1)*2)+1,\nMATCH(Y$10,[1]!SHIPMENTS_MF_YEARS,0))","v":7892.7381437810982},{"$f":"INDEX([1]!SHIPMENTS_MF,\n((MATCH($C$9,[1]!APPLIANCES,0)-1)*2)+1,\nMATCH(Z$10,[1]!SHIPMENTS_MF_YEARS,0))","v":6371.754985780819},{"$f":"INDEX([1]!SHIPMENTS_MF,\n((MATCH($C$9,[1]!APPLIANCES,0)-1)*2)+1,\nMATCH(AA$10,[1]!SHIPMENTS_MF_YEARS,0))","v":7567.6394363024374},{"$f":"INDEX([1]!SHIPMENTS_MF,\n((MATCH($C$9,[1]!APPLIANCES,0)-1)*2)+1,\nMATCH(AB$10,[1]!SHIPMENTS_MF_YEARS,0))","v":6626.3384116526795},{"$f":"INDEX([1]!SHIPMENTS_MF,\n((MATCH($C$9,[1]!APPLIANCES,0)-1)*2)+1,\nMATCH(AC$10,[1]!SHIPMENTS_MF_YEARS,0))","v":7074.5349880016656},{"$f":"INDEX([1]!SHIPMENTS_MF,\n((MATCH($C$9,[1]!APPLIANCES,0)-1)*2)+1,\nMATCH(AD$10,[1]!SHIPMENTS_MF_YEARS,0))","v":7709.9380488779916},{"$f":"INDEX([1]!SHIPMENTS_MF,\n((MATCH($C$9,[1]!APPLIANCES,0)-1)*2)+1,\nMATCH(AE$10,[1]!SHIPMENTS_MF_YEARS,0))","v":8484.4928092085083},{"$f":"INDEX([1]!SHIPMENTS_MF,\n((MATCH($C$9,[1]!APPLIANCES,0)-1)*2)+1,\nMATCH(AF$10,[1]!SHIPMENTS_MF_YEARS,0))","v":8216.0724210620756},{"$f":"INDEX([1]!SHIPMENTS_MF,\n((MATCH($C$9,[1]!APPLIANCES,0)-1)*2)+1,\nMATCH(AG$10,[1]!SHIPMENTS_MF_YEARS,0))","v":8070.1819640055537},{"$f":"INDEX([1]!SHIPMENTS_MF,\n((MATCH($C$9,[1]!APPLIANCES,0)-1)*2)+1,\nMATCH(AH$10,[1]!SHIPMENTS_MF_YEARS,0))","v":8499.8736742732581},{"$f":"INDEX([1]!SHIPMENTS_MF,\n((MATCH($C$9,[1]!APPLIANCES,0)-1)*2)+1,\nMATCH(AI$10,[1]!SHIPMENTS_MF_YEARS,0))","v":9001.4671132151998},{"$f":"INDEX([1]!SHIPMENTS_MF,\n((MATCH($C$9,[1]!APPLIANCES,0)-1)*2)+1,\nMATCH(AJ$10,[1]!SHIPMENTS_MF_YEARS,0))","v":8464.4995513432659},{"$f":"INDEX([1]!SHIPMENTS_MF,\n((MATCH($C$9,[1]!APPLIANCES,0)-1)*2)+1,\nMATCH(AK$10,[1]!SHIPMENTS_MF_YEARS,0))","v":6784.5297720030794},{"$f":"INDEX([1]!SHIPMENTS_MF,\n((MATCH($C$9,[1]!APPLIANCES,0)-1)*2)+1,\nMATCH(AL$10,[1]!SHIPMENTS_MF_YEARS,0))","v":7981.5817465154178},{"$f":"INDEX([1]!SHIPMENTS_MF,\n((MATCH($C$9,[1]!APPLIANCES,0)-1)*2)+1,\nMATCH(AM$10,[1]!SHIPMENTS_MF_YEARS,0))","v":7185.368825946186},{"$f":"INDEX([1]!SHIPMENTS_MF,\n((MATCH($C$9,[1]!APPLIANCES,0)-1)*2)+1,\nMATCH(AN$10,[1]!SHIPMENTS_MF_YEARS,0))","v":7566.2030222570684},{"$f":"INDEX([1]!SHIPMENTS_MF,\n((MATCH($C$9,[1]!APPLIANCES,0)-1)*2)+1,\nMATCH(AO$10,[1]!SHIPMENTS_MF_YEARS,0))","v":8343.9897920938874},{"$f":"INDEX([1]!SHIPMENTS_MF,\n((MATCH($C$9,[1]!APPLIANCES,0)-1)*2)+1,\nMATCH(AP$10,[1]!SHIPMENTS_MF_YEARS,0))","v":9042.6429123899488},{"$f":"INDEX([1]!SHIPMENTS_MF,\n((MATCH($C$9,[1]!APPLIANCES,0)-1)*2)+1,\nMATCH(AQ$10,[1]!SHIPMENTS_MF_YEARS,0))","v":8316.4284157925649},{"$f":"INDEX([1]!SHIPMENTS_MF,\n((MATCH($C$9,[1]!APPLIANCES,0)-1)*2)+1,\nMATCH(AR$10,[1]!SHIPMENTS_MF_YEARS,0))","v":8070.1819640055537},{"$f":"INDEX([1]!SHIPMENTS_MF,\n((MATCH($C$9,[1]!APPLIANCES,0)-1)*2)+1,\nMATCH(AS$10,[1]!SHIPMENTS_MF_YEARS,0))","v":8499.8736742732581},{"$f":"INDEX([1]!SHIPMENTS_MF,\n((MATCH($C$9,[1]!APPLIANCES,0)-1)*2)+1,\nMATCH(AT$10,[1]!SHIPMENTS_MF_YEARS,0))","v":9031.0655735358305},{"$f":"INDEX([1]!SHIPMENTS_MF,\n((MATCH($C$9,[1]!APPLIANCES,0)-1)*2)+1,\nMATCH(AU$10,[1]!SHIPMENTS_MF_YEARS,0))","v":9756.2485167449195},{"$f":"INDEX([1]!SHIPMENTS_MF,\n((MATCH($C$9,[1]!APPLIANCES,0)-1)*2)+1,\nMATCH(AV$10,[1]!SHIPMENTS_MF_YEARS,0))","v":8149.0581811590528},{"$f":"INDEX([1]!SHIPMENTS_MF,\n((MATCH($C$9,[1]!APPLIANCES,0)-1)*2)+1,\nMATCH(AW$10,[1]!SHIPMENTS_MF_YEARS,0))","v":9447.0605791477938},{"$f":"INDEX([1]!SHIPMENTS_MF,\n((MATCH($C$9,[1]!APPLIANCES,0)-1)*2)+1,\nMATCH(AX$10,[1]!SHIPMENTS_MF_YEARS,0))","v":8770.7127221957853},{"$f":"INDEX([1]!SHIPMENTS_MF,\n((MATCH($C$9,[1]!APPLIANCES,0)-1)*2)+1,\nMATCH(AY$10,[1]!SHIPMENTS_MF_YEARS,0))","v":9250.0127061759194},{"$f":"INDEX([1]!SHIPMENTS_MF,\n((MATCH($C$9,[1]!APPLIANCES,0)-1)*2)+1,\nMATCH(AZ$10,[1]!SHIPMENTS_MF_YEARS,0))","v":10083.060674033948},{"$f":"INDEX([1]!SHIPMENTS_MF,\n((MATCH($C$9,[1]!APPLIANCES,0)-1)*2)+1,\nMATCH(BA$10,[1]!SHIPMENTS_MF_YEARS,0))","v":10842.342046309763},{"$f":"INDEX([1]!SHIPMENTS_MF,\n((MATCH($C$9,[1]!APPLIANCES,0)-1)*2)+1,\nMATCH(BB$10,[1]!SHIPMENTS_MF_YEARS,0))","v":10186.212210638616},{"$f":"INDEX([1]!SHIPMENTS_MF,\n((MATCH($C$9,[1]!APPLIANCES,0)-1)*2)+1,\nMATCH(BC$10,[1]!SHIPMENTS_MF_YEARS,0))","v":9981.3860570675242},{"$f":"INDEX([1]!SHIPMENTS_MF,\n((MATCH($C$9,[1]!APPLIANCES,0)-1)*2)+1,\nMATCH(BD$10,[1]!SHIPMENTS_MF_YEARS,0))","v":10377.316260083186},{"$f":"INDEX([1]!SHIPMENTS_MF,\n((MATCH($C$9,[1]!APPLIANCES,0)-1)*2)+1,\nMATCH(BE$10,[1]!SHIPMENTS_MF_YEARS,0))","v":10929.517670079571},{"$f":"INDEX([1]!SHIPMENTS_MF,\n((MATCH($C$9,[1]!APPLIANCES,0)-1)*2)+1,\nMATCH(BF$10,[1]!SHIPMENTS_MF_YEARS,0))","v":11663.427691411867}]
[null,null,"Net New Shipments","(units)",{"$f":"INDEX([1]!SHIPMENTS_MF,\n((MATCH($C$9,[1]!APPLIANCES,0)-1)*2)+2,\nMATCH(E$10,[1]!SHIPMENTS_MF_YEARS,0))","v":1162.7037912156884},{"$f":"INDEX([1]!SHIPMENTS_MF,\n((MATCH($C$9,[1]!APPLIANCES,0)-1)*2)+2,\nMATCH(F$10,[1]!SHIPMENTS_MF_YEARS,0))","v":827.55956302969571},{"$f":"INDEX([1]!SHIPMENTS_MF,\n((MATCH($C$9,[1]!APPLIANCES,0)-1)*2)+2,\nMATCH(G$10,[1]!SHIPMENTS_MF_YEARS,0))","v":976.12237738598924},{"$f":"INDEX([1]!SHIPMENTS_MF,\n((MATCH($C$9,[1]!APPLIANCES,0)-1)*2)+2,\nMATCH(H$10,[1]!SHIPMENTS_MF_YEARS,0))","v":1489.7050594343802},{"$f":"INDEX([1]!SHIPMENTS_MF,\n((MATCH($C$9,[1]!APPLIANCES,0)-1)*2)+2,\nMATCH(I$10,[1]!SHIPMENTS_MF_YEARS,0))","v":2291.3354375215472},{"$f":"INDEX([1]!SHIPMENTS_MF,\n((MATCH($C$9,[1]!APPLIANCES,0)-1)*2)+2,\nMATCH(J$10,[1]!SHIPMENTS_MF_YEARS,0))","v":2035.5551716334812},{"$f":"INDEX([1]!SHIPMENTS_MF,\n((MATCH($C$9,[1]!APPLIANCES,0)-1)*2)+2,\nMATCH(K$10,[1]!SHIPMENTS_MF_YEARS,0))","v":2271.8640873194163},{"$f":"INDEX([1]!SHIPMENTS_MF,\n((MATCH($C$9,[1]!APPLIANCES,0)-1)*2)+2,\nMATCH(L$10,[1]!SHIPMENTS_MF_YEARS,0))","v":2826.6290555574524},{"$f":"INDEX([1]!SHIPMENTS_MF,\n((MATCH($C$9,[1]!APPLIANCES,0)-1)*2)+2,\nMATCH(M$10,[1]!SHIPMENTS_MF_YEARS,0))","v":3383.4161740677519},{"$f":"INDEX([1]!SHIPMENTS_MF,\n((MATCH($C$9,[1]!APPLIANCES,0)-1)*2)+2,\nMATCH(N$10,[1]!SHIPMENTS_MF_YEARS,0))","v":2860.1141245817707},{"$f":"INDEX([1]!SHIPMENTS_MF,\n((MATCH($C$9,[1]!APPLIANCES,0)-1)*2)+2,\nMATCH(O$10,[1]!SHIPMENTS_MF_YEARS,0))","v":1339.1309665814915},{"$f":"INDEX([1]!SHIPMENTS_MF,\n((MATCH($C$9,[1]!APPLIANCES,0)-1)*2)+2,\nMATCH(P$10,[1]!SHIPMENTS_MF_YEARS,0))","v":1372.3116258874215},{"$f":"INDEX([1]!SHIPMENTS_MF,\n((MATCH($C$9,[1]!APPLIANCES,0)-1)*2)+2,\nMATCH(Q$10,[1]!SHIPMENTS_MF_YEARS,0))","v":766.15482942365634},{"$f":"INDEX([1]!SHIPMENTS_MF,\n((MATCH($C$9,[1]!APPLIANCES,0)-1)*2)+2,\nMATCH(R$10,[1]!SHIPMENTS_MF_YEARS,0))","v":1065.7885914163489},{"$f":"INDEX([1]!SHIPMENTS_MF,\n((MATCH($C$9,[1]!APPLIANCES,0)-1)*2)+2,\nMATCH(S$10,[1]!SHIPMENTS_MF_YEARS,0))","v":1187.6089702442841},{"$f":"INDEX([1]!SHIPMENTS_MF,\n((MATCH($C$9,[1]!APPLIANCES,0)-1)*2)+2,\nMATCH(T$10,[1]!SHIPMENTS_MF_YEARS,0))","v":1160.5333524876332},{"$f":"INDEX([1]!SHIPMENTS_MF,\n((MATCH($C$9,[1]!APPLIANCES,0)-1)*2)+2,\nMATCH(U$10,[1]!SHIPMENTS_MF_YEARS,0))","v":1147.8932302292669},{"$f":"INDEX([1]!SHIPMENTS_MF,\n((MATCH($C$9,[1]!APPLIANCES,0)-1)*2)+2,\nMATCH(V$10,[1]!SHIPMENTS_MF_YEARS,0))","v":1374.3968086254754},{"$f":"INDEX([1]!SHIPMENTS_MF,\n((MATCH($C$9,[1]!APPLIANCES,0)-1)*2)+2,\nMATCH(W$10,[1]!SHIPMENTS_MF_YEARS,0))","v":962.17326347071503},{"$f":"INDEX([1]!SHIPMENTS_MF,\n((MATCH($C$9,[1]!APPLIANCES,0)-1)*2)+2,\nMATCH(X$10,[1]!SHIPMENTS_MF_YEARS,0))","v":585.42691994812049},{"$f":"INDEX([1]!SHIPMENTS_MF,\n((MATCH($C$9,[1]!APPLIANCES,0)-1)*2)+2,\nMATCH(Y$10,[1]!SHIPMENTS_MF_YEARS,0))","v":571.76140756216773},{"$f":"INDEX([1]!SHIPMENTS_MF,\n((MATCH($C$9,[1]!APPLIANCES,0)-1)*2)+2,\nMATCH(Z$10,[1]!SHIPMENTS_MF_YEARS,0))","v":412.77478622226045},{"$f":"INDEX([1]!SHIPMENTS_MF,\n((MATCH($C$9,[1]!APPLIANCES,0)-1)*2)+2,\nMATCH(AA$10,[1]!SHIPMENTS_MF_YEARS,0))","v":413.94231021298037},{"$f":"INDEX([1]!SHIPMENTS_MF,\n((MATCH($C$9,[1]!APPLIANCES,0)-1)*2)+2,\nMATCH(AB$10,[1]!SHIPMENTS_MF_YEARS,0))","v":559.0304142935056},{"$f":"INDEX([1]!SHIPMENTS_MF,\n((MATCH($C$9,[1]!APPLIANCES,0)-1)*2)+2,\nMATCH(AC$10,[1]!SHIPMENTS_MF_YEARS,0))","v":491.66803425540274},{"$f":"INDEX([1]!SHIPMENTS_MF,\n((MATCH($C$9,[1]!APPLIANCES,0)-1)*2)+2,\nMATCH(AD$10,[1]!SHIPMENTS_MF_YEARS,0))","v":634.05174321589584},{"$f":"INDEX([1]!SHIPMENTS_MF,\n((MATCH($C$9,[1]!APPLIANCES,0)-1)*2)+2,\nMATCH(AE$10,[1]!SHIPMENTS_MF_YEARS,0))","v":558.1501031814405},{"$f":"INDEX([1]!SHIPMENTS_MF,\n((MATCH($C$9,[1]!APPLIANCES,0)-1)*2)+2,\nMATCH(AF$10,[1]!SHIPMENTS_MF_YEARS,0))","v":100.35599473048933},{"$f":"INDEX([1]!SHIPMENTS_MF,\n((MATCH($C$9,[1]!APPLIANCES,0)-1)*2)+2,\nMATCH(AG$10,[1]!SHIPMENTS_MF_YEARS,0))","v":0},{"$f":"INDEX([1]!SHIPMENTS_MF,\n((MATCH($C$9,[1]!APPLIANCES,0)-1)*2)+2,\nMATCH(AH$10,[1]!SHIPMENTS_MF_YEARS,0))","v":0},{"$f":"INDEX([1]!SHIPMENTS_MF,\n((MATCH($C$9,[1]!APPLIANCES,0)-1)*2)+2,\nMATCH(AI$10,[1]!SHIPMENTS_MF_YEARS,0))","v":29.598460320630693},{"$f":"INDEX([1]!SHIPMENTS_MF,\n((MATCH($C$9,[1]!APPLIANCES,0)-1)*2)+2,\nMATCH(AJ$10,[1]!SHIPMENTS_MF_YEARS,0))","v":1291.7489654016535},{"$f":"INDEX([1]!SHIPMENTS_MF,\n((MATCH($C$9,[1]!APPLIANCES,0)-1)*2)+2,\nMATCH(AK$10,[1]!SHIPMENTS_MF_YEARS,0))","v":1364.5284091559733},{"$f":"INDEX([1]!SHIPMENTS_MF,\n((MATCH($C$9,[1]!APPLIANCES,0)-1)*2)+2,\nMATCH(AL$10,[1]!SHIPMENTS_MF_YEARS,0))","v":1465.478832632376},{"$f":"INDEX([1]!SHIPMENTS_MF,\n((MATCH($C$9,[1]!APPLIANCES,0)-1)*2)+2,\nMATCH(AM$10,[1]!SHIPMENTS_MF_YEARS,0))","v":1585.3438962496002},{"$f":"INDEX([1]!SHIPMENTS_MF,\n((MATCH($C$9,[1]!APPLIANCES,0)-1)*2)+2,\nMATCH(AN$10,[1]!SHIPMENTS_MF_YEARS,0))","v":1683.8096839188504},{"$f":"INDEX([1]!SHIPMENTS_MF,\n((MATCH($C$9,[1]!APPLIANCES,0)-1)*2)+2,\nMATCH(AO$10,[1]!SHIPMENTS_MF_YEARS,0))","v":1739.0708819400606},{"$f":"INDEX([1]!SHIPMENTS_MF,\n((MATCH($C$9,[1]!APPLIANCES,0)-1)*2)+2,\nMATCH(AP$10,[1]!SHIPMENTS_MF_YEARS,0))","v":1799.6991339198139},{"$f":"INDEX([1]!SHIPMENTS_MF,\n((MATCH($C$9,[1]!APPLIANCES,0)-1)*2)+2,\nMATCH(AQ$10,[1]!SHIPMENTS_MF_YEARS,0))","v":1869.783794846051},{"$f":"INDEX([1]!SHIPMENTS_MF,\n((MATCH($C$9,[1]!APPLIANCES,0)-1)*2)+2,\nMATCH(AR$10,[1]!SHIPMENTS_MF_YEARS,0))","v":1911.2040930619696},{"$f":"INDEX([1]!SHIPMENTS_MF,\n((MATCH($C$9,[1]!APPLIANCES,0)-1)*2)+2,\nMATCH(AS$10,[1]!SHIPMENTS_MF_YEARS,0))","v":1877.442585809928},{"$f":"INDEX([1]!SHIPMENTS_MF,\n((MATCH($C$9,[1]!APPLIANCES,0)-1)*2)+2,\nMATCH(AT$10,[1]!SHIPMENTS_MF_YEARS,0))","v":1898.4520965437405},{"$f":"INDEX([1]!SHIPMENTS_MF,\n((MATCH($C$9,[1]!APPLIANCES,0)-1)*2)+2,\nMATCH(AU$10,[1]!SHIPMENTS_MF_YEARS,0))","v":1907.1791746669476},{"$f":"INDEX([1]!SHIPMENTS_MF,\n((MATCH($C$9,[1]!APPLIANCES,0)-1)*2)+2,\nMATCH(AV$10,[1]!SHIPMENTS_MF_YEARS,0))","v":1901.8849693791708},{"$f":"INDEX([1]!SHIPMENTS_MF,\n((MATCH($C$9,[1]!APPLIANCES,0)-1)*2)+2,\nMATCH(AW$10,[1]!SHIPMENTS_MF_YEARS,0))","v":1881.3317719083134},{"$f":"INDEX([1]!SHIPMENTS_MF,\n((MATCH($C$9,[1]!APPLIANCES,0)-1)*2)+2,\nMATCH(AX$10,[1]!SHIPMENTS_MF_YEARS,0))","v":1853.1184419421334},{"$f":"INDEX([1]!SHIPMENTS_MF,\n((MATCH($C$9,[1]!APPLIANCES,0)-1)*2)+2,\nMATCH(AY$10,[1]!SHIPMENTS_MF_YEARS,0))","v":1844.3653168335004},{"$f":"INDEX([1]!SHIPMENTS_MF,\n((MATCH($C$9,[1]!APPLIANCES,0)-1)*2)+2,\nMATCH(AZ$10,[1]!SHIPMENTS_MF_YEARS,0))","v":1840.6623713063454},{"$f":"INDEX([1]!SHIPMENTS_MF,\n((MATCH($C$9,[1]!APPLIANCES,0)-1)*2)+2,\nMATCH(BA$10,[1]!SHIPMENTS_MF_YEARS,0))","v":1834.5262199549034},{"$f":"INDEX([1]!SHIPMENTS_MF,\n((MATCH($C$9,[1]!APPLIANCES,0)-1)*2)+2,\nMATCH(BB$10,[1]!SHIPMENTS_MF_YEARS,0))","v":1814.5665150023706},{"$f":"INDEX([1]!SHIPMENTS_MF,\n((MATCH($C$9,[1]!APPLIANCES,0)-1)*2)+2,\nMATCH(BC$10,[1]!SHIPMENTS_MF_YEARS,0))","v":1832.7121801524045},{"$f":"INDEX([1]!SHIPMENTS_MF,\n((MATCH($C$9,[1]!APPLIANCES,0)-1)*2)+2,\nMATCH(BD$10,[1]!SHIPMENTS_MF_YEARS,0))","v":1851.0393019539188},{"$f":"INDEX([1]!SHIPMENTS_MF,\n((MATCH($C$9,[1]!APPLIANCES,0)-1)*2)+2,\nMATCH(BE$10,[1]!SHIPMENTS_MF_YEARS,0))","v":1869.5496949734661},{"$f":"INDEX([1]!SHIPMENTS_MF,\n((MATCH($C$9,[1]!APPLIANCES,0)-1)*2)+2,\nMATCH(BF$10,[1]!SHIPMENTS_MF_YEARS,0))","v":1888.2451919231826}]
[null,null,"Total Model Shipments","(units)",{"$f":"SUM(E12:E13)","v":6195.3278104150158},{"$f":"SUM(F12:F13)","v":5860.1835822290232},6008.7463965853167,6522.3290786337075,7323.9594567208751,7068.1791908328087,7304.4881065187437,7859.2530747567798,8416.0401932670793,7892.7381437810982,6371.754985780819,7567.6394363024374,6626.3384116526795,7074.5349880016656,7709.9380488779916,8484.4928092085083,8216.0724210620756,8678.8849151442191,8821.4263382274949,9001.4671132151998,8464.4995513432659,6784.5297720030794,7981.5817465154178,7185.3688259461851,7566.2030222570684,8343.9897920938874,9042.6429123899488,8316.4284157925649,8070.1819640055537,8499.8736742732581,9031.0655735358305,9756.2485167449195,8149.0581811590528,9447.0605791477938,8770.7127221957853,9250.0127061759194,10083.060674033948,10842.342046309763,10186.212210638616,9981.3860570675242,10377.316260083186,10929.517670079571,11663.427691411867,10050.943150538224,11328.392351056107,10623.831164137919,11094.37802300942,11923.723045340294,12676.868266264666,12000.778725640987,11814.098237219929,12228.355562037104,12799.067365053037,13551.67288333505]
[null,null,"Model Installed Stock","(units)",{"$f":"INDEX([1]!STOCK_MF,\nMATCH($C$9,[1]!APPLIANCES,0),\nMATCH(E$10,[1]!STOCK_MF_YEARS,0))","v":56521.568002408356},{"$f":"INDEX([1]!STOCK_MF,\nMATCH($C$9,[1]!APPLIANCES,0),\nMATCH(F$10,[1]!STOCK_MF_YEARS,0))","v":57349.127565438052},{"$f":"INDEX([1]!STOCK_MF,\nMATCH($C$9,[1]!APPLIANCES,0),\nMATCH(G$10,[1]!STOCK_MF_YEARS,0))","v":58325.249942824041},{"$f":"INDEX([1]!STOCK_MF,\nMATCH($C$9,[1]!APPLIANCES,0),\nMATCH(H$10,[1]!STOCK_MF_YEARS,0))","v":59814.955002258423},{"$f":"INDEX([1]!STOCK_MF,\nMATCH($C$9,[1]!APPLIANCES,0),\nMATCH(I$10,[1]!STOCK_MF_YEARS,0))","v":62106.290439779972},{"$f":"INDEX([1]!STOCK_MF,\nMATCH($C$9,[1]!APPLIANCES,0),\nMATCH(J$10,[1]!STOCK_MF_YEARS,0))","v":64141.845611413453},{"$f":"INDEX([1]!STOCK_MF,\nMATCH($C$9,[1]!APPLIANCES,0),\nMATCH(K$10,[1]!STOCK_MF_YEARS,0))","v":66413.70969873287},{"$f":"INDEX([1]!STOCK_MF,\nMATCH($C$9,[1]!APPLIANCES,0),\nMATCH(L$10,[1]!STOCK_MF_YEARS,0))","v":69240.338754290322},{"$f":"INDEX([1]!STOCK_MF,\nMATCH($C$9,[1]!APPLIANCES,0),\nMATCH(M$10,[1]!STOCK_MF_YEARS,0))","v":72623.754928358074},{"$f":"INDEX([1]!STOCK_MF,\nMATCH($C$9,[1]!APPLIANCES,0),\nMATCH(N$10,[1]!STOCK_MF_YEARS,0))","v":75483.869052939845},{"$f":"INDEX([1]!STOCK_MF,\nMATCH($C$9,[1]!APPLIANCES,0),\nMATCH(O$10,[1]!STOCK_MF_YEARS,0))","v":76823.000019521336},{"$f":"INDEX([1]!STOCK_MF,\nMATCH($C$9,[1]!APPLIANCES,0),\nMATCH(P$10,[1]!STOCK_MF_YEARS,0))","v":78195.311645408758},{"$f":"INDEX([1]!STOCK_MF,\nMATCH($C$9,[1]!APPLIANCES,0),\nMATCH(Q$10,[1]!STOCK_MF_YEARS,0))","v":78961.466474832414},{"$f":"INDEX([1]!STOCK_MF,\nMATCH($C$9,[1]!APPLIANCES,0),\nMATCH(R$10,[1]!STOCK_MF_YEARS,0))","v":80027.255066248763},{"$f":"INDEX([1]!STOCK_MF,\nMATCH($C$9,[1]!APPLIANCES,0),\nMATCH(S$10,[1]!STOCK_MF_YEARS,0))","v":81214.864036493047},{"$f":"INDEX([1]!STOCK_MF,\nMATCH($C$9,[1]!APPLIANCES,0),\nMATCH(T$10,[1]!STOCK_MF_YEARS,0))","v":82375.39738898068},{"$f":"INDEX([1]!STOCK_MF,\nMATCH($C$9,[1]!APPLIANCES,0),\nMATCH(U$10,[1]!STOCK_MF_YEARS,0))","v":83523.290619209947},{"$f":"INDEX([1]!STOCK_MF,\nMATCH($C$9,[1]!APPLIANCES,0),\nMATCH(V$10,[1]!STOCK_MF_YEARS,0))","v":84897.687427835423},{"$f":"INDEX([1]!STOCK_MF,\nMATCH($C$9,[1]!APPLIANCES,0),\nMATCH(W$10,[1]!STOCK_MF_YEARS,0))","v":85859.860691306138},{"$f":"INDEX([1]!STOCK_MF,\nMATCH($C$9,[1]!APPLIANCES,0),\nMATCH(X$10,[1]!STOCK_MF_YEARS,0))","v":86445.287611254258},{"$f":"INDEX([1]!STOCK_MF,\nMATCH($C$9,[1]!APPLIANCES,0),\nMATCH(Y$10,[1]!STOCK_MF_YEARS,0))","v":87017.049018816426},{"$f":"INDEX([1]!STOCK_MF,\nMATCH($C$9,[1]!APPLIANCES,0),\nMATCH(Z$10,[1]!STOCK_MF_YEARS,0))","v":87429.823805038686},{"$f":"INDEX([1]!STOCK_MF,\nMATCH($C$9,[1]!APPLIANCES,0),\nMATCH(AA$10,[1]!STOCK_MF_YEARS,0))","v":87843.766115251667},{"$f":"INDEX([1]!STOCK_MF,\nMATCH($C$9,[1]!APPLIANCES,0),\nMATCH(AB$10,[1]!STOCK_MF_YEARS,0))","v":88402.796529545172},{"$f":"INDEX([1]!STOCK_MF,\nMATCH($C$9,[1]!APPLIANCES,0),\nMATCH(AC$10,[1]!STOCK_MF_YEARS,0))","v":88894.464563800575},{"$f":"INDEX([1]!STOCK_MF,\nMATCH($C$9,[1]!APPLIANCES,0),\nMATCH(AD$10,[1]!STOCK_MF_YEARS,0))","v":89528.516307016471},{"$f":"INDEX([1]!STOCK_MF,\nMATCH($C$9,[1]!APPLIANCES,0),\nMATCH(AE$10,[1]!STOCK_MF_YEARS,0))","v":90086.666410197911},{"$f":"INDEX([1]!STOCK_MF,\nMATCH($C$9,[1]!APPLIANCES,0),\nMATCH(AF$10,[1]!STOCK_MF_YEARS,0))","v":90187.022404928401},{"$f":"INDEX([1]!STOCK_MF,\nMATCH($C$9,[1]!APPLIANCES,0),\nMATCH(AG$10,[1]!STOCK_MF_YEARS,0))","v":89578.319453789736},{"$f":"INDEX([1]!STOCK_MF,\nMATCH($C$9,[1]!APPLIANCES,0),\nMATCH(AH$10,[1]!STOCK_MF_YEARS,0))","v":89256.766789835499},{"$f":"INDEX([1]!STOCK_MF,\nMATCH($C$9,[1]!APPLIANCES,0),\nMATCH(AI$10,[1]!STOCK_MF_YEARS,0))","v":89286.36525015613},{"$f":"INDEX([1]!STOCK_MF,\nMATCH($C$9,[1]!APPLIANCES,0),\nMATCH(AJ$10,[1]!STOCK_MF_YEARS,0))","v":90578.114215557784},{"$f":"INDEX([1]!STOCK_MF,\nMATCH($C$9,[1]!APPLIANCES,0),\nMATCH(AK$10,[1]!STOCK_MF_YEARS,0))","v":91942.642624713757},{"$f":"INDEX([1]!STOCK_MF,\nMATCH($C$9,[1]!APPLIANCES,0),\nMATCH(AL$10,[1]!STOCK_MF_YEARS,0))","v":93408.121457346133},{"$f":"INDEX([1]!STOCK_MF,\nMATCH($C$9,[1]!APPLIANCES,0),\nMATCH(AM$10,[1]!STOCK_MF_YEARS,0))","v":94993.465353595733},{"$f":"INDEX([1]!STOCK_MF,\nMATCH($C$9,[1]!APPLIANCES,0),\nMATCH(AN$10,[1]!STOCK_MF_YEARS,0))","v":96677.275037514584},{"$f":"INDEX([1]!STOCK_MF,\nMATCH($C$9,[1]!APPLIANCES,0),\nMATCH(AO$10,[1]!STOCK_MF_YEARS,0))","v":98416.345919454645},{"$f":"INDEX([1]!STOCK_MF,\nMATCH($C$9,[1]!APPLIANCES,0),\nMATCH(AP$10,[1]!STOCK_MF_YEARS,0))","v":100216.04505337446},{"$f":"INDEX([1]!STOCK_MF,\nMATCH($C$9,[1]!APPLIANCES,0),\nMATCH(AQ$10,[1]!STOCK_MF_YEARS,0))","v":102085.82884822051},{"$f":"INDEX([1]!STOCK_MF,\nMATCH($C$9,[1]!APPLIANCES,0),\nMATCH(AR$10,[1]!STOCK_MF_YEARS,0))","v":103997.03294128248},{"$f":"INDEX([1]!STOCK_MF,\nMATCH($C$9,[1]!APPLIANCES,0),\nMATCH(AS$10,[1]!STOCK_MF_YEARS,0))","v":105874.47552709241},{"$f":"INDEX([1]!STOCK_MF,\nMATCH($C$9,[1]!APPLIANCES,0),\nMATCH(AT$10,[1]!STOCK_MF_YEARS,0))","v":107772.92762363615},{"$f":"INDEX([1]!STOCK_MF,\nMATCH($C$9,[1]!APPLIANCES,0),\nMATCH(AU$10,[1]!STOCK_MF_YEARS,0))","v":109680.1067983031},{"$f":"INDEX([1]!STOCK_MF,\nMATCH($C$9,[1]!APPLIANCES,0),\nMATCH(AV$10,[1]!STOCK_MF_YEARS,0))","v":111581.99176768227},{"$f":"INDEX([1]!STOCK_MF,\nMATCH($C$9,[1]!APPLIANCES,0),\nMATCH(AW$10,[1]!STOCK_MF_YEARS,0))","v":113463.32353959058},{"$f":"INDEX([1]!STOCK_MF,\nMATCH($C$9,[1]!APPLIANCES,0),\nMATCH(AX$10,[1]!STOCK_MF_YEARS,0))","v":115316.44198153271},{"$f":"INDEX([1]!STOCK_MF,\nMATCH($C$9,[1]!APPLIANCES,0),\nMATCH(AY$10,[1]!STOCK_MF_YEARS,0))","v":117160.80729836621},{"$f":"INDEX([1]!STOCK_MF,\nMATCH($C$9,[1]!APPLIANCES,0),\nMATCH(AZ$10,[1]!STOCK_MF_YEARS,0))","v":119001.46966967256},{"$f":"INDEX([1]!STOCK_MF,\nMATCH($C$9,[1]!APPLIANCES,0),\nMATCH(BA$10,[1]!STOCK_MF_YEARS,0))","v":120835.99588962746},{"$f":"INDEX([1]!STOCK_MF,\nMATCH($C$9,[1]!APPLIANCES,0),\nMATCH(BB$10,[1]!STOCK_MF_YEARS,0))","v":122650.56240462983},{"$f":"INDEX([1]!STOCK_MF,\nMATCH($C$9,[1]!APPLIANCES,0),\nMATCH(BC$10,[1]!STOCK_MF_YEARS,0))","v":124483.27458478224},{"$f":"INDEX([1]!STOCK_MF,\nMATCH($C$9,[1]!APPLIANCES,0),\nMATCH(BD$10,[1]!STOCK_MF_YEARS,0))","v":126334.31388673616},{"$f":"INDEX([1]!STOCK_MF,\nMATCH($C$9,[1]!APPLIANCES,0),\nMATCH(BE$10,[1]!STOCK_MF_YEARS,0))","v":128203.86358170962},{"$f":"INDEX([1]!STOCK_MF,\nMATCH($C$9,[1]!APPLIANCES,0),\nMATCH(BF$10,[1]!STOCK_MF_YEARS,0))","v":130092.1087736328}]

{"sheet":"Shipments and Stock - MH","index":13,"n_rows":15,"n_cols":58,"rows_kept":15,"cut":false,"hidden":false,"merged":[]}
[]
[null,null,"Shipments and Stock - MH"]
[]
[null,null,"NAVIGATION"]
[]
[null,null,"COMMENTS"]
[]
[]
[null,null,{"$f":"MODEL_NAME","v":"Room AC"}]
[null,null,null,null,1981,1982,1983,1984,1985,1986,1987,1988,1989,1990,1991,1992,1993,1994,1995,1996,1997,1998,1999,2000,2001,2002,2003,2004,2005,2006,2007,2008,2009,2010,2011,2012,2013,2014,2015,2016,2017,2018,2019,2020,2021,2022,2023,2024,2025,2026,2027,2028,2029,2030,2031,2032,2033,2034]
[null,null,"6P Shipments","(units)",{"$f":"IF(ISNUMBER(MATCH(E10,[1]!SIXTH_PLAN_MH_YEARS,0)),\nINDEX([1]!SIXTH_PLAN_MH,\nMATCH($C$9,[1]!APPLIANCES,0),\nMATCH(E$10,[1]!SIXTH_PLAN_MH_YEARS,0)),\"pre-dates plan\")","v":"pre-dates plan"},{"$f":"IF(ISNUMBER(MATCH(F10,[1]!SIXTH_PLAN_MH_YEARS,0)),\nINDEX([1]!SIXTH_PLAN_MH,\nMATCH($C$9,[1]!APPLIANCES,0),\nMATCH(F$10,[1]!SIXTH_PLAN_MH_YEARS,0)),\"pre-dates plan\")","v":"pre-dates plan"},{"$f":"IF(ISNUMBER(MATCH(G10,[1]!SIXTH_PLAN_MH_YEARS,0)),\nINDEX([1]!SIXTH_PLAN_MH,\nMATCH($C$9,[1]!APPLIANCES,0),\nMATCH(G$10,[1]!SIXTH_PLAN_MH_YEARS,0)),\"pre-dates plan\")","v":"pre-dates plan"},{"$f":"IF(ISNUMBER(MATCH(H10,[1]!SIXTH_PLAN_MH_YEARS,0)),\nINDEX([1]!SIXTH_PLAN_MH,\nMATCH($C$9,[1]!APPLIANCES,0),\nMATCH(H$10,[1]!SIXTH_PLAN_MH_YEARS,0)),\"pre-dates plan\")","v":"pre-dates plan"},{"$f":"IF(ISNUMBER(MATCH(I10,[1]!SIXTH_PLAN_MH_YEARS,0)),\nINDEX([1]!SIXTH_PLAN_MH,\nMATCH($C$9,[1]!APPLIANCES,0),\nMATCH(I$10,[1]!SIXTH_PLAN_MH_YEARS,0)),\"pre-dates plan\")","v":"pre-dates plan"},{"$f":"IF(ISNUMBER(MATCH(J10,[1]!SIXTH_PLAN_MH_YEARS,0)),\nINDEX([1]!SIXTH_PLAN_MH,\nMATCH($C$9,[1]!APPLIANCES,0),\nMATCH(J$10,[1]!SIXTH_PLAN_MH_YEARS,0)),\"pre-dates plan\")","v":"pre-dates plan"},{"$f":"IF(ISNUMBER(MATCH(K10,[1]!SIXTH_PLAN_MH_YEARS,0)),\nINDEX([1]!SIXTH_PLAN_MH,\nMATCH($C$9,[1]!APPLIANCES,0),\nMATCH(K$10,[1]!SIXTH_PLAN_MH_YEARS,0)),\"pre-dates plan\")","v":"pre-dates plan"},{"$f":"IF(ISNUMBER(MATCH(L10,[1]!SIXTH_PLAN_MH_YEARS,0)),\nINDEX([1]!SIXTH_PLAN_MH,\nMATCH($C$9,[1]!APPLIANCES,0),\nMATCH(L$10,[1]!SIXTH_PLAN_MH_YEARS,0)),\"pre-dates plan\")","v":"pre-dates plan"},{"$f":"IF(ISNUMBER(MATCH(M10,[1]!SIXTH_PLAN_MH_YEARS,0)),\nINDEX([1]!SIXTH_PLAN_MH,\nMATCH($C$9,[1]!APPLIANCES,0),\nMATCH(M$10,[1]!SIXTH_PLAN_MH_YEARS,0)),\"pre-dates plan\")","v":"pre-dates plan"},{"$f":"IF(ISNUMBER(MATCH(N10,[1]!SIXTH_PLAN_MH_YEARS,0)),\nINDEX([1]!SIXTH_PLAN_MH,\nMATCH($C$9,[1]!APPLIANCES,0),\nMATCH(N$10,[1]!SIXTH_PLAN_MH_YEARS,0)),\"pre-dates plan\")","v":"pre-dates plan"},{"$f":"IF(ISNUMBER(MATCH(O10,[1]!SIXTH_PLAN_MH_YEARS,0)),\nINDEX([1]!SIXTH_PLAN_MH,\nMATCH($C$9,[1]!APPLIANCES,0),\nMATCH(O$10,[1]!SIXTH_PLAN_MH_YEARS,0)),\"pre-dates plan\")","v":"pre-dates plan"},{"$f":"IF(ISNUMBER(MATCH(P10,[1]!SIXTH_PLAN_MH_YEARS,0)),\nINDEX([1]!SIXTH_PLAN_MH,\nMATCH($C$9,[1]!APPLIANCES,0),\nMATCH(P$10,[1]!SIXTH_PLAN_MH_YEARS,0)),\"pre-dates plan\")","v":"pre-dates plan"},{"$f":"IF(ISNUMBER(MATCH(Q10,[1]!SIXTH_PLAN_MH_YEARS,0)),\nINDEX([1]!SIXTH_PLAN_MH,\nMATCH($C$9,[1]!APPLIANCES,0),\nMATCH(Q$10,[1]!SIXTH_PLAN_MH_YEARS,0)),\"pre-dates plan\")","v":"pre-dates plan"},{"$f":"IF(ISNUMBER(MATCH(R10,[1]!SIXTH_PLAN_MH_YEARS,0)),\nINDEX([1]!SIXTH_PLAN_MH,\nMATCH($C$9,[1]!APPLIANCES,0),\nMATCH(R$10,[1]!SIXTH_PLAN_MH_YEARS,0)),\"pre-dates plan\")","v":"pre-dates plan"},{"$f":"IF(ISNUMBER(MATCH(S10,[1]!SIXTH_PLAN_MH_YEARS,0)),\nINDEX([1]!SIXTH_PLAN_MH,\nMATCH($C$9,[1]!APPLIANCES,0),\nMATCH(S$10,[1]!SIXTH_PLAN_MH_YEARS,0)),\"pre-dates plan\")","v":"pre-dates plan"},{"$f":"IF(ISNUMBER(MATCH(T10,[1]!SIXTH_PLAN_MH_YEARS,0)),\nINDEX([1]!SIXTH_PLAN_MH,\nMATCH($C$9,[1]!APPLIANCES,0),\nMATCH(T$10,[1]!SIXTH_PLAN_MH_YEARS,0)),\"pre-dates plan\")","v":"pre-dates plan"},{"$f":"IF(ISNUMBER(MATCH(U10,[1]!SIXTH_PLAN_MH_YEARS,0)),\nINDEX([1]!SIXTH_PLAN_MH,\nMATCH($C$9,[1]!APPLIANCES,0),\nMATCH(U$10,[1]!SIXTH_PLAN_MH_YEARS,0)),\"pre-dates plan\")","v":"pre-dates plan"},{"$f":"IF(ISNUMBER(MATCH(V10,[1]!SIXTH_PLAN_MH_YEARS,0)),\nINDEX([1]!SIXTH_PLAN_MH,\nMATCH($C$9,[1]!APPLIANCES,0),\nMATCH(V$10,[1]!SIXTH_PLAN_MH_YEARS,0)),\"pre-dates plan\")","v":"pre-dates plan"},{"$f":"IF(ISNUMBER(MATCH(W10,[1]!SIXTH_PLAN_MH_YEARS,0)),\nINDEX([1]!SIXTH_PLAN_MH,\nMATCH($C$9,[1]!APPLIANCES,0),\nMATCH(W$10,[1]!SIXTH_PLAN_MH_YEARS,0)),\"pre-dates plan\")","v":"pre-dates plan"},{"$f":"IF(ISNUMBER(MATCH(X10,[1]!SIXTH_PLAN_MH_YEARS,0)),\nINDEX([1]!SIXTH_PLAN_MH,\nMATCH($C$9,[1]!APPLIANCES,0),\nMATCH(X$10,[1]!SIXTH_PLAN_MH_YEARS,0)),\"pre-dates plan\")","v":"pre-dates plan"},{"$f":"IF(ISNUMBER(MATCH(Y10,[1]!SIXTH_PLAN_MH_YEARS,0)),\nINDEX([1]!SIXTH_PLAN_MH,\nMATCH($C$9,[1]!APPLIANCES,0),\nMATCH(Y$10,[1]!SIXTH_PLAN_MH_YEARS,0)),\"pre-dates plan\")","v":"pre-dates plan"},{"$f":"IF(ISNUMBER(MATCH(Z10,[1]!SIXTH_PLAN_MH_YEARS,0)),\nINDEX([1]!SIXTH_PLAN_MH,\nMATCH($C$9,[1]!APPLIANCES,0),\nMATCH(Z$10,[1]!SIXTH_PLAN_MH_YEARS,0)),\"pre-dates plan\")","v":"pre-dates plan"},{"$f":"IF(ISNUMBER(MATCH(AA10,[1]!SIXTH_PLAN_MH_YEARS,0)),\nINDEX([1]!SIXTH_PLAN_MH,\nMATCH($C$9,[1]!APPLIANCES,0),\nMATCH(AA$10,[1]!SIXTH_PLAN_MH_YEARS,0)),\"pre-dates plan\")","v":"pre-dates plan"},{"$f":"IF(ISNUMBER(MATCH(AB10,[1]!SIXTH_PLAN_MH_YEARS,0)),\nINDEX([1]!SIXTH_PLAN_MH,\nMATCH($C$9,[1]!APPLIANCES,0),\nMATCH(AB$10,[1]!SIXTH_PLAN_MH_YEARS,0)),\"pre-dates plan\")","v":"pre-dates plan"},{"$f":"IF(ISNUMBER(MATCH(AC10,[1]!SIXTH_PLAN_MH_YEARS,0)),\nINDEX([1]!SIXTH_PLAN_MH,\nMATCH($C$9,[1]!APPLIANCES,0),\nMATCH(AC$10,[1]!SIXTH_PLAN_MH_YEARS,0)),\"pre-dates plan\")","v":"pre-dates plan"},{"$f":"IF(ISNUMBER(MATCH(AD10,[1]!SIXTH_PLAN_MH_YEARS,0)),\nINDEX([1]!SIXTH_PLAN_MH,\nMATCH($C$9,[1]!APPLIANCES,0),\nMATCH(AD$10,[1]!SIXTH_PLAN_MH_YEARS,0)),\"pre-dates plan\")","v":"pre-dates plan"},{"$f":"IF(ISNUMBER(MATCH(AE10,[1]!SIXTH_PLAN_MH_YEARS,0)),\nINDEX([1]!SIXTH_PLAN_MH,\nMATCH($C$9,[1]!APPLIANCES,0),\nMATCH(AE$10,[1]!SIXTH_PLAN_MH_YEARS,0)),\"pre-dates plan\")","v":"pre-dates plan"},{"$f":"IF(ISNUMBER(MATCH(AF10,[1]!SIXTH_PLAN_MH_YEARS,0)),\nINDEX([1]!SIXTH_PLAN_MH,\nMATCH($C$9,[1]!APPLIANCES,0),\nMATCH(AF$10,[1]!SIXTH_PLAN_MH_YEARS,0)),\"pre-dates plan\")","v":"pre-dates plan"},{"$f":"IF(ISNUMBER(MATCH(AG10,[1]!SIXTH_PLAN_MH_YEARS,0)),\nINDEX([1]!SIXTH_PLAN_MH,\nMATCH($C$9,[1]!APPLIANCES,0),\nMATCH(AG$10,[1]!SIXTH_PLAN_MH_YEARS,0)),\"pre-dates plan\")","v":"pre-dates plan"},{"$f":"IF(ISNUMBER(MATCH(AH10,[1]!SIXTH_PLAN_MH_YEARS,0)),\nINDEX([1]!SIXTH_PLAN_MH,\nMATCH($C$9,[1]!APPLIANCES,0),\nMATCH(AH$10,[1]!SIXTH_PLAN_MH_YEARS,0)),\"pre-dates plan\")","v":8375.235668276131},{"$f":"IF(ISNUMBER(MATCH(AI10,[1]!SIXTH_PLAN_MH_YEARS,0)),\nINDEX([1]!SIXTH_PLAN_MH,\nMATCH($C$9,[1]!APPLIANCES,0),\nMATCH(AI$10,[1]!SIXTH_PLAN_MH_YEARS,0)),\"pre-dates plan\")","v":8464.0830256206118},{"$f":"IF(ISNUMBER(MATCH(AJ10,[1]!SIXTH_PLAN_MH_YEARS,0)),\nINDEX([1]!SIXTH_PLAN_MH,\nMATCH($C$9,[1]!APPLIANCES,0),\nMATCH(AJ$10,[1]!SIXTH_PLAN_MH_YEARS,0)),\"pre-dates plan\")","v":8428.7958608406061},{"$f":"IF(ISNUMBER(MATCH(AK10,[1]!SIXTH_PLAN_MH_YEARS,0)),\nINDEX([1]!SIXTH_PLAN_MH,\nMATCH($C$9,[1]!APPLIANCES,0),\nMATCH(AK$10,[1]!SIXTH_PLAN_MH_YEARS,0)),\"pre-dates plan\")","v":8384.4497120591805},{"$f":"IF(ISNUMBER(MATCH(AL10,[1]!SIXTH_PLAN_MH_YEARS,0)),\nINDEX([1]!SIXTH_PLAN_MH,\nMATCH($C$9,[1]!APPLIANCES,0),\nMATCH(AL$10,[1]!SIXTH_PLAN_MH_YEARS,0)),\"pre-dates plan\")","v":8327.6668184453974},{"$f":"IF(ISNUMBER(MATCH(AM10,[1]!SIXTH_PLAN_MH_YEARS,0)),\nINDEX([1]!SIXTH_PLAN_MH,\nMATCH($C$9,[1]!APPLIANCES,0),\nMATCH(AM$10,[1]!SIXTH_PLAN_MH_YEARS,0)),\"pre-dates plan\")","v":8275.1140279820956},{"$f":"IF(ISNUMBER(MATCH(AN10,[1]!SIXTH_PLAN_MH_YEARS,0)),\nINDEX([1]!SIXTH_PLAN_MH,\nMATCH($C$9,[1]!APPLIANCES,0),\nMATCH(AN$10,[1]!SIXTH_PLAN_MH_YEARS,0)),\"pre-dates plan\")","v":8235.3154352449583},{"$f":"IF(ISNUMBER(MATCH(AO10,[1]!SIXTH_PLAN_MH_YEARS,0)),\nINDEX([1]!SIXTH_PLAN_MH,\nMATCH($C$9,[1]!APPLIANCES,0),\nMATCH(AO$10,[1]!SIXTH_PLAN_MH_YEARS,0)),\"pre-dates plan\")","v":8212.2425116491358},{"$f":"IF(ISNUMBER(MATCH(AP10,[1]!SIXTH_PLAN_MH_YEARS,0)),\nINDEX([1]!SIXTH_PLAN_MH,\nMATCH($C$9,[1]!APPLIANCES,0),\nMATCH(AP$10,[1]!SIXTH_PLAN_MH_YEARS,0)),\"pre-dates plan\")","v":8208.1102684045945},{"$f":"IF(ISNUMBER(MATCH(AQ10,[1]!SIXTH_PLAN_MH_YEARS,0)),\nINDEX([1]!SIXTH_PLAN_MH,\nMATCH($C$9,[1]!APPLIANCES,0),\nMATCH(AQ$10,[1]!SIXTH_PLAN_MH_YEARS,0)),\"pre-dates plan\")","v":788.98728653576165},{"$f":"IF(ISNUMBER(MATCH(AR10,[1]!SIXTH_PLAN_MH_YEARS,0)),\nINDEX([1]!SIXTH_PLAN_MH,\nMATCH($C$9,[1]!APPLIANCES,0),\nMATCH(AR$10,[1]!SIXTH_PLAN_MH_YEARS,0)),\"pre-dates plan\")","v":815.99153912689042},{"$f":"IF(ISNUMBER(MATCH(AS10,[1]!SIXTH_PLAN_MH_YEARS,0)),\nINDEX([1]!SIXTH_PLAN_MH,\nMATCH($C$9,[1]!APPLIANCES,0),\nMATCH(AS$10,[1]!SIXTH_PLAN_MH_YEARS,0)),\"pre-dates plan\")","v":850.59669899247058},{"$f":"IF(ISNUMBER(MATCH(AT10,[1]!SIXTH_PLAN_MH_YEARS,0)),\nINDEX([1]!SIXTH_PLAN_MH,\nMATCH($C$9,[1]!APPLIANCES,0),\nMATCH(AT$10,[1]!SIXTH_PLAN_MH_YEARS,0)),\"pre-dates plan\")","v":885.32726520445215},{"$f":"IF(ISNUMBER(MATCH(AU10,[1]!SIXTH_PLAN_MH_YEARS,0)),\nINDEX([1]!SIXTH_PLAN_MH,\nMATCH($C$9,[1]!APPLIANCES,0),\nMATCH(AU$10,[1]!SIXTH_PLAN_MH_YEARS,0)),\"pre-dates plan\")","v":912.97710072971984},{"$f":"IF(ISNUMBER(MATCH(AV10,[1]!SIXTH_PLAN_MH_YEARS,0)),\nINDEX([1]!SIXTH_PLAN_MH,\nMATCH($C$9,[1]!APPLIANCES,0),\nMATCH(AV$10,[1]!SIXTH_PLAN_MH_YEARS,0)),\"pre-dates plan\")","v":928.08755291031616},{"$f":"IF(ISNUMBER(MATCH(AW10,[1]!SIXTH_PLAN_MH_YEARS,0)),\nINDEX([1]!SIXTH_PLAN_MH,\nMATCH($C$9,[1]!APPLIANCES,0),\nMATCH(AW$10,[1]!SIXTH_PLAN_MH_YEARS,0)),\"pre-dates plan\")","v":927.56212188627933},{"$f":"IF(ISNUMBER(MATCH(AX10,[1]!SIXTH_PLAN_MH_YEARS,0)),\nINDEX([1]!SIXTH_PLAN_MH,\nMATCH($C$9,[1]!APPLIANCES,0),\nMATCH(AX$10,[1]!SIXTH_PLAN_MH_YEARS,0)),\"pre-dates plan\")","v":911.09909104481221},{"$f":"IF(ISNUMBER(MATCH(AY10,[1]!SIXTH_PLAN_MH_YEARS,0)),\nINDEX([1]!SIXTH_PLAN_MH,\nMATCH($C$9,[1]!APPLIANCES,0),\nMATCH(AY$10,[1]!SIXTH_PLAN_MH_YEARS,0)),\"pre-dates plan\")","v":881.43774727249331},{"$f":"IF(ISNUMBER(MATCH(AZ10,[1]!SIXTH_PLAN_MH_YEARS,0)),\nINDEX([1]!SIXTH_PLAN_MH,\nMATCH($C$9,[1]!APPLIANCES,0),\nMATCH(AZ$10,[1]!SIXTH_PLAN_MH_YEARS,0)),\"pre-dates plan\")","v":843.364009915373},{"$f":"IF(ISNUMBER(MATCH(BA10,[1]!SIXTH_PLAN_MH_YEARS,0)),\nINDEX([1]!SIXTH_PLAN_MH,\nMATCH($C$9,[1]!APPLIANCES,0),\nMATCH(BA$10,[1]!SIXTH_PLAN_MH_YEARS,0)),\"pre-dates plan\")","v":802.90833327400605},{"$f":"IF(ISNUMBER(MATCH(BB10,[1]!SIXTH_PLAN_MH_YEARS,0)),\nINDEX([1]!SIXTH_PLAN_MH,\nMATCH($C$9,[1]!APPLIANCES,0),\nMATCH(BB$10,[1]!SIXTH_PLAN_MH_YEARS,0)),\"pre-dates plan\")","v":766.32421538654853},{"$f":"IF(ISNUMBER(MATCH(BC10,[1]!SIXTH_PLAN_MH_YEARS,0)),\nINDEX([1]!SIXTH_PLAN_MH,\nMATCH($C$9,[1]!APPLIANCES,0),\nMATCH(BC$10,[1]!SIXTH_PLAN_MH_YEARS,0)),\"pre-dates plan\")","v":766.32421538654853},{"$f":"IF(ISNUMBER(MATCH(BD10,[1]!SIXTH_PLAN_MH_YEARS,0)),\nINDEX([1]!SIXTH_PLAN_MH,\nMATCH($C$9,[1]!APPLIANCES,0),\nMATCH(BD$10,[1]!SIXTH_PLAN_MH_YEARS,0)),\"pre-dates plan\")","v":766.32421538654853},{"$f":"IF(ISNUMBER(MATCH(BE10,[1]!SIXTH_PLAN_MH_YEARS,0)),\nINDEX([1]!SIXTH_PLAN_MH,\nMATCH($C$9,[1]!APPLIANCES,0),\nMATCH(BE$10,[1]!SIXTH_PLAN_MH_YEARS,0)),\"pre-dates plan\")","v":766.32421538654853},{"$f":"IF(ISNUMBER(MATCH(BF10,[1]!SIXTH_PLAN_MH_YEARS,0)),\nINDEX([1]!SIXTH_PLAN_MH,\nMATCH($C$9,[1]!APPLIANCES,0),\nMATCH(BF$10,[1]!SIXTH_PLAN_MH_YEARS,0)),\"pre-dates plan\")","v":766.32421538654853}]
[null,null,"Replacement Shipments","(units)",{"$f":"INDEX([1]!SHIPMENTS_MH,\n((MATCH($C$9,[1]!APPLIANCES,0)-1)*2)+1,\nMATCH(E$10,[1]!SHIPMENTS_MH_YEARS,0))","v":5627.3273720878351},{"$f":"INDEX([1]!SHIPMENTS_MH,\n((MATCH($C$9,[1]!APPLIANCES,0)-1)*2)+1,\nMATCH(F$10,[1]!SHIPMENTS_MH_YEARS,0))","v":5627.3273720878351},{"$f":"INDEX([1]!SHIPMENTS_MH,\n((MATCH($C$9,[1]!APPLIANCES,0)-1)*2)+1,\nMATCH(G$10,[1]!SHIPMENTS_MH_YEARS,0))","v":5627.3273720878351},{"$f":"INDEX([1]!SHIPMENTS_MH,\n((MATCH($C$9,[1]!APPLIANCES,0)-1)*2)+1,\nMATCH(H$10,[1]!SHIPMENTS_MH_YEARS,0))","v":5627.3273720878351},{"$f":"INDEX([1]!SHIPMENTS_MH,\n((MATCH($C$9,[1]!APPLIANCES,0)-1)*2)+1,\nMATCH(I$10,[1]!SHIPMENTS_MH_YEARS,0))","v":5627.3273720878351},{"$f":"INDEX([1]!SHIPMENTS_MH,\n((MATCH($C$9,[1]!APPLIANCES,0)-1)*2)+1,\nMATCH(J$10,[1]!SHIPMENTS_MH_YEARS,0))","v":5627.3273720878351},{"$f":"INDEX([1]!SHIPMENTS_MH,\n((MATCH($C$9,[1]!APPLIANCES,0)-1)*2)+1,\nMATCH(K$10,[1]!SHIPMENTS_MH_YEARS,0))","v":5627.3273720878351},{"$f":"INDEX([1]!SHIPMENTS_MH,\n((MATCH($C$9,[1]!APPLIANCES,0)-1)*2)+1,\nMATCH(L$10,[1]!SHIPMENTS_MH_YEARS,0))","v":5627.3273720878351},{"$f":"INDEX([1]!SHIPMENTS_MH,\n((MATCH($C$9,[1]!APPLIANCES,0)-1)*2)+1,\nMATCH(M$10,[1]!SHIPMENTS_MH_YEARS,0))","v":5627.3273720878351},{"$f":"INDEX([1]!SHIPMENTS_MH,\n((MATCH($C$9,[1]!APPLIANCES,0)-1)*2)+1,\nMATCH(N$10,[1]!SHIPMENTS_MH_YEARS,0))","v":5627.3273720878351},{"$f":"INDEX([1]!SHIPMENTS_MH,\n((MATCH($C$9,[1]!APPLIANCES,0)-1)*2)+1,\nMATCH(O$10,[1]!SHIPMENTS_MH_YEARS,0))","v":5627.3273720878351},{"$f":"INDEX([1]!SHIPMENTS_MH,\n((MATCH($C$9,[1]!APPLIANCES,0)-1)*2)+1,\nMATCH(P$10,[1]!SHIPMENTS_MH_YEARS,0))","v":8064.8563079055893},{"$f":"INDEX([1]!SHIPMENTS_MH,\n((MATCH($C$9,[1]!APPLIANCES,0)-1)*2)+1,\nMATCH(Q$10,[1]!SHIPMENTS_MH_YEARS,0))","v":7596.1439744941599},{"$f":"INDEX([1]!SHIPMENTS_MH,\n((MATCH($C$9,[1]!APPLIANCES,0)-1)*2)+1,\nMATCH(R$10,[1]!SHIPMENTS_MH_YEARS,0))","v":8350.5797495199367},{"$f":"INDEX([1]!SHIPMENTS_MH,\n((MATCH($C$9,[1]!APPLIANCES,0)-1)*2)+1,\nMATCH(S$10,[1]!SHIPMENTS_MH_YEARS,0))","v":8300.6736881207307},{"$f":"INDEX([1]!SHIPMENTS_MH,\n((MATCH($C$9,[1]!APPLIANCES,0)-1)*2)+1,\nMATCH(T$10,[1]!SHIPMENTS_MH_YEARS,0))","v":7895.5803428893705},{"$f":"INDEX([1]!SHIPMENTS_MH,\n((MATCH($C$9,[1]!APPLIANCES,0)-1)*2)+1,\nMATCH(U$10,[1]!SHIPMENTS_MH_YEARS,0))","v":7504.8743306740053},{"$f":"INDEX([1]!SHIPMENTS_MH,\n((MATCH($C$9,[1]!APPLIANCES,0)-1)*2)+1,\nMATCH(V$10,[1]!SHIPMENTS_MH_YEARS,0))","v":7403.713395405357},{"$f":"INDEX([1]!SHIPMENTS_MH,\n((MATCH($C$9,[1]!APPLIANCES,0)-1)*2)+1,\nMATCH(W$10,[1]!SHIPMENTS_MH_YEARS,0))","v":7661.5613793012308},{"$f":"INDEX([1]!SHIPMENTS_MH,\n((MATCH($C$9,[1]!APPLIANCES,0)-1)*2)+1,\nMATCH(X$10,[1]!SHIPMENTS_MH_YEARS,0))","v":7867.9296872492705},{"$f":"INDEX([1]!SHIPMENTS_MH,\n((MATCH($C$9,[1]!APPLIANCES,0)-1)*2)+1,\nMATCH(Y$10,[1]!SHIPMENTS_MH_YEARS,0))","v":8296.8520527883666},{"$f":"INDEX([1]!SHIPMENTS_MH,\n((MATCH($C$9,[1]!APPLIANCES,0)-1)*2)+1,\nMATCH(Z$10,[1]!SHIPMENTS_MH_YEARS,0))","v":8283.3639280858624},{"$f":"INDEX([1]!SHIPMENTS_MH,\n((MATCH($C$9,[1]!APPLIANCES,0)-1)*2)+1,\nMATCH(AA$10,[1]!SHIPMENTS_MH_YEARS,0))","v":11163.528156223576},{"$f":"INDEX([1]!SHIPMENTS_MH,\n((MATCH($C$9,[1]!APPLIANCES,0)-1)*2)+1,\nMATCH(AB$10,[1]!SHIPMENTS_MH_YEARS,0))","v":10536.817598113223},{"$f":"INDEX([1]!SHIPMENTS_MH,\n((MATCH($C$9,[1]!APPLIANCES,0)-1)*2)+1,\nMATCH(AC$10,[1]!SHIPMENTS_MH_YEARS,0))","v":11831.662036882684},{"$f":"INDEX([1]!SHIPMENTS_MH,\n((MATCH($C$9,[1]!APPLIANCES,0)-1)*2)+1,\nMATCH(AD$10,[1]!SHIPMENTS_MH_YEARS,0))","v":11403.501980377781},{"$f":"INDEX([1]!SHIPMENTS_MH,\n((MATCH($C$9,[1]!APPLIANCES,0)-1)*2)+1,\nMATCH(AE$10,[1]!SHIPMENTS_MH_YEARS,0))","v":10497.407315283344},{"$f":"INDEX([1]!SHIPMENTS_MH,\n((MATCH($C$9,[1]!APPLIANCES,0)-1)*2)+1,\nMATCH(AF$10,[1]!SHIPMENTS_MH_YEARS,0))","v":10063.235644477416},{"$f":"INDEX([1]!SHIPMENTS_MH,\n((MATCH($C$9,[1]!APPLIANCES,0)-1)*2)+1,\nMATCH(AG$10,[1]!SHIPMENTS_MH_YEARS,0))","v":10026.673351429403},{"$f":"INDEX([1]!SHIPMENTS_MH,\n((MATCH($C$9,[1]!APPLIANCES,0)-1)*2)+1,\nMATCH(AH$10,[1]!SHIPMENTS_MH_YEARS,0))","v":9496.3762824839941},{"$f":"INDEX([1]!SHIPMENTS_MH,\n((MATCH($C$9,[1]!APPLIANCES,0)-1)*2)+1,\nMATCH(AI$10,[1]!SHIPMENTS_MH_YEARS,0))","v":8592.6357313493936},{"$f":"INDEX([1]!SHIPMENTS_MH,\n((MATCH($C$9,[1]!APPLIANCES,0)-1)*2)+1,\nMATCH(AJ$10,[1]!SHIPMENTS_MH_YEARS,0))","v":8512.0958622631297},{"$f":"INDEX([1]!SHIPMENTS_MH,\n((MATCH($C$9,[1]!APPLIANCES,0)-1)*2)+1,\nMATCH(AK$10,[1]!SHIPMENTS_MH_YEARS,0))","v":8500.5917392482952},{"$f":"INDEX([1]!SHIPMENTS_MH,\n((MATCH($C$9,[1]!APPLIANCES,0)-1)*2)+1,\nMATCH(AL$10,[1]!SHIPMENTS_MH_YEARS,0))","v":11232.354139399642},{"$f":"INDEX([1]!SHIPMENTS_MH,\n((MATCH($C$9,[1]!APPLIANCES,0)-1)*2)+1,\nMATCH(AM$10,[1]!SHIPMENTS_MH_YEARS,0))","v":10536.817598113223},{"$f":"INDEX([1]!SHIPMENTS_MH,\n((MATCH($C$9,[1]!APPLIANCES,0)-1)*2)+1,\nMATCH(AN$10,[1]!SHIPMENTS_MH_YEARS,0))","v":11831.662036882684},{"$f":"INDEX([1]!SHIPMENTS_MH,\n((MATCH($C$9,[1]!APPLIANCES,0)-1)*2)+1,\nMATCH(AO$10,[1]!SHIPMENTS_MH_YEARS,0))","v":11403.501980377781},{"$f":"INDEX([1]!SHIPMENTS_MH,\n((MATCH($C$9,[1]!APPLIANCES,0)-1)*2)+1,\nMATCH(AP$10,[1]!SHIPMENTS_MH_YEARS,0))","v":10653.971716666609},{"$f":"INDEX([1]!SHIPMENTS_MH,\n((MATCH($C$9,[1]!APPLIANCES,0)-1)*2)+1,\nMATCH(AQ$10,[1]!SHIPMENTS_MH_YEARS,0))","v":10236.389009524337},{"$f":"INDEX([1]!SHIPMENTS_MH,\n((MATCH($C$9,[1]!APPLIANCES,0)-1)*2)+1,\nMATCH(AR$10,[1]!SHIPMENTS_MH_YEARS,0))","v":10182.863647338949},{"$f":"INDEX([1]!SHIPMENTS_MH,\n((MATCH($C$9,[1]!APPLIANCES,0)-1)*2)+1,\nMATCH(AS$10,[1]!SHIPMENTS_MH_YEARS,0))","v":9618.8985933819495},{"$f":"INDEX([1]!SHIPMENTS_MH,\n((MATCH($C$9,[1]!APPLIANCES,0)-1)*2)+1,\nMATCH(AT$10,[1]!SHIPMENTS_MH_YEARS,0))","v":8651.9763985532336},{"$f":"INDEX([1]!SHIPMENTS_MH,\n((MATCH($C$9,[1]!APPLIANCES,0)-1)*2)+1,\nMATCH(AU$10,[1]!SHIPMENTS_MH_YEARS,0))","v":9963.3699201775598},{"$f":"INDEX([1]!SHIPMENTS_MH,\n((MATCH($C$9,[1]!APPLIANCES,0)-1)*2)+1,\nMATCH(AV$10,[1]!SHIPMENTS_MH_YEARS,0))","v":9887.2335643323022},{"$f":"INDEX([1]!SHIPMENTS_MH,\n((MATCH($C$9,[1]!APPLIANCES,0)-1)*2)+1,\nMATCH(AW$10,[1]!SHIPMENTS_MH_YEARS,0))","v":12536.237815203975},{"$f":"INDEX([1]!SHIPMENTS_MH,\n((MATCH($C$9,[1]!APPLIANCES,0)-1)*2)+1,\nMATCH(AX$10,[1]!SHIPMENTS_MH_YEARS,0))","v":11764.108282588073},{"$f":"INDEX([1]!SHIPMENTS_MH,\n((MATCH($C$9,[1]!APPLIANCES,0)-1)*2)+1,\nMATCH(AY$10,[1]!SHIPMENTS_MH_YEARS,0))","v":13000.948317755567},{"$f":"INDEX([1]!SHIPMENTS_MH,\n((MATCH($C$9,[1]!APPLIANCES,0)-1)*2)+1,\nMATCH(AZ$10,[1]!SHIPMENTS_MH_YEARS,0))","v":12539.160660863678},{"$f":"INDEX([1]!SHIPMENTS_MH,\n((MATCH($C$9,[1]!APPLIANCES,0)-1)*2)+1,\nMATCH(BA$10,[1]!SHIPMENTS_MH_YEARS,0))","v":11783.607864986086},{"$f":"INDEX([1]!SHIPMENTS_MH,\n((MATCH($C$9,[1]!APPLIANCES,0)-1)*2)+1,\nMATCH(BB$10,[1]!SHIPMENTS_MH_YEARS,0))","v":11386.29743234964},{"$f":"INDEX([1]!SHIPMENTS_MH,\n((MATCH($C$9,[1]!APPLIANCES,0)-1)*2)+1,\nMATCH(BC$10,[1]!SHIPMENTS_MH_YEARS,0))","v":11372.129380524711},{"$f":"INDEX([1]!SHIPMENTS_MH,\n((MATCH($C$9,[1]!APPLIANCES,0)-1)*2)+1,\nMATCH(BD$10,[1]!SHIPMENTS_MH_YEARS,0))","v":10858.599568658057},{"$f":"INDEX([1]!SHIPMENTS_MH,\n((MATCH($C$9,[1]!APPLIANCES,0)-1)*2)+1,\nMATCH(BE$10,[1]!SHIPMENTS_MH_YEARS,0))","v":9942.295389224746},{"$f":"INDEX([1]!SHIPMENTS_MH,\n((MATCH($C$9,[1]!APPLIANCES,0)-1)*2)+1,\nMATCH(BF$10,[1]!SHIPMENTS_MH_YEARS,0))","v":11293.987125158528}]
[null,null,"Net New Shipments","(units)",{"$f":"INDEX([1]!SHIPMENTS_MH,\n((MATCH($C$9,[1]!APPLIANCES,0)-1)*2)+2,\nMATCH(E$10,[1]!SHIPMENTS_MH_YEARS,0))","v":2437.5289358177542},{"$f":"INDEX([1]!SHIPMENTS_MH,\n((MATCH($C$9,[1]!APPLIANCES,0)-1)*2)+2,\nMATCH(F$10,[1]!SHIPMENTS_MH_YEARS,0))","v":1968.8166024063248},{"$f":"INDEX([1]!SHIPMENTS_MH,\n((MATCH($C$9,[1]!APPLIANCES,0)-1)*2)+2,\nMATCH(G$10,[1]!SHIPMENTS_MH_YEARS,0))","v":2723.2523774321016},{"$f":"INDEX([1]!SHIPMENTS_MH,\n((MATCH($C$9,[1]!APPLIANCES,0)-1)*2)+2,\nMATCH(H$10,[1]!SHIPMENTS_MH_YEARS,0))","v":2673.3463160328952},{"$f":"INDEX([1]!SHIPMENTS_MH,\n((MATCH($C$9,[1]!APPLIANCES,0)-1)*2)+2,\nMATCH(I$10,[1]!SHIPMENTS_MH_YEARS,0))","v":2268.2529708015354},{"$f":"INDEX([1]!SHIPMENTS_MH,\n((MATCH($C$9,[1]!APPLIANCES,0)-1)*2)+2,\nMATCH(J$10,[1]!SHIPMENTS_MH_YEARS,0))","v":1877.5469585861706},{"$f":"INDEX([1]!SHIPMENTS_MH,\n((MATCH($C$9,[1]!APPLIANCES,0)-1)*2)+2,\nMATCH(K$10,[1]!SHIPMENTS_MH_YEARS,0))","v":1776.3860233175219},{"$f":"INDEX([1]!SHIPMENTS_MH,\n((MATCH($C$9,[1]!APPLIANCES,0)-1)*2)+2,\nMATCH(L$10,[1]!SHIPMENTS_MH_YEARS,0))","v":2034.2340072133957},{"$f":"INDEX([1]!SHIPMENTS_MH,\n((MATCH($C$9,[1]!APPLIANCES,0)-1)*2)+2,\nMATCH(M$10,[1]!SHIPMENTS_MH_YEARS,0))","v":2240.6023151614354},{"$f":"INDEX([1]!SHIPMENTS_MH,\n((MATCH($C$9,[1]!APPLIANCES,0)-1)*2)+2,\nMATCH(N$10,[1]!SHIPMENTS_MH_YEARS,0))","v":2669.5246807005315},{"$f":"INDEX([1]!SHIPMENTS_MH,\n((MATCH($C$9,[1]!APPLIANCES,0)-1)*2)+2,\nMATCH(O$10,[1]!SHIPMENTS_MH_YEARS,0))","v":2656.0365559980273},{"$f":"INDEX([1]!SHIPMENTS_MH,\n((MATCH($C$9,[1]!APPLIANCES,0)-1)*2)+2,\nMATCH(P$10,[1]!SHIPMENTS_MH_YEARS,0))","v":3098.6718483179866},{"$f":"INDEX([1]!SHIPMENTS_MH,\n((MATCH($C$9,[1]!APPLIANCES,0)-1)*2)+2,\nMATCH(Q$10,[1]!SHIPMENTS_MH_YEARS,0))","v":2950.8004975094809},{"$f":"INDEX([1]!SHIPMENTS_MH,\n((MATCH($C$9,[1]!APPLIANCES,0)-1)*2)+2,\nMATCH(R$10,[1]!SHIPMENTS_MH_YEARS,0))","v":3523.0748120287462},{"$f":"INDEX([1]!SHIPMENTS_MH,\n((MATCH($C$9,[1]!APPLIANCES,0)-1)*2)+2,\nMATCH(S$10,[1]!SHIPMENTS_MH_YEARS,0))","v":3236.4866340035805},{"$f":"INDEX([1]!SHIPMENTS_MH,\n((MATCH($C$9,[1]!APPLIANCES,0)-1)*2)+2,\nMATCH(T$10,[1]!SHIPMENTS_MH_YEARS,0))","v":2601.8269723939738},{"$f":"INDEX([1]!SHIPMENTS_MH,\n((MATCH($C$9,[1]!APPLIANCES,0)-1)*2)+2,\nMATCH(U$10,[1]!SHIPMENTS_MH_YEARS,0))","v":2558.3613138034125},{"$f":"INDEX([1]!SHIPMENTS_MH,\n((MATCH($C$9,[1]!APPLIANCES,0)-1)*2)+2,\nMATCH(V$10,[1]!SHIPMENTS_MH_YEARS,0))","v":2622.9599560240458},{"$f":"INDEX([1]!SHIPMENTS_MH,\n((MATCH($C$9,[1]!APPLIANCES,0)-1)*2)+2,\nMATCH(W$10,[1]!SHIPMENTS_MH_YEARS,0))","v":1834.8149031827634},{"$f":"INDEX([1]!SHIPMENTS_MH,\n((MATCH($C$9,[1]!APPLIANCES,0)-1)*2)+2,\nMATCH(X$10,[1]!SHIPMENTS_MH_YEARS,0))","v":724.70604410012311},{"$f":"INDEX([1]!SHIPMENTS_MH,\n((MATCH($C$9,[1]!APPLIANCES,0)-1)*2)+2,\nMATCH(Y$10,[1]!SHIPMENTS_MH_YEARS,0))","v":215.24380947476311},{"$f":"INDEX([1]!SHIPMENTS_MH,\n((MATCH($C$9,[1]!APPLIANCES,0)-1)*2)+2,\nMATCH(Z$10,[1]!SHIPMENTS_MH_YEARS,0))","v":217.22781116243277},{"$f":"INDEX([1]!SHIPMENTS_MH,\n((MATCH($C$9,[1]!APPLIANCES,0)-1)*2)+2,\nMATCH(AA$10,[1]!SHIPMENTS_MH_YEARS,0))","v":68.825983176066075},{"$f":"INDEX([1]!SHIPMENTS_MH,\n((MATCH($C$9,[1]!APPLIANCES,0)-1)*2)+2,\nMATCH(AB$10,[1]!SHIPMENTS_MH_YEARS,0))","v":0},{"$f":"INDEX([1]!SHIPMENTS_MH,\n((MATCH($C$9,[1]!APPLIANCES,0)-1)*2)+2,\nMATCH(AC$10,[1]!SHIPMENTS_MH_YEARS,0))","v":0},{"$f":"INDEX([1]!SHIPMENTS_MH,\n((MATCH($C$9,[1]!APPLIANCES,0)-1)*2)+2,\nMATCH(AD$10,[1]!SHIPMENTS_MH_YEARS,0))","v":0},{"$f":"INDEX([1]!SHIPMENTS_MH,\n((MATCH($C$9,[1]!APPLIANCES,0)-1)*2)+2,\nMATCH(AE$10,[1]!SHIPMENTS_MH_YEARS,0))","v":156.56440138326434},{"$f":"INDEX([1]!SHIPMENTS_MH,\n((MATCH($C$9,[1]!APPLIANCES,0)-1)*2)+2,\nMATCH(AF$10,[1]!SHIPMENTS_MH_YEARS,0))","v":173.15336504692095},{"$f":"INDEX([1]!SHIPMENTS_MH,\n((MATCH($C$9,[1]!APPLIANCES,0)-1)*2)+2,\nMATCH(AG$10,[1]!SHIPMENTS_MH_YEARS,0))","v":156.19029590954597},{"$f":"INDEX([1]!SHIPMENTS_MH,\n((MATCH($C$9,[1]!APPLIANCES,0)-1)*2)+2,\nMATCH(AH$10,[1]!SHIPMENTS_MH_YEARS,0))","v":122.52231089795532},{"$f":"INDEX([1]!SHIPMENTS_MH,\n((MATCH($C$9,[1]!APPLIANCES,0)-1)*2)+2,\nMATCH(AI$10,[1]!SHIPMENTS_MH_YEARS,0))","v":59.340667203839985},{"$f":"INDEX([1]!SHIPMENTS_MH,\n((MATCH($C$9,[1]!APPLIANCES,0)-1)*2)+2,\nMATCH(AJ$10,[1]!SHIPMENTS_MH_YEARS,0))","v":1451.2740579144302},{"$f":"INDEX([1]!SHIPMENTS_MH,\n((MATCH($C$9,[1]!APPLIANCES,0)-1)*2)+2,\nMATCH(AK$10,[1]!SHIPMENTS_MH_YEARS,0))","v":1386.641825084007},{"$f":"INDEX([1]!SHIPMENTS_MH,\n((MATCH($C$9,[1]!APPLIANCES,0)-1)*2)+2,\nMATCH(AL$10,[1]!SHIPMENTS_MH_YEARS,0))","v":1303.8836758043326},{"$f":"INDEX([1]!SHIPMENTS_MH,\n((MATCH($C$9,[1]!APPLIANCES,0)-1)*2)+2,\nMATCH(AM$10,[1]!SHIPMENTS_MH_YEARS,0))","v":1227.2906844748504},{"$f":"INDEX([1]!SHIPMENTS_MH,\n((MATCH($C$9,[1]!APPLIANCES,0)-1)*2)+2,\nMATCH(AN$10,[1]!SHIPMENTS_MH_YEARS,0))","v":1169.2862808728826},{"$f":"INDEX([1]!SHIPMENTS_MH,\n((MATCH($C$9,[1]!APPLIANCES,0)-1)*2)+2,\nMATCH(AO$10,[1]!SHIPMENTS_MH_YEARS,0))","v":1135.6586804858962},{"$f":"INDEX([1]!SHIPMENTS_MH,\n((MATCH($C$9,[1]!APPLIANCES,0)-1)*2)+2,\nMATCH(AP$10,[1]!SHIPMENTS_MH_YEARS,0))","v":1129.6361483194778},{"$f":"INDEX([1]!SHIPMENTS_MH,\n((MATCH($C$9,[1]!APPLIANCES,0)-1)*2)+2,\nMATCH(AQ$10,[1]!SHIPMENTS_MH_YEARS,0))","v":1149.9084228253037},{"$f":"INDEX([1]!SHIPMENTS_MH,\n((MATCH($C$9,[1]!APPLIANCES,0)-1)*2)+2,\nMATCH(AR$10,[1]!SHIPMENTS_MH_YEARS,0))","v":1189.2657331857627},{"$f":"INDEX([1]!SHIPMENTS_MH,\n((MATCH($C$9,[1]!APPLIANCES,0)-1)*2)+2,\nMATCH(AS$10,[1]!SHIPMENTS_MH_YEARS,0))","v":1239.7009752761078},{"$f":"INDEX([1]!SHIPMENTS_MH,\n((MATCH($C$9,[1]!APPLIANCES,0)-1)*2)+2,\nMATCH(AT$10,[1]!SHIPMENTS_MH_YEARS,0))","v":1290.3189906715124},{"$f":"INDEX([1]!SHIPMENTS_MH,\n((MATCH($C$9,[1]!APPLIANCES,0)-1)*2)+2,\nMATCH(AU$10,[1]!SHIPMENTS_MH_YEARS,0))","v":1330.6172049809684},{"$f":"INDEX([1]!SHIPMENTS_MH,\n((MATCH($C$9,[1]!APPLIANCES,0)-1)*2)+2,\nMATCH(AV$10,[1]!SHIPMENTS_MH_YEARS,0))","v":1352.6399124842137},{"$f":"INDEX([1]!SHIPMENTS_MH,\n((MATCH($C$9,[1]!APPLIANCES,0)-1)*2)+2,\nMATCH(AW$10,[1]!SHIPMENTS_MH_YEARS,0))","v":1351.874123769418},{"$f":"INDEX([1]!SHIPMENTS_MH,\n((MATCH($C$9,[1]!APPLIANCES,0)-1)*2)+2,\nMATCH(AX$10,[1]!SHIPMENTS_MH_YEARS,0))","v":1327.8801023790875},{"$f":"INDEX([1]!SHIPMENTS_MH,\n((MATCH($C$9,[1]!APPLIANCES,0)-1)*2)+2,\nMATCH(AY$10,[1]!SHIPMENTS_MH_YEARS,0))","v":1284.650218174138},{"$f":"INDEX([1]!SHIPMENTS_MH,\n((MATCH($C$9,[1]!APPLIANCES,0)-1)*2)+2,\nMATCH(AZ$10,[1]!SHIPMENTS_MH_YEARS,0))","v":1229.1597026455565},{"$f":"INDEX([1]!SHIPMENTS_MH,\n((MATCH($C$9,[1]!APPLIANCES,0)-1)*2)+2,\nMATCH(BA$10,[1]!SHIPMENTS_MH_YEARS,0))","v":1170.197633021744},{"$f":"INDEX([1]!SHIPMENTS_MH,\n((MATCH($C$9,[1]!APPLIANCES,0)-1)*2)+2,\nMATCH(BB$10,[1]!SHIPMENTS_MH_YEARS,0))","v":1116.8781613162719},{"$f":"INDEX([1]!SHIPMENTS_MH,\n((MATCH($C$9,[1]!APPLIANCES,0)-1)*2)+2,\nMATCH(BC$10,[1]!SHIPMENTS_MH_YEARS,0))","v":1128.0469429294451},{"$f":"INDEX([1]!SHIPMENTS_MH,\n((MATCH($C$9,[1]!APPLIANCES,0)-1)*2)+2,\nMATCH(BD$10,[1]!SHIPMENTS_MH_YEARS,0))","v":1139.3274123587471},{"$f":"INDEX([1]!SHIPMENTS_MH,\n((MATCH($C$9,[1]!APPLIANCES,0)-1)*2)+2,\nMATCH(BE$10,[1]!SHIPMENTS_MH_YEARS,0))","v":1150.7206864823238},{"$f":"INDEX([1]!SHIPMENTS_MH,\n((MATCH($C$9,[1]!APPLIANCES,0)-1)*2)+2,\nMATCH(BF$10,[1]!SHIPMENTS_MH_YEARS,0))","v":1162.2278933471243}]
[null,null,"Total Model Shipments","(units)",{"$f":"SUM(E12:E13)","v":8064.8563079055893},{"$f":"SUM(F12:F13)","v":7596.1439744941599},8350.5797495199367,8300.6736881207307,7895.5803428893705,7504.8743306740053,7403.713395405357,7661.5613793012308,7867.9296872492705,8296.8520527883666,8283.3639280858624,11163.528156223576,10546.944472003641,11873.654561548683,11537.160322124311,10497.407315283344,10063.235644477418,10026.673351429403,9496.3762824839941,8592.6357313493936,8512.0958622631297,8500.5917392482952,11232.354139399642,10536.817598113223,11831.662036882684,11403.501980377781,10653.971716666609,10236.389009524337,10182.863647338949,9618.8985933819495,8651.9763985532336,9963.3699201775598,9887.2335643323022,12536.237815203975,11764.108282588073,13000.948317755567,12539.160660863678,11783.607864986086,11386.29743234964,11372.129380524711,10858.599568658057,9942.295389224746,11293.987125158528,11239.873476816516,13888.111938973392,13091.988384967161,14285.598535929705,13768.320363509234,12953.80549800783,12503.175593665912,12500.176323454156,11997.926981016804,11093.01607570707,12456.215018505653]
[null,null,"Model Installed Stock","(units)",{"$f":"INDEX([1]!STOCK_MH,\nMATCH($C$9,[1]!APPLIANCES,0),\nMATCH(E$10,[1]!STOCK_MH_YEARS,0))","v":64338.13002878394},{"$f":"INDEX([1]!STOCK_MH,\nMATCH($C$9,[1]!APPLIANCES,0),\nMATCH(F$10,[1]!STOCK_MH_YEARS,0))","v":66306.946631190265},{"$f":"INDEX([1]!STOCK_MH,\nMATCH($C$9,[1]!APPLIANCES,0),\nMATCH(G$10,[1]!STOCK_MH_YEARS,0))","v":69030.199008622367},{"$f":"INDEX([1]!STOCK_MH,\nMATCH($C$9,[1]!APPLIANCES,0),\nMATCH(H$10,[1]!STOCK_MH_YEARS,0))","v":71703.545324655264},{"$f":"INDEX([1]!STOCK_MH,\nMATCH($C$9,[1]!APPLIANCES,0),\nMATCH(I$10,[1]!STOCK_MH_YEARS,0))","v":73971.7982954568},{"$f":"INDEX([1]!STOCK_MH,\nMATCH($C$9,[1]!APPLIANCES,0),\nMATCH(J$10,[1]!STOCK_MH_YEARS,0))","v":75849.345254042972},{"$f":"INDEX([1]!STOCK_MH,\nMATCH($C$9,[1]!APPLIANCES,0),\nMATCH(K$10,[1]!STOCK_MH_YEARS,0))","v":77625.731277360494},{"$f":"INDEX([1]!STOCK_MH,\nMATCH($C$9,[1]!APPLIANCES,0),\nMATCH(L$10,[1]!STOCK_MH_YEARS,0))","v":79659.965284573889},{"$f":"INDEX([1]!STOCK_MH,\nMATCH($C$9,[1]!APPLIANCES,0),\nMATCH(M$10,[1]!STOCK_MH_YEARS,0))","v":81900.567599735325},{"$f":"INDEX([1]!STOCK_MH,\nMATCH($C$9,[1]!APPLIANCES,0),\nMATCH(N$10,[1]!STOCK_MH_YEARS,0))","v":84570.092280435856},{"$f":"INDEX([1]!STOCK_MH,\nMATCH($C$9,[1]!APPLIANCES,0),\nMATCH(O$10,[1]!STOCK_MH_YEARS,0))","v":87226.128836433883},{"$f":"INDEX([1]!STOCK_MH,\nMATCH($C$9,[1]!APPLIANCES,0),\nMATCH(P$10,[1]!STOCK_MH_YEARS,0))","v":90324.80068475187},{"$f":"INDEX([1]!STOCK_MH,\nMATCH($C$9,[1]!APPLIANCES,0),\nMATCH(Q$10,[1]!STOCK_MH_YEARS,0))","v":93275.601182261351},{"$f":"INDEX([1]!STOCK_MH,\nMATCH($C$9,[1]!APPLIANCES,0),\nMATCH(R$10,[1]!STOCK_MH_YEARS,0))","v":96798.675994290097},{"$f":"INDEX([1]!STOCK_MH,\nMATCH($C$9,[1]!APPLIANCES,0),\nMATCH(S$10,[1]!STOCK_MH_YEARS,0))","v":100035.16262829368},{"$f":"INDEX([1]!STOCK_MH,\nMATCH($C$9,[1]!APPLIANCES,0),\nMATCH(T$10,[1]!STOCK_MH_YEARS,0))","v":102636.98960068765},{"$f":"INDEX([1]!STOCK_MH,\nMATCH($C$9,[1]!APPLIANCES,0),\nMATCH(U$10,[1]!STOCK_MH_YEARS,0))","v":105195.35091449106},{"$f":"INDEX([1]!STOCK_MH,\nMATCH($C$9,[1]!APPLIANCES,0),\nMATCH(V$10,[1]!STOCK_MH_YEARS,0))","v":107818.31087051511},{"$f":"INDEX([1]!STOCK_MH,\nMATCH($C$9,[1]!APPLIANCES,0),\nMATCH(W$10,[1]!STOCK_MH_YEARS,0))","v":109653.12577369787},{"$f":"INDEX([1]!STOCK_MH,\nMATCH($C$9,[1]!APPLIANCES,0),\nMATCH(X$10,[1]!STOCK_MH_YEARS,0))","v":110377.831817798},{"$f":"INDEX([1]!STOCK_MH,\nMATCH($C$9,[1]!APPLIANCES,0),\nMATCH(Y$10,[1]!STOCK_MH_YEARS,0))","v":110593.07562727276},{"$f":"INDEX([1]!STOCK_MH,\nMATCH($C$9,[1]!APPLIANCES,0),\nMATCH(Z$10,[1]!STOCK_MH_YEARS,0))","v":110810.30343843519},{"$f":"INDEX([1]!STOCK_MH,\nMATCH($C$9,[1]!APPLIANCES,0),\nMATCH(AA$10,[1]!STOCK_MH_YEARS,0))","v":110879.12942161126},{"$f":"INDEX([1]!STOCK_MH,\nMATCH($C$9,[1]!APPLIANCES,0),\nMATCH(AB$10,[1]!STOCK_MH_YEARS,0))","v":110869.00254772084},{"$f":"INDEX([1]!STOCK_MH,\nMATCH($C$9,[1]!APPLIANCES,0),\nMATCH(AC$10,[1]!STOCK_MH_YEARS,0))","v":110827.01002305484},{"$f":"INDEX([1]!STOCK_MH,\nMATCH($C$9,[1]!APPLIANCES,0),\nMATCH(AD$10,[1]!STOCK_MH_YEARS,0))","v":110693.35168130831},{"$f":"INDEX([1]!STOCK_MH,\nMATCH($C$9,[1]!APPLIANCES,0),\nMATCH(AE$10,[1]!STOCK_MH_YEARS,0))","v":110849.91608269158},{"$f":"INDEX([1]!STOCK_MH,\nMATCH($C$9,[1]!APPLIANCES,0),\nMATCH(AF$10,[1]!STOCK_MH_YEARS,0))","v":111023.0694477385},{"$f":"INDEX([1]!STOCK_MH,\nMATCH($C$9,[1]!APPLIANCES,0),\nMATCH(AG$10,[1]!STOCK_MH_YEARS,0))","v":111179.25974364804},{"$f":"INDEX([1]!STOCK_MH,\nMATCH($C$9,[1]!APPLIANCES,0),\nMATCH(AH$10,[1]!STOCK_MH_YEARS,0))","v":111301.782054546},{"$f":"INDEX([1]!STOCK_MH,\nMATCH($C$9,[1]!APPLIANCES,0),\nMATCH(AI$10,[1]!STOCK_MH_YEARS,0))","v":111361.12272174984},{"$f":"INDEX([1]!STOCK_MH,\nMATCH($C$9,[1]!APPLIANCES,0),\nMATCH(AJ$10,[1]!STOCK_MH_YEARS,0))","v":112812.39677966427},{"$f":"INDEX([1]!STOCK_MH,\nMATCH($C$9,[1]!APPLIANCES,0),\nMATCH(AK$10,[1]!STOCK_MH_YEARS,0))","v":114199.03860474828},{"$f":"INDEX([1]!STOCK_MH,\nMATCH($C$9,[1]!APPLIANCES,0),\nMATCH(AL$10,[1]!STOCK_MH_YEARS,0))","v":115502.92228055261},{"$f":"INDEX([1]!STOCK_MH,\nMATCH($C$9,[1]!APPLIANCES,0),\nMATCH(AM$10,[1]!STOCK_MH_YEARS,0))","v":116730.21296502746},{"$f":"INDEX([1]!STOCK_MH,\nMATCH($C$9,[1]!APPLIANCES,0),\nMATCH(AN$10,[1]!STOCK_MH_YEARS,0))","v":117899.49924590034},{"$f":"INDEX([1]!STOCK_MH,\nMATCH($C$9,[1]!APPLIANCES,0),\nMATCH(AO$10,[1]!STOCK_MH_YEARS,0))","v":119035.15792638624},{"$f":"INDEX([1]!STOCK_MH,\nMATCH($C$9,[1]!APPLIANCES,0),\nMATCH(AP$10,[1]!STOCK_MH_YEARS,0))","v":120164.79407470571},{"$f":"INDEX([1]!STOCK_MH,\nMATCH($C$9,[1]!APPLIANCES,0),\nMATCH(AQ$10,[1]!STOCK_MH_YEARS,0))","v":121314.70249753102},{"$f":"INDEX([1]!STOCK_MH,\nMATCH($C$9,[1]!APPLIANCES,0),\nMATCH(AR$10,[1]!STOCK_MH_YEARS,0))","v":122503.96823071678},{"$f":"INDEX([1]!STOCK_MH,\nMATCH($C$9,[1]!APPLIANCES,0),\nMATCH(AS$10,[1]!STOCK_MH_YEARS,0))","v":123743.66920599289},{"$f":"INDEX([1]!STOCK_MH,\nMATCH($C$9,[1]!APPLIANCES,0),\nMATCH(AT$10,[1]!STOCK_MH_YEARS,0))","v":125033.9881966644},{"$f":"INDEX([1]!STOCK_MH,\nMATCH($C$9,[1]!APPLIANCES,0),\nMATCH(AU$10,[1]!STOCK_MH_YEARS,0))","v":126364.60540164537},{"$f":"INDEX([1]!STOCK_MH,\nMATCH($C$9,[1]!APPLIANCES,0),\nMATCH(AV$10,[1]!STOCK_MH_YEARS,0))","v":127717.24531412958},{"$f":"INDEX([1]!STOCK_MH,\nMATCH($C$9,[1]!APPLIANCES,0),\nMATCH(AW$10,[1]!STOCK_MH_YEARS,0))","v":129069.119437899},{"$f":"INDEX([1]!STOCK_MH,\nMATCH($C$9,[1]!APPLIANCES,0),\nMATCH(AX$10,[1]!STOCK_MH_YEARS,0))","v":130396.99954027809},{"$f":"INDEX([1]!STOCK_MH,\nMATCH($C$9,[1]!APPLIANCES,0),\nMATCH(AY$10,[1]!STOCK_MH_YEARS,0))","v":131681.64975845223},{"$f":"INDEX([1]!STOCK_MH,\nMATCH($C$9,[1]!APPLIANCES,0),\nMATCH(AZ$10,[1]!STOCK_MH_YEARS,0))","v":132910.80946109779},{"$f":"INDEX([1]!STOCK_MH,\nMATCH($C$9,[1]!APPLIANCES,0),\nMATCH(BA$10,[1]!STOCK_MH_YEARS,0))","v":134081.00709411953},{"$f":"INDEX([1]!STOCK_MH,\nMATCH($C$9,[1]!APPLIANCES,0),\nMATCH(BB$10,[1]!STOCK_MH_YEARS,0))","v":135197.8852554358},{"$f":"INDEX([1]!STOCK_MH,\nMATCH($C$9,[1]!APPLIANCES,0),\nMATCH(BC$10,[1]!STOCK_MH_YEARS,0))","v":136325.93219836525},{"$f":"INDEX([1]!STOCK_MH,\nMATCH($C$9,[1]!APPLIANCES,0),\nMATCH(BD$10,[1]!STOCK_MH_YEARS,0))","v":137465.259610724},{"$f":"INDEX([1]!STOCK_MH,\nMATCH($C$9,[1]!APPLIANCES,0),\nMATCH(BE$10,[1]!STOCK_MH_YEARS,0))","v":138615.98029720632},{"$f":"INDEX([1]!STOCK_MH,\nMATCH($C$9,[1]!APPLIANCES,0),\nMATCH(BF$10,[1]!STOCK_MH_YEARS,0))","v":139778.20819055344}]

{"sheet":"6P UEC Development","index":14,"n_rows":13,"n_cols":6,"rows_kept":13,"cut":false,"hidden":false,"merged":[]}
[]
[null,null,"6P UEC Development"]
[]
[null,null,"NAVIGATION"]
[]
[null,null,"COMMENTS"]
[]
[]
[null,null,"Window Air Conditioner Size Range","Capacity (Btu/hr)","Fed. Std. Min. EER**","Baseline Use (kWh/yr)"]
[null,null,"8000 - 13,999 Btu/hr",8000,9.8000000000000007,375.24154807081618]
[]
[null,null,"Source"]
[null,null,"6P Conservation Supply Curve Files - Window AC Upgrades - 'Window AC' tab, Row 25"]

{"sheet":"Constants","index":15,"n_rows":13,"n_cols":4,"rows_kept":13,"cut":false,"hidden":false,"merged":[]}
[]
[null,null,"Constants"]
[]
[null,null,"NAVIGATION"]
[]
[null,null,"COMMENTS"]
[]
[]
[null,null,"Constant","Value"]
[null,null,"Hours/Day",24]
[null,null,"Days/Week",7]
[null,null,"Days/Year",365.25]
[null,null,"kW/MW",1000]

{"sheet":"Product Class Dist","index":16,"n_rows":27,"n_cols":57,"rows_kept":27,"cut":false,"hidden":false,"merged":[]}
[]
[null,null,"Product Class Distributions"]
[]
[null,null,"NAVIGATION"]
[]
[null,null,"COMMENTS"]
[]
[]
[null,null,"PRE-Case",1981,1982,1983,1984,1985,1986,1987,1988,1989,1990,1991,1992,1993,1994,1995,1996,1997,1998,1999,2000,2001,2002,2003,2004,2005,2006,2007,2008,2009,2010,2011,2012,2013,2014,2015,2016,2017,2018,2019,2020,2021,2022,2023,2024,2025,2026,2027,2028,2029,2030,2031,2032,2033,2034]
[null,null,"PC1  Without reverse cycle, with louvered sides, and less than 6,000 Btu/h",{"$f":"E10","v":0.30682007670501921},0.30682007670501921,0.30682007670501921,0.30682007670501921,0.30682007670501921,0.30682007670501921,0.30682007670501921,0.30682007670501921,0.30682007670501921,0.30682007670501921,0.30682007670501921,0.30682007670501921,0.30682007670501921,0.30682007670501921,0.30682007670501921,0.30682007670501921,0.30682007670501921,0.30682007670501921,0.30682007670501921,0.30682007670501921,0.30682007670501921,0.30682007670501921,0.30682007670501921,0.30682007670501921,0.30682007670501921,0.30682007670501921,0.30682007670501921,{"$f":"AF10","v":0.30682007670501921},{"$f":"'National Shipments'!F$19/\nSUM('National Shipments'!F$19,'National Shipments'!F$45,'National Shipments'!F$70,'National Shipments'!F$93,'National Shipments'!F$116,'National Shipments'!F$140)","v":0.30682007670501921},{"$f":"'National Shipments'!G$19/\nSUM('National Shipments'!G$19,'National Shipments'!G$45,'National Shipments'!G$70,'National Shipments'!G$93,'National Shipments'!G$116,'National Shipments'!G$140)","v":0.30682007670501915},{"$f":"'National Shipments'!H$19/\nSUM('National Shipments'!H$19,'National Shipments'!H$45,'National Shipments'!H$70,'National Shipments'!H$93,'National Shipments'!H$116,'National Shipments'!H$140)","v":0.30682007670501915},{"$f":"'National Shipments'!I$19/\nSUM('National Shipments'!I$19,'National Shipments'!I$45,'National Shipments'!I$70,'National Shipments'!I$93,'National Shipments'!I$116,'National Shipments'!I$140)","v":0.30682007670501915},{"$f":"'National Shipments'!J$19/\nSUM('National Shipments'!J$19,'National Shipments'!J$45,'National Shipments'!J$70,'National Shipments'!J$93,'National Shipments'!J$116,'National Shipments'!J$140)","v":0.30682007670501915},{"$f":"'National Shipments'!K$19/\nSUM('National Shipments'!K$19,'National Shipments'!K$45,'National Shipments'!K$70,'National Shipments'!K$93,'National Shipments'!K$116,'National Shipments'!K$140)","v":0.3068200767050191},{"$f":"'National Shipments'!L$19/\nSUM('National Shipments'!L$19,'National Shipments'!L$45,'National Shipments'!L$70,'National Shipments'!L$93,'National Shipments'!L$116,'National Shipments'!L$140)","v":0.30682007670501921},{"$f":"'National Shipments'!M$19/\nSUM('National Shipments'!M$19,'National Shipments'!M$45,'National Shipments'!M$70,'National Shipments'!M$93,'National Shipments'!M$116,'National Shipments'!M$140)","v":0.3068200767050191},{"$f":"'National Shipments'!N$19/\nSUM('National Shipments'!N$19,'National Shipments'!N$45,'National Shipments'!N$70,'National Shipments'!N$93,'National Shipments'!N$116,'National Shipments'!N$140)","v":0.30682007670501921},{"$f":"'National Shipments'!O$19/\nSUM('National Shipments'!O$19,'National Shipments'!O$45,'National Shipments'!O$70,'National Shipments'!O$93,'National Shipments'!O$116,'National Shipments'!O$140)","v":0.3068200767050191},{"$f":"'National Shipments'!P$19/\nSUM('National Shipments'!P$19,'National Shipments'!P$45,'National Shipments'!P$70,'National Shipments'!P$93,'National Shipments'!P$116,'National Shipments'!P$140)","v":0.30682007670501921},{"$f":"'National Shipments'!Q$19/\nSUM('National Shipments'!Q$19,'National Shipments'!Q$45,'National Shipments'!Q$70,'National Shipments'!Q$93,'National Shipments'!Q$116,'National Shipments'!Q$140)","v":0.3068200767050191},{"$f":"'National Shipments'!R$19/\nSUM('National Shipments'!R$19,'National Shipments'!R$45,'National Shipments'!R$70,'National Shipments'!R$93,'National Shipments'!R$116,'National Shipments'!R$140)","v":0.30682007670501921},{"$f":"'National Shipments'!S$19/\nSUM('National Shipments'!S$19,'National Shipments'!S$45,'National Shipments'!S$70,'National Shipments'!S$93,'National Shipments'!S$116,'National Shipments'!S$140)","v":0.30682007670501915},{"$f":"'National Shipments'!T$19/\nSUM('National Shipments'!T$19,'National Shipments'!T$45,'National Shipments'!T$70,'National Shipments'!T$93,'National Shipments'!T$116,'National Shipments'!T$140)","v":0.30682007670501915},{"$f":"'National Shipments'!U$19/\nSUM('National Shipments'!U$19,'National Shipments'!U$45,'National Shipments'!U$70,'National Shipments'!U$93,'National Shipments'!U$116,'National Shipments'!U$140)","v":0.30682007670501915},{"$f":"'National Shipments'!V$19/\nSUM('National Shipments'!V$19,'National Shipments'!V$45,'National Shipments'!V$70,'National Shipments'!V$93,'National Shipments'!V$116,'National Shipments'!V$140)","v":0.30682007670501915},{"$f":"'National Shipments'!W$19/\nSUM('National Shipments'!W$19,'National Shipments'!W$45,'National Shipments'!W$70,'National Shipments'!W$93,'National Shipments'!W$116,'National Shipments'!W$140)","v":0.3068200767050191},{"$f":"'National Shipments'!X$19/\nSUM('National Shipments'!X$19,'National Shipments'!X$45,'National Shipments'!X$70,'National Shipments'!X$93,'National Shipments'!X$116,'National Shipments'!X$140)","v":0.30682007670501921},{"$f":"'National Shipments'!Y$19/\nSUM('National Shipments'!Y$19,'National Shipments'!Y$45,'National Shipments'!Y$70,'National Shipments'!Y$93,'National Shipments'!Y$116,'National Shipments'!Y$140)","v":0.3068200767050191},{"$f":"'National Shipments'!Z$19/\nSUM('National Shipments'!Z$19,'National Shipments'!Z$45,'National Shipments'!Z$70,'National Shipments'!Z$93,'National Shipments'!Z$116,'National Shipments'!Z$140)","v":0.30682007670501915},{"$f":"'National Shipments'!AA$19/\nSUM('National Shipments'!AA$19,'National Shipments'!AA$45,'National Shipments'!AA$70,'National Shipments'!AA$93,'National Shipments'!AA$116,'National Shipments'!AA$140)","v":0.30682007670501926},{"$f":"'National Shipments'!AB$19/\nSUM('National Shipments'!AB$19,'National Shipments'!AB$45,'National Shipments'!AB$70,'National Shipments'!AB$93,'National Shipments'!AB$116,'National Shipments'!AB$140)","v":0.30682007670501915},{"$f":"'National Shipments'!AC$19/\nSUM('National Shipments'!AC$19,'National Shipments'!AC$45,'National Shipments'!AC$70,'National Shipments'!AC$93,'National Shipments'!AC$116,'National Shipments'!AC$140)","v":0.3068200767050191},{"$f":"'National Shipments'!AD$19/\nSUM('National Shipments'!AD$19,'National Shipments'!AD$45,'National Shipments'!AD$70,'National Shipments'!AD$93,'National Shipments'!AD$116,'National Shipments'!AD$140)","v":0.3068200767050191},{"$f":"'National Shipments'!AE$19/\nSUM('National Shipments'!AE$19,'National Shipments'!AE$45,'National Shipments'!AE$70,'National Shipments'!AE$93,'National Shipments'!AE$116,'National Shipments'!AE$140)","v":0.3068200767050191}]
[null,null,"PC2  Without reverse cycle, with louvered sides, and 8,000 to 13,999 Btu/h",0.56982657995664499,0.56982657995664499,0.56982657995664499,0.56982657995664499,0.56982657995664499,0.56982657995664499,0.56982657995664499,0.56982657995664499,0.56982657995664499,0.56982657995664499,0.56982657995664499,0.56982657995664499,0.56982657995664499,0.56982657995664499,0.56982657995664499,0.56982657995664499,0.56982657995664499,0.56982657995664499,0.56982657995664499,0.56982657995664499,0.56982657995664499,0.56982657995664499,0.56982657995664499,0.56982657995664499,0.56982657995664499,0.56982657995664499,0.56982657995664499,{"$f":"AF11","v":0.56982657995664499},{"$f":"'National Shipments'!F$45/\nSUM('National Shipments'!F$19,'National Shipments'!F$45,'National Shipments'!F$70,'National Shipments'!F$93,'National Shipments'!F$116,'National Shipments'!F$140)","v":0.56982657995664499},{"$f":"'National Shipments'!G$45/\nSUM('National Shipments'!G$19,'National Shipments'!G$45,'National Shipments'!G$70,'National Shipments'!G$93,'National Shipments'!G$116,'National Shipments'!G$140)","v":0.56982657995664499},{"$f":"'National Shipments'!H$45/\nSUM('National Shipments'!H$19,'National Shipments'!H$45,'National Shipments'!H$70,'National Shipments'!H$93,'National Shipments'!H$116,'National Shipments'!H$140)","v":0.56982657995664499},{"$f":"'National Shipments'!I$45/\nSUM('National Shipments'!I$19,'National Shipments'!I$45,'National Shipments'!I$70,'National Shipments'!I$93,'National Shipments'!I$116,'National Shipments'!I$140)","v":0.5698265799566451},{"$f":"'National Shipments'!J$45/\nSUM('National Shipments'!J$19,'National Shipments'!J$45,'National Shipments'!J$70,'National Shipments'!J$93,'National Shipments'!J$116,'National Shipments'!J$140)","v":0.5698265799566451},{"$f":"'National Shipments'!K$45/\nSUM('National Shipments'!K$19,'National Shipments'!K$45,'National Shipments'!K$70,'National Shipments'!K$93,'National Shipments'!K$116,'National Shipments'!K$140)","v":0.56982657995664499},{"$f":"'National Shipments'!L$45/\nSUM('National Shipments'!L$19,'National Shipments'!L$45,'National Shipments'!L$70,'National Shipments'!L$93,'National Shipments'!L$116,'National Shipments'!L$140)","v":0.5698265799566451},{"$f":"'National Shipments'!M$45/\nSUM('National Shipments'!M$19,'National Shipments'!M$45,'National Shipments'!M$70,'National Shipments'!M$93,'National Shipments'!M$116,'National Shipments'!M$140)","v":0.5698265799566451},{"$f":"'National Shipments'!N$45/\nSUM('National Shipments'!N$19,'National Shipments'!N$45,'National Shipments'!N$70,'National Shipments'!N$93,'National Shipments'!N$116,'National Shipments'!N$140)","v":0.56982657995664499},{"$f":"'National Shipments'!O$45/\nSUM('National Shipments'!O$19,'National Shipments'!O$45,'National Shipments'!O$70,'National Shipments'!O$93,'National Shipments'!O$116,'National Shipments'!O$140)","v":0.56982657995664487},{"$f":"'National Shipments'!P$45/\nSUM('National Shipments'!P$19,'National Shipments'!P$45,'National Shipments'!P$70,'National Shipments'!P$93,'National Shipments'!P$116,'National Shipments'!P$140)","v":0.56982657995664521},{"$f":"'National Shipments'!Q$45/\nSUM('National Shipments'!Q$19,'National Shipments'!Q$45,'National Shipments'!Q$70,'National Shipments'!Q$93,'National Shipments'!Q$116,'National Shipments'!Q$140)","v":0.56982657995664487},{"$f":"'National Shipments'!R$45/\nSUM('National Shipments'!R$19,'National Shipments'!R$45,'National Shipments'!R$70,'National Shipments'!R$93,'National Shipments'!R$116,'National Shipments'!R$140)","v":0.5698265799566451},{"$f":"'National Shipments'!S$45/\nSUM('National Shipments'!S$19,'National Shipments'!S$45,'National Shipments'!S$70,'National Shipments'!S$93,'National Shipments'!S$116,'National Shipments'!S$140)","v":0.5698265799566451},{"$f":"'National Shipments'!T$45/\nSUM('National Shipments'!T$19,'National Shipments'!T$45,'National Shipments'!T$70,'National Shipments'!T$93,'National Shipments'!T$116,'National Shipments'!T$140)","v":0.56982657995664499},{"$f":"'National Shipments'!U$45/\nSUM('National Shipments'!U$19,'National Shipments'!U$45,'National Shipments'!U$70,'National Shipments'!U$93,'National Shipments'!U$116,'National Shipments'!U$140)","v":0.56982657995664499},{"$f":"'National Shipments'!V$45/\nSUM('National Shipments'!V$19,'National Shipments'!V$45,'National Shipments'!V$70,'National Shipments'!V$93,'National Shipments'!V$116,'National Shipments'!V$140)","v":0.56982657995664499},{"$f":"'National Shipments'!W$45/\nSUM('National Shipments'!W$19,'National Shipments'!W$45,'National Shipments'!W$70,'National Shipments'!W$93,'National Shipments'!W$116,'National Shipments'!W$140)","v":0.56982657995664499},{"$f":"'National Shipments'!X$45/\nSUM('National Shipments'!X$19,'National Shipments'!X$45,'National Shipments'!X$70,'National Shipments'!X$93,'National Shipments'!X$116,'National Shipments'!X$140)","v":0.5698265799566451},{"$f":"'National Shipments'!Y$45/\nSUM('National Shipments'!Y$19,'National Shipments'!Y$45,'National Shipments'!Y$70,'National Shipments'!Y$93,'National Shipments'!Y$116,'National Shipments'!Y$140)","v":0.56982657995664521},{"$f":"'National Shipments'!Z$45/\nSUM('National Shipments'!Z$19,'National Shipments'!Z$45,'National Shipments'!Z$70,'National Shipments'!Z$93,'National Shipments'!Z$116,'National Shipments'!Z$140)","v":0.56982657995664487},{"$f":"'National Shipments'!AA$45/\nSUM('National Shipments'!AA$19,'National Shipments'!AA$45,'National Shipments'!AA$70,'National Shipments'!AA$93,'National Shipments'!AA$116,'National Shipments'!AA$140)","v":0.5698265799566451},{"$f":"'National Shipments'!AB$45/\nSUM('National Shipments'!AB$19,'National Shipments'!AB$45,'National Shipments'!AB$70,'National Shipments'!AB$93,'National Shipments'!AB$116,'National Shipments'!AB$140)","v":0.5698265799566451},{"$f":"'National Shipments'!AC$45/\nSUM('National Shipments'!AC$19,'National Shipments'!AC$45,'National Shipments'!AC$70,'National Shipments'!AC$93,'National Shipments'!AC$116,'National Shipments'!AC$140)","v":0.56982657995664499},{"$f":"'National Shipments'!AD$45/\nSUM('National Shipments'!AD$19,'National Shipments'!AD$45,'National Shipments'!AD$70,'National Shipments'!AD$93,'National Shipments'!AD$116,'National Shipments'!AD$140)","v":0.5698265799566451},{"$f":"'National Shipments'!AE$45/\nSUM('National Shipments'!AE$19,'National Shipments'!AE$45,'National Shipments'!AE$70,'National Shipments'!AE$93,'National Shipments'!AE$116,'National Shipments'!AE$140)","v":0.5698265799566451}]
[null,null,"PC3  Without reverse cycle, with louvered sides, and 20,000 to 24,999 Btu/h",2.048515965811578E-2,2.048515965811578E-2,2.048515965811578E-2,2.048515965811578E-2,2.048515965811578E-2,2.048515965811578E-2,2.048515965811578E-2,2.048515965811578E-2,2.048515965811578E-2,2.048515965811578E-2,2.048515965811578E-2,2.048515965811578E-2,2.048515965811578E-2,2.048515965811578E-2,2.048515965811578E-2,2.048515965811578E-2,2.048515965811578E-2,2.048515965811578E-2,2.048515965811578E-2,2.048515965811578E-2,2.048515965811578E-2,2.048515965811578E-2,2.048515965811578E-2,2.048515965811578E-2,2.048515965811578E-2,2.048515965811578E-2,2.048515965811578E-2,2.048515965811578E-2,{"$f":"'National Shipments'!F$70/\nSUM('National Shipments'!F$19,'National Shipments'!F$45,'National Shipments'!F$70,'National Shipments'!F$93,'National Shipments'!F$116,'National Shipments'!F$140)","v":2.048515965811578E-2},{"$f":"'National Shipments'!G$70/\nSUM('National Shipments'!G$19,'National Shipments'!G$45,'National Shipments'!G$70,'National Shipments'!G$93,'National Shipments'!G$116,'National Shipments'!G$140)","v":2.048515965811578E-2},{"$f":"'National Shipments'!H$70/\nSUM('National Shipments'!H$19,'National Shipments'!H$45,'National Shipments'!H$70,'National Shipments'!H$93,'National Shipments'!H$116,'National Shipments'!H$140)","v":2.0485159658115783E-2},{"$f":"'National Shipments'!I$70/\nSUM('National Shipments'!I$19,'National Shipments'!I$45,'National Shipments'!I$70,'National Shipments'!I$93,'National Shipments'!I$116,'National Shipments'!I$140)","v":2.048515965811578E-2},{"$f":"'National Shipments'!J$70/\nSUM('National Shipments'!J$19,'National Shipments'!J$45,'National Shipments'!J$70,'National Shipments'!J$93,'National Shipments'!J$116,'National Shipments'!J$140)","v":2.048515965811578E-2},{"$f":"'National Shipments'!K$70/\nSUM('National Shipments'!K$19,'National Shipments'!K$45,'National Shipments'!K$70,'National Shipments'!K$93,'National Shipments'!K$116,'National Shipments'!K$140)","v":2.048515965811578E-2},{"$f":"'National Shipments'!L$70/\nSUM('National Shipments'!L$19,'National Shipments'!L$45,'National Shipments'!L$70,'National Shipments'!L$93,'National Shipments'!L$116,'National Shipments'!L$140)","v":2.048515965811578E-2},{"$f":"'National Shipments'!M$70/\nSUM('National Shipments'!M$19,'National Shipments'!M$45,'National Shipments'!M$70,'National Shipments'!M$93,'National Shipments'!M$116,'National Shipments'!M$140)","v":2.0485159658115783E-2},{"$f":"'National Shipments'!N$70/\nSUM('National Shipments'!N$19,'National Shipments'!N$45,'National Shipments'!N$70,'National Shipments'!N$93,'National Shipments'!N$116,'National Shipments'!N$140)","v":2.048515965811578E-2},{"$f":"'National Shipments'!O$70/\nSUM('National Shipments'!O$19,'National Shipments'!O$45,'National Shipments'!O$70,'National Shipments'!O$93,'National Shipments'!O$116,'National Shipments'!O$140)","v":2.0485159658115783E-2},{"$f":"'National Shipments'!P$70/\nSUM('National Shipments'!P$19,'National Shipments'!P$45,'National Shipments'!P$70,'National Shipments'!P$93,'National Shipments'!P$116,'National Shipments'!P$140)","v":2.048515965811578E-2},{"$f":"'National Shipments'!Q$70/\nSUM('National Shipments'!Q$19,'National Shipments'!Q$45,'National Shipments'!Q$70,'National Shipments'!Q$93,'National Shipments'!Q$116,'National Shipments'!Q$140)","v":2.0485159658115776E-2},{"$f":"'National Shipments'!R$70/\nSUM('National Shipments'!R$19,'National Shipments'!R$45,'National Shipments'!R$70,'National Shipments'!R$93,'National Shipments'!R$116,'National Shipments'!R$140)","v":2.048515965811578E-2},{"$f":"'National Shipments'!S$70/\nSUM('National Shipments'!S$19,'National Shipments'!S$45,'National Shipments'!S$70,'National Shipments'!S$93,'National Shipments'!S$116,'National Shipments'!S$140)","v":2.048515965811578E-2},{"$f":"'National Shipments'!T$70/\nSUM('National Shipments'!T$19,'National Shipments'!T$45,'National Shipments'!T$70,'National Shipments'!T$93,'National Shipments'!T$116,'National Shipments'!T$140)","v":2.048515965811578E-2},{"$f":"'National Shipments'!U$70/\nSUM('National Shipments'!U$19,'National Shipments'!U$45,'National Shipments'!U$70,'National Shipments'!U$93,'National Shipments'!U$116,'National Shipments'!U$140)","v":2.048515965811578E-2},{"$f":"'National Shipments'!V$70/\nSUM('National Shipments'!V$19,'National Shipments'!V$45,'National Shipments'!V$70,'National Shipments'!V$93,'National Shipments'!V$116,'National Shipments'!V$140)","v":2.0485159658115776E-2},{"$f":"'National Shipments'!W$70/\nSUM('National Shipments'!W$19,'National Shipments'!W$45,'National Shipments'!W$70,'National Shipments'!W$93,'National Shipments'!W$116,'National Shipments'!W$140)","v":2.0485159658115776E-2},{"$f":"'National Shipments'!X$70/\nSUM('National Shipments'!X$19,'National Shipments'!X$45,'National Shipments'!X$70,'National Shipments'!X$93,'National Shipments'!X$116,'National Shipments'!X$140)","v":2.0485159658115783E-2},{"$f":"'National Shipments'!Y$70/\nSUM('National Shipments'!Y$19,'National Shipments'!Y$45,'National Shipments'!Y$70,'National Shipments'!Y$93,'National Shipments'!Y$116,'National Shipments'!Y$140)","v":2.0485159658115776E-2},{"$f":"'National Shipments'!Z$70/\nSUM('National Shipments'!Z$19,'National Shipments'!Z$45,'National Shipments'!Z$70,'National Shipments'!Z$93,'National Shipments'!Z$116,'National Shipments'!Z$140)","v":2.0485159658115776E-2},{"$f":"'National Shipments'!AA$70/\nSUM('National Shipments'!AA$19,'National Shipments'!AA$45,'National Shipments'!AA$70,'National Shipments'!AA$93,'National Shipments'!AA$116,'National Shipments'!AA$140)","v":2.0485159658115787E-2},{"$f":"'National Shipments'!AB$70/\nSUM('National Shipments'!AB$19,'National Shipments'!AB$45,'National Shipments'!AB$70,'National Shipments'!AB$93,'National Shipments'!AB$116,'National Shipments'!AB$140)","v":2.0485159658115776E-2},{"$f":"'National Shipments'!AC$70/\nSUM('National Shipments'!AC$19,'National Shipments'!AC$45,'National Shipments'!AC$70,'National Shipments'!AC$93,'National Shipments'!AC$116,'National Shipments'!AC$140)","v":2.048515965811578E-2},{"$f":"'National Shipments'!AD$70/\nSUM('National Shipments'!AD$19,'National Shipments'!AD$45,'National Shipments'!AD$70,'National Shipments'!AD$93,'National Shipments'!AD$116,'National Shipments'!AD$140)","v":2.048515965811578E-2},{"$f":"'National Shipments'!AE$70/\nSUM('National Shipments'!AE$19,'National Shipments'!AE$45,'National Shipments'!AE$70,'National Shipments'!AE$93,'National Shipments'!AE$116,'National Shipments'!AE$140)","v":2.0485159658115783E-2}]
[null,null,"PC4  Without reverse cycle, with louvered sides, and 25,000 Btu/h or more",1.3406054955038781E-2,1.3406054955038781E-2,1.3406054955038781E-2,1.3406054955038781E-2,1.3406054955038781E-2,1.3406054955038781E-2,1.3406054955038781E-2,1.3406054955038781E-2,1.3406054955038781E-2,1.3406054955038781E-2,1.3406054955038781E-2,1.3406054955038781E-2,1.3406054955038781E-2,1.3406054955038781E-2,1.3406054955038781E-2,1.3406054955038781E-2,1.3406054955038781E-2,1.3406054955038781E-2,1.3406054955038781E-2,1.3406054955038781E-2,1.3406054955038781E-2,1.3406054955038781E-2,1.3406054955038781E-2,1.3406054955038781E-2,1.3406054955038781E-2,1.3406054955038781E-2,1.3406054955038781E-2,1.3406054955038781E-2,{"$f":"'National Shipments'!F$93/\nSUM('National Shipments'!F$19,'National Shipments'!F$45,'National Shipments'!F$70,'National Shipments'!F$93,'National Shipments'!F$116,'National Shipments'!F$140)","v":1.3406054955038781E-2},{"$f":"'National Shipments'!G$93/\nSUM('National Shipments'!G$19,'National Shipments'!G$45,'National Shipments'!G$70,'National Shipments'!G$93,'National Shipments'!G$116,'National Shipments'!G$140)","v":1.3406054955038781E-2},{"$f":"'National Shipments'!H$93/\nSUM('National Shipments'!H$19,'National Shipments'!H$45,'National Shipments'!H$70,'National Shipments'!H$93,'National Shipments'!H$116,'National Shipments'!H$140)","v":1.3406054955038783E-2},{"$f":"'National Shipments'!I$93/\nSUM('National Shipments'!I$19,'National Shipments'!I$45,'National Shipments'!I$70,'National Shipments'!I$93,'National Shipments'!I$116,'National Shipments'!I$140)","v":1.3406054955038781E-2},{"$f":"'National Shipments'!J$93/\nSUM('National Shipments'!J$19,'National Shipments'!J$45,'National Shipments'!J$70,'National Shipments'!J$93,'National Shipments'!J$116,'National Shipments'!J$140)","v":1.3406054955038786E-2},{"$f":"'National Shipments'!K$93/\nSUM('National Shipments'!K$19,'National Shipments'!K$45,'National Shipments'!K$70,'National Shipments'!K$93,'National Shipments'!K$116,'National Shipments'!K$140)","v":1.3406054955038783E-2},{"$f":"'National Shipments'!L$93/\nSUM('National Shipments'!L$19,'National Shipments'!L$45,'National Shipments'!L$70,'National Shipments'!L$93,'National Shipments'!L$116,'National Shipments'!L$140)","v":1.3406054955038783E-2},{"$f":"'National Shipments'!M$93/\nSUM('National Shipments'!M$19,'National Shipments'!M$45,'National Shipments'!M$70,'National Shipments'!M$93,'National Shipments'!M$116,'National Shipments'!M$140)","v":1.3406054955038781E-2},{"$f":"'National Shipments'!N$93/\nSUM('National Shipments'!N$19,'National Shipments'!N$45,'National Shipments'!N$70,'National Shipments'!N$93,'National Shipments'!N$116,'National Shipments'!N$140)","v":1.3406054955038783E-2},{"$f":"'National Shipments'!O$93/\nSUM('National Shipments'!O$19,'National Shipments'!O$45,'National Shipments'!O$70,'National Shipments'!O$93,'National Shipments'!O$116,'National Shipments'!O$140)","v":1.3406054955038781E-2},{"$f":"'National Shipments'!P$93/\nSUM('National Shipments'!P$19,'National Shipments'!P$45,'National Shipments'!P$70,'National Shipments'!P$93,'National Shipments'!P$116,'National Shipments'!P$140)","v":1.3406054955038783E-2},{"$f":"'National Shipments'!Q$93/\nSUM('National Shipments'!Q$19,'National Shipments'!Q$45,'National Shipments'!Q$70,'National Shipments'!Q$93,'National Shipments'!Q$116,'National Shipments'!Q$140)","v":1.340605495503878E-2},{"$f":"'National Shipments'!R$93/\nSUM('National Shipments'!R$19,'National Shipments'!R$45,'National Shipments'!R$70,'National Shipments'!R$93,'National Shipments'!R$116,'National Shipments'!R$140)","v":1.3406054955038783E-2},{"$f":"'National Shipments'!S$93/\nSUM('National Shipments'!S$19,'National Shipments'!S$45,'National Shipments'!S$70,'National Shipments'!S$93,'National Shipments'!S$116,'National Shipments'!S$140)","v":1.3406054955038785E-2},{"$f":"'National Shipments'!T$93/\nSUM('National Shipments'!T$19,'National Shipments'!T$45,'National Shipments'!T$70,'National Shipments'!T$93,'National Shipments'!T$116,'National Shipments'!T$140)","v":1.3406054955038781E-2},{"$f":"'National Shipments'!U$93/\nSUM('National Shipments'!U$19,'National Shipments'!U$45,'National Shipments'!U$70,'National Shipments'!U$93,'National Shipments'!U$116,'National Shipments'!U$140)","v":1.3406054955038783E-2},{"$f":"'National Shipments'!V$93/\nSUM('National Shipments'!V$19,'National Shipments'!V$45,'National Shipments'!V$70,'National Shipments'!V$93,'National Shipments'!V$116,'National Shipments'!V$140)","v":1.3406054955038783E-2},{"$f":"'National Shipments'!W$93/\nSUM('National Shipments'!W$19,'National Shipments'!W$45,'National Shipments'!W$70,'National Shipments'!W$93,'National Shipments'!W$116,'National Shipments'!W$140)","v":1.340605495503878E-2},{"$f":"'National Shipments'!X$93/\nSUM('National Shipments'!X$19,'National Shipments'!X$45,'National Shipments'!X$70,'National Shipments'!X$93,'National Shipments'!X$116,'National Shipments'!X$140)","v":1.3406054955038783E-2},{"$f":"'National Shipments'!Y$93/\nSUM('National Shipments'!Y$19,'National Shipments'!Y$45,'National Shipments'!Y$70,'National Shipments'!Y$93,'National Shipments'!Y$116,'National Shipments'!Y$140)","v":1.3406054955038781E-2},{"$f":"'National Shipments'!Z$93/\nSUM('National Shipments'!Z$19,'National Shipments'!Z$45,'National Shipments'!Z$70,'National Shipments'!Z$93,'National Shipments'!Z$116,'National Shipments'!Z$140)","v":1.340605495503878E-2},{"$f":"'National Shipments'!AA$93/\nSUM('National Shipments'!AA$19,'National Shipments'!AA$45,'National Shipments'!AA$70,'National Shipments'!AA$93,'National Shipments'!AA$116,'National Shipments'!AA$140)","v":1.3406054955038783E-2},{"$f":"'National Shipments'!AB$93/\nSUM('National Shipments'!AB$19,'National Shipments'!AB$45,'National Shipments'!AB$70,'National Shipments'!AB$93,'National Shipments'!AB$116,'National Shipments'!AB$140)","v":1.3406054955038785E-2},{"$f":"'National Shipments'!AC$93/\nSUM('National Shipments'!AC$19,'National Shipments'!AC$45,'National Shipments'!AC$70,'National Shipments'!AC$93,'National Shipments'!AC$116,'National Shipments'!AC$140)","v":1.3406054955038781E-2},{"$f":"'National Shipments'!AD$93/\nSUM('National Shipments'!AD$19,'National Shipments'!AD$45,'National Shipments'!AD$70,'National Shipments'!AD$93,'National Shipments'!AD$116,'National Shipments'!AD$140)","v":1.3406054955038783E-2},{"$f":"'National Shipments'!AE$93/\nSUM('National Shipments'!AE$19,'National Shipments'!AE$45,'National Shipments'!AE$70,'National Shipments'!AE$93,'National Shipments'!AE$116,'National Shipments'!AE$140)","v":1.3406054955038783E-2}]
[null,null,"PC5  Without reverse cycle, without louvered sides, and 8,000 to 10,999 Btu/h",4.7373706003054454E-2,4.7373706003054454E-2,4.7373706003054454E-2,4.7373706003054454E-2,4.7373706003054454E-2,4.7373706003054454E-2,4.7373706003054454E-2,4.7373706003054454E-2,4.7373706003054454E-2,4.7373706003054454E-2,4.7373706003054454E-2,4.7373706003054454E-2,4.7373706003054454E-2,4.7373706003054454E-2,4.7373706003054454E-2,4.7373706003054454E-2,4.7373706003054454E-2,4.7373706003054454E-2,4.7373706003054454E-2,4.7373706003054454E-2,4.7373706003054454E-2,4.7373706003054454E-2,4.7373706003054454E-2,4.7373706003054454E-2,4.7373706003054454E-2,4.7373706003054454E-2,4.7373706003054454E-2,4.7373706003054454E-2,{"$f":"'National Shipments'!F$116/\nSUM('National Shipments'!F$19,'National Shipments'!F$45,'National Shipments'!F$70,'National Shipments'!F$93,'National Shipments'!F$116,'National Shipments'!F$140)","v":4.7373706003054454E-2},{"$f":"'National Shipments'!G$116/\nSUM('National Shipments'!G$19,'National Shipments'!G$45,'National Shipments'!G$70,'National Shipments'!G$93,'National Shipments'!G$116,'National Shipments'!G$140)","v":4.7373706003054461E-2},{"$f":"'National Shipments'!H$116/\nSUM('National Shipments'!H$19,'National Shipments'!H$45,'National Shipments'!H$70,'National Shipments'!H$93,'National Shipments'!H$116,'National Shipments'!H$140)","v":4.7373706003054475E-2},{"$f":"'National Shipments'!I$116/\nSUM('National Shipments'!I$19,'National Shipments'!I$45,'National Shipments'!I$70,'National Shipments'!I$93,'National Shipments'!I$116,'National Shipments'!I$140)","v":4.7373706003054468E-2},{"$f":"'National Shipments'!J$116/\nSUM('National Shipments'!J$19,'National Shipments'!J$45,'National Shipments'!J$70,'National Shipments'!J$93,'National Shipments'!J$116,'National Shipments'!J$140)","v":4.7373706003054468E-2},{"$f":"'National Shipments'!K$116/\nSUM('National Shipments'!K$19,'National Shipments'!K$45,'National Shipments'!K$70,'National Shipments'!K$93,'National Shipments'!K$116,'National Shipments'!K$140)","v":4.7373706003054468E-2},{"$f":"'National Shipments'!L$116/\nSUM('National Shipments'!L$19,'National Shipments'!L$45,'National Shipments'!L$70,'National Shipments'!L$93,'National Shipments'!L$116,'National Shipments'!L$140)","v":4.7373706003054475E-2},{"$f":"'National Shipments'!M$116/\nSUM('National Shipments'!M$19,'National Shipments'!M$45,'National Shipments'!M$70,'National Shipments'!M$93,'National Shipments'!M$116,'National Shipments'!M$140)","v":4.7373706003054468E-2},{"$f":"'National Shipments'!N$116/\nSUM('National Shipments'!N$19,'National Shipments'!N$45,'National Shipments'!N$70,'National Shipments'!N$93,'National Shipments'!N$116,'National Shipments'!N$140)","v":4.7373706003054461E-2},{"$f":"'National Shipments'!O$116/\nSUM('National Shipments'!O$19,'National Shipments'!O$45,'National Shipments'!O$70,'National Shipments'!O$93,'National Shipments'!O$116,'National Shipments'!O$140)","v":4.7373706003054454E-2},{"$f":"'National Shipments'!P$116/\nSUM('National Shipments'!P$19,'National Shipments'!P$45,'National Shipments'!P$70,'National Shipments'!P$93,'National Shipments'!P$116,'National Shipments'!P$140)","v":4.7373706003054475E-2},{"$f":"'National Shipments'!Q$116/\nSUM('National Shipments'!Q$19,'National Shipments'!Q$45,'National Shipments'!Q$70,'National Shipments'!Q$93,'National Shipments'!Q$116,'National Shipments'!Q$140)","v":4.7373706003054454E-2},{"$f":"'National Shipments'!R$116/\nSUM('National Shipments'!R$19,'National Shipments'!R$45,'National Shipments'!R$70,'National Shipments'!R$93,'National Shipments'!R$116,'National Shipments'!R$140)","v":4.7373706003054475E-2},{"$f":"'National Shipments'!S$116/\nSUM('National Shipments'!S$19,'National Shipments'!S$45,'National Shipments'!S$70,'National Shipments'!S$93,'National Shipments'!S$116,'National Shipments'!S$140)","v":4.7373706003054468E-2},{"$f":"'National Shipments'!T$116/\nSUM('National Shipments'!T$19,'National Shipments'!T$45,'National Shipments'!T$70,'National Shipments'!T$93,'National Shipments'!T$116,'National Shipments'!T$140)","v":4.7373706003054468E-2},{"$f":"'National Shipments'!U$116/\nSUM('National Shipments'!U$19,'National Shipments'!U$45,'National Shipments'!U$70,'National Shipments'!U$93,'National Shipments'!U$116,'National Shipments'!U$140)","v":4.7373706003054468E-2},{"$f":"'National Shipments'!V$116/\nSUM('National Shipments'!V$19,'National Shipments'!V$45,'National Shipments'!V$70,'National Shipments'!V$93,'National Shipments'!V$116,'National Shipments'!V$140)","v":4.7373706003054468E-2},{"$f":"'National Shipments'!W$116/\nSUM('National Shipments'!W$19,'National Shipments'!W$45,'National Shipments'!W$70,'National Shipments'!W$93,'National Shipments'!W$116,'National Shipments'!W$140)","v":4.7373706003054461E-2},{"$f":"'National Shipments'!X$116/\nSUM('National Shipments'!X$19,'National Shipments'!X$45,'National Shipments'!X$70,'National Shipments'!X$93,'National Shipments'!X$116,'National Shipments'!X$140)","v":4.7373706003054468E-2},{"$f":"'National Shipments'!Y$116/\nSUM('National Shipments'!Y$19,'National Shipments'!Y$45,'National Shipments'!Y$70,'National Shipments'!Y$93,'National Shipments'!Y$116,'National Shipments'!Y$140)","v":4.7373706003054468E-2},{"$f":"'National Shipments'!Z$116/\nSUM('National Shipments'!Z$19,'National Shipments'!Z$45,'National Shipments'!Z$70,'National Shipments'!Z$93,'National Shipments'!Z$116,'National Shipments'!Z$140)","v":4.7373706003054461E-2},{"$f":"'National Shipments'!AA$116/\nSUM('National Shipments'!AA$19,'National Shipments'!AA$45,'National Shipments'!AA$70,'National Shipments'!AA$93,'National Shipments'!AA$116,'National Shipments'!AA$140)","v":4.7373706003054475E-2},{"$f":"'National Shipments'!AB$116/\nSUM('National Shipments'!AB$19,'National Shipments'!AB$45,'National Shipments'!AB$70,'National Shipments'!AB$93,'National Shipments'!AB$116,'National Shipments'!AB$140)","v":4.7373706003054475E-2},{"$f":"'National Shipments'!AC$116/\nSUM('National Shipments'!AC$19,'National Shipments'!AC$45,'National Shipments'!AC$70,'National Shipments'!AC$93,'National Shipments'!AC$116,'National Shipments'!AC$140)","v":4.7373706003054461E-2},{"$f":"'National Shipments'!AD$116/\nSUM('National Shipments'!AD$19,'National Shipments'!AD$45,'National Shipments'!AD$70,'National Shipments'!AD$93,'National Shipments'!AD$116,'National Shipments'!AD$140)","v":4.7373706003054468E-2},{"$f":"'National Shipments'!AE$116/\nSUM('National Shipments'!AE$19,'National Shipments'!AE$45,'National Shipments'!AE$70,'National Shipments'!AE$93,'National Shipments'!AE$116,'National Shipments'!AE$140)","v":4.7373706003054475E-2}]
[null,null,"PC6  Without reverse cycle, without louvered sides, and 11,000 to 13,999 Btu/h",4.2088422722126803E-2,4.2088422722126803E-2,4.2088422722126803E-2,4.2088422722126803E-2,4.2088422722126803E-2,4.2088422722126803E-2,4.2088422722126803E-2,4.2088422722126803E-2,4.2088422722126803E-2,4.2088422722126803E-2,4.2088422722126803E-2,4.2088422722126803E-2,4.2088422722126803E-2,4.2088422722126803E-2,4.2088422722126803E-2,4.2088422722126803E-2,4.2088422722126803E-2,4.2088422722126803E-2,4.2088422722126803E-2,4.2088422722126803E-2,4.2088422722126803E-2,4.2088422722126803E-2,4.2088422722126803E-2,4.2088422722126803E-2,4.2088422722126803E-2,4.2088422722126803E-2,4.2088422722126803E-2,4.2088422722126803E-2,{"$f":"'National Shipments'!F$140/\nSUM('National Shipments'!F$19,'National Shipments'!F$45,'National Shipments'!F$70,'National Shipments'!F$93,'National Shipments'!F$116,'National Shipments'!F$140)","v":4.2088422722126803E-2},{"$f":"'National Shipments'!G$140/\nSUM('National Shipments'!G$19,'National Shipments'!G$45,'National Shipments'!G$70,'National Shipments'!G$93,'National Shipments'!G$116,'National Shipments'!G$140)","v":4.208842272212681E-2},{"$f":"'National Shipments'!H$140/\nSUM('National Shipments'!H$19,'National Shipments'!H$45,'National Shipments'!H$70,'National Shipments'!H$93,'National Shipments'!H$116,'National Shipments'!H$140)","v":4.2088422722126824E-2},{"$f":"'National Shipments'!I$140/\nSUM('National Shipments'!I$19,'National Shipments'!I$45,'National Shipments'!I$70,'National Shipments'!I$93,'National Shipments'!I$116,'National Shipments'!I$140)","v":4.2088422722126817E-2},{"$f":"'National Shipments'!J$140/\nSUM('National Shipments'!J$19,'National Shipments'!J$45,'National Shipments'!J$70,'National Shipments'!J$93,'National Shipments'!J$116,'National Shipments'!J$140)","v":4.2088422722126824E-2},{"$f":"'National Shipments'!K$140/\nSUM('National Shipments'!K$19,'National Shipments'!K$45,'National Shipments'!K$70,'National Shipments'!K$93,'National Shipments'!K$116,'National Shipments'!K$140)","v":4.2088422722126817E-2},{"$f":"'National Shipments'!L$140/\nSUM('National Shipments'!L$19,'National Shipments'!L$45,'National Shipments'!L$70,'National Shipments'!L$93,'National Shipments'!L$116,'National Shipments'!L$140)","v":4.2088422722126817E-2},{"$f":"'National Shipments'!M$140/\nSUM('National Shipments'!M$19,'National Shipments'!M$45,'National Shipments'!M$70,'National Shipments'!M$93,'National Shipments'!M$116,'National Shipments'!M$140)","v":4.2088422722126803E-2},{"$f":"'National Shipments'!N$140/\nSUM('National Shipments'!N$19,'National Shipments'!N$45,'National Shipments'!N$70,'National Shipments'!N$93,'National Shipments'!N$116,'National Shipments'!N$140)","v":4.208842272212681E-2},{"$f":"'National Shipments'!O$140/\nSUM('National Shipments'!O$19,'National Shipments'!O$45,'National Shipments'!O$70,'National Shipments'!O$93,'National Shipments'!O$116,'National Shipments'!O$140)","v":4.208842272212681E-2},{"$f":"'National Shipments'!P$140/\nSUM('National Shipments'!P$19,'National Shipments'!P$45,'National Shipments'!P$70,'National Shipments'!P$93,'National Shipments'!P$116,'National Shipments'!P$140)","v":4.2088422722126817E-2},{"$f":"'National Shipments'!Q$140/\nSUM('National Shipments'!Q$19,'National Shipments'!Q$45,'National Shipments'!Q$70,'National Shipments'!Q$93,'National Shipments'!Q$116,'National Shipments'!Q$140)","v":4.208842272212681E-2},{"$f":"'National Shipments'!R$140/\nSUM('National Shipments'!R$19,'National Shipments'!R$45,'National Shipments'!R$70,'National Shipments'!R$93,'National Shipments'!R$116,'National Shipments'!R$140)","v":4.208842272212681E-2},{"$f":"'National Shipments'!S$140/\nSUM('National Shipments'!S$19,'National Shipments'!S$45,'National Shipments'!S$70,'National Shipments'!S$93,'National Shipments'!S$116,'National Shipments'!S$140)","v":4.2088422722126824E-2},{"$f":"'National Shipments'!T$140/\nSUM('National Shipments'!T$19,'National Shipments'!T$45,'National Shipments'!T$70,'National Shipments'!T$93,'National Shipments'!T$116,'National Shipments'!T$140)","v":4.2088422722126817E-2},{"$f":"'National Shipments'!U$140/\nSUM('National Shipments'!U$19,'National Shipments'!U$45,'National Shipments'!U$70,'National Shipments'!U$93,'National Shipments'!U$116,'National Shipments'!U$140)","v":4.2088422722126817E-2},{"$f":"'National Shipments'!V$140/\nSUM('National Shipments'!V$19,'National Shipments'!V$45,'National Shipments'!V$70,'National Shipments'!V$93,'National Shipments'!V$116,'National Shipments'!V$140)","v":4.2088422722126817E-2},{"$f":"'National Shipments'!W$140/\nSUM('National Shipments'!W$19,'National Shipments'!W$45,'National Shipments'!W$70,'National Shipments'!W$93,'National Shipments'!W$116,'National Shipments'!W$140)","v":4.208842272212681E-2},{"$f":"'National Shipments'!X$140/\nSUM('National Shipments'!X$19,'National Shipments'!X$45,'National Shipments'!X$70,'National Shipments'!X$93,'National Shipments'!X$116,'National Shipments'!X$140)","v":4.2088422722126824E-2},{"$f":"'National Shipments'!Y$140/\nSUM('National Shipments'!Y$19,'National Shipments'!Y$45,'National Shipments'!Y$70,'National Shipments'!Y$93,'National Shipments'!Y$116,'National Shipments'!Y$140)","v":4.208842272212681E-2},{"$f":"'National Shipments'!Z$140/\nSUM('National Shipments'!Z$19,'National Shipments'!Z$45,'National Shipments'!Z$70,'National Shipments'!Z$93,'National Shipments'!Z$116,'National Shipments'!Z$140)","v":4.208842272212681E-2},{"$f":"'National Shipments'!AA$140/\nSUM('National Shipments'!AA$19,'National Shipments'!AA$45,'National Shipments'!AA$70,'National Shipments'!AA$93,'National Shipments'!AA$116,'National Shipments'!AA$140)","v":4.2088422722126817E-2},{"$f":"'National Shipments'!AB$140/\nSUM('National Shipments'!AB$19,'National Shipments'!AB$45,'National Shipments'!AB$70,'National Shipments'!AB$93,'National Shipments'!AB$116,'National Shipments'!AB$140)","v":4.2088422722126817E-2},{"$f":"'National Shipments'!AC$140/\nSUM('National Shipments'!AC$19,'National Shipments'!AC$45,'National Shipments'!AC$70,'National Shipments'!AC$93,'National Shipments'!AC$116,'National Shipments'!AC$140)","v":4.2088422722126817E-2},{"$f":"'National Shipments'!AD$140/\nSUM('National Shipments'!AD$19,'National Shipments'!AD$45,'National Shipments'!AD$70,'National Shipments'!AD$93,'National Shipments'!AD$116,'National Shipments'!AD$140)","v":4.208842272212681E-2},{"$f":"'National Shipments'!AE$140/\nSUM('National Shipments'!AE$19,'National Shipments'!AE$45,'National Shipments'!AE$70,'National Shipments'!AE$93,'National Shipments'!AE$116,'National Shipments'!AE$140)","v":4.2088422722126817E-2}]
[null,null,"Total",1,1,1,1,1,1,1,1,1,1,1,1,1,1,1,1,1,1,1,1,1,1,1,1,1,1,1,1,{"$f":"SUM(AF10:AF15)","v":1},{"$f":"SUM(AG10:AG15)","v":1},1,1,1,1,1.0000000000000002,1,1,0.99999999999999978,1.0000000000000002,0.99999999999999978,1.0000000000000002,1,1,1,1,0.99999999999999989,1.0000000000000002,1.0000000000000002,0.99999999999999978,1.0000000000000002,1,1,1,1]
[]
[null,null,"POST-Case",1981,1982,1983,1984,1985,1986,1987,1988,1989,1990,1991,1992,1993,1994,1995,1996,1997,1998,1999,2000,2001,2002,2003,2004,2005,2006,2007,2008,2009,2010,2011,2012,2013,2014,2015,2016,2017,2018,2019,2020,2021,2022,2023,2024,2025,2026,2027,2028,2029,2030,2031,2032,2033,2034]
[null,null,"PC1  Without reverse cycle, with louvered sides, and less than 6,000 Btu/h",{"$f":"E19","v":0.30682007670501921},0.30682007670501921,0.30682007670501921,0.30682007670501921,0.30682007670501921,0.30682007670501921,0.30682007670501921,0.30682007670501921,0.30682007670501921,0.30682007670501921,0.30682007670501921,0.30682007670501921,0.30682007670501921,0.30682007670501921,0.30682007670501921,0.30682007670501921,0.30682007670501921,0.30682007670501921,0.30682007670501921,0.30682007670501921,0.30682007670501921,0.30682007670501921,0.30682007670501921,0.30682007670501921,0.30682007670501921,0.30682007670501921,0.30682007670501921,{"$f":"AF19","v":0.30682007670501921},{"$f":"'National Shipments'!F$29/\nSUM('National Shipments'!F$29,'National Shipments'!F$55,'National Shipments'!F$79,'National Shipments'!F$101,'National Shipments'!F$125,'National Shipments'!F$149)","v":0.30682007670501921},{"$f":"'National Shipments'!G$29/\nSUM('National Shipments'!G$29,'National Shipments'!G$55,'National Shipments'!G$79,'National Shipments'!G$101,'National Shipments'!G$125,'National Shipments'!G$149)","v":0.30682007670501915},{"$f":"'National Shipments'!H$29/\nSUM('National Shipments'!H$29,'National Shipments'!H$55,'National Shipments'!H$79,'National Shipments'!H$101,'National Shipments'!H$125,'National Shipments'!H$149)","v":0.30682007670501915},{"$f":"'National Shipments'!I$29/\nSUM('National Shipments'!I$29,'National Shipments'!I$55,'National Shipments'!I$79,'National Shipments'!I$101,'National Shipments'!I$125,'National Shipments'!I$149)","v":0.30682007670501915},{"$f":"'National Shipments'!J$29/\nSUM('National Shipments'!J$29,'National Shipments'!J$55,'National Shipments'!J$79,'National Shipments'!J$101,'National Shipments'!J$125,'National Shipments'!J$149)","v":0.30682007670501915},{"$f":"'National Shipments'!K$29/\nSUM('National Shipments'!K$29,'National Shipments'!K$55,'National Shipments'!K$79,'National Shipments'!K$101,'National Shipments'!K$125,'National Shipments'!K$149)","v":0.30118331510943919},{"$f":"'National Shipments'!L$29/\nSUM('National Shipments'!L$29,'National Shipments'!L$55,'National Shipments'!L$79,'National Shipments'!L$101,'National Shipments'!L$125,'National Shipments'!L$149)","v":0.3012515400575041},{"$f":"'National Shipments'!M$29/\nSUM('National Shipments'!M$29,'National Shipments'!M$55,'National Shipments'!M$79,'National Shipments'!M$101,'National Shipments'!M$125,'National Shipments'!M$149)","v":0.30125491566708362},{"$f":"'National Shipments'!N$29/\nSUM('National Shipments'!N$29,'National Shipments'!N$55,'National Shipments'!N$79,'National Shipments'!N$101,'National Shipments'!N$125,'National Shipments'!N$149)","v":0.30126265571483152},{"$f":"'National Shipments'!O$29/\nSUM('National Shipments'!O$29,'National Shipments'!O$55,'National Shipments'!O$79,'National Shipments'!O$101,'National Shipments'!O$125,'National Shipments'!O$149)","v":0.30127037725477823},{"$f":"'National Shipments'!P$29/\nSUM('National Shipments'!P$29,'National Shipments'!P$55,'National Shipments'!P$79,'National Shipments'!P$101,'National Shipments'!P$125,'National Shipments'!P$149)","v":0.3012780758590578},{"$f":"'National Shipments'!Q$29/\nSUM('National Shipments'!Q$29,'National Shipments'!Q$55,'National Shipments'!Q$79,'National Shipments'!Q$101,'National Shipments'!Q$125,'National Shipments'!Q$149)","v":0.30128571449726371},{"$f":"'National Shipments'!R$29/\nSUM('National Shipments'!R$29,'National Shipments'!R$55,'National Shipments'!R$79,'National Shipments'!R$101,'National Shipments'!R$125,'National Shipments'!R$149)","v":0.30129331425431266},{"$f":"'National Shipments'!S$29/\nSUM('National Shipments'!S$29,'National Shipments'!S$55,'National Shipments'!S$79,'National Shipments'!S$101,'National Shipments'!S$125,'National Shipments'!S$149)","v":0.30130044582947801},{"$f":"'National Shipments'!T$29/\nSUM('National Shipments'!T$29,'National Shipments'!T$55,'National Shipments'!T$79,'National Shipments'!T$101,'National Shipments'!T$125,'National Shipments'!T$149)","v":0.30130736728522356},{"$f":"'National Shipments'!U$29/\nSUM('National Shipments'!U$29,'National Shipments'!U$55,'National Shipments'!U$79,'National Shipments'!U$101,'National Shipments'!U$125,'National Shipments'!U$149)","v":0.30131427450429649},{"$f":"'National Shipments'!V$29/\nSUM('National Shipments'!V$29,'National Shipments'!V$55,'National Shipments'!V$79,'National Shipments'!V$101,'National Shipments'!V$125,'National Shipments'!V$149)","v":0.30132116312323748},{"$f":"'National Shipments'!W$29/\nSUM('National Shipments'!W$29,'National Shipments'!W$55,'National Shipments'!W$79,'National Shipments'!W$101,'National Shipments'!W$125,'National Shipments'!W$149)","v":0.30132805331100221},{"$f":"'National Shipments'!X$29/\nSUM('National Shipments'!X$29,'National Shipments'!X$55,'National Shipments'!X$79,'National Shipments'!X$101,'National Shipments'!X$125,'National Shipments'!X$149)","v":0.30133494498754054},{"$f":"'National Shipments'!Y$29/\nSUM('National Shipments'!Y$29,'National Shipments'!Y$55,'National Shipments'!Y$79,'National Shipments'!Y$101,'National Shipments'!Y$125,'National Shipments'!Y$149)","v":0.30134179342351913},{"$f":"'National Shipments'!Z$29/\nSUM('National Shipments'!Z$29,'National Shipments'!Z$55,'National Shipments'!Z$79,'National Shipments'!Z$101,'National Shipments'!Z$125,'National Shipments'!Z$149)","v":0.30134860874272573},{"$f":"'National Shipments'!AA$29/\nSUM('National Shipments'!AA$29,'National Shipments'!AA$55,'National Shipments'!AA$79,'National Shipments'!AA$101,'National Shipments'!AA$125,'National Shipments'!AA$149)","v":0.30135573436496987},{"$f":"'National Shipments'!AB$29/\nSUM('National Shipments'!AB$29,'National Shipments'!AB$55,'National Shipments'!AB$79,'National Shipments'!AB$101,'National Shipments'!AB$125,'National Shipments'!AB$149)","v":0.30136669104893893},{"$f":"'National Shipments'!AC$29/\nSUM('National Shipments'!AC$29,'National Shipments'!AC$55,'National Shipments'!AC$79,'National Shipments'!AC$101,'National Shipments'!AC$125,'National Shipments'!AC$149)","v":0.30137763351226132},{"$f":"'National Shipments'!AD$29/\nSUM('National Shipments'!AD$29,'National Shipments'!AD$55,'National Shipments'!AD$79,'National Shipments'!AD$101,'National Shipments'!AD$125,'National Shipments'!AD$149)","v":0.30138464137098941},{"$f":"'National Shipments'!AE$29/\nSUM('National Shipments'!AE$29,'National Shipments'!AE$55,'National Shipments'!AE$79,'National Shipments'!AE$101,'National Shipments'!AE$125,'National Shipments'!AE$149)","v":0.30138992130910258}]
[null,null,"PC2  Without reverse cycle, with louvered sides, and 8,000 to 13,999 Btu/h",{"$f":"E20","v":0.56982657995664499},0.56982657995664499,0.56982657995664499,0.56982657995664499,0.56982657995664499,0.56982657995664499,0.56982657995664499,0.56982657995664499,0.56982657995664499,0.56982657995664499,0.56982657995664499,0.56982657995664499,0.56982657995664499,0.56982657995664499,0.56982657995664499,0.56982657995664499,0.56982657995664499,0.56982657995664499,0.56982657995664499,0.56982657995664499,0.56982657995664499,0.56982657995664499,0.56982657995664499,0.56982657995664499,0.56982657995664499,0.56982657995664499,0.56982657995664499,0.56982657995664499,{"$f":"'National Shipments'!F$55/\nSUM('National Shipments'!F$29,'National Shipments'!F$55,'National Shipments'!F$79,'National Shipments'!F$101,'National Shipments'!F$125,'National Shipments'!F$149)","v":0.56982657995664499},{"$f":"'National Shipments'!G$55/\nSUM('National Shipments'!G$29,'National Shipments'!G$55,'National Shipments'!G$79,'National Shipments'!G$101,'National Shipments'!G$125,'National Shipments'!G$149)","v":0.56982657995664499},{"$f":"'National Shipments'!H$55/\nSUM('National Shipments'!H$29,'National Shipments'!H$55,'National Shipments'!H$79,'National Shipments'!H$101,'National Shipments'!H$125,'National Shipments'!H$149)","v":0.56982657995664499},{"$f":"'National Shipments'!I$55/\nSUM('National Shipments'!I$29,'National Shipments'!I$55,'National Shipments'!I$79,'National Shipments'!I$101,'National Shipments'!I$125,'National Shipments'!I$149)","v":0.5698265799566451},{"$f":"'National Shipments'!J$55/\nSUM('National Shipments'!J$29,'National Shipments'!J$55,'National Shipments'!J$79,'National Shipments'!J$101,'National Shipments'!J$125,'National Shipments'!J$149)","v":0.5698265799566451},{"$f":"'National Shipments'!K$55/\nSUM('National Shipments'!K$29,'National Shipments'!K$55,'National Shipments'!K$79,'National Shipments'!K$101,'National Shipments'!K$125,'National Shipments'!K$149)","v":0.57392441236530456},{"$f":"'National Shipments'!L$55/\nSUM('National Shipments'!L$29,'National Shipments'!L$55,'National Shipments'!L$79,'National Shipments'!L$101,'National Shipments'!L$125,'National Shipments'!L$149)","v":0.57392593687565552},{"$f":"'National Shipments'!M$55/\nSUM('National Shipments'!M$29,'National Shipments'!M$55,'National Shipments'!M$79,'National Shipments'!M$101,'National Shipments'!M$125,'National Shipments'!M$149)","v":0.57392356255628285},{"$f":"'National Shipments'!N$55/\nSUM('National Shipments'!N$29,'National Shipments'!N$55,'National Shipments'!N$79,'National Shipments'!N$101,'National Shipments'!N$125,'National Shipments'!N$149)","v":0.57391751482245146},{"$f":"'National Shipments'!O$55/\nSUM('National Shipments'!O$29,'National Shipments'!O$55,'National Shipments'!O$79,'National Shipments'!O$101,'National Shipments'!O$125,'National Shipments'!O$149)","v":0.57391143422910518},{"$f":"'National Shipments'!P$55/\nSUM('National Shipments'!P$29,'National Shipments'!P$55,'National Shipments'!P$79,'National Shipments'!P$101,'National Shipments'!P$125,'National Shipments'!P$149)","v":0.5739053124167568},{"$f":"'National Shipments'!Q$55/\nSUM('National Shipments'!Q$29,'National Shipments'!Q$55,'National Shipments'!Q$79,'National Shipments'!Q$101,'National Shipments'!Q$125,'National Shipments'!Q$149)","v":0.57389907892471226},{"$f":"'National Shipments'!R$55/\nSUM('National Shipments'!R$29,'National Shipments'!R$55,'National Shipments'!R$79,'National Shipments'!R$101,'National Shipments'!R$125,'National Shipments'!R$149)","v":0.57389277399846983},{"$f":"'National Shipments'!S$55/\nSUM('National Shipments'!S$29,'National Shipments'!S$55,'National Shipments'!S$79,'National Shipments'!S$101,'National Shipments'!S$125,'National Shipments'!S$149)","v":0.57388713775983624},{"$f":"'National Shipments'!T$55/\nSUM('National Shipments'!T$29,'National Shipments'!T$55,'National Shipments'!T$79,'National Shipments'!T$101,'National Shipments'!T$125,'National Shipments'!T$149)","v":0.57388180497613317},{"$f":"'National Shipments'!U$55/\nSUM('National Shipments'!U$29,'National Shipments'!U$55,'National Shipments'!U$79,'National Shipments'!U$101,'National Shipments'!U$125,'National Shipments'!U$149)","v":0.57387644584454733},{"$f":"'National Shipments'!V$55/\nSUM('National Shipments'!V$29,'National Shipments'!V$55,'National Shipments'!V$79,'National Shipments'!V$101,'National Shipments'!V$125,'National Shipments'!V$149)","v":0.57387105211556866},{"$f":"'National Shipments'!W$55/\nSUM('National Shipments'!W$29,'National Shipments'!W$55,'National Shipments'!W$79,'National Shipments'!W$101,'National Shipments'!W$125,'National Shipments'!W$149)","v":0.5738656622616195},{"$f":"'National Shipments'!X$55/\nSUM('National Shipments'!X$29,'National Shipments'!X$55,'National Shipments'!X$79,'National Shipments'!X$101,'National Shipments'!X$125,'National Shipments'!X$149)","v":0.57386027618807645},{"$f":"'National Shipments'!Y$55/\nSUM('National Shipments'!Y$29,'National Shipments'!Y$55,'National Shipments'!Y$79,'National Shipments'!Y$101,'National Shipments'!Y$125,'National Shipments'!Y$149)","v":0.57385480877326278},{"$f":"'National Shipments'!Z$55/\nSUM('National Shipments'!Z$29,'National Shipments'!Z$55,'National Shipments'!Z$79,'National Shipments'!Z$101,'National Shipments'!Z$125,'National Shipments'!Z$149)","v":0.57384933895845902},{"$f":"'National Shipments'!AA$55/\nSUM('National Shipments'!AA$29,'National Shipments'!AA$55,'National Shipments'!AA$79,'National Shipments'!AA$101,'National Shipments'!AA$125,'National Shipments'!AA$149)","v":0.57384365405793458},{"$f":"'National Shipments'!AB$55/\nSUM('National Shipments'!AB$29,'National Shipments'!AB$55,'National Shipments'!AB$79,'National Shipments'!AB$101,'National Shipments'!AB$125,'National Shipments'!AB$149)","v":0.57383482713456424},{"$f":"'National Shipments'!AC$55/\nSUM('National Shipments'!AC$29,'National Shipments'!AC$55,'National Shipments'!AC$79,'National Shipments'!AC$101,'National Shipments'!AC$125,'National Shipments'!AC$149)","v":0.57382601645136877},{"$f":"'National Shipments'!AD$55/\nSUM('National Shipments'!AD$29,'National Shipments'!AD$55,'National Shipments'!AD$79,'National Shipments'!AD$101,'National Shipments'!AD$125,'National Shipments'!AD$149)","v":0.57380975795665268},{"$f":"'National Shipments'!AE$55/\nSUM('National Shipments'!AE$29,'National Shipments'!AE$55,'National Shipments'!AE$79,'National Shipments'!AE$101,'National Shipments'!AE$125,'National Shipments'!AE$149)","v":0.57379025393193428}]
[null,null,"PC3  Without reverse cycle, with louvered sides, and 20,000 to 24,999 Btu/h",{"$f":"E21","v":2.048515965811578E-2},2.048515965811578E-2,2.048515965811578E-2,2.048515965811578E-2,2.048515965811578E-2,2.048515965811578E-2,2.048515965811578E-2,2.048515965811578E-2,2.048515965811578E-2,2.048515965811578E-2,2.048515965811578E-2,2.048515965811578E-2,2.048515965811578E-2,2.048515965811578E-2,2.048515965811578E-2,2.048515965811578E-2,2.048515965811578E-2,2.048515965811578E-2,2.048515965811578E-2,2.048515965811578E-2,2.048515965811578E-2,2.048515965811578E-2,2.048515965811578E-2,2.048515965811578E-2,2.048515965811578E-2,2.048515965811578E-2,2.048515965811578E-2,2.048515965811578E-2,{"$f":"'National Shipments'!F$79/\nSUM('National Shipments'!F$29,'National Shipments'!F$55,'National Shipments'!F$79,'National Shipments'!F$101,'National Shipments'!F$125,'National Shipments'!F$149)","v":2.048515965811578E-2},{"$f":"'National Shipments'!G$79/\nSUM('National Shipments'!G$29,'National Shipments'!G$55,'National Shipments'!G$79,'National Shipments'!G$101,'National Shipments'!G$125,'National Shipments'!G$149)","v":2.048515965811578E-2},{"$f":"'National Shipments'!H$79/\nSUM('National Shipments'!H$29,'National Shipments'!H$55,'National Shipments'!H$79,'National Shipments'!H$101,'National Shipments'!H$125,'National Shipments'!H$149)","v":2.0485159658115783E-2},{"$f":"'National Shipments'!I$79/\nSUM('National Shipments'!I$29,'National Shipments'!I$55,'National Shipments'!I$79,'National Shipments'!I$101,'National Shipments'!I$125,'National Shipments'!I$149)","v":2.048515965811578E-2},{"$f":"'National Shipments'!J$79/\nSUM('National Shipments'!J$29,'National Shipments'!J$55,'National Shipments'!J$79,'National Shipments'!J$101,'National Shipments'!J$125,'National Shipments'!J$149)","v":2.048515965811578E-2},{"$f":"'National Shipments'!K$79/\nSUM('National Shipments'!K$29,'National Shipments'!K$55,'National Shipments'!K$79,'National Shipments'!K$101,'National Shipments'!K$125,'National Shipments'!K$149)","v":2.0749340000018456E-2},{"$f":"'National Shipments'!L$79/\nSUM('National Shipments'!L$29,'National Shipments'!L$55,'National Shipments'!L$79,'National Shipments'!L$101,'National Shipments'!L$125,'National Shipments'!L$149)","v":2.0719955360866904E-2},{"$f":"'National Shipments'!M$79/\nSUM('National Shipments'!M$29,'National Shipments'!M$55,'National Shipments'!M$79,'National Shipments'!M$101,'National Shipments'!M$125,'National Shipments'!M$149)","v":2.0719832342474907E-2},{"$f":"'National Shipments'!N$79/\nSUM('National Shipments'!N$29,'National Shipments'!N$55,'National Shipments'!N$79,'National Shipments'!N$101,'National Shipments'!N$125,'National Shipments'!N$149)","v":2.0719576670499406E-2},{"$f":"'National Shipments'!O$79/\nSUM('National Shipments'!O$29,'National Shipments'!O$55,'National Shipments'!O$79,'National Shipments'!O$101,'National Shipments'!O$125,'National Shipments'!O$149)","v":2.0719335756183063E-2},{"$f":"'National Shipments'!P$79/\nSUM('National Shipments'!P$29,'National Shipments'!P$55,'National Shipments'!P$79,'National Shipments'!P$101,'National Shipments'!P$125,'National Shipments'!P$149)","v":2.0719093263727041E-2},{"$f":"'National Shipments'!Q$79/\nSUM('National Shipments'!Q$29,'National Shipments'!Q$55,'National Shipments'!Q$79,'National Shipments'!Q$101,'National Shipments'!Q$125,'National Shipments'!Q$149)","v":2.0718919627841718E-2},{"$f":"'National Shipments'!R$79/\nSUM('National Shipments'!R$29,'National Shipments'!R$55,'National Shipments'!R$79,'National Shipments'!R$101,'National Shipments'!R$125,'National Shipments'!R$149)","v":2.0718817510617639E-2},{"$f":"'National Shipments'!S$79/\nSUM('National Shipments'!S$29,'National Shipments'!S$55,'National Shipments'!S$79,'National Shipments'!S$101,'National Shipments'!S$125,'National Shipments'!S$149)","v":2.0718682322763693E-2},{"$f":"'National Shipments'!T$79/\nSUM('National Shipments'!T$29,'National Shipments'!T$55,'National Shipments'!T$79,'National Shipments'!T$101,'National Shipments'!T$125,'National Shipments'!T$149)","v":2.0718531819074439E-2},{"$f":"'National Shipments'!U$79/\nSUM('National Shipments'!U$29,'National Shipments'!U$55,'National Shipments'!U$79,'National Shipments'!U$101,'National Shipments'!U$125,'National Shipments'!U$149)","v":2.0718379476695501E-2},{"$f":"'National Shipments'!V$79/\nSUM('National Shipments'!V$29,'National Shipments'!V$55,'National Shipments'!V$79,'National Shipments'!V$101,'National Shipments'!V$125,'National Shipments'!V$149)","v":2.0718225002596097E-2},{"$f":"'National Shipments'!W$79/\nSUM('National Shipments'!W$29,'National Shipments'!W$55,'National Shipments'!W$79,'National Shipments'!W$101,'National Shipments'!W$125,'National Shipments'!W$149)","v":2.071806979050143E-2},{"$f":"'National Shipments'!X$79/\nSUM('National Shipments'!X$29,'National Shipments'!X$55,'National Shipments'!X$79,'National Shipments'!X$101,'National Shipments'!X$125,'National Shipments'!X$149)","v":2.0717913841745133E-2},{"$f":"'National Shipments'!Y$79/\nSUM('National Shipments'!Y$29,'National Shipments'!Y$55,'National Shipments'!Y$79,'National Shipments'!Y$101,'National Shipments'!Y$125,'National Shipments'!Y$149)","v":2.0717754087920679E-2},{"$f":"'National Shipments'!Z$79/\nSUM('National Shipments'!Z$29,'National Shipments'!Z$55,'National Shipments'!Z$79,'National Shipments'!Z$101,'National Shipments'!Z$125,'National Shipments'!Z$149)","v":2.0717591232098258E-2},{"$f":"'National Shipments'!AA$79/\nSUM('National Shipments'!AA$29,'National Shipments'!AA$55,'National Shipments'!AA$79,'National Shipments'!AA$101,'National Shipments'!AA$125,'National Shipments'!AA$149)","v":2.0717412704736631E-2},{"$f":"'National Shipments'!AB$79/\nSUM('National Shipments'!AB$29,'National Shipments'!AB$55,'National Shipments'!AB$79,'National Shipments'!AB$101,'National Shipments'!AB$125,'National Shipments'!AB$149)","v":2.0717119906648835E-2},{"$f":"'National Shipments'!AC$79/\nSUM('National Shipments'!AC$29,'National Shipments'!AC$55,'National Shipments'!AC$79,'National Shipments'!AC$101,'National Shipments'!AC$125,'National Shipments'!AC$149)","v":2.0716826864774447E-2},{"$f":"'National Shipments'!AD$79/\nSUM('National Shipments'!AD$29,'National Shipments'!AD$55,'National Shipments'!AD$79,'National Shipments'!AD$101,'National Shipments'!AD$125,'National Shipments'!AD$149)","v":2.0729271686170378E-2},{"$f":"'National Shipments'!AE$79/\nSUM('National Shipments'!AE$29,'National Shipments'!AE$55,'National Shipments'!AE$79,'National Shipments'!AE$101,'National Shipments'!AE$125,'National Shipments'!AE$149)","v":2.074698197684258E-2}]
[null,null,"PC4  Without reverse cycle, with louvered sides, and 25,000 Btu/h or more",{"$f":"E22","v":1.3406054955038781E-2},1.3406054955038781E-2,1.3406054955038781E-2,1.3406054955038781E-2,1.3406054955038781E-2,1.3406054955038781E-2,1.3406054955038781E-2,1.3406054955038781E-2,1.3406054955038781E-2,1.3406054955038781E-2,1.3406054955038781E-2,1.3406054955038781E-2,1.3406054955038781E-2,1.3406054955038781E-2,1.3406054955038781E-2,1.3406054955038781E-2,1.3406054955038781E-2,1.3406054955038781E-2,1.3406054955038781E-2,1.3406054955038781E-2,1.3406054955038781E-2,1.3406054955038781E-2,1.3406054955038781E-2,1.3406054955038781E-2,1.3406054955038781E-2,1.3406054955038781E-2,1.3406054955038781E-2,1.3406054955038781E-2,{"$f":"'National Shipments'!F$101/\nSUM('National Shipments'!F$29,'National Shipments'!F$55,'National Shipments'!F$79,'National Shipments'!F$101,'National Shipments'!F$125,'National Shipments'!F$149)","v":1.3406054955038781E-2},{"$f":"'National Shipments'!G$101/\nSUM('National Shipments'!G$29,'National Shipments'!G$55,'National Shipments'!G$79,'National Shipments'!G$101,'National Shipments'!G$125,'National Shipments'!G$149)","v":1.3406054955038781E-2},{"$f":"'National Shipments'!H$101/\nSUM('National Shipments'!H$29,'National Shipments'!H$55,'National Shipments'!H$79,'National Shipments'!H$101,'National Shipments'!H$125,'National Shipments'!H$149)","v":1.3406054955038783E-2},{"$f":"'National Shipments'!I$101/\nSUM('National Shipments'!I$29,'National Shipments'!I$55,'National Shipments'!I$79,'National Shipments'!I$101,'National Shipments'!I$125,'National Shipments'!I$149)","v":1.3406054955038781E-2},{"$f":"'National Shipments'!J$101/\nSUM('National Shipments'!J$29,'National Shipments'!J$55,'National Shipments'!J$79,'National Shipments'!J$101,'National Shipments'!J$125,'National Shipments'!J$149)","v":1.3406054955038786E-2},{"$f":"'National Shipments'!K$101/\nSUM('National Shipments'!K$29,'National Shipments'!K$55,'National Shipments'!K$79,'National Shipments'!K$101,'National Shipments'!K$125,'National Shipments'!K$149)","v":1.3587922930205611E-2},{"$f":"'National Shipments'!L$101/\nSUM('National Shipments'!L$29,'National Shipments'!L$55,'National Shipments'!L$79,'National Shipments'!L$101,'National Shipments'!L$125,'National Shipments'!L$149)","v":1.3590463513485302E-2},{"$f":"'National Shipments'!M$101/\nSUM('National Shipments'!M$29,'National Shipments'!M$55,'National Shipments'!M$79,'National Shipments'!M$101,'National Shipments'!M$125,'National Shipments'!M$149)","v":1.3590362381435517E-2},{"$f":"'National Shipments'!N$101/\nSUM('National Shipments'!N$29,'National Shipments'!N$55,'National Shipments'!N$79,'National Shipments'!N$101,'National Shipments'!N$125,'National Shipments'!N$149)","v":1.359017753057384E-2},{"$f":"'National Shipments'!O$101/\nSUM('National Shipments'!O$29,'National Shipments'!O$55,'National Shipments'!O$79,'National Shipments'!O$101,'National Shipments'!O$125,'National Shipments'!O$149)","v":1.3590006148574377E-2},{"$f":"'National Shipments'!P$101/\nSUM('National Shipments'!P$29,'National Shipments'!P$55,'National Shipments'!P$79,'National Shipments'!P$101,'National Shipments'!P$125,'National Shipments'!P$149)","v":1.358983363994103E-2},{"$f":"'National Shipments'!Q$101/\nSUM('National Shipments'!Q$29,'National Shipments'!Q$55,'National Shipments'!Q$79,'National Shipments'!Q$101,'National Shipments'!Q$125,'National Shipments'!Q$149)","v":1.3589781903109594E-2},{"$f":"'National Shipments'!R$101/\nSUM('National Shipments'!R$29,'National Shipments'!R$55,'National Shipments'!R$79,'National Shipments'!R$101,'National Shipments'!R$125,'National Shipments'!R$149)","v":1.3589780598704776E-2},{"$f":"'National Shipments'!S$101/\nSUM('National Shipments'!S$29,'National Shipments'!S$55,'National Shipments'!S$79,'National Shipments'!S$101,'National Shipments'!S$125,'National Shipments'!S$149)","v":1.3589752434916015E-2},{"$f":"'National Shipments'!T$101/\nSUM('National Shipments'!T$29,'National Shipments'!T$55,'National Shipments'!T$79,'National Shipments'!T$101,'National Shipments'!T$125,'National Shipments'!T$149)","v":1.3589709286586859E-2},{"$f":"'National Shipments'!U$101/\nSUM('National Shipments'!U$29,'National Shipments'!U$55,'National Shipments'!U$79,'National Shipments'!U$101,'National Shipments'!U$125,'National Shipments'!U$149)","v":1.3589660210608074E-2},{"$f":"'National Shipments'!V$101/\nSUM('National Shipments'!V$29,'National Shipments'!V$55,'National Shipments'!V$79,'National Shipments'!V$101,'National Shipments'!V$125,'National Shipments'!V$149)","v":1.3589605220254526E-2},{"$f":"'National Shipments'!W$101/\nSUM('National Shipments'!W$29,'National Shipments'!W$55,'National Shipments'!W$79,'National Shipments'!W$101,'National Shipments'!W$125,'National Shipments'!W$149)","v":1.3589545424389303E-2},{"$f":"'National Shipments'!X$101/\nSUM('National Shipments'!X$29,'National Shipments'!X$55,'National Shipments'!X$79,'National Shipments'!X$101,'National Shipments'!X$125,'National Shipments'!X$149)","v":1.358948100847056E-2},{"$f":"'National Shipments'!Y$101/\nSUM('National Shipments'!Y$29,'National Shipments'!Y$55,'National Shipments'!Y$79,'National Shipments'!Y$101,'National Shipments'!Y$125,'National Shipments'!Y$149)","v":1.3589410134953548E-2},{"$f":"'National Shipments'!Z$101/\nSUM('National Shipments'!Z$29,'National Shipments'!Z$55,'National Shipments'!Z$79,'National Shipments'!Z$101,'National Shipments'!Z$125,'National Shipments'!Z$149)","v":1.3589333431234585E-2},{"$f":"'National Shipments'!AA$101/\nSUM('National Shipments'!AA$29,'National Shipments'!AA$55,'National Shipments'!AA$79,'National Shipments'!AA$101,'National Shipments'!AA$125,'National Shipments'!AA$149)","v":1.3589242810442683E-2},{"$f":"'National Shipments'!AB$101/\nSUM('National Shipments'!AB$29,'National Shipments'!AB$55,'National Shipments'!AB$79,'National Shipments'!AB$101,'National Shipments'!AB$125,'National Shipments'!AB$149)","v":1.3589073748023763E-2},{"$f":"'National Shipments'!AC$101/\nSUM('National Shipments'!AC$29,'National Shipments'!AC$55,'National Shipments'!AC$79,'National Shipments'!AC$101,'National Shipments'!AC$125,'National Shipments'!AC$149)","v":1.358890118073334E-2},{"$f":"'National Shipments'!AD$101/\nSUM('National Shipments'!AD$29,'National Shipments'!AD$55,'National Shipments'!AD$79,'National Shipments'!AD$101,'National Shipments'!AD$125,'National Shipments'!AD$149)","v":1.3588548489247827E-2},{"$f":"'National Shipments'!AE$101/\nSUM('National Shipments'!AE$29,'National Shipments'!AE$55,'National Shipments'!AE$79,'National Shipments'!AE$101,'National Shipments'!AE$125,'National Shipments'!AE$149)","v":1.3588115320494606E-2}]
[null,null,"PC5  Without reverse cycle, without louvered sides, and 8,000 to 10,999 Btu/h",{"$f":"E23","v":4.7373706003054454E-2},4.7373706003054454E-2,4.7373706003054454E-2,4.7373706003054454E-2,4.7373706003054454E-2,4.7373706003054454E-2,4.7373706003054454E-2,4.7373706003054454E-2,4.7373706003054454E-2,4.7373706003054454E-2,4.7373706003054454E-2,4.7373706003054454E-2,4.7373706003054454E-2,4.7373706003054454E-2,4.7373706003054454E-2,4.7373706003054454E-2,4.7373706003054454E-2,4.7373706003054454E-2,4.7373706003054454E-2,4.7373706003054454E-2,4.7373706003054454E-2,4.7373706003054454E-2,4.7373706003054454E-2,4.7373706003054454E-2,4.7373706003054454E-2,4.7373706003054454E-2,4.7373706003054454E-2,4.7373706003054454E-2,{"$f":"'National Shipments'!F$125/\nSUM('National Shipments'!F$29,'National Shipments'!F$55,'National Shipments'!F$79,'National Shipments'!F$101,'National Shipments'!F$125,'National Shipments'!F$149)","v":4.7373706003054454E-2},{"$f":"'National Shipments'!G$125/\nSUM('National Shipments'!G$29,'National Shipments'!G$55,'National Shipments'!G$79,'National Shipments'!G$101,'National Shipments'!G$125,'National Shipments'!G$149)","v":4.7373706003054461E-2},{"$f":"'National Shipments'!H$125/\nSUM('National Shipments'!H$29,'National Shipments'!H$55,'National Shipments'!H$79,'National Shipments'!H$101,'National Shipments'!H$125,'National Shipments'!H$149)","v":4.7373706003054475E-2},{"$f":"'National Shipments'!I$125/\nSUM('National Shipments'!I$29,'National Shipments'!I$55,'National Shipments'!I$79,'National Shipments'!I$101,'National Shipments'!I$125,'National Shipments'!I$149)","v":4.7373706003054468E-2},{"$f":"'National Shipments'!J$125/\nSUM('National Shipments'!J$29,'National Shipments'!J$55,'National Shipments'!J$79,'National Shipments'!J$101,'National Shipments'!J$125,'National Shipments'!J$149)","v":4.7373706003054468E-2},{"$f":"'National Shipments'!K$125/\nSUM('National Shipments'!K$29,'National Shipments'!K$55,'National Shipments'!K$79,'National Shipments'!K$101,'National Shipments'!K$125,'National Shipments'!K$149)","v":4.7967037916975028E-2},{"$f":"'National Shipments'!L$125/\nSUM('National Shipments'!L$29,'National Shipments'!L$55,'National Shipments'!L$79,'National Shipments'!L$101,'National Shipments'!L$125,'National Shipments'!L$149)","v":4.791606800539526E-2},{"$f":"'National Shipments'!M$125/\nSUM('National Shipments'!M$29,'National Shipments'!M$55,'National Shipments'!M$79,'National Shipments'!M$101,'National Shipments'!M$125,'National Shipments'!M$149)","v":4.7915716124976228E-2},{"$f":"'National Shipments'!N$125/\nSUM('National Shipments'!N$29,'National Shipments'!N$55,'National Shipments'!N$79,'National Shipments'!N$101,'National Shipments'!N$125,'National Shipments'!N$149)","v":4.791505738382297E-2},{"$f":"'National Shipments'!O$125/\nSUM('National Shipments'!O$29,'National Shipments'!O$55,'National Shipments'!O$79,'National Shipments'!O$101,'National Shipments'!O$125,'National Shipments'!O$149)","v":4.7914399113127552E-2},{"$f":"'National Shipments'!P$125/\nSUM('National Shipments'!P$29,'National Shipments'!P$55,'National Shipments'!P$79,'National Shipments'!P$101,'National Shipments'!P$125,'National Shipments'!P$149)","v":4.7913752919349489E-2},{"$f":"'National Shipments'!Q$125/\nSUM('National Shipments'!Q$29,'National Shipments'!Q$55,'National Shipments'!Q$79,'National Shipments'!Q$101,'National Shipments'!Q$125,'National Shipments'!Q$149)","v":4.7913097243063134E-2},{"$f":"'National Shipments'!R$125/\nSUM('National Shipments'!R$29,'National Shipments'!R$55,'National Shipments'!R$79,'National Shipments'!R$101,'National Shipments'!R$125,'National Shipments'!R$149)","v":4.7912435444458008E-2},{"$f":"'National Shipments'!S$125/\nSUM('National Shipments'!S$29,'National Shipments'!S$55,'National Shipments'!S$79,'National Shipments'!S$101,'National Shipments'!S$125,'National Shipments'!S$149)","v":4.7911699264515085E-2},{"$f":"'National Shipments'!T$125/\nSUM('National Shipments'!T$29,'National Shipments'!T$55,'National Shipments'!T$79,'National Shipments'!T$101,'National Shipments'!T$125,'National Shipments'!T$149)","v":4.791092975259701E-2},{"$f":"'National Shipments'!U$125/\nSUM('National Shipments'!U$29,'National Shipments'!U$55,'National Shipments'!U$79,'National Shipments'!U$101,'National Shipments'!U$125,'National Shipments'!U$149)","v":4.7910158064837678E-2},{"$f":"'National Shipments'!V$125/\nSUM('National Shipments'!V$29,'National Shipments'!V$55,'National Shipments'!V$79,'National Shipments'!V$101,'National Shipments'!V$125,'National Shipments'!V$149)","v":4.7909383513813089E-2},{"$f":"'National Shipments'!W$125/\nSUM('National Shipments'!W$29,'National Shipments'!W$55,'National Shipments'!W$79,'National Shipments'!W$101,'National Shipments'!W$125,'National Shipments'!W$149)","v":4.7908609312652867E-2},{"$f":"'National Shipments'!X$125/\nSUM('National Shipments'!X$29,'National Shipments'!X$55,'National Shipments'!X$79,'National Shipments'!X$101,'National Shipments'!X$125,'National Shipments'!X$149)","v":4.7907835454690233E-2},{"$f":"'National Shipments'!Y$125/\nSUM('National Shipments'!Y$29,'National Shipments'!Y$55,'National Shipments'!Y$79,'National Shipments'!Y$101,'National Shipments'!Y$125,'National Shipments'!Y$149)","v":4.7907203012677785E-2},{"$f":"'National Shipments'!Z$125/\nSUM('National Shipments'!Z$29,'National Shipments'!Z$55,'National Shipments'!Z$79,'National Shipments'!Z$101,'National Shipments'!Z$125,'National Shipments'!Z$149)","v":4.7906620153794613E-2},{"$f":"'National Shipments'!AA$125/\nSUM('National Shipments'!AA$29,'National Shipments'!AA$55,'National Shipments'!AA$79,'National Shipments'!AA$101,'National Shipments'!AA$125,'National Shipments'!AA$149)","v":4.7906002647032805E-2},{"$f":"'National Shipments'!AB$125/\nSUM('National Shipments'!AB$29,'National Shipments'!AB$55,'National Shipments'!AB$79,'National Shipments'!AB$101,'National Shipments'!AB$125,'National Shipments'!AB$149)","v":4.7905122487639555E-2},{"$f":"'National Shipments'!AC$125/\nSUM('National Shipments'!AC$29,'National Shipments'!AC$55,'National Shipments'!AC$79,'National Shipments'!AC$101,'National Shipments'!AC$125,'National Shipments'!AC$149)","v":4.7904243337585688E-2},{"$f":"'National Shipments'!AD$125/\nSUM('National Shipments'!AD$29,'National Shipments'!AD$55,'National Shipments'!AD$79,'National Shipments'!AD$101,'National Shipments'!AD$125,'National Shipments'!AD$149)","v":4.7902742084426977E-2},{"$f":"'National Shipments'!AE$125/\nSUM('National Shipments'!AE$29,'National Shipments'!AE$55,'National Shipments'!AE$79,'National Shipments'!AE$101,'National Shipments'!AE$125,'National Shipments'!AE$149)","v":4.7900969548229193E-2}]
[null,null,"PC6  Without reverse cycle, without louvered sides, and 11,000 to 13,999 Btu/h",{"$f":"E24","v":4.2088422722126803E-2},4.2088422722126803E-2,4.2088422722126803E-2,4.2088422722126803E-2,4.2088422722126803E-2,4.2088422722126803E-2,4.2088422722126803E-2,4.2088422722126803E-2,4.2088422722126803E-2,4.2088422722126803E-2,4.2088422722126803E-2,4.2088422722126803E-2,4.2088422722126803E-2,4.2088422722126803E-2,4.2088422722126803E-2,4.2088422722126803E-2,4.2088422722126803E-2,4.2088422722126803E-2,4.2088422722126803E-2,4.2088422722126803E-2,4.2088422722126803E-2,4.2088422722126803E-2,4.2088422722126803E-2,4.2088422722126803E-2,4.2088422722126803E-2,4.2088422722126803E-2,4.2088422722126803E-2,4.2088422722126803E-2,{"$f":"'National Shipments'!F$149/\nSUM('National Shipments'!F$29,'National Shipments'!F$55,'National Shipments'!F$79,'National Shipments'!F$101,'National Shipments'!F$125,'National Shipments'!F$149)","v":4.2088422722126803E-2},{"$f":"'National Shipments'!G$149/\nSUM('National Shipments'!G$29,'National Shipments'!G$55,'National Shipments'!G$79,'National Shipments'!G$101,'National Shipments'!G$125,'National Shipments'!G$149)","v":4.208842272212681E-2},{"$f":"'National Shipments'!H$149/\nSUM('National Shipments'!H$29,'National Shipments'!H$55,'National Shipments'!H$79,'National Shipments'!H$101,'National Shipments'!H$125,'National Shipments'!H$149)","v":4.2088422722126824E-2},{"$f":"'National Shipments'!I$149/\nSUM('National Shipments'!I$29,'National Shipments'!I$55,'National Shipments'!I$79,'National Shipments'!I$101,'National Shipments'!I$125,'National Shipments'!I$149)","v":4.2088422722126817E-2},{"$f":"'National Shipments'!J$149/\nSUM('National Shipments'!J$29,'National Shipments'!J$55,'National Shipments'!J$79,'National Shipments'!J$101,'National Shipments'!J$125,'National Shipments'!J$149)","v":4.2088422722126824E-2},{"$f":"'National Shipments'!K$149/\nSUM('National Shipments'!K$29,'National Shipments'!K$55,'National Shipments'!K$79,'National Shipments'!K$101,'National Shipments'!K$125,'National Shipments'!K$149)","v":4.2587971678057099E-2},{"$f":"'National Shipments'!L$149/\nSUM('National Shipments'!L$29,'National Shipments'!L$55,'National Shipments'!L$79,'National Shipments'!L$101,'National Shipments'!L$125,'National Shipments'!L$149)","v":4.2596036187092741E-2},{"$f":"'National Shipments'!M$149/\nSUM('National Shipments'!M$29,'National Shipments'!M$55,'National Shipments'!M$79,'National Shipments'!M$101,'National Shipments'!M$125,'National Shipments'!M$149)","v":4.2595610927747038E-2},{"$f":"'National Shipments'!N$149/\nSUM('National Shipments'!N$29,'National Shipments'!N$55,'National Shipments'!N$79,'National Shipments'!N$101,'National Shipments'!N$125,'National Shipments'!N$149)","v":4.2595017877820655E-2},{"$f":"'National Shipments'!O$149/\nSUM('National Shipments'!O$29,'National Shipments'!O$55,'National Shipments'!O$79,'National Shipments'!O$101,'National Shipments'!O$125,'National Shipments'!O$149)","v":4.25944474982317E-2},{"$f":"'National Shipments'!P$149/\nSUM('National Shipments'!P$29,'National Shipments'!P$55,'National Shipments'!P$79,'National Shipments'!P$101,'National Shipments'!P$125,'National Shipments'!P$149)","v":4.2593931901167996E-2},{"$f":"'National Shipments'!Q$149/\nSUM('National Shipments'!Q$29,'National Shipments'!Q$55,'National Shipments'!Q$79,'National Shipments'!Q$101,'National Shipments'!Q$125,'National Shipments'!Q$149)","v":4.2593407804009734E-2},{"$f":"'National Shipments'!R$149/\nSUM('National Shipments'!R$29,'National Shipments'!R$55,'National Shipments'!R$79,'National Shipments'!R$101,'National Shipments'!R$125,'National Shipments'!R$149)","v":4.2592878193436878E-2},{"$f":"'National Shipments'!S$149/\nSUM('National Shipments'!S$29,'National Shipments'!S$55,'National Shipments'!S$79,'National Shipments'!S$101,'National Shipments'!S$125,'National Shipments'!S$149)","v":4.2592282388490853E-2},{"$f":"'National Shipments'!T$149/\nSUM('National Shipments'!T$29,'National Shipments'!T$55,'National Shipments'!T$79,'National Shipments'!T$101,'National Shipments'!T$125,'National Shipments'!T$149)","v":4.2591656880384986E-2},{"$f":"'National Shipments'!U$149/\nSUM('National Shipments'!U$29,'National Shipments'!U$55,'National Shipments'!U$79,'National Shipments'!U$101,'National Shipments'!U$125,'National Shipments'!U$149)","v":4.2591081899015164E-2},{"$f":"'National Shipments'!V$149/\nSUM('National Shipments'!V$29,'National Shipments'!V$55,'National Shipments'!V$79,'National Shipments'!V$101,'National Shipments'!V$125,'National Shipments'!V$149)","v":4.2590571024530226E-2},{"$f":"'National Shipments'!W$149/\nSUM('National Shipments'!W$29,'National Shipments'!W$55,'National Shipments'!W$79,'National Shipments'!W$101,'National Shipments'!W$125,'National Shipments'!W$149)","v":4.2590059899834568E-2},{"$f":"'National Shipments'!X$149/\nSUM('National Shipments'!X$29,'National Shipments'!X$55,'National Shipments'!X$79,'National Shipments'!X$101,'National Shipments'!X$125,'National Shipments'!X$149)","v":4.2589548519476779E-2},{"$f":"'National Shipments'!Y$149/\nSUM('National Shipments'!Y$29,'National Shipments'!Y$55,'National Shipments'!Y$79,'National Shipments'!Y$101,'National Shipments'!Y$125,'National Shipments'!Y$149)","v":4.2589030567666109E-2},{"$f":"'National Shipments'!Z$149/\nSUM('National Shipments'!Z$29,'National Shipments'!Z$55,'National Shipments'!Z$79,'National Shipments'!Z$101,'National Shipments'!Z$125,'National Shipments'!Z$149)","v":4.2588507481687916E-2},{"$f":"'National Shipments'!AA$149/\nSUM('National Shipments'!AA$29,'National Shipments'!AA$55,'National Shipments'!AA$79,'National Shipments'!AA$101,'National Shipments'!AA$125,'National Shipments'!AA$149)","v":4.2587953414883625E-2},{"$f":"'National Shipments'!AB$149/\nSUM('National Shipments'!AB$29,'National Shipments'!AB$55,'National Shipments'!AB$79,'National Shipments'!AB$101,'National Shipments'!AB$125,'National Shipments'!AB$149)","v":4.2587165674184718E-2},{"$f":"'National Shipments'!AC$149/\nSUM('National Shipments'!AC$29,'National Shipments'!AC$55,'National Shipments'!AC$79,'National Shipments'!AC$101,'National Shipments'!AC$125,'National Shipments'!AC$149)","v":4.2586378653276469E-2},{"$f":"'National Shipments'!AD$149/\nSUM('National Shipments'!AD$29,'National Shipments'!AD$55,'National Shipments'!AD$79,'National Shipments'!AD$101,'National Shipments'!AD$125,'National Shipments'!AD$149)","v":4.2585038412512551E-2},{"$f":"'National Shipments'!AE$149/\nSUM('National Shipments'!AE$29,'National Shipments'!AE$55,'National Shipments'!AE$79,'National Shipments'!AE$101,'National Shipments'!AE$125,'National Shipments'!AE$149)","v":4.2583757913396796E-2}]
[null,null,"Total",1,1,1,1,1,1,1,1,1,1,1,1,1,1,1,1,1,1,1,1,1,1,1,1,1,1,1,1,{"$f":"SUM(AF19:AF24)","v":1},{"$f":"SUM(AG19:AG24)","v":1},{"$f":"SUM(AH19:AH24)","v":1},{"$f":"SUM(AI19:AI24)","v":1},{"$f":"SUM(AJ19:AJ24)","v":1},{"$f":"SUM(AK19:AK24)","v":0.99999999999999989},{"$f":"SUM(AL19:AL24)","v":0.99999999999999978},{"$f":"SUM(AM19:AM24)","v":1.0000000000000002},{"$f":"SUM(AN19:AN24)","v":0.99999999999999978},{"$f":"SUM(AO19:AO24)","v":1},{"$f":"SUM(AP19:AP24)","v":1.0000000000000002},{"$f":"SUM(AQ19:AQ24)","v":1},{"$f":"SUM(AR19:AR24)","v":0.99999999999999978},{"$f":"SUM(AS19:AS24)","v":1},{"$f":"SUM(AT19:AT24)","v":1},{"$f":"SUM(AU19:AU24)","v":1.0000000000000002},{"$f":"SUM(AV19:AV24)","v":1},{"$f":"SUM(AW19:AW24)","v":0.99999999999999978},{"$f":"SUM(AX19:AX24)","v":0.99999999999999978},{"$f":"SUM(AY19:AY24)","v":1},{"$f":"SUM(AZ19:AZ24)","v":1.0000000000000002},{"$f":"SUM(BA19:BA24)","v":1.0000000000000002},{"$f":"SUM(BB19:BB24)","v":1},{"$f":"SUM(BC19:BC24)","v":1},{"$f":"SUM(BD19:BD24)","v":0.99999999999999989},{"$f":"SUM(BE19:BE24)","v":1}]
[]
[null,null,"Source/Rationale"]

{"sheet":"UEC Development","index":17,"n_rows":84,"n_cols":13,"rows_kept":84,"cut":false,"hidden":false,"merged":[[10,10,10,12],[1,2,1,3],[3,2,3,3],[4,2,4,3],[5,2,5,3],[10,6,10,8],[63,6,63,8],[63,10,63,12],[76,6,76,8],[76,10,76,12],[24,6,24,8],[24,10,24,12],[38,6,38,8],[38,10,38,12],[51,6,51,8],[51,10,51,12]]}
[]
[null,null,"UEC Development by Building Type"]
[]
[null,null,"NAVIGATION"]
[]
[null,null,"COMMENTS"]
[]
[]
[null,null,"PC1",{"$f":"MID(OFFSET('Product Classes'!$E$9,MATCH(C9,'Product Classes'!$I$10:$I$27,0),0),6,100)","v":" Without reverse cycle, with louvered sides, and less than 6,000 Btu/h"}]
[]
[null,null,null,null,null,null,"Usage",null,null,null,"Unit Energy Consumption (UEC)"]
[null,null,"Efficiency Level","Representative Capacity","Integrated Energy Efficiency Rating",null,"Single Family","Multi-Family","Manufactured Homes",null,"Single Family","Multi-Family","Manufactured Homes"]
[null,null,null,"BTU/hr","CEER",null,"hours/year","hours/year","hours/year",null,"kWh / year","kWh / year","kWh / year"]
[null,null,"EL0",{"$f":"'Efficiency Levels'!$D$11","v":6000},{"$f":"'Efficiency Levels'!D14","v":9.5235933377732245},null,{"$f":"'Lifetime and Usage Data'!D$15","v":486},{"$f":"'Lifetime and Usage Data'!E$15","v":486},{"$f":"'Lifetime and Usage Data'!F$15","v":486},null,{"$f":"G14*$D14/$E14/1000","v":306.186950301031},{"$f":"H14*$D14/$E14/1000","v":306.186950301031},306.186950301031]
[null,null,"EL1",{"$f":"'Efficiency Levels'!$D$11","v":6000},{"$f":"'Efficiency Levels'!D15","v":10.1},null,{"$f":"'Lifetime and Usage Data'!D$15","v":486},{"$f":"'Lifetime and Usage Data'!E$15","v":486},{"$f":"'Lifetime and Usage Data'!F$15","v":486},null,{"$f":"G15*$D15/$E15/1000","v":288.71287128712873},288.71287128712873,288.71287128712873]
[null,null,"EL2",{"$f":"'Efficiency Levels'!$D$11","v":6000},{"$f":"'Efficiency Levels'!D16","v":10.6},null,{"$f":"'Lifetime and Usage Data'!D$15","v":486},{"$f":"'Lifetime and Usage Data'!E$15","v":486},{"$f":"'Lifetime and Usage Data'!F$15","v":486},null,275.09433962264148,275.09433962264148,275.09433962264148]
[null,null,"EL3",{"$f":"'Efficiency Levels'!$D$11","v":6000},{"$f":"'Efficiency Levels'!D17","v":11.1},null,{"$f":"'Lifetime and Usage Data'!D$15","v":486},{"$f":"'Lifetime and Usage Data'!E$15","v":486},{"$f":"'Lifetime and Usage Data'!F$15","v":486},null,262.70270270270271,262.70270270270271,262.70270270270271]
[null,null,"EL4",{"$f":"'Efficiency Levels'!$D$11","v":6000},{"$f":"'Efficiency Levels'!D18","v":11.384883004768115},null,{"$f":"'Lifetime and Usage Data'!D$15","v":486},{"$f":"'Lifetime and Usage Data'!E$15","v":486},{"$f":"'Lifetime and Usage Data'!F$15","v":486},null,256.12911426307562,256.12911426307562,256.12911426307562]
[null,null,"EL5",{"$f":"'Efficiency Levels'!$D$11","v":6000},{"$f":"'Efficiency Levels'!D19","v":11.665601284887952},null,{"$f":"'Lifetime and Usage Data'!D$15","v":486},{"$f":"'Lifetime and Usage Data'!E$15","v":486},{"$f":"'Lifetime and Usage Data'!F$15","v":486},null,249.96568361868268,249.96568361868268,249.96568361868268]
[]
[]
[]
[null,null,"PC2",{"$f":"MID(OFFSET('Product Classes'!$E$9,MATCH(C23,'Product Classes'!$I$10:$I$27,0),0),6,100)","v":" Without reverse cycle, with louvered sides, and 8,000 to 13,999 Btu/h"}]
[]
[null,null,null,null,null,null,"Usage",null,null,null,"Unit Energy Consumption (UEC)"]
[null,null,"Efficiency Level","Representative Capacity","Integrated Energy Efficiency Rating",null,"Single Family","Multi-Family","Manufactured Homes",null,"Single Family","Multi-Family","Manufactured Homes"]
[null,null,null,"BTU/hr","CEER",null,"hours/year","hours/year","hours/year",null,"kWh / year","kWh / year","kWh / year"]
[null,null,"EL0",{"$f":"'Efficiency Levels'!$E$11","v":8000},{"$f":"'Efficiency Levels'!E14","v":9.6867014340173032},null,{"$f":"'Lifetime and Usage Data'!D$15","v":486},{"$f":"'Lifetime and Usage Data'!E$15","v":486},{"$f":"'Lifetime and Usage Data'!F$15","v":486},null,{"$f":"G28*$D28/$E28/1000","v":401.37502187755103},{"$f":"H28*$D28/$E28/1000","v":401.37502187755103},{"$f":"I28*$D28/$E28/1000","v":401.37502187755103}]
[null,null,"EL1",{"$f":"'Efficiency Levels'!$E$11","v":8000},{"$f":"'Efficiency Levels'!E15","v":10.199999999999999},null,{"$f":"'Lifetime and Usage Data'!D$15","v":486},{"$f":"'Lifetime and Usage Data'!E$15","v":486},{"$f":"'Lifetime and Usage Data'!F$15","v":486},null,{"$f":"G29*$D29/$E29/1000","v":381.1764705882353},381.1764705882353,381.1764705882353]
[null,null,"EL2",{"$f":"'Efficiency Levels'!$E$11","v":8000},{"$f":"'Efficiency Levels'!E16","v":10.7},null,{"$f":"'Lifetime and Usage Data'!D$15","v":486},{"$f":"'Lifetime and Usage Data'!E$15","v":486},{"$f":"'Lifetime and Usage Data'!F$15","v":486},null,363.36448598130846,363.36448598130846,363.36448598130846]
[null,null,"EL3",{"$f":"'Efficiency Levels'!$E$11","v":8000},{"$f":"'Efficiency Levels'!E17","v":10.9},null,{"$f":"'Lifetime and Usage Data'!D$15","v":486},{"$f":"'Lifetime and Usage Data'!E$15","v":486},{"$f":"'Lifetime and Usage Data'!F$15","v":486},null,356.69724770642199,356.69724770642199,356.69724770642199]
[null,null,"EL4",{"$f":"'Efficiency Levels'!$E$11","v":8000},{"$f":"'Efficiency Levels'!E18","v":11.5},null,{"$f":"'Lifetime and Usage Data'!D$15","v":486},{"$f":"'Lifetime and Usage Data'!E$15","v":486},{"$f":"'Lifetime and Usage Data'!F$15","v":486},null,338.08695652173913,338.08695652173913,338.08695652173913]
[null,null,"EL5",{"$f":"'Efficiency Levels'!$E$11","v":8000},{"$f":"'Efficiency Levels'!E19","v":11.961997496471479},null,{"$f":"'Lifetime and Usage Data'!D$15","v":486},{"$f":"'Lifetime and Usage Data'!E$15","v":486},{"$f":"'Lifetime and Usage Data'!F$15","v":486},null,325.02932734661351,325.02932734661351,325.02932734661351]
[]
[]
[]
[null,null,"PC3",{"$f":"MID(OFFSET('Product Classes'!$E$9,MATCH(C37,'Product Classes'!$I$10:$I$27,0),0),6,100)","v":" Without reverse cycle, with louvered sides, and 20,000 to 24,999 Btu/h"}]
[]
[null,null,null,null,null,null,"Usage",null,null,null,"Unit Energy Consumption (UEC)"]
[null,null,"Efficiency Level","Representative Capacity","Integrated Energy Efficiency Rating",null,"Single Family","Multi-Family","Manufactured Homes",null,"Single Family","Multi-Family","Manufactured Homes"]
[null,null,null,"BTU/hr","CEER",null,"hours/year","hours/year","hours/year",null,"kWh / year","kWh / year","kWh / year"]
[null,null,"EL0",{"$f":"'Efficiency Levels'!$F$11","v":20000},{"$f":"'Efficiency Levels'!F14","v":8.4713534124895506},null,{"$f":"'Lifetime and Usage Data'!D$15","v":486},{"$f":"'Lifetime and Usage Data'!E$15","v":486},{"$f":"'Lifetime and Usage Data'!F$15","v":486},null,{"$f":"G42*$D42/$E42/1000","v":1147.3963517647057},{"$f":"H42*$D42/$E42/1000","v":1147.3963517647057},{"$f":"I42*$D42/$E42/1000","v":1147.3963517647057}]
[null,null,"EL1",{"$f":"'Efficiency Levels'!$F$11","v":20000},{"$f":"'Efficiency Levels'!F15","v":9},null,{"$f":"'Lifetime and Usage Data'!D$15","v":486},{"$f":"'Lifetime and Usage Data'!E$15","v":486},{"$f":"'Lifetime and Usage Data'!F$15","v":486},null,1080,1080,1080]
[null,null,"EL2",{"$f":"'Efficiency Levels'!$F$11","v":20000},{"$f":"'Efficiency Levels'!F16","v":9.4},null,{"$f":"'Lifetime and Usage Data'!D$15","v":486},{"$f":"'Lifetime and Usage Data'!E$15","v":486},{"$f":"'Lifetime and Usage Data'!F$15","v":486},null,1034.0425531914893,1034.0425531914893,1034.0425531914893]
[null,null,"EL3",{"$f":"'Efficiency Levels'!$F$11","v":20000},{"$f":"'Efficiency Levels'!F17","v":9.8000000000000007},null,{"$f":"'Lifetime and Usage Data'!D$15","v":486},{"$f":"'Lifetime and Usage Data'!E$15","v":486},{"$f":"'Lifetime and Usage Data'!F$15","v":486},null,991.83673469387747,991.83673469387747,991.83673469387747]
[null,null,"EL4",{"$f":"'Efficiency Levels'!$F$11","v":20000},{"$f":"'Efficiency Levels'!F18","v":10.154447630701553},null,{"$f":"'Lifetime and Usage Data'!D$15","v":486},{"$f":"'Lifetime and Usage Data'!E$15","v":486},{"$f":"'Lifetime and Usage Data'!F$15","v":486},null,957.21602528255517,957.21602528255517,957.21602528255517]
[]
[]
[]
[null,null,"PC4",{"$f":"MID(OFFSET('Product Classes'!$E$9,MATCH(C50,'Product Classes'!$I$10:$I$27,0),0),6,100)","v":" Without reverse cycle, with louvered sides, and 25,000 Btu/h or more"}]
[]
[null,null,null,null,null,null,"Usage",null,null,null,"Unit Energy Consumption (UEC)"]
[null,null,"Efficiency Level","Representative Capacity","Integrated Energy Efficiency Rating",null,"Single Family","Multi-Family","Manufactured Homes",null,"Single Family","Multi-Family","Manufactured Homes"]
[null,null,null,"BTU/hr","CEER",null,"hours/year","hours/year","hours/year",null,"kWh / year","kWh / year","kWh / year"]
[null,null,"EL0",{"$f":"'Efficiency Levels'!$G$11","v":25000},{"$f":"'Efficiency Levels'!G14","v":8.4754339546823534},null,{"$f":"'Lifetime and Usage Data'!D$15","v":486},{"$f":"'Lifetime and Usage Data'!E$15","v":486},{"$f":"'Lifetime and Usage Data'!F$15","v":486},null,{"$f":"G55*$D55/$E55/1000","v":1433.5549147058823},{"$f":"H55*$D55/$E55/1000","v":1433.5549147058823},{"$f":"I55*$D55/$E55/1000","v":1433.5549147058823}]
[null,null,"EL1",{"$f":"'Efficiency Levels'!$G$11","v":25000},{"$f":"'Efficiency Levels'!G15","v":9},null,{"$f":"'Lifetime and Usage Data'!D$15","v":486},{"$f":"'Lifetime and Usage Data'!E$15","v":486},{"$f":"'Lifetime and Usage Data'!F$15","v":486},null,1350,1350,1350]
[null,null,"EL2",{"$f":"'Efficiency Levels'!$G$11","v":25000},{"$f":"'Efficiency Levels'!G16","v":9.4},null,{"$f":"'Lifetime and Usage Data'!D$15","v":486},{"$f":"'Lifetime and Usage Data'!E$15","v":486},{"$f":"'Lifetime and Usage Data'!F$15","v":486},null,1292.5531914893618,1292.5531914893618,1292.5531914893618]
[null,null,"EL3",{"$f":"'Efficiency Levels'!$G$11","v":25000},{"$f":"'Efficiency Levels'!G17","v":9.8000000000000007},null,{"$f":"'Lifetime and Usage Data'!D$15","v":486},{"$f":"'Lifetime and Usage Data'!E$15","v":486},{"$f":"'Lifetime and Usage Data'!F$15","v":486},null,1239.7959183673468,1239.7959183673468,1239.7959183673468]
[]
[]
[]
[null,null,"PC5",{"$f":"MID(OFFSET('Product Classes'!$E$9,MATCH(C62,'Product Classes'!$I$10:$I$27,0),0),6,100)","v":" Without reverse cycle, without louvered sides, and 8,000 to 10,999 Btu/h"}]
[]
[null,null,null,null,null,null,"Usage",null,null,null,"Unit Energy Consumption (UEC)"]
[null,null,"Efficiency Level","Representative Capacity","Integrated Energy Efficiency Rating",null,"Single Family","Multi-Family","Manufactured Homes",null,"Single Family","Multi-Family","Manufactured Homes"]
[null,null,null,"BTU/hr","CEER",null,"hours/year","hours/year","hours/year",null,"kWh / year","kWh / year","kWh / year"]
[null,null,"EL0",{"$f":"'Efficiency Levels'!$H$11","v":8000},{"$f":"'Efficiency Levels'!H14","v":8.4146356252408392},null,{"$f":"'Lifetime and Usage Data'!D$15","v":486},{"$f":"'Lifetime and Usage Data'!E$15","v":486},{"$f":"'Lifetime and Usage Data'!F$15","v":486},null,{"$f":"G67*$D67/$E67/1000","v":462.05209270588227},{"$f":"H67*$D67/$E67/1000","v":462.05209270588227},{"$f":"I67*$D67/$E67/1000","v":462.05209270588227}]
[null,null,"EL1",{"$f":"'Efficiency Levels'!$H$11","v":8000},{"$f":"'Efficiency Levels'!H15","v":9.3000000000000007},null,{"$f":"'Lifetime and Usage Data'!D$15","v":486},{"$f":"'Lifetime and Usage Data'!E$15","v":486},{"$f":"'Lifetime and Usage Data'!F$15","v":486},null,418.06451612903226,418.06451612903226,418.06451612903226]
[null,null,"EL2",{"$f":"'Efficiency Levels'!$H$11","v":8000},{"$f":"'Efficiency Levels'!H16","v":9.6},null,{"$f":"'Lifetime and Usage Data'!D$15","v":486},{"$f":"'Lifetime and Usage Data'!E$15","v":486},{"$f":"'Lifetime and Usage Data'!F$15","v":486},null,405,405,405]
[null,null,"EL3",{"$f":"'Efficiency Levels'!$H$11","v":8000},{"$f":"'Efficiency Levels'!H17","v":10},null,{"$f":"'Lifetime and Usage Data'!D$15","v":486},{"$f":"'Lifetime and Usage Data'!E$15","v":486},{"$f":"'Lifetime and Usage Data'!F$15","v":486},null,388.8,388.8,388.8]
[null,null,"EL4",{"$f":"'Efficiency Levels'!$H$11","v":8000},{"$f":"'Efficiency Levels'!H18","v":10.354619755605318},null,{"$f":"'Lifetime and Usage Data'!D$15","v":486},{"$f":"'Lifetime and Usage Data'!E$15","v":486},{"$f":"'Lifetime and Usage Data'!F$15","v":486},null,375.48457517189746,375.48457517189746,375.48457517189746]
[]
[]
[]
[null,null,"PC6",{"$f":"MID(OFFSET('Product Classes'!$E$9,MATCH(C75,'Product Classes'!$I$10:$I$27,0),0),6,100)","v":" Without reverse cycle, without louvered sides, and 11,000 to 13,999 Btu/h"}]
[]
[null,null,null,null,null,null,"Usage",null,null,null,"Unit Energy Consumption (UEC)"]
[null,null,"Efficiency Level","Representative Capacity","Integrated Energy Efficiency Rating",null,"Single Family","Multi-Family","Manufactured Homes",null,"Single Family","Multi-Family","Manufactured Homes"]
[null,null,null,"BTU/hr","CEER",null,"hours/year","hours/year","hours/year",null,"kWh / year","kWh / year","kWh / year"]
[null,null,"EL0",{"$f":"'Efficiency Levels'!$I$11","v":11000},{"$f":"'Efficiency Levels'!I14","v":8.4428992651201167},null,{"$f":"'Lifetime and Usage Data'!D$15","v":486},{"$f":"'Lifetime and Usage Data'!E$15","v":486},{"$f":"'Lifetime and Usage Data'!F$15","v":486},null,{"$f":"G80*$D80/$E80/1000","v":633.19481047058821},{"$f":"H80*$D80/$E80/1000","v":633.19481047058821},{"$f":"I80*$D80/$E80/1000","v":633.19481047058821}]
[null,null,"EL1",{"$f":"'Efficiency Levels'!$I$11","v":11000},{"$f":"'Efficiency Levels'!I15","v":9.3000000000000007},null,{"$f":"'Lifetime and Usage Data'!D$15","v":486},{"$f":"'Lifetime and Usage Data'!E$15","v":486},{"$f":"'Lifetime and Usage Data'!F$15","v":486},null,574.83870967741927,574.83870967741927,574.83870967741927]
[null,null,"EL2",{"$f":"'Efficiency Levels'!$I$11","v":11000},{"$f":"'Efficiency Levels'!I16","v":9.5},null,{"$f":"'Lifetime and Usage Data'!D$15","v":486},{"$f":"'Lifetime and Usage Data'!E$15","v":486},{"$f":"'Lifetime and Usage Data'!F$15","v":486},null,562.73684210526312,562.73684210526312,562.73684210526312]
[null,null,"EL3",{"$f":"'Efficiency Levels'!$I$11","v":11000},{"$f":"'Efficiency Levels'!I17","v":9.8000000000000007},null,{"$f":"'Lifetime and Usage Data'!D$15","v":486},{"$f":"'Lifetime and Usage Data'!E$15","v":486},{"$f":"'Lifetime and Usage Data'!F$15","v":486},null,545.51020408163265,545.51020408163265,545.51020408163265]
[null,null,"EL4",{"$f":"'Efficiency Levels'!$I$11","v":11000},{"$f":"'Efficiency Levels'!I18","v":10.020890372503978},null,{"$f":"'Lifetime and Usage Data'!D$15","v":486},{"$f":"'Lifetime and Usage Data'!E$15","v":486},{"$f":"'Lifetime and Usage Data'!F$15","v":486},null,533.48552885766821,533.48552885766821,533.48552885766821]

{"sheet":"UEC-SF","index":18,"n_rows":17,"n_cols":57,"rows_kept":17,"cut":false,"hidden":false,"merged":[]}
[]
[null,null,"Weighted Annual UEC - Single Family"]
[]
[null,null,"NAVIGATION"]
[]
[null,null,"COMMENTS"]
[]
[]
[null,null,"Market UEC (Shipment Weighted Average)"]
[null,null,null,1981,1982,1983,1984,1985,1986,1987,1988,1989,1990,1991,1992,1993,1994,1995,1996,1997,1998,1999,2000,2001,2002,2003,2004,2005,2006,2007,2008,2009,2010,2011,2012,2013,2014,2015,2016,2017,2018,2019,2020,2021,2022,2023,2024,2025,2026,2027,2028,2029,2030,2031,2032,2033,2034]
[null,null,"PRE-Case UEC",{"$f":"'Product Class Dist'!D10*SUMPRODUCT('UEC Development'!$K$14:$K$19,'Efficiency Dist - SF'!G13:G18)\n+'Product Class Dist'!D11*SUMPRODUCT('UEC Development'!$K$28:$K$33,'Efficiency Dist - SF'!G39:G44)\n+'Product Class Dist'!D12*SUMPRODUCT('UEC Development'!$K$42:$K$46,'Efficiency Dist - SF'!G65:G69)\n+'Product Class Dist'!D13*SUMPRODUCT('UEC Development'!$K$55:$K$58,'Efficiency Dist - SF'!G89:G92)\n+'Product Class Dist'!D14*SUMPRODUCT('UEC Development'!$K$67:$K$71,'Efficiency Dist - SF'!G111:G115)\n+'Product Class Dist'!D15*SUMPRODUCT('UEC Development'!$K$80:$K$84,'Efficiency Dist - SF'!G135:G139)","v":389.10433686446271},{"$f":"'Product Class Dist'!E10*SUMPRODUCT('UEC Development'!$K$14:$K$19,'Efficiency Dist - SF'!H13:H18)\n+'Product Class Dist'!E11*SUMPRODUCT('UEC Development'!$K$28:$K$33,'Efficiency Dist - SF'!H39:H44)\n+'Product Class Dist'!E12*SUMPRODUCT('UEC Development'!$K$42:$K$46,'Efficiency Dist - SF'!H65:H69)\n+'Product Class Dist'!E13*SUMPRODUCT('UEC Development'!$K$55:$K$58,'Efficiency Dist - SF'!H89:H92)\n+'Product Class Dist'!E14*SUMPRODUCT('UEC Development'!$K$67:$K$71,'Efficiency Dist - SF'!H111:H115)\n+'Product Class Dist'!E15*SUMPRODUCT('UEC Development'!$K$80:$K$84,'Efficiency Dist - SF'!H135:H139)","v":389.10433686446271},{"$f":"'Product Class Dist'!F10*SUMPRODUCT('UEC Development'!$K$14:$K$19,'Efficiency Dist - SF'!I13:I18)\n+'Product Class Dist'!F11*SUMPRODUCT('UEC Development'!$K$28:$K$33,'Efficiency Dist - SF'!I39:I44)\n+'Product Class Dist'!F12*SUMPRODUCT('UEC Development'!$K$42:$K$46,'Efficiency Dist - SF'!I65:I69)\n+'Product Class Dist'!F13*SUMPRODUCT('UEC Development'!$K$55:$K$58,'Efficiency Dist - SF'!I89:I92)\n+'Product Class Dist'!F14*SUMPRODUCT('UEC Development'!$K$67:$K$71,'Efficiency Dist - SF'!I111:I115)\n+'Product Class Dist'!F15*SUMPRODUCT('UEC Development'!$K$80:$K$84,'Efficiency Dist - SF'!I135:I139)","v":389.10433686446271},{"$f":"'Product Class Dist'!G10*SUMPRODUCT('UEC Development'!$K$14:$K$19,'Efficiency Dist - SF'!J13:J18)\n+'Product Class Dist'!G11*SUMPRODUCT('UEC Development'!$K$28:$K$33,'Efficiency Dist - SF'!J39:J44)\n+'Product Class Dist'!G12*SUMPRODUCT('UEC Development'!$K$42:$K$46,'Efficiency Dist - SF'!J65:J69)\n+'Product Class Dist'!G13*SUMPRODUCT('UEC Development'!$K$55:$K$58,'Efficiency Dist - SF'!J89:J92)\n+'Product Class Dist'!G14*SUMPRODUCT('UEC Development'!$K$67:$K$71,'Efficiency Dist - SF'!J111:J115)\n+'Product Class Dist'!G15*SUMPRODUCT('UEC Development'!$K$80:$K$84,'Efficiency Dist - SF'!J135:J139)","v":389.10433686446271},{"$f":"'Product Class Dist'!H10*SUMPRODUCT('UEC Development'!$K$14:$K$19,'Efficiency Dist - SF'!K13:K18)\n+'Product Class Dist'!H11*SUMPRODUCT('UEC Development'!$K$28:$K$33,'Efficiency Dist - SF'!K39:K44)\n+'Product Class Dist'!H12*SUMPRODUCT('UEC Development'!$K$42:$K$46,'Efficiency Dist - SF'!K65:K69)\n+'Product Class Dist'!H13*SUMPRODUCT('UEC Development'!$K$55:$K$58,'Efficiency Dist - SF'!K89:K92)\n+'Product Class Dist'!H14*SUMPRODUCT('UEC Development'!$K$67:$K$71,'Efficiency Dist - SF'!K111:K115)\n+'Product Class Dist'!H15*SUMPRODUCT('UEC Development'!$K$80:$K$84,'Efficiency Dist - SF'!K135:K139)","v":389.10433686446271},{"$f":"'Product Class Dist'!I10*SUMPRODUCT('UEC Development'!$K$14:$K$19,'Efficiency Dist - SF'!L13:L18)\n+'Product Class Dist'!I11*SUMPRODUCT('UEC Development'!$K$28:$K$33,'Efficiency Dist - SF'!L39:L44)\n+'Product Class Dist'!I12*SUMPRODUCT('UEC Development'!$K$42:$K$46,'Efficiency Dist - SF'!L65:L69)\n+'Product Class Dist'!I13*SUMPRODUCT('UEC Development'!$K$55:$K$58,'Efficiency Dist - SF'!L89:L92)\n+'Product Class Dist'!I14*SUMPRODUCT('UEC Development'!$K$67:$K$71,'Efficiency Dist - SF'!L111:L115)\n+'Product Class Dist'!I15*SUMPRODUCT('UEC Development'!$K$80:$K$84,'Efficiency Dist - SF'!L135:L139)","v":389.10433686446271},{"$f":"'Product Class Dist'!J10*SUMPRODUCT('UEC Development'!$K$14:$K$19,'Efficiency Dist - SF'!M13:M18)\n+'Product Class Dist'!J11*SUMPRODUCT('UEC Development'!$K$28:$K$33,'Efficiency Dist - SF'!M39:M44)\n+'Product Class Dist'!J12*SUMPRODUCT('UEC Development'!$K$42:$K$46,'Efficiency Dist - SF'!M65:M69)\n+'Product Class Dist'!J13*SUMPRODUCT('UEC Development'!$K$55:$K$58,'Efficiency Dist - SF'!M89:M92)\n+'Product Class Dist'!J14*SUMPRODUCT('UEC Development'!$K$67:$K$71,'Efficiency Dist - SF'!M111:M115)\n+'Product Class Dist'!J15*SUMPRODUCT('UEC Development'!$K$80:$K$84,'Efficiency Dist - SF'!M135:M139)","v":389.10433686446271},{"$f":"'Product Class Dist'!K10*SUMPRODUCT('UEC Development'!$K$14:$K$19,'Efficiency Dist - SF'!N13:N18)\n+'Product Class Dist'!K11*SUMPRODUCT('UEC Development'!$K$28:$K$33,'Efficiency Dist - SF'!N39:N44)\n+'Product Class Dist'!K12*SUMPRODUCT('UEC Development'!$K$42:$K$46,'Efficiency Dist - SF'!N65:N69)\n+'Product Class Dist'!K13*SUMPRODUCT('UEC Development'!$K$55:$K$58,'Efficiency Dist - SF'!N89:N92)\n+'Product Class Dist'!K14*SUMPRODUCT('UEC Development'!$K$67:$K$71,'Efficiency Dist - SF'!N111:N115)\n+'Product Class Dist'!K15*SUMPRODUCT('UEC Development'!$K$80:$K$84,'Efficiency Dist - SF'!N135:N139)","v":389.10433686446271},{"$f":"'Product Class Dist'!L10*SUMPRODUCT('UEC Development'!$K$14:$K$19,'Efficiency Dist - SF'!O13:O18)\n+'Product Class Dist'!L11*SUMPRODUCT('UEC Development'!$K$28:$K$33,'Efficiency Dist - SF'!O39:O44)\n+'Product Class Dist'!L12*SUMPRODUCT('UEC Development'!$K$42:$K$46,'Efficiency Dist - SF'!O65:O69)\n+'Product Class Dist'!L13*SUMPRODUCT('UEC Development'!$K$55:$K$58,'Efficiency Dist - SF'!O89:O92)\n+'Product Class Dist'!L14*SUMPRODUCT('UEC Development'!$K$67:$K$71,'Efficiency Dist - SF'!O111:O115)\n+'Product Class Dist'!L15*SUMPRODUCT('UEC Development'!$K$80:$K$84,'Efficiency Dist - SF'!O135:O139)","v":389.10433686446271},{"$f":"'Product Class Dist'!M10*SUMPRODUCT('UEC Development'!$K$14:$K$19,'Efficiency Dist - SF'!P13:P18)\n+'Product Class Dist'!M11*SUMPRODUCT('UEC Development'!$K$28:$K$33,'Efficiency Dist - SF'!P39:P44)\n+'Product Class Dist'!M12*SUMPRODUCT('UEC Development'!$K$42:$K$46,'Efficiency Dist - SF'!P65:P69)\n+'Product Class Dist'!M13*SUMPRODUCT('UEC Development'!$K$55:$K$58,'Efficiency Dist - SF'!P89:P92)\n+'Product Class Dist'!M14*SUMPRODUCT('UEC Development'!$K$67:$K$71,'Efficiency Dist - SF'!P111:P115)\n+'Product Class Dist'!M15*SUMPRODUCT('UEC Development'!$K$80:$K$84,'Efficiency Dist - SF'!P135:P139)","v":389.10433686446271},{"$f":"'Product Class Dist'!N10*SUMPRODUCT('UEC Development'!$K$14:$K$19,'Efficiency Dist - SF'!Q13:Q18)\n+'Product Class Dist'!N11*SUMPRODUCT('UEC Development'!$K$28:$K$33,'Efficiency Dist - SF'!Q39:Q44)\n+'Product Class Dist'!N12*SUMPRODUCT('UEC Development'!$K$42:$K$46,'Efficiency Dist - SF'!Q65:Q69)\n+'Product Class Dist'!N13*SUMPRODUCT('UEC Development'!$K$55:$K$58,'Efficiency Dist - SF'!Q89:Q92)\n+'Product Class Dist'!N14*SUMPRODUCT('UEC Development'!$K$67:$K$71,'Efficiency Dist - SF'!Q111:Q115)\n+'Product Class Dist'!N15*SUMPRODUCT('UEC Development'!$K$80:$K$84,'Efficiency Dist - SF'!Q135:Q139)","v":389.10433686446271},{"$f":"'Product Class Dist'!O10*SUMPRODUCT('UEC Development'!$K$14:$K$19,'Efficiency Dist - SF'!R13:R18)\n+'Product Class Dist'!O11*SUMPRODUCT('UEC Development'!$K$28:$K$33,'Efficiency Dist - SF'!R39:R44)\n+'Product Class Dist'!O12*SUMPRODUCT('UEC Development'!$K$42:$K$46,'Efficiency Dist - SF'!R65:R69)\n+'Product Class Dist'!O13*SUMPRODUCT('UEC Development'!$K$55:$K$58,'Efficiency Dist - SF'!R89:R92)\n+'Product Class Dist'!O14*SUMPRODUCT('UEC Development'!$K$67:$K$71,'Efficiency Dist - SF'!R111:R115)\n+'Product Class Dist'!O15*SUMPRODUCT('UEC Development'!$K$80:$K$84,'Efficiency Dist - SF'!R135:R139)","v":389.10433686446271},{"$f":"'Product Class Dist'!P10*SUMPRODUCT('UEC Development'!$K$14:$K$19,'Efficiency Dist - SF'!S13:S18)\n+'Product Class Dist'!P11*SUMPRODUCT('UEC Development'!$K$28:$K$33,'Efficiency Dist - SF'!S39:S44)\n+'Product Class Dist'!P12*SUMPRODUCT('UEC Development'!$K$42:$K$46,'Efficiency Dist - SF'!S65:S69)\n+'Product Class Dist'!P13*SUMPRODUCT('UEC Development'!$K$55:$K$58,'Efficiency Dist - SF'!S89:S92)\n+'Product Class Dist'!P14*SUMPRODUCT('UEC Development'!$K$67:$K$71,'Efficiency Dist - SF'!S111:S115)\n+'Product Class Dist'!P15*SUMPRODUCT('UEC Development'!$K$80:$K$84,'Efficiency Dist - SF'!S135:S139)","v":389.10433686446271},{"$f":"'Product Class Dist'!Q10*SUMPRODUCT('UEC Development'!$K$14:$K$19,'Efficiency Dist - SF'!T13:T18)\n+'Product Class Dist'!Q11*SUMPRODUCT('UEC Development'!$K$28:$K$33,'Efficiency Dist - SF'!T39:T44)\n+'Product Class Dist'!Q12*SUMPRODUCT('UEC Development'!$K$42:$K$46,'Efficiency Dist - SF'!T65:T69)\n+'Product Class Dist'!Q13*SUMPRODUCT('UEC Development'!$K$55:$K$58,'Efficiency Dist - SF'!T89:T92)\n+'Product Class Dist'!Q14*SUMPRODUCT('UEC Development'!$K$67:$K$71,'Efficiency Dist - SF'!T111:T115)\n+'Product Class Dist'!Q15*SUMPRODUCT('UEC Development'!$K$80:$K$84,'Efficiency Dist - SF'!T135:T139)","v":389.10433686446271},{"$f":"'Product Class Dist'!R10*SUMPRODUCT('UEC Development'!$K$14:$K$19,'Efficiency Dist - SF'!U13:U18)\n+'Product Class Dist'!R11*SUMPRODUCT('UEC Development'!$K$28:$K$33,'Efficiency Dist - SF'!U39:U44)\n+'Product Class Dist'!R12*SUMPRODUCT('UEC Development'!$K$42:$K$46,'Efficiency Dist - SF'!U65:U69)\n+'Product Class Dist'!R13*SUMPRODUCT('UEC Development'!$K$55:$K$58,'Efficiency Dist - SF'!U89:U92)\n+'Product Class Dist'!R14*SUMPRODUCT('UEC Development'!$K$67:$K$71,'Efficiency Dist - SF'!U111:U115)\n+'Product Class Dist'!R15*SUMPRODUCT('UEC Development'!$K$80:$K$84,'Efficiency Dist - SF'!U135:U139)","v":389.10433686446271},{"$f":"'Product Class Dist'!S10*SUMPRODUCT('UEC Development'!$K$14:$K$19,'Efficiency Dist - SF'!V13:V18)\n+'Product Class Dist'!S11*SUMPRODUCT('UEC Development'!$K$28:$K$33,'Efficiency Dist - SF'!V39:V44)\n+'Product Class Dist'!S12*SUMPRODUCT('UEC Development'!$K$42:$K$46,'Efficiency Dist - SF'!V65:V69)\n+'Product Class Dist'!S13*SUMPRODUCT('UEC Development'!$K$55:$K$58,'Efficiency Dist - SF'!V89:V92)\n+'Product Class Dist'!S14*SUMPRODUCT('UEC Development'!$K$67:$K$71,'Efficiency Dist - SF'!V111:V115)\n+'Product Class Dist'!S15*SUMPRODUCT('UEC Development'!$K$80:$K$84,'Efficiency Dist - SF'!V135:V139)","v":389.10433686446271},{"$f":"'Product Class Dist'!T10*SUMPRODUCT('UEC Development'!$K$14:$K$19,'Efficiency Dist - SF'!W13:W18)\n+'Product Class Dist'!T11*SUMPRODUCT('UEC Development'!$K$28:$K$33,'Efficiency Dist - SF'!W39:W44)\n+'Product Class Dist'!T12*SUMPRODUCT('UEC Development'!$K$42:$K$46,'Efficiency Dist - SF'!W65:W69)\n+'Product Class Dist'!T13*SUMPRODUCT('UEC Development'!$K$55:$K$58,'Efficiency Dist - SF'!W89:W92)\n+'Product Class Dist'!T14*SUMPRODUCT('UEC Development'!$K$67:$K$71,'Efficiency Dist - SF'!W111:W115)\n+'Product Class Dist'!T15*SUMPRODUCT('UEC Development'!$K$80:$K$84,'Efficiency Dist - SF'!W135:W139)","v":389.10433686446271},{"$f":"'Product Class Dist'!U10*SUMPRODUCT('UEC Development'!$K$14:$K$19,'Efficiency Dist - SF'!X13:X18)\n+'Product Class Dist'!U11*SUMPRODUCT('UEC Development'!$K$28:$K$33,'Efficiency Dist - SF'!X39:X44)\n+'Product Class Dist'!U12*SUMPRODUCT('UEC Development'!$K$42:$K$46,'Efficiency Dist - SF'!X65:X69)\n+'Product Class Dist'!U13*SUMPRODUCT('UEC Development'!$K$55:$K$58,'Efficiency Dist - SF'!X89:X92)\n+'Product Class Dist'!U14*SUMPRODUCT('UEC Development'!$K$67:$K$71,'Efficiency Dist - SF'!X111:X115)\n+'Product Class Dist'!U15*SUMPRODUCT('UEC Development'!$K$80:$K$84,'Efficiency Dist - SF'!X135:X139)","v":389.10433686446271},{"$f":"'Product Class Dist'!V10*SUMPRODUCT('UEC Development'!$K$14:$K$19,'Efficiency Dist - SF'!Y13:Y18)\n+'Product Class Dist'!V11*SUMPRODUCT('UEC Development'!$K$28:$K$33,'Efficiency Dist - SF'!Y39:Y44)\n+'Product Class Dist'!V12*SUMPRODUCT('UEC Development'!$K$42:$K$46,'Efficiency Dist - SF'!Y65:Y69)\n+'Product Class Dist'!V13*SUMPRODUCT('UEC Development'!$K$55:$K$58,'Efficiency Dist - SF'!Y89:Y92)\n+'Product Class Dist'!V14*SUMPRODUCT('UEC Development'!$K$67:$K$71,'Efficiency Dist - SF'!Y111:Y115)\n+'Product Class Dist'!V15*SUMPRODUCT('UEC Development'!$K$80:$K$84,'Efficiency Dist - SF'!Y135:Y139)","v":389.10433686446271},{"$f":"'Product Class Dist'!W10*SUMPRODUCT('UEC Development'!$K$14:$K$19,'Efficiency Dist - SF'!Z13:Z18)\n+'Product Class Dist'!W11*SUMPRODUCT('UEC Development'!$K$28:$K$33,'Efficiency Dist - SF'!Z39:Z44)\n+'Product Class Dist'!W12*SUMPRODUCT('UEC Development'!$K$42:$K$46,'Efficiency Dist - SF'!Z65:Z69)\n+'Product Class Dist'!W13*SUMPRODUCT('UEC Development'!$K$55:$K$58,'Efficiency Dist - SF'!Z89:Z92)\n+'Product Class Dist'!W14*SUMPRODUCT('UEC Development'!$K$67:$K$71,'Efficiency Dist - SF'!Z111:Z115)\n+'Product Class Dist'!W15*SUMPRODUCT('UEC Development'!$K$80:$K$84,'Efficiency Dist - SF'!Z135:Z139)","v":389.10433686446271},{"$f":"'Product Class Dist'!X10*SUMPRODUCT('UEC Development'!$K$14:$K$19,'Efficiency Dist - SF'!AA13:AA18)\n+'Product Class Dist'!X11*SUMPRODUCT('UEC Development'!$K$28:$K$33,'Efficiency Dist - SF'!AA39:AA44)\n+'Product Class Dist'!X12*SUMPRODUCT('UEC Development'!$K$42:$K$46,'Efficiency Dist - SF'!AA65:AA69)\n+'Product Class Dist'!X13*SUMPRODUCT('UEC Development'!$K$55:$K$58,'Efficiency Dist - SF'!AA89:AA92)\n+'Product Class Dist'!X14*SUMPRODUCT('UEC Development'!$K$67:$K$71,'Efficiency Dist - SF'!AA111:AA115)\n+'Product Class Dist'!X15*SUMPRODUCT('UEC Development'!$K$80:$K$84,'Efficiency Dist - SF'!AA135:AA139)","v":389.10433686446271},{"$f":"'Product Class Dist'!Y10*SUMPRODUCT('UEC Development'!$K$14:$K$19,'Efficiency Dist - SF'!AB13:AB18)\n+'Product Class Dist'!Y11*SUMPRODUCT('UEC Development'!$K$28:$K$33,'Efficiency Dist - SF'!AB39:AB44)\n+'Product Class Dist'!Y12*SUMPRODUCT('UEC Development'!$K$42:$K$46,'Efficiency Dist - SF'!AB65:AB69)\n+'Product Class Dist'!Y13*SUMPRODUCT('UEC Development'!$K$55:$K$58,'Efficiency Dist - SF'!AB89:AB92)\n+'Product Class Dist'!Y14*SUMPRODUCT('UEC Development'!$K$67:$K$71,'Efficiency Dist - SF'!AB111:AB115)\n+'Product Class Dist'!Y15*SUMPRODUCT('UEC Development'!$K$80:$K$84,'Efficiency Dist - SF'!AB135:AB139)","v":389.10433686446271},{"$f":"'Product Class Dist'!Z10*SUMPRODUCT('UEC Development'!$K$14:$K$19,'Efficiency Dist - SF'!AC13:AC18)\n+'Product Class Dist'!Z11*SUMPRODUCT('UEC Development'!$K$28:$K$33,'Efficiency Dist - SF'!AC39:AC44)\n+'Product Class Dist'!Z12*SUMPRODUCT('UEC Development'!$K$42:$K$46,'Efficiency Dist - SF'!AC65:AC69)\n+'Product Class Dist'!Z13*SUMPRODUCT('UEC Development'!$K$55:$K$58,'Efficiency Dist - SF'!AC89:AC92)\n+'Product Class Dist'!Z14*SUMPRODUCT('UEC Development'!$K$67:$K$71,'Efficiency Dist - SF'!AC111:AC115)\n+'Product Class Dist'!Z15*SUMPRODUCT('UEC Development'!$K$80:$K$84,'Efficiency Dist - SF'!AC135:AC139)","v":389.10433686446271},{"$f":"'Product Class Dist'!AA10*SUMPRODUCT('UEC Development'!$K$14:$K$19,'Efficiency Dist - SF'!AD13:AD18)\n+'Product Class Dist'!AA11*SUMPRODUCT('UEC Development'!$K$28:$K$33,'Efficiency Dist - SF'!AD39:AD44)\n+'Product Class Dist'!AA12*SUMPRODUCT('UEC Development'!$K$42:$K$46,'Efficiency Dist - SF'!AD65:AD69)\n+'Product Class Dist'!AA13*SUMPRODUCT('UEC Development'!$K$55:$K$58,'Efficiency Dist - SF'!AD89:AD92)\n+'Product Class Dist'!AA14*SUMPRODUCT('UEC Development'!$K$67:$K$71,'Efficiency Dist - SF'!AD111:AD115)\n+'Product Class Dist'!AA15*SUMPRODUCT('UEC Development'!$K$80:$K$84,'Efficiency Dist - SF'!AD135:AD139)","v":389.10433686446271},{"$f":"'Product Class Dist'!AB10*SUMPRODUCT('UEC Development'!$K$14:$K$19,'Efficiency Dist - SF'!AE13:AE18)\n+'Product Class Dist'!AB11*SUMPRODUCT('UEC Development'!$K$28:$K$33,'Efficiency Dist - SF'!AE39:AE44)\n+'Product Class Dist'!AB12*SUMPRODUCT('UEC Development'!$K$42:$K$46,'Efficiency Dist - SF'!AE65:AE69)\n+'Product Class Dist'!AB13*SUMPRODUCT('UEC Development'!$K$55:$K$58,'Efficiency Dist - SF'!AE89:AE92)\n+'Product Class Dist'!AB14*SUMPRODUCT('UEC Development'!$K$67:$K$71,'Efficiency Dist - SF'!AE111:AE115)\n+'Product Class Dist'!AB15*SUMPRODUCT('UEC Development'!$K$80:$K$84,'Efficiency Dist - SF'!AE135:AE139)","v":389.10433686446271},{"$f":"'Product Class Dist'!AC10*SUMPRODUCT('UEC Development'!$K$14:$K$19,'Efficiency Dist - SF'!AF13:AF18)\n+'Product Class Dist'!AC11*SUMPRODUCT('UEC Development'!$K$28:$K$33,'Efficiency Dist - SF'!AF39:AF44)\n+'Product Class Dist'!AC12*SUMPRODUCT('UEC Development'!$K$42:$K$46,'Efficiency Dist - SF'!AF65:AF69)\n+'Product Class Dist'!AC13*SUMPRODUCT('UEC Development'!$K$55:$K$58,'Efficiency Dist - SF'!AF89:AF92)\n+'Product Class Dist'!AC14*SUMPRODUCT('UEC Development'!$K$67:$K$71,'Efficiency Dist - SF'!AF111:AF115)\n+'Product Class Dist'!AC15*SUMPRODUCT('UEC Development'!$K$80:$K$84,'Efficiency Dist - SF'!AF135:AF139)","v":389.10433686446271},{"$f":"'Product Class Dist'!AD10*SUMPRODUCT('UEC Development'!$K$14:$K$19,'Efficiency Dist - SF'!AG13:AG18)\n+'Product Class Dist'!AD11*SUMPRODUCT('UEC Development'!$K$28:$K$33,'Efficiency Dist - SF'!AG39:AG44)\n+'Product Class Dist'!AD12*SUMPRODUCT('UEC Development'!$K$42:$K$46,'Efficiency Dist - SF'!AG65:AG69)\n+'Product Class Dist'!AD13*SUMPRODUCT('UEC Development'!$K$55:$K$58,'Efficiency Dist - SF'!AG89:AG92)\n+'Product Class Dist'!AD14*SUMPRODUCT('UEC Development'!$K$67:$K$71,'Efficiency Dist - SF'!AG111:AG115)\n+'Product Class Dist'!AD15*SUMPRODUCT('UEC Development'!$K$80:$K$84,'Efficiency Dist - SF'!AG135:AG139)","v":389.10433686446271},{"$f":"'Product Class Dist'!AE10*SUMPRODUCT('UEC Development'!$K$14:$K$19,'Efficiency Dist - SF'!AH13:AH18)\n+'Product Class Dist'!AE11*SUMPRODUCT('UEC Development'!$K$28:$K$33,'Efficiency Dist - SF'!AH39:AH44)\n+'Product Class Dist'!AE12*SUMPRODUCT('UEC Development'!$K$42:$K$46,'Efficiency Dist - SF'!AH65:AH69)\n+'Product Class Dist'!AE13*SUMPRODUCT('UEC Development'!$K$55:$K$58,'Efficiency Dist - SF'!AH89:AH92)\n+'Product Class Dist'!AE14*SUMPRODUCT('UEC Development'!$K$67:$K$71,'Efficiency Dist - SF'!AH111:AH115)\n+'Product Class Dist'!AE15*SUMPRODUCT('UEC Development'!$K$80:$K$84,'Efficiency Dist - SF'!AH135:AH139)","v":389.10433686446271},{"$f":"'Product Class Dist'!AF10*SUMPRODUCT('UEC Development'!$K$14:$K$19,'Efficiency Dist - SF'!AI13:AI18)\n+'Product Class Dist'!AF11*SUMPRODUCT('UEC Development'!$K$28:$K$33,'Efficiency Dist - SF'!AI39:AI44)\n+'Product Class Dist'!AF12*SUMPRODUCT('UEC Development'!$K$42:$K$46,'Efficiency Dist - SF'!AI65:AI69)\n+'Product Class Dist'!AF13*SUMPRODUCT('UEC Development'!$K$55:$K$58,'Efficiency Dist - SF'!AI89:AI92)\n+'Product Class Dist'!AF14*SUMPRODUCT('UEC Development'!$K$67:$K$71,'Efficiency Dist - SF'!AI111:AI115)\n+'Product Class Dist'!AF15*SUMPRODUCT('UEC Development'!$K$80:$K$84,'Efficiency Dist - SF'!AI135:AI139)","v":389.10433686446271},{"$f":"'Product Class Dist'!AG10*SUMPRODUCT('UEC Development'!$K$14:$K$19,'Efficiency Dist - SF'!AJ13:AJ18)\n+'Product Class Dist'!AG11*SUMPRODUCT('UEC Development'!$K$28:$K$33,'Efficiency Dist - SF'!AJ39:AJ44)\n+'Product Class Dist'!AG12*SUMPRODUCT('UEC Development'!$K$42:$K$46,'Efficiency Dist - SF'!AJ65:AJ69)\n+'Product Class Dist'!AG13*SUMPRODUCT('UEC Development'!$K$55:$K$58,'Efficiency Dist - SF'!AJ89:AJ92)\n+'Product Class Dist'!AG14*SUMPRODUCT('UEC Development'!$K$67:$K$71,'Efficiency Dist - SF'!AJ111:AJ115)\n+'Product Class Dist'!AG15*SUMPRODUCT('UEC Development'!$K$80:$K$84,'Efficiency Dist - SF'!AJ135:AJ139)","v":389.10433686446271},{"$f":"'Product Class Dist'!AH10*SUMPRODUCT('UEC Development'!$K$14:$K$19,'Efficiency Dist - SF'!AK13:AK18)\n+'Product Class Dist'!AH11*SUMPRODUCT('UEC Development'!$K$28:$K$33,'Efficiency Dist - SF'!AK39:AK44)\n+'Product Class Dist'!AH12*SUMPRODUCT('UEC Development'!$K$42:$K$46,'Efficiency Dist - SF'!AK65:AK69)\n+'Product Class Dist'!AH13*SUMPRODUCT('UEC Development'!$K$55:$K$58,'Efficiency Dist - SF'!AK89:AK92)\n+'Product Class Dist'!AH14*SUMPRODUCT('UEC Development'!$K$67:$K$71,'Efficiency Dist - SF'!AK111:AK115)\n+'Product Class Dist'!AH15*SUMPRODUCT('UEC Development'!$K$80:$K$84,'Efficiency Dist - SF'!AK135:AK139)","v":389.10433686446277},{"$f":"'Product Class Dist'!AI10*SUMPRODUCT('UEC Development'!$K$14:$K$19,'Efficiency Dist - SF'!AL13:AL18)\n+'Product Class Dist'!AI11*SUMPRODUCT('UEC Development'!$K$28:$K$33,'Efficiency Dist - SF'!AL39:AL44)\n+'Product Class Dist'!AI12*SUMPRODUCT('UEC Development'!$K$42:$K$46,'Efficiency Dist - SF'!AL65:AL69)\n+'Product Class Dist'!AI13*SUMPRODUCT('UEC Development'!$K$55:$K$58,'Efficiency Dist - SF'!AL89:AL92)\n+'Product Class Dist'!AI14*SUMPRODUCT('UEC Development'!$K$67:$K$71,'Efficiency Dist - SF'!AL111:AL115)\n+'Product Class Dist'!AI15*SUMPRODUCT('UEC Development'!$K$80:$K$84,'Efficiency Dist - SF'!AL135:AL139)","v":389.10433686446277},{"$f":"'Product Class Dist'!AJ10*SUMPRODUCT('UEC Development'!$K$14:$K$19,'Efficiency Dist - SF'!AM13:AM18)\n+'Product Class Dist'!AJ11*SUMPRODUCT('UEC Development'!$K$28:$K$33,'Efficiency Dist - SF'!AM39:AM44)\n+'Product Class Dist'!AJ12*SUMPRODUCT('UEC Development'!$K$42:$K$46,'Efficiency Dist - SF'!AM65:AM69)\n+'Product Class Dist'!AJ13*SUMPRODUCT('UEC Development'!$K$55:$K$58,'Efficiency Dist - SF'!AM89:AM92)\n+'Product Class Dist'!AJ14*SUMPRODUCT('UEC Development'!$K$67:$K$71,'Efficiency Dist - SF'!AM111:AM115)\n+'Product Class Dist'!AJ15*SUMPRODUCT('UEC Development'!$K$80:$K$84,'Efficiency Dist - SF'!AM135:AM139)","v":389.10433686446277},{"$f":"'Product Class Dist'!AK10*SUMPRODUCT('UEC Development'!$K$14:$K$19,'Efficiency Dist - SF'!AN13:AN18)\n+'Product Class Dist'!AK11*SUMPRODUCT('UEC Development'!$K$28:$K$33,'Efficiency Dist - SF'!AN39:AN44)\n+'Product Class Dist'!AK12*SUMPRODUCT('UEC Development'!$K$42:$K$46,'Efficiency Dist - SF'!AN65:AN69)\n+'Product Class Dist'!AK13*SUMPRODUCT('UEC Development'!$K$55:$K$58,'Efficiency Dist - SF'!AN89:AN92)\n+'Product Class Dist'!AK14*SUMPRODUCT('UEC Development'!$K$67:$K$71,'Efficiency Dist - SF'!AN111:AN115)\n+'Product Class Dist'!AK15*SUMPRODUCT('UEC Development'!$K$80:$K$84,'Efficiency Dist - SF'!AN135:AN139)","v":389.10433686446271},{"$f":"'Product Class Dist'!AL10*SUMPRODUCT('UEC Development'!$K$14:$K$19,'Efficiency Dist - SF'!AO13:AO18)\n+'Product Class Dist'!AL11*SUMPRODUCT('UEC Development'!$K$28:$K$33,'Efficiency Dist - SF'!AO39:AO44)\n+'Product Class Dist'!AL12*SUMPRODUCT('UEC Development'!$K$42:$K$46,'Efficiency Dist - SF'!AO65:AO69)\n+'Product Class Dist'!AL13*SUMPRODUCT('UEC Development'!$K$55:$K$58,'Efficiency Dist - SF'!AO89:AO92)\n+'Product Class Dist'!AL14*SUMPRODUCT('UEC Development'!$K$67:$K$71,'Efficiency Dist - SF'!AO111:AO115)\n+'Product Class Dist'!AL15*SUMPRODUCT('UEC Development'!$K$80:$K$84,'Efficiency Dist - SF'!AO135:AO139)","v":387.90454458505064},{"$f":"'Product Class Dist'!AM10*SUMPRODUCT('UEC Development'!$K$14:$K$19,'Efficiency Dist - SF'!AP13:AP18)\n+'Product Class Dist'!AM11*SUMPRODUCT('UEC Development'!$K$28:$K$33,'Efficiency Dist - SF'!AP39:AP44)\n+'Product Class Dist'!AM12*SUMPRODUCT('UEC Development'!$K$42:$K$46,'Efficiency Dist - SF'!AP65:AP69)\n+'Product Class Dist'!AM13*SUMPRODUCT('UEC Development'!$K$55:$K$58,'Efficiency Dist - SF'!AP89:AP92)\n+'Product Class Dist'!AM14*SUMPRODUCT('UEC Development'!$K$67:$K$71,'Efficiency Dist - SF'!AP111:AP115)\n+'Product Class Dist'!AM15*SUMPRODUCT('UEC Development'!$K$80:$K$84,'Efficiency Dist - SF'!AP135:AP139)","v":387.0221734950502},{"$f":"'Product Class Dist'!AN10*SUMPRODUCT('UEC Development'!$K$14:$K$19,'Efficiency Dist - SF'!AQ13:AQ18)\n+'Product Class Dist'!AN11*SUMPRODUCT('UEC Development'!$K$28:$K$33,'Efficiency Dist - SF'!AQ39:AQ44)\n+'Product Class Dist'!AN12*SUMPRODUCT('UEC Development'!$K$42:$K$46,'Efficiency Dist - SF'!AQ65:AQ69)\n+'Product Class Dist'!AN13*SUMPRODUCT('UEC Development'!$K$55:$K$58,'Efficiency Dist - SF'!AQ89:AQ92)\n+'Product Class Dist'!AN14*SUMPRODUCT('UEC Development'!$K$67:$K$71,'Efficiency Dist - SF'!AQ111:AQ115)\n+'Product Class Dist'!AN15*SUMPRODUCT('UEC Development'!$K$80:$K$84,'Efficiency Dist - SF'!AQ135:AQ139)","v":385.97808787075991},{"$f":"'Product Class Dist'!AO10*SUMPRODUCT('UEC Development'!$K$14:$K$19,'Efficiency Dist - SF'!AR13:AR18)\n+'Product Class Dist'!AO11*SUMPRODUCT('UEC Development'!$K$28:$K$33,'Efficiency Dist - SF'!AR39:AR44)\n+'Product Class Dist'!AO12*SUMPRODUCT('UEC Development'!$K$42:$K$46,'Efficiency Dist - SF'!AR65:AR69)\n+'Product Class Dist'!AO13*SUMPRODUCT('UEC Development'!$K$55:$K$58,'Efficiency Dist - SF'!AR89:AR92)\n+'Product Class Dist'!AO14*SUMPRODUCT('UEC Development'!$K$67:$K$71,'Efficiency Dist - SF'!AR111:AR115)\n+'Product Class Dist'!AO15*SUMPRODUCT('UEC Development'!$K$80:$K$84,'Efficiency Dist - SF'!AR135:AR139)","v":384.94471902648479},{"$f":"'Product Class Dist'!AP10*SUMPRODUCT('UEC Development'!$K$14:$K$19,'Efficiency Dist - SF'!AS13:AS18)\n+'Product Class Dist'!AP11*SUMPRODUCT('UEC Development'!$K$28:$K$33,'Efficiency Dist - SF'!AS39:AS44)\n+'Product Class Dist'!AP12*SUMPRODUCT('UEC Development'!$K$42:$K$46,'Efficiency Dist - SF'!AS65:AS69)\n+'Product Class Dist'!AP13*SUMPRODUCT('UEC Development'!$K$55:$K$58,'Efficiency Dist - SF'!AS89:AS92)\n+'Product Class Dist'!AP14*SUMPRODUCT('UEC Development'!$K$67:$K$71,'Efficiency Dist - SF'!AS111:AS115)\n+'Product Class Dist'!AP15*SUMPRODUCT('UEC Development'!$K$80:$K$84,'Efficiency Dist - SF'!AS135:AS139)","v":383.91961645410061},{"$f":"'Product Class Dist'!AQ10*SUMPRODUCT('UEC Development'!$K$14:$K$19,'Efficiency Dist - SF'!AT13:AT18)\n+'Product Class Dist'!AQ11*SUMPRODUCT('UEC Development'!$K$28:$K$33,'Efficiency Dist - SF'!AT39:AT44)\n+'Product Class Dist'!AQ12*SUMPRODUCT('UEC Development'!$K$42:$K$46,'Efficiency Dist - SF'!AT65:AT69)\n+'Product Class Dist'!AQ13*SUMPRODUCT('UEC Development'!$K$55:$K$58,'Efficiency Dist - SF'!AT89:AT92)\n+'Product Class Dist'!AQ14*SUMPRODUCT('UEC Development'!$K$67:$K$71,'Efficiency Dist - SF'!AT111:AT115)\n+'Product Class Dist'!AQ15*SUMPRODUCT('UEC Development'!$K$80:$K$84,'Efficiency Dist - SF'!AT135:AT139)","v":382.89684816613715},{"$f":"'Product Class Dist'!AR10*SUMPRODUCT('UEC Development'!$K$14:$K$19,'Efficiency Dist - SF'!AU13:AU18)\n+'Product Class Dist'!AR11*SUMPRODUCT('UEC Development'!$K$28:$K$33,'Efficiency Dist - SF'!AU39:AU44)\n+'Product Class Dist'!AR12*SUMPRODUCT('UEC Development'!$K$42:$K$46,'Efficiency Dist - SF'!AU65:AU69)\n+'Product Class Dist'!AR13*SUMPRODUCT('UEC Development'!$K$55:$K$58,'Efficiency Dist - SF'!AU89:AU92)\n+'Product Class Dist'!AR14*SUMPRODUCT('UEC Development'!$K$67:$K$71,'Efficiency Dist - SF'!AU111:AU115)\n+'Product Class Dist'!AR15*SUMPRODUCT('UEC Development'!$K$80:$K$84,'Efficiency Dist - SF'!AU135:AU139)","v":381.87503350686245},{"$f":"'Product Class Dist'!AS10*SUMPRODUCT('UEC Development'!$K$14:$K$19,'Efficiency Dist - SF'!AV13:AV18)\n+'Product Class Dist'!AS11*SUMPRODUCT('UEC Development'!$K$28:$K$33,'Efficiency Dist - SF'!AV39:AV44)\n+'Product Class Dist'!AS12*SUMPRODUCT('UEC Development'!$K$42:$K$46,'Efficiency Dist - SF'!AV65:AV69)\n+'Product Class Dist'!AS13*SUMPRODUCT('UEC Development'!$K$55:$K$58,'Efficiency Dist - SF'!AV89:AV92)\n+'Product Class Dist'!AS14*SUMPRODUCT('UEC Development'!$K$67:$K$71,'Efficiency Dist - SF'!AV111:AV115)\n+'Product Class Dist'!AS15*SUMPRODUCT('UEC Development'!$K$80:$K$84,'Efficiency Dist - SF'!AV135:AV139)","v":380.88911295248334},{"$f":"'Product Class Dist'!AT10*SUMPRODUCT('UEC Development'!$K$14:$K$19,'Efficiency Dist - SF'!AW13:AW18)\n+'Product Class Dist'!AT11*SUMPRODUCT('UEC Development'!$K$28:$K$33,'Efficiency Dist - SF'!AW39:AW44)\n+'Product Class Dist'!AT12*SUMPRODUCT('UEC Development'!$K$42:$K$46,'Efficiency Dist - SF'!AW65:AW69)\n+'Product Class Dist'!AT13*SUMPRODUCT('UEC Development'!$K$55:$K$58,'Efficiency Dist - SF'!AW89:AW92)\n+'Product Class Dist'!AT14*SUMPRODUCT('UEC Development'!$K$67:$K$71,'Efficiency Dist - SF'!AW111:AW115)\n+'Product Class Dist'!AT15*SUMPRODUCT('UEC Development'!$K$80:$K$84,'Efficiency Dist - SF'!AW135:AW139)","v":379.91809215963036},{"$f":"'Product Class Dist'!AU10*SUMPRODUCT('UEC Development'!$K$14:$K$19,'Efficiency Dist - SF'!AX13:AX18)\n+'Product Class Dist'!AU11*SUMPRODUCT('UEC Development'!$K$28:$K$33,'Efficiency Dist - SF'!AX39:AX44)\n+'Product Class Dist'!AU12*SUMPRODUCT('UEC Development'!$K$42:$K$46,'Efficiency Dist - SF'!AX65:AX69)\n+'Product Class Dist'!AU13*SUMPRODUCT('UEC Development'!$K$55:$K$58,'Efficiency Dist - SF'!AX89:AX92)\n+'Product Class Dist'!AU14*SUMPRODUCT('UEC Development'!$K$67:$K$71,'Efficiency Dist - SF'!AX111:AX115)\n+'Product Class Dist'!AU15*SUMPRODUCT('UEC Development'!$K$80:$K$84,'Efficiency Dist - SF'!AX135:AX139)","v":378.9460056242678},{"$f":"'Product Class Dist'!AV10*SUMPRODUCT('UEC Development'!$K$14:$K$19,'Efficiency Dist - SF'!AY13:AY18)\n+'Product Class Dist'!AV11*SUMPRODUCT('UEC Development'!$K$28:$K$33,'Efficiency Dist - SF'!AY39:AY44)\n+'Product Class Dist'!AV12*SUMPRODUCT('UEC Development'!$K$42:$K$46,'Efficiency Dist - SF'!AY65:AY69)\n+'Product Class Dist'!AV13*SUMPRODUCT('UEC Development'!$K$55:$K$58,'Efficiency Dist - SF'!AY89:AY92)\n+'Product Class Dist'!AV14*SUMPRODUCT('UEC Development'!$K$67:$K$71,'Efficiency Dist - SF'!AY111:AY115)\n+'Product Class Dist'!AV15*SUMPRODUCT('UEC Development'!$K$80:$K$84,'Efficiency Dist - SF'!AY135:AY139)","v":377.9732298596428},{"$f":"'Product Class Dist'!AW10*SUMPRODUCT('UEC Development'!$K$14:$K$19,'Efficiency Dist - SF'!AZ13:AZ18)\n+'Product Class Dist'!AW11*SUMPRODUCT('UEC Development'!$K$28:$K$33,'Efficiency Dist - SF'!AZ39:AZ44)\n+'Product Class Dist'!AW12*SUMPRODUCT('UEC Development'!$K$42:$K$46,'Efficiency Dist - SF'!AZ65:AZ69)\n+'Product Class Dist'!AW13*SUMPRODUCT('UEC Development'!$K$55:$K$58,'Efficiency Dist - SF'!AZ89:AZ92)\n+'Product Class Dist'!AW14*SUMPRODUCT('UEC Development'!$K$67:$K$71,'Efficiency Dist - SF'!AZ111:AZ115)\n+'Product Class Dist'!AW15*SUMPRODUCT('UEC Development'!$K$80:$K$84,'Efficiency Dist - SF'!AZ135:AZ139)","v":376.99802215560629},{"$f":"'Product Class Dist'!AX10*SUMPRODUCT('UEC Development'!$K$14:$K$19,'Efficiency Dist - SF'!BA13:BA18)\n+'Product Class Dist'!AX11*SUMPRODUCT('UEC Development'!$K$28:$K$33,'Efficiency Dist - SF'!BA39:BA44)\n+'Product Class Dist'!AX12*SUMPRODUCT('UEC Development'!$K$42:$K$46,'Efficiency Dist - SF'!BA65:BA69)\n+'Product Class Dist'!AX13*SUMPRODUCT('UEC Development'!$K$55:$K$58,'Efficiency Dist - SF'!BA89:BA92)\n+'Product Class Dist'!AX14*SUMPRODUCT('UEC Development'!$K$67:$K$71,'Efficiency Dist - SF'!BA111:BA115)\n+'Product Class Dist'!AX15*SUMPRODUCT('UEC Development'!$K$80:$K$84,'Efficiency Dist - SF'!BA135:BA139)","v":376.02037643230983},{"$f":"'Product Class Dist'!AY10*SUMPRODUCT('UEC Development'!$K$14:$K$19,'Efficiency Dist - SF'!BB13:BB18)\n+'Product Class Dist'!AY11*SUMPRODUCT('UEC Development'!$K$28:$K$33,'Efficiency Dist - SF'!BB39:BB44)\n+'Product Class Dist'!AY12*SUMPRODUCT('UEC Development'!$K$42:$K$46,'Efficiency Dist - SF'!BB65:BB69)\n+'Product Class Dist'!AY13*SUMPRODUCT('UEC Development'!$K$55:$K$58,'Efficiency Dist - SF'!BB89:BB92)\n+'Product Class Dist'!AY14*SUMPRODUCT('UEC Development'!$K$67:$K$71,'Efficiency Dist - SF'!BB111:BB115)\n+'Product Class Dist'!AY15*SUMPRODUCT('UEC Development'!$K$80:$K$84,'Efficiency Dist - SF'!BB135:BB139)","v":375.04281995545767},{"$f":"'Product Class Dist'!AZ10*SUMPRODUCT('UEC Development'!$K$14:$K$19,'Efficiency Dist - SF'!BC13:BC18)\n+'Product Class Dist'!AZ11*SUMPRODUCT('UEC Development'!$K$28:$K$33,'Efficiency Dist - SF'!BC39:BC44)\n+'Product Class Dist'!AZ12*SUMPRODUCT('UEC Development'!$K$42:$K$46,'Efficiency Dist - SF'!BC65:BC69)\n+'Product Class Dist'!AZ13*SUMPRODUCT('UEC Development'!$K$55:$K$58,'Efficiency Dist - SF'!BC89:BC92)\n+'Product Class Dist'!AZ14*SUMPRODUCT('UEC Development'!$K$67:$K$71,'Efficiency Dist - SF'!BC111:BC115)\n+'Product Class Dist'!AZ15*SUMPRODUCT('UEC Development'!$K$80:$K$84,'Efficiency Dist - SF'!BC135:BC139)","v":374.07190916845303},{"$f":"'Product Class Dist'!BA10*SUMPRODUCT('UEC Development'!$K$14:$K$19,'Efficiency Dist - SF'!BD13:BD18)\n+'Product Class Dist'!BA11*SUMPRODUCT('UEC Development'!$K$28:$K$33,'Efficiency Dist - SF'!BD39:BD44)\n+'Product Class Dist'!BA12*SUMPRODUCT('UEC Development'!$K$42:$K$46,'Efficiency Dist - SF'!BD65:BD69)\n+'Product Class Dist'!BA13*SUMPRODUCT('UEC Development'!$K$55:$K$58,'Efficiency Dist - SF'!BD89:BD92)\n+'Product Class Dist'!BA14*SUMPRODUCT('UEC Development'!$K$67:$K$71,'Efficiency Dist - SF'!BD111:BD115)\n+'Product Class Dist'!BA15*SUMPRODUCT('UEC Development'!$K$80:$K$84,'Efficiency Dist - SF'!BD135:BD139)","v":373.12744897641642},{"$f":"'Product Class Dist'!BB10*SUMPRODUCT('UEC Development'!$K$14:$K$19,'Efficiency Dist - SF'!BE13:BE18)\n+'Product Class Dist'!BB11*SUMPRODUCT('UEC Development'!$K$28:$K$33,'Efficiency Dist - SF'!BE39:BE44)\n+'Product Class Dist'!BB12*SUMPRODUCT('UEC Development'!$K$42:$K$46,'Efficiency Dist - SF'!BE65:BE69)\n+'Product Class Dist'!BB13*SUMPRODUCT('UEC Development'!$K$55:$K$58,'Efficiency Dist - SF'!BE89:BE92)\n+'Product Class Dist'!BB14*SUMPRODUCT('UEC Development'!$K$67:$K$71,'Efficiency Dist - SF'!BE111:BE115)\n+'Product Class Dist'!BB15*SUMPRODUCT('UEC Development'!$K$80:$K$84,'Efficiency Dist - SF'!BE135:BE139)","v":372.20273729469704},{"$f":"'Product Class Dist'!BC10*SUMPRODUCT('UEC Development'!$K$14:$K$19,'Efficiency Dist - SF'!BF13:BF18)\n+'Product Class Dist'!BC11*SUMPRODUCT('UEC Development'!$K$28:$K$33,'Efficiency Dist - SF'!BF39:BF44)\n+'Product Class Dist'!BC12*SUMPRODUCT('UEC Development'!$K$42:$K$46,'Efficiency Dist - SF'!BF65:BF69)\n+'Product Class Dist'!BC13*SUMPRODUCT('UEC Development'!$K$55:$K$58,'Efficiency Dist - SF'!BF89:BF92)\n+'Product Class Dist'!BC14*SUMPRODUCT('UEC Development'!$K$67:$K$71,'Efficiency Dist - SF'!BF111:BF115)\n+'Product Class Dist'!BC15*SUMPRODUCT('UEC Development'!$K$80:$K$84,'Efficiency Dist - SF'!BF135:BF139)","v":371.27571383377347},{"$f":"'Product Class Dist'!BD10*SUMPRODUCT('UEC Development'!$K$14:$K$19,'Efficiency Dist - SF'!BG13:BG18)\n+'Product Class Dist'!BD11*SUMPRODUCT('UEC Development'!$K$28:$K$33,'Efficiency Dist - SF'!BG39:BG44)\n+'Product Class Dist'!BD12*SUMPRODUCT('UEC Development'!$K$42:$K$46,'Efficiency Dist - SF'!BG65:BG69)\n+'Product Class Dist'!BD13*SUMPRODUCT('UEC Development'!$K$55:$K$58,'Efficiency Dist - SF'!BG89:BG92)\n+'Product Class Dist'!BD14*SUMPRODUCT('UEC Development'!$K$67:$K$71,'Efficiency Dist - SF'!BG111:BG115)\n+'Product Class Dist'!BD15*SUMPRODUCT('UEC Development'!$K$80:$K$84,'Efficiency Dist - SF'!BG135:BG139)","v":370.34637281419782},{"$f":"'Product Class Dist'!BE10*SUMPRODUCT('UEC Development'!$K$14:$K$19,'Efficiency Dist - SF'!BH13:BH18)\n+'Product Class Dist'!BE11*SUMPRODUCT('UEC Development'!$K$28:$K$33,'Efficiency Dist - SF'!BH39:BH44)\n+'Product Class Dist'!BE12*SUMPRODUCT('UEC Development'!$K$42:$K$46,'Efficiency Dist - SF'!BH65:BH69)\n+'Product Class Dist'!BE13*SUMPRODUCT('UEC Development'!$K$55:$K$58,'Efficiency Dist - SF'!BH89:BH92)\n+'Product Class Dist'!BE14*SUMPRODUCT('UEC Development'!$K$67:$K$71,'Efficiency Dist - SF'!BH111:BH115)\n+'Product Class Dist'!BE15*SUMPRODUCT('UEC Development'!$K$80:$K$84,'Efficiency Dist - SF'!BH135:BH139)","v":369.41521403161858}]
[null,null,"POST-Case UEC",{"$f":"'Product Class Dist'!D19*SUMPRODUCT('UEC Development'!$K$14:$K$19,'Efficiency Dist - SF'!G23:G28)\n+'Product Class Dist'!D20*SUMPRODUCT('UEC Development'!$K$28:$K$33,'Efficiency Dist - SF'!G49:G54)\n+'Product Class Dist'!D21*SUMPRODUCT('UEC Development'!$K$42:$K$46,'Efficiency Dist - SF'!G74:G78)\n+'Product Class Dist'!D22*SUMPRODUCT('UEC Development'!$K$55:$K$58,'Efficiency Dist - SF'!G97:G100)\n+'Product Class Dist'!D23*SUMPRODUCT('UEC Development'!$K$67:$K$71,'Efficiency Dist - SF'!G120:G124)\n+'Product Class Dist'!D24*SUMPRODUCT('UEC Development'!$K$80:$K$84,'Efficiency Dist - SF'!G144:G148)","v":389.10433686446271},{"$f":"'Product Class Dist'!E19*SUMPRODUCT('UEC Development'!$K$14:$K$19,'Efficiency Dist - SF'!H23:H28)\n+'Product Class Dist'!E20*SUMPRODUCT('UEC Development'!$K$28:$K$33,'Efficiency Dist - SF'!H49:H54)\n+'Product Class Dist'!E21*SUMPRODUCT('UEC Development'!$K$42:$K$46,'Efficiency Dist - SF'!H74:H78)\n+'Product Class Dist'!E22*SUMPRODUCT('UEC Development'!$K$55:$K$58,'Efficiency Dist - SF'!H97:H100)\n+'Product Class Dist'!E23*SUMPRODUCT('UEC Development'!$K$67:$K$71,'Efficiency Dist - SF'!H120:H124)\n+'Product Class Dist'!E24*SUMPRODUCT('UEC Development'!$K$80:$K$84,'Efficiency Dist - SF'!H144:H148)","v":389.10433686446271},{"$f":"'Product Class Dist'!F19*SUMPRODUCT('UEC Development'!$K$14:$K$19,'Efficiency Dist - SF'!I23:I28)\n+'Product Class Dist'!F20*SUMPRODUCT('UEC Development'!$K$28:$K$33,'Efficiency Dist - SF'!I49:I54)\n+'Product Class Dist'!F21*SUMPRODUCT('UEC Development'!$K$42:$K$46,'Efficiency Dist - SF'!I74:I78)\n+'Product Class Dist'!F22*SUMPRODUCT('UEC Development'!$K$55:$K$58,'Efficiency Dist - SF'!I97:I100)\n+'Product Class Dist'!F23*SUMPRODUCT('UEC Development'!$K$67:$K$71,'Efficiency Dist - SF'!I120:I124)\n+'Product Class Dist'!F24*SUMPRODUCT('UEC Development'!$K$80:$K$84,'Efficiency Dist - SF'!I144:I148)","v":389.10433686446271},{"$f":"'Product Class Dist'!G19*SUMPRODUCT('UEC Development'!$K$14:$K$19,'Efficiency Dist - SF'!J23:J28)\n+'Product Class Dist'!G20*SUMPRODUCT('UEC Development'!$K$28:$K$33,'Efficiency Dist - SF'!J49:J54)\n+'Product Class Dist'!G21*SUMPRODUCT('UEC Development'!$K$42:$K$46,'Efficiency Dist - SF'!J74:J78)\n+'Product Class Dist'!G22*SUMPRODUCT('UEC Development'!$K$55:$K$58,'Efficiency Dist - SF'!J97:J100)\n+'Product Class Dist'!G23*SUMPRODUCT('UEC Development'!$K$67:$K$71,'Efficiency Dist - SF'!J120:J124)\n+'Product Class Dist'!G24*SUMPRODUCT('UEC Development'!$K$80:$K$84,'Efficiency Dist - SF'!J144:J148)","v":389.10433686446271},{"$f":"'Product Class Dist'!H19*SUMPRODUCT('UEC Development'!$K$14:$K$19,'Efficiency Dist - SF'!K23:K28)\n+'Product Class Dist'!H20*SUMPRODUCT('UEC Development'!$K$28:$K$33,'Efficiency Dist - SF'!K49:K54)\n+'Product Class Dist'!H21*SUMPRODUCT('UEC Development'!$K$42:$K$46,'Efficiency Dist - SF'!K74:K78)\n+'Product Class Dist'!H22*SUMPRODUCT('UEC Development'!$K$55:$K$58,'Efficiency Dist - SF'!K97:K100)\n+'Product Class Dist'!H23*SUMPRODUCT('UEC Development'!$K$67:$K$71,'Efficiency Dist - SF'!K120:K124)\n+'Product Class Dist'!H24*SUMPRODUCT('UEC Development'!$K$80:$K$84,'Efficiency Dist - SF'!K144:K148)","v":389.10433686446271},{"$f":"'Product Class Dist'!I19*SUMPRODUCT('UEC Development'!$K$14:$K$19,'Efficiency Dist - SF'!L23:L28)\n+'Product Class Dist'!I20*SUMPRODUCT('UEC Development'!$K$28:$K$33,'Efficiency Dist - SF'!L49:L54)\n+'Product Class Dist'!I21*SUMPRODUCT('UEC Development'!$K$42:$K$46,'Efficiency Dist - SF'!L74:L78)\n+'Product Class Dist'!I22*SUMPRODUCT('UEC Development'!$K$55:$K$58,'Efficiency Dist - SF'!L97:L100)\n+'Product Class Dist'!I23*SUMPRODUCT('UEC Development'!$K$67:$K$71,'Efficiency Dist - SF'!L120:L124)\n+'Product Class Dist'!I24*SUMPRODUCT('UEC Development'!$K$80:$K$84,'Efficiency Dist - SF'!L144:L148)","v":389.10433686446271},{"$f":"'Product Class Dist'!J19*SUMPRODUCT('UEC Development'!$K$14:$K$19,'Efficiency Dist - SF'!M23:M28)\n+'Product Class Dist'!J20*SUMPRODUCT('UEC Development'!$K$28:$K$33,'Efficiency Dist - SF'!M49:M54)\n+'Product Class Dist'!J21*SUMPRODUCT('UEC Development'!$K$42:$K$46,'Efficiency Dist - SF'!M74:M78)\n+'Product Class Dist'!J22*SUMPRODUCT('UEC Development'!$K$55:$K$58,'Efficiency Dist - SF'!M97:M100)\n+'Product Class Dist'!J23*SUMPRODUCT('UEC Development'!$K$67:$K$71,'Efficiency Dist - SF'!M120:M124)\n+'Product Class Dist'!J24*SUMPRODUCT('UEC Development'!$K$80:$K$84,'Efficiency Dist - SF'!M144:M148)","v":389.10433686446271},{"$f":"'Product Class Dist'!K19*SUMPRODUCT('UEC Development'!$K$14:$K$19,'Efficiency Dist - SF'!N23:N28)\n+'Product Class Dist'!K20*SUMPRODUCT('UEC Development'!$K$28:$K$33,'Efficiency Dist - SF'!N49:N54)\n+'Product Class Dist'!K21*SUMPRODUCT('UEC Development'!$K$42:$K$46,'Efficiency Dist - SF'!N74:N78)\n+'Product Class Dist'!K22*SUMPRODUCT('UEC Development'!$K$55:$K$58,'Efficiency Dist - SF'!N97:N100)\n+'Product Class Dist'!K23*SUMPRODUCT('UEC Development'!$K$67:$K$71,'Efficiency Dist - SF'!N120:N124)\n+'Product Class Dist'!K24*SUMPRODUCT('UEC Development'!$K$80:$K$84,'Efficiency Dist - SF'!N144:N148)","v":389.10433686446271},{"$f":"'Product Class Dist'!L19*SUMPRODUCT('UEC Development'!$K$14:$K$19,'Efficiency Dist - SF'!O23:O28)\n+'Product Class Dist'!L20*SUMPRODUCT('UEC Development'!$K$28:$K$33,'Efficiency Dist - SF'!O49:O54)\n+'Product Class Dist'!L21*SUMPRODUCT('UEC Development'!$K$42:$K$46,'Efficiency Dist - SF'!O74:O78)\n+'Product Class Dist'!L22*SUMPRODUCT('UEC Development'!$K$55:$K$58,'Efficiency Dist - SF'!O97:O100)\n+'Product Class Dist'!L23*SUMPRODUCT('UEC Development'!$K$67:$K$71,'Efficiency Dist - SF'!O120:O124)\n+'Product Class Dist'!L24*SUMPRODUCT('UEC Development'!$K$80:$K$84,'Efficiency Dist - SF'!O144:O148)","v":389.10433686446271},{"$f":"'Product Class Dist'!M19*SUMPRODUCT('UEC Development'!$K$14:$K$19,'Efficiency Dist - SF'!P23:P28)\n+'Product Class Dist'!M20*SUMPRODUCT('UEC Development'!$K$28:$K$33,'Efficiency Dist - SF'!P49:P54)\n+'Product Class Dist'!M21*SUMPRODUCT('UEC Development'!$K$42:$K$46,'Efficiency Dist - SF'!P74:P78)\n+'Product Class Dist'!M22*SUMPRODUCT('UEC Development'!$K$55:$K$58,'Efficiency Dist - SF'!P97:P100)\n+'Product Class Dist'!M23*SUMPRODUCT('UEC Development'!$K$67:$K$71,'Efficiency Dist - SF'!P120:P124)\n+'Product Class Dist'!M24*SUMPRODUCT('UEC Development'!$K$80:$K$84,'Efficiency Dist - SF'!P144:P148)","v":389.10433686446271},{"$f":"'Product Class Dist'!N19*SUMPRODUCT('UEC Development'!$K$14:$K$19,'Efficiency Dist - SF'!Q23:Q28)\n+'Product Class Dist'!N20*SUMPRODUCT('UEC Development'!$K$28:$K$33,'Efficiency Dist - SF'!Q49:Q54)\n+'Product Class Dist'!N21*SUMPRODUCT('UEC Development'!$K$42:$K$46,'Efficiency Dist - SF'!Q74:Q78)\n+'Product Class Dist'!N22*SUMPRODUCT('UEC Development'!$K$55:$K$58,'Efficiency Dist - SF'!Q97:Q100)\n+'Product Class Dist'!N23*SUMPRODUCT('UEC Development'!$K$67:$K$71,'Efficiency Dist - SF'!Q120:Q124)\n+'Product Class Dist'!N24*SUMPRODUCT('UEC Development'!$K$80:$K$84,'Efficiency Dist - SF'!Q144:Q148)","v":389.10433686446271},{"$f":"'Product Class Dist'!O19*SUMPRODUCT('UEC Development'!$K$14:$K$19,'Efficiency Dist - SF'!R23:R28)\n+'Product Class Dist'!O20*SUMPRODUCT('UEC Development'!$K$28:$K$33,'Efficiency Dist - SF'!R49:R54)\n+'Product Class Dist'!O21*SUMPRODUCT('UEC Development'!$K$42:$K$46,'Efficiency Dist - SF'!R74:R78)\n+'Product Class Dist'!O22*SUMPRODUCT('UEC Development'!$K$55:$K$58,'Efficiency Dist - SF'!R97:R100)\n+'Product Class Dist'!O23*SUMPRODUCT('UEC Development'!$K$67:$K$71,'Efficiency Dist - SF'!R120:R124)\n+'Product Class Dist'!O24*SUMPRODUCT('UEC Development'!$K$80:$K$84,'Efficiency Dist - SF'!R144:R148)","v":389.10433686446271},{"$f":"'Product Class Dist'!P19*SUMPRODUCT('UEC Development'!$K$14:$K$19,'Efficiency Dist - SF'!S23:S28)\n+'Product Class Dist'!P20*SUMPRODUCT('UEC Development'!$K$28:$K$33,'Efficiency Dist - SF'!S49:S54)\n+'Product Class Dist'!P21*SUMPRODUCT('UEC Development'!$K$42:$K$46,'Efficiency Dist - SF'!S74:S78)\n+'Product Class Dist'!P22*SUMPRODUCT('UEC Development'!$K$55:$K$58,'Efficiency Dist - SF'!S97:S100)\n+'Product Class Dist'!P23*SUMPRODUCT('UEC Development'!$K$67:$K$71,'Efficiency Dist - SF'!S120:S124)\n+'Product Class Dist'!P24*SUMPRODUCT('UEC Development'!$K$80:$K$84,'Efficiency Dist - SF'!S144:S148)","v":389.10433686446271},{"$f":"'Product Class Dist'!Q19*SUMPRODUCT('UEC Development'!$K$14:$K$19,'Efficiency Dist - SF'!T23:T28)\n+'Product Class Dist'!Q20*SUMPRODUCT('UEC Development'!$K$28:$K$33,'Efficiency Dist - SF'!T49:T54)\n+'Product Class Dist'!Q21*SUMPRODUCT('UEC Development'!$K$42:$K$46,'Efficiency Dist - SF'!T74:T78)\n+'Product Class Dist'!Q22*SUMPRODUCT('UEC Development'!$K$55:$K$58,'Efficiency Dist - SF'!T97:T100)\n+'Product Class Dist'!Q23*SUMPRODUCT('UEC Development'!$K$67:$K$71,'Efficiency Dist - SF'!T120:T124)\n+'Product Class Dist'!Q24*SUMPRODUCT('UEC Development'!$K$80:$K$84,'Efficiency Dist - SF'!T144:T148)","v":389.10433686446271},{"$f":"'Product Class Dist'!R19*SUMPRODUCT('UEC Development'!$K$14:$K$19,'Efficiency Dist - SF'!U23:U28)\n+'Product Class Dist'!R20*SUMPRODUCT('UEC Development'!$K$28:$K$33,'Efficiency Dist - SF'!U49:U54)\n+'Product Class Dist'!R21*SUMPRODUCT('UEC Development'!$K$42:$K$46,'Efficiency Dist - SF'!U74:U78)\n+'Product Class Dist'!R22*SUMPRODUCT('UEC Development'!$K$55:$K$58,'Efficiency Dist - SF'!U97:U100)\n+'Product Class Dist'!R23*SUMPRODUCT('UEC Development'!$K$67:$K$71,'Efficiency Dist - SF'!U120:U124)\n+'Product Class Dist'!R24*SUMPRODUCT('UEC Development'!$K$80:$K$84,'Efficiency Dist - SF'!U144:U148)","v":389.10433686446271},{"$f":"'Product Class Dist'!S19*SUMPRODUCT('UEC Development'!$K$14:$K$19,'Efficiency Dist - SF'!V23:V28)\n+'Product Class Dist'!S20*SUMPRODUCT('UEC Development'!$K$28:$K$33,'Efficiency Dist - SF'!V49:V54)\n+'Product Class Dist'!S21*SUMPRODUCT('UEC Development'!$K$42:$K$46,'Efficiency Dist - SF'!V74:V78)\n+'Product Class Dist'!S22*SUMPRODUCT('UEC Development'!$K$55:$K$58,'Efficiency Dist - SF'!V97:V100)\n+'Product Class Dist'!S23*SUMPRODUCT('UEC Development'!$K$67:$K$71,'Efficiency Dist - SF'!V120:V124)\n+'Product Class Dist'!S24*SUMPRODUCT('UEC Development'!$K$80:$K$84,'Efficiency Dist - SF'!V144:V148)","v":389.10433686446271},{"$f":"'Product Class Dist'!T19*SUMPRODUCT('UEC Development'!$K$14:$K$19,'Efficiency Dist - SF'!W23:W28)\n+'Product Class Dist'!T20*SUMPRODUCT('UEC Development'!$K$28:$K$33,'Efficiency Dist - SF'!W49:W54)\n+'Product Class Dist'!T21*SUMPRODUCT('UEC Development'!$K$42:$K$46,'Efficiency Dist - SF'!W74:W78)\n+'Product Class Dist'!T22*SUMPRODUCT('UEC Development'!$K$55:$K$58,'Efficiency Dist - SF'!W97:W100)\n+'Product Class Dist'!T23*SUMPRODUCT('UEC Development'!$K$67:$K$71,'Efficiency Dist - SF'!W120:W124)\n+'Product Class Dist'!T24*SUMPRODUCT('UEC Development'!$K$80:$K$84,'Efficiency Dist - SF'!W144:W148)","v":389.10433686446271},{"$f":"'Product Class Dist'!U19*SUMPRODUCT('UEC Development'!$K$14:$K$19,'Efficiency Dist - SF'!X23:X28)\n+'Product Class Dist'!U20*SUMPRODUCT('UEC Development'!$K$28:$K$33,'Efficiency Dist - SF'!X49:X54)\n+'Product Class Dist'!U21*SUMPRODUCT('UEC Development'!$K$42:$K$46,'Efficiency Dist - SF'!X74:X78)\n+'Product Class Dist'!U22*SUMPRODUCT('UEC Development'!$K$55:$K$58,'Efficiency Dist - SF'!X97:X100)\n+'Product Class Dist'!U23*SUMPRODUCT('UEC Development'!$K$67:$K$71,'Efficiency Dist - SF'!X120:X124)\n+'Product Class Dist'!U24*SUMPRODUCT('UEC Development'!$K$80:$K$84,'Efficiency Dist - SF'!X144:X148)","v":389.10433686446271},{"$f":"'Product Class Dist'!V19*SUMPRODUCT('UEC Development'!$K$14:$K$19,'Efficiency Dist - SF'!Y23:Y28)\n+'Product Class Dist'!V20*SUMPRODUCT('UEC Development'!$K$28:$K$33,'Efficiency Dist - SF'!Y49:Y54)\n+'Product Class Dist'!V21*SUMPRODUCT('UEC Development'!$K$42:$K$46,'Efficiency Dist - SF'!Y74:Y78)\n+'Product Class Dist'!V22*SUMPRODUCT('UEC Development'!$K$55:$K$58,'Efficiency Dist - SF'!Y97:Y100)\n+'Product Class Dist'!V23*SUMPRODUCT('UEC Development'!$K$67:$K$71,'Efficiency Dist - SF'!Y120:Y124)\n+'Product Class Dist'!V24*SUMPRODUCT('UEC Development'!$K$80:$K$84,'Efficiency Dist - SF'!Y144:Y148)","v":389.10433686446271},{"$f":"'Product Class Dist'!W19*SUMPRODUCT('UEC Development'!$K$14:$K$19,'Efficiency Dist - SF'!Z23:Z28)\n+'Product Class Dist'!W20*SUMPRODUCT('UEC Development'!$K$28:$K$33,'Efficiency Dist - SF'!Z49:Z54)\n+'Product Class Dist'!W21*SUMPRODUCT('UEC Development'!$K$42:$K$46,'Efficiency Dist - SF'!Z74:Z78)\n+'Product Class Dist'!W22*SUMPRODUCT('UEC Development'!$K$55:$K$58,'Efficiency Dist - SF'!Z97:Z100)\n+'Product Class Dist'!W23*SUMPRODUCT('UEC Development'!$K$67:$K$71,'Efficiency Dist - SF'!Z120:Z124)\n+'Product Class Dist'!W24*SUMPRODUCT('UEC Development'!$K$80:$K$84,'Efficiency Dist - SF'!Z144:Z148)","v":389.10433686446271},{"$f":"'Product Class Dist'!X19*SUMPRODUCT('UEC Development'!$K$14:$K$19,'Efficiency Dist - SF'!AA23:AA28)\n+'Product Class Dist'!X20*SUMPRODUCT('UEC Development'!$K$28:$K$33,'Efficiency Dist - SF'!AA49:AA54)\n+'Product Class Dist'!X21*SUMPRODUCT('UEC Development'!$K$42:$K$46,'Efficiency Dist - SF'!AA74:AA78)\n+'Product Class Dist'!X22*SUMPRODUCT('UEC Development'!$K$55:$K$58,'Efficiency Dist - SF'!AA97:AA100)\n+'Product Class Dist'!X23*SUMPRODUCT('UEC Development'!$K$67:$K$71,'Efficiency Dist - SF'!AA120:AA124)\n+'Product Class Dist'!X24*SUMPRODUCT('UEC Development'!$K$80:$K$84,'Efficiency Dist - SF'!AA144:AA148)","v":389.10433686446271},{"$f":"'Product Class Dist'!Y19*SUMPRODUCT('UEC Development'!$K$14:$K$19,'Efficiency Dist - SF'!AB23:AB28)\n+'Product Class Dist'!Y20*SUMPRODUCT('UEC Development'!$K$28:$K$33,'Efficiency Dist - SF'!AB49:AB54)\n+'Product Class Dist'!Y21*SUMPRODUCT('UEC Development'!$K$42:$K$46,'Efficiency Dist - SF'!AB74:AB78)\n+'Product Class Dist'!Y22*SUMPRODUCT('UEC Development'!$K$55:$K$58,'Efficiency Dist - SF'!AB97:AB100)\n+'Product Class Dist'!Y23*SUMPRODUCT('UEC Development'!$K$67:$K$71,'Efficiency Dist - SF'!AB120:AB124)\n+'Product Class Dist'!Y24*SUMPRODUCT('UEC Development'!$K$80:$K$84,'Efficiency Dist - SF'!AB144:AB148)","v":389.10433686446271},{"$f":"'Product Class Dist'!Z19*SUMPRODUCT('UEC Development'!$K$14:$K$19,'Efficiency Dist - SF'!AC23:AC28)\n+'Product Class Dist'!Z20*SUMPRODUCT('UEC Development'!$K$28:$K$33,'Efficiency Dist - SF'!AC49:AC54)\n+'Product Class Dist'!Z21*SUMPRODUCT('UEC Development'!$K$42:$K$46,'Efficiency Dist - SF'!AC74:AC78)\n+'Product Class Dist'!Z22*SUMPRODUCT('UEC Development'!$K$55:$K$58,'Efficiency Dist - SF'!AC97:AC100)\n+'Product Class Dist'!Z23*SUMPRODUCT('UEC Development'!$K$67:$K$71,'Efficiency Dist - SF'!AC120:AC124)\n+'Product Class Dist'!Z24*SUMPRODUCT('UEC Development'!$K$80:$K$84,'Efficiency Dist - SF'!AC144:AC148)","v":389.10433686446271},{"$f":"'Product Class Dist'!AA19*SUMPRODUCT('UEC Development'!$K$14:$K$19,'Efficiency Dist - SF'!AD23:AD28)\n+'Product Class Dist'!AA20*SUMPRODUCT('UEC Development'!$K$28:$K$33,'Efficiency Dist - SF'!AD49:AD54)\n+'Product Class Dist'!AA21*SUMPRODUCT('UEC Development'!$K$42:$K$46,'Efficiency Dist - SF'!AD74:AD78)\n+'Product Class Dist'!AA22*SUMPRODUCT('UEC Development'!$K$55:$K$58,'Efficiency Dist - SF'!AD97:AD100)\n+'Product Class Dist'!AA23*SUMPRODUCT('UEC Development'!$K$67:$K$71,'Efficiency Dist - SF'!AD120:AD124)\n+'Product Class Dist'!AA24*SUMPRODUCT('UEC Development'!$K$80:$K$84,'Efficiency Dist - SF'!AD144:AD148)","v":389.10433686446271},{"$f":"'Product Class Dist'!AB19*SUMPRODUCT('UEC Development'!$K$14:$K$19,'Efficiency Dist - SF'!AE23:AE28)\n+'Product Class Dist'!AB20*SUMPRODUCT('UEC Development'!$K$28:$K$33,'Efficiency Dist - SF'!AE49:AE54)\n+'Product Class Dist'!AB21*SUMPRODUCT('UEC Development'!$K$42:$K$46,'Efficiency Dist - SF'!AE74:AE78)\n+'Product Class Dist'!AB22*SUMPRODUCT('UEC Development'!$K$55:$K$58,'Efficiency Dist - SF'!AE97:AE100)\n+'Product Class Dist'!AB23*SUMPRODUCT('UEC Development'!$K$67:$K$71,'Efficiency Dist - SF'!AE120:AE124)\n+'Product Class Dist'!AB24*SUMPRODUCT('UEC Development'!$K$80:$K$84,'Efficiency Dist - SF'!AE144:AE148)","v":389.10433686446271},{"$f":"'Product Class Dist'!AC19*SUMPRODUCT('UEC Development'!$K$14:$K$19,'Efficiency Dist - SF'!AF23:AF28)\n+'Product Class Dist'!AC20*SUMPRODUCT('UEC Development'!$K$28:$K$33,'Efficiency Dist - SF'!AF49:AF54)\n+'Product Class Dist'!AC21*SUMPRODUCT('UEC Development'!$K$42:$K$46,'Efficiency Dist - SF'!AF74:AF78)\n+'Product Class Dist'!AC22*SUMPRODUCT('UEC Development'!$K$55:$K$58,'Efficiency Dist - SF'!AF97:AF100)\n+'Product Class Dist'!AC23*SUMPRODUCT('UEC Development'!$K$67:$K$71,'Efficiency Dist - SF'!AF120:AF124)\n+'Product Class Dist'!AC24*SUMPRODUCT('UEC Development'!$K$80:$K$84,'Efficiency Dist - SF'!AF144:AF148)","v":389.10433686446271},{"$f":"'Product Class Dist'!AD19*SUMPRODUCT('UEC Development'!$K$14:$K$19,'Efficiency Dist - SF'!AG23:AG28)\n+'Product Class Dist'!AD20*SUMPRODUCT('UEC Development'!$K$28:$K$33,'Efficiency Dist - SF'!AG49:AG54)\n+'Product Class Dist'!AD21*SUMPRODUCT('UEC Development'!$K$42:$K$46,'Efficiency Dist - SF'!AG74:AG78)\n+'Product Class Dist'!AD22*SUMPRODUCT('UEC Development'!$K$55:$K$58,'Efficiency Dist - SF'!AG97:AG100)\n+'Product Class Dist'!AD23*SUMPRODUCT('UEC Development'!$K$67:$K$71,'Efficiency Dist - SF'!AG120:AG124)\n+'Product Class Dist'!AD24*SUMPRODUCT('UEC Development'!$K$80:$K$84,'Efficiency Dist - SF'!AG144:AG148)","v":389.10433686446271},{"$f":"'Product Class Dist'!AE19*SUMPRODUCT('UEC Development'!$K$14:$K$19,'Efficiency Dist - SF'!AH23:AH28)\n+'Product Class Dist'!AE20*SUMPRODUCT('UEC Development'!$K$28:$K$33,'Efficiency Dist - SF'!AH49:AH54)\n+'Product Class Dist'!AE21*SUMPRODUCT('UEC Development'!$K$42:$K$46,'Efficiency Dist - SF'!AH74:AH78)\n+'Product Class Dist'!AE22*SUMPRODUCT('UEC Development'!$K$55:$K$58,'Efficiency Dist - SF'!AH97:AH100)\n+'Product Class Dist'!AE23*SUMPRODUCT('UEC Development'!$K$67:$K$71,'Efficiency Dist - SF'!AH120:AH124)\n+'Product Class Dist'!AE24*SUMPRODUCT('UEC Development'!$K$80:$K$84,'Efficiency Dist - SF'!AH144:AH148)","v":389.10433686446271},{"$f":"'Product Class Dist'!AF19*SUMPRODUCT('UEC Development'!$K$14:$K$19,'Efficiency Dist - SF'!AI23:AI28)\n+'Product Class Dist'!AF20*SUMPRODUCT('UEC Development'!$K$28:$K$33,'Efficiency Dist - SF'!AI49:AI54)\n+'Product Class Dist'!AF21*SUMPRODUCT('UEC Development'!$K$42:$K$46,'Efficiency Dist - SF'!AI74:AI78)\n+'Product Class Dist'!AF22*SUMPRODUCT('UEC Development'!$K$55:$K$58,'Efficiency Dist - SF'!AI97:AI100)\n+'Product Class Dist'!AF23*SUMPRODUCT('UEC Development'!$K$67:$K$71,'Efficiency Dist - SF'!AI120:AI124)\n+'Product Class Dist'!AF24*SUMPRODUCT('UEC Development'!$K$80:$K$84,'Efficiency Dist - SF'!AI144:AI148)","v":389.10433686446271},{"$f":"'Product Class Dist'!AG19*SUMPRODUCT('UEC Development'!$K$14:$K$19,'Efficiency Dist - SF'!AJ23:AJ28)\n+'Product Class Dist'!AG20*SUMPRODUCT('UEC Development'!$K$28:$K$33,'Efficiency Dist - SF'!AJ49:AJ54)\n+'Product Class Dist'!AG21*SUMPRODUCT('UEC Development'!$K$42:$K$46,'Efficiency Dist - SF'!AJ74:AJ78)\n+'Product Class Dist'!AG22*SUMPRODUCT('UEC Development'!$K$55:$K$58,'Efficiency Dist - SF'!AJ97:AJ100)\n+'Product Class Dist'!AG23*SUMPRODUCT('UEC Development'!$K$67:$K$71,'Efficiency Dist - SF'!AJ120:AJ124)\n+'Product Class Dist'!AG24*SUMPRODUCT('UEC Development'!$K$80:$K$84,'Efficiency Dist - SF'!AJ144:AJ148)","v":389.10433686446271},{"$f":"'Product Class Dist'!AH19*SUMPRODUCT('UEC Development'!$K$14:$K$19,'Efficiency Dist - SF'!AK23:AK28)\n+'Product Class Dist'!AH20*SUMPRODUCT('UEC Development'!$K$28:$K$33,'Efficiency Dist - SF'!AK49:AK54)\n+'Product Class Dist'!AH21*SUMPRODUCT('UEC Development'!$K$42:$K$46,'Efficiency Dist - SF'!AK74:AK78)\n+'Product Class Dist'!AH22*SUMPRODUCT('UEC Development'!$K$55:$K$58,'Efficiency Dist - SF'!AK97:AK100)\n+'Product Class Dist'!AH23*SUMPRODUCT('UEC Development'!$K$67:$K$71,'Efficiency Dist - SF'!AK120:AK124)\n+'Product Class Dist'!AH24*SUMPRODUCT('UEC Development'!$K$80:$K$84,'Efficiency Dist - SF'!AK144:AK148)","v":389.10433686446277},{"$f":"'Product Class Dist'!AI19*SUMPRODUCT('UEC Development'!$K$14:$K$19,'Efficiency Dist - SF'!AL23:AL28)\n+'Product Class Dist'!AI20*SUMPRODUCT('UEC Development'!$K$28:$K$33,'Efficiency Dist - SF'!AL49:AL54)\n+'Product Class Dist'!AI21*SUMPRODUCT('UEC Development'!$K$42:$K$46,'Efficiency Dist - SF'!AL74:AL78)\n+'Product Class Dist'!AI22*SUMPRODUCT('UEC Development'!$K$55:$K$58,'Efficiency Dist - SF'!AL97:AL100)\n+'Product Class Dist'!AI23*SUMPRODUCT('UEC Development'!$K$67:$K$71,'Efficiency Dist - SF'!AL120:AL124)\n+'Product Class Dist'!AI24*SUMPRODUCT('UEC Development'!$K$80:$K$84,'Efficiency Dist - SF'!AL144:AL148)","v":389.10433686446277},{"$f":"'Product Class Dist'!AJ19*SUMPRODUCT('UEC Development'!$K$14:$K$19,'Efficiency Dist - SF'!AM23:AM28)\n+'Product Class Dist'!AJ20*SUMPRODUCT('UEC Development'!$K$28:$K$33,'Efficiency Dist - SF'!AM49:AM54)\n+'Product Class Dist'!AJ21*SUMPRODUCT('UEC Development'!$K$42:$K$46,'Efficiency Dist - SF'!AM74:AM78)\n+'Product Class Dist'!AJ22*SUMPRODUCT('UEC Development'!$K$55:$K$58,'Efficiency Dist - SF'!AM97:AM100)\n+'Product Class Dist'!AJ23*SUMPRODUCT('UEC Development'!$K$67:$K$71,'Efficiency Dist - SF'!AM120:AM124)\n+'Product Class Dist'!AJ24*SUMPRODUCT('UEC Development'!$K$80:$K$84,'Efficiency Dist - SF'!AM144:AM148)","v":389.10433686446277},{"$f":"'Product Class Dist'!AK19*SUMPRODUCT('UEC Development'!$K$14:$K$19,'Efficiency Dist - SF'!AN23:AN28)\n+'Product Class Dist'!AK20*SUMPRODUCT('UEC Development'!$K$28:$K$33,'Efficiency Dist - SF'!AN49:AN54)\n+'Product Class Dist'!AK21*SUMPRODUCT('UEC Development'!$K$42:$K$46,'Efficiency Dist - SF'!AN74:AN78)\n+'Product Class Dist'!AK22*SUMPRODUCT('UEC Development'!$K$55:$K$58,'Efficiency Dist - SF'!AN97:AN100)\n+'Product Class Dist'!AK23*SUMPRODUCT('UEC Development'!$K$67:$K$71,'Efficiency Dist - SF'!AN120:AN124)\n+'Product Class Dist'!AK24*SUMPRODUCT('UEC Development'!$K$80:$K$84,'Efficiency Dist - SF'!AN144:AN148)","v":366.01524856101793},{"$f":"'Product Class Dist'!AL19*SUMPRODUCT('UEC Development'!$K$14:$K$19,'Efficiency Dist - SF'!AO23:AO28)\n+'Product Class Dist'!AL20*SUMPRODUCT('UEC Development'!$K$28:$K$33,'Efficiency Dist - SF'!AO49:AO54)\n+'Product Class Dist'!AL21*SUMPRODUCT('UEC Development'!$K$42:$K$46,'Efficiency Dist - SF'!AO74:AO78)\n+'Product Class Dist'!AL22*SUMPRODUCT('UEC Development'!$K$55:$K$58,'Efficiency Dist - SF'!AO97:AO100)\n+'Product Class Dist'!AL23*SUMPRODUCT('UEC Development'!$K$67:$K$71,'Efficiency Dist - SF'!AO120:AO124)\n+'Product Class Dist'!AL24*SUMPRODUCT('UEC Development'!$K$80:$K$84,'Efficiency Dist - SF'!AO144:AO148)","v":365.49164245943382},{"$f":"'Product Class Dist'!AM19*SUMPRODUCT('UEC Development'!$K$14:$K$19,'Efficiency Dist - SF'!AP23:AP28)\n+'Product Class Dist'!AM20*SUMPRODUCT('UEC Development'!$K$28:$K$33,'Efficiency Dist - SF'!AP49:AP54)\n+'Product Class Dist'!AM21*SUMPRODUCT('UEC Development'!$K$42:$K$46,'Efficiency Dist - SF'!AP74:AP78)\n+'Product Class Dist'!AM22*SUMPRODUCT('UEC Development'!$K$55:$K$58,'Efficiency Dist - SF'!AP97:AP100)\n+'Product Class Dist'!AM23*SUMPRODUCT('UEC Development'!$K$67:$K$71,'Efficiency Dist - SF'!AP120:AP124)\n+'Product Class Dist'!AM24*SUMPRODUCT('UEC Development'!$K$80:$K$84,'Efficiency Dist - SF'!AP144:AP148)","v":365.30662001155832},{"$f":"'Product Class Dist'!AN19*SUMPRODUCT('UEC Development'!$K$14:$K$19,'Efficiency Dist - SF'!AQ23:AQ28)\n+'Product Class Dist'!AN20*SUMPRODUCT('UEC Development'!$K$28:$K$33,'Efficiency Dist - SF'!AQ49:AQ54)\n+'Product Class Dist'!AN21*SUMPRODUCT('UEC Development'!$K$42:$K$46,'Efficiency Dist - SF'!AQ74:AQ78)\n+'Product Class Dist'!AN22*SUMPRODUCT('UEC Development'!$K$55:$K$58,'Efficiency Dist - SF'!AQ97:AQ100)\n+'Product Class Dist'!AN23*SUMPRODUCT('UEC Development'!$K$67:$K$71,'Efficiency Dist - SF'!AQ120:AQ124)\n+'Product Class Dist'!AN24*SUMPRODUCT('UEC Development'!$K$80:$K$84,'Efficiency Dist - SF'!AQ144:AQ148)","v":365.09374939653515},{"$f":"'Product Class Dist'!AO19*SUMPRODUCT('UEC Development'!$K$14:$K$19,'Efficiency Dist - SF'!AR23:AR28)\n+'Product Class Dist'!AO20*SUMPRODUCT('UEC Development'!$K$28:$K$33,'Efficiency Dist - SF'!AR49:AR54)\n+'Product Class Dist'!AO21*SUMPRODUCT('UEC Development'!$K$42:$K$46,'Efficiency Dist - SF'!AR74:AR78)\n+'Product Class Dist'!AO22*SUMPRODUCT('UEC Development'!$K$55:$K$58,'Efficiency Dist - SF'!AR97:AR100)\n+'Product Class Dist'!AO23*SUMPRODUCT('UEC Development'!$K$67:$K$71,'Efficiency Dist - SF'!AR120:AR124)\n+'Product Class Dist'!AO24*SUMPRODUCT('UEC Development'!$K$80:$K$84,'Efficiency Dist - SF'!AR144:AR148)","v":364.85012135521424},{"$f":"'Product Class Dist'!AP19*SUMPRODUCT('UEC Development'!$K$14:$K$19,'Efficiency Dist - SF'!AS23:AS28)\n+'Product Class Dist'!AP20*SUMPRODUCT('UEC Development'!$K$28:$K$33,'Efficiency Dist - SF'!AS49:AS54)\n+'Product Class Dist'!AP21*SUMPRODUCT('UEC Development'!$K$42:$K$46,'Efficiency Dist - SF'!AS74:AS78)\n+'Product Class Dist'!AP22*SUMPRODUCT('UEC Development'!$K$55:$K$58,'Efficiency Dist - SF'!AS97:AS100)\n+'Product Class Dist'!AP23*SUMPRODUCT('UEC Development'!$K$67:$K$71,'Efficiency Dist - SF'!AS120:AS124)\n+'Product Class Dist'!AP24*SUMPRODUCT('UEC Development'!$K$80:$K$84,'Efficiency Dist - SF'!AS144:AS148)","v":364.62800266209479},{"$f":"'Product Class Dist'!AQ19*SUMPRODUCT('UEC Development'!$K$14:$K$19,'Efficiency Dist - SF'!AT23:AT28)\n+'Product Class Dist'!AQ20*SUMPRODUCT('UEC Development'!$K$28:$K$33,'Efficiency Dist - SF'!AT49:AT54)\n+'Product Class Dist'!AQ21*SUMPRODUCT('UEC Development'!$K$42:$K$46,'Efficiency Dist - SF'!AT74:AT78)\n+'Product Class Dist'!AQ22*SUMPRODUCT('UEC Development'!$K$55:$K$58,'Efficiency Dist - SF'!AT97:AT100)\n+'Product Class Dist'!AQ23*SUMPRODUCT('UEC Development'!$K$67:$K$71,'Efficiency Dist - SF'!AT120:AT124)\n+'Product Class Dist'!AQ24*SUMPRODUCT('UEC Development'!$K$80:$K$84,'Efficiency Dist - SF'!AT144:AT148)","v":364.36519146431317},{"$f":"'Product Class Dist'!AR19*SUMPRODUCT('UEC Development'!$K$14:$K$19,'Efficiency Dist - SF'!AU23:AU28)\n+'Product Class Dist'!AR20*SUMPRODUCT('UEC Development'!$K$28:$K$33,'Efficiency Dist - SF'!AU49:AU54)\n+'Product Class Dist'!AR21*SUMPRODUCT('UEC Development'!$K$42:$K$46,'Efficiency Dist - SF'!AU74:AU78)\n+'Product Class Dist'!AR22*SUMPRODUCT('UEC Development'!$K$55:$K$58,'Efficiency Dist - SF'!AU97:AU100)\n+'Product Class Dist'!AR23*SUMPRODUCT('UEC Development'!$K$67:$K$71,'Efficiency Dist - SF'!AU120:AU124)\n+'Product Class Dist'!AR24*SUMPRODUCT('UEC Development'!$K$80:$K$84,'Efficiency Dist - SF'!AU144:AU148)","v":364.07281636785439},{"$f":"'Product Class Dist'!AS19*SUMPRODUCT('UEC Development'!$K$14:$K$19,'Efficiency Dist - SF'!AV23:AV28)\n+'Product Class Dist'!AS20*SUMPRODUCT('UEC Development'!$K$28:$K$33,'Efficiency Dist - SF'!AV49:AV54)\n+'Product Class Dist'!AS21*SUMPRODUCT('UEC Development'!$K$42:$K$46,'Efficiency Dist - SF'!AV74:AV78)\n+'Product Class Dist'!AS22*SUMPRODUCT('UEC Development'!$K$55:$K$58,'Efficiency Dist - SF'!AV97:AV100)\n+'Product Class Dist'!AS23*SUMPRODUCT('UEC Development'!$K$67:$K$71,'Efficiency Dist - SF'!AV120:AV124)\n+'Product Class Dist'!AS24*SUMPRODUCT('UEC Development'!$K$80:$K$84,'Efficiency Dist - SF'!AV144:AV148)","v":363.71470999763659},{"$f":"'Product Class Dist'!AT19*SUMPRODUCT('UEC Development'!$K$14:$K$19,'Efficiency Dist - SF'!AW23:AW28)\n+'Product Class Dist'!AT20*SUMPRODUCT('UEC Development'!$K$28:$K$33,'Efficiency Dist - SF'!AW49:AW54)\n+'Product Class Dist'!AT21*SUMPRODUCT('UEC Development'!$K$42:$K$46,'Efficiency Dist - SF'!AW74:AW78)\n+'Product Class Dist'!AT22*SUMPRODUCT('UEC Development'!$K$55:$K$58,'Efficiency Dist - SF'!AW97:AW100)\n+'Product Class Dist'!AT23*SUMPRODUCT('UEC Development'!$K$67:$K$71,'Efficiency Dist - SF'!AW120:AW124)\n+'Product Class Dist'!AT24*SUMPRODUCT('UEC Development'!$K$80:$K$84,'Efficiency Dist - SF'!AW144:AW148)","v":363.32635334146926},{"$f":"'Product Class Dist'!AU19*SUMPRODUCT('UEC Development'!$K$14:$K$19,'Efficiency Dist - SF'!AX23:AX28)\n+'Product Class Dist'!AU20*SUMPRODUCT('UEC Development'!$K$28:$K$33,'Efficiency Dist - SF'!AX49:AX54)\n+'Product Class Dist'!AU21*SUMPRODUCT('UEC Development'!$K$42:$K$46,'Efficiency Dist - SF'!AX74:AX78)\n+'Product Class Dist'!AU22*SUMPRODUCT('UEC Development'!$K$55:$K$58,'Efficiency Dist - SF'!AX97:AX100)\n+'Product Class Dist'!AU23*SUMPRODUCT('UEC Development'!$K$67:$K$71,'Efficiency Dist - SF'!AX120:AX124)\n+'Product Class Dist'!AU24*SUMPRODUCT('UEC Development'!$K$80:$K$84,'Efficiency Dist - SF'!AX144:AX148)","v":362.92463236889256},{"$f":"'Product Class Dist'!AV19*SUMPRODUCT('UEC Development'!$K$14:$K$19,'Efficiency Dist - SF'!AY23:AY28)\n+'Product Class Dist'!AV20*SUMPRODUCT('UEC Development'!$K$28:$K$33,'Efficiency Dist - SF'!AY49:AY54)\n+'Product Class Dist'!AV21*SUMPRODUCT('UEC Development'!$K$42:$K$46,'Efficiency Dist - SF'!AY74:AY78)\n+'Product Class Dist'!AV22*SUMPRODUCT('UEC Development'!$K$55:$K$58,'Efficiency Dist - SF'!AY97:AY100)\n+'Product Class Dist'!AV23*SUMPRODUCT('UEC Development'!$K$67:$K$71,'Efficiency Dist - SF'!AY120:AY124)\n+'Product Class Dist'!AV24*SUMPRODUCT('UEC Development'!$K$80:$K$84,'Efficiency Dist - SF'!AY144:AY148)","v":362.50606326046824},{"$f":"'Product Class Dist'!AW19*SUMPRODUCT('UEC Development'!$K$14:$K$19,'Efficiency Dist - SF'!AZ23:AZ28)\n+'Product Class Dist'!AW20*SUMPRODUCT('UEC Development'!$K$28:$K$33,'Efficiency Dist - SF'!AZ49:AZ54)\n+'Product Class Dist'!AW21*SUMPRODUCT('UEC Development'!$K$42:$K$46,'Efficiency Dist - SF'!AZ74:AZ78)\n+'Product Class Dist'!AW22*SUMPRODUCT('UEC Development'!$K$55:$K$58,'Efficiency Dist - SF'!AZ97:AZ100)\n+'Product Class Dist'!AW23*SUMPRODUCT('UEC Development'!$K$67:$K$71,'Efficiency Dist - SF'!AZ120:AZ124)\n+'Product Class Dist'!AW24*SUMPRODUCT('UEC Development'!$K$80:$K$84,'Efficiency Dist - SF'!AZ144:AZ148)","v":362.08644946830896},{"$f":"'Product Class Dist'!AX19*SUMPRODUCT('UEC Development'!$K$14:$K$19,'Efficiency Dist - SF'!BA23:BA28)\n+'Product Class Dist'!AX20*SUMPRODUCT('UEC Development'!$K$28:$K$33,'Efficiency Dist - SF'!BA49:BA54)\n+'Product Class Dist'!AX21*SUMPRODUCT('UEC Development'!$K$42:$K$46,'Efficiency Dist - SF'!BA74:BA78)\n+'Product Class Dist'!AX22*SUMPRODUCT('UEC Development'!$K$55:$K$58,'Efficiency Dist - SF'!BA97:BA100)\n+'Product Class Dist'!AX23*SUMPRODUCT('UEC Development'!$K$67:$K$71,'Efficiency Dist - SF'!BA120:BA124)\n+'Product Class Dist'!AX24*SUMPRODUCT('UEC Development'!$K$80:$K$84,'Efficiency Dist - SF'!BA144:BA148)","v":361.66578862245592},{"$f":"'Product Class Dist'!AY19*SUMPRODUCT('UEC Development'!$K$14:$K$19,'Efficiency Dist - SF'!BB23:BB28)\n+'Product Class Dist'!AY20*SUMPRODUCT('UEC Development'!$K$28:$K$33,'Efficiency Dist - SF'!BB49:BB54)\n+'Product Class Dist'!AY21*SUMPRODUCT('UEC Development'!$K$42:$K$46,'Efficiency Dist - SF'!BB74:BB78)\n+'Product Class Dist'!AY22*SUMPRODUCT('UEC Development'!$K$55:$K$58,'Efficiency Dist - SF'!BB97:BB100)\n+'Product Class Dist'!AY23*SUMPRODUCT('UEC Development'!$K$67:$K$71,'Efficiency Dist - SF'!BB120:BB124)\n+'Product Class Dist'!AY24*SUMPRODUCT('UEC Development'!$K$80:$K$84,'Efficiency Dist - SF'!BB144:BB148)","v":361.21950203753835},{"$f":"'Product Class Dist'!AZ19*SUMPRODUCT('UEC Development'!$K$14:$K$19,'Efficiency Dist - SF'!BC23:BC28)\n+'Product Class Dist'!AZ20*SUMPRODUCT('UEC Development'!$K$28:$K$33,'Efficiency Dist - SF'!BC49:BC54)\n+'Product Class Dist'!AZ21*SUMPRODUCT('UEC Development'!$K$42:$K$46,'Efficiency Dist - SF'!BC74:BC78)\n+'Product Class Dist'!AZ22*SUMPRODUCT('UEC Development'!$K$55:$K$58,'Efficiency Dist - SF'!BC97:BC100)\n+'Product Class Dist'!AZ23*SUMPRODUCT('UEC Development'!$K$67:$K$71,'Efficiency Dist - SF'!BC120:BC124)\n+'Product Class Dist'!AZ24*SUMPRODUCT('UEC Development'!$K$80:$K$84,'Efficiency Dist - SF'!BC144:BC148)","v":360.76042593952138},{"$f":"'Product Class Dist'!BA19*SUMPRODUCT('UEC Development'!$K$14:$K$19,'Efficiency Dist - SF'!BD23:BD28)\n+'Product Class Dist'!BA20*SUMPRODUCT('UEC Development'!$K$28:$K$33,'Efficiency Dist - SF'!BD49:BD54)\n+'Product Class Dist'!BA21*SUMPRODUCT('UEC Development'!$K$42:$K$46,'Efficiency Dist - SF'!BD74:BD78)\n+'Product Class Dist'!BA22*SUMPRODUCT('UEC Development'!$K$55:$K$58,'Efficiency Dist - SF'!BD97:BD100)\n+'Product Class Dist'!BA23*SUMPRODUCT('UEC Development'!$K$67:$K$71,'Efficiency Dist - SF'!BD120:BD124)\n+'Product Class Dist'!BA24*SUMPRODUCT('UEC Development'!$K$80:$K$84,'Efficiency Dist - SF'!BD144:BD148)","v":360.28969756345225},{"$f":"'Product Class Dist'!BB19*SUMPRODUCT('UEC Development'!$K$14:$K$19,'Efficiency Dist - SF'!BE23:BE28)\n+'Product Class Dist'!BB20*SUMPRODUCT('UEC Development'!$K$28:$K$33,'Efficiency Dist - SF'!BE49:BE54)\n+'Product Class Dist'!BB21*SUMPRODUCT('UEC Development'!$K$42:$K$46,'Efficiency Dist - SF'!BE74:BE78)\n+'Product Class Dist'!BB22*SUMPRODUCT('UEC Development'!$K$55:$K$58,'Efficiency Dist - SF'!BE97:BE100)\n+'Product Class Dist'!BB23*SUMPRODUCT('UEC Development'!$K$67:$K$71,'Efficiency Dist - SF'!BE120:BE124)\n+'Product Class Dist'!BB24*SUMPRODUCT('UEC Development'!$K$80:$K$84,'Efficiency Dist - SF'!BE144:BE148)","v":359.83382431605412},{"$f":"'Product Class Dist'!BC19*SUMPRODUCT('UEC Development'!$K$14:$K$19,'Efficiency Dist - SF'!BF23:BF28)\n+'Product Class Dist'!BC20*SUMPRODUCT('UEC Development'!$K$28:$K$33,'Efficiency Dist - SF'!BF49:BF54)\n+'Product Class Dist'!BC21*SUMPRODUCT('UEC Development'!$K$42:$K$46,'Efficiency Dist - SF'!BF74:BF78)\n+'Product Class Dist'!BC22*SUMPRODUCT('UEC Development'!$K$55:$K$58,'Efficiency Dist - SF'!BF97:BF100)\n+'Product Class Dist'!BC23*SUMPRODUCT('UEC Development'!$K$67:$K$71,'Efficiency Dist - SF'!BF120:BF124)\n+'Product Class Dist'!BC24*SUMPRODUCT('UEC Development'!$K$80:$K$84,'Efficiency Dist - SF'!BF144:BF148)","v":359.39055040907044},{"$f":"'Product Class Dist'!BD19*SUMPRODUCT('UEC Development'!$K$14:$K$19,'Efficiency Dist - SF'!BG23:BG28)\n+'Product Class Dist'!BD20*SUMPRODUCT('UEC Development'!$K$28:$K$33,'Efficiency Dist - SF'!BG49:BG54)\n+'Product Class Dist'!BD21*SUMPRODUCT('UEC Development'!$K$42:$K$46,'Efficiency Dist - SF'!BG74:BG78)\n+'Product Class Dist'!BD22*SUMPRODUCT('UEC Development'!$K$55:$K$58,'Efficiency Dist - SF'!BG97:BG100)\n+'Product Class Dist'!BD23*SUMPRODUCT('UEC Development'!$K$67:$K$71,'Efficiency Dist - SF'!BG120:BG124)\n+'Product Class Dist'!BD24*SUMPRODUCT('UEC Development'!$K$80:$K$84,'Efficiency Dist - SF'!BG144:BG148)","v":358.98522981345161},{"$f":"'Product Class Dist'!BE19*SUMPRODUCT('UEC Development'!$K$14:$K$19,'Efficiency Dist - SF'!BH23:BH28)\n+'Product Class Dist'!BE20*SUMPRODUCT('UEC Development'!$K$28:$K$33,'Efficiency Dist - SF'!BH49:BH54)\n+'Product Class Dist'!BE21*SUMPRODUCT('UEC Development'!$K$42:$K$46,'Efficiency Dist - SF'!BH74:BH78)\n+'Product Class Dist'!BE22*SUMPRODUCT('UEC Development'!$K$55:$K$58,'Efficiency Dist - SF'!BH97:BH100)\n+'Product Class Dist'!BE23*SUMPRODUCT('UEC Development'!$K$67:$K$71,'Efficiency Dist - SF'!BH120:BH124)\n+'Product Class Dist'!BE24*SUMPRODUCT('UEC Development'!$K$80:$K$84,'Efficiency Dist - SF'!BH144:BH148)","v":358.58702218463588}]
[]
[null,null,"Installed UEC (Vintage Weighted Average) "]
[null,null,null,1981,1982,1983,1984,1985,1986,1987,1988,1989,1990,1991,1992,1993,1994,1995,1996,1997,1998,1999,2000,2001,2002,2003,2004,2005,2006,2007,2008,2009,2010,2011,2012,2013,2014,2015,2016,2017,2018,2019,2020,2021,2022,2023,2024,2025,2026,2027,2028,2029,2030,2031,2032,2033,2034]
[null,null,"PRE-Case UEC",{"$f":"IF(D$15-$D$15+2<=LIFETIME_SF,D11,\nSUMPRODUCT(OFFSET(D11,0,(-1*LIFETIME_SF)+1,1,LIFETIME_SF),OFFSET('Shipments and Stock - SF'!E$14,0,(-1*LIFETIME_SF)+1,1,LIFETIME_SF))/\nSUM(OFFSET('Shipments and Stock - SF'!E$14,0,(-1*LIFETIME_SF)+1,1,LIFETIME_SF)))","v":389.10433686446271},{"$f":"IF(E$15-$D$15+2<=LIFETIME_SF,E11,\nSUMPRODUCT(OFFSET(E11,0,(-1*LIFETIME_SF)+1,1,LIFETIME_SF),OFFSET('Shipments and Stock - SF'!F$14,0,(-1*LIFETIME_SF)+1,1,LIFETIME_SF))/\nSUM(OFFSET('Shipments and Stock - SF'!F$14,0,(-1*LIFETIME_SF)+1,1,LIFETIME_SF)))","v":389.10433686446271},{"$f":"IF(F$15-$D$15+2<=LIFETIME_SF,F11,\nSUMPRODUCT(OFFSET(F11,0,(-1*LIFETIME_SF)+1,1,LIFETIME_SF),OFFSET('Shipments and Stock - SF'!G$14,0,(-1*LIFETIME_SF)+1,1,LIFETIME_SF))/\nSUM(OFFSET('Shipments and Stock - SF'!G$14,0,(-1*LIFETIME_SF)+1,1,LIFETIME_SF)))","v":389.10433686446271},{"$f":"IF(G$15-$D$15+2<=LIFETIME_SF,G11,\nSUMPRODUCT(OFFSET(G11,0,(-1*LIFETIME_SF)+1,1,LIFETIME_SF),OFFSET('Shipments and Stock - SF'!H$14,0,(-1*LIFETIME_SF)+1,1,LIFETIME_SF))/\nSUM(OFFSET('Shipments and Stock - SF'!H$14,0,(-1*LIFETIME_SF)+1,1,LIFETIME_SF)))","v":389.10433686446271},{"$f":"IF(H$15-$D$15+2<=LIFETIME_SF,H11,\nSUMPRODUCT(OFFSET(H11,0,(-1*LIFETIME_SF)+1,1,LIFETIME_SF),OFFSET('Shipments and Stock - SF'!I$14,0,(-1*LIFETIME_SF)+1,1,LIFETIME_SF))/\nSUM(OFFSET('Shipments and Stock - SF'!I$14,0,(-1*LIFETIME_SF)+1,1,LIFETIME_SF)))","v":389.10433686446271},{"$f":"IF(I$15-$D$15+2<=LIFETIME_SF,I11,\nSUMPRODUCT(OFFSET(I11,0,(-1*LIFETIME_SF)+1,1,LIFETIME_SF),OFFSET('Shipments and Stock - SF'!J$14,0,(-1*LIFETIME_SF)+1,1,LIFETIME_SF))/\nSUM(OFFSET('Shipments and Stock - SF'!J$14,0,(-1*LIFETIME_SF)+1,1,LIFETIME_SF)))","v":389.10433686446271},{"$f":"IF(J$15-$D$15+2<=LIFETIME_SF,J11,\nSUMPRODUCT(OFFSET(J11,0,(-1*LIFETIME_SF)+1,1,LIFETIME_SF),OFFSET('Shipments and Stock - SF'!K$14,0,(-1*LIFETIME_SF)+1,1,LIFETIME_SF))/\nSUM(OFFSET('Shipments and Stock - SF'!K$14,0,(-1*LIFETIME_SF)+1,1,LIFETIME_SF)))","v":389.10433686446271},{"$f":"IF(K$15-$D$15+2<=LIFETIME_SF,K11,\nSUMPRODUCT(OFFSET(K11,0,(-1*LIFETIME_SF)+1,1,LIFETIME_SF),OFFSET('Shipments and Stock - SF'!L$14,0,(-1*LIFETIME_SF)+1,1,LIFETIME_SF))/\nSUM(OFFSET('Shipments and Stock - SF'!L$14,0,(-1*LIFETIME_SF)+1,1,LIFETIME_SF)))","v":389.10433686446271},{"$f":"IF(L$15-$D$15+2<=LIFETIME_SF,L11,\nSUMPRODUCT(OFFSET(L11,0,(-1*LIFETIME_SF)+1,1,LIFETIME_SF),OFFSET('Shipments and Stock - SF'!M$14,0,(-1*LIFETIME_SF)+1,1,LIFETIME_SF))/\nSUM(OFFSET('Shipments and Stock - SF'!M$14,0,(-1*LIFETIME_SF)+1,1,LIFETIME_SF)))","v":389.10433686446271},{"$f":"IF(M$15-$D$15+2<=LIFETIME_SF,M11,\nSUMPRODUCT(OFFSET(M11,0,(-1*LIFETIME_SF)+1,1,LIFETIME_SF),OFFSET('Shipments and Stock - SF'!N$14,0,(-1*LIFETIME_SF)+1,1,LIFETIME_SF))/\nSUM(OFFSET('Shipments and Stock - SF'!N$14,0,(-1*LIFETIME_SF)+1,1,LIFETIME_SF)))","v":389.10433686446271},{"$f":"IF(N$15-$D$15+2<=LIFETIME_SF,N11,\nSUMPRODUCT(OFFSET(N11,0,(-1*LIFETIME_SF)+1,1,LIFETIME_SF),OFFSET('Shipments and Stock - SF'!O$14,0,(-1*LIFETIME_SF)+1,1,LIFETIME_SF))/\nSUM(OFFSET('Shipments and Stock - SF'!O$14,0,(-1*LIFETIME_SF)+1,1,LIFETIME_SF)))","v":389.1043368644626},{"$f":"IF(O$15-$D$15+2<=LIFETIME_SF,O11,\nSUMPRODUCT(OFFSET(O11,0,(-1*LIFETIME_SF)+1,1,LIFETIME_SF),OFFSET('Shipments and Stock - SF'!P$14,0,(-1*LIFETIME_SF)+1,1,LIFETIME_SF))/\nSUM(OFFSET('Shipments and Stock - SF'!P$14,0,(-1*LIFETIME_SF)+1,1,LIFETIME_SF)))","v":389.10433686446265},{"$f":"IF(P$15-$D$15+2<=LIFETIME_SF,P11,\nSUMPRODUCT(OFFSET(P11,0,(-1*LIFETIME_SF)+1,1,LIFETIME_SF),OFFSET('Shipments and Stock - SF'!Q$14,0,(-1*LIFETIME_SF)+1,1,LIFETIME_SF))/\nSUM(OFFSET('Shipments and Stock - SF'!Q$14,0,(-1*LIFETIME_SF)+1,1,LIFETIME_SF)))","v":389.10433686446265},{"$f":"IF(Q$15-$D$15+2<=LIFETIME_SF,Q11,\nSUMPRODUCT(OFFSET(Q11,0,(-1*LIFETIME_SF)+1,1,LIFETIME_SF),OFFSET('Shipments and Stock - SF'!R$14,0,(-1*LIFETIME_SF)+1,1,LIFETIME_SF))/\nSUM(OFFSET('Shipments and Stock - SF'!R$14,0,(-1*LIFETIME_SF)+1,1,LIFETIME_SF)))","v":389.10433686446265},{"$f":"IF(R$15-$D$15+2<=LIFETIME_SF,R11,\nSUMPRODUCT(OFFSET(R11,0,(-1*LIFETIME_SF)+1,1,LIFETIME_SF),OFFSET('Shipments and Stock - SF'!S$14,0,(-1*LIFETIME_SF)+1,1,LIFETIME_SF))/\nSUM(OFFSET('Shipments and Stock - SF'!S$14,0,(-1*LIFETIME_SF)+1,1,LIFETIME_SF)))","v":389.10433686446265},{"$f":"IF(S$15-$D$15+2<=LIFETIME_SF,S11,\nSUMPRODUCT(OFFSET(S11,0,(-1*LIFETIME_SF)+1,1,LIFETIME_SF),OFFSET('Shipments and Stock - SF'!T$14,0,(-1*LIFETIME_SF)+1,1,LIFETIME_SF))/\nSUM(OFFSET('Shipments and Stock - SF'!T$14,0,(-1*LIFETIME_SF)+1,1,LIFETIME_SF)))","v":389.10433686446265},{"$f":"IF(T$15-$D$15+2<=LIFETIME_SF,T11,\nSUMPRODUCT(OFFSET(T11,0,(-1*LIFETIME_SF)+1,1,LIFETIME_SF),OFFSET('Shipments and Stock - SF'!U$14,0,(-1*LIFETIME_SF)+1,1,LIFETIME_SF))/\nSUM(OFFSET('Shipments and Stock - SF'!U$14,0,(-1*LIFETIME_SF)+1,1,LIFETIME_SF)))","v":389.10433686446265},{"$f":"IF(U$15-$D$15+2<=LIFETIME_SF,U11,\nSUMPRODUCT(OFFSET(U11,0,(-1*LIFETIME_SF)+1,1,LIFETIME_SF),OFFSET('Shipments and Stock - SF'!V$14,0,(-1*LIFETIME_SF)+1,1,LIFETIME_SF))/\nSUM(OFFSET('Shipments and Stock - SF'!V$14,0,(-1*LIFETIME_SF)+1,1,LIFETIME_SF)))","v":389.10433686446265},{"$f":"IF(V$15-$D$15+2<=LIFETIME_SF,V11,\nSUMPRODUCT(OFFSET(V11,0,(-1*LIFETIME_SF)+1,1,LIFETIME_SF),OFFSET('Shipments and Stock - SF'!W$14,0,(-1*LIFETIME_SF)+1,1,LIFETIME_SF))/\nSUM(OFFSET('Shipments and Stock - SF'!W$14,0,(-1*LIFETIME_SF)+1,1,LIFETIME_SF)))","v":389.10433686446271},{"$f":"IF(W$15-$D$15+2<=LIFETIME_SF,W11,\nSUMPRODUCT(OFFSET(W11,0,(-1*LIFETIME_SF)+1,1,LIFETIME_SF),OFFSET('Shipments and Stock - SF'!X$14,0,(-1*LIFETIME_SF)+1,1,LIFETIME_SF))/\nSUM(OFFSET('Shipments and Stock - SF'!X$14,0,(-1*LIFETIME_SF)+1,1,LIFETIME_SF)))","v":389.10433686446271},{"$f":"IF(X$15-$D$15+2<=LIFETIME_SF,X11,\nSUMPRODUCT(OFFSET(X11,0,(-1*LIFETIME_SF)+1,1,LIFETIME_SF),OFFSET('Shipments and Stock - SF'!Y$14,0,(-1*LIFETIME_SF)+1,1,LIFETIME_SF))/\nSUM(OFFSET('Shipments and Stock - SF'!Y$14,0,(-1*LIFETIME_SF)+1,1,LIFETIME_SF)))","v":389.10433686446277},{"$f":"IF(Y$15-$D$15+2<=LIFETIME_SF,Y11,\nSUMPRODUCT(OFFSET(Y11,0,(-1*LIFETIME_SF)+1,1,LIFETIME_SF),OFFSET('Shipments and Stock - SF'!Z$14,0,(-1*LIFETIME_SF)+1,1,LIFETIME_SF))/\nSUM(OFFSET('Shipments and Stock - SF'!Z$14,0,(-1*LIFETIME_SF)+1,1,LIFETIME_SF)))","v":389.10433686446265},{"$f":"IF(Z$15-$D$15+2<=LIFETIME_SF,Z11,\nSUMPRODUCT(OFFSET(Z11,0,(-1*LIFETIME_SF)+1,1,LIFETIME_SF),OFFSET('Shipments and Stock - SF'!AA$14,0,(-1*LIFETIME_SF)+1,1,LIFETIME_SF))/\nSUM(OFFSET('Shipments and Stock - SF'!AA$14,0,(-1*LIFETIME_SF)+1,1,LIFETIME_SF)))","v":389.10433686446271},{"$f":"IF(AA$15-$D$15+2<=LIFETIME_SF,AA11,\nSUMPRODUCT(OFFSET(AA11,0,(-1*LIFETIME_SF)+1,1,LIFETIME_SF),OFFSET('Shipments and Stock - SF'!AB$14,0,(-1*LIFETIME_SF)+1,1,LIFETIME_SF))/\nSUM(OFFSET('Shipments and Stock - SF'!AB$14,0,(-1*LIFETIME_SF)+1,1,LIFETIME_SF)))","v":389.10433686446271},{"$f":"IF(AB$15-$D$15+2<=LIFETIME_SF,AB11,\nSUMPRODUCT(OFFSET(AB11,0,(-1*LIFETIME_SF)+1,1,LIFETIME_SF),OFFSET('Shipments and Stock - SF'!AC$14,0,(-1*LIFETIME_SF)+1,1,LIFETIME_SF))/\nSUM(OFFSET('Shipments and Stock - SF'!AC$14,0,(-1*LIFETIME_SF)+1,1,LIFETIME_SF)))","v":389.10433686446265},{"$f":"IF(AC$15-$D$15+2<=LIFETIME_SF,AC11,\nSUMPRODUCT(OFFSET(AC11,0,(-1*LIFETIME_SF)+1,1,LIFETIME_SF),OFFSET('Shipments and Stock - SF'!AD$14,0,(-1*LIFETIME_SF)+1,1,LIFETIME_SF))/\nSUM(OFFSET('Shipments and Stock - SF'!AD$14,0,(-1*LIFETIME_SF)+1,1,LIFETIME_SF)))","v":389.10433686446265},{"$f":"IF(AD$15-$D$15+2<=LIFETIME_SF,AD11,\nSUMPRODUCT(OFFSET(AD11,0,(-1*LIFETIME_SF)+1,1,LIFETIME_SF),OFFSET('Shipments and Stock - SF'!AE$14,0,(-1*LIFETIME_SF)+1,1,LIFETIME_SF))/\nSUM(OFFSET('Shipments and Stock - SF'!AE$14,0,(-1*LIFETIME_SF)+1,1,LIFETIME_SF)))","v":389.10433686446271},{"$f":"IF(AE$15-$D$15+2<=LIFETIME_SF,AE11,\nSUMPRODUCT(OFFSET(AE11,0,(-1*LIFETIME_SF)+1,1,LIFETIME_SF),OFFSET('Shipments and Stock - SF'!AF$14,0,(-1*LIFETIME_SF)+1,1,LIFETIME_SF))/\nSUM(OFFSET('Shipments and Stock - SF'!AF$14,0,(-1*LIFETIME_SF)+1,1,LIFETIME_SF)))","v":389.10433686446271},{"$f":"IF(AF$15-$D$15+2<=LIFETIME_SF,AF11,\nSUMPRODUCT(OFFSET(AF11,0,(-1*LIFETIME_SF)+1,1,LIFETIME_SF),OFFSET('Shipments and Stock - SF'!AG$14,0,(-1*LIFETIME_SF)+1,1,LIFETIME_SF))/\nSUM(OFFSET('Shipments and Stock - SF'!AG$14,0,(-1*LIFETIME_SF)+1,1,LIFETIME_SF)))","v":389.10433686446271},{"$f":"IF(AG$15-$D$15+2<=LIFETIME_SF,AG11,\nSUMPRODUCT(OFFSET(AG11,0,(-1*LIFETIME_SF)+1,1,LIFETIME_SF),OFFSET('Shipments and Stock - SF'!AH$14,0,(-1*LIFETIME_SF)+1,1,LIFETIME_SF))/\nSUM(OFFSET('Shipments and Stock - SF'!AH$14,0,(-1*LIFETIME_SF)+1,1,LIFETIME_SF)))","v":389.10433686446271},{"$f":"IF(AH$15-$D$15+2<=LIFETIME_SF,AH11,\nSUMPRODUCT(OFFSET(AH11,0,(-1*LIFETIME_SF)+1,1,LIFETIME_SF),OFFSET('Shipments and Stock - SF'!AI$14,0,(-1*LIFETIME_SF)+1,1,LIFETIME_SF))/\nSUM(OFFSET('Shipments and Stock - SF'!AI$14,0,(-1*LIFETIME_SF)+1,1,LIFETIME_SF)))","v":389.10433686446265},{"$f":"IF(AI$15-$D$15+2<=LIFETIME_SF,AI11,\nSUMPRODUCT(OFFSET(AI11,0,(-1*LIFETIME_SF)+1,1,LIFETIME_SF),OFFSET('Shipments and Stock - SF'!AJ$14,0,(-1*LIFETIME_SF)+1,1,LIFETIME_SF))/\nSUM(OFFSET('Shipments and Stock - SF'!AJ$14,0,(-1*LIFETIME_SF)+1,1,LIFETIME_SF)))","v":389.10433686446265},{"$f":"IF(AJ$15-$D$15+2<=LIFETIME_SF,AJ11,\nSUMPRODUCT(OFFSET(AJ11,0,(-1*LIFETIME_SF)+1,1,LIFETIME_SF),OFFSET('Shipments and Stock - SF'!AK$14,0,(-1*LIFETIME_SF)+1,1,LIFETIME_SF))/\nSUM(OFFSET('Shipments and Stock - SF'!AK$14,0,(-1*LIFETIME_SF)+1,1,LIFETIME_SF)))","v":389.1043368644626},{"$f":"IF(AK$15-$D$15+2<=LIFETIME_SF,AK11,\nSUMPRODUCT(OFFSET(AK11,0,(-1*LIFETIME_SF)+1,1,LIFETIME_SF),OFFSET('Shipments and Stock - SF'!AL$14,0,(-1*LIFETIME_SF)+1,1,LIFETIME_SF))/\nSUM(OFFSET('Shipments and Stock - SF'!AL$14,0,(-1*LIFETIME_SF)+1,1,LIFETIME_SF)))","v":389.10433686446265},{"$f":"IF(AL$15-$D$15+2<=LIFETIME_SF,AL11,\nSUMPRODUCT(OFFSET(AL11,0,(-1*LIFETIME_SF)+1,1,LIFETIME_SF),OFFSET('Shipments and Stock - SF'!AM$14,0,(-1*LIFETIME_SF)+1,1,LIFETIME_SF))/\nSUM(OFFSET('Shipments and Stock - SF'!AM$14,0,(-1*LIFETIME_SF)+1,1,LIFETIME_SF)))","v":388.97999036057161},{"$f":"IF(AM$15-$D$15+2<=LIFETIME_SF,AM11,\nSUMPRODUCT(OFFSET(AM11,0,(-1*LIFETIME_SF)+1,1,LIFETIME_SF),OFFSET('Shipments and Stock - SF'!AN$14,0,(-1*LIFETIME_SF)+1,1,LIFETIME_SF))/\nSUM(OFFSET('Shipments and Stock - SF'!AN$14,0,(-1*LIFETIME_SF)+1,1,LIFETIME_SF)))","v":388.75764858223692},{"$f":"IF(AN$15-$D$15+2<=LIFETIME_SF,AN11,\nSUMPRODUCT(OFFSET(AN11,0,(-1*LIFETIME_SF)+1,1,LIFETIME_SF),OFFSET('Shipments and Stock - SF'!AO$14,0,(-1*LIFETIME_SF)+1,1,LIFETIME_SF))/\nSUM(OFFSET('Shipments and Stock - SF'!AO$14,0,(-1*LIFETIME_SF)+1,1,LIFETIME_SF)))","v":388.44882645194355},{"$f":"IF(AO$15-$D$15+2<=LIFETIME_SF,AO11,\nSUMPRODUCT(OFFSET(AO11,0,(-1*LIFETIME_SF)+1,1,LIFETIME_SF),OFFSET('Shipments and Stock - SF'!AP$14,0,(-1*LIFETIME_SF)+1,1,LIFETIME_SF))/\nSUM(OFFSET('Shipments and Stock - SF'!AP$14,0,(-1*LIFETIME_SF)+1,1,LIFETIME_SF)))","v":388.06674458200138},{"$f":"IF(AP$15-$D$15+2<=LIFETIME_SF,AP11,\nSUMPRODUCT(OFFSET(AP11,0,(-1*LIFETIME_SF)+1,1,LIFETIME_SF),OFFSET('Shipments and Stock - SF'!AQ$14,0,(-1*LIFETIME_SF)+1,1,LIFETIME_SF))/\nSUM(OFFSET('Shipments and Stock - SF'!AQ$14,0,(-1*LIFETIME_SF)+1,1,LIFETIME_SF)))","v":387.62904560401483},{"$f":"IF(AQ$15-$D$15+2<=LIFETIME_SF,AQ11,\nSUMPRODUCT(OFFSET(AQ11,0,(-1*LIFETIME_SF)+1,1,LIFETIME_SF),OFFSET('Shipments and Stock - SF'!AR$14,0,(-1*LIFETIME_SF)+1,1,LIFETIME_SF))/\nSUM(OFFSET('Shipments and Stock - SF'!AR$14,0,(-1*LIFETIME_SF)+1,1,LIFETIME_SF)))","v":387.12639545568504},{"$f":"IF(AR$15-$D$15+2<=LIFETIME_SF,AR11,\nSUMPRODUCT(OFFSET(AR11,0,(-1*LIFETIME_SF)+1,1,LIFETIME_SF),OFFSET('Shipments and Stock - SF'!AS$14,0,(-1*LIFETIME_SF)+1,1,LIFETIME_SF))/\nSUM(OFFSET('Shipments and Stock - SF'!AS$14,0,(-1*LIFETIME_SF)+1,1,LIFETIME_SF)))","v":386.52848591914511},{"$f":"IF(AS$15-$D$15+2<=LIFETIME_SF,AS11,\nSUMPRODUCT(OFFSET(AS11,0,(-1*LIFETIME_SF)+1,1,LIFETIME_SF),OFFSET('Shipments and Stock - SF'!AT$14,0,(-1*LIFETIME_SF)+1,1,LIFETIME_SF))/\nSUM(OFFSET('Shipments and Stock - SF'!AT$14,0,(-1*LIFETIME_SF)+1,1,LIFETIME_SF)))","v":385.83236706516379},{"$f":"IF(AT$15-$D$15+2<=LIFETIME_SF,AT11,\nSUMPRODUCT(OFFSET(AT11,0,(-1*LIFETIME_SF)+1,1,LIFETIME_SF),OFFSET('Shipments and Stock - SF'!AU$14,0,(-1*LIFETIME_SF)+1,1,LIFETIME_SF))/\nSUM(OFFSET('Shipments and Stock - SF'!AU$14,0,(-1*LIFETIME_SF)+1,1,LIFETIME_SF)))","v":384.9378637373099},{"$f":"IF(AU$15-$D$15+2<=LIFETIME_SF,AU11,\nSUMPRODUCT(OFFSET(AU11,0,(-1*LIFETIME_SF)+1,1,LIFETIME_SF),OFFSET('Shipments and Stock - SF'!AV$14,0,(-1*LIFETIME_SF)+1,1,LIFETIME_SF))/\nSUM(OFFSET('Shipments and Stock - SF'!AV$14,0,(-1*LIFETIME_SF)+1,1,LIFETIME_SF)))","v":383.96793337358531},{"$f":"IF(AV$15-$D$15+2<=LIFETIME_SF,AV11,\nSUMPRODUCT(OFFSET(AV11,0,(-1*LIFETIME_SF)+1,1,LIFETIME_SF),OFFSET('Shipments and Stock - SF'!AW$14,0,(-1*LIFETIME_SF)+1,1,LIFETIME_SF))/\nSUM(OFFSET('Shipments and Stock - SF'!AW$14,0,(-1*LIFETIME_SF)+1,1,LIFETIME_SF)))","v":382.79397292480644},{"$f":"IF(AW$15-$D$15+2<=LIFETIME_SF,AW11,\nSUMPRODUCT(OFFSET(AW11,0,(-1*LIFETIME_SF)+1,1,LIFETIME_SF),OFFSET('Shipments and Stock - SF'!AX$14,0,(-1*LIFETIME_SF)+1,1,LIFETIME_SF))/\nSUM(OFFSET('Shipments and Stock - SF'!AX$14,0,(-1*LIFETIME_SF)+1,1,LIFETIME_SF)))","v":381.75035567778053},{"$f":"IF(AX$15-$D$15+2<=LIFETIME_SF,AX11,\nSUMPRODUCT(OFFSET(AX11,0,(-1*LIFETIME_SF)+1,1,LIFETIME_SF),OFFSET('Shipments and Stock - SF'!AY$14,0,(-1*LIFETIME_SF)+1,1,LIFETIME_SF))/\nSUM(OFFSET('Shipments and Stock - SF'!AY$14,0,(-1*LIFETIME_SF)+1,1,LIFETIME_SF)))","v":380.65791304007223},{"$f":"IF(AY$15-$D$15+2<=LIFETIME_SF,AY11,\nSUMPRODUCT(OFFSET(AY11,0,(-1*LIFETIME_SF)+1,1,LIFETIME_SF),OFFSET('Shipments and Stock - SF'!AZ$14,0,(-1*LIFETIME_SF)+1,1,LIFETIME_SF))/\nSUM(OFFSET('Shipments and Stock - SF'!AZ$14,0,(-1*LIFETIME_SF)+1,1,LIFETIME_SF)))","v":379.64022206400489},{"$f":"IF(AZ$15-$D$15+2<=LIFETIME_SF,AZ11,\nSUMPRODUCT(OFFSET(AZ11,0,(-1*LIFETIME_SF)+1,1,LIFETIME_SF),OFFSET('Shipments and Stock - SF'!BA$14,0,(-1*LIFETIME_SF)+1,1,LIFETIME_SF))/\nSUM(OFFSET('Shipments and Stock - SF'!BA$14,0,(-1*LIFETIME_SF)+1,1,LIFETIME_SF)))","v":378.68646062707199},{"$f":"IF(BA$15-$D$15+2<=LIFETIME_SF,BA11,\nSUMPRODUCT(OFFSET(BA11,0,(-1*LIFETIME_SF)+1,1,LIFETIME_SF),OFFSET('Shipments and Stock - SF'!BB$14,0,(-1*LIFETIME_SF)+1,1,LIFETIME_SF))/\nSUM(OFFSET('Shipments and Stock - SF'!BB$14,0,(-1*LIFETIME_SF)+1,1,LIFETIME_SF)))","v":377.80267270451185},{"$f":"IF(BB$15-$D$15+2<=LIFETIME_SF,BB11,\nSUMPRODUCT(OFFSET(BB11,0,(-1*LIFETIME_SF)+1,1,LIFETIME_SF),OFFSET('Shipments and Stock - SF'!BC$14,0,(-1*LIFETIME_SF)+1,1,LIFETIME_SF))/\nSUM(OFFSET('Shipments and Stock - SF'!BC$14,0,(-1*LIFETIME_SF)+1,1,LIFETIME_SF)))","v":376.95186324102849},{"$f":"IF(BC$15-$D$15+2<=LIFETIME_SF,BC11,\nSUMPRODUCT(OFFSET(BC11,0,(-1*LIFETIME_SF)+1,1,LIFETIME_SF),OFFSET('Shipments and Stock - SF'!BD$14,0,(-1*LIFETIME_SF)+1,1,LIFETIME_SF))/\nSUM(OFFSET('Shipments and Stock - SF'!BD$14,0,(-1*LIFETIME_SF)+1,1,LIFETIME_SF)))","v":376.08578752795506},{"$f":"IF(BD$15-$D$15+2<=LIFETIME_SF,BD11,\nSUMPRODUCT(OFFSET(BD11,0,(-1*LIFETIME_SF)+1,1,LIFETIME_SF),OFFSET('Shipments and Stock - SF'!BE$14,0,(-1*LIFETIME_SF)+1,1,LIFETIME_SF))/\nSUM(OFFSET('Shipments and Stock - SF'!BE$14,0,(-1*LIFETIME_SF)+1,1,LIFETIME_SF)))","v":375.19890829771845},{"$f":"IF(BE$15-$D$15+2<=LIFETIME_SF,BE11,\nSUMPRODUCT(OFFSET(BE11,0,(-1*LIFETIME_SF)+1,1,LIFETIME_SF),OFFSET('Shipments and Stock - SF'!BF$14,0,(-1*LIFETIME_SF)+1,1,LIFETIME_SF))/\nSUM(OFFSET('Shipments and Stock - SF'!BF$14,0,(-1*LIFETIME_SF)+1,1,LIFETIME_SF)))","v":374.19132338346026}]
[null,null,"POST-Case UEC",{"$f":"IF(D$15-$D$15+2<=LIFETIME_SF,D12,\nSUMPRODUCT(OFFSET(D12,0,(-1*LIFETIME_SF)+1,1,LIFETIME_SF),OFFSET('Shipments and Stock - SF'!E$14,0,(-1*LIFETIME_SF)+1,1,LIFETIME_SF))/\nSUM(OFFSET('Shipments and Stock - SF'!E$14,0,(-1*LIFETIME_SF)+1,1,LIFETIME_SF)))","v":389.10433686446271},{"$f":"IF(E$15-$D$15+2<=LIFETIME_SF,E12,\nSUMPRODUCT(OFFSET(E12,0,(-1*LIFETIME_SF)+1,1,LIFETIME_SF),OFFSET('Shipments and Stock - SF'!F$14,0,(-1*LIFETIME_SF)+1,1,LIFETIME_SF))/\nSUM(OFFSET('Shipments and Stock - SF'!F$14,0,(-1*LIFETIME_SF)+1,1,LIFETIME_SF)))","v":389.10433686446271},{"$f":"IF(F$15-$D$15+2<=LIFETIME_SF,F12,\nSUMPRODUCT(OFFSET(F12,0,(-1*LIFETIME_SF)+1,1,LIFETIME_SF),OFFSET('Shipments and Stock - SF'!G$14,0,(-1*LIFETIME_SF)+1,1,LIFETIME_SF))/\nSUM(OFFSET('Shipments and Stock - SF'!G$14,0,(-1*LIFETIME_SF)+1,1,LIFETIME_SF)))","v":389.10433686446271},{"$f":"IF(G$15-$D$15+2<=LIFETIME_SF,G12,\nSUMPRODUCT(OFFSET(G12,0,(-1*LIFETIME_SF)+1,1,LIFETIME_SF),OFFSET('Shipments and Stock - SF'!H$14,0,(-1*LIFETIME_SF)+1,1,LIFETIME_SF))/\nSUM(OFFSET('Shipments and Stock - SF'!H$14,0,(-1*LIFETIME_SF)+1,1,LIFETIME_SF)))","v":389.10433686446271},{"$f":"IF(H$15-$D$15+2<=LIFETIME_SF,H12,\nSUMPRODUCT(OFFSET(H12,0,(-1*LIFETIME_SF)+1,1,LIFETIME_SF),OFFSET('Shipments and Stock - SF'!I$14,0,(-1*LIFETIME_SF)+1,1,LIFETIME_SF))/\nSUM(OFFSET('Shipments and Stock - SF'!I$14,0,(-1*LIFETIME_SF)+1,1,LIFETIME_SF)))","v":389.10433686446271},{"$f":"IF(I$15-$D$15+2<=LIFETIME_SF,I12,\nSUMPRODUCT(OFFSET(I12,0,(-1*LIFETIME_SF)+1,1,LIFETIME_SF),OFFSET('Shipments and Stock - SF'!J$14,0,(-1*LIFETIME_SF)+1,1,LIFETIME_SF))/\nSUM(OFFSET('Shipments and Stock - SF'!J$14,0,(-1*LIFETIME_SF)+1,1,LIFETIME_SF)))","v":389.10433686446271},{"$f":"IF(J$15-$D$15+2<=LIFETIME_SF,J12,\nSUMPRODUCT(OFFSET(J12,0,(-1*LIFETIME_SF)+1,1,LIFETIME_SF),OFFSET('Shipments and Stock - SF'!K$14,0,(-1*LIFETIME_SF)+1,1,LIFETIME_SF))/\nSUM(OFFSET('Shipments and Stock - SF'!K$14,0,(-1*LIFETIME_SF)+1,1,LIFETIME_SF)))","v":389.10433686446271},{"$f":"IF(K$15-$D$15+2<=LIFETIME_SF,K12,\nSUMPRODUCT(OFFSET(K12,0,(-1*LIFETIME_SF)+1,1,LIFETIME_SF),OFFSET('Shipments and Stock - SF'!L$14,0,(-1*LIFETIME_SF)+1,1,LIFETIME_SF))/\nSUM(OFFSET('Shipments and Stock - SF'!L$14,0,(-1*LIFETIME_SF)+1,1,LIFETIME_SF)))","v":389.10433686446271},{"$f":"IF(L$15-$D$15+2<=LIFETIME_SF,L12,\nSUMPRODUCT(OFFSET(L12,0,(-1*LIFETIME_SF)+1,1,LIFETIME_SF),OFFSET('Shipments and Stock - SF'!M$14,0,(-1*LIFETIME_SF)+1,1,LIFETIME_SF))/\nSUM(OFFSET('Shipments and Stock - SF'!M$14,0,(-1*LIFETIME_SF)+1,1,LIFETIME_SF)))","v":389.10433686446271},{"$f":"IF(M$15-$D$15+2<=LIFETIME_SF,M12,\nSUMPRODUCT(OFFSET(M12,0,(-1*LIFETIME_SF)+1,1,LIFETIME_SF),OFFSET('Shipments and Stock - SF'!N$14,0,(-1*LIFETIME_SF)+1,1,LIFETIME_SF))/\nSUM(OFFSET('Shipments and Stock - SF'!N$14,0,(-1*LIFETIME_SF)+1,1,LIFETIME_SF)))","v":389.10433686446271},{"$f":"IF(N$15-$D$15+2<=LIFETIME_SF,N12,\nSUMPRODUCT(OFFSET(N12,0,(-1*LIFETIME_SF)+1,1,LIFETIME_SF),OFFSET('Shipments and Stock - SF'!O$14,0,(-1*LIFETIME_SF)+1,1,LIFETIME_SF))/\nSUM(OFFSET('Shipments and Stock - SF'!O$14,0,(-1*LIFETIME_SF)+1,1,LIFETIME_SF)))","v":389.1043368644626},{"$f":"IF(O$15-$D$15+2<=LIFETIME_SF,O12,\nSUMPRODUCT(OFFSET(O12,0,(-1*LIFETIME_SF)+1,1,LIFETIME_SF),OFFSET('Shipments and Stock - SF'!P$14,0,(-1*LIFETIME_SF)+1,1,LIFETIME_SF))/\nSUM(OFFSET('Shipments and Stock - SF'!P$14,0,(-1*LIFETIME_SF)+1,1,LIFETIME_SF)))","v":389.10433686446265},{"$f":"IF(P$15-$D$15+2<=LIFETIME_SF,P12,\nSUMPRODUCT(OFFSET(P12,0,(-1*LIFETIME_SF)+1,1,LIFETIME_SF),OFFSET('Shipments and Stock - SF'!Q$14,0,(-1*LIFETIME_SF)+1,1,LIFETIME_SF))/\nSUM(OFFSET('Shipments and Stock - SF'!Q$14,0,(-1*LIFETIME_SF)+1,1,LIFETIME_SF)))","v":389.10433686446265},{"$f":"IF(Q$15-$D$15+2<=LIFETIME_SF,Q12,\nSUMPRODUCT(OFFSET(Q12,0,(-1*LIFETIME_SF)+1,1,LIFETIME_SF),OFFSET('Shipments and Stock - SF'!R$14,0,(-1*LIFETIME_SF)+1,1,LIFETIME_SF))/\nSUM(OFFSET('Shipments and Stock - SF'!R$14,0,(-1*LIFETIME_SF)+1,1,LIFETIME_SF)))","v":389.10433686446265},{"$f":"IF(R$15-$D$15+2<=LIFETIME_SF,R12,\nSUMPRODUCT(OFFSET(R12,0,(-1*LIFETIME_SF)+1,1,LIFETIME_SF),OFFSET('Shipments and Stock - SF'!S$14,0,(-1*LIFETIME_SF)+1,1,LIFETIME_SF))/\nSUM(OFFSET('Shipments and Stock - SF'!S$14,0,(-1*LIFETIME_SF)+1,1,LIFETIME_SF)))","v":389.10433686446265},{"$f":"IF(S$15-$D$15+2<=LIFETIME_SF,S12,\nSUMPRODUCT(OFFSET(S12,0,(-1*LIFETIME_SF)+1,1,LIFETIME_SF),OFFSET('Shipments and Stock - SF'!T$14,0,(-1*LIFETIME_SF)+1,1,LIFETIME_SF))/\nSUM(OFFSET('Shipments and Stock - SF'!T$14,0,(-1*LIFETIME_SF)+1,1,LIFETIME_SF)))","v":389.10433686446265},{"$f":"IF(T$15-$D$15+2<=LIFETIME_SF,T12,\nSUMPRODUCT(OFFSET(T12,0,(-1*LIFETIME_SF)+1,1,LIFETIME_SF),OFFSET('Shipments and Stock - SF'!U$14,0,(-1*LIFETIME_SF)+1,1,LIFETIME_SF))/\nSUM(OFFSET('Shipments and Stock - SF'!U$14,0,(-1*LIFETIME_SF)+1,1,LIFETIME_SF)))","v":389.10433686446265},{"$f":"IF(U$15-$D$15+2<=LIFETIME_SF,U12,\nSUMPRODUCT(OFFSET(U12,0,(-1*LIFETIME_SF)+1,1,LIFETIME_SF),OFFSET('Shipments and Stock - SF'!V$14,0,(-1*LIFETIME_SF)+1,1,LIFETIME_SF))/\nSUM(OFFSET('Shipments and Stock - SF'!V$14,0,(-1*LIFETIME_SF)+1,1,LIFETIME_SF)))","v":389.10433686446265},{"$f":"IF(V$15-$D$15+2<=LIFETIME_SF,V12,\nSUMPRODUCT(OFFSET(V12,0,(-1*LIFETIME_SF)+1,1,LIFETIME_SF),OFFSET('Shipments and Stock - SF'!W$14,0,(-1*LIFETIME_SF)+1,1,LIFETIME_SF))/\nSUM(OFFSET('Shipments and Stock - SF'!W$14,0,(-1*LIFETIME_SF)+1,1,LIFETIME_SF)))","v":389.10433686446271},{"$f":"IF(W$15-$D$15+2<=LIFETIME_SF,W12,\nSUMPRODUCT(OFFSET(W12,0,(-1*LIFETIME_SF)+1,1,LIFETIME_SF),OFFSET('Shipments and Stock - SF'!X$14,0,(-1*LIFETIME_SF)+1,1,LIFETIME_SF))/\nSUM(OFFSET('Shipments and Stock - SF'!X$14,0,(-1*LIFETIME_SF)+1,1,LIFETIME_SF)))","v":389.10433686446271},{"$f":"IF(X$15-$D$15+2<=LIFETIME_SF,X12,\nSUMPRODUCT(OFFSET(X12,0,(-1*LIFETIME_SF)+1,1,LIFETIME_SF),OFFSET('Shipments and Stock - SF'!Y$14,0,(-1*LIFETIME_SF)+1,1,LIFETIME_SF))/\nSUM(OFFSET('Shipments and Stock - SF'!Y$14,0,(-1*LIFETIME_SF)+1,1,LIFETIME_SF)))","v":389.10433686446277},{"$f":"IF(Y$15-$D$15+2<=LIFETIME_SF,Y12,\nSUMPRODUCT(OFFSET(Y12,0,(-1*LIFETIME_SF)+1,1,LIFETIME_SF),OFFSET('Shipments and Stock - SF'!Z$14,0,(-1*LIFETIME_SF)+1,1,LIFETIME_SF))/\nSUM(OFFSET('Shipments and Stock - SF'!Z$14,0,(-1*LIFETIME_SF)+1,1,LIFETIME_SF)))","v":389.10433686446265},{"$f":"IF(Z$15-$D$15+2<=LIFETIME_SF,Z12,\nSUMPRODUCT(OFFSET(Z12,0,(-1*LIFETIME_SF)+1,1,LIFETIME_SF),OFFSET('Shipments and Stock - SF'!AA$14,0,(-1*LIFETIME_SF)+1,1,LIFETIME_SF))/\nSUM(OFFSET('Shipments and Stock - SF'!AA$14,0,(-1*LIFETIME_SF)+1,1,LIFETIME_SF)))","v":389.10433686446271},{"$f":"IF(AA$15-$D$15+2<=LIFETIME_SF,AA12,\nSUMPRODUCT(OFFSET(AA12,0,(-1*LIFETIME_SF)+1,1,LIFETIME_SF),OFFSET('Shipments and Stock - SF'!AB$14,0,(-1*LIFETIME_SF)+1,1,LIFETIME_SF))/\nSUM(OFFSET('Shipments and Stock - SF'!AB$14,0,(-1*LIFETIME_SF)+1,1,LIFETIME_SF)))","v":389.10433686446271},{"$f":"IF(AB$15-$D$15+2<=LIFETIME_SF,AB12,\nSUMPRODUCT(OFFSET(AB12,0,(-1*LIFETIME_SF)+1,1,LIFETIME_SF),OFFSET('Shipments and Stock - SF'!AC$14,0,(-1*LIFETIME_SF)+1,1,LIFETIME_SF))/\nSUM(OFFSET('Shipments and Stock - SF'!AC$14,0,(-1*LIFETIME_SF)+1,1,LIFETIME_SF)))","v":389.10433686446265},{"$f":"IF(AC$15-$D$15+2<=LIFETIME_SF,AC12,\nSUMPRODUCT(OFFSET(AC12,0,(-1*LIFETIME_SF)+1,1,LIFETIME_SF),OFFSET('Shipments and Stock - SF'!AD$14,0,(-1*LIFETIME_SF)+1,1,LIFETIME_SF))/\nSUM(OFFSET('Shipments and Stock - SF'!AD$14,0,(-1*LIFETIME_SF)+1,1,LIFETIME_SF)))","v":389.10433686446265},{"$f":"IF(AD$15-$D$15+2<=LIFETIME_SF,AD12,\nSUMPRODUCT(OFFSET(AD12,0,(-1*LIFETIME_SF)+1,1,LIFETIME_SF),OFFSET('Shipments and Stock - SF'!AE$14,0,(-1*LIFETIME_SF)+1,1,LIFETIME_SF))/\nSUM(OFFSET('Shipments and Stock - SF'!AE$14,0,(-1*LIFETIME_SF)+1,1,LIFETIME_SF)))","v":389.10433686446271},{"$f":"IF(AE$15-$D$15+2<=LIFETIME_SF,AE12,\nSUMPRODUCT(OFFSET(AE12,0,(-1*LIFETIME_SF)+1,1,LIFETIME_SF),OFFSET('Shipments and Stock - SF'!AF$14,0,(-1*LIFETIME_SF)+1,1,LIFETIME_SF))/\nSUM(OFFSET('Shipments and Stock - SF'!AF$14,0,(-1*LIFETIME_SF)+1,1,LIFETIME_SF)))","v":389.10433686446271},{"$f":"IF(AF$15-$D$15+2<=LIFETIME_SF,AF12,\nSUMPRODUCT(OFFSET(AF12,0,(-1*LIFETIME_SF)+1,1,LIFETIME_SF),OFFSET('Shipments and Stock - SF'!AG$14,0,(-1*LIFETIME_SF)+1,1,LIFETIME_SF))/\nSUM(OFFSET('Shipments and Stock - SF'!AG$14,0,(-1*LIFETIME_SF)+1,1,LIFETIME_SF)))","v":389.10433686446271},{"$f":"IF(AG$15-$D$15+2<=LIFETIME_SF,AG12,\nSUMPRODUCT(OFFSET(AG12,0,(-1*LIFETIME_SF)+1,1,LIFETIME_SF),OFFSET('Shipments and Stock - SF'!AH$14,0,(-1*LIFETIME_SF)+1,1,LIFETIME_SF))/\nSUM(OFFSET('Shipments and Stock - SF'!AH$14,0,(-1*LIFETIME_SF)+1,1,LIFETIME_SF)))","v":389.10433686446271},{"$f":"IF(AH$15-$D$15+2<=LIFETIME_SF,AH12,\nSUMPRODUCT(OFFSET(AH12,0,(-1*LIFETIME_SF)+1,1,LIFETIME_SF),OFFSET('Shipments and Stock - SF'!AI$14,0,(-1*LIFETIME_SF)+1,1,LIFETIME_SF))/\nSUM(OFFSET('Shipments and Stock - SF'!AI$14,0,(-1*LIFETIME_SF)+1,1,LIFETIME_SF)))","v":389.10433686446265},{"$f":"IF(AI$15-$D$15+2<=LIFETIME_SF,AI12,\nSUMPRODUCT(OFFSET(AI12,0,(-1*LIFETIME_SF)+1,1,LIFETIME_SF),OFFSET('Shipments and Stock - SF'!AJ$14,0,(-1*LIFETIME_SF)+1,1,LIFETIME_SF))/\nSUM(OFFSET('Shipments and Stock - SF'!AJ$14,0,(-1*LIFETIME_SF)+1,1,LIFETIME_SF)))","v":389.10433686446265},{"$f":"IF(AJ$15-$D$15+2<=LIFETIME_SF,AJ12,\nSUMPRODUCT(OFFSET(AJ12,0,(-1*LIFETIME_SF)+1,1,LIFETIME_SF),OFFSET('Shipments and Stock - SF'!AK$14,0,(-1*LIFETIME_SF)+1,1,LIFETIME_SF))/\nSUM(OFFSET('Shipments and Stock - SF'!AK$14,0,(-1*LIFETIME_SF)+1,1,LIFETIME_SF)))","v":389.1043368644626},{"$f":"IF(AK$15-$D$15+2<=LIFETIME_SF,AK12,\nSUMPRODUCT(OFFSET(AK12,0,(-1*LIFETIME_SF)+1,1,LIFETIME_SF),OFFSET('Shipments and Stock - SF'!AL$14,0,(-1*LIFETIME_SF)+1,1,LIFETIME_SF))/\nSUM(OFFSET('Shipments and Stock - SF'!AL$14,0,(-1*LIFETIME_SF)+1,1,LIFETIME_SF)))","v":386.44480904288469},{"$f":"IF(AL$15-$D$15+2<=LIFETIME_SF,AL12,\nSUMPRODUCT(OFFSET(AL12,0,(-1*LIFETIME_SF)+1,1,LIFETIME_SF),OFFSET('Shipments and Stock - SF'!AM$14,0,(-1*LIFETIME_SF)+1,1,LIFETIME_SF))/\nSUM(OFFSET('Shipments and Stock - SF'!AM$14,0,(-1*LIFETIME_SF)+1,1,LIFETIME_SF)))","v":384.03898679772374},{"$f":"IF(AM$15-$D$15+2<=LIFETIME_SF,AM12,\nSUMPRODUCT(OFFSET(AM12,0,(-1*LIFETIME_SF)+1,1,LIFETIME_SF),OFFSET('Shipments and Stock - SF'!AN$14,0,(-1*LIFETIME_SF)+1,1,LIFETIME_SF))/\nSUM(OFFSET('Shipments and Stock - SF'!AN$14,0,(-1*LIFETIME_SF)+1,1,LIFETIME_SF)))","v":381.55380312242318},{"$f":"IF(AN$15-$D$15+2<=LIFETIME_SF,AN12,\nSUMPRODUCT(OFFSET(AN12,0,(-1*LIFETIME_SF)+1,1,LIFETIME_SF),OFFSET('Shipments and Stock - SF'!AO$14,0,(-1*LIFETIME_SF)+1,1,LIFETIME_SF))/\nSUM(OFFSET('Shipments and Stock - SF'!AO$14,0,(-1*LIFETIME_SF)+1,1,LIFETIME_SF)))","v":379.25469073135815},{"$f":"IF(AO$15-$D$15+2<=LIFETIME_SF,AO12,\nSUMPRODUCT(OFFSET(AO12,0,(-1*LIFETIME_SF)+1,1,LIFETIME_SF),OFFSET('Shipments and Stock - SF'!AP$14,0,(-1*LIFETIME_SF)+1,1,LIFETIME_SF))/\nSUM(OFFSET('Shipments and Stock - SF'!AP$14,0,(-1*LIFETIME_SF)+1,1,LIFETIME_SF)))","v":377.11346726834563},{"$f":"IF(AP$15-$D$15+2<=LIFETIME_SF,AP12,\nSUMPRODUCT(OFFSET(AP12,0,(-1*LIFETIME_SF)+1,1,LIFETIME_SF),OFFSET('Shipments and Stock - SF'!AQ$14,0,(-1*LIFETIME_SF)+1,1,LIFETIME_SF))/\nSUM(OFFSET('Shipments and Stock - SF'!AQ$14,0,(-1*LIFETIME_SF)+1,1,LIFETIME_SF)))","v":375.14549605506721},{"$f":"IF(AQ$15-$D$15+2<=LIFETIME_SF,AQ12,\nSUMPRODUCT(OFFSET(AQ12,0,(-1*LIFETIME_SF)+1,1,LIFETIME_SF),OFFSET('Shipments and Stock - SF'!AR$14,0,(-1*LIFETIME_SF)+1,1,LIFETIME_SF))/\nSUM(OFFSET('Shipments and Stock - SF'!AR$14,0,(-1*LIFETIME_SF)+1,1,LIFETIME_SF)))","v":373.25089874128929},{"$f":"IF(AR$15-$D$15+2<=LIFETIME_SF,AR12,\nSUMPRODUCT(OFFSET(AR12,0,(-1*LIFETIME_SF)+1,1,LIFETIME_SF),OFFSET('Shipments and Stock - SF'!AS$14,0,(-1*LIFETIME_SF)+1,1,LIFETIME_SF))/\nSUM(OFFSET('Shipments and Stock - SF'!AS$14,0,(-1*LIFETIME_SF)+1,1,LIFETIME_SF)))","v":371.29703824775123},{"$f":"IF(AS$15-$D$15+2<=LIFETIME_SF,AS12,\nSUMPRODUCT(OFFSET(AS12,0,(-1*LIFETIME_SF)+1,1,LIFETIME_SF),OFFSET('Shipments and Stock - SF'!AT$14,0,(-1*LIFETIME_SF)+1,1,LIFETIME_SF))/\nSUM(OFFSET('Shipments and Stock - SF'!AT$14,0,(-1*LIFETIME_SF)+1,1,LIFETIME_SF)))","v":369.2691002178878},{"$f":"IF(AT$15-$D$15+2<=LIFETIME_SF,AT12,\nSUMPRODUCT(OFFSET(AT12,0,(-1*LIFETIME_SF)+1,1,LIFETIME_SF),OFFSET('Shipments and Stock - SF'!AU$14,0,(-1*LIFETIME_SF)+1,1,LIFETIME_SF))/\nSUM(OFFSET('Shipments and Stock - SF'!AU$14,0,(-1*LIFETIME_SF)+1,1,LIFETIME_SF)))","v":366.88921361664308},{"$f":"IF(AU$15-$D$15+2<=LIFETIME_SF,AU12,\nSUMPRODUCT(OFFSET(AU12,0,(-1*LIFETIME_SF)+1,1,LIFETIME_SF),OFFSET('Shipments and Stock - SF'!AV$14,0,(-1*LIFETIME_SF)+1,1,LIFETIME_SF))/\nSUM(OFFSET('Shipments and Stock - SF'!AV$14,0,(-1*LIFETIME_SF)+1,1,LIFETIME_SF)))","v":364.52606883708467},{"$f":"IF(AV$15-$D$15+2<=LIFETIME_SF,AV12,\nSUMPRODUCT(OFFSET(AV12,0,(-1*LIFETIME_SF)+1,1,LIFETIME_SF),OFFSET('Shipments and Stock - SF'!AW$14,0,(-1*LIFETIME_SF)+1,1,LIFETIME_SF))/\nSUM(OFFSET('Shipments and Stock - SF'!AW$14,0,(-1*LIFETIME_SF)+1,1,LIFETIME_SF)))","v":364.15444240794767},{"$f":"IF(AW$15-$D$15+2<=LIFETIME_SF,AW12,\nSUMPRODUCT(OFFSET(AW12,0,(-1*LIFETIME_SF)+1,1,LIFETIME_SF),OFFSET('Shipments and Stock - SF'!AX$14,0,(-1*LIFETIME_SF)+1,1,LIFETIME_SF))/\nSUM(OFFSET('Shipments and Stock - SF'!AX$14,0,(-1*LIFETIME_SF)+1,1,LIFETIME_SF)))","v":363.82564276084588},{"$f":"IF(AX$15-$D$15+2<=LIFETIME_SF,AX12,\nSUMPRODUCT(OFFSET(AX12,0,(-1*LIFETIME_SF)+1,1,LIFETIME_SF),OFFSET('Shipments and Stock - SF'!AY$14,0,(-1*LIFETIME_SF)+1,1,LIFETIME_SF))/\nSUM(OFFSET('Shipments and Stock - SF'!AY$14,0,(-1*LIFETIME_SF)+1,1,LIFETIME_SF)))","v":363.46118700158206},{"$f":"IF(AY$15-$D$15+2<=LIFETIME_SF,AY12,\nSUMPRODUCT(OFFSET(AY12,0,(-1*LIFETIME_SF)+1,1,LIFETIME_SF),OFFSET('Shipments and Stock - SF'!AZ$14,0,(-1*LIFETIME_SF)+1,1,LIFETIME_SF))/\nSUM(OFFSET('Shipments and Stock - SF'!AZ$14,0,(-1*LIFETIME_SF)+1,1,LIFETIME_SF)))","v":363.09792526932989},{"$f":"IF(AZ$15-$D$15+2<=LIFETIME_SF,AZ12,\nSUMPRODUCT(OFFSET(AZ12,0,(-1*LIFETIME_SF)+1,1,LIFETIME_SF),OFFSET('Shipments and Stock - SF'!BA$14,0,(-1*LIFETIME_SF)+1,1,LIFETIME_SF))/\nSUM(OFFSET('Shipments and Stock - SF'!BA$14,0,(-1*LIFETIME_SF)+1,1,LIFETIME_SF)))","v":362.73664656014955},{"$f":"IF(BA$15-$D$15+2<=LIFETIME_SF,BA12,\nSUMPRODUCT(OFFSET(BA12,0,(-1*LIFETIME_SF)+1,1,LIFETIME_SF),OFFSET('Shipments and Stock - SF'!BB$14,0,(-1*LIFETIME_SF)+1,1,LIFETIME_SF))/\nSUM(OFFSET('Shipments and Stock - SF'!BB$14,0,(-1*LIFETIME_SF)+1,1,LIFETIME_SF)))","v":362.37919619779024},{"$f":"IF(BB$15-$D$15+2<=LIFETIME_SF,BB12,\nSUMPRODUCT(OFFSET(BB12,0,(-1*LIFETIME_SF)+1,1,LIFETIME_SF),OFFSET('Shipments and Stock - SF'!BC$14,0,(-1*LIFETIME_SF)+1,1,LIFETIME_SF))/\nSUM(OFFSET('Shipments and Stock - SF'!BC$14,0,(-1*LIFETIME_SF)+1,1,LIFETIME_SF)))","v":362.01691586049503},{"$f":"IF(BC$15-$D$15+2<=LIFETIME_SF,BC12,\nSUMPRODUCT(OFFSET(BC12,0,(-1*LIFETIME_SF)+1,1,LIFETIME_SF),OFFSET('Shipments and Stock - SF'!BD$14,0,(-1*LIFETIME_SF)+1,1,LIFETIME_SF))/\nSUM(OFFSET('Shipments and Stock - SF'!BD$14,0,(-1*LIFETIME_SF)+1,1,LIFETIME_SF)))","v":361.63310558760367},{"$f":"IF(BD$15-$D$15+2<=LIFETIME_SF,BD12,\nSUMPRODUCT(OFFSET(BD12,0,(-1*LIFETIME_SF)+1,1,LIFETIME_SF),OFFSET('Shipments and Stock - SF'!BE$14,0,(-1*LIFETIME_SF)+1,1,LIFETIME_SF))/\nSUM(OFFSET('Shipments and Stock - SF'!BE$14,0,(-1*LIFETIME_SF)+1,1,LIFETIME_SF)))","v":361.23450058969962},{"$f":"IF(BE$15-$D$15+2<=LIFETIME_SF,BE12,\nSUMPRODUCT(OFFSET(BE12,0,(-1*LIFETIME_SF)+1,1,LIFETIME_SF),OFFSET('Shipments and Stock - SF'!BF$14,0,(-1*LIFETIME_SF)+1,1,LIFETIME_SF))/\nSUM(OFFSET('Shipments and Stock - SF'!BF$14,0,(-1*LIFETIME_SF)+1,1,LIFETIME_SF)))","v":360.77945093276253}]

{"sheet":"UEC-MF","index":19,"n_rows":17,"n_cols":57,"rows_kept":17,"cut":false,"hidden":false,"merged":[]}
[]
[null,null,"Weighted Annual UEC - Multi-Family"]
[]
[null,null,"NAVIGATION"]
[]
[null,null,"COMMENTS"]
[]
[]
[null,null,"Market UEC (Shipment Weighted Average)"]
[null,null,null,1981,1982,1983,1984,1985,1986,1987,1988,1989,1990,1991,1992,1993,1994,1995,1996,1997,1998,1999,2000,2001,2002,2003,2004,2005,2006,2007,2008,2009,2010,2011,2012,2013,2014,2015,2016,2017,2018,2019,2020,2021,2022,2023,2024,2025,2026,2027,2028,2029,2030,2031,2032,2033,2034]
[null,null,"PRE-Case UEC",{"$f":"'Product Class Dist'!D10*SUMPRODUCT('UEC Development'!$L$14:$L$19,'Efficiency Dist - MF'!G13:G18)\n+'Product Class Dist'!D11*SUMPRODUCT('UEC Development'!$L$28:$L$33,'Efficiency Dist - MF'!G39:G44)\n+'Product Class Dist'!D12*SUMPRODUCT('UEC Development'!$L$42:$L$46,'Efficiency Dist - MF'!G65:G69)\n+'Product Class Dist'!D13*SUMPRODUCT('UEC Development'!$L$55:$L$58,'Efficiency Dist - MF'!G89:G92)\n+'Product Class Dist'!D14*SUMPRODUCT('UEC Development'!$L$67:$L$71,'Efficiency Dist - MF'!G111:G115)\n+'Product Class Dist'!D15*SUMPRODUCT('UEC Development'!$L$80:$L$84,'Efficiency Dist - MF'!G135:G139)","v":389.10433686446271},{"$f":"'Product Class Dist'!E10*SUMPRODUCT('UEC Development'!$L$14:$L$19,'Efficiency Dist - MF'!H13:H18)\n+'Product Class Dist'!E11*SUMPRODUCT('UEC Development'!$L$28:$L$33,'Efficiency Dist - MF'!H39:H44)\n+'Product Class Dist'!E12*SUMPRODUCT('UEC Development'!$L$42:$L$46,'Efficiency Dist - MF'!H65:H69)\n+'Product Class Dist'!E13*SUMPRODUCT('UEC Development'!$L$55:$L$58,'Efficiency Dist - MF'!H89:H92)\n+'Product Class Dist'!E14*SUMPRODUCT('UEC Development'!$L$67:$L$71,'Efficiency Dist - MF'!H111:H115)\n+'Product Class Dist'!E15*SUMPRODUCT('UEC Development'!$L$80:$L$84,'Efficiency Dist - MF'!H135:H139)","v":389.10433686446271},{"$f":"'Product Class Dist'!F10*SUMPRODUCT('UEC Development'!$L$14:$L$19,'Efficiency Dist - MF'!I13:I18)\n+'Product Class Dist'!F11*SUMPRODUCT('UEC Development'!$L$28:$L$33,'Efficiency Dist - MF'!I39:I44)\n+'Product Class Dist'!F12*SUMPRODUCT('UEC Development'!$L$42:$L$46,'Efficiency Dist - MF'!I65:I69)\n+'Product Class Dist'!F13*SUMPRODUCT('UEC Development'!$L$55:$L$58,'Efficiency Dist - MF'!I89:I92)\n+'Product Class Dist'!F14*SUMPRODUCT('UEC Development'!$L$67:$L$71,'Efficiency Dist - MF'!I111:I115)\n+'Product Class Dist'!F15*SUMPRODUCT('UEC Development'!$L$80:$L$84,'Efficiency Dist - MF'!I135:I139)","v":389.10433686446271},{"$f":"'Product Class Dist'!G10*SUMPRODUCT('UEC Development'!$L$14:$L$19,'Efficiency Dist - MF'!J13:J18)\n+'Product Class Dist'!G11*SUMPRODUCT('UEC Development'!$L$28:$L$33,'Efficiency Dist - MF'!J39:J44)\n+'Product Class Dist'!G12*SUMPRODUCT('UEC Development'!$L$42:$L$46,'Efficiency Dist - MF'!J65:J69)\n+'Product Class Dist'!G13*SUMPRODUCT('UEC Development'!$L$55:$L$58,'Efficiency Dist - MF'!J89:J92)\n+'Product Class Dist'!G14*SUMPRODUCT('UEC Development'!$L$67:$L$71,'Efficiency Dist - MF'!J111:J115)\n+'Product Class Dist'!G15*SUMPRODUCT('UEC Development'!$L$80:$L$84,'Efficiency Dist - MF'!J135:J139)","v":389.10433686446271},{"$f":"'Product Class Dist'!H10*SUMPRODUCT('UEC Development'!$L$14:$L$19,'Efficiency Dist - MF'!K13:K18)\n+'Product Class Dist'!H11*SUMPRODUCT('UEC Development'!$L$28:$L$33,'Efficiency Dist - MF'!K39:K44)\n+'Product Class Dist'!H12*SUMPRODUCT('UEC Development'!$L$42:$L$46,'Efficiency Dist - MF'!K65:K69)\n+'Product Class Dist'!H13*SUMPRODUCT('UEC Development'!$L$55:$L$58,'Efficiency Dist - MF'!K89:K92)\n+'Product Class Dist'!H14*SUMPRODUCT('UEC Development'!$L$67:$L$71,'Efficiency Dist - MF'!K111:K115)\n+'Product Class Dist'!H15*SUMPRODUCT('UEC Development'!$L$80:$L$84,'Efficiency Dist - MF'!K135:K139)","v":389.10433686446271},{"$f":"'Product Class Dist'!I10*SUMPRODUCT('UEC Development'!$L$14:$L$19,'Efficiency Dist - MF'!L13:L18)\n+'Product Class Dist'!I11*SUMPRODUCT('UEC Development'!$L$28:$L$33,'Efficiency Dist - MF'!L39:L44)\n+'Product Class Dist'!I12*SUMPRODUCT('UEC Development'!$L$42:$L$46,'Efficiency Dist - MF'!L65:L69)\n+'Product Class Dist'!I13*SUMPRODUCT('UEC Development'!$L$55:$L$58,'Efficiency Dist - MF'!L89:L92)\n+'Product Class Dist'!I14*SUMPRODUCT('UEC Development'!$L$67:$L$71,'Efficiency Dist - MF'!L111:L115)\n+'Product Class Dist'!I15*SUMPRODUCT('UEC Development'!$L$80:$L$84,'Efficiency Dist - MF'!L135:L139)","v":389.10433686446271},{"$f":"'Product Class Dist'!J10*SUMPRODUCT('UEC Development'!$L$14:$L$19,'Efficiency Dist - MF'!M13:M18)\n+'Product Class Dist'!J11*SUMPRODUCT('UEC Development'!$L$28:$L$33,'Efficiency Dist - MF'!M39:M44)\n+'Product Class Dist'!J12*SUMPRODUCT('UEC Development'!$L$42:$L$46,'Efficiency Dist - MF'!M65:M69)\n+'Product Class Dist'!J13*SUMPRODUCT('UEC Development'!$L$55:$L$58,'Efficiency Dist - MF'!M89:M92)\n+'Product Class Dist'!J14*SUMPRODUCT('UEC Development'!$L$67:$L$71,'Efficiency Dist - MF'!M111:M115)\n+'Product Class Dist'!J15*SUMPRODUCT('UEC Development'!$L$80:$L$84,'Efficiency Dist - MF'!M135:M139)","v":389.10433686446271},{"$f":"'Product Class Dist'!K10*SUMPRODUCT('UEC Development'!$L$14:$L$19,'Efficiency Dist - MF'!N13:N18)\n+'Product Class Dist'!K11*SUMPRODUCT('UEC Development'!$L$28:$L$33,'Efficiency Dist - MF'!N39:N44)\n+'Product Class Dist'!K12*SUMPRODUCT('UEC Development'!$L$42:$L$46,'Efficiency Dist - MF'!N65:N69)\n+'Product Class Dist'!K13*SUMPRODUCT('UEC Development'!$L$55:$L$58,'Efficiency Dist - MF'!N89:N92)\n+'Product Class Dist'!K14*SUMPRODUCT('UEC Development'!$L$67:$L$71,'Efficiency Dist - MF'!N111:N115)\n+'Product Class Dist'!K15*SUMPRODUCT('UEC Development'!$L$80:$L$84,'Efficiency Dist - MF'!N135:N139)","v":389.10433686446271},{"$f":"'Product Class Dist'!L10*SUMPRODUCT('UEC Development'!$L$14:$L$19,'Efficiency Dist - MF'!O13:O18)\n+'Product Class Dist'!L11*SUMPRODUCT('UEC Development'!$L$28:$L$33,'Efficiency Dist - MF'!O39:O44)\n+'Product Class Dist'!L12*SUMPRODUCT('UEC Development'!$L$42:$L$46,'Efficiency Dist - MF'!O65:O69)\n+'Product Class Dist'!L13*SUMPRODUCT('UEC Development'!$L$55:$L$58,'Efficiency Dist - MF'!O89:O92)\n+'Product Class Dist'!L14*SUMPRODUCT('UEC Development'!$L$67:$L$71,'Efficiency Dist - MF'!O111:O115)\n+'Product Class Dist'!L15*SUMPRODUCT('UEC Development'!$L$80:$L$84,'Efficiency Dist - MF'!O135:O139)","v":389.10433686446271},{"$f":"'Product Class Dist'!M10*SUMPRODUCT('UEC Development'!$L$14:$L$19,'Efficiency Dist - MF'!P13:P18)\n+'Product Class Dist'!M11*SUMPRODUCT('UEC Development'!$L$28:$L$33,'Efficiency Dist - MF'!P39:P44)\n+'Product Class Dist'!M12*SUMPRODUCT('UEC Development'!$L$42:$L$46,'Efficiency Dist - MF'!P65:P69)\n+'Product Class Dist'!M13*SUMPRODUCT('UEC Development'!$L$55:$L$58,'Efficiency Dist - MF'!P89:P92)\n+'Product Class Dist'!M14*SUMPRODUCT('UEC Development'!$L$67:$L$71,'Efficiency Dist - MF'!P111:P115)\n+'Product Class Dist'!M15*SUMPRODUCT('UEC Development'!$L$80:$L$84,'Efficiency Dist - MF'!P135:P139)","v":389.10433686446271},{"$f":"'Product Class Dist'!N10*SUMPRODUCT('UEC Development'!$L$14:$L$19,'Efficiency Dist - MF'!Q13:Q18)\n+'Product Class Dist'!N11*SUMPRODUCT('UEC Development'!$L$28:$L$33,'Efficiency Dist - MF'!Q39:Q44)\n+'Product Class Dist'!N12*SUMPRODUCT('UEC Development'!$L$42:$L$46,'Efficiency Dist - MF'!Q65:Q69)\n+'Product Class Dist'!N13*SUMPRODUCT('UEC Development'!$L$55:$L$58,'Efficiency Dist - MF'!Q89:Q92)\n+'Product Class Dist'!N14*SUMPRODUCT('UEC Development'!$L$67:$L$71,'Efficiency Dist - MF'!Q111:Q115)\n+'Product Class Dist'!N15*SUMPRODUCT('UEC Development'!$L$80:$L$84,'Efficiency Dist - MF'!Q135:Q139)","v":389.10433686446271},{"$f":"'Product Class Dist'!O10*SUMPRODUCT('UEC Development'!$L$14:$L$19,'Efficiency Dist - MF'!R13:R18)\n+'Product Class Dist'!O11*SUMPRODUCT('UEC Development'!$L$28:$L$33,'Efficiency Dist - MF'!R39:R44)\n+'Product Class Dist'!O12*SUMPRODUCT('UEC Development'!$L$42:$L$46,'Efficiency Dist - MF'!R65:R69)\n+'Product Class Dist'!O13*SUMPRODUCT('UEC Development'!$L$55:$L$58,'Efficiency Dist - MF'!R89:R92)\n+'Product Class Dist'!O14*SUMPRODUCT('UEC Development'!$L$67:$L$71,'Efficiency Dist - MF'!R111:R115)\n+'Product Class Dist'!O15*SUMPRODUCT('UEC Development'!$L$80:$L$84,'Efficiency Dist - MF'!R135:R139)","v":389.10433686446271},{"$f":"'Product Class Dist'!P10*SUMPRODUCT('UEC Development'!$L$14:$L$19,'Efficiency Dist - MF'!S13:S18)\n+'Product Class Dist'!P11*SUMPRODUCT('UEC Development'!$L$28:$L$33,'Efficiency Dist - MF'!S39:S44)\n+'Product Class Dist'!P12*SUMPRODUCT('UEC Development'!$L$42:$L$46,'Efficiency Dist - MF'!S65:S69)\n+'Product Class Dist'!P13*SUMPRODUCT('UEC Development'!$L$55:$L$58,'Efficiency Dist - MF'!S89:S92)\n+'Product Class Dist'!P14*SUMPRODUCT('UEC Development'!$L$67:$L$71,'Efficiency Dist - MF'!S111:S115)\n+'Product Class Dist'!P15*SUMPRODUCT('UEC Development'!$L$80:$L$84,'Efficiency Dist - MF'!S135:S139)","v":389.10433686446271},{"$f":"'Product Class Dist'!Q10*SUMPRODUCT('UEC Development'!$L$14:$L$19,'Efficiency Dist - MF'!T13:T18)\n+'Product Class Dist'!Q11*SUMPRODUCT('UEC Development'!$L$28:$L$33,'Efficiency Dist - MF'!T39:T44)\n+'Product Class Dist'!Q12*SUMPRODUCT('UEC Development'!$L$42:$L$46,'Efficiency Dist - MF'!T65:T69)\n+'Product Class Dist'!Q13*SUMPRODUCT('UEC Development'!$L$55:$L$58,'Efficiency Dist - MF'!T89:T92)\n+'Product Class Dist'!Q14*SUMPRODUCT('UEC Development'!$L$67:$L$71,'Efficiency Dist - MF'!T111:T115)\n+'Product Class Dist'!Q15*SUMPRODUCT('UEC Development'!$L$80:$L$84,'Efficiency Dist - MF'!T135:T139)","v":389.10433686446271},{"$f":"'Product Class Dist'!R10*SUMPRODUCT('UEC Development'!$L$14:$L$19,'Efficiency Dist - MF'!U13:U18)\n+'Product Class Dist'!R11*SUMPRODUCT('UEC Development'!$L$28:$L$33,'Efficiency Dist - MF'!U39:U44)\n+'Product Class Dist'!R12*SUMPRODUCT('UEC Development'!$L$42:$L$46,'Efficiency Dist - MF'!U65:U69)\n+'Product Class Dist'!R13*SUMPRODUCT('UEC Development'!$L$55:$L$58,'Efficiency Dist - MF'!U89:U92)\n+'Product Class Dist'!R14*SUMPRODUCT('UEC Development'!$L$67:$L$71,'Efficiency Dist - MF'!U111:U115)\n+'Product Class Dist'!R15*SUMPRODUCT('UEC Development'!$L$80:$L$84,'Efficiency Dist - MF'!U135:U139)","v":389.10433686446271},{"$f":"'Product Class Dist'!S10*SUMPRODUCT('UEC Development'!$L$14:$L$19,'Efficiency Dist - MF'!V13:V18)\n+'Product Class Dist'!S11*SUMPRODUCT('UEC Development'!$L$28:$L$33,'Efficiency Dist - MF'!V39:V44)\n+'Product Class Dist'!S12*SUMPRODUCT('UEC Development'!$L$42:$L$46,'Efficiency Dist - MF'!V65:V69)\n+'Product Class Dist'!S13*SUMPRODUCT('UEC Development'!$L$55:$L$58,'Efficiency Dist - MF'!V89:V92)\n+'Product Class Dist'!S14*SUMPRODUCT('UEC Development'!$L$67:$L$71,'Efficiency Dist - MF'!V111:V115)\n+'Product Class Dist'!S15*SUMPRODUCT('UEC Development'!$L$80:$L$84,'Efficiency Dist - MF'!V135:V139)","v":389.10433686446271},{"$f":"'Product Class Dist'!T10*SUMPRODUCT('UEC Development'!$L$14:$L$19,'Efficiency Dist - MF'!W13:W18)\n+'Product Class Dist'!T11*SUMPRODUCT('UEC Development'!$L$28:$L$33,'Efficiency Dist - MF'!W39:W44)\n+'Product Class Dist'!T12*SUMPRODUCT('UEC Development'!$L$42:$L$46,'Efficiency Dist - MF'!W65:W69)\n+'Product Class Dist'!T13*SUMPRODUCT('UEC Development'!$L$55:$L$58,'Efficiency Dist - MF'!W89:W92)\n+'Product Class Dist'!T14*SUMPRODUCT('UEC Development'!$L$67:$L$71,'Efficiency Dist - MF'!W111:W115)\n+'Product Class Dist'!T15*SUMPRODUCT('UEC Development'!$L$80:$L$84,'Efficiency Dist - MF'!W135:W139)","v":389.10433686446271},{"$f":"'Product Class Dist'!U10*SUMPRODUCT('UEC Development'!$L$14:$L$19,'Efficiency Dist - MF'!X13:X18)\n+'Product Class Dist'!U11*SUMPRODUCT('UEC Development'!$L$28:$L$33,'Efficiency Dist - MF'!X39:X44)\n+'Product Class Dist'!U12*SUMPRODUCT('UEC Development'!$L$42:$L$46,'Efficiency Dist - MF'!X65:X69)\n+'Product Class Dist'!U13*SUMPRODUCT('UEC Development'!$L$55:$L$58,'Efficiency Dist - MF'!X89:X92)\n+'Product Class Dist'!U14*SUMPRODUCT('UEC Development'!$L$67:$L$71,'Efficiency Dist - MF'!X111:X115)\n+'Product Class Dist'!U15*SUMPRODUCT('UEC Development'!$L$80:$L$84,'Efficiency Dist - MF'!X135:X139)","v":389.10433686446271},{"$f":"'Product Class Dist'!V10*SUMPRODUCT('UEC Development'!$L$14:$L$19,'Efficiency Dist - MF'!Y13:Y18)\n+'Product Class Dist'!V11*SUMPRODUCT('UEC Development'!$L$28:$L$33,'Efficiency Dist - MF'!Y39:Y44)\n+'Product Class Dist'!V12*SUMPRODUCT('UEC Development'!$L$42:$L$46,'Efficiency Dist - MF'!Y65:Y69)\n+'Product Class Dist'!V13*SUMPRODUCT('UEC Development'!$L$55:$L$58,'Efficiency Dist - MF'!Y89:Y92)\n+'Product Class Dist'!V14*SUMPRODUCT('UEC Development'!$L$67:$L$71,'Efficiency Dist - MF'!Y111:Y115)\n+'Product Class Dist'!V15*SUMPRODUCT('UEC Development'!$L$80:$L$84,'Efficiency Dist - MF'!Y135:Y139)","v":389.10433686446271},{"$f":"'Product Class Dist'!W10*SUMPRODUCT('UEC Development'!$L$14:$L$19,'Efficiency Dist - MF'!Z13:Z18)\n+'Product Class Dist'!W11*SUMPRODUCT('UEC Development'!$L$28:$L$33,'Efficiency Dist - MF'!Z39:Z44)\n+'Product Class Dist'!W12*SUMPRODUCT('UEC Development'!$L$42:$L$46,'Efficiency Dist - MF'!Z65:Z69)\n+'Product Class Dist'!W13*SUMPRODUCT('UEC Development'!$L$55:$L$58,'Efficiency Dist - MF'!Z89:Z92)\n+'Product Class Dist'!W14*SUMPRODUCT('UEC Development'!$L$67:$L$71,'Efficiency Dist - MF'!Z111:Z115)\n+'Product Class Dist'!W15*SUMPRODUCT('UEC Development'!$L$80:$L$84,'Efficiency Dist - MF'!Z135:Z139)","v":389.10433686446271},{"$f":"'Product Class Dist'!X10*SUMPRODUCT('UEC Development'!$L$14:$L$19,'Efficiency Dist - MF'!AA13:AA18)\n+'Product Class Dist'!X11*SUMPRODUCT('UEC Development'!$L$28:$L$33,'Efficiency Dist - MF'!AA39:AA44)\n+'Product Class Dist'!X12*SUMPRODUCT('UEC Development'!$L$42:$L$46,'Efficiency Dist - MF'!AA65:AA69)\n+'Product Class Dist'!X13*SUMPRODUCT('UEC Development'!$L$55:$L$58,'Efficiency Dist - MF'!AA89:AA92)\n+'Product Class Dist'!X14*SUMPRODUCT('UEC Development'!$L$67:$L$71,'Efficiency Dist - MF'!AA111:AA115)\n+'Product Class Dist'!X15*SUMPRODUCT('UEC Development'!$L$80:$L$84,'Efficiency Dist - MF'!AA135:AA139)","v":389.10433686446271},{"$f":"'Product Class Dist'!Y10*SUMPRODUCT('UEC Development'!$L$14:$L$19,'Efficiency Dist - MF'!AB13:AB18)\n+'Product Class Dist'!Y11*SUMPRODUCT('UEC Development'!$L$28:$L$33,'Efficiency Dist - MF'!AB39:AB44)\n+'Product Class Dist'!Y12*SUMPRODUCT('UEC Development'!$L$42:$L$46,'Efficiency Dist - MF'!AB65:AB69)\n+'Product Class Dist'!Y13*SUMPRODUCT('UEC Development'!$L$55:$L$58,'Efficiency Dist - MF'!AB89:AB92)\n+'Product Class Dist'!Y14*SUMPRODUCT('UEC Development'!$L$67:$L$71,'Efficiency Dist - MF'!AB111:AB115)\n+'Product Class Dist'!Y15*SUMPRODUCT('UEC Development'!$L$80:$L$84,'Efficiency Dist - MF'!AB135:AB139)","v":389.10433686446271},{"$f":"'Product Class Dist'!Z10*SUMPRODUCT('UEC Development'!$L$14:$L$19,'Efficiency Dist - MF'!AC13:AC18)\n+'Product Class Dist'!Z11*SUMPRODUCT('UEC Development'!$L$28:$L$33,'Efficiency Dist - MF'!AC39:AC44)\n+'Product Class Dist'!Z12*SUMPRODUCT('UEC Development'!$L$42:$L$46,'Efficiency Dist - MF'!AC65:AC69)\n+'Product Class Dist'!Z13*SUMPRODUCT('UEC Development'!$L$55:$L$58,'Efficiency Dist - MF'!AC89:AC92)\n+'Product Class Dist'!Z14*SUMPRODUCT('UEC Development'!$L$67:$L$71,'Efficiency Dist - MF'!AC111:AC115)\n+'Product Class Dist'!Z15*SUMPRODUCT('UEC Development'!$L$80:$L$84,'Efficiency Dist - MF'!AC135:AC139)","v":389.10433686446271},{"$f":"'Product Class Dist'!AA10*SUMPRODUCT('UEC Development'!$L$14:$L$19,'Efficiency Dist - MF'!AD13:AD18)\n+'Product Class Dist'!AA11*SUMPRODUCT('UEC Development'!$L$28:$L$33,'Efficiency Dist - MF'!AD39:AD44)\n+'Product Class Dist'!AA12*SUMPRODUCT('UEC Development'!$L$42:$L$46,'Efficiency Dist - MF'!AD65:AD69)\n+'Product Class Dist'!AA13*SUMPRODUCT('UEC Development'!$L$55:$L$58,'Efficiency Dist - MF'!AD89:AD92)\n+'Product Class Dist'!AA14*SUMPRODUCT('UEC Development'!$L$67:$L$71,'Efficiency Dist - MF'!AD111:AD115)\n+'Product Class Dist'!AA15*SUMPRODUCT('UEC Development'!$L$80:$L$84,'Efficiency Dist - MF'!AD135:AD139)","v":389.10433686446271},{"$f":"'Product Class Dist'!AB10*SUMPRODUCT('UEC Development'!$L$14:$L$19,'Efficiency Dist - MF'!AE13:AE18)\n+'Product Class Dist'!AB11*SUMPRODUCT('UEC Development'!$L$28:$L$33,'Efficiency Dist - MF'!AE39:AE44)\n+'Product Class Dist'!AB12*SUMPRODUCT('UEC Development'!$L$42:$L$46,'Efficiency Dist - MF'!AE65:AE69)\n+'Product Class Dist'!AB13*SUMPRODUCT('UEC Development'!$L$55:$L$58,'Efficiency Dist - MF'!AE89:AE92)\n+'Product Class Dist'!AB14*SUMPRODUCT('UEC Development'!$L$67:$L$71,'Efficiency Dist - MF'!AE111:AE115)\n+'Product Class Dist'!AB15*SUMPRODUCT('UEC Development'!$L$80:$L$84,'Efficiency Dist - MF'!AE135:AE139)","v":389.10433686446271},{"$f":"'Product Class Dist'!AC10*SUMPRODUCT('UEC Development'!$L$14:$L$19,'Efficiency Dist - MF'!AF13:AF18)\n+'Product Class Dist'!AC11*SUMPRODUCT('UEC Development'!$L$28:$L$33,'Efficiency Dist - MF'!AF39:AF44)\n+'Product Class Dist'!AC12*SUMPRODUCT('UEC Development'!$L$42:$L$46,'Efficiency Dist - MF'!AF65:AF69)\n+'Product Class Dist'!AC13*SUMPRODUCT('UEC Development'!$L$55:$L$58,'Efficiency Dist - MF'!AF89:AF92)\n+'Product Class Dist'!AC14*SUMPRODUCT('UEC Development'!$L$67:$L$71,'Efficiency Dist - MF'!AF111:AF115)\n+'Product Class Dist'!AC15*SUMPRODUCT('UEC Development'!$L$80:$L$84,'Efficiency Dist - MF'!AF135:AF139)","v":389.10433686446271},{"$f":"'Product Class Dist'!AD10*SUMPRODUCT('UEC Development'!$L$14:$L$19,'Efficiency Dist - MF'!AG13:AG18)\n+'Product Class Dist'!AD11*SUMPRODUCT('UEC Development'!$L$28:$L$33,'Efficiency Dist - MF'!AG39:AG44)\n+'Product Class Dist'!AD12*SUMPRODUCT('UEC Development'!$L$42:$L$46,'Efficiency Dist - MF'!AG65:AG69)\n+'Product Class Dist'!AD13*SUMPRODUCT('UEC Development'!$L$55:$L$58,'Efficiency Dist - MF'!AG89:AG92)\n+'Product Class Dist'!AD14*SUMPRODUCT('UEC Development'!$L$67:$L$71,'Efficiency Dist - MF'!AG111:AG115)\n+'Product Class Dist'!AD15*SUMPRODUCT('UEC Development'!$L$80:$L$84,'Efficiency Dist - MF'!AG135:AG139)","v":389.10433686446271},{"$f":"'Product Class Dist'!AE10*SUMPRODUCT('UEC Development'!$L$14:$L$19,'Efficiency Dist - MF'!AH13:AH18)\n+'Product Class Dist'!AE11*SUMPRODUCT('UEC Development'!$L$28:$L$33,'Efficiency Dist - MF'!AH39:AH44)\n+'Product Class Dist'!AE12*SUMPRODUCT('UEC Development'!$L$42:$L$46,'Efficiency Dist - MF'!AH65:AH69)\n+'Product Class Dist'!AE13*SUMPRODUCT('UEC Development'!$L$55:$L$58,'Efficiency Dist - MF'!AH89:AH92)\n+'Product Class Dist'!AE14*SUMPRODUCT('UEC Development'!$L$67:$L$71,'Efficiency Dist - MF'!AH111:AH115)\n+'Product Class Dist'!AE15*SUMPRODUCT('UEC Development'!$L$80:$L$84,'Efficiency Dist - MF'!AH135:AH139)","v":389.10433686446271},{"$f":"'Product Class Dist'!AF10*SUMPRODUCT('UEC Development'!$L$14:$L$19,'Efficiency Dist - MF'!AI13:AI18)\n+'Product Class Dist'!AF11*SUMPRODUCT('UEC Development'!$L$28:$L$33,'Efficiency Dist - MF'!AI39:AI44)\n+'Product Class Dist'!AF12*SUMPRODUCT('UEC Development'!$L$42:$L$46,'Efficiency Dist - MF'!AI65:AI69)\n+'Product Class Dist'!AF13*SUMPRODUCT('UEC Development'!$L$55:$L$58,'Efficiency Dist - MF'!AI89:AI92)\n+'Product Class Dist'!AF14*SUMPRODUCT('UEC Development'!$L$67:$L$71,'Efficiency Dist - MF'!AI111:AI115)\n+'Product Class Dist'!AF15*SUMPRODUCT('UEC Development'!$L$80:$L$84,'Efficiency Dist - MF'!AI135:AI139)","v":389.10433686446271},{"$f":"'Product Class Dist'!AG10*SUMPRODUCT('UEC Development'!$L$14:$L$19,'Efficiency Dist - MF'!AJ13:AJ18)\n+'Product Class Dist'!AG11*SUMPRODUCT('UEC Development'!$L$28:$L$33,'Efficiency Dist - MF'!AJ39:AJ44)\n+'Product Class Dist'!AG12*SUMPRODUCT('UEC Development'!$L$42:$L$46,'Efficiency Dist - MF'!AJ65:AJ69)\n+'Product Class Dist'!AG13*SUMPRODUCT('UEC Development'!$L$55:$L$58,'Efficiency Dist - MF'!AJ89:AJ92)\n+'Product Class Dist'!AG14*SUMPRODUCT('UEC Development'!$L$67:$L$71,'Efficiency Dist - MF'!AJ111:AJ115)\n+'Product Class Dist'!AG15*SUMPRODUCT('UEC Development'!$L$80:$L$84,'Efficiency Dist - MF'!AJ135:AJ139)","v":389.10433686446271},{"$f":"'Product Class Dist'!AH10*SUMPRODUCT('UEC Development'!$L$14:$L$19,'Efficiency Dist - MF'!AK13:AK18)\n+'Product Class Dist'!AH11*SUMPRODUCT('UEC Development'!$L$28:$L$33,'Efficiency Dist - MF'!AK39:AK44)\n+'Product Class Dist'!AH12*SUMPRODUCT('UEC Development'!$L$42:$L$46,'Efficiency Dist - MF'!AK65:AK69)\n+'Product Class Dist'!AH13*SUMPRODUCT('UEC Development'!$L$55:$L$58,'Efficiency Dist - MF'!AK89:AK92)\n+'Product Class Dist'!AH14*SUMPRODUCT('UEC Development'!$L$67:$L$71,'Efficiency Dist - MF'!AK111:AK115)\n+'Product Class Dist'!AH15*SUMPRODUCT('UEC Development'!$L$80:$L$84,'Efficiency Dist - MF'!AK135:AK139)","v":389.10433686446277},{"$f":"'Product Class Dist'!AI10*SUMPRODUCT('UEC Development'!$L$14:$L$19,'Efficiency Dist - MF'!AL13:AL18)\n+'Product Class Dist'!AI11*SUMPRODUCT('UEC Development'!$L$28:$L$33,'Efficiency Dist - MF'!AL39:AL44)\n+'Product Class Dist'!AI12*SUMPRODUCT('UEC Development'!$L$42:$L$46,'Efficiency Dist - MF'!AL65:AL69)\n+'Product Class Dist'!AI13*SUMPRODUCT('UEC Development'!$L$55:$L$58,'Efficiency Dist - MF'!AL89:AL92)\n+'Product Class Dist'!AI14*SUMPRODUCT('UEC Development'!$L$67:$L$71,'Efficiency Dist - MF'!AL111:AL115)\n+'Product Class Dist'!AI15*SUMPRODUCT('UEC Development'!$L$80:$L$84,'Efficiency Dist - MF'!AL135:AL139)","v":389.10433686446277},{"$f":"'Product Class Dist'!AJ10*SUMPRODUCT('UEC Development'!$L$14:$L$19,'Efficiency Dist - MF'!AM13:AM18)\n+'Product Class Dist'!AJ11*SUMPRODUCT('UEC Development'!$L$28:$L$33,'Efficiency Dist - MF'!AM39:AM44)\n+'Product Class Dist'!AJ12*SUMPRODUCT('UEC Development'!$L$42:$L$46,'Efficiency Dist - MF'!AM65:AM69)\n+'Product Class Dist'!AJ13*SUMPRODUCT('UEC Development'!$L$55:$L$58,'Efficiency Dist - MF'!AM89:AM92)\n+'Product Class Dist'!AJ14*SUMPRODUCT('UEC Development'!$L$67:$L$71,'Efficiency Dist - MF'!AM111:AM115)\n+'Product Class Dist'!AJ15*SUMPRODUCT('UEC Development'!$L$80:$L$84,'Efficiency Dist - MF'!AM135:AM139)","v":389.10433686446277},{"$f":"'Product Class Dist'!AK10*SUMPRODUCT('UEC Development'!$L$14:$L$19,'Efficiency Dist - MF'!AN13:AN18)\n+'Product Class Dist'!AK11*SUMPRODUCT('UEC Development'!$L$28:$L$33,'Efficiency Dist - MF'!AN39:AN44)\n+'Product Class Dist'!AK12*SUMPRODUCT('UEC Development'!$L$42:$L$46,'Efficiency Dist - MF'!AN65:AN69)\n+'Product Class Dist'!AK13*SUMPRODUCT('UEC Development'!$L$55:$L$58,'Efficiency Dist - MF'!AN89:AN92)\n+'Product Class Dist'!AK14*SUMPRODUCT('UEC Development'!$L$67:$L$71,'Efficiency Dist - MF'!AN111:AN115)\n+'Product Class Dist'!AK15*SUMPRODUCT('UEC Development'!$L$80:$L$84,'Efficiency Dist - MF'!AN135:AN139)","v":389.10433686446271},{"$f":"'Product Class Dist'!AL10*SUMPRODUCT('UEC Development'!$L$14:$L$19,'Efficiency Dist - MF'!AO13:AO18)\n+'Product Class Dist'!AL11*SUMPRODUCT('UEC Development'!$L$28:$L$33,'Efficiency Dist - MF'!AO39:AO44)\n+'Product Class Dist'!AL12*SUMPRODUCT('UEC Development'!$L$42:$L$46,'Efficiency Dist - MF'!AO65:AO69)\n+'Product Class Dist'!AL13*SUMPRODUCT('UEC Development'!$L$55:$L$58,'Efficiency Dist - MF'!AO89:AO92)\n+'Product Class Dist'!AL14*SUMPRODUCT('UEC Development'!$L$67:$L$71,'Efficiency Dist - MF'!AO111:AO115)\n+'Product Class Dist'!AL15*SUMPRODUCT('UEC Development'!$L$80:$L$84,'Efficiency Dist - MF'!AO135:AO139)","v":387.90454458505064},{"$f":"'Product Class Dist'!AM10*SUMPRODUCT('UEC Development'!$L$14:$L$19,'Efficiency Dist - MF'!AP13:AP18)\n+'Product Class Dist'!AM11*SUMPRODUCT('UEC Development'!$L$28:$L$33,'Efficiency Dist - MF'!AP39:AP44)\n+'Product Class Dist'!AM12*SUMPRODUCT('UEC Development'!$L$42:$L$46,'Efficiency Dist - MF'!AP65:AP69)\n+'Product Class Dist'!AM13*SUMPRODUCT('UEC Development'!$L$55:$L$58,'Efficiency Dist - MF'!AP89:AP92)\n+'Product Class Dist'!AM14*SUMPRODUCT('UEC Development'!$L$67:$L$71,'Efficiency Dist - MF'!AP111:AP115)\n+'Product Class Dist'!AM15*SUMPRODUCT('UEC Development'!$L$80:$L$84,'Efficiency Dist - MF'!AP135:AP139)","v":387.0221734950502},{"$f":"'Product Class Dist'!AN10*SUMPRODUCT('UEC Development'!$L$14:$L$19,'Efficiency Dist - MF'!AQ13:AQ18)\n+'Product Class Dist'!AN11*SUMPRODUCT('UEC Development'!$L$28:$L$33,'Efficiency Dist - MF'!AQ39:AQ44)\n+'Product Class Dist'!AN12*SUMPRODUCT('UEC Development'!$L$42:$L$46,'Efficiency Dist - MF'!AQ65:AQ69)\n+'Product Class Dist'!AN13*SUMPRODUCT('UEC Development'!$L$55:$L$58,'Efficiency Dist - MF'!AQ89:AQ92)\n+'Product Class Dist'!AN14*SUMPRODUCT('UEC Development'!$L$67:$L$71,'Efficiency Dist - MF'!AQ111:AQ115)\n+'Product Class Dist'!AN15*SUMPRODUCT('UEC Development'!$L$80:$L$84,'Efficiency Dist - MF'!AQ135:AQ139)","v":385.97808787075991},{"$f":"'Product Class Dist'!AO10*SUMPRODUCT('UEC Development'!$L$14:$L$19,'Efficiency Dist - MF'!AR13:AR18)\n+'Product Class Dist'!AO11*SUMPRODUCT('UEC Development'!$L$28:$L$33,'Efficiency Dist - MF'!AR39:AR44)\n+'Product Class Dist'!AO12*SUMPRODUCT('UEC Development'!$L$42:$L$46,'Efficiency Dist - MF'!AR65:AR69)\n+'Product Class Dist'!AO13*SUMPRODUCT('UEC Development'!$L$55:$L$58,'Efficiency Dist - MF'!AR89:AR92)\n+'Product Class Dist'!AO14*SUMPRODUCT('UEC Development'!$L$67:$L$71,'Efficiency Dist - MF'!AR111:AR115)\n+'Product Class Dist'!AO15*SUMPRODUCT('UEC Development'!$L$80:$L$84,'Efficiency Dist - MF'!AR135:AR139)","v":384.94471902648479},{"$f":"'Product Class Dist'!AP10*SUMPRODUCT('UEC Development'!$L$14:$L$19,'Efficiency Dist - MF'!AS13:AS18)\n+'Product Class Dist'!AP11*SUMPRODUCT('UEC Development'!$L$28:$L$33,'Efficiency Dist - MF'!AS39:AS44)\n+'Product Class Dist'!AP12*SUMPRODUCT('UEC Development'!$L$42:$L$46,'Efficiency Dist - MF'!AS65:AS69)\n+'Product Class Dist'!AP13*SUMPRODUCT('UEC Development'!$L$55:$L$58,'Efficiency Dist - MF'!AS89:AS92)\n+'Product Class Dist'!AP14*SUMPRODUCT('UEC Development'!$L$67:$L$71,'Efficiency Dist - MF'!AS111:AS115)\n+'Product Class Dist'!AP15*SUMPRODUCT('UEC Development'!$L$80:$L$84,'Efficiency Dist - MF'!AS135:AS139)","v":383.91961645410061},{"$f":"'Product Class Dist'!AQ10*SUMPRODUCT('UEC Development'!$L$14:$L$19,'Efficiency Dist - MF'!AT13:AT18)\n+'Product Class Dist'!AQ11*SUMPRODUCT('UEC Development'!$L$28:$L$33,'Efficiency Dist - MF'!AT39:AT44)\n+'Product Class Dist'!AQ12*SUMPRODUCT('UEC Development'!$L$42:$L$46,'Efficiency Dist - MF'!AT65:AT69)\n+'Product Class Dist'!AQ13*SUMPRODUCT('UEC Development'!$L$55:$L$58,'Efficiency Dist - MF'!AT89:AT92)\n+'Product Class Dist'!AQ14*SUMPRODUCT('UEC Development'!$L$67:$L$71,'Efficiency Dist - MF'!AT111:AT115)\n+'Product Class Dist'!AQ15*SUMPRODUCT('UEC Development'!$L$80:$L$84,'Efficiency Dist - MF'!AT135:AT139)","v":382.89684816613715},{"$f":"'Product Class Dist'!AR10*SUMPRODUCT('UEC Development'!$L$14:$L$19,'Efficiency Dist - MF'!AU13:AU18)\n+'Product Class Dist'!AR11*SUMPRODUCT('UEC Development'!$L$28:$L$33,'Efficiency Dist - MF'!AU39:AU44)\n+'Product Class Dist'!AR12*SUMPRODUCT('UEC Development'!$L$42:$L$46,'Efficiency Dist - MF'!AU65:AU69)\n+'Product Class Dist'!AR13*SUMPRODUCT('UEC Development'!$L$55:$L$58,'Efficiency Dist - MF'!AU89:AU92)\n+'Product Class Dist'!AR14*SUMPRODUCT('UEC Development'!$L$67:$L$71,'Efficiency Dist - MF'!AU111:AU115)\n+'Product Class Dist'!AR15*SUMPRODUCT('UEC Development'!$L$80:$L$84,'Efficiency Dist - MF'!AU135:AU139)","v":381.87503350686245},{"$f":"'Product Class Dist'!AS10*SUMPRODUCT('UEC Development'!$L$14:$L$19,'Efficiency Dist - MF'!AV13:AV18)\n+'Product Class Dist'!AS11*SUMPRODUCT('UEC Development'!$L$28:$L$33,'Efficiency Dist - MF'!AV39:AV44)\n+'Product Class Dist'!AS12*SUMPRODUCT('UEC Development'!$L$42:$L$46,'Efficiency Dist - MF'!AV65:AV69)\n+'Product Class Dist'!AS13*SUMPRODUCT('UEC Development'!$L$55:$L$58,'Efficiency Dist - MF'!AV89:AV92)\n+'Product Class Dist'!AS14*SUMPRODUCT('UEC Development'!$L$67:$L$71,'Efficiency Dist - MF'!AV111:AV115)\n+'Product Class Dist'!AS15*SUMPRODUCT('UEC Development'!$L$80:$L$84,'Efficiency Dist - MF'!AV135:AV139)","v":380.88911295248334},{"$f":"'Product Class Dist'!AT10*SUMPRODUCT('UEC Development'!$L$14:$L$19,'Efficiency Dist - MF'!AW13:AW18)\n+'Product Class Dist'!AT11*SUMPRODUCT('UEC Development'!$L$28:$L$33,'Efficiency Dist - MF'!AW39:AW44)\n+'Product Class Dist'!AT12*SUMPRODUCT('UEC Development'!$L$42:$L$46,'Efficiency Dist - MF'!AW65:AW69)\n+'Product Class Dist'!AT13*SUMPRODUCT('UEC Development'!$L$55:$L$58,'Efficiency Dist - MF'!AW89:AW92)\n+'Product Class Dist'!AT14*SUMPRODUCT('UEC Development'!$L$67:$L$71,'Efficiency Dist - MF'!AW111:AW115)\n+'Product Class Dist'!AT15*SUMPRODUCT('UEC Development'!$L$80:$L$84,'Efficiency Dist - MF'!AW135:AW139)","v":379.91809215963036},{"$f":"'Product Class Dist'!AU10*SUMPRODUCT('UEC Development'!$L$14:$L$19,'Efficiency Dist - MF'!AX13:AX18)\n+'Product Class Dist'!AU11*SUMPRODUCT('UEC Development'!$L$28:$L$33,'Efficiency Dist - MF'!AX39:AX44)\n+'Product Class Dist'!AU12*SUMPRODUCT('UEC Development'!$L$42:$L$46,'Efficiency Dist - MF'!AX65:AX69)\n+'Product Class Dist'!AU13*SUMPRODUCT('UEC Development'!$L$55:$L$58,'Efficiency Dist - MF'!AX89:AX92)\n+'Product Class Dist'!AU14*SUMPRODUCT('UEC Development'!$L$67:$L$71,'Efficiency Dist - MF'!AX111:AX115)\n+'Product Class Dist'!AU15*SUMPRODUCT('UEC Development'!$L$80:$L$84,'Efficiency Dist - MF'!AX135:AX139)","v":378.9460056242678},{"$f":"'Product Class Dist'!AV10*SUMPRODUCT('UEC Development'!$L$14:$L$19,'Efficiency Dist - MF'!AY13:AY18)\n+'Product Class Dist'!AV11*SUMPRODUCT('UEC Development'!$L$28:$L$33,'Efficiency Dist - MF'!AY39:AY44)\n+'Product Class Dist'!AV12*SUMPRODUCT('UEC Development'!$L$42:$L$46,'Efficiency Dist - MF'!AY65:AY69)\n+'Product Class Dist'!AV13*SUMPRODUCT('UEC Development'!$L$55:$L$58,'Efficiency Dist - MF'!AY89:AY92)\n+'Product Class Dist'!AV14*SUMPRODUCT('UEC Development'!$L$67:$L$71,'Efficiency Dist - MF'!AY111:AY115)\n+'Product Class Dist'!AV15*SUMPRODUCT('UEC Development'!$L$80:$L$84,'Efficiency Dist - MF'!AY135:AY139)","v":377.9732298596428},{"$f":"'Product Class Dist'!AW10*SUMPRODUCT('UEC Development'!$L$14:$L$19,'Efficiency Dist - MF'!AZ13:AZ18)\n+'Product Class Dist'!AW11*SUMPRODUCT('UEC Development'!$L$28:$L$33,'Efficiency Dist - MF'!AZ39:AZ44)\n+'Product Class Dist'!AW12*SUMPRODUCT('UEC Development'!$L$42:$L$46,'Efficiency Dist - MF'!AZ65:AZ69)\n+'Product Class Dist'!AW13*SUMPRODUCT('UEC Development'!$L$55:$L$58,'Efficiency Dist - MF'!AZ89:AZ92)\n+'Product Class Dist'!AW14*SUMPRODUCT('UEC Development'!$L$67:$L$71,'Efficiency Dist - MF'!AZ111:AZ115)\n+'Product Class Dist'!AW15*SUMPRODUCT('UEC Development'!$L$80:$L$84,'Efficiency Dist - MF'!AZ135:AZ139)","v":376.99802215560629},{"$f":"'Product Class Dist'!AX10*SUMPRODUCT('UEC Development'!$L$14:$L$19,'Efficiency Dist - MF'!BA13:BA18)\n+'Product Class Dist'!AX11*SUMPRODUCT('UEC Development'!$L$28:$L$33,'Efficiency Dist - MF'!BA39:BA44)\n+'Product Class Dist'!AX12*SUMPRODUCT('UEC Development'!$L$42:$L$46,'Efficiency Dist - MF'!BA65:BA69)\n+'Product Class Dist'!AX13*SUMPRODUCT('UEC Development'!$L$55:$L$58,'Efficiency Dist - MF'!BA89:BA92)\n+'Product Class Dist'!AX14*SUMPRODUCT('UEC Development'!$L$67:$L$71,'Efficiency Dist - MF'!BA111:BA115)\n+'Product Class Dist'!AX15*SUMPRODUCT('UEC Development'!$L$80:$L$84,'Efficiency Dist - MF'!BA135:BA139)","v":376.02037643230983},{"$f":"'Product Class Dist'!AY10*SUMPRODUCT('UEC Development'!$L$14:$L$19,'Efficiency Dist - MF'!BB13:BB18)\n+'Product Class Dist'!AY11*SUMPRODUCT('UEC Development'!$L$28:$L$33,'Efficiency Dist - MF'!BB39:BB44)\n+'Product Class Dist'!AY12*SUMPRODUCT('UEC Development'!$L$42:$L$46,'Efficiency Dist - MF'!BB65:BB69)\n+'Product Class Dist'!AY13*SUMPRODUCT('UEC Development'!$L$55:$L$58,'Efficiency Dist - MF'!BB89:BB92)\n+'Product Class Dist'!AY14*SUMPRODUCT('UEC Development'!$L$67:$L$71,'Efficiency Dist - MF'!BB111:BB115)\n+'Product Class Dist'!AY15*SUMPRODUCT('UEC Development'!$L$80:$L$84,'Efficiency Dist - MF'!BB135:BB139)","v":375.04281995545767},{"$f":"'Product Class Dist'!AZ10*SUMPRODUCT('UEC Development'!$L$14:$L$19,'Efficiency Dist - MF'!BC13:BC18)\n+'Product Class Dist'!AZ11*SUMPRODUCT('UEC Development'!$L$28:$L$33,'Efficiency Dist - MF'!BC39:BC44)\n+'Product Class Dist'!AZ12*SUMPRODUCT('UEC Development'!$L$42:$L$46,'Efficiency Dist - MF'!BC65:BC69)\n+'Product Class Dist'!AZ13*SUMPRODUCT('UEC Development'!$L$55:$L$58,'Efficiency Dist - MF'!BC89:BC92)\n+'Product Class Dist'!AZ14*SUMPRODUCT('UEC Development'!$L$67:$L$71,'Efficiency Dist - MF'!BC111:BC115)\n+'Product Class Dist'!AZ15*SUMPRODUCT('UEC Development'!$L$80:$L$84,'Efficiency Dist - MF'!BC135:BC139)","v":374.07190916845303},{"$f":"'Product Class Dist'!BA10*SUMPRODUCT('UEC Development'!$L$14:$L$19,'Efficiency Dist - MF'!BD13:BD18)\n+'Product Class Dist'!BA11*SUMPRODUCT('UEC Development'!$L$28:$L$33,'Efficiency Dist - MF'!BD39:BD44)\n+'Product Class Dist'!BA12*SUMPRODUCT('UEC Development'!$L$42:$L$46,'Efficiency Dist - MF'!BD65:BD69)\n+'Product Class Dist'!BA13*SUMPRODUCT('UEC Development'!$L$55:$L$58,'Efficiency Dist - MF'!BD89:BD92)\n+'Product Class Dist'!BA14*SUMPRODUCT('UEC Development'!$L$67:$L$71,'Efficiency Dist - MF'!BD111:BD115)\n+'Product Class Dist'!BA15*SUMPRODUCT('UEC Development'!$L$80:$L$84,'Efficiency Dist - MF'!BD135:BD139)","v":373.12744897641642},{"$f":"'Product Class Dist'!BB10*SUMPRODUCT('UEC Development'!$L$14:$L$19,'Efficiency Dist - MF'!BE13:BE18)\n+'Product Class Dist'!BB11*SUMPRODUCT('UEC Development'!$L$28:$L$33,'Efficiency Dist - MF'!BE39:BE44)\n+'Product Class Dist'!BB12*SUMPRODUCT('UEC Development'!$L$42:$L$46,'Efficiency Dist - MF'!BE65:BE69)\n+'Product Class Dist'!BB13*SUMPRODUCT('UEC Development'!$L$55:$L$58,'Efficiency Dist - MF'!BE89:BE92)\n+'Product Class Dist'!BB14*SUMPRODUCT('UEC Development'!$L$67:$L$71,'Efficiency Dist - MF'!BE111:BE115)\n+'Product Class Dist'!BB15*SUMPRODUCT('UEC Development'!$L$80:$L$84,'Efficiency Dist - MF'!BE135:BE139)","v":372.20273729469704},{"$f":"'Product Class Dist'!BC10*SUMPRODUCT('UEC Development'!$L$14:$L$19,'Efficiency Dist - MF'!BF13:BF18)\n+'Product Class Dist'!BC11*SUMPRODUCT('UEC Development'!$L$28:$L$33,'Efficiency Dist - MF'!BF39:BF44)\n+'Product Class Dist'!BC12*SUMPRODUCT('UEC Development'!$L$42:$L$46,'Efficiency Dist - MF'!BF65:BF69)\n+'Product Class Dist'!BC13*SUMPRODUCT('UEC Development'!$L$55:$L$58,'Efficiency Dist - MF'!BF89:BF92)\n+'Product Class Dist'!BC14*SUMPRODUCT('UEC Development'!$L$67:$L$71,'Efficiency Dist - MF'!BF111:BF115)\n+'Product Class Dist'!BC15*SUMPRODUCT('UEC Development'!$L$80:$L$84,'Efficiency Dist - MF'!BF135:BF139)","v":371.27571383377347},{"$f":"'Product Class Dist'!BD10*SUMPRODUCT('UEC Development'!$L$14:$L$19,'Efficiency Dist - MF'!BG13:BG18)\n+'Product Class Dist'!BD11*SUMPRODUCT('UEC Development'!$L$28:$L$33,'Efficiency Dist - MF'!BG39:BG44)\n+'Product Class Dist'!BD12*SUMPRODUCT('UEC Development'!$L$42:$L$46,'Efficiency Dist - MF'!BG65:BG69)\n+'Product Class Dist'!BD13*SUMPRODUCT('UEC Development'!$L$55:$L$58,'Efficiency Dist - MF'!BG89:BG92)\n+'Product Class Dist'!BD14*SUMPRODUCT('UEC Development'!$L$67:$L$71,'Efficiency Dist - MF'!BG111:BG115)\n+'Product Class Dist'!BD15*SUMPRODUCT('UEC Development'!$L$80:$L$84,'Efficiency Dist - MF'!BG135:BG139)","v":370.34637281419782},{"$f":"'Product Class Dist'!BE10*SUMPRODUCT('UEC Development'!$L$14:$L$19,'Efficiency Dist - MF'!BH13:BH18)\n+'Product Class Dist'!BE11*SUMPRODUCT('UEC Development'!$L$28:$L$33,'Efficiency Dist - MF'!BH39:BH44)\n+'Product Class Dist'!BE12*SUMPRODUCT('UEC Development'!$L$42:$L$46,'Efficiency Dist - MF'!BH65:BH69)\n+'Product Class Dist'!BE13*SUMPRODUCT('UEC Development'!$L$55:$L$58,'Efficiency Dist - MF'!BH89:BH92)\n+'Product Class Dist'!BE14*SUMPRODUCT('UEC Development'!$L$67:$L$71,'Efficiency Dist - MF'!BH111:BH115)\n+'Product Class Dist'!BE15*SUMPRODUCT('UEC Development'!$L$80:$L$84,'Efficiency Dist - MF'!BH135:BH139)","v":369.41521403161858}]
[null,null,"POST-Case UEC",{"$f":"'Product Class Dist'!D19*SUMPRODUCT('UEC Development'!$L$14:$L$19,'Efficiency Dist - MF'!G23:G28)\n+'Product Class Dist'!D20*SUMPRODUCT('UEC Development'!$L$28:$L$33,'Efficiency Dist - MF'!G49:G54)\n+'Product Class Dist'!D21*SUMPRODUCT('UEC Development'!$L$42:$L$46,'Efficiency Dist - MF'!G74:G78)\n+'Product Class Dist'!D22*SUMPRODUCT('UEC Development'!$L$55:$L$58,'Efficiency Dist - MF'!G97:G100)\n+'Product Class Dist'!D23*SUMPRODUCT('UEC Development'!$L$67:$L$71,'Efficiency Dist - MF'!G120:G124)\n+'Product Class Dist'!D24*SUMPRODUCT('UEC Development'!$L$80:$L$84,'Efficiency Dist - MF'!G144:G148)","v":389.10433686446271},{"$f":"'Product Class Dist'!E19*SUMPRODUCT('UEC Development'!$L$14:$L$19,'Efficiency Dist - MF'!H23:H28)\n+'Product Class Dist'!E20*SUMPRODUCT('UEC Development'!$L$28:$L$33,'Efficiency Dist - MF'!H49:H54)\n+'Product Class Dist'!E21*SUMPRODUCT('UEC Development'!$L$42:$L$46,'Efficiency Dist - MF'!H74:H78)\n+'Product Class Dist'!E22*SUMPRODUCT('UEC Development'!$L$55:$L$58,'Efficiency Dist - MF'!H97:H100)\n+'Product Class Dist'!E23*SUMPRODUCT('UEC Development'!$L$67:$L$71,'Efficiency Dist - MF'!H120:H124)\n+'Product Class Dist'!E24*SUMPRODUCT('UEC Development'!$L$80:$L$84,'Efficiency Dist - MF'!H144:H148)","v":389.10433686446271},{"$f":"'Product Class Dist'!F19*SUMPRODUCT('UEC Development'!$L$14:$L$19,'Efficiency Dist - MF'!I23:I28)\n+'Product Class Dist'!F20*SUMPRODUCT('UEC Development'!$L$28:$L$33,'Efficiency Dist - MF'!I49:I54)\n+'Product Class Dist'!F21*SUMPRODUCT('UEC Development'!$L$42:$L$46,'Efficiency Dist - MF'!I74:I78)\n+'Product Class Dist'!F22*SUMPRODUCT('UEC Development'!$L$55:$L$58,'Efficiency Dist - MF'!I97:I100)\n+'Product Class Dist'!F23*SUMPRODUCT('UEC Development'!$L$67:$L$71,'Efficiency Dist - MF'!I120:I124)\n+'Product Class Dist'!F24*SUMPRODUCT('UEC Development'!$L$80:$L$84,'Efficiency Dist - MF'!I144:I148)","v":389.10433686446271},{"$f":"'Product Class Dist'!G19*SUMPRODUCT('UEC Development'!$L$14:$L$19,'Efficiency Dist - MF'!J23:J28)\n+'Product Class Dist'!G20*SUMPRODUCT('UEC Development'!$L$28:$L$33,'Efficiency Dist - MF'!J49:J54)\n+'Product Class Dist'!G21*SUMPRODUCT('UEC Development'!$L$42:$L$46,'Efficiency Dist - MF'!J74:J78)\n+'Product Class Dist'!G22*SUMPRODUCT('UEC Development'!$L$55:$L$58,'Efficiency Dist - MF'!J97:J100)\n+'Product Class Dist'!G23*SUMPRODUCT('UEC Development'!$L$67:$L$71,'Efficiency Dist - MF'!J120:J124)\n+'Product Class Dist'!G24*SUMPRODUCT('UEC Development'!$L$80:$L$84,'Efficiency Dist - MF'!J144:J148)","v":389.10433686446271},{"$f":"'Product Class Dist'!H19*SUMPRODUCT('UEC Development'!$L$14:$L$19,'Efficiency Dist - MF'!K23:K28)\n+'Product Class Dist'!H20*SUMPRODUCT('UEC Development'!$L$28:$L$33,'Efficiency Dist - MF'!K49:K54)\n+'Product Class Dist'!H21*SUMPRODUCT('UEC Development'!$L$42:$L$46,'Efficiency Dist - MF'!K74:K78)\n+'Product Class Dist'!H22*SUMPRODUCT('UEC Development'!$L$55:$L$58,'Efficiency Dist - MF'!K97:K100)\n+'Product Class Dist'!H23*SUMPRODUCT('UEC Development'!$L$67:$L$71,'Efficiency Dist - MF'!K120:K124)\n+'Product Class Dist'!H24*SUMPRODUCT('UEC Development'!$L$80:$L$84,'Efficiency Dist - MF'!K144:K148)","v":389.10433686446271},{"$f":"'Product Class Dist'!I19*SUMPRODUCT('UEC Development'!$L$14:$L$19,'Efficiency Dist - MF'!L23:L28)\n+'Product Class Dist'!I20*SUMPRODUCT('UEC Development'!$L$28:$L$33,'Efficiency Dist - MF'!L49:L54)\n+'Product Class Dist'!I21*SUMPRODUCT('UEC Development'!$L$42:$L$46,'Efficiency Dist - MF'!L74:L78)\n+'Product Class Dist'!I22*SUMPRODUCT('UEC Development'!$L$55:$L$58,'Efficiency Dist - MF'!L97:L100)\n+'Product Class Dist'!I23*SUMPRODUCT('UEC Development'!$L$67:$L$71,'Efficiency Dist - MF'!L120:L124)\n+'Product Class Dist'!I24*SUMPRODUCT('UEC Development'!$L$80:$L$84,'Efficiency Dist - MF'!L144:L148)","v":389.10433686446271},{"$f":"'Product Class Dist'!J19*SUMPRODUCT('UEC Development'!$L$14:$L$19,'Efficiency Dist - MF'!M23:M28)\n+'Product Class Dist'!J20*SUMPRODUCT('UEC Development'!$L$28:$L$33,'Efficiency Dist - MF'!M49:M54)\n+'Product Class Dist'!J21*SUMPRODUCT('UEC Development'!$L$42:$L$46,'Efficiency Dist - MF'!M74:M78)\n+'Product Class Dist'!J22*SUMPRODUCT('UEC Development'!$L$55:$L$58,'Efficiency Dist - MF'!M97:M100)\n+'Product Class Dist'!J23*SUMPRODUCT('UEC Development'!$L$67:$L$71,'Efficiency Dist - MF'!M120:M124)\n+'Product Class Dist'!J24*SUMPRODUCT('UEC Development'!$L$80:$L$84,'Efficiency Dist - MF'!M144:M148)","v":389.10433686446271},{"$f":"'Product Class Dist'!K19*SUMPRODUCT('UEC Development'!$L$14:$L$19,'Efficiency Dist - MF'!N23:N28)\n+'Product Class Dist'!K20*SUMPRODUCT('UEC Development'!$L$28:$L$33,'Efficiency Dist - MF'!N49:N54)\n+'Product Class Dist'!K21*SUMPRODUCT('UEC Development'!$L$42:$L$46,'Efficiency Dist - MF'!N74:N78)\n+'Product Class Dist'!K22*SUMPRODUCT('UEC Development'!$L$55:$L$58,'Efficiency Dist - MF'!N97:N100)\n+'Product Class Dist'!K23*SUMPRODUCT('UEC Development'!$L$67:$L$71,'Efficiency Dist - MF'!N120:N124)\n+'Product Class Dist'!K24*SUMPRODUCT('UEC Development'!$L$80:$L$84,'Efficiency Dist - MF'!N144:N148)","v":389.10433686446271},{"$f":"'Product Class Dist'!L19*SUMPRODUCT('UEC Development'!$L$14:$L$19,'Efficiency Dist - MF'!O23:O28)\n+'Product Class Dist'!L20*SUMPRODUCT('UEC Development'!$L$28:$L$33,'Efficiency Dist - MF'!O49:O54)\n+'Product Class Dist'!L21*SUMPRODUCT('UEC Development'!$L$42:$L$46,'Efficiency Dist - MF'!O74:O78)\n+'Product Class Dist'!L22*SUMPRODUCT('UEC Development'!$L$55:$L$58,'Efficiency Dist - MF'!O97:O100)\n+'Product Class Dist'!L23*SUMPRODUCT('UEC Development'!$L$67:$L$71,'Efficiency Dist - MF'!O120:O124)\n+'Product Class Dist'!L24*SUMPRODUCT('UEC Development'!$L$80:$L$84,'Efficiency Dist - MF'!O144:O148)","v":389.10433686446271},{"$f":"'Product Class Dist'!M19*SUMPRODUCT('UEC Development'!$L$14:$L$19,'Efficiency Dist - MF'!P23:P28)\n+'Product Class Dist'!M20*SUMPRODUCT('UEC Development'!$L$28:$L$33,'Efficiency Dist - MF'!P49:P54)\n+'Product Class Dist'!M21*SUMPRODUCT('UEC Development'!$L$42:$L$46,'Efficiency Dist - MF'!P74:P78)\n+'Product Class Dist'!M22*SUMPRODUCT('UEC Development'!$L$55:$L$58,'Efficiency Dist - MF'!P97:P100)\n+'Product Class Dist'!M23*SUMPRODUCT('UEC Development'!$L$67:$L$71,'Efficiency Dist - MF'!P120:P124)\n+'Product Class Dist'!M24*SUMPRODUCT('UEC Development'!$L$80:$L$84,'Efficiency Dist - MF'!P144:P148)","v":389.10433686446271},{"$f":"'Product Class Dist'!N19*SUMPRODUCT('UEC Development'!$L$14:$L$19,'Efficiency Dist - MF'!Q23:Q28)\n+'Product Class Dist'!N20*SUMPRODUCT('UEC Development'!$L$28:$L$33,'Efficiency Dist - MF'!Q49:Q54)\n+'Product Class Dist'!N21*SUMPRODUCT('UEC Development'!$L$42:$L$46,'Efficiency Dist - MF'!Q74:Q78)\n+'Product Class Dist'!N22*SUMPRODUCT('UEC Development'!$L$55:$L$58,'Efficiency Dist - MF'!Q97:Q100)\n+'Product Class Dist'!N23*SUMPRODUCT('UEC Development'!$L$67:$L$71,'Efficiency Dist - MF'!Q120:Q124)\n+'Product Class Dist'!N24*SUMPRODUCT('UEC Development'!$L$80:$L$84,'Efficiency Dist - MF'!Q144:Q148)","v":389.10433686446271},{"$f":"'Product Class Dist'!O19*SUMPRODUCT('UEC Development'!$L$14:$L$19,'Efficiency Dist - MF'!R23:R28)\n+'Product Class Dist'!O20*SUMPRODUCT('UEC Development'!$L$28:$L$33,'Efficiency Dist - MF'!R49:R54)\n+'Product Class Dist'!O21*SUMPRODUCT('UEC Development'!$L$42:$L$46,'Efficiency Dist - MF'!R74:R78)\n+'Product Class Dist'!O22*SUMPRODUCT('UEC Development'!$L$55:$L$58,'Efficiency Dist - MF'!R97:R100)\n+'Product Class Dist'!O23*SUMPRODUCT('UEC Development'!$L$67:$L$71,'Efficiency Dist - MF'!R120:R124)\n+'Product Class Dist'!O24*SUMPRODUCT('UEC Development'!$L$80:$L$84,'Efficiency Dist - MF'!R144:R148)","v":389.10433686446271},{"$f":"'Product Class Dist'!P19*SUMPRODUCT('UEC Development'!$L$14:$L$19,'Efficiency Dist - MF'!S23:S28)\n+'Product Class Dist'!P20*SUMPRODUCT('UEC Development'!$L$28:$L$33,'Efficiency Dist - MF'!S49:S54)\n+'Product Class Dist'!P21*SUMPRODUCT('UEC Development'!$L$42:$L$46,'Efficiency Dist - MF'!S74:S78)\n+'Product Class Dist'!P22*SUMPRODUCT('UEC Development'!$L$55:$L$58,'Efficiency Dist - MF'!S97:S100)\n+'Product Class Dist'!P23*SUMPRODUCT('UEC Development'!$L$67:$L$71,'Efficiency Dist - MF'!S120:S124)\n+'Product Class Dist'!P24*SUMPRODUCT('UEC Development'!$L$80:$L$84,'Efficiency Dist - MF'!S144:S148)","v":389.10433686446271},{"$f":"'Product Class Dist'!Q19*SUMPRODUCT('UEC Development'!$L$14:$L$19,'Efficiency Dist - MF'!T23:T28)\n+'Product Class Dist'!Q20*SUMPRODUCT('UEC Development'!$L$28:$L$33,'Efficiency Dist - MF'!T49:T54)\n+'Product Class Dist'!Q21*SUMPRODUCT('UEC Development'!$L$42:$L$46,'Efficiency Dist - MF'!T74:T78)\n+'Product Class Dist'!Q22*SUMPRODUCT('UEC Development'!$L$55:$L$58,'Efficiency Dist - MF'!T97:T100)\n+'Product Class Dist'!Q23*SUMPRODUCT('UEC Development'!$L$67:$L$71,'Efficiency Dist - MF'!T120:T124)\n+'Product Class Dist'!Q24*SUMPRODUCT('UEC Development'!$L$80:$L$84,'Efficiency Dist - MF'!T144:T148)","v":389.10433686446271},{"$f":"'Product Class Dist'!R19*SUMPRODUCT('UEC Development'!$L$14:$L$19,'Efficiency Dist - MF'!U23:U28)\n+'Product Class Dist'!R20*SUMPRODUCT('UEC Development'!$L$28:$L$33,'Efficiency Dist - MF'!U49:U54)\n+'Product Class Dist'!R21*SUMPRODUCT('UEC Development'!$L$42:$L$46,'Efficiency Dist - MF'!U74:U78)\n+'Product Class Dist'!R22*SUMPRODUCT('UEC Development'!$L$55:$L$58,'Efficiency Dist - MF'!U97:U100)\n+'Product Class Dist'!R23*SUMPRODUCT('UEC Development'!$L$67:$L$71,'Efficiency Dist - MF'!U120:U124)\n+'Product Class Dist'!R24*SUMPRODUCT('UEC Development'!$L$80:$L$84,'Efficiency Dist - MF'!U144:U148)","v":389.10433686446271},{"$f":"'Product Class Dist'!S19*SUMPRODUCT('UEC Development'!$L$14:$L$19,'Efficiency Dist - MF'!V23:V28)\n+'Product Class Dist'!S20*SUMPRODUCT('UEC Development'!$L$28:$L$33,'Efficiency Dist - MF'!V49:V54)\n+'Product Class Dist'!S21*SUMPRODUCT('UEC Development'!$L$42:$L$46,'Efficiency Dist - MF'!V74:V78)\n+'Product Class Dist'!S22*SUMPRODUCT('UEC Development'!$L$55:$L$58,'Efficiency Dist - MF'!V97:V100)\n+'Product Class Dist'!S23*SUMPRODUCT('UEC Development'!$L$67:$L$71,'Efficiency Dist - MF'!V120:V124)\n+'Product Class Dist'!S24*SUMPRODUCT('UEC Development'!$L$80:$L$84,'Efficiency Dist - MF'!V144:V148)","v":389.10433686446271},{"$f":"'Product Class Dist'!T19*SUMPRODUCT('UEC Development'!$L$14:$L$19,'Efficiency Dist - MF'!W23:W28)\n+'Product Class Dist'!T20*SUMPRODUCT('UEC Development'!$L$28:$L$33,'Efficiency Dist - MF'!W49:W54)\n+'Product Class Dist'!T21*SUMPRODUCT('UEC Development'!$L$42:$L$46,'Efficiency Dist - MF'!W74:W78)\n+'Product Class Dist'!T22*SUMPRODUCT('UEC Development'!$L$55:$L$58,'Efficiency Dist - MF'!W97:W100)\n+'Product Class Dist'!T23*SUMPRODUCT('UEC Development'!$L$67:$L$71,'Efficiency Dist - MF'!W120:W124)\n+'Product Class Dist'!T24*SUMPRODUCT('UEC Development'!$L$80:$L$84,'Efficiency Dist - MF'!W144:W148)","v":389.10433686446271},{"$f":"'Product Class Dist'!U19*SUMPRODUCT('UEC Development'!$L$14:$L$19,'Efficiency Dist - MF'!X23:X28)\n+'Product Class Dist'!U20*SUMPRODUCT('UEC Development'!$L$28:$L$33,'Efficiency Dist - MF'!X49:X54)\n+'Product Class Dist'!U21*SUMPRODUCT('UEC Development'!$L$42:$L$46,'Efficiency Dist - MF'!X74:X78)\n+'Product Class Dist'!U22*SUMPRODUCT('UEC Development'!$L$55:$L$58,'Efficiency Dist - MF'!X97:X100)\n+'Product Class Dist'!U23*SUMPRODUCT('UEC Development'!$L$67:$L$71,'Efficiency Dist - MF'!X120:X124)\n+'Product Class Dist'!U24*SUMPRODUCT('UEC Development'!$L$80:$L$84,'Efficiency Dist - MF'!X144:X148)","v":389.10433686446271},{"$f":"'Product Class Dist'!V19*SUMPRODUCT('UEC Development'!$L$14:$L$19,'Efficiency Dist - MF'!Y23:Y28)\n+'Product Class Dist'!V20*SUMPRODUCT('UEC Development'!$L$28:$L$33,'Efficiency Dist - MF'!Y49:Y54)\n+'Product Class Dist'!V21*SUMPRODUCT('UEC Development'!$L$42:$L$46,'Efficiency Dist - MF'!Y74:Y78)\n+'Product Class Dist'!V22*SUMPRODUCT('UEC Development'!$L$55:$L$58,'Efficiency Dist - MF'!Y97:Y100)\n+'Product Class Dist'!V23*SUMPRODUCT('UEC Development'!$L$67:$L$71,'Efficiency Dist - MF'!Y120:Y124)\n+'Product Class Dist'!V24*SUMPRODUCT('UEC Development'!$L$80:$L$84,'Efficiency Dist - MF'!Y144:Y148)","v":389.10433686446271},{"$f":"'Product Class Dist'!W19*SUMPRODUCT('UEC Development'!$L$14:$L$19,'Efficiency Dist - MF'!Z23:Z28)\n+'Product Class Dist'!W20*SUMPRODUCT('UEC Development'!$L$28:$L$33,'Efficiency Dist - MF'!Z49:Z54)\n+'Product Class Dist'!W21*SUMPRODUCT('UEC Development'!$L$42:$L$46,'Efficiency Dist - MF'!Z74:Z78)\n+'Product Class Dist'!W22*SUMPRODUCT('UEC Development'!$L$55:$L$58,'Efficiency Dist - MF'!Z97:Z100)\n+'Product Class Dist'!W23*SUMPRODUCT('UEC Development'!$L$67:$L$71,'Efficiency Dist - MF'!Z120:Z124)\n+'Product Class Dist'!W24*SUMPRODUCT('UEC Development'!$L$80:$L$84,'Efficiency Dist - MF'!Z144:Z148)","v":389.10433686446271},{"$f":"'Product Class Dist'!X19*SUMPRODUCT('UEC Development'!$L$14:$L$19,'Efficiency Dist - MF'!AA23:AA28)\n+'Product Class Dist'!X20*SUMPRODUCT('UEC Development'!$L$28:$L$33,'Efficiency Dist - MF'!AA49:AA54)\n+'Product Class Dist'!X21*SUMPRODUCT('UEC Development'!$L$42:$L$46,'Efficiency Dist - MF'!AA74:AA78)\n+'Product Class Dist'!X22*SUMPRODUCT('UEC Development'!$L$55:$L$58,'Efficiency Dist - MF'!AA97:AA100)\n+'Product Class Dist'!X23*SUMPRODUCT('UEC Development'!$L$67:$L$71,'Efficiency Dist - MF'!AA120:AA124)\n+'Product Class Dist'!X24*SUMPRODUCT('UEC Development'!$L$80:$L$84,'Efficiency Dist - MF'!AA144:AA148)","v":389.10433686446271},{"$f":"'Product Class Dist'!Y19*SUMPRODUCT('UEC Development'!$L$14:$L$19,'Efficiency Dist - MF'!AB23:AB28)\n+'Product Class Dist'!Y20*SUMPRODUCT('UEC Development'!$L$28:$L$33,'Efficiency Dist - MF'!AB49:AB54)\n+'Product Class Dist'!Y21*SUMPRODUCT('UEC Development'!$L$42:$L$46,'Efficiency Dist - MF'!AB74:AB78)\n+'Product Class Dist'!Y22*SUMPRODUCT('UEC Development'!$L$55:$L$58,'Efficiency Dist - MF'!AB97:AB100)\n+'Product Class Dist'!Y23*SUMPRODUCT('UEC Development'!$L$67:$L$71,'Efficiency Dist - MF'!AB120:AB124)\n+'Product Class Dist'!Y24*SUMPRODUCT('UEC Development'!$L$80:$L$84,'Efficiency Dist - MF'!AB144:AB148)","v":389.10433686446271},{"$f":"'Product Class Dist'!Z19*SUMPRODUCT('UEC Development'!$L$14:$L$19,'Efficiency Dist - MF'!AC23:AC28)\n+'Product Class Dist'!Z20*SUMPRODUCT('UEC Development'!$L$28:$L$33,'Efficiency Dist - MF'!AC49:AC54)\n+'Product Class Dist'!Z21*SUMPRODUCT('UEC Development'!$L$42:$L$46,'Efficiency Dist - MF'!AC74:AC78)\n+'Product Class Dist'!Z22*SUMPRODUCT('UEC Development'!$L$55:$L$58,'Efficiency Dist - MF'!AC97:AC100)\n+'Product Class Dist'!Z23*SUMPRODUCT('UEC Development'!$L$67:$L$71,'Efficiency Dist - MF'!AC120:AC124)\n+'Product Class Dist'!Z24*SUMPRODUCT('UEC Development'!$L$80:$L$84,'Efficiency Dist - MF'!AC144:AC148)","v":389.10433686446271},{"$f":"'Product Class Dist'!AA19*SUMPRODUCT('UEC Development'!$L$14:$L$19,'Efficiency Dist - MF'!AD23:AD28)\n+'Product Class Dist'!AA20*SUMPRODUCT('UEC Development'!$L$28:$L$33,'Efficiency Dist - MF'!AD49:AD54)\n+'Product Class Dist'!AA21*SUMPRODUCT('UEC Development'!$L$42:$L$46,'Efficiency Dist - MF'!AD74:AD78)\n+'Product Class Dist'!AA22*SUMPRODUCT('UEC Development'!$L$55:$L$58,'Efficiency Dist - MF'!AD97:AD100)\n+'Product Class Dist'!AA23*SUMPRODUCT('UEC Development'!$L$67:$L$71,'Efficiency Dist - MF'!AD120:AD124)\n+'Product Class Dist'!AA24*SUMPRODUCT('UEC Development'!$L$80:$L$84,'Efficiency Dist - MF'!AD144:AD148)","v":389.10433686446271},{"$f":"'Product Class Dist'!AB19*SUMPRODUCT('UEC Development'!$L$14:$L$19,'Efficiency Dist - MF'!AE23:AE28)\n+'Product Class Dist'!AB20*SUMPRODUCT('UEC Development'!$L$28:$L$33,'Efficiency Dist - MF'!AE49:AE54)\n+'Product Class Dist'!AB21*SUMPRODUCT('UEC Development'!$L$42:$L$46,'Efficiency Dist - MF'!AE74:AE78)\n+'Product Class Dist'!AB22*SUMPRODUCT('UEC Development'!$L$55:$L$58,'Efficiency Dist - MF'!AE97:AE100)\n+'Product Class Dist'!AB23*SUMPRODUCT('UEC Development'!$L$67:$L$71,'Efficiency Dist - MF'!AE120:AE124)\n+'Product Class Dist'!AB24*SUMPRODUCT('UEC Development'!$L$80:$L$84,'Efficiency Dist - MF'!AE144:AE148)","v":389.10433686446271},{"$f":"'Product Class Dist'!AC19*SUMPRODUCT('UEC Development'!$L$14:$L$19,'Efficiency Dist - MF'!AF23:AF28)\n+'Product Class Dist'!AC20*SUMPRODUCT('UEC Development'!$L$28:$L$33,'Efficiency Dist - MF'!AF49:AF54)\n+'Product Class Dist'!AC21*SUMPRODUCT('UEC Development'!$L$42:$L$46,'Efficiency Dist - MF'!AF74:AF78)\n+'Product Class Dist'!AC22*SUMPRODUCT('UEC Development'!$L$55:$L$58,'Efficiency Dist - MF'!AF97:AF100)\n+'Product Class Dist'!AC23*SUMPRODUCT('UEC Development'!$L$67:$L$71,'Efficiency Dist - MF'!AF120:AF124)\n+'Product Class Dist'!AC24*SUMPRODUCT('UEC Development'!$L$80:$L$84,'Efficiency Dist - MF'!AF144:AF148)","v":389.10433686446271},{"$f":"'Product Class Dist'!AD19*SUMPRODUCT('UEC Development'!$L$14:$L$19,'Efficiency Dist - MF'!AG23:AG28)\n+'Product Class Dist'!AD20*SUMPRODUCT('UEC Development'!$L$28:$L$33,'Efficiency Dist - MF'!AG49:AG54)\n+'Product Class Dist'!AD21*SUMPRODUCT('UEC Development'!$L$42:$L$46,'Efficiency Dist - MF'!AG74:AG78)\n+'Product Class Dist'!AD22*SUMPRODUCT('UEC Development'!$L$55:$L$58,'Efficiency Dist - MF'!AG97:AG100)\n+'Product Class Dist'!AD23*SUMPRODUCT('UEC Development'!$L$67:$L$71,'Efficiency Dist - MF'!AG120:AG124)\n+'Product Class Dist'!AD24*SUMPRODUCT('UEC Development'!$L$80:$L$84,'Efficiency Dist - MF'!AG144:AG148)","v":389.10433686446271},{"$f":"'Product Class Dist'!AE19*SUMPRODUCT('UEC Development'!$L$14:$L$19,'Efficiency Dist - MF'!AH23:AH28)\n+'Product Class Dist'!AE20*SUMPRODUCT('UEC Development'!$L$28:$L$33,'Efficiency Dist - MF'!AH49:AH54)\n+'Product Class Dist'!AE21*SUMPRODUCT('UEC Development'!$L$42:$L$46,'Efficiency Dist - MF'!AH74:AH78)\n+'Product Class Dist'!AE22*SUMPRODUCT('UEC Development'!$L$55:$L$58,'Efficiency Dist - MF'!AH97:AH100)\n+'Product Class Dist'!AE23*SUMPRODUCT('UEC Development'!$L$67:$L$71,'Efficiency Dist - MF'!AH120:AH124)\n+'Product Class Dist'!AE24*SUMPRODUCT('UEC Development'!$L$80:$L$84,'Efficiency Dist - MF'!AH144:AH148)","v":389.10433686446271},{"$f":"'Product Class Dist'!AF19*SUMPRODUCT('UEC Development'!$L$14:$L$19,'Efficiency Dist - MF'!AI23:AI28)\n+'Product Class Dist'!AF20*SUMPRODUCT('UEC Development'!$L$28:$L$33,'Efficiency Dist - MF'!AI49:AI54)\n+'Product Class Dist'!AF21*SUMPRODUCT('UEC Development'!$L$42:$L$46,'Efficiency Dist - MF'!AI74:AI78)\n+'Product Class Dist'!AF22*SUMPRODUCT('UEC Development'!$L$55:$L$58,'Efficiency Dist - MF'!AI97:AI100)\n+'Product Class Dist'!AF23*SUMPRODUCT('UEC Development'!$L$67:$L$71,'Efficiency Dist - MF'!AI120:AI124)\n+'Product Class Dist'!AF24*SUMPRODUCT('UEC Development'!$L$80:$L$84,'Efficiency Dist - MF'!AI144:AI148)","v":389.10433686446271},{"$f":"'Product Class Dist'!AG19*SUMPRODUCT('UEC Development'!$L$14:$L$19,'Efficiency Dist - MF'!AJ23:AJ28)\n+'Product Class Dist'!AG20*SUMPRODUCT('UEC Development'!$L$28:$L$33,'Efficiency Dist - MF'!AJ49:AJ54)\n+'Product Class Dist'!AG21*SUMPRODUCT('UEC Development'!$L$42:$L$46,'Efficiency Dist - MF'!AJ74:AJ78)\n+'Product Class Dist'!AG22*SUMPRODUCT('UEC Development'!$L$55:$L$58,'Efficiency Dist - MF'!AJ97:AJ100)\n+'Product Class Dist'!AG23*SUMPRODUCT('UEC Development'!$L$67:$L$71,'Efficiency Dist - MF'!AJ120:AJ124)\n+'Product Class Dist'!AG24*SUMPRODUCT('UEC Development'!$L$80:$L$84,'Efficiency Dist - MF'!AJ144:AJ148)","v":389.10433686446271},{"$f":"'Product Class Dist'!AH19*SUMPRODUCT('UEC Development'!$L$14:$L$19,'Efficiency Dist - MF'!AK23:AK28)\n+'Product Class Dist'!AH20*SUMPRODUCT('UEC Development'!$L$28:$L$33,'Efficiency Dist - MF'!AK49:AK54)\n+'Product Class Dist'!AH21*SUMPRODUCT('UEC Development'!$L$42:$L$46,'Efficiency Dist - MF'!AK74:AK78)\n+'Product Class Dist'!AH22*SUMPRODUCT('UEC Development'!$L$55:$L$58,'Efficiency Dist - MF'!AK97:AK100)\n+'Product Class Dist'!AH23*SUMPRODUCT('UEC Development'!$L$67:$L$71,'Efficiency Dist - MF'!AK120:AK124)\n+'Product Class Dist'!AH24*SUMPRODUCT('UEC Development'!$L$80:$L$84,'Efficiency Dist - MF'!AK144:AK148)","v":389.10433686446277},{"$f":"'Product Class Dist'!AI19*SUMPRODUCT('UEC Development'!$L$14:$L$19,'Efficiency Dist - MF'!AL23:AL28)\n+'Product Class Dist'!AI20*SUMPRODUCT('UEC Development'!$L$28:$L$33,'Efficiency Dist - MF'!AL49:AL54)\n+'Product Class Dist'!AI21*SUMPRODUCT('UEC Development'!$L$42:$L$46,'Efficiency Dist - MF'!AL74:AL78)\n+'Product Class Dist'!AI22*SUMPRODUCT('UEC Development'!$L$55:$L$58,'Efficiency Dist - MF'!AL97:AL100)\n+'Product Class Dist'!AI23*SUMPRODUCT('UEC Development'!$L$67:$L$71,'Efficiency Dist - MF'!AL120:AL124)\n+'Product Class Dist'!AI24*SUMPRODUCT('UEC Development'!$L$80:$L$84,'Efficiency Dist - MF'!AL144:AL148)","v":389.10433686446277},{"$f":"'Product Class Dist'!AJ19*SUMPRODUCT('UEC Development'!$L$14:$L$19,'Efficiency Dist - MF'!AM23:AM28)\n+'Product Class Dist'!AJ20*SUMPRODUCT('UEC Development'!$L$28:$L$33,'Efficiency Dist - MF'!AM49:AM54)\n+'Product Class Dist'!AJ21*SUMPRODUCT('UEC Development'!$L$42:$L$46,'Efficiency Dist - MF'!AM74:AM78)\n+'Product Class Dist'!AJ22*SUMPRODUCT('UEC Development'!$L$55:$L$58,'Efficiency Dist - MF'!AM97:AM100)\n+'Product Class Dist'!AJ23*SUMPRODUCT('UEC Development'!$L$67:$L$71,'Efficiency Dist - MF'!AM120:AM124)\n+'Product Class Dist'!AJ24*SUMPRODUCT('UEC Development'!$L$80:$L$84,'Efficiency Dist - MF'!AM144:AM148)","v":389.10433686446277},{"$f":"'Product Class Dist'!AK19*SUMPRODUCT('UEC Development'!$L$14:$L$19,'Efficiency Dist - MF'!AN23:AN28)\n+'Product Class Dist'!AK20*SUMPRODUCT('UEC Development'!$L$28:$L$33,'Efficiency Dist - MF'!AN49:AN54)\n+'Product Class Dist'!AK21*SUMPRODUCT('UEC Development'!$L$42:$L$46,'Efficiency Dist - MF'!AN74:AN78)\n+'Product Class Dist'!AK22*SUMPRODUCT('UEC Development'!$L$55:$L$58,'Efficiency Dist - MF'!AN97:AN100)\n+'Product Class Dist'!AK23*SUMPRODUCT('UEC Development'!$L$67:$L$71,'Efficiency Dist - MF'!AN120:AN124)\n+'Product Class Dist'!AK24*SUMPRODUCT('UEC Development'!$L$80:$L$84,'Efficiency Dist - MF'!AN144:AN148)","v":366.01524856101793},{"$f":"'Product Class Dist'!AL19*SUMPRODUCT('UEC Development'!$L$14:$L$19,'Efficiency Dist - MF'!AO23:AO28)\n+'Product Class Dist'!AL20*SUMPRODUCT('UEC Development'!$L$28:$L$33,'Efficiency Dist - MF'!AO49:AO54)\n+'Product Class Dist'!AL21*SUMPRODUCT('UEC Development'!$L$42:$L$46,'Efficiency Dist - MF'!AO74:AO78)\n+'Product Class Dist'!AL22*SUMPRODUCT('UEC Development'!$L$55:$L$58,'Efficiency Dist - MF'!AO97:AO100)\n+'Product Class Dist'!AL23*SUMPRODUCT('UEC Development'!$L$67:$L$71,'Efficiency Dist - MF'!AO120:AO124)\n+'Product Class Dist'!AL24*SUMPRODUCT('UEC Development'!$L$80:$L$84,'Efficiency Dist - MF'!AO144:AO148)","v":365.49164245943382},{"$f":"'Product Class Dist'!AM19*SUMPRODUCT('UEC Development'!$L$14:$L$19,'Efficiency Dist - MF'!AP23:AP28)\n+'Product Class Dist'!AM20*SUMPRODUCT('UEC Development'!$L$28:$L$33,'Efficiency Dist - MF'!AP49:AP54)\n+'Product Class Dist'!AM21*SUMPRODUCT('UEC Development'!$L$42:$L$46,'Efficiency Dist - MF'!AP74:AP78)\n+'Product Class Dist'!AM22*SUMPRODUCT('UEC Development'!$L$55:$L$58,'Efficiency Dist - MF'!AP97:AP100)\n+'Product Class Dist'!AM23*SUMPRODUCT('UEC Development'!$L$67:$L$71,'Efficiency Dist - MF'!AP120:AP124)\n+'Product Class Dist'!AM24*SUMPRODUCT('UEC Development'!$L$80:$L$84,'Efficiency Dist - MF'!AP144:AP148)","v":365.30662001155832},{"$f":"'Product Class Dist'!AN19*SUMPRODUCT('UEC Development'!$L$14:$L$19,'Efficiency Dist - MF'!AQ23:AQ28)\n+'Product Class Dist'!AN20*SUMPRODUCT('UEC Development'!$L$28:$L$33,'Efficiency Dist - MF'!AQ49:AQ54)\n+'Product Class Dist'!AN21*SUMPRODUCT('UEC Development'!$L$42:$L$46,'Efficiency Dist - MF'!AQ74:AQ78)\n+'Product Class Dist'!AN22*SUMPRODUCT('UEC Development'!$L$55:$L$58,'Efficiency Dist - MF'!AQ97:AQ100)\n+'Product Class Dist'!AN23*SUMPRODUCT('UEC Development'!$L$67:$L$71,'Efficiency Dist - MF'!AQ120:AQ124)\n+'Product Class Dist'!AN24*SUMPRODUCT('UEC Development'!$L$80:$L$84,'Efficiency Dist - MF'!AQ144:AQ148)","v":365.09374939653515},{"$f":"'Product Class Dist'!AO19*SUMPRODUCT('UEC Development'!$L$14:$L$19,'Efficiency Dist - MF'!AR23:AR28)\n+'Product Class Dist'!AO20*SUMPRODUCT('UEC Development'!$L$28:$L$33,'Efficiency Dist - MF'!AR49:AR54)\n+'Product Class Dist'!AO21*SUMPRODUCT('UEC Development'!$L$42:$L$46,'Efficiency Dist - MF'!AR74:AR78)\n+'Product Class Dist'!AO22*SUMPRODUCT('UEC Development'!$L$55:$L$58,'Efficiency Dist - MF'!AR97:AR100)\n+'Product Class Dist'!AO23*SUMPRODUCT('UEC Development'!$L$67:$L$71,'Efficiency Dist - MF'!AR120:AR124)\n+'Product Class Dist'!AO24*SUMPRODUCT('UEC Development'!$L$80:$L$84,'Efficiency Dist - MF'!AR144:AR148)","v":364.85012135521424},{"$f":"'Product Class Dist'!AP19*SUMPRODUCT('UEC Development'!$L$14:$L$19,'Efficiency Dist - MF'!AS23:AS28)\n+'Product Class Dist'!AP20*SUMPRODUCT('UEC Development'!$L$28:$L$33,'Efficiency Dist - MF'!AS49:AS54)\n+'Product Class Dist'!AP21*SUMPRODUCT('UEC Development'!$L$42:$L$46,'Efficiency Dist - MF'!AS74:AS78)\n+'Product Class Dist'!AP22*SUMPRODUCT('UEC Development'!$L$55:$L$58,'Efficiency Dist - MF'!AS97:AS100)\n+'Product Class Dist'!AP23*SUMPRODUCT('UEC Development'!$L$67:$L$71,'Efficiency Dist - MF'!AS120:AS124)\n+'Product Class Dist'!AP24*SUMPRODUCT('UEC Development'!$L$80:$L$84,'Efficiency Dist - MF'!AS144:AS148)","v":364.62800266209479},{"$f":"'Product Class Dist'!AQ19*SUMPRODUCT('UEC Development'!$L$14:$L$19,'Efficiency Dist - MF'!AT23:AT28)\n+'Product Class Dist'!AQ20*SUMPRODUCT('UEC Development'!$L$28:$L$33,'Efficiency Dist - MF'!AT49:AT54)\n+'Product Class Dist'!AQ21*SUMPRODUCT('UEC Development'!$L$42:$L$46,'Efficiency Dist - MF'!AT74:AT78)\n+'Product Class Dist'!AQ22*SUMPRODUCT('UEC Development'!$L$55:$L$58,'Efficiency Dist - MF'!AT97:AT100)\n+'Product Class Dist'!AQ23*SUMPRODUCT('UEC Development'!$L$67:$L$71,'Efficiency Dist - MF'!AT120:AT124)\n+'Product Class Dist'!AQ24*SUMPRODUCT('UEC Development'!$L$80:$L$84,'Efficiency Dist - MF'!AT144:AT148)","v":364.36519146431317},{"$f":"'Product Class Dist'!AR19*SUMPRODUCT('UEC Development'!$L$14:$L$19,'Efficiency Dist - MF'!AU23:AU28)\n+'Product Class Dist'!AR20*SUMPRODUCT('UEC Development'!$L$28:$L$33,'Efficiency Dist - MF'!AU49:AU54)\n+'Product Class Dist'!AR21*SUMPRODUCT('UEC Development'!$L$42:$L$46,'Efficiency Dist - MF'!AU74:AU78)\n+'Product Class Dist'!AR22*SUMPRODUCT('UEC Development'!$L$55:$L$58,'Efficiency Dist - MF'!AU97:AU100)\n+'Product Class Dist'!AR23*SUMPRODUCT('UEC Development'!$L$67:$L$71,'Efficiency Dist - MF'!AU120:AU124)\n+'Product Class Dist'!AR24*SUMPRODUCT('UEC Development'!$L$80:$L$84,'Efficiency Dist - MF'!AU144:AU148)","v":364.07281636785439},{"$f":"'Product Class Dist'!AS19*SUMPRODUCT('UEC Development'!$L$14:$L$19,'Efficiency Dist - MF'!AV23:AV28)\n+'Product Class Dist'!AS20*SUMPRODUCT('UEC Development'!$L$28:$L$33,'Efficiency Dist - MF'!AV49:AV54)\n+'Product Class Dist'!AS21*SUMPRODUCT('UEC Development'!$L$42:$L$46,'Efficiency Dist - MF'!AV74:AV78)\n+'Product Class Dist'!AS22*SUMPRODUCT('UEC Development'!$L$55:$L$58,'Efficiency Dist - MF'!AV97:AV100)\n+'Product Class Dist'!AS23*SUMPRODUCT('UEC Development'!$L$67:$L$71,'Efficiency Dist - MF'!AV120:AV124)\n+'Product Class Dist'!AS24*SUMPRODUCT('UEC Development'!$L$80:$L$84,'Efficiency Dist - MF'!AV144:AV148)","v":363.71470999763659},{"$f":"'Product Class Dist'!AT19*SUMPRODUCT('UEC Development'!$L$14:$L$19,'Efficiency Dist - MF'!AW23:AW28)\n+'Product Class Dist'!AT20*SUMPRODUCT('UEC Development'!$L$28:$L$33,'Efficiency Dist - MF'!AW49:AW54)\n+'Product Class Dist'!AT21*SUMPRODUCT('UEC Development'!$L$42:$L$46,'Efficiency Dist - MF'!AW74:AW78)\n+'Product Class Dist'!AT22*SUMPRODUCT('UEC Development'!$L$55:$L$58,'Efficiency Dist - MF'!AW97:AW100)\n+'Product Class Dist'!AT23*SUMPRODUCT('UEC Development'!$L$67:$L$71,'Efficiency Dist - MF'!AW120:AW124)\n+'Product Class Dist'!AT24*SUMPRODUCT('UEC Development'!$L$80:$L$84,'Efficiency Dist - MF'!AW144:AW148)","v":363.32635334146926},{"$f":"'Product Class Dist'!AU19*SUMPRODUCT('UEC Development'!$L$14:$L$19,'Efficiency Dist - MF'!AX23:AX28)\n+'Product Class Dist'!AU20*SUMPRODUCT('UEC Development'!$L$28:$L$33,'Efficiency Dist - MF'!AX49:AX54)\n+'Product Class Dist'!AU21*SUMPRODUCT('UEC Development'!$L$42:$L$46,'Efficiency Dist - MF'!AX74:AX78)\n+'Product Class Dist'!AU22*SUMPRODUCT('UEC Development'!$L$55:$L$58,'Efficiency Dist - MF'!AX97:AX100)\n+'Product Class Dist'!AU23*SUMPRODUCT('UEC Development'!$L$67:$L$71,'Efficiency Dist - MF'!AX120:AX124)\n+'Product Class Dist'!AU24*SUMPRODUCT('UEC Development'!$L$80:$L$84,'Efficiency Dist - MF'!AX144:AX148)","v":362.92463236889256},{"$f":"'Product Class Dist'!AV19*SUMPRODUCT('UEC Development'!$L$14:$L$19,'Efficiency Dist - MF'!AY23:AY28)\n+'Product Class Dist'!AV20*SUMPRODUCT('UEC Development'!$L$28:$L$33,'Efficiency Dist - MF'!AY49:AY54)\n+'Product Class Dist'!AV21*SUMPRODUCT('UEC Development'!$L$42:$L$46,'Efficiency Dist - MF'!AY74:AY78)\n+'Product Class Dist'!AV22*SUMPRODUCT('UEC Development'!$L$55:$L$58,'Efficiency Dist - MF'!AY97:AY100)\n+'Product Class Dist'!AV23*SUMPRODUCT('UEC Development'!$L$67:$L$71,'Efficiency Dist - MF'!AY120:AY124)\n+'Product Class Dist'!AV24*SUMPRODUCT('UEC Development'!$L$80:$L$84,'Efficiency Dist - MF'!AY144:AY148)","v":362.50606326046824},{"$f":"'Product Class Dist'!AW19*SUMPRODUCT('UEC Development'!$L$14:$L$19,'Efficiency Dist - MF'!AZ23:AZ28)\n+'Product Class Dist'!AW20*SUMPRODUCT('UEC Development'!$L$28:$L$33,'Efficiency Dist - MF'!AZ49:AZ54)\n+'Product Class Dist'!AW21*SUMPRODUCT('UEC Development'!$L$42:$L$46,'Efficiency Dist - MF'!AZ74:AZ78)\n+'Product Class Dist'!AW22*SUMPRODUCT('UEC Development'!$L$55:$L$58,'Efficiency Dist - MF'!AZ97:AZ100)\n+'Product Class Dist'!AW23*SUMPRODUCT('UEC Development'!$L$67:$L$71,'Efficiency Dist - MF'!AZ120:AZ124)\n+'Product Class Dist'!AW24*SUMPRODUCT('UEC Development'!$L$80:$L$84,'Efficiency Dist - MF'!AZ144:AZ148)","v":362.08644946830896},{"$f":"'Product Class Dist'!AX19*SUMPRODUCT('UEC Development'!$L$14:$L$19,'Efficiency Dist - MF'!BA23:BA28)\n+'Product Class Dist'!AX20*SUMPRODUCT('UEC Development'!$L$28:$L$33,'Efficiency Dist - MF'!BA49:BA54)\n+'Product Class Dist'!AX21*SUMPRODUCT('UEC Development'!$L$42:$L$46,'Efficiency Dist - MF'!BA74:BA78)\n+'Product Class Dist'!AX22*SUMPRODUCT('UEC Development'!$L$55:$L$58,'Efficiency Dist - MF'!BA97:BA100)\n+'Product Class Dist'!AX23*SUMPRODUCT('UEC Development'!$L$67:$L$71,'Efficiency Dist - MF'!BA120:BA124)\n+'Product Class Dist'!AX24*SUMPRODUCT('UEC Development'!$L$80:$L$84,'Efficiency Dist - MF'!BA144:BA148)","v":361.66578862245592},{"$f":"'Product Class Dist'!AY19*SUMPRODUCT('UEC Development'!$L$14:$L$19,'Efficiency Dist - MF'!BB23:BB28)\n+'Product Class Dist'!AY20*SUMPRODUCT('UEC Development'!$L$28:$L$33,'Efficiency Dist - MF'!BB49:BB54)\n+'Product Class Dist'!AY21*SUMPRODUCT('UEC Development'!$L$42:$L$46,'Efficiency Dist - MF'!BB74:BB78)\n+'Product Class Dist'!AY22*SUMPRODUCT('UEC Development'!$L$55:$L$58,'Efficiency Dist - MF'!BB97:BB100)\n+'Product Class Dist'!AY23*SUMPRODUCT('UEC Development'!$L$67:$L$71,'Efficiency Dist - MF'!BB120:BB124)\n+'Product Class Dist'!AY24*SUMPRODUCT('UEC Development'!$L$80:$L$84,'Efficiency Dist - MF'!BB144:BB148)","v":361.21950203753835},{"$f":"'Product Class Dist'!AZ19*SUMPRODUCT('UEC Development'!$L$14:$L$19,'Efficiency Dist - MF'!BC23:BC28)\n+'Product Class Dist'!AZ20*SUMPRODUCT('UEC Development'!$L$28:$L$33,'Efficiency Dist - MF'!BC49:BC54)\n+'Product Class Dist'!AZ21*SUMPRODUCT('UEC Development'!$L$42:$L$46,'Efficiency Dist - MF'!BC74:BC78)\n+'Product Class Dist'!AZ22*SUMPRODUCT('UEC Development'!$L$55:$L$58,'Efficiency Dist - MF'!BC97:BC100)\n+'Product Class Dist'!AZ23*SUMPRODUCT('UEC Development'!$L$67:$L$71,'Efficiency Dist - MF'!BC120:BC124)\n+'Product Class Dist'!AZ24*SUMPRODUCT('UEC Development'!$L$80:$L$84,'Efficiency Dist - MF'!BC144:BC148)","v":360.76042593952138},{"$f":"'Product Class Dist'!BA19*SUMPRODUCT('UEC Development'!$L$14:$L$19,'Efficiency Dist - MF'!BD23:BD28)\n+'Product Class Dist'!BA20*SUMPRODUCT('UEC Development'!$L$28:$L$33,'Efficiency Dist - MF'!BD49:BD54)\n+'Product Class Dist'!BA21*SUMPRODUCT('UEC Development'!$L$42:$L$46,'Efficiency Dist - MF'!BD74:BD78)\n+'Product Class Dist'!BA22*SUMPRODUCT('UEC Development'!$L$55:$L$58,'Efficiency Dist - MF'!BD97:BD100)\n+'Product Class Dist'!BA23*SUMPRODUCT('UEC Development'!$L$67:$L$71,'Efficiency Dist - MF'!BD120:BD124)\n+'Product Class Dist'!BA24*SUMPRODUCT('UEC Development'!$L$80:$L$84,'Efficiency Dist - MF'!BD144:BD148)","v":360.28969756345225},{"$f":"'Product Class Dist'!BB19*SUMPRODUCT('UEC Development'!$L$14:$L$19,'Efficiency Dist - MF'!BE23:BE28)\n+'Product Class Dist'!BB20*SUMPRODUCT('UEC Development'!$L$28:$L$33,'Efficiency Dist - MF'!BE49:BE54)\n+'Product Class Dist'!BB21*SUMPRODUCT('UEC Development'!$L$42:$L$46,'Efficiency Dist - MF'!BE74:BE78)\n+'Product Class Dist'!BB22*SUMPRODUCT('UEC Development'!$L$55:$L$58,'Efficiency Dist - MF'!BE97:BE100)\n+'Product Class Dist'!BB23*SUMPRODUCT('UEC Development'!$L$67:$L$71,'Efficiency Dist - MF'!BE120:BE124)\n+'Product Class Dist'!BB24*SUMPRODUCT('UEC Development'!$L$80:$L$84,'Efficiency Dist - MF'!BE144:BE148)","v":359.83382431605412},{"$f":"'Product Class Dist'!BC19*SUMPRODUCT('UEC Development'!$L$14:$L$19,'Efficiency Dist - MF'!BF23:BF28)\n+'Product Class Dist'!BC20*SUMPRODUCT('UEC Development'!$L$28:$L$33,'Efficiency Dist - MF'!BF49:BF54)\n+'Product Class Dist'!BC21*SUMPRODUCT('UEC Development'!$L$42:$L$46,'Efficiency Dist - MF'!BF74:BF78)\n+'Product Class Dist'!BC22*SUMPRODUCT('UEC Development'!$L$55:$L$58,'Efficiency Dist - MF'!BF97:BF100)\n+'Product Class Dist'!BC23*SUMPRODUCT('UEC Development'!$L$67:$L$71,'Efficiency Dist - MF'!BF120:BF124)\n+'Product Class Dist'!BC24*SUMPRODUCT('UEC Development'!$L$80:$L$84,'Efficiency Dist - MF'!BF144:BF148)","v":359.39055040907044},{"$f":"'Product Class Dist'!BD19*SUMPRODUCT('UEC Development'!$L$14:$L$19,'Efficiency Dist - MF'!BG23:BG28)\n+'Product Class Dist'!BD20*SUMPRODUCT('UEC Development'!$L$28:$L$33,'Efficiency Dist - MF'!BG49:BG54)\n+'Product Class Dist'!BD21*SUMPRODUCT('UEC Development'!$L$42:$L$46,'Efficiency Dist - MF'!BG74:BG78)\n+'Product Class Dist'!BD22*SUMPRODUCT('UEC Development'!$L$55:$L$58,'Efficiency Dist - MF'!BG97:BG100)\n+'Product Class Dist'!BD23*SUMPRODUCT('UEC Development'!$L$67:$L$71,'Efficiency Dist - MF'!BG120:BG124)\n+'Product Class Dist'!BD24*SUMPRODUCT('UEC Development'!$L$80:$L$84,'Efficiency Dist - MF'!BG144:BG148)","v":358.98522981345161},{"$f":"'Product Class Dist'!BE19*SUMPRODUCT('UEC Development'!$L$14:$L$19,'Efficiency Dist - MF'!BH23:BH28)\n+'Product Class Dist'!BE20*SUMPRODUCT('UEC Development'!$L$28:$L$33,'Efficiency Dist - MF'!BH49:BH54)\n+'Product Class Dist'!BE21*SUMPRODUCT('UEC Development'!$L$42:$L$46,'Efficiency Dist - MF'!BH74:BH78)\n+'Product Class Dist'!BE22*SUMPRODUCT('UEC Development'!$L$55:$L$58,'Efficiency Dist - MF'!BH97:BH100)\n+'Product Class Dist'!BE23*SUMPRODUCT('UEC Development'!$L$67:$L$71,'Efficiency Dist - MF'!BH120:BH124)\n+'Product Class Dist'!BE24*SUMPRODUCT('UEC Development'!$L$80:$L$84,'Efficiency Dist - MF'!BH144:BH148)","v":358.58702218463588}]
[]
[null,null,"Installed UEC (Vintage Weighted Average) "]
[null,null,null,1981,1982,1983,1984,1985,1986,1987,1988,1989,1990,1991,1992,1993,1994,1995,1996,1997,1998,1999,2000,2001,2002,2003,2004,2005,2006,2007,2008,2009,2010,2011,2012,2013,2014,2015,2016,2017,2018,2019,2020,2021,2022,2023,2024,2025,2026,2027,2028,2029,2030,2031,2032,2033,2034]
[null,null,"PRE-Case UEC",{"$f":"IF(D$15-$D$15+2<=LIFETIME_MF,D11,\nSUMPRODUCT(OFFSET(D11,0,(-1*LIFETIME_MF)+1,1,LIFETIME_MF),OFFSET('Shipments and Stock - MF'!E$14,0,(-1*LIFETIME_MF)+1,1,LIFETIME_MF))/\nSUM(OFFSET('Shipments and Stock - MF'!E$14,0,(-1*LIFETIME_MF)+1,1,LIFETIME_MF)))","v":389.10433686446271},{"$f":"IF(E$15-$D$15+2<=LIFETIME_MF,E11,\nSUMPRODUCT(OFFSET(E11,0,(-1*LIFETIME_MF)+1,1,LIFETIME_MF),OFFSET('Shipments and Stock - MF'!F$14,0,(-1*LIFETIME_MF)+1,1,LIFETIME_MF))/\nSUM(OFFSET('Shipments and Stock - MF'!F$14,0,(-1*LIFETIME_MF)+1,1,LIFETIME_MF)))","v":389.10433686446271},{"$f":"IF(F$15-$D$15+2<=LIFETIME_MF,F11,\nSUMPRODUCT(OFFSET(F11,0,(-1*LIFETIME_MF)+1,1,LIFETIME_MF),OFFSET('Shipments and Stock - MF'!G$14,0,(-1*LIFETIME_MF)+1,1,LIFETIME_MF))/\nSUM(OFFSET('Shipments and Stock - MF'!G$14,0,(-1*LIFETIME_MF)+1,1,LIFETIME_MF)))","v":389.10433686446271},{"$f":"IF(G$15-$D$15+2<=LIFETIME_MF,G11,\nSUMPRODUCT(OFFSET(G11,0,(-1*LIFETIME_MF)+1,1,LIFETIME_MF),OFFSET('Shipments and Stock - MF'!H$14,0,(-1*LIFETIME_MF)+1,1,LIFETIME_MF))/\nSUM(OFFSET('Shipments and Stock - MF'!H$14,0,(-1*LIFETIME_MF)+1,1,LIFETIME_MF)))","v":389.10433686446271},{"$f":"IF(H$15-$D$15+2<=LIFETIME_MF,H11,\nSUMPRODUCT(OFFSET(H11,0,(-1*LIFETIME_MF)+1,1,LIFETIME_MF),OFFSET('Shipments and Stock - MF'!I$14,0,(-1*LIFETIME_MF)+1,1,LIFETIME_MF))/\nSUM(OFFSET('Shipments and Stock - MF'!I$14,0,(-1*LIFETIME_MF)+1,1,LIFETIME_MF)))","v":389.10433686446271},{"$f":"IF(I$15-$D$15+2<=LIFETIME_MF,I11,\nSUMPRODUCT(OFFSET(I11,0,(-1*LIFETIME_MF)+1,1,LIFETIME_MF),OFFSET('Shipments and Stock - MF'!J$14,0,(-1*LIFETIME_MF)+1,1,LIFETIME_MF))/\nSUM(OFFSET('Shipments and Stock - MF'!J$14,0,(-1*LIFETIME_MF)+1,1,LIFETIME_MF)))","v":389.10433686446271},{"$f":"IF(J$15-$D$15+2<=LIFETIME_MF,J11,\nSUMPRODUCT(OFFSET(J11,0,(-1*LIFETIME_MF)+1,1,LIFETIME_MF),OFFSET('Shipments and Stock - MF'!K$14,0,(-1*LIFETIME_MF)+1,1,LIFETIME_MF))/\nSUM(OFFSET('Shipments and Stock - MF'!K$14,0,(-1*LIFETIME_MF)+1,1,LIFETIME_MF)))","v":389.10433686446271},{"$f":"IF(K$15-$D$15+2<=LIFETIME_MF,K11,\nSUMPRODUCT(OFFSET(K11,0,(-1*LIFETIME_MF)+1,1,LIFETIME_MF),OFFSET('Shipments and Stock - MF'!L$14,0,(-1*LIFETIME_MF)+1,1,LIFETIME_MF))/\nSUM(OFFSET('Shipments and Stock - MF'!L$14,0,(-1*LIFETIME_MF)+1,1,LIFETIME_MF)))","v":389.10433686446271},{"$f":"IF(L$15-$D$15+2<=LIFETIME_MF,L11,\nSUMPRODUCT(OFFSET(L11,0,(-1*LIFETIME_MF)+1,1,LIFETIME_MF),OFFSET('Shipments and Stock - MF'!M$14,0,(-1*LIFETIME_MF)+1,1,LIFETIME_MF))/\nSUM(OFFSET('Shipments and Stock - MF'!M$14,0,(-1*LIFETIME_MF)+1,1,LIFETIME_MF)))","v":389.10433686446271},{"$f":"IF(M$15-$D$15+2<=LIFETIME_MF,M11,\nSUMPRODUCT(OFFSET(M11,0,(-1*LIFETIME_MF)+1,1,LIFETIME_MF),OFFSET('Shipments and Stock - MF'!N$14,0,(-1*LIFETIME_MF)+1,1,LIFETIME_MF))/\nSUM(OFFSET('Shipments and Stock - MF'!N$14,0,(-1*LIFETIME_MF)+1,1,LIFETIME_MF)))","v":389.10433686446271},{"$f":"IF(N$15-$D$15+2<=LIFETIME_MF,N11,\nSUMPRODUCT(OFFSET(N11,0,(-1*LIFETIME_MF)+1,1,LIFETIME_MF),OFFSET('Shipments and Stock - MF'!O$14,0,(-1*LIFETIME_MF)+1,1,LIFETIME_MF))/\nSUM(OFFSET('Shipments and Stock - MF'!O$14,0,(-1*LIFETIME_MF)+1,1,LIFETIME_MF)))","v":389.10433686446271},{"$f":"IF(O$15-$D$15+2<=LIFETIME_MF,O11,\nSUMPRODUCT(OFFSET(O11,0,(-1*LIFETIME_MF)+1,1,LIFETIME_MF),OFFSET('Shipments and Stock - MF'!P$14,0,(-1*LIFETIME_MF)+1,1,LIFETIME_MF))/\nSUM(OFFSET('Shipments and Stock - MF'!P$14,0,(-1*LIFETIME_MF)+1,1,LIFETIME_MF)))","v":389.10433686446277},{"$f":"IF(P$15-$D$15+2<=LIFETIME_MF,P11,\nSUMPRODUCT(OFFSET(P11,0,(-1*LIFETIME_MF)+1,1,LIFETIME_MF),OFFSET('Shipments and Stock - MF'!Q$14,0,(-1*LIFETIME_MF)+1,1,LIFETIME_MF))/\nSUM(OFFSET('Shipments and Stock - MF'!Q$14,0,(-1*LIFETIME_MF)+1,1,LIFETIME_MF)))","v":389.10433686446271},{"$f":"IF(Q$15-$D$15+2<=LIFETIME_MF,Q11,\nSUMPRODUCT(OFFSET(Q11,0,(-1*LIFETIME_MF)+1,1,LIFETIME_MF),OFFSET('Shipments and Stock - MF'!R$14,0,(-1*LIFETIME_MF)+1,1,LIFETIME_MF))/\nSUM(OFFSET('Shipments and Stock - MF'!R$14,0,(-1*LIFETIME_MF)+1,1,LIFETIME_MF)))","v":389.10433686446277},{"$f":"IF(R$15-$D$15+2<=LIFETIME_MF,R11,\nSUMPRODUCT(OFFSET(R11,0,(-1*LIFETIME_MF)+1,1,LIFETIME_MF),OFFSET('Shipments and Stock - MF'!S$14,0,(-1*LIFETIME_MF)+1,1,LIFETIME_MF))/\nSUM(OFFSET('Shipments and Stock - MF'!S$14,0,(-1*LIFETIME_MF)+1,1,LIFETIME_MF)))","v":389.10433686446271},{"$f":"IF(S$15-$D$15+2<=LIFETIME_MF,S11,\nSUMPRODUCT(OFFSET(S11,0,(-1*LIFETIME_MF)+1,1,LIFETIME_MF),OFFSET('Shipments and Stock - MF'!T$14,0,(-1*LIFETIME_MF)+1,1,LIFETIME_MF))/\nSUM(OFFSET('Shipments and Stock - MF'!T$14,0,(-1*LIFETIME_MF)+1,1,LIFETIME_MF)))","v":389.10433686446282},{"$f":"IF(T$15-$D$15+2<=LIFETIME_MF,T11,\nSUMPRODUCT(OFFSET(T11,0,(-1*LIFETIME_MF)+1,1,LIFETIME_MF),OFFSET('Shipments and Stock - MF'!U$14,0,(-1*LIFETIME_MF)+1,1,LIFETIME_MF))/\nSUM(OFFSET('Shipments and Stock - MF'!U$14,0,(-1*LIFETIME_MF)+1,1,LIFETIME_MF)))","v":389.10433686446271},{"$f":"IF(U$15-$D$15+2<=LIFETIME_MF,U11,\nSUMPRODUCT(OFFSET(U11,0,(-1*LIFETIME_MF)+1,1,LIFETIME_MF),OFFSET('Shipments and Stock - MF'!V$14,0,(-1*LIFETIME_MF)+1,1,LIFETIME_MF))/\nSUM(OFFSET('Shipments and Stock - MF'!V$14,0,(-1*LIFETIME_MF)+1,1,LIFETIME_MF)))","v":389.10433686446282},{"$f":"IF(V$15-$D$15+2<=LIFETIME_MF,V11,\nSUMPRODUCT(OFFSET(V11,0,(-1*LIFETIME_MF)+1,1,LIFETIME_MF),OFFSET('Shipments and Stock - MF'!W$14,0,(-1*LIFETIME_MF)+1,1,LIFETIME_MF))/\nSUM(OFFSET('Shipments and Stock - MF'!W$14,0,(-1*LIFETIME_MF)+1,1,LIFETIME_MF)))","v":389.10433686446277},{"$f":"IF(W$15-$D$15+2<=LIFETIME_MF,W11,\nSUMPRODUCT(OFFSET(W11,0,(-1*LIFETIME_MF)+1,1,LIFETIME_MF),OFFSET('Shipments and Stock - MF'!X$14,0,(-1*LIFETIME_MF)+1,1,LIFETIME_MF))/\nSUM(OFFSET('Shipments and Stock - MF'!X$14,0,(-1*LIFETIME_MF)+1,1,LIFETIME_MF)))","v":389.10433686446282},{"$f":"IF(X$15-$D$15+2<=LIFETIME_MF,X11,\nSUMPRODUCT(OFFSET(X11,0,(-1*LIFETIME_MF)+1,1,LIFETIME_MF),OFFSET('Shipments and Stock - MF'!Y$14,0,(-1*LIFETIME_MF)+1,1,LIFETIME_MF))/\nSUM(OFFSET('Shipments and Stock - MF'!Y$14,0,(-1*LIFETIME_MF)+1,1,LIFETIME_MF)))","v":389.10433686446265},{"$f":"IF(Y$15-$D$15+2<=LIFETIME_MF,Y11,\nSUMPRODUCT(OFFSET(Y11,0,(-1*LIFETIME_MF)+1,1,LIFETIME_MF),OFFSET('Shipments and Stock - MF'!Z$14,0,(-1*LIFETIME_MF)+1,1,LIFETIME_MF))/\nSUM(OFFSET('Shipments and Stock - MF'!Z$14,0,(-1*LIFETIME_MF)+1,1,LIFETIME_MF)))","v":389.10433686446271},{"$f":"IF(Z$15-$D$15+2<=LIFETIME_MF,Z11,\nSUMPRODUCT(OFFSET(Z11,0,(-1*LIFETIME_MF)+1,1,LIFETIME_MF),OFFSET('Shipments and Stock - MF'!AA$14,0,(-1*LIFETIME_MF)+1,1,LIFETIME_MF))/\nSUM(OFFSET('Shipments and Stock - MF'!AA$14,0,(-1*LIFETIME_MF)+1,1,LIFETIME_MF)))","v":389.10433686446265},{"$f":"IF(AA$15-$D$15+2<=LIFETIME_MF,AA11,\nSUMPRODUCT(OFFSET(AA11,0,(-1*LIFETIME_MF)+1,1,LIFETIME_MF),OFFSET('Shipments and Stock - MF'!AB$14,0,(-1*LIFETIME_MF)+1,1,LIFETIME_MF))/\nSUM(OFFSET('Shipments and Stock - MF'!AB$14,0,(-1*LIFETIME_MF)+1,1,LIFETIME_MF)))","v":389.10433686446277},{"$f":"IF(AB$15-$D$15+2<=LIFETIME_MF,AB11,\nSUMPRODUCT(OFFSET(AB11,0,(-1*LIFETIME_MF)+1,1,LIFETIME_MF),OFFSET('Shipments and Stock - MF'!AC$14,0,(-1*LIFETIME_MF)+1,1,LIFETIME_MF))/\nSUM(OFFSET('Shipments and Stock - MF'!AC$14,0,(-1*LIFETIME_MF)+1,1,LIFETIME_MF)))","v":389.10433686446265},{"$f":"IF(AC$15-$D$15+2<=LIFETIME_MF,AC11,\nSUMPRODUCT(OFFSET(AC11,0,(-1*LIFETIME_MF)+1,1,LIFETIME_MF),OFFSET('Shipments and Stock - MF'!AD$14,0,(-1*LIFETIME_MF)+1,1,LIFETIME_MF))/\nSUM(OFFSET('Shipments and Stock - MF'!AD$14,0,(-1*LIFETIME_MF)+1,1,LIFETIME_MF)))","v":389.10433686446265},{"$f":"IF(AD$15-$D$15+2<=LIFETIME_MF,AD11,\nSUMPRODUCT(OFFSET(AD11,0,(-1*LIFETIME_MF)+1,1,LIFETIME_MF),OFFSET('Shipments and Stock - MF'!AE$14,0,(-1*LIFETIME_MF)+1,1,LIFETIME_MF))/\nSUM(OFFSET('Shipments and Stock - MF'!AE$14,0,(-1*LIFETIME_MF)+1,1,LIFETIME_MF)))","v":389.10433686446271},{"$f":"IF(AE$15-$D$15+2<=LIFETIME_MF,AE11,\nSUMPRODUCT(OFFSET(AE11,0,(-1*LIFETIME_MF)+1,1,LIFETIME_MF),OFFSET('Shipments and Stock - MF'!AF$14,0,(-1*LIFETIME_MF)+1,1,LIFETIME_MF))/\nSUM(OFFSET('Shipments and Stock - MF'!AF$14,0,(-1*LIFETIME_MF)+1,1,LIFETIME_MF)))","v":389.10433686446282},{"$f":"IF(AF$15-$D$15+2<=LIFETIME_MF,AF11,\nSUMPRODUCT(OFFSET(AF11,0,(-1*LIFETIME_MF)+1,1,LIFETIME_MF),OFFSET('Shipments and Stock - MF'!AG$14,0,(-1*LIFETIME_MF)+1,1,LIFETIME_MF))/\nSUM(OFFSET('Shipments and Stock - MF'!AG$14,0,(-1*LIFETIME_MF)+1,1,LIFETIME_MF)))","v":389.10433686446282},{"$f":"IF(AG$15-$D$15+2<=LIFETIME_MF,AG11,\nSUMPRODUCT(OFFSET(AG11,0,(-1*LIFETIME_MF)+1,1,LIFETIME_MF),OFFSET('Shipments and Stock - MF'!AH$14,0,(-1*LIFETIME_MF)+1,1,LIFETIME_MF))/\nSUM(OFFSET('Shipments and Stock - MF'!AH$14,0,(-1*LIFETIME_MF)+1,1,LIFETIME_MF)))","v":389.10433686446277},{"$f":"IF(AH$15-$D$15+2<=LIFETIME_MF,AH11,\nSUMPRODUCT(OFFSET(AH11,0,(-1*LIFETIME_MF)+1,1,LIFETIME_MF),OFFSET('Shipments and Stock - MF'!AI$14,0,(-1*LIFETIME_MF)+1,1,LIFETIME_MF))/\nSUM(OFFSET('Shipments and Stock - MF'!AI$14,0,(-1*LIFETIME_MF)+1,1,LIFETIME_MF)))","v":389.10433686446277},{"$f":"IF(AI$15-$D$15+2<=LIFETIME_MF,AI11,\nSUMPRODUCT(OFFSET(AI11,0,(-1*LIFETIME_MF)+1,1,LIFETIME_MF),OFFSET('Shipments and Stock - MF'!AJ$14,0,(-1*LIFETIME_MF)+1,1,LIFETIME_MF))/\nSUM(OFFSET('Shipments and Stock - MF'!AJ$14,0,(-1*LIFETIME_MF)+1,1,LIFETIME_MF)))","v":389.10433686446277},{"$f":"IF(AJ$15-$D$15+2<=LIFETIME_MF,AJ11,\nSUMPRODUCT(OFFSET(AJ11,0,(-1*LIFETIME_MF)+1,1,LIFETIME_MF),OFFSET('Shipments and Stock - MF'!AK$14,0,(-1*LIFETIME_MF)+1,1,LIFETIME_MF))/\nSUM(OFFSET('Shipments and Stock - MF'!AK$14,0,(-1*LIFETIME_MF)+1,1,LIFETIME_MF)))","v":389.10433686446271},{"$f":"IF(AK$15-$D$15+2<=LIFETIME_MF,AK11,\nSUMPRODUCT(OFFSET(AK11,0,(-1*LIFETIME_MF)+1,1,LIFETIME_MF),OFFSET('Shipments and Stock - MF'!AL$14,0,(-1*LIFETIME_MF)+1,1,LIFETIME_MF))/\nSUM(OFFSET('Shipments and Stock - MF'!AL$14,0,(-1*LIFETIME_MF)+1,1,LIFETIME_MF)))","v":389.10433686446265},{"$f":"IF(AL$15-$D$15+2<=LIFETIME_MF,AL11,\nSUMPRODUCT(OFFSET(AL11,0,(-1*LIFETIME_MF)+1,1,LIFETIME_MF),OFFSET('Shipments and Stock - MF'!AM$14,0,(-1*LIFETIME_MF)+1,1,LIFETIME_MF))/\nSUM(OFFSET('Shipments and Stock - MF'!AM$14,0,(-1*LIFETIME_MF)+1,1,LIFETIME_MF)))","v":388.99356047189855},{"$f":"IF(AM$15-$D$15+2<=LIFETIME_MF,AM11,\nSUMPRODUCT(OFFSET(AM11,0,(-1*LIFETIME_MF)+1,1,LIFETIME_MF),OFFSET('Shipments and Stock - MF'!AN$14,0,(-1*LIFETIME_MF)+1,1,LIFETIME_MF))/\nSUM(OFFSET('Shipments and Stock - MF'!AN$14,0,(-1*LIFETIME_MF)+1,1,LIFETIME_MF)))","v":388.79626993745347},{"$f":"IF(AN$15-$D$15+2<=LIFETIME_MF,AN11,\nSUMPRODUCT(OFFSET(AN11,0,(-1*LIFETIME_MF)+1,1,LIFETIME_MF),OFFSET('Shipments and Stock - MF'!AO$14,0,(-1*LIFETIME_MF)+1,1,LIFETIME_MF))/\nSUM(OFFSET('Shipments and Stock - MF'!AO$14,0,(-1*LIFETIME_MF)+1,1,LIFETIME_MF)))","v":388.48141971848128},{"$f":"IF(AO$15-$D$15+2<=LIFETIME_MF,AO11,\nSUMPRODUCT(OFFSET(AO11,0,(-1*LIFETIME_MF)+1,1,LIFETIME_MF),OFFSET('Shipments and Stock - MF'!AP$14,0,(-1*LIFETIME_MF)+1,1,LIFETIME_MF))/\nSUM(OFFSET('Shipments and Stock - MF'!AP$14,0,(-1*LIFETIME_MF)+1,1,LIFETIME_MF)))","v":388.04257845399377},{"$f":"IF(AP$15-$D$15+2<=LIFETIME_MF,AP11,\nSUMPRODUCT(OFFSET(AP11,0,(-1*LIFETIME_MF)+1,1,LIFETIME_MF),OFFSET('Shipments and Stock - MF'!AQ$14,0,(-1*LIFETIME_MF)+1,1,LIFETIME_MF))/\nSUM(OFFSET('Shipments and Stock - MF'!AQ$14,0,(-1*LIFETIME_MF)+1,1,LIFETIME_MF)))","v":387.54468952801551},{"$f":"IF(AQ$15-$D$15+2<=LIFETIME_MF,AQ11,\nSUMPRODUCT(OFFSET(AQ11,0,(-1*LIFETIME_MF)+1,1,LIFETIME_MF),OFFSET('Shipments and Stock - MF'!AR$14,0,(-1*LIFETIME_MF)+1,1,LIFETIME_MF))/\nSUM(OFFSET('Shipments and Stock - MF'!AR$14,0,(-1*LIFETIME_MF)+1,1,LIFETIME_MF)))","v":386.97757203339404},{"$f":"IF(AR$15-$D$15+2<=LIFETIME_MF,AR11,\nSUMPRODUCT(OFFSET(AR11,0,(-1*LIFETIME_MF)+1,1,LIFETIME_MF),OFFSET('Shipments and Stock - MF'!AS$14,0,(-1*LIFETIME_MF)+1,1,LIFETIME_MF))/\nSUM(OFFSET('Shipments and Stock - MF'!AS$14,0,(-1*LIFETIME_MF)+1,1,LIFETIME_MF)))","v":386.30670317605671},{"$f":"IF(AS$15-$D$15+2<=LIFETIME_MF,AS11,\nSUMPRODUCT(OFFSET(AS11,0,(-1*LIFETIME_MF)+1,1,LIFETIME_MF),OFFSET('Shipments and Stock - MF'!AT$14,0,(-1*LIFETIME_MF)+1,1,LIFETIME_MF))/\nSUM(OFFSET('Shipments and Stock - MF'!AT$14,0,(-1*LIFETIME_MF)+1,1,LIFETIME_MF)))","v":385.52285826035086},{"$f":"IF(AT$15-$D$15+2<=LIFETIME_MF,AT11,\nSUMPRODUCT(OFFSET(AT11,0,(-1*LIFETIME_MF)+1,1,LIFETIME_MF),OFFSET('Shipments and Stock - MF'!AU$14,0,(-1*LIFETIME_MF)+1,1,LIFETIME_MF))/\nSUM(OFFSET('Shipments and Stock - MF'!AU$14,0,(-1*LIFETIME_MF)+1,1,LIFETIME_MF)))","v":384.60826597565676},{"$f":"IF(AU$15-$D$15+2<=LIFETIME_MF,AU11,\nSUMPRODUCT(OFFSET(AU11,0,(-1*LIFETIME_MF)+1,1,LIFETIME_MF),OFFSET('Shipments and Stock - MF'!AV$14,0,(-1*LIFETIME_MF)+1,1,LIFETIME_MF))/\nSUM(OFFSET('Shipments and Stock - MF'!AV$14,0,(-1*LIFETIME_MF)+1,1,LIFETIME_MF)))","v":383.76987083076961},{"$f":"IF(AV$15-$D$15+2<=LIFETIME_MF,AV11,\nSUMPRODUCT(OFFSET(AV11,0,(-1*LIFETIME_MF)+1,1,LIFETIME_MF),OFFSET('Shipments and Stock - MF'!AW$14,0,(-1*LIFETIME_MF)+1,1,LIFETIME_MF))/\nSUM(OFFSET('Shipments and Stock - MF'!AW$14,0,(-1*LIFETIME_MF)+1,1,LIFETIME_MF)))","v":382.74697071295026},{"$f":"IF(AW$15-$D$15+2<=LIFETIME_MF,AW11,\nSUMPRODUCT(OFFSET(AW11,0,(-1*LIFETIME_MF)+1,1,LIFETIME_MF),OFFSET('Shipments and Stock - MF'!AX$14,0,(-1*LIFETIME_MF)+1,1,LIFETIME_MF))/\nSUM(OFFSET('Shipments and Stock - MF'!AX$14,0,(-1*LIFETIME_MF)+1,1,LIFETIME_MF)))","v":381.82506004875154},{"$f":"IF(AX$15-$D$15+2<=LIFETIME_MF,AX11,\nSUMPRODUCT(OFFSET(AX11,0,(-1*LIFETIME_MF)+1,1,LIFETIME_MF),OFFSET('Shipments and Stock - MF'!AY$14,0,(-1*LIFETIME_MF)+1,1,LIFETIME_MF))/\nSUM(OFFSET('Shipments and Stock - MF'!AY$14,0,(-1*LIFETIME_MF)+1,1,LIFETIME_MF)))","v":380.8650741767521},{"$f":"IF(AY$15-$D$15+2<=LIFETIME_MF,AY11,\nSUMPRODUCT(OFFSET(AY11,0,(-1*LIFETIME_MF)+1,1,LIFETIME_MF),OFFSET('Shipments and Stock - MF'!AZ$14,0,(-1*LIFETIME_MF)+1,1,LIFETIME_MF))/\nSUM(OFFSET('Shipments and Stock - MF'!AZ$14,0,(-1*LIFETIME_MF)+1,1,LIFETIME_MF)))","v":379.84846678128088},{"$f":"IF(AZ$15-$D$15+2<=LIFETIME_MF,AZ11,\nSUMPRODUCT(OFFSET(AZ11,0,(-1*LIFETIME_MF)+1,1,LIFETIME_MF),OFFSET('Shipments and Stock - MF'!BA$14,0,(-1*LIFETIME_MF)+1,1,LIFETIME_MF))/\nSUM(OFFSET('Shipments and Stock - MF'!BA$14,0,(-1*LIFETIME_MF)+1,1,LIFETIME_MF)))","v":378.78517459801094},{"$f":"IF(BA$15-$D$15+2<=LIFETIME_MF,BA11,\nSUMPRODUCT(OFFSET(BA11,0,(-1*LIFETIME_MF)+1,1,LIFETIME_MF),OFFSET('Shipments and Stock - MF'!BB$14,0,(-1*LIFETIME_MF)+1,1,LIFETIME_MF))/\nSUM(OFFSET('Shipments and Stock - MF'!BB$14,0,(-1*LIFETIME_MF)+1,1,LIFETIME_MF)))","v":377.80517397471237},{"$f":"IF(BB$15-$D$15+2<=LIFETIME_MF,BB11,\nSUMPRODUCT(OFFSET(BB11,0,(-1*LIFETIME_MF)+1,1,LIFETIME_MF),OFFSET('Shipments and Stock - MF'!BC$14,0,(-1*LIFETIME_MF)+1,1,LIFETIME_MF))/\nSUM(OFFSET('Shipments and Stock - MF'!BC$14,0,(-1*LIFETIME_MF)+1,1,LIFETIME_MF)))","v":376.86521072682064},{"$f":"IF(BC$15-$D$15+2<=LIFETIME_MF,BC11,\nSUMPRODUCT(OFFSET(BC11,0,(-1*LIFETIME_MF)+1,1,LIFETIME_MF),OFFSET('Shipments and Stock - MF'!BD$14,0,(-1*LIFETIME_MF)+1,1,LIFETIME_MF))/\nSUM(OFFSET('Shipments and Stock - MF'!BD$14,0,(-1*LIFETIME_MF)+1,1,LIFETIME_MF)))","v":375.91266769148626},{"$f":"IF(BD$15-$D$15+2<=LIFETIME_MF,BD11,\nSUMPRODUCT(OFFSET(BD11,0,(-1*LIFETIME_MF)+1,1,LIFETIME_MF),OFFSET('Shipments and Stock - MF'!BE$14,0,(-1*LIFETIME_MF)+1,1,LIFETIME_MF))/\nSUM(OFFSET('Shipments and Stock - MF'!BE$14,0,(-1*LIFETIME_MF)+1,1,LIFETIME_MF)))","v":374.93271649491135},{"$f":"IF(BE$15-$D$15+2<=LIFETIME_MF,BE11,\nSUMPRODUCT(OFFSET(BE11,0,(-1*LIFETIME_MF)+1,1,LIFETIME_MF),OFFSET('Shipments and Stock - MF'!BF$14,0,(-1*LIFETIME_MF)+1,1,LIFETIME_MF))/\nSUM(OFFSET('Shipments and Stock - MF'!BF$14,0,(-1*LIFETIME_MF)+1,1,LIFETIME_MF)))","v":373.91099459072734}]
[null,null,"POST-Case UEC",{"$f":"IF(D$15-$D$15+2<=LIFETIME_MF,D12,\nSUMPRODUCT(OFFSET(D12,0,(-1*LIFETIME_MF)+1,1,LIFETIME_MF),OFFSET('Shipments and Stock - MF'!E$14,0,(-1*LIFETIME_MF)+1,1,LIFETIME_MF))/\nSUM(OFFSET('Shipments and Stock - MF'!E$14,0,(-1*LIFETIME_MF)+1,1,LIFETIME_MF)))","v":389.10433686446271},{"$f":"IF(E$15-$D$15+2<=LIFETIME_MF,E12,\nSUMPRODUCT(OFFSET(E12,0,(-1*LIFETIME_MF)+1,1,LIFETIME_MF),OFFSET('Shipments and Stock - MF'!F$14,0,(-1*LIFETIME_MF)+1,1,LIFETIME_MF))/\nSUM(OFFSET('Shipments and Stock - MF'!F$14,0,(-1*LIFETIME_MF)+1,1,LIFETIME_MF)))","v":389.10433686446271},{"$f":"IF(F$15-$D$15+2<=LIFETIME_MF,F12,\nSUMPRODUCT(OFFSET(F12,0,(-1*LIFETIME_MF)+1,1,LIFETIME_MF),OFFSET('Shipments and Stock - MF'!G$14,0,(-1*LIFETIME_MF)+1,1,LIFETIME_MF))/\nSUM(OFFSET('Shipments and Stock - MF'!G$14,0,(-1*LIFETIME_MF)+1,1,LIFETIME_MF)))","v":389.10433686446271},{"$f":"IF(G$15-$D$15+2<=LIFETIME_MF,G12,\nSUMPRODUCT(OFFSET(G12,0,(-1*LIFETIME_MF)+1,1,LIFETIME_MF),OFFSET('Shipments and Stock - MF'!H$14,0,(-1*LIFETIME_MF)+1,1,LIFETIME_MF))/\nSUM(OFFSET('Shipments and Stock - MF'!H$14,0,(-1*LIFETIME_MF)+1,1,LIFETIME_MF)))","v":389.10433686446271},{"$f":"IF(H$15-$D$15+2<=LIFETIME_MF,H12,\nSUMPRODUCT(OFFSET(H12,0,(-1*LIFETIME_MF)+1,1,LIFETIME_MF),OFFSET('Shipments and Stock - MF'!I$14,0,(-1*LIFETIME_MF)+1,1,LIFETIME_MF))/\nSUM(OFFSET('Shipments and Stock - MF'!I$14,0,(-1*LIFETIME_MF)+1,1,LIFETIME_MF)))","v":389.10433686446271},{"$f":"IF(I$15-$D$15+2<=LIFETIME_MF,I12,\nSUMPRODUCT(OFFSET(I12,0,(-1*LIFETIME_MF)+1,1,LIFETIME_MF),OFFSET('Shipments and Stock - MF'!J$14,0,(-1*LIFETIME_MF)+1,1,LIFETIME_MF))/\nSUM(OFFSET('Shipments and Stock - MF'!J$14,0,(-1*LIFETIME_MF)+1,1,LIFETIME_MF)))","v":389.10433686446271},{"$f":"IF(J$15-$D$15+2<=LIFETIME_MF,J12,\nSUMPRODUCT(OFFSET(J12,0,(-1*LIFETIME_MF)+1,1,LIFETIME_MF),OFFSET('Shipments and Stock - MF'!K$14,0,(-1*LIFETIME_MF)+1,1,LIFETIME_MF))/\nSUM(OFFSET('Shipments and Stock - MF'!K$14,0,(-1*LIFETIME_MF)+1,1,LIFETIME_MF)))","v":389.10433686446271},{"$f":"IF(K$15-$D$15+2<=LIFETIME_MF,K12,\nSUMPRODUCT(OFFSET(K12,0,(-1*LIFETIME_MF)+1,1,LIFETIME_MF),OFFSET('Shipments and Stock - MF'!L$14,0,(-1*LIFETIME_MF)+1,1,LIFETIME_MF))/\nSUM(OFFSET('Shipments and Stock - MF'!L$14,0,(-1*LIFETIME_MF)+1,1,LIFETIME_MF)))","v":389.10433686446271},{"$f":"IF(L$15-$D$15+2<=LIFETIME_MF,L12,\nSUMPRODUCT(OFFSET(L12,0,(-1*LIFETIME_MF)+1,1,LIFETIME_MF),OFFSET('Shipments and Stock - MF'!M$14,0,(-1*LIFETIME_MF)+1,1,LIFETIME_MF))/\nSUM(OFFSET('Shipments and Stock - MF'!M$14,0,(-1*LIFETIME_MF)+1,1,LIFETIME_MF)))","v":389.10433686446271},{"$f":"IF(M$15-$D$15+2<=LIFETIME_MF,M12,\nSUMPRODUCT(OFFSET(M12,0,(-1*LIFETIME_MF)+1,1,LIFETIME_MF),OFFSET('Shipments and Stock - MF'!N$14,0,(-1*LIFETIME_MF)+1,1,LIFETIME_MF))/\nSUM(OFFSET('Shipments and Stock - MF'!N$14,0,(-1*LIFETIME_MF)+1,1,LIFETIME_MF)))","v":389.10433686446271},{"$f":"IF(N$15-$D$15+2<=LIFETIME_MF,N12,\nSUMPRODUCT(OFFSET(N12,0,(-1*LIFETIME_MF)+1,1,LIFETIME_MF),OFFSET('Shipments and Stock - MF'!O$14,0,(-1*LIFETIME_MF)+1,1,LIFETIME_MF))/\nSUM(OFFSET('Shipments and Stock - MF'!O$14,0,(-1*LIFETIME_MF)+1,1,LIFETIME_MF)))","v":389.10433686446271},{"$f":"IF(O$15-$D$15+2<=LIFETIME_MF,O12,\nSUMPRODUCT(OFFSET(O12,0,(-1*LIFETIME_MF)+1,1,LIFETIME_MF),OFFSET('Shipments and Stock - MF'!P$14,0,(-1*LIFETIME_MF)+1,1,LIFETIME_MF))/\nSUM(OFFSET('Shipments and Stock - MF'!P$14,0,(-1*LIFETIME_MF)+1,1,LIFETIME_MF)))","v":389.10433686446277},{"$f":"IF(P$15-$D$15+2<=LIFETIME_MF,P12,\nSUMPRODUCT(OFFSET(P12,0,(-1*LIFETIME_MF)+1,1,LIFETIME_MF),OFFSET('Shipments and Stock - MF'!Q$14,0,(-1*LIFETIME_MF)+1,1,LIFETIME_MF))/\nSUM(OFFSET('Shipments and Stock - MF'!Q$14,0,(-1*LIFETIME_MF)+1,1,LIFETIME_MF)))","v":389.10433686446271},{"$f":"IF(Q$15-$D$15+2<=LIFETIME_MF,Q12,\nSUMPRODUCT(OFFSET(Q12,0,(-1*LIFETIME_MF)+1,1,LIFETIME_MF),OFFSET('Shipments and Stock - MF'!R$14,0,(-1*LIFETIME_MF)+1,1,LIFETIME_MF))/\nSUM(OFFSET('Shipments and Stock - MF'!R$14,0,(-1*LIFETIME_MF)+1,1,LIFETIME_MF)))","v":389.10433686446277},{"$f":"IF(R$15-$D$15+2<=LIFETIME_MF,R12,\nSUMPRODUCT(OFFSET(R12,0,(-1*LIFETIME_MF)+1,1,LIFETIME_MF),OFFSET('Shipments and Stock - MF'!S$14,0,(-1*LIFETIME_MF)+1,1,LIFETIME_MF))/\nSUM(OFFSET('Shipments and Stock - MF'!S$14,0,(-1*LIFETIME_MF)+1,1,LIFETIME_MF)))","v":389.10433686446271},{"$f":"IF(S$15-$D$15+2<=LIFETIME_MF,S12,\nSUMPRODUCT(OFFSET(S12,0,(-1*LIFETIME_MF)+1,1,LIFETIME_MF),OFFSET('Shipments and Stock - MF'!T$14,0,(-1*LIFETIME_MF)+1,1,LIFETIME_MF))/\nSUM(OFFSET('Shipments and Stock - MF'!T$14,0,(-1*LIFETIME_MF)+1,1,LIFETIME_MF)))","v":389.10433686446282},{"$f":"IF(T$15-$D$15+2<=LIFETIME_MF,T12,\nSUMPRODUCT(OFFSET(T12,0,(-1*LIFETIME_MF)+1,1,LIFETIME_MF),OFFSET('Shipments and Stock - MF'!U$14,0,(-1*LIFETIME_MF)+1,1,LIFETIME_MF))/\nSUM(OFFSET('Shipments and Stock - MF'!U$14,0,(-1*LIFETIME_MF)+1,1,LIFETIME_MF)))","v":389.10433686446271},{"$f":"IF(U$15-$D$15+2<=LIFETIME_MF,U12,\nSUMPRODUCT(OFFSET(U12,0,(-1*LIFETIME_MF)+1,1,LIFETIME_MF),OFFSET('Shipments and Stock - MF'!V$14,0,(-1*LIFETIME_MF)+1,1,LIFETIME_MF))/\nSUM(OFFSET('Shipments and Stock - MF'!V$14,0,(-1*LIFETIME_MF)+1,1,LIFETIME_MF)))","v":389.10433686446282},{"$f":"IF(V$15-$D$15+2<=LIFETIME_MF,V12,\nSUMPRODUCT(OFFSET(V12,0,(-1*LIFETIME_MF)+1,1,LIFETIME_MF),OFFSET('Shipments and Stock - MF'!W$14,0,(-1*LIFETIME_MF)+1,1,LIFETIME_MF))/\nSUM(OFFSET('Shipments and Stock - MF'!W$14,0,(-1*LIFETIME_MF)+1,1,LIFETIME_MF)))","v":389.10433686446277},{"$f":"IF(W$15-$D$15+2<=LIFETIME_MF,W12,\nSUMPRODUCT(OFFSET(W12,0,(-1*LIFETIME_MF)+1,1,LIFETIME_MF),OFFSET('Shipments and Stock - MF'!X$14,0,(-1*LIFETIME_MF)+1,1,LIFETIME_MF))/\nSUM(OFFSET('Shipments and Stock - MF'!X$14,0,(-1*LIFETIME_MF)+1,1,LIFETIME_MF)))","v":389.10433686446282},{"$f":"IF(X$15-$D$15+2<=LIFETIME_MF,X12,\nSUMPRODUCT(OFFSET(X12,0,(-1*LIFETIME_MF)+1,1,LIFETIME_MF),OFFSET('Shipments and Stock - MF'!Y$14,0,(-1*LIFETIME_MF)+1,1,LIFETIME_MF))/\nSUM(OFFSET('Shipments and Stock - MF'!Y$14,0,(-1*LIFETIME_MF)+1,1,LIFETIME_MF)))","v":389.10433686446265},{"$f":"IF(Y$15-$D$15+2<=LIFETIME_MF,Y12,\nSUMPRODUCT(OFFSET(Y12,0,(-1*LIFETIME_MF)+1,1,LIFETIME_MF),OFFSET('Shipments and Stock - MF'!Z$14,0,(-1*LIFETIME_MF)+1,1,LIFETIME_MF))/\nSUM(OFFSET('Shipments and Stock - MF'!Z$14,0,(-1*LIFETIME_MF)+1,1,LIFETIME_MF)))","v":389.10433686446271},{"$f":"IF(Z$15-$D$15+2<=LIFETIME_MF,Z12,\nSUMPRODUCT(OFFSET(Z12,0,(-1*LIFETIME_MF)+1,1,LIFETIME_MF),OFFSET('Shipments and Stock - MF'!AA$14,0,(-1*LIFETIME_MF)+1,1,LIFETIME_MF))/\nSUM(OFFSET('Shipments and Stock - MF'!AA$14,0,(-1*LIFETIME_MF)+1,1,LIFETIME_MF)))","v":389.10433686446265},{"$f":"IF(AA$15-$D$15+2<=LIFETIME_MF,AA12,\nSUMPRODUCT(OFFSET(AA12,0,(-1*LIFETIME_MF)+1,1,LIFETIME_MF),OFFSET('Shipments and Stock - MF'!AB$14,0,(-1*LIFETIME_MF)+1,1,LIFETIME_MF))/\nSUM(OFFSET('Shipments and Stock - MF'!AB$14,0,(-1*LIFETIME_MF)+1,1,LIFETIME_MF)))","v":389.10433686446277},{"$f":"IF(AB$15-$D$15+2<=LIFETIME_MF,AB12,\nSUMPRODUCT(OFFSET(AB12,0,(-1*LIFETIME_MF)+1,1,LIFETIME_MF),OFFSET('Shipments and Stock - MF'!AC$14,0,(-1*LIFETIME_MF)+1,1,LIFETIME_MF))/\nSUM(OFFSET('Shipments and Stock - MF'!AC$14,0,(-1*LIFETIME_MF)+1,1,LIFETIME_MF)))","v":389.10433686446265},{"$f":"IF(AC$15-$D$15+2<=LIFETIME_MF,AC12,\nSUMPRODUCT(OFFSET(AC12,0,(-1*LIFETIME_MF)+1,1,LIFETIME_MF),OFFSET('Shipments and Stock - MF'!AD$14,0,(-1*LIFETIME_MF)+1,1,LIFETIME_MF))/\nSUM(OFFSET('Shipments and Stock - MF'!AD$14,0,(-1*LIFETIME_MF)+1,1,LIFETIME_MF)))","v":389.10433686446265},{"$f":"IF(AD$15-$D$15+2<=LIFETIME_MF,AD12,\nSUMPRODUCT(OFFSET(AD12,0,(-1*LIFETIME_MF)+1,1,LIFETIME_MF),OFFSET('Shipments and Stock - MF'!AE$14,0,(-1*LIFETIME_MF)+1,1,LIFETIME_MF))/\nSUM(OFFSET('Shipments and Stock - MF'!AE$14,0,(-1*LIFETIME_MF)+1,1,LIFETIME_MF)))","v":389.10433686446271},{"$f":"IF(AE$15-$D$15+2<=LIFETIME_MF,AE12,\nSUMPRODUCT(OFFSET(AE12,0,(-1*LIFETIME_MF)+1,1,LIFETIME_MF),OFFSET('Shipments and Stock - MF'!AF$14,0,(-1*LIFETIME_MF)+1,1,LIFETIME_MF))/\nSUM(OFFSET('Shipments and Stock - MF'!AF$14,0,(-1*LIFETIME_MF)+1,1,LIFETIME_MF)))","v":389.10433686446282},{"$f":"IF(AF$15-$D$15+2<=LIFETIME_MF,AF12,\nSUMPRODUCT(OFFSET(AF12,0,(-1*LIFETIME_MF)+1,1,LIFETIME_MF),OFFSET('Shipments and Stock - MF'!AG$14,0,(-1*LIFETIME_MF)+1,1,LIFETIME_MF))/\nSUM(OFFSET('Shipments and Stock - MF'!AG$14,0,(-1*LIFETIME_MF)+1,1,LIFETIME_MF)))","v":389.10433686446282},{"$f":"IF(AG$15-$D$15+2<=LIFETIME_MF,AG12,\nSUMPRODUCT(OFFSET(AG12,0,(-1*LIFETIME_MF)+1,1,LIFETIME_MF),OFFSET('Shipments and Stock - MF'!AH$14,0,(-1*LIFETIME_MF)+1,1,LIFETIME_MF))/\nSUM(OFFSET('Shipments and Stock - MF'!AH$14,0,(-1*LIFETIME_MF)+1,1,LIFETIME_MF)))","v":389.10433686446277},{"$f":"IF(AH$15-$D$15+2<=LIFETIME_MF,AH12,\nSUMPRODUCT(OFFSET(AH12,0,(-1*LIFETIME_MF)+1,1,LIFETIME_MF),OFFSET('Shipments and Stock - MF'!AI$14,0,(-1*LIFETIME_MF)+1,1,LIFETIME_MF))/\nSUM(OFFSET('Shipments and Stock - MF'!AI$14,0,(-1*LIFETIME_MF)+1,1,LIFETIME_MF)))","v":389.10433686446277},{"$f":"IF(AI$15-$D$15+2<=LIFETIME_MF,AI12,\nSUMPRODUCT(OFFSET(AI12,0,(-1*LIFETIME_MF)+1,1,LIFETIME_MF),OFFSET('Shipments and Stock - MF'!AJ$14,0,(-1*LIFETIME_MF)+1,1,LIFETIME_MF))/\nSUM(OFFSET('Shipments and Stock - MF'!AJ$14,0,(-1*LIFETIME_MF)+1,1,LIFETIME_MF)))","v":389.10433686446277},{"$f":"IF(AJ$15-$D$15+2<=LIFETIME_MF,AJ12,\nSUMPRODUCT(OFFSET(AJ12,0,(-1*LIFETIME_MF)+1,1,LIFETIME_MF),OFFSET('Shipments and Stock - MF'!AK$14,0,(-1*LIFETIME_MF)+1,1,LIFETIME_MF))/\nSUM(OFFSET('Shipments and Stock - MF'!AK$14,0,(-1*LIFETIME_MF)+1,1,LIFETIME_MF)))","v":389.10433686446271},{"$f":"IF(AK$15-$D$15+2<=LIFETIME_MF,AK12,\nSUMPRODUCT(OFFSET(AK12,0,(-1*LIFETIME_MF)+1,1,LIFETIME_MF),OFFSET('Shipments and Stock - MF'!AL$14,0,(-1*LIFETIME_MF)+1,1,LIFETIME_MF))/\nSUM(OFFSET('Shipments and Stock - MF'!AL$14,0,(-1*LIFETIME_MF)+1,1,LIFETIME_MF)))","v":386.76916501305629},{"$f":"IF(AL$15-$D$15+2<=LIFETIME_MF,AL12,\nSUMPRODUCT(OFFSET(AL12,0,(-1*LIFETIME_MF)+1,1,LIFETIME_MF),OFFSET('Shipments and Stock - MF'!AM$14,0,(-1*LIFETIME_MF)+1,1,LIFETIME_MF))/\nSUM(OFFSET('Shipments and Stock - MF'!AM$14,0,(-1*LIFETIME_MF)+1,1,LIFETIME_MF)))","v":384.62798500635716},{"$f":"IF(AM$15-$D$15+2<=LIFETIME_MF,AM12,\nSUMPRODUCT(OFFSET(AM12,0,(-1*LIFETIME_MF)+1,1,LIFETIME_MF),OFFSET('Shipments and Stock - MF'!AN$14,0,(-1*LIFETIME_MF)+1,1,LIFETIME_MF))/\nSUM(OFFSET('Shipments and Stock - MF'!AN$14,0,(-1*LIFETIME_MF)+1,1,LIFETIME_MF)))","v":382.42900020276676},{"$f":"IF(AN$15-$D$15+2<=LIFETIME_MF,AN12,\nSUMPRODUCT(OFFSET(AN12,0,(-1*LIFETIME_MF)+1,1,LIFETIME_MF),OFFSET('Shipments and Stock - MF'!AO$14,0,(-1*LIFETIME_MF)+1,1,LIFETIME_MF))/\nSUM(OFFSET('Shipments and Stock - MF'!AO$14,0,(-1*LIFETIME_MF)+1,1,LIFETIME_MF)))","v":380.08699771842896},{"$f":"IF(AO$15-$D$15+2<=LIFETIME_MF,AO12,\nSUMPRODUCT(OFFSET(AO12,0,(-1*LIFETIME_MF)+1,1,LIFETIME_MF),OFFSET('Shipments and Stock - MF'!AP$14,0,(-1*LIFETIME_MF)+1,1,LIFETIME_MF))/\nSUM(OFFSET('Shipments and Stock - MF'!AP$14,0,(-1*LIFETIME_MF)+1,1,LIFETIME_MF)))","v":377.62487697685117},{"$f":"IF(AP$15-$D$15+2<=LIFETIME_MF,AP12,\nSUMPRODUCT(OFFSET(AP12,0,(-1*LIFETIME_MF)+1,1,LIFETIME_MF),OFFSET('Shipments and Stock - MF'!AQ$14,0,(-1*LIFETIME_MF)+1,1,LIFETIME_MF))/\nSUM(OFFSET('Shipments and Stock - MF'!AQ$14,0,(-1*LIFETIME_MF)+1,1,LIFETIME_MF)))","v":375.39286271176479},{"$f":"IF(AQ$15-$D$15+2<=LIFETIME_MF,AQ12,\nSUMPRODUCT(OFFSET(AQ12,0,(-1*LIFETIME_MF)+1,1,LIFETIME_MF),OFFSET('Shipments and Stock - MF'!AR$14,0,(-1*LIFETIME_MF)+1,1,LIFETIME_MF))/\nSUM(OFFSET('Shipments and Stock - MF'!AR$14,0,(-1*LIFETIME_MF)+1,1,LIFETIME_MF)))","v":373.27044124265529},{"$f":"IF(AR$15-$D$15+2<=LIFETIME_MF,AR12,\nSUMPRODUCT(OFFSET(AR12,0,(-1*LIFETIME_MF)+1,1,LIFETIME_MF),OFFSET('Shipments and Stock - MF'!AS$14,0,(-1*LIFETIME_MF)+1,1,LIFETIME_MF))/\nSUM(OFFSET('Shipments and Stock - MF'!AS$14,0,(-1*LIFETIME_MF)+1,1,LIFETIME_MF)))","v":371.09774783776055},{"$f":"IF(AS$15-$D$15+2<=LIFETIME_MF,AS12,\nSUMPRODUCT(OFFSET(AS12,0,(-1*LIFETIME_MF)+1,1,LIFETIME_MF),OFFSET('Shipments and Stock - MF'!AT$14,0,(-1*LIFETIME_MF)+1,1,LIFETIME_MF))/\nSUM(OFFSET('Shipments and Stock - MF'!AT$14,0,(-1*LIFETIME_MF)+1,1,LIFETIME_MF)))","v":368.84011473682028},{"$f":"IF(AT$15-$D$15+2<=LIFETIME_MF,AT12,\nSUMPRODUCT(OFFSET(AT12,0,(-1*LIFETIME_MF)+1,1,LIFETIME_MF),OFFSET('Shipments and Stock - MF'!AU$14,0,(-1*LIFETIME_MF)+1,1,LIFETIME_MF))/\nSUM(OFFSET('Shipments and Stock - MF'!AU$14,0,(-1*LIFETIME_MF)+1,1,LIFETIME_MF)))","v":366.45123901389627},{"$f":"IF(AU$15-$D$15+2<=LIFETIME_MF,AU12,\nSUMPRODUCT(OFFSET(AU12,0,(-1*LIFETIME_MF)+1,1,LIFETIME_MF),OFFSET('Shipments and Stock - MF'!AV$14,0,(-1*LIFETIME_MF)+1,1,LIFETIME_MF))/\nSUM(OFFSET('Shipments and Stock - MF'!AV$14,0,(-1*LIFETIME_MF)+1,1,LIFETIME_MF)))","v":364.47917226920913},{"$f":"IF(AV$15-$D$15+2<=LIFETIME_MF,AV12,\nSUMPRODUCT(OFFSET(AV12,0,(-1*LIFETIME_MF)+1,1,LIFETIME_MF),OFFSET('Shipments and Stock - MF'!AW$14,0,(-1*LIFETIME_MF)+1,1,LIFETIME_MF))/\nSUM(OFFSET('Shipments and Stock - MF'!AW$14,0,(-1*LIFETIME_MF)+1,1,LIFETIME_MF)))","v":364.15427821855616},{"$f":"IF(AW$15-$D$15+2<=LIFETIME_MF,AW12,\nSUMPRODUCT(OFFSET(AW12,0,(-1*LIFETIME_MF)+1,1,LIFETIME_MF),OFFSET('Shipments and Stock - MF'!AX$14,0,(-1*LIFETIME_MF)+1,1,LIFETIME_MF))/\nSUM(OFFSET('Shipments and Stock - MF'!AX$14,0,(-1*LIFETIME_MF)+1,1,LIFETIME_MF)))","v":363.86205708771297},{"$f":"IF(AX$15-$D$15+2<=LIFETIME_MF,AX12,\nSUMPRODUCT(OFFSET(AX12,0,(-1*LIFETIME_MF)+1,1,LIFETIME_MF),OFFSET('Shipments and Stock - MF'!AY$14,0,(-1*LIFETIME_MF)+1,1,LIFETIME_MF))/\nSUM(OFFSET('Shipments and Stock - MF'!AY$14,0,(-1*LIFETIME_MF)+1,1,LIFETIME_MF)))","v":363.54003422986477},{"$f":"IF(AY$15-$D$15+2<=LIFETIME_MF,AY12,\nSUMPRODUCT(OFFSET(AY12,0,(-1*LIFETIME_MF)+1,1,LIFETIME_MF),OFFSET('Shipments and Stock - MF'!AZ$14,0,(-1*LIFETIME_MF)+1,1,LIFETIME_MF))/\nSUM(OFFSET('Shipments and Stock - MF'!AZ$14,0,(-1*LIFETIME_MF)+1,1,LIFETIME_MF)))","v":363.17587412667365},{"$f":"IF(AZ$15-$D$15+2<=LIFETIME_MF,AZ12,\nSUMPRODUCT(OFFSET(AZ12,0,(-1*LIFETIME_MF)+1,1,LIFETIME_MF),OFFSET('Shipments and Stock - MF'!BA$14,0,(-1*LIFETIME_MF)+1,1,LIFETIME_MF))/\nSUM(OFFSET('Shipments and Stock - MF'!BA$14,0,(-1*LIFETIME_MF)+1,1,LIFETIME_MF)))","v":362.77224374124631},{"$f":"IF(BA$15-$D$15+2<=LIFETIME_MF,BA12,\nSUMPRODUCT(OFFSET(BA12,0,(-1*LIFETIME_MF)+1,1,LIFETIME_MF),OFFSET('Shipments and Stock - MF'!BB$14,0,(-1*LIFETIME_MF)+1,1,LIFETIME_MF))/\nSUM(OFFSET('Shipments and Stock - MF'!BB$14,0,(-1*LIFETIME_MF)+1,1,LIFETIME_MF)))","v":362.37521627899309},{"$f":"IF(BB$15-$D$15+2<=LIFETIME_MF,BB12,\nSUMPRODUCT(OFFSET(BB12,0,(-1*LIFETIME_MF)+1,1,LIFETIME_MF),OFFSET('Shipments and Stock - MF'!BC$14,0,(-1*LIFETIME_MF)+1,1,LIFETIME_MF))/\nSUM(OFFSET('Shipments and Stock - MF'!BC$14,0,(-1*LIFETIME_MF)+1,1,LIFETIME_MF)))","v":361.97446392857091},{"$f":"IF(BC$15-$D$15+2<=LIFETIME_MF,BC12,\nSUMPRODUCT(OFFSET(BC12,0,(-1*LIFETIME_MF)+1,1,LIFETIME_MF),OFFSET('Shipments and Stock - MF'!BD$14,0,(-1*LIFETIME_MF)+1,1,LIFETIME_MF))/\nSUM(OFFSET('Shipments and Stock - MF'!BD$14,0,(-1*LIFETIME_MF)+1,1,LIFETIME_MF)))","v":361.55199533311531},{"$f":"IF(BD$15-$D$15+2<=LIFETIME_MF,BD12,\nSUMPRODUCT(OFFSET(BD12,0,(-1*LIFETIME_MF)+1,1,LIFETIME_MF),OFFSET('Shipments and Stock - MF'!BE$14,0,(-1*LIFETIME_MF)+1,1,LIFETIME_MF))/\nSUM(OFFSET('Shipments and Stock - MF'!BE$14,0,(-1*LIFETIME_MF)+1,1,LIFETIME_MF)))","v":361.11137184986364},{"$f":"IF(BE$15-$D$15+2<=LIFETIME_MF,BE12,\nSUMPRODUCT(OFFSET(BE12,0,(-1*LIFETIME_MF)+1,1,LIFETIME_MF),OFFSET('Shipments and Stock - MF'!BF$14,0,(-1*LIFETIME_MF)+1,1,LIFETIME_MF))/\nSUM(OFFSET('Shipments and Stock - MF'!BF$14,0,(-1*LIFETIME_MF)+1,1,LIFETIME_MF)))","v":360.64982627313719}]

{"sheet":"UEC-MH","index":20,"n_rows":17,"n_cols":57,"rows_kept":17,"cut":false,"hidden":false,"merged":[]}
[]
[null,null,"Weighted Annual UEC - Manufactured Homes"]
[]
[null,null,"NAVIGATION"]
[]
[null,null,"COMMENTS"]
[]
[]
[null,null,"Market UEC (Shipment Weighted Average)"]
[null,null,null,1981,1982,1983,1984,1985,1986,1987,1988,1989,1990,1991,1992,1993,1994,1995,1996,1997,1998,1999,2000,2001,2002,2003,2004,2005,2006,2007,2008,2009,2010,2011,2012,2013,2014,2015,2016,2017,2018,2019,2020,2021,2022,2023,2024,2025,2026,2027,2028,2029,2030,2031,2032,2033,2034]
[null,null,"PRE-Case UEC",{"$f":"'Product Class Dist'!D10*SUMPRODUCT('UEC Development'!$M$14:$M$19,'Efficiency Dist - MH'!G13:G18)\n+'Product Class Dist'!D11*SUMPRODUCT('UEC Development'!$M$28:$M$33,'Efficiency Dist - MH'!G39:G44)\n+'Product Class Dist'!D12*SUMPRODUCT('UEC Development'!$M$42:$M$46,'Efficiency Dist - MH'!G65:G69)\n+'Product Class Dist'!D13*SUMPRODUCT('UEC Development'!$M$55:$M$58,'Efficiency Dist - MH'!G89:G92)\n+'Product Class Dist'!D14*SUMPRODUCT('UEC Development'!$M$67:$M$71,'Efficiency Dist - MH'!G111:G115)\n+'Product Class Dist'!D15*SUMPRODUCT('UEC Development'!$M$80:$M$84,'Efficiency Dist - MH'!G135:G139)","v":389.10433686446271},{"$f":"'Product Class Dist'!E10*SUMPRODUCT('UEC Development'!$M$14:$M$19,'Efficiency Dist - MH'!H13:H18)\n+'Product Class Dist'!E11*SUMPRODUCT('UEC Development'!$M$28:$M$33,'Efficiency Dist - MH'!H39:H44)\n+'Product Class Dist'!E12*SUMPRODUCT('UEC Development'!$M$42:$M$46,'Efficiency Dist - MH'!H65:H69)\n+'Product Class Dist'!E13*SUMPRODUCT('UEC Development'!$M$55:$M$58,'Efficiency Dist - MH'!H89:H92)\n+'Product Class Dist'!E14*SUMPRODUCT('UEC Development'!$M$67:$M$71,'Efficiency Dist - MH'!H111:H115)\n+'Product Class Dist'!E15*SUMPRODUCT('UEC Development'!$M$80:$M$84,'Efficiency Dist - MH'!H135:H139)","v":389.10433686446271},{"$f":"'Product Class Dist'!F10*SUMPRODUCT('UEC Development'!$M$14:$M$19,'Efficiency Dist - MH'!I13:I18)\n+'Product Class Dist'!F11*SUMPRODUCT('UEC Development'!$M$28:$M$33,'Efficiency Dist - MH'!I39:I44)\n+'Product Class Dist'!F12*SUMPRODUCT('UEC Development'!$M$42:$M$46,'Efficiency Dist - MH'!I65:I69)\n+'Product Class Dist'!F13*SUMPRODUCT('UEC Development'!$M$55:$M$58,'Efficiency Dist - MH'!I89:I92)\n+'Product Class Dist'!F14*SUMPRODUCT('UEC Development'!$M$67:$M$71,'Efficiency Dist - MH'!I111:I115)\n+'Product Class Dist'!F15*SUMPRODUCT('UEC Development'!$M$80:$M$84,'Efficiency Dist - MH'!I135:I139)","v":389.10433686446271},{"$f":"'Product Class Dist'!G10*SUMPRODUCT('UEC Development'!$M$14:$M$19,'Efficiency Dist - MH'!J13:J18)\n+'Product Class Dist'!G11*SUMPRODUCT('UEC Development'!$M$28:$M$33,'Efficiency Dist - MH'!J39:J44)\n+'Product Class Dist'!G12*SUMPRODUCT('UEC Development'!$M$42:$M$46,'Efficiency Dist - MH'!J65:J69)\n+'Product Class Dist'!G13*SUMPRODUCT('UEC Development'!$M$55:$M$58,'Efficiency Dist - MH'!J89:J92)\n+'Product Class Dist'!G14*SUMPRODUCT('UEC Development'!$M$67:$M$71,'Efficiency Dist - MH'!J111:J115)\n+'Product Class Dist'!G15*SUMPRODUCT('UEC Development'!$M$80:$M$84,'Efficiency Dist - MH'!J135:J139)","v":389.10433686446271},{"$f":"'Product Class Dist'!H10*SUMPRODUCT('UEC Development'!$M$14:$M$19,'Efficiency Dist - MH'!K13:K18)\n+'Product Class Dist'!H11*SUMPRODUCT('UEC Development'!$M$28:$M$33,'Efficiency Dist - MH'!K39:K44)\n+'Product Class Dist'!H12*SUMPRODUCT('UEC Development'!$M$42:$M$46,'Efficiency Dist - MH'!K65:K69)\n+'Product Class Dist'!H13*SUMPRODUCT('UEC Development'!$M$55:$M$58,'Efficiency Dist - MH'!K89:K92)\n+'Product Class Dist'!H14*SUMPRODUCT('UEC Development'!$M$67:$M$71,'Efficiency Dist - MH'!K111:K115)\n+'Product Class Dist'!H15*SUMPRODUCT('UEC Development'!$M$80:$M$84,'Efficiency Dist - MH'!K135:K139)","v":389.10433686446271},{"$f":"'Product Class Dist'!I10*SUMPRODUCT('UEC Development'!$M$14:$M$19,'Efficiency Dist - MH'!L13:L18)\n+'Product Class Dist'!I11*SUMPRODUCT('UEC Development'!$M$28:$M$33,'Efficiency Dist - MH'!L39:L44)\n+'Product Class Dist'!I12*SUMPRODUCT('UEC Development'!$M$42:$M$46,'Efficiency Dist - MH'!L65:L69)\n+'Product Class Dist'!I13*SUMPRODUCT('UEC Development'!$M$55:$M$58,'Efficiency Dist - MH'!L89:L92)\n+'Product Class Dist'!I14*SUMPRODUCT('UEC Development'!$M$67:$M$71,'Efficiency Dist - MH'!L111:L115)\n+'Product Class Dist'!I15*SUMPRODUCT('UEC Development'!$M$80:$M$84,'Efficiency Dist - MH'!L135:L139)","v":389.10433686446271},{"$f":"'Product Class Dist'!J10*SUMPRODUCT('UEC Development'!$M$14:$M$19,'Efficiency Dist - MH'!M13:M18)\n+'Product Class Dist'!J11*SUMPRODUCT('UEC Development'!$M$28:$M$33,'Efficiency Dist - MH'!M39:M44)\n+'Product Class Dist'!J12*SUMPRODUCT('UEC Development'!$M$42:$M$46,'Efficiency Dist - MH'!M65:M69)\n+'Product Class Dist'!J13*SUMPRODUCT('UEC Development'!$M$55:$M$58,'Efficiency Dist - MH'!M89:M92)\n+'Product Class Dist'!J14*SUMPRODUCT('UEC Development'!$M$67:$M$71,'Efficiency Dist - MH'!M111:M115)\n+'Product Class Dist'!J15*SUMPRODUCT('UEC Development'!$M$80:$M$84,'Efficiency Dist - MH'!M135:M139)","v":389.10433686446271},{"$f":"'Product Class Dist'!K10*SUMPRODUCT('UEC Development'!$M$14:$M$19,'Efficiency Dist - MH'!N13:N18)\n+'Product Class Dist'!K11*SUMPRODUCT('UEC Development'!$M$28:$M$33,'Efficiency Dist - MH'!N39:N44)\n+'Product Class Dist'!K12*SUMPRODUCT('UEC Development'!$M$42:$M$46,'Efficiency Dist - MH'!N65:N69)\n+'Product Class Dist'!K13*SUMPRODUCT('UEC Development'!$M$55:$M$58,'Efficiency Dist - MH'!N89:N92)\n+'Product Class Dist'!K14*SUMPRODUCT('UEC Development'!$M$67:$M$71,'Efficiency Dist - MH'!N111:N115)\n+'Product Class Dist'!K15*SUMPRODUCT('UEC Development'!$M$80:$M$84,'Efficiency Dist - MH'!N135:N139)","v":389.10433686446271},{"$f":"'Product Class Dist'!L10*SUMPRODUCT('UEC Development'!$M$14:$M$19,'Efficiency Dist - MH'!O13:O18)\n+'Product Class Dist'!L11*SUMPRODUCT('UEC Development'!$M$28:$M$33,'Efficiency Dist - MH'!O39:O44)\n+'Product Class Dist'!L12*SUMPRODUCT('UEC Development'!$M$42:$M$46,'Efficiency Dist - MH'!O65:O69)\n+'Product Class Dist'!L13*SUMPRODUCT('UEC Development'!$M$55:$M$58,'Efficiency Dist - MH'!O89:O92)\n+'Product Class Dist'!L14*SUMPRODUCT('UEC Development'!$M$67:$M$71,'Efficiency Dist - MH'!O111:O115)\n+'Product Class Dist'!L15*SUMPRODUCT('UEC Development'!$M$80:$M$84,'Efficiency Dist - MH'!O135:O139)","v":389.10433686446271},{"$f":"'Product Class Dist'!M10*SUMPRODUCT('UEC Development'!$M$14:$M$19,'Efficiency Dist - MH'!P13:P18)\n+'Product Class Dist'!M11*SUMPRODUCT('UEC Development'!$M$28:$M$33,'Efficiency Dist - MH'!P39:P44)\n+'Product Class Dist'!M12*SUMPRODUCT('UEC Development'!$M$42:$M$46,'Efficiency Dist - MH'!P65:P69)\n+'Product Class Dist'!M13*SUMPRODUCT('UEC Development'!$M$55:$M$58,'Efficiency Dist - MH'!P89:P92)\n+'Product Class Dist'!M14*SUMPRODUCT('UEC Development'!$M$67:$M$71,'Efficiency Dist - MH'!P111:P115)\n+'Product Class Dist'!M15*SUMPRODUCT('UEC Development'!$M$80:$M$84,'Efficiency Dist - MH'!P135:P139)","v":389.10433686446271},{"$f":"'Product Class Dist'!N10*SUMPRODUCT('UEC Development'!$M$14:$M$19,'Efficiency Dist - MH'!Q13:Q18)\n+'Product Class Dist'!N11*SUMPRODUCT('UEC Development'!$M$28:$M$33,'Efficiency Dist - MH'!Q39:Q44)\n+'Product Class Dist'!N12*SUMPRODUCT('UEC Development'!$M$42:$M$46,'Efficiency Dist - MH'!Q65:Q69)\n+'Product Class Dist'!N13*SUMPRODUCT('UEC Development'!$M$55:$M$58,'Efficiency Dist - MH'!Q89:Q92)\n+'Product Class Dist'!N14*SUMPRODUCT('UEC Development'!$M$67:$M$71,'Efficiency Dist - MH'!Q111:Q115)\n+'Product Class Dist'!N15*SUMPRODUCT('UEC Development'!$M$80:$M$84,'Efficiency Dist - MH'!Q135:Q139)","v":389.10433686446271},{"$f":"'Product Class Dist'!O10*SUMPRODUCT('UEC Development'!$M$14:$M$19,'Efficiency Dist - MH'!R13:R18)\n+'Product Class Dist'!O11*SUMPRODUCT('UEC Development'!$M$28:$M$33,'Efficiency Dist - MH'!R39:R44)\n+'Product Class Dist'!O12*SUMPRODUCT('UEC Development'!$M$42:$M$46,'Efficiency Dist - MH'!R65:R69)\n+'Product Class Dist'!O13*SUMPRODUCT('UEC Development'!$M$55:$M$58,'Efficiency Dist - MH'!R89:R92)\n+'Product Class Dist'!O14*SUMPRODUCT('UEC Development'!$M$67:$M$71,'Efficiency Dist - MH'!R111:R115)\n+'Product Class Dist'!O15*SUMPRODUCT('UEC Development'!$M$80:$M$84,'Efficiency Dist - MH'!R135:R139)","v":389.10433686446271},{"$f":"'Product Class Dist'!P10*SUMPRODUCT('UEC Development'!$M$14:$M$19,'Efficiency Dist - MH'!S13:S18)\n+'Product Class Dist'!P11*SUMPRODUCT('UEC Development'!$M$28:$M$33,'Efficiency Dist - MH'!S39:S44)\n+'Product Class Dist'!P12*SUMPRODUCT('UEC Development'!$M$42:$M$46,'Efficiency Dist - MH'!S65:S69)\n+'Product Class Dist'!P13*SUMPRODUCT('UEC Development'!$M$55:$M$58,'Efficiency Dist - MH'!S89:S92)\n+'Product Class Dist'!P14*SUMPRODUCT('UEC Development'!$M$67:$M$71,'Efficiency Dist - MH'!S111:S115)\n+'Product Class Dist'!P15*SUMPRODUCT('UEC Development'!$M$80:$M$84,'Efficiency Dist - MH'!S135:S139)","v":389.10433686446271},{"$f":"'Product Class Dist'!Q10*SUMPRODUCT('UEC Development'!$M$14:$M$19,'Efficiency Dist - MH'!T13:T18)\n+'Product Class Dist'!Q11*SUMPRODUCT('UEC Development'!$M$28:$M$33,'Efficiency Dist - MH'!T39:T44)\n+'Product Class Dist'!Q12*SUMPRODUCT('UEC Development'!$M$42:$M$46,'Efficiency Dist - MH'!T65:T69)\n+'Product Class Dist'!Q13*SUMPRODUCT('UEC Development'!$M$55:$M$58,'Efficiency Dist - MH'!T89:T92)\n+'Product Class Dist'!Q14*SUMPRODUCT('UEC Development'!$M$67:$M$71,'Efficiency Dist - MH'!T111:T115)\n+'Product Class Dist'!Q15*SUMPRODUCT('UEC Development'!$M$80:$M$84,'Efficiency Dist - MH'!T135:T139)","v":389.10433686446271},{"$f":"'Product Class Dist'!R10*SUMPRODUCT('UEC Development'!$M$14:$M$19,'Efficiency Dist - MH'!U13:U18)\n+'Product Class Dist'!R11*SUMPRODUCT('UEC Development'!$M$28:$M$33,'Efficiency Dist - MH'!U39:U44)\n+'Product Class Dist'!R12*SUMPRODUCT('UEC Development'!$M$42:$M$46,'Efficiency Dist - MH'!U65:U69)\n+'Product Class Dist'!R13*SUMPRODUCT('UEC Development'!$M$55:$M$58,'Efficiency Dist - MH'!U89:U92)\n+'Product Class Dist'!R14*SUMPRODUCT('UEC Development'!$M$67:$M$71,'Efficiency Dist - MH'!U111:U115)\n+'Product Class Dist'!R15*SUMPRODUCT('UEC Development'!$M$80:$M$84,'Efficiency Dist - MH'!U135:U139)","v":389.10433686446271},{"$f":"'Product Class Dist'!S10*SUMPRODUCT('UEC Development'!$M$14:$M$19,'Efficiency Dist - MH'!V13:V18)\n+'Product Class Dist'!S11*SUMPRODUCT('UEC Development'!$M$28:$M$33,'Efficiency Dist - MH'!V39:V44)\n+'Product Class Dist'!S12*SUMPRODUCT('UEC Development'!$M$42:$M$46,'Efficiency Dist - MH'!V65:V69)\n+'Product Class Dist'!S13*SUMPRODUCT('UEC Development'!$M$55:$M$58,'Efficiency Dist - MH'!V89:V92)\n+'Product Class Dist'!S14*SUMPRODUCT('UEC Development'!$M$67:$M$71,'Efficiency Dist - MH'!V111:V115)\n+'Product Class Dist'!S15*SUMPRODUCT('UEC Development'!$M$80:$M$84,'Efficiency Dist - MH'!V135:V139)","v":389.10433686446271},{"$f":"'Product Class Dist'!T10*SUMPRODUCT('UEC Development'!$M$14:$M$19,'Efficiency Dist - MH'!W13:W18)\n+'Product Class Dist'!T11*SUMPRODUCT('UEC Development'!$M$28:$M$33,'Efficiency Dist - MH'!W39:W44)\n+'Product Class Dist'!T12*SUMPRODUCT('UEC Development'!$M$42:$M$46,'Efficiency Dist - MH'!W65:W69)\n+'Product Class Dist'!T13*SUMPRODUCT('UEC Development'!$M$55:$M$58,'Efficiency Dist - MH'!W89:W92)\n+'Product Class Dist'!T14*SUMPRODUCT('UEC Development'!$M$67:$M$71,'Efficiency Dist - MH'!W111:W115)\n+'Product Class Dist'!T15*SUMPRODUCT('UEC Development'!$M$80:$M$84,'Efficiency Dist - MH'!W135:W139)","v":389.10433686446271},{"$f":"'Product Class Dist'!U10*SUMPRODUCT('UEC Development'!$M$14:$M$19,'Efficiency Dist - MH'!X13:X18)\n+'Product Class Dist'!U11*SUMPRODUCT('UEC Development'!$M$28:$M$33,'Efficiency Dist - MH'!X39:X44)\n+'Product Class Dist'!U12*SUMPRODUCT('UEC Development'!$M$42:$M$46,'Efficiency Dist - MH'!X65:X69)\n+'Product Class Dist'!U13*SUMPRODUCT('UEC Development'!$M$55:$M$58,'Efficiency Dist - MH'!X89:X92)\n+'Product Class Dist'!U14*SUMPRODUCT('UEC Development'!$M$67:$M$71,'Efficiency Dist - MH'!X111:X115)\n+'Product Class Dist'!U15*SUMPRODUCT('UEC Development'!$M$80:$M$84,'Efficiency Dist - MH'!X135:X139)","v":389.10433686446271},{"$f":"'Product Class Dist'!V10*SUMPRODUCT('UEC Development'!$M$14:$M$19,'Efficiency Dist - MH'!Y13:Y18)\n+'Product Class Dist'!V11*SUMPRODUCT('UEC Development'!$M$28:$M$33,'Efficiency Dist - MH'!Y39:Y44)\n+'Product Class Dist'!V12*SUMPRODUCT('UEC Development'!$M$42:$M$46,'Efficiency Dist - MH'!Y65:Y69)\n+'Product Class Dist'!V13*SUMPRODUCT('UEC Development'!$M$55:$M$58,'Efficiency Dist - MH'!Y89:Y92)\n+'Product Class Dist'!V14*SUMPRODUCT('UEC Development'!$M$67:$M$71,'Efficiency Dist - MH'!Y111:Y115)\n+'Product Class Dist'!V15*SUMPRODUCT('UEC Development'!$M$80:$M$84,'Efficiency Dist - MH'!Y135:Y139)","v":389.10433686446271},{"$f":"'Product Class Dist'!W10*SUMPRODUCT('UEC Development'!$M$14:$M$19,'Efficiency Dist - MH'!Z13:Z18)\n+'Product Class Dist'!W11*SUMPRODUCT('UEC Development'!$M$28:$M$33,'Efficiency Dist - MH'!Z39:Z44)\n+'Product Class Dist'!W12*SUMPRODUCT('UEC Development'!$M$42:$M$46,'Efficiency Dist - MH'!Z65:Z69)\n+'Product Class Dist'!W13*SUMPRODUCT('UEC Development'!$M$55:$M$58,'Efficiency Dist - MH'!Z89:Z92)\n+'Product Class Dist'!W14*SUMPRODUCT('UEC Development'!$M$67:$M$71,'Efficiency Dist - MH'!Z111:Z115)\n+'Product Class Dist'!W15*SUMPRODUCT('UEC Development'!$M$80:$M$84,'Efficiency Dist - MH'!Z135:Z139)","v":389.10433686446271},{"$f":"'Product Class Dist'!X10*SUMPRODUCT('UEC Development'!$M$14:$M$19,'Efficiency Dist - MH'!AA13:AA18)\n+'Product Class Dist'!X11*SUMPRODUCT('UEC Development'!$M$28:$M$33,'Efficiency Dist - MH'!AA39:AA44)\n+'Product Class Dist'!X12*SUMPRODUCT('UEC Development'!$M$42:$M$46,'Efficiency Dist - MH'!AA65:AA69)\n+'Product Class Dist'!X13*SUMPRODUCT('UEC Development'!$M$55:$M$58,'Efficiency Dist - MH'!AA89:AA92)\n+'Product Class Dist'!X14*SUMPRODUCT('UEC Development'!$M$67:$M$71,'Efficiency Dist - MH'!AA111:AA115)\n+'Product Class Dist'!X15*SUMPRODUCT('UEC Development'!$M$80:$M$84,'Efficiency Dist - MH'!AA135:AA139)","v":389.10433686446271},{"$f":"'Product Class Dist'!Y10*SUMPRODUCT('UEC Development'!$M$14:$M$19,'Efficiency Dist - MH'!AB13:AB18)\n+'Product Class Dist'!Y11*SUMPRODUCT('UEC Development'!$M$28:$M$33,'Efficiency Dist - MH'!AB39:AB44)\n+'Product Class Dist'!Y12*SUMPRODUCT('UEC Development'!$M$42:$M$46,'Efficiency Dist - MH'!AB65:AB69)\n+'Product Class Dist'!Y13*SUMPRODUCT('UEC Development'!$M$55:$M$58,'Efficiency Dist - MH'!AB89:AB92)\n+'Product Class Dist'!Y14*SUMPRODUCT('UEC Development'!$M$67:$M$71,'Efficiency Dist - MH'!AB111:AB115)\n+'Product Class Dist'!Y15*SUMPRODUCT('UEC Development'!$M$80:$M$84,'Efficiency Dist - MH'!AB135:AB139)","v":389.10433686446271},{"$f":"'Product Class Dist'!Z10*SUMPRODUCT('UEC Development'!$M$14:$M$19,'Efficiency Dist - MH'!AC13:AC18)\n+'Product Class Dist'!Z11*SUMPRODUCT('UEC Development'!$M$28:$M$33,'Efficiency Dist - MH'!AC39:AC44)\n+'Product Class Dist'!Z12*SUMPRODUCT('UEC Development'!$M$42:$M$46,'Efficiency Dist - MH'!AC65:AC69)\n+'Product Class Dist'!Z13*SUMPRODUCT('UEC Development'!$M$55:$M$58,'Efficiency Dist - MH'!AC89:AC92)\n+'Product Class Dist'!Z14*SUMPRODUCT('UEC Development'!$M$67:$M$71,'Efficiency Dist - MH'!AC111:AC115)\n+'Product Class Dist'!Z15*SUMPRODUCT('UEC Development'!$M$80:$M$84,'Efficiency Dist - MH'!AC135:AC139)","v":389.10433686446271},{"$f":"'Product Class Dist'!AA10*SUMPRODUCT('UEC Development'!$M$14:$M$19,'Efficiency Dist - MH'!AD13:AD18)\n+'Product Class Dist'!AA11*SUMPRODUCT('UEC Development'!$M$28:$M$33,'Efficiency Dist - MH'!AD39:AD44)\n+'Product Class Dist'!AA12*SUMPRODUCT('UEC Development'!$M$42:$M$46,'Efficiency Dist - MH'!AD65:AD69)\n+'Product Class Dist'!AA13*SUMPRODUCT('UEC Development'!$M$55:$M$58,'Efficiency Dist - MH'!AD89:AD92)\n+'Product Class Dist'!AA14*SUMPRODUCT('UEC Development'!$M$67:$M$71,'Efficiency Dist - MH'!AD111:AD115)\n+'Product Class Dist'!AA15*SUMPRODUCT('UEC Development'!$M$80:$M$84,'Efficiency Dist - MH'!AD135:AD139)","v":389.10433686446271},{"$f":"'Product Class Dist'!AB10*SUMPRODUCT('UEC Development'!$M$14:$M$19,'Efficiency Dist - MH'!AE13:AE18)\n+'Product Class Dist'!AB11*SUMPRODUCT('UEC Development'!$M$28:$M$33,'Efficiency Dist - MH'!AE39:AE44)\n+'Product Class Dist'!AB12*SUMPRODUCT('UEC Development'!$M$42:$M$46,'Efficiency Dist - MH'!AE65:AE69)\n+'Product Class Dist'!AB13*SUMPRODUCT('UEC Development'!$M$55:$M$58,'Efficiency Dist - MH'!AE89:AE92)\n+'Product Class Dist'!AB14*SUMPRODUCT('UEC Development'!$M$67:$M$71,'Efficiency Dist - MH'!AE111:AE115)\n+'Product Class Dist'!AB15*SUMPRODUCT('UEC Development'!$M$80:$M$84,'Efficiency Dist - MH'!AE135:AE139)","v":389.10433686446271},{"$f":"'Product Class Dist'!AC10*SUMPRODUCT('UEC Development'!$M$14:$M$19,'Efficiency Dist - MH'!AF13:AF18)\n+'Product Class Dist'!AC11*SUMPRODUCT('UEC Development'!$M$28:$M$33,'Efficiency Dist - MH'!AF39:AF44)\n+'Product Class Dist'!AC12*SUMPRODUCT('UEC Development'!$M$42:$M$46,'Efficiency Dist - MH'!AF65:AF69)\n+'Product Class Dist'!AC13*SUMPRODUCT('UEC Development'!$M$55:$M$58,'Efficiency Dist - MH'!AF89:AF92)\n+'Product Class Dist'!AC14*SUMPRODUCT('UEC Development'!$M$67:$M$71,'Efficiency Dist - MH'!AF111:AF115)\n+'Product Class Dist'!AC15*SUMPRODUCT('UEC Development'!$M$80:$M$84,'Efficiency Dist - MH'!AF135:AF139)","v":389.10433686446271},{"$f":"'Product Class Dist'!AD10*SUMPRODUCT('UEC Development'!$M$14:$M$19,'Efficiency Dist - MH'!AG13:AG18)\n+'Product Class Dist'!AD11*SUMPRODUCT('UEC Development'!$M$28:$M$33,'Efficiency Dist - MH'!AG39:AG44)\n+'Product Class Dist'!AD12*SUMPRODUCT('UEC Development'!$M$42:$M$46,'Efficiency Dist - MH'!AG65:AG69)\n+'Product Class Dist'!AD13*SUMPRODUCT('UEC Development'!$M$55:$M$58,'Efficiency Dist - MH'!AG89:AG92)\n+'Product Class Dist'!AD14*SUMPRODUCT('UEC Development'!$M$67:$M$71,'Efficiency Dist - MH'!AG111:AG115)\n+'Product Class Dist'!AD15*SUMPRODUCT('UEC Development'!$M$80:$M$84,'Efficiency Dist - MH'!AG135:AG139)","v":389.10433686446271},{"$f":"'Product Class Dist'!AE10*SUMPRODUCT('UEC Development'!$M$14:$M$19,'Efficiency Dist - MH'!AH13:AH18)\n+'Product Class Dist'!AE11*SUMPRODUCT('UEC Development'!$M$28:$M$33,'Efficiency Dist - MH'!AH39:AH44)\n+'Product Class Dist'!AE12*SUMPRODUCT('UEC Development'!$M$42:$M$46,'Efficiency Dist - MH'!AH65:AH69)\n+'Product Class Dist'!AE13*SUMPRODUCT('UEC Development'!$M$55:$M$58,'Efficiency Dist - MH'!AH89:AH92)\n+'Product Class Dist'!AE14*SUMPRODUCT('UEC Development'!$M$67:$M$71,'Efficiency Dist - MH'!AH111:AH115)\n+'Product Class Dist'!AE15*SUMPRODUCT('UEC Development'!$M$80:$M$84,'Efficiency Dist - MH'!AH135:AH139)","v":389.10433686446271},{"$f":"'Product Class Dist'!AF10*SUMPRODUCT('UEC Development'!$M$14:$M$19,'Efficiency Dist - MH'!AI13:AI18)\n+'Product Class Dist'!AF11*SUMPRODUCT('UEC Development'!$M$28:$M$33,'Efficiency Dist - MH'!AI39:AI44)\n+'Product Class Dist'!AF12*SUMPRODUCT('UEC Development'!$M$42:$M$46,'Efficiency Dist - MH'!AI65:AI69)\n+'Product Class Dist'!AF13*SUMPRODUCT('UEC Development'!$M$55:$M$58,'Efficiency Dist - MH'!AI89:AI92)\n+'Product Class Dist'!AF14*SUMPRODUCT('UEC Development'!$M$67:$M$71,'Efficiency Dist - MH'!AI111:AI115)\n+'Product Class Dist'!AF15*SUMPRODUCT('UEC Development'!$M$80:$M$84,'Efficiency Dist - MH'!AI135:AI139)","v":389.10433686446271},{"$f":"'Product Class Dist'!AG10*SUMPRODUCT('UEC Development'!$M$14:$M$19,'Efficiency Dist - MH'!AJ13:AJ18)\n+'Product Class Dist'!AG11*SUMPRODUCT('UEC Development'!$M$28:$M$33,'Efficiency Dist - MH'!AJ39:AJ44)\n+'Product Class Dist'!AG12*SUMPRODUCT('UEC Development'!$M$42:$M$46,'Efficiency Dist - MH'!AJ65:AJ69)\n+'Product Class Dist'!AG13*SUMPRODUCT('UEC Development'!$M$55:$M$58,'Efficiency Dist - MH'!AJ89:AJ92)\n+'Product Class Dist'!AG14*SUMPRODUCT('UEC Development'!$M$67:$M$71,'Efficiency Dist - MH'!AJ111:AJ115)\n+'Product Class Dist'!AG15*SUMPRODUCT('UEC Development'!$M$80:$M$84,'Efficiency Dist - MH'!AJ135:AJ139)","v":389.10433686446271},{"$f":"'Product Class Dist'!AH10*SUMPRODUCT('UEC Development'!$M$14:$M$19,'Efficiency Dist - MH'!AK13:AK18)\n+'Product Class Dist'!AH11*SUMPRODUCT('UEC Development'!$M$28:$M$33,'Efficiency Dist - MH'!AK39:AK44)\n+'Product Class Dist'!AH12*SUMPRODUCT('UEC Development'!$M$42:$M$46,'Efficiency Dist - MH'!AK65:AK69)\n+'Product Class Dist'!AH13*SUMPRODUCT('UEC Development'!$M$55:$M$58,'Efficiency Dist - MH'!AK89:AK92)\n+'Product Class Dist'!AH14*SUMPRODUCT('UEC Development'!$M$67:$M$71,'Efficiency Dist - MH'!AK111:AK115)\n+'Product Class Dist'!AH15*SUMPRODUCT('UEC Development'!$M$80:$M$84,'Efficiency Dist - MH'!AK135:AK139)","v":389.10433686446277},{"$f":"'Product Class Dist'!AI10*SUMPRODUCT('UEC Development'!$M$14:$M$19,'Efficiency Dist - MH'!AL13:AL18)\n+'Product Class Dist'!AI11*SUMPRODUCT('UEC Development'!$M$28:$M$33,'Efficiency Dist - MH'!AL39:AL44)\n+'Product Class Dist'!AI12*SUMPRODUCT('UEC Development'!$M$42:$M$46,'Efficiency Dist - MH'!AL65:AL69)\n+'Product Class Dist'!AI13*SUMPRODUCT('UEC Development'!$M$55:$M$58,'Efficiency Dist - MH'!AL89:AL92)\n+'Product Class Dist'!AI14*SUMPRODUCT('UEC Development'!$M$67:$M$71,'Efficiency Dist - MH'!AL111:AL115)\n+'Product Class Dist'!AI15*SUMPRODUCT('UEC Development'!$M$80:$M$84,'Efficiency Dist - MH'!AL135:AL139)","v":389.10433686446277},{"$f":"'Product Class Dist'!AJ10*SUMPRODUCT('UEC Development'!$M$14:$M$19,'Efficiency Dist - MH'!AM13:AM18)\n+'Product Class Dist'!AJ11*SUMPRODUCT('UEC Development'!$M$28:$M$33,'Efficiency Dist - MH'!AM39:AM44)\n+'Product Class Dist'!AJ12*SUMPRODUCT('UEC Development'!$M$42:$M$46,'Efficiency Dist - MH'!AM65:AM69)\n+'Product Class Dist'!AJ13*SUMPRODUCT('UEC Development'!$M$55:$M$58,'Efficiency Dist - MH'!AM89:AM92)\n+'Product Class Dist'!AJ14*SUMPRODUCT('UEC Development'!$M$67:$M$71,'Efficiency Dist - MH'!AM111:AM115)\n+'Product Class Dist'!AJ15*SUMPRODUCT('UEC Development'!$M$80:$M$84,'Efficiency Dist - MH'!AM135:AM139)","v":389.10433686446277},{"$f":"'Product Class Dist'!AK10*SUMPRODUCT('UEC Development'!$M$14:$M$19,'Efficiency Dist - MH'!AN13:AN18)\n+'Product Class Dist'!AK11*SUMPRODUCT('UEC Development'!$M$28:$M$33,'Efficiency Dist - MH'!AN39:AN44)\n+'Product Class Dist'!AK12*SUMPRODUCT('UEC Development'!$M$42:$M$46,'Efficiency Dist - MH'!AN65:AN69)\n+'Product Class Dist'!AK13*SUMPRODUCT('UEC Development'!$M$55:$M$58,'Efficiency Dist - MH'!AN89:AN92)\n+'Product Class Dist'!AK14*SUMPRODUCT('UEC Development'!$M$67:$M$71,'Efficiency Dist - MH'!AN111:AN115)\n+'Product Class Dist'!AK15*SUMPRODUCT('UEC Development'!$M$80:$M$84,'Efficiency Dist - MH'!AN135:AN139)","v":389.10433686446271},{"$f":"'Product Class Dist'!AL10*SUMPRODUCT('UEC Development'!$M$14:$M$19,'Efficiency Dist - MH'!AO13:AO18)\n+'Product Class Dist'!AL11*SUMPRODUCT('UEC Development'!$M$28:$M$33,'Efficiency Dist - MH'!AO39:AO44)\n+'Product Class Dist'!AL12*SUMPRODUCT('UEC Development'!$M$42:$M$46,'Efficiency Dist - MH'!AO65:AO69)\n+'Product Class Dist'!AL13*SUMPRODUCT('UEC Development'!$M$55:$M$58,'Efficiency Dist - MH'!AO89:AO92)\n+'Product Class Dist'!AL14*SUMPRODUCT('UEC Development'!$M$67:$M$71,'Efficiency Dist - MH'!AO111:AO115)\n+'Product Class Dist'!AL15*SUMPRODUCT('UEC Development'!$M$80:$M$84,'Efficiency Dist - MH'!AO135:AO139)","v":387.90454458505064},{"$f":"'Product Class Dist'!AM10*SUMPRODUCT('UEC Development'!$M$14:$M$19,'Efficiency Dist - MH'!AP13:AP18)\n+'Product Class Dist'!AM11*SUMPRODUCT('UEC Development'!$M$28:$M$33,'Efficiency Dist - MH'!AP39:AP44)\n+'Product Class Dist'!AM12*SUMPRODUCT('UEC Development'!$M$42:$M$46,'Efficiency Dist - MH'!AP65:AP69)\n+'Product Class Dist'!AM13*SUMPRODUCT('UEC Development'!$M$55:$M$58,'Efficiency Dist - MH'!AP89:AP92)\n+'Product Class Dist'!AM14*SUMPRODUCT('UEC Development'!$M$67:$M$71,'Efficiency Dist - MH'!AP111:AP115)\n+'Product Class Dist'!AM15*SUMPRODUCT('UEC Development'!$M$80:$M$84,'Efficiency Dist - MH'!AP135:AP139)","v":387.0221734950502},{"$f":"'Product Class Dist'!AN10*SUMPRODUCT('UEC Development'!$M$14:$M$19,'Efficiency Dist - MH'!AQ13:AQ18)\n+'Product Class Dist'!AN11*SUMPRODUCT('UEC Development'!$M$28:$M$33,'Efficiency Dist - MH'!AQ39:AQ44)\n+'Product Class Dist'!AN12*SUMPRODUCT('UEC Development'!$M$42:$M$46,'Efficiency Dist - MH'!AQ65:AQ69)\n+'Product Class Dist'!AN13*SUMPRODUCT('UEC Development'!$M$55:$M$58,'Efficiency Dist - MH'!AQ89:AQ92)\n+'Product Class Dist'!AN14*SUMPRODUCT('UEC Development'!$M$67:$M$71,'Efficiency Dist - MH'!AQ111:AQ115)\n+'Product Class Dist'!AN15*SUMPRODUCT('UEC Development'!$M$80:$M$84,'Efficiency Dist - MH'!AQ135:AQ139)","v":385.97808787075991},{"$f":"'Product Class Dist'!AO10*SUMPRODUCT('UEC Development'!$M$14:$M$19,'Efficiency Dist - MH'!AR13:AR18)\n+'Product Class Dist'!AO11*SUMPRODUCT('UEC Development'!$M$28:$M$33,'Efficiency Dist - MH'!AR39:AR44)\n+'Product Class Dist'!AO12*SUMPRODUCT('UEC Development'!$M$42:$M$46,'Efficiency Dist - MH'!AR65:AR69)\n+'Product Class Dist'!AO13*SUMPRODUCT('UEC Development'!$M$55:$M$58,'Efficiency Dist - MH'!AR89:AR92)\n+'Product Class Dist'!AO14*SUMPRODUCT('UEC Development'!$M$67:$M$71,'Efficiency Dist - MH'!AR111:AR115)\n+'Product Class Dist'!AO15*SUMPRODUCT('UEC Development'!$M$80:$M$84,'Efficiency Dist - MH'!AR135:AR139)","v":384.94471902648479},{"$f":"'Product Class Dist'!AP10*SUMPRODUCT('UEC Development'!$M$14:$M$19,'Efficiency Dist - MH'!AS13:AS18)\n+'Product Class Dist'!AP11*SUMPRODUCT('UEC Development'!$M$28:$M$33,'Efficiency Dist - MH'!AS39:AS44)\n+'Product Class Dist'!AP12*SUMPRODUCT('UEC Development'!$M$42:$M$46,'Efficiency Dist - MH'!AS65:AS69)\n+'Product Class Dist'!AP13*SUMPRODUCT('UEC Development'!$M$55:$M$58,'Efficiency Dist - MH'!AS89:AS92)\n+'Product Class Dist'!AP14*SUMPRODUCT('UEC Development'!$M$67:$M$71,'Efficiency Dist - MH'!AS111:AS115)\n+'Product Class Dist'!AP15*SUMPRODUCT('UEC Development'!$M$80:$M$84,'Efficiency Dist - MH'!AS135:AS139)","v":383.91961645410061},{"$f":"'Product Class Dist'!AQ10*SUMPRODUCT('UEC Development'!$M$14:$M$19,'Efficiency Dist - MH'!AT13:AT18)\n+'Product Class Dist'!AQ11*SUMPRODUCT('UEC Development'!$M$28:$M$33,'Efficiency Dist - MH'!AT39:AT44)\n+'Product Class Dist'!AQ12*SUMPRODUCT('UEC Development'!$M$42:$M$46,'Efficiency Dist - MH'!AT65:AT69)\n+'Product Class Dist'!AQ13*SUMPRODUCT('UEC Development'!$M$55:$M$58,'Efficiency Dist - MH'!AT89:AT92)\n+'Product Class Dist'!AQ14*SUMPRODUCT('UEC Development'!$M$67:$M$71,'Efficiency Dist - MH'!AT111:AT115)\n+'Product Class Dist'!AQ15*SUMPRODUCT('UEC Development'!$M$80:$M$84,'Efficiency Dist - MH'!AT135:AT139)","v":382.89684816613715},{"$f":"'Product Class Dist'!AR10*SUMPRODUCT('UEC Development'!$M$14:$M$19,'Efficiency Dist - MH'!AU13:AU18)\n+'Product Class Dist'!AR11*SUMPRODUCT('UEC Development'!$M$28:$M$33,'Efficiency Dist - MH'!AU39:AU44)\n+'Product Class Dist'!AR12*SUMPRODUCT('UEC Development'!$M$42:$M$46,'Efficiency Dist - MH'!AU65:AU69)\n+'Product Class Dist'!AR13*SUMPRODUCT('UEC Development'!$M$55:$M$58,'Efficiency Dist - MH'!AU89:AU92)\n+'Product Class Dist'!AR14*SUMPRODUCT('UEC Development'!$M$67:$M$71,'Efficiency Dist - MH'!AU111:AU115)\n+'Product Class Dist'!AR15*SUMPRODUCT('UEC Development'!$M$80:$M$84,'Efficiency Dist - MH'!AU135:AU139)","v":381.87503350686245},{"$f":"'Product Class Dist'!AS10*SUMPRODUCT('UEC Development'!$M$14:$M$19,'Efficiency Dist - MH'!AV13:AV18)\n+'Product Class Dist'!AS11*SUMPRODUCT('UEC Development'!$M$28:$M$33,'Efficiency Dist - MH'!AV39:AV44)\n+'Product Class Dist'!AS12*SUMPRODUCT('UEC Development'!$M$42:$M$46,'Efficiency Dist - MH'!AV65:AV69)\n+'Product Class Dist'!AS13*SUMPRODUCT('UEC Development'!$M$55:$M$58,'Efficiency Dist - MH'!AV89:AV92)\n+'Product Class Dist'!AS14*SUMPRODUCT('UEC Development'!$M$67:$M$71,'Efficiency Dist - MH'!AV111:AV115)\n+'Product Class Dist'!AS15*SUMPRODUCT('UEC Development'!$M$80:$M$84,'Efficiency Dist - MH'!AV135:AV139)","v":380.88911295248334},{"$f":"'Product Class Dist'!AT10*SUMPRODUCT('UEC Development'!$M$14:$M$19,'Efficiency Dist - MH'!AW13:AW18)\n+'Product Class Dist'!AT11*SUMPRODUCT('UEC Development'!$M$28:$M$33,'Efficiency Dist - MH'!AW39:AW44)\n+'Product Class Dist'!AT12*SUMPRODUCT('UEC Development'!$M$42:$M$46,'Efficiency Dist - MH'!AW65:AW69)\n+'Product Class Dist'!AT13*SUMPRODUCT('UEC Development'!$M$55:$M$58,'Efficiency Dist - MH'!AW89:AW92)\n+'Product Class Dist'!AT14*SUMPRODUCT('UEC Development'!$M$67:$M$71,'Efficiency Dist - MH'!AW111:AW115)\n+'Product Class Dist'!AT15*SUMPRODUCT('UEC Development'!$M$80:$M$84,'Efficiency Dist - MH'!AW135:AW139)","v":379.91809215963036},{"$f":"'Product Class Dist'!AU10*SUMPRODUCT('UEC Development'!$M$14:$M$19,'Efficiency Dist - MH'!AX13:AX18)\n+'Product Class Dist'!AU11*SUMPRODUCT('UEC Development'!$M$28:$M$33,'Efficiency Dist - MH'!AX39:AX44)\n+'Product Class Dist'!AU12*SUMPRODUCT('UEC Development'!$M$42:$M$46,'Efficiency Dist - MH'!AX65:AX69)\n+'Product Class Dist'!AU13*SUMPRODUCT('UEC Development'!$M$55:$M$58,'Efficiency Dist - MH'!AX89:AX92)\n+'Product Class Dist'!AU14*SUMPRODUCT('UEC Development'!$M$67:$M$71,'Efficiency Dist - MH'!AX111:AX115)\n+'Product Class Dist'!AU15*SUMPRODUCT('UEC Development'!$M$80:$M$84,'Efficiency Dist - MH'!AX135:AX139)","v":378.9460056242678},{"$f":"'Product Class Dist'!AV10*SUMPRODUCT('UEC Development'!$M$14:$M$19,'Efficiency Dist - MH'!AY13:AY18)\n+'Product Class Dist'!AV11*SUMPRODUCT('UEC Development'!$M$28:$M$33,'Efficiency Dist - MH'!AY39:AY44)\n+'Product Class Dist'!AV12*SUMPRODUCT('UEC Development'!$M$42:$M$46,'Efficiency Dist - MH'!AY65:AY69)\n+'Product Class Dist'!AV13*SUMPRODUCT('UEC Development'!$M$55:$M$58,'Efficiency Dist - MH'!AY89:AY92)\n+'Product Class Dist'!AV14*SUMPRODUCT('UEC Development'!$M$67:$M$71,'Efficiency Dist - MH'!AY111:AY115)\n+'Product Class Dist'!AV15*SUMPRODUCT('UEC Development'!$M$80:$M$84,'Efficiency Dist - MH'!AY135:AY139)","v":377.9732298596428},{"$f":"'Product Class Dist'!AW10*SUMPRODUCT('UEC Development'!$M$14:$M$19,'Efficiency Dist - MH'!AZ13:AZ18)\n+'Product Class Dist'!AW11*SUMPRODUCT('UEC Development'!$M$28:$M$33,'Efficiency Dist - MH'!AZ39:AZ44)\n+'Product Class Dist'!AW12*SUMPRODUCT('UEC Development'!$M$42:$M$46,'Efficiency Dist - MH'!AZ65:AZ69)\n+'Product Class Dist'!AW13*SUMPRODUCT('UEC Development'!$M$55:$M$58,'Efficiency Dist - MH'!AZ89:AZ92)\n+'Product Class Dist'!AW14*SUMPRODUCT('UEC Development'!$M$67:$M$71,'Efficiency Dist - MH'!AZ111:AZ115)\n+'Product Class Dist'!AW15*SUMPRODUCT('UEC Development'!$M$80:$M$84,'Efficiency Dist - MH'!AZ135:AZ139)","v":376.99802215560629},{"$f":"'Product Class Dist'!AX10*SUMPRODUCT('UEC Development'!$M$14:$M$19,'Efficiency Dist - MH'!BA13:BA18)\n+'Product Class Dist'!AX11*SUMPRODUCT('UEC Development'!$M$28:$M$33,'Efficiency Dist - MH'!BA39:BA44)\n+'Product Class Dist'!AX12*SUMPRODUCT('UEC Development'!$M$42:$M$46,'Efficiency Dist - MH'!BA65:BA69)\n+'Product Class Dist'!AX13*SUMPRODUCT('UEC Development'!$M$55:$M$58,'Efficiency Dist - MH'!BA89:BA92)\n+'Product Class Dist'!AX14*SUMPRODUCT('UEC Development'!$M$67:$M$71,'Efficiency Dist - MH'!BA111:BA115)\n+'Product Class Dist'!AX15*SUMPRODUCT('UEC Development'!$M$80:$M$84,'Efficiency Dist - MH'!BA135:BA139)","v":376.02037643230983},{"$f":"'Product Class Dist'!AY10*SUMPRODUCT('UEC Development'!$M$14:$M$19,'Efficiency Dist - MH'!BB13:BB18)\n+'Product Class Dist'!AY11*SUMPRODUCT('UEC Development'!$M$28:$M$33,'Efficiency Dist - MH'!BB39:BB44)\n+'Product Class Dist'!AY12*SUMPRODUCT('UEC Development'!$M$42:$M$46,'Efficiency Dist - MH'!BB65:BB69)\n+'Product Class Dist'!AY13*SUMPRODUCT('UEC Development'!$M$55:$M$58,'Efficiency Dist - MH'!BB89:BB92)\n+'Product Class Dist'!AY14*SUMPRODUCT('UEC Development'!$M$67:$M$71,'Efficiency Dist - MH'!BB111:BB115)\n+'Product Class Dist'!AY15*SUMPRODUCT('UEC Development'!$M$80:$M$84,'Efficiency Dist - MH'!BB135:BB139)","v":375.04281995545767},{"$f":"'Product Class Dist'!AZ10*SUMPRODUCT('UEC Development'!$M$14:$M$19,'Efficiency Dist - MH'!BC13:BC18)\n+'Product Class Dist'!AZ11*SUMPRODUCT('UEC Development'!$M$28:$M$33,'Efficiency Dist - MH'!BC39:BC44)\n+'Product Class Dist'!AZ12*SUMPRODUCT('UEC Development'!$M$42:$M$46,'Efficiency Dist - MH'!BC65:BC69)\n+'Product Class Dist'!AZ13*SUMPRODUCT('UEC Development'!$M$55:$M$58,'Efficiency Dist - MH'!BC89:BC92)\n+'Product Class Dist'!AZ14*SUMPRODUCT('UEC Development'!$M$67:$M$71,'Efficiency Dist - MH'!BC111:BC115)\n+'Product Class Dist'!AZ15*SUMPRODUCT('UEC Development'!$M$80:$M$84,'Efficiency Dist - MH'!BC135:BC139)","v":374.07190916845303},{"$f":"'Product Class Dist'!BA10*SUMPRODUCT('UEC Development'!$M$14:$M$19,'Efficiency Dist - MH'!BD13:BD18)\n+'Product Class Dist'!BA11*SUMPRODUCT('UEC Development'!$M$28:$M$33,'Efficiency Dist - MH'!BD39:BD44)\n+'Product Class Dist'!BA12*SUMPRODUCT('UEC Development'!$M$42:$M$46,'Efficiency Dist - MH'!BD65:BD69)\n+'Product Class Dist'!BA13*SUMPRODUCT('UEC Development'!$M$55:$M$58,'Efficiency Dist - MH'!BD89:BD92)\n+'Product Class Dist'!BA14*SUMPRODUCT('UEC Development'!$M$67:$M$71,'Efficiency Dist - MH'!BD111:BD115)\n+'Product Class Dist'!BA15*SUMPRODUCT('UEC Development'!$M$80:$M$84,'Efficiency Dist - MH'!BD135:BD139)","v":373.12744897641642},{"$f":"'Product Class Dist'!BB10*SUMPRODUCT('UEC Development'!$M$14:$M$19,'Efficiency Dist - MH'!BE13:BE18)\n+'Product Class Dist'!BB11*SUMPRODUCT('UEC Development'!$M$28:$M$33,'Efficiency Dist - MH'!BE39:BE44)\n+'Product Class Dist'!BB12*SUMPRODUCT('UEC Development'!$M$42:$M$46,'Efficiency Dist - MH'!BE65:BE69)\n+'Product Class Dist'!BB13*SUMPRODUCT('UEC Development'!$M$55:$M$58,'Efficiency Dist - MH'!BE89:BE92)\n+'Product Class Dist'!BB14*SUMPRODUCT('UEC Development'!$M$67:$M$71,'Efficiency Dist - MH'!BE111:BE115)\n+'Product Class Dist'!BB15*SUMPRODUCT('UEC Development'!$M$80:$M$84,'Efficiency Dist - MH'!BE135:BE139)","v":372.20273729469704},{"$f":"'Product Class Dist'!BC10*SUMPRODUCT('UEC Development'!$M$14:$M$19,'Efficiency Dist - MH'!BF13:BF18)\n+'Product Class Dist'!BC11*SUMPRODUCT('UEC Development'!$M$28:$M$33,'Efficiency Dist - MH'!BF39:BF44)\n+'Product Class Dist'!BC12*SUMPRODUCT('UEC Development'!$M$42:$M$46,'Efficiency Dist - MH'!BF65:BF69)\n+'Product Class Dist'!BC13*SUMPRODUCT('UEC Development'!$M$55:$M$58,'Efficiency Dist - MH'!BF89:BF92)\n+'Product Class Dist'!BC14*SUMPRODUCT('UEC Development'!$M$67:$M$71,'Efficiency Dist - MH'!BF111:BF115)\n+'Product Class Dist'!BC15*SUMPRODUCT('UEC Development'!$M$80:$M$84,'Efficiency Dist - MH'!BF135:BF139)","v":371.27571383377347},{"$f":"'Product Class Dist'!BD10*SUMPRODUCT('UEC Development'!$M$14:$M$19,'Efficiency Dist - MH'!BG13:BG18)\n+'Product Class Dist'!BD11*SUMPRODUCT('UEC Development'!$M$28:$M$33,'Efficiency Dist - MH'!BG39:BG44)\n+'Product Class Dist'!BD12*SUMPRODUCT('UEC Development'!$M$42:$M$46,'Efficiency Dist - MH'!BG65:BG69)\n+'Product Class Dist'!BD13*SUMPRODUCT('UEC Development'!$M$55:$M$58,'Efficiency Dist - MH'!BG89:BG92)\n+'Product Class Dist'!BD14*SUMPRODUCT('UEC Development'!$M$67:$M$71,'Efficiency Dist - MH'!BG111:BG115)\n+'Product Class Dist'!BD15*SUMPRODUCT('UEC Development'!$M$80:$M$84,'Efficiency Dist - MH'!BG135:BG139)","v":370.34637281419782},{"$f":"'Product Class Dist'!BE10*SUMPRODUCT('UEC Development'!$M$14:$M$19,'Efficiency Dist - MH'!BH13:BH18)\n+'Product Class Dist'!BE11*SUMPRODUCT('UEC Development'!$M$28:$M$33,'Efficiency Dist - MH'!BH39:BH44)\n+'Product Class Dist'!BE12*SUMPRODUCT('UEC Development'!$M$42:$M$46,'Efficiency Dist - MH'!BH65:BH69)\n+'Product Class Dist'!BE13*SUMPRODUCT('UEC Development'!$M$55:$M$58,'Efficiency Dist - MH'!BH89:BH92)\n+'Product Class Dist'!BE14*SUMPRODUCT('UEC Development'!$M$67:$M$71,'Efficiency Dist - MH'!BH111:BH115)\n+'Product Class Dist'!BE15*SUMPRODUCT('UEC Development'!$M$80:$M$84,'Efficiency Dist - MH'!BH135:BH139)","v":369.41521403161858}]
[null,null,"POST-Case UEC",{"$f":"'Product Class Dist'!D19*SUMPRODUCT('UEC Development'!$M$14:$M$19,'Efficiency Dist - MH'!G23:G28)\n+'Product Class Dist'!D20*SUMPRODUCT('UEC Development'!$M$28:$M$33,'Efficiency Dist - MH'!G49:G54)\n+'Product Class Dist'!D21*SUMPRODUCT('UEC Development'!$M$42:$M$46,'Efficiency Dist - MH'!G74:G78)\n+'Product Class Dist'!D22*SUMPRODUCT('UEC Development'!$M$55:$M$58,'Efficiency Dist - MH'!G97:G100)\n+'Product Class Dist'!D23*SUMPRODUCT('UEC Development'!$M$67:$M$71,'Efficiency Dist - MH'!G120:G124)\n+'Product Class Dist'!D24*SUMPRODUCT('UEC Development'!$M$80:$M$84,'Efficiency Dist - MH'!G144:G148)","v":389.10433686446271},{"$f":"'Product Class Dist'!E19*SUMPRODUCT('UEC Development'!$M$14:$M$19,'Efficiency Dist - MH'!H23:H28)\n+'Product Class Dist'!E20*SUMPRODUCT('UEC Development'!$M$28:$M$33,'Efficiency Dist - MH'!H49:H54)\n+'Product Class Dist'!E21*SUMPRODUCT('UEC Development'!$M$42:$M$46,'Efficiency Dist - MH'!H74:H78)\n+'Product Class Dist'!E22*SUMPRODUCT('UEC Development'!$M$55:$M$58,'Efficiency Dist - MH'!H97:H100)\n+'Product Class Dist'!E23*SUMPRODUCT('UEC Development'!$M$67:$M$71,'Efficiency Dist - MH'!H120:H124)\n+'Product Class Dist'!E24*SUMPRODUCT('UEC Development'!$M$80:$M$84,'Efficiency Dist - MH'!H144:H148)","v":389.10433686446271},{"$f":"'Product Class Dist'!F19*SUMPRODUCT('UEC Development'!$M$14:$M$19,'Efficiency Dist - MH'!I23:I28)\n+'Product Class Dist'!F20*SUMPRODUCT('UEC Development'!$M$28:$M$33,'Efficiency Dist - MH'!I49:I54)\n+'Product Class Dist'!F21*SUMPRODUCT('UEC Development'!$M$42:$M$46,'Efficiency Dist - MH'!I74:I78)\n+'Product Class Dist'!F22*SUMPRODUCT('UEC Development'!$M$55:$M$58,'Efficiency Dist - MH'!I97:I100)\n+'Product Class Dist'!F23*SUMPRODUCT('UEC Development'!$M$67:$M$71,'Efficiency Dist - MH'!I120:I124)\n+'Product Class Dist'!F24*SUMPRODUCT('UEC Development'!$M$80:$M$84,'Efficiency Dist - MH'!I144:I148)","v":389.10433686446271},{"$f":"'Product Class Dist'!G19*SUMPRODUCT('UEC Development'!$M$14:$M$19,'Efficiency Dist - MH'!J23:J28)\n+'Product Class Dist'!G20*SUMPRODUCT('UEC Development'!$M$28:$M$33,'Efficiency Dist - MH'!J49:J54)\n+'Product Class Dist'!G21*SUMPRODUCT('UEC Development'!$M$42:$M$46,'Efficiency Dist - MH'!J74:J78)\n+'Product Class Dist'!G22*SUMPRODUCT('UEC Development'!$M$55:$M$58,'Efficiency Dist - MH'!J97:J100)\n+'Product Class Dist'!G23*SUMPRODUCT('UEC Development'!$M$67:$M$71,'Efficiency Dist - MH'!J120:J124)\n+'Product Class Dist'!G24*SUMPRODUCT('UEC Development'!$M$80:$M$84,'Efficiency Dist - MH'!J144:J148)","v":389.10433686446271},{"$f":"'Product Class Dist'!H19*SUMPRODUCT('UEC Development'!$M$14:$M$19,'Efficiency Dist - MH'!K23:K28)\n+'Product Class Dist'!H20*SUMPRODUCT('UEC Development'!$M$28:$M$33,'Efficiency Dist - MH'!K49:K54)\n+'Product Class Dist'!H21*SUMPRODUCT('UEC Development'!$M$42:$M$46,'Efficiency Dist - MH'!K74:K78)\n+'Product Class Dist'!H22*SUMPRODUCT('UEC Development'!$M$55:$M$58,'Efficiency Dist - MH'!K97:K100)\n+'Product Class Dist'!H23*SUMPRODUCT('UEC Development'!$M$67:$M$71,'Efficiency Dist - MH'!K120:K124)\n+'Product Class Dist'!H24*SUMPRODUCT('UEC Development'!$M$80:$M$84,'Efficiency Dist - MH'!K144:K148)","v":389.10433686446271},{"$f":"'Product Class Dist'!I19*SUMPRODUCT('UEC Development'!$M$14:$M$19,'Efficiency Dist - MH'!L23:L28)\n+'Product Class Dist'!I20*SUMPRODUCT('UEC Development'!$M$28:$M$33,'Efficiency Dist - MH'!L49:L54)\n+'Product Class Dist'!I21*SUMPRODUCT('UEC Development'!$M$42:$M$46,'Efficiency Dist - MH'!L74:L78)\n+'Product Class Dist'!I22*SUMPRODUCT('UEC Development'!$M$55:$M$58,'Efficiency Dist - MH'!L97:L100)\n+'Product Class Dist'!I23*SUMPRODUCT('UEC Development'!$M$67:$M$71,'Efficiency Dist - MH'!L120:L124)\n+'Product Class Dist'!I24*SUMPRODUCT('UEC Development'!$M$80:$M$84,'Efficiency Dist - MH'!L144:L148)","v":389.10433686446271},{"$f":"'Product Class Dist'!J19*SUMPRODUCT('UEC Development'!$M$14:$M$19,'Efficiency Dist - MH'!M23:M28)\n+'Product Class Dist'!J20*SUMPRODUCT('UEC Development'!$M$28:$M$33,'Efficiency Dist - MH'!M49:M54)\n+'Product Class Dist'!J21*SUMPRODUCT('UEC Development'!$M$42:$M$46,'Efficiency Dist - MH'!M74:M78)\n+'Product Class Dist'!J22*SUMPRODUCT('UEC Development'!$M$55:$M$58,'Efficiency Dist - MH'!M97:M100)\n+'Product Class Dist'!J23*SUMPRODUCT('UEC Development'!$M$67:$M$71,'Efficiency Dist - MH'!M120:M124)\n+'Product Class Dist'!J24*SUMPRODUCT('UEC Development'!$M$80:$M$84,'Efficiency Dist - MH'!M144:M148)","v":389.10433686446271},{"$f":"'Product Class Dist'!K19*SUMPRODUCT('UEC Development'!$M$14:$M$19,'Efficiency Dist - MH'!N23:N28)\n+'Product Class Dist'!K20*SUMPRODUCT('UEC Development'!$M$28:$M$33,'Efficiency Dist - MH'!N49:N54)\n+'Product Class Dist'!K21*SUMPRODUCT('UEC Development'!$M$42:$M$46,'Efficiency Dist - MH'!N74:N78)\n+'Product Class Dist'!K22*SUMPRODUCT('UEC Development'!$M$55:$M$58,'Efficiency Dist - MH'!N97:N100)\n+'Product Class Dist'!K23*SUMPRODUCT('UEC Development'!$M$67:$M$71,'Efficiency Dist - MH'!N120:N124)\n+'Product Class Dist'!K24*SUMPRODUCT('UEC Development'!$M$80:$M$84,'Efficiency Dist - MH'!N144:N148)","v":389.10433686446271},{"$f":"'Product Class Dist'!L19*SUMPRODUCT('UEC Development'!$M$14:$M$19,'Efficiency Dist - MH'!O23:O28)\n+'Product Class Dist'!L20*SUMPRODUCT('UEC Development'!$M$28:$M$33,'Efficiency Dist - MH'!O49:O54)\n+'Product Class Dist'!L21*SUMPRODUCT('UEC Development'!$M$42:$M$46,'Efficiency Dist - MH'!O74:O78)\n+'Product Class Dist'!L22*SUMPRODUCT('UEC Development'!$M$55:$M$58,'Efficiency Dist - MH'!O97:O100)\n+'Product Class Dist'!L23*SUMPRODUCT('UEC Development'!$M$67:$M$71,'Efficiency Dist - MH'!O120:O124)\n+'Product Class Dist'!L24*SUMPRODUCT('UEC Development'!$M$80:$M$84,'Efficiency Dist - MH'!O144:O148)","v":389.10433686446271},{"$f":"'Product Class Dist'!M19*SUMPRODUCT('UEC Development'!$M$14:$M$19,'Efficiency Dist - MH'!P23:P28)\n+'Product Class Dist'!M20*SUMPRODUCT('UEC Development'!$M$28:$M$33,'Efficiency Dist - MH'!P49:P54)\n+'Product Class Dist'!M21*SUMPRODUCT('UEC Development'!$M$42:$M$46,'Efficiency Dist - MH'!P74:P78)\n+'Product Class Dist'!M22*SUMPRODUCT('UEC Development'!$M$55:$M$58,'Efficiency Dist - MH'!P97:P100)\n+'Product Class Dist'!M23*SUMPRODUCT('UEC Development'!$M$67:$M$71,'Efficiency Dist - MH'!P120:P124)\n+'Product Class Dist'!M24*SUMPRODUCT('UEC Development'!$M$80:$M$84,'Efficiency Dist - MH'!P144:P148)","v":389.10433686446271},{"$f":"'Product Class Dist'!N19*SUMPRODUCT('UEC Development'!$M$14:$M$19,'Efficiency Dist - MH'!Q23:Q28)\n+'Product Class Dist'!N20*SUMPRODUCT('UEC Development'!$M$28:$M$33,'Efficiency Dist - MH'!Q49:Q54)\n+'Product Class Dist'!N21*SUMPRODUCT('UEC Development'!$M$42:$M$46,'Efficiency Dist - MH'!Q74:Q78)\n+'Product Class Dist'!N22*SUMPRODUCT('UEC Development'!$M$55:$M$58,'Efficiency Dist - MH'!Q97:Q100)\n+'Product Class Dist'!N23*SUMPRODUCT('UEC Development'!$M$67:$M$71,'Efficiency Dist - MH'!Q120:Q124)\n+'Product Class Dist'!N24*SUMPRODUCT('UEC Development'!$M$80:$M$84,'Efficiency Dist - MH'!Q144:Q148)","v":389.10433686446271},{"$f":"'Product Class Dist'!O19*SUMPRODUCT('UEC Development'!$M$14:$M$19,'Efficiency Dist - MH'!R23:R28)\n+'Product Class Dist'!O20*SUMPRODUCT('UEC Development'!$M$28:$M$33,'Efficiency Dist - MH'!R49:R54)\n+'Product Class Dist'!O21*SUMPRODUCT('UEC Development'!$M$42:$M$46,'Efficiency Dist - MH'!R74:R78)\n+'Product Class Dist'!O22*SUMPRODUCT('UEC Development'!$M$55:$M$58,'Efficiency Dist - MH'!R97:R100)\n+'Product Class Dist'!O23*SUMPRODUCT('UEC Development'!$M$67:$M$71,'Efficiency Dist - MH'!R120:R124)\n+'Product Class Dist'!O24*SUMPRODUCT('UEC Development'!$M$80:$M$84,'Efficiency Dist - MH'!R144:R148)","v":389.10433686446271},{"$f":"'Product Class Dist'!P19*SUMPRODUCT('UEC Development'!$M$14:$M$19,'Efficiency Dist - MH'!S23:S28)\n+'Product Class Dist'!P20*SUMPRODUCT('UEC Development'!$M$28:$M$33,'Efficiency Dist - MH'!S49:S54)\n+'Product Class Dist'!P21*SUMPRODUCT('UEC Development'!$M$42:$M$46,'Efficiency Dist - MH'!S74:S78)\n+'Product Class Dist'!P22*SUMPRODUCT('UEC Development'!$M$55:$M$58,'Efficiency Dist - MH'!S97:S100)\n+'Product Class Dist'!P23*SUMPRODUCT('UEC Development'!$M$67:$M$71,'Efficiency Dist - MH'!S120:S124)\n+'Product Class Dist'!P24*SUMPRODUCT('UEC Development'!$M$80:$M$84,'Efficiency Dist - MH'!S144:S148)","v":389.10433686446271},{"$f":"'Product Class Dist'!Q19*SUMPRODUCT('UEC Development'!$M$14:$M$19,'Efficiency Dist - MH'!T23:T28)\n+'Product Class Dist'!Q20*SUMPRODUCT('UEC Development'!$M$28:$M$33,'Efficiency Dist - MH'!T49:T54)\n+'Product Class Dist'!Q21*SUMPRODUCT('UEC Development'!$M$42:$M$46,'Efficiency Dist - MH'!T74:T78)\n+'Product Class Dist'!Q22*SUMPRODUCT('UEC Development'!$M$55:$M$58,'Efficiency Dist - MH'!T97:T100)\n+'Product Class Dist'!Q23*SUMPRODUCT('UEC Development'!$M$67:$M$71,'Efficiency Dist - MH'!T120:T124)\n+'Product Class Dist'!Q24*SUMPRODUCT('UEC Development'!$M$80:$M$84,'Efficiency Dist - MH'!T144:T148)","v":389.10433686446271},{"$f":"'Product Class Dist'!R19*SUMPRODUCT('UEC Development'!$M$14:$M$19,'Efficiency Dist - MH'!U23:U28)\n+'Product Class Dist'!R20*SUMPRODUCT('UEC Development'!$M$28:$M$33,'Efficiency Dist - MH'!U49:U54)\n+'Product Class Dist'!R21*SUMPRODUCT('UEC Development'!$M$42:$M$46,'Efficiency Dist - MH'!U74:U78)\n+'Product Class Dist'!R22*SUMPRODUCT('UEC Development'!$M$55:$M$58,'Efficiency Dist - MH'!U97:U100)\n+'Product Class Dist'!R23*SUMPRODUCT('UEC Development'!$M$67:$M$71,'Efficiency Dist - MH'!U120:U124)\n+'Product Class Dist'!R24*SUMPRODUCT('UEC Development'!$M$80:$M$84,'Efficiency Dist - MH'!U144:U148)","v":389.10433686446271},{"$f":"'Product Class Dist'!S19*SUMPRODUCT('UEC Development'!$M$14:$M$19,'Efficiency Dist - MH'!V23:V28)\n+'Product Class Dist'!S20*SUMPRODUCT('UEC Development'!$M$28:$M$33,'Efficiency Dist - MH'!V49:V54)\n+'Product Class Dist'!S21*SUMPRODUCT('UEC Development'!$M$42:$M$46,'Efficiency Dist - MH'!V74:V78)\n+'Product Class Dist'!S22*SUMPRODUCT('UEC Development'!$M$55:$M$58,'Efficiency Dist - MH'!V97:V100)\n+'Product Class Dist'!S23*SUMPRODUCT('UEC Development'!$M$67:$M$71,'Efficiency Dist - MH'!V120:V124)\n+'Product Class Dist'!S24*SUMPRODUCT('UEC Development'!$M$80:$M$84,'Efficiency Dist - MH'!V144:V148)","v":389.10433686446271},{"$f":"'Product Class Dist'!T19*SUMPRODUCT('UEC Development'!$M$14:$M$19,'Efficiency Dist - MH'!W23:W28)\n+'Product Class Dist'!T20*SUMPRODUCT('UEC Development'!$M$28:$M$33,'Efficiency Dist - MH'!W49:W54)\n+'Product Class Dist'!T21*SUMPRODUCT('UEC Development'!$M$42:$M$46,'Efficiency Dist - MH'!W74:W78)\n+'Product Class Dist'!T22*SUMPRODUCT('UEC Development'!$M$55:$M$58,'Efficiency Dist - MH'!W97:W100)\n+'Product Class Dist'!T23*SUMPRODUCT('UEC Development'!$M$67:$M$71,'Efficiency Dist - MH'!W120:W124)\n+'Product Class Dist'!T24*SUMPRODUCT('UEC Development'!$M$80:$M$84,'Efficiency Dist - MH'!W144:W148)","v":389.10433686446271},{"$f":"'Product Class Dist'!U19*SUMPRODUCT('UEC Development'!$M$14:$M$19,'Efficiency Dist - MH'!X23:X28)\n+'Product Class Dist'!U20*SUMPRODUCT('UEC Development'!$M$28:$M$33,'Efficiency Dist - MH'!X49:X54)\n+'Product Class Dist'!U21*SUMPRODUCT('UEC Development'!$M$42:$M$46,'Efficiency Dist - MH'!X74:X78)\n+'Product Class Dist'!U22*SUMPRODUCT('UEC Development'!$M$55:$M$58,'Efficiency Dist - MH'!X97:X100)\n+'Product Class Dist'!U23*SUMPRODUCT('UEC Development'!$M$67:$M$71,'Efficiency Dist - MH'!X120:X124)\n+'Product Class Dist'!U24*SUMPRODUCT('UEC Development'!$M$80:$M$84,'Efficiency Dist - MH'!X144:X148)","v":389.10433686446271},{"$f":"'Product Class Dist'!V19*SUMPRODUCT('UEC Development'!$M$14:$M$19,'Efficiency Dist - MH'!Y23:Y28)\n+'Product Class Dist'!V20*SUMPRODUCT('UEC Development'!$M$28:$M$33,'Efficiency Dist - MH'!Y49:Y54)\n+'Product Class Dist'!V21*SUMPRODUCT('UEC Development'!$M$42:$M$46,'Efficiency Dist - MH'!Y74:Y78)\n+'Product Class Dist'!V22*SUMPRODUCT('UEC Development'!$M$55:$M$58,'Efficiency Dist - MH'!Y97:Y100)\n+'Product Class Dist'!V23*SUMPRODUCT('UEC Development'!$M$67:$M$71,'Efficiency Dist - MH'!Y120:Y124)\n+'Product Class Dist'!V24*SUMPRODUCT('UEC Development'!$M$80:$M$84,'Efficiency Dist - MH'!Y144:Y148)","v":389.10433686446271},{"$f":"'Product Class Dist'!W19*SUMPRODUCT('UEC Development'!$M$14:$M$19,'Efficiency Dist - MH'!Z23:Z28)\n+'Product Class Dist'!W20*SUMPRODUCT('UEC Development'!$M$28:$M$33,'Efficiency Dist - MH'!Z49:Z54)\n+'Product Class Dist'!W21*SUMPRODUCT('UEC Development'!$M$42:$M$46,'Efficiency Dist - MH'!Z74:Z78)\n+'Product Class Dist'!W22*SUMPRODUCT('UEC Development'!$M$55:$M$58,'Efficiency Dist - MH'!Z97:Z100)\n+'Product Class Dist'!W23*SUMPRODUCT('UEC Development'!$M$67:$M$71,'Efficiency Dist - MH'!Z120:Z124)\n+'Product Class Dist'!W24*SUMPRODUCT('UEC Development'!$M$80:$M$84,'Efficiency Dist - MH'!Z144:Z148)","v":389.10433686446271},{"$f":"'Product Class Dist'!X19*SUMPRODUCT('UEC Development'!$M$14:$M$19,'Efficiency Dist - MH'!AA23:AA28)\n+'Product Class Dist'!X20*SUMPRODUCT('UEC Development'!$M$28:$M$33,'Efficiency Dist - MH'!AA49:AA54)\n+'Product Class Dist'!X21*SUMPRODUCT('UEC Development'!$M$42:$M$46,'Efficiency Dist - MH'!AA74:AA78)\n+'Product Class Dist'!X22*SUMPRODUCT('UEC Development'!$M$55:$M$58,'Efficiency Dist - MH'!AA97:AA100)\n+'Product Class Dist'!X23*SUMPRODUCT('UEC Development'!$M$67:$M$71,'Efficiency Dist - MH'!AA120:AA124)\n+'Product Class Dist'!X24*SUMPRODUCT('UEC Development'!$M$80:$M$84,'Efficiency Dist - MH'!AA144:AA148)","v":389.10433686446271},{"$f":"'Product Class Dist'!Y19*SUMPRODUCT('UEC Development'!$M$14:$M$19,'Efficiency Dist - MH'!AB23:AB28)\n+'Product Class Dist'!Y20*SUMPRODUCT('UEC Development'!$M$28:$M$33,'Efficiency Dist - MH'!AB49:AB54)\n+'Product Class Dist'!Y21*SUMPRODUCT('UEC Development'!$M$42:$M$46,'Efficiency Dist - MH'!AB74:AB78)\n+'Product Class Dist'!Y22*SUMPRODUCT('UEC Development'!$M$55:$M$58,'Efficiency Dist - MH'!AB97:AB100)\n+'Product Class Dist'!Y23*SUMPRODUCT('UEC Development'!$M$67:$M$71,'Efficiency Dist - MH'!AB120:AB124)\n+'Product Class Dist'!Y24*SUMPRODUCT('UEC Development'!$M$80:$M$84,'Efficiency Dist - MH'!AB144:AB148)","v":389.10433686446271},{"$f":"'Product Class Dist'!Z19*SUMPRODUCT('UEC Development'!$M$14:$M$19,'Efficiency Dist - MH'!AC23:AC28)\n+'Product Class Dist'!Z20*SUMPRODUCT('UEC Development'!$M$28:$M$33,'Efficiency Dist - MH'!AC49:AC54)\n+'Product Class Dist'!Z21*SUMPRODUCT('UEC Development'!$M$42:$M$46,'Efficiency Dist - MH'!AC74:AC78)\n+'Product Class Dist'!Z22*SUMPRODUCT('UEC Development'!$M$55:$M$58,'Efficiency Dist - MH'!AC97:AC100)\n+'Product Class Dist'!Z23*SUMPRODUCT('UEC Development'!$M$67:$M$71,'Efficiency Dist - MH'!AC120:AC124)\n+'Product Class Dist'!Z24*SUMPRODUCT('UEC Development'!$M$80:$M$84,'Efficiency Dist - MH'!AC144:AC148)","v":389.10433686446271},{"$f":"'Product Class Dist'!AA19*SUMPRODUCT('UEC Development'!$M$14:$M$19,'Efficiency Dist - MH'!AD23:AD28)\n+'Product Class Dist'!AA20*SUMPRODUCT('UEC Development'!$M$28:$M$33,'Efficiency Dist - MH'!AD49:AD54)\n+'Product Class Dist'!AA21*SUMPRODUCT('UEC Development'!$M$42:$M$46,'Efficiency Dist - MH'!AD74:AD78)\n+'Product Class Dist'!AA22*SUMPRODUCT('UEC Development'!$M$55:$M$58,'Efficiency Dist - MH'!AD97:AD100)\n+'Product Class Dist'!AA23*SUMPRODUCT('UEC Development'!$M$67:$M$71,'Efficiency Dist - MH'!AD120:AD124)\n+'Product Class Dist'!AA24*SUMPRODUCT('UEC Development'!$M$80:$M$84,'Efficiency Dist - MH'!AD144:AD148)","v":389.10433686446271},{"$f":"'Product Class Dist'!AB19*SUMPRODUCT('UEC Development'!$M$14:$M$19,'Efficiency Dist - MH'!AE23:AE28)\n+'Product Class Dist'!AB20*SUMPRODUCT('UEC Development'!$M$28:$M$33,'Efficiency Dist - MH'!AE49:AE54)\n+'Product Class Dist'!AB21*SUMPRODUCT('UEC Development'!$M$42:$M$46,'Efficiency Dist - MH'!AE74:AE78)\n+'Product Class Dist'!AB22*SUMPRODUCT('UEC Development'!$M$55:$M$58,'Efficiency Dist - MH'!AE97:AE100)\n+'Product Class Dist'!AB23*SUMPRODUCT('UEC Development'!$M$67:$M$71,'Efficiency Dist - MH'!AE120:AE124)\n+'Product Class Dist'!AB24*SUMPRODUCT('UEC Development'!$M$80:$M$84,'Efficiency Dist - MH'!AE144:AE148)","v":389.10433686446271},{"$f":"'Product Class Dist'!AC19*SUMPRODUCT('UEC Development'!$M$14:$M$19,'Efficiency Dist - MH'!AF23:AF28)\n+'Product Class Dist'!AC20*SUMPRODUCT('UEC Development'!$M$28:$M$33,'Efficiency Dist - MH'!AF49:AF54)\n+'Product Class Dist'!AC21*SUMPRODUCT('UEC Development'!$M$42:$M$46,'Efficiency Dist - MH'!AF74:AF78)\n+'Product Class Dist'!AC22*SUMPRODUCT('UEC Development'!$M$55:$M$58,'Efficiency Dist - MH'!AF97:AF100)\n+'Product Class Dist'!AC23*SUMPRODUCT('UEC Development'!$M$67:$M$71,'Efficiency Dist - MH'!AF120:AF124)\n+'Product Class Dist'!AC24*SUMPRODUCT('UEC Development'!$M$80:$M$84,'Efficiency Dist - MH'!AF144:AF148)","v":389.10433686446271},{"$f":"'Product Class Dist'!AD19*SUMPRODUCT('UEC Development'!$M$14:$M$19,'Efficiency Dist - MH'!AG23:AG28)\n+'Product Class Dist'!AD20*SUMPRODUCT('UEC Development'!$M$28:$M$33,'Efficiency Dist - MH'!AG49:AG54)\n+'Product Class Dist'!AD21*SUMPRODUCT('UEC Development'!$M$42:$M$46,'Efficiency Dist - MH'!AG74:AG78)\n+'Product Class Dist'!AD22*SUMPRODUCT('UEC Development'!$M$55:$M$58,'Efficiency Dist - MH'!AG97:AG100)\n+'Product Class Dist'!AD23*SUMPRODUCT('UEC Development'!$M$67:$M$71,'Efficiency Dist - MH'!AG120:AG124)\n+'Product Class Dist'!AD24*SUMPRODUCT('UEC Development'!$M$80:$M$84,'Efficiency Dist - MH'!AG144:AG148)","v":389.10433686446271},{"$f":"'Product Class Dist'!AE19*SUMPRODUCT('UEC Development'!$M$14:$M$19,'Efficiency Dist - MH'!AH23:AH28)\n+'Product Class Dist'!AE20*SUMPRODUCT('UEC Development'!$M$28:$M$33,'Efficiency Dist - MH'!AH49:AH54)\n+'Product Class Dist'!AE21*SUMPRODUCT('UEC Development'!$M$42:$M$46,'Efficiency Dist - MH'!AH74:AH78)\n+'Product Class Dist'!AE22*SUMPRODUCT('UEC Development'!$M$55:$M$58,'Efficiency Dist - MH'!AH97:AH100)\n+'Product Class Dist'!AE23*SUMPRODUCT('UEC Development'!$M$67:$M$71,'Efficiency Dist - MH'!AH120:AH124)\n+'Product Class Dist'!AE24*SUMPRODUCT('UEC Development'!$M$80:$M$84,'Efficiency Dist - MH'!AH144:AH148)","v":389.10433686446271},{"$f":"'Product Class Dist'!AF19*SUMPRODUCT('UEC Development'!$M$14:$M$19,'Efficiency Dist - MH'!AI23:AI28)\n+'Product Class Dist'!AF20*SUMPRODUCT('UEC Development'!$M$28:$M$33,'Efficiency Dist - MH'!AI49:AI54)\n+'Product Class Dist'!AF21*SUMPRODUCT('UEC Development'!$M$42:$M$46,'Efficiency Dist - MH'!AI74:AI78)\n+'Product Class Dist'!AF22*SUMPRODUCT('UEC Development'!$M$55:$M$58,'Efficiency Dist - MH'!AI97:AI100)\n+'Product Class Dist'!AF23*SUMPRODUCT('UEC Development'!$M$67:$M$71,'Efficiency Dist - MH'!AI120:AI124)\n+'Product Class Dist'!AF24*SUMPRODUCT('UEC Development'!$M$80:$M$84,'Efficiency Dist - MH'!AI144:AI148)","v":389.10433686446271},{"$f":"'Product Class Dist'!AG19*SUMPRODUCT('UEC Development'!$M$14:$M$19,'Efficiency Dist - MH'!AJ23:AJ28)\n+'Product Class Dist'!AG20*SUMPRODUCT('UEC Development'!$M$28:$M$33,'Efficiency Dist - MH'!AJ49:AJ54)\n+'Product Class Dist'!AG21*SUMPRODUCT('UEC Development'!$M$42:$M$46,'Efficiency Dist - MH'!AJ74:AJ78)\n+'Product Class Dist'!AG22*SUMPRODUCT('UEC Development'!$M$55:$M$58,'Efficiency Dist - MH'!AJ97:AJ100)\n+'Product Class Dist'!AG23*SUMPRODUCT('UEC Development'!$M$67:$M$71,'Efficiency Dist - MH'!AJ120:AJ124)\n+'Product Class Dist'!AG24*SUMPRODUCT('UEC Development'!$M$80:$M$84,'Efficiency Dist - MH'!AJ144:AJ148)","v":389.10433686446271},{"$f":"'Product Class Dist'!AH19*SUMPRODUCT('UEC Development'!$M$14:$M$19,'Efficiency Dist - MH'!AK23:AK28)\n+'Product Class Dist'!AH20*SUMPRODUCT('UEC Development'!$M$28:$M$33,'Efficiency Dist - MH'!AK49:AK54)\n+'Product Class Dist'!AH21*SUMPRODUCT('UEC Development'!$M$42:$M$46,'Efficiency Dist - MH'!AK74:AK78)\n+'Product Class Dist'!AH22*SUMPRODUCT('UEC Development'!$M$55:$M$58,'Efficiency Dist - MH'!AK97:AK100)\n+'Product Class Dist'!AH23*SUMPRODUCT('UEC Development'!$M$67:$M$71,'Efficiency Dist - MH'!AK120:AK124)\n+'Product Class Dist'!AH24*SUMPRODUCT('UEC Development'!$M$80:$M$84,'Efficiency Dist - MH'!AK144:AK148)","v":389.10433686446277},{"$f":"'Product Class Dist'!AI19*SUMPRODUCT('UEC Development'!$M$14:$M$19,'Efficiency Dist - MH'!AL23:AL28)\n+'Product Class Dist'!AI20*SUMPRODUCT('UEC Development'!$M$28:$M$33,'Efficiency Dist - MH'!AL49:AL54)\n+'Product Class Dist'!AI21*SUMPRODUCT('UEC Development'!$M$42:$M$46,'Efficiency Dist - MH'!AL74:AL78)\n+'Product Class Dist'!AI22*SUMPRODUCT('UEC Development'!$M$55:$M$58,'Efficiency Dist - MH'!AL97:AL100)\n+'Product Class Dist'!AI23*SUMPRODUCT('UEC Development'!$M$67:$M$71,'Efficiency Dist - MH'!AL120:AL124)\n+'Product Class Dist'!AI24*SUMPRODUCT('UEC Development'!$M$80:$M$84,'Efficiency Dist - MH'!AL144:AL148)","v":389.10433686446277},{"$f":"'Product Class Dist'!AJ19*SUMPRODUCT('UEC Development'!$M$14:$M$19,'Efficiency Dist - MH'!AM23:AM28)\n+'Product Class Dist'!AJ20*SUMPRODUCT('UEC Development'!$M$28:$M$33,'Efficiency Dist - MH'!AM49:AM54)\n+'Product Class Dist'!AJ21*SUMPRODUCT('UEC Development'!$M$42:$M$46,'Efficiency Dist - MH'!AM74:AM78)\n+'Product Class Dist'!AJ22*SUMPRODUCT('UEC Development'!$M$55:$M$58,'Efficiency Dist - MH'!AM97:AM100)\n+'Product Class Dist'!AJ23*SUMPRODUCT('UEC Development'!$M$67:$M$71,'Efficiency Dist - MH'!AM120:AM124)\n+'Product Class Dist'!AJ24*SUMPRODUCT('UEC Development'!$M$80:$M$84,'Efficiency Dist - MH'!AM144:AM148)","v":389.10433686446277},{"$f":"'Product Class Dist'!AK19*SUMPRODUCT('UEC Development'!$M$14:$M$19,'Efficiency Dist - MH'!AN23:AN28)\n+'Product Class Dist'!AK20*SUMPRODUCT('UEC Development'!$M$28:$M$33,'Efficiency Dist - MH'!AN49:AN54)\n+'Product Class Dist'!AK21*SUMPRODUCT('UEC Development'!$M$42:$M$46,'Efficiency Dist - MH'!AN74:AN78)\n+'Product Class Dist'!AK22*SUMPRODUCT('UEC Development'!$M$55:$M$58,'Efficiency Dist - MH'!AN97:AN100)\n+'Product Class Dist'!AK23*SUMPRODUCT('UEC Development'!$M$67:$M$71,'Efficiency Dist - MH'!AN120:AN124)\n+'Product Class Dist'!AK24*SUMPRODUCT('UEC Development'!$M$80:$M$84,'Efficiency Dist - MH'!AN144:AN148)","v":366.01524856101793},{"$f":"'Product Class Dist'!AL19*SUMPRODUCT('UEC Development'!$M$14:$M$19,'Efficiency Dist - MH'!AO23:AO28)\n+'Product Class Dist'!AL20*SUMPRODUCT('UEC Development'!$M$28:$M$33,'Efficiency Dist - MH'!AO49:AO54)\n+'Product Class Dist'!AL21*SUMPRODUCT('UEC Development'!$M$42:$M$46,'Efficiency Dist - MH'!AO74:AO78)\n+'Product Class Dist'!AL22*SUMPRODUCT('UEC Development'!$M$55:$M$58,'Efficiency Dist - MH'!AO97:AO100)\n+'Product Class Dist'!AL23*SUMPRODUCT('UEC Development'!$M$67:$M$71,'Efficiency Dist - MH'!AO120:AO124)\n+'Product Class Dist'!AL24*SUMPRODUCT('UEC Development'!$M$80:$M$84,'Efficiency Dist - MH'!AO144:AO148)","v":365.49164245943382},{"$f":"'Product Class Dist'!AM19*SUMPRODUCT('UEC Development'!$M$14:$M$19,'Efficiency Dist - MH'!AP23:AP28)\n+'Product Class Dist'!AM20*SUMPRODUCT('UEC Development'!$M$28:$M$33,'Efficiency Dist - MH'!AP49:AP54)\n+'Product Class Dist'!AM21*SUMPRODUCT('UEC Development'!$M$42:$M$46,'Efficiency Dist - MH'!AP74:AP78)\n+'Product Class Dist'!AM22*SUMPRODUCT('UEC Development'!$M$55:$M$58,'Efficiency Dist - MH'!AP97:AP100)\n+'Product Class Dist'!AM23*SUMPRODUCT('UEC Development'!$M$67:$M$71,'Efficiency Dist - MH'!AP120:AP124)\n+'Product Class Dist'!AM24*SUMPRODUCT('UEC Development'!$M$80:$M$84,'Efficiency Dist - MH'!AP144:AP148)","v":365.30662001155832},{"$f":"'Product Class Dist'!AN19*SUMPRODUCT('UEC Development'!$M$14:$M$19,'Efficiency Dist - MH'!AQ23:AQ28)\n+'Product Class Dist'!AN20*SUMPRODUCT('UEC Development'!$M$28:$M$33,'Efficiency Dist - MH'!AQ49:AQ54)\n+'Product Class Dist'!AN21*SUMPRODUCT('UEC Development'!$M$42:$M$46,'Efficiency Dist - MH'!AQ74:AQ78)\n+'Product Class Dist'!AN22*SUMPRODUCT('UEC Development'!$M$55:$M$58,'Efficiency Dist - MH'!AQ97:AQ100)\n+'Product Class Dist'!AN23*SUMPRODUCT('UEC Development'!$M$67:$M$71,'Efficiency Dist - MH'!AQ120:AQ124)\n+'Product Class Dist'!AN24*SUMPRODUCT('UEC Development'!$M$80:$M$84,'Efficiency Dist - MH'!AQ144:AQ148)","v":365.09374939653515},{"$f":"'Product Class Dist'!AO19*SUMPRODUCT('UEC Development'!$M$14:$M$19,'Efficiency Dist - MH'!AR23:AR28)\n+'Product Class Dist'!AO20*SUMPRODUCT('UEC Development'!$M$28:$M$33,'Efficiency Dist - MH'!AR49:AR54)\n+'Product Class Dist'!AO21*SUMPRODUCT('UEC Development'!$M$42:$M$46,'Efficiency Dist - MH'!AR74:AR78)\n+'Product Class Dist'!AO22*SUMPRODUCT('UEC Development'!$M$55:$M$58,'Efficiency Dist - MH'!AR97:AR100)\n+'Product Class Dist'!AO23*SUMPRODUCT('UEC Development'!$M$67:$M$71,'Efficiency Dist - MH'!AR120:AR124)\n+'Product Class Dist'!AO24*SUMPRODUCT('UEC Development'!$M$80:$M$84,'Efficiency Dist - MH'!AR144:AR148)","v":364.85012135521424},{"$f":"'Product Class Dist'!AP19*SUMPRODUCT('UEC Development'!$M$14:$M$19,'Efficiency Dist - MH'!AS23:AS28)\n+'Product Class Dist'!AP20*SUMPRODUCT('UEC Development'!$M$28:$M$33,'Efficiency Dist - MH'!AS49:AS54)\n+'Product Class Dist'!AP21*SUMPRODUCT('UEC Development'!$M$42:$M$46,'Efficiency Dist - MH'!AS74:AS78)\n+'Product Class Dist'!AP22*SUMPRODUCT('UEC Development'!$M$55:$M$58,'Efficiency Dist - MH'!AS97:AS100)\n+'Product Class Dist'!AP23*SUMPRODUCT('UEC Development'!$M$67:$M$71,'Efficiency Dist - MH'!AS120:AS124)\n+'Product Class Dist'!AP24*SUMPRODUCT('UEC Development'!$M$80:$M$84,'Efficiency Dist - MH'!AS144:AS148)","v":364.62800266209479},{"$f":"'Product Class Dist'!AQ19*SUMPRODUCT('UEC Development'!$M$14:$M$19,'Efficiency Dist - MH'!AT23:AT28)\n+'Product Class Dist'!AQ20*SUMPRODUCT('UEC Development'!$M$28:$M$33,'Efficiency Dist - MH'!AT49:AT54)\n+'Product Class Dist'!AQ21*SUMPRODUCT('UEC Development'!$M$42:$M$46,'Efficiency Dist - MH'!AT74:AT78)\n+'Product Class Dist'!AQ22*SUMPRODUCT('UEC Development'!$M$55:$M$58,'Efficiency Dist - MH'!AT97:AT100)\n+'Product Class Dist'!AQ23*SUMPRODUCT('UEC Development'!$M$67:$M$71,'Efficiency Dist - MH'!AT120:AT124)\n+'Product Class Dist'!AQ24*SUMPRODUCT('UEC Development'!$M$80:$M$84,'Efficiency Dist - MH'!AT144:AT148)","v":364.36519146431317},{"$f":"'Product Class Dist'!AR19*SUMPRODUCT('UEC Development'!$M$14:$M$19,'Efficiency Dist - MH'!AU23:AU28)\n+'Product Class Dist'!AR20*SUMPRODUCT('UEC Development'!$M$28:$M$33,'Efficiency Dist - MH'!AU49:AU54)\n+'Product Class Dist'!AR21*SUMPRODUCT('UEC Development'!$M$42:$M$46,'Efficiency Dist - MH'!AU74:AU78)\n+'Product Class Dist'!AR22*SUMPRODUCT('UEC Development'!$M$55:$M$58,'Efficiency Dist - MH'!AU97:AU100)\n+'Product Class Dist'!AR23*SUMPRODUCT('UEC Development'!$M$67:$M$71,'Efficiency Dist - MH'!AU120:AU124)\n+'Product Class Dist'!AR24*SUMPRODUCT('UEC Development'!$M$80:$M$84,'Efficiency Dist - MH'!AU144:AU148)","v":364.07281636785439},{"$f":"'Product Class Dist'!AS19*SUMPRODUCT('UEC Development'!$M$14:$M$19,'Efficiency Dist - MH'!AV23:AV28)\n+'Product Class Dist'!AS20*SUMPRODUCT('UEC Development'!$M$28:$M$33,'Efficiency Dist - MH'!AV49:AV54)\n+'Product Class Dist'!AS21*SUMPRODUCT('UEC Development'!$M$42:$M$46,'Efficiency Dist - MH'!AV74:AV78)\n+'Product Class Dist'!AS22*SUMPRODUCT('UEC Development'!$M$55:$M$58,'Efficiency Dist - MH'!AV97:AV100)\n+'Product Class Dist'!AS23*SUMPRODUCT('UEC Development'!$M$67:$M$71,'Efficiency Dist - MH'!AV120:AV124)\n+'Product Class Dist'!AS24*SUMPRODUCT('UEC Development'!$M$80:$M$84,'Efficiency Dist - MH'!AV144:AV148)","v":363.71470999763659},{"$f":"'Product Class Dist'!AT19*SUMPRODUCT('UEC Development'!$M$14:$M$19,'Efficiency Dist - MH'!AW23:AW28)\n+'Product Class Dist'!AT20*SUMPRODUCT('UEC Development'!$M$28:$M$33,'Efficiency Dist - MH'!AW49:AW54)\n+'Product Class Dist'!AT21*SUMPRODUCT('UEC Development'!$M$42:$M$46,'Efficiency Dist - MH'!AW74:AW78)\n+'Product Class Dist'!AT22*SUMPRODUCT('UEC Development'!$M$55:$M$58,'Efficiency Dist - MH'!AW97:AW100)\n+'Product Class Dist'!AT23*SUMPRODUCT('UEC Development'!$M$67:$M$71,'Efficiency Dist - MH'!AW120:AW124)\n+'Product Class Dist'!AT24*SUMPRODUCT('UEC Development'!$M$80:$M$84,'Efficiency Dist - MH'!AW144:AW148)","v":363.32635334146926},{"$f":"'Product Class Dist'!AU19*SUMPRODUCT('UEC Development'!$M$14:$M$19,'Efficiency Dist - MH'!AX23:AX28)\n+'Product Class Dist'!AU20*SUMPRODUCT('UEC Development'!$M$28:$M$33,'Efficiency Dist - MH'!AX49:AX54)\n+'Product Class Dist'!AU21*SUMPRODUCT('UEC Development'!$M$42:$M$46,'Efficiency Dist - MH'!AX74:AX78)\n+'Product Class Dist'!AU22*SUMPRODUCT('UEC Development'!$M$55:$M$58,'Efficiency Dist - MH'!AX97:AX100)\n+'Product Class Dist'!AU23*SUMPRODUCT('UEC Development'!$M$67:$M$71,'Efficiency Dist - MH'!AX120:AX124)\n+'Product Class Dist'!AU24*SUMPRODUCT('UEC Development'!$M$80:$M$84,'Efficiency Dist - MH'!AX144:AX148)","v":362.92463236889256},{"$f":"'Product Class Dist'!AV19*SUMPRODUCT('UEC Development'!$M$14:$M$19,'Efficiency Dist - MH'!AY23:AY28)\n+'Product Class Dist'!AV20*SUMPRODUCT('UEC Development'!$M$28:$M$33,'Efficiency Dist - MH'!AY49:AY54)\n+'Product Class Dist'!AV21*SUMPRODUCT('UEC Development'!$M$42:$M$46,'Efficiency Dist - MH'!AY74:AY78)\n+'Product Class Dist'!AV22*SUMPRODUCT('UEC Development'!$M$55:$M$58,'Efficiency Dist - MH'!AY97:AY100)\n+'Product Class Dist'!AV23*SUMPRODUCT('UEC Development'!$M$67:$M$71,'Efficiency Dist - MH'!AY120:AY124)\n+'Product Class Dist'!AV24*SUMPRODUCT('UEC Development'!$M$80:$M$84,'Efficiency Dist - MH'!AY144:AY148)","v":362.50606326046824},{"$f":"'Product Class Dist'!AW19*SUMPRODUCT('UEC Development'!$M$14:$M$19,'Efficiency Dist - MH'!AZ23:AZ28)\n+'Product Class Dist'!AW20*SUMPRODUCT('UEC Development'!$M$28:$M$33,'Efficiency Dist - MH'!AZ49:AZ54)\n+'Product Class Dist'!AW21*SUMPRODUCT('UEC Development'!$M$42:$M$46,'Efficiency Dist - MH'!AZ74:AZ78)\n+'Product Class Dist'!AW22*SUMPRODUCT('UEC Development'!$M$55:$M$58,'Efficiency Dist - MH'!AZ97:AZ100)\n+'Product Class Dist'!AW23*SUMPRODUCT('UEC Development'!$M$67:$M$71,'Efficiency Dist - MH'!AZ120:AZ124)\n+'Product Class Dist'!AW24*SUMPRODUCT('UEC Development'!$M$80:$M$84,'Efficiency Dist - MH'!AZ144:AZ148)","v":362.08644946830896},{"$f":"'Product Class Dist'!AX19*SUMPRODUCT('UEC Development'!$M$14:$M$19,'Efficiency Dist - MH'!BA23:BA28)\n+'Product Class Dist'!AX20*SUMPRODUCT('UEC Development'!$M$28:$M$33,'Efficiency Dist - MH'!BA49:BA54)\n+'Product Class Dist'!AX21*SUMPRODUCT('UEC Development'!$M$42:$M$46,'Efficiency Dist - MH'!BA74:BA78)\n+'Product Class Dist'!AX22*SUMPRODUCT('UEC Development'!$M$55:$M$58,'Efficiency Dist - MH'!BA97:BA100)\n+'Product Class Dist'!AX23*SUMPRODUCT('UEC Development'!$M$67:$M$71,'Efficiency Dist - MH'!BA120:BA124)\n+'Product Class Dist'!AX24*SUMPRODUCT('UEC Development'!$M$80:$M$84,'Efficiency Dist - MH'!BA144:BA148)","v":361.66578862245592},{"$f":"'Product Class Dist'!AY19*SUMPRODUCT('UEC Development'!$M$14:$M$19,'Efficiency Dist - MH'!BB23:BB28)\n+'Product Class Dist'!AY20*SUMPRODUCT('UEC Development'!$M$28:$M$33,'Efficiency Dist - MH'!BB49:BB54)\n+'Product Class Dist'!AY21*SUMPRODUCT('UEC Development'!$M$42:$M$46,'Efficiency Dist - MH'!BB74:BB78)\n+'Product Class Dist'!AY22*SUMPRODUCT('UEC Development'!$M$55:$M$58,'Efficiency Dist - MH'!BB97:BB100)\n+'Product Class Dist'!AY23*SUMPRODUCT('UEC Development'!$M$67:$M$71,'Efficiency Dist - MH'!BB120:BB124)\n+'Product Class Dist'!AY24*SUMPRODUCT('UEC Development'!$M$80:$M$84,'Efficiency Dist - MH'!BB144:BB148)","v":361.21950203753835},{"$f":"'Product Class Dist'!AZ19*SUMPRODUCT('UEC Development'!$M$14:$M$19,'Efficiency Dist - MH'!BC23:BC28)\n+'Product Class Dist'!AZ20*SUMPRODUCT('UEC Development'!$M$28:$M$33,'Efficiency Dist - MH'!BC49:BC54)\n+'Product Class Dist'!AZ21*SUMPRODUCT('UEC Development'!$M$42:$M$46,'Efficiency Dist - MH'!BC74:BC78)\n+'Product Class Dist'!AZ22*SUMPRODUCT('UEC Development'!$M$55:$M$58,'Efficiency Dist - MH'!BC97:BC100)\n+'Product Class Dist'!AZ23*SUMPRODUCT('UEC Development'!$M$67:$M$71,'Efficiency Dist - MH'!BC120:BC124)\n+'Product Class Dist'!AZ24*SUMPRODUCT('UEC Development'!$M$80:$M$84,'Efficiency Dist - MH'!BC144:BC148)","v":360.76042593952138},{"$f":"'Product Class Dist'!BA19*SUMPRODUCT('UEC Development'!$M$14:$M$19,'Efficiency Dist - MH'!BD23:BD28)\n+'Product Class Dist'!BA20*SUMPRODUCT('UEC Development'!$M$28:$M$33,'Efficiency Dist - MH'!BD49:BD54)\n+'Product Class Dist'!BA21*SUMPRODUCT('UEC Development'!$M$42:$M$46,'Efficiency Dist - MH'!BD74:BD78)\n+'Product Class Dist'!BA22*SUMPRODUCT('UEC Development'!$M$55:$M$58,'Efficiency Dist - MH'!BD97:BD100)\n+'Product Class Dist'!BA23*SUMPRODUCT('UEC Development'!$M$67:$M$71,'Efficiency Dist - MH'!BD120:BD124)\n+'Product Class Dist'!BA24*SUMPRODUCT('UEC Development'!$M$80:$M$84,'Efficiency Dist - MH'!BD144:BD148)","v":360.28969756345225},{"$f":"'Product Class Dist'!BB19*SUMPRODUCT('UEC Development'!$M$14:$M$19,'Efficiency Dist - MH'!BE23:BE28)\n+'Product Class Dist'!BB20*SUMPRODUCT('UEC Development'!$M$28:$M$33,'Efficiency Dist - MH'!BE49:BE54)\n+'Product Class Dist'!BB21*SUMPRODUCT('UEC Development'!$M$42:$M$46,'Efficiency Dist - MH'!BE74:BE78)\n+'Product Class Dist'!BB22*SUMPRODUCT('UEC Development'!$M$55:$M$58,'Efficiency Dist - MH'!BE97:BE100)\n+'Product Class Dist'!BB23*SUMPRODUCT('UEC Development'!$M$67:$M$71,'Efficiency Dist - MH'!BE120:BE124)\n+'Product Class Dist'!BB24*SUMPRODUCT('UEC Development'!$M$80:$M$84,'Efficiency Dist - MH'!BE144:BE148)","v":359.83382431605412},{"$f":"'Product Class Dist'!BC19*SUMPRODUCT('UEC Development'!$M$14:$M$19,'Efficiency Dist - MH'!BF23:BF28)\n+'Product Class Dist'!BC20*SUMPRODUCT('UEC Development'!$M$28:$M$33,'Efficiency Dist - MH'!BF49:BF54)\n+'Product Class Dist'!BC21*SUMPRODUCT('UEC Development'!$M$42:$M$46,'Efficiency Dist - MH'!BF74:BF78)\n+'Product Class Dist'!BC22*SUMPRODUCT('UEC Development'!$M$55:$M$58,'Efficiency Dist - MH'!BF97:BF100)\n+'Product Class Dist'!BC23*SUMPRODUCT('UEC Development'!$M$67:$M$71,'Efficiency Dist - MH'!BF120:BF124)\n+'Product Class Dist'!BC24*SUMPRODUCT('UEC Development'!$M$80:$M$84,'Efficiency Dist - MH'!BF144:BF148)","v":359.39055040907044},{"$f":"'Product Class Dist'!BD19*SUMPRODUCT('UEC Development'!$M$14:$M$19,'Efficiency Dist - MH'!BG23:BG28)\n+'Product Class Dist'!BD20*SUMPRODUCT('UEC Development'!$M$28:$M$33,'Efficiency Dist - MH'!BG49:BG54)\n+'Product Class Dist'!BD21*SUMPRODUCT('UEC Development'!$M$42:$M$46,'Efficiency Dist - MH'!BG74:BG78)\n+'Product Class Dist'!BD22*SUMPRODUCT('UEC Development'!$M$55:$M$58,'Efficiency Dist - MH'!BG97:BG100)\n+'Product Class Dist'!BD23*SUMPRODUCT('UEC Development'!$M$67:$M$71,'Efficiency Dist - MH'!BG120:BG124)\n+'Product Class Dist'!BD24*SUMPRODUCT('UEC Development'!$M$80:$M$84,'Efficiency Dist - MH'!BG144:BG148)","v":358.98522981345161},{"$f":"'Product Class Dist'!BE19*SUMPRODUCT('UEC Development'!$M$14:$M$19,'Efficiency Dist - MH'!BH23:BH28)\n+'Product Class Dist'!BE20*SUMPRODUCT('UEC Development'!$M$28:$M$33,'Efficiency Dist - MH'!BH49:BH54)\n+'Product Class Dist'!BE21*SUMPRODUCT('UEC Development'!$M$42:$M$46,'Efficiency Dist - MH'!BH74:BH78)\n+'Product Class Dist'!BE22*SUMPRODUCT('UEC Development'!$M$55:$M$58,'Efficiency Dist - MH'!BH97:BH100)\n+'Product Class Dist'!BE23*SUMPRODUCT('UEC Development'!$M$67:$M$71,'Efficiency Dist - MH'!BH120:BH124)\n+'Product Class Dist'!BE24*SUMPRODUCT('UEC Development'!$M$80:$M$84,'Efficiency Dist - MH'!BH144:BH148)","v":358.58702218463588}]
[]
[null,null,"Installed UEC (Vintage Weighted Average) "]
[null,null,null,1981,1982,1983,1984,1985,1986,1987,1988,1989,1990,1991,1992,1993,1994,1995,1996,1997,1998,1999,2000,2001,2002,2003,2004,2005,2006,2007,2008,2009,2010,2011,2012,2013,2014,2015,2016,2017,2018,2019,2020,2021,2022,2023,2024,2025,2026,2027,2028,2029,2030,2031,2032,2033,2034]
[null,null,"PRE-Case UEC",{"$f":"IF(D$15-$D$15+2<=LIFETIME_MH,D11,\nSUMPRODUCT(OFFSET(D11,0,(-1*LIFETIME_MH)+1,1,LIFETIME_MH),OFFSET('Shipments and Stock - MH'!E$14,0,(-1*LIFETIME_MH)+1,1,LIFETIME_MH))/\nSUM(OFFSET('Shipments and Stock - MH'!E$14,0,(-1*LIFETIME_MH)+1,1,LIFETIME_MH)))","v":389.10433686446271},{"$f":"IF(E$15-$D$15+2<=LIFETIME_MH,E11,\nSUMPRODUCT(OFFSET(E11,0,(-1*LIFETIME_MH)+1,1,LIFETIME_MH),OFFSET('Shipments and Stock - MH'!F$14,0,(-1*LIFETIME_MH)+1,1,LIFETIME_MH))/\nSUM(OFFSET('Shipments and Stock - MH'!F$14,0,(-1*LIFETIME_MH)+1,1,LIFETIME_MH)))","v":389.10433686446271},{"$f":"IF(F$15-$D$15+2<=LIFETIME_MH,F11,\nSUMPRODUCT(OFFSET(F11,0,(-1*LIFETIME_MH)+1,1,LIFETIME_MH),OFFSET('Shipments and Stock - MH'!G$14,0,(-1*LIFETIME_MH)+1,1,LIFETIME_MH))/\nSUM(OFFSET('Shipments and Stock - MH'!G$14,0,(-1*LIFETIME_MH)+1,1,LIFETIME_MH)))","v":389.10433686446271},{"$f":"IF(G$15-$D$15+2<=LIFETIME_MH,G11,\nSUMPRODUCT(OFFSET(G11,0,(-1*LIFETIME_MH)+1,1,LIFETIME_MH),OFFSET('Shipments and Stock - MH'!H$14,0,(-1*LIFETIME_MH)+1,1,LIFETIME_MH))/\nSUM(OFFSET('Shipments and Stock - MH'!H$14,0,(-1*LIFETIME_MH)+1,1,LIFETIME_MH)))","v":389.10433686446271},{"$f":"IF(H$15-$D$15+2<=LIFETIME_MH,H11,\nSUMPRODUCT(OFFSET(H11,0,(-1*LIFETIME_MH)+1,1,LIFETIME_MH),OFFSET('Shipments and Stock - MH'!I$14,0,(-1*LIFETIME_MH)+1,1,LIFETIME_MH))/\nSUM(OFFSET('Shipments and Stock - MH'!I$14,0,(-1*LIFETIME_MH)+1,1,LIFETIME_MH)))","v":389.10433686446271},{"$f":"IF(I$15-$D$15+2<=LIFETIME_MH,I11,\nSUMPRODUCT(OFFSET(I11,0,(-1*LIFETIME_MH)+1,1,LIFETIME_MH),OFFSET('Shipments and Stock - MH'!J$14,0,(-1*LIFETIME_MH)+1,1,LIFETIME_MH))/\nSUM(OFFSET('Shipments and Stock - MH'!J$14,0,(-1*LIFETIME_MH)+1,1,LIFETIME_MH)))","v":389.10433686446271},{"$f":"IF(J$15-$D$15+2<=LIFETIME_MH,J11,\nSUMPRODUCT(OFFSET(J11,0,(-1*LIFETIME_MH)+1,1,LIFETIME_MH),OFFSET('Shipments and Stock - MH'!K$14,0,(-1*LIFETIME_MH)+1,1,LIFETIME_MH))/\nSUM(OFFSET('Shipments and Stock - MH'!K$14,0,(-1*LIFETIME_MH)+1,1,LIFETIME_MH)))","v":389.10433686446271},{"$f":"IF(K$15-$D$15+2<=LIFETIME_MH,K11,\nSUMPRODUCT(OFFSET(K11,0,(-1*LIFETIME_MH)+1,1,LIFETIME_MH),OFFSET('Shipments and Stock - MH'!L$14,0,(-1*LIFETIME_MH)+1,1,LIFETIME_MH))/\nSUM(OFFSET('Shipments and Stock - MH'!L$14,0,(-1*LIFETIME_MH)+1,1,LIFETIME_MH)))","v":389.10433686446271},{"$f":"IF(L$15-$D$15+2<=LIFETIME_MH,L11,\nSUMPRODUCT(OFFSET(L11,0,(-1*LIFETIME_MH)+1,1,LIFETIME_MH),OFFSET('Shipments and Stock - MH'!M$14,0,(-1*LIFETIME_MH)+1,1,LIFETIME_MH))/\nSUM(OFFSET('Shipments and Stock - MH'!M$14,0,(-1*LIFETIME_MH)+1,1,LIFETIME_MH)))","v":389.10433686446271},{"$f":"IF(M$15-$D$15+2<=LIFETIME_MH,M11,\nSUMPRODUCT(OFFSET(M11,0,(-1*LIFETIME_MH)+1,1,LIFETIME_MH),OFFSET('Shipments and Stock - MH'!N$14,0,(-1*LIFETIME_MH)+1,1,LIFETIME_MH))/\nSUM(OFFSET('Shipments and Stock - MH'!N$14,0,(-1*LIFETIME_MH)+1,1,LIFETIME_MH)))","v":389.10433686446271},{"$f":"IF(N$15-$D$15+2<=LIFETIME_MH,N11,\nSUMPRODUCT(OFFSET(N11,0,(-1*LIFETIME_MH)+1,1,LIFETIME_MH),OFFSET('Shipments and Stock - MH'!O$14,0,(-1*LIFETIME_MH)+1,1,LIFETIME_MH))/\nSUM(OFFSET('Shipments and Stock - MH'!O$14,0,(-1*LIFETIME_MH)+1,1,LIFETIME_MH)))","v":389.1043368644626},{"$f":"IF(O$15-$D$15+2<=LIFETIME_MH,O11,\nSUMPRODUCT(OFFSET(O11,0,(-1*LIFETIME_MH)+1,1,LIFETIME_MH),OFFSET('Shipments and Stock - MH'!P$14,0,(-1*LIFETIME_MH)+1,1,LIFETIME_MH))/\nSUM(OFFSET('Shipments and Stock - MH'!P$14,0,(-1*LIFETIME_MH)+1,1,LIFETIME_MH)))","v":389.10433686446265},{"$f":"IF(P$15-$D$15+2<=LIFETIME_MH,P11,\nSUMPRODUCT(OFFSET(P11,0,(-1*LIFETIME_MH)+1,1,LIFETIME_MH),OFFSET('Shipments and Stock - MH'!Q$14,0,(-1*LIFETIME_MH)+1,1,LIFETIME_MH))/\nSUM(OFFSET('Shipments and Stock - MH'!Q$14,0,(-1*LIFETIME_MH)+1,1,LIFETIME_MH)))","v":389.10433686446265},{"$f":"IF(Q$15-$D$15+2<=LIFETIME_MH,Q11,\nSUMPRODUCT(OFFSET(Q11,0,(-1*LIFETIME_MH)+1,1,LIFETIME_MH),OFFSET('Shipments and Stock - MH'!R$14,0,(-1*LIFETIME_MH)+1,1,LIFETIME_MH))/\nSUM(OFFSET('Shipments and Stock - MH'!R$14,0,(-1*LIFETIME_MH)+1,1,LIFETIME_MH)))","v":389.10433686446271},{"$f":"IF(R$15-$D$15+2<=LIFETIME_MH,R11,\nSUMPRODUCT(OFFSET(R11,0,(-1*LIFETIME_MH)+1,1,LIFETIME_MH),OFFSET('Shipments and Stock - MH'!S$14,0,(-1*LIFETIME_MH)+1,1,LIFETIME_MH))/\nSUM(OFFSET('Shipments and Stock - MH'!S$14,0,(-1*LIFETIME_MH)+1,1,LIFETIME_MH)))","v":389.10433686446271},{"$f":"IF(S$15-$D$15+2<=LIFETIME_MH,S11,\nSUMPRODUCT(OFFSET(S11,0,(-1*LIFETIME_MH)+1,1,LIFETIME_MH),OFFSET('Shipments and Stock - MH'!T$14,0,(-1*LIFETIME_MH)+1,1,LIFETIME_MH))/\nSUM(OFFSET('Shipments and Stock - MH'!T$14,0,(-1*LIFETIME_MH)+1,1,LIFETIME_MH)))","v":389.10433686446265},{"$f":"IF(T$15-$D$15+2<=LIFETIME_MH,T11,\nSUMPRODUCT(OFFSET(T11,0,(-1*LIFETIME_MH)+1,1,LIFETIME_MH),OFFSET('Shipments and Stock - MH'!U$14,0,(-1*LIFETIME_MH)+1,1,LIFETIME_MH))/\nSUM(OFFSET('Shipments and Stock - MH'!U$14,0,(-1*LIFETIME_MH)+1,1,LIFETIME_MH)))","v":389.10433686446271},{"$f":"IF(U$15-$D$15+2<=LIFETIME_MH,U11,\nSUMPRODUCT(OFFSET(U11,0,(-1*LIFETIME_MH)+1,1,LIFETIME_MH),OFFSET('Shipments and Stock - MH'!V$14,0,(-1*LIFETIME_MH)+1,1,LIFETIME_MH))/\nSUM(OFFSET('Shipments and Stock - MH'!V$14,0,(-1*LIFETIME_MH)+1,1,LIFETIME_MH)))","v":389.10433686446271},{"$f":"IF(V$15-$D$15+2<=LIFETIME_MH,V11,\nSUMPRODUCT(OFFSET(V11,0,(-1*LIFETIME_MH)+1,1,LIFETIME_MH),OFFSET('Shipments and Stock - MH'!W$14,0,(-1*LIFETIME_MH)+1,1,LIFETIME_MH))/\nSUM(OFFSET('Shipments and Stock - MH'!W$14,0,(-1*LIFETIME_MH)+1,1,LIFETIME_MH)))","v":389.10433686446271},{"$f":"IF(W$15-$D$15+2<=LIFETIME_MH,W11,\nSUMPRODUCT(OFFSET(W11,0,(-1*LIFETIME_MH)+1,1,LIFETIME_MH),OFFSET('Shipments and Stock - MH'!X$14,0,(-1*LIFETIME_MH)+1,1,LIFETIME_MH))/\nSUM(OFFSET('Shipments and Stock - MH'!X$14,0,(-1*LIFETIME_MH)+1,1,LIFETIME_MH)))","v":389.10433686446271},{"$f":"IF(X$15-$D$15+2<=LIFETIME_MH,X11,\nSUMPRODUCT(OFFSET(X11,0,(-1*LIFETIME_MH)+1,1,LIFETIME_MH),OFFSET('Shipments and Stock - MH'!Y$14,0,(-1*LIFETIME_MH)+1,1,LIFETIME_MH))/\nSUM(OFFSET('Shipments and Stock - MH'!Y$14,0,(-1*LIFETIME_MH)+1,1,LIFETIME_MH)))","v":389.10433686446271},{"$f":"IF(Y$15-$D$15+2<=LIFETIME_MH,Y11,\nSUMPRODUCT(OFFSET(Y11,0,(-1*LIFETIME_MH)+1,1,LIFETIME_MH),OFFSET('Shipments and Stock - MH'!Z$14,0,(-1*LIFETIME_MH)+1,1,LIFETIME_MH))/\nSUM(OFFSET('Shipments and Stock - MH'!Z$14,0,(-1*LIFETIME_MH)+1,1,LIFETIME_MH)))","v":389.10433686446271},{"$f":"IF(Z$15-$D$15+2<=LIFETIME_MH,Z11,\nSUMPRODUCT(OFFSET(Z11,0,(-1*LIFETIME_MH)+1,1,LIFETIME_MH),OFFSET('Shipments and Stock - MH'!AA$14,0,(-1*LIFETIME_MH)+1,1,LIFETIME_MH))/\nSUM(OFFSET('Shipments and Stock - MH'!AA$14,0,(-1*LIFETIME_MH)+1,1,LIFETIME_MH)))","v":389.1043368644626},{"$f":"IF(AA$15-$D$15+2<=LIFETIME_MH,AA11,\nSUMPRODUCT(OFFSET(AA11,0,(-1*LIFETIME_MH)+1,1,LIFETIME_MH),OFFSET('Shipments and Stock - MH'!AB$14,0,(-1*LIFETIME_MH)+1,1,LIFETIME_MH))/\nSUM(OFFSET('Shipments and Stock - MH'!AB$14,0,(-1*LIFETIME_MH)+1,1,LIFETIME_MH)))","v":389.10433686446277},{"$f":"IF(AB$15-$D$15+2<=LIFETIME_MH,AB11,\nSUMPRODUCT(OFFSET(AB11,0,(-1*LIFETIME_MH)+1,1,LIFETIME_MH),OFFSET('Shipments and Stock - MH'!AC$14,0,(-1*LIFETIME_MH)+1,1,LIFETIME_MH))/\nSUM(OFFSET('Shipments and Stock - MH'!AC$14,0,(-1*LIFETIME_MH)+1,1,LIFETIME_MH)))","v":389.10433686446271},{"$f":"IF(AC$15-$D$15+2<=LIFETIME_MH,AC11,\nSUMPRODUCT(OFFSET(AC11,0,(-1*LIFETIME_MH)+1,1,LIFETIME_MH),OFFSET('Shipments and Stock - MH'!AD$14,0,(-1*LIFETIME_MH)+1,1,LIFETIME_MH))/\nSUM(OFFSET('Shipments and Stock - MH'!AD$14,0,(-1*LIFETIME_MH)+1,1,LIFETIME_MH)))","v":389.10433686446265},{"$f":"IF(AD$15-$D$15+2<=LIFETIME_MH,AD11,\nSUMPRODUCT(OFFSET(AD11,0,(-1*LIFETIME_MH)+1,1,LIFETIME_MH),OFFSET('Shipments and Stock - MH'!AE$14,0,(-1*LIFETIME_MH)+1,1,LIFETIME_MH))/\nSUM(OFFSET('Shipments and Stock - MH'!AE$14,0,(-1*LIFETIME_MH)+1,1,LIFETIME_MH)))","v":389.10433686446277},{"$f":"IF(AE$15-$D$15+2<=LIFETIME_MH,AE11,\nSUMPRODUCT(OFFSET(AE11,0,(-1*LIFETIME_MH)+1,1,LIFETIME_MH),OFFSET('Shipments and Stock - MH'!AF$14,0,(-1*LIFETIME_MH)+1,1,LIFETIME_MH))/\nSUM(OFFSET('Shipments and Stock - MH'!AF$14,0,(-1*LIFETIME_MH)+1,1,LIFETIME_MH)))","v":389.10433686446271},{"$f":"IF(AF$15-$D$15+2<=LIFETIME_MH,AF11,\nSUMPRODUCT(OFFSET(AF11,0,(-1*LIFETIME_MH)+1,1,LIFETIME_MH),OFFSET('Shipments and Stock - MH'!AG$14,0,(-1*LIFETIME_MH)+1,1,LIFETIME_MH))/\nSUM(OFFSET('Shipments and Stock - MH'!AG$14,0,(-1*LIFETIME_MH)+1,1,LIFETIME_MH)))","v":389.10433686446271},{"$f":"IF(AG$15-$D$15+2<=LIFETIME_MH,AG11,\nSUMPRODUCT(OFFSET(AG11,0,(-1*LIFETIME_MH)+1,1,LIFETIME_MH),OFFSET('Shipments and Stock - MH'!AH$14,0,(-1*LIFETIME_MH)+1,1,LIFETIME_MH))/\nSUM(OFFSET('Shipments and Stock - MH'!AH$14,0,(-1*LIFETIME_MH)+1,1,LIFETIME_MH)))","v":389.10433686446271},{"$f":"IF(AH$15-$D$15+2<=LIFETIME_MH,AH11,\nSUMPRODUCT(OFFSET(AH11,0,(-1*LIFETIME_MH)+1,1,LIFETIME_MH),OFFSET('Shipments and Stock - MH'!AI$14,0,(-1*LIFETIME_MH)+1,1,LIFETIME_MH))/\nSUM(OFFSET('Shipments and Stock - MH'!AI$14,0,(-1*LIFETIME_MH)+1,1,LIFETIME_MH)))","v":389.10433686446271},{"$f":"IF(AI$15-$D$15+2<=LIFETIME_MH,AI11,\nSUMPRODUCT(OFFSET(AI11,0,(-1*LIFETIME_MH)+1,1,LIFETIME_MH),OFFSET('Shipments and Stock - MH'!AJ$14,0,(-1*LIFETIME_MH)+1,1,LIFETIME_MH))/\nSUM(OFFSET('Shipments and Stock - MH'!AJ$14,0,(-1*LIFETIME_MH)+1,1,LIFETIME_MH)))","v":389.10433686446271},{"$f":"IF(AJ$15-$D$15+2<=LIFETIME_MH,AJ11,\nSUMPRODUCT(OFFSET(AJ11,0,(-1*LIFETIME_MH)+1,1,LIFETIME_MH),OFFSET('Shipments and Stock - MH'!AK$14,0,(-1*LIFETIME_MH)+1,1,LIFETIME_MH))/\nSUM(OFFSET('Shipments and Stock - MH'!AK$14,0,(-1*LIFETIME_MH)+1,1,LIFETIME_MH)))","v":389.10433686446271},{"$f":"IF(AK$15-$D$15+2<=LIFETIME_MH,AK11,\nSUMPRODUCT(OFFSET(AK11,0,(-1*LIFETIME_MH)+1,1,LIFETIME_MH),OFFSET('Shipments and Stock - MH'!AL$14,0,(-1*LIFETIME_MH)+1,1,LIFETIME_MH))/\nSUM(OFFSET('Shipments and Stock - MH'!AL$14,0,(-1*LIFETIME_MH)+1,1,LIFETIME_MH)))","v":389.10433686446271},{"$f":"IF(AL$15-$D$15+2<=LIFETIME_MH,AL11,\nSUMPRODUCT(OFFSET(AL11,0,(-1*LIFETIME_MH)+1,1,LIFETIME_MH),OFFSET('Shipments and Stock - MH'!AM$14,0,(-1*LIFETIME_MH)+1,1,LIFETIME_MH))/\nSUM(OFFSET('Shipments and Stock - MH'!AM$14,0,(-1*LIFETIME_MH)+1,1,LIFETIME_MH)))","v":388.98342141392857},{"$f":"IF(AM$15-$D$15+2<=LIFETIME_MH,AM11,\nSUMPRODUCT(OFFSET(AM11,0,(-1*LIFETIME_MH)+1,1,LIFETIME_MH),OFFSET('Shipments and Stock - MH'!AN$14,0,(-1*LIFETIME_MH)+1,1,LIFETIME_MH))/\nSUM(OFFSET('Shipments and Stock - MH'!AN$14,0,(-1*LIFETIME_MH)+1,1,LIFETIME_MH)))","v":388.75501744487326},{"$f":"IF(AN$15-$D$15+2<=LIFETIME_MH,AN11,\nSUMPRODUCT(OFFSET(AN11,0,(-1*LIFETIME_MH)+1,1,LIFETIME_MH),OFFSET('Shipments and Stock - MH'!AO$14,0,(-1*LIFETIME_MH)+1,1,LIFETIME_MH))/\nSUM(OFFSET('Shipments and Stock - MH'!AO$14,0,(-1*LIFETIME_MH)+1,1,LIFETIME_MH)))","v":388.42903114433182},{"$f":"IF(AO$15-$D$15+2<=LIFETIME_MH,AO11,\nSUMPRODUCT(OFFSET(AO11,0,(-1*LIFETIME_MH)+1,1,LIFETIME_MH),OFFSET('Shipments and Stock - MH'!AP$14,0,(-1*LIFETIME_MH)+1,1,LIFETIME_MH))/\nSUM(OFFSET('Shipments and Stock - MH'!AP$14,0,(-1*LIFETIME_MH)+1,1,LIFETIME_MH)))","v":388.02747879208209},{"$f":"IF(AP$15-$D$15+2<=LIFETIME_MH,AP11,\nSUMPRODUCT(OFFSET(AP11,0,(-1*LIFETIME_MH)+1,1,LIFETIME_MH),OFFSET('Shipments and Stock - MH'!AQ$14,0,(-1*LIFETIME_MH)+1,1,LIFETIME_MH))/\nSUM(OFFSET('Shipments and Stock - MH'!AQ$14,0,(-1*LIFETIME_MH)+1,1,LIFETIME_MH)))","v":387.5510610179914},{"$f":"IF(AQ$15-$D$15+2<=LIFETIME_MH,AQ11,\nSUMPRODUCT(OFFSET(AQ11,0,(-1*LIFETIME_MH)+1,1,LIFETIME_MH),OFFSET('Shipments and Stock - MH'!AR$14,0,(-1*LIFETIME_MH)+1,1,LIFETIME_MH))/\nSUM(OFFSET('Shipments and Stock - MH'!AR$14,0,(-1*LIFETIME_MH)+1,1,LIFETIME_MH)))","v":386.9898946504037},{"$f":"IF(AR$15-$D$15+2<=LIFETIME_MH,AR11,\nSUMPRODUCT(OFFSET(AR11,0,(-1*LIFETIME_MH)+1,1,LIFETIME_MH),OFFSET('Shipments and Stock - MH'!AS$14,0,(-1*LIFETIME_MH)+1,1,LIFETIME_MH))/\nSUM(OFFSET('Shipments and Stock - MH'!AS$14,0,(-1*LIFETIME_MH)+1,1,LIFETIME_MH)))","v":386.37670098375008},{"$f":"IF(AS$15-$D$15+2<=LIFETIME_MH,AS11,\nSUMPRODUCT(OFFSET(AS11,0,(-1*LIFETIME_MH)+1,1,LIFETIME_MH),OFFSET('Shipments and Stock - MH'!AT$14,0,(-1*LIFETIME_MH)+1,1,LIFETIME_MH))/\nSUM(OFFSET('Shipments and Stock - MH'!AT$14,0,(-1*LIFETIME_MH)+1,1,LIFETIME_MH)))","v":385.75160165218216},{"$f":"IF(AT$15-$D$15+2<=LIFETIME_MH,AT11,\nSUMPRODUCT(OFFSET(AT11,0,(-1*LIFETIME_MH)+1,1,LIFETIME_MH),OFFSET('Shipments and Stock - MH'!AU$14,0,(-1*LIFETIME_MH)+1,1,LIFETIME_MH))/\nSUM(OFFSET('Shipments and Stock - MH'!AU$14,0,(-1*LIFETIME_MH)+1,1,LIFETIME_MH)))","v":384.96587433595982},{"$f":"IF(AU$15-$D$15+2<=LIFETIME_MH,AU11,\nSUMPRODUCT(OFFSET(AU11,0,(-1*LIFETIME_MH)+1,1,LIFETIME_MH),OFFSET('Shipments and Stock - MH'!AV$14,0,(-1*LIFETIME_MH)+1,1,LIFETIME_MH))/\nSUM(OFFSET('Shipments and Stock - MH'!AV$14,0,(-1*LIFETIME_MH)+1,1,LIFETIME_MH)))","v":384.11571108654158},{"$f":"IF(AV$15-$D$15+2<=LIFETIME_MH,AV11,\nSUMPRODUCT(OFFSET(AV11,0,(-1*LIFETIME_MH)+1,1,LIFETIME_MH),OFFSET('Shipments and Stock - MH'!AW$14,0,(-1*LIFETIME_MH)+1,1,LIFETIME_MH))/\nSUM(OFFSET('Shipments and Stock - MH'!AW$14,0,(-1*LIFETIME_MH)+1,1,LIFETIME_MH)))","v":382.97023131082778},{"$f":"IF(AW$15-$D$15+2<=LIFETIME_MH,AW11,\nSUMPRODUCT(OFFSET(AW11,0,(-1*LIFETIME_MH)+1,1,LIFETIME_MH),OFFSET('Shipments and Stock - MH'!AX$14,0,(-1*LIFETIME_MH)+1,1,LIFETIME_MH))/\nSUM(OFFSET('Shipments and Stock - MH'!AX$14,0,(-1*LIFETIME_MH)+1,1,LIFETIME_MH)))","v":381.92545352428954},{"$f":"IF(AX$15-$D$15+2<=LIFETIME_MH,AX11,\nSUMPRODUCT(OFFSET(AX11,0,(-1*LIFETIME_MH)+1,1,LIFETIME_MH),OFFSET('Shipments and Stock - MH'!AY$14,0,(-1*LIFETIME_MH)+1,1,LIFETIME_MH))/\nSUM(OFFSET('Shipments and Stock - MH'!AY$14,0,(-1*LIFETIME_MH)+1,1,LIFETIME_MH)))","v":380.78163619009041},{"$f":"IF(AY$15-$D$15+2<=LIFETIME_MH,AY11,\nSUMPRODUCT(OFFSET(AY11,0,(-1*LIFETIME_MH)+1,1,LIFETIME_MH),OFFSET('Shipments and Stock - MH'!AZ$14,0,(-1*LIFETIME_MH)+1,1,LIFETIME_MH))/\nSUM(OFFSET('Shipments and Stock - MH'!AZ$14,0,(-1*LIFETIME_MH)+1,1,LIFETIME_MH)))","v":379.6969012200708},{"$f":"IF(AZ$15-$D$15+2<=LIFETIME_MH,AZ11,\nSUMPRODUCT(OFFSET(AZ11,0,(-1*LIFETIME_MH)+1,1,LIFETIME_MH),OFFSET('Shipments and Stock - MH'!BA$14,0,(-1*LIFETIME_MH)+1,1,LIFETIME_MH))/\nSUM(OFFSET('Shipments and Stock - MH'!BA$14,0,(-1*LIFETIME_MH)+1,1,LIFETIME_MH)))","v":378.6922601969942},{"$f":"IF(BA$15-$D$15+2<=LIFETIME_MH,BA11,\nSUMPRODUCT(OFFSET(BA11,0,(-1*LIFETIME_MH)+1,1,LIFETIME_MH),OFFSET('Shipments and Stock - MH'!BB$14,0,(-1*LIFETIME_MH)+1,1,LIFETIME_MH))/\nSUM(OFFSET('Shipments and Stock - MH'!BB$14,0,(-1*LIFETIME_MH)+1,1,LIFETIME_MH)))","v":377.73737806462333},{"$f":"IF(BB$15-$D$15+2<=LIFETIME_MH,BB11,\nSUMPRODUCT(OFFSET(BB11,0,(-1*LIFETIME_MH)+1,1,LIFETIME_MH),OFFSET('Shipments and Stock - MH'!BC$14,0,(-1*LIFETIME_MH)+1,1,LIFETIME_MH))/\nSUM(OFFSET('Shipments and Stock - MH'!BC$14,0,(-1*LIFETIME_MH)+1,1,LIFETIME_MH)))","v":376.79949233020284},{"$f":"IF(BC$15-$D$15+2<=LIFETIME_MH,BC11,\nSUMPRODUCT(OFFSET(BC11,0,(-1*LIFETIME_MH)+1,1,LIFETIME_MH),OFFSET('Shipments and Stock - MH'!BD$14,0,(-1*LIFETIME_MH)+1,1,LIFETIME_MH))/\nSUM(OFFSET('Shipments and Stock - MH'!BD$14,0,(-1*LIFETIME_MH)+1,1,LIFETIME_MH)))","v":375.9164535127241},{"$f":"IF(BD$15-$D$15+2<=LIFETIME_MH,BD11,\nSUMPRODUCT(OFFSET(BD11,0,(-1*LIFETIME_MH)+1,1,LIFETIME_MH),OFFSET('Shipments and Stock - MH'!BE$14,0,(-1*LIFETIME_MH)+1,1,LIFETIME_MH))/\nSUM(OFFSET('Shipments and Stock - MH'!BE$14,0,(-1*LIFETIME_MH)+1,1,LIFETIME_MH)))","v":375.11403056326793},{"$f":"IF(BE$15-$D$15+2<=LIFETIME_MH,BE11,\nSUMPRODUCT(OFFSET(BE11,0,(-1*LIFETIME_MH)+1,1,LIFETIME_MH),OFFSET('Shipments and Stock - MH'!BF$14,0,(-1*LIFETIME_MH)+1,1,LIFETIME_MH))/\nSUM(OFFSET('Shipments and Stock - MH'!BF$14,0,(-1*LIFETIME_MH)+1,1,LIFETIME_MH)))","v":374.21802040897916}]
[null,null,"POST-Case UEC",{"$f":"IF(D$15-$D$15+2<=LIFETIME_MH,D12,\nSUMPRODUCT(OFFSET(D12,0,(-1*LIFETIME_MH)+1,1,LIFETIME_MH),OFFSET('Shipments and Stock - MH'!E$14,0,(-1*LIFETIME_MH)+1,1,LIFETIME_MH))/\nSUM(OFFSET('Shipments and Stock - MH'!E$14,0,(-1*LIFETIME_MH)+1,1,LIFETIME_MH)))","v":389.10433686446271},{"$f":"IF(E$15-$D$15+2<=LIFETIME_MH,E12,\nSUMPRODUCT(OFFSET(E12,0,(-1*LIFETIME_MH)+1,1,LIFETIME_MH),OFFSET('Shipments and Stock - MH'!F$14,0,(-1*LIFETIME_MH)+1,1,LIFETIME_MH))/\nSUM(OFFSET('Shipments and Stock - MH'!F$14,0,(-1*LIFETIME_MH)+1,1,LIFETIME_MH)))","v":389.10433686446271},{"$f":"IF(F$15-$D$15+2<=LIFETIME_MH,F12,\nSUMPRODUCT(OFFSET(F12,0,(-1*LIFETIME_MH)+1,1,LIFETIME_MH),OFFSET('Shipments and Stock - MH'!G$14,0,(-1*LIFETIME_MH)+1,1,LIFETIME_MH))/\nSUM(OFFSET('Shipments and Stock - MH'!G$14,0,(-1*LIFETIME_MH)+1,1,LIFETIME_MH)))","v":389.10433686446271},{"$f":"IF(G$15-$D$15+2<=LIFETIME_MH,G12,\nSUMPRODUCT(OFFSET(G12,0,(-1*LIFETIME_MH)+1,1,LIFETIME_MH),OFFSET('Shipments and Stock - MH'!H$14,0,(-1*LIFETIME_MH)+1,1,LIFETIME_MH))/\nSUM(OFFSET('Shipments and Stock - MH'!H$14,0,(-1*LIFETIME_MH)+1,1,LIFETIME_MH)))","v":389.10433686446271},{"$f":"IF(H$15-$D$15+2<=LIFETIME_MH,H12,\nSUMPRODUCT(OFFSET(H12,0,(-1*LIFETIME_MH)+1,1,LIFETIME_MH),OFFSET('Shipments and Stock - MH'!I$14,0,(-1*LIFETIME_MH)+1,1,LIFETIME_MH))/\nSUM(OFFSET('Shipments and Stock - MH'!I$14,0,(-1*LIFETIME_MH)+1,1,LIFETIME_MH)))","v":389.10433686446271},{"$f":"IF(I$15-$D$15+2<=LIFETIME_MH,I12,\nSUMPRODUCT(OFFSET(I12,0,(-1*LIFETIME_MH)+1,1,LIFETIME_MH),OFFSET('Shipments and Stock - MH'!J$14,0,(-1*LIFETIME_MH)+1,1,LIFETIME_MH))/\nSUM(OFFSET('Shipments and Stock - MH'!J$14,0,(-1*LIFETIME_MH)+1,1,LIFETIME_MH)))","v":389.10433686446271},{"$f":"IF(J$15-$D$15+2<=LIFETIME_MH,J12,\nSUMPRODUCT(OFFSET(J12,0,(-1*LIFETIME_MH)+1,1,LIFETIME_MH),OFFSET('Shipments and Stock - MH'!K$14,0,(-1*LIFETIME_MH)+1,1,LIFETIME_MH))/\nSUM(OFFSET('Shipments and Stock - MH'!K$14,0,(-1*LIFETIME_MH)+1,1,LIFETIME_MH)))","v":389.10433686446271},{"$f":"IF(K$15-$D$15+2<=LIFETIME_MH,K12,\nSUMPRODUCT(OFFSET(K12,0,(-1*LIFETIME_MH)+1,1,LIFETIME_MH),OFFSET('Shipments and Stock - MH'!L$14,0,(-1*LIFETIME_MH)+1,1,LIFETIME_MH))/\nSUM(OFFSET('Shipments and Stock - MH'!L$14,0,(-1*LIFETIME_MH)+1,1,LIFETIME_MH)))","v":389.10433686446271},{"$f":"IF(L$15-$D$15+2<=LIFETIME_MH,L12,\nSUMPRODUCT(OFFSET(L12,0,(-1*LIFETIME_MH)+1,1,LIFETIME_MH),OFFSET('Shipments and Stock - MH'!M$14,0,(-1*LIFETIME_MH)+1,1,LIFETIME_MH))/\nSUM(OFFSET('Shipments and Stock - MH'!M$14,0,(-1*LIFETIME_MH)+1,1,LIFETIME_MH)))","v":389.10433686446271},{"$f":"IF(M$15-$D$15+2<=LIFETIME_MH,M12,\nSUMPRODUCT(OFFSET(M12,0,(-1*LIFETIME_MH)+1,1,LIFETIME_MH),OFFSET('Shipments and Stock - MH'!N$14,0,(-1*LIFETIME_MH)+1,1,LIFETIME_MH))/\nSUM(OFFSET('Shipments and Stock - MH'!N$14,0,(-1*LIFETIME_MH)+1,1,LIFETIME_MH)))","v":389.10433686446271},{"$f":"IF(N$15-$D$15+2<=LIFETIME_MH,N12,\nSUMPRODUCT(OFFSET(N12,0,(-1*LIFETIME_MH)+1,1,LIFETIME_MH),OFFSET('Shipments and Stock - MH'!O$14,0,(-1*LIFETIME_MH)+1,1,LIFETIME_MH))/\nSUM(OFFSET('Shipments and Stock - MH'!O$14,0,(-1*LIFETIME_MH)+1,1,LIFETIME_MH)))","v":389.1043368644626},{"$f":"IF(O$15-$D$15+2<=LIFETIME_MH,O12,\nSUMPRODUCT(OFFSET(O12,0,(-1*LIFETIME_MH)+1,1,LIFETIME_MH),OFFSET('Shipments and Stock - MH'!P$14,0,(-1*LIFETIME_MH)+1,1,LIFETIME_MH))/\nSUM(OFFSET('Shipments and Stock - MH'!P$14,0,(-1*LIFETIME_MH)+1,1,LIFETIME_MH)))","v":389.10433686446265},{"$f":"IF(P$15-$D$15+2<=LIFETIME_MH,P12,\nSUMPRODUCT(OFFSET(P12,0,(-1*LIFETIME_MH)+1,1,LIFETIME_MH),OFFSET('Shipments and Stock - MH'!Q$14,0,(-1*LIFETIME_MH)+1,1,LIFETIME_MH))/\nSUM(OFFSET('Shipments and Stock - MH'!Q$14,0,(-1*LIFETIME_MH)+1,1,LIFETIME_MH)))","v":389.10433686446265},{"$f":"IF(Q$15-$D$15+2<=LIFETIME_MH,Q12,\nSUMPRODUCT(OFFSET(Q12,0,(-1*LIFETIME_MH)+1,1,LIFETIME_MH),OFFSET('Shipments and Stock - MH'!R$14,0,(-1*LIFETIME_MH)+1,1,LIFETIME_MH))/\nSUM(OFFSET('Shipments and Stock - MH'!R$14,0,(-1*LIFETIME_MH)+1,1,LIFETIME_MH)))","v":389.10433686446271},{"$f":"IF(R$15-$D$15+2<=LIFETIME_MH,R12,\nSUMPRODUCT(OFFSET(R12,0,(-1*LIFETIME_MH)+1,1,LIFETIME_MH),OFFSET('Shipments and Stock - MH'!S$14,0,(-1*LIFETIME_MH)+1,1,LIFETIME_MH))/\nSUM(OFFSET('Shipments and Stock - MH'!S$14,0,(-1*LIFETIME_MH)+1,1,LIFETIME_MH)))","v":389.10433686446271},{"$f":"IF(S$15-$D$15+2<=LIFETIME_MH,S12,\nSUMPRODUCT(OFFSET(S12,0,(-1*LIFETIME_MH)+1,1,LIFETIME_MH),OFFSET('Shipments and Stock - MH'!T$14,0,(-1*LIFETIME_MH)+1,1,LIFETIME_MH))/\nSUM(OFFSET('Shipments and Stock - MH'!T$14,0,(-1*LIFETIME_MH)+1,1,LIFETIME_MH)))","v":389.10433686446265},{"$f":"IF(T$15-$D$15+2<=LIFETIME_MH,T12,\nSUMPRODUCT(OFFSET(T12,0,(-1*LIFETIME_MH)+1,1,LIFETIME_MH),OFFSET('Shipments and Stock - MH'!U$14,0,(-1*LIFETIME_MH)+1,1,LIFETIME_MH))/\nSUM(OFFSET('Shipments and Stock - MH'!U$14,0,(-1*LIFETIME_MH)+1,1,LIFETIME_MH)))","v":389.10433686446271},{"$f":"IF(U$15-$D$15+2<=LIFETIME_MH,U12,\nSUMPRODUCT(OFFSET(U12,0,(-1*LIFETIME_MH)+1,1,LIFETIME_MH),OFFSET('Shipments and Stock - MH'!V$14,0,(-1*LIFETIME_MH)+1,1,LIFETIME_MH))/\nSUM(OFFSET('Shipments and Stock - MH'!V$14,0,(-1*LIFETIME_MH)+1,1,LIFETIME_MH)))","v":389.10433686446271},{"$f":"IF(V$15-$D$15+2<=LIFETIME_MH,V12,\nSUMPRODUCT(OFFSET(V12,0,(-1*LIFETIME_MH)+1,1,LIFETIME_MH),OFFSET('Shipments and Stock - MH'!W$14,0,(-1*LIFETIME_MH)+1,1,LIFETIME_MH))/\nSUM(OFFSET('Shipments and Stock - MH'!W$14,0,(-1*LIFETIME_MH)+1,1,LIFETIME_MH)))","v":389.10433686446271},{"$f":"IF(W$15-$D$15+2<=LIFETIME_MH,W12,\nSUMPRODUCT(OFFSET(W12,0,(-1*LIFETIME_MH)+1,1,LIFETIME_MH),OFFSET('Shipments and Stock - MH'!X$14,0,(-1*LIFETIME_MH)+1,1,LIFETIME_MH))/\nSUM(OFFSET('Shipments and Stock - MH'!X$14,0,(-1*LIFETIME_MH)+1,1,LIFETIME_MH)))","v":389.10433686446271},{"$f":"IF(X$15-$D$15+2<=LIFETIME_MH,X12,\nSUMPRODUCT(OFFSET(X12,0,(-1*LIFETIME_MH)+1,1,LIFETIME_MH),OFFSET('Shipments and Stock - MH'!Y$14,0,(-1*LIFETIME_MH)+1,1,LIFETIME_MH))/\nSUM(OFFSET('Shipments and Stock - MH'!Y$14,0,(-1*LIFETIME_MH)+1,1,LIFETIME_MH)))","v":389.10433686446271},{"$f":"IF(Y$15-$D$15+2<=LIFETIME_MH,Y12,\nSUMPRODUCT(OFFSET(Y12,0,(-1*LIFETIME_MH)+1,1,LIFETIME_MH),OFFSET('Shipments and Stock - MH'!Z$14,0,(-1*LIFETIME_MH)+1,1,LIFETIME_MH))/\nSUM(OFFSET('Shipments and Stock - MH'!Z$14,0,(-1*LIFETIME_MH)+1,1,LIFETIME_MH)))","v":389.10433686446271},{"$f":"IF(Z$15-$D$15+2<=LIFETIME_MH,Z12,\nSUMPRODUCT(OFFSET(Z12,0,(-1*LIFETIME_MH)+1,1,LIFETIME_MH),OFFSET('Shipments and Stock - MH'!AA$14,0,(-1*LIFETIME_MH)+1,1,LIFETIME_MH))/\nSUM(OFFSET('Shipments and Stock - MH'!AA$14,0,(-1*LIFETIME_MH)+1,1,LIFETIME_MH)))","v":389.1043368644626},{"$f":"IF(AA$15-$D$15+2<=LIFETIME_MH,AA12,\nSUMPRODUCT(OFFSET(AA12,0,(-1*LIFETIME_MH)+1,1,LIFETIME_MH),OFFSET('Shipments and Stock - MH'!AB$14,0,(-1*LIFETIME_MH)+1,1,LIFETIME_MH))/\nSUM(OFFSET('Shipments and Stock - MH'!AB$14,0,(-1*LIFETIME_MH)+1,1,LIFETIME_MH)))","v":389.10433686446277},{"$f":"IF(AB$15-$D$15+2<=LIFETIME_MH,AB12,\nSUMPRODUCT(OFFSET(AB12,0,(-1*LIFETIME_MH)+1,1,LIFETIME_MH),OFFSET('Shipments and Stock - MH'!AC$14,0,(-1*LIFETIME_MH)+1,1,LIFETIME_MH))/\nSUM(OFFSET('Shipments and Stock - MH'!AC$14,0,(-1*LIFETIME_MH)+1,1,LIFETIME_MH)))","v":389.10433686446271},{"$f":"IF(AC$15-$D$15+2<=LIFETIME_MH,AC12,\nSUMPRODUCT(OFFSET(AC12,0,(-1*LIFETIME_MH)+1,1,LIFETIME_MH),OFFSET('Shipments and Stock - MH'!AD$14,0,(-1*LIFETIME_MH)+1,1,LIFETIME_MH))/\nSUM(OFFSET('Shipments and Stock - MH'!AD$14,0,(-1*LIFETIME_MH)+1,1,LIFETIME_MH)))","v":389.10433686446265},{"$f":"IF(AD$15-$D$15+2<=LIFETIME_MH,AD12,\nSUMPRODUCT(OFFSET(AD12,0,(-1*LIFETIME_MH)+1,1,LIFETIME_MH),OFFSET('Shipments and Stock - MH'!AE$14,0,(-1*LIFETIME_MH)+1,1,LIFETIME_MH))/\nSUM(OFFSET('Shipments and Stock - MH'!AE$14,0,(-1*LIFETIME_MH)+1,1,LIFETIME_MH)))","v":389.10433686446277},{"$f":"IF(AE$15-$D$15+2<=LIFETIME_MH,AE12,\nSUMPRODUCT(OFFSET(AE12,0,(-1*LIFETIME_MH)+1,1,LIFETIME_MH),OFFSET('Shipments and Stock - MH'!AF$14,0,(-1*LIFETIME_MH)+1,1,LIFETIME_MH))/\nSUM(OFFSET('Shipments and Stock - MH'!AF$14,0,(-1*LIFETIME_MH)+1,1,LIFETIME_MH)))","v":389.10433686446271},{"$f":"IF(AF$15-$D$15+2<=LIFETIME_MH,AF12,\nSUMPRODUCT(OFFSET(AF12,0,(-1*LIFETIME_MH)+1,1,LIFETIME_MH),OFFSET('Shipments and Stock - MH'!AG$14,0,(-1*LIFETIME_MH)+1,1,LIFETIME_MH))/\nSUM(OFFSET('Shipments and Stock - MH'!AG$14,0,(-1*LIFETIME_MH)+1,1,LIFETIME_MH)))","v":389.10433686446271},{"$f":"IF(AG$15-$D$15+2<=LIFETIME_MH,AG12,\nSUMPRODUCT(OFFSET(AG12,0,(-1*LIFETIME_MH)+1,1,LIFETIME_MH),OFFSET('Shipments and Stock - MH'!AH$14,0,(-1*LIFETIME_MH)+1,1,LIFETIME_MH))/\nSUM(OFFSET('Shipments and Stock - MH'!AH$14,0,(-1*LIFETIME_MH)+1,1,LIFETIME_MH)))","v":389.10433686446271},{"$f":"IF(AH$15-$D$15+2<=LIFETIME_MH,AH12,\nSUMPRODUCT(OFFSET(AH12,0,(-1*LIFETIME_MH)+1,1,LIFETIME_MH),OFFSET('Shipments and Stock - MH'!AI$14,0,(-1*LIFETIME_MH)+1,1,LIFETIME_MH))/\nSUM(OFFSET('Shipments and Stock - MH'!AI$14,0,(-1*LIFETIME_MH)+1,1,LIFETIME_MH)))","v":389.10433686446271},{"$f":"IF(AI$15-$D$15+2<=LIFETIME_MH,AI12,\nSUMPRODUCT(OFFSET(AI12,0,(-1*LIFETIME_MH)+1,1,LIFETIME_MH),OFFSET('Shipments and Stock - MH'!AJ$14,0,(-1*LIFETIME_MH)+1,1,LIFETIME_MH))/\nSUM(OFFSET('Shipments and Stock - MH'!AJ$14,0,(-1*LIFETIME_MH)+1,1,LIFETIME_MH)))","v":389.10433686446271},{"$f":"IF(AJ$15-$D$15+2<=LIFETIME_MH,AJ12,\nSUMPRODUCT(OFFSET(AJ12,0,(-1*LIFETIME_MH)+1,1,LIFETIME_MH),OFFSET('Shipments and Stock - MH'!AK$14,0,(-1*LIFETIME_MH)+1,1,LIFETIME_MH))/\nSUM(OFFSET('Shipments and Stock - MH'!AK$14,0,(-1*LIFETIME_MH)+1,1,LIFETIME_MH)))","v":389.10433686446271},{"$f":"IF(AK$15-$D$15+2<=LIFETIME_MH,AK12,\nSUMPRODUCT(OFFSET(AK12,0,(-1*LIFETIME_MH)+1,1,LIFETIME_MH),OFFSET('Shipments and Stock - MH'!AL$14,0,(-1*LIFETIME_MH)+1,1,LIFETIME_MH))/\nSUM(OFFSET('Shipments and Stock - MH'!AL$14,0,(-1*LIFETIME_MH)+1,1,LIFETIME_MH)))","v":386.59833704910596},{"$f":"IF(AL$15-$D$15+2<=LIFETIME_MH,AL12,\nSUMPRODUCT(OFFSET(AL12,0,(-1*LIFETIME_MH)+1,1,LIFETIME_MH),OFFSET('Shipments and Stock - MH'!AM$14,0,(-1*LIFETIME_MH)+1,1,LIFETIME_MH))/\nSUM(OFFSET('Shipments and Stock - MH'!AM$14,0,(-1*LIFETIME_MH)+1,1,LIFETIME_MH)))","v":384.24498998823805},{"$f":"IF(AM$15-$D$15+2<=LIFETIME_MH,AM12,\nSUMPRODUCT(OFFSET(AM12,0,(-1*LIFETIME_MH)+1,1,LIFETIME_MH),OFFSET('Shipments and Stock - MH'!AN$14,0,(-1*LIFETIME_MH)+1,1,LIFETIME_MH))/\nSUM(OFFSET('Shipments and Stock - MH'!AN$14,0,(-1*LIFETIME_MH)+1,1,LIFETIME_MH)))","v":381.66897464303815},{"$f":"IF(AN$15-$D$15+2<=LIFETIME_MH,AN12,\nSUMPRODUCT(OFFSET(AN12,0,(-1*LIFETIME_MH)+1,1,LIFETIME_MH),OFFSET('Shipments and Stock - MH'!AO$14,0,(-1*LIFETIME_MH)+1,1,LIFETIME_MH))/\nSUM(OFFSET('Shipments and Stock - MH'!AO$14,0,(-1*LIFETIME_MH)+1,1,LIFETIME_MH)))","v":379.21063724700838},{"$f":"IF(AO$15-$D$15+2<=LIFETIME_MH,AO12,\nSUMPRODUCT(OFFSET(AO12,0,(-1*LIFETIME_MH)+1,1,LIFETIME_MH),OFFSET('Shipments and Stock - MH'!AP$14,0,(-1*LIFETIME_MH)+1,1,LIFETIME_MH))/\nSUM(OFFSET('Shipments and Stock - MH'!AP$14,0,(-1*LIFETIME_MH)+1,1,LIFETIME_MH)))","v":376.92522673205656},{"$f":"IF(AP$15-$D$15+2<=LIFETIME_MH,AP12,\nSUMPRODUCT(OFFSET(AP12,0,(-1*LIFETIME_MH)+1,1,LIFETIME_MH),OFFSET('Shipments and Stock - MH'!AQ$14,0,(-1*LIFETIME_MH)+1,1,LIFETIME_MH))/\nSUM(OFFSET('Shipments and Stock - MH'!AQ$14,0,(-1*LIFETIME_MH)+1,1,LIFETIME_MH)))","v":374.74338104881485},{"$f":"IF(AQ$15-$D$15+2<=LIFETIME_MH,AQ12,\nSUMPRODUCT(OFFSET(AQ12,0,(-1*LIFETIME_MH)+1,1,LIFETIME_MH),OFFSET('Shipments and Stock - MH'!AR$14,0,(-1*LIFETIME_MH)+1,1,LIFETIME_MH))/\nSUM(OFFSET('Shipments and Stock - MH'!AR$14,0,(-1*LIFETIME_MH)+1,1,LIFETIME_MH)))","v":372.5862446439836},{"$f":"IF(AR$15-$D$15+2<=LIFETIME_MH,AR12,\nSUMPRODUCT(OFFSET(AR12,0,(-1*LIFETIME_MH)+1,1,LIFETIME_MH),OFFSET('Shipments and Stock - MH'!AS$14,0,(-1*LIFETIME_MH)+1,1,LIFETIME_MH))/\nSUM(OFFSET('Shipments and Stock - MH'!AS$14,0,(-1*LIFETIME_MH)+1,1,LIFETIME_MH)))","v":370.55519316276792},{"$f":"IF(AS$15-$D$15+2<=LIFETIME_MH,AS12,\nSUMPRODUCT(OFFSET(AS12,0,(-1*LIFETIME_MH)+1,1,LIFETIME_MH),OFFSET('Shipments and Stock - MH'!AT$14,0,(-1*LIFETIME_MH)+1,1,LIFETIME_MH))/\nSUM(OFFSET('Shipments and Stock - MH'!AT$14,0,(-1*LIFETIME_MH)+1,1,LIFETIME_MH)))","v":368.72771520218498},{"$f":"IF(AT$15-$D$15+2<=LIFETIME_MH,AT12,\nSUMPRODUCT(OFFSET(AT12,0,(-1*LIFETIME_MH)+1,1,LIFETIME_MH),OFFSET('Shipments and Stock - MH'!AU$14,0,(-1*LIFETIME_MH)+1,1,LIFETIME_MH))/\nSUM(OFFSET('Shipments and Stock - MH'!AU$14,0,(-1*LIFETIME_MH)+1,1,LIFETIME_MH)))","v":366.6383427088445},{"$f":"IF(AU$15-$D$15+2<=LIFETIME_MH,AU12,\nSUMPRODUCT(OFFSET(AU12,0,(-1*LIFETIME_MH)+1,1,LIFETIME_MH),OFFSET('Shipments and Stock - MH'!AV$14,0,(-1*LIFETIME_MH)+1,1,LIFETIME_MH))/\nSUM(OFFSET('Shipments and Stock - MH'!AV$14,0,(-1*LIFETIME_MH)+1,1,LIFETIME_MH)))","v":364.5723087509939},{"$f":"IF(AV$15-$D$15+2<=LIFETIME_MH,AV12,\nSUMPRODUCT(OFFSET(AV12,0,(-1*LIFETIME_MH)+1,1,LIFETIME_MH),OFFSET('Shipments and Stock - MH'!AW$14,0,(-1*LIFETIME_MH)+1,1,LIFETIME_MH))/\nSUM(OFFSET('Shipments and Stock - MH'!AW$14,0,(-1*LIFETIME_MH)+1,1,LIFETIME_MH)))","v":364.20982634249015},{"$f":"IF(AW$15-$D$15+2<=LIFETIME_MH,AW12,\nSUMPRODUCT(OFFSET(AW12,0,(-1*LIFETIME_MH)+1,1,LIFETIME_MH),OFFSET('Shipments and Stock - MH'!AX$14,0,(-1*LIFETIME_MH)+1,1,LIFETIME_MH))/\nSUM(OFFSET('Shipments and Stock - MH'!AX$14,0,(-1*LIFETIME_MH)+1,1,LIFETIME_MH)))","v":363.88099478100531},{"$f":"IF(AX$15-$D$15+2<=LIFETIME_MH,AX12,\nSUMPRODUCT(OFFSET(AX12,0,(-1*LIFETIME_MH)+1,1,LIFETIME_MH),OFFSET('Shipments and Stock - MH'!AY$14,0,(-1*LIFETIME_MH)+1,1,LIFETIME_MH))/\nSUM(OFFSET('Shipments and Stock - MH'!AY$14,0,(-1*LIFETIME_MH)+1,1,LIFETIME_MH)))","v":363.49992402520667},{"$f":"IF(AY$15-$D$15+2<=LIFETIME_MH,AY12,\nSUMPRODUCT(OFFSET(AY12,0,(-1*LIFETIME_MH)+1,1,LIFETIME_MH),OFFSET('Shipments and Stock - MH'!AZ$14,0,(-1*LIFETIME_MH)+1,1,LIFETIME_MH))/\nSUM(OFFSET('Shipments and Stock - MH'!AZ$14,0,(-1*LIFETIME_MH)+1,1,LIFETIME_MH)))","v":363.1133278326547},{"$f":"IF(AZ$15-$D$15+2<=LIFETIME_MH,AZ12,\nSUMPRODUCT(OFFSET(AZ12,0,(-1*LIFETIME_MH)+1,1,LIFETIME_MH),OFFSET('Shipments and Stock - MH'!BA$14,0,(-1*LIFETIME_MH)+1,1,LIFETIME_MH))/\nSUM(OFFSET('Shipments and Stock - MH'!BA$14,0,(-1*LIFETIME_MH)+1,1,LIFETIME_MH)))","v":362.73337299493431},{"$f":"IF(BA$15-$D$15+2<=LIFETIME_MH,BA12,\nSUMPRODUCT(OFFSET(BA12,0,(-1*LIFETIME_MH)+1,1,LIFETIME_MH),OFFSET('Shipments and Stock - MH'!BB$14,0,(-1*LIFETIME_MH)+1,1,LIFETIME_MH))/\nSUM(OFFSET('Shipments and Stock - MH'!BB$14,0,(-1*LIFETIME_MH)+1,1,LIFETIME_MH)))","v":362.34781578130094},{"$f":"IF(BB$15-$D$15+2<=LIFETIME_MH,BB12,\nSUMPRODUCT(OFFSET(BB12,0,(-1*LIFETIME_MH)+1,1,LIFETIME_MH),OFFSET('Shipments and Stock - MH'!BC$14,0,(-1*LIFETIME_MH)+1,1,LIFETIME_MH))/\nSUM(OFFSET('Shipments and Stock - MH'!BC$14,0,(-1*LIFETIME_MH)+1,1,LIFETIME_MH)))","v":361.94901275834815},{"$f":"IF(BC$15-$D$15+2<=LIFETIME_MH,BC12,\nSUMPRODUCT(OFFSET(BC12,0,(-1*LIFETIME_MH)+1,1,LIFETIME_MH),OFFSET('Shipments and Stock - MH'!BD$14,0,(-1*LIFETIME_MH)+1,1,LIFETIME_MH))/\nSUM(OFFSET('Shipments and Stock - MH'!BD$14,0,(-1*LIFETIME_MH)+1,1,LIFETIME_MH)))","v":361.55794829914834},{"$f":"IF(BD$15-$D$15+2<=LIFETIME_MH,BD12,\nSUMPRODUCT(OFFSET(BD12,0,(-1*LIFETIME_MH)+1,1,LIFETIME_MH),OFFSET('Shipments and Stock - MH'!BE$14,0,(-1*LIFETIME_MH)+1,1,LIFETIME_MH))/\nSUM(OFFSET('Shipments and Stock - MH'!BE$14,0,(-1*LIFETIME_MH)+1,1,LIFETIME_MH)))","v":361.19736671754816},{"$f":"IF(BE$15-$D$15+2<=LIFETIME_MH,BE12,\nSUMPRODUCT(OFFSET(BE12,0,(-1*LIFETIME_MH)+1,1,LIFETIME_MH),OFFSET('Shipments and Stock - MH'!BF$14,0,(-1*LIFETIME_MH)+1,1,LIFETIME_MH))/\nSUM(OFFSET('Shipments and Stock - MH'!BF$14,0,(-1*LIFETIME_MH)+1,1,LIFETIME_MH)))","v":360.79272738909555}]

{"sheet":"Results-SF","index":21,"n_rows":46,"n_cols":28,"rows_kept":46,"cut":false,"hidden":false,"merged":[]}
[]
[null,null,"RESULTS - Single Family"]
[]
[null,null,"NAVIGATION"]
[]
[null,null,"COMMENTS"]
[]
[]
[null,null,"SINGLE FAMILY"]
[]
[null,null,"Unit Energy Consumption (kWh/year) ",2010,2011,2012,2013,2014,2015,2016,2017,2018,2019,2020,2021,2022,2023,2024,2025,2026,2027,2028,2029,2030,2031,2032,2033,2034]
[null,null,"6P UEC",{"$f":"'6P UEC Development'!$F$10","v":375.24154807081618},{"$f":"'6P UEC Development'!$F$10","v":375.24154807081618},{"$f":"'6P UEC Development'!$F$10","v":375.24154807081618},{"$f":"'6P UEC Development'!$F$10","v":375.24154807081618},{"$f":"'6P UEC Development'!$F$10","v":375.24154807081618},{"$f":"'6P UEC Development'!$F$10","v":375.24154807081618},{"$f":"'6P UEC Development'!$F$10","v":375.24154807081618},{"$f":"'6P UEC Development'!$F$10","v":375.24154807081618},{"$f":"'6P UEC Development'!$F$10","v":375.24154807081618},{"$f":"'6P UEC Development'!$F$10","v":375.24154807081618},{"$f":"'6P UEC Development'!$F$10","v":375.24154807081618},{"$f":"'6P UEC Development'!$F$10","v":375.24154807081618},{"$f":"'6P UEC Development'!$F$10","v":375.24154807081618},{"$f":"'6P UEC Development'!$F$10","v":375.24154807081618},{"$f":"'6P UEC Development'!$F$10","v":375.24154807081618},{"$f":"'6P UEC Development'!$F$10","v":375.24154807081618},{"$f":"'6P UEC Development'!$F$10","v":375.24154807081618},{"$f":"'6P UEC Development'!$F$10","v":375.24154807081618},{"$f":"'6P UEC Development'!$F$10","v":375.24154807081618},{"$f":"'6P UEC Development'!$F$10","v":375.24154807081618},{"$f":"'6P UEC Development'!$F$10","v":375.24154807081618},{"$f":"'6P UEC Development'!$F$10","v":375.24154807081618},{"$f":"'6P UEC Development'!$F$10","v":375.24154807081618},{"$f":"'6P UEC Development'!$F$10","v":375.24154807081618},{"$f":"'6P UEC Development'!$F$10","v":375.24154807081618}]
[null,null,{"$f":"'UEC-SF'!$C$9&\" - \"&'UEC-SF'!C11","v":"Market UEC (Shipment Weighted Average) - PRE-Case UEC"},{"$f":"'UEC-SF'!AG11","v":389.10433686446271},{"$f":"'UEC-SF'!AH11","v":389.10433686446277},{"$f":"'UEC-SF'!AI11","v":389.10433686446277},{"$f":"'UEC-SF'!AJ11","v":389.10433686446277},{"$f":"'UEC-SF'!AK11","v":389.10433686446271},{"$f":"'UEC-SF'!AL11","v":387.90454458505064},{"$f":"'UEC-SF'!AM11","v":387.0221734950502},{"$f":"'UEC-SF'!AN11","v":385.97808787075991},{"$f":"'UEC-SF'!AO11","v":384.94471902648479},{"$f":"'UEC-SF'!AP11","v":383.91961645410061},{"$f":"'UEC-SF'!AQ11","v":382.89684816613715},{"$f":"'UEC-SF'!AR11","v":381.87503350686245},{"$f":"'UEC-SF'!AS11","v":380.88911295248334},{"$f":"'UEC-SF'!AT11","v":379.91809215963036},{"$f":"'UEC-SF'!AU11","v":378.9460056242678},{"$f":"'UEC-SF'!AV11","v":377.9732298596428},{"$f":"'UEC-SF'!AW11","v":376.99802215560629},{"$f":"'UEC-SF'!AX11","v":376.02037643230983},{"$f":"'UEC-SF'!AY11","v":375.04281995545767},{"$f":"'UEC-SF'!AZ11","v":374.07190916845303},{"$f":"'UEC-SF'!BA11","v":373.12744897641642},{"$f":"'UEC-SF'!BB11","v":372.20273729469704},{"$f":"'UEC-SF'!BC11","v":371.27571383377347},{"$f":"'UEC-SF'!BD11","v":370.34637281419782},{"$f":"'UEC-SF'!BE11","v":369.41521403161858}]
[null,null,{"$f":"'UEC-SF'!$C$9&\" - \"&'UEC-SF'!C12","v":"Market UEC (Shipment Weighted Average) - POST-Case UEC"},{"$f":"'UEC-SF'!AG12","v":389.10433686446271},{"$f":"'UEC-SF'!AH12","v":389.10433686446277},{"$f":"'UEC-SF'!AI12","v":389.10433686446277},{"$f":"'UEC-SF'!AJ12","v":389.10433686446277},{"$f":"'UEC-SF'!AK12","v":366.01524856101793},{"$f":"'UEC-SF'!AL12","v":365.49164245943382},{"$f":"'UEC-SF'!AM12","v":365.30662001155832},{"$f":"'UEC-SF'!AN12","v":365.09374939653515},{"$f":"'UEC-SF'!AO12","v":364.85012135521424},{"$f":"'UEC-SF'!AP12","v":364.62800266209479},{"$f":"'UEC-SF'!AQ12","v":364.36519146431317},{"$f":"'UEC-SF'!AR12","v":364.07281636785439},{"$f":"'UEC-SF'!AS12","v":363.71470999763659},{"$f":"'UEC-SF'!AT12","v":363.32635334146926},{"$f":"'UEC-SF'!AU12","v":362.92463236889256},{"$f":"'UEC-SF'!AV12","v":362.50606326046824},{"$f":"'UEC-SF'!AW12","v":362.08644946830896},{"$f":"'UEC-SF'!AX12","v":361.66578862245592},{"$f":"'UEC-SF'!AY12","v":361.21950203753835},{"$f":"'UEC-SF'!AZ12","v":360.76042593952138},{"$f":"'UEC-SF'!BA12","v":360.28969756345225},{"$f":"'UEC-SF'!BB12","v":359.83382431605412},{"$f":"'UEC-SF'!BC12","v":359.39055040907044},{"$f":"'UEC-SF'!BD12","v":358.98522981345161},{"$f":"'UEC-SF'!BE12","v":358.58702218463588}]
[null,null,{"$f":"'UEC-SF'!$C$14&\" - \"&'UEC-SF'!C16","v":"Installed UEC (Vintage Weighted Average)  - PRE-Case UEC"},{"$f":"'UEC-SF'!AG16","v":389.10433686446271},{"$f":"'UEC-SF'!AH16","v":389.10433686446265},{"$f":"'UEC-SF'!AI16","v":389.10433686446265},{"$f":"'UEC-SF'!AJ16","v":389.1043368644626},{"$f":"'UEC-SF'!AK16","v":389.10433686446265},{"$f":"'UEC-SF'!AL16","v":388.97999036057161},{"$f":"'UEC-SF'!AM16","v":388.75764858223692},{"$f":"'UEC-SF'!AN16","v":388.44882645194355},{"$f":"'UEC-SF'!AO16","v":388.06674458200138},{"$f":"'UEC-SF'!AP16","v":387.62904560401483},{"$f":"'UEC-SF'!AQ16","v":387.12639545568504},{"$f":"'UEC-SF'!AR16","v":386.52848591914511},{"$f":"'UEC-SF'!AS16","v":385.83236706516379},{"$f":"'UEC-SF'!AT16","v":384.9378637373099},{"$f":"'UEC-SF'!AU16","v":383.96793337358531},{"$f":"'UEC-SF'!AV16","v":382.79397292480644},{"$f":"'UEC-SF'!AW16","v":381.75035567778053},{"$f":"'UEC-SF'!AX16","v":380.65791304007223},{"$f":"'UEC-SF'!AY16","v":379.64022206400489},{"$f":"'UEC-SF'!AZ16","v":378.68646062707199},{"$f":"'UEC-SF'!BA16","v":377.80267270451185},{"$f":"'UEC-SF'!BB16","v":376.95186324102849},{"$f":"'UEC-SF'!BC16","v":376.08578752795506},{"$f":"'UEC-SF'!BD16","v":375.19890829771845},{"$f":"'UEC-SF'!BE16","v":374.19132338346026}]
[null,null,{"$f":"'UEC-SF'!$C$14&\" - \"&'UEC-SF'!C17","v":"Installed UEC (Vintage Weighted Average)  - POST-Case UEC"},{"$f":"'UEC-SF'!AG17","v":389.10433686446271},{"$f":"'UEC-SF'!AH17","v":389.10433686446265},{"$f":"'UEC-SF'!AI17","v":389.10433686446265},{"$f":"'UEC-SF'!AJ17","v":389.1043368644626},{"$f":"'UEC-SF'!AK17","v":386.44480904288469},{"$f":"'UEC-SF'!AL17","v":384.03898679772374},{"$f":"'UEC-SF'!AM17","v":381.55380312242318},{"$f":"'UEC-SF'!AN17","v":379.25469073135815},{"$f":"'UEC-SF'!AO17","v":377.11346726834563},{"$f":"'UEC-SF'!AP17","v":375.14549605506721},{"$f":"'UEC-SF'!AQ17","v":373.25089874128929},{"$f":"'UEC-SF'!AR17","v":371.29703824775123},{"$f":"'UEC-SF'!AS17","v":369.2691002178878},{"$f":"'UEC-SF'!AT17","v":366.88921361664308},{"$f":"'UEC-SF'!AU17","v":364.52606883708467},{"$f":"'UEC-SF'!AV17","v":364.15444240794767},{"$f":"'UEC-SF'!AW17","v":363.82564276084588},{"$f":"'UEC-SF'!AX17","v":363.46118700158206},{"$f":"'UEC-SF'!AY17","v":363.09792526932989},{"$f":"'UEC-SF'!AZ17","v":362.73664656014955},{"$f":"'UEC-SF'!BA17","v":362.37919619779024},{"$f":"'UEC-SF'!BB17","v":362.01691586049503},{"$f":"'UEC-SF'!BC17","v":361.63310558760367},{"$f":"'UEC-SF'!BD17","v":361.23450058969962},{"$f":"'UEC-SF'!BE17","v":360.77945093276253}]
[]
[null,null,"Stock and Shipments (units)",2010,2011,2012,2013,2014,2015,2016,2017,2018,2019,2020,2021,2022,2023,2024,2025,2026,2027,2028,2029,2030,2031,2032,2033,2034]
[null,null,"6P Shipments",{"$f":"'Shipments and Stock - SF'!AH11","v":55721.129220756338},{"$f":"'Shipments and Stock - SF'!AI11","v":58267.429998211432},{"$f":"'Shipments and Stock - SF'!AJ11","v":59426.419759107492},{"$f":"'Shipments and Stock - SF'!AK11","v":59641.033456806312},{"$f":"'Shipments and Stock - SF'!AL11","v":59579.684627708994},{"$f":"'Shipments and Stock - SF'!AM11","v":59606.522276978445},{"$f":"'Shipments and Stock - SF'!AN11","v":59634.406782175436},{"$f":"'Shipments and Stock - SF'!AO11","v":59482.153350912013},{"$f":"'Shipments and Stock - SF'!AP11","v":59312.075494552373},{"$f":"'Shipments and Stock - SF'!AQ11","v":8185.4198770448802},{"$f":"'Shipments and Stock - SF'!AR11","v":8046.9914046619788},{"$f":"'Shipments and Stock - SF'!AS11","v":7836.5960735502558},{"$f":"'Shipments and Stock - SF'!AT11","v":7697.3810348193247},{"$f":"'Shipments and Stock - SF'!AU11","v":7597.005815978061},{"$f":"'Shipments and Stock - SF'!AV11","v":7481.984044898998},{"$f":"'Shipments and Stock - SF'!AW11","v":7456.4639388495943},{"$f":"'Shipments and Stock - SF'!AX11","v":7388.6580987323105},{"$f":"'Shipments and Stock - SF'!AY11","v":7243.7132740030856},{"$f":"'Shipments and Stock - SF'!AZ11","v":7055.0880631772525},{"$f":"'Shipments and Stock - SF'!BA11","v":6926.4789415318592},{"$f":"'Shipments and Stock - SF'!BB11","v":6898.6646775123527},{"$f":"'Shipments and Stock - SF'!BC11","v":6898.6646775123527},{"$f":"'Shipments and Stock - SF'!BD11","v":6898.6646775123527},{"$f":"'Shipments and Stock - SF'!BE11","v":6898.6646775123527},{"$f":"'Shipments and Stock - SF'!BF11","v":6898.6646775123527}]
[null,null,"Replacement Shipments",{"$f":"'Shipments and Stock - SF'!AH12","v":23913.314650618402},{"$f":"'Shipments and Stock - SF'!AI12","v":24843.88778941274},{"$f":"'Shipments and Stock - SF'!AJ12","v":25365.733146067989},{"$f":"'Shipments and Stock - SF'!AK12","v":25258.752872856581},{"$f":"'Shipments and Stock - SF'!AL12","v":29308.024056238137},{"$f":"'Shipments and Stock - SF'!AM12","v":26373.260132046755},{"$f":"'Shipments and Stock - SF'!AN12","v":28078.301212094884},{"$f":"'Shipments and Stock - SF'!AO12","v":26411.184301654415},{"$f":"'Shipments and Stock - SF'!AP12","v":24977.440807500141},{"$f":"'Shipments and Stock - SF'!AQ12","v":23291.162433397767},{"$f":"'Shipments and Stock - SF'!AR12","v":22769.282837459545},{"$f":"'Shipments and Stock - SF'!AS12","v":23913.314650618402},{"$f":"'Shipments and Stock - SF'!AT12","v":25145.830548259302},{"$f":"'Shipments and Stock - SF'!AU12","v":29929.956583064562},{"$f":"'Shipments and Stock - SF'!AV12","v":29938.446960848189},{"$f":"'Shipments and Stock - SF'!AW12","v":33954.710049641151},{"$f":"'Shipments and Stock - SF'!AX12","v":31034.385841393076},{"$f":"'Shipments and Stock - SF'!AY12","v":32754.429887245802},{"$f":"'Shipments and Stock - SF'!AZ12","v":31005.394613659257},{"$f":"'Shipments and Stock - SF'!BA12","v":29480.142511227619},{"$f":"'Shipments and Stock - SF'!BB12","v":27695.241818845665},{"$f":"'Shipments and Stock - SF'!BC12","v":27098.882234007837},{"$f":"'Shipments and Stock - SF'!BD12","v":28129.713044107357},{"$f":"'Shipments and Stock - SF'!BE12","v":29287.32574906799},{"$f":"'Shipments and Stock - SF'!BF12","v":34017.445949261302}]
[null,null,"Net New Shipments",{"$f":"'Shipments and Stock - SF'!AH13","v":0},{"$f":"'Shipments and Stock - SF'!AI13","v":301.94275884656236},{"$f":"'Shipments and Stock - SF'!AJ13","v":4564.2234369965745},{"$f":"'Shipments and Stock - SF'!AK13","v":4679.6940879916074},{"$f":"'Shipments and Stock - SF'!AL13","v":4646.6859934030153},{"$f":"'Shipments and Stock - SF'!AM13","v":4661.1257093463209},{"$f":"'Shipments and Stock - SF'!AN13","v":4676.1286751509178},{"$f":"'Shipments and Stock - SF'!AO13","v":4594.2103120048414},{"$f":"'Shipments and Stock - SF'!AP13","v":4502.7017037274782},{"$f":"'Shipments and Stock - SF'!AQ13","v":4404.0793854478979},{"$f":"'Shipments and Stock - SF'!AR13","v":4329.5993965482921},{"$f":"'Shipments and Stock - SF'!AS13","v":4216.3983934889548},{"$f":"'Shipments and Stock - SF'!AT13","v":4141.4952008086839},{"$f":"'Shipments and Stock - SF'!AU13","v":4087.4893661967362},{"$f":"'Shipments and Stock - SF'!AV13","v":4025.6031076423824},{"$f":"'Shipments and Stock - SF'!AW13","v":4011.8722820213879},{"$f":"'Shipments and Stock - SF'!AX13","v":3975.3900603199145},{"$f":"'Shipments and Stock - SF'!AY13","v":3897.4040163287427},{"$f":"'Shipments and Stock - SF'!AZ13","v":3795.9161983485101},{"$f":"'Shipments and Stock - SF'!BA13","v":3726.7194082110095},{"$f":"'Shipments and Stock - SF'!BB13","v":3711.7542349358555},{"$f":"'Shipments and Stock - SF'!BC13","v":3748.8717772852397},{"$f":"'Shipments and Stock - SF'!BD13","v":3786.360495058063},{"$f":"'Shipments and Stock - SF'!BE13","v":3824.2241000086669},{"$f":"'Shipments and Stock - SF'!BF13","v":3862.4663410087815}]
[null,null,"Total Model Shipments",{"$f":"'Shipments and Stock - SF'!AH14","v":23913.314650618402},{"$f":"'Shipments and Stock - SF'!AI14","v":25145.830548259302},{"$f":"'Shipments and Stock - SF'!AJ14","v":29929.956583064562},{"$f":"'Shipments and Stock - SF'!AK14","v":29938.446960848189},{"$f":"'Shipments and Stock - SF'!AL14","v":33954.710049641151},{"$f":"'Shipments and Stock - SF'!AM14","v":31034.385841393076},{"$f":"'Shipments and Stock - SF'!AN14","v":32754.429887245802},{"$f":"'Shipments and Stock - SF'!AO14","v":31005.394613659257},{"$f":"'Shipments and Stock - SF'!AP14","v":29480.142511227619},{"$f":"'Shipments and Stock - SF'!AQ14","v":27695.241818845665},{"$f":"'Shipments and Stock - SF'!AR14","v":27098.882234007837},{"$f":"'Shipments and Stock - SF'!AS14","v":28129.713044107357},{"$f":"'Shipments and Stock - SF'!AT14","v":29287.325749067986},{"$f":"'Shipments and Stock - SF'!AU14","v":34017.445949261295},{"$f":"'Shipments and Stock - SF'!AV14","v":33964.050068490571},{"$f":"'Shipments and Stock - SF'!AW14","v":37966.582331662539},{"$f":"'Shipments and Stock - SF'!AX14","v":35009.775901712987},{"$f":"'Shipments and Stock - SF'!AY14","v":36651.833903574545},{"$f":"'Shipments and Stock - SF'!AZ14","v":34801.310812007767},{"$f":"'Shipments and Stock - SF'!BA14","v":33206.861919438627},{"$f":"'Shipments and Stock - SF'!BB14","v":31406.99605378152},{"$f":"'Shipments and Stock - SF'!BC14","v":30847.754011293076},{"$f":"'Shipments and Stock - SF'!BD14","v":31916.07353916542},{"$f":"'Shipments and Stock - SF'!BE14","v":33111.549849076655},{"$f":"'Shipments and Stock - SF'!BF14","v":37879.912290270084}]
[null,null,"Model Installed Stock",{"$f":"'Shipments and Stock - SF'!AH15","v":280590.34423934738},{"$f":"'Shipments and Stock - SF'!AI15","v":280892.28699819394},{"$f":"'Shipments and Stock - SF'!AJ15","v":285456.51043519052},{"$f":"'Shipments and Stock - SF'!AK15","v":290136.20452318212},{"$f":"'Shipments and Stock - SF'!AL15","v":294782.89051658515},{"$f":"'Shipments and Stock - SF'!AM15","v":299444.01622593147},{"$f":"'Shipments and Stock - SF'!AN15","v":304120.14490108239},{"$f":"'Shipments and Stock - SF'!AO15","v":308714.35521308723},{"$f":"'Shipments and Stock - SF'!AP15","v":313217.0569168147},{"$f":"'Shipments and Stock - SF'!AQ15","v":317621.1363022626},{"$f":"'Shipments and Stock - SF'!AR15","v":321950.73569881089},{"$f":"'Shipments and Stock - SF'!AS15","v":326167.13409229985},{"$f":"'Shipments and Stock - SF'!AT15","v":330308.62929310853},{"$f":"'Shipments and Stock - SF'!AU15","v":334396.11865930527},{"$f":"'Shipments and Stock - SF'!AV15","v":338421.72176694765},{"$f":"'Shipments and Stock - SF'!AW15","v":342433.59404896904},{"$f":"'Shipments and Stock - SF'!AX15","v":346408.98410928895},{"$f":"'Shipments and Stock - SF'!AY15","v":350306.3881256177},{"$f":"'Shipments and Stock - SF'!AZ15","v":354102.30432396621},{"$f":"'Shipments and Stock - SF'!BA15","v":357829.02373217721},{"$f":"'Shipments and Stock - SF'!BB15","v":361540.77796711307},{"$f":"'Shipments and Stock - SF'!BC15","v":365289.64974439831},{"$f":"'Shipments and Stock - SF'!BD15","v":369076.01023945637},{"$f":"'Shipments and Stock - SF'!BE15","v":372900.23433946504},{"$f":"'Shipments and Stock - SF'!BF15","v":376762.70068047382}]
[]
[]
[]
[null,null,"First Year Energy Consumption ",2010,2011,2012,2013,2014,2015,2016,2017,2018,2019,2020,2021,2022,2023,2024,2025,2026,2027,2028,2029,2030,2031,2032,2033,2034]
[null,null,"6P Shipments * 6P UEC",{"$f":"D12*D19","v":20908882.789050601},{"$f":"E12*E19","v":21864360.634636771},22299261.746713635,22379793.722875342,22356773.093272533,22366843.694330983,22377307.119228289,22320175.305981908,22256355.027868953,3071509.6262719505,3019565.5119979125,2940616.4422446778,2888377.1755965445,2850712.2230906016,2807551.275649047,2797975.0715481373,2772531.5031342856,2718142.1827180381,2647362.1666025682,2599102.6807003231,2588665.6132111931,2588665.6132111931,2588665.6132111931,2588665.6132111931,2588665.6132111931]
[null,null,"Model Shipments * Model Pre-Case UEC",{"$f":"D13*D22","v":9304774.4393601138},{"$f":"E13*E22","v":9784351.7203865852},11645875.908635499,11649179.551452724,13211924.937290728,12038379.306282325,12676690.646553103,11967402.926658558,11348225.175845245,10632746.616694795,10376076.596226931,10742035.111256924,11155223.52531293,12923843.165186698,12870541.10827714,14350351.750630539,13198616.271056803,13781836.381356597,13051981.745081751,12421754.235697608,11718812.317559876,11481618.482396754,11849662.986024849,12262742.384862039,13993415.906209063]
[null,null,"Model Shipments * Model Post-Case UEC",{"$f":"D14*D22","v":9304774.4393601138},{"$f":"E14*E22","v":9784351.7203865852},11645875.908635499,11649179.551452724,12427941.638636699,11342808.653890554,11965410.072515331,11319875.771019993,10755833.572790407,10098460.707649415,9873889.4136631396,10241263.851587735,10652231.191428578,12359434.586735642,12326390.384865601,13763116.296505436,12676565.452932419,13255714.413195554,12570912.161767045,11979721.650171552,11315617.109593483,11100065.297444487,11470335.236137029,11886557.332050342,13583244.948783141]
[]
[null,null,"Total Energy Consumption (kWh)",2010,2011,2012,2013,2014,2015,2016,2017,2018,2019,2020,2021,2022,2023,2024,2025,2026,2027,2028,2029,2030,2031,2032,2033,2034]
[null,null,"Modeled Pre-case Consumption \n(Installed UEC * Stock)",{"$f":"D15*D$23","v":109178919.82582258},{"$f":"E15*E$23","v":109296407.06277458},111072366.19652838,112893255.46136488,114701301.13344537,116477730.54509367,118229032.41823396,119919728.99139218,121549123.62526372,123119177.92850876,124635627.8253866,126072888.49728344,127443760.30220976,128721727.55876096,129943089.11558539,{"$f":"S15*S$23","v":131081515.92892522},132241752.89369968,133346898.62850317,134431477.44692636,135505006.50677875,136591072.20764381,137696614.09381363,138804241.96858156,139911760.82813066,140981333.56915301]
[null,null,"Modeled Post-case Consumption \n(Installed UEC* Stock)",{"$f":"D16*D$23","v":109178919.82582258},{"$f":"E16*E$23","v":109296407.06277458},111072366.19652838,112893255.46136488,113917317.83479133,114998176.59404787,116038197.8931504,117081367.31067005,118118370.34148675,119154138.73568642,120168401.45000045,121104890.86222807,121972770.33327004,122686329.01137018,123363539.84478307,124698714.50265183,126032471.30169371,127322775.64237392,128573812.03312099,129797700.11050214,131014856.51244618,132241032.39622754,133470103.78077681,134704429.92139861,135928240.2834461]
[]
[]
[]
[null,null,"Total Energy Consumption (aMW)",2010,2011,2012,2013,2014,2015,2016,2017,2018,2019,2020,2021,2022,2023,2024,2025,2026,2027,2028,2029,2030,2031,2032,2033,2034]
[null,null,{"$f":"C33","v":"Modeled Pre-case Consumption \n(Installed UEC * Stock)"},{"$f":"D33/Constants!$D$13/(Constants!$D$12*Constants!$D$10)","v":12.454816315973373},{"$f":"E33/Constants!$D$13/(Constants!$D$12*Constants!$D$10)","v":12.468218921146997},{"$f":"F33/Constants!$D$13/(Constants!$D$12*Constants!$D$10)","v":12.670815217491258},{"$f":"G33/Constants!$D$13/(Constants!$D$12*Constants!$D$10)","v":12.878537013616802},{"$f":"H33/Constants!$D$13/(Constants!$D$12*Constants!$D$10)","v":13.084793649719982},{"$f":"I33/Constants!$D$13/(Constants!$D$12*Constants!$D$10)","v":13.287443594010229},{"$f":"J33/Constants!$D$13/(Constants!$D$12*Constants!$D$10)","v":13.487227061172023},{"$f":"K33/Constants!$D$13/(Constants!$D$12*Constants!$D$10)","v":13.68009685048964},{"$f":"L33/Constants!$D$13/(Constants!$D$12*Constants!$D$10)","v":13.865973491360224},{"$f":"M33/Constants!$D$13/(Constants!$D$12*Constants!$D$10)","v":14.045080758442705},{"$f":"N33/Constants!$D$13/(Constants!$D$12*Constants!$D$10)","v":14.218072989434932},{"$f":"O33/Constants!$D$13/(Constants!$D$12*Constants!$D$10)","v":14.382031542012713},{"$f":"P33/Constants!$D$13/(Constants!$D$12*Constants!$D$10)","v":14.538416644103327},{"$f":"Q33/Constants!$D$13/(Constants!$D$12*Constants!$D$10)","v":14.6842034632399},{"$f":"R33/Constants!$D$13/(Constants!$D$12*Constants!$D$10)","v":14.823532867395093},{"$f":"S33/Constants!$D$13/(Constants!$D$12*Constants!$D$10)","v":14.953401315186541},{"$f":"T33/Constants!$D$13/(Constants!$D$12*Constants!$D$10)","v":15.085757802156021},{"$f":"U33/Constants!$D$13/(Constants!$D$12*Constants!$D$10)","v":15.21182964048633},{"$f":"V33/Constants!$D$13/(Constants!$D$12*Constants!$D$10)","v":15.335555264308276},{"$f":"W33/Constants!$D$13/(Constants!$D$12*Constants!$D$10)","v":15.458020363538528},{"$f":"X33/Constants!$D$13/(Constants!$D$12*Constants!$D$10)","v":15.581915606621468},{"$f":"Y33/Constants!$D$13/(Constants!$D$12*Constants!$D$10)","v":15.708032636757203},{"$f":"Z33/Constants!$D$13/(Constants!$D$12*Constants!$D$10)","v":15.834387630456488},{"$f":"AA33/Constants!$D$13/(Constants!$D$12*Constants!$D$10)","v":15.960730188013994},{"$f":"AB33/Constants!$D$13/(Constants!$D$12*Constants!$D$10)","v":16.082743961801622}]
[null,null,{"$f":"C34","v":"Modeled Post-case Consumption \n(Installed UEC* Stock)"},{"$f":"D34/Constants!$D$13/(Constants!$D$12*Constants!$D$10)","v":12.454816315973373},{"$f":"E34/Constants!$D$13/(Constants!$D$12*Constants!$D$10)","v":12.468218921146997},{"$f":"F34/Constants!$D$13/(Constants!$D$12*Constants!$D$10)","v":12.670815217491258},{"$f":"G34/Constants!$D$13/(Constants!$D$12*Constants!$D$10)","v":12.878537013616802},{"$f":"H34/Constants!$D$13/(Constants!$D$12*Constants!$D$10)","v":12.995359095915051},{"$f":"I34/Constants!$D$13/(Constants!$D$12*Constants!$D$10)","v":13.118660346115432},{"$f":"J34/Constants!$D$13/(Constants!$D$12*Constants!$D$10)","v":13.237302976631348},{"$f":"K34/Constants!$D$13/(Constants!$D$12*Constants!$D$10)","v":13.356304735417527},{"$f":"L34/Constants!$D$13/(Constants!$D$12*Constants!$D$10)","v":13.474603050591689},{"$f":"M34/Constants!$D$13/(Constants!$D$12*Constants!$D$10)","v":13.592760521981111},{"$f":"N34/Constants!$D$13/(Constants!$D$12*Constants!$D$10)","v":13.708464687428753},{"$f":"O34/Constants!$D$13/(Constants!$D$12*Constants!$D$10)","v":13.815296698862431},{"$f":"P34/Constants!$D$13/(Constants!$D$12*Constants!$D$10)","v":13.914301886067767},{"$f":"Q34/Constants!$D$13/(Constants!$D$12*Constants!$D$10)","v":13.995702602255324},{"$f":"R34/Constants!$D$13/(Constants!$D$12*Constants!$D$10)","v":14.072956861143403},{"$f":"S34/Constants!$D$13/(Constants!$D$12*Constants!$D$10)","v":14.225269735643604},{"$f":"T34/Constants!$D$13/(Constants!$D$12*Constants!$D$10)","v":14.377420864897752},{"$f":"U34/Constants!$D$13/(Constants!$D$12*Constants!$D$10)","v":14.524615063013224},{"$f":"V34/Constants!$D$13/(Constants!$D$12*Constants!$D$10)","v":14.667329686643965},{"$f":"W34/Constants!$D$13/(Constants!$D$12*Constants!$D$10)","v":14.806947308978112},{"$f":"X34/Constants!$D$13/(Constants!$D$12*Constants!$D$10)","v":14.94579700119167},{"$f":"Y34/Constants!$D$13/(Constants!$D$12*Constants!$D$10)","v":15.085675609882218},{"$f":"Z34/Constants!$D$13/(Constants!$D$12*Constants!$D$10)","v":15.225884528950127},{"$f":"AA34/Constants!$D$13/(Constants!$D$12*Constants!$D$10)","v":15.366692895436756},{"$f":"AB34/Constants!$D$13/(Constants!$D$12*Constants!$D$10)","v":15.506301652229762}]
[]
[null,null,"Savings (aMW)",2010,2011,2012,2013,2014,2015,2016,2017,2018,2019,2020,2021,2022,2023,2024,2025,2026,2027,2028,2029,2030,2031,2032,2033,2034]
[null,null,"Incremental Savings",{"$f":"IF(AND(D42>=STANDARD_YEAR,(D42-STANDARD_YEAR)<LIFETIME_SF),\n(D13-D14)*D22,\n(D13-D14)*D21)\n/Constants!$D$13/(Constants!$D$12*Constants!$D$10)","v":0},{"$f":"IF(AND(E42>=STANDARD_YEAR,(E42-STANDARD_YEAR)<LIFETIME_SF),\n(E13-E14)*E22,\n(E13-E14)*E21)\n/Constants!$D$13/(Constants!$D$12*Constants!$D$10)","v":0},{"$f":"IF(AND(F42>=STANDARD_YEAR,(F42-STANDARD_YEAR)<LIFETIME_SF),\n(F13-F14)*F22,\n(F13-F14)*F21)\n/Constants!$D$13/(Constants!$D$12*Constants!$D$10)","v":0},{"$f":"IF(AND(G42>=STANDARD_YEAR,(G42-STANDARD_YEAR)<LIFETIME_SF),\n(G13-G14)*G22,\n(G13-G14)*G21)\n/Constants!$D$13/(Constants!$D$12*Constants!$D$10)","v":0},{"$f":"IF(AND(H42>=STANDARD_YEAR,(H42-STANDARD_YEAR)<LIFETIME_SF),\n(H13-H14)*H22,\n(H13-H14)*H21)\n/Constants!$D$13/(Constants!$D$12*Constants!$D$10)","v":8.9434553804931385E-2},{"$f":"IF(AND(I42>=STANDARD_YEAR,(I42-STANDARD_YEAR)<LIFETIME_SF),\n(I13-I14)*I22,\n(I13-I14)*I21)\n/Constants!$D$13/(Constants!$D$12*Constants!$D$10)","v":7.9348694089866709E-2},{"$f":"IF(AND(J42>=STANDARD_YEAR,(J42-STANDARD_YEAR)<LIFETIME_SF),\n(J13-J14)*J22,\n(J13-J14)*J21)\n/Constants!$D$13/(Constants!$D$12*Constants!$D$10)","v":8.1140836645878511E-2},{"$f":"IF(AND(K42>=STANDARD_YEAR,(K42-STANDARD_YEAR)<LIFETIME_SF),\n(K13-K14)*K22,\n(K13-K14)*K21)\n/Constants!$D$13/(Constants!$D$12*Constants!$D$10)","v":7.3868030531435688E-2},{"$f":"IF(AND(L42>=STANDARD_YEAR,(L42-STANDARD_YEAR)<LIFETIME_SF),\n(L13-L14)*L22,\n(L13-L14)*L21)\n/Constants!$D$13/(Constants!$D$12*Constants!$D$10)","v":6.7578325696422359E-2},{"$f":"IF(AND(M42>=STANDARD_YEAR,(M42-STANDARD_YEAR)<LIFETIME_SF),\n(M13-M14)*M22,\n(M13-M14)*M21)\n/Constants!$D$13/(Constants!$D$12*Constants!$D$10)","v":6.0949795693061762E-2},{"$f":"IF(AND(N42>=STANDARD_YEAR,(N42-STANDARD_YEAR)<LIFETIME_SF),\n(N13-N14)*N22,\n(N13-N14)*N21)\n/Constants!$D$13/(Constants!$D$12*Constants!$D$10)","v":5.72880655445802E-2},{"$f":"IF(AND(O42>=STANDARD_YEAR,(O42-STANDARD_YEAR)<LIFETIME_SF),\n(O13-O14)*O22,\n(O13-O14)*O21)\n/Constants!$D$13/(Constants!$D$12*Constants!$D$10)","v":5.71265411441007E-2},{"$f":"IF(AND(P42>=STANDARD_YEAR,(P42-STANDARD_YEAR)<LIFETIME_SF),\n(P13-P14)*P22,\n(P13-P14)*P21)\n/Constants!$D$13/(Constants!$D$12*Constants!$D$10)","v":5.737991488527866E-2},{"$f":"IF(AND(Q42>=STANDARD_YEAR,(Q42-STANDARD_YEAR)<LIFETIME_SF),\n(Q13-Q14)*Q22,\n(Q13-Q14)*Q21)\n/Constants!$D$13/(Constants!$D$12*Constants!$D$10)","v":6.4386102949013882E-2},{"$f":"IF(AND(R42>=STANDARD_YEAR,(R42-STANDARD_YEAR)<LIFETIME_SF),\n(R13-R14)*R22,\n(R13-R14)*R21)\n/Constants!$D$13/(Constants!$D$12*Constants!$D$10)","v":6.2075145267116175E-2},{"$f":"IF(AND(S42>=STANDARD_YEAR,(S42-STANDARD_YEAR)<LIFETIME_SF),\n(S13-S14)*S22,\n(S13-S14)*S21)\n/Constants!$D$13/(Constants!$D$12*Constants!$D$10)","v":7.0787470865429428E-3},{"$f":"IF(AND(T42>=STANDARD_YEAR,(T42-STANDARD_YEAR)<LIFETIME_SF),\n(T13-T14)*T22,\n(T13-T14)*T21)\n/Constants!$D$13/(Constants!$D$12*Constants!$D$10)","v":6.7624136259205742E-3},{"$f":"IF(AND(U42>=STANDARD_YEAR,(U42-STANDARD_YEAR)<LIFETIME_SF),\n(U13-U14)*U22,\n(U13-U14)*U21)\n/Constants!$D$13/(Constants!$D$12*Constants!$D$10)","v":6.3821159232110699E-3},{"$f":"IF(AND(V42>=STANDARD_YEAR,(V42-STANDARD_YEAR)<LIFETIME_SF),\n(V13-V14)*V22,\n(V13-V14)*V21)\n/Constants!$D$13/(Constants!$D$12*Constants!$D$10)","v":5.9858722792095788E-3},{"$f":"IF(AND(W42>=STANDARD_YEAR,(W42-STANDARD_YEAR)<LIFETIME_SF),\n(W13-W14)*W22,\n(W13-W14)*W21)\n/Constants!$D$13/(Constants!$D$12*Constants!$D$10)","v":5.6591561603165563E-3},{"$f":"IF(AND(X42>=STANDARD_YEAR,(X42-STANDARD_YEAR)<LIFETIME_SF),\n(X13-X14)*X22,\n(X13-X14)*X21)\n/Constants!$D$13/(Constants!$D$12*Constants!$D$10)","v":5.4358405400551577E-3},{"$f":"IF(AND(Y42>=STANDARD_YEAR,(Y42-STANDARD_YEAR)<LIFETIME_SF),\n(Y13-Y14)*Y22,\n(Y13-Y14)*Y21)\n/Constants!$D$13/(Constants!$D$12*Constants!$D$10)","v":5.2896952750777519E-3},{"$f":"IF(AND(Z42>=STANDARD_YEAR,(Z42-STANDARD_YEAR)<LIFETIME_SF),\n(Z13-Z14)*Z22,\n(Z13-Z14)*Z21)\n/Constants!$D$13/(Constants!$D$12*Constants!$D$10)","v":5.1336428551910255E-3},{"$f":"IF(AND(AA42>=STANDARD_YEAR,(AA42-STANDARD_YEAR)<LIFETIME_SF),\n(AA13-AA14)*AA22,\n(AA13-AA14)*AA21)\n/Constants!$D$13/(Constants!$D$12*Constants!$D$10)","v":4.9563719903146751E-3},{"$f":"IF(AND(AB42>=STANDARD_YEAR,(AB42-STANDARD_YEAR)<LIFETIME_SF),\n(AB13-AB14)*AB22,\n(AB13-AB14)*AB21)\n/Constants!$D$13/(Constants!$D$12*Constants!$D$10)","v":4.7711072944280576E-3}]
[null,null,"Cumulative Savings",0,{"$f":"E43+D44","v":0},{"$f":"F43+E44","v":0},0,8.9434553804931385E-2,0.16878324789479809,0.24992408454067661,0.32379211507211231,0.39137044076853467,0.45232023646159641,0.50960830200617657,0.56673484315027722,0.62411475803555594,0.68850086098456986,0.75057600625168608,0.75765475333822907,0.76441716696414963,0.77079928288736066,0.77678515516657021,0.78244431132688674,0.78788015186694194,0.79316984714201966,0.79830348999721068,0.8032598619875253,0.80803096928195339]
[null,null,"DOE Aggregate Lifecycle Savings (formerly DOE Carbon proxy)",{"$f":"SUM($D$44:D44)","v":0},{"$f":"SUM($D$44:E44)","v":0},{"$f":"SUM($D$44:F44)","v":0},{"$f":"SUM($D$44:G44)","v":0},{"$f":"SUM($D$44:H44)","v":8.9434553804931385E-2},{"$f":"SUM($D$44:I44)","v":0.25821780169972947},{"$f":"SUM($D$44:J44)","v":0.50814188624040613},{"$f":"SUM($D$44:K44)","v":0.83193400131251849},{"$f":"SUM($D$44:L44)","v":1.2233044420810533},{"$f":"SUM($D$44:M44)","v":1.6756246785426496},{"$f":"SUM($D$44:N44)","v":2.1852329805488262},{"$f":"SUM($D$44:O44)","v":2.7519678236991032},{"$f":"SUM($D$44:P44)","v":3.3760825817346589},{"$f":"SUM($D$44:Q44)","v":4.0645834427192291},{"$f":"SUM($D$44:R44)","v":4.8151594489709151},{"$f":"SUM($D$44:S44)","v":5.5728142023091438},{"$f":"SUM($D$44:T44)","v":6.3372313692732938},{"$f":"SUM($D$44:U44)","v":7.1080306521606547},{"$f":"SUM($D$44:V44)","v":7.8848158073272252},{"$f":"SUM($D$44:W44)","v":8.6672601186541112},{"$f":"SUM($D$44:X44)","v":9.4551402705210528},{"$f":"SUM($D$44:Y44)","v":10.248310117663072},{"$f":"SUM($D$44:Z44)","v":11.046613607660284},{"$f":"SUM($D$44:AA44)","v":11.849873469647809},{"$f":"SUM($D$44:AB44)","v":12.657904438929762}]
[null,null,"Check",{"$f":"IF(ISNUMBER(C44),ROUND((D44-C44-D43),3),0)","v":0},{"$f":"IF(ISNUMBER(D44),ROUND((E44-D44-E43),3),0)","v":0},0,0,0,0,0,0,0,0,0,0,0,0,0,{"$f":"IF(ISNUMBER(R44),ROUND((S44-R44-S43),3),0)","v":0},0,0,0,0,0,0,0,0,0]

{"sheet":"Results-MF","index":22,"n_rows":46,"n_cols":28,"rows_kept":46,"cut":false,"hidden":false,"merged":[]}
[]
[null,null,"RESULTS - Multi-Family"]
[]
[null,null,"NAVIGATION"]
[]
[null,null,"COMMENTS"]
[]
[]
[null,null,"MULTI-FAMILY"]
[]
[null,null,"Unit Energy Consumption (kWh/year) ",2010,2011,2012,2013,2014,2015,2016,2017,2018,2019,2020,2021,2022,2023,2024,2025,2026,2027,2028,2029,2030,2031,2032,2033,2034]
[null,null,"6P UEC",{"$f":"'6P UEC Development'!$F$10","v":375.24154807081618},{"$f":"'6P UEC Development'!$F$10","v":375.24154807081618},{"$f":"'6P UEC Development'!$F$10","v":375.24154807081618},{"$f":"'6P UEC Development'!$F$10","v":375.24154807081618},{"$f":"'6P UEC Development'!$F$10","v":375.24154807081618},{"$f":"'6P UEC Development'!$F$10","v":375.24154807081618},{"$f":"'6P UEC Development'!$F$10","v":375.24154807081618},{"$f":"'6P UEC Development'!$F$10","v":375.24154807081618},{"$f":"'6P UEC Development'!$F$10","v":375.24154807081618},{"$f":"'6P UEC Development'!$F$10","v":375.24154807081618},{"$f":"'6P UEC Development'!$F$10","v":375.24154807081618},{"$f":"'6P UEC Development'!$F$10","v":375.24154807081618},{"$f":"'6P UEC Development'!$F$10","v":375.24154807081618},{"$f":"'6P UEC Development'!$F$10","v":375.24154807081618},{"$f":"'6P UEC Development'!$F$10","v":375.24154807081618},{"$f":"'6P UEC Development'!$F$10","v":375.24154807081618},{"$f":"'6P UEC Development'!$F$10","v":375.24154807081618},{"$f":"'6P UEC Development'!$F$10","v":375.24154807081618},{"$f":"'6P UEC Development'!$F$10","v":375.24154807081618},{"$f":"'6P UEC Development'!$F$10","v":375.24154807081618},{"$f":"'6P UEC Development'!$F$10","v":375.24154807081618},{"$f":"'6P UEC Development'!$F$10","v":375.24154807081618},{"$f":"'6P UEC Development'!$F$10","v":375.24154807081618},{"$f":"'6P UEC Development'!$F$10","v":375.24154807081618},{"$f":"'6P UEC Development'!$F$10","v":375.24154807081618}]
[null,null,{"$f":"'UEC-SF'!$C$9&\" - \"&'UEC-SF'!C11","v":"Market UEC (Shipment Weighted Average) - PRE-Case UEC"},{"$f":"'UEC-MF'!AG11","v":389.10433686446271},{"$f":"'UEC-MF'!AH11","v":389.10433686446277},{"$f":"'UEC-MF'!AI11","v":389.10433686446277},{"$f":"'UEC-MF'!AJ11","v":389.10433686446277},{"$f":"'UEC-MF'!AK11","v":389.10433686446271},{"$f":"'UEC-MF'!AL11","v":387.90454458505064},{"$f":"'UEC-MF'!AM11","v":387.0221734950502},{"$f":"'UEC-MF'!AN11","v":385.97808787075991},{"$f":"'UEC-MF'!AO11","v":384.94471902648479},{"$f":"'UEC-MF'!AP11","v":383.91961645410061},{"$f":"'UEC-MF'!AQ11","v":382.89684816613715},{"$f":"'UEC-MF'!AR11","v":381.87503350686245},{"$f":"'UEC-MF'!AS11","v":380.88911295248334},{"$f":"'UEC-MF'!AT11","v":379.91809215963036},{"$f":"'UEC-MF'!AU11","v":378.9460056242678},{"$f":"'UEC-MF'!AV11","v":377.9732298596428},{"$f":"'UEC-MF'!AW11","v":376.99802215560629},{"$f":"'UEC-MF'!AX11","v":376.02037643230983},{"$f":"'UEC-MF'!AY11","v":375.04281995545767},{"$f":"'UEC-MF'!AZ11","v":374.07190916845303},{"$f":"'UEC-MF'!BA11","v":373.12744897641642},{"$f":"'UEC-MF'!BB11","v":372.20273729469704},{"$f":"'UEC-MF'!BC11","v":371.27571383377347},{"$f":"'UEC-MF'!BD11","v":370.34637281419782},{"$f":"'UEC-MF'!BE11","v":369.41521403161858}]
[null,null,{"$f":"'UEC-SF'!$C$9&\" - \"&'UEC-SF'!C12","v":"Market UEC (Shipment Weighted Average) - POST-Case UEC"},{"$f":"'UEC-MF'!AG12","v":389.10433686446271},{"$f":"'UEC-MF'!AH12","v":389.10433686446277},{"$f":"'UEC-MF'!AI12","v":389.10433686446277},{"$f":"'UEC-MF'!AJ12","v":389.10433686446277},{"$f":"'UEC-MF'!AK12","v":366.01524856101793},{"$f":"'UEC-MF'!AL12","v":365.49164245943382},{"$f":"'UEC-MF'!AM12","v":365.30662001155832},{"$f":"'UEC-MF'!AN12","v":365.09374939653515},{"$f":"'UEC-MF'!AO12","v":364.85012135521424},{"$f":"'UEC-MF'!AP12","v":364.62800266209479},{"$f":"'UEC-MF'!AQ12","v":364.36519146431317},{"$f":"'UEC-MF'!AR12","v":364.07281636785439},{"$f":"'UEC-MF'!AS12","v":363.71470999763659},{"$f":"'UEC-MF'!AT12","v":363.32635334146926},{"$f":"'UEC-MF'!AU12","v":362.92463236889256},{"$f":"'UEC-MF'!AV12","v":362.50606326046824},{"$f":"'UEC-MF'!AW12","v":362.08644946830896},{"$f":"'UEC-MF'!AX12","v":361.66578862245592},{"$f":"'UEC-MF'!AY12","v":361.21950203753835},{"$f":"'UEC-MF'!AZ12","v":360.76042593952138},{"$f":"'UEC-MF'!BA12","v":360.28969756345225},{"$f":"'UEC-MF'!BB12","v":359.83382431605412},{"$f":"'UEC-MF'!BC12","v":359.39055040907044},{"$f":"'UEC-MF'!BD12","v":358.98522981345161},{"$f":"'UEC-MF'!BE12","v":358.58702218463588}]
[null,null,{"$f":"'UEC-SF'!$C$14&\" - \"&'UEC-SF'!C16","v":"Installed UEC (Vintage Weighted Average)  - PRE-Case UEC"},{"$f":"'UEC-MF'!AG16","v":389.10433686446277},{"$f":"'UEC-MF'!AH16","v":389.10433686446277},{"$f":"'UEC-MF'!AI16","v":389.10433686446277},{"$f":"'UEC-MF'!AJ16","v":389.10433686446271},{"$f":"'UEC-MF'!AK16","v":389.10433686446265},{"$f":"'UEC-MF'!AL16","v":388.99356047189855},{"$f":"'UEC-MF'!AM16","v":388.79626993745347},{"$f":"'UEC-MF'!AN16","v":388.48141971848128},{"$f":"'UEC-MF'!AO16","v":388.04257845399377},{"$f":"'UEC-MF'!AP16","v":387.54468952801551},{"$f":"'UEC-MF'!AQ16","v":386.97757203339404},{"$f":"'UEC-MF'!AR16","v":386.30670317605671},{"$f":"'UEC-MF'!AS16","v":385.52285826035086},{"$f":"'UEC-MF'!AT16","v":384.60826597565676},{"$f":"'UEC-MF'!AU16","v":383.76987083076961},{"$f":"'UEC-MF'!AV16","v":382.74697071295026},{"$f":"'UEC-MF'!AW16","v":381.82506004875154},{"$f":"'UEC-MF'!AX16","v":380.8650741767521},{"$f":"'UEC-MF'!AY16","v":379.84846678128088},{"$f":"'UEC-MF'!AZ16","v":378.78517459801094},{"$f":"'UEC-MF'!BA16","v":377.80517397471237},{"$f":"'UEC-MF'!BB16","v":376.86521072682064},{"$f":"'UEC-MF'!BC16","v":375.91266769148626},{"$f":"'UEC-MF'!BD16","v":374.93271649491135},{"$f":"'UEC-MF'!BE16","v":373.91099459072734}]
[null,null,{"$f":"'UEC-SF'!$C$14&\" - \"&'UEC-SF'!C17","v":"Installed UEC (Vintage Weighted Average)  - POST-Case UEC"},{"$f":"'UEC-MF'!AG17","v":389.10433686446277},{"$f":"'UEC-MF'!AH17","v":389.10433686446277},{"$f":"'UEC-MF'!AI17","v":389.10433686446277},{"$f":"'UEC-MF'!AJ17","v":389.10433686446271},{"$f":"'UEC-MF'!AK17","v":386.76916501305629},{"$f":"'UEC-MF'!AL17","v":384.62798500635716},{"$f":"'UEC-MF'!AM17","v":382.42900020276676},{"$f":"'UEC-MF'!AN17","v":380.08699771842896},{"$f":"'UEC-MF'!AO17","v":377.62487697685117},{"$f":"'UEC-MF'!AP17","v":375.39286271176479},{"$f":"'UEC-MF'!AQ17","v":373.27044124265529},{"$f":"'UEC-MF'!AR17","v":371.09774783776055},{"$f":"'UEC-MF'!AS17","v":368.84011473682028},{"$f":"'UEC-MF'!AT17","v":366.45123901389627},{"$f":"'UEC-MF'!AU17","v":364.47917226920913},{"$f":"'UEC-MF'!AV17","v":364.15427821855616},{"$f":"'UEC-MF'!AW17","v":363.86205708771297},{"$f":"'UEC-MF'!AX17","v":363.54003422986477},{"$f":"'UEC-MF'!AY17","v":363.17587412667365},{"$f":"'UEC-MF'!AZ17","v":362.77224374124631},{"$f":"'UEC-MF'!BA17","v":362.37521627899309},{"$f":"'UEC-MF'!BB17","v":361.97446392857091},{"$f":"'UEC-MF'!BC17","v":361.55199533311531},{"$f":"'UEC-MF'!BD17","v":361.11137184986364},{"$f":"'UEC-MF'!BE17","v":360.64982627313719}]
[]
[null,null,"Stock and Shipments (units)",2010,2011,2012,2013,2014,2015,2016,2017,2018,2019,2020,2021,2022,2023,2024,2025,2026,2027,2028,2029,2030,2031,2032,2033,2034]
[null,null,"6P Shipments",{"$f":"'Shipments and Stock - MF'!AH11","v":13423.596020143743},{"$f":"'Shipments and Stock - MF'!AI11","v":14067.719439775386},{"$f":"'Shipments and Stock - MF'!AJ11","v":14216.217215143184},{"$f":"'Shipments and Stock - MF'!AK11","v":14319.473221126647},{"$f":"'Shipments and Stock - MF'!AL11","v":14462.69687045411},{"$f":"'Shipments and Stock - MF'!AM11","v":14632.755709703446},{"$f":"'Shipments and Stock - MF'!AN11","v":14772.454276170443},{"$f":"'Shipments and Stock - MF'!AO11","v":14850.856230062724},{"$f":"'Shipments and Stock - MF'!AP11","v":14936.872704306808},{"$f":"'Shipments and Stock - MF'!AQ11","v":2652.7601304591144},{"$f":"'Shipments and Stock - MF'!AR11","v":2711.5252753928853},{"$f":"'Shipments and Stock - MF'!AS11","v":2663.6260580452431},{"$f":"'Shipments and Stock - MF'!AT11","v":2693.433350518706},{"$f":"'Shipments and Stock - MF'!AU11","v":2705.8149130097554},{"$f":"'Shipments and Stock - MF'!AV11","v":2698.3037468799553},{"$f":"'Shipments and Stock - MF'!AW11","v":2669.1438499151645},{"$f":"'Shipments and Stock - MF'!AX11","v":2629.1161220633794},{"$f":"'Shipments and Stock - MF'!AY11","v":2616.697605350892},{"$f":"'Shipments and Stock - MF'!AZ11","v":2611.4440427267878},{"$f":"'Shipments and Stock - MF'!BA11","v":2602.7383636507329},{"$f":"'Shipments and Stock - MF'!BB11","v":2574.420485583888},{"$f":"'Shipments and Stock - MF'!BC11","v":2574.420485583888},{"$f":"'Shipments and Stock - MF'!BD11","v":2574.420485583888},{"$f":"'Shipments and Stock - MF'!BE11","v":2574.420485583888},{"$f":"'Shipments and Stock - MF'!BF11","v":2574.420485583888}]
[null,null,"Replacement Shipments",{"$f":"'Shipments and Stock - MF'!AH12","v":8499.8736742732581},{"$f":"'Shipments and Stock - MF'!AI12","v":9001.4671132151998},{"$f":"'Shipments and Stock - MF'!AJ12","v":8464.4995513432659},{"$f":"'Shipments and Stock - MF'!AK12","v":6784.5297720030794},{"$f":"'Shipments and Stock - MF'!AL12","v":7981.5817465154178},{"$f":"'Shipments and Stock - MF'!AM12","v":7185.368825946186},{"$f":"'Shipments and Stock - MF'!AN12","v":7566.2030222570684},{"$f":"'Shipments and Stock - MF'!AO12","v":8343.9897920938874},{"$f":"'Shipments and Stock - MF'!AP12","v":9042.6429123899488},{"$f":"'Shipments and Stock - MF'!AQ12","v":8316.4284157925649},{"$f":"'Shipments and Stock - MF'!AR12","v":8070.1819640055537},{"$f":"'Shipments and Stock - MF'!AS12","v":8499.8736742732581},{"$f":"'Shipments and Stock - MF'!AT12","v":9031.0655735358305},{"$f":"'Shipments and Stock - MF'!AU12","v":9756.2485167449195},{"$f":"'Shipments and Stock - MF'!AV12","v":8149.0581811590528},{"$f":"'Shipments and Stock - MF'!AW12","v":9447.0605791477938},{"$f":"'Shipments and Stock - MF'!AX12","v":8770.7127221957853},{"$f":"'Shipments and Stock - MF'!AY12","v":9250.0127061759194},{"$f":"'Shipments and Stock - MF'!AZ12","v":10083.060674033948},{"$f":"'Shipments and Stock - MF'!BA12","v":10842.342046309763},{"$f":"'Shipments and Stock - MF'!BB12","v":10186.212210638616},{"$f":"'Shipments and Stock - MF'!BC12","v":9981.3860570675242},{"$f":"'Shipments and Stock - MF'!BD12","v":10377.316260083186},{"$f":"'Shipments and Stock - MF'!BE12","v":10929.517670079571},{"$f":"'Shipments and Stock - MF'!BF12","v":11663.427691411867}]
[null,null,"Net New Shipments",{"$f":"'Shipments and Stock - MF'!AH13","v":0},{"$f":"'Shipments and Stock - MF'!AI13","v":29.598460320630693},{"$f":"'Shipments and Stock - MF'!AJ13","v":1291.7489654016535},{"$f":"'Shipments and Stock - MF'!AK13","v":1364.5284091559733},{"$f":"'Shipments and Stock - MF'!AL13","v":1465.478832632376},{"$f":"'Shipments and Stock - MF'!AM13","v":1585.3438962496002},{"$f":"'Shipments and Stock - MF'!AN13","v":1683.8096839188504},{"$f":"'Shipments and Stock - MF'!AO13","v":1739.0708819400606},{"$f":"'Shipments and Stock - MF'!AP13","v":1799.6991339198139},{"$f":"'Shipments and Stock - MF'!AQ13","v":1869.783794846051},{"$f":"'Shipments and Stock - MF'!AR13","v":1911.2040930619696},{"$f":"'Shipments and Stock - MF'!AS13","v":1877.442585809928},{"$f":"'Shipments and Stock - MF'!AT13","v":1898.4520965437405},{"$f":"'Shipments and Stock - MF'!AU13","v":1907.1791746669476},{"$f":"'Shipments and Stock - MF'!AV13","v":1901.8849693791708},{"$f":"'Shipments and Stock - MF'!AW13","v":1881.3317719083134},{"$f":"'Shipments and Stock - MF'!AX13","v":1853.1184419421334},{"$f":"'Shipments and Stock - MF'!AY13","v":1844.3653168335004},{"$f":"'Shipments and Stock - MF'!AZ13","v":1840.6623713063454},{"$f":"'Shipments and Stock - MF'!BA13","v":1834.5262199549034},{"$f":"'Shipments and Stock - MF'!BB13","v":1814.5665150023706},{"$f":"'Shipments and Stock - MF'!BC13","v":1832.7121801524045},{"$f":"'Shipments and Stock - MF'!BD13","v":1851.0393019539188},{"$f":"'Shipments and Stock - MF'!BE13","v":1869.5496949734661},{"$f":"'Shipments and Stock - MF'!BF13","v":1888.2451919231826}]
[null,null,"Total Model Shipments",{"$f":"'Shipments and Stock - MF'!AH14","v":8499.8736742732581},{"$f":"'Shipments and Stock - MF'!AI14","v":9031.0655735358305},{"$f":"'Shipments and Stock - MF'!AJ14","v":9756.2485167449195},{"$f":"'Shipments and Stock - MF'!AK14","v":8149.0581811590528},{"$f":"'Shipments and Stock - MF'!AL14","v":9447.0605791477938},{"$f":"'Shipments and Stock - MF'!AM14","v":8770.7127221957853},{"$f":"'Shipments and Stock - MF'!AN14","v":9250.0127061759194},{"$f":"'Shipments and Stock - MF'!AO14","v":10083.060674033948},{"$f":"'Shipments and Stock - MF'!AP14","v":10842.342046309763},{"$f":"'Shipments and Stock - MF'!AQ14","v":10186.212210638616},{"$f":"'Shipments and Stock - MF'!AR14","v":9981.3860570675242},{"$f":"'Shipments and Stock - MF'!AS14","v":10377.316260083186},{"$f":"'Shipments and Stock - MF'!AT14","v":10929.517670079571},{"$f":"'Shipments and Stock - MF'!AU14","v":11663.427691411867},{"$f":"'Shipments and Stock - MF'!AV14","v":10050.943150538224},{"$f":"'Shipments and Stock - MF'!AW14","v":11328.392351056107},{"$f":"'Shipments and Stock - MF'!AX14","v":10623.831164137919},{"$f":"'Shipments and Stock - MF'!AY14","v":11094.37802300942},{"$f":"'Shipments and Stock - MF'!AZ14","v":11923.723045340294},{"$f":"'Shipments and Stock - MF'!BA14","v":12676.868266264666},{"$f":"'Shipments and Stock - MF'!BB14","v":12000.778725640987},{"$f":"'Shipments and Stock - MF'!BC14","v":11814.098237219929},{"$f":"'Shipments and Stock - MF'!BD14","v":12228.355562037104},{"$f":"'Shipments and Stock - MF'!BE14","v":12799.067365053037},{"$f":"'Shipments and Stock - MF'!BF14","v":13551.67288333505}]
[null,null,"Model Installed Stock",{"$f":"'Shipments and Stock - MF'!AH15","v":89256.766789835499},{"$f":"'Shipments and Stock - MF'!AI15","v":89286.36525015613},{"$f":"'Shipments and Stock - MF'!AJ15","v":90578.114215557784},{"$f":"'Shipments and Stock - MF'!AK15","v":91942.642624713757},{"$f":"'Shipments and Stock - MF'!AL15","v":93408.121457346133},{"$f":"'Shipments and Stock - MF'!AM15","v":94993.465353595733},{"$f":"'Shipments and Stock - MF'!AN15","v":96677.275037514584},{"$f":"'Shipments and Stock - MF'!AO15","v":98416.345919454645},{"$f":"'Shipments and Stock - MF'!AP15","v":100216.04505337446},{"$f":"'Shipments and Stock - MF'!AQ15","v":102085.82884822051},{"$f":"'Shipments and Stock - MF'!AR15","v":103997.03294128248},{"$f":"'Shipments and Stock - MF'!AS15","v":105874.47552709241},{"$f":"'Shipments and Stock - MF'!AT15","v":107772.92762363615},{"$f":"'Shipments and Stock - MF'!AU15","v":109680.1067983031},{"$f":"'Shipments and Stock - MF'!AV15","v":111581.99176768227},{"$f":"'Shipments and Stock - MF'!AW15","v":113463.32353959058},{"$f":"'Shipments and Stock - MF'!AX15","v":115316.44198153271},{"$f":"'Shipments and Stock - MF'!AY15","v":117160.80729836621},{"$f":"'Shipments and Stock - MF'!AZ15","v":119001.46966967256},{"$f":"'Shipments and Stock - MF'!BA15","v":120835.99588962746},{"$f":"'Shipments and Stock - MF'!BB15","v":122650.56240462983},{"$f":"'Shipments and Stock - MF'!BC15","v":124483.27458478224},{"$f":"'Shipments and Stock - MF'!BD15","v":126334.31388673616},{"$f":"'Shipments and Stock - MF'!BE15","v":128203.86358170962},{"$f":"'Shipments and Stock - MF'!BF15","v":130092.1087736328}]
[]
[]
[]
[null,null,"First Year Energy Consumption ",2010,2011,2012,2013,2014,2015,2016,2017,2018,2019,2020,2021,2022,2023,2024,2025,2026,2027,2028,2029,2030,2031,2032,2033,2034]
[null,null,"6P Shipments * 6P UEC",{"$f":"D12*D19","v":5037090.9512759848},5278792.8204072313,5334515.3555213157,5373261.2990541598,5427004.7629481489,5490817.905051196,5543238.6113955453,5572658.2819458619,5604935.2369008055,995425.81801401835,1017476.9419715725,999503.16550266265,1010688.1000742045,1015334.1767508815,1012515.6751445181,1001573.6702658646,986553.60370100336,981893.66026506631,979922.30529311043,976655.57279960392,966029.52839572041,966029.52839572041,966029.52839572041,966029.52839572041,966029.52839572041]
[null,null,"Model Shipments * Model Pre-Case UEC",{"$f":"D13*D22","v":3307337.7094598003},{"$f":"E13*E22","v":3514026.7811701386},3796198.6093929303,3170833.8796498184,3675892.2419677093,3402199.3241896657,3579960.0224010353,3891840.4788484788,4173702.3126057535,3910686.6850284538,3821841.2615805822,3962837.9945305749,4162934.2903551003,4431147.1965629989,3808764.7596530537,4281829.0460459497,4005163.3365950878,4171712.2004943476,4471906.715292301,4742060.3146386007,4477819.9516288713,4397239.7025617128,4540091.4403085196,4740088.1740519647,5006194.1386836991]
[null,null,"Model Shipments * Model Post-Case UEC",{"$f":"D14*D22","v":3307337.7094598003},{"$f":"E14*E22","v":3514026.7811701386},3796198.6093929303,3170833.8796498184,3457768.2260477738,3205622.1983751897,3379090.8767570928,3681262.4268758092,3955829.8113708589,3714178.2130573997,3636869.6417626343,3778098.7571484153,3975226.349787036,4237630.6505825855,3647734.8478697236,4106610.9142513499,3846745.3059734702,4012456.9769673455,4307081.3008713415,4573312.3953168429,4323756.9375871029,4251112.1495444002,4394755.436038333,4594676.1394414129,4859454.0248553939]
[]
[null,null,"Total Energy Consumption (kWh)",2010,2011,2012,2013,2014,2015,2016,2017,2018,2019,2020,2021,2022,2023,2024,2025,2026,2027,2028,2029,2030,2031,2032,2033,2034]
[null,null,"Modeled Pre-case Consumption \n(Installed UEC * Stock)",{"$f":"D15*D$23","v":34730195.052424945},{"$f":"E15*E$23","v":34741711.941700213},35244337.066278182,35775280.988055527,36345505.157415852,36951846.309459142,37587763.922302954,38232921.7862949,38888092.524973035,39562820.846193746,40244519.306294397,40900019.591365166,41548927.10055013,42183875.687720194,42821806.567723423,43427743.371801674,44030707.3842071,44622459.562300406,45202525.798744224,45770883.80077707,46338017.067377493,46913415.508358635,47490668.954136565,48067822.837833427,48642869.779954128]
[null,null,"Modeled Post-case Consumption \n(Installed UEC* Stock)",{"$f":"D16*D$23","v":34730195.052424945},34741711.941700213,35244337.066278182,35775280.988055527,36127381.141495913,36537145.167724729,36972193.634924605,37406773.446943872,37844071.684387103,38322291.533636756,38819018.373919472,39289779.42160809,39750978.990224987,40192411.031414635,40669311.999634542,41318154.687838122,41959277.795436397,42592643.895646647,43218462.769642174,43835945.353588171,44445524.078117877,45059766.585899644,45676423.264789559,46295873.054443933,46917696.428716742]
[]
[]
[]
[null,null,"Total Energy Consumption (aMW)",2010,2011,2012,2013,2014,2015,2016,2017,2018,2019,2020,2021,2022,2023,2024,2025,2026,2027,2028,2029,2030,2031,2032,2033,2034]
[null,null,{"$f":"C33","v":"Modeled Pre-case Consumption \n(Installed UEC * Stock)"},{"$f":"D33/Constants!$D$13/(Constants!$D$12*Constants!$D$10)","v":3.9619204942305437},{"$f":"E33/Constants!$D$13/(Constants!$D$12*Constants!$D$10)","v":3.9632343077458603},{"$f":"F33/Constants!$D$13/(Constants!$D$12*Constants!$D$10)","v":4.0205723324524509},{"$f":"G33/Constants!$D$13/(Constants!$D$12*Constants!$D$10)","v":4.0811408838758307},{"$f":"H33/Constants!$D$13/(Constants!$D$12*Constants!$D$10)","v":4.1461904126643683},{"$f":"I33/Constants!$D$13/(Constants!$D$12*Constants!$D$10)","v":4.2153600626807144},{"$f":"J33/Constants!$D$13/(Constants!$D$12*Constants!$D$10)","v":4.2879037100505313},{"$f":"K33/Constants!$D$13/(Constants!$D$12*Constants!$D$10)","v":4.361501458623648},{"$f":"L33/Constants!$D$13/(Constants!$D$12*Constants!$D$10)","v":4.4362414470651421},{"$f":"M33/Constants!$D$13/(Constants!$D$12*Constants!$D$10)","v":4.513212508121577},{"$f":"N33/Constants!$D$13/(Constants!$D$12*Constants!$D$10)","v":4.5909787025204647},{"$f":"O33/Constants!$D$13/(Constants!$D$12*Constants!$D$10)","v":4.6657562846640621},{"$f":"P33/Constants!$D$13/(Constants!$D$12*Constants!$D$10)","v":4.7397817819473111},{"$f":"Q33/Constants!$D$13/(Constants!$D$12*Constants!$D$10)","v":4.8122148856628106},{"$f":"R33/Constants!$D$13/(Constants!$D$12*Constants!$D$10)","v":4.8849882007441741},{"$f":"S33/Constants!$D$13/(Constants!$D$12*Constants!$D$10)","v":4.9541117239107546},{"$f":"T33/Constants!$D$13/(Constants!$D$12*Constants!$D$10)","v":5.0228961195764423},{"$f":"U33/Constants!$D$13/(Constants!$D$12*Constants!$D$10)","v":5.0904015015172721},{"$f":"V33/Constants!$D$13/(Constants!$D$12*Constants!$D$10)","v":5.1565737849354578},{"$f":"W33/Constants!$D$13/(Constants!$D$12*Constants!$D$10)","v":5.2214104267370605},{"$f":"X33/Constants!$D$13/(Constants!$D$12*Constants!$D$10)","v":5.2861073542525086},{"$f":"Y33/Constants!$D$13/(Constants!$D$12*Constants!$D$10)","v":5.3517471490256261},{"$f":"Z33/Constants!$D$13/(Constants!$D$12*Constants!$D$10)","v":5.4175985573963681},{"$f":"AA33/Constants!$D$13/(Constants!$D$12*Constants!$D$10)","v":5.4834386080120261},{"$f":"AB33/Constants!$D$13/(Constants!$D$12*Constants!$D$10)","v":5.5490383048088212}]
[null,null,{"$f":"C34","v":"Modeled Post-case Consumption \n(Installed UEC* Stock)"},{"$f":"D34/Constants!$D$13/(Constants!$D$12*Constants!$D$10)","v":3.9619204942305437},{"$f":"E34/Constants!$D$13/(Constants!$D$12*Constants!$D$10)","v":3.9632343077458603},{"$f":"F34/Constants!$D$13/(Constants!$D$12*Constants!$D$10)","v":4.0205723324524509},{"$f":"G34/Constants!$D$13/(Constants!$D$12*Constants!$D$10)","v":4.0811408838758307},{"$f":"H34/Constants!$D$13/(Constants!$D$12*Constants!$D$10)","v":4.1213074539694174},{"$f":"I34/Constants!$D$13/(Constants!$D$12*Constants!$D$10)","v":4.1680521523756253},{"$f":"J34/Constants!$D$13/(Constants!$D$12*Constants!$D$10)","v":4.2176812268907833},{"$f":"K34/Constants!$D$13/(Constants!$D$12*Constants!$D$10)","v":4.267256838574478},{"$f":"L34/Constants!$D$13/(Constants!$D$12*Constants!$D$10)","v":4.3171425603909546},{"$f":"M34/Constants!$D$13/(Constants!$D$12*Constants!$D$10)","v":4.3716965016697191},{"$f":"N34/Constants!$D$13/(Constants!$D$12*Constants!$D$10)","v":4.428361667113788},{"$f":"O34/Constants!$D$13/(Constants!$D$12*Constants!$D$10)","v":4.4820647298206806},{"$f":"P34/Constants!$D$13/(Constants!$D$12*Constants!$D$10)","v":4.5346770465691293},{"$f":"Q34/Constants!$D$13/(Constants!$D$12*Constants!$D$10)","v":4.5850343407956462},{"$f":"R34/Constants!$D$13/(Constants!$D$12*Constants!$D$10)","v":4.6394378279300188},{"$f":"S34/Constants!$D$13/(Constants!$D$12*Constants!$D$10)","v":4.7134559306226462},{"$f":"T34/Constants!$D$13/(Constants!$D$12*Constants!$D$10)","v":4.7865934058220851},{"$f":"U34/Constants!$D$13/(Constants!$D$12*Constants!$D$10)","v":4.8588459839888936},{"$f":"V34/Constants!$D$13/(Constants!$D$12*Constants!$D$10)","v":4.9302375963543437},{"$f":"W34/Constants!$D$13/(Constants!$D$12*Constants!$D$10)","v":5.0006782287917142},{"$f":"X34/Constants!$D$13/(Constants!$D$12*Constants!$D$10)","v":5.0702172117405748},{"$f":"Y34/Constants!$D$13/(Constants!$D$12*Constants!$D$10)","v":5.1402882256330873},{"$f":"Z34/Constants!$D$13/(Constants!$D$12*Constants!$D$10)","v":5.2106346412034634},{"$f":"AA34/Constants!$D$13/(Constants!$D$12*Constants!$D$10)","v":5.2812996867948812},{"$f":"AB34/Constants!$D$13/(Constants!$D$12*Constants!$D$10)","v":5.3522355040744634}]
[]
[null,null,"Savings (aMW)",2010,2011,2012,2013,2014,2015,2016,2017,2018,2019,2020,2021,2022,2023,2024,2025,2026,2027,2028,2029,2030,2031,2032,2033,2034]
[null,null,"Incremental Savings",{"$f":"IF(AND(D42>=STANDARD_YEAR,(D42-STANDARD_YEAR)<LIFETIME_MF),\n(D13-D14)*D22,\n(D13-D14)*D21)\n/Constants!$D$13/(Constants!$D$12*Constants!$D$10)","v":0},{"$f":"IF(AND(E42>=STANDARD_YEAR,(E42-STANDARD_YEAR)<LIFETIME_MF),\n(E13-E14)*E22,\n(E13-E14)*E21)\n/Constants!$D$13/(Constants!$D$12*Constants!$D$10)","v":0},{"$f":"IF(AND(F42>=STANDARD_YEAR,(F42-STANDARD_YEAR)<LIFETIME_MF),\n(F13-F14)*F22,\n(F13-F14)*F21)\n/Constants!$D$13/(Constants!$D$12*Constants!$D$10)","v":0},{"$f":"IF(AND(G42>=STANDARD_YEAR,(G42-STANDARD_YEAR)<LIFETIME_MF),\n(G13-G14)*G22,\n(G13-G14)*G21)\n/Constants!$D$13/(Constants!$D$12*Constants!$D$10)","v":0},{"$f":"IF(AND(H42>=STANDARD_YEAR,(H42-STANDARD_YEAR)<LIFETIME_MF),\n(H13-H14)*H22,\n(H13-H14)*H21)\n/Constants!$D$13/(Constants!$D$12*Constants!$D$10)","v":2.4882958694950448E-2},{"$f":"IF(AND(I42>=STANDARD_YEAR,(I42-STANDARD_YEAR)<LIFETIME_MF),\n(I13-I14)*I22,\n(I13-I14)*I21)\n/Constants!$D$13/(Constants!$D$12*Constants!$D$10)","v":2.2424951610138768E-2},{"$f":"IF(AND(J42>=STANDARD_YEAR,(J42-STANDARD_YEAR)<LIFETIME_MF),\n(J13-J14)*J22,\n(J13-J14)*J21)\n/Constants!$D$13/(Constants!$D$12*Constants!$D$10)","v":2.2914572854659202E-2},{"$f":"IF(AND(K42>=STANDARD_YEAR,(K42-STANDARD_YEAR)<LIFETIME_MF),\n(K13-K14)*K22,\n(K13-K14)*K21)\n/Constants!$D$13/(Constants!$D$12*Constants!$D$10)","v":2.4022136889421612E-2},{"$f":"IF(AND(L42>=STANDARD_YEAR,(L42-STANDARD_YEAR)<LIFETIME_MF),\n(L13-L14)*L22,\n(L13-L14)*L21)\n/Constants!$D$13/(Constants!$D$12*Constants!$D$10)","v":2.4854266625016531E-2},{"$f":"IF(AND(M42>=STANDARD_YEAR,(M42-STANDARD_YEAR)<LIFETIME_MF),\n(M13-M14)*M22,\n(M13-M14)*M21)\n/Constants!$D$13/(Constants!$D$12*Constants!$D$10)","v":2.2417119777669862E-2},{"$f":"IF(AND(N42>=STANDARD_YEAR,(N42-STANDARD_YEAR)<LIFETIME_MF),\n(N13-N14)*N22,\n(N13-N14)*N21)\n/Constants!$D$13/(Constants!$D$12*Constants!$D$10)","v":2.1101028954819506E-2},{"$f":"IF(AND(O42>=STANDARD_YEAR,(O42-STANDARD_YEAR)<LIFETIME_MF),\n(O13-O14)*O22,\n(O13-O14)*O21)\n/Constants!$D$13/(Constants!$D$12*Constants!$D$10)","v":2.1074519436705449E-2},{"$f":"IF(AND(P42>=STANDARD_YEAR,(P42-STANDARD_YEAR)<LIFETIME_MF),\n(P13-P14)*P22,\n(P13-P14)*P21)\n/Constants!$D$13/(Constants!$D$12*Constants!$D$10)","v":2.1413180534800867E-2},{"$f":"IF(AND(Q42>=STANDARD_YEAR,(Q42-STANDARD_YEAR)<LIFETIME_MF),\n(Q13-Q14)*Q22,\n(Q13-Q14)*Q21)\n/Constants!$D$13/(Constants!$D$12*Constants!$D$10)","v":2.2075809488981683E-2},{"$f":"IF(AND(R42>=STANDARD_YEAR,(R42-STANDARD_YEAR)<LIFETIME_MF),\n(R13-R14)*R22,\n(R13-R14)*R21)\n/Constants!$D$13/(Constants!$D$12*Constants!$D$10)","v":1.8369827946991789E-2},{"$f":"IF(AND(S42>=STANDARD_YEAR,(S42-STANDARD_YEAR)<LIFETIME_MF),\n(S13-S14)*S22,\n(S13-S14)*S21)\n/Constants!$D$13/(Constants!$D$12*Constants!$D$10)","v":3.3195153940709741E-3},{"$f":"IF(AND(T42>=STANDARD_YEAR,(T42-STANDARD_YEAR)<LIFETIME_MF),\n(T13-T14)*T22,\n(T13-T14)*T21)\n/Constants!$D$13/(Constants!$D$12*Constants!$D$10)","v":3.1522827224722003E-3},{"$f":"IF(AND(U42>=STANDARD_YEAR,(U42-STANDARD_YEAR)<LIFETIME_MF),\n(U13-U14)*U22,\n(U13-U14)*U21)\n/Constants!$D$13/(Constants!$D$12*Constants!$D$10)","v":3.0202035014756452E-3},{"$f":"IF(AND(V42>=STANDARD_YEAR,(V42-STANDARD_YEAR)<LIFETIME_MF),\n(V13-V14)*V22,\n(V13-V14)*V21)\n/Constants!$D$13/(Constants!$D$12*Constants!$D$10)","v":2.9025851172848369E-3},{"$f":"IF(AND(W42>=STANDARD_YEAR,(W42-STANDARD_YEAR)<LIFETIME_MF),\n(W13-W14)*W22,\n(W13-W14)*W21)\n/Constants!$D$13/(Constants!$D$12*Constants!$D$10)","v":2.7857934074794742E-3},{"$f":"IF(AND(X42>=STANDARD_YEAR,(X42-STANDARD_YEAR)<LIFETIME_MF),\n(X13-X14)*X22,\n(X13-X14)*X21)\n/Constants!$D$13/(Constants!$D$12*Constants!$D$10)","v":2.6574211546759236E-3},{"$f":"IF(AND(Y42>=STANDARD_YEAR,(Y42-STANDARD_YEAR)<LIFETIME_MF),\n(Y13-Y14)*Y22,\n(Y13-Y14)*Y21)\n/Constants!$D$13/(Constants!$D$12*Constants!$D$10)","v":2.5859750708651661E-3},{"$f":"IF(AND(Z42>=STANDARD_YEAR,(Z42-STANDARD_YEAR)<LIFETIME_MF),\n(Z13-Z14)*Z22,\n(Z13-Z14)*Z21)\n/Constants!$D$13/(Constants!$D$12*Constants!$D$10)","v":2.5096856729717697E-3},{"$f":"IF(AND(AA42>=STANDARD_YEAR,(AA42-STANDARD_YEAR)<LIFETIME_MF),\n(AA13-AA14)*AA22,\n(AA13-AA14)*AA21)\n/Constants!$D$13/(Constants!$D$12*Constants!$D$10)","v":2.4230232068896884E-3},{"$f":"IF(AND(AB42>=STANDARD_YEAR,(AB42-STANDARD_YEAR)<LIFETIME_MF),\n(AB13-AB14)*AB22,\n(AB13-AB14)*AB21)\n/Constants!$D$13/(Constants!$D$12*Constants!$D$10)","v":2.3324527940094537E-3}]
[null,null,"Cumulative Savings",0,{"$f":"E43+D44","v":0},{"$f":"F43+E44","v":0},0,2.4882958694950448E-2,4.7307910305089212E-2,7.0222483159748411E-2,9.424462004917003E-2,0.11909888667418655,0.14151600645185641,0.16261703540667591,0.18369155484338134,0.20510473537818222,0.22718054486716391,0.2455503728141557,0.24886988820822667,0.2520221709306989,0.25504237443217453,0.2579449595494594,0.26073075295693887,0.2633881741116148,0.26597414918247997,0.26848383485545174,0.27090685806234144,0.27323931085635089]
[null,null,"DOE Aggregate Lifecycle Savings (formerly DOE Carbon proxy)",{"$f":"SUM($D$44:D44)","v":0},{"$f":"SUM($D$44:E44)","v":0},{"$f":"SUM($D$44:F44)","v":0},{"$f":"SUM($D$44:G44)","v":0},{"$f":"SUM($D$44:H44)","v":2.4882958694950448E-2},{"$f":"SUM($D$44:I44)","v":7.2190869000039654E-2},{"$f":"SUM($D$44:J44)","v":0.14241335215978806},{"$f":"SUM($D$44:K44)","v":0.2366579722089581},{"$f":"SUM($D$44:L44)","v":0.35575685888314468},{"$f":"SUM($D$44:M44)","v":0.49727286533500109},{"$f":"SUM($D$44:N44)","v":0.65988990074167697},{"$f":"SUM($D$44:O44)","v":0.84358145558505826},{"$f":"SUM($D$44:P44)","v":1.0486861909632406},{"$f":"SUM($D$44:Q44)","v":1.2758667358304046},{"$f":"SUM($D$44:R44)","v":1.5214171086445603},{"$f":"SUM($D$44:S44)","v":1.770286996852787},{"$f":"SUM($D$44:T44)","v":2.0223091677834857},{"$f":"SUM($D$44:U44)","v":2.2773515422156603},{"$f":"SUM($D$44:V44)","v":2.5352965017651199},{"$f":"SUM($D$44:W44)","v":2.7960272547220586},{"$f":"SUM($D$44:X44)","v":3.0594154288336735},{"$f":"SUM($D$44:Y44)","v":3.3253895780161535},{"$f":"SUM($D$44:Z44)","v":3.5938734128716052},{"$f":"SUM($D$44:AA44)","v":3.8647802709339465},{"$f":"SUM($D$44:AB44)","v":4.1380195817902976}]
[null,null,"Check",{"$f":"IF(ISNUMBER(C44),ROUND((D44-C44-D43),3),0)","v":0},{"$f":"IF(ISNUMBER(D44),ROUND((E44-D44-E43),3),0)","v":0},0,0,0,0,0,0,0,0,0,0,0,0,0,0,0,0,0,0,0,0,0,0,0]

{"sheet":"Results-MH","index":23,"n_rows":46,"n_cols":28,"rows_kept":46,"cut":false,"hidden":false,"merged":[]}
[]
[null,null,"RESULTS - Manufactured Homes"]
[]
[null,null,"NAVIGATION"]
[]
[null,null,"COMMENTS"]
[]
[]
[null,null,"MANUFACTURED HOMES"]
[]
[null,null,"Unit Energy Consumption (kWh/year) ",2010,2011,2012,2013,2014,2015,2016,2017,2018,2019,2020,2021,2022,2023,2024,2025,2026,2027,2028,2029,2030,2031,2032,2033,2034]
[null,null,"6P UEC",{"$f":"'6P UEC Development'!$F$10","v":375.24154807081618},{"$f":"'6P UEC Development'!$F$10","v":375.24154807081618},{"$f":"'6P UEC Development'!$F$10","v":375.24154807081618},{"$f":"'6P UEC Development'!$F$10","v":375.24154807081618},{"$f":"'6P UEC Development'!$F$10","v":375.24154807081618},{"$f":"'6P UEC Development'!$F$10","v":375.24154807081618},{"$f":"'6P UEC Development'!$F$10","v":375.24154807081618},{"$f":"'6P UEC Development'!$F$10","v":375.24154807081618},{"$f":"'6P UEC Development'!$F$10","v":375.24154807081618},{"$f":"'6P UEC Development'!$F$10","v":375.24154807081618},{"$f":"'6P UEC Development'!$F$10","v":375.24154807081618},{"$f":"'6P UEC Development'!$F$10","v":375.24154807081618},{"$f":"'6P UEC Development'!$F$10","v":375.24154807081618},{"$f":"'6P UEC Development'!$F$10","v":375.24154807081618},{"$f":"'6P UEC Development'!$F$10","v":375.24154807081618},{"$f":"'6P UEC Development'!$F$10","v":375.24154807081618},{"$f":"'6P UEC Development'!$F$10","v":375.24154807081618},{"$f":"'6P UEC Development'!$F$10","v":375.24154807081618},{"$f":"'6P UEC Development'!$F$10","v":375.24154807081618},{"$f":"'6P UEC Development'!$F$10","v":375.24154807081618},{"$f":"'6P UEC Development'!$F$10","v":375.24154807081618},{"$f":"'6P UEC Development'!$F$10","v":375.24154807081618},{"$f":"'6P UEC Development'!$F$10","v":375.24154807081618},{"$f":"'6P UEC Development'!$F$10","v":375.24154807081618},{"$f":"'6P UEC Development'!$F$10","v":375.24154807081618}]
[null,null,{"$f":"'UEC-SF'!$C$9&\" - \"&'UEC-SF'!C11","v":"Market UEC (Shipment Weighted Average) - PRE-Case UEC"},{"$f":"'UEC-MH'!AG11","v":389.10433686446271},{"$f":"'UEC-MH'!AH11","v":389.10433686446277},{"$f":"'UEC-MH'!AI11","v":389.10433686446277},{"$f":"'UEC-MH'!AJ11","v":389.10433686446277},{"$f":"'UEC-MH'!AK11","v":389.10433686446271},{"$f":"'UEC-MH'!AL11","v":387.90454458505064},{"$f":"'UEC-MH'!AM11","v":387.0221734950502},{"$f":"'UEC-MH'!AN11","v":385.97808787075991},{"$f":"'UEC-MH'!AO11","v":384.94471902648479},{"$f":"'UEC-MH'!AP11","v":383.91961645410061},{"$f":"'UEC-MH'!AQ11","v":382.89684816613715},{"$f":"'UEC-MH'!AR11","v":381.87503350686245},{"$f":"'UEC-MH'!AS11","v":380.88911295248334},{"$f":"'UEC-MH'!AT11","v":379.91809215963036},{"$f":"'UEC-MH'!AU11","v":378.9460056242678},{"$f":"'UEC-MH'!AV11","v":377.9732298596428},{"$f":"'UEC-MH'!AW11","v":376.99802215560629},{"$f":"'UEC-MH'!AX11","v":376.02037643230983},{"$f":"'UEC-MH'!AY11","v":375.04281995545767},{"$f":"'UEC-MH'!AZ11","v":374.07190916845303},{"$f":"'UEC-MH'!BA11","v":373.12744897641642},{"$f":"'UEC-MH'!BB11","v":372.20273729469704},{"$f":"'UEC-MH'!BC11","v":371.27571383377347},{"$f":"'UEC-MH'!BD11","v":370.34637281419782},{"$f":"'UEC-MH'!BE11","v":369.41521403161858}]
[null,null,{"$f":"'UEC-SF'!$C$9&\" - \"&'UEC-SF'!C12","v":"Market UEC (Shipment Weighted Average) - POST-Case UEC"},{"$f":"'UEC-MH'!AG12","v":389.10433686446271},{"$f":"'UEC-MH'!AH12","v":389.10433686446277},{"$f":"'UEC-MH'!AI12","v":389.10433686446277},{"$f":"'UEC-MH'!AJ12","v":389.10433686446277},{"$f":"'UEC-MH'!AK12","v":366.01524856101793},{"$f":"'UEC-MH'!AL12","v":365.49164245943382},{"$f":"'UEC-MH'!AM12","v":365.30662001155832},{"$f":"'UEC-MH'!AN12","v":365.09374939653515},{"$f":"'UEC-MH'!AO12","v":364.85012135521424},{"$f":"'UEC-MH'!AP12","v":364.62800266209479},{"$f":"'UEC-MH'!AQ12","v":364.36519146431317},{"$f":"'UEC-MH'!AR12","v":364.07281636785439},{"$f":"'UEC-MH'!AS12","v":363.71470999763659},{"$f":"'UEC-MH'!AT12","v":363.32635334146926},{"$f":"'UEC-MH'!AU12","v":362.92463236889256},{"$f":"'UEC-MH'!AV12","v":362.50606326046824},{"$f":"'UEC-MH'!AW12","v":362.08644946830896},{"$f":"'UEC-MH'!AX12","v":361.66578862245592},{"$f":"'UEC-MH'!AY12","v":361.21950203753835},{"$f":"'UEC-MH'!AZ12","v":360.76042593952138},{"$f":"'UEC-MH'!BA12","v":360.28969756345225},{"$f":"'UEC-MH'!BB12","v":359.83382431605412},{"$f":"'UEC-MH'!BC12","v":359.39055040907044},{"$f":"'UEC-MH'!BD12","v":358.98522981345161},{"$f":"'UEC-MH'!BE12","v":358.58702218463588}]
[null,null,{"$f":"'UEC-SF'!$C$14&\" - \"&'UEC-SF'!C16","v":"Installed UEC (Vintage Weighted Average)  - PRE-Case UEC"},{"$f":"'UEC-MH'!AG16","v":389.10433686446271},{"$f":"'UEC-MH'!AH16","v":389.10433686446271},{"$f":"'UEC-MH'!AI16","v":389.10433686446271},{"$f":"'UEC-MH'!AJ16","v":389.10433686446271},{"$f":"'UEC-MH'!AK16","v":389.10433686446271},{"$f":"'UEC-MH'!AL16","v":388.98342141392857},{"$f":"'UEC-MH'!AM16","v":388.75501744487326},{"$f":"'UEC-MH'!AN16","v":388.42903114433182},{"$f":"'UEC-MH'!AO16","v":388.02747879208209},{"$f":"'UEC-MH'!AP16","v":387.5510610179914},{"$f":"'UEC-MH'!AQ16","v":386.9898946504037},{"$f":"'UEC-MH'!AR16","v":386.37670098375008},{"$f":"'UEC-MH'!AS16","v":385.75160165218216},{"$f":"'UEC-MH'!AT16","v":384.96587433595982},{"$f":"'UEC-MH'!AU16","v":384.11571108654158},{"$f":"'UEC-MH'!AV16","v":382.97023131082778},{"$f":"'UEC-MH'!AW16","v":381.92545352428954},{"$f":"'UEC-MH'!AX16","v":380.78163619009041},{"$f":"'UEC-MH'!AY16","v":379.6969012200708},{"$f":"'UEC-MH'!AZ16","v":378.6922601969942},{"$f":"'UEC-MH'!BA16","v":377.73737806462333},{"$f":"'UEC-MH'!BB16","v":376.79949233020284},{"$f":"'UEC-MH'!BC16","v":375.9164535127241},{"$f":"'UEC-MH'!BD16","v":375.11403056326793},{"$f":"'UEC-MH'!BE16","v":374.21802040897916}]
[null,null,{"$f":"'UEC-SF'!$C$14&\" - \"&'UEC-SF'!C17","v":"Installed UEC (Vintage Weighted Average)  - POST-Case UEC"},{"$f":"'UEC-MH'!AG17","v":389.10433686446271},{"$f":"'UEC-MH'!AH17","v":389.10433686446271},{"$f":"'UEC-MH'!AI17","v":389.10433686446271},{"$f":"'UEC-MH'!AJ17","v":389.10433686446271},{"$f":"'UEC-MH'!AK17","v":386.59833704910596},{"$f":"'UEC-MH'!AL17","v":384.24498998823805},{"$f":"'UEC-MH'!AM17","v":381.66897464303815},{"$f":"'UEC-MH'!AN17","v":379.21063724700838},{"$f":"'UEC-MH'!AO17","v":376.92522673205656},{"$f":"'UEC-MH'!AP17","v":374.74338104881485},{"$f":"'UEC-MH'!AQ17","v":372.5862446439836},{"$f":"'UEC-MH'!AR17","v":370.55519316276792},{"$f":"'UEC-MH'!AS17","v":368.72771520218498},{"$f":"'UEC-MH'!AT17","v":366.6383427088445},{"$f":"'UEC-MH'!AU17","v":364.5723087509939},{"$f":"'UEC-MH'!AV17","v":364.20982634249015},{"$f":"'UEC-MH'!AW17","v":363.88099478100531},{"$f":"'UEC-MH'!AX17","v":363.49992402520667},{"$f":"'UEC-MH'!AY17","v":363.1133278326547},{"$f":"'UEC-MH'!AZ17","v":362.73337299493431},{"$f":"'UEC-MH'!BA17","v":362.34781578130094},{"$f":"'UEC-MH'!BB17","v":361.94901275834815},{"$f":"'UEC-MH'!BC17","v":361.55794829914834},{"$f":"'UEC-MH'!BD17","v":361.19736671754816},{"$f":"'UEC-MH'!BE17","v":360.79272738909555}]
[]
[null,null,"Stock and Shipments (units)",2010,2011,2012,2013,2014,2015,2016,2017,2018,2019,2020,2021,2022,2023,2024,2025,2026,2027,2028,2029,2030,2031,2032,2033,2034]
[null,null,"6P Shipments",{"$f":"'Shipments and Stock - MH'!AH11","v":8375.235668276131},{"$f":"'Shipments and Stock - MH'!AI11","v":8464.0830256206118},{"$f":"'Shipments and Stock - MH'!AJ11","v":8428.7958608406061},{"$f":"'Shipments and Stock - MH'!AK11","v":8384.4497120591805},{"$f":"'Shipments and Stock - MH'!AL11","v":8327.6668184453974},{"$f":"'Shipments and Stock - MH'!AM11","v":8275.1140279820956},{"$f":"'Shipments and Stock - MH'!AN11","v":8235.3154352449583},{"$f":"'Shipments and Stock - MH'!AO11","v":8212.2425116491358},{"$f":"'Shipments and Stock - MH'!AP11","v":8208.1102684045945},{"$f":"'Shipments and Stock - MH'!AQ11","v":788.98728653576165},{"$f":"'Shipments and Stock - MH'!AR11","v":815.99153912689042},{"$f":"'Shipments and Stock - MH'!AS11","v":850.59669899247058},{"$f":"'Shipments and Stock - MH'!AT11","v":885.32726520445215},{"$f":"'Shipments and Stock - MH'!AU11","v":912.97710072971984},{"$f":"'Shipments and Stock - MH'!AV11","v":928.08755291031616},{"$f":"'Shipments and Stock - MH'!AW11","v":927.56212188627933},{"$f":"'Shipments and Stock - MH'!AX11","v":911.09909104481221},{"$f":"'Shipments and Stock - MH'!AY11","v":881.43774727249331},{"$f":"'Shipments and Stock - MH'!AZ11","v":843.364009915373},{"$f":"'Shipments and Stock - MH'!BA11","v":802.90833327400605},{"$f":"'Shipments and Stock - MH'!BB11","v":766.32421538654853},{"$f":"'Shipments and Stock - MH'!BC11","v":766.32421538654853},{"$f":"'Shipments and Stock - MH'!BD11","v":766.32421538654853},{"$f":"'Shipments and Stock - MH'!BE11","v":766.32421538654853},{"$f":"'Shipments and Stock - MH'!BF11","v":766.32421538654853}]
[null,null,"Replacement Shipments",{"$f":"'Shipments and Stock - MH'!AH12","v":9496.3762824839941},{"$f":"'Shipments and Stock - MH'!AI12","v":8592.6357313493936},{"$f":"'Shipments and Stock - MH'!AJ12","v":8512.0958622631297},{"$f":"'Shipments and Stock - MH'!AK12","v":8500.5917392482952},{"$f":"'Shipments and Stock - MH'!AL12","v":11232.354139399642},{"$f":"'Shipments and Stock - MH'!AM12","v":10536.817598113223},{"$f":"'Shipments and Stock - MH'!AN12","v":11831.662036882684},{"$f":"'Shipments and Stock - MH'!AO12","v":11403.501980377781},{"$f":"'Shipments and Stock - MH'!AP12","v":10653.971716666609},{"$f":"'Shipments and Stock - MH'!AQ12","v":10236.389009524337},{"$f":"'Shipments and Stock - MH'!AR12","v":10182.863647338949},{"$f":"'Shipments and Stock - MH'!AS12","v":9618.8985933819495},{"$f":"'Shipments and Stock - MH'!AT12","v":8651.9763985532336},{"$f":"'Shipments and Stock - MH'!AU12","v":9963.3699201775598},{"$f":"'Shipments and Stock - MH'!AV12","v":9887.2335643323022},{"$f":"'Shipments and Stock - MH'!AW12","v":12536.237815203975},{"$f":"'Shipments and Stock - MH'!AX12","v":11764.108282588073},{"$f":"'Shipments and Stock - MH'!AY12","v":13000.948317755567},{"$f":"'Shipments and Stock - MH'!AZ12","v":12539.160660863678},{"$f":"'Shipments and Stock - MH'!BA12","v":11783.607864986086},{"$f":"'Shipments and Stock - MH'!BB12","v":11386.29743234964},{"$f":"'Shipments and Stock - MH'!BC12","v":11372.129380524711},{"$f":"'Shipments and Stock - MH'!BD12","v":10858.599568658057},{"$f":"'Shipments and Stock - MH'!BE12","v":9942.295389224746},{"$f":"'Shipments and Stock - MH'!BF12","v":11293.987125158528}]
[null,null,"Net New Shipments",{"$f":"'Shipments and Stock - MH'!AH13","v":122.52231089795532},{"$f":"'Shipments and Stock - MH'!AI13","v":59.340667203839985},{"$f":"'Shipments and Stock - MH'!AJ13","v":1451.2740579144302},{"$f":"'Shipments and Stock - MH'!AK13","v":1386.641825084007},{"$f":"'Shipments and Stock - MH'!AL13","v":1303.8836758043326},{"$f":"'Shipments and Stock - MH'!AM13","v":1227.2906844748504},{"$f":"'Shipments and Stock - MH'!AN13","v":1169.2862808728826},{"$f":"'Shipments and Stock - MH'!AO13","v":1135.6586804858962},{"$f":"'Shipments and Stock - MH'!AP13","v":1129.6361483194778},{"$f":"'Shipments and Stock - MH'!AQ13","v":1149.9084228253037},{"$f":"'Shipments and Stock - MH'!AR13","v":1189.2657331857627},{"$f":"'Shipments and Stock - MH'!AS13","v":1239.7009752761078},{"$f":"'Shipments and Stock - MH'!AT13","v":1290.3189906715124},{"$f":"'Shipments and Stock - MH'!AU13","v":1330.6172049809684},{"$f":"'Shipments and Stock - MH'!AV13","v":1352.6399124842137},{"$f":"'Shipments and Stock - MH'!AW13","v":1351.874123769418},{"$f":"'Shipments and Stock - MH'!AX13","v":1327.8801023790875},{"$f":"'Shipments and Stock - MH'!AY13","v":1284.650218174138},{"$f":"'Shipments and Stock - MH'!AZ13","v":1229.1597026455565},{"$f":"'Shipments and Stock - MH'!BA13","v":1170.197633021744},{"$f":"'Shipments and Stock - MH'!BB13","v":1116.8781613162719},{"$f":"'Shipments and Stock - MH'!BC13","v":1128.0469429294451},{"$f":"'Shipments and Stock - MH'!BD13","v":1139.3274123587471},{"$f":"'Shipments and Stock - MH'!BE13","v":1150.7206864823238},{"$f":"'Shipments and Stock - MH'!BF13","v":1162.2278933471243}]
[null,null,"Total Model Shipments",{"$f":"'Shipments and Stock - MH'!AH14","v":9618.8985933819495},{"$f":"'Shipments and Stock - MH'!AI14","v":8651.9763985532336},{"$f":"'Shipments and Stock - MH'!AJ14","v":9963.3699201775598},{"$f":"'Shipments and Stock - MH'!AK14","v":9887.2335643323022},{"$f":"'Shipments and Stock - MH'!AL14","v":12536.237815203975},{"$f":"'Shipments and Stock - MH'!AM14","v":11764.108282588073},{"$f":"'Shipments and Stock - MH'!AN14","v":13000.948317755567},{"$f":"'Shipments and Stock - MH'!AO14","v":12539.160660863678},{"$f":"'Shipments and Stock - MH'!AP14","v":11783.607864986086},{"$f":"'Shipments and Stock - MH'!AQ14","v":11386.29743234964},{"$f":"'Shipments and Stock - MH'!AR14","v":11372.129380524711},{"$f":"'Shipments and Stock - MH'!AS14","v":10858.599568658057},{"$f":"'Shipments and Stock - MH'!AT14","v":9942.295389224746},{"$f":"'Shipments and Stock - MH'!AU14","v":11293.987125158528},{"$f":"'Shipments and Stock - MH'!AV14","v":11239.873476816516},{"$f":"'Shipments and Stock - MH'!AW14","v":13888.111938973392},{"$f":"'Shipments and Stock - MH'!AX14","v":13091.988384967161},{"$f":"'Shipments and Stock - MH'!AY14","v":14285.598535929705},{"$f":"'Shipments and Stock - MH'!AZ14","v":13768.320363509234},{"$f":"'Shipments and Stock - MH'!BA14","v":12953.80549800783},{"$f":"'Shipments and Stock - MH'!BB14","v":12503.175593665912},{"$f":"'Shipments and Stock - MH'!BC14","v":12500.176323454156},{"$f":"'Shipments and Stock - MH'!BD14","v":11997.926981016804},{"$f":"'Shipments and Stock - MH'!BE14","v":11093.01607570707},{"$f":"'Shipments and Stock - MH'!BF14","v":12456.215018505653}]
[null,null,"Model Installed Stock",{"$f":"'Shipments and Stock - MH'!AH15","v":111301.782054546},{"$f":"'Shipments and Stock - MH'!AI15","v":111361.12272174984},{"$f":"'Shipments and Stock - MH'!AJ15","v":112812.39677966427},{"$f":"'Shipments and Stock - MH'!AK15","v":114199.03860474828},{"$f":"'Shipments and Stock - MH'!AL15","v":115502.92228055261},{"$f":"'Shipments and Stock - MH'!AM15","v":116730.21296502746},{"$f":"'Shipments and Stock - MH'!AN15","v":117899.49924590034},{"$f":"'Shipments and Stock - MH'!AO15","v":119035.15792638624},{"$f":"'Shipments and Stock - MH'!AP15","v":120164.79407470571},{"$f":"'Shipments and Stock - MH'!AQ15","v":121314.70249753102},{"$f":"'Shipments and Stock - MH'!AR15","v":122503.96823071678},{"$f":"'Shipments and Stock - MH'!AS15","v":123743.66920599289},{"$f":"'Shipments and Stock - MH'!AT15","v":125033.9881966644},{"$f":"'Shipments and Stock - MH'!AU15","v":126364.60540164537},{"$f":"'Shipments and Stock - MH'!AV15","v":127717.24531412958},{"$f":"'Shipments and Stock - MH'!AW15","v":129069.119437899},{"$f":"'Shipments and Stock - MH'!AX15","v":130396.99954027809},{"$f":"'Shipments and Stock - MH'!AY15","v":131681.64975845223},{"$f":"'Shipments and Stock - MH'!AZ15","v":132910.80946109779},{"$f":"'Shipments and Stock - MH'!BA15","v":134081.00709411953},{"$f":"'Shipments and Stock - MH'!BB15","v":135197.8852554358},{"$f":"'Shipments and Stock - MH'!BC15","v":136325.93219836525},{"$f":"'Shipments and Stock - MH'!BD15","v":137465.259610724},{"$f":"'Shipments and Stock - MH'!BE15","v":138615.98029720632},{"$f":"'Shipments and Stock - MH'!BF15","v":139778.20819055344}]
[]
[]
[]
[null,null,"First Year Energy Consumption ",2010,2011,2012,2013,2014,2015,2016,2017,2018,2019,2020,2021,2022,2023,2024,2025,2026,2027,2028,2029,2030,2031,2032,2033,2034]
[null,null,"6P Shipments * 6P UEC",{"$f":"D12*D19","v":3142736.3976218519},3176075.617533796,3162834.4071947169,3146193.889674996,3124886.5887714196,3105166.5983225289,3090232.5127728055,3081574.5932041896,3080024.0038521024,296060.81080787181,306193.92835466232,319179.22211386071,332211.57354462065,342586.94063102553,348257.01009932254,348059.84654845856,341882.23336956883,330752.06481458322,316465.21666785574,301284.56593669683,287556.68490580202,287556.68490580202,287556.68490580202,287556.68490580202,287556.68490580202]
[null,null,"Model Shipments * Model Pre-Case UEC",{"$f":"D13*D22","v":3742755.1585443965},{"$f":"E13*E22","v":3366521.5391260386},3876790.4457260249,3847165.4594735792,4877904.5018601436,4563351.065806549,5031655.275434576,4839841.2553844163,4536037.6187053453,4371422.9430599846,4354352.496740438,4146628.0741188978,3786912.0715133785,4290790.0414656568,4259305.1577617703,5249334.526226039,4935653.7272167895,5371676.1390411416,5163709.6951806555,4845654.753636593,4665278.0133687528,4652599.8442559987,4454538.9044025047,4108258.2672077003,4601515.3370851278]
[null,null,"Model Shipments * Model Post-Case UEC",{"$f":"D14*D22","v":3742755.1585443965},{"$f":"E14*E22","v":3366521.5391260386},3876790.4457260249,3847165.4594735792,4588454.1999519151,4299683.258273744,4749332.4869042411,4577969.1799602555,4299250.7595424308,4151762.8904741877,4143608.0990918274,3953320.9267721078,3616159.084202718,4103403.1568693519,4079226.9494465003,5034524.7851179531,4740431.5907930993,5166612.260440818,4973385.8256001044,4673220.3889990188,4504765.3532246286,4497986.2510935022,4311941.5814754665,3982228.9252620158,4466637.0511774812]
[]
[null,null,"Total Energy Consumption (kWh)",2010,2011,2012,2013,2014,2015,2016,2017,2018,2019,2020,2021,2022,2023,2024,2025,2026,2027,2028,2029,2030,2031,2032,2033,2034]
[null,null,"Modeled Pre-case Consumption \n(Installed UEC * Stock)",{"$f":"D15*D$23","v":43308006.098167077},{"$f":"E15*E$23","v":43331095.809128523},43895792.839041911,44435341.186859757,44942687.979881994,45406117.621512905,45834021.886081807,46236711.065458737,46627242.084377781,47015641.670000121,47407797.759861492,47811670.675435998,48232061.207823336,48646060.803562962,49058200.501851156,49429630.526217043,49801933.187627286,50141954.051233865,50465822.491030097,50775439.625961341,51069294.696270116,51367542.043785676,51675452.874069273,51996799.069763593,52307524.365383066]
[null,null,"Modeled Post-case Consumption \n(Installed UEC* Stock)",{"$f":"D16*D$23","v":43308006.098167077},43331095.809128523,43895792.839041911,44435341.186859757,44653237.67797377,44852999.51207187,44998580.988110431,45139398.092063203,45293142.251819335,45461881.78485588,45643293.47706864,45853859.245296352,46103496.790373027,46330109.501516357,46562170.991489276,47008241.576655313,47448989.909174681,47866269.682711259,48261686.328351103,48635655.95780769,48988658.420558117,49343036.572559811,49701657.227263153,50067727.068322465,50430960.962630592]
[]
[]
[]
[null,null,"Total Energy Consumption (aMW)",2010,2011,2012,2013,2014,2015,2016,2017,2018,2019,2020,2021,2022,2023,2024,2025,2026,2027,2028,2029,2030,2031,2032,2033,2034]
[null,null,{"$f":"C33","v":"Modeled Pre-case Consumption \n(Installed UEC * Stock)"},{"$f":"D33/Constants!$D$13/(Constants!$D$12*Constants!$D$10)","v":4.9404524410411907},{"$f":"E33/Constants!$D$13/(Constants!$D$12*Constants!$D$10)","v":4.9430864486799591},{"$f":"F33/Constants!$D$13/(Constants!$D$12*Constants!$D$10)","v":5.0075054573399393},{"$f":"G33/Constants!$D$13/(Constants!$D$12*Constants!$D$10)","v":5.0690555768719774},{"$f":"H33/Constants!$D$13/(Constants!$D$12*Constants!$D$10)","v":5.1269322358980141},{"$f":"I33/Constants!$D$13/(Constants!$D$12*Constants!$D$10)","v":5.1797989529446617},{"$f":"J33/Constants!$D$13/(Constants!$D$12*Constants!$D$10)","v":5.2286130374266264},{"$f":"K33/Constants!$D$13/(Constants!$D$12*Constants!$D$10)","v":5.2745506577069063},{"$f":"L33/Constants!$D$13/(Constants!$D$12*Constants!$D$10)","v":5.3191013101046973},{"$f":"M33/Constants!$D$13/(Constants!$D$12*Constants!$D$10)","v":5.3634088147387775},{"$f":"N33/Constants!$D$13/(Constants!$D$12*Constants!$D$10)","v":5.4081448505431773},{"$f":"O33/Constants!$D$13/(Constants!$D$12*Constants!$D$10)","v":5.4542175080351356},{"$f":"P33/Constants!$D$13/(Constants!$D$12*Constants!$D$10)","v":5.5021744476184509},{"$f":"Q33/Constants!$D$13/(Constants!$D$12*Constants!$D$10)","v":5.5494023275796218},{"$f":"R33/Constants!$D$13/(Constants!$D$12*Constants!$D$10)","v":5.5964180358032349},{"$f":"S33/Constants!$D$13/(Constants!$D$12*Constants!$D$10)","v":5.6387897018271778},{"$f":"T33/Constants!$D$13/(Constants!$D$12*Constants!$D$10)","v":5.6812609157685703},{"$f":"U33/Constants!$D$13/(Constants!$D$12*Constants!$D$10)","v":5.7200495153130122},{"$f":"V33/Constants!$D$13/(Constants!$D$12*Constants!$D$10)","v":5.7569954929306526},{"$f":"W33/Constants!$D$13/(Constants!$D$12*Constants!$D$10)","v":5.7923157227881976},{"$f":"X33/Constants!$D$13/(Constants!$D$12*Constants!$D$10)","v":5.8258378617693491},{"$f":"Y33/Constants!$D$13/(Constants!$D$12*Constants!$D$10)","v":5.8598610590674962},{"$f":"Z33/Constants!$D$13/(Constants!$D$12*Constants!$D$10)","v":5.8949866386115986},{"$f":"AA33/Constants!$D$13/(Constants!$D$12*Constants!$D$10)","v":5.9316448858959152},{"$f":"AB33/Constants!$D$13/(Constants!$D$12*Constants!$D$10)","v":5.9670915315289834}]
[null,null,{"$f":"C34","v":"Modeled Post-case Consumption \n(Installed UEC* Stock)"},{"$f":"D34/Constants!$D$13/(Constants!$D$12*Constants!$D$10)","v":4.9404524410411907},{"$f":"E34/Constants!$D$13/(Constants!$D$12*Constants!$D$10)","v":4.9430864486799591},{"$f":"F34/Constants!$D$13/(Constants!$D$12*Constants!$D$10)","v":5.0075054573399393},{"$f":"G34/Constants!$D$13/(Constants!$D$12*Constants!$D$10)","v":5.0690555768719774},{"$f":"H34/Constants!$D$13/(Constants!$D$12*Constants!$D$10)","v":5.0939125801932201},{"$f":"I34/Constants!$D$13/(Constants!$D$12*Constants!$D$10)","v":5.1167008341400715},{"$f":"J34/Constants!$D$13/(Constants!$D$12*Constants!$D$10)","v":5.1333083490885727},{"$f":"K34/Constants!$D$13/(Constants!$D$12*Constants!$D$10)","v":5.1493723582093542},{"$f":"L34/Constants!$D$13/(Constants!$D$12*Constants!$D$10)","v":5.1669110485762415},{"$f":"M34/Constants!$D$13/(Constants!$D$12*Constants!$D$10)","v":5.186160367882259},{"$f":"N34/Constants!$D$13/(Constants!$D$12*Constants!$D$10)","v":5.2068552905622454},{"$f":"O34/Constants!$D$13/(Constants!$D$12*Constants!$D$10)","v":5.2308760261574667},{"$f":"P34/Constants!$D$13/(Constants!$D$12*Constants!$D$10)","v":5.2593539573777122},{"$f":"Q34/Constants!$D$13/(Constants!$D$12*Constants!$D$10)","v":5.2852052819434583},{"$f":"R34/Constants!$D$13/(Constants!$D$12*Constants!$D$10)","v":5.3116781874845174},{"$f":"S34/Constants!$D$13/(Constants!$D$12*Constants!$D$10)","v":5.3625646334309058},{"$f":"T34/Constants!$D$13/(Constants!$D$12*Constants!$D$10)","v":5.4128439321440425},{"$f":"U34/Constants!$D$13/(Constants!$D$12*Constants!$D$10)","v":5.4604460053286861},{"$f":"V34/Constants!$D$13/(Constants!$D$12*Constants!$D$10)","v":5.5055539959332771},{"$f":"W34/Constants!$D$13/(Constants!$D$12*Constants!$D$10)","v":5.548215372782078},{"$f":"X34/Constants!$D$13/(Constants!$D$12*Constants!$D$10)","v":5.5884848757196117},{"$f":"Y34/Constants!$D$13/(Constants!$D$12*Constants!$D$10)","v":5.6289113133196222},{"$f":"Z34/Constants!$D$13/(Constants!$D$12*Constants!$D$10)","v":5.6698217233930128},{"$f":"AA34/Constants!$D$13/(Constants!$D$12*Constants!$D$10)","v":5.7115819151634115},{"$f":"AB34/Constants!$D$13/(Constants!$D$12*Constants!$D$10)","v":5.7530185903069349}]
[]
[null,null,"Savings (aMW)",2010,2011,2012,2013,2014,2015,2016,2017,2018,2019,2020,2021,2022,2023,2024,2025,2026,2027,2028,2029,2030,2031,2032,2033,2034]
[null,null,"Incremental Savings",{"$f":"IF(AND(D42>=STANDARD_YEAR,(D42-STANDARD_YEAR)<LIFETIME_MH),\n(D13-D14)*D22,\n(D13-D14)*D21)\n/Constants!$D$13/(Constants!$D$12*Constants!$D$10)","v":0},{"$f":"IF(AND(E42>=STANDARD_YEAR,(E42-STANDARD_YEAR)<LIFETIME_MH),\n(E13-E14)*E22,\n(E13-E14)*E21)\n/Constants!$D$13/(Constants!$D$12*Constants!$D$10)","v":0},{"$f":"IF(AND(F42>=STANDARD_YEAR,(F42-STANDARD_YEAR)<LIFETIME_MH),\n(F13-F14)*F22,\n(F13-F14)*F21)\n/Constants!$D$13/(Constants!$D$12*Constants!$D$10)","v":0},{"$f":"IF(AND(G42>=STANDARD_YEAR,(G42-STANDARD_YEAR)<LIFETIME_MH),\n(G13-G14)*G22,\n(G13-G14)*G21)\n/Constants!$D$13/(Constants!$D$12*Constants!$D$10)","v":0},{"$f":"IF(AND(H42>=STANDARD_YEAR,(H42-STANDARD_YEAR)<LIFETIME_MH),\n(H13-H14)*H22,\n(H13-H14)*H21)\n/Constants!$D$13/(Constants!$D$12*Constants!$D$10)","v":3.3019655704794461E-2},{"$f":"IF(AND(I42>=STANDARD_YEAR,(I42-STANDARD_YEAR)<LIFETIME_MH),\n(I13-I14)*I22,\n(I13-I14)*I21)\n/Constants!$D$13/(Constants!$D$12*Constants!$D$10)","v":3.00784630997952E-2},{"$f":"IF(AND(J42>=STANDARD_YEAR,(J42-STANDARD_YEAR)<LIFETIME_MH),\n(J13-J14)*J22,\n(J13-J14)*J21)\n/Constants!$D$13/(Constants!$D$12*Constants!$D$10)","v":3.2206569533462778E-2},{"$f":"IF(AND(K42>=STANDARD_YEAR,(K42-STANDARD_YEAR)<LIFETIME_MH),\n(K13-K14)*K22,\n(K13-K14)*K21)\n/Constants!$D$13/(Constants!$D$12*Constants!$D$10)","v":2.9873611159498159E-2},{"$f":"IF(AND(L42>=STANDARD_YEAR,(L42-STANDARD_YEAR)<LIFETIME_MH),\n(L13-L14)*L22,\n(L13-L14)*L21)\n/Constants!$D$13/(Constants!$D$12*Constants!$D$10)","v":2.7011962030905171E-2},{"$f":"IF(AND(M42>=STANDARD_YEAR,(M42-STANDARD_YEAR)<LIFETIME_MH),\n(M13-M14)*M22,\n(M13-M14)*M21)\n/Constants!$D$13/(Constants!$D$12*Constants!$D$10)","v":2.5058185328062602E-2},{"$f":"IF(AND(N42>=STANDARD_YEAR,(N42-STANDARD_YEAR)<LIFETIME_MH),\n(N13-N14)*N22,\n(N13-N14)*N21)\n/Constants!$D$13/(Constants!$D$12*Constants!$D$10)","v":2.4041113124413656E-2},{"$f":"IF(AND(O42>=STANDARD_YEAR,(O42-STANDARD_YEAR)<LIFETIME_MH),\n(O13-O14)*O22,\n(O13-O14)*O21)\n/Constants!$D$13/(Constants!$D$12*Constants!$D$10)","v":2.2051921896736257E-2},{"$f":"IF(AND(P42>=STANDARD_YEAR,(P42-STANDARD_YEAR)<LIFETIME_MH),\n(P13-P14)*P22,\n(P13-P14)*P21)\n/Constants!$D$13/(Constants!$D$12*Constants!$D$10)","v":1.9479008363068758E-2},{"$f":"IF(AND(Q42>=STANDARD_YEAR,(Q42-STANDARD_YEAR)<LIFETIME_MH),\n(Q13-Q14)*Q22,\n(Q13-Q14)*Q21)\n/Constants!$D$13/(Constants!$D$12*Constants!$D$10)","v":2.137655539542602E-2},{"$f":"IF(AND(R42>=STANDARD_YEAR,(R42-STANDARD_YEAR)<LIFETIME_MH),\n(R13-R14)*R22,\n(R13-R14)*R21)\n/Constants!$D$13/(Constants!$D$12*Constants!$D$10)","v":2.0542802682554144E-2},{"$f":"IF(AND(S42>=STANDARD_YEAR,(S42-STANDARD_YEAR)<LIFETIME_MH),\n(S13-S14)*S22,\n(S13-S14)*S21)\n/Constants!$D$13/(Constants!$D$12*Constants!$D$10)","v":2.3853139737000594E-3},{"$f":"IF(AND(T42>=STANDARD_YEAR,(T42-STANDARD_YEAR)<LIFETIME_MH),\n(T13-T14)*T22,\n(T13-T14)*T21)\n/Constants!$D$13/(Constants!$D$12*Constants!$D$10)","v":2.2588159555831156E-3},{"$f":"IF(AND(U42>=STANDARD_YEAR,(U42-STANDARD_YEAR)<LIFETIME_MH),\n(U13-U14)*U22,\n(U13-U14)*U21)\n/Constants!$D$13/(Constants!$D$12*Constants!$D$10)","v":2.1036532468319243E-3},{"$f":"IF(AND(V42>=STANDARD_YEAR,(V42-STANDARD_YEAR)<LIFETIME_MH),\n(V13-V14)*V22,\n(V13-V14)*V21)\n/Constants!$D$13/(Constants!$D$12*Constants!$D$10)","v":1.9382917341506632E-3},{"$f":"IF(AND(W42>=STANDARD_YEAR,(W42-STANDARD_YEAR)<LIFETIME_MH),\n(W13-W14)*W22,\n(W13-W14)*W21)\n/Constants!$D$13/(Constants!$D$12*Constants!$D$10)","v":1.7769867860488772E-3},{"$f":"IF(AND(X42>=STANDARD_YEAR,(X42-STANDARD_YEAR)<LIFETIME_MH),\n(X13-X14)*X22,\n(X13-X14)*X21)\n/Constants!$D$13/(Constants!$D$12*Constants!$D$10)","v":1.6356609848901199E-3},{"$f":"IF(AND(Y42>=STANDARD_YEAR,(Y42-STANDARD_YEAR)<LIFETIME_MH),\n(Y13-Y14)*Y22,\n(Y13-Y14)*Y21)\n/Constants!$D$13/(Constants!$D$12*Constants!$D$10)","v":1.5916854292628891E-3},{"$f":"IF(AND(Z42>=STANDARD_YEAR,(Z42-STANDARD_YEAR)<LIFETIME_MH),\n(Z13-Z14)*Z22,\n(Z13-Z14)*Z21)\n/Constants!$D$13/(Constants!$D$12*Constants!$D$10)","v":1.5447287805301984E-3},{"$f":"IF(AND(AA42>=STANDARD_YEAR,(AA42-STANDARD_YEAR)<LIFETIME_MH),\n(AA13-AA14)*AA22,\n(AA13-AA14)*AA21)\n/Constants!$D$13/(Constants!$D$12*Constants!$D$10)","v":1.4913874370342834E-3},{"$f":"IF(AND(AB42>=STANDARD_YEAR,(AB42-STANDARD_YEAR)<LIFETIME_MH),\n(AB13-AB14)*AB22,\n(AB13-AB14)*AB21)\n/Constants!$D$13/(Constants!$D$12*Constants!$D$10)","v":1.4356407254251882E-3}]
[null,null,"Cumulative Savings",0,{"$f":"E43+D44","v":0},{"$f":"F43+E44","v":0},0,3.3019655704794461E-2,6.3098118804589653E-2,9.5304688338052432E-2,0.1251782994975506,0.15219026152845577,0.17724844685651836,0.20128955998093201,0.22334148187766828,0.24282049024073704,0.26419704563616309,0.28473984831871724,0.2871251622924173,0.28938397824800044,0.29148763149483237,0.29342592322898303,0.29520291001503191,0.296838570999922,0.29843025642918491,0.29997498520971511,0.30146637264674941,0.30290201337217459]
[null,null,"DOE Aggregate Lifecycle Savings (formerly DOE Carbon proxy)",{"$f":"SUM($D$44:D44)","v":0},{"$f":"SUM($D$44:E44)","v":0},{"$f":"SUM($D$44:F44)","v":0},{"$f":"SUM($D$44:G44)","v":0},{"$f":"SUM($D$44:H44)","v":3.3019655704794461E-2},{"$f":"SUM($D$44:I44)","v":9.6117774509384107E-2},{"$f":"SUM($D$44:J44)","v":0.19142246284743653},{"$f":"SUM($D$44:K44)","v":0.31660076234498713},{"$f":"SUM($D$44:L44)","v":0.4687910238734429},{"$f":"SUM($D$44:M44)","v":0.64603947072996126},{"$f":"SUM($D$44:N44)","v":0.84732903071089327},{"$f":"SUM($D$44:O44)","v":1.0706705125885616},{"$f":"SUM($D$44:P44)","v":1.3134910028292985},{"$f":"SUM($D$44:Q44)","v":1.5776880484654616},{"$f":"SUM($D$44:R44)","v":1.8624278967841787},{"$f":"SUM($D$44:S44)","v":2.1495530590765961},{"$f":"SUM($D$44:T44)","v":2.4389370373245964},{"$f":"SUM($D$44:U44)","v":2.7304246688194289},{"$f":"SUM($D$44:V44)","v":3.023850592048412},{"$f":"SUM($D$44:W44)","v":3.319053502063444},{"$f":"SUM($D$44:X44)","v":3.6158920730633661},{"$f":"SUM($D$44:Y44)","v":3.9143223294925509},{"$f":"SUM($D$44:Z44)","v":4.2142973147022662},{"$f":"SUM($D$44:AA44)","v":4.5157636873490157},{"$f":"SUM($D$44:AB44)","v":4.8186657007211906}]
[null,null,"Check",{"$f":"IF(ISNUMBER(C44),ROUND((D44-C44-D43),3),0)","v":0},{"$f":"IF(ISNUMBER(D44),ROUND((E44-D44-E43),3),0)","v":0},0,0,0,0,0,0,0,0,0,0,0,0,0,0,0,0,0,0,0,0,0,0,0]

{"sheet":"Results-TH","index":24,"n_rows":46,"n_cols":28,"rows_kept":46,"cut":false,"hidden":false,"merged":[]}
[]
[null,null,"RESULTS - Total Homes"]
[]
[null,null,"NAVIGATION"]
[]
[null,null,"COMMENTS"]
[]
[]
[null,null,"TOTAL HOMES"]
[]
[null,null,"Unit Energy Consumption (kWh/year) ",2010,2011,2012,2013,2014,2015,2016,2017,2018,2019,2020,2021,2022,2023,2024,2025,2026,2027,2028,2029,2030,2031,2032,2033,2034]
[null,null,"6P UEC",{"$f":"(('Results-SF'!D12*'Results-SF'!D19)+('Results-MF'!D12*'Results-MF'!D19)+('Results-MH'!D12*'Results-MH'!D19))\n/\n('Results-SF'!D19+'Results-MF'!D19+'Results-MH'!D19)","v":375.24154807081624},{"$f":"(('Results-SF'!E12*'Results-SF'!E19)+('Results-MF'!E12*'Results-MF'!E19)+('Results-MH'!E12*'Results-MH'!E19))\n/\n('Results-SF'!E19+'Results-MF'!E19+'Results-MH'!E19)","v":375.24154807081612},{"$f":"(('Results-SF'!F12*'Results-SF'!F19)+('Results-MF'!F12*'Results-MF'!F19)+('Results-MH'!F12*'Results-MH'!F19))\n/\n('Results-SF'!F19+'Results-MF'!F19+'Results-MH'!F19)","v":375.24154807081624},{"$f":"(('Results-SF'!G12*'Results-SF'!G19)+('Results-MF'!G12*'Results-MF'!G19)+('Results-MH'!G12*'Results-MH'!G19))\n/\n('Results-SF'!G19+'Results-MF'!G19+'Results-MH'!G19)","v":375.24154807081612},{"$f":"(('Results-SF'!H12*'Results-SF'!H19)+('Results-MF'!H12*'Results-MF'!H19)+('Results-MH'!H12*'Results-MH'!H19))\n/\n('Results-SF'!H19+'Results-MF'!H19+'Results-MH'!H19)","v":375.24154807081618},{"$f":"(('Results-SF'!I12*'Results-SF'!I19)+('Results-MF'!I12*'Results-MF'!I19)+('Results-MH'!I12*'Results-MH'!I19))\n/\n('Results-SF'!I19+'Results-MF'!I19+'Results-MH'!I19)","v":375.24154807081618},{"$f":"(('Results-SF'!J12*'Results-SF'!J19)+('Results-MF'!J12*'Results-MF'!J19)+('Results-MH'!J12*'Results-MH'!J19))\n/\n('Results-SF'!J19+'Results-MF'!J19+'Results-MH'!J19)","v":375.24154807081612},{"$f":"(('Results-SF'!K12*'Results-SF'!K19)+('Results-MF'!K12*'Results-MF'!K19)+('Results-MH'!K12*'Results-MH'!K19))\n/\n('Results-SF'!K19+'Results-MF'!K19+'Results-MH'!K19)","v":375.24154807081618},{"$f":"(('Results-SF'!L12*'Results-SF'!L19)+('Results-MF'!L12*'Results-MF'!L19)+('Results-MH'!L12*'Results-MH'!L19))\n/\n('Results-SF'!L19+'Results-MF'!L19+'Results-MH'!L19)","v":375.24154807081618},{"$f":"(('Results-SF'!M12*'Results-SF'!M19)+('Results-MF'!M12*'Results-MF'!M19)+('Results-MH'!M12*'Results-MH'!M19))\n/\n('Results-SF'!M19+'Results-MF'!M19+'Results-MH'!M19)","v":375.24154807081624},{"$f":"(('Results-SF'!N12*'Results-SF'!N19)+('Results-MF'!N12*'Results-MF'!N19)+('Results-MH'!N12*'Results-MH'!N19))\n/\n('Results-SF'!N19+'Results-MF'!N19+'Results-MH'!N19)","v":375.24154807081618},{"$f":"(('Results-SF'!O12*'Results-SF'!O19)+('Results-MF'!O12*'Results-MF'!O19)+('Results-MH'!O12*'Results-MH'!O19))\n/\n('Results-SF'!O19+'Results-MF'!O19+'Results-MH'!O19)","v":375.24154807081618},{"$f":"(('Results-SF'!P12*'Results-SF'!P19)+('Results-MF'!P12*'Results-MF'!P19)+('Results-MH'!P12*'Results-MH'!P19))\n/\n('Results-SF'!P19+'Results-MF'!P19+'Results-MH'!P19)","v":375.24154807081612},{"$f":"(('Results-SF'!Q12*'Results-SF'!Q19)+('Results-MF'!Q12*'Results-MF'!Q19)+('Results-MH'!Q12*'Results-MH'!Q19))\n/\n('Results-SF'!Q19+'Results-MF'!Q19+'Results-MH'!Q19)","v":375.24154807081624},{"$f":"(('Results-SF'!R12*'Results-SF'!R19)+('Results-MF'!R12*'Results-MF'!R19)+('Results-MH'!R12*'Results-MH'!R19))\n/\n('Results-SF'!R19+'Results-MF'!R19+'Results-MH'!R19)","v":375.24154807081618},{"$f":"(('Results-SF'!S12*'Results-SF'!S19)+('Results-MF'!S12*'Results-MF'!S19)+('Results-MH'!S12*'Results-MH'!S19))\n/\n('Results-SF'!S19+'Results-MF'!S19+'Results-MH'!S19)","v":375.24154807081618},{"$f":"(('Results-SF'!T12*'Results-SF'!T19)+('Results-MF'!T12*'Results-MF'!T19)+('Results-MH'!T12*'Results-MH'!T19))\n/\n('Results-SF'!T19+'Results-MF'!T19+'Results-MH'!T19)","v":375.24154807081612},{"$f":"(('Results-SF'!U12*'Results-SF'!U19)+('Results-MF'!U12*'Results-MF'!U19)+('Results-MH'!U12*'Results-MH'!U19))\n/\n('Results-SF'!U19+'Results-MF'!U19+'Results-MH'!U19)","v":375.24154807081618},{"$f":"(('Results-SF'!V12*'Results-SF'!V19)+('Results-MF'!V12*'Results-MF'!V19)+('Results-MH'!V12*'Results-MH'!V19))\n/\n('Results-SF'!V19+'Results-MF'!V19+'Results-MH'!V19)","v":375.24154807081618},{"$f":"(('Results-SF'!W12*'Results-SF'!W19)+('Results-MF'!W12*'Results-MF'!W19)+('Results-MH'!W12*'Results-MH'!W19))\n/\n('Results-SF'!W19+'Results-MF'!W19+'Results-MH'!W19)","v":375.24154807081612},{"$f":"(('Results-SF'!X12*'Results-SF'!X19)+('Results-MF'!X12*'Results-MF'!X19)+('Results-MH'!X12*'Results-MH'!X19))\n/\n('Results-SF'!X19+'Results-MF'!X19+'Results-MH'!X19)","v":375.24154807081618},{"$f":"(('Results-SF'!Y12*'Results-SF'!Y19)+('Results-MF'!Y12*'Results-MF'!Y19)+('Results-MH'!Y12*'Results-MH'!Y19))\n/\n('Results-SF'!Y19+'Results-MF'!Y19+'Results-MH'!Y19)","v":375.24154807081618},{"$f":"(('Results-SF'!Z12*'Results-SF'!Z19)+('Results-MF'!Z12*'Results-MF'!Z19)+('Results-MH'!Z12*'Results-MH'!Z19))\n/\n('Results-SF'!Z19+'Results-MF'!Z19+'Results-MH'!Z19)","v":375.24154807081618},{"$f":"(('Results-SF'!AA12*'Results-SF'!AA19)+('Results-MF'!AA12*'Results-MF'!AA19)+('Results-MH'!AA12*'Results-MH'!AA19))\n/\n('Results-SF'!AA19+'Results-MF'!AA19+'Results-MH'!AA19)","v":375.24154807081618},{"$f":"(('Results-SF'!AB12*'Results-SF'!AB19)+('Results-MF'!AB12*'Results-MF'!AB19)+('Results-MH'!AB12*'Results-MH'!AB19))\n/\n('Results-SF'!AB19+'Results-MF'!AB19+'Results-MH'!AB19)","v":375.24154807081618}]
[null,null,{"$f":"'UEC-SF'!$C$9&\" - \"&'UEC-SF'!C11","v":"Market UEC (Shipment Weighted Average) - PRE-Case UEC"},{"$f":"(('Results-SF'!D13*'Results-SF'!D$22)+('Results-MF'!D13*'Results-MF'!D$22)+('Results-MH'!D13*'Results-MH'!D$22))\n/\n('Results-SF'!D$22+'Results-MF'!D$22+'Results-MH'!D$22)","v":389.10433686446277},{"$f":"(('Results-SF'!E13*'Results-SF'!E$22)+('Results-MF'!E13*'Results-MF'!E$22)+('Results-MH'!E13*'Results-MH'!E$22))\n/\n('Results-SF'!E$22+'Results-MF'!E$22+'Results-MH'!E$22)","v":389.10433686446277},{"$f":"(('Results-SF'!F13*'Results-SF'!F$22)+('Results-MF'!F13*'Results-MF'!F$22)+('Results-MH'!F13*'Results-MH'!F$22))\n/\n('Results-SF'!F$22+'Results-MF'!F$22+'Results-MH'!F$22)","v":389.10433686446277},{"$f":"(('Results-SF'!G13*'Results-SF'!G$22)+('Results-MF'!G13*'Results-MF'!G$22)+('Results-MH'!G13*'Results-MH'!G$22))\n/\n('Results-SF'!G$22+'Results-MF'!G$22+'Results-MH'!G$22)","v":389.10433686446271},{"$f":"(('Results-SF'!H13*'Results-SF'!H$22)+('Results-MF'!H13*'Results-MF'!H$22)+('Results-MH'!H13*'Results-MH'!H$22))\n/\n('Results-SF'!H$22+'Results-MF'!H$22+'Results-MH'!H$22)","v":389.10433686446265},{"$f":"(('Results-SF'!I13*'Results-SF'!I$22)+('Results-MF'!I13*'Results-MF'!I$22)+('Results-MH'!I13*'Results-MH'!I$22))\n/\n('Results-SF'!I$22+'Results-MF'!I$22+'Results-MH'!I$22)","v":387.90454458505059},{"$f":"(('Results-SF'!J13*'Results-SF'!J$22)+('Results-MF'!J13*'Results-MF'!J$22)+('Results-MH'!J13*'Results-MH'!J$22))\n/\n('Results-SF'!J$22+'Results-MF'!J$22+'Results-MH'!J$22)","v":387.0221734950502},{"$f":"(('Results-SF'!K13*'Results-SF'!K$22)+('Results-MF'!K13*'Results-MF'!K$22)+('Results-MH'!K13*'Results-MH'!K$22))\n/\n('Results-SF'!K$22+'Results-MF'!K$22+'Results-MH'!K$22)","v":385.97808787075985},{"$f":"(('Results-SF'!L13*'Results-SF'!L$22)+('Results-MF'!L13*'Results-MF'!L$22)+('Results-MH'!L13*'Results-MH'!L$22))\n/\n('Results-SF'!L$22+'Results-MF'!L$22+'Results-MH'!L$22)","v":384.94471902648473},{"$f":"(('Results-SF'!M13*'Results-SF'!M$22)+('Results-MF'!M13*'Results-MF'!M$22)+('Results-MH'!M13*'Results-MH'!M$22))\n/\n('Results-SF'!M$22+'Results-MF'!M$22+'Results-MH'!M$22)","v":383.91961645410061},{"$f":"(('Results-SF'!N13*'Results-SF'!N$22)+('Results-MF'!N13*'Results-MF'!N$22)+('Results-MH'!N13*'Results-MH'!N$22))\n/\n('Results-SF'!N$22+'Results-MF'!N$22+'Results-MH'!N$22)","v":382.89684816613715},{"$f":"(('Results-SF'!O13*'Results-SF'!O$22)+('Results-MF'!O13*'Results-MF'!O$22)+('Results-MH'!O13*'Results-MH'!O$22))\n/\n('Results-SF'!O$22+'Results-MF'!O$22+'Results-MH'!O$22)","v":381.87503350686251},{"$f":"(('Results-SF'!P13*'Results-SF'!P$22)+('Results-MF'!P13*'Results-MF'!P$22)+('Results-MH'!P13*'Results-MH'!P$22))\n/\n('Results-SF'!P$22+'Results-MF'!P$22+'Results-MH'!P$22)","v":380.88911295248334},{"$f":"(('Results-SF'!Q13*'Results-SF'!Q$22)+('Results-MF'!Q13*'Results-MF'!Q$22)+('Results-MH'!Q13*'Results-MH'!Q$22))\n/\n('Results-SF'!Q$22+'Results-MF'!Q$22+'Results-MH'!Q$22)","v":379.91809215963042},{"$f":"(('Results-SF'!R13*'Results-SF'!R$22)+('Results-MF'!R13*'Results-MF'!R$22)+('Results-MH'!R13*'Results-MH'!R$22))\n/\n('Results-SF'!R$22+'Results-MF'!R$22+'Results-MH'!R$22)","v":378.9460056242678},{"$f":"(('Results-SF'!S13*'Results-SF'!S$22)+('Results-MF'!S13*'Results-MF'!S$22)+('Results-MH'!S13*'Results-MH'!S$22))\n/\n('Results-SF'!S$22+'Results-MF'!S$22+'Results-MH'!S$22)","v":377.9732298596428},{"$f":"(('Results-SF'!T13*'Results-SF'!T$22)+('Results-MF'!T13*'Results-MF'!T$22)+('Results-MH'!T13*'Results-MH'!T$22))\n/\n('Results-SF'!T$22+'Results-MF'!T$22+'Results-MH'!T$22)","v":376.99802215560624},{"$f":"(('Results-SF'!U13*'Results-SF'!U$22)+('Results-MF'!U13*'Results-MF'!U$22)+('Results-MH'!U13*'Results-MH'!U$22))\n/\n('Results-SF'!U$22+'Results-MF'!U$22+'Results-MH'!U$22)","v":376.02037643230983},{"$f":"(('Results-SF'!V13*'Results-SF'!V$22)+('Results-MF'!V13*'Results-MF'!V$22)+('Results-MH'!V13*'Results-MH'!V$22))\n/\n('Results-SF'!V$22+'Results-MF'!V$22+'Results-MH'!V$22)","v":375.04281995545762},{"$f":"(('Results-SF'!W13*'Results-SF'!W$22)+('Results-MF'!W13*'Results-MF'!W$22)+('Results-MH'!W13*'Results-MH'!W$22))\n/\n('Results-SF'!W$22+'Results-MF'!W$22+'Results-MH'!W$22)","v":374.07190916845303},{"$f":"(('Results-SF'!X13*'Results-SF'!X$22)+('Results-MF'!X13*'Results-MF'!X$22)+('Results-MH'!X13*'Results-MH'!X$22))\n/\n('Results-SF'!X$22+'Results-MF'!X$22+'Results-MH'!X$22)","v":373.12744897641642},{"$f":"(('Results-SF'!Y13*'Results-SF'!Y$22)+('Results-MF'!Y13*'Results-MF'!Y$22)+('Results-MH'!Y13*'Results-MH'!Y$22))\n/\n('Results-SF'!Y$22+'Results-MF'!Y$22+'Results-MH'!Y$22)","v":372.20273729469699},{"$f":"(('Results-SF'!Z13*'Results-SF'!Z$22)+('Results-MF'!Z13*'Results-MF'!Z$22)+('Results-MH'!Z13*'Results-MH'!Z$22))\n/\n('Results-SF'!Z$22+'Results-MF'!Z$22+'Results-MH'!Z$22)","v":371.27571383377347},{"$f":"(('Results-SF'!AA13*'Results-SF'!AA$22)+('Results-MF'!AA13*'Results-MF'!AA$22)+('Results-MH'!AA13*'Results-MH'!AA$22))\n/\n('Results-SF'!AA$22+'Results-MF'!AA$22+'Results-MH'!AA$22)","v":370.34637281419788},{"$f":"(('Results-SF'!AB13*'Results-SF'!AB$22)+('Results-MF'!AB13*'Results-MF'!AB$22)+('Results-MH'!AB13*'Results-MH'!AB$22))\n/\n('Results-SF'!AB$22+'Results-MF'!AB$22+'Results-MH'!AB$22)","v":369.41521403161858}]
[null,null,{"$f":"'UEC-SF'!$C$9&\" - \"&'UEC-SF'!C12","v":"Market UEC (Shipment Weighted Average) - POST-Case UEC"},{"$f":"(('Results-SF'!D14*'Results-SF'!D$22)+('Results-MF'!D14*'Results-MF'!D$22)+('Results-MH'!D14*'Results-MH'!D$22))\n/\n('Results-SF'!D$22+'Results-MF'!D$22+'Results-MH'!D$22)","v":389.10433686446277},{"$f":"(('Results-SF'!E14*'Results-SF'!E$22)+('Results-MF'!E14*'Results-MF'!E$22)+('Results-MH'!E14*'Results-MH'!E$22))\n/\n('Results-SF'!E$22+'Results-MF'!E$22+'Results-MH'!E$22)","v":389.10433686446277},{"$f":"(('Results-SF'!F14*'Results-SF'!F$22)+('Results-MF'!F14*'Results-MF'!F$22)+('Results-MH'!F14*'Results-MH'!F$22))\n/\n('Results-SF'!F$22+'Results-MF'!F$22+'Results-MH'!F$22)","v":389.10433686446277},{"$f":"(('Results-SF'!G14*'Results-SF'!G$22)+('Results-MF'!G14*'Results-MF'!G$22)+('Results-MH'!G14*'Results-MH'!G$22))\n/\n('Results-SF'!G$22+'Results-MF'!G$22+'Results-MH'!G$22)","v":389.10433686446271},{"$f":"(('Results-SF'!H14*'Results-SF'!H$22)+('Results-MF'!H14*'Results-MF'!H$22)+('Results-MH'!H14*'Results-MH'!H$22))\n/\n('Results-SF'!H$22+'Results-MF'!H$22+'Results-MH'!H$22)","v":366.01524856101793},{"$f":"(('Results-SF'!I14*'Results-SF'!I$22)+('Results-MF'!I14*'Results-MF'!I$22)+('Results-MH'!I14*'Results-MH'!I$22))\n/\n('Results-SF'!I$22+'Results-MF'!I$22+'Results-MH'!I$22)","v":365.49164245943382},{"$f":"(('Results-SF'!J14*'Results-SF'!J$22)+('Results-MF'!J14*'Results-MF'!J$22)+('Results-MH'!J14*'Results-MH'!J$22))\n/\n('Results-SF'!J$22+'Results-MF'!J$22+'Results-MH'!J$22)","v":365.30662001155832},{"$f":"(('Results-SF'!K14*'Results-SF'!K$22)+('Results-MF'!K14*'Results-MF'!K$22)+('Results-MH'!K14*'Results-MH'!K$22))\n/\n('Results-SF'!K$22+'Results-MF'!K$22+'Results-MH'!K$22)","v":365.09374939653509},{"$f":"(('Results-SF'!L14*'Results-SF'!L$22)+('Results-MF'!L14*'Results-MF'!L$22)+('Results-MH'!L14*'Results-MH'!L$22))\n/\n('Results-SF'!L$22+'Results-MF'!L$22+'Results-MH'!L$22)","v":364.85012135521418},{"$f":"(('Results-SF'!M14*'Results-SF'!M$22)+('Results-MF'!M14*'Results-MF'!M$22)+('Results-MH'!M14*'Results-MH'!M$22))\n/\n('Results-SF'!M$22+'Results-MF'!M$22+'Results-MH'!M$22)","v":364.62800266209484},{"$f":"(('Results-SF'!N14*'Results-SF'!N$22)+('Results-MF'!N14*'Results-MF'!N$22)+('Results-MH'!N14*'Results-MH'!N$22))\n/\n('Results-SF'!N$22+'Results-MF'!N$22+'Results-MH'!N$22)","v":364.36519146431317},{"$f":"(('Results-SF'!O14*'Results-SF'!O$22)+('Results-MF'!O14*'Results-MF'!O$22)+('Results-MH'!O14*'Results-MH'!O$22))\n/\n('Results-SF'!O$22+'Results-MF'!O$22+'Results-MH'!O$22)","v":364.07281636785439},{"$f":"(('Results-SF'!P14*'Results-SF'!P$22)+('Results-MF'!P14*'Results-MF'!P$22)+('Results-MH'!P14*'Results-MH'!P$22))\n/\n('Results-SF'!P$22+'Results-MF'!P$22+'Results-MH'!P$22)","v":363.71470999763665},{"$f":"(('Results-SF'!Q14*'Results-SF'!Q$22)+('Results-MF'!Q14*'Results-MF'!Q$22)+('Results-MH'!Q14*'Results-MH'!Q$22))\n/\n('Results-SF'!Q$22+'Results-MF'!Q$22+'Results-MH'!Q$22)","v":363.32635334146926},{"$f":"(('Results-SF'!R14*'Results-SF'!R$22)+('Results-MF'!R14*'Results-MF'!R$22)+('Results-MH'!R14*'Results-MH'!R$22))\n/\n('Results-SF'!R$22+'Results-MF'!R$22+'Results-MH'!R$22)","v":362.92463236889256},{"$f":"(('Results-SF'!S14*'Results-SF'!S$22)+('Results-MF'!S14*'Results-MF'!S$22)+('Results-MH'!S14*'Results-MH'!S$22))\n/\n('Results-SF'!S$22+'Results-MF'!S$22+'Results-MH'!S$22)","v":362.50606326046824},{"$f":"(('Results-SF'!T14*'Results-SF'!T$22)+('Results-MF'!T14*'Results-MF'!T$22)+('Results-MH'!T14*'Results-MH'!T$22))\n/\n('Results-SF'!T$22+'Results-MF'!T$22+'Results-MH'!T$22)","v":362.08644946830896},{"$f":"(('Results-SF'!U14*'Results-SF'!U$22)+('Results-MF'!U14*'Results-MF'!U$22)+('Results-MH'!U14*'Results-MH'!U$22))\n/\n('Results-SF'!U$22+'Results-MF'!U$22+'Results-MH'!U$22)","v":361.66578862245592},{"$f":"(('Results-SF'!V14*'Results-SF'!V$22)+('Results-MF'!V14*'Results-MF'!V$22)+('Results-MH'!V14*'Results-MH'!V$22))\n/\n('Results-SF'!V$22+'Results-MF'!V$22+'Results-MH'!V$22)","v":361.21950203753829},{"$f":"(('Results-SF'!W14*'Results-SF'!W$22)+('Results-MF'!W14*'Results-MF'!W$22)+('Results-MH'!W14*'Results-MH'!W$22))\n/\n('Results-SF'!W$22+'Results-MF'!W$22+'Results-MH'!W$22)","v":360.76042593952138},{"$f":"(('Results-SF'!X14*'Results-SF'!X$22)+('Results-MF'!X14*'Results-MF'!X$22)+('Results-MH'!X14*'Results-MH'!X$22))\n/\n('Results-SF'!X$22+'Results-MF'!X$22+'Results-MH'!X$22)","v":360.28969756345225},{"$f":"(('Results-SF'!Y14*'Results-SF'!Y$22)+('Results-MF'!Y14*'Results-MF'!Y$22)+('Results-MH'!Y14*'Results-MH'!Y$22))\n/\n('Results-SF'!Y$22+'Results-MF'!Y$22+'Results-MH'!Y$22)","v":359.83382431605412},{"$f":"(('Results-SF'!Z14*'Results-SF'!Z$22)+('Results-MF'!Z14*'Results-MF'!Z$22)+('Results-MH'!Z14*'Results-MH'!Z$22))\n/\n('Results-SF'!Z$22+'Results-MF'!Z$22+'Results-MH'!Z$22)","v":359.3905504090705},{"$f":"(('Results-SF'!AA14*'Results-SF'!AA$22)+('Results-MF'!AA14*'Results-MF'!AA$22)+('Results-MH'!AA14*'Results-MH'!AA$22))\n/\n('Results-SF'!AA$22+'Results-MF'!AA$22+'Results-MH'!AA$22)","v":358.98522981345161},{"$f":"(('Results-SF'!AB14*'Results-SF'!AB$22)+('Results-MF'!AB14*'Results-MF'!AB$22)+('Results-MH'!AB14*'Results-MH'!AB$22))\n/\n('Results-SF'!AB$22+'Results-MF'!AB$22+'Results-MH'!AB$22)","v":358.58702218463588}]
[null,null,{"$f":"'UEC-SF'!$C$14&\" - \"&'UEC-SF'!C16","v":"Installed UEC (Vintage Weighted Average)  - PRE-Case UEC"},{"$f":"(('Results-SF'!D15*'Results-SF'!D$23)+('Results-MF'!D15*'Results-MF'!D$23)+('Results-MH'!D15*'Results-MH'!D$23))\n/\n('Results-SF'!D$23+'Results-MF'!D$23+'Results-MH'!D$23)","v":389.10433686446277},{"$f":"(('Results-SF'!E15*'Results-SF'!E$23)+('Results-MF'!E15*'Results-MF'!E$23)+('Results-MH'!E15*'Results-MH'!E$23))\n/\n('Results-SF'!E$23+'Results-MF'!E$23+'Results-MH'!E$23)","v":389.10433686446271},{"$f":"(('Results-SF'!F15*'Results-SF'!F$23)+('Results-MF'!F15*'Results-MF'!F$23)+('Results-MH'!F15*'Results-MH'!F$23))\n/\n('Results-SF'!F$23+'Results-MF'!F$23+'Results-MH'!F$23)","v":389.10433686446271},{"$f":"(('Results-SF'!G15*'Results-SF'!G$23)+('Results-MF'!G15*'Results-MF'!G$23)+('Results-MH'!G15*'Results-MH'!G$23))\n/\n('Results-SF'!G$23+'Results-MF'!G$23+'Results-MH'!G$23)","v":389.10433686446265},{"$f":"(('Results-SF'!H15*'Results-SF'!H$23)+('Results-MF'!H15*'Results-MF'!H$23)+('Results-MH'!H15*'Results-MH'!H$23))\n/\n('Results-SF'!H$23+'Results-MF'!H$23+'Results-MH'!H$23)","v":389.10433686446265},{"$f":"(('Results-SF'!I15*'Results-SF'!I$23)+('Results-MF'!I15*'Results-MF'!I$23)+('Results-MH'!I15*'Results-MH'!I$23))\n/\n('Results-SF'!I$23+'Results-MF'!I$23+'Results-MH'!I$23)","v":388.98329569364967},{"$f":"(('Results-SF'!J15*'Results-SF'!J$23)+('Results-MF'!J15*'Results-MF'!J$23)+('Results-MH'!J15*'Results-MH'!J$23))\n/\n('Results-SF'!J$23+'Results-MF'!J$23+'Results-MH'!J$23)","v":388.76424896384003},{"$f":"(('Results-SF'!K15*'Results-SF'!K$23)+('Results-MF'!K15*'Results-MF'!K$23)+('Results-MH'!K15*'Results-MH'!K$23))\n/\n('Results-SF'!K$23+'Results-MF'!K$23+'Results-MH'!K$23)","v":388.45044452086955},{"$f":"(('Results-SF'!L15*'Results-SF'!L$23)+('Results-MF'!L15*'Results-MF'!L$23)+('Results-MH'!L15*'Results-MH'!L$23))\n/\n('Results-SF'!L$23+'Results-MF'!L$23+'Results-MH'!L$23)","v":388.05336334608216},{"$f":"(('Results-SF'!M15*'Results-SF'!M$23)+('Results-MF'!M15*'Results-MF'!M$23)+('Results-MH'!M15*'Results-MH'!M$23))\n/\n('Results-SF'!M$23+'Results-MF'!M$23+'Results-MH'!M$23)","v":387.59564169827445},{"$f":"(('Results-SF'!N15*'Results-SF'!N$23)+('Results-MF'!N15*'Results-MF'!N$23)+('Results-MH'!N15*'Results-MH'!N$23))\n/\n('Results-SF'!N$23+'Results-MF'!N$23+'Results-MH'!N$23)","v":387.06768639798787},{"$f":"(('Results-SF'!O15*'Results-SF'!O$23)+('Results-MF'!O15*'Results-MF'!O$23)+('Results-MH'!O15*'Results-MH'!O$23))\n/\n('Results-SF'!O$23+'Results-MF'!O$23+'Results-MH'!O$23)","v":386.45244296145694},{"$f":"(('Results-SF'!P15*'Results-SF'!P$23)+('Results-MF'!P15*'Results-MF'!P$23)+('Results-MH'!P15*'Results-MH'!P$23))\n/\n('Results-SF'!P$23+'Results-MF'!P$23+'Results-MH'!P$23)","v":385.755198015063},{"$f":"(('Results-SF'!Q15*'Results-SF'!Q$23)+('Results-MF'!Q15*'Results-MF'!Q$23)+('Results-MH'!Q15*'Results-MH'!Q$23))\n/\n('Results-SF'!Q$23+'Results-MF'!Q$23+'Results-MH'!Q$23)","v":384.88069607383107},{"$f":"(('Results-SF'!R15*'Results-SF'!R$23)+('Results-MF'!R15*'Results-MF'!R$23)+('Results-MH'!R15*'Results-MH'!R$23))\n/\n('Results-SF'!R$23+'Results-MF'!R$23+'Results-MH'!R$23)","v":383.96234858294389},{"$f":"(('Results-SF'!S15*'Results-SF'!S$23)+('Results-MF'!S15*'Results-MF'!S$23)+('Results-MH'!S15*'Results-MH'!S$23))\n/\n('Results-SF'!S$23+'Results-MF'!S$23+'Results-MH'!S$23)","v":382.82374642686295},{"$f":"(('Results-SF'!T15*'Results-SF'!T$23)+('Results-MF'!T15*'Results-MF'!T$23)+('Results-MH'!T15*'Results-MH'!T$23))\n/\n('Results-SF'!T$23+'Results-MF'!T$23+'Results-MH'!T$23)","v":381.80346441798417},{"$f":"(('Results-SF'!U15*'Results-SF'!U$23)+('Results-MF'!U15*'Results-MF'!U$23)+('Results-MH'!U15*'Results-MH'!U$23))\n/\n('Results-SF'!U$23+'Results-MF'!U$23+'Results-MH'!U$23)","v":380.7256144716082},{"$f":"(('Results-SF'!V15*'Results-SF'!V$23)+('Results-MF'!V15*'Results-MF'!V$23)+('Results-MH'!V15*'Results-MH'!V$23))\n/\n('Results-SF'!V$23+'Results-MF'!V$23+'Results-MH'!V$23)","v":379.69354536809914},{"$f":"(('Results-SF'!W15*'Results-SF'!W$23)+('Results-MF'!W15*'Results-MF'!W$23)+('Results-MH'!W15*'Results-MH'!W$23))\n/\n('Results-SF'!W$23+'Results-MF'!W$23+'Results-MH'!W$23)","v":378.70719648272592},{"$f":"(('Results-SF'!X15*'Results-SF'!X$23)+('Results-MF'!X15*'Results-MF'!X$23)+('Results-MH'!X15*'Results-MH'!X$23))\n/\n('Results-SF'!X$23+'Results-MF'!X$23+'Results-MH'!X$23)","v":377.7889157409063},{"$f":"(('Results-SF'!Y15*'Results-SF'!Y$23)+('Results-MF'!Y15*'Results-MF'!Y$23)+('Results-MH'!Y15*'Results-MH'!Y$23))\n/\n('Results-SF'!Y$23+'Results-MF'!Y$23+'Results-MH'!Y$23)","v":376.9014576303988},{"$f":"(('Results-SF'!Z15*'Results-SF'!Z$23)+('Results-MF'!Z15*'Results-MF'!Z$23)+('Results-MH'!Z15*'Results-MH'!Z$23))\n/\n('Results-SF'!Z$23+'Results-MF'!Z$23+'Results-MH'!Z$23)","v":376.01444882997816},{"$f":"(('Results-SF'!AA15*'Results-SF'!AA$23)+('Results-MF'!AA15*'Results-MF'!AA$23)+('Results-MH'!AA15*'Results-MH'!AA$23))\n/\n('Results-SF'!AA$23+'Results-MF'!AA$23+'Results-MH'!AA$23)","v":375.12717031496248},{"$f":"(('Results-SF'!AB15*'Results-SF'!AB$23)+('Results-MF'!AB15*'Results-MF'!AB$23)+('Results-MH'!AB15*'Results-MH'!AB$23))\n/\n('Results-SF'!AB$23+'Results-MF'!AB$23+'Results-MH'!AB$23)","v":374.14069667478276}]
[null,null,{"$f":"'UEC-SF'!$C$14&\" - \"&'UEC-SF'!C17","v":"Installed UEC (Vintage Weighted Average)  - POST-Case UEC"},{"$f":"(('Results-SF'!D16*'Results-SF'!D$23)+('Results-MF'!D16*'Results-MF'!D$23)+('Results-MH'!D16*'Results-MH'!D$23))\n/\n('Results-SF'!D$23+'Results-MF'!D$23+'Results-MH'!D$23)","v":389.10433686446277},{"$f":"(('Results-SF'!E16*'Results-SF'!E$23)+('Results-MF'!E16*'Results-MF'!E$23)+('Results-MH'!E16*'Results-MH'!E$23))\n/\n('Results-SF'!E$23+'Results-MF'!E$23+'Results-MH'!E$23)","v":389.10433686446271},{"$f":"(('Results-SF'!F16*'Results-SF'!F$23)+('Results-MF'!F16*'Results-MF'!F$23)+('Results-MH'!F16*'Results-MH'!F$23))\n/\n('Results-SF'!F$23+'Results-MF'!F$23+'Results-MH'!F$23)","v":389.10433686446271},{"$f":"(('Results-SF'!G16*'Results-SF'!G$23)+('Results-MF'!G16*'Results-MF'!G$23)+('Results-MH'!G16*'Results-MH'!G$23))\n/\n('Results-SF'!G$23+'Results-MF'!G$23+'Results-MH'!G$23)","v":389.10433686446265},{"$f":"(('Results-SF'!H16*'Results-SF'!H$23)+('Results-MF'!H16*'Results-MF'!H$23)+('Results-MH'!H16*'Results-MH'!H$23))\n/\n('Results-SF'!H$23+'Results-MF'!H$23+'Results-MH'!H$23)","v":386.54016539316268},{"$f":"(('Results-SF'!I16*'Results-SF'!I$23)+('Results-MF'!I16*'Results-MF'!I$23)+('Results-MH'!I16*'Results-MH'!I$23))\n/\n('Results-SF'!I$23+'Results-MF'!I$23+'Results-MH'!I$23)","v":384.19548686233884},{"$f":"(('Results-SF'!J16*'Results-SF'!J$23)+('Results-MF'!J16*'Results-MF'!J$23)+('Results-MH'!J16*'Results-MH'!J$23))\n/\n('Results-SF'!J$23+'Results-MF'!J$23+'Results-MH'!J$23)","v":381.7431050631609},{"$f":"(('Results-SF'!K16*'Results-SF'!K$23)+('Results-MF'!K16*'Results-MF'!K$23)+('Results-MH'!K16*'Results-MH'!K$23))\n/\n('Results-SF'!K$23+'Results-MF'!K$23+'Results-MH'!K$23)","v":379.40040276790324},{"$f":"(('Results-SF'!L16*'Results-SF'!L$23)+('Results-MF'!L16*'Results-MF'!L$23)+('Results-MH'!L16*'Results-MH'!L$23))\n/\n('Results-SF'!L$23+'Results-MF'!L$23+'Results-MH'!L$23)","v":377.16712485080774},{"$f":"(('Results-SF'!M16*'Results-SF'!M$23)+('Results-MF'!M16*'Results-MF'!M$23)+('Results-MH'!M16*'Results-MH'!M$23))\n/\n('Results-SF'!M$23+'Results-MF'!M$23+'Results-MH'!M$23)","v":375.10200457666264},{"$f":"(('Results-SF'!N16*'Results-SF'!N$23)+('Results-MF'!N16*'Results-MF'!N$23)+('Results-MH'!N16*'Results-MH'!N$23))\n/\n('Results-SF'!N$23+'Results-MF'!N$23+'Results-MH'!N$23)","v":373.10614507031835},{"$f":"(('Results-SF'!O16*'Results-SF'!O$23)+('Results-MF'!O16*'Results-MF'!O$23)+('Results-MH'!O16*'Results-MH'!O$23))\n/\n('Results-SF'!O$23+'Results-MF'!O$23+'Results-MH'!O$23)","v":371.09390512290094},{"$f":"(('Results-SF'!P16*'Results-SF'!P$23)+('Results-MF'!P16*'Results-MF'!P$23)+('Results-MH'!P16*'Results-MH'!P$23))\n/\n('Results-SF'!P$23+'Results-MF'!P$23+'Results-MH'!P$23)","v":369.06678907614344},{"$f":"(('Results-SF'!Q16*'Results-SF'!Q$23)+('Results-MF'!Q16*'Results-MF'!Q$23)+('Results-MH'!Q16*'Results-MH'!Q$23))\n/\n('Results-SF'!Q$23+'Results-MF'!Q$23+'Results-MH'!Q$23)","v":366.74942996133416},{"$f":"(('Results-SF'!R16*'Results-SF'!R$23)+('Results-MF'!R16*'Results-MF'!R$23)+('Results-MH'!R16*'Results-MH'!R$23))\n/\n('Results-SF'!R$23+'Results-MF'!R$23+'Results-MH'!R$23)","v":364.5272334511896},{"$f":"(('Results-SF'!S16*'Results-SF'!S$23)+('Results-MF'!S16*'Results-MF'!S$23)+('Results-MH'!S16*'Results-MH'!S$23))\n/\n('Results-SF'!S$23+'Results-MF'!S$23+'Results-MH'!S$23)","v":364.1666306816885},{"$f":"(('Results-SF'!T16*'Results-SF'!T$23)+('Results-MF'!T16*'Results-MF'!T$23)+('Results-MH'!T16*'Results-MH'!T$23))\n/\n('Results-SF'!T$23+'Results-MF'!T$23+'Results-MH'!T$23)","v":363.84492409096373},{"$f":"(('Results-SF'!U16*'Results-SF'!U$23)+('Results-MF'!U16*'Results-MF'!U$23)+('Results-MH'!U16*'Results-MH'!U$23))\n/\n('Results-SF'!U$23+'Results-MF'!U$23+'Results-MH'!U$23)","v":363.48511888463872},{"$f":"(('Results-SF'!V16*'Results-SF'!V$23)+('Results-MF'!V16*'Results-MF'!V$23)+('Results-MH'!V16*'Results-MH'!V$23))\n/\n('Results-SF'!V$23+'Results-MF'!V$23+'Results-MH'!V$23)","v":363.11660996116967},{"$f":"(('Results-SF'!W16*'Results-SF'!W$23)+('Results-MF'!W16*'Results-MF'!W$23)+('Results-MH'!W16*'Results-MH'!W$23))\n/\n('Results-SF'!W$23+'Results-MF'!W$23+'Results-MH'!W$23)","v":362.74295014718143},{"$f":"(('Results-SF'!X16*'Results-SF'!X$23)+('Results-MF'!X16*'Results-MF'!X$23)+('Results-MH'!X16*'Results-MH'!X$23))\n/\n('Results-SF'!X$23+'Results-MF'!X$23+'Results-MH'!X$23)","v":362.37155850402547},{"$f":"(('Results-SF'!Y16*'Results-SF'!Y$23)+('Results-MF'!Y16*'Results-MF'!Y$23)+('Results-MH'!Y16*'Results-MH'!Y$23))\n/\n('Results-SF'!Y$23+'Results-MF'!Y$23+'Results-MH'!Y$23)","v":361.99369028030731},{"$f":"(('Results-SF'!Z16*'Results-SF'!Z$23)+('Results-MF'!Z16*'Results-MF'!Z$23)+('Results-MH'!Z16*'Results-MH'!Z$23))\n/\n('Results-SF'!Z$23+'Results-MF'!Z$23+'Results-MH'!Z$23)","v":361.60058967918832},{"$f":"(('Results-SF'!AA16*'Results-SF'!AA$23)+('Results-MF'!AA16*'Results-MF'!AA$23)+('Results-MH'!AA16*'Results-MH'!AA$23))\n/\n('Results-SF'!AA$23+'Results-MF'!AA$23+'Results-MH'!AA$23)","v":361.20177857741936},{"$f":"(('Results-SF'!AB16*'Results-SF'!AB$23)+('Results-MF'!AB16*'Results-MF'!AB$23)+('Results-MH'!AB16*'Results-MH'!AB$23))\n/\n('Results-SF'!AB$23+'Results-MF'!AB$23+'Results-MH'!AB$23)","v":360.75624242711427}]
[]
[null,null,"Stock and Shipments (units)",2010,2011,2012,2013,2014,2015,2016,2017,2018,2019,2020,2021,2022,2023,2024,2025,2026,2027,2028,2029,2030,2031,2032,2033,2034]
[null,null,"6P Shipments",{"$f":"'Results-SF'!D19+'Results-MF'!D19+'Results-MH'!D19","v":77519.96090917621},{"$f":"'Results-SF'!E19+'Results-MF'!E19+'Results-MH'!E19","v":80799.232463607434},{"$f":"'Results-SF'!F19+'Results-MF'!F19+'Results-MH'!F19","v":82071.432835091284},{"$f":"'Results-SF'!G19+'Results-MF'!G19+'Results-MH'!G19","v":82344.956389992149},{"$f":"'Results-SF'!H19+'Results-MF'!H19+'Results-MH'!H19","v":82370.048316608503},{"$f":"'Results-SF'!I19+'Results-MF'!I19+'Results-MH'!I19","v":82514.392014663987},{"$f":"'Results-SF'!J19+'Results-MF'!J19+'Results-MH'!J19","v":82642.176493590843},{"$f":"'Results-SF'!K19+'Results-MF'!K19+'Results-MH'!K19","v":82545.252092623865},{"$f":"'Results-SF'!L19+'Results-MF'!L19+'Results-MH'!L19","v":82457.058467263778},{"$f":"'Results-SF'!M19+'Results-MF'!M19+'Results-MH'!M19","v":11627.167294039755},{"$f":"'Results-SF'!N19+'Results-MF'!N19+'Results-MH'!N19","v":11574.508219181755},{"$f":"'Results-SF'!O19+'Results-MF'!O19+'Results-MH'!O19","v":11350.81883058797},{"$f":"'Results-SF'!P19+'Results-MF'!P19+'Results-MH'!P19","v":11276.141650542484},{"$f":"'Results-SF'!Q19+'Results-MF'!Q19+'Results-MH'!Q19","v":11215.797829717536},{"$f":"'Results-SF'!R19+'Results-MF'!R19+'Results-MH'!R19","v":11108.37534468927},{"$f":"'Results-SF'!S19+'Results-MF'!S19+'Results-MH'!S19","v":11053.169910651039},{"$f":"'Results-SF'!T19+'Results-MF'!T19+'Results-MH'!T19","v":10928.873311840503},{"$f":"'Results-SF'!U19+'Results-MF'!U19+'Results-MH'!U19","v":10741.848626626472},{"$f":"'Results-SF'!V19+'Results-MF'!V19+'Results-MH'!V19","v":10509.896115819412},{"$f":"'Results-SF'!W19+'Results-MF'!W19+'Results-MH'!W19","v":10332.125638456599},{"$f":"'Results-SF'!X19+'Results-MF'!X19+'Results-MH'!X19","v":10239.409378482789},{"$f":"'Results-SF'!Y19+'Results-MF'!Y19+'Results-MH'!Y19","v":10239.409378482789},{"$f":"'Results-SF'!Z19+'Results-MF'!Z19+'Results-MH'!Z19","v":10239.409378482789},{"$f":"'Results-SF'!AA19+'Results-MF'!AA19+'Results-MH'!AA19","v":10239.409378482789},{"$f":"'Results-SF'!AB19+'Results-MF'!AB19+'Results-MH'!AB19","v":10239.409378482789}]
[null,null,"Replacement Shipments",{"$f":"'Results-SF'!D20+'Results-MF'!D20+'Results-MH'!D20","v":41909.564607375651},{"$f":"'Results-SF'!E20+'Results-MF'!E20+'Results-MH'!E20","v":42437.99063397733},{"$f":"'Results-SF'!F20+'Results-MF'!F20+'Results-MH'!F20","v":42342.328559674381},{"$f":"'Results-SF'!G20+'Results-MF'!G20+'Results-MH'!G20","v":40543.874384107956},{"$f":"'Results-SF'!H20+'Results-MF'!H20+'Results-MH'!H20","v":48521.959942153197},{"$f":"'Results-SF'!I20+'Results-MF'!I20+'Results-MH'!I20","v":44095.446556106166},{"$f":"'Results-SF'!J20+'Results-MF'!J20+'Results-MH'!J20","v":47476.166271234637},{"$f":"'Results-SF'!K20+'Results-MF'!K20+'Results-MH'!K20","v":46158.676074126088},{"$f":"'Results-SF'!L20+'Results-MF'!L20+'Results-MH'!L20","v":44674.0554365567},{"$f":"'Results-SF'!M20+'Results-MF'!M20+'Results-MH'!M20","v":41843.979858714665},{"$f":"'Results-SF'!N20+'Results-MF'!N20+'Results-MH'!N20","v":41022.328448804052},{"$f":"'Results-SF'!O20+'Results-MF'!O20+'Results-MH'!O20","v":42032.086918273606},{"$f":"'Results-SF'!P20+'Results-MF'!P20+'Results-MH'!P20","v":42828.872520348363},{"$f":"'Results-SF'!Q20+'Results-MF'!Q20+'Results-MH'!Q20","v":49649.575019987038},{"$f":"'Results-SF'!R20+'Results-MF'!R20+'Results-MH'!R20","v":47974.738706339544},{"$f":"'Results-SF'!S20+'Results-MF'!S20+'Results-MH'!S20","v":55938.00844399292},{"$f":"'Results-SF'!T20+'Results-MF'!T20+'Results-MH'!T20","v":51569.206846176938},{"$f":"'Results-SF'!U20+'Results-MF'!U20+'Results-MH'!U20","v":55005.390911177288},{"$f":"'Results-SF'!V20+'Results-MF'!V20+'Results-MH'!V20","v":53627.615948556886},{"$f":"'Results-SF'!W20+'Results-MF'!W20+'Results-MH'!W20","v":52106.09242252347},{"$f":"'Results-SF'!X20+'Results-MF'!X20+'Results-MH'!X20","v":49267.751461833919},{"$f":"'Results-SF'!Y20+'Results-MF'!Y20+'Results-MH'!Y20","v":48452.397671600076},{"$f":"'Results-SF'!Z20+'Results-MF'!Z20+'Results-MH'!Z20","v":49365.628872848596},{"$f":"'Results-SF'!AA20+'Results-MF'!AA20+'Results-MH'!AA20","v":50159.138808372307},{"$f":"'Results-SF'!AB20+'Results-MF'!AB20+'Results-MH'!AB20","v":56974.860765831698}]
[null,null,"Net New Shipments",{"$f":"'Results-SF'!D21+'Results-MF'!D21+'Results-MH'!D21","v":122.52231089795532},{"$f":"'Results-SF'!E21+'Results-MF'!E21+'Results-MH'!E21","v":390.88188637103303},{"$f":"'Results-SF'!F21+'Results-MF'!F21+'Results-MH'!F21","v":7307.2464603126582},{"$f":"'Results-SF'!G21+'Results-MF'!G21+'Results-MH'!G21","v":7430.8643222315877},{"$f":"'Results-SF'!H21+'Results-MF'!H21+'Results-MH'!H21","v":7416.0485018397239},{"$f":"'Results-SF'!I21+'Results-MF'!I21+'Results-MH'!I21","v":7473.7602900707716},{"$f":"'Results-SF'!J21+'Results-MF'!J21+'Results-MH'!J21","v":7529.2246399426504},{"$f":"'Results-SF'!K21+'Results-MF'!K21+'Results-MH'!K21","v":7468.9398744307982},{"$f":"'Results-SF'!L21+'Results-MF'!L21+'Results-MH'!L21","v":7432.0369859667699},{"$f":"'Results-SF'!M21+'Results-MF'!M21+'Results-MH'!M21","v":7423.7716031192522},{"$f":"'Results-SF'!N21+'Results-MF'!N21+'Results-MH'!N21","v":7430.0692227960244},{"$f":"'Results-SF'!O21+'Results-MF'!O21+'Results-MH'!O21","v":7333.5419545749901},{"$f":"'Results-SF'!P21+'Results-MF'!P21+'Results-MH'!P21","v":7330.2662880239368},{"$f":"'Results-SF'!Q21+'Results-MF'!Q21+'Results-MH'!Q21","v":7325.2857458446524},{"$f":"'Results-SF'!R21+'Results-MF'!R21+'Results-MH'!R21","v":7280.1279895057669},{"$f":"'Results-SF'!S21+'Results-MF'!S21+'Results-MH'!S21","v":7245.0781776991189},{"$f":"'Results-SF'!T21+'Results-MF'!T21+'Results-MH'!T21","v":7156.3886046411353},{"$f":"'Results-SF'!U21+'Results-MF'!U21+'Results-MH'!U21","v":7026.4195513363811},{"$f":"'Results-SF'!V21+'Results-MF'!V21+'Results-MH'!V21","v":6865.7382723004121},{"$f":"'Results-SF'!W21+'Results-MF'!W21+'Results-MH'!W21","v":6731.4432611876564},{"$f":"'Results-SF'!X21+'Results-MF'!X21+'Results-MH'!X21","v":6643.1989112544979},{"$f":"'Results-SF'!Y21+'Results-MF'!Y21+'Results-MH'!Y21","v":6709.6309003670895},{"$f":"'Results-SF'!Z21+'Results-MF'!Z21+'Results-MH'!Z21","v":6776.7272093707288},{"$f":"'Results-SF'!AA21+'Results-MF'!AA21+'Results-MH'!AA21","v":6844.4944814644568},{"$f":"'Results-SF'!AB21+'Results-MF'!AB21+'Results-MH'!AB21","v":6912.9394262790884}]
[null,null,"Total Model Shipments",{"$f":"'Results-SF'!D22+'Results-MF'!D22+'Results-MH'!D22","v":42032.086918273606},{"$f":"'Results-SF'!E22+'Results-MF'!E22+'Results-MH'!E22","v":42828.872520348363},{"$f":"'Results-SF'!F22+'Results-MF'!F22+'Results-MH'!F22","v":49649.575019987038},{"$f":"'Results-SF'!G22+'Results-MF'!G22+'Results-MH'!G22","v":47974.738706339544},{"$f":"'Results-SF'!H22+'Results-MF'!H22+'Results-MH'!H22","v":55938.00844399292},{"$f":"'Results-SF'!I22+'Results-MF'!I22+'Results-MH'!I22","v":51569.206846176938},{"$f":"'Results-SF'!J22+'Results-MF'!J22+'Results-MH'!J22","v":55005.390911177288},{"$f":"'Results-SF'!K22+'Results-MF'!K22+'Results-MH'!K22","v":53627.615948556886},{"$f":"'Results-SF'!L22+'Results-MF'!L22+'Results-MH'!L22","v":52106.09242252347},{"$f":"'Results-SF'!M22+'Results-MF'!M22+'Results-MH'!M22","v":49267.751461833919},{"$f":"'Results-SF'!N22+'Results-MF'!N22+'Results-MH'!N22","v":48452.397671600076},{"$f":"'Results-SF'!O22+'Results-MF'!O22+'Results-MH'!O22","v":49365.628872848596},{"$f":"'Results-SF'!P22+'Results-MF'!P22+'Results-MH'!P22","v":50159.1388083723},{"$f":"'Results-SF'!Q22+'Results-MF'!Q22+'Results-MH'!Q22","v":56974.860765831691},{"$f":"'Results-SF'!R22+'Results-MF'!R22+'Results-MH'!R22","v":55254.86669584531},{"$f":"'Results-SF'!S22+'Results-MF'!S22+'Results-MH'!S22","v":63183.08662169204},{"$f":"'Results-SF'!T22+'Results-MF'!T22+'Results-MH'!T22","v":58725.595450818066},{"$f":"'Results-SF'!U22+'Results-MF'!U22+'Results-MH'!U22","v":62031.810462513669},{"$f":"'Results-SF'!V22+'Results-MF'!V22+'Results-MH'!V22","v":60493.354220857298},{"$f":"'Results-SF'!W22+'Results-MF'!W22+'Results-MH'!W22","v":58837.535683711125},{"$f":"'Results-SF'!X22+'Results-MF'!X22+'Results-MH'!X22","v":55910.950373088417},{"$f":"'Results-SF'!Y22+'Results-MF'!Y22+'Results-MH'!Y22","v":55162.028571967166},{"$f":"'Results-SF'!Z22+'Results-MF'!Z22+'Results-MH'!Z22","v":56142.356082219325},{"$f":"'Results-SF'!AA22+'Results-MF'!AA22+'Results-MH'!AA22","v":57003.633289836762},{"$f":"'Results-SF'!AB22+'Results-MF'!AB22+'Results-MH'!AB22","v":63887.800192110786}]
[null,null,"Model Installed Stock",{"$f":"'Results-SF'!D23+'Results-MF'!D23+'Results-MH'!D23","v":481148.89308372891},{"$f":"'Results-SF'!E23+'Results-MF'!E23+'Results-MH'!E23","v":481539.77497009991},{"$f":"'Results-SF'!F23+'Results-MF'!F23+'Results-MH'!F23","v":488847.0214304126},{"$f":"'Results-SF'!G23+'Results-MF'!G23+'Results-MH'!G23","v":496277.88575264416},{"$f":"'Results-SF'!H23+'Results-MF'!H23+'Results-MH'!H23","v":503693.9342544839},{"$f":"'Results-SF'!I23+'Results-MF'!I23+'Results-MH'!I23","v":511167.69454455469},{"$f":"'Results-SF'!J23+'Results-MF'!J23+'Results-MH'!J23","v":518696.91918449732},{"$f":"'Results-SF'!K23+'Results-MF'!K23+'Results-MH'!K23","v":526165.85905892809},{"$f":"'Results-SF'!L23+'Results-MF'!L23+'Results-MH'!L23","v":533597.89604489482},{"$f":"'Results-SF'!M23+'Results-MF'!M23+'Results-MH'!M23","v":541021.66764801415},{"$f":"'Results-SF'!N23+'Results-MF'!N23+'Results-MH'!N23","v":548451.73687081016},{"$f":"'Results-SF'!O23+'Results-MF'!O23+'Results-MH'!O23","v":555785.27882538515},{"$f":"'Results-SF'!P23+'Results-MF'!P23+'Results-MH'!P23","v":563115.54511340905},{"$f":"'Results-SF'!Q23+'Results-MF'!Q23+'Results-MH'!Q23","v":570440.83085925377},{"$f":"'Results-SF'!R23+'Results-MF'!R23+'Results-MH'!R23","v":577720.95884875953},{"$f":"'Results-SF'!S23+'Results-MF'!S23+'Results-MH'!S23","v":584966.03702645865},{"$f":"'Results-SF'!T23+'Results-MF'!T23+'Results-MH'!T23","v":592122.42563109973},{"$f":"'Results-SF'!U23+'Results-MF'!U23+'Results-MH'!U23","v":599148.84518243617},{"$f":"'Results-SF'!V23+'Results-MF'!V23+'Results-MH'!V23","v":606014.58345473651},{"$f":"'Results-SF'!W23+'Results-MF'!W23+'Results-MH'!W23","v":612746.02671592426},{"$f":"'Results-SF'!X23+'Results-MF'!X23+'Results-MH'!X23","v":619389.22562717868},{"$f":"'Results-SF'!Y23+'Results-MF'!Y23+'Results-MH'!Y23","v":626098.85652754584},{"$f":"'Results-SF'!Z23+'Results-MF'!Z23+'Results-MH'!Z23","v":632875.58373691654},{"$f":"'Results-SF'!AA23+'Results-MF'!AA23+'Results-MH'!AA23","v":639720.07821838092},{"$f":"'Results-SF'!AB23+'Results-MF'!AB23+'Results-MH'!AB23","v":646633.01764466008}]
[]
[]
[]
[null,null,"First Year Energy Consumption ",2010,2011,2012,2013,2014,2015,2016,2017,2018,2019,2020,2021,2022,2023,2024,2025,2026,2027,2028,2029,2030,2031,2032,2033,2034]
[null,null,"6P Shipments * 6P UEC",{"$f":"D12*D19","v":29088710.137948442},30319229.072577797,30796611.509429671,30899248.911604498,30908664.444992103,30962828.197704706,31010778.24339664,30974408.181131959,30941314.268621862,4362996.2550938409,4343236.382324147,4259298.8298612013,4231276.8492153697,4208633.3404725092,4168323.9608928878,4147608.5883624605,4100967.3402048578,4030787.9077976882,3943749.6885635345,3877042.8194366232,3842251.8265127158,3842251.8265127158,3842251.8265127158,3842251.8265127158,3842251.8265127158]
[null,null,"Model Shipments * Model Pre-Case UEC",{"$f":"D13*D22","v":16354867.307364311},{"$f":"E13*E22","v":16664900.040682761},19318864.963754453,18667178.89057612,21765721.681118578,20003929.696278539,21288305.944388714,20699084.660891451,20057965.107156344,18914856.244783234,18552270.354547951,18851501.179906398,19105069.887181409,21645780.403215356,20938611.025691964,23881515.322902527,22139433.334868677,23325224.720892087,22687598.155554704,22009469.303972803,20861910.282557499,20531458.029214464,20844293.330735873,21111088.826121707,23601125.38197789]
[null,null,"Model Shipments * Model Post-Case UEC",{"$f":"D14*D22","v":16354867.307364311},{"$f":"E14*E22","v":16664900.040682761},19318864.963754453,18667178.89057612,20474164.064636387,18848114.110539488,20093833.436176665,19579107.377856057,19010914.143703695,17964401.811181005,17654367.154517602,17972683.535508256,18243616.625418331,20700468.394187577,20053352.182181824,22904251.99587474,21263742.349698991,22434783.650603719,21851379.288238488,21226254.434487414,20144139.400405213,19849163.698082391,20177032.253650829,20463462.396753769,22909336.024816014]
[]
[null,null,"Total Energy Consumption (kWh)",2010,2011,2012,2013,2014,2015,2016,2017,2018,2019,2020,2021,2022,2023,2024,2025,2026,2027,2028,2029,2030,2031,2032,2033,2034]
[null,null,"Modeled Pre-case Consumption \n(Installed UEC * Stock)",{"$f":"D15*D$23","v":187217120.97641462},{"$f":"E15*E$23","v":187369214.81360331},190212496.10184848,193103877.63628015,195989494.27074322,198835694.4760657,201650818.22661874,204389361.84314582,207064458.23461455,209697640.44470263,212287944.89154249,214784578.76408461,217224748.61058325,219551664.05004412,221823096.18515998,223938889.82694393,226074393.46553406,228111312.24203745,230099825.73670068,232051329.93351716,233998383.97129142,235977571.64595795,237970363.79678735,239976382.7357277,241931727.71449021]
[null,null,"Modeled Post-case Consumption \n(Installed UEC* Stock)",{"$f":"D16*D$23","v":187217120.97641462},187369214.81360331,190212496.10184848,193103877.63628015,194697936.65426102,196388321.27384448,198008972.51618543,199627538.84967715,201255584.27769318,202938312.05417904,204630713.30098855,206248529.52913252,207827246.11386809,209208849.54430115,210595022.83590686,213025110.76714528,215440739.0063048,217781689.22073182,220053961.13111427,222269301.42189801,224449039.0111222,226643835.55468699,228848184.27282953,231068030.04416502,233276897.67479345]
[]
[]
[]
[null,null,"Total Energy Consumption (aMW)",2010,2011,2012,2013,2014,2015,2016,2017,2018,2019,2020,2021,2022,2023,2024,2025,2026,2027,2028,2029,2030,2031,2032,2033,2034]
[null,null,{"$f":"C33","v":"Modeled Pre-case Consumption \n(Installed UEC * Stock)"},{"$f":"D33/Constants!$D$13/(Constants!$D$12*Constants!$D$10)","v":21.357189251245106},{"$f":"E33/Constants!$D$13/(Constants!$D$12*Constants!$D$10)","v":21.37453967757282},{"$f":"F33/Constants!$D$13/(Constants!$D$12*Constants!$D$10)","v":21.698893007283651},{"$f":"G33/Constants!$D$13/(Constants!$D$12*Constants!$D$10)","v":22.028733474364607},{"$f":"H33/Constants!$D$13/(Constants!$D$12*Constants!$D$10)","v":22.357916298282365},{"$f":"I33/Constants!$D$13/(Constants!$D$12*Constants!$D$10)","v":22.682602609635602},{"$f":"J33/Constants!$D$13/(Constants!$D$12*Constants!$D$10)","v":23.003743808649183},{"$f":"K33/Constants!$D$13/(Constants!$D$12*Constants!$D$10)","v":23.316148966820194},{"$f":"L33/Constants!$D$13/(Constants!$D$12*Constants!$D$10)","v":23.621316248530064},{"$f":"M33/Constants!$D$13/(Constants!$D$12*Constants!$D$10)","v":23.92170208130306},{"$f":"N33/Constants!$D$13/(Constants!$D$12*Constants!$D$10)","v":24.217196542498574},{"$f":"O33/Constants!$D$13/(Constants!$D$12*Constants!$D$10)","v":24.50200533471191},{"$f":"P33/Constants!$D$13/(Constants!$D$12*Constants!$D$10)","v":24.780372873669091},{"$f":"Q33/Constants!$D$13/(Constants!$D$12*Constants!$D$10)","v":25.045820676482332},{"$f":"R33/Constants!$D$13/(Constants!$D$12*Constants!$D$10)","v":25.304939103942502},{"$f":"S33/Constants!$D$13/(Constants!$D$12*Constants!$D$10)","v":25.546302740924471},{"$f":"T33/Constants!$D$13/(Constants!$D$12*Constants!$D$10)","v":25.789914837501033},{"$f":"U33/Constants!$D$13/(Constants!$D$12*Constants!$D$10)","v":26.022280657316614},{"$f":"V33/Constants!$D$13/(Constants!$D$12*Constants!$D$10)","v":26.249124542174386},{"$f":"W33/Constants!$D$13/(Constants!$D$12*Constants!$D$10)","v":26.471746513063785},{"$f":"X33/Constants!$D$13/(Constants!$D$12*Constants!$D$10)","v":26.69386082264333},{"$f":"Y33/Constants!$D$13/(Constants!$D$12*Constants!$D$10)","v":26.919640844850324},{"$f":"Z33/Constants!$D$13/(Constants!$D$12*Constants!$D$10)","v":27.146972826464449},{"$f":"AA33/Constants!$D$13/(Constants!$D$12*Constants!$D$10)","v":27.375813681921937},{"$f":"AB33/Constants!$D$13/(Constants!$D$12*Constants!$D$10)","v":27.598873798139426}]
[null,null,{"$f":"C34","v":"Modeled Post-case Consumption \n(Installed UEC* Stock)"},{"$f":"D34/Constants!$D$13/(Constants!$D$12*Constants!$D$10)","v":21.357189251245106},{"$f":"E34/Constants!$D$13/(Constants!$D$12*Constants!$D$10)","v":21.37453967757282},{"$f":"F34/Constants!$D$13/(Constants!$D$12*Constants!$D$10)","v":21.698893007283651},{"$f":"G34/Constants!$D$13/(Constants!$D$12*Constants!$D$10)","v":22.028733474364607},{"$f":"H34/Constants!$D$13/(Constants!$D$12*Constants!$D$10)","v":22.21057913007769},{"$f":"I34/Constants!$D$13/(Constants!$D$12*Constants!$D$10)","v":22.403413332631128},{"$f":"J34/Constants!$D$13/(Constants!$D$12*Constants!$D$10)","v":22.588292552610703},{"$f":"K34/Constants!$D$13/(Constants!$D$12*Constants!$D$10)","v":22.772933932201362},{"$f":"L34/Constants!$D$13/(Constants!$D$12*Constants!$D$10)","v":22.958656659558883},{"$f":"M34/Constants!$D$13/(Constants!$D$12*Constants!$D$10)","v":23.150617391533089},{"$f":"N34/Constants!$D$13/(Constants!$D$12*Constants!$D$10)","v":23.343681645104784},{"$f":"O34/Constants!$D$13/(Constants!$D$12*Constants!$D$10)","v":23.528237454840578},{"$f":"P34/Constants!$D$13/(Constants!$D$12*Constants!$D$10)","v":23.70833289001461},{"$f":"Q34/Constants!$D$13/(Constants!$D$12*Constants!$D$10)","v":23.865942224994431},{"$f":"R34/Constants!$D$13/(Constants!$D$12*Constants!$D$10)","v":24.024072876557934},{"$f":"S34/Constants!$D$13/(Constants!$D$12*Constants!$D$10)","v":24.301290299697154},{"$f":"T34/Constants!$D$13/(Constants!$D$12*Constants!$D$10)","v":24.576858202863882},{"$f":"U34/Constants!$D$13/(Constants!$D$12*Constants!$D$10)","v":24.843907052330803},{"$f":"V34/Constants!$D$13/(Constants!$D$12*Constants!$D$10)","v":25.103121278931585},{"$f":"W34/Constants!$D$13/(Constants!$D$12*Constants!$D$10)","v":25.355840910551905},{"$f":"X34/Constants!$D$13/(Constants!$D$12*Constants!$D$10)","v":25.60449908865186},{"$f":"Y34/Constants!$D$13/(Constants!$D$12*Constants!$D$10)","v":25.854875148834928},{"$f":"Z34/Constants!$D$13/(Constants!$D$12*Constants!$D$10)","v":26.106340893546605},{"$f":"AA34/Constants!$D$13/(Constants!$D$12*Constants!$D$10)","v":26.359574497395048},{"$f":"AB34/Constants!$D$13/(Constants!$D$12*Constants!$D$10)","v":26.611555746611163}]
[]
[null,null,"Savings (aMW)",2010,2011,2012,2013,2014,2015,2016,2017,2018,2019,2020,2021,2022,2023,2024,2025,2026,2027,2028,2029,2030,2031,2032,2033,2034]
[null,null,"Incremental Savings",{"$f":"IF(AND(D42>=STANDARD_YEAR,(D42-STANDARD_YEAR)<LIFETIME_TH),\n(D13-D14)*D22,\n(D13-D14)*D21)\n/Constants!$D$13/(Constants!$D$12*Constants!$D$10)","v":0},{"$f":"IF(AND(E42>=STANDARD_YEAR,(E42-STANDARD_YEAR)<LIFETIME_TH),\n(E13-E14)*E22,\n(E13-E14)*E21)\n/Constants!$D$13/(Constants!$D$12*Constants!$D$10)","v":0},{"$f":"IF(AND(F42>=STANDARD_YEAR,(F42-STANDARD_YEAR)<LIFETIME_TH),\n(F13-F14)*F22,\n(F13-F14)*F21)\n/Constants!$D$13/(Constants!$D$12*Constants!$D$10)","v":0},{"$f":"IF(AND(G42>=STANDARD_YEAR,(G42-STANDARD_YEAR)<LIFETIME_TH),\n(G13-G14)*G22,\n(G13-G14)*G21)\n/Constants!$D$13/(Constants!$D$12*Constants!$D$10)","v":0},{"$f":"IF(AND(H42>=STANDARD_YEAR,(H42-STANDARD_YEAR)<LIFETIME_TH),\n(H13-H14)*H22,\n(H13-H14)*H21)\n/Constants!$D$13/(Constants!$D$12*Constants!$D$10)","v":0.14733716820467593},{"$f":"IF(AND(I42>=STANDARD_YEAR,(I42-STANDARD_YEAR)<LIFETIME_TH),\n(I13-I14)*I22,\n(I13-I14)*I21)\n/Constants!$D$13/(Constants!$D$12*Constants!$D$10)","v":0.13185210879980033},{"$f":"IF(AND(J42>=STANDARD_YEAR,(J42-STANDARD_YEAR)<LIFETIME_TH),\n(J13-J14)*J22,\n(J13-J14)*J21)\n/Constants!$D$13/(Constants!$D$12*Constants!$D$10)","v":0.1362619790340005},{"$f":"IF(AND(K42>=STANDARD_YEAR,(K42-STANDARD_YEAR)<LIFETIME_TH),\n(K13-K14)*K22,\n(K13-K14)*K21)\n/Constants!$D$13/(Constants!$D$12*Constants!$D$10)","v":0.12776377858035548},{"$f":"IF(AND(L42>=STANDARD_YEAR,(L42-STANDARD_YEAR)<LIFETIME_TH),\n(L13-L14)*L22,\n(L13-L14)*L21)\n/Constants!$D$13/(Constants!$D$12*Constants!$D$10)","v":0.11944455435234408},{"$f":"IF(AND(M42>=STANDARD_YEAR,(M42-STANDARD_YEAR)<LIFETIME_TH),\n(M13-M14)*M22,\n(M13-M14)*M21)\n/Constants!$D$13/(Constants!$D$12*Constants!$D$10)","v":0.10842510079879389},{"$f":"IF(AND(N42>=STANDARD_YEAR,(N42-STANDARD_YEAR)<LIFETIME_TH),\n(N13-N14)*N22,\n(N13-N14)*N21)\n/Constants!$D$13/(Constants!$D$12*Constants!$D$10)","v":0.10243020762381337},{"$f":"IF(AND(O42>=STANDARD_YEAR,(O42-STANDARD_YEAR)<LIFETIME_TH),\n(O13-O14)*O22,\n(O13-O14)*O21)\n/Constants!$D$13/(Constants!$D$12*Constants!$D$10)","v":0.10025298247754272},{"$f":"IF(AND(P42>=STANDARD_YEAR,(P42-STANDARD_YEAR)<LIFETIME_TH),\n(P13-P14)*P22,\n(P13-P14)*P21)\n/Constants!$D$13/(Constants!$D$12*Constants!$D$10)","v":9.8272103783147949E-2},{"$f":"IF(AND(Q42>=STANDARD_YEAR,(Q42-STANDARD_YEAR)<LIFETIME_TH),\n(Q13-Q14)*Q22,\n(Q13-Q14)*Q21)\n/Constants!$D$13/(Constants!$D$12*Constants!$D$10)","v":0.10783846783342196},{"$f":"IF(AND(R42>=STANDARD_YEAR,(R42-STANDARD_YEAR)<LIFETIME_TH),\n(R13-R14)*R22,\n(R13-R14)*R21)\n/Constants!$D$13/(Constants!$D$12*Constants!$D$10)","v":0.10098777589666209},{"$f":"IF(AND(S42>=STANDARD_YEAR,(S42-STANDARD_YEAR)<LIFETIME_TH),\n(S13-S14)*S22,\n(S13-S14)*S21)\n/Constants!$D$13/(Constants!$D$12*Constants!$D$10)","v":1.2783576454313975E-2},{"$f":"IF(AND(T42>=STANDARD_YEAR,(T42-STANDARD_YEAR)<LIFETIME_TH),\n(T13-T14)*T22,\n(T13-T14)*T21)\n/Constants!$D$13/(Constants!$D$12*Constants!$D$10)","v":1.2173512303975844E-2},{"$f":"IF(AND(U42>=STANDARD_YEAR,(U42-STANDARD_YEAR)<LIFETIME_TH),\n(U13-U14)*U22,\n(U13-U14)*U21)\n/Constants!$D$13/(Constants!$D$12*Constants!$D$10)","v":1.1505972671518639E-2},{"$f":"IF(AND(V42>=STANDARD_YEAR,(V42-STANDARD_YEAR)<LIFETIME_TH),\n(V13-V14)*V22,\n(V13-V14)*V21)\n/Constants!$D$13/(Constants!$D$12*Constants!$D$10)","v":1.0826749130645078E-2},{"$f":"IF(AND(W42>=STANDARD_YEAR,(W42-STANDARD_YEAR)<LIFETIME_TH),\n(W13-W14)*W22,\n(W13-W14)*W21)\n/Constants!$D$13/(Constants!$D$12*Constants!$D$10)","v":1.0221936353844907E-2},{"$f":"IF(AND(X42>=STANDARD_YEAR,(X42-STANDARD_YEAR)<LIFETIME_TH),\n(X13-X14)*X22,\n(X13-X14)*X21)\n/Constants!$D$13/(Constants!$D$12*Constants!$D$10)","v":9.7289226796212006E-3},{"$f":"IF(AND(Y42>=STANDARD_YEAR,(Y42-STANDARD_YEAR)<LIFETIME_TH),\n(Y13-Y14)*Y22,\n(Y13-Y14)*Y21)\n/Constants!$D$13/(Constants!$D$12*Constants!$D$10)","v":9.4673557752057644E-3},{"$f":"IF(AND(Z42>=STANDARD_YEAR,(Z42-STANDARD_YEAR)<LIFETIME_TH),\n(Z13-Z14)*Z22,\n(Z13-Z14)*Z21)\n/Constants!$D$13/(Constants!$D$12*Constants!$D$10)","v":9.1880573086929474E-3},{"$f":"IF(AND(AA42>=STANDARD_YEAR,(AA42-STANDARD_YEAR)<LIFETIME_TH),\n(AA13-AA14)*AA22,\n(AA13-AA14)*AA21)\n/Constants!$D$13/(Constants!$D$12*Constants!$D$10)","v":8.87078263423869E-3},{"$f":"IF(AND(AB42>=STANDARD_YEAR,(AB42-STANDARD_YEAR)<LIFETIME_TH),\n(AB13-AB14)*AB22,\n(AB13-AB14)*AB21)\n/Constants!$D$13/(Constants!$D$12*Constants!$D$10)","v":8.5392008138626997E-3}]
[null,null,"Cumulative Savings",0,{"$f":"E43+D44","v":0},{"$f":"F43+E44","v":0},0,0.14733716820467593,0.27918927700447627,0.41545125603847677,0.54321503461883225,0.66265958897117638,0.77108468976997024,0.87351489739378363,0.97376787987132629,1.0720399836544743,1.1798784514878962,1.2808662273845584,1.2936498038388724,1.3058233161428483,1.3173292888143668,1.3281560379450119,1.3383779742988569,1.348106896978478,1.3575742527536838,1.3667623100623767,1.3756330926966154,1.3841722935104781]
[null,null,"DOE Aggregate Lifecycle Savings (formerly DOE Carbon proxy)",{"$f":"SUM($D$44:D44)","v":0},{"$f":"SUM($D$44:E44)","v":0},{"$f":"SUM($D$44:F44)","v":0},{"$f":"SUM($D$44:G44)","v":0},{"$f":"SUM($D$44:H44)","v":0.14733716820467593},{"$f":"SUM($D$44:I44)","v":0.42652644520915217},{"$f":"SUM($D$44:J44)","v":0.84197770124762894},{"$f":"SUM($D$44:K44)","v":1.3851927358664611},{"$f":"SUM($D$44:L44)","v":2.0478523248376375},{"$f":"SUM($D$44:M44)","v":2.8189370146076076},{"$f":"SUM($D$44:N44)","v":3.692451912001391},{"$f":"SUM($D$44:O44)","v":4.6662197918727175},{"$f":"SUM($D$44:P44)","v":5.738259775527192},{"$f":"SUM($D$44:Q44)","v":6.9181382270150884},{"$f":"SUM($D$44:R44)","v":8.1990044543996472},{"$f":"SUM($D$44:S44)","v":9.4926542582385203},{"$f":"SUM($D$44:T44)","v":10.798477574381369},{"$f":"SUM($D$44:U44)","v":12.115806863195736},{"$f":"SUM($D$44:V44)","v":13.443962901140749},{"$f":"SUM($D$44:W44)","v":14.782340875439605},{"$f":"SUM($D$44:X44)","v":16.130447772418083},{"$f":"SUM($D$44:Y44)","v":17.488022025171766},{"$f":"SUM($D$44:Z44)","v":18.854784335234143},{"$f":"SUM($D$44:AA44)","v":20.23041742793076},{"$f":"SUM($D$44:AB44)","v":21.614589721441238}]
[null,null,"Check",{"$f":"IF(ISNUMBER(C44),ROUND((D44-C44-D43),3),0)","v":0},{"$f":"IF(ISNUMBER(D44),ROUND((E44-D44-E43),3),0)","v":0},0,0,0,0,0,0,0,0,0,0,0,0,0,0,0,0,0,0,0,0,0,0,0]

{"sheet":"SUMMARY RESULTS","index":25,"n_rows":12,"n_cols":7,"rows_kept":12,"cut":false,"hidden":false,"merged":[]}
[]
[null,null,"SUMMARY RESULTS"]
[]
[null,null,"NAVIGATION"]
[]
[null,null,"COMMENTS"]
[]
[]
[null,null,{"$f":"MODEL_NAME","v":"Room AC"},"Single Family","Multi-Family","Manufactured Homes","TOTAL"]
[null,null,"Adjustment to 6P Baseline (aMW)","n/a","n/a","n/a","n/a"]
[null,null,"Total First Year Savings 2010 through 2015 (aMW)",{"$f":"SUM('Results-SF'!$D$43:$I$43)","v":0.16878324789479809},{"$f":"SUM('Results-MF'!$D$43:$I$43)","v":4.7307910305089212E-2},{"$f":"SUM('Results-MH'!$D$43:$I$43)","v":6.3098118804589653E-2},{"$f":"SUM('Results-TH'!$D$43:$I$43)","v":0.27918927700447627}]
[null,null,"Total First Year Savings through 2034 (aMW)",{"$f":"SUM('Results-SF'!$D$43:$AB$43)","v":0.80803096928195339},{"$f":"SUM('Results-MF'!$D$43:$AB$43)","v":0.27323931085635089},{"$f":"SUM('Results-MH'!$D$43:$AB$43)","v":0.30290201337217459},{"$f":"SUM('Results-TH'!$D$43:$AB$43)","v":1.3841722935104781}]

{"sheet":"Charts-SF","index":26,"n_rows":6,"n_cols":3,"rows_kept":6,"cut":false,"hidden":false,"merged":[]}
[]
[null,null,"CHARTS - Single Family"]
[]
[null,null,"NAVIGATION"]
[]
[null,null,"COMMENTS"]

{"sheet":"Charts-MF","index":27,"n_rows":6,"n_cols":3,"rows_kept":6,"cut":false,"hidden":false,"merged":[]}
[]
[null,null,"CHARTS - Multi-Family"]
[]
[null,null,"NAVIGATION"]
[]
[null,null,"COMMENTS"]

{"sheet":"Charts-MH","index":28,"n_rows":6,"n_cols":3,"rows_kept":6,"cut":false,"hidden":false,"merged":[]}
[]
[null,null,"CHARTS - Manufactured Homes"]
[]
[null,null,"NAVIGATION"]
[]
[null,null,"COMMENTS"]

{"sheet":"Charts-TH","index":29,"n_rows":6,"n_cols":3,"rows_kept":6,"cut":false,"hidden":false,"merged":[]}
[]
[null,null,"CHARTS - Total Homes"]
[]
[null,null,"NAVIGATION"]
[]
[null,null,"COMMENTS"]